{"text_format":"1","workbook":"xlsx","n_sheets":24,"sheets":["Instructions","1-Program Metrics","2-Incentives","3-Project Team","4-Spaces","5-Components","6-Energy Rates","7-End Use","8-Cost by Measure","9-Energy Savings by Measure","Tables of Values","Locator Map","Side Calcs - Baseline","ZipCode Map","Worksheet - Design - Baseline","Worksheet - Design - Proposed","Side Calcs - Proposed","10-Financing Plan","11-Schedule","Cx Plan - Measure List","P4P Incentive Structure","Master Export","Support Data","TRC Version Documentation"],"not_rendered":{"charts":0,"images":0,"macros":1,"external_links":1,"defined_names":133,"comments":0,"pivot_tables":0},"unopened":[],"bounds":{"document_bytes":16777216,"sheet_cells":100000,"rows_first":2000,"rows_last":500,"rows_between":2000,"halvings":0,"cell_chars":16384,"cell_head_chars":4096},"cells_cut":0,"cells_raw":0,"read":"whole","date_system":"1900"}

{"sheet":"Instructions","index":0,"n_rows":7,"n_cols":1,"rows_kept":7,"cut":false,"hidden":false,"merged":[[1,0,1,1],[7,0,7,1],[2,0,2,1],[3,0,3,1],[4,0,4,1],[5,0,5,1],[6,0,6,1]]}
["FY2016 NJCEP Pay for Performance New Construction ERP Tables - Version 3.4a (updated 08-09-2016)"]
["Introduction "]
["Pay for Performance  ERP Tables Workbookcalculates a project’s predicted energy reduction and the maximum incentives available through this program.  In addition, this workbook includes tables for the Energy Reduction Plan report."]
["All tables are required for completing  the Energy Reduction Plan. Where possible, data is linked between these tables.  In addition, the tables include the necessary formulas for calculating the financial and other summary statistics.  "]
["Detailed instructions on how to fill out the tables can be found at the top of each tab. Please read instruction carefully before proceeding to fill out each table.  "]
[]
["Throughout the ERP Tables Workbook, common information is linked where possible and will automatically update in white shaded cells.  Any cells shaded in blue must be entered manually. There should not be any calculation errors when all blue-shaded cells are filled in with the required information."]

{"sheet":"1-Program Metrics","index":1,"n_rows":25,"n_cols":6,"rows_kept":25,"cut":false,"hidden":false,"merged":[[4,0,4,4],[0,0,0,5],[1,0,1,5],[2,0,2,5],[16,0,17,0],[8,1,8,7]]}
["New Jersey Office of Clean Energy"]
["Pay for Performance Program"]
["ERP Tables and Incentive Calculator"]
[]
["Table 1.   Summary of Program Metrics "]
["Instructions"]
["1)","If working with fuels other than Electricity and Natural gas, fill out Fuel Type in Rows 17 and/or 18. Otherwise leave as-is. "]
["2)","Enter estimated baseline and proposed electricity demand in Row 20 from simulation. "]
["3)","Enter Source Energy Use Intensity based on EPA Target Finder results or 2003 CBECS Table in Row 24. Refer to Section 3.3 of Program Guidelines v3.2 for additional information on Target Finder."]
["4)","Enter EPA rating based on Target Finder results, if applicable for project building type, in Row 25."]
[null,"The rest of the table will fill automatically."]
[]
[null,null,"Baseline Simulation","Proposed Design Simulation","Savings","% Savings"]
[null,"Total Annual Energy Cost (All Fuels)",{"$f":"'7-End Use'!G26","v":0},{"$f":"'7-End Use'!M26","v":0},{"$f":"C14-D14","v":0},{"$f":"IF('7-End Use'!P26=0,0,'7-End Use'!P26)","v":0}]
[null,"Annual Electricity Consumption (MMBtu)",{"$f":"'7-End Use'!D26","v":0},{"$f":"'7-End Use'!J26","v":0},0,{"$f":"IF(C15=0,0,(C15-D15)/C15)","v":0}]
[null,"Annual Fuel Consumption (MMBtu)",{"$f":"'7-End Use'!C26","v":0},{"$f":"'7-End Use'!I26","v":0},0,0]
["1)","<Other1> Consumption (MMBtu)",{"$f":"'7-End Use'!E26","v":0},{"$f":"'7-End Use'!K26","v":0},0,0]
[null,"<Other2> Consumption (MMBtu)",{"$f":"'7-End Use'!F26","v":0},{"$f":"'7-End Use'!L26","v":0},0,0]
[null,"Total Annual Energy Consumption (MMBtu)",{"$f":"SUM(C15:C18)","v":0},{"$f":"SUM(D15:D18)","v":0},0,0]
["2)","Total Annual Electricity Demand (kW)",null,null,0,0]
[null,"Total Projected Incremental Costs ($)",{"$f":"'8-Cost by Measure'!Q40","v":0}]
[null,"Simple Payback (years)",{"$f":"IF(E14=0,0,C21/E14)","v":0}]
[null,"Internal Rate of Return (IRR)",{"$f":"IF(C21=0,0,'9-Energy Savings by Measure'!M33)","v":0}]
["3)","Source Energy Use Intensity (kBtu/sqft/yr) "]
["4)","EPA Target Finder Rating "]

{"sheet":"2-Incentives","index":2,"n_rows":91,"n_cols":5,"rows_kept":91,"cut":false,"hidden":false,"merged":[[4,0,4,3],[0,0,0,4],[1,0,1,4],[2,0,2,4]]}
["New Jersey Office of Clean Energy"]
["Pay for Performance Program"]
["ERP Tables and Incentive Calculator"]
[]
["Table 2. Summary of Program Incentives"]
["Note: This table will fill automatically based on other entries in the workbook. "]
[]
[null,"Project Summary"]
[null,"Project Gross Heated Square Feet",{"$f":"'4-Spaces'!C30","v":0}]
[null,"Incentives"]
[null,"Incentive #1",{"$f":"ROUND(IF('1-Program Metrics'!F14<0.15,0,MIN('P4P Incentive Structure'!C5*'4-Spaces'!C30,'P4P Incentive Structure'!C6)),2)","v":0}]
[null,"Incentive #2",{"$f":"ROUND(IF('1-Program Metrics'!F14<0.15,0,MIN('P4P Incentive Structure'!C10*'4-Spaces'!C30,'1-Program Metrics'!C21*0.75)),2)","v":0}]
[null,"Incentive #3 ",{"$f":"ROUND(IF((C12+'Support Data'!B3*'4-Spaces'!C30)>'1-Program Metrics'!C21*0.75,'1-Program Metrics'!C21*0.75-C12,'Support Data'!B3*'4-Spaces'!C30),2)","v":0}]
[]
[]
[]
[]
[]
[]
[]
[]
[]
[]
[]
[]
[]
[]
[]
[]
[]
[]
[]
[]
[]
[]
[]
[]
[]
[]
[]
[]
[]
[]
[]
[]
[]
[]
[]
[]
[]
[]
[]
[]
[]
[]
[]
[]
[]
[]
[]
[]
[]
[]
[]
[]
[]
[]
[]
[]
[]
[]
[]
[]
[]
[]
[]
[]
[]
[]
[]
[]
[]
[]
[]
[]
[]
[]
[]
[]
[null,null,null,null,"Yes"]
[null,null,null,null,"No"]

{"sheet":"3-Project Team","index":3,"n_rows":86,"n_cols":6,"rows_kept":86,"cut":false,"hidden":false,"merged":[[4,0,4,3],[0,0,0,4],[1,0,1,4],[2,0,2,4]]}
["New Jersey Office of Clean Energy"]
["Pay for Performance Program"]
["ERP Tables and Incentive Calculator"]
[]
["Table 3. Project Team Contact Information"]
["Instructions"]
["1)","Fill in contact information, as appropriate for your project."]
["2)  Hide any rows that are not applicable (e.g. LEED consultant)"]
[]
[null,null,"Name","Company Name","Phone Number and Email","Address"]
[null,"Developer/Owner"]
[null,"Architect/Engineer"]
[null,"Construction Mgr / GC"]
[null,"Cx Authority"]
[null,"LEED Consultant"]
[null,"Mechanical Engineer"]
[null,"Mechanical Contractor"]
[null,"Electrical Engineer"]
[null,"Electrical Contractor"]
[null,"EMS Control Contractor"]
[]
[]
[]
[]
[]
[]
[]
[]
[]
[]
[]
[]
[]
[]
[]
[]
[]
[]
[]
[]
[]
[]
[]
[]
[]
[]
[]
[]
[]
[]
[]
[]
[]
[]
[]
[]
[]
[]
[]
[]
[]
[]
[]
[]
[]
[]
[]
[]
[]
[]
[]
[]
[]
[]
[]
[]
[]
[]
[]
[]
[]
[]
[]
[]
[null,null,null,null,"Yes"]
[null,null,null,null,"No"]

{"sheet":"4-Spaces","index":4,"n_rows":30,"n_cols":6,"rows_kept":30,"cut":false,"hidden":false,"merged":[[11,1,11,2],[4,0,4,5],[6,1,6,5],[7,1,7,5],[0,0,0,7],[1,0,1,7],[2,0,2,7],[8,1,8,5],[9,1,9,5]]}
["New Jersey Office of Clean Energy"]
["Pay for Performance Program"]
["ERP Tables and Incentive Calculator"]
[]
["Table 4. Project Spaces"]
["Instructions"]
["1)","Select ASHRAE space type that best describes proposed space use in the building."]
["2)","Enter total amount of heated and/or unheated square footage for each space type."]
["3)","Select yes or no in Columns E and F for each space type."]
["4)","The information in this table should be the aggregate of square footage for the entire project."]
[]
[null,"Type of Garage",null,"None"]
[null,"Building Type or Space Activity","Heated \nSqFt","Unheated \nSq Ft","Cooled (Y/N)","Mechanical Ventilation (Y/N)"]
[null,"ASHRAE space type",0,0,"Y/N","Y/N"]
[null,"ASHRAE space type",0,0,"Y/N","Y/N"]
[null,"ASHRAE space type",0,0,"Y/N","Y/N"]
[null,"ASHRAE space type",0,0,"Y/N","Y/N"]
[null,"ASHRAE space type",0,0,"Y/N","Y/N"]
[null,"ASHRAE space type",0,0,"Y/N","Y/N"]
[null,"ASHRAE space type",0,0,"Y/N","Y/N"]
[null,"ASHRAE space type",0,0,"Y/N","Y/N"]
[null,"ASHRAE space type",0,0,"Y/N","Y/N"]
[null,"ASHRAE space type",0,0,"Y/N","Y/N"]
[null,"ASHRAE space type",0,0,"Y/N","Y/N"]
[null,"ASHRAE space type",0,0,"Y/N","Y/N"]
[null,"ASHRAE space type",0,0,"Y/N","Y/N"]
[null,"ASHRAE space type",0,0,"Y/N","Y/N"]
[null,"ASHRAE space type",0,0,"Y/N","Y/N"]
[null,"ASHRAE space type",0,0,"Y/N","Y/N"]
[null,"TOTAL",{"$f":"SUM(C14:C29)","v":0},{"$f":"SUM(D14:D29)","v":0}]

{"sheet":"5-Components","index":5,"n_rows":40,"n_cols":4,"rows_kept":40,"cut":false,"hidden":false,"merged":[[7,1,7,6],[8,1,8,6],[10,0,10,6],[9,0,9,4],[0,0,0,4],[1,0,1,4],[1,5,1,9],[2,0,2,4],[4,0,4,4],[6,1,6,6]]}
["New Jersey Office of Clean Energy"]
["Pay for Performance Program"]
["ERP Tables and Incentive Calculator"]
[]
["Table 5. Proposed and Baseline Components Used in Energy Simulation"]
["Instructions"]
["1)","Depending on the stage of the project, chose \"Proposed Design\" or \"As-Built\" from the drop-down menu at the top of the second column."]
["2)","For each design component, describe how it was modeled in both the baseline and proposed/as-built models. Include all relevant information described in the building component column. See Section 4 of the Program Guidelines v3.2 for guidelines on simulation. "]
["3)","All aspects of the design components should be described here, regardless of whether the difference between baseline and proposed designs result in better, worse, or equal building performance."]
["4) For any components that are not included in the project, enter \"N/A.\""]
["Note: This table should show how each component was modeled in the baseline and proposed models. Please describe each component in terms of the units/data required for entry into the model. The baseline should be based on ASHRAE Standard 90.1-2007. "]
[]
[null,"Building Component","Proposed Design","Baseline Design"]
[null,"Walls (above and below grade wall construction and U-value)"]
[null,"Doors"]
[null,"Windows (window-to-wall-ratio, frame material, U-Value and SHGC)"]
[null,"Floor (U-Value and construction for exposed floor and slabs)"]
[null,"Roof (U-Value and construction)"]
[null,"Lighting Power Density"]
[null,"Daylighting Controls"]
[null,"Other Lighting Controls"]
[null,"Exterior Lighting"]
[null,"Process Lighting"]
[null,"Misc. Plug Loads"]
[null,"Renewable Systems"]
[null,"Primary Heating System Description"]
[null,"Other Heating System Description"]
[null,"Boiler Parameters"]
[null,"Hot Water Loop and Pump Parameters"]
[null,"Cooling System Description"]
[null,"Chiller Parameters"]
[null,"Chilled Water Loop and Pump Parameters"]
[null,"Condenser Water Loop and Pump Parameters"]
[null,"Ventilation Exhaust/Supply Volume and System Description. (include code reference for baseline)"]
[null,"Demand Control Ventilation"]
[null,"Fan and Pump description"]
[null,"Fan Power"]
[null,"Economizer Control"]
[null,"Domestic Water Heating (include system type, efficiency, and hot water demand)"]
[null,"<Other> "]

{"sheet":"6-Energy Rates","index":6,"n_rows":29,"n_cols":4,"rows_kept":29,"cut":false,"hidden":false,"merged":[[20,1,20,3],[8,1,8,8],[0,0,0,8],[1,0,1,8],[2,0,2,8],[4,0,4,2],[7,1,7,10],[9,1,9,10]]}
["New Jersey Office of Clean Energy"]
["Pay for Performance Program"]
["ERP Tables and Incentive Calculator"]
[]
["Table 6. Energy Rates"]
["Instructions"]
["1)","If working with fuels other than Electricity and Natural gas, fill out Fuel Type in Rows 16, 17, 18 and/or 19. Otherwise leave as-is. "]
["2)","Enter energy rates in the blue cells. These may be based on the local utility schedule, actual rates for the building, or average rates for New Jersey posted by DOE Energy Information Administration (EIA): http://www.eia.gov/state/state-energy-profiles-data.cfm?sid=NJ#Prices  ."]
["3)","If applicable, include demand charges in the rate table below."]
["4)","Include a detailed description of the rate structure in Section I of the ERP. Also include a description of any adjustments made to Table 6, or to any calculations in other tables that are based on Table 6, in order to accommodate the rate structure in the Performance Rating. "]
[]
[null,"Electricity (baseline)",null,"$/kWh"]
[null,"Electricity (proposed)",null,"$/kWh"]
[null,"Natural Gas (baseline)",null,"$/therm"]
[null,"Natural Gas (proposed)",null,"$/therm"]
[null,"<other1> (baseline)",null,"$/MMBtu"]
[null,"<other1> (proposed)",null,"$/MMBtu"]
[null,"<other2> (baseline)",null,"$/MMBtu"]
[null,"<other2> (proposed)",null,"$/MMBtu"]
[]
[null,"2010-11 NJ Average Energy Rates (for reference only) "]
[null,"Electricity (Residential)",0.16650000000000001,"$/kWh"]
[null,"Electricity (Commercial)",0.14449999999999999,"$/kWh"]
[null,"Electricity (Industrial)",0.1231,"$/kWh"]
[null,"Natural Gas (Residential)",1.4227399999999999,"$/therm"]
[null,"Natural Gas (Commercial)",0.98155000000000003,"$/therm"]
[null,"Natural Gas (Industrial)",0.93879999999999997,"$/therm"]
[null,"#2 Oil (Residential)",3.6443300000000001,"$/gal"]
[null,"#2 Oil (Wholesale)",2.9261699999999999,"$/gal"]

{"sheet":"7-End Use","index":7,"n_rows":26,"n_cols":21,"rows_kept":26,"cut":false,"hidden":false,"merged":[[13,2,13,7],[13,8,13,13],[1,0,1,15],[28,1,28,3],[4,0,4,15],[6,1,6,15],[8,1,8,15],[13,14,13,15],[9,1,9,15],[2,0,2,15],[0,0,0,15],[12,19,12,20],[11,17,11,20],[12,17,12,18],[10,1,10,15],[11,1,11,15],[10,17,10,20]]}
["New Jersey Office of Clean Energy"]
["Pay for Performance Program"]
["ERP Tables and Incentive Calculator"]
[]
["Table 7. Annual Energy Use Summary"]
["Instructions"]
["1)","First, make sure Table 4 is complete."]
["2) ","If working with fuels other than Electricity and Natural gas, fill out Fuel Type in Row 16-Columns E, F, K and/or L. Otherwise leave as-is. "]
["3)","Enter energy use data directly from the baseline and proposed model outputs into the blue cells in the Energy Unit Converter* table to the right of Table 7. In the \"Choose unit:\" cells, choose the unit in which the energy use is expressed from the drop down menu. The Energy Unit Converter should not be included in the ERP.                                                                                            *For Fuel Types other than Electricity and Natural gas, enter energy use in MMBtu directly into the Table 7. Do not use the Energy Unit Converter. "]
["5)","Baseline heating and cooling usage should be calculated as average for four exposures, and adjusted as described in Section 4.3.4 of the Program Guidelines v3.2"]
["6)","Performance rating is shown in Blue Font and must be at least 15%"]
[null,null,null,null,null,null,null,null,null,null,null,null,null,null,null,null,null,"Energy Unit Converter"]
[null,null,null,null,null,null,null,null,null,null,null,null,null,null,null,null,null,"Baseline",null,"Proposed"]
[null,null,"Baseline",null,null,null,null,null,"Proposed",null,null,null,null,null,"Summary",null,null,"Natural Gas","Electricity","Natural Gas","Electricity"]
[null,"Annual Energy Use","Natural Gas\n(MMBtu)","Electricity \n(MMBtu)","<Other1> (MMBtu)","<Other2> (MMBtu)","Energy Cost \n($)"," Conditioned Space Energy Use \n(kBtu/SqFt)","Natural Gas \n(MMBtu)","Electricity \n(MMBtu)","<Other1> (MMBtu)","<Other2> (MMBtu)","Energy Cost \n($)","Conditioned Space Energy Use \n(kBtu/SqFt)","Energy Savings ","Cost Savings ",null,"Therm","kWh","Therm","kWh"]
[null,"Heating",{"$f":"IF($R$15=\"Btu\",R16/1000000,IF($R$15=\"kBtu\",R16/1000,IF($R$15=\"MMBtu\",R16,IF($R$15=\"Therm\",R16/10,0))))","v":0},{"$f":"IF($S$15=\"Btu\",S16/1000000,IF($S$15=\"kBtu\",S16/1000,IF($S$15=\"MMBtu\",S16,IF($S$15=\"kWh\",S16*0.003412,IF($S$15=\"W\",S16*0.000003412,0)))))","v":0},null,null,{"$f":"(C16*10*'6-Energy Rates'!$C$14)+(D16/0.003412*'6-Energy Rates'!$C$12)+(E16*'6-Energy Rates'!$C$16)+(F16*'6-Energy Rates'!$C$18)","v":0},{"$f":"IF('4-Spaces'!$C$30=0,0,SUM(C16:F16)*1000/'4-Spaces'!$C$30)","v":0},{"$f":"IF($T$15=\"Btu\",T16/1000000,IF($T$15=\"kBtu\",T16/1000,IF($T$15=\"MMBtu\",T16,IF($T$15=\"Therm\",T16/10,0))))","v":0},{"$f":"IF($U$15=\"Btu\",U16/1000000,IF($U$15=\"kBtu\",U16/1000,IF($U$15=\"MMBtu\",U16,IF($U$15=\"kWh\",U16*0.003412,IF($U$15=\"W\",U16*0.000003412,0)))))","v":0},null,null,{"$f":"(I16*10*'6-Energy Rates'!$C$15)+(J16/0.003412*'6-Energy Rates'!$C$13)+(K16*'6-Energy Rates'!$C$17)+(L16*'6-Energy Rates'!$C$19)","v":0},{"$f":"IF('4-Spaces'!$C$30=0,0,SUM(I16:L16)*1000/'4-Spaces'!$C$30)","v":0},{"$f":"IF(SUM(C16:F16)=0,0,(SUM(C16:F16)-SUM(I16:L16))/SUM(C16:F16))","v":0},{"$f":"IF(G16=0,0,(G16-M16)/G16)","v":0}]
[null,"Cooling ",{"$f":"IF($R$15=\"Btu\",R17/1000000,IF($R$15=\"kBtu\",R17/1000,IF($R$15=\"MMBtu\",R17,IF($R$15=\"Therm\",R17/10,0))))","v":0},0,null,null,{"$f":"(C17*10*'6-Energy Rates'!$C$14)+(D17/0.003412*'6-Energy Rates'!$C$12)+(E17*'6-Energy Rates'!$C$16)+(F17*'6-Energy Rates'!$C$18)","v":0},{"$f":"IF('4-Spaces'!$C$30=0,0,SUM(C17:F17)*1000/'4-Spaces'!$C$30)","v":0},{"$f":"IF($T$15=\"Btu\",T17/1000000,IF($T$15=\"kBtu\",T17/1000,IF($T$15=\"MMBtu\",T17,IF($T$15=\"Therm\",T17/10,0))))","v":0},0,null,null,{"$f":"(I17*10*'6-Energy Rates'!$C$15)+(J17/0.003412*'6-Energy Rates'!$C$13)+(K17*'6-Energy Rates'!$C$17)+(L17*'6-Energy Rates'!$C$19)","v":0},{"$f":"IF('4-Spaces'!$C$30=0,0,SUM(I17:L17)*1000/'4-Spaces'!$C$30)","v":0},{"$f":"IF(SUM(C17:F17)=0,0,(SUM(C17:F17)-SUM(I17:L17))/SUM(C17:F17))","v":0},0]
[null,"Lighting",{"$f":"IF($R$15=\"Btu\",R18/1000000,IF($R$15=\"kBtu\",R18/1000,IF($R$15=\"MMBtu\",R18,IF($R$15=\"Therm\",R18/10,0))))","v":0},0,null,null,{"$f":"(C18*10*'6-Energy Rates'!$C$14)+(D18/0.003412*'6-Energy Rates'!$C$12)+(E18*'6-Energy Rates'!$C$16)+(F18*'6-Energy Rates'!$C$18)","v":0},{"$f":"IF('4-Spaces'!$C$30=0,0,SUM(C18:F18)*1000/'4-Spaces'!$C$30)","v":0},0,0,null,null,{"$f":"(I18*10*'6-Energy Rates'!$C$15)+(J18/0.003412*'6-Energy Rates'!$C$13)+(K18*'6-Energy Rates'!$C$17)+(L18*'6-Energy Rates'!$C$19)","v":0},{"$f":"IF('4-Spaces'!$C$30=0,0,SUM(I18:L18)*1000/'4-Spaces'!$C$30)","v":0},0,0]
[null,"Hot Water",{"$f":"IF($R$15=\"Btu\",R19/1000000,IF($R$15=\"kBtu\",R19/1000,IF($R$15=\"MMBtu\",R19,IF($R$15=\"Therm\",R19/10,0))))","v":0},0,null,null,{"$f":"(C19*10*'6-Energy Rates'!$C$14)+(D19/0.003412*'6-Energy Rates'!$C$12)+(E19*'6-Energy Rates'!$C$16)+(F19*'6-Energy Rates'!$C$18)","v":0},{"$f":"IF('4-Spaces'!$C$30=0,0,SUM(C19:F19)*1000/'4-Spaces'!$C$30)","v":0},0,0,null,null,{"$f":"(I19*10*'6-Energy Rates'!$C$15)+(J19/0.003412*'6-Energy Rates'!$C$13)+(K19*'6-Energy Rates'!$C$17)+(L19*'6-Energy Rates'!$C$19)","v":0},{"$f":"IF('4-Spaces'!$C$30=0,0,SUM(I19:L19)*1000/'4-Spaces'!$C$30)","v":0},0,0]
[null,"Appliance",0,0,null,null,{"$f":"(C20*10*'6-Energy Rates'!$C$14)+(D20/0.003412*'6-Energy Rates'!$C$12)+(E20*'6-Energy Rates'!$C$16)+(F20*'6-Energy Rates'!$C$18)","v":0},{"$f":"IF('4-Spaces'!$C$30=0,0,SUM(C20:F20)*1000/'4-Spaces'!$C$30)","v":0},0,0,null,null,{"$f":"(I20*10*'6-Energy Rates'!$C$15)+(J20/0.003412*'6-Energy Rates'!$C$13)+(K20*'6-Energy Rates'!$C$17)+(L20*'6-Energy Rates'!$C$19)","v":0},{"$f":"IF('4-Spaces'!$C$30=0,0,SUM(I20:L20)*1000/'4-Spaces'!$C$30)","v":0},0,0]
[null,"Pumps",0,0,null,null,{"$f":"(C21*10*'6-Energy Rates'!$C$14)+(D21/0.003412*'6-Energy Rates'!$C$12)+(E21*'6-Energy Rates'!$C$16)+(F21*'6-Energy Rates'!$C$18)","v":0},{"$f":"IF('4-Spaces'!$C$30=0,0,SUM(C21:F21)*1000/'4-Spaces'!$C$30)","v":0},0,0,null,null,{"$f":"(I21*10*'6-Energy Rates'!$C$15)+(J21/0.003412*'6-Energy Rates'!$C$13)+(K21*'6-Energy Rates'!$C$17)+(L21*'6-Energy Rates'!$C$19)","v":0},{"$f":"IF('4-Spaces'!$C$30=0,0,SUM(I21:L21)*1000/'4-Spaces'!$C$30)","v":0},0,0]
[null,"Heat Rejection",0,0,null,null,{"$f":"(C22*10*'6-Energy Rates'!$C$14)+(D22/0.003412*'6-Energy Rates'!$C$12)+(E22*'6-Energy Rates'!$C$16)+(F22*'6-Energy Rates'!$C$18)","v":0},{"$f":"IF('4-Spaces'!$C$30=0,0,SUM(C22:F22)*1000/'4-Spaces'!$C$30)","v":0},0,0,null,null,{"$f":"(I22*10*'6-Energy Rates'!$C$15)+(J22/0.003412*'6-Energy Rates'!$C$13)+(K22*'6-Energy Rates'!$C$17)+(L22*'6-Energy Rates'!$C$19)","v":0},{"$f":"IF('4-Spaces'!$C$30=0,0,SUM(I22:L22)*1000/'4-Spaces'!$C$30)","v":0},0,0]
[null,"Fans - Interior",0,0,null,null,{"$f":"(C23*10*'6-Energy Rates'!$C$14)+(D23/0.003412*'6-Energy Rates'!$C$12)+(E23*'6-Energy Rates'!$C$16)+(F23*'6-Energy Rates'!$C$18)","v":0},{"$f":"IF('4-Spaces'!$C$30=0,0,SUM(C23:F23)*1000/'4-Spaces'!$C$30)","v":0},0,0,null,null,{"$f":"(I23*10*'6-Energy Rates'!$C$15)+(J23/0.003412*'6-Energy Rates'!$C$13)+(K23*'6-Energy Rates'!$C$17)+(L23*'6-Energy Rates'!$C$19)","v":0},{"$f":"IF('4-Spaces'!$C$30=0,0,SUM(I23:L23)*1000/'4-Spaces'!$C$30)","v":0},0,0]
[null,"Fans - Parking Garage",0,0,null,null,{"$f":"(C24*10*'6-Energy Rates'!$C$14)+(D24/0.003412*'6-Energy Rates'!$C$12)+(E24*'6-Energy Rates'!$C$16)+(F24*'6-Energy Rates'!$C$18)","v":0},{"$f":"IF('4-Spaces'!$C$30=0,0,SUM(C24:F24)*1000/'4-Spaces'!$C$30)","v":0},0,0,null,null,{"$f":"(I24*10*'6-Energy Rates'!$C$15)+(J24/0.003412*'6-Energy Rates'!$C$13)+(K24*'6-Energy Rates'!$C$17)+(L24*'6-Energy Rates'!$C$19)","v":0},{"$f":"IF('4-Spaces'!$C$30=0,0,SUM(I24:L24)*1000/'4-Spaces'!$C$30)","v":0},0,0]
[null,"Other",{"$f":"IF($R$15=\"Btu\",R25/1000000,IF($R$15=\"kBtu\",R25/1000,IF($R$15=\"MMBtu\",R25,IF($R$15=\"Therm\",R25/10,0))))","v":0},{"$f":"IF($S$15=\"Btu\",S25/1000000,IF($S$15=\"kBtu\",S25/1000,IF($S$15=\"MMBtu\",S25,IF($S$15=\"kWh\",S25*0.003412,IF($S$15=\"W\",S25*0.000003412,0)))))","v":0},null,null,{"$f":"(C25*10*'6-Energy Rates'!$C$14)+(D25/0.003412*'6-Energy Rates'!$C$12)+(E25*'6-Energy Rates'!$C$16)+(F25*'6-Energy Rates'!$C$18)","v":0},{"$f":"IF('4-Spaces'!$C$30=0,0,SUM(C25:F25)*1000/'4-Spaces'!$C$30)","v":0},{"$f":"IF($T$15=\"Btu\",T25/1000000,IF($T$15=\"kBtu\",T25/1000,IF($T$15=\"MMBtu\",T25,IF($T$15=\"Therm\",T25/10,0))))","v":0},{"$f":"IF($U$15=\"Btu\",U25/1000000,IF($U$15=\"kBtu\",U25/1000,IF($U$15=\"MMBtu\",U25,IF($U$15=\"kWh\",U25*0.003412,IF($U$15=\"W\",U25*0.000003412,0)))))","v":0},null,null,{"$f":"(I25*10*'6-Energy Rates'!$C$15)+(J25/0.003412*'6-Energy Rates'!$C$13)+(K25*'6-Energy Rates'!$C$17)+(L25*'6-Energy Rates'!$C$19)","v":0},{"$f":"IF('4-Spaces'!$C$30=0,0,SUM(I25:L25)*1000/'4-Spaces'!$C$30)","v":0},{"$f":"IF(SUM(C25:F25)=0,0,(SUM(C25:F25)-SUM(I25:L25))/SUM(C25:F25))","v":0},0]
[null,"TOTAL",{"$f":"SUM(C16:C25)","v":0},{"$f":"SUM(D16:D25)","v":0},{"$f":"SUM(E16:E25)","v":0},{"$f":"SUM(F16:F25)","v":0},{"$f":"SUM(G16:G25)","v":0},{"$f":"IF('4-Spaces'!$C$30=0,0,SUM(C26:F26)/'4-Spaces'!$C$30)","v":0},{"$f":"SUM(I16:I25)","v":0},{"$f":"SUM(J16:J25)","v":0},{"$f":"SUM(K16:K25)","v":0},{"$f":"SUM(L16:L25)","v":0},{"$f":"SUM(M16:M25)","v":0},{"$f":"IF('4-Spaces'!$C$30=0,0,SUM(I26:L26)/'4-Spaces'!$C$30)","v":0},{"$f":"IF(SUM(C26:F26)=0,0,(SUM(C26:F26)-SUM(I26:L26))/SUM(C26:F26))","v":0},0,null,{"$f":"SUM(R16:R25)","v":0},{"$f":"SUM(S16:S25)","v":0},{"$f":"SUM(T16:T25)","v":0},{"$f":"SUM(U16:U25)","v":0}]

{"sheet":"8-Cost by Measure","index":8,"n_rows":41,"n_cols":17,"rows_kept":41,"cut":false,"hidden":false,"merged":[[40,12,40,16],[13,1,13,2],[4,0,4,12],[12,13,12,15],[6,1,6,16],[39,12,39,15],[37,12,37,15],[0,0,0,16],[1,0,1,16],[2,0,2,16],[38,12,38,15],[7,1,7,16],[9,1,9,16],[12,4,12,12],[8,1,8,16],[35,12,35,15],[36,12,36,15]]}
["New Jersey Office of Clean Energy"]
["Pay for Performance Program"]
["ERP Tables and Incentive Calculator"]
[]
["Table 8.  Incremental Costs by Energy Efficiency Measure"]
["Instructions"]
["1)","In the \"Energy Efficiency Measure\" column, choose the measures recommended from the drop-down list. An Energy Efficiency Measure is a component in the proposed design that is different from the component in the Baseline.  All components, whether resulting in energy savings or an energy penalty, should be included here. Enter all of the indicated information in the blue cells.  "]
["2) ","If the measure description from the drop down menu does not adequately describe a component, choose either \"Custom Gas\" or \"Custom Electric\" depending on which fuel is most affected."]
["3)","You may need to add or delete rows in order to accommodate all of the measures. If you add rows, be sure to copy down formulas from cells above."]
["4)","Enter partner fees at the bottom of the table. See Section 3.5 of Program Guidelines v3.2 for guidelines on Incremental Costs. "]
[" "]
[]
[null,null,null,null,"Proposed Components",null,null,null,null,null,null,null,null,"Baseline Components"]
[null,"Energy Efficiency Measure",null,"Brief Description of Measure","Manufacturer","Model","Capacity","Capacity Units","Quantity","Efficiency","Efficiency Units","Proposed Cost","Cost Source","Component Description","Baseline Cost","Cost Source","Incremental Costs"]
[null,1,null,null,null,null,null,null,null,null,null,null,null,null,null,null,{"$f":"L15-O15","v":0}]
[null,2,null,null,null,null,null,null,null,null,null,null,null,null,null,null,{"$f":"L16-O16","v":0}]
[null,3,null,null,null,null,null,null,null,null,null,null,null,null,null,null,0]
[null,4,null,null,null,null,null,null,null,null,null,null,null,null,null,null,0]
[null,5,null,null,null,null,null,null,null,null,null,null,null,null,null,null,0]
[null,6,null,null,null,null,null,null,null,null,null,null,null,null,null,null,0]
[null,7,null,null,null,null,null,null,null,null,null,null,null,null,null,null,0]
[null,8,null,null,null,null,null,null,null,null,null,null,null,null,null,null,0]
[null,9,null,null,null,null,null,null,null,null,null,null,null,null,null,null,0]
[null,10,null,null,null,null,null,null,null,null,null,null,null,null,null,null,0]
[null,11,null,null,null,null,null,null,null,null,null,null,null,null,null,null,0]
[null,12,null,null,null,null,null,null,null,null,null,null,null,null,null,null,0]
[null,13,null,null,null,null,null,null,null,null,null,null,null,null,null,null,0]
[null,14,null,null,null,null,null,null,null,null,null,null,null,null,null,null,0]
[null,15,null,null,null,null,null,null,null,null,null,null,null,null,null,null,0]
[null,16,null,null,null,null,null,null,null,null,null,null,null,null,null,null,0]
[null,17,null,null,null,null,null,null,null,null,null,null,null,null,null,null,0]
[null,18,null,null,null,null,null,null,null,null,null,null,null,null,null,null,0]
[null,19,null,null,null,null,null,null,null,null,null,null,null,null,null,null,0]
[null,20,null,null,null,null,null,null,null,null,null,null,null,null,null,null,0]
[]
[null,null,null,null,null,null,null,null,null,null,null,null,"Measure incremental costs:",null,null,null,{"$f":"SUM(Q15:Q34)","v":0}]
[null,null,null,null,null,null,null,null,null,null,null,null,"Partner fees for modeling:"]
[null,null,null,null,null,null,null,null,null,null,null,null,"Partner fees for inspection & verification:"]
[null,null,null,null,null,null,null,null,null,null,null,null,"Partner fees for other services related to the program*:"]
[null,null,null,null,null,null,null,null,null,null,null,null,"Total Project Incremental cost:",null,null,null,{"$f":"SUM(Q36:Q39)","v":0}]
[null,null,null,null,null,null,null,null,null,null,null,null,"* Describe other services:"]

{"sheet":"9-Energy Savings by Measure","index":9,"n_rows":35,"n_cols":74,"rows_kept":35,"cut":false,"hidden":false,"merged":[[8,1,8,15],[10,3,10,4],[10,1,10,2],[0,0,0,12],[1,0,1,12],[2,0,2,12],[4,0,4,24],[6,1,6,15],[7,1,7,15],[9,17,9,20]]}
["New Jersey Office of Clean Energy"]
["Pay for Performance Program"]
["ERP Tables and Incentive Calculator"]
[]
["Table 9.  Annual Energy Savings by Energy Efficiency Measure"]
["Instructions"]
["1)","Enter all of the requested information in the blue cells for each measure in your workscope.  Lifetime of each measure should be consistent with Appendix A of Program Guidelines v3.2. Refer to Section 3.4.3 of same guidelines for additional guidance on O&M Savings. "]
["2)","You may need to add or delete rows to these tables in order to accommodate all of the recommended measures in your workscope. If you add rows, be sure to copy down formulas from cells above."]
["3)","For measures with electricity demand savings, go to the Demand Savings Calculator to the right of Table 8 and select from the pull-down menu the measure description that most closely matches the recommended measure. The Demand Savings Calculator table should not be included in the ERP."]
[null,null,null,null,null,null,null,null,null,null,null,null,null,null,null,null,null,"Demand Savings Calculator",null,null,null,null,"Cash Flow for IRR calculations"]
[null,"Energy Efficiency Measure",null,"Annual Energy Savings\n(MMBtu)   (kWh)",null,"Most Affected Fuel","Demand Savings\n(kW)","Annual Water/ Sewer Savings\n(1000 gals)","Annual O&M Savings\n($)","Annual Cost Savings\n($)","Lifetime\n(years)","Payback\n(years)","IRR","Lifecycle Savings","Weighted Lifetime","Additional Incentive \n(Y/N)",null,"Measure Category\n(Select description that best matches the measure)","Annual Operation\n(days/year)","Daily Operation\n(hrs/day)","Diversity Factor",null,"Year 0","Year 1","Year 2","Year 3","Year 4","Year 5","Year 6","Year 7","Year 8","Year 9","Year 10","Year 11","Year 12","Year 13","Year 14","Year 15","Year 16","Year 17","Year 18","Year 19","Year 20","Year 21","Year 22","Year 23","Year 24","Year 25","Year 26","Year 27","Year 28","Year 29","Year 30","Year 31","Year 32","Year 33","Year 34","Year 35","Year 36","Year 37","Year 38","Year 39","Year 40","Year 41","Year 42","Year 43","Year 44","Year 45","Year 46","Year 47","Year 48","Year 49","Year 50","IRR Estimate"]
[null,{"$f":"'8-Cost by Measure'!B15","v":1},{"$f":"IF('8-Cost by Measure'!C15=0,\"\",'8-Cost by Measure'!C15)","v":""},null,null,null,{"$f":"IF(C12=\"\",\"\",E12/S12/T12*U12)","v":""},null,null,{"$f":"IF(C12=\"\",\"\",(D12*10*'6-Energy Rates'!$C$14)+(E12*'6-Energy Rates'!$C$12))","v":""},null,{"$f":"IF(N(J12)=0,0,'8-Cost by Measure'!Q15/J12)","v":0},{"$f":"IF(C12=\"\",\"\",IF(L12<=0,$BV$35,IRR(W12:BU12,BV12)))","v":""},{"$f":"IF(N(J12)=0,0,-PV($D$35,K12,J12)-'8-Cost by Measure'!Q15)","v":0},{"$f":"K12*N(J12)","v":0},"Y/N",null,null,{"$f":"VLOOKUP($R12,Dem_Calc_Lookup,2,FALSE)","v":{"$error":"#N/A"}},{"$f":"VLOOKUP($R12,Dem_Calc_Lookup,3,FALSE)","v":{"$error":"#N/A"}},{"$f":"VLOOKUP($R12,Dem_Calc_Lookup,4,FALSE)","v":{"$error":"#N/A"}},null,{"$f":"-'8-Cost by Measure'!Q15","v":0},{"$f":"I12+N(J12)","v":0},{"$f":"IF(COUNTIF(X12,I12+N(J12))<K12,I12+N(J12),0)","v":0},{"$f":"IF(COUNTIF($X12:Y12,$I12+N($J12))<$K12,$I12+N($J12),0)","v":0},{"$f":"IF(COUNTIF($X12:Z12,$I12+N($J12))<$K12,$I12+N($J12),0)","v":0},{"$f":"IF(COUNTIF($X12:AA12,$I12+N($J12))<$K12,$I12+N($J12),0)","v":0},{"$f":"IF(COUNTIF($X12:AB12,$I12+N($J12))<$K12,$I12+N($J12),0)","v":0},{"$f":"IF(COUNTIF($X12:AC12,$I12+N($J12))<$K12,$I12+N($J12),0)","v":0},{"$f":"IF(COUNTIF($X12:AD12,$I12+N($J12))<$K12,$I12+N($J12),0)","v":0},{"$f":"IF(COUNTIF($X12:AE12,$I12+N($J12))<$K12,$I12+N($J12),0)","v":0},{"$f":"IF(COUNTIF($X12:AF12,$I12+N($J12))<$K12,$I12+N($J12),0)","v":0},{"$f":"IF(COUNTIF($X12:AG12,$I12+N($J12))<$K12,$I12+N($J12),0)","v":0},{"$f":"IF(COUNTIF($X12:AH12,$I12+N($J12))<$K12,$I12+N($J12),0)","v":0},{"$f":"IF(COUNTIF($X12:AI12,$I12+N($J12))<$K12,$I12+N($J12),0)","v":0},{"$f":"IF(COUNTIF($X12:AJ12,$I12+N($J12))<$K12,$I12+N($J12),0)","v":0},{"$f":"IF(COUNTIF($X12:AK12,$I12+N($J12))<$K12,$I12+N($J12),0)","v":0},{"$f":"IF(COUNTIF($X12:AL12,$I12+N($J12))<$K12,$I12+N($J12),0)","v":0},{"$f":"IF(COUNTIF($X12:AM12,$I12+N($J12))<$K12,$I12+N($J12),0)","v":0},{"$f":"IF(COUNTIF($X12:AN12,$I12+N($J12))<$K12,$I12+N($J12),0)","v":0},{"$f":"IF(COUNTIF($X12:AO12,$I12+N($J12))<$K12,$I12+N($J12),0)","v":0},{"$f":"IF(COUNTIF($X12:AP12,$I12+N($J12))<$K12,$I12+N($J12),0)","v":0},{"$f":"IF(COUNTIF($X12:AQ12,$I12+N($J12))<$K12,$I12+N($J12),0)","v":0},{"$f":"IF(COUNTIF($X12:AR12,$I12+N($J12))<$K12,$I12+N($J12),0)","v":0},{"$f":"IF(COUNTIF($X12:AS12,$I12+N($J12))<$K12,$I12+N($J12),0)","v":0},{"$f":"IF(COUNTIF($X12:AT12,$I12+N($J12))<$K12,$I12+N($J12),0)","v":0},{"$f":"IF(COUNTIF($X12:AU12,$I12+N($J12))<$K12,$I12+N($J12),0)","v":0},{"$f":"IF(COUNTIF($X12:AV12,$I12+N($J12))<$K12,$I12+N($J12),0)","v":0},{"$f":"IF(COUNTIF($X12:AW12,$I12+N($J12))<$K12,$I12+N($J12),0)","v":0},{"$f":"IF(COUNTIF($X12:AX12,$I12+N($J12))<$K12,$I12+N($J12),0)","v":0},{"$f":"IF(COUNTIF($X12:AY12,$I12+N($J12))<$K12,$I12+N($J12),0)","v":0},{"$f":"IF(COUNTIF($X12:AZ12,$I12+N($J12))<$K12,$I12+N($J12),0)","v":0},{"$f":"IF(COUNTIF($X12:BA12,$I12+N($J12))<$K12,$I12+N($J12),0)","v":0},{"$f":"IF(COUNTIF($X12:BB12,$I12+N($J12))<$K12,$I12+N($J12),0)","v":0},{"$f":"IF(COUNTIF($X12:BC12,$I12+N($J12))<$K12,$I12+N($J12),0)","v":0},{"$f":"IF(COUNTIF($X12:BD12,$I12+N($J12))<$K12,$I12+N($J12),0)","v":0},{"$f":"IF(COUNTIF($X12:BE12,$I12+N($J12))<$K12,$I12+N($J12),0)","v":0},{"$f":"IF(COUNTIF($X12:BF12,$I12+N($J12))<$K12,$I12+N($J12),0)","v":0},{"$f":"IF(COUNTIF($X12:BG12,$I12+N($J12))<$K12,$I12+N($J12),0)","v":0},{"$f":"IF(COUNTIF($X12:BH12,$I12+N($J12))<$K12,$I12+N($J12),0)","v":0},{"$f":"IF(COUNTIF($X12:BI12,$I12+N($J12))<$K12,$I12+N($J12),0)","v":0},{"$f":"IF(COUNTIF($X12:BJ12,$I12+N($J12))<$K12,$I12+N($J12),0)","v":0},{"$f":"IF(COUNTIF($X12:BK12,$I12+N($J12))<$K12,$I12+N($J12),0)","v":0},{"$f":"IF(COUNTIF($X12:BL12,$I12+N($J12))<$K12,$I12+N($J12),0)","v":0},{"$f":"IF(COUNTIF($X12:BM12,$I12+N($J12))<$K12,$I12+N($J12),0)","v":0},{"$f":"IF(COUNTIF($X12:BN12,$I12+N($J12))<$K12,$I12+N($J12),0)","v":0},{"$f":"IF(COUNTIF($X12:BO12,$I12+N($J12))<$K12,$I12+N($J12),0)","v":0},{"$f":"IF(COUNTIF($X12:BP12,$I12+N($J12))<$K12,$I12+N($J12),0)","v":0},{"$f":"IF(COUNTIF($X12:BQ12,$I12+N($J12))<$K12,$I12+N($J12),0)","v":0},{"$f":"IF(COUNTIF($X12:BR12,$I12+N($J12))<$K12,$I12+N($J12),0)","v":0},{"$f":"IF(COUNTIF($X12:BS12,$I12+N($J12))<$K12,$I12+N($J12),0)","v":0},{"$f":"IF(COUNTIF($X12:BT12,$I12+N($J12))<$K12,$I12+N($J12),0)","v":0},{"$f":"IF(N12>0,0.3,-0.3)","v":-0.3}]
[null,{"$f":"'8-Cost by Measure'!B16","v":2},{"$f":"IF('8-Cost by Measure'!C16=0,\"\",'8-Cost by Measure'!C16)","v":""},null,null,null,{"$f":"IF(C13=\"\",\"\",E13/S13/T13*U13)","v":""},null,null,{"$f":"IF(C13=\"\",\"\",(D13*10*'6-Energy Rates'!$C$14)+(E13*'6-Energy Rates'!$C$12))","v":""},null,{"$f":"IF(N(J13)=0,0,'8-Cost by Measure'!Q16/J13)","v":0},{"$f":"IF(C13=\"\",\"\",IF(L13<=0,$BV$35,IRR(W13:BU13,BV13)))","v":""},{"$f":"IF(N(J13)=0,0,-PV($D$35,K13,J13)-'8-Cost by Measure'!Q16)","v":0},{"$f":"K13*N(J13)","v":0},"Y/N",null,null,{"$error":"#N/A"},{"$error":"#N/A"},{"$error":"#N/A"},null,{"$f":"-'8-Cost by Measure'!Q16","v":0},{"$f":"I13+N(J13)","v":0},{"$f":"IF(COUNTIF(X13,I13+N(J13))<K13,I13+N(J13),0)","v":0},{"$f":"IF(COUNTIF($X13:Y13,$I13+N($J13))<$K13,$I13+N($J13),0)","v":0},{"$f":"IF(COUNTIF($X13:Z13,$I13+N($J13))<$K13,$I13+N($J13),0)","v":0},{"$f":"IF(COUNTIF($X13:AA13,$I13+N($J13))<$K13,$I13+N($J13),0)","v":0},{"$f":"IF(COUNTIF($X13:AB13,$I13+N($J13))<$K13,$I13+N($J13),0)","v":0},{"$f":"IF(COUNTIF($X13:AC13,$I13+N($J13))<$K13,$I13+N($J13),0)","v":0},{"$f":"IF(COUNTIF($X13:AD13,$I13+N($J13))<$K13,$I13+N($J13),0)","v":0},{"$f":"IF(COUNTIF($X13:AE13,$I13+N($J13))<$K13,$I13+N($J13),0)","v":0},{"$f":"IF(COUNTIF($X13:AF13,$I13+N($J13))<$K13,$I13+N($J13),0)","v":0},{"$f":"IF(COUNTIF($X13:AG13,$I13+N($J13))<$K13,$I13+N($J13),0)","v":0},{"$f":"IF(COUNTIF($X13:AH13,$I13+N($J13))<$K13,$I13+N($J13),0)","v":0},{"$f":"IF(COUNTIF($X13:AI13,$I13+N($J13))<$K13,$I13+N($J13),0)","v":0},{"$f":"IF(COUNTIF($X13:AJ13,$I13+N($J13))<$K13,$I13+N($J13),0)","v":0},{"$f":"IF(COUNTIF($X13:AK13,$I13+N($J13))<$K13,$I13+N($J13),0)","v":0},{"$f":"IF(COUNTIF($X13:AL13,$I13+N($J13))<$K13,$I13+N($J13),0)","v":0},{"$f":"IF(COUNTIF($X13:AM13,$I13+N($J13))<$K13,$I13+N($J13),0)","v":0},{"$f":"IF(COUNTIF($X13:AN13,$I13+N($J13))<$K13,$I13+N($J13),0)","v":0},{"$f":"IF(COUNTIF($X13:AO13,$I13+N($J13))<$K13,$I13+N($J13),0)","v":0},{"$f":"IF(COUNTIF($X13:AP13,$I13+N($J13))<$K13,$I13+N($J13),0)","v":0},{"$f":"IF(COUNTIF($X13:AQ13,$I13+N($J13))<$K13,$I13+N($J13),0)","v":0},{"$f":"IF(COUNTIF($X13:AR13,$I13+N($J13))<$K13,$I13+N($J13),0)","v":0},{"$f":"IF(COUNTIF($X13:AS13,$I13+N($J13))<$K13,$I13+N($J13),0)","v":0},{"$f":"IF(COUNTIF($X13:AT13,$I13+N($J13))<$K13,$I13+N($J13),0)","v":0},{"$f":"IF(COUNTIF($X13:AU13,$I13+N($J13))<$K13,$I13+N($J13),0)","v":0},{"$f":"IF(COUNTIF($X13:AV13,$I13+N($J13))<$K13,$I13+N($J13),0)","v":0},{"$f":"IF(COUNTIF($X13:AW13,$I13+N($J13))<$K13,$I13+N($J13),0)","v":0},{"$f":"IF(COUNTIF($X13:AX13,$I13+N($J13))<$K13,$I13+N($J13),0)","v":0},{"$f":"IF(COUNTIF($X13:AY13,$I13+N($J13))<$K13,$I13+N($J13),0)","v":0},{"$f":"IF(COUNTIF($X13:AZ13,$I13+N($J13))<$K13,$I13+N($J13),0)","v":0},{"$f":"IF(COUNTIF($X13:BA13,$I13+N($J13))<$K13,$I13+N($J13),0)","v":0},{"$f":"IF(COUNTIF($X13:BB13,$I13+N($J13))<$K13,$I13+N($J13),0)","v":0},{"$f":"IF(COUNTIF($X13:BC13,$I13+N($J13))<$K13,$I13+N($J13),0)","v":0},{"$f":"IF(COUNTIF($X13:BD13,$I13+N($J13))<$K13,$I13+N($J13),0)","v":0},{"$f":"IF(COUNTIF($X13:BE13,$I13+N($J13))<$K13,$I13+N($J13),0)","v":0},{"$f":"IF(COUNTIF($X13:BF13,$I13+N($J13))<$K13,$I13+N($J13),0)","v":0},{"$f":"IF(COUNTIF($X13:BG13,$I13+N($J13))<$K13,$I13+N($J13),0)","v":0},{"$f":"IF(COUNTIF($X13:BH13,$I13+N($J13))<$K13,$I13+N($J13),0)","v":0},{"$f":"IF(COUNTIF($X13:BI13,$I13+N($J13))<$K13,$I13+N($J13),0)","v":0},{"$f":"IF(COUNTIF($X13:BJ13,$I13+N($J13))<$K13,$I13+N($J13),0)","v":0},{"$f":"IF(COUNTIF($X13:BK13,$I13+N($J13))<$K13,$I13+N($J13),0)","v":0},{"$f":"IF(COUNTIF($X13:BL13,$I13+N($J13))<$K13,$I13+N($J13),0)","v":0},{"$f":"IF(COUNTIF($X13:BM13,$I13+N($J13))<$K13,$I13+N($J13),0)","v":0},{"$f":"IF(COUNTIF($X13:BN13,$I13+N($J13))<$K13,$I13+N($J13),0)","v":0},{"$f":"IF(COUNTIF($X13:BO13,$I13+N($J13))<$K13,$I13+N($J13),0)","v":0},{"$f":"IF(COUNTIF($X13:BP13,$I13+N($J13))<$K13,$I13+N($J13),0)","v":0},{"$f":"IF(COUNTIF($X13:BQ13,$I13+N($J13))<$K13,$I13+N($J13),0)","v":0},{"$f":"IF(COUNTIF($X13:BR13,$I13+N($J13))<$K13,$I13+N($J13),0)","v":0},{"$f":"IF(COUNTIF($X13:BS13,$I13+N($J13))<$K13,$I13+N($J13),0)","v":0},{"$f":"IF(COUNTIF($X13:BT13,$I13+N($J13))<$K13,$I13+N($J13),0)","v":0},{"$f":"IF(N13>0,0.3,-0.3)","v":-0.3}]
[null,{"$f":"'8-Cost by Measure'!B17","v":3},{"$f":"IF('8-Cost by Measure'!C17=0,\"\",'8-Cost by Measure'!C17)","v":""},null,null,null,{"$f":"IF(C14=\"\",\"\",E14/S14/T14*U14)","v":""},null,null,{"$f":"IF(C14=\"\",\"\",(D14*10*'6-Energy Rates'!$C$14)+(E14*'6-Energy Rates'!$C$12))","v":""},null,{"$f":"IF(N(J14)=0,0,'8-Cost by Measure'!Q17/J14)","v":0},"",{"$f":"IF(N(J14)=0,0,-PV($D$35,K14,J14)-'8-Cost by Measure'!Q17)","v":0},0,"Y/N",null,null,{"$error":"#N/A"},{"$error":"#N/A"},{"$error":"#N/A"},null,{"$f":"-'8-Cost by Measure'!Q17","v":0},0,0,{"$f":"IF(COUNTIF($X14:Y14,$I14+N($J14))<$K14,$I14+N($J14),0)","v":0},{"$f":"IF(COUNTIF($X14:Z14,$I14+N($J14))<$K14,$I14+N($J14),0)","v":0},{"$f":"IF(COUNTIF($X14:AA14,$I14+N($J14))<$K14,$I14+N($J14),0)","v":0},{"$f":"IF(COUNTIF($X14:AB14,$I14+N($J14))<$K14,$I14+N($J14),0)","v":0},{"$f":"IF(COUNTIF($X14:AC14,$I14+N($J14))<$K14,$I14+N($J14),0)","v":0},{"$f":"IF(COUNTIF($X14:AD14,$I14+N($J14))<$K14,$I14+N($J14),0)","v":0},{"$f":"IF(COUNTIF($X14:AE14,$I14+N($J14))<$K14,$I14+N($J14),0)","v":0},{"$f":"IF(COUNTIF($X14:AF14,$I14+N($J14))<$K14,$I14+N($J14),0)","v":0},{"$f":"IF(COUNTIF($X14:AG14,$I14+N($J14))<$K14,$I14+N($J14),0)","v":0},{"$f":"IF(COUNTIF($X14:AH14,$I14+N($J14))<$K14,$I14+N($J14),0)","v":0},{"$f":"IF(COUNTIF($X14:AI14,$I14+N($J14))<$K14,$I14+N($J14),0)","v":0},{"$f":"IF(COUNTIF($X14:AJ14,$I14+N($J14))<$K14,$I14+N($J14),0)","v":0},{"$f":"IF(COUNTIF($X14:AK14,$I14+N($J14))<$K14,$I14+N($J14),0)","v":0},{"$f":"IF(COUNTIF($X14:AL14,$I14+N($J14))<$K14,$I14+N($J14),0)","v":0},{"$f":"IF(COUNTIF($X14:AM14,$I14+N($J14))<$K14,$I14+N($J14),0)","v":0},{"$f":"IF(COUNTIF($X14:AN14,$I14+N($J14))<$K14,$I14+N($J14),0)","v":0},{"$f":"IF(COUNTIF($X14:AO14,$I14+N($J14))<$K14,$I14+N($J14),0)","v":0},{"$f":"IF(COUNTIF($X14:AP14,$I14+N($J14))<$K14,$I14+N($J14),0)","v":0},{"$f":"IF(COUNTIF($X14:AQ14,$I14+N($J14))<$K14,$I14+N($J14),0)","v":0},{"$f":"IF(COUNTIF($X14:AR14,$I14+N($J14))<$K14,$I14+N($J14),0)","v":0},{"$f":"IF(COUNTIF($X14:AS14,$I14+N($J14))<$K14,$I14+N($J14),0)","v":0},{"$f":"IF(COUNTIF($X14:AT14,$I14+N($J14))<$K14,$I14+N($J14),0)","v":0},{"$f":"IF(COUNTIF($X14:AU14,$I14+N($J14))<$K14,$I14+N($J14),0)","v":0},{"$f":"IF(COUNTIF($X14:AV14,$I14+N($J14))<$K14,$I14+N($J14),0)","v":0},{"$f":"IF(COUNTIF($X14:AW14,$I14+N($J14))<$K14,$I14+N($J14),0)","v":0},{"$f":"IF(COUNTIF($X14:AX14,$I14+N($J14))<$K14,$I14+N($J14),0)","v":0},{"$f":"IF(COUNTIF($X14:AY14,$I14+N($J14))<$K14,$I14+N($J14),0)","v":0},{"$f":"IF(COUNTIF($X14:AZ14,$I14+N($J14))<$K14,$I14+N($J14),0)","v":0},{"$f":"IF(COUNTIF($X14:BA14,$I14+N($J14))<$K14,$I14+N($J14),0)","v":0},{"$f":"IF(COUNTIF($X14:BB14,$I14+N($J14))<$K14,$I14+N($J14),0)","v":0},{"$f":"IF(COUNTIF($X14:BC14,$I14+N($J14))<$K14,$I14+N($J14),0)","v":0},{"$f":"IF(COUNTIF($X14:BD14,$I14+N($J14))<$K14,$I14+N($J14),0)","v":0},{"$f":"IF(COUNTIF($X14:BE14,$I14+N($J14))<$K14,$I14+N($J14),0)","v":0},{"$f":"IF(COUNTIF($X14:BF14,$I14+N($J14))<$K14,$I14+N($J14),0)","v":0},{"$f":"IF(COUNTIF($X14:BG14,$I14+N($J14))<$K14,$I14+N($J14),0)","v":0},{"$f":"IF(COUNTIF($X14:BH14,$I14+N($J14))<$K14,$I14+N($J14),0)","v":0},{"$f":"IF(COUNTIF($X14:BI14,$I14+N($J14))<$K14,$I14+N($J14),0)","v":0},{"$f":"IF(COUNTIF($X14:BJ14,$I14+N($J14))<$K14,$I14+N($J14),0)","v":0},{"$f":"IF(COUNTIF($X14:BK14,$I14+N($J14))<$K14,$I14+N($J14),0)","v":0},{"$f":"IF(COUNTIF($X14:BL14,$I14+N($J14))<$K14,$I14+N($J14),0)","v":0},{"$f":"IF(COUNTIF($X14:BM14,$I14+N($J14))<$K14,$I14+N($J14),0)","v":0},{"$f":"IF(COUNTIF($X14:BN14,$I14+N($J14))<$K14,$I14+N($J14),0)","v":0},{"$f":"IF(COUNTIF($X14:BO14,$I14+N($J14))<$K14,$I14+N($J14),0)","v":0},{"$f":"IF(COUNTIF($X14:BP14,$I14+N($J14))<$K14,$I14+N($J14),0)","v":0},{"$f":"IF(COUNTIF($X14:BQ14,$I14+N($J14))<$K14,$I14+N($J14),0)","v":0},{"$f":"IF(COUNTIF($X14:BR14,$I14+N($J14))<$K14,$I14+N($J14),0)","v":0},{"$f":"IF(COUNTIF($X14:BS14,$I14+N($J14))<$K14,$I14+N($J14),0)","v":0},{"$f":"IF(COUNTIF($X14:BT14,$I14+N($J14))<$K14,$I14+N($J14),0)","v":0},-0.3]
[null,{"$f":"'8-Cost by Measure'!B18","v":4},{"$f":"IF('8-Cost by Measure'!C18=0,\"\",'8-Cost by Measure'!C18)","v":""},null,null,null,"",null,null,{"$f":"IF(C15=\"\",\"\",(D15*10*'6-Energy Rates'!$C$14)+(E15*'6-Energy Rates'!$C$12))","v":""},null,{"$f":"IF(N(J15)=0,0,'8-Cost by Measure'!Q18/J15)","v":0},"",{"$f":"IF(N(J15)=0,0,-PV($D$35,K15,J15)-'8-Cost by Measure'!Q18)","v":0},0,"Y/N",null,null,{"$error":"#N/A"},{"$error":"#N/A"},{"$error":"#N/A"},null,{"$f":"-'8-Cost by Measure'!Q18","v":0},0,0,{"$f":"IF(COUNTIF($X15:Y15,$I15+N($J15))<$K15,$I15+N($J15),0)","v":0},{"$f":"IF(COUNTIF($X15:Z15,$I15+N($J15))<$K15,$I15+N($J15),0)","v":0},{"$f":"IF(COUNTIF($X15:AA15,$I15+N($J15))<$K15,$I15+N($J15),0)","v":0},{"$f":"IF(COUNTIF($X15:AB15,$I15+N($J15))<$K15,$I15+N($J15),0)","v":0},{"$f":"IF(COUNTIF($X15:AC15,$I15+N($J15))<$K15,$I15+N($J15),0)","v":0},{"$f":"IF(COUNTIF($X15:AD15,$I15+N($J15))<$K15,$I15+N($J15),0)","v":0},{"$f":"IF(COUNTIF($X15:AE15,$I15+N($J15))<$K15,$I15+N($J15),0)","v":0},{"$f":"IF(COUNTIF($X15:AF15,$I15+N($J15))<$K15,$I15+N($J15),0)","v":0},{"$f":"IF(COUNTIF($X15:AG15,$I15+N($J15))<$K15,$I15+N($J15),0)","v":0},{"$f":"IF(COUNTIF($X15:AH15,$I15+N($J15))<$K15,$I15+N($J15),0)","v":0},{"$f":"IF(COUNTIF($X15:AI15,$I15+N($J15))<$K15,$I15+N($J15),0)","v":0},{"$f":"IF(COUNTIF($X15:AJ15,$I15+N($J15))<$K15,$I15+N($J15),0)","v":0},{"$f":"IF(COUNTIF($X15:AK15,$I15+N($J15))<$K15,$I15+N($J15),0)","v":0},{"$f":"IF(COUNTIF($X15:AL15,$I15+N($J15))<$K15,$I15+N($J15),0)","v":0},{"$f":"IF(COUNTIF($X15:AM15,$I15+N($J15))<$K15,$I15+N($J15),0)","v":0},{"$f":"IF(COUNTIF($X15:AN15,$I15+N($J15))<$K15,$I15+N($J15),0)","v":0},{"$f":"IF(COUNTIF($X15:AO15,$I15+N($J15))<$K15,$I15+N($J15),0)","v":0},{"$f":"IF(COUNTIF($X15:AP15,$I15+N($J15))<$K15,$I15+N($J15),0)","v":0},{"$f":"IF(COUNTIF($X15:AQ15,$I15+N($J15))<$K15,$I15+N($J15),0)","v":0},{"$f":"IF(COUNTIF($X15:AR15,$I15+N($J15))<$K15,$I15+N($J15),0)","v":0},{"$f":"IF(COUNTIF($X15:AS15,$I15+N($J15))<$K15,$I15+N($J15),0)","v":0},{"$f":"IF(COUNTIF($X15:AT15,$I15+N($J15))<$K15,$I15+N($J15),0)","v":0},{"$f":"IF(COUNTIF($X15:AU15,$I15+N($J15))<$K15,$I15+N($J15),0)","v":0},{"$f":"IF(COUNTIF($X15:AV15,$I15+N($J15))<$K15,$I15+N($J15),0)","v":0},{"$f":"IF(COUNTIF($X15:AW15,$I15+N($J15))<$K15,$I15+N($J15),0)","v":0},{"$f":"IF(COUNTIF($X15:AX15,$I15+N($J15))<$K15,$I15+N($J15),0)","v":0},{"$f":"IF(COUNTIF($X15:AY15,$I15+N($J15))<$K15,$I15+N($J15),0)","v":0},{"$f":"IF(COUNTIF($X15:AZ15,$I15+N($J15))<$K15,$I15+N($J15),0)","v":0},{"$f":"IF(COUNTIF($X15:BA15,$I15+N($J15))<$K15,$I15+N($J15),0)","v":0},{"$f":"IF(COUNTIF($X15:BB15,$I15+N($J15))<$K15,$I15+N($J15),0)","v":0},{"$f":"IF(COUNTIF($X15:BC15,$I15+N($J15))<$K15,$I15+N($J15),0)","v":0},{"$f":"IF(COUNTIF($X15:BD15,$I15+N($J15))<$K15,$I15+N($J15),0)","v":0},{"$f":"IF(COUNTIF($X15:BE15,$I15+N($J15))<$K15,$I15+N($J15),0)","v":0},{"$f":"IF(COUNTIF($X15:BF15,$I15+N($J15))<$K15,$I15+N($J15),0)","v":0},{"$f":"IF(COUNTIF($X15:BG15,$I15+N($J15))<$K15,$I15+N($J15),0)","v":0},{"$f":"IF(COUNTIF($X15:BH15,$I15+N($J15))<$K15,$I15+N($J15),0)","v":0},{"$f":"IF(COUNTIF($X15:BI15,$I15+N($J15))<$K15,$I15+N($J15),0)","v":0},{"$f":"IF(COUNTIF($X15:BJ15,$I15+N($J15))<$K15,$I15+N($J15),0)","v":0},{"$f":"IF(COUNTIF($X15:BK15,$I15+N($J15))<$K15,$I15+N($J15),0)","v":0},{"$f":"IF(COUNTIF($X15:BL15,$I15+N($J15))<$K15,$I15+N($J15),0)","v":0},{"$f":"IF(COUNTIF($X15:BM15,$I15+N($J15))<$K15,$I15+N($J15),0)","v":0},{"$f":"IF(COUNTIF($X15:BN15,$I15+N($J15))<$K15,$I15+N($J15),0)","v":0},{"$f":"IF(COUNTIF($X15:BO15,$I15+N($J15))<$K15,$I15+N($J15),0)","v":0},{"$f":"IF(COUNTIF($X15:BP15,$I15+N($J15))<$K15,$I15+N($J15),0)","v":0},{"$f":"IF(COUNTIF($X15:BQ15,$I15+N($J15))<$K15,$I15+N($J15),0)","v":0},{"$f":"IF(COUNTIF($X15:BR15,$I15+N($J15))<$K15,$I15+N($J15),0)","v":0},{"$f":"IF(COUNTIF($X15:BS15,$I15+N($J15))<$K15,$I15+N($J15),0)","v":0},{"$f":"IF(COUNTIF($X15:BT15,$I15+N($J15))<$K15,$I15+N($J15),0)","v":0},-0.3]
[null,{"$f":"'8-Cost by Measure'!B19","v":5},{"$f":"IF('8-Cost by Measure'!C19=0,\"\",'8-Cost by Measure'!C19)","v":""},null,null,null,"",null,null,{"$f":"IF(C16=\"\",\"\",(D16*10*'6-Energy Rates'!$C$14)+(E16*'6-Energy Rates'!$C$12))","v":""},null,{"$f":"IF(N(J16)=0,0,'8-Cost by Measure'!Q19/J16)","v":0},"",{"$f":"IF(N(J16)=0,0,-PV($D$35,K16,J16)-'8-Cost by Measure'!Q19)","v":0},0,"Y/N",null,null,{"$error":"#N/A"},{"$error":"#N/A"},{"$error":"#N/A"},null,{"$f":"-'8-Cost by Measure'!Q19","v":0},0,0,{"$f":"IF(COUNTIF($X16:Y16,$I16+N($J16))<$K16,$I16+N($J16),0)","v":0},{"$f":"IF(COUNTIF($X16:Z16,$I16+N($J16))<$K16,$I16+N($J16),0)","v":0},{"$f":"IF(COUNTIF($X16:AA16,$I16+N($J16))<$K16,$I16+N($J16),0)","v":0},{"$f":"IF(COUNTIF($X16:AB16,$I16+N($J16))<$K16,$I16+N($J16),0)","v":0},{"$f":"IF(COUNTIF($X16:AC16,$I16+N($J16))<$K16,$I16+N($J16),0)","v":0},{"$f":"IF(COUNTIF($X16:AD16,$I16+N($J16))<$K16,$I16+N($J16),0)","v":0},{"$f":"IF(COUNTIF($X16:AE16,$I16+N($J16))<$K16,$I16+N($J16),0)","v":0},{"$f":"IF(COUNTIF($X16:AF16,$I16+N($J16))<$K16,$I16+N($J16),0)","v":0},{"$f":"IF(COUNTIF($X16:AG16,$I16+N($J16))<$K16,$I16+N($J16),0)","v":0},{"$f":"IF(COUNTIF($X16:AH16,$I16+N($J16))<$K16,$I16+N($J16),0)","v":0},{"$f":"IF(COUNTIF($X16:AI16,$I16+N($J16))<$K16,$I16+N($J16),0)","v":0},{"$f":"IF(COUNTIF($X16:AJ16,$I16+N($J16))<$K16,$I16+N($J16),0)","v":0},{"$f":"IF(COUNTIF($X16:AK16,$I16+N($J16))<$K16,$I16+N($J16),0)","v":0},{"$f":"IF(COUNTIF($X16:AL16,$I16+N($J16))<$K16,$I16+N($J16),0)","v":0},{"$f":"IF(COUNTIF($X16:AM16,$I16+N($J16))<$K16,$I16+N($J16),0)","v":0},{"$f":"IF(COUNTIF($X16:AN16,$I16+N($J16))<$K16,$I16+N($J16),0)","v":0},{"$f":"IF(COUNTIF($X16:AO16,$I16+N($J16))<$K16,$I16+N($J16),0)","v":0},{"$f":"IF(COUNTIF($X16:AP16,$I16+N($J16))<$K16,$I16+N($J16),0)","v":0},{"$f":"IF(COUNTIF($X16:AQ16,$I16+N($J16))<$K16,$I16+N($J16),0)","v":0},{"$f":"IF(COUNTIF($X16:AR16,$I16+N($J16))<$K16,$I16+N($J16),0)","v":0},{"$f":"IF(COUNTIF($X16:AS16,$I16+N($J16))<$K16,$I16+N($J16),0)","v":0},{"$f":"IF(COUNTIF($X16:AT16,$I16+N($J16))<$K16,$I16+N($J16),0)","v":0},{"$f":"IF(COUNTIF($X16:AU16,$I16+N($J16))<$K16,$I16+N($J16),0)","v":0},{"$f":"IF(COUNTIF($X16:AV16,$I16+N($J16))<$K16,$I16+N($J16),0)","v":0},{"$f":"IF(COUNTIF($X16:AW16,$I16+N($J16))<$K16,$I16+N($J16),0)","v":0},{"$f":"IF(COUNTIF($X16:AX16,$I16+N($J16))<$K16,$I16+N($J16),0)","v":0},{"$f":"IF(COUNTIF($X16:AY16,$I16+N($J16))<$K16,$I16+N($J16),0)","v":0},{"$f":"IF(COUNTIF($X16:AZ16,$I16+N($J16))<$K16,$I16+N($J16),0)","v":0},{"$f":"IF(COUNTIF($X16:BA16,$I16+N($J16))<$K16,$I16+N($J16),0)","v":0},{"$f":"IF(COUNTIF($X16:BB16,$I16+N($J16))<$K16,$I16+N($J16),0)","v":0},{"$f":"IF(COUNTIF($X16:BC16,$I16+N($J16))<$K16,$I16+N($J16),0)","v":0},{"$f":"IF(COUNTIF($X16:BD16,$I16+N($J16))<$K16,$I16+N($J16),0)","v":0},{"$f":"IF(COUNTIF($X16:BE16,$I16+N($J16))<$K16,$I16+N($J16),0)","v":0},{"$f":"IF(COUNTIF($X16:BF16,$I16+N($J16))<$K16,$I16+N($J16),0)","v":0},{"$f":"IF(COUNTIF($X16:BG16,$I16+N($J16))<$K16,$I16+N($J16),0)","v":0},{"$f":"IF(COUNTIF($X16:BH16,$I16+N($J16))<$K16,$I16+N($J16),0)","v":0},{"$f":"IF(COUNTIF($X16:BI16,$I16+N($J16))<$K16,$I16+N($J16),0)","v":0},{"$f":"IF(COUNTIF($X16:BJ16,$I16+N($J16))<$K16,$I16+N($J16),0)","v":0},{"$f":"IF(COUNTIF($X16:BK16,$I16+N($J16))<$K16,$I16+N($J16),0)","v":0},{"$f":"IF(COUNTIF($X16:BL16,$I16+N($J16))<$K16,$I16+N($J16),0)","v":0},{"$f":"IF(COUNTIF($X16:BM16,$I16+N($J16))<$K16,$I16+N($J16),0)","v":0},{"$f":"IF(COUNTIF($X16:BN16,$I16+N($J16))<$K16,$I16+N($J16),0)","v":0},{"$f":"IF(COUNTIF($X16:BO16,$I16+N($J16))<$K16,$I16+N($J16),0)","v":0},{"$f":"IF(COUNTIF($X16:BP16,$I16+N($J16))<$K16,$I16+N($J16),0)","v":0},{"$f":"IF(COUNTIF($X16:BQ16,$I16+N($J16))<$K16,$I16+N($J16),0)","v":0},{"$f":"IF(COUNTIF($X16:BR16,$I16+N($J16))<$K16,$I16+N($J16),0)","v":0},{"$f":"IF(COUNTIF($X16:BS16,$I16+N($J16))<$K16,$I16+N($J16),0)","v":0},{"$f":"IF(COUNTIF($X16:BT16,$I16+N($J16))<$K16,$I16+N($J16),0)","v":0},-0.3]
[null,{"$f":"'8-Cost by Measure'!B20","v":6},{"$f":"IF('8-Cost by Measure'!C20=0,\"\",'8-Cost by Measure'!C20)","v":""},null,null,null,"",null,null,{"$f":"IF(C17=\"\",\"\",(D17*10*'6-Energy Rates'!$C$14)+(E17*'6-Energy Rates'!$C$12))","v":""},null,{"$f":"IF(N(J17)=0,0,'8-Cost by Measure'!Q20/J17)","v":0},"",{"$f":"IF(N(J17)=0,0,-PV($D$35,K17,J17)-'8-Cost by Measure'!Q20)","v":0},0,"Y/N",null,null,{"$error":"#N/A"},{"$error":"#N/A"},{"$error":"#N/A"},null,{"$f":"-'8-Cost by Measure'!Q20","v":0},0,0,{"$f":"IF(COUNTIF($X17:Y17,$I17+N($J17))<$K17,$I17+N($J17),0)","v":0},{"$f":"IF(COUNTIF($X17:Z17,$I17+N($J17))<$K17,$I17+N($J17),0)","v":0},{"$f":"IF(COUNTIF($X17:AA17,$I17+N($J17))<$K17,$I17+N($J17),0)","v":0},{"$f":"IF(COUNTIF($X17:AB17,$I17+N($J17))<$K17,$I17+N($J17),0)","v":0},{"$f":"IF(COUNTIF($X17:AC17,$I17+N($J17))<$K17,$I17+N($J17),0)","v":0},{"$f":"IF(COUNTIF($X17:AD17,$I17+N($J17))<$K17,$I17+N($J17),0)","v":0},{"$f":"IF(COUNTIF($X17:AE17,$I17+N($J17))<$K17,$I17+N($J17),0)","v":0},{"$f":"IF(COUNTIF($X17:AF17,$I17+N($J17))<$K17,$I17+N($J17),0)","v":0},{"$f":"IF(COUNTIF($X17:AG17,$I17+N($J17))<$K17,$I17+N($J17),0)","v":0},{"$f":"IF(COUNTIF($X17:AH17,$I17+N($J17))<$K17,$I17+N($J17),0)","v":0},{"$f":"IF(COUNTIF($X17:AI17,$I17+N($J17))<$K17,$I17+N($J17),0)","v":0},{"$f":"IF(COUNTIF($X17:AJ17,$I17+N($J17))<$K17,$I17+N($J17),0)","v":0},{"$f":"IF(COUNTIF($X17:AK17,$I17+N($J17))<$K17,$I17+N($J17),0)","v":0},{"$f":"IF(COUNTIF($X17:AL17,$I17+N($J17))<$K17,$I17+N($J17),0)","v":0},{"$f":"IF(COUNTIF($X17:AM17,$I17+N($J17))<$K17,$I17+N($J17),0)","v":0},{"$f":"IF(COUNTIF($X17:AN17,$I17+N($J17))<$K17,$I17+N($J17),0)","v":0},{"$f":"IF(COUNTIF($X17:AO17,$I17+N($J17))<$K17,$I17+N($J17),0)","v":0},{"$f":"IF(COUNTIF($X17:AP17,$I17+N($J17))<$K17,$I17+N($J17),0)","v":0},{"$f":"IF(COUNTIF($X17:AQ17,$I17+N($J17))<$K17,$I17+N($J17),0)","v":0},{"$f":"IF(COUNTIF($X17:AR17,$I17+N($J17))<$K17,$I17+N($J17),0)","v":0},{"$f":"IF(COUNTIF($X17:AS17,$I17+N($J17))<$K17,$I17+N($J17),0)","v":0},{"$f":"IF(COUNTIF($X17:AT17,$I17+N($J17))<$K17,$I17+N($J17),0)","v":0},{"$f":"IF(COUNTIF($X17:AU17,$I17+N($J17))<$K17,$I17+N($J17),0)","v":0},{"$f":"IF(COUNTIF($X17:AV17,$I17+N($J17))<$K17,$I17+N($J17),0)","v":0},{"$f":"IF(COUNTIF($X17:AW17,$I17+N($J17))<$K17,$I17+N($J17),0)","v":0},{"$f":"IF(COUNTIF($X17:AX17,$I17+N($J17))<$K17,$I17+N($J17),0)","v":0},{"$f":"IF(COUNTIF($X17:AY17,$I17+N($J17))<$K17,$I17+N($J17),0)","v":0},{"$f":"IF(COUNTIF($X17:AZ17,$I17+N($J17))<$K17,$I17+N($J17),0)","v":0},{"$f":"IF(COUNTIF($X17:BA17,$I17+N($J17))<$K17,$I17+N($J17),0)","v":0},{"$f":"IF(COUNTIF($X17:BB17,$I17+N($J17))<$K17,$I17+N($J17),0)","v":0},{"$f":"IF(COUNTIF($X17:BC17,$I17+N($J17))<$K17,$I17+N($J17),0)","v":0},{"$f":"IF(COUNTIF($X17:BD17,$I17+N($J17))<$K17,$I17+N($J17),0)","v":0},{"$f":"IF(COUNTIF($X17:BE17,$I17+N($J17))<$K17,$I17+N($J17),0)","v":0},{"$f":"IF(COUNTIF($X17:BF17,$I17+N($J17))<$K17,$I17+N($J17),0)","v":0},{"$f":"IF(COUNTIF($X17:BG17,$I17+N($J17))<$K17,$I17+N($J17),0)","v":0},{"$f":"IF(COUNTIF($X17:BH17,$I17+N($J17))<$K17,$I17+N($J17),0)","v":0},{"$f":"IF(COUNTIF($X17:BI17,$I17+N($J17))<$K17,$I17+N($J17),0)","v":0},{"$f":"IF(COUNTIF($X17:BJ17,$I17+N($J17))<$K17,$I17+N($J17),0)","v":0},{"$f":"IF(COUNTIF($X17:BK17,$I17+N($J17))<$K17,$I17+N($J17),0)","v":0},{"$f":"IF(COUNTIF($X17:BL17,$I17+N($J17))<$K17,$I17+N($J17),0)","v":0},{"$f":"IF(COUNTIF($X17:BM17,$I17+N($J17))<$K17,$I17+N($J17),0)","v":0},{"$f":"IF(COUNTIF($X17:BN17,$I17+N($J17))<$K17,$I17+N($J17),0)","v":0},{"$f":"IF(COUNTIF($X17:BO17,$I17+N($J17))<$K17,$I17+N($J17),0)","v":0},{"$f":"IF(COUNTIF($X17:BP17,$I17+N($J17))<$K17,$I17+N($J17),0)","v":0},{"$f":"IF(COUNTIF($X17:BQ17,$I17+N($J17))<$K17,$I17+N($J17),0)","v":0},{"$f":"IF(COUNTIF($X17:BR17,$I17+N($J17))<$K17,$I17+N($J17),0)","v":0},{"$f":"IF(COUNTIF($X17:BS17,$I17+N($J17))<$K17,$I17+N($J17),0)","v":0},{"$f":"IF(COUNTIF($X17:BT17,$I17+N($J17))<$K17,$I17+N($J17),0)","v":0},-0.3]
[null,{"$f":"'8-Cost by Measure'!B21","v":7},{"$f":"IF('8-Cost by Measure'!C21=0,\"\",'8-Cost by Measure'!C21)","v":""},null,null,null,"",null,null,{"$f":"IF(C18=\"\",\"\",(D18*10*'6-Energy Rates'!$C$14)+(E18*'6-Energy Rates'!$C$12))","v":""},null,{"$f":"IF(N(J18)=0,0,'8-Cost by Measure'!Q21/J18)","v":0},"",{"$f":"IF(N(J18)=0,0,-PV($D$35,K18,J18)-'8-Cost by Measure'!Q21)","v":0},0,"Y/N",null,null,{"$error":"#N/A"},{"$error":"#N/A"},{"$error":"#N/A"},null,{"$f":"-'8-Cost by Measure'!Q21","v":0},0,0,{"$f":"IF(COUNTIF($X18:Y18,$I18+N($J18))<$K18,$I18+N($J18),0)","v":0},{"$f":"IF(COUNTIF($X18:Z18,$I18+N($J18))<$K18,$I18+N($J18),0)","v":0},{"$f":"IF(COUNTIF($X18:AA18,$I18+N($J18))<$K18,$I18+N($J18),0)","v":0},{"$f":"IF(COUNTIF($X18:AB18,$I18+N($J18))<$K18,$I18+N($J18),0)","v":0},{"$f":"IF(COUNTIF($X18:AC18,$I18+N($J18))<$K18,$I18+N($J18),0)","v":0},{"$f":"IF(COUNTIF($X18:AD18,$I18+N($J18))<$K18,$I18+N($J18),0)","v":0},{"$f":"IF(COUNTIF($X18:AE18,$I18+N($J18))<$K18,$I18+N($J18),0)","v":0},{"$f":"IF(COUNTIF($X18:AF18,$I18+N($J18))<$K18,$I18+N($J18),0)","v":0},{"$f":"IF(COUNTIF($X18:AG18,$I18+N($J18))<$K18,$I18+N($J18),0)","v":0},{"$f":"IF(COUNTIF($X18:AH18,$I18+N($J18))<$K18,$I18+N($J18),0)","v":0},{"$f":"IF(COUNTIF($X18:AI18,$I18+N($J18))<$K18,$I18+N($J18),0)","v":0},{"$f":"IF(COUNTIF($X18:AJ18,$I18+N($J18))<$K18,$I18+N($J18),0)","v":0},{"$f":"IF(COUNTIF($X18:AK18,$I18+N($J18))<$K18,$I18+N($J18),0)","v":0},{"$f":"IF(COUNTIF($X18:AL18,$I18+N($J18))<$K18,$I18+N($J18),0)","v":0},{"$f":"IF(COUNTIF($X18:AM18,$I18+N($J18))<$K18,$I18+N($J18),0)","v":0},{"$f":"IF(COUNTIF($X18:AN18,$I18+N($J18))<$K18,$I18+N($J18),0)","v":0},{"$f":"IF(COUNTIF($X18:AO18,$I18+N($J18))<$K18,$I18+N($J18),0)","v":0},{"$f":"IF(COUNTIF($X18:AP18,$I18+N($J18))<$K18,$I18+N($J18),0)","v":0},{"$f":"IF(COUNTIF($X18:AQ18,$I18+N($J18))<$K18,$I18+N($J18),0)","v":0},{"$f":"IF(COUNTIF($X18:AR18,$I18+N($J18))<$K18,$I18+N($J18),0)","v":0},{"$f":"IF(COUNTIF($X18:AS18,$I18+N($J18))<$K18,$I18+N($J18),0)","v":0},{"$f":"IF(COUNTIF($X18:AT18,$I18+N($J18))<$K18,$I18+N($J18),0)","v":0},{"$f":"IF(COUNTIF($X18:AU18,$I18+N($J18))<$K18,$I18+N($J18),0)","v":0},{"$f":"IF(COUNTIF($X18:AV18,$I18+N($J18))<$K18,$I18+N($J18),0)","v":0},{"$f":"IF(COUNTIF($X18:AW18,$I18+N($J18))<$K18,$I18+N($J18),0)","v":0},{"$f":"IF(COUNTIF($X18:AX18,$I18+N($J18))<$K18,$I18+N($J18),0)","v":0},{"$f":"IF(COUNTIF($X18:AY18,$I18+N($J18))<$K18,$I18+N($J18),0)","v":0},{"$f":"IF(COUNTIF($X18:AZ18,$I18+N($J18))<$K18,$I18+N($J18),0)","v":0},{"$f":"IF(COUNTIF($X18:BA18,$I18+N($J18))<$K18,$I18+N($J18),0)","v":0},{"$f":"IF(COUNTIF($X18:BB18,$I18+N($J18))<$K18,$I18+N($J18),0)","v":0},{"$f":"IF(COUNTIF($X18:BC18,$I18+N($J18))<$K18,$I18+N($J18),0)","v":0},{"$f":"IF(COUNTIF($X18:BD18,$I18+N($J18))<$K18,$I18+N($J18),0)","v":0},{"$f":"IF(COUNTIF($X18:BE18,$I18+N($J18))<$K18,$I18+N($J18),0)","v":0},{"$f":"IF(COUNTIF($X18:BF18,$I18+N($J18))<$K18,$I18+N($J18),0)","v":0},{"$f":"IF(COUNTIF($X18:BG18,$I18+N($J18))<$K18,$I18+N($J18),0)","v":0},{"$f":"IF(COUNTIF($X18:BH18,$I18+N($J18))<$K18,$I18+N($J18),0)","v":0},{"$f":"IF(COUNTIF($X18:BI18,$I18+N($J18))<$K18,$I18+N($J18),0)","v":0},{"$f":"IF(COUNTIF($X18:BJ18,$I18+N($J18))<$K18,$I18+N($J18),0)","v":0},{"$f":"IF(COUNTIF($X18:BK18,$I18+N($J18))<$K18,$I18+N($J18),0)","v":0},{"$f":"IF(COUNTIF($X18:BL18,$I18+N($J18))<$K18,$I18+N($J18),0)","v":0},{"$f":"IF(COUNTIF($X18:BM18,$I18+N($J18))<$K18,$I18+N($J18),0)","v":0},{"$f":"IF(COUNTIF($X18:BN18,$I18+N($J18))<$K18,$I18+N($J18),0)","v":0},{"$f":"IF(COUNTIF($X18:BO18,$I18+N($J18))<$K18,$I18+N($J18),0)","v":0},{"$f":"IF(COUNTIF($X18:BP18,$I18+N($J18))<$K18,$I18+N($J18),0)","v":0},{"$f":"IF(COUNTIF($X18:BQ18,$I18+N($J18))<$K18,$I18+N($J18),0)","v":0},{"$f":"IF(COUNTIF($X18:BR18,$I18+N($J18))<$K18,$I18+N($J18),0)","v":0},{"$f":"IF(COUNTIF($X18:BS18,$I18+N($J18))<$K18,$I18+N($J18),0)","v":0},{"$f":"IF(COUNTIF($X18:BT18,$I18+N($J18))<$K18,$I18+N($J18),0)","v":0},-0.3]
[null,{"$f":"'8-Cost by Measure'!B22","v":8},{"$f":"IF('8-Cost by Measure'!C22=0,\"\",'8-Cost by Measure'!C22)","v":""},null,null,null,"",null,null,{"$f":"IF(C19=\"\",\"\",(D19*10*'6-Energy Rates'!$C$14)+(E19*'6-Energy Rates'!$C$12))","v":""},null,{"$f":"IF(N(J19)=0,0,'8-Cost by Measure'!Q22/J19)","v":0},"",{"$f":"IF(N(J19)=0,0,-PV($D$35,K19,J19)-'8-Cost by Measure'!Q22)","v":0},0,"Y/N",null,null,{"$error":"#N/A"},{"$error":"#N/A"},{"$error":"#N/A"},null,{"$f":"-'8-Cost by Measure'!Q22","v":0},0,0,{"$f":"IF(COUNTIF($X19:Y19,$I19+N($J19))<$K19,$I19+N($J19),0)","v":0},{"$f":"IF(COUNTIF($X19:Z19,$I19+N($J19))<$K19,$I19+N($J19),0)","v":0},{"$f":"IF(COUNTIF($X19:AA19,$I19+N($J19))<$K19,$I19+N($J19),0)","v":0},{"$f":"IF(COUNTIF($X19:AB19,$I19+N($J19))<$K19,$I19+N($J19),0)","v":0},{"$f":"IF(COUNTIF($X19:AC19,$I19+N($J19))<$K19,$I19+N($J19),0)","v":0},{"$f":"IF(COUNTIF($X19:AD19,$I19+N($J19))<$K19,$I19+N($J19),0)","v":0},{"$f":"IF(COUNTIF($X19:AE19,$I19+N($J19))<$K19,$I19+N($J19),0)","v":0},{"$f":"IF(COUNTIF($X19:AF19,$I19+N($J19))<$K19,$I19+N($J19),0)","v":0},{"$f":"IF(COUNTIF($X19:AG19,$I19+N($J19))<$K19,$I19+N($J19),0)","v":0},{"$f":"IF(COUNTIF($X19:AH19,$I19+N($J19))<$K19,$I19+N($J19),0)","v":0},{"$f":"IF(COUNTIF($X19:AI19,$I19+N($J19))<$K19,$I19+N($J19),0)","v":0},{"$f":"IF(COUNTIF($X19:AJ19,$I19+N($J19))<$K19,$I19+N($J19),0)","v":0},{"$f":"IF(COUNTIF($X19:AK19,$I19+N($J19))<$K19,$I19+N($J19),0)","v":0},{"$f":"IF(COUNTIF($X19:AL19,$I19+N($J19))<$K19,$I19+N($J19),0)","v":0},{"$f":"IF(COUNTIF($X19:AM19,$I19+N($J19))<$K19,$I19+N($J19),0)","v":0},{"$f":"IF(COUNTIF($X19:AN19,$I19+N($J19))<$K19,$I19+N($J19),0)","v":0},{"$f":"IF(COUNTIF($X19:AO19,$I19+N($J19))<$K19,$I19+N($J19),0)","v":0},{"$f":"IF(COUNTIF($X19:AP19,$I19+N($J19))<$K19,$I19+N($J19),0)","v":0},{"$f":"IF(COUNTIF($X19:AQ19,$I19+N($J19))<$K19,$I19+N($J19),0)","v":0},{"$f":"IF(COUNTIF($X19:AR19,$I19+N($J19))<$K19,$I19+N($J19),0)","v":0},{"$f":"IF(COUNTIF($X19:AS19,$I19+N($J19))<$K19,$I19+N($J19),0)","v":0},{"$f":"IF(COUNTIF($X19:AT19,$I19+N($J19))<$K19,$I19+N($J19),0)","v":0},{"$f":"IF(COUNTIF($X19:AU19,$I19+N($J19))<$K19,$I19+N($J19),0)","v":0},{"$f":"IF(COUNTIF($X19:AV19,$I19+N($J19))<$K19,$I19+N($J19),0)","v":0},{"$f":"IF(COUNTIF($X19:AW19,$I19+N($J19))<$K19,$I19+N($J19),0)","v":0},{"$f":"IF(COUNTIF($X19:AX19,$I19+N($J19))<$K19,$I19+N($J19),0)","v":0},{"$f":"IF(COUNTIF($X19:AY19,$I19+N($J19))<$K19,$I19+N($J19),0)","v":0},{"$f":"IF(COUNTIF($X19:AZ19,$I19+N($J19))<$K19,$I19+N($J19),0)","v":0},{"$f":"IF(COUNTIF($X19:BA19,$I19+N($J19))<$K19,$I19+N($J19),0)","v":0},{"$f":"IF(COUNTIF($X19:BB19,$I19+N($J19))<$K19,$I19+N($J19),0)","v":0},{"$f":"IF(COUNTIF($X19:BC19,$I19+N($J19))<$K19,$I19+N($J19),0)","v":0},{"$f":"IF(COUNTIF($X19:BD19,$I19+N($J19))<$K19,$I19+N($J19),0)","v":0},{"$f":"IF(COUNTIF($X19:BE19,$I19+N($J19))<$K19,$I19+N($J19),0)","v":0},{"$f":"IF(COUNTIF($X19:BF19,$I19+N($J19))<$K19,$I19+N($J19),0)","v":0},{"$f":"IF(COUNTIF($X19:BG19,$I19+N($J19))<$K19,$I19+N($J19),0)","v":0},{"$f":"IF(COUNTIF($X19:BH19,$I19+N($J19))<$K19,$I19+N($J19),0)","v":0},{"$f":"IF(COUNTIF($X19:BI19,$I19+N($J19))<$K19,$I19+N($J19),0)","v":0},{"$f":"IF(COUNTIF($X19:BJ19,$I19+N($J19))<$K19,$I19+N($J19),0)","v":0},{"$f":"IF(COUNTIF($X19:BK19,$I19+N($J19))<$K19,$I19+N($J19),0)","v":0},{"$f":"IF(COUNTIF($X19:BL19,$I19+N($J19))<$K19,$I19+N($J19),0)","v":0},{"$f":"IF(COUNTIF($X19:BM19,$I19+N($J19))<$K19,$I19+N($J19),0)","v":0},{"$f":"IF(COUNTIF($X19:BN19,$I19+N($J19))<$K19,$I19+N($J19),0)","v":0},{"$f":"IF(COUNTIF($X19:BO19,$I19+N($J19))<$K19,$I19+N($J19),0)","v":0},{"$f":"IF(COUNTIF($X19:BP19,$I19+N($J19))<$K19,$I19+N($J19),0)","v":0},{"$f":"IF(COUNTIF($X19:BQ19,$I19+N($J19))<$K19,$I19+N($J19),0)","v":0},{"$f":"IF(COUNTIF($X19:BR19,$I19+N($J19))<$K19,$I19+N($J19),0)","v":0},{"$f":"IF(COUNTIF($X19:BS19,$I19+N($J19))<$K19,$I19+N($J19),0)","v":0},{"$f":"IF(COUNTIF($X19:BT19,$I19+N($J19))<$K19,$I19+N($J19),0)","v":0},-0.3]
[null,{"$f":"'8-Cost by Measure'!B23","v":9},{"$f":"IF('8-Cost by Measure'!C23=0,\"\",'8-Cost by Measure'!C23)","v":""},null,null,null,"",null,null,{"$f":"IF(C20=\"\",\"\",(D20*10*'6-Energy Rates'!$C$14)+(E20*'6-Energy Rates'!$C$12))","v":""},null,{"$f":"IF(N(J20)=0,0,'8-Cost by Measure'!Q23/J20)","v":0},"",{"$f":"IF(N(J20)=0,0,-PV($D$35,K20,J20)-'8-Cost by Measure'!Q23)","v":0},0,"Y/N",null,null,{"$error":"#N/A"},{"$error":"#N/A"},{"$error":"#N/A"},null,{"$f":"-'8-Cost by Measure'!Q23","v":0},0,0,{"$f":"IF(COUNTIF($X20:Y20,$I20+N($J20))<$K20,$I20+N($J20),0)","v":0},{"$f":"IF(COUNTIF($X20:Z20,$I20+N($J20))<$K20,$I20+N($J20),0)","v":0},{"$f":"IF(COUNTIF($X20:AA20,$I20+N($J20))<$K20,$I20+N($J20),0)","v":0},{"$f":"IF(COUNTIF($X20:AB20,$I20+N($J20))<$K20,$I20+N($J20),0)","v":0},{"$f":"IF(COUNTIF($X20:AC20,$I20+N($J20))<$K20,$I20+N($J20),0)","v":0},{"$f":"IF(COUNTIF($X20:AD20,$I20+N($J20))<$K20,$I20+N($J20),0)","v":0},{"$f":"IF(COUNTIF($X20:AE20,$I20+N($J20))<$K20,$I20+N($J20),0)","v":0},{"$f":"IF(COUNTIF($X20:AF20,$I20+N($J20))<$K20,$I20+N($J20),0)","v":0},{"$f":"IF(COUNTIF($X20:AG20,$I20+N($J20))<$K20,$I20+N($J20),0)","v":0},{"$f":"IF(COUNTIF($X20:AH20,$I20+N($J20))<$K20,$I20+N($J20),0)","v":0},{"$f":"IF(COUNTIF($X20:AI20,$I20+N($J20))<$K20,$I20+N($J20),0)","v":0},{"$f":"IF(COUNTIF($X20:AJ20,$I20+N($J20))<$K20,$I20+N($J20),0)","v":0},{"$f":"IF(COUNTIF($X20:AK20,$I20+N($J20))<$K20,$I20+N($J20),0)","v":0},{"$f":"IF(COUNTIF($X20:AL20,$I20+N($J20))<$K20,$I20+N($J20),0)","v":0},{"$f":"IF(COUNTIF($X20:AM20,$I20+N($J20))<$K20,$I20+N($J20),0)","v":0},{"$f":"IF(COUNTIF($X20:AN20,$I20+N($J20))<$K20,$I20+N($J20),0)","v":0},{"$f":"IF(COUNTIF($X20:AO20,$I20+N($J20))<$K20,$I20+N($J20),0)","v":0},{"$f":"IF(COUNTIF($X20:AP20,$I20+N($J20))<$K20,$I20+N($J20),0)","v":0},{"$f":"IF(COUNTIF($X20:AQ20,$I20+N($J20))<$K20,$I20+N($J20),0)","v":0},{"$f":"IF(COUNTIF($X20:AR20,$I20+N($J20))<$K20,$I20+N($J20),0)","v":0},{"$f":"IF(COUNTIF($X20:AS20,$I20+N($J20))<$K20,$I20+N($J20),0)","v":0},{"$f":"IF(COUNTIF($X20:AT20,$I20+N($J20))<$K20,$I20+N($J20),0)","v":0},{"$f":"IF(COUNTIF($X20:AU20,$I20+N($J20))<$K20,$I20+N($J20),0)","v":0},{"$f":"IF(COUNTIF($X20:AV20,$I20+N($J20))<$K20,$I20+N($J20),0)","v":0},{"$f":"IF(COUNTIF($X20:AW20,$I20+N($J20))<$K20,$I20+N($J20),0)","v":0},{"$f":"IF(COUNTIF($X20:AX20,$I20+N($J20))<$K20,$I20+N($J20),0)","v":0},{"$f":"IF(COUNTIF($X20:AY20,$I20+N($J20))<$K20,$I20+N($J20),0)","v":0},{"$f":"IF(COUNTIF($X20:AZ20,$I20+N($J20))<$K20,$I20+N($J20),0)","v":0},{"$f":"IF(COUNTIF($X20:BA20,$I20+N($J20))<$K20,$I20+N($J20),0)","v":0},{"$f":"IF(COUNTIF($X20:BB20,$I20+N($J20))<$K20,$I20+N($J20),0)","v":0},{"$f":"IF(COUNTIF($X20:BC20,$I20+N($J20))<$K20,$I20+N($J20),0)","v":0},{"$f":"IF(COUNTIF($X20:BD20,$I20+N($J20))<$K20,$I20+N($J20),0)","v":0},{"$f":"IF(COUNTIF($X20:BE20,$I20+N($J20))<$K20,$I20+N($J20),0)","v":0},{"$f":"IF(COUNTIF($X20:BF20,$I20+N($J20))<$K20,$I20+N($J20),0)","v":0},{"$f":"IF(COUNTIF($X20:BG20,$I20+N($J20))<$K20,$I20+N($J20),0)","v":0},{"$f":"IF(COUNTIF($X20:BH20,$I20+N($J20))<$K20,$I20+N($J20),0)","v":0},{"$f":"IF(COUNTIF($X20:BI20,$I20+N($J20))<$K20,$I20+N($J20),0)","v":0},{"$f":"IF(COUNTIF($X20:BJ20,$I20+N($J20))<$K20,$I20+N($J20),0)","v":0},{"$f":"IF(COUNTIF($X20:BK20,$I20+N($J20))<$K20,$I20+N($J20),0)","v":0},{"$f":"IF(COUNTIF($X20:BL20,$I20+N($J20))<$K20,$I20+N($J20),0)","v":0},{"$f":"IF(COUNTIF($X20:BM20,$I20+N($J20))<$K20,$I20+N($J20),0)","v":0},{"$f":"IF(COUNTIF($X20:BN20,$I20+N($J20))<$K20,$I20+N($J20),0)","v":0},{"$f":"IF(COUNTIF($X20:BO20,$I20+N($J20))<$K20,$I20+N($J20),0)","v":0},{"$f":"IF(COUNTIF($X20:BP20,$I20+N($J20))<$K20,$I20+N($J20),0)","v":0},{"$f":"IF(COUNTIF($X20:BQ20,$I20+N($J20))<$K20,$I20+N($J20),0)","v":0},{"$f":"IF(COUNTIF($X20:BR20,$I20+N($J20))<$K20,$I20+N($J20),0)","v":0},{"$f":"IF(COUNTIF($X20:BS20,$I20+N($J20))<$K20,$I20+N($J20),0)","v":0},{"$f":"IF(COUNTIF($X20:BT20,$I20+N($J20))<$K20,$I20+N($J20),0)","v":0},-0.3]
[null,{"$f":"'8-Cost by Measure'!B24","v":10},{"$f":"IF('8-Cost by Measure'!C24=0,\"\",'8-Cost by Measure'!C24)","v":""},null,null,null,"",null,null,{"$f":"IF(C21=\"\",\"\",(D21*10*'6-Energy Rates'!$C$14)+(E21*'6-Energy Rates'!$C$12))","v":""},null,{"$f":"IF(N(J21)=0,0,'8-Cost by Measure'!Q24/J21)","v":0},"",{"$f":"IF(N(J21)=0,0,-PV($D$35,K21,J21)-'8-Cost by Measure'!Q24)","v":0},0,"Y/N",null,null,{"$error":"#N/A"},{"$error":"#N/A"},{"$error":"#N/A"},null,{"$f":"-'8-Cost by Measure'!Q24","v":0},0,0,{"$f":"IF(COUNTIF($X21:Y21,$I21+N($J21))<$K21,$I21+N($J21),0)","v":0},{"$f":"IF(COUNTIF($X21:Z21,$I21+N($J21))<$K21,$I21+N($J21),0)","v":0},{"$f":"IF(COUNTIF($X21:AA21,$I21+N($J21))<$K21,$I21+N($J21),0)","v":0},{"$f":"IF(COUNTIF($X21:AB21,$I21+N($J21))<$K21,$I21+N($J21),0)","v":0},{"$f":"IF(COUNTIF($X21:AC21,$I21+N($J21))<$K21,$I21+N($J21),0)","v":0},{"$f":"IF(COUNTIF($X21:AD21,$I21+N($J21))<$K21,$I21+N($J21),0)","v":0},{"$f":"IF(COUNTIF($X21:AE21,$I21+N($J21))<$K21,$I21+N($J21),0)","v":0},{"$f":"IF(COUNTIF($X21:AF21,$I21+N($J21))<$K21,$I21+N($J21),0)","v":0},{"$f":"IF(COUNTIF($X21:AG21,$I21+N($J21))<$K21,$I21+N($J21),0)","v":0},{"$f":"IF(COUNTIF($X21:AH21,$I21+N($J21))<$K21,$I21+N($J21),0)","v":0},{"$f":"IF(COUNTIF($X21:AI21,$I21+N($J21))<$K21,$I21+N($J21),0)","v":0},{"$f":"IF(COUNTIF($X21:AJ21,$I21+N($J21))<$K21,$I21+N($J21),0)","v":0},{"$f":"IF(COUNTIF($X21:AK21,$I21+N($J21))<$K21,$I21+N($J21),0)","v":0},{"$f":"IF(COUNTIF($X21:AL21,$I21+N($J21))<$K21,$I21+N($J21),0)","v":0},{"$f":"IF(COUNTIF($X21:AM21,$I21+N($J21))<$K21,$I21+N($J21),0)","v":0},{"$f":"IF(COUNTIF($X21:AN21,$I21+N($J21))<$K21,$I21+N($J21),0)","v":0},{"$f":"IF(COUNTIF($X21:AO21,$I21+N($J21))<$K21,$I21+N($J21),0)","v":0},{"$f":"IF(COUNTIF($X21:AP21,$I21+N($J21))<$K21,$I21+N($J21),0)","v":0},{"$f":"IF(COUNTIF($X21:AQ21,$I21+N($J21))<$K21,$I21+N($J21),0)","v":0},{"$f":"IF(COUNTIF($X21:AR21,$I21+N($J21))<$K21,$I21+N($J21),0)","v":0},{"$f":"IF(COUNTIF($X21:AS21,$I21+N($J21))<$K21,$I21+N($J21),0)","v":0},{"$f":"IF(COUNTIF($X21:AT21,$I21+N($J21))<$K21,$I21+N($J21),0)","v":0},{"$f":"IF(COUNTIF($X21:AU21,$I21+N($J21))<$K21,$I21+N($J21),0)","v":0},{"$f":"IF(COUNTIF($X21:AV21,$I21+N($J21))<$K21,$I21+N($J21),0)","v":0},{"$f":"IF(COUNTIF($X21:AW21,$I21+N($J21))<$K21,$I21+N($J21),0)","v":0},{"$f":"IF(COUNTIF($X21:AX21,$I21+N($J21))<$K21,$I21+N($J21),0)","v":0},{"$f":"IF(COUNTIF($X21:AY21,$I21+N($J21))<$K21,$I21+N($J21),0)","v":0},{"$f":"IF(COUNTIF($X21:AZ21,$I21+N($J21))<$K21,$I21+N($J21),0)","v":0},{"$f":"IF(COUNTIF($X21:BA21,$I21+N($J21))<$K21,$I21+N($J21),0)","v":0},{"$f":"IF(COUNTIF($X21:BB21,$I21+N($J21))<$K21,$I21+N($J21),0)","v":0},{"$f":"IF(COUNTIF($X21:BC21,$I21+N($J21))<$K21,$I21+N($J21),0)","v":0},{"$f":"IF(COUNTIF($X21:BD21,$I21+N($J21))<$K21,$I21+N($J21),0)","v":0},{"$f":"IF(COUNTIF($X21:BE21,$I21+N($J21))<$K21,$I21+N($J21),0)","v":0},{"$f":"IF(COUNTIF($X21:BF21,$I21+N($J21))<$K21,$I21+N($J21),0)","v":0},{"$f":"IF(COUNTIF($X21:BG21,$I21+N($J21))<$K21,$I21+N($J21),0)","v":0},{"$f":"IF(COUNTIF($X21:BH21,$I21+N($J21))<$K21,$I21+N($J21),0)","v":0},{"$f":"IF(COUNTIF($X21:BI21,$I21+N($J21))<$K21,$I21+N($J21),0)","v":0},{"$f":"IF(COUNTIF($X21:BJ21,$I21+N($J21))<$K21,$I21+N($J21),0)","v":0},{"$f":"IF(COUNTIF($X21:BK21,$I21+N($J21))<$K21,$I21+N($J21),0)","v":0},{"$f":"IF(COUNTIF($X21:BL21,$I21+N($J21))<$K21,$I21+N($J21),0)","v":0},{"$f":"IF(COUNTIF($X21:BM21,$I21+N($J21))<$K21,$I21+N($J21),0)","v":0},{"$f":"IF(COUNTIF($X21:BN21,$I21+N($J21))<$K21,$I21+N($J21),0)","v":0},{"$f":"IF(COUNTIF($X21:BO21,$I21+N($J21))<$K21,$I21+N($J21),0)","v":0},{"$f":"IF(COUNTIF($X21:BP21,$I21+N($J21))<$K21,$I21+N($J21),0)","v":0},{"$f":"IF(COUNTIF($X21:BQ21,$I21+N($J21))<$K21,$I21+N($J21),0)","v":0},{"$f":"IF(COUNTIF($X21:BR21,$I21+N($J21))<$K21,$I21+N($J21),0)","v":0},{"$f":"IF(COUNTIF($X21:BS21,$I21+N($J21))<$K21,$I21+N($J21),0)","v":0},{"$f":"IF(COUNTIF($X21:BT21,$I21+N($J21))<$K21,$I21+N($J21),0)","v":0},-0.3]
[null,{"$f":"'8-Cost by Measure'!B25","v":11},{"$f":"IF('8-Cost by Measure'!C25=0,\"\",'8-Cost by Measure'!C25)","v":""},null,null,null,"",null,null,{"$f":"IF(C22=\"\",\"\",(D22*10*'6-Energy Rates'!$C$14)+(E22*'6-Energy Rates'!$C$12))","v":""},null,{"$f":"IF(N(J22)=0,0,'8-Cost by Measure'!Q25/J22)","v":0},"",{"$f":"IF(N(J22)=0,0,-PV($D$35,K22,J22)-'8-Cost by Measure'!Q25)","v":0},0,"Y/N",null,null,{"$error":"#N/A"},{"$error":"#N/A"},{"$error":"#N/A"},null,{"$f":"-'8-Cost by Measure'!Q25","v":0},0,0,{"$f":"IF(COUNTIF($X22:Y22,$I22+N($J22))<$K22,$I22+N($J22),0)","v":0},{"$f":"IF(COUNTIF($X22:Z22,$I22+N($J22))<$K22,$I22+N($J22),0)","v":0},{"$f":"IF(COUNTIF($X22:AA22,$I22+N($J22))<$K22,$I22+N($J22),0)","v":0},{"$f":"IF(COUNTIF($X22:AB22,$I22+N($J22))<$K22,$I22+N($J22),0)","v":0},{"$f":"IF(COUNTIF($X22:AC22,$I22+N($J22))<$K22,$I22+N($J22),0)","v":0},{"$f":"IF(COUNTIF($X22:AD22,$I22+N($J22))<$K22,$I22+N($J22),0)","v":0},{"$f":"IF(COUNTIF($X22:AE22,$I22+N($J22))<$K22,$I22+N($J22),0)","v":0},{"$f":"IF(COUNTIF($X22:AF22,$I22+N($J22))<$K22,$I22+N($J22),0)","v":0},{"$f":"IF(COUNTIF($X22:AG22,$I22+N($J22))<$K22,$I22+N($J22),0)","v":0},{"$f":"IF(COUNTIF($X22:AH22,$I22+N($J22))<$K22,$I22+N($J22),0)","v":0},{"$f":"IF(COUNTIF($X22:AI22,$I22+N($J22))<$K22,$I22+N($J22),0)","v":0},{"$f":"IF(COUNTIF($X22:AJ22,$I22+N($J22))<$K22,$I22+N($J22),0)","v":0},{"$f":"IF(COUNTIF($X22:AK22,$I22+N($J22))<$K22,$I22+N($J22),0)","v":0},{"$f":"IF(COUNTIF($X22:AL22,$I22+N($J22))<$K22,$I22+N($J22),0)","v":0},{"$f":"IF(COUNTIF($X22:AM22,$I22+N($J22))<$K22,$I22+N($J22),0)","v":0},{"$f":"IF(COUNTIF($X22:AN22,$I22+N($J22))<$K22,$I22+N($J22),0)","v":0},{"$f":"IF(COUNTIF($X22:AO22,$I22+N($J22))<$K22,$I22+N($J22),0)","v":0},{"$f":"IF(COUNTIF($X22:AP22,$I22+N($J22))<$K22,$I22+N($J22),0)","v":0},{"$f":"IF(COUNTIF($X22:AQ22,$I22+N($J22))<$K22,$I22+N($J22),0)","v":0},{"$f":"IF(COUNTIF($X22:AR22,$I22+N($J22))<$K22,$I22+N($J22),0)","v":0},{"$f":"IF(COUNTIF($X22:AS22,$I22+N($J22))<$K22,$I22+N($J22),0)","v":0},{"$f":"IF(COUNTIF($X22:AT22,$I22+N($J22))<$K22,$I22+N($J22),0)","v":0},{"$f":"IF(COUNTIF($X22:AU22,$I22+N($J22))<$K22,$I22+N($J22),0)","v":0},{"$f":"IF(COUNTIF($X22:AV22,$I22+N($J22))<$K22,$I22+N($J22),0)","v":0},{"$f":"IF(COUNTIF($X22:AW22,$I22+N($J22))<$K22,$I22+N($J22),0)","v":0},{"$f":"IF(COUNTIF($X22:AX22,$I22+N($J22))<$K22,$I22+N($J22),0)","v":0},{"$f":"IF(COUNTIF($X22:AY22,$I22+N($J22))<$K22,$I22+N($J22),0)","v":0},{"$f":"IF(COUNTIF($X22:AZ22,$I22+N($J22))<$K22,$I22+N($J22),0)","v":0},{"$f":"IF(COUNTIF($X22:BA22,$I22+N($J22))<$K22,$I22+N($J22),0)","v":0},{"$f":"IF(COUNTIF($X22:BB22,$I22+N($J22))<$K22,$I22+N($J22),0)","v":0},{"$f":"IF(COUNTIF($X22:BC22,$I22+N($J22))<$K22,$I22+N($J22),0)","v":0},{"$f":"IF(COUNTIF($X22:BD22,$I22+N($J22))<$K22,$I22+N($J22),0)","v":0},{"$f":"IF(COUNTIF($X22:BE22,$I22+N($J22))<$K22,$I22+N($J22),0)","v":0},{"$f":"IF(COUNTIF($X22:BF22,$I22+N($J22))<$K22,$I22+N($J22),0)","v":0},{"$f":"IF(COUNTIF($X22:BG22,$I22+N($J22))<$K22,$I22+N($J22),0)","v":0},{"$f":"IF(COUNTIF($X22:BH22,$I22+N($J22))<$K22,$I22+N($J22),0)","v":0},{"$f":"IF(COUNTIF($X22:BI22,$I22+N($J22))<$K22,$I22+N($J22),0)","v":0},{"$f":"IF(COUNTIF($X22:BJ22,$I22+N($J22))<$K22,$I22+N($J22),0)","v":0},{"$f":"IF(COUNTIF($X22:BK22,$I22+N($J22))<$K22,$I22+N($J22),0)","v":0},{"$f":"IF(COUNTIF($X22:BL22,$I22+N($J22))<$K22,$I22+N($J22),0)","v":0},{"$f":"IF(COUNTIF($X22:BM22,$I22+N($J22))<$K22,$I22+N($J22),0)","v":0},{"$f":"IF(COUNTIF($X22:BN22,$I22+N($J22))<$K22,$I22+N($J22),0)","v":0},{"$f":"IF(COUNTIF($X22:BO22,$I22+N($J22))<$K22,$I22+N($J22),0)","v":0},{"$f":"IF(COUNTIF($X22:BP22,$I22+N($J22))<$K22,$I22+N($J22),0)","v":0},{"$f":"IF(COUNTIF($X22:BQ22,$I22+N($J22))<$K22,$I22+N($J22),0)","v":0},{"$f":"IF(COUNTIF($X22:BR22,$I22+N($J22))<$K22,$I22+N($J22),0)","v":0},{"$f":"IF(COUNTIF($X22:BS22,$I22+N($J22))<$K22,$I22+N($J22),0)","v":0},{"$f":"IF(COUNTIF($X22:BT22,$I22+N($J22))<$K22,$I22+N($J22),0)","v":0},-0.3]
[null,{"$f":"'8-Cost by Measure'!B26","v":12},{"$f":"IF('8-Cost by Measure'!C26=0,\"\",'8-Cost by Measure'!C26)","v":""},null,null,null,"",null,null,{"$f":"IF(C23=\"\",\"\",(D23*10*'6-Energy Rates'!$C$14)+(E23*'6-Energy Rates'!$C$12))","v":""},null,{"$f":"IF(N(J23)=0,0,'8-Cost by Measure'!Q26/J23)","v":0},"",{"$f":"IF(N(J23)=0,0,-PV($D$35,K23,J23)-'8-Cost by Measure'!Q26)","v":0},0,"Y/N",null,null,{"$error":"#N/A"},{"$error":"#N/A"},{"$error":"#N/A"},null,{"$f":"-'8-Cost by Measure'!Q26","v":0},0,0,{"$f":"IF(COUNTIF($X23:Y23,$I23+N($J23))<$K23,$I23+N($J23),0)","v":0},{"$f":"IF(COUNTIF($X23:Z23,$I23+N($J23))<$K23,$I23+N($J23),0)","v":0},{"$f":"IF(COUNTIF($X23:AA23,$I23+N($J23))<$K23,$I23+N($J23),0)","v":0},{"$f":"IF(COUNTIF($X23:AB23,$I23+N($J23))<$K23,$I23+N($J23),0)","v":0},{"$f":"IF(COUNTIF($X23:AC23,$I23+N($J23))<$K23,$I23+N($J23),0)","v":0},{"$f":"IF(COUNTIF($X23:AD23,$I23+N($J23))<$K23,$I23+N($J23),0)","v":0},{"$f":"IF(COUNTIF($X23:AE23,$I23+N($J23))<$K23,$I23+N($J23),0)","v":0},{"$f":"IF(COUNTIF($X23:AF23,$I23+N($J23))<$K23,$I23+N($J23),0)","v":0},{"$f":"IF(COUNTIF($X23:AG23,$I23+N($J23))<$K23,$I23+N($J23),0)","v":0},{"$f":"IF(COUNTIF($X23:AH23,$I23+N($J23))<$K23,$I23+N($J23),0)","v":0},{"$f":"IF(COUNTIF($X23:AI23,$I23+N($J23))<$K23,$I23+N($J23),0)","v":0},{"$f":"IF(COUNTIF($X23:AJ23,$I23+N($J23))<$K23,$I23+N($J23),0)","v":0},{"$f":"IF(COUNTIF($X23:AK23,$I23+N($J23))<$K23,$I23+N($J23),0)","v":0},{"$f":"IF(COUNTIF($X23:AL23,$I23+N($J23))<$K23,$I23+N($J23),0)","v":0},{"$f":"IF(COUNTIF($X23:AM23,$I23+N($J23))<$K23,$I23+N($J23),0)","v":0},{"$f":"IF(COUNTIF($X23:AN23,$I23+N($J23))<$K23,$I23+N($J23),0)","v":0},{"$f":"IF(COUNTIF($X23:AO23,$I23+N($J23))<$K23,$I23+N($J23),0)","v":0},{"$f":"IF(COUNTIF($X23:AP23,$I23+N($J23))<$K23,$I23+N($J23),0)","v":0},{"$f":"IF(COUNTIF($X23:AQ23,$I23+N($J23))<$K23,$I23+N($J23),0)","v":0},{"$f":"IF(COUNTIF($X23:AR23,$I23+N($J23))<$K23,$I23+N($J23),0)","v":0},{"$f":"IF(COUNTIF($X23:AS23,$I23+N($J23))<$K23,$I23+N($J23),0)","v":0},{"$f":"IF(COUNTIF($X23:AT23,$I23+N($J23))<$K23,$I23+N($J23),0)","v":0},{"$f":"IF(COUNTIF($X23:AU23,$I23+N($J23))<$K23,$I23+N($J23),0)","v":0},{"$f":"IF(COUNTIF($X23:AV23,$I23+N($J23))<$K23,$I23+N($J23),0)","v":0},{"$f":"IF(COUNTIF($X23:AW23,$I23+N($J23))<$K23,$I23+N($J23),0)","v":0},{"$f":"IF(COUNTIF($X23:AX23,$I23+N($J23))<$K23,$I23+N($J23),0)","v":0},{"$f":"IF(COUNTIF($X23:AY23,$I23+N($J23))<$K23,$I23+N($J23),0)","v":0},{"$f":"IF(COUNTIF($X23:AZ23,$I23+N($J23))<$K23,$I23+N($J23),0)","v":0},{"$f":"IF(COUNTIF($X23:BA23,$I23+N($J23))<$K23,$I23+N($J23),0)","v":0},{"$f":"IF(COUNTIF($X23:BB23,$I23+N($J23))<$K23,$I23+N($J23),0)","v":0},{"$f":"IF(COUNTIF($X23:BC23,$I23+N($J23))<$K23,$I23+N($J23),0)","v":0},{"$f":"IF(COUNTIF($X23:BD23,$I23+N($J23))<$K23,$I23+N($J23),0)","v":0},{"$f":"IF(COUNTIF($X23:BE23,$I23+N($J23))<$K23,$I23+N($J23),0)","v":0},{"$f":"IF(COUNTIF($X23:BF23,$I23+N($J23))<$K23,$I23+N($J23),0)","v":0},{"$f":"IF(COUNTIF($X23:BG23,$I23+N($J23))<$K23,$I23+N($J23),0)","v":0},{"$f":"IF(COUNTIF($X23:BH23,$I23+N($J23))<$K23,$I23+N($J23),0)","v":0},{"$f":"IF(COUNTIF($X23:BI23,$I23+N($J23))<$K23,$I23+N($J23),0)","v":0},{"$f":"IF(COUNTIF($X23:BJ23,$I23+N($J23))<$K23,$I23+N($J23),0)","v":0},{"$f":"IF(COUNTIF($X23:BK23,$I23+N($J23))<$K23,$I23+N($J23),0)","v":0},{"$f":"IF(COUNTIF($X23:BL23,$I23+N($J23))<$K23,$I23+N($J23),0)","v":0},{"$f":"IF(COUNTIF($X23:BM23,$I23+N($J23))<$K23,$I23+N($J23),0)","v":0},{"$f":"IF(COUNTIF($X23:BN23,$I23+N($J23))<$K23,$I23+N($J23),0)","v":0},{"$f":"IF(COUNTIF($X23:BO23,$I23+N($J23))<$K23,$I23+N($J23),0)","v":0},{"$f":"IF(COUNTIF($X23:BP23,$I23+N($J23))<$K23,$I23+N($J23),0)","v":0},{"$f":"IF(COUNTIF($X23:BQ23,$I23+N($J23))<$K23,$I23+N($J23),0)","v":0},{"$f":"IF(COUNTIF($X23:BR23,$I23+N($J23))<$K23,$I23+N($J23),0)","v":0},{"$f":"IF(COUNTIF($X23:BS23,$I23+N($J23))<$K23,$I23+N($J23),0)","v":0},{"$f":"IF(COUNTIF($X23:BT23,$I23+N($J23))<$K23,$I23+N($J23),0)","v":0},-0.3]
[null,{"$f":"'8-Cost by Measure'!B27","v":13},{"$f":"IF('8-Cost by Measure'!C27=0,\"\",'8-Cost by Measure'!C27)","v":""},null,null,null,"",null,null,{"$f":"IF(C24=\"\",\"\",(D24*10*'6-Energy Rates'!$C$14)+(E24*'6-Energy Rates'!$C$12))","v":""},null,{"$f":"IF(N(J24)=0,0,'8-Cost by Measure'!Q27/J24)","v":0},"",{"$f":"IF(N(J24)=0,0,-PV($D$35,K24,J24)-'8-Cost by Measure'!Q27)","v":0},0,"Y/N",null,null,{"$error":"#N/A"},{"$error":"#N/A"},{"$error":"#N/A"},null,{"$f":"-'8-Cost by Measure'!Q27","v":0},0,0,{"$f":"IF(COUNTIF($X24:Y24,$I24+N($J24))<$K24,$I24+N($J24),0)","v":0},{"$f":"IF(COUNTIF($X24:Z24,$I24+N($J24))<$K24,$I24+N($J24),0)","v":0},{"$f":"IF(COUNTIF($X24:AA24,$I24+N($J24))<$K24,$I24+N($J24),0)","v":0},{"$f":"IF(COUNTIF($X24:AB24,$I24+N($J24))<$K24,$I24+N($J24),0)","v":0},{"$f":"IF(COUNTIF($X24:AC24,$I24+N($J24))<$K24,$I24+N($J24),0)","v":0},{"$f":"IF(COUNTIF($X24:AD24,$I24+N($J24))<$K24,$I24+N($J24),0)","v":0},{"$f":"IF(COUNTIF($X24:AE24,$I24+N($J24))<$K24,$I24+N($J24),0)","v":0},{"$f":"IF(COUNTIF($X24:AF24,$I24+N($J24))<$K24,$I24+N($J24),0)","v":0},{"$f":"IF(COUNTIF($X24:AG24,$I24+N($J24))<$K24,$I24+N($J24),0)","v":0},{"$f":"IF(COUNTIF($X24:AH24,$I24+N($J24))<$K24,$I24+N($J24),0)","v":0},{"$f":"IF(COUNTIF($X24:AI24,$I24+N($J24))<$K24,$I24+N($J24),0)","v":0},{"$f":"IF(COUNTIF($X24:AJ24,$I24+N($J24))<$K24,$I24+N($J24),0)","v":0},{"$f":"IF(COUNTIF($X24:AK24,$I24+N($J24))<$K24,$I24+N($J24),0)","v":0},{"$f":"IF(COUNTIF($X24:AL24,$I24+N($J24))<$K24,$I24+N($J24),0)","v":0},{"$f":"IF(COUNTIF($X24:AM24,$I24+N($J24))<$K24,$I24+N($J24),0)","v":0},{"$f":"IF(COUNTIF($X24:AN24,$I24+N($J24))<$K24,$I24+N($J24),0)","v":0},{"$f":"IF(COUNTIF($X24:AO24,$I24+N($J24))<$K24,$I24+N($J24),0)","v":0},{"$f":"IF(COUNTIF($X24:AP24,$I24+N($J24))<$K24,$I24+N($J24),0)","v":0},{"$f":"IF(COUNTIF($X24:AQ24,$I24+N($J24))<$K24,$I24+N($J24),0)","v":0},{"$f":"IF(COUNTIF($X24:AR24,$I24+N($J24))<$K24,$I24+N($J24),0)","v":0},{"$f":"IF(COUNTIF($X24:AS24,$I24+N($J24))<$K24,$I24+N($J24),0)","v":0},{"$f":"IF(COUNTIF($X24:AT24,$I24+N($J24))<$K24,$I24+N($J24),0)","v":0},{"$f":"IF(COUNTIF($X24:AU24,$I24+N($J24))<$K24,$I24+N($J24),0)","v":0},{"$f":"IF(COUNTIF($X24:AV24,$I24+N($J24))<$K24,$I24+N($J24),0)","v":0},{"$f":"IF(COUNTIF($X24:AW24,$I24+N($J24))<$K24,$I24+N($J24),0)","v":0},{"$f":"IF(COUNTIF($X24:AX24,$I24+N($J24))<$K24,$I24+N($J24),0)","v":0},{"$f":"IF(COUNTIF($X24:AY24,$I24+N($J24))<$K24,$I24+N($J24),0)","v":0},{"$f":"IF(COUNTIF($X24:AZ24,$I24+N($J24))<$K24,$I24+N($J24),0)","v":0},{"$f":"IF(COUNTIF($X24:BA24,$I24+N($J24))<$K24,$I24+N($J24),0)","v":0},{"$f":"IF(COUNTIF($X24:BB24,$I24+N($J24))<$K24,$I24+N($J24),0)","v":0},{"$f":"IF(COUNTIF($X24:BC24,$I24+N($J24))<$K24,$I24+N($J24),0)","v":0},{"$f":"IF(COUNTIF($X24:BD24,$I24+N($J24))<$K24,$I24+N($J24),0)","v":0},{"$f":"IF(COUNTIF($X24:BE24,$I24+N($J24))<$K24,$I24+N($J24),0)","v":0},{"$f":"IF(COUNTIF($X24:BF24,$I24+N($J24))<$K24,$I24+N($J24),0)","v":0},{"$f":"IF(COUNTIF($X24:BG24,$I24+N($J24))<$K24,$I24+N($J24),0)","v":0},{"$f":"IF(COUNTIF($X24:BH24,$I24+N($J24))<$K24,$I24+N($J24),0)","v":0},{"$f":"IF(COUNTIF($X24:BI24,$I24+N($J24))<$K24,$I24+N($J24),0)","v":0},{"$f":"IF(COUNTIF($X24:BJ24,$I24+N($J24))<$K24,$I24+N($J24),0)","v":0},{"$f":"IF(COUNTIF($X24:BK24,$I24+N($J24))<$K24,$I24+N($J24),0)","v":0},{"$f":"IF(COUNTIF($X24:BL24,$I24+N($J24))<$K24,$I24+N($J24),0)","v":0},{"$f":"IF(COUNTIF($X24:BM24,$I24+N($J24))<$K24,$I24+N($J24),0)","v":0},{"$f":"IF(COUNTIF($X24:BN24,$I24+N($J24))<$K24,$I24+N($J24),0)","v":0},{"$f":"IF(COUNTIF($X24:BO24,$I24+N($J24))<$K24,$I24+N($J24),0)","v":0},{"$f":"IF(COUNTIF($X24:BP24,$I24+N($J24))<$K24,$I24+N($J24),0)","v":0},{"$f":"IF(COUNTIF($X24:BQ24,$I24+N($J24))<$K24,$I24+N($J24),0)","v":0},{"$f":"IF(COUNTIF($X24:BR24,$I24+N($J24))<$K24,$I24+N($J24),0)","v":0},{"$f":"IF(COUNTIF($X24:BS24,$I24+N($J24))<$K24,$I24+N($J24),0)","v":0},{"$f":"IF(COUNTIF($X24:BT24,$I24+N($J24))<$K24,$I24+N($J24),0)","v":0},-0.3]
[null,{"$f":"'8-Cost by Measure'!B28","v":14},{"$f":"IF('8-Cost by Measure'!C28=0,\"\",'8-Cost by Measure'!C28)","v":""},null,null,null,"",null,null,{"$f":"IF(C25=\"\",\"\",(D25*10*'6-Energy Rates'!$C$14)+(E25*'6-Energy Rates'!$C$12))","v":""},null,{"$f":"IF(N(J25)=0,0,'8-Cost by Measure'!Q28/J25)","v":0},"",{"$f":"IF(N(J25)=0,0,-PV($D$35,K25,J25)-'8-Cost by Measure'!Q28)","v":0},0,"Y/N",null,null,{"$error":"#N/A"},{"$error":"#N/A"},{"$error":"#N/A"},null,{"$f":"-'8-Cost by Measure'!Q28","v":0},0,0,{"$f":"IF(COUNTIF($X25:Y25,$I25+N($J25))<$K25,$I25+N($J25),0)","v":0},{"$f":"IF(COUNTIF($X25:Z25,$I25+N($J25))<$K25,$I25+N($J25),0)","v":0},{"$f":"IF(COUNTIF($X25:AA25,$I25+N($J25))<$K25,$I25+N($J25),0)","v":0},{"$f":"IF(COUNTIF($X25:AB25,$I25+N($J25))<$K25,$I25+N($J25),0)","v":0},{"$f":"IF(COUNTIF($X25:AC25,$I25+N($J25))<$K25,$I25+N($J25),0)","v":0},{"$f":"IF(COUNTIF($X25:AD25,$I25+N($J25))<$K25,$I25+N($J25),0)","v":0},{"$f":"IF(COUNTIF($X25:AE25,$I25+N($J25))<$K25,$I25+N($J25),0)","v":0},{"$f":"IF(COUNTIF($X25:AF25,$I25+N($J25))<$K25,$I25+N($J25),0)","v":0},{"$f":"IF(COUNTIF($X25:AG25,$I25+N($J25))<$K25,$I25+N($J25),0)","v":0},{"$f":"IF(COUNTIF($X25:AH25,$I25+N($J25))<$K25,$I25+N($J25),0)","v":0},{"$f":"IF(COUNTIF($X25:AI25,$I25+N($J25))<$K25,$I25+N($J25),0)","v":0},{"$f":"IF(COUNTIF($X25:AJ25,$I25+N($J25))<$K25,$I25+N($J25),0)","v":0},{"$f":"IF(COUNTIF($X25:AK25,$I25+N($J25))<$K25,$I25+N($J25),0)","v":0},{"$f":"IF(COUNTIF($X25:AL25,$I25+N($J25))<$K25,$I25+N($J25),0)","v":0},{"$f":"IF(COUNTIF($X25:AM25,$I25+N($J25))<$K25,$I25+N($J25),0)","v":0},{"$f":"IF(COUNTIF($X25:AN25,$I25+N($J25))<$K25,$I25+N($J25),0)","v":0},{"$f":"IF(COUNTIF($X25:AO25,$I25+N($J25))<$K25,$I25+N($J25),0)","v":0},{"$f":"IF(COUNTIF($X25:AP25,$I25+N($J25))<$K25,$I25+N($J25),0)","v":0},{"$f":"IF(COUNTIF($X25:AQ25,$I25+N($J25))<$K25,$I25+N($J25),0)","v":0},{"$f":"IF(COUNTIF($X25:AR25,$I25+N($J25))<$K25,$I25+N($J25),0)","v":0},{"$f":"IF(COUNTIF($X25:AS25,$I25+N($J25))<$K25,$I25+N($J25),0)","v":0},{"$f":"IF(COUNTIF($X25:AT25,$I25+N($J25))<$K25,$I25+N($J25),0)","v":0},{"$f":"IF(COUNTIF($X25:AU25,$I25+N($J25))<$K25,$I25+N($J25),0)","v":0},{"$f":"IF(COUNTIF($X25:AV25,$I25+N($J25))<$K25,$I25+N($J25),0)","v":0},{"$f":"IF(COUNTIF($X25:AW25,$I25+N($J25))<$K25,$I25+N($J25),0)","v":0},{"$f":"IF(COUNTIF($X25:AX25,$I25+N($J25))<$K25,$I25+N($J25),0)","v":0},{"$f":"IF(COUNTIF($X25:AY25,$I25+N($J25))<$K25,$I25+N($J25),0)","v":0},{"$f":"IF(COUNTIF($X25:AZ25,$I25+N($J25))<$K25,$I25+N($J25),0)","v":0},{"$f":"IF(COUNTIF($X25:BA25,$I25+N($J25))<$K25,$I25+N($J25),0)","v":0},{"$f":"IF(COUNTIF($X25:BB25,$I25+N($J25))<$K25,$I25+N($J25),0)","v":0},{"$f":"IF(COUNTIF($X25:BC25,$I25+N($J25))<$K25,$I25+N($J25),0)","v":0},{"$f":"IF(COUNTIF($X25:BD25,$I25+N($J25))<$K25,$I25+N($J25),0)","v":0},{"$f":"IF(COUNTIF($X25:BE25,$I25+N($J25))<$K25,$I25+N($J25),0)","v":0},{"$f":"IF(COUNTIF($X25:BF25,$I25+N($J25))<$K25,$I25+N($J25),0)","v":0},{"$f":"IF(COUNTIF($X25:BG25,$I25+N($J25))<$K25,$I25+N($J25),0)","v":0},{"$f":"IF(COUNTIF($X25:BH25,$I25+N($J25))<$K25,$I25+N($J25),0)","v":0},{"$f":"IF(COUNTIF($X25:BI25,$I25+N($J25))<$K25,$I25+N($J25),0)","v":0},{"$f":"IF(COUNTIF($X25:BJ25,$I25+N($J25))<$K25,$I25+N($J25),0)","v":0},{"$f":"IF(COUNTIF($X25:BK25,$I25+N($J25))<$K25,$I25+N($J25),0)","v":0},{"$f":"IF(COUNTIF($X25:BL25,$I25+N($J25))<$K25,$I25+N($J25),0)","v":0},{"$f":"IF(COUNTIF($X25:BM25,$I25+N($J25))<$K25,$I25+N($J25),0)","v":0},{"$f":"IF(COUNTIF($X25:BN25,$I25+N($J25))<$K25,$I25+N($J25),0)","v":0},{"$f":"IF(COUNTIF($X25:BO25,$I25+N($J25))<$K25,$I25+N($J25),0)","v":0},{"$f":"IF(COUNTIF($X25:BP25,$I25+N($J25))<$K25,$I25+N($J25),0)","v":0},{"$f":"IF(COUNTIF($X25:BQ25,$I25+N($J25))<$K25,$I25+N($J25),0)","v":0},{"$f":"IF(COUNTIF($X25:BR25,$I25+N($J25))<$K25,$I25+N($J25),0)","v":0},{"$f":"IF(COUNTIF($X25:BS25,$I25+N($J25))<$K25,$I25+N($J25),0)","v":0},{"$f":"IF(COUNTIF($X25:BT25,$I25+N($J25))<$K25,$I25+N($J25),0)","v":0},-0.3]
[null,{"$f":"'8-Cost by Measure'!B29","v":15},{"$f":"IF('8-Cost by Measure'!C29=0,\"\",'8-Cost by Measure'!C29)","v":""},null,null,null,"",null,null,{"$f":"IF(C26=\"\",\"\",(D26*10*'6-Energy Rates'!$C$14)+(E26*'6-Energy Rates'!$C$12))","v":""},null,{"$f":"IF(N(J26)=0,0,'8-Cost by Measure'!Q29/J26)","v":0},"",{"$f":"IF(N(J26)=0,0,-PV($D$35,K26,J26)-'8-Cost by Measure'!Q29)","v":0},0,"Y/N",null,null,{"$error":"#N/A"},{"$error":"#N/A"},{"$error":"#N/A"},null,{"$f":"-'8-Cost by Measure'!Q29","v":0},0,0,{"$f":"IF(COUNTIF($X26:Y26,$I26+N($J26))<$K26,$I26+N($J26),0)","v":0},{"$f":"IF(COUNTIF($X26:Z26,$I26+N($J26))<$K26,$I26+N($J26),0)","v":0},{"$f":"IF(COUNTIF($X26:AA26,$I26+N($J26))<$K26,$I26+N($J26),0)","v":0},{"$f":"IF(COUNTIF($X26:AB26,$I26+N($J26))<$K26,$I26+N($J26),0)","v":0},{"$f":"IF(COUNTIF($X26:AC26,$I26+N($J26))<$K26,$I26+N($J26),0)","v":0},{"$f":"IF(COUNTIF($X26:AD26,$I26+N($J26))<$K26,$I26+N($J26),0)","v":0},{"$f":"IF(COUNTIF($X26:AE26,$I26+N($J26))<$K26,$I26+N($J26),0)","v":0},{"$f":"IF(COUNTIF($X26:AF26,$I26+N($J26))<$K26,$I26+N($J26),0)","v":0},{"$f":"IF(COUNTIF($X26:AG26,$I26+N($J26))<$K26,$I26+N($J26),0)","v":0},{"$f":"IF(COUNTIF($X26:AH26,$I26+N($J26))<$K26,$I26+N($J26),0)","v":0},{"$f":"IF(COUNTIF($X26:AI26,$I26+N($J26))<$K26,$I26+N($J26),0)","v":0},{"$f":"IF(COUNTIF($X26:AJ26,$I26+N($J26))<$K26,$I26+N($J26),0)","v":0},{"$f":"IF(COUNTIF($X26:AK26,$I26+N($J26))<$K26,$I26+N($J26),0)","v":0},{"$f":"IF(COUNTIF($X26:AL26,$I26+N($J26))<$K26,$I26+N($J26),0)","v":0},{"$f":"IF(COUNTIF($X26:AM26,$I26+N($J26))<$K26,$I26+N($J26),0)","v":0},{"$f":"IF(COUNTIF($X26:AN26,$I26+N($J26))<$K26,$I26+N($J26),0)","v":0},{"$f":"IF(COUNTIF($X26:AO26,$I26+N($J26))<$K26,$I26+N($J26),0)","v":0},{"$f":"IF(COUNTIF($X26:AP26,$I26+N($J26))<$K26,$I26+N($J26),0)","v":0},{"$f":"IF(COUNTIF($X26:AQ26,$I26+N($J26))<$K26,$I26+N($J26),0)","v":0},{"$f":"IF(COUNTIF($X26:AR26,$I26+N($J26))<$K26,$I26+N($J26),0)","v":0},{"$f":"IF(COUNTIF($X26:AS26,$I26+N($J26))<$K26,$I26+N($J26),0)","v":0},{"$f":"IF(COUNTIF($X26:AT26,$I26+N($J26))<$K26,$I26+N($J26),0)","v":0},{"$f":"IF(COUNTIF($X26:AU26,$I26+N($J26))<$K26,$I26+N($J26),0)","v":0},{"$f":"IF(COUNTIF($X26:AV26,$I26+N($J26))<$K26,$I26+N($J26),0)","v":0},{"$f":"IF(COUNTIF($X26:AW26,$I26+N($J26))<$K26,$I26+N($J26),0)","v":0},{"$f":"IF(COUNTIF($X26:AX26,$I26+N($J26))<$K26,$I26+N($J26),0)","v":0},{"$f":"IF(COUNTIF($X26:AY26,$I26+N($J26))<$K26,$I26+N($J26),0)","v":0},{"$f":"IF(COUNTIF($X26:AZ26,$I26+N($J26))<$K26,$I26+N($J26),0)","v":0},{"$f":"IF(COUNTIF($X26:BA26,$I26+N($J26))<$K26,$I26+N($J26),0)","v":0},{"$f":"IF(COUNTIF($X26:BB26,$I26+N($J26))<$K26,$I26+N($J26),0)","v":0},{"$f":"IF(COUNTIF($X26:BC26,$I26+N($J26))<$K26,$I26+N($J26),0)","v":0},{"$f":"IF(COUNTIF($X26:BD26,$I26+N($J26))<$K26,$I26+N($J26),0)","v":0},{"$f":"IF(COUNTIF($X26:BE26,$I26+N($J26))<$K26,$I26+N($J26),0)","v":0},{"$f":"IF(COUNTIF($X26:BF26,$I26+N($J26))<$K26,$I26+N($J26),0)","v":0},{"$f":"IF(COUNTIF($X26:BG26,$I26+N($J26))<$K26,$I26+N($J26),0)","v":0},{"$f":"IF(COUNTIF($X26:BH26,$I26+N($J26))<$K26,$I26+N($J26),0)","v":0},{"$f":"IF(COUNTIF($X26:BI26,$I26+N($J26))<$K26,$I26+N($J26),0)","v":0},{"$f":"IF(COUNTIF($X26:BJ26,$I26+N($J26))<$K26,$I26+N($J26),0)","v":0},{"$f":"IF(COUNTIF($X26:BK26,$I26+N($J26))<$K26,$I26+N($J26),0)","v":0},{"$f":"IF(COUNTIF($X26:BL26,$I26+N($J26))<$K26,$I26+N($J26),0)","v":0},{"$f":"IF(COUNTIF($X26:BM26,$I26+N($J26))<$K26,$I26+N($J26),0)","v":0},{"$f":"IF(COUNTIF($X26:BN26,$I26+N($J26))<$K26,$I26+N($J26),0)","v":0},{"$f":"IF(COUNTIF($X26:BO26,$I26+N($J26))<$K26,$I26+N($J26),0)","v":0},{"$f":"IF(COUNTIF($X26:BP26,$I26+N($J26))<$K26,$I26+N($J26),0)","v":0},{"$f":"IF(COUNTIF($X26:BQ26,$I26+N($J26))<$K26,$I26+N($J26),0)","v":0},{"$f":"IF(COUNTIF($X26:BR26,$I26+N($J26))<$K26,$I26+N($J26),0)","v":0},{"$f":"IF(COUNTIF($X26:BS26,$I26+N($J26))<$K26,$I26+N($J26),0)","v":0},{"$f":"IF(COUNTIF($X26:BT26,$I26+N($J26))<$K26,$I26+N($J26),0)","v":0},-0.3]
[null,{"$f":"'8-Cost by Measure'!B30","v":16},{"$f":"IF('8-Cost by Measure'!C30=0,\"\",'8-Cost by Measure'!C30)","v":""},null,null,null,"",null,null,{"$f":"IF(C27=\"\",\"\",(D27*10*'6-Energy Rates'!$C$14)+(E27*'6-Energy Rates'!$C$12))","v":""},null,{"$f":"IF(N(J27)=0,0,'8-Cost by Measure'!Q30/J27)","v":0},"",{"$f":"IF(N(J27)=0,0,-PV($D$35,K27,J27)-'8-Cost by Measure'!Q30)","v":0},0,"Y/N",null,null,{"$error":"#N/A"},{"$error":"#N/A"},{"$error":"#N/A"},null,{"$f":"-'8-Cost by Measure'!Q30","v":0},0,0,{"$f":"IF(COUNTIF($X27:Y27,$I27+N($J27))<$K27,$I27+N($J27),0)","v":0},{"$f":"IF(COUNTIF($X27:Z27,$I27+N($J27))<$K27,$I27+N($J27),0)","v":0},{"$f":"IF(COUNTIF($X27:AA27,$I27+N($J27))<$K27,$I27+N($J27),0)","v":0},{"$f":"IF(COUNTIF($X27:AB27,$I27+N($J27))<$K27,$I27+N($J27),0)","v":0},{"$f":"IF(COUNTIF($X27:AC27,$I27+N($J27))<$K27,$I27+N($J27),0)","v":0},{"$f":"IF(COUNTIF($X27:AD27,$I27+N($J27))<$K27,$I27+N($J27),0)","v":0},{"$f":"IF(COUNTIF($X27:AE27,$I27+N($J27))<$K27,$I27+N($J27),0)","v":0},{"$f":"IF(COUNTIF($X27:AF27,$I27+N($J27))<$K27,$I27+N($J27),0)","v":0},{"$f":"IF(COUNTIF($X27:AG27,$I27+N($J27))<$K27,$I27+N($J27),0)","v":0},{"$f":"IF(COUNTIF($X27:AH27,$I27+N($J27))<$K27,$I27+N($J27),0)","v":0},{"$f":"IF(COUNTIF($X27:AI27,$I27+N($J27))<$K27,$I27+N($J27),0)","v":0},{"$f":"IF(COUNTIF($X27:AJ27,$I27+N($J27))<$K27,$I27+N($J27),0)","v":0},{"$f":"IF(COUNTIF($X27:AK27,$I27+N($J27))<$K27,$I27+N($J27),0)","v":0},{"$f":"IF(COUNTIF($X27:AL27,$I27+N($J27))<$K27,$I27+N($J27),0)","v":0},{"$f":"IF(COUNTIF($X27:AM27,$I27+N($J27))<$K27,$I27+N($J27),0)","v":0},{"$f":"IF(COUNTIF($X27:AN27,$I27+N($J27))<$K27,$I27+N($J27),0)","v":0},{"$f":"IF(COUNTIF($X27:AO27,$I27+N($J27))<$K27,$I27+N($J27),0)","v":0},{"$f":"IF(COUNTIF($X27:AP27,$I27+N($J27))<$K27,$I27+N($J27),0)","v":0},{"$f":"IF(COUNTIF($X27:AQ27,$I27+N($J27))<$K27,$I27+N($J27),0)","v":0},{"$f":"IF(COUNTIF($X27:AR27,$I27+N($J27))<$K27,$I27+N($J27),0)","v":0},{"$f":"IF(COUNTIF($X27:AS27,$I27+N($J27))<$K27,$I27+N($J27),0)","v":0},{"$f":"IF(COUNTIF($X27:AT27,$I27+N($J27))<$K27,$I27+N($J27),0)","v":0},{"$f":"IF(COUNTIF($X27:AU27,$I27+N($J27))<$K27,$I27+N($J27),0)","v":0},{"$f":"IF(COUNTIF($X27:AV27,$I27+N($J27))<$K27,$I27+N($J27),0)","v":0},{"$f":"IF(COUNTIF($X27:AW27,$I27+N($J27))<$K27,$I27+N($J27),0)","v":0},{"$f":"IF(COUNTIF($X27:AX27,$I27+N($J27))<$K27,$I27+N($J27),0)","v":0},{"$f":"IF(COUNTIF($X27:AY27,$I27+N($J27))<$K27,$I27+N($J27),0)","v":0},{"$f":"IF(COUNTIF($X27:AZ27,$I27+N($J27))<$K27,$I27+N($J27),0)","v":0},{"$f":"IF(COUNTIF($X27:BA27,$I27+N($J27))<$K27,$I27+N($J27),0)","v":0},{"$f":"IF(COUNTIF($X27:BB27,$I27+N($J27))<$K27,$I27+N($J27),0)","v":0},{"$f":"IF(COUNTIF($X27:BC27,$I27+N($J27))<$K27,$I27+N($J27),0)","v":0},{"$f":"IF(COUNTIF($X27:BD27,$I27+N($J27))<$K27,$I27+N($J27),0)","v":0},{"$f":"IF(COUNTIF($X27:BE27,$I27+N($J27))<$K27,$I27+N($J27),0)","v":0},{"$f":"IF(COUNTIF($X27:BF27,$I27+N($J27))<$K27,$I27+N($J27),0)","v":0},{"$f":"IF(COUNTIF($X27:BG27,$I27+N($J27))<$K27,$I27+N($J27),0)","v":0},{"$f":"IF(COUNTIF($X27:BH27,$I27+N($J27))<$K27,$I27+N($J27),0)","v":0},{"$f":"IF(COUNTIF($X27:BI27,$I27+N($J27))<$K27,$I27+N($J27),0)","v":0},{"$f":"IF(COUNTIF($X27:BJ27,$I27+N($J27))<$K27,$I27+N($J27),0)","v":0},{"$f":"IF(COUNTIF($X27:BK27,$I27+N($J27))<$K27,$I27+N($J27),0)","v":0},{"$f":"IF(COUNTIF($X27:BL27,$I27+N($J27))<$K27,$I27+N($J27),0)","v":0},{"$f":"IF(COUNTIF($X27:BM27,$I27+N($J27))<$K27,$I27+N($J27),0)","v":0},{"$f":"IF(COUNTIF($X27:BN27,$I27+N($J27))<$K27,$I27+N($J27),0)","v":0},{"$f":"IF(COUNTIF($X27:BO27,$I27+N($J27))<$K27,$I27+N($J27),0)","v":0},{"$f":"IF(COUNTIF($X27:BP27,$I27+N($J27))<$K27,$I27+N($J27),0)","v":0},{"$f":"IF(COUNTIF($X27:BQ27,$I27+N($J27))<$K27,$I27+N($J27),0)","v":0},{"$f":"IF(COUNTIF($X27:BR27,$I27+N($J27))<$K27,$I27+N($J27),0)","v":0},{"$f":"IF(COUNTIF($X27:BS27,$I27+N($J27))<$K27,$I27+N($J27),0)","v":0},{"$f":"IF(COUNTIF($X27:BT27,$I27+N($J27))<$K27,$I27+N($J27),0)","v":0},-0.3]
[null,{"$f":"'8-Cost by Measure'!B31","v":17},{"$f":"IF('8-Cost by Measure'!C31=0,\"\",'8-Cost by Measure'!C31)","v":""},null,null,null,"",null,null,{"$f":"IF(C28=\"\",\"\",(D28*10*'6-Energy Rates'!$C$14)+(E28*'6-Energy Rates'!$C$12))","v":""},null,{"$f":"IF(N(J28)=0,0,'8-Cost by Measure'!Q31/J28)","v":0},"",{"$f":"IF(N(J28)=0,0,-PV($D$35,K28,J28)-'8-Cost by Measure'!Q31)","v":0},0,"Y/N",null,null,{"$error":"#N/A"},{"$error":"#N/A"},{"$error":"#N/A"},null,{"$f":"-'8-Cost by Measure'!Q31","v":0},0,0,{"$f":"IF(COUNTIF($X28:Y28,$I28+N($J28))<$K28,$I28+N($J28),0)","v":0},{"$f":"IF(COUNTIF($X28:Z28,$I28+N($J28))<$K28,$I28+N($J28),0)","v":0},{"$f":"IF(COUNTIF($X28:AA28,$I28+N($J28))<$K28,$I28+N($J28),0)","v":0},{"$f":"IF(COUNTIF($X28:AB28,$I28+N($J28))<$K28,$I28+N($J28),0)","v":0},{"$f":"IF(COUNTIF($X28:AC28,$I28+N($J28))<$K28,$I28+N($J28),0)","v":0},{"$f":"IF(COUNTIF($X28:AD28,$I28+N($J28))<$K28,$I28+N($J28),0)","v":0},{"$f":"IF(COUNTIF($X28:AE28,$I28+N($J28))<$K28,$I28+N($J28),0)","v":0},{"$f":"IF(COUNTIF($X28:AF28,$I28+N($J28))<$K28,$I28+N($J28),0)","v":0},{"$f":"IF(COUNTIF($X28:AG28,$I28+N($J28))<$K28,$I28+N($J28),0)","v":0},{"$f":"IF(COUNTIF($X28:AH28,$I28+N($J28))<$K28,$I28+N($J28),0)","v":0},{"$f":"IF(COUNTIF($X28:AI28,$I28+N($J28))<$K28,$I28+N($J28),0)","v":0},{"$f":"IF(COUNTIF($X28:AJ28,$I28+N($J28))<$K28,$I28+N($J28),0)","v":0},{"$f":"IF(COUNTIF($X28:AK28,$I28+N($J28))<$K28,$I28+N($J28),0)","v":0},{"$f":"IF(COUNTIF($X28:AL28,$I28+N($J28))<$K28,$I28+N($J28),0)","v":0},{"$f":"IF(COUNTIF($X28:AM28,$I28+N($J28))<$K28,$I28+N($J28),0)","v":0},{"$f":"IF(COUNTIF($X28:AN28,$I28+N($J28))<$K28,$I28+N($J28),0)","v":0},{"$f":"IF(COUNTIF($X28:AO28,$I28+N($J28))<$K28,$I28+N($J28),0)","v":0},{"$f":"IF(COUNTIF($X28:AP28,$I28+N($J28))<$K28,$I28+N($J28),0)","v":0},{"$f":"IF(COUNTIF($X28:AQ28,$I28+N($J28))<$K28,$I28+N($J28),0)","v":0},{"$f":"IF(COUNTIF($X28:AR28,$I28+N($J28))<$K28,$I28+N($J28),0)","v":0},{"$f":"IF(COUNTIF($X28:AS28,$I28+N($J28))<$K28,$I28+N($J28),0)","v":0},{"$f":"IF(COUNTIF($X28:AT28,$I28+N($J28))<$K28,$I28+N($J28),0)","v":0},{"$f":"IF(COUNTIF($X28:AU28,$I28+N($J28))<$K28,$I28+N($J28),0)","v":0},{"$f":"IF(COUNTIF($X28:AV28,$I28+N($J28))<$K28,$I28+N($J28),0)","v":0},{"$f":"IF(COUNTIF($X28:AW28,$I28+N($J28))<$K28,$I28+N($J28),0)","v":0},{"$f":"IF(COUNTIF($X28:AX28,$I28+N($J28))<$K28,$I28+N($J28),0)","v":0},{"$f":"IF(COUNTIF($X28:AY28,$I28+N($J28))<$K28,$I28+N($J28),0)","v":0},{"$f":"IF(COUNTIF($X28:AZ28,$I28+N($J28))<$K28,$I28+N($J28),0)","v":0},{"$f":"IF(COUNTIF($X28:BA28,$I28+N($J28))<$K28,$I28+N($J28),0)","v":0},{"$f":"IF(COUNTIF($X28:BB28,$I28+N($J28))<$K28,$I28+N($J28),0)","v":0},{"$f":"IF(COUNTIF($X28:BC28,$I28+N($J28))<$K28,$I28+N($J28),0)","v":0},{"$f":"IF(COUNTIF($X28:BD28,$I28+N($J28))<$K28,$I28+N($J28),0)","v":0},{"$f":"IF(COUNTIF($X28:BE28,$I28+N($J28))<$K28,$I28+N($J28),0)","v":0},{"$f":"IF(COUNTIF($X28:BF28,$I28+N($J28))<$K28,$I28+N($J28),0)","v":0},{"$f":"IF(COUNTIF($X28:BG28,$I28+N($J28))<$K28,$I28+N($J28),0)","v":0},{"$f":"IF(COUNTIF($X28:BH28,$I28+N($J28))<$K28,$I28+N($J28),0)","v":0},{"$f":"IF(COUNTIF($X28:BI28,$I28+N($J28))<$K28,$I28+N($J28),0)","v":0},{"$f":"IF(COUNTIF($X28:BJ28,$I28+N($J28))<$K28,$I28+N($J28),0)","v":0},{"$f":"IF(COUNTIF($X28:BK28,$I28+N($J28))<$K28,$I28+N($J28),0)","v":0},{"$f":"IF(COUNTIF($X28:BL28,$I28+N($J28))<$K28,$I28+N($J28),0)","v":0},{"$f":"IF(COUNTIF($X28:BM28,$I28+N($J28))<$K28,$I28+N($J28),0)","v":0},{"$f":"IF(COUNTIF($X28:BN28,$I28+N($J28))<$K28,$I28+N($J28),0)","v":0},{"$f":"IF(COUNTIF($X28:BO28,$I28+N($J28))<$K28,$I28+N($J28),0)","v":0},{"$f":"IF(COUNTIF($X28:BP28,$I28+N($J28))<$K28,$I28+N($J28),0)","v":0},{"$f":"IF(COUNTIF($X28:BQ28,$I28+N($J28))<$K28,$I28+N($J28),0)","v":0},{"$f":"IF(COUNTIF($X28:BR28,$I28+N($J28))<$K28,$I28+N($J28),0)","v":0},{"$f":"IF(COUNTIF($X28:BS28,$I28+N($J28))<$K28,$I28+N($J28),0)","v":0},{"$f":"IF(COUNTIF($X28:BT28,$I28+N($J28))<$K28,$I28+N($J28),0)","v":0},-0.3]
[null,{"$f":"'8-Cost by Measure'!B32","v":18},{"$f":"IF('8-Cost by Measure'!C32=0,\"\",'8-Cost by Measure'!C32)","v":""},null,null,null,"",null,null,{"$f":"IF(C29=\"\",\"\",(D29*10*'6-Energy Rates'!$C$14)+(E29*'6-Energy Rates'!$C$12))","v":""},null,{"$f":"IF(N(J29)=0,0,'8-Cost by Measure'!Q32/J29)","v":0},"",{"$f":"IF(N(J29)=0,0,-PV($D$35,K29,J29)-'8-Cost by Measure'!Q32)","v":0},0,"Y/N",null,null,{"$error":"#N/A"},{"$error":"#N/A"},{"$error":"#N/A"},null,{"$f":"-'8-Cost by Measure'!Q32","v":0},0,0,{"$f":"IF(COUNTIF($X29:Y29,$I29+N($J29))<$K29,$I29+N($J29),0)","v":0},{"$f":"IF(COUNTIF($X29:Z29,$I29+N($J29))<$K29,$I29+N($J29),0)","v":0},{"$f":"IF(COUNTIF($X29:AA29,$I29+N($J29))<$K29,$I29+N($J29),0)","v":0},{"$f":"IF(COUNTIF($X29:AB29,$I29+N($J29))<$K29,$I29+N($J29),0)","v":0},{"$f":"IF(COUNTIF($X29:AC29,$I29+N($J29))<$K29,$I29+N($J29),0)","v":0},{"$f":"IF(COUNTIF($X29:AD29,$I29+N($J29))<$K29,$I29+N($J29),0)","v":0},{"$f":"IF(COUNTIF($X29:AE29,$I29+N($J29))<$K29,$I29+N($J29),0)","v":0},{"$f":"IF(COUNTIF($X29:AF29,$I29+N($J29))<$K29,$I29+N($J29),0)","v":0},{"$f":"IF(COUNTIF($X29:AG29,$I29+N($J29))<$K29,$I29+N($J29),0)","v":0},{"$f":"IF(COUNTIF($X29:AH29,$I29+N($J29))<$K29,$I29+N($J29),0)","v":0},{"$f":"IF(COUNTIF($X29:AI29,$I29+N($J29))<$K29,$I29+N($J29),0)","v":0},{"$f":"IF(COUNTIF($X29:AJ29,$I29+N($J29))<$K29,$I29+N($J29),0)","v":0},{"$f":"IF(COUNTIF($X29:AK29,$I29+N($J29))<$K29,$I29+N($J29),0)","v":0},{"$f":"IF(COUNTIF($X29:AL29,$I29+N($J29))<$K29,$I29+N($J29),0)","v":0},{"$f":"IF(COUNTIF($X29:AM29,$I29+N($J29))<$K29,$I29+N($J29),0)","v":0},{"$f":"IF(COUNTIF($X29:AN29,$I29+N($J29))<$K29,$I29+N($J29),0)","v":0},{"$f":"IF(COUNTIF($X29:AO29,$I29+N($J29))<$K29,$I29+N($J29),0)","v":0},{"$f":"IF(COUNTIF($X29:AP29,$I29+N($J29))<$K29,$I29+N($J29),0)","v":0},{"$f":"IF(COUNTIF($X29:AQ29,$I29+N($J29))<$K29,$I29+N($J29),0)","v":0},{"$f":"IF(COUNTIF($X29:AR29,$I29+N($J29))<$K29,$I29+N($J29),0)","v":0},{"$f":"IF(COUNTIF($X29:AS29,$I29+N($J29))<$K29,$I29+N($J29),0)","v":0},{"$f":"IF(COUNTIF($X29:AT29,$I29+N($J29))<$K29,$I29+N($J29),0)","v":0},{"$f":"IF(COUNTIF($X29:AU29,$I29+N($J29))<$K29,$I29+N($J29),0)","v":0},{"$f":"IF(COUNTIF($X29:AV29,$I29+N($J29))<$K29,$I29+N($J29),0)","v":0},{"$f":"IF(COUNTIF($X29:AW29,$I29+N($J29))<$K29,$I29+N($J29),0)","v":0},{"$f":"IF(COUNTIF($X29:AX29,$I29+N($J29))<$K29,$I29+N($J29),0)","v":0},{"$f":"IF(COUNTIF($X29:AY29,$I29+N($J29))<$K29,$I29+N($J29),0)","v":0},{"$f":"IF(COUNTIF($X29:AZ29,$I29+N($J29))<$K29,$I29+N($J29),0)","v":0},{"$f":"IF(COUNTIF($X29:BA29,$I29+N($J29))<$K29,$I29+N($J29),0)","v":0},{"$f":"IF(COUNTIF($X29:BB29,$I29+N($J29))<$K29,$I29+N($J29),0)","v":0},{"$f":"IF(COUNTIF($X29:BC29,$I29+N($J29))<$K29,$I29+N($J29),0)","v":0},{"$f":"IF(COUNTIF($X29:BD29,$I29+N($J29))<$K29,$I29+N($J29),0)","v":0},{"$f":"IF(COUNTIF($X29:BE29,$I29+N($J29))<$K29,$I29+N($J29),0)","v":0},{"$f":"IF(COUNTIF($X29:BF29,$I29+N($J29))<$K29,$I29+N($J29),0)","v":0},{"$f":"IF(COUNTIF($X29:BG29,$I29+N($J29))<$K29,$I29+N($J29),0)","v":0},{"$f":"IF(COUNTIF($X29:BH29,$I29+N($J29))<$K29,$I29+N($J29),0)","v":0},{"$f":"IF(COUNTIF($X29:BI29,$I29+N($J29))<$K29,$I29+N($J29),0)","v":0},{"$f":"IF(COUNTIF($X29:BJ29,$I29+N($J29))<$K29,$I29+N($J29),0)","v":0},{"$f":"IF(COUNTIF($X29:BK29,$I29+N($J29))<$K29,$I29+N($J29),0)","v":0},{"$f":"IF(COUNTIF($X29:BL29,$I29+N($J29))<$K29,$I29+N($J29),0)","v":0},{"$f":"IF(COUNTIF($X29:BM29,$I29+N($J29))<$K29,$I29+N($J29),0)","v":0},{"$f":"IF(COUNTIF($X29:BN29,$I29+N($J29))<$K29,$I29+N($J29),0)","v":0},{"$f":"IF(COUNTIF($X29:BO29,$I29+N($J29))<$K29,$I29+N($J29),0)","v":0},{"$f":"IF(COUNTIF($X29:BP29,$I29+N($J29))<$K29,$I29+N($J29),0)","v":0},{"$f":"IF(COUNTIF($X29:BQ29,$I29+N($J29))<$K29,$I29+N($J29),0)","v":0},{"$f":"IF(COUNTIF($X29:BR29,$I29+N($J29))<$K29,$I29+N($J29),0)","v":0},{"$f":"IF(COUNTIF($X29:BS29,$I29+N($J29))<$K29,$I29+N($J29),0)","v":0},{"$f":"IF(COUNTIF($X29:BT29,$I29+N($J29))<$K29,$I29+N($J29),0)","v":0},-0.3]
[null,{"$f":"'8-Cost by Measure'!B33","v":19},{"$f":"IF('8-Cost by Measure'!C33=0,\"\",'8-Cost by Measure'!C33)","v":""},null,null,null,"",null,null,{"$f":"IF(C30=\"\",\"\",(D30*10*'6-Energy Rates'!$C$14)+(E30*'6-Energy Rates'!$C$12))","v":""},null,{"$f":"IF(N(J30)=0,0,'8-Cost by Measure'!Q33/J30)","v":0},"",{"$f":"IF(N(J30)=0,0,-PV($D$35,K30,J30)-'8-Cost by Measure'!Q33)","v":0},0,"Y/N",null,null,{"$error":"#N/A"},{"$error":"#N/A"},{"$error":"#N/A"},null,{"$f":"-'8-Cost by Measure'!Q33","v":0},0,0,{"$f":"IF(COUNTIF($X30:Y30,$I30+N($J30))<$K30,$I30+N($J30),0)","v":0},{"$f":"IF(COUNTIF($X30:Z30,$I30+N($J30))<$K30,$I30+N($J30),0)","v":0},{"$f":"IF(COUNTIF($X30:AA30,$I30+N($J30))<$K30,$I30+N($J30),0)","v":0},{"$f":"IF(COUNTIF($X30:AB30,$I30+N($J30))<$K30,$I30+N($J30),0)","v":0},{"$f":"IF(COUNTIF($X30:AC30,$I30+N($J30))<$K30,$I30+N($J30),0)","v":0},{"$f":"IF(COUNTIF($X30:AD30,$I30+N($J30))<$K30,$I30+N($J30),0)","v":0},{"$f":"IF(COUNTIF($X30:AE30,$I30+N($J30))<$K30,$I30+N($J30),0)","v":0},{"$f":"IF(COUNTIF($X30:AF30,$I30+N($J30))<$K30,$I30+N($J30),0)","v":0},{"$f":"IF(COUNTIF($X30:AG30,$I30+N($J30))<$K30,$I30+N($J30),0)","v":0},{"$f":"IF(COUNTIF($X30:AH30,$I30+N($J30))<$K30,$I30+N($J30),0)","v":0},{"$f":"IF(COUNTIF($X30:AI30,$I30+N($J30))<$K30,$I30+N($J30),0)","v":0},{"$f":"IF(COUNTIF($X30:AJ30,$I30+N($J30))<$K30,$I30+N($J30),0)","v":0},{"$f":"IF(COUNTIF($X30:AK30,$I30+N($J30))<$K30,$I30+N($J30),0)","v":0},{"$f":"IF(COUNTIF($X30:AL30,$I30+N($J30))<$K30,$I30+N($J30),0)","v":0},{"$f":"IF(COUNTIF($X30:AM30,$I30+N($J30))<$K30,$I30+N($J30),0)","v":0},{"$f":"IF(COUNTIF($X30:AN30,$I30+N($J30))<$K30,$I30+N($J30),0)","v":0},{"$f":"IF(COUNTIF($X30:AO30,$I30+N($J30))<$K30,$I30+N($J30),0)","v":0},{"$f":"IF(COUNTIF($X30:AP30,$I30+N($J30))<$K30,$I30+N($J30),0)","v":0},{"$f":"IF(COUNTIF($X30:AQ30,$I30+N($J30))<$K30,$I30+N($J30),0)","v":0},{"$f":"IF(COUNTIF($X30:AR30,$I30+N($J30))<$K30,$I30+N($J30),0)","v":0},{"$f":"IF(COUNTIF($X30:AS30,$I30+N($J30))<$K30,$I30+N($J30),0)","v":0},{"$f":"IF(COUNTIF($X30:AT30,$I30+N($J30))<$K30,$I30+N($J30),0)","v":0},{"$f":"IF(COUNTIF($X30:AU30,$I30+N($J30))<$K30,$I30+N($J30),0)","v":0},{"$f":"IF(COUNTIF($X30:AV30,$I30+N($J30))<$K30,$I30+N($J30),0)","v":0},{"$f":"IF(COUNTIF($X30:AW30,$I30+N($J30))<$K30,$I30+N($J30),0)","v":0},{"$f":"IF(COUNTIF($X30:AX30,$I30+N($J30))<$K30,$I30+N($J30),0)","v":0},{"$f":"IF(COUNTIF($X30:AY30,$I30+N($J30))<$K30,$I30+N($J30),0)","v":0},{"$f":"IF(COUNTIF($X30:AZ30,$I30+N($J30))<$K30,$I30+N($J30),0)","v":0},{"$f":"IF(COUNTIF($X30:BA30,$I30+N($J30))<$K30,$I30+N($J30),0)","v":0},{"$f":"IF(COUNTIF($X30:BB30,$I30+N($J30))<$K30,$I30+N($J30),0)","v":0},{"$f":"IF(COUNTIF($X30:BC30,$I30+N($J30))<$K30,$I30+N($J30),0)","v":0},{"$f":"IF(COUNTIF($X30:BD30,$I30+N($J30))<$K30,$I30+N($J30),0)","v":0},{"$f":"IF(COUNTIF($X30:BE30,$I30+N($J30))<$K30,$I30+N($J30),0)","v":0},{"$f":"IF(COUNTIF($X30:BF30,$I30+N($J30))<$K30,$I30+N($J30),0)","v":0},{"$f":"IF(COUNTIF($X30:BG30,$I30+N($J30))<$K30,$I30+N($J30),0)","v":0},{"$f":"IF(COUNTIF($X30:BH30,$I30+N($J30))<$K30,$I30+N($J30),0)","v":0},{"$f":"IF(COUNTIF($X30:BI30,$I30+N($J30))<$K30,$I30+N($J30),0)","v":0},{"$f":"IF(COUNTIF($X30:BJ30,$I30+N($J30))<$K30,$I30+N($J30),0)","v":0},{"$f":"IF(COUNTIF($X30:BK30,$I30+N($J30))<$K30,$I30+N($J30),0)","v":0},{"$f":"IF(COUNTIF($X30:BL30,$I30+N($J30))<$K30,$I30+N($J30),0)","v":0},{"$f":"IF(COUNTIF($X30:BM30,$I30+N($J30))<$K30,$I30+N($J30),0)","v":0},{"$f":"IF(COUNTIF($X30:BN30,$I30+N($J30))<$K30,$I30+N($J30),0)","v":0},{"$f":"IF(COUNTIF($X30:BO30,$I30+N($J30))<$K30,$I30+N($J30),0)","v":0},{"$f":"IF(COUNTIF($X30:BP30,$I30+N($J30))<$K30,$I30+N($J30),0)","v":0},{"$f":"IF(COUNTIF($X30:BQ30,$I30+N($J30))<$K30,$I30+N($J30),0)","v":0},{"$f":"IF(COUNTIF($X30:BR30,$I30+N($J30))<$K30,$I30+N($J30),0)","v":0},{"$f":"IF(COUNTIF($X30:BS30,$I30+N($J30))<$K30,$I30+N($J30),0)","v":0},{"$f":"IF(COUNTIF($X30:BT30,$I30+N($J30))<$K30,$I30+N($J30),0)","v":0},-0.3]
[null,{"$f":"'8-Cost by Measure'!B34","v":20},{"$f":"IF('8-Cost by Measure'!C34=0,\"\",'8-Cost by Measure'!C34)","v":""},null,null,null,"",null,null,{"$f":"IF(C31=\"\",\"\",(D31*10*'6-Energy Rates'!$C$14)+(E31*'6-Energy Rates'!$C$12))","v":""},null,{"$f":"IF(N(J31)=0,0,'8-Cost by Measure'!Q34/J31)","v":0},"",{"$f":"IF(N(J31)=0,0,-PV($D$35,K31,J31)-'8-Cost by Measure'!Q34)","v":0},0,"Y/N",null,null,{"$error":"#N/A"},{"$error":"#N/A"},{"$error":"#N/A"},null,{"$f":"-'8-Cost by Measure'!Q34","v":0},0,0,{"$f":"IF(COUNTIF($X31:Y31,$I31+N($J31))<$K31,$I31+N($J31),0)","v":0},{"$f":"IF(COUNTIF($X31:Z31,$I31+N($J31))<$K31,$I31+N($J31),0)","v":0},{"$f":"IF(COUNTIF($X31:AA31,$I31+N($J31))<$K31,$I31+N($J31),0)","v":0},{"$f":"IF(COUNTIF($X31:AB31,$I31+N($J31))<$K31,$I31+N($J31),0)","v":0},{"$f":"IF(COUNTIF($X31:AC31,$I31+N($J31))<$K31,$I31+N($J31),0)","v":0},{"$f":"IF(COUNTIF($X31:AD31,$I31+N($J31))<$K31,$I31+N($J31),0)","v":0},{"$f":"IF(COUNTIF($X31:AE31,$I31+N($J31))<$K31,$I31+N($J31),0)","v":0},{"$f":"IF(COUNTIF($X31:AF31,$I31+N($J31))<$K31,$I31+N($J31),0)","v":0},{"$f":"IF(COUNTIF($X31:AG31,$I31+N($J31))<$K31,$I31+N($J31),0)","v":0},{"$f":"IF(COUNTIF($X31:AH31,$I31+N($J31))<$K31,$I31+N($J31),0)","v":0},{"$f":"IF(COUNTIF($X31:AI31,$I31+N($J31))<$K31,$I31+N($J31),0)","v":0},{"$f":"IF(COUNTIF($X31:AJ31,$I31+N($J31))<$K31,$I31+N($J31),0)","v":0},{"$f":"IF(COUNTIF($X31:AK31,$I31+N($J31))<$K31,$I31+N($J31),0)","v":0},{"$f":"IF(COUNTIF($X31:AL31,$I31+N($J31))<$K31,$I31+N($J31),0)","v":0},{"$f":"IF(COUNTIF($X31:AM31,$I31+N($J31))<$K31,$I31+N($J31),0)","v":0},{"$f":"IF(COUNTIF($X31:AN31,$I31+N($J31))<$K31,$I31+N($J31),0)","v":0},{"$f":"IF(COUNTIF($X31:AO31,$I31+N($J31))<$K31,$I31+N($J31),0)","v":0},{"$f":"IF(COUNTIF($X31:AP31,$I31+N($J31))<$K31,$I31+N($J31),0)","v":0},{"$f":"IF(COUNTIF($X31:AQ31,$I31+N($J31))<$K31,$I31+N($J31),0)","v":0},{"$f":"IF(COUNTIF($X31:AR31,$I31+N($J31))<$K31,$I31+N($J31),0)","v":0},{"$f":"IF(COUNTIF($X31:AS31,$I31+N($J31))<$K31,$I31+N($J31),0)","v":0},{"$f":"IF(COUNTIF($X31:AT31,$I31+N($J31))<$K31,$I31+N($J31),0)","v":0},{"$f":"IF(COUNTIF($X31:AU31,$I31+N($J31))<$K31,$I31+N($J31),0)","v":0},{"$f":"IF(COUNTIF($X31:AV31,$I31+N($J31))<$K31,$I31+N($J31),0)","v":0},{"$f":"IF(COUNTIF($X31:AW31,$I31+N($J31))<$K31,$I31+N($J31),0)","v":0},{"$f":"IF(COUNTIF($X31:AX31,$I31+N($J31))<$K31,$I31+N($J31),0)","v":0},{"$f":"IF(COUNTIF($X31:AY31,$I31+N($J31))<$K31,$I31+N($J31),0)","v":0},{"$f":"IF(COUNTIF($X31:AZ31,$I31+N($J31))<$K31,$I31+N($J31),0)","v":0},{"$f":"IF(COUNTIF($X31:BA31,$I31+N($J31))<$K31,$I31+N($J31),0)","v":0},{"$f":"IF(COUNTIF($X31:BB31,$I31+N($J31))<$K31,$I31+N($J31),0)","v":0},{"$f":"IF(COUNTIF($X31:BC31,$I31+N($J31))<$K31,$I31+N($J31),0)","v":0},{"$f":"IF(COUNTIF($X31:BD31,$I31+N($J31))<$K31,$I31+N($J31),0)","v":0},{"$f":"IF(COUNTIF($X31:BE31,$I31+N($J31))<$K31,$I31+N($J31),0)","v":0},{"$f":"IF(COUNTIF($X31:BF31,$I31+N($J31))<$K31,$I31+N($J31),0)","v":0},{"$f":"IF(COUNTIF($X31:BG31,$I31+N($J31))<$K31,$I31+N($J31),0)","v":0},{"$f":"IF(COUNTIF($X31:BH31,$I31+N($J31))<$K31,$I31+N($J31),0)","v":0},{"$f":"IF(COUNTIF($X31:BI31,$I31+N($J31))<$K31,$I31+N($J31),0)","v":0},{"$f":"IF(COUNTIF($X31:BJ31,$I31+N($J31))<$K31,$I31+N($J31),0)","v":0},{"$f":"IF(COUNTIF($X31:BK31,$I31+N($J31))<$K31,$I31+N($J31),0)","v":0},{"$f":"IF(COUNTIF($X31:BL31,$I31+N($J31))<$K31,$I31+N($J31),0)","v":0},{"$f":"IF(COUNTIF($X31:BM31,$I31+N($J31))<$K31,$I31+N($J31),0)","v":0},{"$f":"IF(COUNTIF($X31:BN31,$I31+N($J31))<$K31,$I31+N($J31),0)","v":0},{"$f":"IF(COUNTIF($X31:BO31,$I31+N($J31))<$K31,$I31+N($J31),0)","v":0},{"$f":"IF(COUNTIF($X31:BP31,$I31+N($J31))<$K31,$I31+N($J31),0)","v":0},{"$f":"IF(COUNTIF($X31:BQ31,$I31+N($J31))<$K31,$I31+N($J31),0)","v":0},{"$f":"IF(COUNTIF($X31:BR31,$I31+N($J31))<$K31,$I31+N($J31),0)","v":0},{"$f":"IF(COUNTIF($X31:BS31,$I31+N($J31))<$K31,$I31+N($J31),0)","v":0},{"$f":"IF(COUNTIF($X31:BT31,$I31+N($J31))<$K31,$I31+N($J31),0)","v":0},-0.3]
[]
[null,null,"TOTALS:",{"$f":"SUM(D12:D31)","v":0},{"$f":"SUM(E12:E31)","v":0},null,{"$f":"SUM(G12:G31)","v":0},{"$f":"SUM(H12:H31)","v":0},{"$f":"SUM(I12:I31)","v":0},{"$f":"SUM(J12:J31)","v":0},null,{"$f":"IF(J33=0,0,'8-Cost by Measure'!Q40/J33)","v":0},{"$f":"IF(J33=0,\"\",IF(L33<=0,$BV$35,IRR(W33:BU33,BV33)))","v":""},{"$f":"SUM(N12:N31)","v":0},{"$f":"IF(J33=0,0,SUM(O12:O31)/J33)","v":0},null,null,null,null,null,null,null,{"$f":"-'8-Cost by Measure'!Q40","v":0},{"$f":"SUM(X12:X31)","v":0},{"$f":"SUM(Y12:Y31)","v":0},{"$f":"SUM(Z12:Z31)","v":0},0,0,0,0,0,0,0,0,0,0,0,0,0,0,0,0,0,0,0,0,0,0,0,0,0,0,0,0,0,0,0,0,0,0,0,0,0,{"$f":"SUM(BL12:BL31)","v":0},0,0,0,0,0,0,0,0,0,-0.3]
[]
[null,null,"Discount Rate:",0.03,null,null,null,null,null,null,null,null,null,null,null,null,null,null,null,null,null,null,null,null,null,null,null,null,null,null,null,null,null,null,null,null,null,null,null,null,null,null,null,null,null,null,null,null,null,null,null,null,null,null,null,null,null,null,null,null,null,null,null,null,null,null,null,null,null,null,null,null,null,"∞"]

{"sheet":"Tables of Values","index":10,"n_rows":16,"n_cols":3,"rows_kept":16,"cut":false,"hidden":true,"merged":[[0,0,0,1],[9,0,9,2]]}
["Baseline Fixtures, per EPAct 1992"]
["Fixture","Flow Rate"]
["Baseline Toilets (GPF)",1.6]
["Baseline Urinals (GPF)",1]
["Baseline Showerheads (GPM)",2.5]
["Baseline Bathroom Faucets (GPM)",2.5]
["Baseline Kitchen Faucets (GPM)",2.5]
[]
[]
["Fixture Use"]
["Fixture Type","Duration (sec)","Uses/Day/Occupant"]
["Toilets","-",5]
["Urinals","-","-"]
["Showerheads",300,1]
["Bathroom Faucets",15,5]
["Kitchen Faucets",60,4]

{"sheet":"Locator Map","index":11,"n_rows":910,"n_cols":15,"rows_kept":910,"cut":false,"hidden":true,"merged":[[0,8,0,11],[0,15,0,17],[0,12,0,14],[909,1,909,4],[909,8,909,11],[909,12,909,14]]}
[null,"actual","actual",null,"actual",null,null,null,"climate mapped",null,null,null,"weather normalization mapped"]
[null,"zip_code","zip_state",null,"zip_city",null,null,null,"city state","state","CDD","HDD","city","state","file name"]
[]
["User",{"$f":"LOOKUP(#REF!,H6:H906,B6:B906)","v":{"$error":"#REF!"}},null,null,null,null,null,{"$f":"LOOKUP(#REF!,H6:H906)","v":{"$error":"#REF!"}}]
[]
[null,"574","\"South_Dakota\"","SD","\"Aberdeen\"",{"$f":"LEN(E6)","v":10},{"$f":"MID(E6,2,F6-2)","v":"Aberdeen"},{"$f":"CONCATENATE(G6,\", \",+D6)","v":"Aberdeen, SD"},"ABERDEEN    SD","SD",633,8446,"Fargo","ND","NDFARGO.txt"]
[null,"795","\"Texas\"","TX","\"Abilene\"",9,"Abilene","Abilene, TX","ABILENE    TX","TX",2451,2584,"Abilene","TX","TXABILEN.txt"]
[null,"796","\"Texas\"","TX","\"Abilene\"",9,"Abilene","Abilene, TX","ABILENE    TX","TX",2451,2584,"Abilene","TX","TXABILEN.txt"]
[null,"036","\"New_Hampshire\"","NH","\"Acworth\"",9,"Acworth","Acworth, NH","CONCORD    NH","NH",328,7554,"Concord","NH","NHCONCOR.txt"]
[null,"790","\"Texas\"","TX","\"Adrian\"",8,"Adrian","Adrian, TX","AMARILLO    TX","TX",1354,4258,"Amarillo","TX","TXAMARIL.txt"]
[null,"298","\"South_Carolina\"","SC","\"Aiken\"",7,"Aiken","Aiken, SC","COLUMBIA    SC","SC",1966,2649,"Columbia","SC","SCCOLMBA.txt"]
[null,"714","\"Louisiana\"","LA","\"Aimwell\"",9,"Aimwell","Aimwell, LA","SHREVEPORT    LA","LA",2368,2264,"Shreveport","LA","LASHREVE.txt"]
[null,"442","\"Ohio\"","OH","\"Akron\"",7,"Akron","Akron, OH","AKRON    OH","OH",625,6160,"Akron Canton","OH","OHAKRON.txt"]
[null,"443","\"Ohio\"","OH","\"Akron\"",7,"Akron","Akron, OH","AKRON    OH","OH",625,6160,"Akron Canton","OH","OHAKRON.txt"]
[null,"811","\"Colorado\"","CO","\"Alamosa\"",9,"Alamosa","Alamosa, CO","ALAMOSA    CO","CO",62,8749,"Colorado Springs","CO","COCOSPGS.txt"]
[null,"317","\"Georgia\"","GA","\"Albany\"",8,"Albany","Albany, GA","COLUMBUS    GA","GA",2284,2261,"Columbus","GA","GACOLMBS.txt"]
[null,"120","\"New_York\"","NY","\"Albany\"",8,"Albany","Albany, NY","ALBANY    NY","NY",507,6894,"Albany","NY","NYALBANY.txt"]
[null,"121","\"New_York\"","NY","\"Albany\"",8,"Albany","Albany, NY","ALBANY    NY","NY",507,6894,"Albany","NY","NYALBANY.txt"]
[null,"122","\"New_York\"","NY","\"Albany\"",8,"Albany","Albany, NY","ALBANY    NY","NY",507,6894,"Albany","NY","NYALBANY.txt"]
[null,"871","\"New_Mexico\"","NM","\"Albuquerque\"",13,"Albuquerque","Albuquerque, NM","ALBUQUERQUE    NM","NM",1244,4425,"Albuquerque","NM","NMALBUQU.txt"]
[null,"872","\"New_Mexico\"","NM","\"Albuquerque\"",13,"Albuquerque","Albuquerque, NM","ALBUQUERQUE    NM","NM",1244,4425,"Albuquerque","NM","NMALBUQU.txt"]
[null,"713","\"Louisiana\"","LA","\"Alexandria\"",12,"Alexandria","Alexandria, LA","SHREVEPORT    LA","LA",2368,2264,"Shreveport","LA","LASHREVE.txt"]
[null,"223","\"Virginia\"","VA","\"Alexandria\"",12,"Alexandria","Alexandria, VA","WASHINGTON NAT'L AP DC","DC",1549,4047,"Washington","MD","MDWASHDC.txt"]
[null,"918","\"California\"","CA","\"Alhambra\"",10,"Alhambra","Alhambra, CA","LOS ANGELES C.O.    CA","CA",1537,1154,"Los Angeles","CA","CALOSANG.txt"]
[null,"181","\"Pennsylvania\"","PA","\"Allentown\"",11,"Allentown","Allentown, PA","ALLENTOWN    PA","PA",773,5785,"Allentown","PA","PAALLENT.txt"]
[null,"693","\"Nebraska\"","NE","\"Alliance\"",10,"Alliance","Alliance, NE","RAPID CITY    SD","SD",611,7301,"Rapid City","SD","SDRAPCTY.txt"]
[null,"166","\"Pennsylvania\"","PA","\"Altoona\"",9,"Altoona","Altoona, PA","PITTSBURGH    PA","PA",654,5968,"Pittsburgh","PA","PAPITTSB.txt"]
[null,"791","\"Texas\"","TX","\"Amarillo\"",10,"Amarillo","Amarillo, TX","AMARILLO    TX","TX",1354,4258,"Amarillo","TX","TXAMARIL.txt"]
[null,"928","\"California\"","CA","\"Anaheim\"",9,"Anaheim","Anaheim, CA","LONG BEACH    CA","CA",1201,1430,"Los Angeles","CA","CALOSANG.txt"]
[null,"995","\"Alaska\"","AK","\"Anchorage\"",11,"Anchorage","Anchorage, AK","ANCHORAGE    AK","AK",0,10570,"Anchorage","AK","AKANCHOR.txt"]
[null,"996","\"Alaska\"","AK","\"Anchorage\"",11,"Anchorage","Anchorage, AK","ANCHORAGE    AK","AK",0,10570,"Anchorage","AK","AKANCHOR.txt"]
[null,"289","\"North_Carolina\"","NC","\"Andrews\"",9,"Andrews","Andrews, NC","KNOXVILLE    TN","TN",1266,3937,"Knoxville","TN","TNKNOXVI.txt"]
[null,"481","\"Michigan\"","MI","\"Ann Arbor\"",11,"Ann Arbor","Ann Arbor, MI","DETROIT    MI","MI",626,6569,"Detroit","MI","MIDETROI.txt"]
[null,"214","\"Maryland\"","MD","\"Annapolis\"",11,"Annapolis","Annapolis, MD","BALTIMORE    MD","MD",1137,4707,"Baltimore","MD","MDBALTIM.txt"]
[null,"362","\"Alabama\"","AL","\"Anniston\"",10,"Anniston","Anniston, AL","BIRMINGHAM AP    AL","AL",1797,2918,"Birmingham","AL","ALBIRMIN.txt "]
[null,"734","\"Oklahoma\"","OK","\"Ardmore\"",9,"Ardmore","Ardmore, OK","DALLAS-FORT WORTH    TX","TX",2603,2407,"Dallas Ft Worth","TX","TXDALLAS.txt"]
[null,"222","\"Virginia\"","VA","\"Arlington\"",11,"Arlington","Arlington, VA","WASHINGTON NAT'L AP DC","DC",1549,4047,"Washington","MD","MDWASHDC.txt"]
[null,"287","\"North_Carolina\"","NC","\"Asheville\"",11,"Asheville","Asheville, NC","BRISTOL-JHNSN CTY-KNGSPRT    TN","TN",972,4406,"Asheville","NC","NCASHEVI.txt"]
[null,"288","\"North_Carolina\"","NC","\"Asheville\"",11,"Asheville","Asheville, NC","ASHEVILLE    NC","NC",787,4308,"Asheville","NC","NCASHEVI.txt"]
[null,"411","\"Kentucky\"","KY","\"Ashland\"",9,"Ashland","Ashland, KY","LEXINGTON    KY","KY",1140,4783,"Lexington","KY","KYLEXING.txt"]
[null,"412","\"Kentucky\"","KY","\"Ashland\"",9,"Ashland","Ashland, KY","HUNTINGTON    WV","WV",1005,4665,"Charleston","WV","WVCHARLE.txt"]
[null,"306","\"Georgia\"","GA","\"Athens\"",8,"Athens","Athens, GA","ATHENS    GA","GA",1709,2893,"Atlanta","GA","GAATLANT.txt"]
[null,"457","\"Ohio\"","OH","\"Athens\"",8,"Athens","Athens, OH","COLUMBUS    OH","OH",797,5708,"Columbus","OH","OHCOLMBS.txt"]
[null,"300","\"Georgia\"","GA","\"Atlanta\"",9,"Atlanta","Atlanta, GA","ATLANTA    GA","GA",1667,2991,"Atlanta","GA","GAATLANT.txt"]
[null,"301","\"Georgia\"","GA","\"Atlanta\"",9,"Atlanta","Atlanta, GA","ATLANTA    GA","GA",1667,2991,"Atlanta","GA","GAATLANT.txt"]
[null,"302","\"Georgia\"","GA","\"Atlanta\"",9,"Atlanta","Atlanta, GA","ATLANTA    GA","GA",1667,2991,"Atlanta","GA","GAATLANT.txt"]
[null,"303","\"Georgia\"","GA","\"Atlanta\"",9,"Atlanta","Atlanta, GA","ATLANTA    GA","GA",1667,2991,"Atlanta","GA","GAATLANT.txt"]
[null,"084","\"New_Jersey\"","NJ","\"Atlantic City\"",15,"Atlantic City","Atlantic City, NJ","ATLANTIC CITY AP    NJ","NJ",826,5169,"Atlantic City","NJ","NJATLCTY.txt"]
[null,"042","\"Maine\"","ME","\"Auburn\"",8,"Auburn","Auburn, ME","PORTLAND    ME","ME",268,7378,"Portland","ME","MEPORTLA.txt"]
[null,"308","\"Georgia\"","GA","\"Augusta\"",9,"Augusta","Augusta, GA","ATHENS    GA","GA",1709,2893,"Columbia","SC","SCCOLMBA.txt"]
[null,"309","\"Georgia\"","GA","\"Augusta\"",9,"Augusta","Augusta, GA","AUGUSTA    GA","GA",1948,2565,"Columbia","SC","SCCOLMBA.txt"]
[null,"043","\"Maine\"","ME","\"Augusta\"",9,"Augusta","Augusta, ME","PORTLAND    ME","ME",268,7378,"Portland","ME","MEPORTLA.txt"]
[null,"786","\"Texas\"","TX","\"Austin\"",8,"Austin","Austin, TX","SAN ANTONIO    TX","TX",2996,1644,"Austin","TX","TXAUSTIN.txt"]
[null,"787","\"Texas\"","TX","\"Austin\"",8,"Austin","Austin, TX","AUSTIN    TX","TX",3016,1688,"Austin","TX","TXAUSTIN.txt"]
[null,"933","\"California\"","CA","\"Bakersfield\"",13,"Bakersfield","Bakersfield, CA","BAKERSFIELD    CA","CA",2365,2182,"Fresno","CA","CAFRESNO.txt"]
[null,"932","\"California\"","CA","\"Bakersfield/Visalia\"",21,"Bakersfield/Visalia","Bakersfield/Visalia, CA","FRESNO    CA","CA",1967,2556,"Fresno","CA","CAFRESNO.txt"]
[null,"210","\"Maryland\"","MD","\"Baltimore\"",11,"Baltimore","Baltimore, MD","BALTIMORE    MD","MD",1137,4707,"Baltimore","MD","MDBALTIM.txt"]
[null,"211","\"Maryland\"","MD","\"Baltimore\"",11,"Baltimore","Baltimore, MD","BALTIMORE    MD","MD",1137,4707,"Baltimore","MD","MDBALTIM.txt"]
[null,"212","\"Maryland\"","MD","\"Baltimore\"",11,"Baltimore","Baltimore, MD","BALTIMORE    MD","MD",1137,4707,"Baltimore","MD","MDBALTIM.txt"]
[null,"213","\"Maryland\"","MD","\"Baltimore\"",11,"Baltimore","Baltimore, MD","BALTIMORE    MD","MD",1137,4707,"Baltimore","MD","MDBALTIM.txt"]
[null,"044","\"Maine\"","ME","\"Bangor\"",8,"Bangor","Bangor, ME","PORTLAND    ME","ME",268,7378,"Portland","ME","MEPORTLA.txt"]
[null,"725","\"Arkansas\"","AR","\"Batesville\"",12,"Batesville","Batesville, AR","NORTH LITTLE ROCK    AR","AR",1916,3228,"Little Rock","AR","ARLIROCK.txt"]
[null,"045","\"Maine\"","ME","\"Bath\"",6,"Bath","Bath, ME","PORTLAND    ME","ME",268,7378,"Portland","ME","MEPORTLA.txt"]
[null,"707","\"Louisiana\"","LA","\"Baton Rouge\"",13,"Baton Rouge","Baton Rouge, LA","BATON ROUGE    LA","LA",2690,1669,"Baton Rouge","LA","LABATONR.txt"]
[null,"708","\"Louisiana\"","LA","\"Baton Rouge\"",13,"Baton Rouge","Baton Rouge, LA","BATON ROUGE    LA","LA",2690,1669,"Baton Rouge","LA","LABATONR.txt"]
[null,"408","\"Kentucky\"","KY","\"Baxter\"",8,"Baxter","Baxter, KY","BRISTOL-JHNSN CTY-KNGSPRT    TN","TN",972,4406,"Knoxville","TN","TNKNOXVI.txt"]
[null,"299","\"South_Carolina\"","SC","\"Beaufort\"",10,"Beaufort","Beaufort, SC","SAVANNAH    GA","GA",2365,1847,"Savannah","GA","GASAVANN.txt"]
[null,"776","\"Texas\"","TX","\"Beaumont\"",10,"Beaumont","Beaumont, TX","PORT ARTHUR    TX","TX",2764,1499,"Houston","TX","TXHOUSTO.txt"]
[null,"777","\"Texas\"","TX","\"Beaumont\"",10,"Beaumont","Beaumont, TX","PORT ARTHUR    TX","TX",2764,1499,"Houston","TX","TXHOUSTO.txt"]
[null,"258","\"West_Virginia\"","WV","\"Beckley\"",{"$f":"LEN(E70)","v":9},{"$f":"MID(E70,2,F70-2)","v":"Beckley"},{"$f":"CONCATENATE(G70,\", \",+D70)","v":"Beckley, WV"},"BECKLEY    WV","WV",463,5558,"Charleston","WV","WVCHARLE.txt"]
[null,"259","\"West_Virginia\"","WV","\"Beckley\"",9,"Beckley","Beckley, WV","BECKLEY    WV","WV",463,5558,"Charleston","WV","WVCHARLE.txt"]
[null,"051","\"Vermont\"","VT","\"Bellows Falls\"",15,"Bellows Falls","Bellows Falls, VT","CONCORD    NH","NH",328,7554,"Concord","NH","NHCONCOR.txt"]
[null,"566","\"Minnesota\"","MN","\"Bemidji\"",9,"Bemidji","Bemidji, MN","INTERNATIONAL FALLS    MN","MN",249,10487,"Duluth","MN","MNDULUTH.txt"]
[null,"977","\"Oregon\"","OR","\"Bend\"",6,"Bend","Bend, OR","BURNS    OR","OR",202,7785,"Yakima","WA","WAYAKIMA.txt"]
[null,"052","\"Vermont\"","VT","\"Bennington\"",12,"Bennington","Bennington, VT","ALBANY    NY","NY",507,6894,"Albany","NY","NYALBANY.txt"]
[null,"947","\"California\"","CA","\"Berkeley\"",10,"Berkeley","Berkeley, CA","SAN FRANCISCO AP    CA","CA",145,3016,"San Jose","CA","CASANJOS.txt"]
[null,"870","\"New_Mexico\"","NM","\"Bernalillo\"",12,"Bernalillo","Bernalillo, NM","ALBUQUERQUE    NM","NM",1244,4425,"Albuquerque","NM","NMALBUQU.txt"]
[null,"590","\"Montana\"","MT","\"Billings\"",10,"Billings","Billings, MT","BILLINGS    MT","MT",652,7164,"Billings","MT","MTBILLIN.txt"]
[null,"591","\"Montana\"","MT","\"Billings\"",10,"Billings","Billings, MT","BILLINGS    MT","MT",652,7164,"Billings","MT","MTBILLIN.txt"]
[null,"137","\"New_York\"","NY","\"Binghamton\"",12,"Binghamton","Binghamton, NY","ALBANY    NY","NY",507,6894,"Albany","NY","NYALBANY.txt"]
[null,"138","\"New_York\"","NY","\"Binghamton\"",12,"Binghamton","Binghamton, NY","ALBANY    NY","NY",507,6894,"Albany","NY","NYALBANY.txt"]
[null,"139","\"New_York\"","NY","\"Binghamton\"",12,"Binghamton","Binghamton, NY","BINGHAMTON    NY","NY",337,7273,"Wilkes-Barre","PA","PAWILKES.txt"]
[null,"350","\"Alabama\"","AL","\"Birmingham\"",12,"Birmingham","Birmingham, AL","BIRMINGHAM AP    AL","AL",1797,2918,"Birmingham","AL","ALBIRMIN.txt "]
[null,"351","\"Alabama\"","AL","\"Birmingham\"",12,"Birmingham","Birmingham, AL","BIRMINGHAM AP    AL","AL",1797,2918,"Birmingham","AL","ALBIRMIN.txt "]
[null,"352","\"Alabama\"","AL","\"Birmingham\"",12,"Birmingham","Birmingham, AL","BIRMINGHAM AP    AL","AL",1797,2918,"Birmingham","AL","ALBIRMIN.txt "]
[null,"585","\"North_Dakota\"","ND","\"Bismarck\"",10,"Bismarck","Bismarck, ND","BISMARCK    ND","ND",488,8968,"Bismarck","ND","NDBISMAR.txt"]
[null,"617","\"Illinois\"","IL","\"Bloomington\"",13,"Bloomington","Bloomington, IL","SPRINGFIELD    IL","IL",1141,5688,"Springfield","IL","ILSPRING.txt"]
[null,"474","\"Indiana\"","IN","\"Bloomington\"",13,"Bloomington","Bloomington, IN","INDIANAPOLIS    IN","IN",1014,5615,"Indianapolis","IN","ININDIAN.txt"]
[null,"247","\"West_Virginia\"","WV","\"Bluefield\"",11,"Bluefield","Bluefield, WV","ROANOKE    VA","VA",1052,4360,"Roanoke","VA","VAROANOK.txt"]
[null,"836","\"Idaho\"","ID","\"Boise\"",7,"Boise","Boise, ID","BOISE    ID","ID",754,5861,"Boise","ID","IDBOISE.txt"]
[null,"837","\"Idaho\"","ID","\"Boise\"",7,"Boise","Boise, ID","BOISE    ID","ID",754,5861,"Boise","ID","IDBOISE.txt"]
[null,"020","\"Massachusetts\"","MA","\"Boston\"",8,"Boston","Boston, MA","WORCESTER    MA","MA",333,6979,"Boston","MA","MABOSTON.txt"]
[null,"021","\"Massachusetts\"","MA","\"Boston\"",8,"Boston","Boston, MA","BOSTON    MA","MA",678,5641,"Boston","MA","MABOSTON.txt"]
[null,"022","\"Massachusetts\"","MA","\"Boston\"",8,"Boston","Boston, MA","BOSTON    MA","MA",678,5641,"Boston","MA","MABOSTON.txt"]
[null,"803","\"Colorado\"","CO","\"Boulder\"",9,"Boulder","Boulder, CO","DENVER    CO","CO",679,6020,"Denver","CO","CODENVER.txt"]
[null,"421","\"Kentucky\"","KY","\"Bowling Green\"",15,"Bowling Green","Bowling Green, KY","LOUISVILLE    KY","KY",1288,4514,"Louisville","KY","KYLOUISV.txt"]
[null,"434","\"Ohio\"","OH","\"Bowling Green\"",15,"Bowling Green","Bowling Green, OH","TOLEDO    OH","OH",610,6579,"Toledo","OH","OHTOLEDO.txt"]
[null,"342","\"Florida\"","FL","\"Bradenton\"",11,"Bradenton","Bradenton, FL","TAMPA    FL","FL",3427,725,"Tampa St. Petersburg","FL","FLTAMPA.txt"]
[null,"167","\"Pennsylvania\"","PA","\"Bradford\"",10,"Bradford","Bradford, PA","ERIE    PA","PA",550,6279,"Erie","PA","PAERIE.txt"]
[null,"564","\"Minnesota\"","MN","\"Brainerd\"",10,"Brainerd","Brainerd, MN","SAINT CLOUD    MN","MN",415,8928,"Minneapolis St. Paul","MN","MNMINPLS.txt"]
[null,"053","\"Vermont\"","VT","\"Brattleboro\"",13,"Brattleboro","Brattleboro, VT","WORCESTER    MA","MA",333,6979,"Albany","NY","NYALBANY.txt"]
[null,"066","\"Connecticut\"","CT","\"Bridgeport\"",12,"Bridgeport","Bridgeport, CT","BRIDGEPORT    CT","CT",724,5537,"Bridgeport","CT","CTBRIDGE.txt"]
[null,"242","\"Virginia\"","VA","\"Bristol\"",9,"Bristol","Bristol, VA","ROANOKE    VA","VA",1052,4360,"Roanoke","VA","VAROANOK.txt"]
[null,"023","\"Massachusetts\"","MA","\"Brockton\"",10,"Brockton","Brockton, MA","PROVIDENCE    RI","RI",606,5884,"Rhode Island","RI","RIPROVID.txt"]
[null,"024","\"Massachusetts\"","MA","\"Brockton\"",10,"Brockton","Brockton, MA","BOSTON    MA","MA",678,5641,"Boston","MA","MABOSTON.txt"]
[null,"104","\"New_York\"","NY","\"Bronx\"",7,"Bronx","Bronx, NY","NEW YORK (LAGUARDIA AP)    NY","NY",1052,4910,"New York City","NY","NYNEWYOR.txt"]
[null,"112","\"New_York\"","NY","\"Brooklyn\"",10,"Brooklyn","Brooklyn, NY","NEW YORK (LAGUARDIA AP)    NY","NY",1052,4910,"New York City","NY","NYNEWYOR.txt"]
[null,"785","\"Texas\"","TX","\"Brownsville\"",13,"Brownsville","Brownsville, TX","BROWNSVILLE    TX","TX",3888,635,"Brownsville","TX","TXBROWNS.txt"]
[null,"768","\"Texas\"","TX","\"Brownwood\"",11,"Brownwood","Brownwood, TX","ABILENE    TX","TX",2451,2584,"Abilene","TX","TXABILEN.txt"]
[null,"778","\"Texas\"","TX","\"Bryan\"",7,"Bryan","Bryan, TX","AUSTIN    TX","TX",3016,1688,"Austin","TX","TXAUSTIN.txt"]
[null,"853","\"Arizona\"","AZ","\"Buckeye/Yuma\"",14,"Buckeye/Yuma","Buckeye/Yuma, AZ","YUMA    AZ","AZ",4305,927,"Yuma","AZ","AZYUMA.txt"]
[null,"262","\"West_Virginia\"","WV","\"Buckhannon\"",12,"Buckhannon","Buckhannon, WV","CHARLESTON    WV","WV",1031,4646,"Charleston","WV","WVCHARLE.txt"]
[null,"140","\"New_York\"","NY","\"Buffalo\"",9,"Buffalo","Buffalo, NY","ERIE    PA","PA",550,6279,"Erie","PA","PAERIE.txt"]
[null,"141","\"New_York\"","NY","\"Buffalo\"",9,"Buffalo","Buffalo, NY","ROCHESTER    NY","NY",425,6734,"Rochester","NY","NYROCHES.txt"]
[null,"142","\"New_York\"","NY","\"Buffalo\"",9,"Buffalo","Buffalo, NY","BUFFALO    NY","NY",477,6747,"Buffalo","NY","NTBUFFAL.txt"]
[null,"915","\"California\"","CA","\"Burbank\"",9,"Burbank","Burbank, CA","LOS ANGELES C.O.    CA","CA",1537,1154,"Los Angeles","CA","CALOSANG.txt"]
[null,"526","\"Iowa\"","IA","\"Burlington\"",12,"Burlington","Burlington, IA","MOLINE    IL","IL",911,6474,"Des Moines","IA","IADESMOI.txt"]
[null,"054","\"Vermont\"","VT","\"Burlington\"",12,"Burlington","Burlington, VT","BURLINGTON    VT","VT",388,7771,"Burlington","VT","VTBURLIN.txt"]
[null,"369","\"Alabama\"","AL","\"Butler\"",8,"Butler","Butler, AL","MERIDIAN    MS","MS",2138,2444,"Jackson","MS","MSJACKSO.txt"]
[null,"160","\"Pennsylvania\"","PA","\"Butler\"",8,"Butler","Butler, PA","YOUNGSTOWN    OH","OH",497,6544,"Youngstown","OH","OHYOUNGS.txt"]
[null,"597","\"Montana\"","MT","\"Butte\"",7,"Butte","Butte, MT","MISSOULA    MT","MT",280,7792,"Helena","MT","MTHELENA.txt"]
[null,"025","\"Massachusetts\"","MA","\"Buzzards Bay\"",14,"Buzzards Bay","Buzzards Bay, MA","PROVIDENCE    RI","RI",606,5884,"Rhode Island","RI","RIPROVID.txt"]
[null,"717","\"Arkansas\"","AR","\"Camden\"",8,"Camden","Camden, AR","LITTLE ROCK    AR","AR",2005,3155,"Little Rock","AR","ARLIROCK.txt"]
[null,"081","\"New_Jersey\"","NJ","\"Camden\"",8,"Camden","Camden, NJ","PHILADELPHIA    PA","PA",1101,4954,"Philadelphia","PA","PAPHILAD.txt"]
[null,"413","\"Kentucky\"","KY","\"Campton\"",9,"Campton","Campton, KY","JACKSON    KY","KY",1033,4393,"Lexington","KY","KYLEXING.txt"]
[null,"414","\"Kentucky\"","KY","\"Campton\"",9,"Campton","Campton, KY","LEXINGTON    KY","KY",1140,4783,"Lexington","KY","KYLEXING.txt"]
[null,"059","\"Vermont\"","VT","\"Canaan\"",8,"Canaan","Canaan, VT","BURLINGTON    VT","VT",388,7771,"Burlington","VT","VTBURLIN.txt"]
[null,"446","\"Ohio\"","OH","\"Canton\"",8,"Canton","Canton, OH","AKRON    OH","OH",625,6160,"Akron Canton","OH","OHAKRON.txt"]
[null,"447","\"Ohio\"","OH","\"Canton\"",8,"Canton","Canton, OH","AKRON    OH","OH",625,6160,"Akron Canton","OH","OHAKRON.txt"]
[null,"637","\"Missouri\"","MO","\"Cape Girardeau\"",16,"Cape Girardeau","Cape Girardeau, MO","ST. LOUIS    MO","MO",1534,4758,"St Louis","MO","MOSTLOUI.txt"]
[null,"629","\"Illinois\"","IL","\"Carbondale\"",12,"Carbondale","Carbondale, IL","EVANSVILLE    IN","IN",1376,4708,"Evansville","IN","INEVANSV.txt"]
[null,"047","\"Maine\"","ME","\"Caribou\"",9,"Caribou","Caribou, ME","CARIBOU    ME","ME",131,9651,"Caribou","ME","MECARIBO.txt"]
[null,"883","\"New_Mexico\"","NM","\"Carrizozo\"",11,"Carrizozo","Carrizozo, NM","ALBUQUERQUE    NM","NM",1244,4425,"Albuquerque","NM","NMALBUQU.txt"]
[null,"514","\"Iowa\"","IA","\"Carroll\"",{"$f":"LEN(E134)","v":9},{"$f":"MID(E134,2,F134-2)","v":"Carroll"},{"$f":"CONCATENATE(G134,\", \",+D134)","v":"Carroll, IA"},"SIOUX CITY    IA","IA",907,6893,"Sioux City","IA","IASIOCTY.txt"]
[null,"897","\"Nevada\"","NV","\"Carson City\"",13,"Carson City","Carson City, NV","RENO    NV","NV",508,5674,"Reno","NV","NVRENO.txt"]
[null,"852","\"Arizona\"","AZ","\"Casa Grande\"",13,"Casa Grande","Casa Grande, AZ","TUCSON    AZ","AZ",2954,1678,"Tucson","AZ","AZTUCSON.txt"]
[null,"826","\"Wyoming\"","WY","\"Casper\"",8,"Casper","Casper, WY","SHERIDAN    WY","WY",439,7804,"Casper","WY","WYCASPER.txt "]
[null,"522","\"Iowa\"","IA","\"Cedar Rapids\"",14,"Cedar Rapids","Cedar Rapids, IA","DES MOINES    IA","IA",1036,6497,"Des Moines","IA","IADESMOI.txt"]
[null,"523","\"Iowa\"","IA","\"Cedar Rapids\"",14,"Cedar Rapids","Cedar Rapids, IA","DES MOINES    IA","IA",1036,6497,"Des Moines","IA","IADESMOI.txt"]
[null,"524","\"Iowa\"","IA","\"Cedar Rapids\"",14,"Cedar Rapids","Cedar Rapids, IA","WATERLOO    IA","IA",702,7406,"Des Moines","IA","IADESMOI.txt"]
[null,"628","\"Illinois\"","IL","\"Centralia\"",11,"Centralia","Centralia, IL","EVANSVILLE    IN","IN",1376,4708,"Evansville","IN","INEVANSV.txt"]
[null,"172","\"Pennsylvania\"","PA","\"Chambersburg\"",14,"Chambersburg","Chambersburg, PA","HARRISBURG    PA","PA",962,5347,"Harrisburg","PA","PAHARRIS.txt "]
[null,"618","\"Illinois\"","IL","\"Champaign/Urbana\"",18,"Champaign/Urbana","Champaign/Urbana, IL","SPRINGFIELD    IL","IL",1141,5688,"Springfield","IL","ILSPRING.txt"]
[null,"619","\"Illinois\"","IL","\"Champaign/Urbana\"",18,"Champaign/Urbana","Champaign/Urbana, IL","SPRINGFIELD    IL","IL",1141,5688,"Springfield","IL","ILSPRING.txt"]
[null,"294","\"South_Carolina\"","SC","\"Charleston\"",12,"Charleston","Charleston, SC","CHARLESTON AP    SC","SC",2266,2013,"Charleston","SC","SCCHARLE.txt"]
[null,"250","\"West_Virginia\"","WV","\"Charleston\"",12,"Charleston","Charleston, WV","CHARLESTON    WV","WV",1031,4646,"Charleston","WV","WVCHARLE.txt"]
[null,"251","\"West_Virginia\"","WV","\"Charleston\"",12,"Charleston","Charleston, WV","CHARLESTON    WV","WV",1031,4646,"Charleston","WV","WVCHARLE.txt"]
[null,"252","\"West_Virginia\"","WV","\"Charleston\"",12,"Charleston","Charleston, WV","CHARLESTON    WV","WV",1031,4646,"Charleston","WV","WVCHARLE.txt"]
[null,"253","\"West_Virginia\"","WV","\"Charleston\"",12,"Charleston","Charleston, WV","CHARLESTON    WV","WV",1031,4646,"Charleston","WV","WVCHARLE.txt"]
[null,"280","\"North_Carolina\"","NC","\"Charlotte\"",11,"Charlotte","Charlotte, NC","GREENVILLE-SPARTANBURG AP    SC","SC",1473,3272,"Charlotte","NC","NCCHARLO.txt"]
[null,"281","\"North_Carolina\"","NC","\"Charlotte\"",11,"Charlotte","Charlotte, NC","GREENVILLE-SPARTANBURG AP    SC","SC",1473,3272,"Charlotte","NC","NCCHARLO.txt"]
[null,"282","\"North_Carolina\"","NC","\"Charlotte\"",11,"Charlotte","Charlotte, NC","CHARLOTTE   NC","NC",1582,3341,"Charlotte","NC","NCCHARLO.txt"]
[null,"229","\"Virginia\"","VA","\"Charlottesville\"",17,"Charlottesville","Charlottesville, VA","RICHMOND    VA","VA",1348,3963,"Richmond","VA","VARICHMO.txt"]
[null,"373","\"Tennessee\"","TN","\"Chattanooga\"",13,"Chattanooga","Chattanooga, TN","HUNTSVILLE    AL","AL",1651,3323,"Chattanooga","TN","TNCHATTA.txt"]
[null,"374","\"Tennessee\"","TN","\"Chattanooga\"",13,"Chattanooga","Chattanooga, TN","CHATTANOOGA    TN","TN",1544,3587,"Chattanooga","TN","TNCHATTA.txt"]
[null,"080","\"New_Jersey\"","NJ","\"Cherry Hill\"",13,"Cherry Hill","Cherry Hill, NJ","PHILADELPHIA    PA","PA",1101,4954,"Philadelphia","PA","PAPHILAD.txt"]
[null,"820","\"Wyoming\"","WY","\"Cheyenne\"",10,"Cheyenne","Cheyenne, WY","CHEYENNE    WY","WY",285,7326,"Cheyenne","WY","WYCHEYEN.txt"]
[null,"606","\"Illinois\"","IL","\"Chicago\"",9,"Chicago","Chicago, IL","CHICAGO    IL","IL",752,6536,"Chicago","IL","ILCHICAG.txt"]
[null,"607","\"Illinois\"","IL","\"Chicago\"",9,"Chicago","Chicago, IL","CHICAGO    IL","IL",752,6536,"Chicago","IL","ILCHICAG.txt"]
[null,"792","\"Texas\"","TX","\"Childress\"",11,"Childress","Childress, TX","LUBBOCK    TX","TX",1689,3431,"Lubbock","TX","TXLUBBOC.txt"]
[null,"646","\"Missouri\"","MO","\"Chillicothe\"",13,"Chillicothe","Chillicothe, MO","KANSAS CITY    MO","MO",1288,5393,"Kansas City","MO","MOKANCTY.txt"]
[null,"456","\"Ohio\"","OH","\"Chillicothe\"",13,"Chillicothe","Chillicothe, OH","GREATER CINCINNATI AP KY","KY",996,5248,"Cincinnati","OH","OHCINCIN.txt"]
[null,"450","\"Ohio\"","OH","\"Cincinnati\"",12,"Cincinnati","Cincinnati, OH","GREATER CINCINNATI AP KY","KY",996,5248,"Cincinnati","OH","OHCINCIN.txt"]
[null,"451","\"Ohio\"","OH","\"Cincinnati\"",12,"Cincinnati","Cincinnati, OH","GREATER CINCINNATI AP KY","KY",996,5248,"Cincinnati","OH","OHCINCIN.txt"]
[null,"452","\"Ohio\"","OH","\"Cincinnati\"",12,"Cincinnati","Cincinnati, OH","GREATER CINCINNATI AP KY","KY",996,5248,"Cincinnati","OH","OHCINCIN.txt"]
[null,"037","\"New_Hampshire\"","NH","\"Claremont\"",11,"Claremont","Claremont, NH","BURLINGTON    VT","VT",388,7771,"Burlington","VT","VTBURLIN.txt"]
[null,"263","\"West_Virginia\"","WV","\"Clarksburg\"",12,"Clarksburg","Clarksburg, WV","ELKINS    WV","WV",346,6120,"Elkins","WV","WVELKINS.txt"]
[null,"264","\"West_Virginia\"","WV","\"Clarksburg\"",12,"Clarksburg","Clarksburg, WV","ELKINS    WV","WV",346,6120,"Elkins","WV","WVELKINS.txt"]
[null,"994","\"Washington\"","WA","\"Clarkston\"",11,"Clarkston","Clarkston, WA","PENDLETON    OR","OR",701,5294,"Yakima","WA","WAYAKIMA.txt"]
[null,"346","\"Florida\"","FL","\"Clearwater\"",12,"Clearwater","Clearwater, FL","TAMPA    FL","FL",3427,725,"Tampa St. Petersburg","FL","FLTAMPA.txt"]
[null,"440","\"Ohio\"","OH","\"Cleveland\"",11,"Cleveland","Cleveland, OH","CLEVELAND    OH","OH",621,6201,"Cleveland","OH","OHCLEVEL.txt"]
[null,"441","\"Ohio\"","OH","\"Cleveland\"",11,"Cleveland","Cleveland, OH","CLEVELAND    OH","OH",621,6201,"Cleveland","OH","OHCLEVEL.txt"]
[null,"736","\"Oklahoma\"","OK","\"Clinton\"",9,"Clinton","Clinton, OK","OKLAHOMA CITY    OK","OK",1859,3659,"Oklahoma City","OK","OKOKLCTY.txt"]
[null,"881","\"New_Mexico\"","NM","\"Clovis\"",8,"Clovis","Clovis, NM","CLAYTON    NM","NM",772,5064,"Amarillo","TX","TXAMARIL.txt"]
[null,"838","\"Idaho\"","ID","\"Coeur D'Alene\"",15,"Coeur D'Alene","Coeur D'Alene, ID","SPOKANE    WA","WA",398,6842,"Spokane","WA","WASPOKAN.txt"]
[null,"677","\"Kansas\"","KS","\"Colby\"",7,"Colby","Colby, KS","GOODLAND    KS","KS",859,5974,"Goodland","KS","KSGOODLA.txt"]
[null,"808","\"Colorado\"","CO","\"Colorado Springs\"",18,"Colorado Springs","Colorado Springs, CO","COLORADO SPRINGS    CO","CO",419,6415,"Colorado Springs","CO","COCOSPGS.txt"]
[null,"809","\"Colorado\"","CO","\"Colorado Springs\"",18,"Colorado Springs","Colorado Springs, CO","COLORADO SPRINGS    CO","CO",419,6415,"Colorado Springs","CO","COCOSPGS.txt"]
[null,"652","\"Missouri\"","MO","\"Columbia\"",10,"Columbia","Columbia, MO","COLUMBIA    MO","MO",1189,5212,"St Louis","MO","MOSTLOUI.txt"]
[null,"290","\"South_Carolina\"","SC","\"Columbia\"",10,"Columbia","Columbia, SC","COLUMBIA    SC","SC",1966,2649,"Columbia","SC","SCCOLMBA.txt"]
[null,"291","\"South_Carolina\"","SC","\"Columbia\"",10,"Columbia","Columbia, SC","COLUMBIA    SC","SC",1966,2649,"Columbia","SC","SCCOLMBA.txt"]
[null,"292","\"South_Carolina\"","SC","\"Columbia\"",10,"Columbia","Columbia, SC","COLUMBIA    SC","SC",1966,2649,"Columbia","SC","SCCOLMBA.txt"]
[null,"384","\"Tennessee\"","TN","\"Columbia\"",10,"Columbia","Columbia, TN","NASHVILLE    TN","TN",1616,3729,"Nashville","TN","TNNASHVI.txt"]
[null,"318","\"Georgia\"","GA","\"Columbus\"",10,"Columbus","Columbus, GA","MACON    GA","GA",2125,2334,"Columbus","GA","GACOLMBS.txt"]
[null,"319","\"Georgia\"","GA","\"Columbus\"",10,"Columbus","Columbus, GA","COLUMBUS    GA","GA",2284,2261,"Columbus","GA","GACOLMBS.txt"]
[null,"472","\"Indiana\"","IN","\"Columbus\"",10,"Columbus","Columbus, IN","INDIANAPOLIS    IN","IN",1014,5615,"Indianapolis","IN","ININDIAN.txt"]
[null,"397","\"Mississippi\"","MS","\"Columbus\"",10,"Columbus","Columbus, MS","BIRMINGHAM AP    AL","AL",1797,2918,"Birmingham","AL","ALBIRMIN.txt "]
[null,"686","\"Nebraska\"","NE","\"Columbus\"",10,"Columbus","Columbus, NE","GRAND ISLAND    NE","NE",997,6421,"Lincoln","NE","NELINCOL.txt"]
[null,"430","\"Ohio\"","OH","\"Columbus\"",10,"Columbus","Columbus, OH","COLUMBUS    OH","OH",797,5708,"Columbus","OH","OHCOLMBS.txt"]
[null,"431","\"Ohio\"","OH","\"Columbus\"",10,"Columbus","Columbus, OH","COLUMBUS    OH","OH",797,5708,"Columbus","OH","OHCOLMBS.txt"]
[null,"432","\"Ohio\"","OH","\"Columbus\"",10,"Columbus","Columbus, OH","COLUMBUS    OH","OH",797,5708,"Columbus","OH","OHCOLMBS.txt"]
[null,"945","\"California\"","CA","\"Concord\"",9,"Concord","Concord, CA","SACRAMENTO    CA","CA",1237,2749,"Sacramento","CA","CASACRAM.txt"]
[null,"033","\"New_Hampshire\"","NH","\"Concord\"",9,"Concord","Concord, NH","CONCORD    NH","NH",328,7554,"Concord","NH","NHCONCOR.txt"]
[null,"669","\"Kansas\"","KS","\"Concordia\"",11,"Concordia","Concordia, KS","CONCORDIA    KS","KS",1317,5574,"Topeka","KS","KSTOPEKA.txt"]
[null,"773","\"Texas\"","TX","\"Conroe\"",8,"Conroe","Conroe, TX","HOUSTON    TX","TX",2700,1599,"Houston","TX","TXHOUSTO.txt"]
[null,"385","\"Tennessee\"","TN","\"Cookeville\"",12,"Cookeville","Cookeville, TN","NASHVILLE    TN","TN",1616,3729,"Nashville","TN","TNNASHVI.txt"]
[null,"407","\"Kentucky\"","KY","\"Corbin\"",8,"Corbin","Corbin, KY","KNOXVILLE    TN","TN",1266,3937,"Knoxville","TN","TNKNOXVI.txt"]
[null,"783","\"Texas\"","TX","\"Corpus Christi\"",{"$f":"LEN(E198)","v":16},{"$f":"MID(E198,2,F198-2)","v":"Corpus Christi"},{"$f":"CONCATENATE(G198,\", \",+D198)","v":"Corpus Christi, TX"},"CORPUS CHRISTI    TX","TX",3439,1016,"Corpus Christi","TX","TXCORPUS.txt"]
[null,"784","\"Texas\"","TX","\"Corpus Christi\"",16,"Corpus Christi","Corpus Christi, TX","CORPUS CHRISTI    TX","TX",3439,1016,"Corpus Christi","TX","TXCORPUS.txt"]
[null,"515","\"Iowa\"","IA","\"Council Bluffs\"",16,"Council Bluffs","Council Bluffs, IA","OMAHA (NORTH)    NE","NE",1037,6413,"Omaha","NE","NEOMAHA.txt"]
[null,"917","\"California\"","CA","\"Covina\"",8,"Covina","Covina, CA","LONG BEACH    CA","CA",1201,1430,"Los Angeles","CA","CALOSANG.txt"]
[null,"508","\"Iowa\"","IA","\"Creston\"",9,"Creston","Creston, IA","DES MOINES    IA","IA",1036,6497,"Des Moines","IA","IADESMOI.txt"]
[null,"227","\"Virginia\"","VA","\"Culpeper\"",10,"Culpeper","Culpeper, VA","WASHINGTON DULLES AP DC","DC",973,5006,"Washington","MD","MDWASHDC.txt"]
[null,"215","\"Maryland\"","MD","\"Cumberland\"",12,"Cumberland","Cumberland, MD","PITTSBURGH    PA","PA",654,5968,"Pittsburgh","PA","PAPITTSB.txt"]
[null,"750","\"Texas\"","TX","\"Dallas\"",8,"Dallas","Dallas, TX","DALLAS-FORT WORTH    TX","TX",2603,2407,"Dallas Ft Worth","TX","TXDALLAS.txt"]
[null,"751","\"Texas\"","TX","\"Dallas\"",8,"Dallas","Dallas, TX","DALLAS-FORT WORTH    TX","TX",2603,2407,"Dallas Ft Worth","TX","TXDALLAS.txt"]
[null,"752","\"Texas\"","TX","\"Dallas\"",8,"Dallas","Dallas, TX","DALLAS-FORT WORTH    TX","TX",2603,2407,"Dallas Ft Worth","TX","TXDALLAS.txt"]
[null,"753","\"Texas\"","TX","\"Dallas\"",8,"Dallas","Dallas, TX","DALLAS-FORT WORTH    TX","TX",2603,2407,"Dallas Ft Worth","TX","TXDALLAS.txt"]
[null,"307","\"Georgia\"","GA","\"Dalton\"",8,"Dalton","Dalton, GA","CHATTANOOGA    TN","TN",1544,3587,"Chattanooga","TN","TNCHATTA.txt"]
[null,"527","\"Iowa\"","IA","\"Davenport\"",11,"Davenport","Davenport, IA","MOLINE    IL","IL",911,6474,"Des Moines","IA","IADESMOI.txt"]
[null,"528","\"Iowa\"","IA","\"Davenport\"",11,"Davenport","Davenport, IA","MOLINE    IL","IL",911,6474,"Des Moines","IA","IADESMOI.txt"]
[null,"453","\"Ohio\"","OH","\"Dayton\"",8,"Dayton","Dayton, OH","COLUMBUS    OH","OH",797,5708,"Dayton","OH","OHDAYTON.txt"]
[null,"454","\"Ohio\"","OH","\"Dayton\"",8,"Dayton","Dayton, OH","DAYTON    OH","OH",886,5708,"Dayton","OH","OHDAYTON.txt"]
[null,"356","\"Alabama\"","AL","\"Decatur/Florence\"",18,"Decatur/Florence","Decatur/Florence, AL","HUNTSVILLE    AL","AL",1651,3323,"Huntsville","AL","ALHUNTSV.txt"]
[null,"521","\"Iowa\"","IA","\"Decorah\"",9,"Decorah","Decorah, IA","LA CROSSE    WI","WI",692,7491,"Des Moines","IA","IADESMOI.txt"]
[null,"762","\"Texas\"","TX","\"Denton\"",8,"Denton","Denton, TX","DALLAS-FORT WORTH    TX","TX",2603,2407,"Dallas Ft Worth","TX","TXDALLAS.txt"]
[null,"800","\"Colorado\"","CO","\"Denver\"",8,"Denver","Denver, CO","DENVER    CO","CO",679,6020,"Denver","CO","CODENVER.txt"]
[null,"801","\"Colorado\"","CO","\"Denver\"",8,"Denver","Denver, CO","DENVER    CO","CO",679,6020,"Denver","CO","CODENVER.txt"]
[null,"802","\"Colorado\"","CO","\"Denver\"",8,"Denver","Denver, CO","DENVER    CO","CO",679,6020,"Denver","CO","CODENVER.txt"]
[null,"500","\"Iowa\"","IA","\"Des Moines\"",12,"Des Moines","Des Moines, IA","DES MOINES    IA","IA",1036,6497,"Des Moines","IA","IADESMOI.txt"]
[null,"501","\"Iowa\"","IA","\"Des Moines\"",12,"Des Moines","Des Moines, IA","DES MOINES    IA","IA",1036,6497,"Des Moines","IA","IADESMOI.txt"]
[null,"502","\"Iowa\"","IA","\"Des Moines\"",12,"Des Moines","Des Moines, IA","DES MOINES    IA","IA",1036,6497,"Des Moines","IA","IADESMOI.txt"]
[null,"503","\"Iowa\"","IA","\"Des Moines\"",12,"Des Moines","Des Moines, IA","DES MOINES    IA","IA",1036,6497,"Des Moines","IA","IADESMOI.txt"]
[null,"565","\"Minnesota\"","MN","\"Detroit Lakes\"",15,"Detroit Lakes","Detroit Lakes, MN","FARGO    ND","ND",537,9254,"Fargo","ND","NDFARGO.txt"]
[null,"482","\"Michigan\"","MI","\"Detroit\"",9,"Detroit","Detroit, MI","DETROIT    MI","MI",626,6569,"Detroit","MI","MIDETROI.txt"]
[null,"483","\"Michigan\"","MI","\"Detroit\"",9,"Detroit","Detroit, MI","DETROIT    MI","MI",626,6569,"Detroit","MI","MIDETROI.txt"]
[null,"583","\"North_Dakota\"","ND","\"Devils Lake\"",13,"Devils Lake","Devils Lake, ND","FARGO    ND","ND",537,9254,"Fargo","ND","NDFARGO.txt"]
[null,"586","\"North_Dakota\"","ND","\"Dickinson\"",11,"Dickinson","Dickinson, ND","BISMARCK    ND","ND",488,8968,"Bismarck","ND","NDBISMAR.txt"]
[null,"678","\"Kansas\"","KS","\"Dodge City\"",12,"Dodge City","Dodge City, KS","DODGE CITY    KS","KS",1465,5001,"Wichita","KS","KSWICHIT.txt"]
[null,"363","\"Alabama\"","AL","\"Dothan\"",8,"Dothan","Dothan, AL","MONTGOMERY    AL","AL",2212,2224,"Montgomery","AL","ALMONTGO.txt "]
[null,"199","\"Delaware\"","DE","\"Dover\"",7,"Dover","Dover, DE","BALTIMORE    MD","MD",1137,4707,"Baltimore","MD","MDBALTIM.txt"]
[null,"078","\"New_Jersey\"","NJ","\"Dover\"",7,"Dover","Dover, NJ","ALLENTOWN    PA","PA",773,5785,"Allentown","PA","PAALLENT.txt"]
[null,"189","\"Pennsylvania\"","PA","\"Doylestown\"",12,"Doylestown","Doylestown, PA","PHILADELPHIA    PA","PA",1101,4954,"Philadelphia","PA","PAPHILAD.txt"]
[null,"158","\"Pennsylvania\"","PA","\"Du Bois\"",9,"Du Bois","Du Bois, PA","WILLIAMSPORT    PA","PA",622,6087,"Pittsburgh","PA","PAPITTSB.txt"]
[null,"520","\"Iowa\"","IA","\"Dubuque\"",9,"Dubuque","Dubuque, IA","DUBUQUE    IA","IA",593,7327,"Des Moines","IA","IADESMOI.txt"]
[null,"556","\"Minnesota\"","MN","\"Duluth\"",8,"Duluth","Duluth, MN","DULUTH    MN","MN",180,9818,"Duluth","MN","MNDULUTH.txt"]
[null,"557","\"Minnesota\"","MN","\"Duluth\"",8,"Duluth","Duluth, MN","DULUTH    MN","MN",180,9818,"Duluth","MN","MNDULUTH.txt"]
[null,"558","\"Minnesota\"","MN","\"Duluth\"",8,"Duluth","Duluth, MN","DULUTH    MN","MN",180,9818,"Duluth","MN","MNDULUTH.txt"]
[null,"813","\"Colorado\"","CO","\"Durango\"",9,"Durango","Durango, CO","GRAND JUNCTION    CO","CO",1183,5548,"Grand Junction","CO","COGRNDJU.txt"]
[null,"747","\"Oklahoma\"","OK","\"Durant\"",8,"Durant","Durant, OK","DALLAS-FORT WORTH    TX","TX",2603,2407,"Dallas Ft Worth","TX","TXDALLAS.txt"]
[null,"277","\"North_Carolina\"","NC","\"Durham\"",8,"Durham","Durham, NC","RALEIGH    NC","NC",1417,3457,"Raleigh Durham","NC","NCRALEIG.txt"]
[null,"620","\"Illinois\"","IL","\"East Saint Louis\"",18,"East Saint Louis","East Saint Louis, IL","ST. LOUIS    MO","MO",1534,4758,"St Louis","MO","MOSTLOUI.txt"]
[null,"622","\"Illinois\"","IL","\"East Saint Louis\"",18,"East Saint Louis","East Saint Louis, IL","ST. LOUIS    MO","MO",1534,4758,"St Louis","MO","MOSTLOUI.txt"]
[null,"216","\"Maryland\"","MD","\"Easton\"",8,"Easton","Easton, MD","WASHINGTON NAT'L AP DC","DC",1549,4047,"Washington","MD","MDWASHDC.txt"]
[null,"547","\"Wisconsin\"","WI","\"Eau Claire\"",12,"Eau Claire","Eau Claire, WI","MINNEAPOLIS-ST.PAUL    MN","MN",682,7981,"Minneapolis St. Paul","MN","MNMINPLS.txt"]
[null,"624","\"Illinois\"","IL","\"Effingham\"",11,"Effingham","Effingham, IL","ST. LOUIS    MO","MO",1534,4758,"St Louis","MO","MOSTLOUI.txt"]
[null,"798","\"Texas\"","TX","\"El Paso\"",9,"El Paso","El Paso, TX","MIDLAND-ODESSA    TX","TX",2163,2751,"El Paso","TX","TXELPASO.txt"]
[null,"799","\"Texas\"","TX","\"El Paso\"",9,"El Paso","El Paso, TX","EL PASO    TX","TX",2094,2708,"El Paso","TX","TXELPASO.txt"]
[null,"279","\"North_Carolina\"","NC","\"Elizabeth City\"",16,"Elizabeth City","Elizabeth City, NC","NORFOLK    VA","VA",1422,3495,"Norfolk","VA","VANORFOL.txt "]
[null,"072","\"New_Jersey\"","NJ","\"Elizabeth\"",11,"Elizabeth","Elizabeth, NJ","NEWARK    NJ","NJ",1201,4888,"Newark","NJ","NJNEWARK.txt"]
[null,"427","\"Kentucky\"","KY","\"Elizabethtown\"",15,"Elizabethtown","Elizabethtown, KY","NASHVILLE    TN","TN",1616,3729,"Nashville","TN","TNNASHVI.txt"]
[null,"898","\"Nevada\"","NV","\"Elko\"",6,"Elko","Elko, NV","ELKO    NV","NV",457,7077,"Reno","NV","NVRENO.txt"]
[null,"219","\"Maryland\"","MD","\"Elkton\"",8,"Elkton","Elkton, MD","WILMINGTON    DE","DE",1046,4937,"Wilmington","DE","DEWILMIN.txt"]
[null,"046","\"Maine\"","ME","\"Ellsworth\"",11,"Ellsworth","Ellsworth, ME","PORTLAND    ME","ME",268,7378,"Portland","ME","MEPORTLA.txt"]
[null,"149","\"New_York\"","NY","\"Elmira\"",8,"Elmira","Elmira, NY","BINGHAMTON    NY","NY",337,7273,"Syracuse","NY","NYSYRACU.txt"]
[null,"893","\"Nevada\"","NV","\"Ely\"",5,"Ely","Ely, NV","ELY    NV","NV",208,7621,"Reno","NV","NVRENO.txt"]
[null,"668","\"Kansas\"","KS","\"Emporia\"",9,"Emporia","Emporia, KS","WICHITA    KS","KS",1628,4791,"Wichita","KS","KSWICHIT.txt"]
[null,"737","\"Oklahoma\"","OK","\"Enid\"",6,"Enid","Enid, OK","OKLAHOMA CITY    OK","OK",1859,3659,"Oklahoma City","OK","OKOKLCTY.txt"]
[null,"164","\"Pennsylvania\"","PA","\"Erie\"",6,"Erie","Erie, PA","ERIE    PA","PA",550,6279,"Erie","PA","PAERIE.txt"]
[null,"165","\"Pennsylvania\"","PA","\"Erie\"",6,"Erie","Erie, PA","ERIE    PA","PA",550,6279,"Erie","PA","PAERIE.txt"]
[null,"974","\"Oregon\"","OR","\"Eugene\"",8,"Eugene","Eugene, OR","EUGENE    OR","OR",300,4546,"Eugene","OR","OREUGENE.txt"]
[null,"955","\"California\"","CA","\"Eureka\"",{"$f":"LEN(E262)","v":8},{"$f":"MID(E262,2,F262-2)","v":"Eureka"},{"$f":"CONCATENATE(G262,\", \",+D262)","v":"Eureka, CA"},"EUREKA    CA","CA",725,4496,"Medford","OR","ORMEDFOR.txt"]
[null,"602","\"Illinois\"","IL","\"Evanston\"",10,"Evanston","Evanston, IL","CHICAGO    IL","IL",752,6536,"Chicago","IL","ILCHICAG.txt"]
[null,"476","\"Indiana\"","IN","\"Evansville\"",12,"Evansville","Evansville, IN","EVANSVILLE    IN","IN",1376,4708,"Evansville","IN","INEVANSV.txt"]
[null,"477","\"Indiana\"","IN","\"Evansville\"",12,"Evansville","Evansville, IN","EVANSVILLE    IN","IN",1376,4708,"Evansville","IN","INEVANSV.txt"]
[null,"982","\"Washington\"","WA","\"Everett\"",9,"Everett","Everett, WA","QUILLAYUTE    WA","WA",6,5858,"Seattle","WA","WASEATTL.txt"]
[null,"364","\"Alabama\"","AL","\"Evergreen\"",11,"Evergreen","Evergreen, AL","MONTGOMERY    AL","AL",2212,2224,"Montgomery","AL","ALMONTGO.txt "]
[null,"997","\"Alaska\"","AK","\"Fairbanks\"",11,"Fairbanks","Fairbanks, AK","FAIRBANKS    AK","AK",84,13940,"Fairbanks","AK","AKFAIRBA.txt "]
[null,"116","\"New_York\"","NY","\"Far Rockaway\"",14,"Far Rockaway","Far Rockaway, NY","ISLIP    NY","NY",706,5647,"Bridgeport","CT","CTBRIDGE.txt"]
[null,"580","\"North_Dakota\"","ND","\"Fargo\"",7,"Fargo","Fargo, ND","FARGO    ND","ND",537,9254,"Fargo","ND","NDFARGO.txt"]
[null,"581","\"North_Dakota\"","ND","\"Fargo\"",7,"Fargo","Fargo, ND","FARGO    ND","ND",537,9254,"Fargo","ND","NDFARGO.txt"]
[null,"874","\"New_Mexico\"","NM","\"Farmington\"",12,"Farmington","Farmington, NM","GRAND JUNCTION    CO","CO",1183,5548,"Grand Junction","CO","COGRNDJU.txt"]
[null,"239","\"Virginia\"","VA","\"Farmville\"",11,"Farmville","Farmville, VA","RICHMOND    VA","VA",1348,3963,"Richmond","VA","VARICHMO.txt"]
[null,"727","\"Arkansas\"","AR","\"Fayetteville\"",14,"Fayetteville","Fayetteville, AR","SPRINGFIELD    MO","MO",1320,4638,"Springfield","MO","MOSPRING.txt"]
[null,"283","\"North_Carolina\"","NC","\"Fayetteville\"",14,"Fayetteville","Fayetteville, NC","CHARLOTTE   NC","NC",1582,3341,"Charlotte","NC","NCCHARLO.txt"]
[null,"860","\"Arizona\"","AZ","\"Flagstaff\"",11,"Flagstaff","Flagstaff, AZ","FLAGSTAFF    AZ","AZ",145,7131,"Flagstaff","AZ","AZFLAGST.txt"]
[null,"636","\"Missouri\"","MO","\"Flat River\"",12,"Flat River","Flat River, MO","ST. LOUIS    MO","MO",1534,4758,"St Louis","MO","MOSTLOUI.txt"]
[null,"484","\"Michigan\"","MI","\"Flint\"",7,"Flint","Flint, MI","LANSING    MI","MI",490,7101,"Flint","MI","MIFLINT.txt"]
[null,"485","\"Michigan\"","MI","\"Flint\"",7,"Flint","Flint, MI","FLINT    MI","MI",483,6979,"Flint","MI","MIFLINT.txt"]
[null,"295","\"South_Carolina\"","SC","\"Florence\"",10,"Florence","Florence, SC","WILMINGTON    NC","NC",1926,2470,"Columbia","SC","SCCOLMBA.txt"]
[null,"113","\"New_York\"","NY","\"Flushing\"",10,"Flushing","Flushing, NY","NEW YORK (JFK AP)    NY","NY",921,5027,"New York City","NY","NYNEWYOR.txt"]
[null,"505","\"Iowa\"","IA","\"Fort Dodge\"",12,"Fort Dodge","Fort Dodge, IA","SIOUX CITY    IA","IA",907,6893,"Sioux City","IA","IASIOCTY.txt"]
[null,"333","\"Florida\"","FL","\"Fort Lauderdale\"",17,"Fort Lauderdale","Fort Lauderdale, FL","MIAMI    FL","FL",4198,200,"Miami Beach","FL","FLMIAMIB.txt"]
[null,"807","\"Colorado\"","CO","\"Fort Morgan\"",13,"Fort Morgan","Fort Morgan, CO","COLORADO SPRINGS    CO","CO",419,6415,"Colorado Springs","CO","COCOSPGS.txt"]
[null,"339","\"Florida\"","FL","\"Fort Myers\"",12,"Fort Myers","Fort Myers, FL","FORT MYERS    FL","FL",3855,418,"Tampa St. Petersburg","FL","FLTAMPA.txt"]
[null,"349","\"Florida\"","FL","\"Fort Pierce\"",13,"Fort Pierce","Fort Pierce, FL","TAMPA    FL","FL",3427,725,"Tampa St. Petersburg","FL","FLTAMPA.txt"]
[null,"667","\"Kansas\"","KS","\"Fort Scott\"",12,"Fort Scott","Fort Scott, KS","SPRINGFIELD    MO","MO",1320,4638,"Springfield","MO","MOSPRING.txt"]
[null,"729","\"Arkansas\"","AR","\"Fort Smith\"",12,"Fort Smith","Fort Smith, AR","FORT SMITH    AR","AR",1894,3478,"Fort Smith","AR","ARFTSMIT.txt"]
[null,"467","\"Indiana\"","IN","\"Fort Wayne\"",12,"Fort Wayne","Fort Wayne, IN","SOUTH BEND    IN","IN",728,6331,"Fort Wayne","IN","INFTWAYN.txt"]
[null,"468","\"Indiana\"","IN","\"Fort Wayne\"",12,"Fort Wayne","Fort Wayne, IN","FORT WAYNE    IN","IN",824,6273,"Fort Wayne","IN","INFTWAYN.txt"]
[null,"760","\"Texas\"","TX","\"Fort Worth\"",12,"Fort Worth","Fort Worth, TX","DALLAS-FORT WORTH    TX","TX",2603,2407,"Dallas Ft Worth","TX","TXDALLAS.txt"]
[null,"761","\"Texas\"","TX","\"Fort Worth\"",12,"Fort Worth","Fort Worth, TX","DALLAS-FORT WORTH    TX","TX",2603,2407,"Dallas Ft Worth","TX","TXDALLAS.txt"]
[null,"017","\"Massachusetts\"","MA","\"Framingham\"",12,"Framingham","Framingham, MA","WORCESTER    MA","MA",333,6979,"Boston","MA","MABOSTON.txt"]
[null,"406","\"Kentucky\"","KY","\"Frankfort\"",11,"Frankfort","Frankfort, KY","LEXINGTON    KY","KY",1140,4783,"Lexington","KY","KYLEXING.txt"]
[null,"217","\"Maryland\"","MD","\"Frederick\"",11,"Frederick","Frederick, MD","BALTIMORE    MD","MD",1137,4707,"Baltimore","MD","MDBALTIM.txt"]
[null,"224","\"Virginia\"","VA","\"Fredericksburg\"",16,"Fredericksburg","Fredericksburg, VA","RICHMOND    VA","VA",1348,3963,"Richmond","VA","VARICHMO.txt"]
[null,"225","\"Virginia\"","VA","\"Fredericksburg\"",16,"Fredericksburg","Fredericksburg, VA","RICHMOND    VA","VA",1348,3963,"Richmond","VA","VARICHMO.txt"]
[null,"936","\"California\"","CA","\"Fresno\"",8,"Fresno","Fresno, CA","FRESNO    CA","CA",1967,2556,"Fresno","CA","CAFRESNO.txt"]
[null,"937","\"California\"","CA","\"Fresno\"",8,"Fresno","Fresno, CA","FRESNO    CA","CA",1967,2556,"Fresno","CA","CAFRESNO.txt"]
[null,"359","\"Alabama\"","AL","\"Gadsden\"",9,"Gadsden","Gadsden, AL","ATLANTA    GA","GA",1667,2991,"Atlanta","GA","GAATLANT.txt"]
[null,"326","\"Florida\"","FL","\"Gainesville\"",13,"Gainesville","Gainesville, FL","GAINESVILLE    FL","FL",2609,1267,"Jacksonville","FL","FLJACKSV.txt"]
[null,"305","\"Georgia\"","GA","\"Gainesville\"",13,"Gainesville","Gainesville, GA","GREENVILLE-SPARTANBURG AP    SC","SC",1473,3272,"Atlanta","GA","GAATLANT.txt"]
[null,"614","\"Illinois\"","IL","\"Galesburg\"",11,"Galesburg","Galesburg, IL","MOLINE    IL","IL",911,6474,"Peoria","IL","ILPEORIA.txt"]
[null,"873","\"New_Mexico\"","NM","\"Gallup\"",8,"Gallup","Gallup, NM","ALBUQUERQUE    NM","NM",1244,4425,"Albuquerque","NM","NMALBUQU.txt"]
[null,"775","\"Texas\"","TX","\"Galveston\"",11,"Galveston","Galveston, TX","GALVESTON    TX","TX",2994,1263,"Houston","TX","TXHOUSTO.txt"]
[null,"463","\"Indiana\"","IN","\"Gary\"",6,"Gary","Gary, IN","SOUTH BEND    IN","IN",728,6331,"South Bend","IN","INSOBEND.txt"]
[null,"464","\"Indiana\"","IN","\"Gary\"",6,"Gary","Gary, IN","CHICAGO    IL","IL",752,6536,"Chicago","IL","ILCHICAG.txt"]
[null,"266","\"West_Virginia\"","WV","\"Gassaway\"",10,"Gassaway","Gassaway, WV","CHARLESTON    WV","WV",1031,4646,"Charleston","WV","WVCHARLE.txt"]
[null,"789","\"Texas\"","TX","\"Giddings\"",10,"Giddings","Giddings, TX","AUSTIN    TX","TX",3016,1688,"Austin","TX","TXAUSTIN.txt"]
[null,"827","\"Wyoming\"","WY","\"Gillette\"",10,"Gillette","Gillette, WY","CASPER    WY","WY",445,7682,"Casper","WY","WYCASPER.txt "]
[null,"950","\"California\"","CA","\"Gilroy\"",8,"Gilroy","Gilroy, CA","SAN FRANCISCO AP    CA","CA",145,3016,"San Jose","CA","CASANJOS.txt"]
[null,"912","\"California\"","CA","\"Glendale\"",10,"Glendale","Glendale, CA","LOS ANGELES C.O.    CA","CA",1537,1154,"Los Angeles","CA","CALOSANG.txt"]
[null,"128","\"New_York\"","NY","\"Glens Falls\"",13,"Glens Falls","Glens Falls, NY","BURLINGTON    VT","VT",388,7771,"Burlington","VT","VTBURLIN.txt"]
[null,"816","\"Colorado\"","CO","\"Glenwood Springs\"",18,"Glenwood Springs","Glenwood Springs, CO","GRAND JUNCTION    CO","CO",1183,5548,"Grand Junction","CO","COGRNDJU.txt"]
[null,"855","\"Arizona\"","AZ","\"Globe\"",7,"Globe","Globe, AZ","TUCSON    AZ","AZ",2954,1678,"Tucson","AZ","AZTUCSON.txt"]
[null,"804","\"Colorado\"","CO","\"Golden/Dillon\"",15,"Golden/Dillon","Golden/Dillon, CO","DENVER    CO","CO",679,6020,"Denver","CO","CODENVER.txt"]
[null,"582","\"North_Dakota\"","ND","\"Grand Forks\"",13,"Grand Forks","Grand Forks, ND","FARGO    ND","ND",537,9254,"Fargo","ND","NDFARGO.txt"]
[null,"688","\"Nebraska\"","NE","\"Grand Island\"",14,"Grand Island","Grand Island, NE","GRAND ISLAND    NE","NE",997,6421,"Lincoln","NE","NELINCOL.txt"]
[null,"815","\"Colorado\"","CO","\"Grand Junction\"",16,"Grand Junction","Grand Junction, CO","GRAND JUNCTION    CO","CO",1183,5548,"Grand Junction","CO","COGRNDJU.txt"]
[null,"493","\"Michigan\"","MI","\"Grand Rapids\"",14,"Grand Rapids","Grand Rapids, MI","MUSKEGON    MI","MI",431,6924,"Grand Rapids","MI","MIGRNDRA.txt"]
[null,"495","\"Michigan\"","MI","\"Grand Rapids\"",14,"Grand Rapids","Grand Rapids, MI","GRAND RAPIDS    MI","MI",534,6973,"Grand Rapids","MI","MIGRNDRA.txt"]
[null,"594","\"Montana\"","MT","\"Great Falls\"",13,"Great Falls","Great Falls, MT","GREAT FALLS    MT","MT",388,7741,"Great Falls","MT","MTGRFALL.txt"]
[null,"110","\"New_York\"","NY","\"Great Neck\"",12,"Great Neck","Great Neck, NY","NEW YORK (LAGUARDIA AP)    NY","NY",1052,4910,"New York City","NY","NYNEWYOR.txt"]
[null,"806","\"Colorado\"","CO","\"Greeley\"",9,"Greeley","Greeley, CO","DENVER    CO","CO",679,6020,"Denver","CO","CODENVER.txt"]
[null,"541","\"Wisconsin\"","WI","\"Green Bay\"",11,"Green Bay","Green Bay, WI","GREEN BAY    WI","WI",381,8089,"Green Bay","WI","WIGREBAY.txt"]
[null,"542","\"Wisconsin\"","WI","\"Green Bay\"",{"$f":"LEN(E326)","v":11},{"$f":"MID(E326,2,F326-2)","v":"Green Bay"},{"$f":"CONCATENATE(G326,\", \",+D326)","v":"Green Bay, WI"},"GREEN BAY    WI","WI",381,8089,"Green Bay","WI","WIGREBAY.txt"]
[null,"543","\"Wisconsin\"","WI","\"Green Bay\"",11,"Green Bay","Green Bay, WI","GREEN BAY    WI","WI",381,8089,"Green Bay","WI","WIGREBAY.txt"]
[null,"013","\"Massachusetts\"","MA","\"Greenfield\"",12,"Greenfield","Greenfield, MA","WORCESTER    MA","MA",333,6979,"Boston","MA","MABOSTON.txt"]
[null,"272","\"North_Carolina\"","NC","\"Greensboro\"",12,"Greensboro","Greensboro, NC","GREENSBORO-WNSTN-SALM-HGHPT NC","NC",1253,3865,"Greensboro","NC","NCGRNSBO.txt"]
[null,"273","\"North_Carolina\"","NC","\"Greensboro\"",12,"Greensboro","Greensboro, NC","GREENSBORO-WNSTN-SALM-HGHPT NC","NC",1253,3865,"Greensboro","NC","NCGRNSBO.txt"]
[null,"274","\"North_Carolina\"","NC","\"Greensboro\"",12,"Greensboro","Greensboro, NC","GREENSBORO-WNSTN-SALM-HGHPT NC","NC",1253,3865,"Greensboro","NC","NCGRNSBO.txt"]
[null,"156","\"Pennsylvania\"","PA","\"Greensburg\"",12,"Greensburg","Greensburg, PA","PITTSBURGH    PA","PA",654,5968,"Pittsburgh","PA","PAPITTSB.txt"]
[null,"387","\"Mississippi\"","MS","\"Greenville\"",12,"Greenville","Greenville, MS","JACKSON    MS","MS",2215,2467,"Jackson","MS","MSJACKSO.txt"]
[null,"296","\"South_Carolina\"","SC","\"Greenville\"",12,"Greenville","Greenville, SC","GREENVILLE-SPARTANBURG AP    SC","SC",1473,3272,"Charlotte","NC","NCCHARLO.txt"]
[null,"754","\"Texas\"","TX","\"Greenville\"",12,"Greenville","Greenville, TX","DALLAS-FORT WORTH    TX","TX",2603,2407,"Dallas Ft Worth","TX","TXDALLAS.txt"]
[null,"389","\"Mississippi\"","MS","\"Grenada\"",9,"Grenada","Grenada, MS","MERIDIAN    MS","MS",2138,2444,"Tupelo","MS","MSTUPELO.txt"]
[null,"395","\"Mississippi\"","MS","\"Gulfport\"",10,"Gulfport","Gulfport, MS","NEW ORLEANS    LA","LA",2655,1513,"New Orleans","LA","LANEWORL.txt"]
[null,"739","\"Oklahoma\"","OK","\"Guymon\"",8,"Guymon","Guymon, OK","AMARILLO    TX","TX",1354,4258,"Oklahoma City","OK","OKOKLCTY.txt"]
[null,"076","\"New_Jersey\"","NJ","\"Hackensack\"",12,"Hackensack","Hackensack, NJ","NEWARK    NJ","NJ",1201,4888,"Newark","NJ","NJNEWARK.txt"]
[null,"704","\"Louisiana\"","LA","\"Hammond\"",9,"Hammond","Hammond, LA","BATON ROUGE    LA","LA",2690,1669,"Baton Rouge","LA","LABATONR.txt"]
[null,"634","\"Missouri\"","MO","\"Hannibal\"",10,"Hannibal","Hannibal, MO","COLUMBIA    MO","MO",1189,5212,"St Louis","MO","MOSTLOUI.txt"]
[null,"170","\"Pennsylvania\"","PA","\"Harrisburg\"",12,"Harrisburg","Harrisburg, PA","HARRISBURG    PA","PA",962,5347,"Harrisburg","PA","PAHARRIS.txt "]
[null,"171","\"Pennsylvania\"","PA","\"Harrisburg\"",12,"Harrisburg","Harrisburg, PA","HARRISBURG    PA","PA",962,5347,"Harrisburg","PA","PAHARRIS.txt "]
[null,"726","\"Arkansas\"","AR","\"Harrison\"",10,"Harrison","Harrison, AR","FORT SMITH    AR","AR",1894,3478,"Fort Smith","AR","ARFTSMIT.txt"]
[null,"228","\"Virginia\"","VA","\"Harrisonburg\"",14,"Harrisonburg","Harrisonburg, VA","WASHINGTON DULLES AP DC","DC",973,5006,"Washington","MD","MDWASHDC.txt"]
[null,"647","\"Missouri\"","MO","\"Harrisonville\"",15,"Harrisonville","Harrisonville, MO","SPRINGFIELD    MO","MO",1320,4638,"Springfield","MO","MOSPRING.txt"]
[null,"060","\"Connecticut\"","CT","\"Hartford\"",10,"Hartford","Hartford, CT","WORCESTER    MA","MA",333,6979,"Hartford-Springfield","CT","CTHARTFO.txt"]
[null,"061","\"Connecticut\"","CT","\"Hartford\"",10,"Hartford","Hartford, CT","HARTFORD    CT","CT",677,6151,"Hartford-Springfield","CT","CTHARTFO.txt"]
[null,"689","\"Nebraska\"","NE","\"Hastings\"",10,"Hastings","Hastings, NE","GRAND ISLAND    NE","NE",997,6421,"Lincoln","NE","NELINCOL.txt"]
[null,"394","\"Mississippi\"","MS","\"Hattiesburg\"",13,"Hattiesburg","Hattiesburg, MS","MOBILE    AL","AL",2627,1702,"Mobile","AL","ALMOBILE.txt"]
[null,"595","\"Montana\"","MT","\"Havre\"",7,"Havre","Havre, MT","GREAT FALLS    MT","MT",388,7741,"Great Falls","MT","MTGRFALL.txt"]
[null,"676","\"Kansas\"","KS","\"Hays\"",6,"Hays","Hays, KS","DODGE CITY    KS","KS",1465,5001,"Wichita","KS","KSWICHIT.txt"]
[null,"417","\"Kentucky\"","KY","\"Hazard\"",8,"Hazard","Hazard, KY","HUNTINGTON    WV","WV",1005,4665,"Charleston","WV","WVCHARLE.txt"]
[null,"418","\"Kentucky\"","KY","\"Hazard\"",8,"Hazard","Hazard, KY","HUNTINGTON    WV","WV",1005,4665,"Charleston","WV","WVCHARLE.txt"]
[null,"182","\"Pennsylvania\"","PA","\"Hazleton\"",10,"Hazleton","Hazleton, PA","AVOCA    PA","PA",539,6291,"Wilkes-Barre","PA","PAWILKES.txt"]
[null,"596","\"Montana\"","MT","\"Helena\"",8,"Helena","Helena, MT","HELENA    MT","MT",386,8031,"Helena","MT","MTHELENA.txt"]
[null,"424","\"Kentucky\"","KY","\"Henderson\"",11,"Henderson","Henderson, KY","EVANSVILLE    IN","IN",1376,4708,"Evansville","IN","INEVANSV.txt"]
[null,"286","\"North_Carolina\"","NC","\"Hickory\"",9,"Hickory","Hickory, NC","GREENSBORO-WNSTN-SALM-HGHPT NC","NC",1253,3865,"Greensboro","NC","NCGRNSBO.txt"]
[null,"117","\"New_York\"","NY","\"Hicksville\"",12,"Hicksville","Hicksville, NY","ISLIP    NY","NY",706,5647,"Bridgeport","CT","CTBRIDGE.txt"]
[null,"118","\"New_York\"","NY","\"Hicksville\"",12,"Hicksville","Hicksville, NY","ISLIP    NY","NY",706,5647,"Bridgeport","CT","CTBRIDGE.txt"]
[null,"967","\"Hawaii\"","HI","\"Honolulu\"",10,"Honolulu","Honolulu, HI","HILO    HI","HI",3284,0,"Honolulu","HI","HIHONOLU.txt"]
[null,"968","\"Hawaii\"","HI","\"Honolulu\"",10,"Honolulu","Honolulu, HI","HONOLULU    HI","HI",4474,0,"Honolulu","HI","HIHONOLU.txt"]
[null,"970","\"Oregon\"","OR","\"Hood River\"",12,"Hood River","Hood River, OR","SALEM    OR","OR",247,4927,"Salem","OR","ORSALEM.txt"]
[null,"718","\"Arkansas\"","AR","\"Hope\"",6,"Hope","Hope, AR","LITTLE ROCK    AR","AR",2005,3155,"Little Rock","AR","ARLIROCK.txt"]
[null,"719","\"Arkansas\"","AR","\"Hot Springs\"",13,"Hot Springs","Hot Springs, AR","LITTLE ROCK    AR","AR",2005,3155,"Little Rock","AR","ARLIROCK.txt"]
[null,"499","\"Michigan\"","MI","\"Houghton\"",10,"Houghton","Houghton, MI","HOUGHTON LAKE    MI","MI",256,8218,"Sault Ste Marie","MI","MISTEMAR.txt"]
[null,"770","\"Texas\"","TX","\"Houston\"",9,"Houston","Houston, TX","HOUSTON    TX","TX",2700,1599,"Houston","TX","TXHOUSTO.txt"]
[null,"771","\"Texas\"","TX","\"Houston\"",9,"Houston","Houston, TX","HOUSTON    TX","TX",2700,1599,"Houston","TX","TXHOUSTO.txt"]
[null,"772","\"Texas\"","TX","\"Houston\"",9,"Houston","Houston, TX","HOUSTON    TX","TX",2700,1599,"Houston","TX","TXHOUSTO.txt"]
[null,"774","\"Texas\"","TX","\"Houston\"",9,"Houston","Houston, TX","HOUSTON    TX","TX",2700,1599,"Houston","TX","TXHOUSTO.txt"]
[null,"255","\"West_Virginia\"","WV","\"Huntington\"",12,"Huntington","Huntington, WV","CHARLESTON    WV","WV",1031,4646,"Charleston","WV","WVCHARLE.txt"]
[null,"257","\"West_Virginia\"","WV","\"Huntington\"",12,"Huntington","Huntington, WV","HUNTINGTON    WV","WV",1005,4665,"Charleston","WV","WVCHARLE.txt"]
[null,"357","\"Alabama\"","AL","\"Huntsville\"",12,"Huntsville","Huntsville, AL","CHATTANOOGA    TN","TN",1544,3587,"Chattanooga","TN","TNCHATTA.txt"]
[null,"358","\"Alabama\"","AL","\"Huntsville\"",12,"Huntsville","Huntsville, AL","HUNTSVILLE    AL","AL",1651,3323,"Huntsville","AL","ALHUNTSV.txt"]
[null,"675","\"Kansas\"","KS","\"Hutchinson\"",12,"Hutchinson","Hutchinson, KS","WICHITA    KS","KS",1628,4791,"Wichita","KS","KSWICHIT.txt"]
[null,"026","\"Massachusetts\"","MA","\"Hyannis\"",9,"Hyannis","Hyannis, MA","PROVIDENCE    RI","RI",606,5884,"Rhode Island","RI","RIPROVID.txt"]
[null,"834","\"Idaho\"","ID","\"Idaho Falls\"",13,"Idaho Falls","Idaho Falls, ID","POCATELLO    ID","ID",421,7180,"Pocatello","ID","IDPOCATE.txt"]
[null,"673","\"Kansas\"","KS","\"Independence\"",14,"Independence","Independence, KS","SPRINGFIELD    MO","MO",1320,4638,"Springfield","MO","MOSPRING.txt"]
[null,"157","\"Pennsylvania\"","PA","\"Indiana\"",9,"Indiana","Indiana, PA","PITTSBURGH    PA","PA",654,5968,"Pittsburgh","PA","PAPITTSB.txt"]
[null,"460","\"Indiana\"","IN","\"Indianapolis\"",14,"Indianapolis","Indianapolis, IN","INDIANAPOLIS    IN","IN",1014,5615,"Indianapolis","IN","ININDIAN.txt"]
[null,"461","\"Indiana\"","IN","\"Indianapolis\"",14,"Indianapolis","Indianapolis, IN","INDIANAPOLIS    IN","IN",1014,5615,"Indianapolis","IN","ININDIAN.txt"]
[null,"462","\"Indiana\"","IN","\"Indianapolis\"",14,"Indianapolis","Indianapolis, IN","INDIANAPOLIS    IN","IN",1014,5615,"Indianapolis","IN","ININDIAN.txt"]
[null,"903","\"California\"","CA","\"Inglewood\"",11,"Inglewood","Inglewood, CA","LOS ANGELES AP    CA","CA",727,1458,"Los Angeles","CA","CALOSANG.txt"]
[null,"498","\"Michigan\"","MI","\"Iron Mountain\"",15,"Iron Mountain","Iron Mountain, MI","MARQUETTE    MI","MI",155,9567,"Sault Ste Marie","MI","MISTEMAR.txt"]
[null,"148","\"New_York\"","NY","\"Ithaca\"",8,"Ithaca","Ithaca, NY","SYRACUSE    NY","NY",438,6834,"Syracuse","NY","NYSYRACU.txt"]
[null,"492","\"Michigan\"","MI","\"Jackson\"",9,"Jackson","Jackson, MI","TOLEDO    OH","OH",610,6579,"Toledo","OH","OHTOLEDO.txt"]
[null,"390","\"Mississippi\"","MS","\"Jackson\"",9,"Jackson","Jackson, MS","JACKSON    MS","MS",2215,2467,"Jackson","MS","MSJACKSO.txt"]
[null,"391","\"Mississippi\"","MS","\"Jackson\"",9,"Jackson","Jackson, MS","JACKSON    MS","MS",2215,2467,"Jackson","MS","MSJACKSO.txt"]
[null,"392","\"Mississippi\"","MS","\"Jackson\"",9,"Jackson","Jackson, MS","JACKSON    MS","MS",2215,2467,"Jackson","MS","MSJACKSO.txt"]
[null,"383","\"Tennessee\"","TN","\"Jackson\"",{"$f":"LEN(E390)","v":9},{"$f":"MID(E390,2,F390-2)","v":"Jackson"},{"$f":"CONCATENATE(G390,\", \",+D390)","v":"Jackson, TN"},"HUNTSVILLE    AL","AL",1651,3323,"Huntsville","AL","ALHUNTSV.txt"]
[null,"830","\"Wyoming\"","WY","\"Jackson\"",9,"Jackson","Jackson, WY","LANDER    WY","WY",479,7889,"Casper","WY","WYCASPER.txt "]
[null,"320","\"Florida\"","FL","\"Jacksonville\"",14,"Jacksonville","Jacksonville, FL","JACKSONVILLE    FL","FL",2551,1434,"Jacksonville","FL","FLJACKSV.txt"]
[null,"321","\"Florida\"","FL","\"Jacksonville\"",14,"Jacksonville","Jacksonville, FL","JACKSONVILLE    FL","FL",2551,1434,"Jacksonville","FL","FLJACKSV.txt"]
[null,"322","\"Florida\"","FL","\"Jacksonville\"",14,"Jacksonville","Jacksonville, FL","JACKSONVILLE    FL","FL",2551,1434,"Jacksonville","FL","FLJACKSV.txt"]
[null,"114","\"New_York\"","NY","\"Jamaica\"",9,"Jamaica","Jamaica, NY","NEW YORK (JFK AP)    NY","NY",921,5027,"New York City","NY","NYNEWYOR.txt"]
[null,"584","\"North_Dakota\"","ND","\"Jamestown\"",11,"Jamestown","Jamestown, ND","BISMARCK    ND","ND",488,8968,"Bismarck","ND","NDBISMAR.txt"]
[null,"147","\"New_York\"","NY","\"Jamestown\"",11,"Jamestown","Jamestown, NY","ERIE    PA","PA",550,6279,"Erie","PA","PAERIE.txt"]
[null,"355","\"Alabama\"","AL","\"Jasper\"",8,"Jasper","Jasper, AL","HUNTSVILLE    AL","AL",1651,3323,"Huntsville","AL","ALHUNTSV.txt"]
[null,"650","\"Missouri\"","MO","\"Jefferson_City\"",16,"Jefferson_City","Jefferson_City, MO","ST. LOUIS    MO","MO",1534,4758,"St Louis","MO","MOSTLOUI.txt"]
[null,"651","\"Missouri\"","MO","\"Jefferson_City\"",16,"Jefferson_City","Jefferson_City, MO","COLUMBIA    MO","MO",1189,5212,"St Louis","MO","MOSTLOUI.txt"]
[null,"073","\"New_Jersey\"","NJ","\"Jersey_City\"",13,"Jersey_City","Jersey_City, NJ","NEWARK    NJ","NJ",1201,4888,"Newark","NJ","NJNEWARK.txt"]
[null,"376","\"Tennessee\"","TN","\"Johnson City\"",14,"Johnson City","Johnson City, TN","BRISTOL-JHNSN CTY-KNGSPRT    TN","TN",972,4406,"Knoxville","TN","TNKNOXVI.txt"]
[null,"159","\"Pennsylvania\"","PA","\"Johnstown\"",11,"Johnstown","Johnstown, PA","PITTSBURGH    PA","PA",654,5968,"Pittsburgh","PA","PAPITTSB.txt"]
[null,"724","\"Arkansas\"","AR","\"Jonesboro\"",11,"Jonesboro","Jonesboro, AR","NORTH LITTLE ROCK    AR","AR",1916,3228,"Little Rock","AR","ARLIROCK.txt"]
[null,"648","\"Missouri\"","MO","\"Joplin\"",8,"Joplin","Joplin, MO","SPRINGFIELD    MO","MO",1320,4638,"Springfield","MO","MOSPRING.txt"]
[null,"998","\"Alaska\"","AK","\"Juneau\"",8,"Juneau","Juneau, AK","JUNEAU    AK","AK",0,8897,"Juneau","AK","AKJUNEAU.txt"]
[null,"490","\"Michigan\"","MI","\"Kalamazoo\"",11,"Kalamazoo","Kalamazoo, MI","SOUTH BEND    IN","IN",728,6331,"South Bend","IN","INSOBEND.txt"]
[null,"491","\"Michigan\"","MI","\"Kalamazoo\"",11,"Kalamazoo","Kalamazoo, MI","SOUTH BEND    IN","IN",728,6331,"South Bend","IN","INSOBEND.txt"]
[null,"599","\"Montana\"","MT","\"Kalispell\"",11,"Kalispell","Kalispell, MT","KALISPELL    MT","MT",149,8378,"Great Falls","MT","MTGRFALL.txt"]
[null,"609","\"Illinois\"","IL","\"Kankakee\"",10,"Kankakee","Kankakee, IL","PEORIA    IL","IL",982,6148,"Peoria","IL","ILPEORIA.txt"]
[null,"660","\"Kansas\"","KS","\"Kansas City\"",13,"Kansas City","Kansas City, KS","TOPEKA    KS","KS",1304,5265,"Kansas City","MO","MOKANCTY.txt"]
[null,"661","\"Kansas\"","KS","\"Kansas City\"",13,"Kansas City","Kansas City, KS","KANSAS CITY    MO","MO",1288,5393,"Kansas City","MO","MOKANCTY.txt"]
[null,"640","\"Missouri\"","MO","\"Kansas City\"",13,"Kansas City","Kansas City, MO","KANSAS CITY    MO","MO",1288,5393,"Kansas City","MO","MOKANCTY.txt"]
[null,"641","\"Missouri\"","MO","\"Kansas City\"",13,"Kansas City","Kansas City, MO","KANSAS CITY    MO","MO",1288,5393,"Kansas City","MO","MOKANCTY.txt"]
[null,"034","\"New_Hampshire\"","NH","\"Keene\"",7,"Keene","Keene, NH","WORCESTER    MA","MA",333,6979,"Concord","NH","NHCONCOR.txt"]
[null,"831","\"Wyoming\"","WY","\"Kemmerer\"",10,"Kemmerer","Kemmerer, WY","LANDER    WY","WY",479,7889,"Casper","WY","WYCASPER.txt "]
[null,"999","\"Alaska\"","AK","\"Ketchikan\"",11,"Ketchikan","Ketchikan, AK","KING SALMON    AK","AK",0,11456,"Juneau","AK","AKJUNEAU.txt"]
[null,"267","\"West_Virginia\"","WV","\"Keyser\"",8,"Keyser","Keyser, WV","ELKINS    WV","WV",346,6120,"Elkins","WV","WVELKINS.txt"]
[null,"864","\"Arizona\"","AZ","\"Kingman\"",9,"Kingman","Kingman, AZ","LAS VEGAS    NV","NV",3201,2407,"Las Vegas","NV","NVLASVEG.txt"]
[null,"124","\"New_York\"","NY","\"Kingston\"",10,"Kingston","Kingston, NY","ALBANY    NY","NY",507,6894,"Albany","NY","NYALBANY.txt"]
[null,"285","\"North_Carolina\"","NC","\"Kinston\"",9,"Kinston","Kinston, NC","WILMINGTON    NC","NC",1926,2470,"Charlotte","NC","NCCHARLO.txt"]
[null,"635","\"Missouri\"","MO","\"Kirksville\"",12,"Kirksville","Kirksville, MO","MOLINE    IL","IL",911,6474,"Peoria","IL","ILPEORIA.txt"]
[null,"162","\"Pennsylvania\"","PA","\"Kittanning\"",12,"Kittanning","Kittanning, PA","YOUNGSTOWN    OH","OH",497,6544,"Youngstown","OH","OHYOUNGS.txt"]
[null,"039","\"Maine\"","ME","\"Kittery\"",9,"Kittery","Kittery, ME","PORTLAND    ME","ME",268,7378,"Portland","ME","MEPORTLA.txt"]
[null,"976","\"Oregon\"","OR","\"Klamath Falls\"",15,"Klamath Falls","Klamath Falls, OR","MEDFORD    OR","OR",725,4611,"Medford","OR","ORMEDFOR.txt"]
[null,"377","\"Tennessee\"","TN","\"Knoxville\"",11,"Knoxville","Knoxville, TN","KNOXVILLE    TN","TN",1266,3937,"Knoxville","TN","TNKNOXVI.txt"]
[null,"378","\"Tennessee\"","TN","\"Knoxville\"",11,"Knoxville","Knoxville, TN","KNOXVILLE    TN","TN",1266,3937,"Knoxville","TN","TNKNOXVI.txt"]
[null,"379","\"Tennessee\"","TN","\"Knoxville\"",11,"Knoxville","Knoxville, TN","KNOXVILLE    TN","TN",1266,3937,"Knoxville","TN","TNKNOXVI.txt"]
[null,"469","\"Indiana\"","IN","\"Kokomo\"",8,"Kokomo","Kokomo, IN","SOUTH BEND    IN","IN",728,6331,"South Bend","IN","INSOBEND.txt"]
[null,"546","\"Wisconsin\"","WI","\"La Crosse\"",11,"La Crosse","La Crosse, WI","MADISON    WI","WI",485,7673,"Madison","WI","WIMADISO.txt"]
[null,"613","\"Illinois\"","IL","\"La Salle\"",10,"La Salle","La Salle, IL","MOLINE    IL","IL",911,6474,"Peoria","IL","ILPEORIA.txt"]
[null,"479","\"Indiana\"","IN","\"Lafayette\"",11,"Lafayette","Lafayette, IN","SOUTH BEND    IN","IN",728,6331,"South Bend","IN","INSOBEND.txt"]
[null,"705","\"Louisiana\"","LA","\"Lafayette\"",11,"Lafayette","Lafayette, LA","BATON ROUGE    LA","LA",2690,1669,"Baton Rouge","LA","LABATONR.txt"]
[null,"706","\"Louisiana\"","LA","\"Lake Charles\"",14,"Lake Charles","Lake Charles, LA","LAKE CHARLES    LA","LA",2650,1616,"Lake Charles","LA","LALAKECH.txt"]
[null,"338","\"Florida\"","FL","\"Lakeland\"",10,"Lakeland","Lakeland, FL","TAMPA    FL","FL",3427,725,"Tampa St. Petersburg","FL","FLTAMPA.txt"]
[null,"087","\"New_Jersey\"","NJ","\"Lakewood\"",10,"Lakewood","Lakewood, NJ","ATLANTIC CITY AP    NJ","NJ",826,5169,"Atlantic City","NJ","NJATLCTY.txt"]
[null,"935","\"California\"","CA","\"Lancaster\"",11,"Lancaster","Lancaster, CA","BISHOP    CA","CA",1039,4310,"Reno","NV","NVRENO.txt"]
[null,"175","\"Pennsylvania\"","PA","\"Lancaster\"",11,"Lancaster","Lancaster, PA","HARRISBURG    PA","PA",962,5347,"Harrisburg","PA","PAHARRIS.txt "]
[null,"176","\"Pennsylvania\"","PA","\"Lancaster\"",11,"Lancaster","Lancaster, PA","HARRISBURG    PA","PA",962,5347,"Harrisburg","PA","PAHARRIS.txt "]
[null,"488","\"Michigan\"","MI","\"Lansing\"",9,"Lansing","Lansing, MI","FLINT    MI","MI",483,6979,"Lansing","MI","MILANSIN.txt"]
[null,"489","\"Michigan\"","MI","\"Lansing\"",9,"Lansing","Lansing, MI","LANSING    MI","MI",490,7101,"Lansing","MI","MILANSIN.txt"]
[null,"780","\"Texas\"","TX","\"Laredo/Pearsall\"",17,"Laredo/Pearsall","Laredo/Pearsall, TX","VICTORIA    TX","TX",3118,1296,"San Antonio","TX","TXSANANT.txt"]
[null,"880","\"New_Mexico\"","NM","\"Las Cruces\"",12,"Las Cruces","Las Cruces, NM","EL PASO    TX","TX",2094,2708,"El Paso","TX","TXELPASO.txt"]
[null,"877","\"New_Mexico\"","NM","\"Las Vegas\"",11,"Las Vegas","Las Vegas, NM","PUEBLO    CO","CO",973,5413,"Pueblo","CO","COPUEBLO.txt"]
[null,"891","\"Nevada\"","NV","\"Las Vegas\"",11,"Las Vegas","Las Vegas, NV","LAS VEGAS    NV","NV",3201,2407,"Las Vegas","NV","NVLASVEG.txt"]
[null,"207","\"Maryland\"","MD","\"Laurel\"",8,"Laurel","Laurel, MD","BALTIMORE    MD","MD",1137,4707,"Baltimore","MD","MDBALTIM.txt"]
[null,"470","\"Indiana\"","IN","\"Lawrenceburg\"",14,"Lawrenceburg","Lawrenceburg, IN","GREATER CINCINNATI AP KY","KY",996,5248,"Cincinnati","OH","OHCINCIN.txt"]
[null,"735","\"Oklahoma\"","OK","\"Lawton\"",8,"Lawton","Lawton, OK","WICHITA FALLS    TX","TX",2340,3042,"Wichita Falls","TX","TXWICHFA.txt"]
[null,"180","\"Pennsylvania\"","PA","\"Lehigh_Valley\"",15,"Lehigh_Valley","Lehigh_Valley, PA","ALLENTOWN    PA","PA",773,5785,"Allentown","PA","PAALLENT.txt"]
[null,"249","\"West_Virginia\"","WV","\"Lewisburg\"",11,"Lewisburg","Lewisburg, WV","CHARLESTON    WV","WV",1031,4646,"Charleston","WV","WVCHARLE.txt"]
[null,"835","\"Idaho\"","ID","\"Lewiston\"",10,"Lewiston","Lewiston, ID","LEWISTON    ID","ID",814,5270,"Spokane","WA","WASPOKAN.txt"]
[null,"403","\"Kentucky\"","KY","\"Lexington\"",11,"Lexington","Lexington, KY","LEXINGTON    KY","KY",1140,4783,"Lexington","KY","KYLEXING.txt"]
[null,"404","\"Kentucky\"","KY","\"Lexington\"",11,"Lexington","Lexington, KY","LEXINGTON    KY","KY",1140,4783,"Lexington","KY","KYLEXING.txt"]
[null,"405","\"Kentucky\"","KY","\"Lexington\"",{"$f":"LEN(E454)","v":11},{"$f":"MID(E454,2,F454-2)","v":"Lexington"},{"$f":"CONCATENATE(G454,\", \",+D454)","v":"Lexington, KY"},"LEXINGTON    KY","KY",1140,4783,"Lexington","KY","KYLEXING.txt"]
[null,"679","\"Kansas\"","KS","\"Liberal\"",9,"Liberal","Liberal, KS","DODGE CITY    KS","KS",1465,5001,"Wichita","KS","KSWICHIT.txt"]
[null,"458","\"Ohio\"","OH","\"Lima\"",6,"Lima","Lima, OH","DAYTON    OH","OH",886,5708,"Dayton","OH","OHDAYTON.txt"]
[null,"683","\"Nebraska\"","NE","\"Lincoln\"",9,"Lincoln","Lincoln, NE","LINCOLN    NE","NE",1134,6278,"Lincoln","NE","NELINCOL.txt"]
[null,"684","\"Nebraska\"","NE","\"Lincoln\"",9,"Lincoln","Lincoln, NE","LINCOLN    NE","NE",1134,6278,"Lincoln","NE","NELINCOL.txt"]
[null,"685","\"Nebraska\"","NE","\"Lincoln\"",9,"Lincoln","Lincoln, NE","LINCOLN    NE","NE",1134,6278,"Lincoln","NE","NELINCOL.txt"]
[null,"720","\"Arkansas\"","AR","\"Little Rock\"",13,"Little Rock","Little Rock, AR","LITTLE ROCK    AR","AR",2005,3155,"Little Rock","AR","ARLIROCK.txt"]
[null,"721","\"Arkansas\"","AR","\"Little Rock\"",13,"Little Rock","Little Rock, AR","LITTLE ROCK    AR","AR",2005,3155,"Little Rock","AR","ARLIROCK.txt"]
[null,"722","\"Arkansas\"","AR","\"Little Rock\"",13,"Little Rock","Little Rock, AR","LITTLE ROCK    AR","AR",2005,3155,"Little Rock","AR","ARLIROCK.txt"]
[null,"035","\"New_Hampshire\"","NH","\"Littleton\"",11,"Littleton","Littleton, NH","BURLINGTON    VT","VT",388,7771,"Burlington","VT","VTBURLIN.txt"]
[null,"256","\"West_Virginia\"","WV","\"Logan\"",7,"Logan","Logan, WV","CHARLESTON    WV","WV",1031,4646,"Charleston","WV","WVCHARLE.txt"]
[null,"908","\"California\"","CA","\"Long Beach\"",12,"Long Beach","Long Beach, CA","LONG BEACH    CA","CA",1201,1430,"Los Angeles","CA","CALOSANG.txt"]
[null,"805","\"Colorado\"","CO","\"Longmont\"",10,"Longmont","Longmont, CO","DENVER    CO","CO",679,6020,"Denver","CO","CODENVER.txt"]
[null,"756","\"Texas\"","TX","\"Longview\"",10,"Longview","Longview, TX","SHREVEPORT    LA","LA",2368,2264,"Shreveport","LA","LASHREVE.txt"]
[null,"900","\"California\"","CA","\"Los Angeles\"",13,"Los Angeles","Los Angeles, CA","LOS ANGELES AP    CA","CA",727,1458,"Los Angeles","CA","CALOSANG.txt"]
[null,"901","\"California\"","CA","\"Los Angeles\"",13,"Los Angeles","Los Angeles, CA","LOS ANGELES AP    CA","CA",727,1458,"Los Angeles","CA","CALOSANG.txt"]
[null,"902","\"California\"","CA","\"Los Angeles\"",13,"Los Angeles","Los Angeles, CA","LOS ANGELES AP    CA","CA",727,1458,"Los Angeles","CA","CALOSANG.txt"]
[null,"400","\"Kentucky\"","KY","\"Louisville\"",12,"Louisville","Louisville, KY","LOUISVILLE    KY","KY",1288,4514,"Louisville","KY","KYLOUISV.txt"]
[null,"401","\"Kentucky\"","KY","\"Louisville\"",12,"Louisville","Louisville, KY","LOUISVILLE    KY","KY",1288,4514,"Louisville","KY","KYLOUISV.txt"]
[null,"402","\"Kentucky\"","KY","\"Louisville\"",12,"Louisville","Louisville, KY","LOUISVILLE    KY","KY",1288,4514,"Louisville","KY","KYLOUISV.txt"]
[null,"793","\"Texas\"","TX","\"Lubbock\"",9,"Lubbock","Lubbock, TX","LUBBOCK    TX","TX",1689,3431,"Lubbock","TX","TXLUBBOC.txt"]
[null,"794","\"Texas\"","TX","\"Lubbock\"",9,"Lubbock","Lubbock, TX","LUBBOCK    TX","TX",1689,3431,"Lubbock","TX","TXLUBBOC.txt"]
[null,"759","\"Texas\"","TX","\"Lufkin\"",8,"Lufkin","Lufkin, TX","WACO    TX","TX",2816,2179,"Waco","TX","TXWACO.txt"]
[null,"245","\"Virginia\"","VA","\"Lynchburg\"",11,"Lynchburg","Lynchburg, VA","LYNCHBURG    VA","VA",1048,4340,"Roanoke","VA","VAROANOK.txt"]
[null,"019","\"Massachusetts\"","MA","\"Lynn\"",6,"Lynn","Lynn, MA","BOSTON    MA","MA",678,5641,"Boston","MA","MABOSTON.txt"]
[null,"497","\"Michigan\"","MI","\"Mackinaw City\"",15,"Mackinaw City","Mackinaw City, MI","SAULT STE. MARIE    MI","MI",131,9316,"Sault Ste Marie","MI","MISTEMAR.txt"]
[null,"310","\"Georgia\"","GA","\"Macon\"",7,"Macon","Macon, GA","COLUMBUS    GA","GA",2284,2261,"Macon","GA","GAMACON.txt"]
[null,"311","\"Georgia\"","GA","\"Macon\"",7,"Macon","Macon, GA","COLUMBUS    GA","GA",2284,2261,"Macon","GA","GAMACON.txt"]
[null,"312","\"Georgia\"","GA","\"Macon\"",7,"Macon","Macon, GA","MACON    GA","GA",2125,2334,"Macon","GA","GAMACON.txt"]
[null,"535","\"Wisconsin\"","WI","\"Madison\"",9,"Madison","Madison, WI","LA CROSSE    WI","WI",692,7491,"Madison","WI","WIMADISO.txt"]
[null,"536","\"Wisconsin\"","WI","\"Madison\"",9,"Madison","Madison, WI","LA CROSSE    WI","WI",692,7491,"Madison","WI","WIMADISO.txt"]
[null,"537","\"Wisconsin\"","WI","\"Madison\"",9,"Madison","Madison, WI","MADISON    WI","WI",485,7673,"Madison","WI","WIMADISO.txt"]
[null,"030","\"New_Hampshire\"","NH","\"Manchester\"",12,"Manchester","Manchester, NH","WORCESTER    MA","MA",333,6979,"Concord","NH","NHCONCOR.txt"]
[null,"031","\"New_Hampshire\"","NH","\"Manchester\"",12,"Manchester","Manchester, NH","CONCORD    NH","NH",328,7554,"Concord","NH","NHCONCOR.txt"]
[null,969,"\"Guam\"","GU","\"Mangilao\"",10,"Mangilao","Mangilao, GU","GUAM    PC","PC",5034,0,"Honolulu","HI","HIHONOLU.txt"]
[null,"560","\"Minnesota\"","MN","\"Mankato\"",9,"Mankato","Mankato, MN","ROCHESTER    MN","MN",472,8250,"Minneapolis St. Paul","MN","MNMINPLS.txt"]
[null,"448","\"Ohio\"","OH","\"Mansfield\"",11,"Mansfield","Mansfield, OH","MANSFIELD    OH","OH",666,6258,"Akron Canton","OH","OHAKRON.txt"]
[null,"449","\"Ohio\"","OH","\"Mansfield\"",11,"Mansfield","Mansfield, OH","MANSFIELD    OH","OH",666,6258,"Akron Canton","OH","OHAKRON.txt"]
[null,"433","\"Ohio\"","OH","\"Marion\"",8,"Marion","Marion, OH","DAYTON    OH","OH",886,5708,"Dayton","OH","OHDAYTON.txt"]
[null,"254","\"West_Virginia\"","WV","\"Martinsburg\"",13,"Martinsburg","Martinsburg, WV","WASHINGTON DULLES AP DC","DC",973,5006,"Washington","MD","MDWASHDC.txt"]
[null,"959","\"California\"","CA","\"Marysville\"",12,"Marysville","Marysville, CA","SACRAMENTO    CA","CA",1237,2749,"Sacramento","CA","CASACRAM.txt"]
[null,"504","\"Iowa\"","IA","\"Mason City\"",12,"Mason City","Mason City, IA","WATERLOO    IA","IA",702,7406,"Des Moines","IA","IADESMOI.txt"]
[null,"382","\"Tennessee\"","TN","\"Mc_Kenzie\"",11,"Mc_Kenzie","Mc_Kenzie, TN","NASHVILLE    TN","TN",1616,3729,"Nashville","TN","TNNASHVI.txt"]
[null,"745","\"Oklahoma\"","OK","\"McAlester\"",11,"McAlester","McAlester, OK","FORT SMITH    AR","AR",1894,3478,"Fort Smith","AR","ARFTSMIT.txt"]
[null,"396","\"Mississippi\"","MS","\"McComb\"",8,"McComb","McComb, MS","JACKSON    MS","MS",2215,2467,"Jackson","MS","MSJACKSO.txt"]
[null,"690","\"Nebraska\"","NE","\"McCook\"",8,"McCook","McCook, NE","GOODLAND    KS","KS",859,5974,"Goodland","KS","KSGOODLA.txt"]
[null,"975","\"Oregon\"","OR","\"Medford\"",9,"Medford","Medford, OR","MEDFORD    OR","OR",725,4611,"Medford","OR","ORMEDFOR.txt"]
[null,"329","\"Florida\"","FL","\"Melbourne\"",11,"Melbourne","Melbourne, FL","VERO BEACH    FL","FL",3278,548,"Orlando","FL","FLORLAND.txt"]
[null,"380","\"Tennessee\"","TN","\"Memphis\"",9,"Memphis","Memphis, TN","MEMPHIS    TN","TN",2118,3082,"Memphis","TN","TNMEMPHI.txt"]
[null,"381","\"Tennessee\"","TN","\"Memphis\"",9,"Memphis","Memphis, TN","MEMPHIS    TN","TN",2118,3082,"Memphis","TN","TNMEMPHI.txt"]
[null,"953","\"California\"","CA","\"Merced\"",8,"Merced","Merced, CA","SACRAMENTO    CA","CA",1237,2749,"Sacramento","CA","CASACRAM.txt"]
[null,"393","\"Mississippi\"","MS","\"Meridian\"",10,"Meridian","Meridian, MS","MERIDIAN    MS","MS",2138,2444,"Jackson","MS","MSJACKSO.txt"]
[null,"330","\"Florida\"","FL","\"Miami\"",7,"Miami","Miami, FL","KEY WEST    FL","FL",4798,100,"Miami Beach","FL","FLMIAMIB.txt"]
[null,"331","\"Florida\"","FL","\"Miami\"",7,"Miami","Miami, FL","MIAMI    FL","FL",4198,200,"Miami Beach","FL","FLMIAMIB.txt"]
[null,"332","\"Florida\"","FL","\"Miami\"",7,"Miami","Miami, FL","MIAMI    FL","FL",4198,200,"Miami Beach","FL","FLMIAMIB.txt"]
[null,"409","\"Kentucky\"","KY","\"Middlesboro\"",13,"Middlesboro","Middlesboro, KY","BRISTOL-JHNSN CTY-KNGSPRT    TN","TN",972,4406,"Knoxville","TN","TNKNOXVI.txt"]
[null,"797","\"Texas\"","TX","\"Midland\"",9,"Midland","Midland, TX","EL PASO    TX","TX",2094,2708,"Midland Odessa","TX","TXMIDLAN.txt"]
[null,"593","\"Montana\"","MT","\"Miles City\"",12,"Miles City","Miles City, MT","GLASGOW    MT","MT",558,8745,"Great Falls","MT","MTGRFALL.txt"]
[null,"530","\"Wisconsin\"","WI","\"Milwaukee\"",11,"Milwaukee","Milwaukee, WI","MADISON    WI","WI",485,7673,"Milwaukee","WI","WIMILWAU.txt"]
[null,"531","\"Wisconsin\"","WI","\"Milwaukee\"",11,"Milwaukee","Milwaukee, WI","MADISON    WI","WI",485,7673,"Milwaukee","WI","WIMILWAU.txt"]
[null,"532","\"Wisconsin\"","WI","\"Milwaukee\"",11,"Milwaukee","Milwaukee, WI","MILWAUKEE    WI","WI",479,7324,"Milwaukee","WI","WIMILWAU.txt"]
[null,"533","\"Wisconsin\"","WI","\"Milwaukee\"",11,"Milwaukee","Milwaukee, WI","MILWAUKEE    WI","WI",479,7324,"Milwaukee","WI","WIMILWAU.txt"]
[null,"553","\"Minnesota\"","MN","\"Minneapolis\"",13,"Minneapolis","Minneapolis, MN","MINNEAPOLIS-ST.PAUL    MN","MN",682,7981,"Minneapolis St. Paul","MN","MNMINPLS.txt"]
[null,"554","\"Minnesota\"","MN","\"Minneapolis\"",13,"Minneapolis","Minneapolis, MN","MINNEAPOLIS-ST.PAUL    MN","MN",682,7981,"Minneapolis St. Paul","MN","MNMINPLS.txt"]
[null,"115","\"New_York\"","NY","\"Minneola\"",{"$f":"LEN(E518)","v":10},{"$f":"MID(E518,2,F518-2)","v":"Minneola"},{"$f":"CONCATENATE(G518,\", \",+D518)","v":"Minneola, NY"},"NEW YORK (JFK AP)    NY","NY",921,5027,"New York City","NY","NYNEWYOR.txt"]
[null,"587","\"North_Dakota\"","ND","\"Minot\"",7,"Minot","Minot, ND","WILLISTON    ND","ND",548,9090,"Bismarck","ND","NDBISMAR.txt"]
[null,"598","\"Montana\"","MT","\"Missoula\"",10,"Missoula","Missoula, MT","MISSOULA    MT","MT",280,7792,"Helena","MT","MTHELENA.txt"]
[null,"573","\"South_Dakota\"","SD","\"Mitchell\"",10,"Mitchell","Mitchell, SD","RAPID CITY    SD","SD",611,7301,"Rapid City","SD","SDRAPCTY.txt"]
[null,"365","\"Alabama\"","AL","\"Mobile\"",8,"Mobile","Mobile, AL","MOBILE    AL","AL",2627,1702,"Mobile","AL","ALMOBILE.txt"]
[null,"366","\"Alabama\"","AL","\"Mobile\"",8,"Mobile","Mobile, AL","MOBILE    AL","AL",2627,1702,"Mobile","AL","ALMOBILE.txt"]
[null,"576","\"South_Dakota\"","SD","\"Mobridge\"",10,"Mobridge","Mobridge, SD","BISMARCK    ND","ND",488,8968,"Bismarck","ND","NDBISMAR.txt"]
[null,"712","\"Louisiana\"","LA","\"Monroe\"",8,"Monroe","Monroe, LA","JACKSON    MS","MS",2215,2467,"Jackson","MS","MSJACKSO.txt"]
[null,"939","\"California\"","CA","\"Monterey\"",10,"Monterey","Monterey, CA","SAN FRANCISCO C.O.    CA","CA",65,3005,"San Francisco","CA","CASANFRA.txt"]
[null,"360","\"Alabama\"","AL","\"Montgomery\"",12,"Montgomery","Montgomery, AL","COLUMBUS    GA","GA",2284,2261,"Montgomery","AL","ALMONTGO.txt "]
[null,"361","\"Alabama\"","AL","\"Montgomery\"",12,"Montgomery","Montgomery, AL","MONTGOMERY    AL","AL",2212,2224,"Montgomery","AL","ALMONTGO.txt "]
[null,"127","\"New_York\"","NY","\"Monticello\"",12,"Monticello","Monticello, NY","BINGHAMTON    NY","NY",337,7273,"Wilkes-Barre","PA","PAWILKES.txt"]
[null,"056","\"Vermont\"","VT","\"Montpelier\"",12,"Montpelier","Montpelier, VT","BURLINGTON    VT","VT",388,7771,"Burlington","VT","VTBURLIN.txt"]
[null,"814","\"Colorado\"","CO","\"Montrose\"",10,"Montrose","Montrose, CO","GRAND JUNCTION    CO","CO",1183,5548,"Grand Junction","CO","COGRNDJU.txt"]
[null,"188","\"Pennsylvania\"","PA","\"Montrose\"",10,"Montrose","Montrose, PA","BINGHAMTON    NY","NY",337,7273,"Wilkes-Barre","PA","PAWILKES.txt"]
[null,"265","\"West_Virginia\"","WV","\"Morgantown\"",12,"Morgantown","Morgantown, WV","PITTSBURGH    PA","PA",654,5968,"Pittsburgh","PA","PAPITTSB.txt"]
[null,"473","\"Indiana\"","IN","\"Muncie\"",8,"Muncie","Muncie, IN","DAYTON    OH","OH",886,5708,"Dayton","OH","OHDAYTON.txt"]
[null,"494","\"Michigan\"","MI","\"Muskegon\"",10,"Muskegon","Muskegon, MI","MUSKEGON    MI","MI",431,6924,"Grand Rapids","MI","MIGRNDRA.txt"]
[null,"744","\"Oklahoma\"","OK","\"Muskogee\"",10,"Muskogee","Muskogee, OK","FORT SMITH    AR","AR",1894,3478,"Fort Smith","AR","ARFTSMIT.txt"]
[null,"435","\"Ohio\"","OH","\"Napoleon\"",10,"Napoleon","Napoleon, OH","FORT WAYNE    IN","IN",824,6273,"Fort Wayne","IN","INFTWAYN.txt"]
[null,"370","\"Tennessee\"","TN","\"Nashville\"",11,"Nashville","Nashville, TN","NASHVILLE    TN","TN",1616,3729,"Nashville","TN","TNNASHVI.txt"]
[null,"371","\"Tennessee\"","TN","\"Nashville\"",11,"Nashville","Nashville, TN","NASHVILLE    TN","TN",1616,3729,"Nashville","TN","TNNASHVI.txt"]
[null,"372","\"Tennessee\"","TN","\"Nashville\"",11,"Nashville","Nashville, TN","NASHVILLE    TN","TN",1616,3729,"Nashville","TN","TNNASHVI.txt"]
[null,"471","\"Indiana\"","IN","\"New Albany\"",12,"New Albany","New Albany, IN","LOUISVILLE    KY","KY",1288,4514,"Louisville","KY","KYLOUISV.txt"]
[null,"027","\"Massachusetts\"","MA","\"New Bedford\"",13,"New Bedford","New Bedford, MA","PROVIDENCE    RI","RI",606,5884,"Rhode Island","RI","RIPROVID.txt"]
[null,"088","\"New_Jersey\"","NJ","\"New Brunswick\"",15,"New Brunswick","New Brunswick, NJ","NEWARK    NJ","NJ",1201,4888,"Newark","NJ","NJNEWARK.txt"]
[null,"089","\"New_Jersey\"","NJ","\"New Brunswick\"",15,"New Brunswick","New Brunswick, NJ","NEWARK    NJ","NJ",1201,4888,"Newark","NJ","NJNEWARK.txt"]
[null,"161","\"Pennsylvania\"","PA","\"New Castle\"",12,"New Castle","New Castle, PA","PITTSBURGH    PA","PA",654,5968,"Pittsburgh","PA","PAPITTSB.txt"]
[null,"064","\"Connecticut\"","CT","\"New Haven\"",11,"New Haven","New Haven, CT","HARTFORD    CT","CT",677,6151,"Hartford-Springfield","CT","CTHARTFO.txt"]
[null,"065","\"Connecticut\"","CT","\"New Haven\"",11,"New Haven","New Haven, CT","HARTFORD    CT","CT",677,6151,"Hartford-Springfield","CT","CTHARTFO.txt"]
[null,"063","\"Connecticut\"","CT","\"New London\"",12,"New London","New London, CT","PROVIDENCE    RI","RI",606,5884,"Rhode Island","RI","RIPROVID.txt"]
[null,"700","\"Louisiana\"","LA","\"New Orleans\"",13,"New Orleans","New Orleans, LA","NEW ORLEANS    LA","LA",2655,1513,"New Orleans","LA","LANEWORL.txt"]
[null,"701","\"Louisiana\"","LA","\"New Orleans\"",13,"New Orleans","New Orleans, LA","NEW ORLEANS    LA","LA",2655,1513,"New Orleans","LA","LANEWORL.txt"]
[null,"108","\"New_York\"","NY","\"New Rochelle\"",14,"New Rochelle","New Rochelle, NY","NEW YORK (LAGUARDIA AP)    NY","NY",1052,4910,"New York City","NY","NYNEWYOR.txt"]
[null,"100","\"New_York\"","NY","\"New York\"",10,"New York","New York, NY","NEW YORK C.PARK    NY","NY",1096,4805,"New York City","NY","NYNEWYOR.txt"]
[null,"101","\"New_York\"","NY","\"New York\"",10,"New York","New York, NY","NEW YORK C.PARK    NY","NY",1096,4805,"New York City","NY","NYNEWYOR.txt"]
[null,"102","\"New_York\"","NY","\"New York\"",10,"New York","New York, NY","NEW YORK C.PARK    NY","NY",1096,4805,"New York City","NY","NYNEWYOR.txt"]
[null,"070","\"New_Jersey\"","NJ","\"Newark\"",8,"Newark","Newark, NJ","NEW YORK (LAGUARDIA AP)    NY","NY",1052,4910,"Newark","NJ","NJNEWARK.txt"]
[null,"071","\"New_Jersey\"","NJ","\"Newark\"",8,"Newark","Newark, NJ","NEWARK    NJ","NJ",1201,4888,"Newark","NJ","NJNEWARK.txt"]
[null,"410","\"Kentucky\"","KY","\"Newport\"",9,"Newport","Newport, KY","GREATER CINCINNATI AP KY","KY",996,5248,"Cincinnati","OH","OHCINCIN.txt"]
[null,"143","\"New_York\"","NY","\"Niagara Falls\"",15,"Niagara Falls","Niagara Falls, NY","BUFFALO    NY","NY",477,6747,"Buffalo","NY","NTBUFFAL.txt"]
[null,"687","\"Nebraska\"","NE","\"Norfolk\"",9,"Norfolk","Norfolk, NE","NORFOLK    NE","NE",877,6873,"Sioux City","IA","IASIOCTY.txt"]
[null,"233","\"Virginia\"","VA","\"Norfolk\"",9,"Norfolk","Norfolk, VA","NORFOLK    VA","VA",1422,3495,"Norfolk","VA","VANORFOL.txt "]
[null,"234","\"Virginia\"","VA","\"Norfolk\"",9,"Norfolk","Norfolk, VA","NORFOLK    VA","VA",1422,3495,"Norfolk","VA","VANORFOL.txt "]
[null,"235","\"Virginia\"","VA","\"Norfolk\"",9,"Norfolk","Norfolk, VA","NORFOLK    VA","VA",1422,3495,"Norfolk","VA","VANORFOL.txt "]
[null,"236","\"Virginia\"","VA","\"Norfolk\"",9,"Norfolk","Norfolk, VA","NORFOLK    VA","VA",1422,3495,"Norfolk","VA","VANORFOL.txt "]
[null,"600","\"Illinois\"","IL","\"North Chicago Sub.\"",20,"North Chicago Sub.","North Chicago Sub., IL","ROCKFORD    IL","IL",702,6969,"Rockford","IL","ILROCKFO.txt"]
[null,"601","\"Illinois\"","IL","\"North Chicago Sub.\"",20,"North Chicago Sub.","North Chicago Sub., IL","ROCKFORD    IL","IL",702,6969,"Rockford","IL","ILROCKFO.txt"]
[null,"916","\"California\"","CA","\"North Hollywood\"",17,"North Hollywood","North Hollywood, CA","LOS ANGELES C.O.    CA","CA",1537,1154,"Los Angeles","CA","CALOSANG.txt"]
[null,"691","\"Nebraska\"","NE","\"North_Platte\"",14,"North_Platte","North_Platte, NE","NORTH PLATTE    NE","NE",713,6859,"North Platte","NE","NENPLATT.txt"]
[null,"220","\"Virginia\"","VA","\"Northern VA\"",13,"Northern VA","Northern VA, VA","WASHINGTON DULLES AP DC","DC",973,5006,"Washington","MD","MDWASHDC.txt"]
[null,"221","\"Virginia\"","VA","\"Northern VA\"",13,"Northern VA","Northern VA, VA","WASHINGTON DULLES AP DC","DC",973,5006,"Washington","MD","MDWASHDC.txt"]
[null,"603","\"Illinois\"","IL","\"Oak Park\"",10,"Oak Park","Oak Park, IL","CHICAGO    IL","IL",752,6536,"Chicago","IL","ILCHICAG.txt"]
[null,"946","\"California\"","CA","\"Oakland\"",9,"Oakland","Oakland, CA","SAN FRANCISCO AP    CA","CA",145,3016,"San Jose","CA","CASANJOS.txt"]
[null,"344","\"Florida\"","FL","\"Ocala\"",7,"Ocala","Ocala, FL","DAYTONA BEACH    FL","FL",2919,909,"Daytona Beach","FL","FLDAYTNA.txt"]
[null,"844","\"Utah\"","UT","\"Ogden\"",7,"Ogden","Ogden, UT","SALT LAKE CITY    UT","UT",1047,5765,"Salt Lake City","UT","UTSALTLK.txt"]
[null,"843","\"Utah\"","UT","\"Ogden/Logan\"",13,"Ogden/Logan","Ogden/Logan, UT","SALT LAKE CITY    UT","UT",1047,5765,"Salt Lake City","UT","UTSALTLK.txt"]
[null,"163","\"Pennsylvania\"","PA","\"Oil City\"",10,"Oil City","Oil City, PA","YOUNGSTOWN    OH","OH",497,6544,"Youngstown","OH","OHYOUNGS.txt"]
[null,"730","\"Oklahoma\"","OK","\"Oklahoma City\"",15,"Oklahoma City","Oklahoma City, OK","OKLAHOMA CITY    OK","OK",1859,3659,"Oklahoma City","OK","OKOKLCTY.txt"]
[null,"731","\"Oklahoma\"","OK","\"Oklahoma City\"",15,"Oklahoma City","Oklahoma City, OK","OKLAHOMA CITY    OK","OK",1859,3659,"Oklahoma City","OK","OKOKLCTY.txt"]
[null,"985","\"Washington\"","WA","\"Olympia\"",9,"Olympia","Olympia, WA","OLYMPIA    WA","WA",101,5655,"Seattle","WA","WASEATTL.txt"]
[null,"680","\"Nebraska\"","NE","\"Omaha\"",7,"Omaha","Omaha, NE","OMAHA EPPLEY AP    NE","NE",1072,6300,"Omaha","NE","NEOMAHA.txt"]
[null,"681","\"Nebraska\"","NE","\"Omaha\"",7,"Omaha","Omaha, NE","OMAHA EPPLEY AP    NE","NE",1072,6300,"Omaha","NE","NEOMAHA.txt"]
[null,"979","\"Oregon\"","OR","\"Ontario\"",9,"Ontario","Ontario, OR","BOISE    ID","ID",754,5861,"Boise","ID","IDBOISE.txt"]
[null,"368","\"Alabama\"","AL","\"Opelika\"",{"$f":"LEN(E582)","v":9},{"$f":"MID(E582,2,F582-2)","v":"Opelika"},{"$f":"CONCATENATE(G582,\", \",+D582)","v":"Opelika, AL"},"COLUMBUS    GA","GA",2284,2261,"Columbus","GA","GACOLMBS.txt"]
[null,"328","\"Florida\"","FL","\"Orlando\"",9,"Orlando","Orlando, FL","ORLANDO    FL","FL",3381,686,"Orlando","FL","FLORLAND.txt"]
[null,"347","\"Florida\"","FL","\"Orlando\"",9,"Orlando","Orlando, FL","ORLANDO    FL","FL",3381,686,"Orlando","FL","FLORLAND.txt"]
[null,"549","\"Wisconsin\"","WI","\"Oshkosh\"",9,"Oshkosh","Oshkosh, WI","LA CROSSE    WI","WI",692,7491,"Madison","WI","WIMADISO.txt"]
[null,"525","\"Iowa\"","IA","\"Ottumwa\"",9,"Ottumwa","Ottumwa, IA","MOLINE    IL","IL",911,6474,"Des Moines","IA","IADESMOI.txt"]
[null,"423","\"Kentucky\"","KY","\"Owensboro\"",11,"Owensboro","Owensboro, KY","NASHVILLE    TN","TN",1616,3729,"Nashville","TN","TNNASHVI.txt"]
[null,"386","\"Mississippi\"","MS","\"Oxford\"",8,"Oxford","Oxford, MS","MEMPHIS    TN","TN",2118,3082,"Memphis","TN","TNMEMPHI.txt"]
[null,"420","\"Kentucky\"","KY","\"Paducah\"",9,"Paducah","Paducah, KY","PADUCAH   KY ","KY",1475,4279,"Paducah","KY","KYPADUCA.txt"]
[null,"758","\"Texas\"","TX","\"Palestine\"",11,"Palestine","Palestine, TX","WACO    TX","TX",2816,2179,"Waco","TX","TXWACO.txt"]
[null,"922","\"California\"","CA","\"Palm Springs\"",14,"Palm Springs","Palm Springs, CA","SAN DIEGO    CA","CA",984,1256,"San Diego","CA","CASANDIE.txt"]
[null,"943","\"California\"","CA","\"Palo Alto\"",11,"Palo Alto","Palo Alto, CA","SAN FRANCISCO AP    CA","CA",145,3016,"San Jose","CA","CASANJOS.txt"]
[null,"324","\"Florida\"","FL","\"Panama City\"",13,"Panama City","Panama City, FL","APALACHICOLA    FL","FL",2582,1429,"Tallahassee","FL","FLTALLAH.txt"]
[null,"261","\"West_Virginia\"","WV","\"Parkersburg\"",13,"Parkersburg","Parkersburg, WV","CHARLESTON    WV","WV",1031,4646,"Charleston","WV","WVCHARLE.txt"]
[null,"910","\"California\"","CA","\"Pasadena\"",10,"Pasadena","Pasadena, CA","LOS ANGELES C.O.    CA","CA",1537,1154,"Los Angeles","CA","CALOSANG.txt"]
[null,"911","\"California\"","CA","\"Pasadena\"",10,"Pasadena","Pasadena, CA","LOS ANGELES C.O.    CA","CA",1537,1154,"Los Angeles","CA","CALOSANG.txt"]
[null,"074","\"New_Jersey\"","NJ","\"Paterson\"",10,"Paterson","Paterson, NJ","NEWARK    NJ","NJ",1201,4888,"Newark","NJ","NJNEWARK.txt"]
[null,"075","\"New_Jersey\"","NJ","\"Paterson\"",10,"Paterson","Paterson, NJ","NEWARK    NJ","NJ",1201,4888,"Newark","NJ","NJNEWARK.txt"]
[null,"978","\"Oregon\"","OR","\"Pendleton\"",11,"Pendleton","Pendleton, OR","PENDLETON    OR","OR",701,5294,"Yakima","WA","WAYAKIMA.txt"]
[null,"325","\"Florida\"","FL","\"Pensacola\"",11,"Pensacola","Pensacola, FL","PENSACOLA    FL","FL",2636,1617,"Mobile","AL","ALMOBILE.txt"]
[null,"615","\"Illinois\"","IL","\"Peoria\"",8,"Peoria","Peoria, IL","PEORIA    IL","IL",982,6148,"Peoria","IL","ILPEORIA.txt"]
[null,"616","\"Illinois\"","IL","\"Peoria\"",8,"Peoria","Peoria, IL","PEORIA    IL","IL",982,6148,"Peoria","IL","ILPEORIA.txt"]
[null,"238","\"Virginia\"","VA","\"Petersburg\"",12,"Petersburg","Petersburg, VA","NORFOLK    VA","VA",1422,3495,"Norfolk","VA","VANORFOL.txt "]
[null,"268","\"West_Virginia\"","WV","\"Petersburg\"",12,"Petersburg","Petersburg, WV","ELKINS    WV","WV",346,6120,"Elkins","WV","WVELKINS.txt"]
[null,"190","\"Pennsylvania\"","PA","\"Philadelphia\"",14,"Philadelphia","Philadelphia, PA","WILMINGTON    DE","DE",1046,4937,"Philadelphia","PA","PAPHILAD.txt"]
[null,"191","\"Pennsylvania\"","PA","\"Philadelphia\"",14,"Philadelphia","Philadelphia, PA","PHILADELPHIA    PA","PA",1101,4954,"Philadelphia","PA","PAPHILAD.txt"]
[null,"850","\"Arizona\"","AZ","\"Phoenix\"",9,"Phoenix","Phoenix, AZ","PHOENIX    AZ","AZ",4162,1350,"Phoenix","AZ","AZPHOENI.txt"]
[null,"851","\"Arizona\"","AZ","\"Phoenix\"",9,"Phoenix","Phoenix, AZ","PHOENIX    AZ","AZ",4162,1350,"Phoenix","AZ","AZPHOENI.txt"]
[null,"575","\"South_Dakota\"","SD","\"Pierre\"",8,"Pierre","Pierre, SD","RAPID CITY    SD","SD",611,7301,"Rapid City","SD","SDRAPCTY.txt"]
[null,"415","\"Kentucky\"","KY","\"Pikeville\"",11,"Pikeville","Pikeville, KY","CHARLESTON    WV","WV",1031,4646,"Charleston","WV","WVCHARLE.txt"]
[null,"416","\"Kentucky\"","KY","\"Pikeville\"",11,"Pikeville","Pikeville, KY","HUNTINGTON    WV","WV",1005,4665,"Charleston","WV","WVCHARLE.txt"]
[null,"716","\"Arkansas\"","AR","\"Pine Bluff\"",12,"Pine Bluff","Pine Bluff, AR","JACKSON    MS","MS",2215,2467,"Jackson","MS","MSJACKSO.txt"]
[null,"150","\"Pennsylvania\"","PA","\"Pittsburgh\"",12,"Pittsburgh","Pittsburgh, PA","PITTSBURGH    PA","PA",654,5968,"Pittsburgh","PA","PAPITTSB.txt"]
[null,"151","\"Pennsylvania\"","PA","\"Pittsburgh\"",12,"Pittsburgh","Pittsburgh, PA","PITTSBURGH    PA","PA",654,5968,"Pittsburgh","PA","PAPITTSB.txt"]
[null,"152","\"Pennsylvania\"","PA","\"Pittsburgh\"",12,"Pittsburgh","Pittsburgh, PA","PITTSBURGH    PA","PA",654,5968,"Pittsburgh","PA","PAPITTSB.txt"]
[null,"012","\"Massachusetts\"","MA","\"Pittsfield\"",12,"Pittsfield","Pittsfield, MA","ALBANY    NY","NY",507,6894,"Albany","NY","NYALBANY.txt"]
[null,"032","\"New_Hampshire\"","NH","\"Pittsfield\"",12,"Pittsfield","Pittsfield, NH","CONCORD    NH","NH",328,7554,"Concord","NH","NHCONCOR.txt"]
[null,"538","\"Wisconsin\"","WI","\"Platteville\"",13,"Platteville","Platteville, WI","WATERLOO    IA","IA",702,7406,"Madison","WI","WIMADISO.txt"]
[null,"129","\"New_York\"","NY","\"Plattsburgh\"",13,"Plattsburgh","Plattsburgh, NY","BURLINGTON    VT","VT",388,7771,"Burlington","VT","VTBURLIN.txt"]
[null,"832","\"Idaho\"","ID","\"Pocatello\"",11,"Pocatello","Pocatello, ID","POCATELLO    ID","ID",421,7180,"Pocatello","ID","IDPOCATE.txt"]
[null,"957","\"California\"","CA","\"Pollock Pines\"",15,"Pollock Pines","Pollock Pines, CA","RENO    NV","NV",508,5674,"Reno","NV","NVRENO.txt"]
[null,"746","\"Oklahoma\"","OK","\"Ponca City\"",12,"Ponca City","Ponca City, OK","TULSA    OK","OK",2017,3691,"Tulsa","OK","OKTULSA.txt"]
[null,"639","\"Missouri\"","MO","\"Poplar Bluff\"",14,"Poplar Bluff","Poplar Bluff, MO","SPRINGFIELD    MO","MO",1320,4638,"Springfield","MO","MOSPRING.txt"]
[null,"539","\"Wisconsin\"","WI","\"Portage\"",9,"Portage","Portage, WI","MADISON    WI","WI",485,7673,"Madison","WI","WIMADISO.txt"]
[null,"040","\"Maine\"","ME","\"Portland\"",10,"Portland","Portland, ME","PORTLAND    ME","ME",268,7378,"Portland","ME","MEPORTLA.txt"]
[null,"041","\"Maine\"","ME","\"Portland\"",10,"Portland","Portland, ME","PORTLAND    ME","ME",268,7378,"Portland","ME","MEPORTLA.txt"]
[null,"971","\"Oregon\"","OR","\"Portland\"",10,"Portland","Portland, OR","PORTLAND    OR","OR",371,4522,"Portland","OR","ORPORTLA.txt"]
[null,"972","\"Oregon\"","OR","\"Portland\"",10,"Portland","Portland, OR","PORTLAND    OR","OR",371,4522,"Portland","OR","ORPORTLA.txt"]
[null,"038","\"New_Hampshire\"","NH","\"Portsmouth\"",12,"Portsmouth","Portsmouth, NH","PORTLAND    ME","ME",268,7378,"Portland","ME","MEPORTLA.txt"]
[null,"237","\"Virginia\"","VA","\"Portsmouth\"",12,"Portsmouth","Portsmouth, VA","NORFOLK    VA","VA",1422,3495,"Norfolk","VA","VANORFOL.txt "]
[null,"749","\"Oklahoma\"","OK","\"Poteau\"",8,"Poteau","Poteau, OK","FORT SMITH    AR","AR",1894,3478,"Fort Smith","AR","ARFTSMIT.txt"]
[null,"179","\"Pennsylvania\"","PA","\"Pottsville\"",12,"Pottsville","Pottsville, PA","ALLENTOWN    PA","PA",773,5785,"Allentown","PA","PAALLENT.txt"]
[null,"125","\"New_York\"","NY","\"Poughkeepsie\"",14,"Poughkeepsie","Poughkeepsie, NY","HARTFORD    CT","CT",677,6151,"Hartford-Springfield","CT","CTHARTFO.txt"]
[null,"126","\"New_York\"","NY","\"Poughkeepsie\"",14,"Poughkeepsie","Poughkeepsie, NY","BRIDGEPORT    CT","CT",724,5537,"Bridgeport","CT","CTBRIDGE.txt"]
[null,"863","\"Arizona\"","AZ","\"Prescott\"",10,"Prescott","Prescott, AZ","FLAGSTAFF    AZ","AZ",145,7131,"Flagstaff","AZ","AZFLAGST.txt"]
[null,"028","\"Rhode_Island\"","RI","\"Providence\"",12,"Providence","Providence, RI","WORCESTER    MA","MA",333,6979,"Rhode Island","RI","RIPROVID.txt"]
[null,"029","\"Rhode_Island\"","RI","\"Providence\"",12,"Providence","Providence, RI","PROVIDENCE    RI","RI",606,5884,"Rhode Island","RI","RIPROVID.txt"]
[null,"846","\"Utah\"","UT","\"Provo\"",7,"Provo","Provo, UT","SALT LAKE CITY    UT","UT",1047,5765,"Salt Lake City","UT","UTSALTLK.txt"]
[null,"810","\"Colorado\"","CO","\"Pueblo\"",8,"Pueblo","Pueblo, CO","PUEBLO    CO","CO",973,5413,"Pueblo","CO","COPUEBLO.txt"]
[null,"243","\"Virginia\"","VA","\"Pulaski\"",9,"Pulaski","Pulaski, VA","ROANOKE    VA","VA",1052,4360,"Roanoke","VA","VAROANOK.txt"]
[null,"111","\"New_York\"","NY","\"Queens\"",8,"Queens","Queens, NY","NEW YORK (LAGUARDIA AP)    NY","NY",1052,4910,"New York City","NY","NYNEWYOR.txt"]
[null,"623","\"Illinois\"","IL","\"Quincy\"",8,"Quincy","Quincy, IL","SPRINGFIELD    IL","IL",1141,5688,"Springfield","IL","ILSPRING.txt"]
[null,"534","\"Wisconsin\"","WI","\"Racine\"",8,"Racine","Racine, WI","MILWAUKEE    WI","WI",479,7324,"Milwaukee","WI","WIMILWAU.txt"]
[null,"275","\"North_Carolina\"","NC","\"Raleigh\"",9,"Raleigh","Raleigh, NC","RALEIGH    NC","NC",1417,3457,"Raleigh Durham","NC","NCRALEIG.txt"]
[null,"276","\"North_Carolina\"","NC","\"Raleigh\"",9,"Raleigh","Raleigh, NC","RALEIGH    NC","NC",1417,3457,"Raleigh Durham","NC","NCRALEIG.txt"]
[null,"577","\"South_Dakota\"","SD","\"Rapid City\"",{"$f":"LEN(E646)","v":12},{"$f":"MID(E646,2,F646-2)","v":"Rapid City"},{"$f":"CONCATENATE(G646,\", \",+D646)","v":"Rapid City, SD"},"RAPID CITY    SD","SD",611,7301,"Rapid City","SD","SDRAPCTY.txt"]
[null,"823","\"Wyoming\"","WY","\"Rawlins\"",9,"Rawlins","Rawlins, WY","CHEYENNE    WY","WY",285,7326,"Cheyenne","WY","WYCHEYEN.txt"]
[null,"195","\"Pennsylvania\"","PA","\"Reading\"",9,"Reading","Reading, PA","ALLENTOWN    PA","PA",773,5785,"Allentown","PA","PAALLENT.txt"]
[null,"196","\"Pennsylvania\"","PA","\"Reading\"",9,"Reading","Reading, PA","ALLENTOWN    PA","PA",773,5785,"Allentown","PA","PAALLENT.txt"]
[null,"077","\"New_Jersey\"","NJ","\"Red Bank\"",10,"Red Bank","Red Bank, NJ","NEWARK    NJ","NJ",1201,4888,"Newark","NJ","NJNEWARK.txt"]
[null,"960","\"California\"","CA","\"Redding\"",9,"Redding","Redding, CA","REDDING    CA","CA",1797,2855,"Sacramento","CA","CASACRAM.txt"]
[null,"894","\"Nevada\"","NV","\"Reno\"",6,"Reno","Reno, NV","RENO    NV","NV",508,5674,"Reno","NV","NVRENO.txt"]
[null,"895","\"Nevada\"","NV","\"Reno\"",6,"Reno","Reno, NV","RENO    NV","NV",508,5674,"Reno","NV","NVRENO.txt"]
[null,"896","\"Nevada\"","NV","\"Reno\"",6,"Reno","Reno, NV","RENO    NV","NV",508,5674,"Reno","NV","NVRENO.txt"]
[null,"545","\"Wisconsin\"","WI","\"Rhinelander\"",13,"Rhinelander","Rhinelander, WI","HOUGHTON LAKE    MI","MI",256,8218,"Green Bay","WI","WIGREBAY.txt"]
[null,"993","\"Washington\"","WA","\"Richland\"",10,"Richland","Richland, WA","PENDLETON    OR","OR",701,5294,"Yakima","WA","WAYAKIMA.txt"]
[null,"948","\"California\"","CA","\"Richmond\"",10,"Richmond","Richmond, CA","SAN FRANCISCO AP    CA","CA",145,3016,"San Jose","CA","CASANJOS.txt"]
[null,"230","\"Virginia\"","VA","\"Richmond\"",10,"Richmond","Richmond, VA","RICHMOND    VA","VA",1348,3963,"Richmond","VA","VARICHMO.txt"]
[null,"231","\"Virginia\"","VA","\"Richmond\"",10,"Richmond","Richmond, VA","RICHMOND    VA","VA",1348,3963,"Richmond","VA","VARICHMO.txt"]
[null,"232","\"Virginia\"","VA","\"Richmond\"",10,"Richmond","Richmond, VA","RICHMOND    VA","VA",1348,3963,"Richmond","VA","VARICHMO.txt"]
[null,"540","\"Wisconsin\"","WI","\"River Falls\"",13,"River Falls","River Falls, WI","MINNEAPOLIS-ST.PAUL    MN","MN",682,7981,"Minneapolis St. Paul","MN","MNMINPLS.txt"]
[null,"119","\"New_York\"","NY","\"Riverhead\"",11,"Riverhead","Riverhead, NY","BRIDGEPORT    CT","CT",724,5537,"Bridgeport","CT","CTBRIDGE.txt"]
[null,"925","\"California\"","CA","\"Riverside\"",11,"Riverside","Riverside, CA","LOS ANGELES C.O.    CA","CA",1537,1154,"Los Angeles","CA","CALOSANG.txt"]
[null,"825","\"Wyoming\"","WY","\"Riverton\"",10,"Riverton","Riverton, WY","LANDER    WY","WY",479,7889,"Casper","WY","WYCASPER.txt "]
[null,"240","\"Virginia\"","VA","\"Roanoke\"",9,"Roanoke","Roanoke, VA","ROANOKE    VA","VA",1052,4360,"Roanoke","VA","VAROANOK.txt"]
[null,"241","\"Virginia\"","VA","\"Roanoke\"",9,"Roanoke","Roanoke, VA","ROANOKE    VA","VA",1052,4360,"Roanoke","VA","VAROANOK.txt"]
[null,"559","\"Minnesota\"","MN","\"Rochester\"",11,"Rochester","Rochester, MN","ROCHESTER    MN","MN",472,8250,"Minneapolis St. Paul","MN","MNMINPLS.txt"]
[null,"144","\"New_York\"","NY","\"Rochester\"",11,"Rochester","Rochester, NY","BUFFALO    NY","NY",477,6747,"Buffalo","NY","NTBUFFAL.txt"]
[null,"145","\"New_York\"","NY","\"Rochester\"",11,"Rochester","Rochester, NY","BUFFALO    NY","NY",477,6747,"Buffalo","NY","NTBUFFAL.txt"]
[null,"146","\"New_York\"","NY","\"Rochester\"",11,"Rochester","Rochester, NY","ROCHESTER    NY","NY",425,6734,"Rochester","NY","NYROCHES.txt"]
[null,"612","\"Illinois\"","IL","\"Rock Island\"",13,"Rock Island","Rock Island, IL","MOLINE    IL","IL",911,6474,"Peoria","IL","ILPEORIA.txt"]
[null,"829","\"Wyoming\"","WY","\"Rock Springs\"",14,"Rock Springs","Rock Springs, WY","LANDER    WY","WY",479,7889,"Casper","WY","WYCASPER.txt "]
[null,"297","\"South_Carolina\"","SC","\"Rock_Hill\"",11,"Rock_Hill","Rock_Hill, SC","COLUMBIA    SC","SC",1966,2649,"Columbia","SC","SCCOLMBA.txt"]
[null,"610","\"Illinois\"","IL","\"Rockford\"",10,"Rockford","Rockford, IL","ROCKFORD    IL","IL",702,6969,"Rockford","IL","ILROCKFO.txt"]
[null,"611","\"Illinois\"","IL","\"Rockford\"",10,"Rockford","Rockford, IL","ROCKFORD    IL","IL",702,6969,"Rockford","IL","ILROCKFO.txt"]
[null,"048","\"Maine\"","ME","\"Rockland\"",10,"Rockland","Rockland, ME","PORTLAND    ME","ME",268,7378,"Portland","ME","MEPORTLA.txt"]
[null,"208","\"Maryland\"","MD","\"Rockville\"",11,"Rockville","Rockville, MD","BALTIMORE    MD","MD",1137,4707,"Baltimore","MD","MDBALTIM.txt"]
[null,"278","\"North_Carolina\"","NC","\"Rocky Mount\"",13,"Rocky Mount","Rocky Mount, NC","RALEIGH    NC","NC",1417,3457,"Raleigh Durham","NC","NCRALEIG.txt"]
[null,"654","\"Missouri\"","MO","\"Rolla\"",7,"Rolla","Rolla, MO","SPRINGFIELD    MO","MO",1320,4638,"Springfield","MO","MOSPRING.txt"]
[null,"655","\"Missouri\"","MO","\"Rolla\"",7,"Rolla","Rolla, MO","SPRINGFIELD    MO","MO",1320,4638,"Springfield","MO","MOSPRING.txt"]
[null,"882","\"New_Mexico\"","NM","\"Roswell\"",9,"Roswell","Roswell, NM","ROSWELL    NM","NM",1776,3267,"Lubbock","TX","TXLUBBOC.txt"]
[null,"480","\"Michigan\"","MI","\"Royal Oak\"",11,"Royal Oak","Royal Oak, MI","DETROIT    MI","MI",626,6569,"Detroit","MI","MIDETROI.txt"]
[null,"728","\"Arkansas\"","AR","\"Russellville\"",14,"Russellville","Russellville, AR","FORT SMITH    AR","AR",1894,3478,"Fort Smith","AR","ARFTSMIT.txt"]
[null,"422","\"Kentucky\"","KY","\"Russellville\"",14,"Russellville","Russellville, KY","LOUISVILLE    KY","KY",1288,4514,"Louisville","KY","KYLOUISV.txt"]
[null,"057","\"Vermont\"","VT","\"Rutland\"",9,"Rutland","Rutland, VT","ALBANY    NY","NY",507,6894,"Albany","NY","NYALBANY.txt"]
[null,"958","\"California\"","CA","\"Sacramento\"",12,"Sacramento","Sacramento, CA","SACRAMENTO    CA","CA",1237,2749,"Sacramento","CA","CASACRAM.txt"]
[null,"942","\"California\"","CA","\"Sacramento/Placerville\"",24,"Sacramento/Placerville","Sacramento/Placerville, CA","SAN FRANCISCO AP    CA","CA",145,3016,"Sacramento","CA","CASACRAM.txt"]
[null,"956","\"California\"","CA","\"Sacramento/Placerville\"",24,"Sacramento/Placerville","Sacramento/Placerville, CA","SACRAMENTO    CA","CA",1237,2749,"Sacramento","CA","CASACRAM.txt"]
[null,"486","\"Michigan\"","MI","\"Saginaw\"",9,"Saginaw","Saginaw, MI","LANSING    MI","MI",490,7101,"Lansing","MI","MILANSIN.txt"]
[null,"487","\"Michigan\"","MI","\"Saginaw\"",9,"Saginaw","Saginaw, MI","FLINT    MI","MI",483,6979,"Flint","MI","MIFLINT.txt"]
[null,"633","\"Missouri\"","MO","\"Saint Charles\"",15,"Saint Charles","Saint Charles, MO","ST. LOUIS    MO","MO",1534,4758,"St Louis","MO","MOSTLOUI.txt"]
[null,"563","\"Minnesota\"","MN","\"Saint Cloud\"",13,"Saint Cloud","Saint Cloud, MN","SAINT CLOUD    MN","MN",415,8928,"Minneapolis St. Paul","MN","MNMINPLS.txt"]
[null,"644","\"Missouri\"","MO","\"Saint Joseph\"",14,"Saint Joseph","Saint Joseph, MO","TOPEKA    KS","KS",1304,5265,"Topeka","KS","KSTOPEKA.txt"]
[null,"645","\"Missouri\"","MO","\"Saint Joseph\"",14,"Saint Joseph","Saint Joseph, MO","KANSAS CITY    MO","MO",1288,5393,"Kansas City","MO","MOKANCTY.txt"]
[null,"630","\"Missouri\"","MO","\"Saint Louis\"",13,"Saint Louis","Saint Louis, MO","ST. LOUIS    MO","MO",1534,4758,"St Louis","MO","MOSTLOUI.txt"]
[null,"631","\"Missouri\"","MO","\"Saint Louis\"",13,"Saint Louis","Saint Louis, MO","ST. LOUIS    MO","MO",1534,4758,"St Louis","MO","MOSTLOUI.txt"]
[null,"632","\"Missouri\"","MO","\"Saint Louis\"",13,"Saint Louis","Saint Louis, MO","ST. LOUIS    MO","MO",1534,4758,"St Louis","MO","MOSTLOUI.txt"]
[null,"550","\"Minnesota\"","MN","\"Saint Paul\"",12,"Saint Paul","Saint Paul, MN","MINNEAPOLIS-ST.PAUL    MN","MN",682,7981,"Minneapolis St. Paul","MN","MNMINPLS.txt"]
[null,"551","\"Minnesota\"","MN","\"Saint Paul\"",12,"Saint Paul","Saint Paul, MN","MINNEAPOLIS-ST.PAUL    MN","MN",682,7981,"Minneapolis St. Paul","MN","MNMINPLS.txt"]
[null,"973","\"Oregon\"","OR","\"Salem\"",7,"Salem","Salem, OR","SALEM    OR","OR",247,4927,"Salem","OR","ORSALEM.txt"]
[null,"812","\"Colorado\"","CO","\"Salida\"",8,"Salida","Salida, CO","ALAMOSA    CO","CO",62,8749,"Pueblo","CO","COPUEBLO.txt"]
[null,"674","\"Kansas\"","KS","\"Salina\"",8,"Salina","Salina, KS","TOPEKA    KS","KS",1304,5265,"Topeka","KS","KSTOPEKA.txt"]
[null,"218","\"Maryland\"","MD","\"Salisbury\"",11,"Salisbury","Salisbury, MD","WALLOPS ISLAND    VA","VA",1096,4261,"Richmond","VA","VARICHMO.txt"]
[null,"841","\"Utah\"","UT","\"Salt Lake City\"",16,"Salt Lake City","Salt Lake City, UT","SALT LAKE CITY    UT","UT",1047,5765,"Salt Lake City","UT","UTSALTLK.txt"]
[null,"840","\"Utah\"","UT","\"Salt Lake City/Heber City\"",27,"Salt Lake City/Heber City","Salt Lake City/Heber City, UT","SALT LAKE CITY    UT","UT",1047,5765,"Salt Lake City","UT","UTSALTLK.txt"]
[null,"769","\"Texas\"","TX","\"San Angelo\"",12,"San Angelo","San Angelo, TX","SAN ANGELO    TX","TX",2400,2414,"San Angelo","TX","TXSANANG.txt"]
[null,"781","\"Texas\"","TX","\"San Antonio\"",13,"San Antonio","San Antonio, TX","AUSTIN    TX","TX",3016,1688,"San Antonio","TX","TXSANANT.txt"]
[null,"782","\"Texas\"","TX","\"San Antonio\"",13,"San Antonio","San Antonio, TX","SAN ANTONIO    TX","TX",2996,1644,"San Antonio","TX","TXSANANT.txt"]
[null,"923","\"California\"","CA","\"San Bern./Victorville/Redlands\"",32,"San Bern./Victorville/Redlands","San Bern./Victorville/Redlands, CA","LAS VEGAS    NV","NV",3201,2407,"Las Vegas","NV","NVLASVEG.txt"]
[null,"924","\"California\"","CA","\"San Bernardino\"",{"$f":"LEN(E710)","v":16},{"$f":"MID(E710,2,F710-2)","v":"San Bernardino"},{"$f":"CONCATENATE(G710,\", \",+D710)","v":"San Bernardino, CA"},"LOS ANGELES C.O.    CA","CA",1537,1154,"Los Angeles","CA","CALOSANG.txt"]
[null,"919","\"California\"","CA","\"San Diego\"",11,"San Diego","San Diego, CA","SAN DIEGO    CA","CA",984,1256,"San Diego","CA","CASANDIE.txt"]
[null,"920","\"California\"","CA","\"San Diego\"",11,"San Diego","San Diego, CA","LONG BEACH    CA","CA",1201,1430,"San Diego","CA","CASANDIE.txt"]
[null,"921","\"California\"","CA","\"San Diego\"",11,"San Diego","San Diego, CA","SAN DIEGO    CA","CA",984,1256,"San Diego","CA","CASANDIE.txt"]
[null,"941","\"California\"","CA","\"San Francisco\"",15,"San Francisco","San Francisco, CA","SAN FRANCISCO C.O.    CA","CA",65,3005,"San Francisco","CA","CASANFRA.txt"]
[null,"951","\"California\"","CA","\"San Jose\"",10,"San Jose","San Jose, CA","SAN FRANCISCO AP    CA","CA",145,3016,"San Jose","CA","CASANJOS.txt"]
[null,"009","\"Puerto_Rico\"","PR","\"San Juan\"",10,"San Juan","San Juan, PR","SAN JUAN    PR","PR",5558,0,"San Juan Puerto Rico","PR","XXSANJUA.txt"]
[null,"934","\"California\"","CA","\"San Luis Obispo\"",17,"San Luis Obispo","San Luis Obispo, CA","SANTA MARIA    CA","CA",169,2984,"Fresno","CA","CAFRESNO.txt"]
[null,"944","\"California\"","CA","\"San Mateo\"",11,"San Mateo","San Mateo, CA","SAN FRANCISCO AP    CA","CA",145,3016,"San Jose","CA","CASANJOS.txt"]
[null,"907","\"California\"","CA","\"San Pedro\"",11,"San Pedro","San Pedro, CA","LONG BEACH    CA","CA",1201,1430,"Los Angeles","CA","CALOSANG.txt"]
[null,"949","\"California\"","CA","\"San Rafael\"",12,"San Rafael","San Rafael, CA","SAN FRANCISCO AP    CA","CA",145,3016,"San Jose","CA","CASANJOS.txt"]
[null,"926","\"California\"","CA","\"Santa Ana\"",11,"Santa Ana","Santa Ana, CA","LONG BEACH    CA","CA",1201,1430,"Los Angeles","CA","CALOSANG.txt"]
[null,"927","\"California\"","CA","\"Santa Ana\"",11,"Santa Ana","Santa Ana, CA","LONG BEACH    CA","CA",1201,1430,"Los Angeles","CA","CALOSANG.txt"]
[null,"931","\"California\"","CA","\"Santa Barbara\"",15,"Santa Barbara","Santa Barbara, CA","SANTA BARBARA    CA","CA",289,2438,"Los Angeles","CA","CALOSANG.txt"]
[null,"875","\"New_Mexico\"","NM","\"Santa Fe\"",10,"Santa Fe","Santa Fe, NM","ALBUQUERQUE    NM","NM",1244,4425,"Santa Fe","NM","NMSANTAF.txt"]
[null,"904","\"California\"","CA","\"Santa Monica\"",14,"Santa Monica","Santa Monica, CA","LOS ANGELES AP    CA","CA",727,1458,"Los Angeles","CA","CALOSANG.txt"]
[null,"954","\"California\"","CA","\"Santa Rosa\"",12,"Santa Rosa","Santa Rosa, CA","SACRAMENTO    CA","CA",1237,2749,"Sacramento","CA","CASACRAM.txt"]
[null,"313","\"Georgia\"","GA","\"Savannah\"",10,"Savannah","Savannah, GA","SAVANNAH    GA","GA",2365,1847,"Savannah","GA","GASAVANN.txt"]
[null,"314","\"Georgia\"","GA","\"Savannah\"",10,"Savannah","Savannah, GA","SAVANNAH    GA","GA",2365,1847,"Savannah","GA","GASAVANN.txt"]
[null,"123","\"New_York\"","NY","\"Schenectady\"",13,"Schenectady","Schenectady, NY","ALBANY    NY","NY",507,6894,"Albany","NY","NYALBANY.txt"]
[null,"184","\"Pennsylvania\"","PA","\"Scranton\"",10,"Scranton","Scranton, PA","AVOCA    PA","PA",539,6291,"Wilkes-Barre","PA","PAWILKES.txt"]
[null,"185","\"Pennsylvania\"","PA","\"Scranton\"",10,"Scranton","Scranton, PA","AVOCA    PA","PA",539,6291,"Wilkes-Barre","PA","PAWILKES.txt"]
[null,"980","\"Washington\"","WA","\"Seattle\"",9,"Seattle","Seattle, WA","SEATTLE C.O.    WA","WA",167,4611,"Seattle","WA","WASEATTL.txt"]
[null,"981","\"Washington\"","WA","\"Seattle\"",9,"Seattle","Seattle, WA","SEATTLE C.O.    WA","WA",167,4611,"Seattle","WA","WASEATTL.txt"]
[null,"653","\"Missouri\"","MO","\"Sedalia\"",9,"Sedalia","Sedalia, MO","COLUMBIA    MO","MO",1189,5212,"St Louis","MO","MOSTLOUI.txt"]
[null,"367","\"Alabama\"","AL","\"Selma\"",7,"Selma","Selma, AL","MONTGOMERY    AL","AL",2212,2224,"Montgomery","AL","ALMONTGO.txt "]
[null,"748","\"Oklahoma\"","OK","\"Shawnee\"",9,"Shawnee","Shawnee, OK","WICHITA FALLS    TX","TX",2340,3042,"Wichita Falls","TX","TXWICHFA.txt"]
[null,"662","\"Kansas\"","KS","\"Shawnee/Mission\"",17,"Shawnee/Mission","Shawnee/Mission, KS","KANSAS CITY    MO","MO",1288,5393,"Kansas City","MO","MOKANCTY.txt"]
[null,"512","\"Iowa\"","IA","\"Sheldon\"",9,"Sheldon","Sheldon, IA","SIOUX FALLS    SD","SD",744,7809,"Sioux Falls","SD","SDSIOFAL.txt"]
[null,"516","\"Iowa\"","IA","\"Shenandoah\"",12,"Shenandoah","Shenandoah, IA","OMAHA (NORTH)    NE","NE",1037,6413,"Omaha","NE","NEOMAHA.txt"]
[null,"828","\"Wyoming\"","WY","\"Sheridan\"",10,"Sheridan","Sheridan, WY","SHERIDAN    WY","WY",439,7804,"Casper","WY","WYCASPER.txt "]
[null,"859","\"Arizona\"","AZ","\"Show Low\"",10,"Show Low","Show Low, AZ","ALBUQUERQUE    NM","NM",1244,4425,"Albuquerque","NM","NMALBUQU.txt"]
[null,"710","\"Louisiana\"","LA","\"Shreveport\"",12,"Shreveport","Shreveport, LA","SHREVEPORT    LA","LA",2368,2264,"Shreveport","LA","LASHREVE.txt"]
[null,"711","\"Louisiana\"","LA","\"Shreveport\"",12,"Shreveport","Shreveport, LA","SHREVEPORT    LA","LA",2368,2264,"Shreveport","LA","LASHREVE.txt"]
[null,"856","\"Arizona\"","AZ","\"Sierra Vista/Nogales\"",22,"Sierra Vista/Nogales","Sierra Vista/Nogales, AZ","TUCSON    AZ","AZ",2954,1678,"Tucson","AZ","AZTUCSON.txt"]
[null,"638","\"Missouri\"","MO","\"Sikeston\"",10,"Sikeston","Sikeston, MO","EVANSVILLE    IN","IN",1376,4708,"Evansville","IN","INEVANSV.txt"]
[null,"209","\"Maryland\"","MD","\"Silver Spring\"",15,"Silver Spring","Silver Spring, MD","WASHINGTON NAT'L AP DC","DC",1549,4047,"Washington","MD","MDWASHDC.txt"]
[null,"510","\"Iowa\"","IA","\"Sioux City\"",12,"Sioux City","Sioux City, IA","SIOUX CITY    IA","IA",907,6893,"Sioux City","IA","IASIOCTY.txt"]
[null,"511","\"Iowa\"","IA","\"Sioux City\"",12,"Sioux City","Sioux City, IA","SIOUX CITY    IA","IA",907,6893,"Sioux City","IA","IASIOCTY.txt"]
[null,"570","\"South_Dakota\"","SD","\"Sioux Falls\"",13,"Sioux Falls","Sioux Falls, SD","SIOUX FALLS    SD","SD",744,7809,"Sioux Falls","SD","SDSIOFAL.txt"]
[null,"571","\"South_Dakota\"","SD","\"Sioux Falls\"",13,"Sioux Falls","Sioux Falls, SD","SIOUX FALLS    SD","SD",744,7809,"Sioux Falls","SD","SDSIOFAL.txt"]
[null,"940","\"California\"","CA","\"So. San Francisco\"",19,"So. San Francisco","So. San Francisco, CA","SAN FRANCISCO C.O.    CA","CA",65,3005,"San Francisco","CA","CASANFRA.txt"]
[null,"878","\"New_Mexico\"","NM","\"Socorro\"",9,"Socorro","Socorro, NM","ALBUQUERQUE    NM","NM",1244,4425,"Albuquerque","NM","NMALBUQU.txt"]
[null,"425","\"Kentucky\"","KY","\"Somerset\"",10,"Somerset","Somerset, KY","LEXINGTON    KY","KY",1140,4783,"Lexington","KY","KYLEXING.txt"]
[null,"426","\"Kentucky\"","KY","\"Somerset\"",10,"Somerset","Somerset, KY","LEXINGTON    KY","KY",1140,4783,"Lexington","KY","KYLEXING.txt"]
[null,"155","\"Pennsylvania\"","PA","\"Somerset\"",10,"Somerset","Somerset, PA","PITTSBURGH    PA","PA",654,5968,"Pittsburgh","PA","PAPITTSB.txt"]
[null,"465","\"Indiana\"","IN","\"South Bend\"",12,"South Bend","South Bend, IN","FORT WAYNE    IN","IN",824,6273,"South Bend","IN","INSOBEND.txt"]
[null,"466","\"Indiana\"","IN","\"South Bend\"",12,"South Bend","South Bend, IN","SOUTH BEND    IN","IN",728,6331,"South Bend","IN","INSOBEND.txt"]
[null,"604","\"Illinois\"","IL","\"South Chicago Sub.\"",20,"South Chicago Sub.","South Chicago Sub., IL","CHICAGO    IL","IL",752,6536,"Chicago","IL","ILCHICAG.txt"]
[null,"605","\"Illinois\"","IL","\"South Chicago Sub.\"",20,"South Chicago Sub.","South Chicago Sub., IL","CHICAGO    IL","IL",752,6536,"Chicago","IL","ILCHICAG.txt"]
[null,"082","\"New_Jersey\"","NJ","\"South Jersey\"",14,"South Jersey","South Jersey, NJ","ATLANTIC CITY AP    NJ","NJ",826,5169,"Atlantic City","NJ","NJATLCTY.txt"]
[null,"083","\"New_Jersey\"","NJ","\"South Jersey\"",14,"South Jersey","South Jersey, NJ","WILMINGTON    DE","DE",1046,4937,"Wilmington","DE","DEWILMIN.txt"]
[null,"845","\"Utah\"","UT","\"Southeast Utah/Green River\"",28,"Southeast Utah/Green River","Southeast Utah/Green River, UT","GRAND JUNCTION    CO","CO",1183,5548,"Grand Junction","CO","COGRNDJU.txt"]
[null,"193","\"Pennsylvania\"","PA","\"Southeastern\"",14,"Southeastern","Southeastern, PA","WILMINGTON    DE","DE",1046,4937,"Wilmington","DE","DEWILMIN.txt"]
[null,"194","\"Pennsylvania\"","PA","\"Southeastern\"",14,"Southeastern","Southeastern, PA","WILMINGTON    DE","DE",1046,4937,"Wilmington","DE","DEWILMIN.txt"]
[null,"847","\"Utah\"","UT","\"Southwest Utah/Cedar City\"",27,"Southwest Utah/Cedar City","Southwest Utah/Cedar City, UT","MILFORD    UT","UT",647,6511,"Grand Junction","CO","COGRNDJU.txt"]
[null,"293","\"South_Carolina\"","SC","\"Spartanburg\"",13,"Spartanburg","Spartanburg, SC","GREENVILLE-SPARTANBURG AP    SC","SC",1473,3272,"Charlotte","NC","NCCHARLO.txt"]
[null,"513","\"Iowa\"","IA","\"Spencer\"",9,"Spencer","Spencer, IA","SIOUX FALLS    SD","SD",744,7809,"Sioux Falls","SD","SDSIOFAL.txt"]
[null,"990","\"Washington\"","WA","\"Spokane\"",9,"Spokane","Spokane, WA","SPOKANE    WA","WA",398,6842,"Spokane","WA","WASPOKAN.txt"]
[null,"991","\"Washington\"","WA","\"Spokane\"",9,"Spokane","Spokane, WA","SPOKANE    WA","WA",398,6842,"Spokane","WA","WASPOKAN.txt"]
[null,"992","\"Washington\"","WA","\"Spokane\"",9,"Spokane","Spokane, WA","SPOKANE    WA","WA",398,6842,"Spokane","WA","WASPOKAN.txt"]
[null,"548","\"Wisconsin\"","WI","\"Spooner\"",9,"Spooner","Spooner, WI","SAINT CLOUD    MN","MN",415,8928,"Madison","WI","WIMADISO.txt"]
[null,"625","\"Illinois\"","IL","\"Springfield\"",13,"Springfield","Springfield, IL","SPRINGFIELD    IL","IL",1141,5688,"Springfield","IL","ILSPRING.txt"]
[null,"626","\"Illinois\"","IL","\"Springfield\"",13,"Springfield","Springfield, IL","SPRINGFIELD    IL","IL",1141,5688,"Springfield","IL","ILSPRING.txt"]
[null,"627","\"Illinois\"","IL","\"Springfield\"",{"$f":"LEN(E774)","v":13},{"$f":"MID(E774,2,F774-2)","v":"Springfield"},{"$f":"CONCATENATE(G774,\", \",+D774)","v":"Springfield, IL"},"SPRINGFIELD    IL","IL",1141,5688,"Springfield","IL","ILSPRING.txt"]
[null,"010","\"Massachusetts\"","MA","\"Springfield\"",13,"Springfield","Springfield, MA","WORCESTER    MA","MA",333,6979,"Hartford-Springfield","CT","CTHARTFO.txt"]
[null,"011","\"Massachusetts\"","MA","\"Springfield\"",13,"Springfield","Springfield, MA","HARTFORD    CT","CT",677,6151,"Hartford-Springfield","CT","CTHARTFO.txt"]
[null,"656","\"Missouri\"","MO","\"Springfield\"",13,"Springfield","Springfield, MO","SPRINGFIELD    MO","MO",1320,4638,"Springfield","MO","MOSPRING.txt"]
[null,"657","\"Missouri\"","MO","\"Springfield\"",13,"Springfield","Springfield, MO","SPRINGFIELD    MO","MO",1320,4638,"Springfield","MO","MOSPRING.txt"]
[null,"658","\"Missouri\"","MO","\"Springfield\"",13,"Springfield","Springfield, MO","SPRINGFIELD    MO","MO",1320,4638,"Springfield","MO","MOSPRING.txt"]
[null,"455","\"Ohio\"","OH","\"Springfield\"",13,"Springfield","Springfield, OH","DAYTON    OH","OH",886,5708,"Dayton","OH","OHDAYTON.txt"]
[null,"058","\"Vermont\"","VT","\"St. Johnsbury\"",15,"St. Johnsbury","St. Johnsbury, VT","BURLINGTON    VT","VT",388,7771,"Burlington","VT","VTBURLIN.txt"]
[null,"337","\"Florida\"","FL","\"St. Petersburg\"",16,"St. Petersburg","St. Petersburg, FL","TAMPA    FL","FL",3427,725,"Tampa St. Petersburg","FL","FLTAMPA.txt"]
[null,"068","\"Connecticut\"","CT","\"Stamford\"",10,"Stamford","Stamford, CT","BRIDGEPORT    CT","CT",724,5537,"Bridgeport","CT","CTBRIDGE.txt"]
[null,"069","\"Connecticut\"","CT","\"Stamford\"",10,"Stamford","Stamford, CT","BRIDGEPORT    CT","CT",724,5537,"Bridgeport","CT","CTBRIDGE.txt"]
[null,"168","\"Pennsylvania\"","PA","\"State College\"",15,"State College","State College, PA","WILLIAMSPORT    PA","PA",622,6087,"Harrisburg","PA","PAHARRIS.txt "]
[null,"103","\"New_York\"","NY","\"Staten Island\"",15,"Staten Island","Staten Island, NY","NEW YORK (LAGUARDIA AP)    NY","NY",1052,4910,"New York City","NY","NYNEWYOR.txt"]
[null,"244","\"Virginia\"","VA","\"Staunton\"",10,"Staunton","Staunton, VA","ROANOKE    VA","VA",1052,4360,"Roanoke","VA","VAROANOK.txt"]
[null,"764","\"Texas\"","TX","\"Stephenville\"",14,"Stephenville","Stephenville, TX","ABILENE    TX","TX",2451,2584,"Abilene","TX","TXABILEN.txt"]
[null,"952","\"California\"","CA","\"Stockton\"",10,"Stockton","Stockton, CA","STOCKTON    CA","CA",1470,2707,"Sacramento","CA","CASACRAM.txt"]
[null,"183","\"Pennsylvania\"","PA","\"Stroudsburg\"",13,"Stroudsburg","Stroudsburg, PA","ALLENTOWN    PA","PA",773,5785,"Allentown","PA","PAALLENT.txt"]
[null,"439","\"Ohio\"","OH","\"Stuebenville\"",14,"Stuebenville","Stuebenville, OH","PITTSBURGH    PA","PA",654,5968,"Pittsburgh","PA","PAPITTSB.txt"]
[null,"109","\"New_York\"","NY","\"Suffern\"",9,"Suffern","Suffern, NY","BRIDGEPORT    CT","CT",724,5537,"Bridgeport","CT","CTBRIDGE.txt"]
[null,"079","\"New_Jersey\"","NJ","\"Summit\"",8,"Summit","Summit, NJ","NEWARK    NJ","NJ",1201,4888,"Newark","NJ","NJNEWARK.txt"]
[null,"178","\"Pennsylvania\"","PA","\"Sunbury\"",9,"Sunbury","Sunbury, PA","WILLIAMSPORT    PA","PA",622,6087,"Harrisburg","PA","PAHARRIS.txt "]
[null,"961","\"California\"","CA","\"Susanville\"",12,"Susanville","Susanville, CA","WINNEMUCCA    NV","NV",538,6315,"Sacramento","CA","CASACRAM.txt"]
[null,"304","\"Georgia\"","GA","\"Swainsboro\"",12,"Swainsboro","Swainsboro, GA","SAVANNAH    GA","GA",2365,1847,"Savannah","GA","GASAVANN.txt"]
[null,"130","\"New_York\"","NY","\"Syracuse\"",10,"Syracuse","Syracuse, NY","SYRACUSE    NY","NY",438,6834,"Syracuse","NY","NYSYRACU.txt"]
[null,"131","\"New_York\"","NY","\"Syracuse\"",10,"Syracuse","Syracuse, NY","ROCHESTER    NY","NY",425,6734,"Syracuse","NY","NYSYRACU.txt"]
[null,"132","\"New_York\"","NY","\"Syracuse\"",10,"Syracuse","Syracuse, NY","SYRACUSE    NY","NY",438,6834,"Syracuse","NY","NYSYRACU.txt"]
[null,"983","\"Washington\"","WA","\"Tacoma\"",8,"Tacoma","Tacoma, WA","SEATTLE SEA-TAC AP    WA","WA",190,4908,"Seattle","WA","WASEATTL.txt"]
[null,"984","\"Washington\"","WA","\"Tacoma\"",8,"Tacoma","Tacoma, WA","SEATTLE SEA-TAC AP    WA","WA",190,4908,"Seattle","WA","WASEATTL.txt"]
[null,"323","\"Florida\"","FL","\"Tallahassee\"",13,"Tallahassee","Tallahassee, FL","TALLAHASSEE    FL","FL",2518,1705,"Tallahassee","FL","FLTALLAH.txt"]
[null,"335","\"Florida\"","FL","\"Tampa\"",7,"Tampa","Tampa, FL","TAMPA    FL","FL",3427,725,"Tampa St. Petersburg","FL","FLTAMPA.txt"]
[null,"336","\"Florida\"","FL","\"Tampa\"",7,"Tampa","Tampa, FL","TAMPA    FL","FL",3427,725,"Tampa St. Petersburg","FL","FLTAMPA.txt"]
[null,"246","\"Virginia\"","VA","\"Tazewell\"",10,"Tazewell","Tazewell, VA","ROANOKE    VA","VA",1052,4360,"Roanoke","VA","VAROANOK.txt"]
[null,"765","\"Texas\"","TX","\"Temple\"",8,"Temple","Temple, TX","WACO    TX","TX",2816,2179,"Waco","TX","TXWACO.txt"]
[null,"478","\"Indiana\"","IN","\"Terre Haute\"",13,"Terre Haute","Terre Haute, IN","INDIANAPOLIS    IN","IN",1014,5615,"Indianapolis","IN","ININDIAN.txt"]
[null,"755","\"Texas\"","TX","\"Texarkana\"",11,"Texarkana","Texarkana, TX","SHREVEPORT    LA","LA",2368,2264,"Shreveport","LA","LASHREVE.txt"]
[null,"703","\"Louisiana\"","LA","\"Thibodaux\"",11,"Thibodaux","Thibodaux, LA","NEW ORLEANS    LA","LA",2655,1513,"New Orleans","LA","LANEWORL.txt"]
[null,"567","\"Minnesota\"","MN","\"Thief River Falls\"",19,"Thief River Falls","Thief River Falls, MN","FARGO    ND","ND",537,9254,"Fargo","ND","NDFARGO.txt"]
[null,"327","\"Florida\"","FL","\"Titusville\"",12,"Titusville","Titusville, FL","DAYTONA BEACH    FL","FL",2919,909,"Daytona Beach","FL","FLDAYTNA.txt"]
[null,"436","\"Ohio\"","OH","\"Toledo\"",8,"Toledo","Toledo, OH","TOLEDO    OH","OH",610,6579,"Toledo","OH","OHTOLEDO.txt"]
[null,"890","\"Nevada\"","NV","\"Tonopah\"",9,"Tonopah","Tonopah, NV","MILFORD    UT","UT",647,6511,"Las Vegas","NV","NVLASVEG.txt"]
[null,"664","\"Kansas\"","KS","\"Topeka\"",8,"Topeka","Topeka, KS","TOPEKA    KS","KS",1304,5265,"Topeka","KS","KSTOPEKA.txt"]
[null,"665","\"Kansas\"","KS","\"Topeka\"",8,"Topeka","Topeka, KS","TOPEKA    KS","KS",1304,5265,"Topeka","KS","KSTOPEKA.txt"]
[null,"666","\"Kansas\"","KS","\"Topeka\"",8,"Topeka","Topeka, KS","TOPEKA    KS","KS",1304,5265,"Topeka","KS","KSTOPEKA.txt"]
[null,"905","\"California\"","CA","\"Torrance\"",10,"Torrance","Torrance, CA","LONG BEACH    CA","CA",1201,1430,"Los Angeles","CA","CALOSANG.txt"]
[null,"496","\"Michigan\"","MI","\"Traverse City\"",15,"Traverse City","Traverse City, MI","ALPENA    MI","MI",231,8284,"Sault Ste Marie","MI","MISTEMAR.txt"]
[null,"085","\"New_Jersey\"","NJ","\"Trenton\"",9,"Trenton","Trenton, NJ","NEWARK    NJ","NJ",1201,4888,"Newark","NJ","NJNEWARK.txt"]
[null,"086","\"New_Jersey\"","NJ","\"Trenton\"",9,"Trenton","Trenton, NJ","NEWARK    NJ","NJ",1201,4888,"Newark","NJ","NJNEWARK.txt"]
[null,"879","\"New_Mexico\"","NM","\"Truth or Conseq.\"",18,"Truth or Conseq.","Truth or Conseq., NM","EL PASO    TX","TX",2094,2708,"El Paso","TX","TXELPASO.txt"]
[null,"857","\"Arizona\"","AZ","\"Tucson\"",8,"Tucson","Tucson, AZ","TUCSON    AZ","AZ",2954,1678,"Tucson","AZ","AZTUCSON.txt"]
[null,"884","\"New_Mexico\"","NM","\"Tucumcari\"",11,"Tucumcari","Tucumcari, NM","CLAYTON    NM","NM",772,5064,"Amarillo","TX","TXAMARIL.txt"]
[null,"740","\"Oklahoma\"","OK","\"Tulsa\"",7,"Tulsa","Tulsa, OK","OKLAHOMA CITY    OK","OK",1859,3659,"Tulsa","OK","OKTULSA.txt"]
[null,"741","\"Oklahoma\"","OK","\"Tulsa\"",7,"Tulsa","Tulsa, OK","TULSA    OK","OK",2017,3691,"Tulsa","OK","OKTULSA.txt"]
[null,"388","\"Mississippi\"","MS","\"Tupelo\"",8,"Tupelo","Tupelo, MS","TUPELO    MS","MS",1908,3079,"Tupelo","MS","MSTUPELO.txt"]
[null,"354","\"Alabama\"","AL","\"Tuscaloosa\"",12,"Tuscaloosa","Tuscaloosa, AL","MERIDIAN    MS","MS",2138,2444,"Birmingham","AL","ALBIRMIN.txt "]
[null,"833","\"Idaho\"","ID","\"Twin Falls\"",12,"Twin Falls","Twin Falls, ID","POCATELLO    ID","ID",421,7180,"Pocatello","ID","IDPOCATE.txt"]
[null,"757","\"Texas\"","TX","\"Tyler\"",7,"Tyler","Tyler, TX","DALLAS-FORT WORTH    TX","TX",2603,2407,"Dallas Ft Worth","TX","TXDALLAS.txt"]
[null,"154","\"Pennsylvania\"","PA","\"Uniontown\"",11,"Uniontown","Uniontown, PA","PITTSBURGH    PA","PA",654,5968,"Pittsburgh","PA","PAPITTSB.txt"]
[null,"133","\"New_York\"","NY","\"Utica\"",7,"Utica","Utica, NY","BINGHAMTON    NY","NY",337,7273,"Wilkes-Barre","PA","PAWILKES.txt"]
[null,"134","\"New_York\"","NY","\"Utica\"",7,"Utica","Utica, NY","BINGHAMTON    NY","NY",337,7273,"Wilkes-Barre","PA","PAWILKES.txt"]
[null,"135","\"New_York\"","NY","\"Utica\"",7,"Utica","Utica, NY","SYRACUSE    NY","NY",438,6834,"Syracuse","NY","NYSYRACU.txt"]
[null,"788","\"Texas\"","TX","\"Uvalde\"",8,"Uvalde","Uvalde, TX","DEL RIO    TX","TX",3142,1506,"San Antonio","TX","TXSANANT.txt"]
[null,"316","\"Georgia\"","GA","\"Valdosta\"",10,"Valdosta","Valdosta, GA","TALLAHASSEE    FL","FL",2518,1705,"Tallahassee","FL","FLTALLAH.txt"]
[null,"692","\"Nebraska\"","NE","\"Valentine\"",11,"Valentine","Valentine, NE","VALENTINE    NE","NE",752,7282,"North Platte","NE","NENPLATT.txt"]
[null,"913","\"California\"","CA","\"Van Nuys\"",10,"Van Nuys","Van Nuys, CA","BAKERSFIELD    CA","CA",2365,2182,"Los Angeles","CA","CALOSANG.txt"]
[null,"914","\"California\"","CA","\"Van Nuys\"",{"$f":"LEN(E838)","v":10},{"$f":"MID(E838,2,F838-2)","v":"Van Nuys"},{"$f":"CONCATENATE(G838,\", \",+D838)","v":"Van Nuys, CA"},"LOS ANGELES C.O.    CA","CA",1537,1154,"Los Angeles","CA","CALOSANG.txt"]
[null,"986","\"Washington\"","WA","\"Vancouver\"",11,"Vancouver","Vancouver, WA","PORTLAND    OR","OR",371,4522,"Portland","OR","ORPORTLA.txt"]
[null,"930","\"California\"","CA","\"Ventura/Oxnard\"",16,"Ventura/Oxnard","Ventura/Oxnard, CA","BAKERSFIELD    CA","CA",2365,2182,"Los Angeles","CA","CALOSANG.txt"]
[null,"779","\"Texas\"","TX","\"Victoria\"",10,"Victoria","Victoria, TX","VICTORIA    TX","TX",3118,1296,"Corpus Christi","TX","TXCORPUS.txt"]
[null,"743","\"Oklahoma\"","OK","\"Vinita\"",8,"Vinita","Vinita, OK","TULSA    OK","OK",2017,3691,"Tulsa","OK","OKTULSA.txt"]
[null,"766","\"Texas\"","TX","\"Waco\"",6,"Waco","Waco, TX","WACO    TX","TX",2816,2179,"Waco","TX","TXWACO.txt"]
[null,"767","\"Texas\"","TX","\"Waco\"",6,"Waco","Waco, TX","WACO    TX","TX",2816,2179,"Waco","TX","TXWACO.txt"]
[null,"206","\"Maryland\"","MD","\"Waldorf\"",9,"Waldorf","Waldorf, MD","WASHINGTON NAT'L AP DC","DC",1549,4047,"Washington","MD","MDWASHDC.txt"]
[null,"200","\"DC\"","DC","\"Washington\"",12,"Washington","Washington, DC","WASHINGTON NAT'L AP DC","DC",1549,4047,"Washington","MD","MDWASHDC.txt"]
[null,"201","\"DC\"","DC","\"Washington\"",12,"Washington","Washington, DC","WASHINGTON NAT'L AP DC","DC",1549,4047,"Washington","MD","MDWASHDC.txt"]
[null,"202","\"DC\"","DC","\"Washington\"",12,"Washington","Washington, DC","WASHINGTON NAT'L AP DC","DC",1549,4047,"Washington","MD","MDWASHDC.txt"]
[null,"203","\"DC\"","DC","\"Washington\"",12,"Washington","Washington, DC","WASHINGTON NAT'L AP DC","DC",1549,4047,"Washington","MD","MDWASHDC.txt"]
[null,"204","\"DC\"","DC","\"Washington\"",12,"Washington","Washington, DC","WASHINGTON NAT'L AP DC","DC",1549,4047,"Washington","MD","MDWASHDC.txt"]
[null,"205","\"DC\"","DC","\"Washington\"",12,"Washington","Washington, DC","WASHINGTON NAT'L AP DC","DC",1549,4047,"Washington","MD","MDWASHDC.txt"]
[null,"475","\"Indiana\"","IN","\"Washington\"",12,"Washington","Washington, IN","EVANSVILLE    IN","IN",1376,4708,"Evansville","IN","INEVANSV.txt"]
[null,"153","\"Pennsylvania\"","PA","\"Washington\"",12,"Washington","Washington, PA","PITTSBURGH    PA","PA",654,5968,"Pittsburgh","PA","PAPITTSB.txt"]
[null,"067","\"Connecticut\"","CT","\"Waterbury\"",11,"Waterbury","Waterbury, CT","HARTFORD    CT","CT",677,6151,"Hartford-Springfield","CT","CTHARTFO.txt"]
[null,"506","\"Iowa\"","IA","\"Waterloo\"",10,"Waterloo","Waterloo, IA","WATERLOO    IA","IA",702,7406,"Des Moines","IA","IADESMOI.txt"]
[null,"507","\"Iowa\"","IA","\"Waterloo\"",10,"Waterloo","Waterloo, IA","WATERLOO    IA","IA",702,7406,"Des Moines","IA","IADESMOI.txt"]
[null,"136","\"New_York\"","NY","\"Watertown\"",11,"Watertown","Watertown, NY","SYRACUSE    NY","NY",438,6834,"Syracuse","NY","NYSYRACU.txt"]
[null,"572","\"South_Dakota\"","SD","\"Watertown\"",11,"Watertown","Watertown, SD","FARGO    ND","ND",537,9254,"Fargo","ND","NDFARGO.txt"]
[null,"049","\"Maine\"","ME","\"Waterville\"",12,"Waterville","Waterville, ME","PORTLAND    ME","ME",268,7378,"Portland","ME","MEPORTLA.txt"]
[null,"544","\"Wisconsin\"","WI","\"Wausau\"",8,"Wausau","Wausau, WI","GREEN BAY    WI","WI",381,8089,"Green Bay","WI","WIGREBAY.txt"]
[null,"315","\"Georgia\"","GA","\"Waycross\"",10,"Waycross","Waycross, GA","SAVANNAH    GA","GA",2365,1847,"Savannah","GA","GASAVANN.txt"]
[null,"248","\"West_Virginia\"","WV","\"Welch\"",7,"Welch","Welch, WV","CHARLESTON    WV","WV",1031,4646,"Charleston","WV","WVCHARLE.txt"]
[null,"169","\"Pennsylvania\"","PA","\"Wellsboro\"",11,"Wellsboro","Wellsboro, PA","BINGHAMTON    NY","NY",337,7273,"Wilkes-Barre","PA","PAWILKES.txt"]
[null,"988","\"Washington\"","WA","\"Wenatchee\"",11,"Wenatchee","Wenatchee, WA","YAKIMA    WA","WA",458,5967,"Yakima","WA","WAYAKIMA.txt"]
[null,"723","\"Arkansas\"","AR","\"West Memphis\"",14,"West Memphis","West Memphis, AR","NORTH LITTLE ROCK    AR","AR",1916,3228,"Little Rock","AR","ARLIROCK.txt"]
[null,"334","\"Florida\"","FL","\"West Palm Beach\"",17,"West Palm Beach","West Palm Beach, FL","WEST PALM BEACH    FL","FL",3891,323,"West Palm Beach","FL","FLWPALMB.txt"]
[null,"105","\"New_York\"","NY","\"Westchester\"",13,"Westchester","Westchester, NY","BRIDGEPORT    CT","CT",724,5537,"Bridgeport","CT","CTBRIDGE.txt"]
[null,"822","\"Wyoming\"","WY","\"Wheatland\"",11,"Wheatland","Wheatland, WY","SCOTTSBLUFF    NE","NE",713,6729,"Cheyenne","WY","WYCHEYEN.txt"]
[null,"260","\"West_Virginia\"","WV","\"Wheeling\"",10,"Wheeling","Wheeling, WV","PITTSBURGH    PA","PA",654,5968,"Pittsburgh","PA","PAPITTSB.txt"]
[null,"106","\"New_York\"","NY","\"White Plains\"",14,"White Plains","White Plains, NY","BRIDGEPORT    CT","CT",724,5537,"Bridgeport","CT","CTBRIDGE.txt"]
[null,"050","\"Vermont\"","VT","\"White River Junction\"",22,"White River Junction","White River Junction, VT","BURLINGTON    VT","VT",388,7771,"Burlington","VT","VTBURLIN.txt"]
[null,"906","\"California\"","CA","\"Whittier\"",10,"Whittier","Whittier, CA","LONG BEACH    CA","CA",1201,1430,"Los Angeles","CA","CALOSANG.txt"]
[null,"763","\"Texas\"","TX","\"Wichita Falls\"",15,"Wichita Falls","Wichita Falls, TX","WICHITA FALLS    TX","TX",2340,3042,"Wichita Falls","TX","TXWICHFA.txt"]
[null,"670","\"Kansas\"","KS","\"Wichita\"",9,"Wichita","Wichita, KS","WICHITA    KS","KS",1628,4791,"Wichita","KS","KSWICHIT.txt"]
[null,"671","\"Kansas\"","KS","\"Wichita\"",9,"Wichita","Wichita, KS","WICHITA    KS","KS",1628,4791,"Wichita","KS","KSWICHIT.txt"]
[null,"672","\"Kansas\"","KS","\"Wichita\"",9,"Wichita","Wichita, KS","WICHITA    KS","KS",1628,4791,"Wichita","KS","KSWICHIT.txt"]
[null,"186","\"Pennsylvania\"","PA","\"Wilkes-Barre\"",14,"Wilkes-Barre","Wilkes-Barre, PA","AVOCA    PA","PA",539,6291,"Wilkes-Barre","PA","PAWILKES.txt"]
[null,"187","\"Pennsylvania\"","PA","\"Wilkes-Barre\"",14,"Wilkes-Barre","Wilkes-Barre, PA","AVOCA    PA","PA",539,6291,"Wilkes-Barre","PA","PAWILKES.txt"]
[null,"177","\"Pennsylvania\"","PA","\"Williamsport\"",14,"Williamsport","Williamsport, PA","WILLIAMSPORT    PA","PA",622,6087,"Harrisburg","PA","PAHARRIS.txt "]
[null,"062","\"Connecticut\"","CT","\"Willimantic\"",13,"Willimantic","Willimantic, CT","WORCESTER    MA","MA",333,6979,"Hartford-Springfield","CT","CTHARTFO.txt"]
[null,"588","\"North_Dakota\"","ND","\"Williston\"",11,"Williston","Williston, ND","WILLISTON    ND","ND",548,9090,"Bismarck","ND","NDBISMAR.txt"]
[null,"562","\"Minnesota\"","MN","\"Willmar\"",9,"Willmar","Willmar, MN","HURON    SD","SD",743,7923,"Minneapolis St. Paul","MN","MNMINPLS.txt"]
[null,"197","\"Delaware\"","DE","\"Wilmington\"",12,"Wilmington","Wilmington, DE","WILMINGTON    DE","DE",1046,4937,"Wilmington","DE","DEWILMIN.txt"]
[null,"198","\"Delaware\"","DE","\"Wilmington\"",12,"Wilmington","Wilmington, DE","WILMINGTON    DE","DE",1046,4937,"Wilmington","DE","DEWILMIN.txt"]
[null,"284","\"North_Carolina\"","NC","\"Wilmington\"",12,"Wilmington","Wilmington, NC","WILMINGTON    NC","NC",1926,2470,"Charlotte","NC","NCCHARLO.txt"]
[null,"226","\"Virginia\"","VA","\"Winchester\"",12,"Winchester","Winchester, VA","WASHINGTON DULLES AP DC","DC",973,5006,"Washington","MD","MDWASHDC.txt"]
[null,"561","\"Minnesota\"","MN","\"Windom\"",8,"Windom","Windom, MN","SIOUX FALLS    SD","SD",744,7809,"Sioux Falls","SD","SDSIOFAL.txt"]
[null,"865","\"Arizona\"","AZ","\"Window Rock\"",13,"Window Rock","Window Rock, AZ","FLAGSTAFF    AZ","AZ",145,7131,"Flagstaff","AZ","AZFLAGST.txt"]
[null,"270","\"North_Carolina\"","NC","\"Winston-Salem\"",15,"Winston-Salem","Winston-Salem, NC","GREENSBORO-WNSTN-SALM-HGHPT NC","NC",1253,3865,"Greensboro","NC","NCGRNSBO.txt"]
[null,"271","\"North_Carolina\"","NC","\"Winston-Salem\"",15,"Winston-Salem","Winston-Salem, NC","GREENSBORO-WNSTN-SALM-HGHPT NC","NC",1253,3865,"Greensboro","NC","NCGRNSBO.txt"]
[null,"018","\"Massachusetts\"","MA","\"Woburn\"",8,"Woburn","Woburn, MA","WORCESTER    MA","MA",333,6979,"Boston","MA","MABOSTON.txt"]
[null,"592","\"Montana\"","MT","\"Wolf Point\"",12,"Wolf Point","Wolf Point, MT","GLASGOW    MT","MT",558,8745,"Great Falls","MT","MTGRFALL.txt"]
[null,"738","\"Oklahoma\"","OK","\"Woodward\"",10,"Woodward","Woodward, OK","AMARILLO    TX","TX",1354,4258,"Amarillo","TX","TXAMARIL.txt"]
[null,"014","\"Massachusetts\"","MA","\"Worcester\"",11,"Worcester","Worcester, MA","WORCESTER    MA","MA",333,6979,"Boston","MA","MABOSTON.txt"]
[null,"015","\"Massachusetts\"","MA","\"Worcester\"",11,"Worcester","Worcester, MA","WORCESTER    MA","MA",333,6979,"Boston","MA","MABOSTON.txt"]
[null,"016","\"Massachusetts\"","MA","\"Worcester\"",11,"Worcester","Worcester, MA","WORCESTER    MA","MA",333,6979,"Boston","MA","MABOSTON.txt"]
[null,"824","\"Wyoming\"","WY","\"Worland\"",9,"Worland","Worland, WY","LANDER    WY","WY",479,7889,"Casper","WY","WYCASPER.txt "]
[null,"989","\"Washington\"","WA","\"Yakima\"",8,"Yakima","Yakima, WA","YAKIMA    WA","WA",458,5967,"Yakima","WA","WAYAKIMA.txt"]
[null,"821","\"Wyoming\"","WY","\"Yellowstone Nat Pk\"",20,"Yellowstone Nat Pk","Yellowstone Nat Pk, WY","HELENA    MT","MT",386,8031,"Helena","MT","MTHELENA.txt"]
[null,"107","\"New_York\"","NY","\"Yonkers\"",9,"Yonkers","Yonkers, NY","NEW YORK (LAGUARDIA AP)    NY","NY",1052,4910,"New York City","NY","NYNEWYOR.txt"]
[null,"173","\"Pennsylvania\"","PA","\"York\"",6,"York","York, PA","HARRISBURG    PA","PA",962,5347,"Harrisburg","PA","PAHARRIS.txt "]
[null,"174","\"Pennsylvania\"","PA","\"York\"",{"$f":"LEN(E902)","v":6},{"$f":"MID(E902,2,F902-2)","v":"York"},{"$f":"CONCATENATE(G902,\", \",+D902)","v":"York, PA"},"HARRISBURG    PA","PA",962,5347,"Harrisburg","PA","PAHARRIS.txt "]
[null,"444","\"Ohio\"","OH","\"Youngstown\"",{"$f":"LEN(E903)","v":12},{"$f":"MID(E903,2,F903-2)","v":"Youngstown"},{"$f":"CONCATENATE(G903,\", \",+D903)","v":"Youngstown, OH"},"YOUNGSTOWN    OH","OH",497,6544,"Youngstown","OH","OHYOUNGS.txt"]
[null,"445","\"Ohio\"","OH","\"Youngstown\"",{"$f":"LEN(E904)","v":12},{"$f":"MID(E904,2,F904-2)","v":"Youngstown"},{"$f":"CONCATENATE(G904,\", \",+D904)","v":"Youngstown, OH"},"YOUNGSTOWN    OH","OH",497,6544,"Youngstown","OH","OHYOUNGS.txt"]
[null,"437","\"Ohio\"","OH","\"Zanesville\"",{"$f":"LEN(E905)","v":12},{"$f":"MID(E905,2,F905-2)","v":"Zanesville"},{"$f":"CONCATENATE(G905,\", \",+D905)","v":"Zanesville, OH"},"PITTSBURGH    PA","PA",654,5968,"Pittsburgh","PA","PAPITTSB.txt"]
[null,"438","\"Ohio\"","OH","\"Zanesville\"",{"$f":"LEN(E906)","v":12},{"$f":"MID(E906,2,F906-2)","v":"Zanesville"},{"$f":"CONCATENATE(G906,\", \",+D906)","v":"Zanesville, OH"},"COLUMBUS    OH","OH",797,5708,"Columbus","OH","OHCOLMBS.txt"]
[]
[]
[]
[null,"901 Unique Zip Codes",null,null,null,null,null,null,"242 Unique Climates",null,null,null,"159 IWIN - NCDC Sites"]

{"sheet":"Side Calcs - Baseline","index":12,"n_rows":18,"n_cols":37,"rows_kept":18,"cut":false,"hidden":true,"merged":[[1,35,1,38],[1,19,1,22],[1,23,1,26],[1,27,1,30],[1,1,1,3],[1,15,1,18],[1,7,1,10],[1,11,1,14],[1,4,1,6],[1,31,1,34]]}
[]
[null,null,null,null,null,null,null,"Elec. Units",null,null,null,"Gas Units",null,null,null,"Oil Units",null,null,null,"Steam Units",null,null,null,"Chilled Water Units",null,null,null,"Cooking",null,null,null,"Cooling",null,null,null,"Months in Use"]
[null,null,null,null,null,null,null,null,null,"Source","Site",null,null,"Source","Site",null,null,"Source","Site",null,null,"Source","Site",null,null,"Source","Site",null,null,"Value",null,null,"Value",null,null,null,"Value"]
[null,null,null,null,null,null,null,2,{"$f":"INDIRECT(ADDRESS($H$4+H5,COLUMN(I$2)))","v":"kBTU"},{"$f":"INDIRECT(ADDRESS($H$4+H5,COLUMN(J$2)))","v":3.0187573270808912},{"$f":"INDIRECT(ADDRESS($H$4+H5,COLUMN(K$2)))","v":1},2,{"$f":"INDIRECT(ADDRESS($L$4+L5,COLUMN(M$2)))","v":"kBTU"},{"$f":"INDIRECT(ADDRESS($L$4+L5,COLUMN(N$2)))","v":1.024},{"$f":"INDIRECT(ADDRESS($L$4+L5,COLUMN(O$2)))","v":1},1,{"$f":"INDIRECT(ADDRESS($P$4+P5,COLUMN(Q$2)))","v":"Gal"},{"$f":"INDIRECT(ADDRESS($P$4+P5,COLUMN(R$2)))","v":138.6},{"$f":"INDIRECT(ADDRESS($P$4+P5,COLUMN(S$2)))","v":138.6},2,{"$f":"INDIRECT(ADDRESS($T$4+T5,COLUMN(U$2)))","v":"kBTU"},{"$f":"INDIRECT(ADDRESS($T$4+T5,COLUMN(V$2)))","v":1.38},{"$f":"INDIRECT(ADDRESS($T$4+T5,COLUMN(W$2)))","v":1},1,{"$f":"INDIRECT(ADDRESS($X$4+X5,COLUMN(Y$2)))","v":"Ton-Hrs"},{"$f":"INDIRECT(ADDRESS($X$4+X5,COLUMN(Z$2)))","v":12000},{"$f":"INDIRECT(ADDRESS($X$4+X5,COLUMN(AA$2)))","v":12000},1,{"$f":"INDIRECT(ADDRESS($AB$4+AB5,COLUMN(AC$2)))","v":"Yes"},{"$f":"INDIRECT(ADDRESS($AB$4+AB5,COLUMN(AD$2)))","v":1},null,1,{"$f":"INDIRECT(ADDRESS($AF$4+AF5,COLUMN(AG$2)))","v":0},null,null,2,{"$f":"INDIRECT(ADDRESS($AJ$4+AJ5,COLUMN(AK$2)))","v":10}]
[null,null,null,null,null,null,null,5,null,null,null,5,null,null,null,5,null,null,null,5,null,null,null,5,null,null,null,5,null,null,null,5,null,null,null,5]
[null,null,null,null,null,null,null,null,"kWh",10.3,3.4119999999999999,null,"Therms",{"$f":"100*1.024","v":102.4},100,null,"Gal",138.6,138.6,null,"MLbs",{"$f":"10.78*1.38","v":14.876399999999999},10.78,null,"Ton-Hrs",12000,12000,null,"Yes",1,null,null,0,null,null,null,9]
[null,null,null,null,null,null,null,null,"kBTU",{"$f":"+J6/K6","v":3.0187573270808912},1,null,"kBTU",1.024,1,null,"kBTU",1,1,null,"kBTU",1.38,1,null,"kBTU",1,1,null,"No",0,null,null,10,null,null,null,10]
[null,null,null,null,null,null,null,null,null,null,null,null,null,null,null,null,null,null,null,null,null,null,null,null,null,null,null,null,null,null,null,null,20,null,null,null,11]
[null,null,"Old Below Ground EUI =",131.4,"kBtu/ft2-yr",null,null,null,null,null,null,null,null,null,null,null,null,null,null,null,null,null,null,null,null,null,null,null,null,null,null,null,30,null,null,null,12]
[null,null,"New Below Ground EUI =",76.3,"kBtu/ft2-yr",null,null,null,null,null,null,null,null,null,null,null,null,null,null,null,null,null,null,null,null,null,null,null,null,null,null,null,40]
[null,null,null,null,null,null,null,null,null,null,null,null,null,null,null,null,null,null,null,null,null,null,null,null,null,null,null,null,null,null,null,null,50]
[null,null,null,null,null,null,null,null,null,"Electricity","Gas","Oil","Steam","Chilled Water","Total",null,null,null,null,null,null,null,null,null,null,null,null,null,null,null,null,null,60]
[null,null,null,null,null,null,null,null,null,"kBtu","kBtu","kBtu","kBtu","kBtu","kBtu",null,null,null,null,null,null,null,null,null,null,null,null,null,null,null,null,null,70]
[null,null,null,null,null,null,null,null,"Source",{"$f":"#N/A","v":{"$error":"#N/A"}},{"$f":"#N/A","v":{"$error":"#N/A"}},{"$f":"#N/A","v":{"$error":"#N/A"}},{"$f":"#N/A","v":{"$error":"#N/A"}},{"$f":"#N/A","v":{"$error":"#N/A"}},{"$f":"SUM(J14:N14)","v":{"$error":"#N/A"}},null,null,null,null,null,null,null,null,null,null,null,null,null,null,null,null,null,80]
[null,null,null,null,null,null,null,null,"Site",{"$f":"#N/A","v":{"$error":"#N/A"}},{"$f":"#N/A","v":{"$error":"#N/A"}},{"$f":"#N/A","v":{"$error":"#N/A"}},{"$f":"#N/A","v":{"$error":"#N/A"}},{"$f":"#N/A","v":{"$error":"#N/A"}},{"$f":"SUM(J15:N15)","v":{"$error":"#N/A"}},null,null,null,null,null,null,null,null,null,null,null,null,null,null,null,null,null,90]
[null,null,null,null,null,null,null,null,"%Source",{"$f":"+J14/$O$14","v":{"$error":"#N/A"}},{"$f":"+K14/$O$14","v":{"$error":"#N/A"}},{"$f":"+L14/$O$14","v":{"$error":"#N/A"}},{"$f":"+M14/$O$14","v":{"$error":"#N/A"}},{"$f":"+N14/$O$14","v":{"$error":"#N/A"}},null,null,null,null,null,null,null,null,null,null,null,null,null,null,null,null,null,null,100]
[]
[null,null,null,null,null,null,null,null,"%Site",{"$f":"+J15/(J15+K15)","v":{"$error":"#N/A"}},{"$f":"+K15/(J15+K15)","v":{"$error":"#N/A"}}]

{"sheet":"ZipCode Map","index":13,"n_rows":912,"n_cols":15,"rows_kept":912,"cut":false,"hidden":true,"merged":[[0,8,0,11],[0,15,0,17],[0,12,0,14],[911,1,911,4],[911,8,911,11],[911,12,911,14]]}
[null,"actual","actual",null,"actual",null,null,null,"climate mapped",null,null,null,"weather normalization mapped"]
[null,"zip_code","zip_state",null,"zip_city",null,null,null,"city state","state","CDD","HDD","city","state","file name"]
[]
[]
["User Data:",{"$f":"#N/A","v":{"$error":"#N/A"}},{"$f":"LOOKUP($B$5,$B$8:$B$908,C$8:C$908)","v":{"$error":"#N/A"}},{"$f":"LOOKUP($B$5,$B$8:$B$908,D$8:D$908)","v":{"$error":"#N/A"}},{"$f":"LOOKUP($B$5,$B$8:$B$908,E$8:E$908)","v":{"$error":"#N/A"}},null,{"$f":"LOOKUP($B$5,$B$8:$B$908,G$8:G$908)","v":{"$error":"#N/A"}},{"$f":"CONCATENATE(G5,\",\",\" \",D5)","v":{"$error":"#N/A"}},{"$f":"LOOKUP($B$5,$B$8:$B$908,I$8:I$908)","v":{"$error":"#N/A"}},{"$error":"#N/A"},{"$f":"LOOKUP($B$5,$B$8:$B$908,K$8:K$908)","v":{"$error":"#N/A"}},{"$error":"#N/A"},{"$error":"#N/A"},{"$error":"#N/A"},{"$error":"#N/A"}]
[]
[]
[null,"009","\"Puerto_Rico\"","PR","\"San Juan\"",{"$f":"LEN(E8)","v":10},{"$f":"MID(E8,2,F8-2)","v":"San Juan"},null,"SAN JUAN    PR","PR",5558,0,"San Juan Puerto Rico","PR","XXSANJUA.txt"]
[null,"010","\"Massachusetts\"","MA","\"Springfield\"",{"$f":"LEN(E9)","v":13},{"$f":"MID(E9,2,F9-2)","v":"Springfield"},null,"WORCESTER    MA","MA",333,6979,"Hartford-Springfield","CT","CTHARTFO.txt"]
[null,"011","\"Massachusetts\"","MA","\"Springfield\"",{"$f":"LEN(E10)","v":13},{"$f":"MID(E10,2,F10-2)","v":"Springfield"},null,"HARTFORD    CT","CT",677,6151,"Hartford-Springfield","CT","CTHARTFO.txt"]
[null,"012","\"Massachusetts\"","MA","\"Pittsfield\"",12,"Pittsfield",null,"ALBANY    NY","NY",507,6894,"Albany","NY","NYALBANY.txt"]
[null,"013","\"Massachusetts\"","MA","\"Greenfield\"",12,"Greenfield",null,"WORCESTER    MA","MA",333,6979,"Boston","MA","MABOSTON.txt"]
[null,"014","\"Massachusetts\"","MA","\"Worcester\"",11,"Worcester",null,"WORCESTER    MA","MA",333,6979,"Boston","MA","MABOSTON.txt"]
[null,"015","\"Massachusetts\"","MA","\"Worcester\"",11,"Worcester",null,"WORCESTER    MA","MA",333,6979,"Boston","MA","MABOSTON.txt"]
[null,"016","\"Massachusetts\"","MA","\"Worcester\"",11,"Worcester",null,"WORCESTER    MA","MA",333,6979,"Boston","MA","MABOSTON.txt"]
[null,"017","\"Massachusetts\"","MA","\"Framingham\"",12,"Framingham",null,"WORCESTER    MA","MA",333,6979,"Boston","MA","MABOSTON.txt"]
[null,"018","\"Massachusetts\"","MA","\"Woburn\"",8,"Woburn",null,"WORCESTER    MA","MA",333,6979,"Boston","MA","MABOSTON.txt"]
[null,"019","\"Massachusetts\"","MA","\"Lynn\"",6,"Lynn",null,"BOSTON    MA","MA",678,5641,"Boston","MA","MABOSTON.txt"]
[null,"020","\"Massachusetts\"","MA","\"Boston\"",8,"Boston",null,"WORCESTER    MA","MA",333,6979,"Boston","MA","MABOSTON.txt"]
[null,"021","\"Massachusetts\"","MA","\"Boston\"",8,"Boston",null,"BOSTON    MA","MA",678,5641,"Boston","MA","MABOSTON.txt"]
[null,"022","\"Massachusetts\"","MA","\"Boston\"",8,"Boston",null,"BOSTON    MA","MA",678,5641,"Boston","MA","MABOSTON.txt"]
[null,"023","\"Massachusetts\"","MA","\"Brockton\"",10,"Brockton",null,"PROVIDENCE    RI","RI",606,5884,"Rhode Island","RI","RIPROVID.txt"]
[null,"024","\"Massachusetts\"","MA","\"Brockton\"",10,"Brockton",null,"BOSTON    MA","MA",678,5641,"Boston","MA","MABOSTON.txt"]
[null,"025","\"Massachusetts\"","MA","\"Buzzards Bay\"",14,"Buzzards Bay",null,"PROVIDENCE    RI","RI",606,5884,"Rhode Island","RI","RIPROVID.txt"]
[null,"026","\"Massachusetts\"","MA","\"Hyannis\"",9,"Hyannis",null,"PROVIDENCE    RI","RI",606,5884,"Rhode Island","RI","RIPROVID.txt"]
[null,"027","\"Massachusetts\"","MA","\"New Bedford\"",13,"New Bedford",null,"PROVIDENCE    RI","RI",606,5884,"Rhode Island","RI","RIPROVID.txt"]
[null,"028","\"Rhode_Island\"","RI","\"Providence\"",12,"Providence",null,"WORCESTER    MA","MA",333,6979,"Rhode Island","RI","RIPROVID.txt"]
[null,"029","\"Rhode_Island\"","RI","\"Providence\"",12,"Providence",null,"PROVIDENCE    RI","RI",606,5884,"Rhode Island","RI","RIPROVID.txt"]
[null,"030","\"New_Hampshire\"","NH","\"Manchester\"",12,"Manchester",null,"WORCESTER    MA","MA",333,6979,"Concord","NH","NHCONCOR.txt"]
[null,"031","\"New_Hampshire\"","NH","\"Manchester\"",12,"Manchester",null,"CONCORD    NH","NH",328,7554,"Concord","NH","NHCONCOR.txt"]
[null,"032","\"New_Hampshire\"","NH","\"Pittsfield\"",12,"Pittsfield",null,"CONCORD    NH","NH",328,7554,"Concord","NH","NHCONCOR.txt"]
[null,"033","\"New_Hampshire\"","NH","\"Concord\"",9,"Concord",null,"CONCORD    NH","NH",328,7554,"Concord","NH","NHCONCOR.txt"]
[null,"034","\"New_Hampshire\"","NH","\"Keene\"",7,"Keene",null,"WORCESTER    MA","MA",333,6979,"Concord","NH","NHCONCOR.txt"]
[null,"035","\"New_Hampshire\"","NH","\"Littleton\"",11,"Littleton",null,"BURLINGTON    VT","VT",388,7771,"Burlington","VT","VTBURLIN.txt"]
[null,"036","\"New_Hampshire\"","NH","\"Acworth\"",9,"Acworth",null,"CONCORD    NH","NH",328,7554,"Concord","NH","NHCONCOR.txt"]
[null,"037","\"New_Hampshire\"","NH","\"Claremont\"",11,"Claremont",null,"BURLINGTON    VT","VT",388,7771,"Burlington","VT","VTBURLIN.txt"]
[null,"038","\"New_Hampshire\"","NH","\"Portsmouth\"",12,"Portsmouth",null,"PORTLAND    ME","ME",268,7378,"Portland","ME","MEPORTLA.txt"]
[null,"039","\"Maine\"","ME","\"Kittery\"",9,"Kittery",null,"PORTLAND    ME","ME",268,7378,"Portland","ME","MEPORTLA.txt"]
[null,"040","\"Maine\"","ME","\"Portland\"",10,"Portland",null,"PORTLAND    ME","ME",268,7378,"Portland","ME","MEPORTLA.txt"]
[null,"041","\"Maine\"","ME","\"Portland\"",10,"Portland",null,"PORTLAND    ME","ME",268,7378,"Portland","ME","MEPORTLA.txt"]
[null,"042","\"Maine\"","ME","\"Auburn\"",8,"Auburn",null,"PORTLAND    ME","ME",268,7378,"Portland","ME","MEPORTLA.txt"]
[null,"043","\"Maine\"","ME","\"Augusta\"",9,"Augusta",null,"PORTLAND    ME","ME",268,7378,"Portland","ME","MEPORTLA.txt"]
[null,"044","\"Maine\"","ME","\"Bangor\"",8,"Bangor",null,"PORTLAND    ME","ME",268,7378,"Portland","ME","MEPORTLA.txt"]
[null,"045","\"Maine\"","ME","\"Bath\"",6,"Bath",null,"PORTLAND    ME","ME",268,7378,"Portland","ME","MEPORTLA.txt"]
[null,"046","\"Maine\"","ME","\"Ellsworth\"",11,"Ellsworth",null,"PORTLAND    ME","ME",268,7378,"Portland","ME","MEPORTLA.txt"]
[null,"047","\"Maine\"","ME","\"Caribou\"",9,"Caribou",null,"CARIBOU    ME","ME",131,9651,"Caribou","ME","MECARIBO.txt"]
[null,"048","\"Maine\"","ME","\"Rockland\"",10,"Rockland",null,"PORTLAND    ME","ME",268,7378,"Portland","ME","MEPORTLA.txt"]
[null,"049","\"Maine\"","ME","\"Waterville\"",12,"Waterville",null,"PORTLAND    ME","ME",268,7378,"Portland","ME","MEPORTLA.txt"]
[null,"050","\"Vermont\"","VT","\"White River Junction\"",22,"White River Junction",null,"BURLINGTON    VT","VT",388,7771,"Burlington","VT","VTBURLIN.txt"]
[null,"051","\"Vermont\"","VT","\"Bellows Falls\"",15,"Bellows Falls",null,"CONCORD    NH","NH",328,7554,"Concord","NH","NHCONCOR.txt"]
[null,"052","\"Vermont\"","VT","\"Bennington\"",12,"Bennington",null,"ALBANY    NY","NY",507,6894,"Albany","NY","NYALBANY.txt"]
[null,"053","\"Vermont\"","VT","\"Brattleboro\"",13,"Brattleboro",null,"WORCESTER    MA","MA",333,6979,"Albany","NY","NYALBANY.txt"]
[null,"054","\"Vermont\"","VT","\"Burlington\"",12,"Burlington",null,"BURLINGTON    VT","VT",388,7771,"Burlington","VT","VTBURLIN.txt"]
[null,"056","\"Vermont\"","VT","\"Montpelier\"",12,"Montpelier",null,"BURLINGTON    VT","VT",388,7771,"Burlington","VT","VTBURLIN.txt"]
[null,"057","\"Vermont\"","VT","\"Rutland\"",9,"Rutland",null,"ALBANY    NY","NY",507,6894,"Albany","NY","NYALBANY.txt"]
[null,"058","\"Vermont\"","VT","\"St. Johnsbury\"",15,"St. Johnsbury",null,"BURLINGTON    VT","VT",388,7771,"Burlington","VT","VTBURLIN.txt"]
[null,"059","\"Vermont\"","VT","\"Canaan\"",8,"Canaan",null,"BURLINGTON    VT","VT",388,7771,"Burlington","VT","VTBURLIN.txt"]
[null,"060","\"Connecticut\"","CT","\"Hartford\"",10,"Hartford",null,"WORCESTER    MA","MA",333,6979,"Hartford-Springfield","CT","CTHARTFO.txt"]
[null,"061","\"Connecticut\"","CT","\"Hartford\"",10,"Hartford",null,"HARTFORD    CT","CT",677,6151,"Hartford-Springfield","CT","CTHARTFO.txt"]
[null,"062","\"Connecticut\"","CT","\"Willimantic\"",13,"Willimantic",null,"WORCESTER    MA","MA",333,6979,"Hartford-Springfield","CT","CTHARTFO.txt"]
[null,"063","\"Connecticut\"","CT","\"New London\"",12,"New London",null,"PROVIDENCE    RI","RI",606,5884,"Rhode Island","RI","RIPROVID.txt"]
[null,"064","\"Connecticut\"","CT","\"New Haven\"",11,"New Haven",null,"HARTFORD    CT","CT",677,6151,"Hartford-Springfield","CT","CTHARTFO.txt"]
[null,"065","\"Connecticut\"","CT","\"New Haven\"",11,"New Haven",null,"HARTFORD    CT","CT",677,6151,"Hartford-Springfield","CT","CTHARTFO.txt"]
[null,"066","\"Connecticut\"","CT","\"Bridgeport\"",12,"Bridgeport",null,"BRIDGEPORT    CT","CT",724,5537,"Bridgeport","CT","CTBRIDGE.txt"]
[null,"067","\"Connecticut\"","CT","\"Waterbury\"",11,"Waterbury",null,"HARTFORD    CT","CT",677,6151,"Hartford-Springfield","CT","CTHARTFO.txt"]
[null,"068","\"Connecticut\"","CT","\"Stamford\"",10,"Stamford",null,"BRIDGEPORT    CT","CT",724,5537,"Bridgeport","CT","CTBRIDGE.txt"]
[null,"069","\"Connecticut\"","CT","\"Stamford\"",10,"Stamford",null,"BRIDGEPORT    CT","CT",724,5537,"Bridgeport","CT","CTBRIDGE.txt"]
[null,"070","\"New_Jersey\"","NJ","\"Newark\"",8,"Newark",null,"NEW YORK (LAGUARDIA AP)    NY","NY",1052,4910,"Newark","NJ","NJNEWARK.txt"]
[null,"071","\"New_Jersey\"","NJ","\"Newark\"",8,"Newark",null,"NEWARK    NJ","NJ",1201,4888,"Newark","NJ","NJNEWARK.txt"]
[null,"072","\"New_Jersey\"","NJ","\"Elizabeth\"",11,"Elizabeth",null,"NEWARK    NJ","NJ",1201,4888,"Newark","NJ","NJNEWARK.txt"]
[null,"073","\"New_Jersey\"","NJ","\"Jersey_City\"",13,"Jersey_City",null,"NEWARK    NJ","NJ",1201,4888,"Newark","NJ","NJNEWARK.txt"]
[null,"074","\"New_Jersey\"","NJ","\"Paterson\"",10,"Paterson",null,"NEWARK    NJ","NJ",1201,4888,"Newark","NJ","NJNEWARK.txt"]
[null,"075","\"New_Jersey\"","NJ","\"Paterson\"",10,"Paterson",null,"NEWARK    NJ","NJ",1201,4888,"Newark","NJ","NJNEWARK.txt"]
[null,"076","\"New_Jersey\"","NJ","\"Hackensack\"",{"$f":"LEN(E74)","v":12},{"$f":"MID(E74,2,F74-2)","v":"Hackensack"},null,"NEWARK    NJ","NJ",1201,4888,"Newark","NJ","NJNEWARK.txt"]
[null,"077","\"New_Jersey\"","NJ","\"Red Bank\"",10,"Red Bank",null,"NEWARK    NJ","NJ",1201,4888,"Newark","NJ","NJNEWARK.txt"]
[null,"078","\"New_Jersey\"","NJ","\"Dover\"",7,"Dover",null,"ALLENTOWN    PA","PA",773,5785,"Allentown","PA","PAALLENT.txt"]
[null,"079","\"New_Jersey\"","NJ","\"Summit\"",8,"Summit",null,"NEWARK    NJ","NJ",1201,4888,"Newark","NJ","NJNEWARK.txt"]
[null,"080","\"New_Jersey\"","NJ","\"Cherry Hill\"",13,"Cherry Hill",null,"PHILADELPHIA    PA","PA",1101,4954,"Philadelphia","PA","PAPHILAD.txt"]
[null,"081","\"New_Jersey\"","NJ","\"Camden\"",8,"Camden",null,"PHILADELPHIA    PA","PA",1101,4954,"Philadelphia","PA","PAPHILAD.txt"]
[null,"082","\"New_Jersey\"","NJ","\"South Jersey\"",14,"South Jersey",null,"ATLANTIC CITY AP    NJ","NJ",826,5169,"Atlantic City","NJ","NJATLCTY.txt"]
[null,"083","\"New_Jersey\"","NJ","\"South Jersey\"",14,"South Jersey",null,"WILMINGTON    DE","DE",1046,4937,"Wilmington","DE","DEWILMIN.txt"]
[null,"084","\"New_Jersey\"","NJ","\"Atlantic City\"",15,"Atlantic City",null,"ATLANTIC CITY AP    NJ","NJ",826,5169,"Atlantic City","NJ","NJATLCTY.txt"]
[null,"085","\"New_Jersey\"","NJ","\"Trenton\"",9,"Trenton",null,"NEWARK    NJ","NJ",1201,4888,"Newark","NJ","NJNEWARK.txt"]
[null,"086","\"New_Jersey\"","NJ","\"Trenton\"",9,"Trenton",null,"NEWARK    NJ","NJ",1201,4888,"Newark","NJ","NJNEWARK.txt"]
[null,"087","\"New_Jersey\"","NJ","\"Lakewood\"",10,"Lakewood",null,"ATLANTIC CITY AP    NJ","NJ",826,5169,"Atlantic City","NJ","NJATLCTY.txt"]
[null,"088","\"New_Jersey\"","NJ","\"New Brunswick\"",15,"New Brunswick",null,"NEWARK    NJ","NJ",1201,4888,"Newark","NJ","NJNEWARK.txt"]
[null,"089","\"New_Jersey\"","NJ","\"New Brunswick\"",15,"New Brunswick",null,"NEWARK    NJ","NJ",1201,4888,"Newark","NJ","NJNEWARK.txt"]
[null,"100","\"New_York\"","NY","\"New York\"",10,"New York",null,"NEW YORK C.PARK    NY","NY",1096,4805,"New York City","NY","NYNEWYOR.txt"]
[null,"101","\"New_York\"","NY","\"New York\"",10,"New York",null,"NEW YORK C.PARK    NY","NY",1096,4805,"New York City","NY","NYNEWYOR.txt"]
[null,"102","\"New_York\"","NY","\"New York\"",10,"New York",null,"NEW YORK C.PARK    NY","NY",1096,4805,"New York City","NY","NYNEWYOR.txt"]
[null,"103","\"New_York\"","NY","\"Staten Island\"",15,"Staten Island",null,"NEW YORK (LAGUARDIA AP)    NY","NY",1052,4910,"New York City","NY","NYNEWYOR.txt"]
[null,"104","\"New_York\"","NY","\"Bronx\"",7,"Bronx",null,"NEW YORK (LAGUARDIA AP)    NY","NY",1052,4910,"New York City","NY","NYNEWYOR.txt"]
[null,"105","\"New_York\"","NY","\"Westchester\"",13,"Westchester",null,"BRIDGEPORT    CT","CT",724,5537,"Bridgeport","CT","CTBRIDGE.txt"]
[null,"106","\"New_York\"","NY","\"White Plains\"",14,"White Plains",null,"BRIDGEPORT    CT","CT",724,5537,"Bridgeport","CT","CTBRIDGE.txt"]
[null,"107","\"New_York\"","NY","\"Yonkers\"",9,"Yonkers",null,"NEW YORK (LAGUARDIA AP)    NY","NY",1052,4910,"New York City","NY","NYNEWYOR.txt"]
[null,"108","\"New_York\"","NY","\"New Rochelle\"",14,"New Rochelle",null,"NEW YORK (LAGUARDIA AP)    NY","NY",1052,4910,"New York City","NY","NYNEWYOR.txt"]
[null,"109","\"New_York\"","NY","\"Suffern\"",9,"Suffern",null,"BRIDGEPORT    CT","CT",724,5537,"Bridgeport","CT","CTBRIDGE.txt"]
[null,"110","\"New_York\"","NY","\"Great Neck\"",12,"Great Neck",null,"NEW YORK (LAGUARDIA AP)    NY","NY",1052,4910,"New York City","NY","NYNEWYOR.txt"]
[null,"111","\"New_York\"","NY","\"Queens\"",8,"Queens",null,"NEW YORK (LAGUARDIA AP)    NY","NY",1052,4910,"New York City","NY","NYNEWYOR.txt"]
[null,"112","\"New_York\"","NY","\"Brooklyn\"",10,"Brooklyn",null,"NEW YORK (LAGUARDIA AP)    NY","NY",1052,4910,"New York City","NY","NYNEWYOR.txt"]
[null,"113","\"New_York\"","NY","\"Flushing\"",10,"Flushing",null,"NEW YORK (JFK AP)    NY","NY",921,5027,"New York City","NY","NYNEWYOR.txt"]
[null,"114","\"New_York\"","NY","\"Jamaica\"",9,"Jamaica",null,"NEW YORK (JFK AP)    NY","NY",921,5027,"New York City","NY","NYNEWYOR.txt"]
[null,"115","\"New_York\"","NY","\"Minneola\"",10,"Minneola",null,"NEW YORK (JFK AP)    NY","NY",921,5027,"New York City","NY","NYNEWYOR.txt"]
[null,"116","\"New_York\"","NY","\"Far Rockaway\"",14,"Far Rockaway",null,"ISLIP    NY","NY",706,5647,"Bridgeport","CT","CTBRIDGE.txt"]
[null,"117","\"New_York\"","NY","\"Hicksville\"",12,"Hicksville",null,"ISLIP    NY","NY",706,5647,"Bridgeport","CT","CTBRIDGE.txt"]
[null,"118","\"New_York\"","NY","\"Hicksville\"",12,"Hicksville",null,"ISLIP    NY","NY",706,5647,"Bridgeport","CT","CTBRIDGE.txt"]
[null,"119","\"New_York\"","NY","\"Riverhead\"",11,"Riverhead",null,"BRIDGEPORT    CT","CT",724,5537,"Bridgeport","CT","CTBRIDGE.txt"]
[null,"120","\"New_York\"","NY","\"Albany\"",8,"Albany",null,"ALBANY    NY","NY",507,6894,"Albany","NY","NYALBANY.txt"]
[null,"121","\"New_York\"","NY","\"Albany\"",8,"Albany",null,"ALBANY    NY","NY",507,6894,"Albany","NY","NYALBANY.txt"]
[null,"122","\"New_York\"","NY","\"Albany\"",8,"Albany",null,"ALBANY    NY","NY",507,6894,"Albany","NY","NYALBANY.txt"]
[null,"123","\"New_York\"","NY","\"Schenectady\"",13,"Schenectady",null,"ALBANY    NY","NY",507,6894,"Albany","NY","NYALBANY.txt"]
[null,"124","\"New_York\"","NY","\"Kingston\"",10,"Kingston",null,"ALBANY    NY","NY",507,6894,"Albany","NY","NYALBANY.txt"]
[null,"125","\"New_York\"","NY","\"Poughkeepsie\"",14,"Poughkeepsie",null,"HARTFORD    CT","CT",677,6151,"Hartford-Springfield","CT","CTHARTFO.txt"]
[null,"126","\"New_York\"","NY","\"Poughkeepsie\"",14,"Poughkeepsie",null,"BRIDGEPORT    CT","CT",724,5537,"Bridgeport","CT","CTBRIDGE.txt"]
[null,"127","\"New_York\"","NY","\"Monticello\"",12,"Monticello",null,"BINGHAMTON    NY","NY",337,7273,"Wilkes-Barre","PA","PAWILKES.txt"]
[null,"128","\"New_York\"","NY","\"Glens Falls\"",13,"Glens Falls",null,"BURLINGTON    VT","VT",388,7771,"Burlington","VT","VTBURLIN.txt"]
[null,"129","\"New_York\"","NY","\"Plattsburgh\"",13,"Plattsburgh",null,"BURLINGTON    VT","VT",388,7771,"Burlington","VT","VTBURLIN.txt"]
[null,"130","\"New_York\"","NY","\"Syracuse\"",10,"Syracuse",null,"SYRACUSE    NY","NY",438,6834,"Syracuse","NY","NYSYRACU.txt"]
[null,"131","\"New_York\"","NY","\"Syracuse\"",10,"Syracuse",null,"ROCHESTER    NY","NY",425,6734,"Syracuse","NY","NYSYRACU.txt"]
[null,"132","\"New_York\"","NY","\"Syracuse\"",10,"Syracuse",null,"SYRACUSE    NY","NY",438,6834,"Syracuse","NY","NYSYRACU.txt"]
[null,"133","\"New_York\"","NY","\"Utica\"",7,"Utica",null,"BINGHAMTON    NY","NY",337,7273,"Wilkes-Barre","PA","PAWILKES.txt"]
[null,"134","\"New_York\"","NY","\"Utica\"",7,"Utica",null,"BINGHAMTON    NY","NY",337,7273,"Wilkes-Barre","PA","PAWILKES.txt"]
[null,"135","\"New_York\"","NY","\"Utica\"",7,"Utica",null,"SYRACUSE    NY","NY",438,6834,"Syracuse","NY","NYSYRACU.txt"]
[null,"136","\"New_York\"","NY","\"Watertown\"",11,"Watertown",null,"SYRACUSE    NY","NY",438,6834,"Syracuse","NY","NYSYRACU.txt"]
[null,"137","\"New_York\"","NY","\"Binghamton\"",12,"Binghamton",null,"ALBANY    NY","NY",507,6894,"Albany","NY","NYALBANY.txt"]
[null,"138","\"New_York\"","NY","\"Binghamton\"",12,"Binghamton",null,"ALBANY    NY","NY",507,6894,"Albany","NY","NYALBANY.txt"]
[null,"139","\"New_York\"","NY","\"Binghamton\"",12,"Binghamton",null,"BINGHAMTON    NY","NY",337,7273,"Wilkes-Barre","PA","PAWILKES.txt"]
[null,"140","\"New_York\"","NY","\"Buffalo\"",9,"Buffalo",null,"ERIE    PA","PA",550,6279,"Erie","PA","PAERIE.txt"]
[null,"141","\"New_York\"","NY","\"Buffalo\"",9,"Buffalo",null,"ROCHESTER    NY","NY",425,6734,"Rochester","NY","NYROCHES.txt"]
[null,"142","\"New_York\"","NY","\"Buffalo\"",9,"Buffalo",null,"BUFFALO    NY","NY",477,6747,"Buffalo","NY","NTBUFFAL.txt"]
[null,"143","\"New_York\"","NY","\"Niagara Falls\"",15,"Niagara Falls",null,"BUFFALO    NY","NY",477,6747,"Buffalo","NY","NTBUFFAL.txt"]
[null,"144","\"New_York\"","NY","\"Rochester\"",11,"Rochester",null,"BUFFALO    NY","NY",477,6747,"Buffalo","NY","NTBUFFAL.txt"]
[null,"145","\"New_York\"","NY","\"Rochester\"",11,"Rochester",null,"BUFFALO    NY","NY",477,6747,"Buffalo","NY","NTBUFFAL.txt"]
[null,"146","\"New_York\"","NY","\"Rochester\"",11,"Rochester",null,"ROCHESTER    NY","NY",425,6734,"Rochester","NY","NYROCHES.txt"]
[null,"147","\"New_York\"","NY","\"Jamestown\"",11,"Jamestown",null,"ERIE    PA","PA",550,6279,"Erie","PA","PAERIE.txt"]
[null,"148","\"New_York\"","NY","\"Ithaca\"",8,"Ithaca",null,"SYRACUSE    NY","NY",438,6834,"Syracuse","NY","NYSYRACU.txt"]
[null,"149","\"New_York\"","NY","\"Elmira\"",8,"Elmira",null,"BINGHAMTON    NY","NY",337,7273,"Syracuse","NY","NYSYRACU.txt"]
[null,"150","\"Pennsylvania\"","PA","\"Pittsburgh\"",{"$f":"LEN(E138)","v":12},{"$f":"MID(E138,2,F138-2)","v":"Pittsburgh"},null,"PITTSBURGH    PA","PA",654,5968,"Pittsburgh","PA","PAPITTSB.txt"]
[null,"151","\"Pennsylvania\"","PA","\"Pittsburgh\"",12,"Pittsburgh",null,"PITTSBURGH    PA","PA",654,5968,"Pittsburgh","PA","PAPITTSB.txt"]
[null,"152","\"Pennsylvania\"","PA","\"Pittsburgh\"",12,"Pittsburgh",null,"PITTSBURGH    PA","PA",654,5968,"Pittsburgh","PA","PAPITTSB.txt"]
[null,"153","\"Pennsylvania\"","PA","\"Washington\"",12,"Washington",null,"PITTSBURGH    PA","PA",654,5968,"Pittsburgh","PA","PAPITTSB.txt"]
[null,"154","\"Pennsylvania\"","PA","\"Uniontown\"",11,"Uniontown",null,"PITTSBURGH    PA","PA",654,5968,"Pittsburgh","PA","PAPITTSB.txt"]
[null,"155","\"Pennsylvania\"","PA","\"Somerset\"",10,"Somerset",null,"PITTSBURGH    PA","PA",654,5968,"Pittsburgh","PA","PAPITTSB.txt"]
[null,"156","\"Pennsylvania\"","PA","\"Greensburg\"",12,"Greensburg",null,"PITTSBURGH    PA","PA",654,5968,"Pittsburgh","PA","PAPITTSB.txt"]
[null,"157","\"Pennsylvania\"","PA","\"Indiana\"",9,"Indiana",null,"PITTSBURGH    PA","PA",654,5968,"Pittsburgh","PA","PAPITTSB.txt"]
[null,"158","\"Pennsylvania\"","PA","\"Du Bois\"",9,"Du Bois",null,"WILLIAMSPORT    PA","PA",622,6087,"Pittsburgh","PA","PAPITTSB.txt"]
[null,"159","\"Pennsylvania\"","PA","\"Johnstown\"",11,"Johnstown",null,"PITTSBURGH    PA","PA",654,5968,"Pittsburgh","PA","PAPITTSB.txt"]
[null,"160","\"Pennsylvania\"","PA","\"Butler\"",8,"Butler",null,"YOUNGSTOWN    OH","OH",497,6544,"Youngstown","OH","OHYOUNGS.txt"]
[null,"161","\"Pennsylvania\"","PA","\"New Castle\"",12,"New Castle",null,"PITTSBURGH    PA","PA",654,5968,"Pittsburgh","PA","PAPITTSB.txt"]
[null,"162","\"Pennsylvania\"","PA","\"Kittanning\"",12,"Kittanning",null,"YOUNGSTOWN    OH","OH",497,6544,"Youngstown","OH","OHYOUNGS.txt"]
[null,"163","\"Pennsylvania\"","PA","\"Oil City\"",10,"Oil City",null,"YOUNGSTOWN    OH","OH",497,6544,"Youngstown","OH","OHYOUNGS.txt"]
[null,"164","\"Pennsylvania\"","PA","\"Erie\"",6,"Erie",null,"ERIE    PA","PA",550,6279,"Erie","PA","PAERIE.txt"]
[null,"165","\"Pennsylvania\"","PA","\"Erie\"",6,"Erie",null,"ERIE    PA","PA",550,6279,"Erie","PA","PAERIE.txt"]
[null,"166","\"Pennsylvania\"","PA","\"Altoona\"",9,"Altoona",null,"PITTSBURGH    PA","PA",654,5968,"Pittsburgh","PA","PAPITTSB.txt"]
[null,"167","\"Pennsylvania\"","PA","\"Bradford\"",10,"Bradford",null,"ERIE    PA","PA",550,6279,"Erie","PA","PAERIE.txt"]
[null,"168","\"Pennsylvania\"","PA","\"State College\"",15,"State College",null,"WILLIAMSPORT    PA","PA",622,6087,"Harrisburg","PA","PAHARRIS.txt "]
[null,"169","\"Pennsylvania\"","PA","\"Wellsboro\"",11,"Wellsboro",null,"BINGHAMTON    NY","NY",337,7273,"Wilkes-Barre","PA","PAWILKES.txt"]
[null,"170","\"Pennsylvania\"","PA","\"Harrisburg\"",12,"Harrisburg",null,"HARRISBURG    PA","PA",962,5347,"Harrisburg","PA","PAHARRIS.txt "]
[null,"171","\"Pennsylvania\"","PA","\"Harrisburg\"",12,"Harrisburg",null,"HARRISBURG    PA","PA",962,5347,"Harrisburg","PA","PAHARRIS.txt "]
[null,"172","\"Pennsylvania\"","PA","\"Chambersburg\"",14,"Chambersburg",null,"HARRISBURG    PA","PA",962,5347,"Harrisburg","PA","PAHARRIS.txt "]
[null,"173","\"Pennsylvania\"","PA","\"York\"",6,"York",null,"HARRISBURG    PA","PA",962,5347,"Harrisburg","PA","PAHARRIS.txt "]
[null,"174","\"Pennsylvania\"","PA","\"York\"",6,"York",null,"HARRISBURG    PA","PA",962,5347,"Harrisburg","PA","PAHARRIS.txt "]
[null,"175","\"Pennsylvania\"","PA","\"Lancaster\"",11,"Lancaster",null,"HARRISBURG    PA","PA",962,5347,"Harrisburg","PA","PAHARRIS.txt "]
[null,"176","\"Pennsylvania\"","PA","\"Lancaster\"",11,"Lancaster",null,"HARRISBURG    PA","PA",962,5347,"Harrisburg","PA","PAHARRIS.txt "]
[null,"177","\"Pennsylvania\"","PA","\"Williamsport\"",14,"Williamsport",null,"WILLIAMSPORT    PA","PA",622,6087,"Harrisburg","PA","PAHARRIS.txt "]
[null,"178","\"Pennsylvania\"","PA","\"Sunbury\"",9,"Sunbury",null,"WILLIAMSPORT    PA","PA",622,6087,"Harrisburg","PA","PAHARRIS.txt "]
[null,"179","\"Pennsylvania\"","PA","\"Pottsville\"",12,"Pottsville",null,"ALLENTOWN    PA","PA",773,5785,"Allentown","PA","PAALLENT.txt"]
[null,"180","\"Pennsylvania\"","PA","\"Lehigh_Valley\"",15,"Lehigh_Valley",null,"ALLENTOWN    PA","PA",773,5785,"Allentown","PA","PAALLENT.txt"]
[null,"181","\"Pennsylvania\"","PA","\"Allentown\"",11,"Allentown",null,"ALLENTOWN    PA","PA",773,5785,"Allentown","PA","PAALLENT.txt"]
[null,"182","\"Pennsylvania\"","PA","\"Hazleton\"",10,"Hazleton",null,"AVOCA    PA","PA",539,6291,"Wilkes-Barre","PA","PAWILKES.txt"]
[null,"183","\"Pennsylvania\"","PA","\"Stroudsburg\"",13,"Stroudsburg",null,"ALLENTOWN    PA","PA",773,5785,"Allentown","PA","PAALLENT.txt"]
[null,"184","\"Pennsylvania\"","PA","\"Scranton\"",10,"Scranton",null,"AVOCA    PA","PA",539,6291,"Wilkes-Barre","PA","PAWILKES.txt"]
[null,"185","\"Pennsylvania\"","PA","\"Scranton\"",10,"Scranton",null,"AVOCA    PA","PA",539,6291,"Wilkes-Barre","PA","PAWILKES.txt"]
[null,"186","\"Pennsylvania\"","PA","\"Wilkes-Barre\"",14,"Wilkes-Barre",null,"AVOCA    PA","PA",539,6291,"Wilkes-Barre","PA","PAWILKES.txt"]
[null,"187","\"Pennsylvania\"","PA","\"Wilkes-Barre\"",14,"Wilkes-Barre",null,"AVOCA    PA","PA",539,6291,"Wilkes-Barre","PA","PAWILKES.txt"]
[null,"188","\"Pennsylvania\"","PA","\"Montrose\"",10,"Montrose",null,"BINGHAMTON    NY","NY",337,7273,"Wilkes-Barre","PA","PAWILKES.txt"]
[null,"189","\"Pennsylvania\"","PA","\"Doylestown\"",12,"Doylestown",null,"PHILADELPHIA    PA","PA",1101,4954,"Philadelphia","PA","PAPHILAD.txt"]
[null,"190","\"Pennsylvania\"","PA","\"Philadelphia\"",14,"Philadelphia",null,"WILMINGTON    DE","DE",1046,4937,"Philadelphia","PA","PAPHILAD.txt"]
[null,"191","\"Pennsylvania\"","PA","\"Philadelphia\"",14,"Philadelphia",null,"PHILADELPHIA    PA","PA",1101,4954,"Philadelphia","PA","PAPHILAD.txt"]
[null,"193","\"Pennsylvania\"","PA","\"Southeastern\"",14,"Southeastern",null,"WILMINGTON    DE","DE",1046,4937,"Wilmington","DE","DEWILMIN.txt"]
[null,"194","\"Pennsylvania\"","PA","\"Southeastern\"",14,"Southeastern",null,"WILMINGTON    DE","DE",1046,4937,"Wilmington","DE","DEWILMIN.txt"]
[null,"195","\"Pennsylvania\"","PA","\"Reading\"",9,"Reading",null,"ALLENTOWN    PA","PA",773,5785,"Allentown","PA","PAALLENT.txt"]
[null,"196","\"Pennsylvania\"","PA","\"Reading\"",9,"Reading",null,"ALLENTOWN    PA","PA",773,5785,"Allentown","PA","PAALLENT.txt"]
[null,"197","\"Delaware\"","DE","\"Wilmington\"",12,"Wilmington",null,"WILMINGTON    DE","DE",1046,4937,"Wilmington","DE","DEWILMIN.txt"]
[null,"198","\"Delaware\"","DE","\"Wilmington\"",12,"Wilmington",null,"WILMINGTON    DE","DE",1046,4937,"Wilmington","DE","DEWILMIN.txt"]
[null,"199","\"Delaware\"","DE","\"Dover\"",7,"Dover",null,"BALTIMORE    MD","MD",1137,4707,"Baltimore","MD","MDBALTIM.txt"]
[null,"200","\"DC\"","DC","\"Washington\"",12,"Washington",null,"WASHINGTON NAT'L AP DC","DC",1549,4047,"Washington","MD","MDWASHDC.txt"]
[null,"201","\"DC\"","DC","\"Washington\"",12,"Washington",null,"WASHINGTON NAT'L AP DC","DC",1549,4047,"Washington","MD","MDWASHDC.txt"]
[null,"202","\"DC\"","DC","\"Washington\"",12,"Washington",null,"WASHINGTON NAT'L AP DC","DC",1549,4047,"Washington","MD","MDWASHDC.txt"]
[null,"203","\"DC\"","DC","\"Washington\"",12,"Washington",null,"WASHINGTON NAT'L AP DC","DC",1549,4047,"Washington","MD","MDWASHDC.txt"]
[null,"204","\"DC\"","DC","\"Washington\"",12,"Washington",null,"WASHINGTON NAT'L AP DC","DC",1549,4047,"Washington","MD","MDWASHDC.txt"]
[null,"205","\"DC\"","DC","\"Washington\"",12,"Washington",null,"WASHINGTON NAT'L AP DC","DC",1549,4047,"Washington","MD","MDWASHDC.txt"]
[null,"206","\"Maryland\"","MD","\"Waldorf\"",9,"Waldorf",null,"WASHINGTON NAT'L AP DC","DC",1549,4047,"Washington","MD","MDWASHDC.txt"]
[null,"207","\"Maryland\"","MD","\"Laurel\"",8,"Laurel",null,"BALTIMORE    MD","MD",1137,4707,"Baltimore","MD","MDBALTIM.txt"]
[null,"208","\"Maryland\"","MD","\"Rockville\"",11,"Rockville",null,"BALTIMORE    MD","MD",1137,4707,"Baltimore","MD","MDBALTIM.txt"]
[null,"209","\"Maryland\"","MD","\"Silver Spring\"",15,"Silver Spring",null,"WASHINGTON NAT'L AP DC","DC",1549,4047,"Washington","MD","MDWASHDC.txt"]
[null,"210","\"Maryland\"","MD","\"Baltimore\"",11,"Baltimore",null,"BALTIMORE    MD","MD",1137,4707,"Baltimore","MD","MDBALTIM.txt"]
[null,"211","\"Maryland\"","MD","\"Baltimore\"",11,"Baltimore",null,"BALTIMORE    MD","MD",1137,4707,"Baltimore","MD","MDBALTIM.txt"]
[null,"212","\"Maryland\"","MD","\"Baltimore\"",11,"Baltimore",null,"BALTIMORE    MD","MD",1137,4707,"Baltimore","MD","MDBALTIM.txt"]
[null,"213","\"Maryland\"","MD","\"Baltimore\"",11,"Baltimore",null,"BALTIMORE    MD","MD",1137,4707,"Baltimore","MD","MDBALTIM.txt"]
[null,"214","\"Maryland\"","MD","\"Annapolis\"",11,"Annapolis",null,"BALTIMORE    MD","MD",1137,4707,"Baltimore","MD","MDBALTIM.txt"]
[null,"215","\"Maryland\"","MD","\"Cumberland\"",{"$f":"LEN(E202)","v":12},{"$f":"MID(E202,2,F202-2)","v":"Cumberland"},null,"PITTSBURGH    PA","PA",654,5968,"Pittsburgh","PA","PAPITTSB.txt"]
[null,"216","\"Maryland\"","MD","\"Easton\"",8,"Easton",null,"WASHINGTON NAT'L AP DC","DC",1549,4047,"Washington","MD","MDWASHDC.txt"]
[null,"217","\"Maryland\"","MD","\"Frederick\"",11,"Frederick",null,"BALTIMORE    MD","MD",1137,4707,"Baltimore","MD","MDBALTIM.txt"]
[null,"218","\"Maryland\"","MD","\"Salisbury\"",11,"Salisbury",null,"WALLOPS ISLAND    VA","VA",1096,4261,"Richmond","VA","VARICHMO.txt"]
[null,"219","\"Maryland\"","MD","\"Elkton\"",8,"Elkton",null,"WILMINGTON    DE","DE",1046,4937,"Wilmington","DE","DEWILMIN.txt"]
[null,"220","\"Virginia\"","VA","\"Northern VA\"",13,"Northern VA",null,"WASHINGTON DULLES AP DC","DC",973,5006,"Washington","MD","MDWASHDC.txt"]
[null,"221","\"Virginia\"","VA","\"Northern VA\"",13,"Northern VA",null,"WASHINGTON DULLES AP DC","DC",973,5006,"Washington","MD","MDWASHDC.txt"]
[null,"222","\"Virginia\"","VA","\"Arlington\"",11,"Arlington",null,"WASHINGTON NAT'L AP DC","DC",1549,4047,"Washington","MD","MDWASHDC.txt"]
[null,"223","\"Virginia\"","VA","\"Alexandria\"",12,"Alexandria",null,"WASHINGTON NAT'L AP DC","DC",1549,4047,"Washington","MD","MDWASHDC.txt"]
[null,"224","\"Virginia\"","VA","\"Fredericksburg\"",16,"Fredericksburg",null,"RICHMOND    VA","VA",1348,3963,"Richmond","VA","VARICHMO.txt"]
[null,"225","\"Virginia\"","VA","\"Fredericksburg\"",16,"Fredericksburg",null,"RICHMOND    VA","VA",1348,3963,"Richmond","VA","VARICHMO.txt"]
[null,"226","\"Virginia\"","VA","\"Winchester\"",12,"Winchester",null,"WASHINGTON DULLES AP DC","DC",973,5006,"Washington","MD","MDWASHDC.txt"]
[null,"227","\"Virginia\"","VA","\"Culpeper\"",10,"Culpeper",null,"WASHINGTON DULLES AP DC","DC",973,5006,"Washington","MD","MDWASHDC.txt"]
[null,"228","\"Virginia\"","VA","\"Harrisonburg\"",14,"Harrisonburg",null,"WASHINGTON DULLES AP DC","DC",973,5006,"Washington","MD","MDWASHDC.txt"]
[null,"229","\"Virginia\"","VA","\"Charlottesville\"",17,"Charlottesville",null,"RICHMOND    VA","VA",1348,3963,"Richmond","VA","VARICHMO.txt"]
[null,"230","\"Virginia\"","VA","\"Richmond\"",10,"Richmond",null,"RICHMOND    VA","VA",1348,3963,"Richmond","VA","VARICHMO.txt"]
[null,"231","\"Virginia\"","VA","\"Richmond\"",10,"Richmond",null,"RICHMOND    VA","VA",1348,3963,"Richmond","VA","VARICHMO.txt"]
[null,"232","\"Virginia\"","VA","\"Richmond\"",10,"Richmond",null,"RICHMOND    VA","VA",1348,3963,"Richmond","VA","VARICHMO.txt"]
[null,"233","\"Virginia\"","VA","\"Norfolk\"",9,"Norfolk",null,"NORFOLK    VA","VA",1422,3495,"Norfolk","VA","VANORFOL.txt "]
[null,"234","\"Virginia\"","VA","\"Norfolk\"",9,"Norfolk",null,"NORFOLK    VA","VA",1422,3495,"Norfolk","VA","VANORFOL.txt "]
[null,"235","\"Virginia\"","VA","\"Norfolk\"",9,"Norfolk",null,"NORFOLK    VA","VA",1422,3495,"Norfolk","VA","VANORFOL.txt "]
[null,"236","\"Virginia\"","VA","\"Norfolk\"",9,"Norfolk",null,"NORFOLK    VA","VA",1422,3495,"Norfolk","VA","VANORFOL.txt "]
[null,"237","\"Virginia\"","VA","\"Portsmouth\"",12,"Portsmouth",null,"NORFOLK    VA","VA",1422,3495,"Norfolk","VA","VANORFOL.txt "]
[null,"238","\"Virginia\"","VA","\"Petersburg\"",12,"Petersburg",null,"NORFOLK    VA","VA",1422,3495,"Norfolk","VA","VANORFOL.txt "]
[null,"239","\"Virginia\"","VA","\"Farmville\"",11,"Farmville",null,"RICHMOND    VA","VA",1348,3963,"Richmond","VA","VARICHMO.txt"]
[null,"240","\"Virginia\"","VA","\"Roanoke\"",9,"Roanoke",null,"ROANOKE    VA","VA",1052,4360,"Roanoke","VA","VAROANOK.txt"]
[null,"241","\"Virginia\"","VA","\"Roanoke\"",9,"Roanoke",null,"ROANOKE    VA","VA",1052,4360,"Roanoke","VA","VAROANOK.txt"]
[null,"242","\"Virginia\"","VA","\"Bristol\"",9,"Bristol",null,"ROANOKE    VA","VA",1052,4360,"Roanoke","VA","VAROANOK.txt"]
[null,"243","\"Virginia\"","VA","\"Pulaski\"",9,"Pulaski",null,"ROANOKE    VA","VA",1052,4360,"Roanoke","VA","VAROANOK.txt"]
[null,"244","\"Virginia\"","VA","\"Staunton\"",10,"Staunton",null,"ROANOKE    VA","VA",1052,4360,"Roanoke","VA","VAROANOK.txt"]
[null,"245","\"Virginia\"","VA","\"Lynchburg\"",11,"Lynchburg",null,"LYNCHBURG    VA","VA",1048,4340,"Roanoke","VA","VAROANOK.txt"]
[null,"246","\"Virginia\"","VA","\"Tazewell\"",10,"Tazewell",null,"ROANOKE    VA","VA",1052,4360,"Roanoke","VA","VAROANOK.txt"]
[null,"247","\"West_Virginia\"","WV","\"Bluefield\"",11,"Bluefield",null,"ROANOKE    VA","VA",1052,4360,"Roanoke","VA","VAROANOK.txt"]
[null,"248","\"West_Virginia\"","WV","\"Welch\"",7,"Welch",null,"CHARLESTON    WV","WV",1031,4646,"Charleston","WV","WVCHARLE.txt"]
[null,"249","\"West_Virginia\"","WV","\"Lewisburg\"",11,"Lewisburg",null,"CHARLESTON    WV","WV",1031,4646,"Charleston","WV","WVCHARLE.txt"]
[null,"250","\"West_Virginia\"","WV","\"Charleston\"",12,"Charleston",null,"CHARLESTON    WV","WV",1031,4646,"Charleston","WV","WVCHARLE.txt"]
[null,"251","\"West_Virginia\"","WV","\"Charleston\"",12,"Charleston",null,"CHARLESTON    WV","WV",1031,4646,"Charleston","WV","WVCHARLE.txt"]
[null,"252","\"West_Virginia\"","WV","\"Charleston\"",12,"Charleston",null,"CHARLESTON    WV","WV",1031,4646,"Charleston","WV","WVCHARLE.txt"]
[null,"253","\"West_Virginia\"","WV","\"Charleston\"",12,"Charleston",null,"CHARLESTON    WV","WV",1031,4646,"Charleston","WV","WVCHARLE.txt"]
[null,"254","\"West_Virginia\"","WV","\"Martinsburg\"",13,"Martinsburg",null,"WASHINGTON DULLES AP DC","DC",973,5006,"Washington","MD","MDWASHDC.txt"]
[null,"255","\"West_Virginia\"","WV","\"Huntington\"",12,"Huntington",null,"CHARLESTON    WV","WV",1031,4646,"Charleston","WV","WVCHARLE.txt"]
[null,"256","\"West_Virginia\"","WV","\"Logan\"",7,"Logan",null,"CHARLESTON    WV","WV",1031,4646,"Charleston","WV","WVCHARLE.txt"]
[null,"257","\"West_Virginia\"","WV","\"Huntington\"",12,"Huntington",null,"HUNTINGTON    WV","WV",1005,4665,"Charleston","WV","WVCHARLE.txt"]
[null,"258","\"West_Virginia\"","WV","\"Beckley\"",9,"Beckley",null,"BECKLEY    WV","WV",463,5558,"Charleston","WV","WVCHARLE.txt"]
[null,"259","\"West_Virginia\"","WV","\"Beckley\"",9,"Beckley",null,"BECKLEY    WV","WV",463,5558,"Charleston","WV","WVCHARLE.txt"]
[null,"260","\"West_Virginia\"","WV","\"Wheeling\"",10,"Wheeling",null,"PITTSBURGH    PA","PA",654,5968,"Pittsburgh","PA","PAPITTSB.txt"]
[null,"261","\"West_Virginia\"","WV","\"Parkersburg\"",13,"Parkersburg",null,"CHARLESTON    WV","WV",1031,4646,"Charleston","WV","WVCHARLE.txt"]
[null,"262","\"West_Virginia\"","WV","\"Buckhannon\"",12,"Buckhannon",null,"CHARLESTON    WV","WV",1031,4646,"Charleston","WV","WVCHARLE.txt"]
[null,"263","\"West_Virginia\"","WV","\"Clarksburg\"",12,"Clarksburg",null,"ELKINS    WV","WV",346,6120,"Elkins","WV","WVELKINS.txt"]
[null,"264","\"West_Virginia\"","WV","\"Clarksburg\"",12,"Clarksburg",null,"ELKINS    WV","WV",346,6120,"Elkins","WV","WVELKINS.txt"]
[null,"265","\"West_Virginia\"","WV","\"Morgantown\"",12,"Morgantown",null,"PITTSBURGH    PA","PA",654,5968,"Pittsburgh","PA","PAPITTSB.txt"]
[null,"266","\"West_Virginia\"","WV","\"Gassaway\"",10,"Gassaway",null,"CHARLESTON    WV","WV",1031,4646,"Charleston","WV","WVCHARLE.txt"]
[null,"267","\"West_Virginia\"","WV","\"Keyser\"",8,"Keyser",null,"ELKINS    WV","WV",346,6120,"Elkins","WV","WVELKINS.txt"]
[null,"268","\"West_Virginia\"","WV","\"Petersburg\"",12,"Petersburg",null,"ELKINS    WV","WV",346,6120,"Elkins","WV","WVELKINS.txt"]
[null,"270","\"North_Carolina\"","NC","\"Winston-Salem\"",15,"Winston-Salem",null,"GREENSBORO-WNSTN-SALM-HGHPT NC","NC",1253,3865,"Greensboro","NC","NCGRNSBO.txt"]
[null,"271","\"North_Carolina\"","NC","\"Winston-Salem\"",15,"Winston-Salem",null,"GREENSBORO-WNSTN-SALM-HGHPT NC","NC",1253,3865,"Greensboro","NC","NCGRNSBO.txt"]
[null,"272","\"North_Carolina\"","NC","\"Greensboro\"",12,"Greensboro",null,"GREENSBORO-WNSTN-SALM-HGHPT NC","NC",1253,3865,"Greensboro","NC","NCGRNSBO.txt"]
[null,"273","\"North_Carolina\"","NC","\"Greensboro\"",12,"Greensboro",null,"GREENSBORO-WNSTN-SALM-HGHPT NC","NC",1253,3865,"Greensboro","NC","NCGRNSBO.txt"]
[null,"274","\"North_Carolina\"","NC","\"Greensboro\"",12,"Greensboro",null,"GREENSBORO-WNSTN-SALM-HGHPT NC","NC",1253,3865,"Greensboro","NC","NCGRNSBO.txt"]
[null,"275","\"North_Carolina\"","NC","\"Raleigh\"",9,"Raleigh",null,"RALEIGH    NC","NC",1417,3457,"Raleigh Durham","NC","NCRALEIG.txt"]
[null,"276","\"North_Carolina\"","NC","\"Raleigh\"",9,"Raleigh",null,"RALEIGH    NC","NC",1417,3457,"Raleigh Durham","NC","NCRALEIG.txt"]
[null,"277","\"North_Carolina\"","NC","\"Durham\"",8,"Durham",null,"RALEIGH    NC","NC",1417,3457,"Raleigh Durham","NC","NCRALEIG.txt"]
[null,"278","\"North_Carolina\"","NC","\"Rocky Mount\"",13,"Rocky Mount",null,"RALEIGH    NC","NC",1417,3457,"Raleigh Durham","NC","NCRALEIG.txt"]
[null,"279","\"North_Carolina\"","NC","\"Elizabeth City\"",16,"Elizabeth City",null,"NORFOLK    VA","VA",1422,3495,"Norfolk","VA","VANORFOL.txt "]
[null,"280","\"North_Carolina\"","NC","\"Charlotte\"",{"$f":"LEN(E266)","v":11},{"$f":"MID(E266,2,F266-2)","v":"Charlotte"},null,"GREENVILLE-SPARTANBURG AP    SC","SC",1473,3272,"Charlotte","NC","NCCHARLO.txt"]
[null,"281","\"North_Carolina\"","NC","\"Charlotte\"",11,"Charlotte",null,"GREENVILLE-SPARTANBURG AP    SC","SC",1473,3272,"Charlotte","NC","NCCHARLO.txt"]
[null,"282","\"North_Carolina\"","NC","\"Charlotte\"",11,"Charlotte",null,"CHARLOTTE   NC","NC",1582,3341,"Charlotte","NC","NCCHARLO.txt"]
[null,"283","\"North_Carolina\"","NC","\"Fayetteville\"",14,"Fayetteville",null,"CHARLOTTE   NC","NC",1582,3341,"Charlotte","NC","NCCHARLO.txt"]
[null,"284","\"North_Carolina\"","NC","\"Wilmington\"",12,"Wilmington",null,"WILMINGTON    NC","NC",1926,2470,"Charlotte","NC","NCCHARLO.txt"]
[null,"285","\"North_Carolina\"","NC","\"Kinston\"",9,"Kinston",null,"WILMINGTON    NC","NC",1926,2470,"Charlotte","NC","NCCHARLO.txt"]
[null,"286","\"North_Carolina\"","NC","\"Hickory\"",9,"Hickory",null,"GREENSBORO-WNSTN-SALM-HGHPT NC","NC",1253,3865,"Greensboro","NC","NCGRNSBO.txt"]
[null,"287","\"North_Carolina\"","NC","\"Asheville\"",11,"Asheville",null,"BRISTOL-JHNSN CTY-KNGSPRT    TN","TN",972,4406,"Asheville","NC","NCASHEVI.txt"]
[null,"288","\"North_Carolina\"","NC","\"Asheville\"",11,"Asheville",null,"ASHEVILLE    NC","NC",787,4308,"Asheville","NC","NCASHEVI.txt"]
[null,"289","\"North_Carolina\"","NC","\"Andrews\"",9,"Andrews",null,"KNOXVILLE    TN","TN",1266,3937,"Knoxville","TN","TNKNOXVI.txt"]
[null,"290","\"South_Carolina\"","SC","\"Columbia\"",10,"Columbia",null,"COLUMBIA    SC","SC",1966,2649,"Columbia","SC","SCCOLMBA.txt"]
[null,"291","\"South_Carolina\"","SC","\"Columbia\"",10,"Columbia",null,"COLUMBIA    SC","SC",1966,2649,"Columbia","SC","SCCOLMBA.txt"]
[null,"292","\"South_Carolina\"","SC","\"Columbia\"",10,"Columbia",null,"COLUMBIA    SC","SC",1966,2649,"Columbia","SC","SCCOLMBA.txt"]
[null,"293","\"South_Carolina\"","SC","\"Spartanburg\"",13,"Spartanburg",null,"GREENVILLE-SPARTANBURG AP    SC","SC",1473,3272,"Charlotte","NC","NCCHARLO.txt"]
[null,"294","\"South_Carolina\"","SC","\"Charleston\"",12,"Charleston",null,"CHARLESTON AP    SC","SC",2266,2013,"Charleston","SC","SCCHARLE.txt"]
[null,"295","\"South_Carolina\"","SC","\"Florence\"",10,"Florence",null,"WILMINGTON    NC","NC",1926,2470,"Columbia","SC","SCCOLMBA.txt"]
[null,"296","\"South_Carolina\"","SC","\"Greenville\"",12,"Greenville",null,"GREENVILLE-SPARTANBURG AP    SC","SC",1473,3272,"Charlotte","NC","NCCHARLO.txt"]
[null,"297","\"South_Carolina\"","SC","\"Rock_Hill\"",11,"Rock_Hill",null,"COLUMBIA    SC","SC",1966,2649,"Columbia","SC","SCCOLMBA.txt"]
[null,"298","\"South_Carolina\"","SC","\"Aiken\"",7,"Aiken",null,"COLUMBIA    SC","SC",1966,2649,"Columbia","SC","SCCOLMBA.txt"]
[null,"299","\"South_Carolina\"","SC","\"Beaufort\"",10,"Beaufort",null,"SAVANNAH    GA","GA",2365,1847,"Savannah","GA","GASAVANN.txt"]
[null,"300","\"Georgia\"","GA","\"Atlanta\"",9,"Atlanta",null,"ATLANTA    GA","GA",1667,2991,"Atlanta","GA","GAATLANT.txt"]
[null,"301","\"Georgia\"","GA","\"Atlanta\"",9,"Atlanta",null,"ATLANTA    GA","GA",1667,2991,"Atlanta","GA","GAATLANT.txt"]
[null,"302","\"Georgia\"","GA","\"Atlanta\"",9,"Atlanta",null,"ATLANTA    GA","GA",1667,2991,"Atlanta","GA","GAATLANT.txt"]
[null,"303","\"Georgia\"","GA","\"Atlanta\"",9,"Atlanta",null,"ATLANTA    GA","GA",1667,2991,"Atlanta","GA","GAATLANT.txt"]
[null,"304","\"Georgia\"","GA","\"Swainsboro\"",12,"Swainsboro",null,"SAVANNAH    GA","GA",2365,1847,"Savannah","GA","GASAVANN.txt"]
[null,"305","\"Georgia\"","GA","\"Gainesville\"",13,"Gainesville",null,"GREENVILLE-SPARTANBURG AP    SC","SC",1473,3272,"Atlanta","GA","GAATLANT.txt"]
[null,"306","\"Georgia\"","GA","\"Athens\"",8,"Athens",null,"ATHENS    GA","GA",1709,2893,"Atlanta","GA","GAATLANT.txt"]
[null,"307","\"Georgia\"","GA","\"Dalton\"",8,"Dalton",null,"CHATTANOOGA    TN","TN",1544,3587,"Chattanooga","TN","TNCHATTA.txt"]
[null,"308","\"Georgia\"","GA","\"Augusta\"",9,"Augusta",null,"ATHENS    GA","GA",1709,2893,"Columbia","SC","SCCOLMBA.txt"]
[null,"309","\"Georgia\"","GA","\"Augusta\"",9,"Augusta",null,"AUGUSTA    GA","GA",1948,2565,"Columbia","SC","SCCOLMBA.txt"]
[null,"310","\"Georgia\"","GA","\"Macon\"",7,"Macon",null,"COLUMBUS    GA","GA",2284,2261,"Macon","GA","GAMACON.txt"]
[null,"311","\"Georgia\"","GA","\"Macon\"",7,"Macon",null,"COLUMBUS    GA","GA",2284,2261,"Macon","GA","GAMACON.txt"]
[null,"312","\"Georgia\"","GA","\"Macon\"",7,"Macon",null,"MACON    GA","GA",2125,2334,"Macon","GA","GAMACON.txt"]
[null,"313","\"Georgia\"","GA","\"Savannah\"",10,"Savannah",null,"SAVANNAH    GA","GA",2365,1847,"Savannah","GA","GASAVANN.txt"]
[null,"314","\"Georgia\"","GA","\"Savannah\"",10,"Savannah",null,"SAVANNAH    GA","GA",2365,1847,"Savannah","GA","GASAVANN.txt"]
[null,"315","\"Georgia\"","GA","\"Waycross\"",10,"Waycross",null,"SAVANNAH    GA","GA",2365,1847,"Savannah","GA","GASAVANN.txt"]
[null,"316","\"Georgia\"","GA","\"Valdosta\"",10,"Valdosta",null,"TALLAHASSEE    FL","FL",2518,1705,"Tallahassee","FL","FLTALLAH.txt"]
[null,"317","\"Georgia\"","GA","\"Albany\"",8,"Albany",null,"COLUMBUS    GA","GA",2284,2261,"Columbus","GA","GACOLMBS.txt"]
[null,"318","\"Georgia\"","GA","\"Columbus\"",10,"Columbus",null,"MACON    GA","GA",2125,2334,"Columbus","GA","GACOLMBS.txt"]
[null,"319","\"Georgia\"","GA","\"Columbus\"",10,"Columbus",null,"COLUMBUS    GA","GA",2284,2261,"Columbus","GA","GACOLMBS.txt"]
[null,"320","\"Florida\"","FL","\"Jacksonville\"",14,"Jacksonville",null,"JACKSONVILLE    FL","FL",2551,1434,"Jacksonville","FL","FLJACKSV.txt"]
[null,"321","\"Florida\"","FL","\"Jacksonville\"",14,"Jacksonville",null,"JACKSONVILLE    FL","FL",2551,1434,"Jacksonville","FL","FLJACKSV.txt"]
[null,"322","\"Florida\"","FL","\"Jacksonville\"",14,"Jacksonville",null,"JACKSONVILLE    FL","FL",2551,1434,"Jacksonville","FL","FLJACKSV.txt"]
[null,"323","\"Florida\"","FL","\"Tallahassee\"",13,"Tallahassee",null,"TALLAHASSEE    FL","FL",2518,1705,"Tallahassee","FL","FLTALLAH.txt"]
[null,"324","\"Florida\"","FL","\"Panama City\"",13,"Panama City",null,"APALACHICOLA    FL","FL",2582,1429,"Tallahassee","FL","FLTALLAH.txt"]
[null,"325","\"Florida\"","FL","\"Pensacola\"",11,"Pensacola",null,"PENSACOLA    FL","FL",2636,1617,"Mobile","AL","ALMOBILE.txt"]
[null,"326","\"Florida\"","FL","\"Gainesville\"",13,"Gainesville",null,"GAINESVILLE    FL","FL",2609,1267,"Jacksonville","FL","FLJACKSV.txt"]
[null,"327","\"Florida\"","FL","\"Titusville\"",12,"Titusville",null,"DAYTONA BEACH    FL","FL",2919,909,"Daytona Beach","FL","FLDAYTNA.txt"]
[null,"328","\"Florida\"","FL","\"Orlando\"",9,"Orlando",null,"ORLANDO    FL","FL",3381,686,"Orlando","FL","FLORLAND.txt"]
[null,"329","\"Florida\"","FL","\"Melbourne\"",11,"Melbourne",null,"VERO BEACH    FL","FL",3278,548,"Orlando","FL","FLORLAND.txt"]
[null,"330","\"Florida\"","FL","\"Miami\"",7,"Miami",null,"KEY WEST    FL","FL",4798,100,"Miami Beach","FL","FLMIAMIB.txt"]
[null,"331","\"Florida\"","FL","\"Miami\"",7,"Miami",null,"MIAMI    FL","FL",4198,200,"Miami Beach","FL","FLMIAMIB.txt"]
[null,"332","\"Florida\"","FL","\"Miami\"",7,"Miami",null,"MIAMI    FL","FL",4198,200,"Miami Beach","FL","FLMIAMIB.txt"]
[null,"333","\"Florida\"","FL","\"Fort Lauderdale\"",17,"Fort Lauderdale",null,"MIAMI    FL","FL",4198,200,"Miami Beach","FL","FLMIAMIB.txt"]
[null,"334","\"Florida\"","FL","\"West Palm Beach\"",17,"West Palm Beach",null,"WEST PALM BEACH    FL","FL",3891,323,"West Palm Beach","FL","FLWPALMB.txt"]
[null,"335","\"Florida\"","FL","\"Tampa\"",7,"Tampa",null,"TAMPA    FL","FL",3427,725,"Tampa St. Petersburg","FL","FLTAMPA.txt"]
[null,"336","\"Florida\"","FL","\"Tampa\"",7,"Tampa",null,"TAMPA    FL","FL",3427,725,"Tampa St. Petersburg","FL","FLTAMPA.txt"]
[null,"337","\"Florida\"","FL","\"St. Petersburg\"",16,"St. Petersburg",null,"TAMPA    FL","FL",3427,725,"Tampa St. Petersburg","FL","FLTAMPA.txt"]
[null,"338","\"Florida\"","FL","\"Lakeland\"",10,"Lakeland",null,"TAMPA    FL","FL",3427,725,"Tampa St. Petersburg","FL","FLTAMPA.txt"]
[null,"339","\"Florida\"","FL","\"Fort Myers\"",12,"Fort Myers",null,"FORT MYERS    FL","FL",3855,418,"Tampa St. Petersburg","FL","FLTAMPA.txt"]
[null,"342","\"Florida\"","FL","\"Bradenton\"",11,"Bradenton",null,"TAMPA    FL","FL",3427,725,"Tampa St. Petersburg","FL","FLTAMPA.txt"]
[null,"344","\"Florida\"","FL","\"Ocala\"",7,"Ocala",null,"DAYTONA BEACH    FL","FL",2919,909,"Daytona Beach","FL","FLDAYTNA.txt"]
[null,"346","\"Florida\"","FL","\"Clearwater\"",12,"Clearwater",null,"TAMPA    FL","FL",3427,725,"Tampa St. Petersburg","FL","FLTAMPA.txt"]
[null,"347","\"Florida\"","FL","\"Orlando\"",9,"Orlando",null,"ORLANDO    FL","FL",3381,686,"Orlando","FL","FLORLAND.txt"]
[null,"349","\"Florida\"","FL","\"Fort Pierce\"",{"$f":"LEN(E330)","v":13},{"$f":"MID(E330,2,F330-2)","v":"Fort Pierce"},null,"TAMPA    FL","FL",3427,725,"Tampa St. Petersburg","FL","FLTAMPA.txt"]
[null,"350","\"Alabama\"","AL","\"Birmingham\"",12,"Birmingham",null,"BIRMINGHAM AP    AL","AL",1797,2918,"Birmingham","AL","ALBIRMIN.txt "]
[null,"351","\"Alabama\"","AL","\"Birmingham\"",12,"Birmingham",null,"BIRMINGHAM AP    AL","AL",1797,2918,"Birmingham","AL","ALBIRMIN.txt "]
[null,"352","\"Alabama\"","AL","\"Birmingham\"",12,"Birmingham",null,"BIRMINGHAM AP    AL","AL",1797,2918,"Birmingham","AL","ALBIRMIN.txt "]
[null,"354","\"Alabama\"","AL","\"Tuscaloosa\"",12,"Tuscaloosa",null,"MERIDIAN    MS","MS",2138,2444,"Birmingham","AL","ALBIRMIN.txt "]
[null,"355","\"Alabama\"","AL","\"Jasper\"",8,"Jasper",null,"HUNTSVILLE    AL","AL",1651,3323,"Huntsville","AL","ALHUNTSV.txt"]
[null,"356","\"Alabama\"","AL","\"Decatur/Florence\"",18,"Decatur/Florence",null,"HUNTSVILLE    AL","AL",1651,3323,"Huntsville","AL","ALHUNTSV.txt"]
[null,"357","\"Alabama\"","AL","\"Huntsville\"",12,"Huntsville",null,"CHATTANOOGA    TN","TN",1544,3587,"Chattanooga","TN","TNCHATTA.txt"]
[null,"358","\"Alabama\"","AL","\"Huntsville\"",12,"Huntsville",null,"HUNTSVILLE    AL","AL",1651,3323,"Huntsville","AL","ALHUNTSV.txt"]
[null,"359","\"Alabama\"","AL","\"Gadsden\"",9,"Gadsden",null,"ATLANTA    GA","GA",1667,2991,"Atlanta","GA","GAATLANT.txt"]
[null,"360","\"Alabama\"","AL","\"Montgomery\"",12,"Montgomery",null,"COLUMBUS    GA","GA",2284,2261,"Montgomery","AL","ALMONTGO.txt "]
[null,"361","\"Alabama\"","AL","\"Montgomery\"",12,"Montgomery",null,"MONTGOMERY    AL","AL",2212,2224,"Montgomery","AL","ALMONTGO.txt "]
[null,"362","\"Alabama\"","AL","\"Anniston\"",10,"Anniston",null,"BIRMINGHAM AP    AL","AL",1797,2918,"Birmingham","AL","ALBIRMIN.txt "]
[null,"363","\"Alabama\"","AL","\"Dothan\"",8,"Dothan",null,"MONTGOMERY    AL","AL",2212,2224,"Montgomery","AL","ALMONTGO.txt "]
[null,"364","\"Alabama\"","AL","\"Evergreen\"",11,"Evergreen",null,"MONTGOMERY    AL","AL",2212,2224,"Montgomery","AL","ALMONTGO.txt "]
[null,"365","\"Alabama\"","AL","\"Mobile\"",8,"Mobile",null,"MOBILE    AL","AL",2627,1702,"Mobile","AL","ALMOBILE.txt"]
[null,"366","\"Alabama\"","AL","\"Mobile\"",8,"Mobile",null,"MOBILE    AL","AL",2627,1702,"Mobile","AL","ALMOBILE.txt"]
[null,"367","\"Alabama\"","AL","\"Selma\"",7,"Selma",null,"MONTGOMERY    AL","AL",2212,2224,"Montgomery","AL","ALMONTGO.txt "]
[null,"368","\"Alabama\"","AL","\"Opelika\"",9,"Opelika",null,"COLUMBUS    GA","GA",2284,2261,"Columbus","GA","GACOLMBS.txt"]
[null,"369","\"Alabama\"","AL","\"Butler\"",8,"Butler",null,"MERIDIAN    MS","MS",2138,2444,"Jackson","MS","MSJACKSO.txt"]
[null,"370","\"Tennessee\"","TN","\"Nashville\"",11,"Nashville",null,"NASHVILLE    TN","TN",1616,3729,"Nashville","TN","TNNASHVI.txt"]
[null,"371","\"Tennessee\"","TN","\"Nashville\"",11,"Nashville",null,"NASHVILLE    TN","TN",1616,3729,"Nashville","TN","TNNASHVI.txt"]
[null,"372","\"Tennessee\"","TN","\"Nashville\"",11,"Nashville",null,"NASHVILLE    TN","TN",1616,3729,"Nashville","TN","TNNASHVI.txt"]
[null,"373","\"Tennessee\"","TN","\"Chattanooga\"",13,"Chattanooga",null,"HUNTSVILLE    AL","AL",1651,3323,"Chattanooga","TN","TNCHATTA.txt"]
[null,"374","\"Tennessee\"","TN","\"Chattanooga\"",13,"Chattanooga",null,"CHATTANOOGA    TN","TN",1544,3587,"Chattanooga","TN","TNCHATTA.txt"]
[null,"376","\"Tennessee\"","TN","\"Johnson City\"",14,"Johnson City",null,"BRISTOL-JHNSN CTY-KNGSPRT    TN","TN",972,4406,"Knoxville","TN","TNKNOXVI.txt"]
[null,"377","\"Tennessee\"","TN","\"Knoxville\"",11,"Knoxville",null,"KNOXVILLE    TN","TN",1266,3937,"Knoxville","TN","TNKNOXVI.txt"]
[null,"378","\"Tennessee\"","TN","\"Knoxville\"",11,"Knoxville",null,"KNOXVILLE    TN","TN",1266,3937,"Knoxville","TN","TNKNOXVI.txt"]
[null,"379","\"Tennessee\"","TN","\"Knoxville\"",11,"Knoxville",null,"KNOXVILLE    TN","TN",1266,3937,"Knoxville","TN","TNKNOXVI.txt"]
[null,"380","\"Tennessee\"","TN","\"Memphis\"",9,"Memphis",null,"MEMPHIS    TN","TN",2118,3082,"Memphis","TN","TNMEMPHI.txt"]
[null,"381","\"Tennessee\"","TN","\"Memphis\"",9,"Memphis",null,"MEMPHIS    TN","TN",2118,3082,"Memphis","TN","TNMEMPHI.txt"]
[null,"382","\"Tennessee\"","TN","\"Mc_Kenzie\"",11,"Mc_Kenzie",null,"NASHVILLE    TN","TN",1616,3729,"Nashville","TN","TNNASHVI.txt"]
[null,"383","\"Tennessee\"","TN","\"Jackson\"",9,"Jackson",null,"HUNTSVILLE    AL","AL",1651,3323,"Huntsville","AL","ALHUNTSV.txt"]
[null,"384","\"Tennessee\"","TN","\"Columbia\"",10,"Columbia",null,"NASHVILLE    TN","TN",1616,3729,"Nashville","TN","TNNASHVI.txt"]
[null,"385","\"Tennessee\"","TN","\"Cookeville\"",12,"Cookeville",null,"NASHVILLE    TN","TN",1616,3729,"Nashville","TN","TNNASHVI.txt"]
[null,"386","\"Mississippi\"","MS","\"Oxford\"",8,"Oxford",null,"MEMPHIS    TN","TN",2118,3082,"Memphis","TN","TNMEMPHI.txt"]
[null,"387","\"Mississippi\"","MS","\"Greenville\"",12,"Greenville",null,"JACKSON    MS","MS",2215,2467,"Jackson","MS","MSJACKSO.txt"]
[null,"388","\"Mississippi\"","MS","\"Tupelo\"",8,"Tupelo",null,"TUPELO    MS","MS",1908,3079,"Tupelo","MS","MSTUPELO.txt"]
[null,"389","\"Mississippi\"","MS","\"Grenada\"",9,"Grenada",null,"MERIDIAN    MS","MS",2138,2444,"Tupelo","MS","MSTUPELO.txt"]
[null,"390","\"Mississippi\"","MS","\"Jackson\"",9,"Jackson",null,"JACKSON    MS","MS",2215,2467,"Jackson","MS","MSJACKSO.txt"]
[null,"391","\"Mississippi\"","MS","\"Jackson\"",9,"Jackson",null,"JACKSON    MS","MS",2215,2467,"Jackson","MS","MSJACKSO.txt"]
[null,"392","\"Mississippi\"","MS","\"Jackson\"",9,"Jackson",null,"JACKSON    MS","MS",2215,2467,"Jackson","MS","MSJACKSO.txt"]
[null,"393","\"Mississippi\"","MS","\"Meridian\"",10,"Meridian",null,"MERIDIAN    MS","MS",2138,2444,"Jackson","MS","MSJACKSO.txt"]
[null,"394","\"Mississippi\"","MS","\"Hattiesburg\"",13,"Hattiesburg",null,"MOBILE    AL","AL",2627,1702,"Mobile","AL","ALMOBILE.txt"]
[null,"395","\"Mississippi\"","MS","\"Gulfport\"",10,"Gulfport",null,"NEW ORLEANS    LA","LA",2655,1513,"New Orleans","LA","LANEWORL.txt"]
[null,"396","\"Mississippi\"","MS","\"McComb\"",8,"McComb",null,"JACKSON    MS","MS",2215,2467,"Jackson","MS","MSJACKSO.txt"]
[null,"397","\"Mississippi\"","MS","\"Columbus\"",10,"Columbus",null,"BIRMINGHAM AP    AL","AL",1797,2918,"Birmingham","AL","ALBIRMIN.txt "]
[null,"400","\"Kentucky\"","KY","\"Louisville\"",12,"Louisville",null,"LOUISVILLE    KY","KY",1288,4514,"Louisville","KY","KYLOUISV.txt"]
[null,"401","\"Kentucky\"","KY","\"Louisville\"",12,"Louisville",null,"LOUISVILLE    KY","KY",1288,4514,"Louisville","KY","KYLOUISV.txt"]
[null,"402","\"Kentucky\"","KY","\"Louisville\"",12,"Louisville",null,"LOUISVILLE    KY","KY",1288,4514,"Louisville","KY","KYLOUISV.txt"]
[null,"403","\"Kentucky\"","KY","\"Lexington\"",11,"Lexington",null,"LEXINGTON    KY","KY",1140,4783,"Lexington","KY","KYLEXING.txt"]
[null,"404","\"Kentucky\"","KY","\"Lexington\"",11,"Lexington",null,"LEXINGTON    KY","KY",1140,4783,"Lexington","KY","KYLEXING.txt"]
[null,"405","\"Kentucky\"","KY","\"Lexington\"",11,"Lexington",null,"LEXINGTON    KY","KY",1140,4783,"Lexington","KY","KYLEXING.txt"]
[null,"406","\"Kentucky\"","KY","\"Frankfort\"",11,"Frankfort",null,"LEXINGTON    KY","KY",1140,4783,"Lexington","KY","KYLEXING.txt"]
[null,"407","\"Kentucky\"","KY","\"Corbin\"",8,"Corbin",null,"KNOXVILLE    TN","TN",1266,3937,"Knoxville","TN","TNKNOXVI.txt"]
[null,"408","\"Kentucky\"","KY","\"Baxter\"",8,"Baxter",null,"BRISTOL-JHNSN CTY-KNGSPRT    TN","TN",972,4406,"Knoxville","TN","TNKNOXVI.txt"]
[null,"409","\"Kentucky\"","KY","\"Middlesboro\"",13,"Middlesboro",null,"BRISTOL-JHNSN CTY-KNGSPRT    TN","TN",972,4406,"Knoxville","TN","TNKNOXVI.txt"]
[null,"410","\"Kentucky\"","KY","\"Newport\"",9,"Newport",null,"GREATER CINCINNATI AP KY","KY",996,5248,"Cincinnati","OH","OHCINCIN.txt"]
[null,"411","\"Kentucky\"","KY","\"Ashland\"",9,"Ashland",null,"LEXINGTON    KY","KY",1140,4783,"Lexington","KY","KYLEXING.txt"]
[null,"412","\"Kentucky\"","KY","\"Ashland\"",9,"Ashland",null,"HUNTINGTON    WV","WV",1005,4665,"Charleston","WV","WVCHARLE.txt"]
[null,"413","\"Kentucky\"","KY","\"Campton\"",9,"Campton",null,"JACKSON    KY","KY",1033,4393,"Lexington","KY","KYLEXING.txt"]
[null,"414","\"Kentucky\"","KY","\"Campton\"",9,"Campton",null,"LEXINGTON    KY","KY",1140,4783,"Lexington","KY","KYLEXING.txt"]
[null,"415","\"Kentucky\"","KY","\"Pikeville\"",11,"Pikeville",null,"CHARLESTON    WV","WV",1031,4646,"Charleston","WV","WVCHARLE.txt"]
[null,"416","\"Kentucky\"","KY","\"Pikeville\"",11,"Pikeville",null,"HUNTINGTON    WV","WV",1005,4665,"Charleston","WV","WVCHARLE.txt"]
[null,"417","\"Kentucky\"","KY","\"Hazard\"",{"$f":"LEN(E394)","v":8},{"$f":"MID(E394,2,F394-2)","v":"Hazard"},null,"HUNTINGTON    WV","WV",1005,4665,"Charleston","WV","WVCHARLE.txt"]
[null,"418","\"Kentucky\"","KY","\"Hazard\"",8,"Hazard",null,"HUNTINGTON    WV","WV",1005,4665,"Charleston","WV","WVCHARLE.txt"]
[null,"420","\"Kentucky\"","KY","\"Paducah\"",9,"Paducah",null,"PADUCAH   KY ","KY",1475,4279,"Paducah","KY","KYPADUCA.txt"]
[null,"421","\"Kentucky\"","KY","\"Bowling Green\"",15,"Bowling Green",null,"LOUISVILLE    KY","KY",1288,4514,"Louisville","KY","KYLOUISV.txt"]
[null,"422","\"Kentucky\"","KY","\"Russellville\"",14,"Russellville",null,"LOUISVILLE    KY","KY",1288,4514,"Louisville","KY","KYLOUISV.txt"]
[null,"423","\"Kentucky\"","KY","\"Owensboro\"",11,"Owensboro",null,"NASHVILLE    TN","TN",1616,3729,"Nashville","TN","TNNASHVI.txt"]
[null,"424","\"Kentucky\"","KY","\"Henderson\"",11,"Henderson",null,"EVANSVILLE    IN","IN",1376,4708,"Evansville","IN","INEVANSV.txt"]
[null,"425","\"Kentucky\"","KY","\"Somerset\"",10,"Somerset",null,"LEXINGTON    KY","KY",1140,4783,"Lexington","KY","KYLEXING.txt"]
[null,"426","\"Kentucky\"","KY","\"Somerset\"",10,"Somerset",null,"LEXINGTON    KY","KY",1140,4783,"Lexington","KY","KYLEXING.txt"]
[null,"427","\"Kentucky\"","KY","\"Elizabethtown\"",15,"Elizabethtown",null,"NASHVILLE    TN","TN",1616,3729,"Nashville","TN","TNNASHVI.txt"]
[null,"430","\"Ohio\"","OH","\"Columbus\"",10,"Columbus",null,"COLUMBUS    OH","OH",797,5708,"Columbus","OH","OHCOLMBS.txt"]
[null,"431","\"Ohio\"","OH","\"Columbus\"",10,"Columbus",null,"COLUMBUS    OH","OH",797,5708,"Columbus","OH","OHCOLMBS.txt"]
[null,"432","\"Ohio\"","OH","\"Columbus\"",10,"Columbus",null,"COLUMBUS    OH","OH",797,5708,"Columbus","OH","OHCOLMBS.txt"]
[null,"433","\"Ohio\"","OH","\"Marion\"",8,"Marion",null,"DAYTON    OH","OH",886,5708,"Dayton","OH","OHDAYTON.txt"]
[null,"434","\"Ohio\"","OH","\"Bowling Green\"",15,"Bowling Green",null,"TOLEDO    OH","OH",610,6579,"Toledo","OH","OHTOLEDO.txt"]
[null,"435","\"Ohio\"","OH","\"Napoleon\"",10,"Napoleon",null,"FORT WAYNE    IN","IN",824,6273,"Fort Wayne","IN","INFTWAYN.txt"]
[null,"436","\"Ohio\"","OH","\"Toledo\"",8,"Toledo",null,"TOLEDO    OH","OH",610,6579,"Toledo","OH","OHTOLEDO.txt"]
[null,"437","\"Ohio\"","OH","\"Zanesville\"",12,"Zanesville",null,"PITTSBURGH    PA","PA",654,5968,"Pittsburgh","PA","PAPITTSB.txt"]
[null,"438","\"Ohio\"","OH","\"Zanesville\"",12,"Zanesville",null,"COLUMBUS    OH","OH",797,5708,"Columbus","OH","OHCOLMBS.txt"]
[null,"439","\"Ohio\"","OH","\"Stuebenville\"",14,"Stuebenville",null,"PITTSBURGH    PA","PA",654,5968,"Pittsburgh","PA","PAPITTSB.txt"]
[null,"440","\"Ohio\"","OH","\"Cleveland\"",11,"Cleveland",null,"CLEVELAND    OH","OH",621,6201,"Cleveland","OH","OHCLEVEL.txt"]
[null,"441","\"Ohio\"","OH","\"Cleveland\"",11,"Cleveland",null,"CLEVELAND    OH","OH",621,6201,"Cleveland","OH","OHCLEVEL.txt"]
[null,"442","\"Ohio\"","OH","\"Akron\"",7,"Akron",null,"AKRON    OH","OH",625,6160,"Akron Canton","OH","OHAKRON.txt"]
[null,"443","\"Ohio\"","OH","\"Akron\"",7,"Akron",null,"AKRON    OH","OH",625,6160,"Akron Canton","OH","OHAKRON.txt"]
[null,"444","\"Ohio\"","OH","\"Youngstown\"",12,"Youngstown",null,"YOUNGSTOWN    OH","OH",497,6544,"Youngstown","OH","OHYOUNGS.txt"]
[null,"445","\"Ohio\"","OH","\"Youngstown\"",12,"Youngstown",null,"YOUNGSTOWN    OH","OH",497,6544,"Youngstown","OH","OHYOUNGS.txt"]
[null,"446","\"Ohio\"","OH","\"Canton\"",8,"Canton",null,"AKRON    OH","OH",625,6160,"Akron Canton","OH","OHAKRON.txt"]
[null,"447","\"Ohio\"","OH","\"Canton\"",8,"Canton",null,"AKRON    OH","OH",625,6160,"Akron Canton","OH","OHAKRON.txt"]
[null,"448","\"Ohio\"","OH","\"Mansfield\"",11,"Mansfield",null,"MANSFIELD    OH","OH",666,6258,"Akron Canton","OH","OHAKRON.txt"]
[null,"449","\"Ohio\"","OH","\"Mansfield\"",11,"Mansfield",null,"MANSFIELD    OH","OH",666,6258,"Akron Canton","OH","OHAKRON.txt"]
[null,"450","\"Ohio\"","OH","\"Cincinnati\"",12,"Cincinnati",null,"GREATER CINCINNATI AP KY","KY",996,5248,"Cincinnati","OH","OHCINCIN.txt"]
[null,"451","\"Ohio\"","OH","\"Cincinnati\"",12,"Cincinnati",null,"GREATER CINCINNATI AP KY","KY",996,5248,"Cincinnati","OH","OHCINCIN.txt"]
[null,"452","\"Ohio\"","OH","\"Cincinnati\"",12,"Cincinnati",null,"GREATER CINCINNATI AP KY","KY",996,5248,"Cincinnati","OH","OHCINCIN.txt"]
[null,"453","\"Ohio\"","OH","\"Dayton\"",8,"Dayton",null,"COLUMBUS    OH","OH",797,5708,"Dayton","OH","OHDAYTON.txt"]
[null,"454","\"Ohio\"","OH","\"Dayton\"",8,"Dayton",null,"DAYTON    OH","OH",886,5708,"Dayton","OH","OHDAYTON.txt"]
[null,"455","\"Ohio\"","OH","\"Springfield\"",13,"Springfield",null,"DAYTON    OH","OH",886,5708,"Dayton","OH","OHDAYTON.txt"]
[null,"456","\"Ohio\"","OH","\"Chillicothe\"",13,"Chillicothe",null,"GREATER CINCINNATI AP KY","KY",996,5248,"Cincinnati","OH","OHCINCIN.txt"]
[null,"457","\"Ohio\"","OH","\"Athens\"",8,"Athens",null,"COLUMBUS    OH","OH",797,5708,"Columbus","OH","OHCOLMBS.txt"]
[null,"458","\"Ohio\"","OH","\"Lima\"",6,"Lima",null,"DAYTON    OH","OH",886,5708,"Dayton","OH","OHDAYTON.txt"]
[null,"460","\"Indiana\"","IN","\"Indianapolis\"",14,"Indianapolis",null,"INDIANAPOLIS    IN","IN",1014,5615,"Indianapolis","IN","ININDIAN.txt"]
[null,"461","\"Indiana\"","IN","\"Indianapolis\"",14,"Indianapolis",null,"INDIANAPOLIS    IN","IN",1014,5615,"Indianapolis","IN","ININDIAN.txt"]
[null,"462","\"Indiana\"","IN","\"Indianapolis\"",14,"Indianapolis",null,"INDIANAPOLIS    IN","IN",1014,5615,"Indianapolis","IN","ININDIAN.txt"]
[null,"463","\"Indiana\"","IN","\"Gary\"",6,"Gary",null,"SOUTH BEND    IN","IN",728,6331,"South Bend","IN","INSOBEND.txt"]
[null,"464","\"Indiana\"","IN","\"Gary\"",6,"Gary",null,"CHICAGO    IL","IL",752,6536,"Chicago","IL","ILCHICAG.txt"]
[null,"465","\"Indiana\"","IN","\"South Bend\"",12,"South Bend",null,"FORT WAYNE    IN","IN",824,6273,"South Bend","IN","INSOBEND.txt"]
[null,"466","\"Indiana\"","IN","\"South Bend\"",12,"South Bend",null,"SOUTH BEND    IN","IN",728,6331,"South Bend","IN","INSOBEND.txt"]
[null,"467","\"Indiana\"","IN","\"Fort Wayne\"",12,"Fort Wayne",null,"SOUTH BEND    IN","IN",728,6331,"Fort Wayne","IN","INFTWAYN.txt"]
[null,"468","\"Indiana\"","IN","\"Fort Wayne\"",12,"Fort Wayne",null,"FORT WAYNE    IN","IN",824,6273,"Fort Wayne","IN","INFTWAYN.txt"]
[null,"469","\"Indiana\"","IN","\"Kokomo\"",8,"Kokomo",null,"SOUTH BEND    IN","IN",728,6331,"South Bend","IN","INSOBEND.txt"]
[null,"470","\"Indiana\"","IN","\"Lawrenceburg\"",14,"Lawrenceburg",null,"GREATER CINCINNATI AP KY","KY",996,5248,"Cincinnati","OH","OHCINCIN.txt"]
[null,"471","\"Indiana\"","IN","\"New Albany\"",12,"New Albany",null,"LOUISVILLE    KY","KY",1288,4514,"Louisville","KY","KYLOUISV.txt"]
[null,"472","\"Indiana\"","IN","\"Columbus\"",10,"Columbus",null,"INDIANAPOLIS    IN","IN",1014,5615,"Indianapolis","IN","ININDIAN.txt"]
[null,"473","\"Indiana\"","IN","\"Muncie\"",8,"Muncie",null,"DAYTON    OH","OH",886,5708,"Dayton","OH","OHDAYTON.txt"]
[null,"474","\"Indiana\"","IN","\"Bloomington\"",13,"Bloomington",null,"INDIANAPOLIS    IN","IN",1014,5615,"Indianapolis","IN","ININDIAN.txt"]
[null,"475","\"Indiana\"","IN","\"Washington\"",12,"Washington",null,"EVANSVILLE    IN","IN",1376,4708,"Evansville","IN","INEVANSV.txt"]
[null,"476","\"Indiana\"","IN","\"Evansville\"",12,"Evansville",null,"EVANSVILLE    IN","IN",1376,4708,"Evansville","IN","INEVANSV.txt"]
[null,"477","\"Indiana\"","IN","\"Evansville\"",12,"Evansville",null,"EVANSVILLE    IN","IN",1376,4708,"Evansville","IN","INEVANSV.txt"]
[null,"478","\"Indiana\"","IN","\"Terre Haute\"",13,"Terre Haute",null,"INDIANAPOLIS    IN","IN",1014,5615,"Indianapolis","IN","ININDIAN.txt"]
[null,"479","\"Indiana\"","IN","\"Lafayette\"",11,"Lafayette",null,"SOUTH BEND    IN","IN",728,6331,"South Bend","IN","INSOBEND.txt"]
[null,"480","\"Michigan\"","MI","\"Royal Oak\"",11,"Royal Oak",null,"DETROIT    MI","MI",626,6569,"Detroit","MI","MIDETROI.txt"]
[null,"481","\"Michigan\"","MI","\"Ann Arbor\"",11,"Ann Arbor",null,"DETROIT    MI","MI",626,6569,"Detroit","MI","MIDETROI.txt"]
[null,"482","\"Michigan\"","MI","\"Detroit\"",9,"Detroit",null,"DETROIT    MI","MI",626,6569,"Detroit","MI","MIDETROI.txt"]
[null,"483","\"Michigan\"","MI","\"Detroit\"",9,"Detroit",null,"DETROIT    MI","MI",626,6569,"Detroit","MI","MIDETROI.txt"]
[null,"484","\"Michigan\"","MI","\"Flint\"",7,"Flint",null,"LANSING    MI","MI",490,7101,"Flint","MI","MIFLINT.txt"]
[null,"485","\"Michigan\"","MI","\"Flint\"",{"$f":"LEN(E458)","v":7},{"$f":"MID(E458,2,F458-2)","v":"Flint"},null,"FLINT    MI","MI",483,6979,"Flint","MI","MIFLINT.txt"]
[null,"486","\"Michigan\"","MI","\"Saginaw\"",9,"Saginaw",null,"LANSING    MI","MI",490,7101,"Lansing","MI","MILANSIN.txt"]
[null,"487","\"Michigan\"","MI","\"Saginaw\"",9,"Saginaw",null,"FLINT    MI","MI",483,6979,"Flint","MI","MIFLINT.txt"]
[null,"488","\"Michigan\"","MI","\"Lansing\"",9,"Lansing",null,"FLINT    MI","MI",483,6979,"Lansing","MI","MILANSIN.txt"]
[null,"489","\"Michigan\"","MI","\"Lansing\"",9,"Lansing",null,"LANSING    MI","MI",490,7101,"Lansing","MI","MILANSIN.txt"]
[null,"490","\"Michigan\"","MI","\"Kalamazoo\"",11,"Kalamazoo",null,"SOUTH BEND    IN","IN",728,6331,"South Bend","IN","INSOBEND.txt"]
[null,"491","\"Michigan\"","MI","\"Kalamazoo\"",11,"Kalamazoo",null,"SOUTH BEND    IN","IN",728,6331,"South Bend","IN","INSOBEND.txt"]
[null,"492","\"Michigan\"","MI","\"Jackson\"",9,"Jackson",null,"TOLEDO    OH","OH",610,6579,"Toledo","OH","OHTOLEDO.txt"]
[null,"493","\"Michigan\"","MI","\"Grand Rapids\"",14,"Grand Rapids",null,"MUSKEGON    MI","MI",431,6924,"Grand Rapids","MI","MIGRNDRA.txt"]
[null,"494","\"Michigan\"","MI","\"Muskegon\"",10,"Muskegon",null,"MUSKEGON    MI","MI",431,6924,"Grand Rapids","MI","MIGRNDRA.txt"]
[null,"495","\"Michigan\"","MI","\"Grand Rapids\"",14,"Grand Rapids",null,"GRAND RAPIDS    MI","MI",534,6973,"Grand Rapids","MI","MIGRNDRA.txt"]
[null,"496","\"Michigan\"","MI","\"Traverse City\"",15,"Traverse City",null,"ALPENA    MI","MI",231,8284,"Sault Ste Marie","MI","MISTEMAR.txt"]
[null,"497","\"Michigan\"","MI","\"Mackinaw City\"",15,"Mackinaw City",null,"SAULT STE. MARIE    MI","MI",131,9316,"Sault Ste Marie","MI","MISTEMAR.txt"]
[null,"498","\"Michigan\"","MI","\"Iron Mountain\"",15,"Iron Mountain",null,"MARQUETTE    MI","MI",155,9567,"Sault Ste Marie","MI","MISTEMAR.txt"]
[null,"499","\"Michigan\"","MI","\"Houghton\"",10,"Houghton",null,"HOUGHTON LAKE    MI","MI",256,8218,"Sault Ste Marie","MI","MISTEMAR.txt"]
[null,"500","\"Iowa\"","IA","\"Des Moines\"",12,"Des Moines",null,"DES MOINES    IA","IA",1036,6497,"Des Moines","IA","IADESMOI.txt"]
[null,"501","\"Iowa\"","IA","\"Des Moines\"",12,"Des Moines",null,"DES MOINES    IA","IA",1036,6497,"Des Moines","IA","IADESMOI.txt"]
[null,"502","\"Iowa\"","IA","\"Des Moines\"",12,"Des Moines",null,"DES MOINES    IA","IA",1036,6497,"Des Moines","IA","IADESMOI.txt"]
[null,"503","\"Iowa\"","IA","\"Des Moines\"",12,"Des Moines",null,"DES MOINES    IA","IA",1036,6497,"Des Moines","IA","IADESMOI.txt"]
[null,"504","\"Iowa\"","IA","\"Mason City\"",12,"Mason City",null,"WATERLOO    IA","IA",702,7406,"Des Moines","IA","IADESMOI.txt"]
[null,"505","\"Iowa\"","IA","\"Fort Dodge\"",12,"Fort Dodge",null,"SIOUX CITY    IA","IA",907,6893,"Sioux City","IA","IASIOCTY.txt"]
[null,"506","\"Iowa\"","IA","\"Waterloo\"",10,"Waterloo",null,"WATERLOO    IA","IA",702,7406,"Des Moines","IA","IADESMOI.txt"]
[null,"507","\"Iowa\"","IA","\"Waterloo\"",10,"Waterloo",null,"WATERLOO    IA","IA",702,7406,"Des Moines","IA","IADESMOI.txt"]
[null,"508","\"Iowa\"","IA","\"Creston\"",9,"Creston",null,"DES MOINES    IA","IA",1036,6497,"Des Moines","IA","IADESMOI.txt"]
[null,"510","\"Iowa\"","IA","\"Sioux City\"",12,"Sioux City",null,"SIOUX CITY    IA","IA",907,6893,"Sioux City","IA","IASIOCTY.txt"]
[null,"511","\"Iowa\"","IA","\"Sioux City\"",12,"Sioux City",null,"SIOUX CITY    IA","IA",907,6893,"Sioux City","IA","IASIOCTY.txt"]
[null,"512","\"Iowa\"","IA","\"Sheldon\"",9,"Sheldon",null,"SIOUX FALLS    SD","SD",744,7809,"Sioux Falls","SD","SDSIOFAL.txt"]
[null,"513","\"Iowa\"","IA","\"Spencer\"",9,"Spencer",null,"SIOUX FALLS    SD","SD",744,7809,"Sioux Falls","SD","SDSIOFAL.txt"]
[null,"514","\"Iowa\"","IA","\"Carroll\"",9,"Carroll",null,"SIOUX CITY    IA","IA",907,6893,"Sioux City","IA","IASIOCTY.txt"]
[null,"515","\"Iowa\"","IA","\"Council Bluffs\"",16,"Council Bluffs",null,"OMAHA (NORTH)    NE","NE",1037,6413,"Omaha","NE","NEOMAHA.txt"]
[null,"516","\"Iowa\"","IA","\"Shenandoah\"",12,"Shenandoah",null,"OMAHA (NORTH)    NE","NE",1037,6413,"Omaha","NE","NEOMAHA.txt"]
[null,"520","\"Iowa\"","IA","\"Dubuque\"",9,"Dubuque",null,"DUBUQUE    IA","IA",593,7327,"Des Moines","IA","IADESMOI.txt"]
[null,"521","\"Iowa\"","IA","\"Decorah\"",9,"Decorah",null,"LA CROSSE    WI","WI",692,7491,"Des Moines","IA","IADESMOI.txt"]
[null,"522","\"Iowa\"","IA","\"Cedar Rapids\"",14,"Cedar Rapids",null,"DES MOINES    IA","IA",1036,6497,"Des Moines","IA","IADESMOI.txt"]
[null,"523","\"Iowa\"","IA","\"Cedar Rapids\"",14,"Cedar Rapids",null,"DES MOINES    IA","IA",1036,6497,"Des Moines","IA","IADESMOI.txt"]
[null,"524","\"Iowa\"","IA","\"Cedar Rapids\"",14,"Cedar Rapids",null,"WATERLOO    IA","IA",702,7406,"Des Moines","IA","IADESMOI.txt"]
[null,"525","\"Iowa\"","IA","\"Ottumwa\"",9,"Ottumwa",null,"MOLINE    IL","IL",911,6474,"Des Moines","IA","IADESMOI.txt"]
[null,"526","\"Iowa\"","IA","\"Burlington\"",12,"Burlington",null,"MOLINE    IL","IL",911,6474,"Des Moines","IA","IADESMOI.txt"]
[null,"527","\"Iowa\"","IA","\"Davenport\"",11,"Davenport",null,"MOLINE    IL","IL",911,6474,"Des Moines","IA","IADESMOI.txt"]
[null,"528","\"Iowa\"","IA","\"Davenport\"",11,"Davenport",null,"MOLINE    IL","IL",911,6474,"Des Moines","IA","IADESMOI.txt"]
[null,"530","\"Wisconsin\"","WI","\"Milwaukee\"",11,"Milwaukee",null,"MADISON    WI","WI",485,7673,"Milwaukee","WI","WIMILWAU.txt"]
[null,"531","\"Wisconsin\"","WI","\"Milwaukee\"",11,"Milwaukee",null,"MADISON    WI","WI",485,7673,"Milwaukee","WI","WIMILWAU.txt"]
[null,"532","\"Wisconsin\"","WI","\"Milwaukee\"",11,"Milwaukee",null,"MILWAUKEE    WI","WI",479,7324,"Milwaukee","WI","WIMILWAU.txt"]
[null,"533","\"Wisconsin\"","WI","\"Milwaukee\"",11,"Milwaukee",null,"MILWAUKEE    WI","WI",479,7324,"Milwaukee","WI","WIMILWAU.txt"]
[null,"534","\"Wisconsin\"","WI","\"Racine\"",8,"Racine",null,"MILWAUKEE    WI","WI",479,7324,"Milwaukee","WI","WIMILWAU.txt"]
[null,"535","\"Wisconsin\"","WI","\"Madison\"",9,"Madison",null,"LA CROSSE    WI","WI",692,7491,"Madison","WI","WIMADISO.txt"]
[null,"536","\"Wisconsin\"","WI","\"Madison\"",9,"Madison",null,"LA CROSSE    WI","WI",692,7491,"Madison","WI","WIMADISO.txt"]
[null,"537","\"Wisconsin\"","WI","\"Madison\"",9,"Madison",null,"MADISON    WI","WI",485,7673,"Madison","WI","WIMADISO.txt"]
[null,"538","\"Wisconsin\"","WI","\"Platteville\"",13,"Platteville",null,"WATERLOO    IA","IA",702,7406,"Madison","WI","WIMADISO.txt"]
[null,"539","\"Wisconsin\"","WI","\"Portage\"",9,"Portage",null,"MADISON    WI","WI",485,7673,"Madison","WI","WIMADISO.txt"]
[null,"540","\"Wisconsin\"","WI","\"River Falls\"",13,"River Falls",null,"MINNEAPOLIS-ST.PAUL    MN","MN",682,7981,"Minneapolis St. Paul","MN","MNMINPLS.txt"]
[null,"541","\"Wisconsin\"","WI","\"Green Bay\"",11,"Green Bay",null,"GREEN BAY    WI","WI",381,8089,"Green Bay","WI","WIGREBAY.txt"]
[null,"542","\"Wisconsin\"","WI","\"Green Bay\"",11,"Green Bay",null,"GREEN BAY    WI","WI",381,8089,"Green Bay","WI","WIGREBAY.txt"]
[null,"543","\"Wisconsin\"","WI","\"Green Bay\"",11,"Green Bay",null,"GREEN BAY    WI","WI",381,8089,"Green Bay","WI","WIGREBAY.txt"]
[null,"544","\"Wisconsin\"","WI","\"Wausau\"",8,"Wausau",null,"GREEN BAY    WI","WI",381,8089,"Green Bay","WI","WIGREBAY.txt"]
[null,"545","\"Wisconsin\"","WI","\"Rhinelander\"",13,"Rhinelander",null,"HOUGHTON LAKE    MI","MI",256,8218,"Green Bay","WI","WIGREBAY.txt"]
[null,"546","\"Wisconsin\"","WI","\"La Crosse\"",11,"La Crosse",null,"MADISON    WI","WI",485,7673,"Madison","WI","WIMADISO.txt"]
[null,"547","\"Wisconsin\"","WI","\"Eau Claire\"",12,"Eau Claire",null,"MINNEAPOLIS-ST.PAUL    MN","MN",682,7981,"Minneapolis St. Paul","MN","MNMINPLS.txt"]
[null,"548","\"Wisconsin\"","WI","\"Spooner\"",9,"Spooner",null,"SAINT CLOUD    MN","MN",415,8928,"Madison","WI","WIMADISO.txt"]
[null,"549","\"Wisconsin\"","WI","\"Oshkosh\"",9,"Oshkosh",null,"LA CROSSE    WI","WI",692,7491,"Madison","WI","WIMADISO.txt"]
[null,"550","\"Minnesota\"","MN","\"Saint Paul\"",12,"Saint Paul",null,"MINNEAPOLIS-ST.PAUL    MN","MN",682,7981,"Minneapolis St. Paul","MN","MNMINPLS.txt"]
[null,"551","\"Minnesota\"","MN","\"Saint Paul\"",12,"Saint Paul",null,"MINNEAPOLIS-ST.PAUL    MN","MN",682,7981,"Minneapolis St. Paul","MN","MNMINPLS.txt"]
[null,"553","\"Minnesota\"","MN","\"Minneapolis\"",13,"Minneapolis",null,"MINNEAPOLIS-ST.PAUL    MN","MN",682,7981,"Minneapolis St. Paul","MN","MNMINPLS.txt"]
[null,"554","\"Minnesota\"","MN","\"Minneapolis\"",13,"Minneapolis",null,"MINNEAPOLIS-ST.PAUL    MN","MN",682,7981,"Minneapolis St. Paul","MN","MNMINPLS.txt"]
[null,"556","\"Minnesota\"","MN","\"Duluth\"",{"$f":"LEN(E522)","v":8},{"$f":"MID(E522,2,F522-2)","v":"Duluth"},null,"DULUTH    MN","MN",180,9818,"Duluth","MN","MNDULUTH.txt"]
[null,"557","\"Minnesota\"","MN","\"Duluth\"",8,"Duluth",null,"DULUTH    MN","MN",180,9818,"Duluth","MN","MNDULUTH.txt"]
[null,"558","\"Minnesota\"","MN","\"Duluth\"",8,"Duluth",null,"DULUTH    MN","MN",180,9818,"Duluth","MN","MNDULUTH.txt"]
[null,"559","\"Minnesota\"","MN","\"Rochester\"",11,"Rochester",null,"ROCHESTER    MN","MN",472,8250,"Minneapolis St. Paul","MN","MNMINPLS.txt"]
[null,"560","\"Minnesota\"","MN","\"Mankato\"",9,"Mankato",null,"ROCHESTER    MN","MN",472,8250,"Minneapolis St. Paul","MN","MNMINPLS.txt"]
[null,"561","\"Minnesota\"","MN","\"Windom\"",8,"Windom",null,"SIOUX FALLS    SD","SD",744,7809,"Sioux Falls","SD","SDSIOFAL.txt"]
[null,"562","\"Minnesota\"","MN","\"Willmar\"",9,"Willmar",null,"HURON    SD","SD",743,7923,"Minneapolis St. Paul","MN","MNMINPLS.txt"]
[null,"563","\"Minnesota\"","MN","\"Saint Cloud\"",13,"Saint Cloud",null,"SAINT CLOUD    MN","MN",415,8928,"Minneapolis St. Paul","MN","MNMINPLS.txt"]
[null,"564","\"Minnesota\"","MN","\"Brainerd\"",10,"Brainerd",null,"SAINT CLOUD    MN","MN",415,8928,"Minneapolis St. Paul","MN","MNMINPLS.txt"]
[null,"565","\"Minnesota\"","MN","\"Detroit Lakes\"",15,"Detroit Lakes",null,"FARGO    ND","ND",537,9254,"Fargo","ND","NDFARGO.txt"]
[null,"566","\"Minnesota\"","MN","\"Bemidji\"",9,"Bemidji",null,"INTERNATIONAL FALLS    MN","MN",249,10487,"Duluth","MN","MNDULUTH.txt"]
[null,"567","\"Minnesota\"","MN","\"Thief River Falls\"",19,"Thief River Falls",null,"FARGO    ND","ND",537,9254,"Fargo","ND","NDFARGO.txt"]
[null,"570","\"South_Dakota\"","SD","\"Sioux Falls\"",13,"Sioux Falls",null,"SIOUX FALLS    SD","SD",744,7809,"Sioux Falls","SD","SDSIOFAL.txt"]
[null,"571","\"South_Dakota\"","SD","\"Sioux Falls\"",13,"Sioux Falls",null,"SIOUX FALLS    SD","SD",744,7809,"Sioux Falls","SD","SDSIOFAL.txt"]
[null,"572","\"South_Dakota\"","SD","\"Watertown\"",11,"Watertown",null,"FARGO    ND","ND",537,9254,"Fargo","ND","NDFARGO.txt"]
[null,"573","\"South_Dakota\"","SD","\"Mitchell\"",10,"Mitchell",null,"RAPID CITY    SD","SD",611,7301,"Rapid City","SD","SDRAPCTY.txt"]
[null,"574","\"South_Dakota\"","SD","\"Aberdeen\"",10,"Aberdeen",null,"ABERDEEN    SD","SD",633,8446,"Fargo","ND","NDFARGO.txt"]
[null,"575","\"South_Dakota\"","SD","\"Pierre\"",8,"Pierre",null,"RAPID CITY    SD","SD",611,7301,"Rapid City","SD","SDRAPCTY.txt"]
[null,"576","\"South_Dakota\"","SD","\"Mobridge\"",10,"Mobridge",null,"BISMARCK    ND","ND",488,8968,"Bismarck","ND","NDBISMAR.txt"]
[null,"577","\"South_Dakota\"","SD","\"Rapid City\"",12,"Rapid City",null,"RAPID CITY    SD","SD",611,7301,"Rapid City","SD","SDRAPCTY.txt"]
[null,"580","\"North_Dakota\"","ND","\"Fargo\"",7,"Fargo",null,"FARGO    ND","ND",537,9254,"Fargo","ND","NDFARGO.txt"]
[null,"581","\"North_Dakota\"","ND","\"Fargo\"",7,"Fargo",null,"FARGO    ND","ND",537,9254,"Fargo","ND","NDFARGO.txt"]
[null,"582","\"North_Dakota\"","ND","\"Grand Forks\"",13,"Grand Forks",null,"FARGO    ND","ND",537,9254,"Fargo","ND","NDFARGO.txt"]
[null,"583","\"North_Dakota\"","ND","\"Devils Lake\"",13,"Devils Lake",null,"FARGO    ND","ND",537,9254,"Fargo","ND","NDFARGO.txt"]
[null,"584","\"North_Dakota\"","ND","\"Jamestown\"",11,"Jamestown",null,"BISMARCK    ND","ND",488,8968,"Bismarck","ND","NDBISMAR.txt"]
[null,"585","\"North_Dakota\"","ND","\"Bismarck\"",10,"Bismarck",null,"BISMARCK    ND","ND",488,8968,"Bismarck","ND","NDBISMAR.txt"]
[null,"586","\"North_Dakota\"","ND","\"Dickinson\"",11,"Dickinson",null,"BISMARCK    ND","ND",488,8968,"Bismarck","ND","NDBISMAR.txt"]
[null,"587","\"North_Dakota\"","ND","\"Minot\"",7,"Minot",null,"WILLISTON    ND","ND",548,9090,"Bismarck","ND","NDBISMAR.txt"]
[null,"588","\"North_Dakota\"","ND","\"Williston\"",11,"Williston",null,"WILLISTON    ND","ND",548,9090,"Bismarck","ND","NDBISMAR.txt"]
[null,"590","\"Montana\"","MT","\"Billings\"",10,"Billings",null,"BILLINGS    MT","MT",652,7164,"Billings","MT","MTBILLIN.txt"]
[null,"591","\"Montana\"","MT","\"Billings\"",10,"Billings",null,"BILLINGS    MT","MT",652,7164,"Billings","MT","MTBILLIN.txt"]
[null,"592","\"Montana\"","MT","\"Wolf Point\"",12,"Wolf Point",null,"GLASGOW    MT","MT",558,8745,"Great Falls","MT","MTGRFALL.txt"]
[null,"593","\"Montana\"","MT","\"Miles City\"",12,"Miles City",null,"GLASGOW    MT","MT",558,8745,"Great Falls","MT","MTGRFALL.txt"]
[null,"594","\"Montana\"","MT","\"Great Falls\"",13,"Great Falls",null,"GREAT FALLS    MT","MT",388,7741,"Great Falls","MT","MTGRFALL.txt"]
[null,"595","\"Montana\"","MT","\"Havre\"",7,"Havre",null,"GREAT FALLS    MT","MT",388,7741,"Great Falls","MT","MTGRFALL.txt"]
[null,"596","\"Montana\"","MT","\"Helena\"",8,"Helena",null,"HELENA    MT","MT",386,8031,"Helena","MT","MTHELENA.txt"]
[null,"597","\"Montana\"","MT","\"Butte\"",7,"Butte",null,"MISSOULA    MT","MT",280,7792,"Helena","MT","MTHELENA.txt"]
[null,"598","\"Montana\"","MT","\"Missoula\"",10,"Missoula",null,"MISSOULA    MT","MT",280,7792,"Helena","MT","MTHELENA.txt"]
[null,"599","\"Montana\"","MT","\"Kalispell\"",11,"Kalispell",null,"KALISPELL    MT","MT",149,8378,"Great Falls","MT","MTGRFALL.txt"]
[null,"600","\"Illinois\"","IL","\"North Chicago Sub.\"",20,"North Chicago Sub.",null,"ROCKFORD    IL","IL",702,6969,"Rockford","IL","ILROCKFO.txt"]
[null,"601","\"Illinois\"","IL","\"North Chicago Sub.\"",20,"North Chicago Sub.",null,"ROCKFORD    IL","IL",702,6969,"Rockford","IL","ILROCKFO.txt"]
[null,"602","\"Illinois\"","IL","\"Evanston\"",10,"Evanston",null,"CHICAGO    IL","IL",752,6536,"Chicago","IL","ILCHICAG.txt"]
[null,"603","\"Illinois\"","IL","\"Oak Park\"",10,"Oak Park",null,"CHICAGO    IL","IL",752,6536,"Chicago","IL","ILCHICAG.txt"]
[null,"604","\"Illinois\"","IL","\"South Chicago Sub.\"",20,"South Chicago Sub.",null,"CHICAGO    IL","IL",752,6536,"Chicago","IL","ILCHICAG.txt"]
[null,"605","\"Illinois\"","IL","\"South Chicago Sub.\"",20,"South Chicago Sub.",null,"CHICAGO    IL","IL",752,6536,"Chicago","IL","ILCHICAG.txt"]
[null,"606","\"Illinois\"","IL","\"Chicago\"",9,"Chicago",null,"CHICAGO    IL","IL",752,6536,"Chicago","IL","ILCHICAG.txt"]
[null,"607","\"Illinois\"","IL","\"Chicago\"",9,"Chicago",null,"CHICAGO    IL","IL",752,6536,"Chicago","IL","ILCHICAG.txt"]
[null,"609","\"Illinois\"","IL","\"Kankakee\"",10,"Kankakee",null,"PEORIA    IL","IL",982,6148,"Peoria","IL","ILPEORIA.txt"]
[null,"610","\"Illinois\"","IL","\"Rockford\"",10,"Rockford",null,"ROCKFORD    IL","IL",702,6969,"Rockford","IL","ILROCKFO.txt"]
[null,"611","\"Illinois\"","IL","\"Rockford\"",10,"Rockford",null,"ROCKFORD    IL","IL",702,6969,"Rockford","IL","ILROCKFO.txt"]
[null,"612","\"Illinois\"","IL","\"Rock Island\"",13,"Rock Island",null,"MOLINE    IL","IL",911,6474,"Peoria","IL","ILPEORIA.txt"]
[null,"613","\"Illinois\"","IL","\"La Salle\"",10,"La Salle",null,"MOLINE    IL","IL",911,6474,"Peoria","IL","ILPEORIA.txt"]
[null,"614","\"Illinois\"","IL","\"Galesburg\"",11,"Galesburg",null,"MOLINE    IL","IL",911,6474,"Peoria","IL","ILPEORIA.txt"]
[null,"615","\"Illinois\"","IL","\"Peoria\"",8,"Peoria",null,"PEORIA    IL","IL",982,6148,"Peoria","IL","ILPEORIA.txt"]
[null,"616","\"Illinois\"","IL","\"Peoria\"",8,"Peoria",null,"PEORIA    IL","IL",982,6148,"Peoria","IL","ILPEORIA.txt"]
[null,"617","\"Illinois\"","IL","\"Bloomington\"",13,"Bloomington",null,"SPRINGFIELD    IL","IL",1141,5688,"Springfield","IL","ILSPRING.txt"]
[null,"618","\"Illinois\"","IL","\"Champaign/Urbana\"",18,"Champaign/Urbana",null,"SPRINGFIELD    IL","IL",1141,5688,"Springfield","IL","ILSPRING.txt"]
[null,"619","\"Illinois\"","IL","\"Champaign/Urbana\"",18,"Champaign/Urbana",null,"SPRINGFIELD    IL","IL",1141,5688,"Springfield","IL","ILSPRING.txt"]
[null,"620","\"Illinois\"","IL","\"East Saint Louis\"",18,"East Saint Louis",null,"ST. LOUIS    MO","MO",1534,4758,"St Louis","MO","MOSTLOUI.txt"]
[null,"622","\"Illinois\"","IL","\"East Saint Louis\"",18,"East Saint Louis",null,"ST. LOUIS    MO","MO",1534,4758,"St Louis","MO","MOSTLOUI.txt"]
[null,"623","\"Illinois\"","IL","\"Quincy\"",8,"Quincy",null,"SPRINGFIELD    IL","IL",1141,5688,"Springfield","IL","ILSPRING.txt"]
[null,"624","\"Illinois\"","IL","\"Effingham\"",11,"Effingham",null,"ST. LOUIS    MO","MO",1534,4758,"St Louis","MO","MOSTLOUI.txt"]
[null,"625","\"Illinois\"","IL","\"Springfield\"",13,"Springfield",null,"SPRINGFIELD    IL","IL",1141,5688,"Springfield","IL","ILSPRING.txt"]
[null,"626","\"Illinois\"","IL","\"Springfield\"",13,"Springfield",null,"SPRINGFIELD    IL","IL",1141,5688,"Springfield","IL","ILSPRING.txt"]
[null,"627","\"Illinois\"","IL","\"Springfield\"",{"$f":"LEN(E586)","v":13},{"$f":"MID(E586,2,F586-2)","v":"Springfield"},null,"SPRINGFIELD    IL","IL",1141,5688,"Springfield","IL","ILSPRING.txt"]
[null,"628","\"Illinois\"","IL","\"Centralia\"",11,"Centralia",null,"EVANSVILLE    IN","IN",1376,4708,"Evansville","IN","INEVANSV.txt"]
[null,"629","\"Illinois\"","IL","\"Carbondale\"",12,"Carbondale",null,"EVANSVILLE    IN","IN",1376,4708,"Evansville","IN","INEVANSV.txt"]
[null,"630","\"Missouri\"","MO","\"Saint Louis\"",13,"Saint Louis",null,"ST. LOUIS    MO","MO",1534,4758,"St Louis","MO","MOSTLOUI.txt"]
[null,"631","\"Missouri\"","MO","\"Saint Louis\"",13,"Saint Louis",null,"ST. LOUIS    MO","MO",1534,4758,"St Louis","MO","MOSTLOUI.txt"]
[null,"632","\"Missouri\"","MO","\"Saint Louis\"",13,"Saint Louis",null,"ST. LOUIS    MO","MO",1534,4758,"St Louis","MO","MOSTLOUI.txt"]
[null,"633","\"Missouri\"","MO","\"Saint Charles\"",15,"Saint Charles",null,"ST. LOUIS    MO","MO",1534,4758,"St Louis","MO","MOSTLOUI.txt"]
[null,"634","\"Missouri\"","MO","\"Hannibal\"",10,"Hannibal",null,"COLUMBIA    MO","MO",1189,5212,"St Louis","MO","MOSTLOUI.txt"]
[null,"635","\"Missouri\"","MO","\"Kirksville\"",12,"Kirksville",null,"MOLINE    IL","IL",911,6474,"Peoria","IL","ILPEORIA.txt"]
[null,"636","\"Missouri\"","MO","\"Flat River\"",12,"Flat River",null,"ST. LOUIS    MO","MO",1534,4758,"St Louis","MO","MOSTLOUI.txt"]
[null,"637","\"Missouri\"","MO","\"Cape Girardeau\"",16,"Cape Girardeau",null,"ST. LOUIS    MO","MO",1534,4758,"St Louis","MO","MOSTLOUI.txt"]
[null,"638","\"Missouri\"","MO","\"Sikeston\"",10,"Sikeston",null,"EVANSVILLE    IN","IN",1376,4708,"Evansville","IN","INEVANSV.txt"]
[null,"639","\"Missouri\"","MO","\"Poplar Bluff\"",14,"Poplar Bluff",null,"SPRINGFIELD    MO","MO",1320,4638,"Springfield","MO","MOSPRING.txt"]
[null,"640","\"Missouri\"","MO","\"Kansas City\"",13,"Kansas City",null,"KANSAS CITY    MO","MO",1288,5393,"Kansas City","MO","MOKANCTY.txt"]
[null,"641","\"Missouri\"","MO","\"Kansas City\"",13,"Kansas City",null,"KANSAS CITY    MO","MO",1288,5393,"Kansas City","MO","MOKANCTY.txt"]
[null,"644","\"Missouri\"","MO","\"Saint Joseph\"",14,"Saint Joseph",null,"TOPEKA    KS","KS",1304,5265,"Topeka","KS","KSTOPEKA.txt"]
[null,"645","\"Missouri\"","MO","\"Saint Joseph\"",14,"Saint Joseph",null,"KANSAS CITY    MO","MO",1288,5393,"Kansas City","MO","MOKANCTY.txt"]
[null,"646","\"Missouri\"","MO","\"Chillicothe\"",13,"Chillicothe",null,"KANSAS CITY    MO","MO",1288,5393,"Kansas City","MO","MOKANCTY.txt"]
[null,"647","\"Missouri\"","MO","\"Harrisonville\"",15,"Harrisonville",null,"SPRINGFIELD    MO","MO",1320,4638,"Springfield","MO","MOSPRING.txt"]
[null,"648","\"Missouri\"","MO","\"Joplin\"",8,"Joplin",null,"SPRINGFIELD    MO","MO",1320,4638,"Springfield","MO","MOSPRING.txt"]
[null,"650","\"Missouri\"","MO","\"Jefferson_City\"",16,"Jefferson_City",null,"ST. LOUIS    MO","MO",1534,4758,"St Louis","MO","MOSTLOUI.txt"]
[null,"651","\"Missouri\"","MO","\"Jefferson_City\"",16,"Jefferson_City",null,"COLUMBIA    MO","MO",1189,5212,"St Louis","MO","MOSTLOUI.txt"]
[null,"652","\"Missouri\"","MO","\"Columbia\"",10,"Columbia",null,"COLUMBIA    MO","MO",1189,5212,"St Louis","MO","MOSTLOUI.txt"]
[null,"653","\"Missouri\"","MO","\"Sedalia\"",9,"Sedalia",null,"COLUMBIA    MO","MO",1189,5212,"St Louis","MO","MOSTLOUI.txt"]
[null,"654","\"Missouri\"","MO","\"Rolla\"",7,"Rolla",null,"SPRINGFIELD    MO","MO",1320,4638,"Springfield","MO","MOSPRING.txt"]
[null,"655","\"Missouri\"","MO","\"Rolla\"",7,"Rolla",null,"SPRINGFIELD    MO","MO",1320,4638,"Springfield","MO","MOSPRING.txt"]
[null,"656","\"Missouri\"","MO","\"Springfield\"",13,"Springfield",null,"SPRINGFIELD    MO","MO",1320,4638,"Springfield","MO","MOSPRING.txt"]
[null,"657","\"Missouri\"","MO","\"Springfield\"",13,"Springfield",null,"SPRINGFIELD    MO","MO",1320,4638,"Springfield","MO","MOSPRING.txt"]
[null,"658","\"Missouri\"","MO","\"Springfield\"",13,"Springfield",null,"SPRINGFIELD    MO","MO",1320,4638,"Springfield","MO","MOSPRING.txt"]
[null,"660","\"Kansas\"","KS","\"Kansas City\"",13,"Kansas City",null,"TOPEKA    KS","KS",1304,5265,"Kansas City","MO","MOKANCTY.txt"]
[null,"661","\"Kansas\"","KS","\"Kansas City\"",13,"Kansas City",null,"KANSAS CITY    MO","MO",1288,5393,"Kansas City","MO","MOKANCTY.txt"]
[null,"662","\"Kansas\"","KS","\"Shawnee/Mission\"",17,"Shawnee/Mission",null,"KANSAS CITY    MO","MO",1288,5393,"Kansas City","MO","MOKANCTY.txt"]
[null,"664","\"Kansas\"","KS","\"Topeka\"",8,"Topeka",null,"TOPEKA    KS","KS",1304,5265,"Topeka","KS","KSTOPEKA.txt"]
[null,"665","\"Kansas\"","KS","\"Topeka\"",8,"Topeka",null,"TOPEKA    KS","KS",1304,5265,"Topeka","KS","KSTOPEKA.txt"]
[null,"666","\"Kansas\"","KS","\"Topeka\"",8,"Topeka",null,"TOPEKA    KS","KS",1304,5265,"Topeka","KS","KSTOPEKA.txt"]
[null,"667","\"Kansas\"","KS","\"Fort Scott\"",12,"Fort Scott",null,"SPRINGFIELD    MO","MO",1320,4638,"Springfield","MO","MOSPRING.txt"]
[null,"668","\"Kansas\"","KS","\"Emporia\"",9,"Emporia",null,"WICHITA    KS","KS",1628,4791,"Wichita","KS","KSWICHIT.txt"]
[null,"669","\"Kansas\"","KS","\"Concordia\"",11,"Concordia",null,"CONCORDIA    KS","KS",1317,5574,"Topeka","KS","KSTOPEKA.txt"]
[null,"670","\"Kansas\"","KS","\"Wichita\"",9,"Wichita",null,"WICHITA    KS","KS",1628,4791,"Wichita","KS","KSWICHIT.txt"]
[null,"671","\"Kansas\"","KS","\"Wichita\"",9,"Wichita",null,"WICHITA    KS","KS",1628,4791,"Wichita","KS","KSWICHIT.txt"]
[null,"672","\"Kansas\"","KS","\"Wichita\"",9,"Wichita",null,"WICHITA    KS","KS",1628,4791,"Wichita","KS","KSWICHIT.txt"]
[null,"673","\"Kansas\"","KS","\"Independence\"",14,"Independence",null,"SPRINGFIELD    MO","MO",1320,4638,"Springfield","MO","MOSPRING.txt"]
[null,"674","\"Kansas\"","KS","\"Salina\"",8,"Salina",null,"TOPEKA    KS","KS",1304,5265,"Topeka","KS","KSTOPEKA.txt"]
[null,"675","\"Kansas\"","KS","\"Hutchinson\"",12,"Hutchinson",null,"WICHITA    KS","KS",1628,4791,"Wichita","KS","KSWICHIT.txt"]
[null,"676","\"Kansas\"","KS","\"Hays\"",6,"Hays",null,"DODGE CITY    KS","KS",1465,5001,"Wichita","KS","KSWICHIT.txt"]
[null,"677","\"Kansas\"","KS","\"Colby\"",7,"Colby",null,"GOODLAND    KS","KS",859,5974,"Goodland","KS","KSGOODLA.txt"]
[null,"678","\"Kansas\"","KS","\"Dodge City\"",12,"Dodge City",null,"DODGE CITY    KS","KS",1465,5001,"Wichita","KS","KSWICHIT.txt"]
[null,"679","\"Kansas\"","KS","\"Liberal\"",9,"Liberal",null,"DODGE CITY    KS","KS",1465,5001,"Wichita","KS","KSWICHIT.txt"]
[null,"680","\"Nebraska\"","NE","\"Omaha\"",7,"Omaha",null,"OMAHA EPPLEY AP    NE","NE",1072,6300,"Omaha","NE","NEOMAHA.txt"]
[null,"681","\"Nebraska\"","NE","\"Omaha\"",7,"Omaha",null,"OMAHA EPPLEY AP    NE","NE",1072,6300,"Omaha","NE","NEOMAHA.txt"]
[null,"683","\"Nebraska\"","NE","\"Lincoln\"",9,"Lincoln",null,"LINCOLN    NE","NE",1134,6278,"Lincoln","NE","NELINCOL.txt"]
[null,"684","\"Nebraska\"","NE","\"Lincoln\"",9,"Lincoln",null,"LINCOLN    NE","NE",1134,6278,"Lincoln","NE","NELINCOL.txt"]
[null,"685","\"Nebraska\"","NE","\"Lincoln\"",9,"Lincoln",null,"LINCOLN    NE","NE",1134,6278,"Lincoln","NE","NELINCOL.txt"]
[null,"686","\"Nebraska\"","NE","\"Columbus\"",10,"Columbus",null,"GRAND ISLAND    NE","NE",997,6421,"Lincoln","NE","NELINCOL.txt"]
[null,"687","\"Nebraska\"","NE","\"Norfolk\"",9,"Norfolk",null,"NORFOLK    NE","NE",877,6873,"Sioux City","IA","IASIOCTY.txt"]
[null,"688","\"Nebraska\"","NE","\"Grand Island\"",14,"Grand Island",null,"GRAND ISLAND    NE","NE",997,6421,"Lincoln","NE","NELINCOL.txt"]
[null,"689","\"Nebraska\"","NE","\"Hastings\"",10,"Hastings",null,"GRAND ISLAND    NE","NE",997,6421,"Lincoln","NE","NELINCOL.txt"]
[null,"690","\"Nebraska\"","NE","\"McCook\"",8,"McCook",null,"GOODLAND    KS","KS",859,5974,"Goodland","KS","KSGOODLA.txt"]
[null,"691","\"Nebraska\"","NE","\"North_Platte\"",14,"North_Platte",null,"NORTH PLATTE    NE","NE",713,6859,"North Platte","NE","NENPLATT.txt"]
[null,"692","\"Nebraska\"","NE","\"Valentine\"",11,"Valentine",null,"VALENTINE    NE","NE",752,7282,"North Platte","NE","NENPLATT.txt"]
[null,"693","\"Nebraska\"","NE","\"Alliance\"",10,"Alliance",null,"RAPID CITY    SD","SD",611,7301,"Rapid City","SD","SDRAPCTY.txt"]
[null,"700","\"Louisiana\"","LA","\"New Orleans\"",13,"New Orleans",null,"NEW ORLEANS    LA","LA",2655,1513,"New Orleans","LA","LANEWORL.txt"]
[null,"701","\"Louisiana\"","LA","\"New Orleans\"",13,"New Orleans",null,"NEW ORLEANS    LA","LA",2655,1513,"New Orleans","LA","LANEWORL.txt"]
[null,"703","\"Louisiana\"","LA","\"Thibodaux\"",11,"Thibodaux",null,"NEW ORLEANS    LA","LA",2655,1513,"New Orleans","LA","LANEWORL.txt"]
[null,"704","\"Louisiana\"","LA","\"Hammond\"",{"$f":"LEN(E650)","v":9},{"$f":"MID(E650,2,F650-2)","v":"Hammond"},null,"BATON ROUGE    LA","LA",2690,1669,"Baton Rouge","LA","LABATONR.txt"]
[null,"705","\"Louisiana\"","LA","\"Lafayette\"",11,"Lafayette",null,"BATON ROUGE    LA","LA",2690,1669,"Baton Rouge","LA","LABATONR.txt"]
[null,"706","\"Louisiana\"","LA","\"Lake Charles\"",14,"Lake Charles",null,"LAKE CHARLES    LA","LA",2650,1616,"Lake Charles","LA","LALAKECH.txt"]
[null,"707","\"Louisiana\"","LA","\"Baton Rouge\"",13,"Baton Rouge",null,"BATON ROUGE    LA","LA",2690,1669,"Baton Rouge","LA","LABATONR.txt"]
[null,"708","\"Louisiana\"","LA","\"Baton Rouge\"",13,"Baton Rouge",null,"BATON ROUGE    LA","LA",2690,1669,"Baton Rouge","LA","LABATONR.txt"]
[null,"710","\"Louisiana\"","LA","\"Shreveport\"",12,"Shreveport",null,"SHREVEPORT    LA","LA",2368,2264,"Shreveport","LA","LASHREVE.txt"]
[null,"711","\"Louisiana\"","LA","\"Shreveport\"",12,"Shreveport",null,"SHREVEPORT    LA","LA",2368,2264,"Shreveport","LA","LASHREVE.txt"]
[null,"712","\"Louisiana\"","LA","\"Monroe\"",8,"Monroe",null,"JACKSON    MS","MS",2215,2467,"Jackson","MS","MSJACKSO.txt"]
[null,"713","\"Louisiana\"","LA","\"Alexandria\"",12,"Alexandria",null,"SHREVEPORT    LA","LA",2368,2264,"Shreveport","LA","LASHREVE.txt"]
[null,"714","\"Louisiana\"","LA","\"Aimwell\"",9,"Aimwell",null,"SHREVEPORT    LA","LA",2368,2264,"Shreveport","LA","LASHREVE.txt"]
[null,"716","\"Arkansas\"","AR","\"Pine Bluff\"",12,"Pine Bluff",null,"JACKSON    MS","MS",2215,2467,"Jackson","MS","MSJACKSO.txt"]
[null,"717","\"Arkansas\"","AR","\"Camden\"",8,"Camden",null,"LITTLE ROCK    AR","AR",2005,3155,"Little Rock","AR","ARLIROCK.txt"]
[null,"718","\"Arkansas\"","AR","\"Hope\"",6,"Hope",null,"LITTLE ROCK    AR","AR",2005,3155,"Little Rock","AR","ARLIROCK.txt"]
[null,"719","\"Arkansas\"","AR","\"Hot Springs\"",13,"Hot Springs",null,"LITTLE ROCK    AR","AR",2005,3155,"Little Rock","AR","ARLIROCK.txt"]
[null,"720","\"Arkansas\"","AR","\"Little Rock\"",13,"Little Rock",null,"LITTLE ROCK    AR","AR",2005,3155,"Little Rock","AR","ARLIROCK.txt"]
[null,"721","\"Arkansas\"","AR","\"Little Rock\"",13,"Little Rock",null,"LITTLE ROCK    AR","AR",2005,3155,"Little Rock","AR","ARLIROCK.txt"]
[null,"722","\"Arkansas\"","AR","\"Little Rock\"",13,"Little Rock",null,"LITTLE ROCK    AR","AR",2005,3155,"Little Rock","AR","ARLIROCK.txt"]
[null,"723","\"Arkansas\"","AR","\"West Memphis\"",14,"West Memphis",null,"NORTH LITTLE ROCK    AR","AR",1916,3228,"Little Rock","AR","ARLIROCK.txt"]
[null,"724","\"Arkansas\"","AR","\"Jonesboro\"",11,"Jonesboro",null,"NORTH LITTLE ROCK    AR","AR",1916,3228,"Little Rock","AR","ARLIROCK.txt"]
[null,"725","\"Arkansas\"","AR","\"Batesville\"",12,"Batesville",null,"NORTH LITTLE ROCK    AR","AR",1916,3228,"Little Rock","AR","ARLIROCK.txt"]
[null,"726","\"Arkansas\"","AR","\"Harrison\"",10,"Harrison",null,"FORT SMITH    AR","AR",1894,3478,"Fort Smith","AR","ARFTSMIT.txt"]
[null,"727","\"Arkansas\"","AR","\"Fayetteville\"",14,"Fayetteville",null,"SPRINGFIELD    MO","MO",1320,4638,"Springfield","MO","MOSPRING.txt"]
[null,"728","\"Arkansas\"","AR","\"Russellville\"",14,"Russellville",null,"FORT SMITH    AR","AR",1894,3478,"Fort Smith","AR","ARFTSMIT.txt"]
[null,"729","\"Arkansas\"","AR","\"Fort Smith\"",12,"Fort Smith",null,"FORT SMITH    AR","AR",1894,3478,"Fort Smith","AR","ARFTSMIT.txt"]
[null,"730","\"Oklahoma\"","OK","\"Oklahoma City\"",15,"Oklahoma City",null,"OKLAHOMA CITY    OK","OK",1859,3659,"Oklahoma City","OK","OKOKLCTY.txt"]
[null,"731","\"Oklahoma\"","OK","\"Oklahoma City\"",15,"Oklahoma City",null,"OKLAHOMA CITY    OK","OK",1859,3659,"Oklahoma City","OK","OKOKLCTY.txt"]
[null,"734","\"Oklahoma\"","OK","\"Ardmore\"",9,"Ardmore",null,"DALLAS-FORT WORTH    TX","TX",2603,2407,"Dallas Ft Worth","TX","TXDALLAS.txt"]
[null,"735","\"Oklahoma\"","OK","\"Lawton\"",8,"Lawton",null,"WICHITA FALLS    TX","TX",2340,3042,"Wichita Falls","TX","TXWICHFA.txt"]
[null,"736","\"Oklahoma\"","OK","\"Clinton\"",9,"Clinton",null,"OKLAHOMA CITY    OK","OK",1859,3659,"Oklahoma City","OK","OKOKLCTY.txt"]
[null,"737","\"Oklahoma\"","OK","\"Enid\"",6,"Enid",null,"OKLAHOMA CITY    OK","OK",1859,3659,"Oklahoma City","OK","OKOKLCTY.txt"]
[null,"738","\"Oklahoma\"","OK","\"Woodward\"",10,"Woodward",null,"AMARILLO    TX","TX",1354,4258,"Amarillo","TX","TXAMARIL.txt"]
[null,"739","\"Oklahoma\"","OK","\"Guymon\"",8,"Guymon",null,"AMARILLO    TX","TX",1354,4258,"Oklahoma City","OK","OKOKLCTY.txt"]
[null,"740","\"Oklahoma\"","OK","\"Tulsa\"",7,"Tulsa",null,"OKLAHOMA CITY    OK","OK",1859,3659,"Tulsa","OK","OKTULSA.txt"]
[null,"741","\"Oklahoma\"","OK","\"Tulsa\"",7,"Tulsa",null,"TULSA    OK","OK",2017,3691,"Tulsa","OK","OKTULSA.txt"]
[null,"743","\"Oklahoma\"","OK","\"Vinita\"",8,"Vinita",null,"TULSA    OK","OK",2017,3691,"Tulsa","OK","OKTULSA.txt"]
[null,"744","\"Oklahoma\"","OK","\"Muskogee\"",10,"Muskogee",null,"FORT SMITH    AR","AR",1894,3478,"Fort Smith","AR","ARFTSMIT.txt"]
[null,"745","\"Oklahoma\"","OK","\"McAlester\"",11,"McAlester",null,"FORT SMITH    AR","AR",1894,3478,"Fort Smith","AR","ARFTSMIT.txt"]
[null,"746","\"Oklahoma\"","OK","\"Ponca City\"",12,"Ponca City",null,"TULSA    OK","OK",2017,3691,"Tulsa","OK","OKTULSA.txt"]
[null,"747","\"Oklahoma\"","OK","\"Durant\"",8,"Durant",null,"DALLAS-FORT WORTH    TX","TX",2603,2407,"Dallas Ft Worth","TX","TXDALLAS.txt"]
[null,"748","\"Oklahoma\"","OK","\"Shawnee\"",9,"Shawnee",null,"WICHITA FALLS    TX","TX",2340,3042,"Wichita Falls","TX","TXWICHFA.txt"]
[null,"749","\"Oklahoma\"","OK","\"Poteau\"",8,"Poteau",null,"FORT SMITH    AR","AR",1894,3478,"Fort Smith","AR","ARFTSMIT.txt"]
[null,"750","\"Texas\"","TX","\"Dallas\"",8,"Dallas",null,"DALLAS-FORT WORTH    TX","TX",2603,2407,"Dallas Ft Worth","TX","TXDALLAS.txt"]
[null,"751","\"Texas\"","TX","\"Dallas\"",8,"Dallas",null,"DALLAS-FORT WORTH    TX","TX",2603,2407,"Dallas Ft Worth","TX","TXDALLAS.txt"]
[null,"752","\"Texas\"","TX","\"Dallas\"",8,"Dallas",null,"DALLAS-FORT WORTH    TX","TX",2603,2407,"Dallas Ft Worth","TX","TXDALLAS.txt"]
[null,"753","\"Texas\"","TX","\"Dallas\"",8,"Dallas",null,"DALLAS-FORT WORTH    TX","TX",2603,2407,"Dallas Ft Worth","TX","TXDALLAS.txt"]
[null,"754","\"Texas\"","TX","\"Greenville\"",12,"Greenville",null,"DALLAS-FORT WORTH    TX","TX",2603,2407,"Dallas Ft Worth","TX","TXDALLAS.txt"]
[null,"755","\"Texas\"","TX","\"Texarkana\"",11,"Texarkana",null,"SHREVEPORT    LA","LA",2368,2264,"Shreveport","LA","LASHREVE.txt"]
[null,"756","\"Texas\"","TX","\"Longview\"",10,"Longview",null,"SHREVEPORT    LA","LA",2368,2264,"Shreveport","LA","LASHREVE.txt"]
[null,"757","\"Texas\"","TX","\"Tyler\"",7,"Tyler",null,"DALLAS-FORT WORTH    TX","TX",2603,2407,"Dallas Ft Worth","TX","TXDALLAS.txt"]
[null,"758","\"Texas\"","TX","\"Palestine\"",11,"Palestine",null,"WACO    TX","TX",2816,2179,"Waco","TX","TXWACO.txt"]
[null,"759","\"Texas\"","TX","\"Lufkin\"",8,"Lufkin",null,"WACO    TX","TX",2816,2179,"Waco","TX","TXWACO.txt"]
[null,"760","\"Texas\"","TX","\"Fort Worth\"",12,"Fort Worth",null,"DALLAS-FORT WORTH    TX","TX",2603,2407,"Dallas Ft Worth","TX","TXDALLAS.txt"]
[null,"761","\"Texas\"","TX","\"Fort Worth\"",12,"Fort Worth",null,"DALLAS-FORT WORTH    TX","TX",2603,2407,"Dallas Ft Worth","TX","TXDALLAS.txt"]
[null,"762","\"Texas\"","TX","\"Denton\"",8,"Denton",null,"DALLAS-FORT WORTH    TX","TX",2603,2407,"Dallas Ft Worth","TX","TXDALLAS.txt"]
[null,"763","\"Texas\"","TX","\"Wichita Falls\"",15,"Wichita Falls",null,"WICHITA FALLS    TX","TX",2340,3042,"Wichita Falls","TX","TXWICHFA.txt"]
[null,"764","\"Texas\"","TX","\"Stephenville\"",14,"Stephenville",null,"ABILENE    TX","TX",2451,2584,"Abilene","TX","TXABILEN.txt"]
[null,"765","\"Texas\"","TX","\"Temple\"",8,"Temple",null,"WACO    TX","TX",2816,2179,"Waco","TX","TXWACO.txt"]
[null,"766","\"Texas\"","TX","\"Waco\"",6,"Waco",null,"WACO    TX","TX",2816,2179,"Waco","TX","TXWACO.txt"]
[null,"767","\"Texas\"","TX","\"Waco\"",6,"Waco",null,"WACO    TX","TX",2816,2179,"Waco","TX","TXWACO.txt"]
[null,"768","\"Texas\"","TX","\"Brownwood\"",11,"Brownwood",null,"ABILENE    TX","TX",2451,2584,"Abilene","TX","TXABILEN.txt"]
[null,"769","\"Texas\"","TX","\"San Angelo\"",12,"San Angelo",null,"SAN ANGELO    TX","TX",2400,2414,"San Angelo","TX","TXSANANG.txt"]
[null,"770","\"Texas\"","TX","\"Houston\"",9,"Houston",null,"HOUSTON    TX","TX",2700,1599,"Houston","TX","TXHOUSTO.txt"]
[null,"771","\"Texas\"","TX","\"Houston\"",9,"Houston",null,"HOUSTON    TX","TX",2700,1599,"Houston","TX","TXHOUSTO.txt"]
[null,"772","\"Texas\"","TX","\"Houston\"",9,"Houston",null,"HOUSTON    TX","TX",2700,1599,"Houston","TX","TXHOUSTO.txt"]
[null,"773","\"Texas\"","TX","\"Conroe\"",{"$f":"LEN(E714)","v":8},{"$f":"MID(E714,2,F714-2)","v":"Conroe"},null,"HOUSTON    TX","TX",2700,1599,"Houston","TX","TXHOUSTO.txt"]
[null,"774","\"Texas\"","TX","\"Houston\"",9,"Houston",null,"HOUSTON    TX","TX",2700,1599,"Houston","TX","TXHOUSTO.txt"]
[null,"775","\"Texas\"","TX","\"Galveston\"",11,"Galveston",null,"GALVESTON    TX","TX",2994,1263,"Houston","TX","TXHOUSTO.txt"]
[null,"776","\"Texas\"","TX","\"Beaumont\"",10,"Beaumont",null,"PORT ARTHUR    TX","TX",2764,1499,"Houston","TX","TXHOUSTO.txt"]
[null,"777","\"Texas\"","TX","\"Beaumont\"",10,"Beaumont",null,"PORT ARTHUR    TX","TX",2764,1499,"Houston","TX","TXHOUSTO.txt"]
[null,"778","\"Texas\"","TX","\"Bryan\"",7,"Bryan",null,"AUSTIN    TX","TX",3016,1688,"Austin","TX","TXAUSTIN.txt"]
[null,"779","\"Texas\"","TX","\"Victoria\"",10,"Victoria",null,"VICTORIA    TX","TX",3118,1296,"Corpus Christi","TX","TXCORPUS.txt"]
[null,"780","\"Texas\"","TX","\"Laredo/Pearsall\"",17,"Laredo/Pearsall",null,"VICTORIA    TX","TX",3118,1296,"San Antonio","TX","TXSANANT.txt"]
[null,"781","\"Texas\"","TX","\"San Antonio\"",13,"San Antonio",null,"AUSTIN    TX","TX",3016,1688,"San Antonio","TX","TXSANANT.txt"]
[null,"782","\"Texas\"","TX","\"San Antonio\"",13,"San Antonio",null,"SAN ANTONIO    TX","TX",2996,1644,"San Antonio","TX","TXSANANT.txt"]
[null,"783","\"Texas\"","TX","\"Corpus Christi\"",16,"Corpus Christi",null,"CORPUS CHRISTI    TX","TX",3439,1016,"Corpus Christi","TX","TXCORPUS.txt"]
[null,"784","\"Texas\"","TX","\"Corpus Christi\"",16,"Corpus Christi",null,"CORPUS CHRISTI    TX","TX",3439,1016,"Corpus Christi","TX","TXCORPUS.txt"]
[null,"785","\"Texas\"","TX","\"Brownsville\"",13,"Brownsville",null,"BROWNSVILLE    TX","TX",3888,635,"Brownsville","TX","TXBROWNS.txt"]
[null,"786","\"Texas\"","TX","\"Austin\"",8,"Austin",null,"SAN ANTONIO    TX","TX",2996,1644,"Austin","TX","TXAUSTIN.txt"]
[null,"787","\"Texas\"","TX","\"Austin\"",8,"Austin",null,"AUSTIN    TX","TX",3016,1688,"Austin","TX","TXAUSTIN.txt"]
[null,"788","\"Texas\"","TX","\"Uvalde\"",8,"Uvalde",null,"DEL RIO    TX","TX",3142,1506,"San Antonio","TX","TXSANANT.txt"]
[null,"789","\"Texas\"","TX","\"Giddings\"",10,"Giddings",null,"AUSTIN    TX","TX",3016,1688,"Austin","TX","TXAUSTIN.txt"]
[null,"790","\"Texas\"","TX","\"Adrian\"",8,"Adrian",null,"AMARILLO    TX","TX",1354,4258,"Amarillo","TX","TXAMARIL.txt"]
[null,"791","\"Texas\"","TX","\"Amarillo\"",10,"Amarillo",null,"AMARILLO    TX","TX",1354,4258,"Amarillo","TX","TXAMARIL.txt"]
[null,"792","\"Texas\"","TX","\"Childress\"",11,"Childress",null,"LUBBOCK    TX","TX",1689,3431,"Lubbock","TX","TXLUBBOC.txt"]
[null,"793","\"Texas\"","TX","\"Lubbock\"",9,"Lubbock",null,"LUBBOCK    TX","TX",1689,3431,"Lubbock","TX","TXLUBBOC.txt"]
[null,"794","\"Texas\"","TX","\"Lubbock\"",9,"Lubbock",null,"LUBBOCK    TX","TX",1689,3431,"Lubbock","TX","TXLUBBOC.txt"]
[null,"795","\"Texas\"","TX","\"Abilene\"",9,"Abilene",null,"ABILENE    TX","TX",2451,2584,"Abilene","TX","TXABILEN.txt"]
[null,"796","\"Texas\"","TX","\"Abilene\"",9,"Abilene",null,"ABILENE    TX","TX",2451,2584,"Abilene","TX","TXABILEN.txt"]
[null,"797","\"Texas\"","TX","\"Midland\"",9,"Midland",null,"EL PASO    TX","TX",2094,2708,"Midland Odessa","TX","TXMIDLAN.txt"]
[null,"798","\"Texas\"","TX","\"El Paso\"",9,"El Paso",null,"MIDLAND-ODESSA    TX","TX",2163,2751,"El Paso","TX","TXELPASO.txt"]
[null,"799","\"Texas\"","TX","\"El Paso\"",9,"El Paso",null,"EL PASO    TX","TX",2094,2708,"El Paso","TX","TXELPASO.txt"]
[null,"800","\"Colorado\"","CO","\"Denver\"",8,"Denver",null,"DENVER    CO","CO",679,6020,"Denver","CO","CODENVER.txt"]
[null,"801","\"Colorado\"","CO","\"Denver\"",8,"Denver",null,"DENVER    CO","CO",679,6020,"Denver","CO","CODENVER.txt"]
[null,"802","\"Colorado\"","CO","\"Denver\"",8,"Denver",null,"DENVER    CO","CO",679,6020,"Denver","CO","CODENVER.txt"]
[null,"803","\"Colorado\"","CO","\"Boulder\"",9,"Boulder",null,"DENVER    CO","CO",679,6020,"Denver","CO","CODENVER.txt"]
[null,"804","\"Colorado\"","CO","\"Golden/Dillon\"",15,"Golden/Dillon",null,"DENVER    CO","CO",679,6020,"Denver","CO","CODENVER.txt"]
[null,"805","\"Colorado\"","CO","\"Longmont\"",10,"Longmont",null,"DENVER    CO","CO",679,6020,"Denver","CO","CODENVER.txt"]
[null,"806","\"Colorado\"","CO","\"Greeley\"",9,"Greeley",null,"DENVER    CO","CO",679,6020,"Denver","CO","CODENVER.txt"]
[null,"807","\"Colorado\"","CO","\"Fort Morgan\"",13,"Fort Morgan",null,"COLORADO SPRINGS    CO","CO",419,6415,"Colorado Springs","CO","COCOSPGS.txt"]
[null,"808","\"Colorado\"","CO","\"Colorado Springs\"",18,"Colorado Springs",null,"COLORADO SPRINGS    CO","CO",419,6415,"Colorado Springs","CO","COCOSPGS.txt"]
[null,"809","\"Colorado\"","CO","\"Colorado Springs\"",18,"Colorado Springs",null,"COLORADO SPRINGS    CO","CO",419,6415,"Colorado Springs","CO","COCOSPGS.txt"]
[null,"810","\"Colorado\"","CO","\"Pueblo\"",8,"Pueblo",null,"PUEBLO    CO","CO",973,5413,"Pueblo","CO","COPUEBLO.txt"]
[null,"811","\"Colorado\"","CO","\"Alamosa\"",9,"Alamosa",null,"ALAMOSA    CO","CO",62,8749,"Colorado Springs","CO","COCOSPGS.txt"]
[null,"812","\"Colorado\"","CO","\"Salida\"",8,"Salida",null,"ALAMOSA    CO","CO",62,8749,"Pueblo","CO","COPUEBLO.txt"]
[null,"813","\"Colorado\"","CO","\"Durango\"",9,"Durango",null,"GRAND JUNCTION    CO","CO",1183,5548,"Grand Junction","CO","COGRNDJU.txt"]
[null,"814","\"Colorado\"","CO","\"Montrose\"",10,"Montrose",null,"GRAND JUNCTION    CO","CO",1183,5548,"Grand Junction","CO","COGRNDJU.txt"]
[null,"815","\"Colorado\"","CO","\"Grand Junction\"",16,"Grand Junction",null,"GRAND JUNCTION    CO","CO",1183,5548,"Grand Junction","CO","COGRNDJU.txt"]
[null,"816","\"Colorado\"","CO","\"Glenwood Springs\"",18,"Glenwood Springs",null,"GRAND JUNCTION    CO","CO",1183,5548,"Grand Junction","CO","COGRNDJU.txt"]
[null,"820","\"Wyoming\"","WY","\"Cheyenne\"",10,"Cheyenne",null,"CHEYENNE    WY","WY",285,7326,"Cheyenne","WY","WYCHEYEN.txt"]
[null,"821","\"Wyoming\"","WY","\"Yellowstone Nat Pk\"",20,"Yellowstone Nat Pk",null,"HELENA    MT","MT",386,8031,"Helena","MT","MTHELENA.txt"]
[null,"822","\"Wyoming\"","WY","\"Wheatland\"",11,"Wheatland",null,"SCOTTSBLUFF    NE","NE",713,6729,"Cheyenne","WY","WYCHEYEN.txt"]
[null,"823","\"Wyoming\"","WY","\"Rawlins\"",9,"Rawlins",null,"CHEYENNE    WY","WY",285,7326,"Cheyenne","WY","WYCHEYEN.txt"]
[null,"824","\"Wyoming\"","WY","\"Worland\"",9,"Worland",null,"LANDER    WY","WY",479,7889,"Casper","WY","WYCASPER.txt "]
[null,"825","\"Wyoming\"","WY","\"Riverton\"",10,"Riverton",null,"LANDER    WY","WY",479,7889,"Casper","WY","WYCASPER.txt "]
[null,"826","\"Wyoming\"","WY","\"Casper\"",8,"Casper",null,"SHERIDAN    WY","WY",439,7804,"Casper","WY","WYCASPER.txt "]
[null,"827","\"Wyoming\"","WY","\"Gillette\"",10,"Gillette",null,"CASPER    WY","WY",445,7682,"Casper","WY","WYCASPER.txt "]
[null,"828","\"Wyoming\"","WY","\"Sheridan\"",10,"Sheridan",null,"SHERIDAN    WY","WY",439,7804,"Casper","WY","WYCASPER.txt "]
[null,"829","\"Wyoming\"","WY","\"Rock Springs\"",14,"Rock Springs",null,"LANDER    WY","WY",479,7889,"Casper","WY","WYCASPER.txt "]
[null,"830","\"Wyoming\"","WY","\"Jackson\"",9,"Jackson",null,"LANDER    WY","WY",479,7889,"Casper","WY","WYCASPER.txt "]
[null,"831","\"Wyoming\"","WY","\"Kemmerer\"",10,"Kemmerer",null,"LANDER    WY","WY",479,7889,"Casper","WY","WYCASPER.txt "]
[null,"832","\"Idaho\"","ID","\"Pocatello\"",11,"Pocatello",null,"POCATELLO    ID","ID",421,7180,"Pocatello","ID","IDPOCATE.txt"]
[null,"833","\"Idaho\"","ID","\"Twin Falls\"",12,"Twin Falls",null,"POCATELLO    ID","ID",421,7180,"Pocatello","ID","IDPOCATE.txt"]
[null,"834","\"Idaho\"","ID","\"Idaho Falls\"",13,"Idaho Falls",null,"POCATELLO    ID","ID",421,7180,"Pocatello","ID","IDPOCATE.txt"]
[null,"835","\"Idaho\"","ID","\"Lewiston\"",10,"Lewiston",null,"LEWISTON    ID","ID",814,5270,"Spokane","WA","WASPOKAN.txt"]
[null,"836","\"Idaho\"","ID","\"Boise\"",7,"Boise",null,"BOISE    ID","ID",754,5861,"Boise","ID","IDBOISE.txt"]
[null,"837","\"Idaho\"","ID","\"Boise\"",7,"Boise",null,"BOISE    ID","ID",754,5861,"Boise","ID","IDBOISE.txt"]
[null,"838","\"Idaho\"","ID","\"Coeur D'Alene\"",15,"Coeur D'Alene",null,"SPOKANE    WA","WA",398,6842,"Spokane","WA","WASPOKAN.txt"]
[null,"840","\"Utah\"","UT","\"Salt Lake City/Heber City\"",27,"Salt Lake City/Heber City",null,"SALT LAKE CITY    UT","UT",1047,5765,"Salt Lake City","UT","UTSALTLK.txt"]
[null,"841","\"Utah\"","UT","\"Salt Lake City\"",{"$f":"LEN(E778)","v":16},{"$f":"MID(E778,2,F778-2)","v":"Salt Lake City"},null,"SALT LAKE CITY    UT","UT",1047,5765,"Salt Lake City","UT","UTSALTLK.txt"]
[null,"843","\"Utah\"","UT","\"Ogden/Logan\"",13,"Ogden/Logan",null,"SALT LAKE CITY    UT","UT",1047,5765,"Salt Lake City","UT","UTSALTLK.txt"]
[null,"844","\"Utah\"","UT","\"Ogden\"",7,"Ogden",null,"SALT LAKE CITY    UT","UT",1047,5765,"Salt Lake City","UT","UTSALTLK.txt"]
[null,"845","\"Utah\"","UT","\"Southeast Utah/Green River\"",28,"Southeast Utah/Green River",null,"GRAND JUNCTION    CO","CO",1183,5548,"Grand Junction","CO","COGRNDJU.txt"]
[null,"846","\"Utah\"","UT","\"Provo\"",7,"Provo",null,"SALT LAKE CITY    UT","UT",1047,5765,"Salt Lake City","UT","UTSALTLK.txt"]
[null,"847","\"Utah\"","UT","\"Southwest Utah/Cedar City\"",27,"Southwest Utah/Cedar City",null,"MILFORD    UT","UT",647,6511,"Grand Junction","CO","COGRNDJU.txt"]
[null,"850","\"Arizona\"","AZ","\"Phoenix\"",9,"Phoenix",null,"PHOENIX    AZ","AZ",4162,1350,"Phoenix","AZ","AZPHOENI.txt"]
[null,"851","\"Arizona\"","AZ","\"Phoenix\"",9,"Phoenix",null,"PHOENIX    AZ","AZ",4162,1350,"Phoenix","AZ","AZPHOENI.txt"]
[null,"852","\"Arizona\"","AZ","\"Casa Grande\"",13,"Casa Grande",null,"TUCSON    AZ","AZ",2954,1678,"Tucson","AZ","AZTUCSON.txt"]
[null,"853","\"Arizona\"","AZ","\"Buckeye/Yuma\"",14,"Buckeye/Yuma",null,"YUMA    AZ","AZ",4305,927,"Yuma","AZ","AZYUMA.txt"]
[null,"855","\"Arizona\"","AZ","\"Globe\"",7,"Globe",null,"TUCSON    AZ","AZ",2954,1678,"Tucson","AZ","AZTUCSON.txt"]
[null,"856","\"Arizona\"","AZ","\"Sierra Vista/Nogales\"",22,"Sierra Vista/Nogales",null,"TUCSON    AZ","AZ",2954,1678,"Tucson","AZ","AZTUCSON.txt"]
[null,"857","\"Arizona\"","AZ","\"Tucson\"",8,"Tucson",null,"TUCSON    AZ","AZ",2954,1678,"Tucson","AZ","AZTUCSON.txt"]
[null,"859","\"Arizona\"","AZ","\"Show Low\"",10,"Show Low",null,"ALBUQUERQUE    NM","NM",1244,4425,"Albuquerque","NM","NMALBUQU.txt"]
[null,"860","\"Arizona\"","AZ","\"Flagstaff\"",11,"Flagstaff",null,"FLAGSTAFF    AZ","AZ",145,7131,"Flagstaff","AZ","AZFLAGST.txt"]
[null,"863","\"Arizona\"","AZ","\"Prescott\"",10,"Prescott",null,"FLAGSTAFF    AZ","AZ",145,7131,"Flagstaff","AZ","AZFLAGST.txt"]
[null,"864","\"Arizona\"","AZ","\"Kingman\"",9,"Kingman",null,"LAS VEGAS    NV","NV",3201,2407,"Las Vegas","NV","NVLASVEG.txt"]
[null,"865","\"Arizona\"","AZ","\"Window Rock\"",13,"Window Rock",null,"FLAGSTAFF    AZ","AZ",145,7131,"Flagstaff","AZ","AZFLAGST.txt"]
[null,"870","\"New_Mexico\"","NM","\"Bernalillo\"",12,"Bernalillo",null,"ALBUQUERQUE    NM","NM",1244,4425,"Albuquerque","NM","NMALBUQU.txt"]
[null,"871","\"New_Mexico\"","NM","\"Albuquerque\"",13,"Albuquerque",null,"ALBUQUERQUE    NM","NM",1244,4425,"Albuquerque","NM","NMALBUQU.txt"]
[null,"872","\"New_Mexico\"","NM","\"Albuquerque\"",13,"Albuquerque",null,"ALBUQUERQUE    NM","NM",1244,4425,"Albuquerque","NM","NMALBUQU.txt"]
[null,"873","\"New_Mexico\"","NM","\"Gallup\"",8,"Gallup",null,"ALBUQUERQUE    NM","NM",1244,4425,"Albuquerque","NM","NMALBUQU.txt"]
[null,"874","\"New_Mexico\"","NM","\"Farmington\"",12,"Farmington",null,"GRAND JUNCTION    CO","CO",1183,5548,"Grand Junction","CO","COGRNDJU.txt"]
[null,"875","\"New_Mexico\"","NM","\"Santa Fe\"",10,"Santa Fe",null,"ALBUQUERQUE    NM","NM",1244,4425,"Santa Fe","NM","NMSANTAF.txt"]
[null,"877","\"New_Mexico\"","NM","\"Las Vegas\"",11,"Las Vegas",null,"PUEBLO    CO","CO",973,5413,"Pueblo","CO","COPUEBLO.txt"]
[null,"878","\"New_Mexico\"","NM","\"Socorro\"",9,"Socorro",null,"ALBUQUERQUE    NM","NM",1244,4425,"Albuquerque","NM","NMALBUQU.txt"]
[null,"879","\"New_Mexico\"","NM","\"Truth or Conseq.\"",18,"Truth or Conseq.",null,"EL PASO    TX","TX",2094,2708,"El Paso","TX","TXELPASO.txt"]
[null,"880","\"New_Mexico\"","NM","\"Las Cruces\"",12,"Las Cruces",null,"EL PASO    TX","TX",2094,2708,"El Paso","TX","TXELPASO.txt"]
[null,"881","\"New_Mexico\"","NM","\"Clovis\"",8,"Clovis",null,"CLAYTON    NM","NM",772,5064,"Amarillo","TX","TXAMARIL.txt"]
[null,"882","\"New_Mexico\"","NM","\"Roswell\"",9,"Roswell",null,"ROSWELL    NM","NM",1776,3267,"Lubbock","TX","TXLUBBOC.txt"]
[null,"883","\"New_Mexico\"","NM","\"Carrizozo\"",11,"Carrizozo",null,"ALBUQUERQUE    NM","NM",1244,4425,"Albuquerque","NM","NMALBUQU.txt"]
[null,"884","\"New_Mexico\"","NM","\"Tucumcari\"",11,"Tucumcari",null,"CLAYTON    NM","NM",772,5064,"Amarillo","TX","TXAMARIL.txt"]
[null,"890","\"Nevada\"","NV","\"Tonopah\"",9,"Tonopah",null,"MILFORD    UT","UT",647,6511,"Las Vegas","NV","NVLASVEG.txt"]
[null,"891","\"Nevada\"","NV","\"Las Vegas\"",11,"Las Vegas",null,"LAS VEGAS    NV","NV",3201,2407,"Las Vegas","NV","NVLASVEG.txt"]
[null,"893","\"Nevada\"","NV","\"Ely\"",5,"Ely",null,"ELY    NV","NV",208,7621,"Reno","NV","NVRENO.txt"]
[null,"894","\"Nevada\"","NV","\"Reno\"",6,"Reno",null,"RENO    NV","NV",508,5674,"Reno","NV","NVRENO.txt"]
[null,"895","\"Nevada\"","NV","\"Reno\"",6,"Reno",null,"RENO    NV","NV",508,5674,"Reno","NV","NVRENO.txt"]
[null,"896","\"Nevada\"","NV","\"Reno\"",6,"Reno",null,"RENO    NV","NV",508,5674,"Reno","NV","NVRENO.txt"]
[null,"897","\"Nevada\"","NV","\"Carson City\"",13,"Carson City",null,"RENO    NV","NV",508,5674,"Reno","NV","NVRENO.txt"]
[null,"898","\"Nevada\"","NV","\"Elko\"",6,"Elko",null,"ELKO    NV","NV",457,7077,"Reno","NV","NVRENO.txt"]
[null,"900","\"California\"","CA","\"Los Angeles\"",13,"Los Angeles",null,"LOS ANGELES AP    CA","CA",727,1458,"Los Angeles","CA","CALOSANG.txt"]
[null,"901","\"California\"","CA","\"Los Angeles\"",13,"Los Angeles",null,"LOS ANGELES AP    CA","CA",727,1458,"Los Angeles","CA","CALOSANG.txt"]
[null,"902","\"California\"","CA","\"Los Angeles\"",13,"Los Angeles",null,"LOS ANGELES AP    CA","CA",727,1458,"Los Angeles","CA","CALOSANG.txt"]
[null,"903","\"California\"","CA","\"Inglewood\"",11,"Inglewood",null,"LOS ANGELES AP    CA","CA",727,1458,"Los Angeles","CA","CALOSANG.txt"]
[null,"904","\"California\"","CA","\"Santa Monica\"",14,"Santa Monica",null,"LOS ANGELES AP    CA","CA",727,1458,"Los Angeles","CA","CALOSANG.txt"]
[null,"905","\"California\"","CA","\"Torrance\"",10,"Torrance",null,"LONG BEACH    CA","CA",1201,1430,"Los Angeles","CA","CALOSANG.txt"]
[null,"906","\"California\"","CA","\"Whittier\"",10,"Whittier",null,"LONG BEACH    CA","CA",1201,1430,"Los Angeles","CA","CALOSANG.txt"]
[null,"907","\"California\"","CA","\"San Pedro\"",11,"San Pedro",null,"LONG BEACH    CA","CA",1201,1430,"Los Angeles","CA","CALOSANG.txt"]
[null,"908","\"California\"","CA","\"Long Beach\"",12,"Long Beach",null,"LONG BEACH    CA","CA",1201,1430,"Los Angeles","CA","CALOSANG.txt"]
[null,"910","\"California\"","CA","\"Pasadena\"",10,"Pasadena",null,"LOS ANGELES C.O.    CA","CA",1537,1154,"Los Angeles","CA","CALOSANG.txt"]
[null,"911","\"California\"","CA","\"Pasadena\"",10,"Pasadena",null,"LOS ANGELES C.O.    CA","CA",1537,1154,"Los Angeles","CA","CALOSANG.txt"]
[null,"912","\"California\"","CA","\"Glendale\"",10,"Glendale",null,"LOS ANGELES C.O.    CA","CA",1537,1154,"Los Angeles","CA","CALOSANG.txt"]
[null,"913","\"California\"","CA","\"Van Nuys\"",10,"Van Nuys",null,"BAKERSFIELD    CA","CA",2365,2182,"Los Angeles","CA","CALOSANG.txt"]
[null,"914","\"California\"","CA","\"Van Nuys\"",10,"Van Nuys",null,"LOS ANGELES C.O.    CA","CA",1537,1154,"Los Angeles","CA","CALOSANG.txt"]
[null,"915","\"California\"","CA","\"Burbank\"",9,"Burbank",null,"LOS ANGELES C.O.    CA","CA",1537,1154,"Los Angeles","CA","CALOSANG.txt"]
[null,"916","\"California\"","CA","\"North Hollywood\"",17,"North Hollywood",null,"LOS ANGELES C.O.    CA","CA",1537,1154,"Los Angeles","CA","CALOSANG.txt"]
[null,"917","\"California\"","CA","\"Covina\"",8,"Covina",null,"LONG BEACH    CA","CA",1201,1430,"Los Angeles","CA","CALOSANG.txt"]
[null,"918","\"California\"","CA","\"Alhambra\"",10,"Alhambra",null,"LOS ANGELES C.O.    CA","CA",1537,1154,"Los Angeles","CA","CALOSANG.txt"]
[null,"919","\"California\"","CA","\"San Diego\"",11,"San Diego",null,"SAN DIEGO    CA","CA",984,1256,"San Diego","CA","CASANDIE.txt"]
[null,"920","\"California\"","CA","\"San Diego\"",11,"San Diego",null,"LONG BEACH    CA","CA",1201,1430,"San Diego","CA","CASANDIE.txt"]
[null,"921","\"California\"","CA","\"San Diego\"",11,"San Diego",null,"SAN DIEGO    CA","CA",984,1256,"San Diego","CA","CASANDIE.txt"]
[null,"922","\"California\"","CA","\"Palm Springs\"",14,"Palm Springs",null,"SAN DIEGO    CA","CA",984,1256,"San Diego","CA","CASANDIE.txt"]
[null,"923","\"California\"","CA","\"San Bern./Victorville/Redlands\"",32,"San Bern./Victorville/Redlands",null,"LAS VEGAS    NV","NV",3201,2407,"Las Vegas","NV","NVLASVEG.txt"]
[null,"924","\"California\"","CA","\"San Bernardino\"",16,"San Bernardino",null,"LOS ANGELES C.O.    CA","CA",1537,1154,"Los Angeles","CA","CALOSANG.txt"]
[null,"925","\"California\"","CA","\"Riverside\"",{"$f":"LEN(E842)","v":11},{"$f":"MID(E842,2,F842-2)","v":"Riverside"},null,"LOS ANGELES C.O.    CA","CA",1537,1154,"Los Angeles","CA","CALOSANG.txt"]
[null,"926","\"California\"","CA","\"Santa Ana\"",11,"Santa Ana",null,"LONG BEACH    CA","CA",1201,1430,"Los Angeles","CA","CALOSANG.txt"]
[null,"927","\"California\"","CA","\"Santa Ana\"",11,"Santa Ana",null,"LONG BEACH    CA","CA",1201,1430,"Los Angeles","CA","CALOSANG.txt"]
[null,"928","\"California\"","CA","\"Anaheim\"",9,"Anaheim",null,"LONG BEACH    CA","CA",1201,1430,"Los Angeles","CA","CALOSANG.txt"]
[null,"930","\"California\"","CA","\"Ventura/Oxnard\"",16,"Ventura/Oxnard",null,"BAKERSFIELD    CA","CA",2365,2182,"Los Angeles","CA","CALOSANG.txt"]
[null,"931","\"California\"","CA","\"Santa Barbara\"",15,"Santa Barbara",null,"SANTA BARBARA    CA","CA",289,2438,"Los Angeles","CA","CALOSANG.txt"]
[null,"932","\"California\"","CA","\"Bakersfield/Visalia\"",21,"Bakersfield/Visalia",null,"FRESNO    CA","CA",1967,2556,"Fresno","CA","CAFRESNO.txt"]
[null,"933","\"California\"","CA","\"Bakersfield\"",13,"Bakersfield",null,"BAKERSFIELD    CA","CA",2365,2182,"Fresno","CA","CAFRESNO.txt"]
[null,"934","\"California\"","CA","\"San Luis Obispo\"",17,"San Luis Obispo",null,"SANTA MARIA    CA","CA",169,2984,"Fresno","CA","CAFRESNO.txt"]
[null,"935","\"California\"","CA","\"Lancaster\"",11,"Lancaster",null,"BISHOP    CA","CA",1039,4310,"Reno","NV","NVRENO.txt"]
[null,"936","\"California\"","CA","\"Fresno\"",8,"Fresno",null,"FRESNO    CA","CA",1967,2556,"Fresno","CA","CAFRESNO.txt"]
[null,"937","\"California\"","CA","\"Fresno\"",8,"Fresno",null,"FRESNO    CA","CA",1967,2556,"Fresno","CA","CAFRESNO.txt"]
[null,"939","\"California\"","CA","\"Monterey\"",10,"Monterey",null,"SAN FRANCISCO C.O.    CA","CA",65,3005,"San Francisco","CA","CASANFRA.txt"]
[null,"940","\"California\"","CA","\"So. San Francisco\"",19,"So. San Francisco",null,"SAN FRANCISCO C.O.    CA","CA",65,3005,"San Francisco","CA","CASANFRA.txt"]
[null,"941","\"California\"","CA","\"San Francisco\"",15,"San Francisco",null,"SAN FRANCISCO C.O.    CA","CA",65,3005,"San Francisco","CA","CASANFRA.txt"]
[null,"942","\"California\"","CA","\"Sacramento/Placerville\"",24,"Sacramento/Placerville",null,"SAN FRANCISCO AP    CA","CA",145,3016,"Sacramento","CA","CASACRAM.txt"]
[null,"943","\"California\"","CA","\"Palo Alto\"",11,"Palo Alto",null,"SAN FRANCISCO AP    CA","CA",145,3016,"San Jose","CA","CASANJOS.txt"]
[null,"944","\"California\"","CA","\"San Mateo\"",11,"San Mateo",null,"SAN FRANCISCO AP    CA","CA",145,3016,"San Jose","CA","CASANJOS.txt"]
[null,"945","\"California\"","CA","\"Concord\"",9,"Concord",null,"SACRAMENTO    CA","CA",1237,2749,"Sacramento","CA","CASACRAM.txt"]
[null,"946","\"California\"","CA","\"Oakland\"",9,"Oakland",null,"SAN FRANCISCO AP    CA","CA",145,3016,"San Jose","CA","CASANJOS.txt"]
[null,"947","\"California\"","CA","\"Berkeley\"",10,"Berkeley",null,"SAN FRANCISCO AP    CA","CA",145,3016,"San Jose","CA","CASANJOS.txt"]
[null,"948","\"California\"","CA","\"Richmond\"",10,"Richmond",null,"SAN FRANCISCO AP    CA","CA",145,3016,"San Jose","CA","CASANJOS.txt"]
[null,"949","\"California\"","CA","\"San Rafael\"",12,"San Rafael",null,"SAN FRANCISCO AP    CA","CA",145,3016,"San Jose","CA","CASANJOS.txt"]
[null,"950","\"California\"","CA","\"Gilroy\"",8,"Gilroy",null,"SAN FRANCISCO AP    CA","CA",145,3016,"San Jose","CA","CASANJOS.txt"]
[null,"951","\"California\"","CA","\"San Jose\"",10,"San Jose",null,"SAN FRANCISCO AP    CA","CA",145,3016,"San Jose","CA","CASANJOS.txt"]
[null,"952","\"California\"","CA","\"Stockton\"",10,"Stockton",null,"STOCKTON    CA","CA",1470,2707,"Sacramento","CA","CASACRAM.txt"]
[null,"953","\"California\"","CA","\"Merced\"",8,"Merced",null,"SACRAMENTO    CA","CA",1237,2749,"Sacramento","CA","CASACRAM.txt"]
[null,"954","\"California\"","CA","\"Santa Rosa\"",12,"Santa Rosa",null,"SACRAMENTO    CA","CA",1237,2749,"Sacramento","CA","CASACRAM.txt"]
[null,"955","\"California\"","CA","\"Eureka\"",8,"Eureka",null,"EUREKA    CA","CA",725,4496,"Medford","OR","ORMEDFOR.txt"]
[null,"956","\"California\"","CA","\"Sacramento/Placerville\"",24,"Sacramento/Placerville",null,"SACRAMENTO    CA","CA",1237,2749,"Sacramento","CA","CASACRAM.txt"]
[null,"957","\"California\"","CA","\"Pollock Pines\"",15,"Pollock Pines",null,"RENO    NV","NV",508,5674,"Reno","NV","NVRENO.txt"]
[null,"958","\"California\"","CA","\"Sacramento\"",12,"Sacramento",null,"SACRAMENTO    CA","CA",1237,2749,"Sacramento","CA","CASACRAM.txt"]
[null,"959","\"California\"","CA","\"Marysville\"",12,"Marysville",null,"SACRAMENTO    CA","CA",1237,2749,"Sacramento","CA","CASACRAM.txt"]
[null,"960","\"California\"","CA","\"Redding\"",9,"Redding",null,"REDDING    CA","CA",1797,2855,"Sacramento","CA","CASACRAM.txt"]
[null,"961","\"California\"","CA","\"Susanville\"",12,"Susanville",null,"WINNEMUCCA    NV","NV",538,6315,"Sacramento","CA","CASACRAM.txt"]
[null,"967","\"Hawaii\"","HI","\"Honolulu\"",10,"Honolulu",null,"HILO    HI","HI",3284,0,"Honolulu","HI","HIHONOLU.txt"]
[null,"968","\"Hawaii\"","HI","\"Honolulu\"",10,"Honolulu",null,"HONOLULU    HI","HI",4474,0,"Honolulu","HI","HIHONOLU.txt"]
[null,969,"\"Guam\"","GU","\"Mangilao\"",10,"Mangilao",null,"GUAM    PC","PC",5034,0,"Honolulu","HI","HIHONOLU.txt"]
[null,"970","\"Oregon\"","OR","\"Hood River\"",12,"Hood River",null,"SALEM    OR","OR",247,4927,"Salem","OR","ORSALEM.txt"]
[null,"971","\"Oregon\"","OR","\"Portland\"",10,"Portland",null,"PORTLAND    OR","OR",371,4522,"Portland","OR","ORPORTLA.txt"]
[null,"972","\"Oregon\"","OR","\"Portland\"",10,"Portland",null,"PORTLAND    OR","OR",371,4522,"Portland","OR","ORPORTLA.txt"]
[null,"973","\"Oregon\"","OR","\"Salem\"",7,"Salem",null,"SALEM    OR","OR",247,4927,"Salem","OR","ORSALEM.txt"]
[null,"974","\"Oregon\"","OR","\"Eugene\"",8,"Eugene",null,"EUGENE    OR","OR",300,4546,"Eugene","OR","OREUGENE.txt"]
[null,"975","\"Oregon\"","OR","\"Medford\"",9,"Medford",null,"MEDFORD    OR","OR",725,4611,"Medford","OR","ORMEDFOR.txt"]
[null,"976","\"Oregon\"","OR","\"Klamath Falls\"",15,"Klamath Falls",null,"MEDFORD    OR","OR",725,4611,"Medford","OR","ORMEDFOR.txt"]
[null,"977","\"Oregon\"","OR","\"Bend\"",6,"Bend",null,"BURNS    OR","OR",202,7785,"Yakima","WA","WAYAKIMA.txt"]
[null,"978","\"Oregon\"","OR","\"Pendleton\"",11,"Pendleton",null,"PENDLETON    OR","OR",701,5294,"Yakima","WA","WAYAKIMA.txt"]
[null,"979","\"Oregon\"","OR","\"Ontario\"",9,"Ontario",null,"BOISE    ID","ID",754,5861,"Boise","ID","IDBOISE.txt"]
[null,"980","\"Washington\"","WA","\"Seattle\"",9,"Seattle",null,"SEATTLE C.O.    WA","WA",167,4611,"Seattle","WA","WASEATTL.txt"]
[null,"981","\"Washington\"","WA","\"Seattle\"",9,"Seattle",null,"SEATTLE C.O.    WA","WA",167,4611,"Seattle","WA","WASEATTL.txt"]
[null,"982","\"Washington\"","WA","\"Everett\"",9,"Everett",null,"QUILLAYUTE    WA","WA",6,5858,"Seattle","WA","WASEATTL.txt"]
[null,"983","\"Washington\"","WA","\"Tacoma\"",8,"Tacoma",null,"SEATTLE SEA-TAC AP    WA","WA",190,4908,"Seattle","WA","WASEATTL.txt"]
[null,"984","\"Washington\"","WA","\"Tacoma\"",8,"Tacoma",null,"SEATTLE SEA-TAC AP    WA","WA",190,4908,"Seattle","WA","WASEATTL.txt"]
[null,"985","\"Washington\"","WA","\"Olympia\"",9,"Olympia",null,"OLYMPIA    WA","WA",101,5655,"Seattle","WA","WASEATTL.txt"]
[null,"986","\"Washington\"","WA","\"Vancouver\"",11,"Vancouver",null,"PORTLAND    OR","OR",371,4522,"Portland","OR","ORPORTLA.txt"]
[null,"988","\"Washington\"","WA","\"Wenatchee\"",11,"Wenatchee",null,"YAKIMA    WA","WA",458,5967,"Yakima","WA","WAYAKIMA.txt"]
[null,"989","\"Washington\"","WA","\"Yakima\"",8,"Yakima",null,"YAKIMA    WA","WA",458,5967,"Yakima","WA","WAYAKIMA.txt"]
[null,"990","\"Washington\"","WA","\"Spokane\"",9,"Spokane",null,"SPOKANE    WA","WA",398,6842,"Spokane","WA","WASPOKAN.txt"]
[null,"991","\"Washington\"","WA","\"Spokane\"",9,"Spokane",null,"SPOKANE    WA","WA",398,6842,"Spokane","WA","WASPOKAN.txt"]
[null,"992","\"Washington\"","WA","\"Spokane\"",9,"Spokane",null,"SPOKANE    WA","WA",398,6842,"Spokane","WA","WASPOKAN.txt"]
[null,"993","\"Washington\"","WA","\"Richland\"",10,"Richland",null,"PENDLETON    OR","OR",701,5294,"Yakima","WA","WAYAKIMA.txt"]
[null,"994","\"Washington\"","WA","\"Clarkston\"",11,"Clarkston",null,"PENDLETON    OR","OR",701,5294,"Yakima","WA","WAYAKIMA.txt"]
[null,"995","\"Alaska\"","AK","\"Anchorage\"",11,"Anchorage",null,"ANCHORAGE    AK","AK",0,10570,"Anchorage","AK","AKANCHOR.txt"]
[null,"996","\"Alaska\"","AK","\"Anchorage\"",11,"Anchorage",null,"ANCHORAGE    AK","AK",0,10570,"Anchorage","AK","AKANCHOR.txt"]
[null,"997","\"Alaska\"","AK","\"Fairbanks\"",{"$f":"LEN(E906)","v":11},{"$f":"MID(E906,2,F906-2)","v":"Fairbanks"},null,"FAIRBANKS    AK","AK",84,13940,"Fairbanks","AK","AKFAIRBA.txt "]
[null,"998","\"Alaska\"","AK","\"Juneau\"",{"$f":"LEN(E907)","v":8},{"$f":"MID(E907,2,F907-2)","v":"Juneau"},null,"JUNEAU    AK","AK",0,8897,"Juneau","AK","AKJUNEAU.txt"]
[null,"999","\"Alaska\"","AK","\"Ketchikan\"",{"$f":"LEN(E908)","v":11},{"$f":"MID(E908,2,F908-2)","v":"Ketchikan"},null,"KING SALMON    AK","AK",0,11456,"Juneau","AK","AKJUNEAU.txt"]
[]
[]
[]
[null,"901 Unique Zip Codes",null,null,null,null,null,null,"242 Unique Climates",null,null,null,"159 IWIN - NCDC Sites"]

{"sheet":"Worksheet - Design - Baseline","index":14,"n_rows":320,"n_cols":29,"rows_kept":320,"cut":false,"hidden":true,"merged":[[55,7,55,8],[55,10,55,11],[6,3,6,6],[6,7,6,10],[53,7,53,8],[53,10,53,11],[48,5,48,8],[48,10,48,11]]}
["Multi-Family Residential Building"]
["Design Assistant Worksheet"]
[]
[]
["Design Assistant Worksheet"]
[]
[null,"Unit","Building","Expected Results",null,null,null,"Side Calculations",null,null,null,null,"='Design Assistant'!I17"]
["Residential SQFT",{"$f":"C8/N10","v":{"$error":"#N/A"}},{"$f":"N14","v":{"$error":"#N/A"}},null,"Resid ES Target Site EU",{"$f":"+(F9*'Side Calcs - Baseline'!J16/(10.3/3.412))+(F9*'Side Calcs - Baseline'!K16/1.024)+(F9*'Side Calcs - Baseline'!L16)+(F9*'Side Calcs - Baseline'!M16/1.38)+(F9*'Side Calcs - Baseline'!N16)","v":{"$error":"#N/A"}},"kBtu/year",null,"Mean LnEUSo =",{"$f":"+G39","v":11.246855500000001},"kBtu/yr",null,null,null,null,"Bdrms"]
["CDDCOOLP",{"$f":"B12*B16","v":{"$error":"#N/A"}},null,null,"Resid ES Target Source EU",{"$f":"+EXP('Worksheet - Design - Baseline'!C76)","v":{"$error":"#N/A"}},"kBtu/year",null,null,null,null,null,null,"Units","Bdrms","/Unit"]
["HDDHEATP",{"$f":"B17*B18","v":{"$error":"#N/A"}},null,null,null,null,null,null,null,null,null,null,null,{"$f":"#N/A","v":{"$error":"#N/A"}},{"$f":"#N/A","v":{"$error":"#N/A"}},{"$f":"O10/N10","v":{"$error":"#N/A"}}]
["Bedrooms/unit",{"$f":"O10/N10","v":{"$error":"#N/A"}}]
["CDD",{"$f":"+'ZipCode Map'!K5","v":{"$error":"#N/A"}},null,null,"Actual Score",{"$f":"IF(B25<'Worksheet - Design - Baseline'!C51,100,LOOKUP(B25,'Worksheet - Design - Baseline'!C51:C149,'Worksheet - Design - Baseline'!A51:A149)-1)","v":{"$error":"#N/A"}}]
[null,null,null,null,null,null,null,null,"Predicted LnEUSo =",{"$f":"$D$40+$D$41*LN(B8)+$D$42*B9+$D$43*B10+D44*B11","v":{"$error":"#N/A"}},"kBtu/yr",null,"Secondary Space","SF","Wkly Hrs","SF Un- heat- ed","SF Not Cool -ed","W/sf","Source kBtu","Source kBtu / unit","Source kBtu @ 168 hours"]
[null,null,null,null,"Bldg ES Target Site EU",{"$f":"+(F15*'Side Calcs - Baseline'!J16/(10.3/3.412))+(F15*'Side Calcs - Baseline'!K16/1.024)+(F15*'Side Calcs - Baseline'!L16)+(F15*'Side Calcs - Baseline'!M16/1.38)+(F15*'Side Calcs - Baseline'!N16)","v":{"$error":"#N/A"}},"kBtu/year",null,null,null,null,null,{"$f":"#N/A","v":{"$error":"#N/A"}},{"$f":"#N/A","v":{"$error":"#N/A"}},null,null,{"$f":"#N/A","v":{"$error":"#N/A"}},null,{"$f":"S21-S15","v":{"$error":"#N/A"}},{"$f":"S14/N10","v":{"$error":"#N/A"}}]
[null,null,null,null,"Bldg ES Target Source EU",{"$f":"F9*N10+SUM(S15:S19)","v":{"$error":"#N/A"}},"kBtu/year",null,null,null,null,null,{"$f":"#N/A","v":{"$error":"#N/A"}},{"$f":"#N/A","v":{"$error":"#N/A"}},null,null,{"$f":"#N/A","v":{"$error":"#N/A"}},null,{"$f":"0.75*S$21*N15/N$22","v":{"$error":"#N/A"}},null,"Assumed 0.75 times residental kBtu/SF."]
["COOLP",{"$f":"#N/A","v":{"$error":"#N/A"}},null,null,null,null,null,null,null,null,null,null,{"$f":"#N/A","v":{"$error":"#N/A"}},{"$f":"#N/A","v":{"$error":"#N/A"}},null,null,{"$f":"#N/A","v":{"$error":"#N/A"}},null,{"$f":"200*N16","v":{"$error":"#N/A"}},null,"Based on CBECS 99 averages (~200 kBtu/sqft)."]
["HDD",{"$f":"#N/A","v":{"$error":"#N/A"}},null,null,null,null,null,null,"Adjustment Factor =",{"$f":"+J13/J8","v":{"$error":"#N/A"}},null,null,{"$f":"#N/A","v":{"$error":"#N/A"}},{"$f":"#N/A","v":{"$error":"#N/A"}},168,"NA","NA",1.46,{"$f":"N17*O17*R17*10.3/1000","v":{"$error":"#N/A"}}]
["HEATP",{"$f":"#N/A","v":{"$error":"#N/A"}},null,null,null,null,null,null,null,null,null,null,{"$f":"#N/A","v":{"$error":"#N/A"}},{"$f":"#N/A","v":{"$error":"#N/A"}},168,"NA","NA",0.26,{"$f":"N18*O18*R18*10.3/1000","v":{"$error":"#N/A"}}]
[null,null,null,null,null,null,null,null,null,null,null,null,{"$f":"#N/A","v":{"$error":"#N/A"}},{"$f":"#N/A","v":{"$error":"#N/A"}},84,"NA","NA",0.12,{"$f":"N19*O19*R19*10.3/1000","v":{"$error":"#N/A"}},null,"Assume parking light operating hrs are 84"]
["Bldg Site Total",{"$f":"#N/A","v":{"$error":"#N/A"}},"kBtu",null,null,null,null,null,null,null,null,null,"Source Total",null,null,null,null,null,{"$f":"B22","v":{"$error":"#N/A"}}]
["Site EUI",null,null,null,null,null,null,null,null,null,null,null,"Bldg Source Total minus Commercial, Garage, Parking Lot",null,null,null,null,null,{"$f":"S20-S16-S17-S18-S19","v":{"$error":"#N/A"}}]
["Bldg Source Total",{"$f":"#N/A","v":{"$error":"#N/A"}},"kBtu",null,null,null,null,null,null,null,null,null,"Residential & common",{"$f":"SUM(N14:N15)","v":{"$error":"#N/A"}},null,null,null,null,{"$f":"SUM(S14:S15)","v":{"$error":"#N/A"}}]
["Source EUI",null,null,null,"Resid Site EU (50) =",{"$f":"+(F24*'Side Calcs - Baseline'!J16/(10.3/3.412))+(F24*'Side Calcs - Baseline'!K16/1.024)+(F24*'Side Calcs - Baseline'!L16)+(F24*'Side Calcs - Baseline'!M16/1.38)+(F24*'Side Calcs - Baseline'!N16)","v":{"$error":"#N/A"}},"kBtu/year",null,null,null,null,null,"Commercial, Garage, and Parking",null,null,null,null,null,{"$f":"SUM(S16:S19)","v":{"$error":"#N/A"}}]
["Adj Source EUI",null,null,null,"Resid Source EU (50) =",{"$f":"EXP(C101)","v":{"$error":"#N/A"}},"kBtu/year"]
["Ln Resid So kBtu",{"$f":"LN(T14)","v":{"$error":"#N/A"}},null,null,"Building Site EU (50) =",{"$f":"+(F26*'Side Calcs - Baseline'!J18/(10.3/3.412))+(F26*'Side Calcs - Baseline'!K18/1.024)+(F26*'Side Calcs - Baseline'!L18)+(F26*'Side Calcs - Baseline'!M18/1.38)+(F26*'Side Calcs - Baseline'!N18)","v":{"$error":"#N/A"}},"kBtu/year",null,null,null,null,null,null,"Per CBECS 1999, average energy use for commercial space "]
[null,null,null,null,"Building Source EU (50) =",{"$f":"F24*N10+SUM(S15:S19)","v":{"$error":"#N/A"}},"kBtu/year",null,null,null,null,null,null,"is about 200 source kBtu/sqft (office - 213, store - 182)"]
[]
["Model:",null,null,null,null,null,null,null,null,null,null,null,null,"Thus, calc commercial space EU above by sqft x 200."]
[]
["Ln Source Total = C0 + C1*LN (sqftreg) + C2*CDDcoolp + C3*hddheatp + C4*Bedrooms/unit"]
[null,null,null,null,null,null,null,null,null,null,null,null,null,"Assume common space EU is 75% of residential."]
[]
[]
[]
[]
[]
["Parameter Estimates",null,null,null,null,null,null,null,null,null,null,null,null,"(Reference:  Answers to Ques. 10 in 10/6/2004 email response "]
[null,null,null,"Parameter",null,"Variable","Mean","Minimum","Maximum",null,null,null,null,"to Stephanie Jones at CEE)"]
["Variable","DF","Parameter","Estimate",null,"LNSRCEUI",11.246855500000001,9.7327645,12.207849100000001,"N=217"]
["Intercept",1,"C0",6.4144199999999998]
["Lsqftreg",1,"C1",0.69635999999999998,null,"LSQFTREG",6.5994793999999999,5.7990927000000001,7.4024514999999997,"mean sqftreg=",null,{"$f":"EXP(G41)","v":734.71259828352083}]
["cddcoolp",1,"C2",5.3000000000000001E-5,null,"CDDCOOLP",569.07824230000006,0,5736]
["hddheatp",1,"C3",2.779E-5,null,"HDDHEATP",4484.58,0,8200]
["bedrooms",1,"C4",6.2050000000000001E-2,null,"BEDROOMS",1.3225806,0,4]
[]
[]
[]
[]
[]
["Benchmark Score","Adj Ln Source kBtu ","Customized Adj Ln Source kBtu","Gamma Fitting Not Done"]
[100,10.294499999999999,{"$f":"+(B51*$J$17)","v":{"$error":"#N/A"}}]
[99,10.511799999999999,{"$f":"+(B52*$J$17)","v":{"$error":"#N/A"}}]
[98,10.541,{"$f":"+(B53*$J$17)","v":{"$error":"#N/A"}},null,null,null,null,"E Star Design",null,"Average","Your Bldg",null,"Delta to min E Star design"]
[97,10.557,{"$f":"+(B54*$J$17)","v":{"$error":"#N/A"}},null,null,null,"Building Source Energy Use (kBtu/year)",{"$f":"F15","v":{"$error":"#N/A"}},null,{"$f":"F26","v":{"$error":"#N/A"}},{"$f":"#N/A","v":{"$error":"#N/A"}},null,{"$f":"K54-H54","v":{"$error":"#N/A"}}]
[96,10.5913,{"$error":"#N/A"}]
[95,10.615600000000001,{"$error":"#N/A"},null,null,null,"Building Source E Use Intensity  (kBtu/ft2-year)",{"$f":"#N/A","v":{"$error":"#N/A"}},null,{"$f":"#N/A","v":{"$error":"#N/A"}},{"$f":"#N/A","v":{"$error":"#N/A"}}]
[94,10.6668,{"$error":"#N/A"}]
[93,10.696400000000001,{"$error":"#N/A"}]
[92,10.710900000000001,{"$error":"#N/A"}]
[91,10.766500000000001,{"$error":"#N/A"}]
[90,10.7783,{"$error":"#N/A"}]
[89,10.807,{"$error":"#N/A"}]
[88,10.8187,{"$error":"#N/A"}]
[87,10.8301,{"$error":"#N/A"}]
[86,10.848599999999999,{"$error":"#N/A"}]
[85,10.8575,{"$error":"#N/A"}]
[84,10.861800000000001,{"$error":"#N/A"}]
[83,10.8934,{"$error":"#N/A"}]
[82,10.904400000000001,{"$error":"#N/A"}]
[81,10.9231,{"$error":"#N/A"}]
[80,10.943899999999999,{"$error":"#N/A"}]
[79,10.962400000000001,{"$error":"#N/A"}]
[78,10.972300000000001,{"$error":"#N/A"}]
[77,11.0154,{"$error":"#N/A"}]
[76,11.021599999999999,{"$error":"#N/A"}]
[75,11.0238,{"$error":"#N/A"}]
[74,11.043699999999999,{"$error":"#N/A"}]
[73,11.0555,{"$error":"#N/A"}]
[72,11.059200000000001,{"$error":"#N/A"}]
[71,11.068199999999999,{"$error":"#N/A"}]
[70,11.0939,{"$error":"#N/A"}]
[69,11.1029,{"$error":"#N/A"}]
[68,11.1143,{"$error":"#N/A"}]
[67,11.117100000000001,{"$error":"#N/A"}]
[66,11.1279,{"$error":"#N/A"}]
[65,11.139099999999999,{"$error":"#N/A"}]
[64,11.148,{"$error":"#N/A"}]
[63,11.1523,{"$error":"#N/A"}]
[62,11.155200000000001,{"$error":"#N/A"}]
[61,11.16,{"$error":"#N/A"}]
[60,11.1669,{"$error":"#N/A"}]
[59,11.175599999999999,{"$error":"#N/A"}]
[58,11.181800000000001,{"$error":"#N/A"}]
[57,11.195,{"$error":"#N/A"}]
[56,11.1976,{"$error":"#N/A"}]
[55,11.2301,{"$error":"#N/A"}]
[54,11.238099999999999,{"$error":"#N/A"}]
[53,11.261900000000001,{"$error":"#N/A"}]
[52,11.272399999999999,{"$error":"#N/A"}]
[51,11.297599999999999,{"$error":"#N/A"}]
[50,11.302,{"$error":"#N/A"}]
[49,11.3027,{"$error":"#N/A"}]
[48,11.3279,{"$error":"#N/A"}]
[47,11.332800000000001,{"$error":"#N/A"}]
[46,11.337,{"$error":"#N/A"}]
[45,11.343999999999999,{"$error":"#N/A"}]
[44,11.349600000000001,{"$error":"#N/A"}]
[43,11.3588,{"$error":"#N/A"}]
[42,11.3714,{"$error":"#N/A"}]
[41,11.379300000000001,{"$error":"#N/A"}]
[40,11.386100000000001,{"$error":"#N/A"}]
[39,11.391299999999999,{"$error":"#N/A"}]
[38,11.3954,{"$error":"#N/A"}]
[37,11.414199999999999,{"$error":"#N/A"}]
[36,11.428000000000001,{"$error":"#N/A"}]
[35,11.4427,{"$error":"#N/A"}]
[34,11.4482,{"$error":"#N/A"}]
[33,11.4499,{"$f":"+(B118*$J$17)","v":{"$error":"#N/A"}}]
[32,11.454800000000001,{"$error":"#N/A"}]
[31,11.469900000000001,{"$error":"#N/A"}]
[30,11.4771,{"$error":"#N/A"}]
[29,11.482100000000001,{"$error":"#N/A"}]
[28,11.484,{"$error":"#N/A"}]
[27,11.503399999999999,{"$error":"#N/A"}]
[26,11.504899999999999,{"$error":"#N/A"}]
[25,11.526300000000001,{"$error":"#N/A"}]
[24,11.554399999999999,{"$error":"#N/A"}]
[23,11.563599999999999,{"$error":"#N/A"}]
[22,11.565200000000001,{"$error":"#N/A"}]
[21,11.5938,{"$error":"#N/A"}]
[20,11.599399999999999,{"$error":"#N/A"}]
[19,11.609299999999999,{"$error":"#N/A"}]
[18,11.6181,{"$error":"#N/A"}]
[17,11.628500000000001,{"$error":"#N/A"}]
[16,11.629799999999999,{"$error":"#N/A"}]
[15,11.6335,{"$error":"#N/A"}]
[14,11.6473,{"$error":"#N/A"}]
[13,11.6615,{"$error":"#N/A"}]
[12,11.685700000000001,{"$error":"#N/A"}]
[11,11.6906,{"$error":"#N/A"}]
[10,11.7051,{"$error":"#N/A"}]
[9,11.721299999999999,{"$error":"#N/A"}]
[8,11.747299999999999,{"$error":"#N/A"}]
[7,11.766400000000001,{"$error":"#N/A"}]
[6,11.794700000000001,{"$error":"#N/A"}]
[5,11.801399999999999,{"$error":"#N/A"}]
[4,11.809200000000001,{"$error":"#N/A"}]
[3,11.8416,{"$error":"#N/A"}]
[2,11.857200000000001,{"$error":"#N/A"}]
[1,11.9504,{"$error":"#N/A"}]
[]
[]
[]
[]
[]
[]
[]
[]
[]
[]
[]
[]
[]
[]
[]
[]
[]
[]
[]
[]
[]
[]
[]
[]
[]
[]
[]
[]
[]
[]
[]
[]
[]
[]
[]
[]
[]
[]
[]
[]
[]
[]
[]
[]
[]
[]
[]
[]
[]
[]
[]
[]
[]
[]
[]
[]
[]
[]
[]
[]
[]
[]
[]
[null,null,null,10.1785,10.294499999999999,10.511799999999999,10.541,10.557,10.5913,10.615600000000001,10.6668,10.696400000000001,10.766500000000001,10.7783,10.807,10.8187,10.8301,10.848599999999999,10.8575,null,10.861800000000001,10.8934,10.904400000000001,10.9231,10.943899999999999,10.962400000000001,10.972300000000001,11.0154,11.021599999999999]
[null,null,null,11.0238,11.043699999999999,11.0555,11.059200000000001,11.068199999999999,11.0939,11.1029,11.1143,11.117100000000001,11.139099999999999,11.148,11.1523,11.155200000000001,11.16,11.1669,11.175599999999999,null,11.181800000000001,11.195,11.1976,11.2301,11.238099999999999,11.261900000000001,11.272399999999999,11.297599999999999,11.302]
[null,null,null,11.3027,11.3279,11.332800000000001,11.337,11.343999999999999,11.349600000000001,11.3588,11.3714,11.379300000000001,11.391299999999999,11.3954,11.414199999999999,11.428000000000001,11.4427,11.4482,11.4499,null,11.454800000000001,11.469900000000001,11.4771,11.482100000000001,11.484,11.503399999999999,11.504899999999999,11.526300000000001,11.554399999999999]
[null,null,null,11.563599999999999,11.565200000000001,11.5938,11.599399999999999,11.609299999999999,11.6181,11.628500000000001,11.629799999999999,11.6335,11.6615,11.685700000000001,11.6906,11.7051,11.721299999999999,11.747299999999999,11.766400000000001,null,11.794700000000001,11.801399999999999,11.809200000000001,11.8416,11.857200000000001,11.9504]
[]
[]
[]
[null,null,100,10.294499999999999]
[null,null,99,10.511799999999999]
[null,null,98,10.541]
[null,null,97,10.557]
[null,null,96,10.5913]
[null,null,95,10.615600000000001]
[null,null,94,10.6668]
[null,null,93,10.696400000000001]
[null,null,92,10.710900000000001]
[null,null,91,10.766500000000001]
[null,null,90,10.7783]
[null,null,89,10.807]
[null,null,88,10.8187]
[null,null,87,10.8301]
[null,null,86,10.848599999999999]
[null,null,85,10.8575]
[null,null,84,10.861800000000001]
[null,null,83,10.8934]
[null,null,82,10.904400000000001]
[null,null,81,10.9231]
[null,null,80,10.943899999999999]
[null,null,79,10.962400000000001]
[null,null,78,10.972300000000001]
[null,null,77,11.0154]
[null,null,76,11.021599999999999]
[null,null,75,11.0238]
[null,null,74,11.043699999999999]
[null,null,73,11.0555]
[null,null,72,11.059200000000001]
[null,null,71,11.068199999999999]
[null,null,70,11.0939]
[null,null,69,11.1029]
[null,null,68,11.1143]
[null,null,67,11.117100000000001]
[null,null,66,11.1279]
[null,null,65,11.139099999999999]
[null,null,64,11.148]
[null,null,63,11.1523]
[null,null,62,11.155200000000001]
[null,null,61,11.16]
[null,null,60,11.1669]
[null,null,59,11.175599999999999]
[null,null,58,11.181800000000001]
[null,null,57,11.195]
[null,null,56,11.1976]
[null,null,55,11.2301]
[null,null,54,11.238099999999999]
[null,null,53,11.261900000000001]
[null,null,52,11.272399999999999]
[null,null,51,11.297599999999999]
[null,null,50,11.302]
[null,null,49,11.3027]
[null,null,48,11.3279]
[null,null,47,11.332800000000001]
[null,null,46,11.337]
[null,null,45,11.343999999999999]
[null,null,44,11.349600000000001]
[null,null,43,11.3588]
[null,null,42,11.3714]
[null,null,41,11.379300000000001]
[null,null,40,11.386100000000001]
[null,null,39,11.391299999999999]
[null,null,38,11.3954]
[null,null,37,11.414199999999999]
[null,null,36,11.428000000000001]
[null,null,35,11.4427]
[null,null,34,11.4482]
[null,null,33,11.4499]
[null,null,32,11.454800000000001]
[null,null,31,11.469900000000001]
[null,null,30,11.4771]
[null,null,29,11.482100000000001]
[null,null,28,11.484]
[null,null,27,11.503399999999999]
[null,null,26,11.504899999999999]
[null,null,25,11.526300000000001]
[null,null,24,11.554399999999999]
[null,null,23,11.563599999999999]
[null,null,22,11.565200000000001]
[null,null,21,11.5938]
[null,null,20,11.599399999999999]
[null,null,19,11.609299999999999]
[null,null,18,11.6181]
[null,null,17,11.628500000000001]
[null,null,16,11.629799999999999]
[null,null,15,11.6335]
[null,null,14,11.6473]
[null,null,13,11.6615]
[null,null,12,11.685700000000001]
[null,null,11,11.6906]
[null,null,10,11.7051]
[null,null,9,11.721299999999999]
[null,null,8,11.747299999999999]
[null,null,7,11.766400000000001]
[null,null,6,11.794700000000001]
[null,null,5,11.801399999999999]
[null,null,4,11.809200000000001]
[null,null,3,11.8416]
[null,null,2,11.857200000000001]
[null,null,1,11.9504]

{"sheet":"Worksheet - Design - Proposed","index":15,"n_rows":320,"n_cols":29,"rows_kept":320,"cut":false,"hidden":true,"merged":[[55,7,55,8],[55,10,55,11],[6,3,6,6],[6,7,6,10],[53,7,53,8],[53,10,53,11],[48,5,48,8],[48,10,48,11]]}
["Multi-Family Residential Building"]
["Design Assistant Worksheet"]
[]
[]
["Design Assistant Worksheet"]
[]
[null,"Unit","Building","Expected Results",null,null,null,"Side Calculations"]
["Residential SQFT",{"$f":"C8/N10","v":{"$error":"#N/A"}},{"$f":"N14","v":{"$error":"#N/A"}},null,"Resid ES Target Site EU",{"$f":"+(F9*'Side Calcs - Proposed'!J16/(10.3/3.412))+(F9*'Side Calcs - Proposed'!K16/1.024)+(F9*'Side Calcs - Proposed'!L16)+(F9*'Side Calcs - Proposed'!M16/1.38)+(F9*'Side Calcs - Proposed'!N16)","v":{"$error":"#N/A"}},"kBtu/year",null,"Mean LnEUSo =",{"$f":"+G39","v":11.246855500000001},"kBtu/yr",null,null,null,null,"Bdrms"]
["CDDCOOLP",{"$f":"B12*B16","v":{"$error":"#N/A"}},null,null,"Resid ES Target Source EU",{"$f":"+EXP('Worksheet - Design - Proposed'!C76)","v":{"$error":"#N/A"}},"kBtu/year",null,null,null,null,null,null,"Units","Bdrms","/Unit"]
["HDDHEATP",{"$f":"B17*B18","v":{"$error":"#N/A"}},null,null,null,null,null,null,null,null,null,null,null,{"$f":"#N/A","v":{"$error":"#N/A"}},{"$f":"#N/A","v":{"$error":"#N/A"}},{"$f":"O10/N10","v":{"$error":"#N/A"}}]
["Bedrooms/unit",{"$f":"O10/N10","v":{"$error":"#N/A"}}]
["CDD",{"$f":"'ZipCode Map'!K5","v":{"$error":"#N/A"}},null,null,"Actual Score",{"$f":"IF(B25<'Worksheet - Design - Proposed'!C51,100,LOOKUP(B25,'Worksheet - Design - Proposed'!C51:C149,'Worksheet - Design - Proposed'!A51:A149)-1)","v":{"$error":"#N/A"}}]
[null,null,null,null,null,null,null,null,"Predicted LnEUSo =",{"$f":"$D$40+$D$41*LN(B8)+$D$42*B9+$D$43*B10+D44*B11","v":{"$error":"#N/A"}},"kBtu/yr",null,"Secondary Space","SF","Wkly Hrs","SF Un- heat- ed","SF Not Cool -ed","W/sf","Source kBtu","Source kBtu / unit","Source kBtu @ 168 hours"]
[null,null,null,null,"Bldg ES Target Site EU",{"$f":"+(F15*'Side Calcs - Proposed'!J16/(10.3/3.412))+(F15*'Side Calcs - Proposed'!K16/1.024)+(F15*'Side Calcs - Proposed'!L16)+(F15*'Side Calcs - Proposed'!M16/1.38)+(F15*'Side Calcs - Proposed'!N16)","v":{"$error":"#N/A"}},"kBtu/year",null,null,null,null,null,{"$f":"#N/A","v":{"$error":"#N/A"}},{"$f":"#N/A","v":{"$error":"#N/A"}},null,null,{"$f":"#N/A","v":{"$error":"#N/A"}},null,{"$f":"S21-S15","v":{"$error":"#N/A"}},{"$f":"S14/N10","v":{"$error":"#N/A"}}]
[null,null,null,null,"Bldg ES Target Source EU",{"$f":"F9*N10+SUM(S15:S19)","v":{"$error":"#N/A"}},"kBtu/year",null,null,null,null,null,{"$f":"#N/A","v":{"$error":"#N/A"}},{"$f":"#N/A","v":{"$error":"#N/A"}},null,null,{"$f":"#N/A","v":{"$error":"#N/A"}},null,{"$f":"0.75*S$21*N15/N$22","v":{"$error":"#N/A"}},null,"Assumed 0.75 times residental kBtu/SF."]
["COOLP",{"$f":"#N/A","v":{"$error":"#N/A"}},null,null,null,null,null,null,null,null,null,null,{"$f":"#N/A","v":{"$error":"#N/A"}},{"$f":"#N/A","v":{"$error":"#N/A"}},null,null,{"$f":"#N/A","v":{"$error":"#N/A"}},null,{"$f":"200*N16","v":{"$error":"#N/A"}},null,"Based on CBECS 99 averages (~200 kBtu/sqft)."]
["HDD",{"$f":"#N/A","v":{"$error":"#N/A"}},null,null,null,null,null,null,"Adjustment Factor =",{"$f":"+J13/J8","v":{"$error":"#N/A"}},null,null,{"$f":"#N/A","v":{"$error":"#N/A"}},{"$f":"#N/A","v":{"$error":"#N/A"}},168,"NA","NA",1.46,{"$f":"N17*O17*R17*10.3/1000","v":{"$error":"#N/A"}}]
["HEATP",{"$f":"#N/A","v":{"$error":"#N/A"}},null,null,null,null,null,null,null,null,null,null,{"$f":"#N/A","v":{"$error":"#N/A"}},{"$f":"#N/A","v":{"$error":"#N/A"}},168,"NA","NA",0.26,{"$f":"N18*O18*R18*10.3/1000","v":{"$error":"#N/A"}}]
[null,null,null,null,null,null,null,null,null,null,null,null,{"$f":"#N/A","v":{"$error":"#N/A"}},{"$f":"#N/A","v":{"$error":"#N/A"}},84,"NA","NA",0.12,{"$f":"N19*O19*R19*10.3/1000","v":{"$error":"#N/A"}},null,"Assume parking light operating hrs are 84"]
["Bldg Site Total",{"$f":"#N/A","v":{"$error":"#N/A"}},"kBtu",null,null,null,null,null,null,null,null,null,"Source Total",null,null,null,null,null,{"$f":"B22","v":{"$error":"#N/A"}}]
["Site EUI",null,null,null,null,null,null,null,null,null,null,null,"Bldg Source Total minus Commercial, Garage, Parking Lot",null,null,null,null,null,{"$f":"S20-S16-S17-S18-S19","v":{"$error":"#N/A"}}]
["Bldg Source Total",{"$f":"#N/A","v":{"$error":"#N/A"}},"kBtu",null,null,null,null,null,null,null,null,null,"Residential & common",{"$f":"SUM(N14:N15)","v":{"$error":"#N/A"}},null,null,null,null,{"$f":"SUM(S14:S15)","v":{"$error":"#N/A"}}]
["Source EUI",null,null,null,"Resid Site EU (50) =",{"$f":"+(F24*'Side Calcs - Proposed'!J16/(10.3/3.412))+(F24*'Side Calcs - Proposed'!K16/1.024)+(F24*'Side Calcs - Proposed'!L16)+(F24*'Side Calcs - Proposed'!M16/1.38)+(F24*'Side Calcs - Proposed'!N16)","v":{"$error":"#N/A"}},"kBtu/year",null,null,null,null,null,"Commercial, Garage, and Parking",null,null,null,null,null,{"$f":"SUM(S16:S19)","v":{"$error":"#N/A"}}]
["Adj Source EUI",null,null,null,"Resid Source EU (50) =",{"$f":"EXP(C101)","v":{"$error":"#N/A"}},"kBtu/year"]
["Ln Resid So kBtu",{"$f":"LN(T14)","v":{"$error":"#N/A"}},null,null,"Building Site EU (50) =",{"$f":"+(F26*'Side Calcs - Proposed'!J18/(10.3/3.412))+(F26*'Side Calcs - Proposed'!K18/1.024)+(F26*'Side Calcs - Proposed'!L18)+(F26*'Side Calcs - Proposed'!M18/1.38)+(F26*'Side Calcs - Proposed'!N18)","v":{"$error":"#N/A"}},"kBtu/year",null,null,null,null,null,null,"Per CBECS 1999, average energy use for commercial space "]
[null,null,null,null,"Building Source EU (50) =",{"$f":"F24*N10+SUM(S15:S19)","v":{"$error":"#N/A"}},"kBtu/year",null,null,null,null,null,null,"is about 200 source kBtu/sqft (office - 213, store - 182)"]
[]
["Model:",null,null,null,null,null,null,null,null,null,null,null,null,"Thus, calc commercial space EU above by sqft x 200."]
[]
["Ln Source Total = C0 + C1*LN (sqftreg) + C2*CDDcoolp + C3*hddheatp + C4*Bedrooms/unit"]
[null,null,null,null,null,null,null,null,null,null,null,null,null,"Assume common space EU is 75% of residential."]
[]
[]
[]
[]
[]
["Parameter Estimates",null,null,null,null,null,null,null,null,null,null,null,null,"(Reference:  Answers to Ques. 10 in 10/6/2004 email response "]
[null,null,null,"Parameter",null,"Variable","Mean","Minimum","Maximum",null,null,null,null,"to Stephanie Jones at CEE)"]
["Variable","DF","Parameter","Estimate",null,"LNSRCEUI",11.246855500000001,9.7327645,12.207849100000001,"N=217"]
["Intercept",1,"C0",6.4144199999999998]
["Lsqftreg",1,"C1",0.69635999999999998,null,"LSQFTREG",6.5994793999999999,5.7990927000000001,7.4024514999999997,"mean sqftreg=",null,{"$f":"EXP(G41)","v":734.71259828352083}]
["cddcoolp",1,"C2",5.3000000000000001E-5,null,"CDDCOOLP",569.07824230000006,0,5736]
["hddheatp",1,"C3",2.779E-5,null,"HDDHEATP",4484.58,0,8200]
["bedrooms",1,"C4",6.2050000000000001E-2,null,"BEDROOMS",1.3225806,0,4]
[]
[]
[]
[]
[]
["Benchmark Score","Adj Ln Source kBtu ","Customized Adj Ln Source kBtu","Gamma Fitting Not Done"]
[100,10.294499999999999,{"$f":"+(B51*$J$17)","v":{"$error":"#N/A"}}]
[99,10.511799999999999,{"$f":"+(B52*$J$17)","v":{"$error":"#N/A"}}]
[98,10.541,{"$f":"+(B53*$J$17)","v":{"$error":"#N/A"}},null,null,null,null,"E Star Design",null,"Average","Your Bldg",null,"Delta to min E Star design"]
[97,10.557,{"$f":"+(B54*$J$17)","v":{"$error":"#N/A"}},null,null,null,"Building Source Energy Use (kBtu/year)",{"$f":"F15","v":{"$error":"#N/A"}},null,{"$f":"F26","v":{"$error":"#N/A"}},{"$f":"#N/A","v":{"$error":"#N/A"}},null,{"$f":"K54-H54","v":{"$error":"#N/A"}}]
[96,10.5913,{"$error":"#N/A"}]
[95,10.615600000000001,{"$error":"#N/A"},null,null,null,"Building Source E Use Intensity  (kBtu/ft2-year)",{"$f":"#N/A","v":{"$error":"#N/A"}},null,{"$f":"#N/A","v":{"$error":"#N/A"}},{"$f":"#N/A","v":{"$error":"#N/A"}}]
[94,10.6668,{"$error":"#N/A"}]
[93,10.696400000000001,{"$error":"#N/A"}]
[92,10.710900000000001,{"$error":"#N/A"}]
[91,10.766500000000001,{"$error":"#N/A"}]
[90,10.7783,{"$error":"#N/A"}]
[89,10.807,{"$error":"#N/A"}]
[88,10.8187,{"$error":"#N/A"}]
[87,10.8301,{"$error":"#N/A"}]
[86,10.848599999999999,{"$error":"#N/A"}]
[85,10.8575,{"$error":"#N/A"}]
[84,10.861800000000001,{"$error":"#N/A"}]
[83,10.8934,{"$error":"#N/A"}]
[82,10.904400000000001,{"$error":"#N/A"}]
[81,10.9231,{"$error":"#N/A"}]
[80,10.943899999999999,{"$error":"#N/A"}]
[79,10.962400000000001,{"$error":"#N/A"}]
[78,10.972300000000001,{"$error":"#N/A"}]
[77,11.0154,{"$error":"#N/A"}]
[76,11.021599999999999,{"$error":"#N/A"}]
[75,11.0238,{"$error":"#N/A"}]
[74,11.043699999999999,{"$error":"#N/A"}]
[73,11.0555,{"$error":"#N/A"}]
[72,11.059200000000001,{"$error":"#N/A"}]
[71,11.068199999999999,{"$error":"#N/A"}]
[70,11.0939,{"$error":"#N/A"}]
[69,11.1029,{"$error":"#N/A"}]
[68,11.1143,{"$error":"#N/A"}]
[67,11.117100000000001,{"$error":"#N/A"}]
[66,11.1279,{"$error":"#N/A"}]
[65,11.139099999999999,{"$error":"#N/A"}]
[64,11.148,{"$error":"#N/A"}]
[63,11.1523,{"$error":"#N/A"}]
[62,11.155200000000001,{"$error":"#N/A"}]
[61,11.16,{"$error":"#N/A"}]
[60,11.1669,{"$error":"#N/A"}]
[59,11.175599999999999,{"$error":"#N/A"}]
[58,11.181800000000001,{"$error":"#N/A"}]
[57,11.195,{"$error":"#N/A"}]
[56,11.1976,{"$error":"#N/A"}]
[55,11.2301,{"$error":"#N/A"}]
[54,11.238099999999999,{"$error":"#N/A"}]
[53,11.261900000000001,{"$error":"#N/A"}]
[52,11.272399999999999,{"$error":"#N/A"}]
[51,11.297599999999999,{"$error":"#N/A"}]
[50,11.302,{"$error":"#N/A"}]
[49,11.3027,{"$error":"#N/A"}]
[48,11.3279,{"$error":"#N/A"}]
[47,11.332800000000001,{"$error":"#N/A"}]
[46,11.337,{"$error":"#N/A"}]
[45,11.343999999999999,{"$error":"#N/A"}]
[44,11.349600000000001,{"$error":"#N/A"}]
[43,11.3588,{"$error":"#N/A"}]
[42,11.3714,{"$error":"#N/A"}]
[41,11.379300000000001,{"$error":"#N/A"}]
[40,11.386100000000001,{"$error":"#N/A"}]
[39,11.391299999999999,{"$error":"#N/A"}]
[38,11.3954,{"$error":"#N/A"}]
[37,11.414199999999999,{"$error":"#N/A"}]
[36,11.428000000000001,{"$error":"#N/A"}]
[35,11.4427,{"$error":"#N/A"}]
[34,11.4482,{"$error":"#N/A"}]
[33,11.4499,{"$f":"+(B118*$J$17)","v":{"$error":"#N/A"}}]
[32,11.454800000000001,{"$error":"#N/A"}]
[31,11.469900000000001,{"$error":"#N/A"}]
[30,11.4771,{"$error":"#N/A"}]
[29,11.482100000000001,{"$error":"#N/A"}]
[28,11.484,{"$error":"#N/A"}]
[27,11.503399999999999,{"$error":"#N/A"}]
[26,11.504899999999999,{"$error":"#N/A"}]
[25,11.526300000000001,{"$error":"#N/A"}]
[24,11.554399999999999,{"$error":"#N/A"}]
[23,11.563599999999999,{"$error":"#N/A"}]
[22,11.565200000000001,{"$error":"#N/A"}]
[21,11.5938,{"$error":"#N/A"}]
[20,11.599399999999999,{"$error":"#N/A"}]
[19,11.609299999999999,{"$error":"#N/A"}]
[18,11.6181,{"$error":"#N/A"}]
[17,11.628500000000001,{"$error":"#N/A"}]
[16,11.629799999999999,{"$error":"#N/A"}]
[15,11.6335,{"$error":"#N/A"}]
[14,11.6473,{"$error":"#N/A"}]
[13,11.6615,{"$error":"#N/A"}]
[12,11.685700000000001,{"$error":"#N/A"}]
[11,11.6906,{"$error":"#N/A"}]
[10,11.7051,{"$error":"#N/A"}]
[9,11.721299999999999,{"$error":"#N/A"}]
[8,11.747299999999999,{"$error":"#N/A"}]
[7,11.766400000000001,{"$error":"#N/A"}]
[6,11.794700000000001,{"$error":"#N/A"}]
[5,11.801399999999999,{"$error":"#N/A"}]
[4,11.809200000000001,{"$error":"#N/A"}]
[3,11.8416,{"$error":"#N/A"}]
[2,11.857200000000001,{"$error":"#N/A"}]
[1,11.9504,{"$error":"#N/A"}]
[]
[]
[]
[]
[]
[]
[]
[]
[]
[]
[]
[]
[]
[]
[]
[]
[]
[]
[]
[]
[]
[]
[]
[]
[]
[]
[]
[]
[]
[]
[]
[]
[]
[]
[]
[]
[]
[]
[]
[]
[]
[]
[]
[]
[]
[]
[]
[]
[]
[]
[]
[]
[]
[]
[]
[]
[]
[]
[]
[]
[]
[]
[]
[null,null,null,10.1785,10.294499999999999,10.511799999999999,10.541,10.557,10.5913,10.615600000000001,10.6668,10.696400000000001,10.766500000000001,10.7783,10.807,10.8187,10.8301,10.848599999999999,10.8575,null,10.861800000000001,10.8934,10.904400000000001,10.9231,10.943899999999999,10.962400000000001,10.972300000000001,11.0154,11.021599999999999]
[null,null,null,11.0238,11.043699999999999,11.0555,11.059200000000001,11.068199999999999,11.0939,11.1029,11.1143,11.117100000000001,11.139099999999999,11.148,11.1523,11.155200000000001,11.16,11.1669,11.175599999999999,null,11.181800000000001,11.195,11.1976,11.2301,11.238099999999999,11.261900000000001,11.272399999999999,11.297599999999999,11.302]
[null,null,null,11.3027,11.3279,11.332800000000001,11.337,11.343999999999999,11.349600000000001,11.3588,11.3714,11.379300000000001,11.391299999999999,11.3954,11.414199999999999,11.428000000000001,11.4427,11.4482,11.4499,null,11.454800000000001,11.469900000000001,11.4771,11.482100000000001,11.484,11.503399999999999,11.504899999999999,11.526300000000001,11.554399999999999]
[null,null,null,11.563599999999999,11.565200000000001,11.5938,11.599399999999999,11.609299999999999,11.6181,11.628500000000001,11.629799999999999,11.6335,11.6615,11.685700000000001,11.6906,11.7051,11.721299999999999,11.747299999999999,11.766400000000001,null,11.794700000000001,11.801399999999999,11.809200000000001,11.8416,11.857200000000001,11.9504]
[]
[]
[]
[null,null,100,10.294499999999999]
[null,null,99,10.511799999999999]
[null,null,98,10.541]
[null,null,97,10.557]
[null,null,96,10.5913]
[null,null,95,10.615600000000001]
[null,null,94,10.6668]
[null,null,93,10.696400000000001]
[null,null,92,10.710900000000001]
[null,null,91,10.766500000000001]
[null,null,90,10.7783]
[null,null,89,10.807]
[null,null,88,10.8187]
[null,null,87,10.8301]
[null,null,86,10.848599999999999]
[null,null,85,10.8575]
[null,null,84,10.861800000000001]
[null,null,83,10.8934]
[null,null,82,10.904400000000001]
[null,null,81,10.9231]
[null,null,80,10.943899999999999]
[null,null,79,10.962400000000001]
[null,null,78,10.972300000000001]
[null,null,77,11.0154]
[null,null,76,11.021599999999999]
[null,null,75,11.0238]
[null,null,74,11.043699999999999]
[null,null,73,11.0555]
[null,null,72,11.059200000000001]
[null,null,71,11.068199999999999]
[null,null,70,11.0939]
[null,null,69,11.1029]
[null,null,68,11.1143]
[null,null,67,11.117100000000001]
[null,null,66,11.1279]
[null,null,65,11.139099999999999]
[null,null,64,11.148]
[null,null,63,11.1523]
[null,null,62,11.155200000000001]
[null,null,61,11.16]
[null,null,60,11.1669]
[null,null,59,11.175599999999999]
[null,null,58,11.181800000000001]
[null,null,57,11.195]
[null,null,56,11.1976]
[null,null,55,11.2301]
[null,null,54,11.238099999999999]
[null,null,53,11.261900000000001]
[null,null,52,11.272399999999999]
[null,null,51,11.297599999999999]
[null,null,50,11.302]
[null,null,49,11.3027]
[null,null,48,11.3279]
[null,null,47,11.332800000000001]
[null,null,46,11.337]
[null,null,45,11.343999999999999]
[null,null,44,11.349600000000001]
[null,null,43,11.3588]
[null,null,42,11.3714]
[null,null,41,11.379300000000001]
[null,null,40,11.386100000000001]
[null,null,39,11.391299999999999]
[null,null,38,11.3954]
[null,null,37,11.414199999999999]
[null,null,36,11.428000000000001]
[null,null,35,11.4427]
[null,null,34,11.4482]
[null,null,33,11.4499]
[null,null,32,11.454800000000001]
[null,null,31,11.469900000000001]
[null,null,30,11.4771]
[null,null,29,11.482100000000001]
[null,null,28,11.484]
[null,null,27,11.503399999999999]
[null,null,26,11.504899999999999]
[null,null,25,11.526300000000001]
[null,null,24,11.554399999999999]
[null,null,23,11.563599999999999]
[null,null,22,11.565200000000001]
[null,null,21,11.5938]
[null,null,20,11.599399999999999]
[null,null,19,11.609299999999999]
[null,null,18,11.6181]
[null,null,17,11.628500000000001]
[null,null,16,11.629799999999999]
[null,null,15,11.6335]
[null,null,14,11.6473]
[null,null,13,11.6615]
[null,null,12,11.685700000000001]
[null,null,11,11.6906]
[null,null,10,11.7051]
[null,null,9,11.721299999999999]
[null,null,8,11.747299999999999]
[null,null,7,11.766400000000001]
[null,null,6,11.794700000000001]
[null,null,5,11.801399999999999]
[null,null,4,11.809200000000001]
[null,null,3,11.8416]
[null,null,2,11.857200000000001]
[null,null,1,11.9504]

{"sheet":"Side Calcs - Proposed","index":16,"n_rows":18,"n_cols":37,"rows_kept":18,"cut":false,"hidden":true,"merged":[[1,35,1,38],[1,19,1,22],[1,23,1,26],[1,27,1,30],[1,1,1,3],[1,15,1,18],[1,7,1,10],[1,11,1,14],[1,4,1,6],[1,31,1,34]]}
[]
[null,null,null,null,null,null,null,"Elec. Units",null,null,null,"Gas Units",null,null,null,"Oil Units",null,null,null,"Steam Units",null,null,null,"Chilled Water Units",null,null,null,"Cooking",null,null,null,"Cooling",null,null,null,"Months in Use"]
[null,null,null,null,null,null,null,null,null,"Source","Site",null,null,"Source","Site",null,null,"Source","Site",null,null,"Source","Site",null,null,"Source","Site",null,null,"Value",null,null,"Value",null,null,null,"Value"]
[null,null,null,null,null,null,null,2,{"$f":"INDIRECT(ADDRESS($H$4+H5,COLUMN(I$2)))","v":"kBTU"},{"$f":"INDIRECT(ADDRESS($H$4+H5,COLUMN(J$2)))","v":3.0187573270808912},{"$f":"INDIRECT(ADDRESS($H$4+H5,COLUMN(K$2)))","v":1},2,{"$f":"INDIRECT(ADDRESS($L$4+L5,COLUMN(M$2)))","v":"kBTU"},{"$f":"INDIRECT(ADDRESS($L$4+L5,COLUMN(N$2)))","v":1.024},{"$f":"INDIRECT(ADDRESS($L$4+L5,COLUMN(O$2)))","v":1},1,{"$f":"INDIRECT(ADDRESS($P$4+P5,COLUMN(Q$2)))","v":"Gal"},{"$f":"INDIRECT(ADDRESS($P$4+P5,COLUMN(R$2)))","v":138.6},{"$f":"INDIRECT(ADDRESS($P$4+P5,COLUMN(S$2)))","v":138.6},2,{"$f":"INDIRECT(ADDRESS($T$4+T5,COLUMN(U$2)))","v":"kBTU"},{"$f":"INDIRECT(ADDRESS($T$4+T5,COLUMN(V$2)))","v":1.38},{"$f":"INDIRECT(ADDRESS($T$4+T5,COLUMN(W$2)))","v":1},1,{"$f":"INDIRECT(ADDRESS($X$4+X5,COLUMN(Y$2)))","v":"Ton-Hrs"},{"$f":"INDIRECT(ADDRESS($X$4+X5,COLUMN(Z$2)))","v":12000},{"$f":"INDIRECT(ADDRESS($X$4+X5,COLUMN(AA$2)))","v":12000},1,{"$f":"INDIRECT(ADDRESS($AB$4+AB5,COLUMN(AC$2)))","v":"Yes"},{"$f":"INDIRECT(ADDRESS($AB$4+AB5,COLUMN(AD$2)))","v":1},null,1,{"$f":"INDIRECT(ADDRESS($AF$4+AF5,COLUMN(AG$2)))","v":0},null,null,2,{"$f":"INDIRECT(ADDRESS($AJ$4+AJ5,COLUMN(AK$2)))","v":10}]
[null,null,null,null,null,null,null,5,null,null,null,5,null,null,null,5,null,null,null,5,null,null,null,5,null,null,null,5,null,null,null,5,null,null,null,5]
[null,null,null,null,null,null,null,null,"kWh",10.3,3.4119999999999999,null,"Therms",{"$f":"100*1.024","v":102.4},100,null,"Gal",138.6,138.6,null,"MLbs",{"$f":"10.78*1.38","v":14.876399999999999},10.78,null,"Ton-Hrs",12000,12000,null,"Yes",1,null,null,0,null,null,null,9]
[null,null,null,null,null,null,null,null,"kBTU",{"$f":"+J6/K6","v":3.0187573270808912},1,null,"kBTU",1.024,1,null,"kBTU",1,1,null,"kBTU",1.38,1,null,"kBTU",1,1,null,"No",0,null,null,10,null,null,null,10]
[null,null,null,null,null,null,null,null,null,null,null,null,null,null,null,null,null,null,null,null,null,null,null,null,null,null,null,null,null,null,null,null,20,null,null,null,11]
[null,null,"Old Below Ground EUI =",131.4,"kBtu/ft2-yr",null,null,null,null,null,null,null,null,null,null,null,null,null,null,null,null,null,null,null,null,null,null,null,null,null,null,null,30,null,null,null,12]
[null,null,"New Below Ground EUI =",76.3,"kBtu/ft2-yr",null,null,null,null,null,null,null,null,null,null,null,null,null,null,null,null,null,null,null,null,null,null,null,null,null,null,null,40]
[null,null,null,null,null,null,null,null,null,null,null,null,null,null,null,null,null,null,null,null,null,null,null,null,null,null,null,null,null,null,null,null,50]
[null,null,null,null,null,null,null,null,null,"Electricity","Gas","Oil","Steam","Chilled Water","Total",null,null,null,null,null,null,null,null,null,null,null,null,null,null,null,null,null,60]
[null,null,null,null,null,null,null,null,null,"kBtu","kBtu","kBtu","kBtu","kBtu","kBtu",null,null,null,null,null,null,null,null,null,null,null,null,null,null,null,null,null,70]
[null,null,null,null,null,null,null,null,"Source",{"$f":"#N/A","v":{"$error":"#N/A"}},{"$f":"#N/A","v":{"$error":"#N/A"}},{"$f":"#N/A","v":{"$error":"#N/A"}},{"$f":"#N/A","v":{"$error":"#N/A"}},{"$f":"#N/A","v":{"$error":"#N/A"}},{"$f":"SUM(J14:N14)","v":{"$error":"#N/A"}},null,null,null,null,null,null,null,null,null,null,null,null,null,null,null,null,null,80]
[null,null,null,null,null,null,null,null,"Site",{"$f":"#N/A","v":{"$error":"#N/A"}},{"$f":"#N/A","v":{"$error":"#N/A"}},{"$f":"#N/A","v":{"$error":"#N/A"}},{"$f":"#N/A","v":{"$error":"#N/A"}},{"$f":"#N/A","v":{"$error":"#N/A"}},{"$f":"SUM(J15:N15)","v":{"$error":"#N/A"}},null,null,null,null,null,null,null,null,null,null,null,null,null,null,null,null,null,90]
[null,null,null,null,null,null,null,null,"%Source",{"$f":"+J14/$O$14","v":{"$error":"#N/A"}},{"$f":"+K14/$O$14","v":{"$error":"#N/A"}},{"$f":"+L14/$O$14","v":{"$error":"#N/A"}},{"$f":"+M14/$O$14","v":{"$error":"#N/A"}},{"$f":"+N14/$O$14","v":{"$error":"#N/A"}},null,null,null,null,null,null,null,null,null,null,null,null,null,null,null,null,null,null,100]
[]
[null,null,null,null,null,null,null,null,"%Site",{"$f":"+J15/(J15+K15)","v":{"$error":"#N/A"}},{"$f":"+K15/(J15+K15)","v":{"$error":"#N/A"}}]

{"sheet":"10-Financing Plan","index":17,"n_rows":22,"n_cols":4,"rows_kept":22,"cut":false,"hidden":false,"merged":[[21,0,21,3],[4,0,4,4],[0,0,0,4],[1,0,1,4],[2,0,2,4],[9,1,9,2],[16,1,16,2],[7,1,7,4],[6,1,6,5]]}
["New Jersey Office of Clean Energy"]
["Pay for Performance Program"]
["ERP Tables and Incentive Calculator"]
[]
["Table 10. Financing Plan"]
["Instructions"]
["1)","Enter source, amount, and date committed or requested for all funding. Refer to Section 3.6 of the Program Guidelines v3.2 for additional instructions. This table should include total project costs."]
["2)","Total Costs must equal Total Funding."]
[]
[null,"FUNDING",null,"Committed or Requested"]
[null,"Anticipated NJOCE Incentives",{"$f":"SUM('2-Incentives'!C11:C13)","v":0}]
[null," <Enter source>",0]
[null," <Enter source>",0]
[null," <Enter source>",0]
[null," <Enter source>",0]
[null,"TOTAL FUNDING",{"$f":"ROUND(SUM(C11:C15),0)","v":0},{"$f":"IFERROR(IF(C16=C20,\"\",\"<------- Total Funding must equal Total Costs.  Please revise funding data.\"),\"\")","v":""}]
[null,"COSTS"]
[null,"Total Project Construction Costs at Closing",0]
[null,"P4P Partner Fees",{"$f":"SUM('8-Cost by Measure'!Q37:Q39)","v":0}]
[null,"TOTAL COSTS",{"$f":"ROUND(SUM(C18:C19),0)","v":0}]
[]
["Note: If the project is pursuing any other Federal or State incentives, including any from the NJ investor-owner utilities, they must be included in this table."]

{"sheet":"11-Schedule","index":18,"n_rows":16,"n_cols":4,"rows_kept":16,"cut":false,"hidden":false,"merged":[[8,1,8,5],[4,0,4,4],[0,0,0,4],[1,0,1,4],[2,0,2,4],[6,1,6,5],[7,1,7,5]]}
["New Jersey Office of Clean Energy"]
["Pay for Performance Program"]
["ERP Tables and Incentive Calculator"]
[]
["Table 11. Construction Schedule"]
["Instructions"]
["1)","Use this table for planned and actual dates of key construction milestones. Refer to Section 3.7 of Program Guidelines v3.2 for additional instructions.     \n"]
[null," - When submitting the Proposed ERP, include planned dates for each item as well as\n     actual dates for milestones that have already occurred.  "]
[null," - When submitting the As-Built ERP, actual dates for all milestones must be included"]
[]
[null,"Construction Milestone","Planned Date","Actual Date"]
[null,"Schematic Design Completion date"]
[null,"Design Development Completion Date"]
[null,"Construction Documents Completion Date"]
[null,"Project Bid Date"]
[null,"Construction Complete Date"]

{"sheet":"Cx Plan - Measure List","index":19,"n_rows":31,"n_cols":11,"rows_kept":31,"cut":false,"hidden":false,"merged":[[7,1,7,10],[0,0,0,10],[1,0,1,10],[2,0,2,10],[10,1,10,2],[4,0,4,10],[6,1,6,10],[10,5,10,6],[10,8,10,9],[8,1,8,10]]}
["New Jersey Office of Clean Energy"]
["Pay for Performance Program"]
["ERP Tables and Incentive Calculator"]
[]
["Comissioning Plan: List of Measures"]
["Instructions"]
["1)","This table will fill in automatically"]
["2)","You may need to add or delete rows in order to accommodate all of the measures. If you add rows, be sure to copy down formulas from cells above."]
["3) ","See Section 3.8 of Program Guidelines v3.2 for additional guidance on Commissioning and the Commissioning Plan."]
[]
[null,"Energy Efficiency Measure",null,"Manufacturer","Model","Capacity",null,"Quantity","Efficiency",null,"Proposed Cost"]
[null,1,{"$f":"'8-Cost by Measure'!C15","v":0},{"$f":"'8-Cost by Measure'!E15","v":0},{"$f":"'8-Cost by Measure'!F15","v":0},{"$f":"'8-Cost by Measure'!G15","v":0},{"$f":"'8-Cost by Measure'!H15","v":0},{"$f":"'8-Cost by Measure'!I15","v":0},{"$f":"'8-Cost by Measure'!J15","v":0},{"$f":"'8-Cost by Measure'!K15","v":0},{"$f":"'8-Cost by Measure'!L15","v":0}]
[null,2,{"$f":"'8-Cost by Measure'!C16","v":0},{"$f":"'8-Cost by Measure'!E16","v":0},{"$f":"'8-Cost by Measure'!F16","v":0},{"$f":"'8-Cost by Measure'!G16","v":0},{"$f":"'8-Cost by Measure'!H16","v":0},{"$f":"'8-Cost by Measure'!I16","v":0},{"$f":"'8-Cost by Measure'!J16","v":0},{"$f":"'8-Cost by Measure'!K16","v":0},{"$f":"'8-Cost by Measure'!L16","v":0}]
[null,3,{"$f":"'8-Cost by Measure'!C17","v":0},{"$f":"'8-Cost by Measure'!E17","v":0},{"$f":"'8-Cost by Measure'!F17","v":0},{"$f":"'8-Cost by Measure'!G17","v":0},{"$f":"'8-Cost by Measure'!H17","v":0},{"$f":"'8-Cost by Measure'!I17","v":0},{"$f":"'8-Cost by Measure'!J17","v":0},{"$f":"'8-Cost by Measure'!K17","v":0},{"$f":"'8-Cost by Measure'!L17","v":0}]
[null,4,{"$f":"'8-Cost by Measure'!C18","v":0},{"$f":"'8-Cost by Measure'!E18","v":0},{"$f":"'8-Cost by Measure'!F18","v":0},{"$f":"'8-Cost by Measure'!G18","v":0},{"$f":"'8-Cost by Measure'!H18","v":0},{"$f":"'8-Cost by Measure'!I18","v":0},{"$f":"'8-Cost by Measure'!J18","v":0},{"$f":"'8-Cost by Measure'!K18","v":0},{"$f":"'8-Cost by Measure'!L18","v":0}]
[null,5,{"$f":"'8-Cost by Measure'!C19","v":0},{"$f":"'8-Cost by Measure'!E19","v":0},{"$f":"'8-Cost by Measure'!F19","v":0},{"$f":"'8-Cost by Measure'!G19","v":0},{"$f":"'8-Cost by Measure'!H19","v":0},{"$f":"'8-Cost by Measure'!I19","v":0},{"$f":"'8-Cost by Measure'!J19","v":0},{"$f":"'8-Cost by Measure'!K19","v":0},{"$f":"'8-Cost by Measure'!L19","v":0}]
[null,6,{"$f":"'8-Cost by Measure'!C20","v":0},{"$f":"'8-Cost by Measure'!E20","v":0},{"$f":"'8-Cost by Measure'!F20","v":0},{"$f":"'8-Cost by Measure'!G20","v":0},{"$f":"'8-Cost by Measure'!H20","v":0},{"$f":"'8-Cost by Measure'!I20","v":0},{"$f":"'8-Cost by Measure'!J20","v":0},{"$f":"'8-Cost by Measure'!K20","v":0},{"$f":"'8-Cost by Measure'!L20","v":0}]
[null,7,{"$f":"'8-Cost by Measure'!C21","v":0},{"$f":"'8-Cost by Measure'!E21","v":0},{"$f":"'8-Cost by Measure'!F21","v":0},{"$f":"'8-Cost by Measure'!G21","v":0},{"$f":"'8-Cost by Measure'!H21","v":0},{"$f":"'8-Cost by Measure'!I21","v":0},{"$f":"'8-Cost by Measure'!J21","v":0},{"$f":"'8-Cost by Measure'!K21","v":0},{"$f":"'8-Cost by Measure'!L21","v":0}]
[null,8,{"$f":"'8-Cost by Measure'!C22","v":0},{"$f":"'8-Cost by Measure'!E22","v":0},{"$f":"'8-Cost by Measure'!F22","v":0},{"$f":"'8-Cost by Measure'!G22","v":0},{"$f":"'8-Cost by Measure'!H22","v":0},{"$f":"'8-Cost by Measure'!I22","v":0},{"$f":"'8-Cost by Measure'!J22","v":0},{"$f":"'8-Cost by Measure'!K22","v":0},{"$f":"'8-Cost by Measure'!L22","v":0}]
[null,9,{"$f":"'8-Cost by Measure'!C23","v":0},{"$f":"'8-Cost by Measure'!E23","v":0},{"$f":"'8-Cost by Measure'!F23","v":0},{"$f":"'8-Cost by Measure'!G23","v":0},{"$f":"'8-Cost by Measure'!H23","v":0},{"$f":"'8-Cost by Measure'!I23","v":0},{"$f":"'8-Cost by Measure'!J23","v":0},{"$f":"'8-Cost by Measure'!K23","v":0},{"$f":"'8-Cost by Measure'!L23","v":0}]
[null,10,{"$f":"'8-Cost by Measure'!C24","v":0},{"$f":"'8-Cost by Measure'!E24","v":0},{"$f":"'8-Cost by Measure'!F24","v":0},{"$f":"'8-Cost by Measure'!G24","v":0},{"$f":"'8-Cost by Measure'!H24","v":0},{"$f":"'8-Cost by Measure'!I24","v":0},{"$f":"'8-Cost by Measure'!J24","v":0},{"$f":"'8-Cost by Measure'!K24","v":0},{"$f":"'8-Cost by Measure'!L24","v":0}]
[null,11,{"$f":"'8-Cost by Measure'!C25","v":0},{"$f":"'8-Cost by Measure'!E25","v":0},{"$f":"'8-Cost by Measure'!F25","v":0},{"$f":"'8-Cost by Measure'!G25","v":0},{"$f":"'8-Cost by Measure'!H25","v":0},{"$f":"'8-Cost by Measure'!I25","v":0},{"$f":"'8-Cost by Measure'!J25","v":0},{"$f":"'8-Cost by Measure'!K25","v":0},{"$f":"'8-Cost by Measure'!L25","v":0}]
[null,12,{"$f":"'8-Cost by Measure'!C26","v":0},{"$f":"'8-Cost by Measure'!E26","v":0},{"$f":"'8-Cost by Measure'!F26","v":0},{"$f":"'8-Cost by Measure'!G26","v":0},{"$f":"'8-Cost by Measure'!H26","v":0},{"$f":"'8-Cost by Measure'!I26","v":0},{"$f":"'8-Cost by Measure'!J26","v":0},{"$f":"'8-Cost by Measure'!K26","v":0},{"$f":"'8-Cost by Measure'!L26","v":0}]
[null,13,{"$f":"'8-Cost by Measure'!C27","v":0},{"$f":"'8-Cost by Measure'!E27","v":0},{"$f":"'8-Cost by Measure'!F27","v":0},{"$f":"'8-Cost by Measure'!G27","v":0},{"$f":"'8-Cost by Measure'!H27","v":0},{"$f":"'8-Cost by Measure'!I27","v":0},{"$f":"'8-Cost by Measure'!J27","v":0},{"$f":"'8-Cost by Measure'!K27","v":0},{"$f":"'8-Cost by Measure'!L27","v":0}]
[null,14,{"$f":"'8-Cost by Measure'!C28","v":0},{"$f":"'8-Cost by Measure'!E28","v":0},{"$f":"'8-Cost by Measure'!F28","v":0},{"$f":"'8-Cost by Measure'!G28","v":0},{"$f":"'8-Cost by Measure'!H28","v":0},{"$f":"'8-Cost by Measure'!I28","v":0},{"$f":"'8-Cost by Measure'!J28","v":0},{"$f":"'8-Cost by Measure'!K28","v":0},{"$f":"'8-Cost by Measure'!L28","v":0}]
[null,15,{"$f":"'8-Cost by Measure'!C29","v":0},{"$f":"'8-Cost by Measure'!E29","v":0},{"$f":"'8-Cost by Measure'!F29","v":0},{"$f":"'8-Cost by Measure'!G29","v":0},{"$f":"'8-Cost by Measure'!H29","v":0},{"$f":"'8-Cost by Measure'!I29","v":0},{"$f":"'8-Cost by Measure'!J29","v":0},{"$f":"'8-Cost by Measure'!K29","v":0},{"$f":"'8-Cost by Measure'!L29","v":0}]
[null,16,{"$f":"'8-Cost by Measure'!C30","v":0},{"$f":"'8-Cost by Measure'!E30","v":0},{"$f":"'8-Cost by Measure'!F30","v":0},{"$f":"'8-Cost by Measure'!G30","v":0},{"$f":"'8-Cost by Measure'!H30","v":0},{"$f":"'8-Cost by Measure'!I30","v":0},{"$f":"'8-Cost by Measure'!J30","v":0},{"$f":"'8-Cost by Measure'!K30","v":0},{"$f":"'8-Cost by Measure'!L30","v":0}]
[null,17,{"$f":"'8-Cost by Measure'!C31","v":0},{"$f":"'8-Cost by Measure'!E31","v":0},{"$f":"'8-Cost by Measure'!F31","v":0},{"$f":"'8-Cost by Measure'!G31","v":0},{"$f":"'8-Cost by Measure'!H31","v":0},{"$f":"'8-Cost by Measure'!I31","v":0},{"$f":"'8-Cost by Measure'!J31","v":0},{"$f":"'8-Cost by Measure'!K31","v":0},{"$f":"'8-Cost by Measure'!L31","v":0}]
[null,18,{"$f":"'8-Cost by Measure'!C32","v":0},{"$f":"'8-Cost by Measure'!E32","v":0},{"$f":"'8-Cost by Measure'!F32","v":0},{"$f":"'8-Cost by Measure'!G32","v":0},{"$f":"'8-Cost by Measure'!H32","v":0},{"$f":"'8-Cost by Measure'!I32","v":0},{"$f":"'8-Cost by Measure'!J32","v":0},{"$f":"'8-Cost by Measure'!K32","v":0},{"$f":"'8-Cost by Measure'!L32","v":0}]
[null,19,{"$f":"'8-Cost by Measure'!C33","v":0},{"$f":"'8-Cost by Measure'!E33","v":0},{"$f":"'8-Cost by Measure'!F33","v":0},{"$f":"'8-Cost by Measure'!G33","v":0},{"$f":"'8-Cost by Measure'!H33","v":0},{"$f":"'8-Cost by Measure'!I33","v":0},{"$f":"'8-Cost by Measure'!J33","v":0},{"$f":"'8-Cost by Measure'!K33","v":0},{"$f":"'8-Cost by Measure'!L33","v":0}]
[null,20,{"$f":"'8-Cost by Measure'!C34","v":0},{"$f":"'8-Cost by Measure'!E34","v":0},{"$f":"'8-Cost by Measure'!F34","v":0},{"$f":"'8-Cost by Measure'!G34","v":0},{"$f":"'8-Cost by Measure'!H34","v":0},{"$f":"'8-Cost by Measure'!I34","v":0},{"$f":"'8-Cost by Measure'!J34","v":0},{"$f":"'8-Cost by Measure'!K34","v":0},{"$f":"'8-Cost by Measure'!L34","v":0}]

{"sheet":"P4P Incentive Structure","index":20,"n_rows":17,"n_cols":5,"rows_kept":17,"cut":false,"hidden":false,"merged":[[0,0,0,5],[1,0,1,5],[2,0,2,5],[3,2,3,3],[3,4,3,5],[3,0,3,1],[4,2,4,3],[4,4,4,5],[5,0,5,1],[8,0,8,1],[16,0,16,5],[4,0,4,1],[8,2,8,3],[8,4,8,5],[11,0,11,5],[5,2,5,3],[5,4,5,5],[9,0,9,1],[9,2,9,3],[9,4,9,5],[10,0,10,5],[6,0,6,5],[7,0,7,5],[12,0,12,1],[12,2,12,3],[12,4,12,5],[13,0,15,0],[13,2,13,3],[13,4,15,5],[14,2,14,3],[15,2,15,3]]}
["Incentive Structure for Pay For Performance  "]
[" New Construction Program"]
["Incentive #1: Proposed Energy Reduction Plan Completion / Design Fees"]
["Minimum Performance Requirement:",null,0.15,null,"Cost reduction from 90.1-2007 Baseline"]
["Incentive Amount:",null,0.1,null,"per gross heated square foot"]
["Maximum Incentive:",null,50000]
["This incentive is used to offset the cost of services associated with the development of the Proposed Energy Reduction Plan and design fees. Projects must identify energy-efficiency improvements that meet the minimum performance level in order to become eligible for Incentive #1.  Incentive #1 is payable upon approval of Proposed ERP, receipt of signed contract between Participant and Partner, receipt of project Sheet Index and the table of contents from the Specification Booklet, documentation that Participant has paid 75% (minimum) of the A/E design fees for construction documents, and is contingent upon moving forward with construction."]
["Incentive #2: As-Built Energy Reduction Plan"]
["Minimum Performance Requirement:",null,0.15,null,"Cost reduction from 90.1-2007 Baseline"]
["Incentive Amount:",null,1,null,"per gross heated square foot"]
["This incentive is used to offset the costs associated with the implementation of recommended energy-efficiency measures as outlined in the approved Proposed ERP. Incentive #2 is payable upon construction completion, approval of As-Built ERP, and a successful post-installation inspection by Market Manager. "]
["Incentive #3: Commissioning Report"]
["Minimum Performance Requirement:",null,0.15,null,"Cost reduction over 90.1-2007 Baseline"]
["Performance Target","15%-17%",0.35,null,"per gross heated square foot"]
[null,"18%-20%",0.45]
[null,"Greater Than 20%",0.65]
["This incentive will be based on confirmation that the performance level indicated in Proposed and/or As-Built Energy Reduction Plan is met. Final savings projections will be calculated using energy simulation rounded to the nearest percent based on installed and commissioned energy-efficiency measures as outlined in the Proposed and/or As-Built ERP.  Incentive #3 is payable upon approval of Commissioning Report."]

{"sheet":"Master Export","index":21,"n_rows":23,"n_cols":48,"rows_kept":23,"cut":false,"hidden":true,"merged":[]}
["Pay For Performance - New Construction: 2016"]
["Project Name",0,"Project ID",0,"Street Address",0,"Project SF",{"$f":"'2-Incentives'!C9","v":0},"Partner Fees",{"$f":"SUM('8-Cost by Measure'!Q37:Q39)","v":0},"Total Measure Cost",{"$f":"SUM('8-Cost by Measure'!L15:L34)","v":0},"Total Measure Incremental Cost",{"$f":"'8-Cost by Measure'!Q36","v":0},"Committed Incentive #1",{"$f":"'2-Incentives'!C11","v":0},"Paid Incentive #1",0,"Committed Incentive #2",{"$f":"'2-Incentives'!C12","v":0},"Paid Incentive #2",0,"Committed Incentive #3",{"$f":"'2-Incentives'!C13","v":0},"Paid Incentive #3",0,"Annual Energy Cost - Baseline",{"$f":"'1-Program Metrics'!C14","v":0},"Annual Cost Savings",{"$f":"'1-Program Metrics'!E14","v":0},"Internal Rate of Return (IRR)",{"$f":"'9-Energy Savings by Measure'!M33","v":""},"Life Cycle Savings",{"$f":"'9-Energy Savings by Measure'!N33","v":0},"Simple Payback (yrs)",{"$f":"'9-Energy Savings by Measure'!L33","v":0},"Simple Payback with NJCEP Incentive (yrs)",{"$f":"('8-Cost by Measure'!Q40-'10-Financing Plan'!C11)/'9-Energy Savings by Measure'!J33","v":{"$error":"#DIV/0!"}},"Total % Cost Savings",{"$f":"'1-Program Metrics'!F14","v":0},"Total % Energy Savings",{"$f":"'1-Program Metrics'!F19","v":0},"% Elec",{"$f":"'1-Program Metrics'!F15","v":0},"% Gas",{"$f":"'1-Program Metrics'!F16","v":0},"% Other",{"$f":"SUM('1-Program Metrics'!F17:F18)","v":0}]
["Measure Name","Measure Description","Manufacturer","Model","Installation Cost per Unit","Annual Energy Cost Savings per Unit","Incentive Per Unit","Simple Payback w/o Incentives","Simple Payback w/ Incentives","Peak Demand Reduction per Unit","Annual Electricity Savings per Unit","Lifetime Electricity Savings per Unit","Annual Gas Savings per Unit","Lifetime Gas Savings per Unit","Annual Propane Savings per Unit","Lifetime Propane Savings per Unit","Annual Oil Savings per Unit","Lifetime Oil Savings per Unit","Other Energy Savings MMBTU per Unit","Other Lifetime Energy Savings MMBTU per Unit","CO2e Emissions Reduction per Unit (lbs)","Quantity Committed","Quantity Installed"]
[{"$f":"'8-Cost by Measure'!C15","v":0},{"$f":"'8-Cost by Measure'!D15","v":0},{"$f":"'8-Cost by Measure'!E15","v":0},{"$f":"'8-Cost by Measure'!F15","v":0},{"$f":"IFERROR('8-Cost by Measure'!L15/V4,0)","v":0},{"$f":"IFERROR('9-Energy Savings by Measure'!J12/V4,0)","v":0},{"$f":"IFERROR(('2-Incentives'!$C$12+'2-Incentives'!$C$13)*'8-Cost by Measure'!Q15/'8-Cost by Measure'!$Q$36/V4,0)","v":0},{"$f":"'9-Energy Savings by Measure'!L12","v":0},{"$f":"IFERROR(('8-Cost by Measure'!Q15-(G4*V4))/'9-Energy Savings by Measure'!J12,0)","v":0},{"$f":"IFERROR('9-Energy Savings by Measure'!G12/V4,0)","v":0},{"$f":"IFERROR('9-Energy Savings by Measure'!E12/V4,0)","v":0},{"$f":"IFERROR('9-Energy Savings by Measure'!E12*'9-Energy Savings by Measure'!K12/V4,0)","v":0},{"$f":"IFERROR('9-Energy Savings by Measure'!D12/V4,0)","v":0},{"$f":"IFERROR('9-Energy Savings by Measure'!D12*'9-Energy Savings by Measure'!K12/V4,0)","v":0},0,0,0,0,0,0,{"$f":"IFERROR((K4*'Support Data'!$AH$12+M4*'Support Data'!$AH$11+O4*'Support Data'!$AH$10+Q4*'Support Data'!$AH$8+S4*'Support Data'!$AH$9)/V4,0)","v":0},{"$f":"IFERROR('8-Cost by Measure'!I15*1,1)","v":0},{"$f":"IFERROR('8-Cost by Measure'!I15*1,1)","v":0},"Capacity/Size",{"$f":"'8-Cost by Measure'!G15","v":0},"Capacity/Size Units",{"$f":"'8-Cost by Measure'!H15","v":0},"Efficiency",{"$f":"'8-Cost by Measure'!J15","v":0},"Efficiency Units",{"$f":"'8-Cost by Measure'!K15","v":0}]
[{"$f":"'8-Cost by Measure'!C16","v":0},{"$f":"'8-Cost by Measure'!D16","v":0},{"$f":"'8-Cost by Measure'!E16","v":0},{"$f":"'8-Cost by Measure'!F16","v":0},{"$f":"IFERROR('8-Cost by Measure'!L16/V5,0)","v":0},{"$f":"IFERROR('9-Energy Savings by Measure'!J13/V5,0)","v":0},{"$f":"IFERROR(('2-Incentives'!$C$12+'2-Incentives'!$C$13)*'8-Cost by Measure'!Q16/'8-Cost by Measure'!$Q$36/V5,0)","v":0},{"$f":"'9-Energy Savings by Measure'!L13","v":0},{"$f":"IFERROR(('8-Cost by Measure'!Q16-(G5*V5))/'9-Energy Savings by Measure'!J13,0)","v":0},{"$f":"IFERROR('9-Energy Savings by Measure'!G13/V5,0)","v":0},{"$f":"IFERROR('9-Energy Savings by Measure'!E13/V5,0)","v":0},{"$f":"IFERROR('9-Energy Savings by Measure'!E13*'9-Energy Savings by Measure'!K13/V5,0)","v":0},{"$f":"IFERROR('9-Energy Savings by Measure'!D13/V5,0)","v":0},{"$f":"IFERROR('9-Energy Savings by Measure'!D13*'9-Energy Savings by Measure'!K13/V5,0)","v":0},0,0,0,0,0,0,{"$f":"IFERROR((K5*'Support Data'!$AH$12+M5*'Support Data'!$AH$11+O5*'Support Data'!$AH$10+Q5*'Support Data'!$AH$8+S5*'Support Data'!$AH$9)/V5,0)","v":0},{"$f":"IFERROR('8-Cost by Measure'!I16*1,1)","v":0},{"$f":"IFERROR('8-Cost by Measure'!I16*1,1)","v":0},"Capacity/Size",{"$f":"'8-Cost by Measure'!G16","v":0},"Capacity/Size Units",{"$f":"'8-Cost by Measure'!H16","v":0},"Efficiency",{"$f":"'8-Cost by Measure'!J16","v":0},"Efficiency Units",{"$f":"'8-Cost by Measure'!K16","v":0}]
[{"$f":"'8-Cost by Measure'!C17","v":0},{"$f":"'8-Cost by Measure'!D17","v":0},{"$f":"'8-Cost by Measure'!E17","v":0},{"$f":"'8-Cost by Measure'!F17","v":0},{"$f":"IFERROR('8-Cost by Measure'!L17/V6,0)","v":0},{"$f":"IFERROR('9-Energy Savings by Measure'!J14/V6,0)","v":0},{"$f":"IFERROR(('2-Incentives'!$C$12+'2-Incentives'!$C$13)*'8-Cost by Measure'!Q17/'8-Cost by Measure'!$Q$36/V6,0)","v":0},{"$f":"'9-Energy Savings by Measure'!L14","v":0},{"$f":"IFERROR(('8-Cost by Measure'!Q17-(G6*V6))/'9-Energy Savings by Measure'!J14,0)","v":0},{"$f":"IFERROR('9-Energy Savings by Measure'!G14/V6,0)","v":0},{"$f":"IFERROR('9-Energy Savings by Measure'!E14/V6,0)","v":0},{"$f":"IFERROR('9-Energy Savings by Measure'!E14*'9-Energy Savings by Measure'!K14/V6,0)","v":0},{"$f":"IFERROR('9-Energy Savings by Measure'!D14/V6,0)","v":0},{"$f":"IFERROR('9-Energy Savings by Measure'!D14*'9-Energy Savings by Measure'!K14/V6,0)","v":0},0,0,0,0,0,0,{"$f":"IFERROR((K6*'Support Data'!$AH$12+M6*'Support Data'!$AH$11+O6*'Support Data'!$AH$10+Q6*'Support Data'!$AH$8+S6*'Support Data'!$AH$9)/V6,0)","v":0},{"$f":"IFERROR('8-Cost by Measure'!I17*1,1)","v":0},{"$f":"IFERROR('8-Cost by Measure'!I17*1,1)","v":0},"Capacity/Size",{"$f":"'8-Cost by Measure'!G17","v":0},"Capacity/Size Units",{"$f":"'8-Cost by Measure'!H17","v":0},"Efficiency",{"$f":"'8-Cost by Measure'!J17","v":0},"Efficiency Units",{"$f":"'8-Cost by Measure'!K17","v":0}]
[{"$f":"'8-Cost by Measure'!C18","v":0},{"$f":"'8-Cost by Measure'!D18","v":0},{"$f":"'8-Cost by Measure'!E18","v":0},{"$f":"'8-Cost by Measure'!F18","v":0},{"$f":"IFERROR('8-Cost by Measure'!L18/V7,0)","v":0},{"$f":"IFERROR('9-Energy Savings by Measure'!J15/V7,0)","v":0},{"$f":"IFERROR(('2-Incentives'!$C$12+'2-Incentives'!$C$13)*'8-Cost by Measure'!Q18/'8-Cost by Measure'!$Q$36/V7,0)","v":0},{"$f":"'9-Energy Savings by Measure'!L15","v":0},{"$f":"IFERROR(('8-Cost by Measure'!Q18-(G7*V7))/'9-Energy Savings by Measure'!J15,0)","v":0},{"$f":"IFERROR('9-Energy Savings by Measure'!G15/V7,0)","v":0},{"$f":"IFERROR('9-Energy Savings by Measure'!E15/V7,0)","v":0},{"$f":"IFERROR('9-Energy Savings by Measure'!E15*'9-Energy Savings by Measure'!K15/V7,0)","v":0},{"$f":"IFERROR('9-Energy Savings by Measure'!D15/V7,0)","v":0},{"$f":"IFERROR('9-Energy Savings by Measure'!D15*'9-Energy Savings by Measure'!K15/V7,0)","v":0},0,0,0,0,0,0,{"$f":"IFERROR((K7*'Support Data'!$AH$12+M7*'Support Data'!$AH$11+O7*'Support Data'!$AH$10+Q7*'Support Data'!$AH$8+S7*'Support Data'!$AH$9)/V7,0)","v":0},{"$f":"IFERROR('8-Cost by Measure'!I18*1,1)","v":0},{"$f":"IFERROR('8-Cost by Measure'!I18*1,1)","v":0},"Capacity/Size",{"$f":"'8-Cost by Measure'!G18","v":0},"Capacity/Size Units",{"$f":"'8-Cost by Measure'!H18","v":0},"Efficiency",{"$f":"'8-Cost by Measure'!J18","v":0},"Efficiency Units",{"$f":"'8-Cost by Measure'!K18","v":0}]
[{"$f":"'8-Cost by Measure'!C19","v":0},{"$f":"'8-Cost by Measure'!D19","v":0},{"$f":"'8-Cost by Measure'!E19","v":0},{"$f":"'8-Cost by Measure'!F19","v":0},{"$f":"IFERROR('8-Cost by Measure'!L19/V8,0)","v":0},{"$f":"IFERROR('9-Energy Savings by Measure'!J16/V8,0)","v":0},{"$f":"IFERROR(('2-Incentives'!$C$12+'2-Incentives'!$C$13)*'8-Cost by Measure'!Q19/'8-Cost by Measure'!$Q$36/V8,0)","v":0},{"$f":"'9-Energy Savings by Measure'!L16","v":0},{"$f":"IFERROR(('8-Cost by Measure'!Q19-(G8*V8))/'9-Energy Savings by Measure'!J16,0)","v":0},{"$f":"IFERROR('9-Energy Savings by Measure'!G16/V8,0)","v":0},{"$f":"IFERROR('9-Energy Savings by Measure'!E16/V8,0)","v":0},{"$f":"IFERROR('9-Energy Savings by Measure'!E16*'9-Energy Savings by Measure'!K16/V8,0)","v":0},{"$f":"IFERROR('9-Energy Savings by Measure'!D16/V8,0)","v":0},{"$f":"IFERROR('9-Energy Savings by Measure'!D16*'9-Energy Savings by Measure'!K16/V8,0)","v":0},0,0,0,0,0,0,{"$f":"IFERROR((K8*'Support Data'!$AH$12+M8*'Support Data'!$AH$11+O8*'Support Data'!$AH$10+Q8*'Support Data'!$AH$8+S8*'Support Data'!$AH$9)/V8,0)","v":0},{"$f":"IFERROR('8-Cost by Measure'!I19*1,1)","v":0},{"$f":"IFERROR('8-Cost by Measure'!I19*1,1)","v":0},"Capacity/Size",{"$f":"'8-Cost by Measure'!G19","v":0},"Capacity/Size Units",{"$f":"'8-Cost by Measure'!H19","v":0},"Efficiency",{"$f":"'8-Cost by Measure'!J19","v":0},"Efficiency Units",{"$f":"'8-Cost by Measure'!K19","v":0}]
[{"$f":"'8-Cost by Measure'!C20","v":0},{"$f":"'8-Cost by Measure'!D20","v":0},{"$f":"'8-Cost by Measure'!E20","v":0},{"$f":"'8-Cost by Measure'!F20","v":0},{"$f":"IFERROR('8-Cost by Measure'!L20/V9,0)","v":0},{"$f":"IFERROR('9-Energy Savings by Measure'!J17/V9,0)","v":0},{"$f":"IFERROR(('2-Incentives'!$C$12+'2-Incentives'!$C$13)*'8-Cost by Measure'!Q20/'8-Cost by Measure'!$Q$36/V9,0)","v":0},{"$f":"'9-Energy Savings by Measure'!L17","v":0},{"$f":"IFERROR(('8-Cost by Measure'!Q20-(G9*V9))/'9-Energy Savings by Measure'!J17,0)","v":0},{"$f":"IFERROR('9-Energy Savings by Measure'!G17/V9,0)","v":0},{"$f":"IFERROR('9-Energy Savings by Measure'!E17/V9,0)","v":0},{"$f":"IFERROR('9-Energy Savings by Measure'!E17*'9-Energy Savings by Measure'!K17/V9,0)","v":0},{"$f":"IFERROR('9-Energy Savings by Measure'!D17/V9,0)","v":0},{"$f":"IFERROR('9-Energy Savings by Measure'!D17*'9-Energy Savings by Measure'!K17/V9,0)","v":0},0,0,0,0,0,0,{"$f":"IFERROR((K9*'Support Data'!$AH$12+M9*'Support Data'!$AH$11+O9*'Support Data'!$AH$10+Q9*'Support Data'!$AH$8+S9*'Support Data'!$AH$9)/V9,0)","v":0},{"$f":"IFERROR('8-Cost by Measure'!I20*1,1)","v":0},{"$f":"IFERROR('8-Cost by Measure'!I20*1,1)","v":0},"Capacity/Size",{"$f":"'8-Cost by Measure'!G20","v":0},"Capacity/Size Units",{"$f":"'8-Cost by Measure'!H20","v":0},"Efficiency",{"$f":"'8-Cost by Measure'!J20","v":0},"Efficiency Units",{"$f":"'8-Cost by Measure'!K20","v":0}]
[{"$f":"'8-Cost by Measure'!C21","v":0},{"$f":"'8-Cost by Measure'!D21","v":0},{"$f":"'8-Cost by Measure'!E21","v":0},{"$f":"'8-Cost by Measure'!F21","v":0},{"$f":"IFERROR('8-Cost by Measure'!L21/V10,0)","v":0},{"$f":"IFERROR('9-Energy Savings by Measure'!J18/V10,0)","v":0},{"$f":"IFERROR(('2-Incentives'!$C$12+'2-Incentives'!$C$13)*'8-Cost by Measure'!Q21/'8-Cost by Measure'!$Q$36/V10,0)","v":0},{"$f":"'9-Energy Savings by Measure'!L18","v":0},{"$f":"IFERROR(('8-Cost by Measure'!Q21-(G10*V10))/'9-Energy Savings by Measure'!J18,0)","v":0},{"$f":"IFERROR('9-Energy Savings by Measure'!G18/V10,0)","v":0},{"$f":"IFERROR('9-Energy Savings by Measure'!E18/V10,0)","v":0},{"$f":"IFERROR('9-Energy Savings by Measure'!E18*'9-Energy Savings by Measure'!K18/V10,0)","v":0},{"$f":"IFERROR('9-Energy Savings by Measure'!D18/V10,0)","v":0},{"$f":"IFERROR('9-Energy Savings by Measure'!D18*'9-Energy Savings by Measure'!K18/V10,0)","v":0},0,0,0,0,0,0,{"$f":"IFERROR((K10*'Support Data'!$AH$12+M10*'Support Data'!$AH$11+O10*'Support Data'!$AH$10+Q10*'Support Data'!$AH$8+S10*'Support Data'!$AH$9)/V10,0)","v":0},{"$f":"IFERROR('8-Cost by Measure'!I21*1,1)","v":0},{"$f":"IFERROR('8-Cost by Measure'!I21*1,1)","v":0},"Capacity/Size",{"$f":"'8-Cost by Measure'!G21","v":0},"Capacity/Size Units",{"$f":"'8-Cost by Measure'!H21","v":0},"Efficiency",{"$f":"'8-Cost by Measure'!J21","v":0},"Efficiency Units",{"$f":"'8-Cost by Measure'!K21","v":0}]
[{"$f":"'8-Cost by Measure'!C22","v":0},{"$f":"'8-Cost by Measure'!D22","v":0},{"$f":"'8-Cost by Measure'!E22","v":0},{"$f":"'8-Cost by Measure'!F22","v":0},{"$f":"IFERROR('8-Cost by Measure'!L22/V11,0)","v":0},{"$f":"IFERROR('9-Energy Savings by Measure'!J19/V11,0)","v":0},{"$f":"IFERROR(('2-Incentives'!$C$12+'2-Incentives'!$C$13)*'8-Cost by Measure'!Q22/'8-Cost by Measure'!$Q$36/V11,0)","v":0},{"$f":"'9-Energy Savings by Measure'!L19","v":0},{"$f":"IFERROR(('8-Cost by Measure'!Q22-(G11*V11))/'9-Energy Savings by Measure'!J19,0)","v":0},{"$f":"IFERROR('9-Energy Savings by Measure'!G19/V11,0)","v":0},{"$f":"IFERROR('9-Energy Savings by Measure'!E19/V11,0)","v":0},{"$f":"IFERROR('9-Energy Savings by Measure'!E19*'9-Energy Savings by Measure'!K19/V11,0)","v":0},{"$f":"IFERROR('9-Energy Savings by Measure'!D19/V11,0)","v":0},{"$f":"IFERROR('9-Energy Savings by Measure'!D19*'9-Energy Savings by Measure'!K19/V11,0)","v":0},0,0,0,0,0,0,{"$f":"IFERROR((K11*'Support Data'!$AH$12+M11*'Support Data'!$AH$11+O11*'Support Data'!$AH$10+Q11*'Support Data'!$AH$8+S11*'Support Data'!$AH$9)/V11,0)","v":0},{"$f":"IFERROR('8-Cost by Measure'!I22*1,1)","v":0},{"$f":"IFERROR('8-Cost by Measure'!I22*1,1)","v":0},"Capacity/Size",{"$f":"'8-Cost by Measure'!G22","v":0},"Capacity/Size Units",{"$f":"'8-Cost by Measure'!H22","v":0},"Efficiency",{"$f":"'8-Cost by Measure'!J22","v":0},"Efficiency Units",{"$f":"'8-Cost by Measure'!K22","v":0}]
[{"$f":"'8-Cost by Measure'!C23","v":0},{"$f":"'8-Cost by Measure'!D23","v":0},{"$f":"'8-Cost by Measure'!E23","v":0},{"$f":"'8-Cost by Measure'!F23","v":0},{"$f":"IFERROR('8-Cost by Measure'!L23/V12,0)","v":0},{"$f":"IFERROR('9-Energy Savings by Measure'!J20/V12,0)","v":0},{"$f":"IFERROR(('2-Incentives'!$C$12+'2-Incentives'!$C$13)*'8-Cost by Measure'!Q23/'8-Cost by Measure'!$Q$36/V12,0)","v":0},{"$f":"'9-Energy Savings by Measure'!L20","v":0},{"$f":"IFERROR(('8-Cost by Measure'!Q23-(G12*V12))/'9-Energy Savings by Measure'!J20,0)","v":0},{"$f":"IFERROR('9-Energy Savings by Measure'!G20/V12,0)","v":0},{"$f":"IFERROR('9-Energy Savings by Measure'!E20/V12,0)","v":0},{"$f":"IFERROR('9-Energy Savings by Measure'!E20*'9-Energy Savings by Measure'!K20/V12,0)","v":0},{"$f":"IFERROR('9-Energy Savings by Measure'!D20/V12,0)","v":0},{"$f":"IFERROR('9-Energy Savings by Measure'!D20*'9-Energy Savings by Measure'!K20/V12,0)","v":0},0,0,0,0,0,0,{"$f":"IFERROR((K12*'Support Data'!$AH$12+M12*'Support Data'!$AH$11+O12*'Support Data'!$AH$10+Q12*'Support Data'!$AH$8+S12*'Support Data'!$AH$9)/V12,0)","v":0},{"$f":"IFERROR('8-Cost by Measure'!I23*1,1)","v":0},{"$f":"IFERROR('8-Cost by Measure'!I23*1,1)","v":0},"Capacity/Size",{"$f":"'8-Cost by Measure'!G23","v":0},"Capacity/Size Units",{"$f":"'8-Cost by Measure'!H23","v":0},"Efficiency",{"$f":"'8-Cost by Measure'!J23","v":0},"Efficiency Units",{"$f":"'8-Cost by Measure'!K23","v":0}]
[{"$f":"'8-Cost by Measure'!C24","v":0},{"$f":"'8-Cost by Measure'!D24","v":0},{"$f":"'8-Cost by Measure'!E24","v":0},{"$f":"'8-Cost by Measure'!F24","v":0},{"$f":"IFERROR('8-Cost by Measure'!L24/V13,0)","v":0},{"$f":"IFERROR('9-Energy Savings by Measure'!J21/V13,0)","v":0},{"$f":"IFERROR(('2-Incentives'!$C$12+'2-Incentives'!$C$13)*'8-Cost by Measure'!Q24/'8-Cost by Measure'!$Q$36/V13,0)","v":0},{"$f":"'9-Energy Savings by Measure'!L21","v":0},{"$f":"IFERROR(('8-Cost by Measure'!Q24-(G13*V13))/'9-Energy Savings by Measure'!J21,0)","v":0},{"$f":"IFERROR('9-Energy Savings by Measure'!G21/V13,0)","v":0},{"$f":"IFERROR('9-Energy Savings by Measure'!E21/V13,0)","v":0},{"$f":"IFERROR('9-Energy Savings by Measure'!E21*'9-Energy Savings by Measure'!K21/V13,0)","v":0},{"$f":"IFERROR('9-Energy Savings by Measure'!D21/V13,0)","v":0},{"$f":"IFERROR('9-Energy Savings by Measure'!D21*'9-Energy Savings by Measure'!K21/V13,0)","v":0},0,0,0,0,0,0,{"$f":"IFERROR((K13*'Support Data'!$AH$12+M13*'Support Data'!$AH$11+O13*'Support Data'!$AH$10+Q13*'Support Data'!$AH$8+S13*'Support Data'!$AH$9)/V13,0)","v":0},{"$f":"IFERROR('8-Cost by Measure'!I24*1,1)","v":0},{"$f":"IFERROR('8-Cost by Measure'!I24*1,1)","v":0},"Capacity/Size",{"$f":"'8-Cost by Measure'!G24","v":0},"Capacity/Size Units",{"$f":"'8-Cost by Measure'!H24","v":0},"Efficiency",{"$f":"'8-Cost by Measure'!J24","v":0},"Efficiency Units",{"$f":"'8-Cost by Measure'!K24","v":0}]
[{"$f":"'8-Cost by Measure'!C25","v":0},{"$f":"'8-Cost by Measure'!D25","v":0},{"$f":"'8-Cost by Measure'!E25","v":0},{"$f":"'8-Cost by Measure'!F25","v":0},{"$f":"IFERROR('8-Cost by Measure'!L25/V14,0)","v":0},{"$f":"IFERROR('9-Energy Savings by Measure'!J22/V14,0)","v":0},{"$f":"IFERROR(('2-Incentives'!$C$12+'2-Incentives'!$C$13)*'8-Cost by Measure'!Q25/'8-Cost by Measure'!$Q$36/V14,0)","v":0},{"$f":"'9-Energy Savings by Measure'!L22","v":0},{"$f":"IFERROR(('8-Cost by Measure'!Q25-(G14*V14))/'9-Energy Savings by Measure'!J22,0)","v":0},{"$f":"IFERROR('9-Energy Savings by Measure'!G22/V14,0)","v":0},{"$f":"IFERROR('9-Energy Savings by Measure'!E22/V14,0)","v":0},{"$f":"IFERROR('9-Energy Savings by Measure'!E22*'9-Energy Savings by Measure'!K22/V14,0)","v":0},{"$f":"IFERROR('9-Energy Savings by Measure'!D22/V14,0)","v":0},{"$f":"IFERROR('9-Energy Savings by Measure'!D22*'9-Energy Savings by Measure'!K22/V14,0)","v":0},0,0,0,0,0,0,{"$f":"IFERROR((K14*'Support Data'!$AH$12+M14*'Support Data'!$AH$11+O14*'Support Data'!$AH$10+Q14*'Support Data'!$AH$8+S14*'Support Data'!$AH$9)/V14,0)","v":0},{"$f":"IFERROR('8-Cost by Measure'!I25*1,1)","v":0},{"$f":"IFERROR('8-Cost by Measure'!I25*1,1)","v":0},"Capacity/Size",{"$f":"'8-Cost by Measure'!G25","v":0},"Capacity/Size Units",{"$f":"'8-Cost by Measure'!H25","v":0},"Efficiency",{"$f":"'8-Cost by Measure'!J25","v":0},"Efficiency Units",{"$f":"'8-Cost by Measure'!K25","v":0}]
[{"$f":"'8-Cost by Measure'!C26","v":0},{"$f":"'8-Cost by Measure'!D26","v":0},{"$f":"'8-Cost by Measure'!E26","v":0},{"$f":"'8-Cost by Measure'!F26","v":0},{"$f":"IFERROR('8-Cost by Measure'!L26/V15,0)","v":0},{"$f":"IFERROR('9-Energy Savings by Measure'!J23/V15,0)","v":0},{"$f":"IFERROR(('2-Incentives'!$C$12+'2-Incentives'!$C$13)*'8-Cost by Measure'!Q26/'8-Cost by Measure'!$Q$36/V15,0)","v":0},{"$f":"'9-Energy Savings by Measure'!L23","v":0},{"$f":"IFERROR(('8-Cost by Measure'!Q26-(G15*V15))/'9-Energy Savings by Measure'!J23,0)","v":0},{"$f":"IFERROR('9-Energy Savings by Measure'!G23/V15,0)","v":0},{"$f":"IFERROR('9-Energy Savings by Measure'!E23/V15,0)","v":0},{"$f":"IFERROR('9-Energy Savings by Measure'!E23*'9-Energy Savings by Measure'!K23/V15,0)","v":0},{"$f":"IFERROR('9-Energy Savings by Measure'!D23/V15,0)","v":0},{"$f":"IFERROR('9-Energy Savings by Measure'!D23*'9-Energy Savings by Measure'!K23/V15,0)","v":0},0,0,0,0,0,0,{"$f":"IFERROR((K15*'Support Data'!$AH$12+M15*'Support Data'!$AH$11+O15*'Support Data'!$AH$10+Q15*'Support Data'!$AH$8+S15*'Support Data'!$AH$9)/V15,0)","v":0},{"$f":"IFERROR('8-Cost by Measure'!I26*1,1)","v":0},{"$f":"IFERROR('8-Cost by Measure'!I26*1,1)","v":0},"Capacity/Size",{"$f":"'8-Cost by Measure'!G26","v":0},"Capacity/Size Units",{"$f":"'8-Cost by Measure'!H26","v":0},"Efficiency",{"$f":"'8-Cost by Measure'!J26","v":0},"Efficiency Units",{"$f":"'8-Cost by Measure'!K26","v":0}]
[{"$f":"'8-Cost by Measure'!C27","v":0},{"$f":"'8-Cost by Measure'!D27","v":0},{"$f":"'8-Cost by Measure'!E27","v":0},{"$f":"'8-Cost by Measure'!F27","v":0},{"$f":"IFERROR('8-Cost by Measure'!L27/V16,0)","v":0},{"$f":"IFERROR('9-Energy Savings by Measure'!J24/V16,0)","v":0},{"$f":"IFERROR(('2-Incentives'!$C$12+'2-Incentives'!$C$13)*'8-Cost by Measure'!Q27/'8-Cost by Measure'!$Q$36/V16,0)","v":0},{"$f":"'9-Energy Savings by Measure'!L24","v":0},{"$f":"IFERROR(('8-Cost by Measure'!Q27-(G16*V16))/'9-Energy Savings by Measure'!J24,0)","v":0},{"$f":"IFERROR('9-Energy Savings by Measure'!G24/V16,0)","v":0},{"$f":"IFERROR('9-Energy Savings by Measure'!E24/V16,0)","v":0},{"$f":"IFERROR('9-Energy Savings by Measure'!E24*'9-Energy Savings by Measure'!K24/V16,0)","v":0},{"$f":"IFERROR('9-Energy Savings by Measure'!D24/V16,0)","v":0},{"$f":"IFERROR('9-Energy Savings by Measure'!D24*'9-Energy Savings by Measure'!K24/V16,0)","v":0},0,0,0,0,0,0,{"$f":"IFERROR((K16*'Support Data'!$AH$12+M16*'Support Data'!$AH$11+O16*'Support Data'!$AH$10+Q16*'Support Data'!$AH$8+S16*'Support Data'!$AH$9)/V16,0)","v":0},{"$f":"IFERROR('8-Cost by Measure'!I27*1,1)","v":0},{"$f":"IFERROR('8-Cost by Measure'!I27*1,1)","v":0},"Capacity/Size",{"$f":"'8-Cost by Measure'!G27","v":0},"Capacity/Size Units",{"$f":"'8-Cost by Measure'!H27","v":0},"Efficiency",{"$f":"'8-Cost by Measure'!J27","v":0},"Efficiency Units",{"$f":"'8-Cost by Measure'!K27","v":0}]
[{"$f":"'8-Cost by Measure'!C28","v":0},{"$f":"'8-Cost by Measure'!D28","v":0},{"$f":"'8-Cost by Measure'!E28","v":0},{"$f":"'8-Cost by Measure'!F28","v":0},{"$f":"IFERROR('8-Cost by Measure'!L28/V17,0)","v":0},{"$f":"IFERROR('9-Energy Savings by Measure'!J25/V17,0)","v":0},{"$f":"IFERROR(('2-Incentives'!$C$12+'2-Incentives'!$C$13)*'8-Cost by Measure'!Q28/'8-Cost by Measure'!$Q$36/V17,0)","v":0},{"$f":"'9-Energy Savings by Measure'!L25","v":0},{"$f":"IFERROR(('8-Cost by Measure'!Q28-(G17*V17))/'9-Energy Savings by Measure'!J25,0)","v":0},{"$f":"IFERROR('9-Energy Savings by Measure'!G25/V17,0)","v":0},{"$f":"IFERROR('9-Energy Savings by Measure'!E25/V17,0)","v":0},{"$f":"IFERROR('9-Energy Savings by Measure'!E25*'9-Energy Savings by Measure'!K25/V17,0)","v":0},{"$f":"IFERROR('9-Energy Savings by Measure'!D25/V17,0)","v":0},{"$f":"IFERROR('9-Energy Savings by Measure'!D25*'9-Energy Savings by Measure'!K25/V17,0)","v":0},0,0,0,0,0,0,{"$f":"IFERROR((K17*'Support Data'!$AH$12+M17*'Support Data'!$AH$11+O17*'Support Data'!$AH$10+Q17*'Support Data'!$AH$8+S17*'Support Data'!$AH$9)/V17,0)","v":0},{"$f":"IFERROR('8-Cost by Measure'!I28*1,1)","v":0},{"$f":"IFERROR('8-Cost by Measure'!I28*1,1)","v":0},"Capacity/Size",{"$f":"'8-Cost by Measure'!G28","v":0},"Capacity/Size Units",{"$f":"'8-Cost by Measure'!H28","v":0},"Efficiency",{"$f":"'8-Cost by Measure'!J28","v":0},"Efficiency Units",{"$f":"'8-Cost by Measure'!K28","v":0}]
[{"$f":"'8-Cost by Measure'!C29","v":0},{"$f":"'8-Cost by Measure'!D29","v":0},{"$f":"'8-Cost by Measure'!E29","v":0},{"$f":"'8-Cost by Measure'!F29","v":0},{"$f":"IFERROR('8-Cost by Measure'!L29/V18,0)","v":0},{"$f":"IFERROR('9-Energy Savings by Measure'!J26/V18,0)","v":0},{"$f":"IFERROR(('2-Incentives'!$C$12+'2-Incentives'!$C$13)*'8-Cost by Measure'!Q29/'8-Cost by Measure'!$Q$36/V18,0)","v":0},{"$f":"'9-Energy Savings by Measure'!L26","v":0},{"$f":"IFERROR(('8-Cost by Measure'!Q29-(G18*V18))/'9-Energy Savings by Measure'!J26,0)","v":0},{"$f":"IFERROR('9-Energy Savings by Measure'!G26/V18,0)","v":0},{"$f":"IFERROR('9-Energy Savings by Measure'!E26/V18,0)","v":0},{"$f":"IFERROR('9-Energy Savings by Measure'!E26*'9-Energy Savings by Measure'!K26/V18,0)","v":0},{"$f":"IFERROR('9-Energy Savings by Measure'!D26/V18,0)","v":0},{"$f":"IFERROR('9-Energy Savings by Measure'!D26*'9-Energy Savings by Measure'!K26/V18,0)","v":0},0,0,0,0,0,0,{"$f":"IFERROR((K18*'Support Data'!$AH$12+M18*'Support Data'!$AH$11+O18*'Support Data'!$AH$10+Q18*'Support Data'!$AH$8+S18*'Support Data'!$AH$9)/V18,0)","v":0},{"$f":"IFERROR('8-Cost by Measure'!I29*1,1)","v":0},{"$f":"IFERROR('8-Cost by Measure'!I29*1,1)","v":0},"Capacity/Size",{"$f":"'8-Cost by Measure'!G29","v":0},"Capacity/Size Units",{"$f":"'8-Cost by Measure'!H29","v":0},"Efficiency",{"$f":"'8-Cost by Measure'!J29","v":0},"Efficiency Units",{"$f":"'8-Cost by Measure'!K29","v":0}]
[{"$f":"'8-Cost by Measure'!C30","v":0},{"$f":"'8-Cost by Measure'!D30","v":0},{"$f":"'8-Cost by Measure'!E30","v":0},{"$f":"'8-Cost by Measure'!F30","v":0},{"$f":"IFERROR('8-Cost by Measure'!L30/V19,0)","v":0},{"$f":"IFERROR('9-Energy Savings by Measure'!J27/V19,0)","v":0},{"$f":"IFERROR(('2-Incentives'!$C$12+'2-Incentives'!$C$13)*'8-Cost by Measure'!Q30/'8-Cost by Measure'!$Q$36/V19,0)","v":0},{"$f":"'9-Energy Savings by Measure'!L27","v":0},{"$f":"IFERROR(('8-Cost by Measure'!Q30-(G19*V19))/'9-Energy Savings by Measure'!J27,0)","v":0},{"$f":"IFERROR('9-Energy Savings by Measure'!G27/V19,0)","v":0},{"$f":"IFERROR('9-Energy Savings by Measure'!E27/V19,0)","v":0},{"$f":"IFERROR('9-Energy Savings by Measure'!E27*'9-Energy Savings by Measure'!K27/V19,0)","v":0},{"$f":"IFERROR('9-Energy Savings by Measure'!D27/V19,0)","v":0},{"$f":"IFERROR('9-Energy Savings by Measure'!D27*'9-Energy Savings by Measure'!K27/V19,0)","v":0},0,0,0,0,0,0,{"$f":"IFERROR((K19*'Support Data'!$AH$12+M19*'Support Data'!$AH$11+O19*'Support Data'!$AH$10+Q19*'Support Data'!$AH$8+S19*'Support Data'!$AH$9)/V19,0)","v":0},{"$f":"IFERROR('8-Cost by Measure'!I30*1,1)","v":0},{"$f":"IFERROR('8-Cost by Measure'!I30*1,1)","v":0},"Capacity/Size",{"$f":"'8-Cost by Measure'!G30","v":0},"Capacity/Size Units",{"$f":"'8-Cost by Measure'!H30","v":0},"Efficiency",{"$f":"'8-Cost by Measure'!J30","v":0},"Efficiency Units",{"$f":"'8-Cost by Measure'!K30","v":0}]
[{"$f":"'8-Cost by Measure'!C31","v":0},{"$f":"'8-Cost by Measure'!D31","v":0},{"$f":"'8-Cost by Measure'!E31","v":0},{"$f":"'8-Cost by Measure'!F31","v":0},{"$f":"IFERROR('8-Cost by Measure'!L31/V20,0)","v":0},{"$f":"IFERROR('9-Energy Savings by Measure'!J28/V20,0)","v":0},{"$f":"IFERROR(('2-Incentives'!$C$12+'2-Incentives'!$C$13)*'8-Cost by Measure'!Q31/'8-Cost by Measure'!$Q$36/V20,0)","v":0},{"$f":"'9-Energy Savings by Measure'!L28","v":0},{"$f":"IFERROR(('8-Cost by Measure'!Q31-(G20*V20))/'9-Energy Savings by Measure'!J28,0)","v":0},{"$f":"IFERROR('9-Energy Savings by Measure'!G28/V20,0)","v":0},{"$f":"IFERROR('9-Energy Savings by Measure'!E28/V20,0)","v":0},{"$f":"IFERROR('9-Energy Savings by Measure'!E28*'9-Energy Savings by Measure'!K28/V20,0)","v":0},{"$f":"IFERROR('9-Energy Savings by Measure'!D28/V20,0)","v":0},{"$f":"IFERROR('9-Energy Savings by Measure'!D28*'9-Energy Savings by Measure'!K28/V20,0)","v":0},0,0,0,0,0,0,{"$f":"IFERROR((K20*'Support Data'!$AH$12+M20*'Support Data'!$AH$11+O20*'Support Data'!$AH$10+Q20*'Support Data'!$AH$8+S20*'Support Data'!$AH$9)/V20,0)","v":0},{"$f":"IFERROR('8-Cost by Measure'!I31*1,1)","v":0},{"$f":"IFERROR('8-Cost by Measure'!I31*1,1)","v":0},"Capacity/Size",{"$f":"'8-Cost by Measure'!G31","v":0},"Capacity/Size Units",{"$f":"'8-Cost by Measure'!H31","v":0},"Efficiency",{"$f":"'8-Cost by Measure'!J31","v":0},"Efficiency Units",{"$f":"'8-Cost by Measure'!K31","v":0}]
[{"$f":"'8-Cost by Measure'!C32","v":0},{"$f":"'8-Cost by Measure'!D32","v":0},{"$f":"'8-Cost by Measure'!E32","v":0},{"$f":"'8-Cost by Measure'!F32","v":0},{"$f":"IFERROR('8-Cost by Measure'!L32/V21,0)","v":0},{"$f":"IFERROR('9-Energy Savings by Measure'!J29/V21,0)","v":0},{"$f":"IFERROR(('2-Incentives'!$C$12+'2-Incentives'!$C$13)*'8-Cost by Measure'!Q32/'8-Cost by Measure'!$Q$36/V21,0)","v":0},{"$f":"'9-Energy Savings by Measure'!L29","v":0},{"$f":"IFERROR(('8-Cost by Measure'!Q32-(G21*V21))/'9-Energy Savings by Measure'!J29,0)","v":0},{"$f":"IFERROR('9-Energy Savings by Measure'!G29/V21,0)","v":0},{"$f":"IFERROR('9-Energy Savings by Measure'!E29/V21,0)","v":0},{"$f":"IFERROR('9-Energy Savings by Measure'!E29*'9-Energy Savings by Measure'!K29/V21,0)","v":0},{"$f":"IFERROR('9-Energy Savings by Measure'!D29/V21,0)","v":0},{"$f":"IFERROR('9-Energy Savings by Measure'!D29*'9-Energy Savings by Measure'!K29/V21,0)","v":0},0,0,0,0,0,0,{"$f":"IFERROR((K21*'Support Data'!$AH$12+M21*'Support Data'!$AH$11+O21*'Support Data'!$AH$10+Q21*'Support Data'!$AH$8+S21*'Support Data'!$AH$9)/V21,0)","v":0},{"$f":"IFERROR('8-Cost by Measure'!I32*1,1)","v":0},{"$f":"IFERROR('8-Cost by Measure'!I32*1,1)","v":0},"Capacity/Size",{"$f":"'8-Cost by Measure'!G32","v":0},"Capacity/Size Units",{"$f":"'8-Cost by Measure'!H32","v":0},"Efficiency",{"$f":"'8-Cost by Measure'!J32","v":0},"Efficiency Units",{"$f":"'8-Cost by Measure'!K32","v":0}]
[{"$f":"'8-Cost by Measure'!C33","v":0},{"$f":"'8-Cost by Measure'!D33","v":0},{"$f":"'8-Cost by Measure'!E33","v":0},{"$f":"'8-Cost by Measure'!F33","v":0},{"$f":"IFERROR('8-Cost by Measure'!L33/V22,0)","v":0},{"$f":"IFERROR('9-Energy Savings by Measure'!J30/V22,0)","v":0},{"$f":"IFERROR(('2-Incentives'!$C$12+'2-Incentives'!$C$13)*'8-Cost by Measure'!Q33/'8-Cost by Measure'!$Q$36/V22,0)","v":0},{"$f":"'9-Energy Savings by Measure'!L30","v":0},{"$f":"IFERROR(('8-Cost by Measure'!Q33-(G22*V22))/'9-Energy Savings by Measure'!J30,0)","v":0},{"$f":"IFERROR('9-Energy Savings by Measure'!G30/V22,0)","v":0},{"$f":"IFERROR('9-Energy Savings by Measure'!E30/V22,0)","v":0},{"$f":"IFERROR('9-Energy Savings by Measure'!E30*'9-Energy Savings by Measure'!K30/V22,0)","v":0},{"$f":"IFERROR('9-Energy Savings by Measure'!D30/V22,0)","v":0},{"$f":"IFERROR('9-Energy Savings by Measure'!D30*'9-Energy Savings by Measure'!K30/V22,0)","v":0},0,0,0,0,0,0,{"$f":"IFERROR((K22*'Support Data'!$AH$12+M22*'Support Data'!$AH$11+O22*'Support Data'!$AH$10+Q22*'Support Data'!$AH$8+S22*'Support Data'!$AH$9)/V22,0)","v":0},{"$f":"IFERROR('8-Cost by Measure'!I33*1,1)","v":0},{"$f":"IFERROR('8-Cost by Measure'!I33*1,1)","v":0},"Capacity/Size",{"$f":"'8-Cost by Measure'!G33","v":0},"Capacity/Size Units",{"$f":"'8-Cost by Measure'!H33","v":0},"Efficiency",{"$f":"'8-Cost by Measure'!J33","v":0},"Efficiency Units",{"$f":"'8-Cost by Measure'!K33","v":0}]
[{"$f":"'8-Cost by Measure'!C34","v":0},{"$f":"'8-Cost by Measure'!D34","v":0},{"$f":"'8-Cost by Measure'!E34","v":0},{"$f":"'8-Cost by Measure'!F34","v":0},{"$f":"IFERROR('8-Cost by Measure'!L34/V23,0)","v":0},{"$f":"IFERROR('9-Energy Savings by Measure'!J31/V23,0)","v":0},{"$f":"IFERROR(('2-Incentives'!$C$12+'2-Incentives'!$C$13)*'8-Cost by Measure'!Q34/'8-Cost by Measure'!$Q$36/V23,0)","v":0},{"$f":"'9-Energy Savings by Measure'!L31","v":0},{"$f":"IFERROR(('8-Cost by Measure'!Q34-(G23*V23))/'9-Energy Savings by Measure'!J31,0)","v":0},{"$f":"IFERROR('9-Energy Savings by Measure'!G31/V23,0)","v":0},{"$f":"IFERROR('9-Energy Savings by Measure'!E31/V23,0)","v":0},{"$f":"IFERROR('9-Energy Savings by Measure'!E31*'9-Energy Savings by Measure'!K31/V23,0)","v":0},{"$f":"IFERROR('9-Energy Savings by Measure'!D31/V23,0)","v":0},{"$f":"IFERROR('9-Energy Savings by Measure'!D31*'9-Energy Savings by Measure'!K31/V23,0)","v":0},0,0,0,0,0,0,{"$f":"IFERROR((K23*'Support Data'!$AH$12+M23*'Support Data'!$AH$11+O23*'Support Data'!$AH$10+Q23*'Support Data'!$AH$8+S23*'Support Data'!$AH$9)/V23,0)","v":0},{"$f":"IFERROR('8-Cost by Measure'!I34*1,1)","v":0},{"$f":"IFERROR('8-Cost by Measure'!I34*1,1)","v":0},"Capacity/Size",{"$f":"'8-Cost by Measure'!G34","v":0},"Capacity/Size Units",{"$f":"'8-Cost by Measure'!H34","v":0},"Efficiency",{"$f":"'8-Cost by Measure'!J34","v":0},"Efficiency Units",{"$f":"'8-Cost by Measure'!K34","v":0}]

{"sheet":"Support Data","index":22,"n_rows":82,"n_cols":34,"rows_kept":82,"cut":false,"hidden":true,"merged":[[6,33,6,35],[1,32,1,35],[2,33,2,35],[3,33,3,35],[4,33,4,35],[5,33,5,35],[7,33,7,35],[8,33,8,35],[9,33,9,35],[10,33,10,35],[11,33,11,35]]}
[]
[null,"Incentive #3 $/SF",null,"Garage_Type",null,"Y_N",null,"Space_Type",null,"Project_Stage",null,"Gas_Unit",null,"Electric_Unit",null,"Cost_Source",null,"Measure_Type",null,"Capacity_Units",null,"Efficiency_Units",null,"Fuel_Type",null,"Measure","days/ year","hours/ day","Diversity factor",null,"CHP_Fuel",null,"CO2e Lookup"]
[null,{"$f":"IF('1-Program Metrics'!F14<0.15,0,IF(AND('1-Program Metrics'!F14>=0.15,'1-Program Metrics'!F14<0.18),'P4P Incentive Structure'!C14,IF(AND('1-Program Metrics'!F14>=0.18,'1-Program Metrics'!F14<0.21),'P4P Incentive Structure'!C15,'P4P Incentive Structure'!C16)))","v":0},null,"None",null,"Y/N",null,"ASHRAE space type",null,"<Choose>",null,"Choose unit:",null,"Choose unit:",null,"Baseline Cost Estimator",null,"Pre-Design Planning",null,"BTUH",null,"EER",null,"electricity",null,"Measure with no Demand Savings",365,24,0,null,"Choose fuel:",null,"Fuel Type","Lbs CO2 Equivalent per MMBtu or kWh"]
[null,null,null,"Under Ground",null,"Yes",null,"Apartment Space",null,"Proposed Design",null,"Btu",null,"Btu",null,"Bid Results",null,"Design Simulation & Screening",null,"DCW",null,"SEER",null,"gas",null,"---- Envelope/Shell Measures (where AC is present) -----","----","----","----",null,"Gas",null,null,0]
[null,null,null,"Above Ground",null,"No",null,"Office-Enclosed",null,"As-Built",null,"kBtu",null,"kBtu",null,"Contractor",null,"Final Design",null,"HP",null,"AFUE",null,"oil",null,"Air conditioner sleeves, seal",62.5,8,0,null,"Oil",null,"N/A",0]
[null,null,null,"Parking Lot",null,null,null,"Office-Open Plan",null,null,null,"MMBtu",null,"MMBtu",null,"Developer",null,"Water Cooled Chiller (Electric) - Partial Load",null,"MBH",null,"CFM",null,"propane",null,"Envelope penetrations, seal",62.5,8,0,null,null,null,"No. 6 Fuel Oil",{"$f":"75.35*2.20462","v":166.11811699999998}]
[null,null,null,null,null,null,null,"Conference/Meeting/Multipurpose Room",null,null,null,"Therm",null,"kWh",null,"Manufacturer",null,"Water Cooled Chiller (Electric) - Full Load",null,"NPC",null,"CFM/sf",null,"steam",null,"Exterior doors, replace",62.5,8,0,null,null,null,"No. 4 Fuel Oil",{"$f":"75.3*2.20462","v":166.00788599999998}]
[null,null,null,null,null,null,null,"Classroom/Lecture/Training",null,null,null,null,null,"W",null,"Previous Experience",null,"Air Cooled Chiller (Electric)",null,"Tons",null,"COP",null,"wood",null,"Exterior doors, weatherseal or repair",62.5,8,0,null,null,null,"No. 2 Fuel Oil",{"$f":"74.21*2.20462","v":163.60485019999996}]
[null,null,null,null,null,null,null,"Classroom/Lecture/Training - For Penitentiary",null,null,null,null,null,null,null,"RS Means",null,"Gas Absorption Chiller",null,"WG",null,"EF",null,"CHW",null,"Insulation, basement/crawl space",62.5,8,0,null,null,null,"Steam",{"$f":"66.4*2.20462","v":146.38676799999999}]
[null,null,null,null,null,null,null,"Lobby",null,null,null,null,null,null,null,null,null,"Desiccant System (Gas or Electric)",null,"W",null,"HSPF",null,"HW",null,"Insulation, roof deck or attic",62.5,8,0,null,null,null,"Propane",{"$f":"64.25*2.20462","v":141.64683499999998}]
[null,null,null,null,null,null,null,"Lobby - For Performing Arts Theater",null,null,null,null,null,null,null,null,null,"Unitary HVAC/Split Systems",null,null,null,"kW/Ton",null,"N/A",null,"Insulation, walls",62.5,8,0,null,null,null,"Natural Gas",{"$f":"53.11*2.20462","v":117.08736819999999}]
[null,null,null,null,null,null,null,"Lobby - For Motion Picture Theater",null,null,null,null,null,null,null,null,null,"Air to Air Heat Pump",null,null,null,"MEP",null,null,null,"Interior doors or windows, weatherseal",62.5,8,0,null,null,null,"Electric",{"$f":"133.87*2.20462*0.003412","v":1.0069920197127999}]
[null,null,null,null,null,null,null,"Audience/Seating Area",null,null,null,null,null,null,null,null,null,"Packaged Terminal AC & HP",null,null,null,"MM Calc",null,null,null,"Windows, replace, apts",62.5,8,0]
[null,null,null,null,null,null,null,"Audience/Seating Area - For Gymnasium",null,null,null,null,null,null,null,null,null,"Dual Enthalpy Economizer",null,null,null,"MM Est",null,null,null,"Windows, replace, common area",62.5,8,0]
[null,null,null,null,null,null,null,"Audience/Seating Area - For Exercise Center",null,null,null,null,null,null,null,null,null,"Central DX AC System",null,null,null,"NEMA",null,null,null,"Windows, weatherseal or repair, apts",62.5,8,0]
[null,null,null,null,null,null,null,"Audience/Seating Area - For Convenience Center",null,null,null,null,null,null,null,null,null,"Water Source Heat Pump",null,null,null,"R-Value",null,null,null,"---- Lighting Measures -----","----","----","----"]
[null,null,null,null,null,null,null,"Audience/Seating Area - For Penitentiary",null,null,null,null,null,null,null,null,null,"Open Loop HP",null,null,null,"SHGC",null,null,null,"Lighting, bi-level, install",365,24,1]
[null,null,null,null,null,null,null,"Audience/Seating Area - For Religious Buildings",null,null,null,null,null,null,null,null,null,"Closed Loop HP",null,null,null,null,null,null,null,"Lighting, CFL's, install",365,3,0.10299999999999999]
[null,null,null,null,null,null,null,"Audience/Seating Area - For Sports Arena - Outdoor",null,null,null,null,null,null,null,null,null,"Hot Water Boiler (Gas)",null,null,null,null,null,null,null,"Lighting, fixtures, remove (delamp)",365,24,1]
[null,null,null,null,null,null,null,"Audience/Seating Area - For Sports Arena - Indoor",null,null,null,null,null,null,null,null,null,"Steam Boiler (Gas)",null,null,null,null,null,null,null,"Lighting, fixtures, replace diffusers",365,24,1]
[null,null,null,null,null,null,null,"Audience/Seating Area - For Performing Arts Theater",null,null,null,null,null,null,null,null,null,"Gas Furnace",null,null,null,null,null,null,null,"Lighting, fluorescent, upgrade existing - apts",365,3.5,0.10299999999999999]
[null,null,null,null,null,null,null,"Audience/Seating Area - For Motion Picture Theater",null,null,null,null,null,null,null,null,null,"VFD - Variable Air Volume",null,null,null,null,null,null,null,"Lighting, fluorescent, upgrade existing - CA",365,24,1]
[null,null,null,null,null,null,null,"Audience/Seating Area - For Thansportation",null,null,null,null,null,null,null,null,null,"VFD - Chilled Water Pump",null,null,null,null,null,null,null,"Lighting, incandescent to fluorescent - apts",365,3,0.10299999999999999]
[null,null,null,null,null,null,null,"Atrium - First Three Floors",null,null,null,null,null,null,null,null,null,"Air Compressor with VFD",null,null,null,null,null,null,null,"Lighting, incandescent to fluorescent - CA",365,24,1]
[null,null,null,null,null,null,null,"Atrium - Each Additional Floor",null,null,null,null,null,null,null,null,null,"Water Heater (Gas) - </= 50 Gals.",null,null,null,null,null,null,null,"Lighting, LED exit signs, install",365,24,1]
[null,null,null,null,null,null,null,"Lounge/Recreation",null,null,null,null,null,null,null,null,null,"Water Heater (Gas) - > 50 Gals.",null,null,null,null,null,null,null,"Lighting, occupancy sensors, install",365,24,0.65]
[null,null,null,null,null,null,null,"Lounge/Recreation - For Hospital",null,null,null,null,null,null,null,null,null,"Water Booster Heater (Gas)",null,null,null,null,null,null,null,"Lighting, timers, install",365,24,0.65]
[null,null,null,null,null,null,null,"Dining Area",null,null,null,null,null,null,null,null,null,"ODP Premium Motor - 1200 RPM",null,null,null,null,null,null,null,"---- Motors, Fans, & Pumps -----","----","----","----"]
[null,null,null,null,null,null,null,"Dining Area - For Penitentiary",null,null,null,null,null,null,null,null,null,"ODP Premium Motor - 1800 RPM",null,null,null,null,null,null,null,"Compressors, upgrade",62.5,8,0.98]
[null,null,null,null,null,null,null,"Dining Area - For Bar Lounge/Leisure Dining",null,null,null,null,null,null,null,null,null,"ODP Premium Motor - 3600 RPM",null,null,null,null,null,null,null,"DHW, controls",365,24,1]
[null,null,null,null,null,null,null,"Dining Area - For Family Dining",null,null,null,null,null,null,null,null,null,"TEFC Premium Motor - 1200 RPM",null,null,null,null,null,null,null,"Elevator motors and controls, upgrade",0,0,0]
[null,null,null,null,null,null,null,"Food Preparation",null,null,null,null,null,null,null,null,null,"TEFC Premium Motor - 1800 RPM",null,null,null,null,null,null,null,"Exhaust fans, replace",365,24,1]
[null,null,null,null,null,null,null,"Laboratory",null,null,null,null,null,null,null,null,null,"TEFC Premium Motor - 3600 RPM",null,null,null,null,null,null,null,"Fan/air handlers, upgrade",365,24,1]
[null,null,null,null,null,null,null,"Restrooms",null,null,null,null,null,null,null,null,null,"CFL - Indoor Fixture",null,null,null,null,null,null,null,"Motors, upgrade",365,24,0.78]
[null,null,null,null,null,null,null,"Dressing/Locker/Fitting Room",null,null,null,null,null,null,null,null,null,"Fluorescent Fixtures",null,null,null,null,null,null,null,"Pumps, upgrade",365,24,0.78]
[null,null,null,null,null,null,null,"Corridor/Transportation",null,null,null,null,null,null,null,null,null,"De-Lamp/Add Reflectors",null,null,null,null,null,null,null,"Ventilation fans, replace",365,24,1]
[null,null,null,null,null,null,null,"Corridor/Transportation - For Hospital",null,null,null,null,null,null,null,null,null,"HID",null,null,null,null,null,null,null,"---- Appliances -----","----","----","----"]
[null,null,null,null,null,null,null,"Corridor/Transportation - For Manufacturing Facility",null,null,null,null,null,null,null,null,null,"Incandescent",null,null,null,null,null,null,null,"Dishwashers, Replace",365,0.8,0.41]
[null,null,null,null,null,null,null,"Stairs - Active",null,null,null,null,null,null,null,null,null,"Metal Halide",null,null,null,null,null,null,null,"Gas-Fired Dryers, Replace Electric",0,0,0]
[null,null,null,null,null,null,null,"Active Storage",null,null,null,null,null,null,null,null,null,"Mercury Vapor",null,null,null,null,null,null,null,"Other Appliances, Replace",365,0.6,0]
[null,null,null,null,null,null,null,"Active Storage - For Hospital",null,null,null,null,null,null,null,null,null,"Halogen",null,null,null,null,null,null,null,"Refrigerators, Install ENERGY STAR",365,24,0.86299999999999999]
[null,null,null,null,null,null,null,"Inactive Storage",null,null,null,null,null,null,null,null,null,"Other Lighting",null,null,null,null,null,null,null,"Washing machines, Install ENERGY STAR",365,1.1000000000000001,0.52300000000000002]
[null,null,null,null,null,null,null,"Inactive Storage - For Museum",null,null,null,null,null,null,null,null,null,"LED Exit Signs",null,null,null,null,null,null,null,"---- Cooling Systems -----","----","----","----"]
[null,null,null,null,null,null,null,"Gymnasium/Exercise Center - Playing Area",null,null,null,null,null,null,null,null,null,"LED Parking Lot Lighting",null,null,null,null,null,null,null,"AC, Change Setpoints",62.5,8,0]
[null,null,null,null,null,null,null,"Gymnasium/Exercise Center - Exercise Area",null,null,null,null,null,null,null,null,null,"LED Traffic Signal (For historic files only.)",null,null,null,null,null,null,null,"AC, Install ENERGY STAR",62.5,8,0.84]
[null,null,null,null,null,null,null,"Courthouse - Courtroom",null,null,null,null,null,null,null,null,null,"LED Pedestrian Signal (For historic files only.)",null,null,null,null,null,null,null,"Chiller, Replace",62.5,8,0.9]
[null,null,null,null,null,null,null,"Confinement Cells",null,null,null,null,null,null,null,null,null,"Occupancy Sensors - Wall Mounted (OSW)",null,null,null,null,null,null,null,"---- Hot Water Systems (electric hot water systems only) -----","----","----","----"]
[null,null,null,null,null,null,null,"Courthouse - Judges Chambers",null,null,null,null,null,null,null,null,null,"Occupancy Sensors - Remote Mounted (OSR, OSRH)",null,null,null,null,null,null,null,"DHW boiler, replace with condensing",365,24,0.98]
[null,null,null,null,null,null,null,"Fire Station Engine Room",null,null,null,null,null,null,null,null,null,"Daylight Dimmers – Fluorescent Fixtures (DLD)",null,null,null,null,null,null,null,"DHW direct-fired heater, install",365,24,0.98]
[null,null,null,null,null,null,null,"Fire Station Sleeping Quarters",null,null,null,null,null,null,null,null,null,"Daylight Dimmers - HID or Fluorescent Hi-Bay (DDH)",null,null,null,null,null,null,null,"DHW heater, high efficiency, install",365,24,0.98]
[null,null,null,null,null,null,null,"Convention Center - Exhibit Space",null,null,null,null,null,null,null,null,null,"Hi-Low Controls – Fluorescent Fixtures (OHLF)",null,null,null,null,null,null,null,"DHW tank, insulate",365,24,0.98]
[null,null,null,null,null,null,null,"Hospital - Emergency",null,null,null,null,null,null,null,null,null,"Hi-Low Controls - HID or Fluorescent Hi-Bay (OHLH)",null,null,null,null,null,null,null,"DHW temperature, decrease",365,24,0.98]
[null,null,null,null,null,null,null,"Hospital - Recovery",null,null,null,null,null,null,null,null,null,"Custom Electric",null,null,null,null,null,null,null,"Distribution system, upgrade",365,24,0.98]
[null,null,null,null,null,null,null,"Hospital - Nurse Station",null,null,null,null,null,null,null,null,null,"Custom Gas",null,null,null,null,null,null,null,"Low-flow aerators, install",365,24,0.98]
[null,null,null,null,null,null,null,"Hospital - Exam/Treatment",null,null,null,null,null,null,null,null,null,"Duct Sealing",null,null,null,null,null,null,null,"Low-flow showerheads, install",365,24,0.98]
[null,null,null,null,null,null,null,"Hospital - Pharmacy",null,null,null,null,null,null,null,null,null,"Duct Insulation",null,null,null,null,null,null,null,"Mixing valve, replace",365,24,0.98]
[null,null,null,null,null,null,null,"Hospital - Patient Room",null,null,null,null,null,null,null,null,null,"Insulation - Ceiling",null,null,null,null,null,null,null,"Piping, DHW, insulate",365,24,0.98]
[null,null,null,null,null,null,null,"Hospital - Operating Room",null,null,null,null,null,null,null,null,null,"Insulation - Walls, Kneewalls, Rim Band/Joists",null,null,null,null,null,null,null,"---- Advanced Measures -----","----","----","----"]
[null,null,null,null,null,null,null,"Hospital - Nursery",null,null,null,null,null,null,null,null,null,"Insulation - Floors Over Garages, Outside, Vented Crawl Spaces",null,null,null,null,null,null,null,"Cogeneration plant, recommend",0,0,0]
[null,null,null,null,null,null,null,"Hospital - Medical Supply",null,null,null,null,null,null,null,null,null,"Insulation - Basements/Unvented Crawl Spaces (Walls)",null,null,null,null,null,null,null,"Geothermal, recommend",365,24,0.9]
[null,null,null,null,null,null,null,"Hospital - Physical Therapy",null,null,null,null,null,null,null,null,null,"Insulation - Basements/Unvented Crawl Spaces (Floors)",null,null,null,null,null,null,null,"Solar/Photovoltaic, recommend",0,0,0]
[null,null,null,null,null,null,null,"Hospital - Radiology",null,null,null,null,null,null,null,null,null,"Insulation - Slab edge/Slab Under",null,null,null,null,null,null,null,"Wind power, recommend",0,0,0]
[null,null,null,null,null,null,null,"Hospital - Laundry",null,null,null,null,null,null,null,null,null,"Windows and Glass Doors",null,null,null,null,null,null,null,"Yes"]
[null,null,null,null,null,null,null,"Automotive - Service/Repair",null,null,null,null,null,null,null,null,null,"Skylights",null,null,null,null,null,null,null,"No"]
[null,null,null,null,null,null,null,"Manufacturing - Low Bay (<25 ft floor to ceiling height)",null,null,null,null,null,null,null,null,null,"Doors"]
[null,null,null,null,null,null,null,"Manufacturing - High Bay (>=25 ft floor to ceiling height)",null,null,null,null,null,null,null,null,null,"Air Sealing"]
[null,null,null,null,null,null,null,"Manufacturing - Detailed Manufacturing"]
[null,null,null,null,null,null,null,"Manufacturing - Equipment Room"]
[null,null,null,null,null,null,null,"Manufacturing - Control Room"]
[null,null,null,null,null,null,null,"Electrical/Mechanical"]
[null,null,null,null,null,null,null,"Workshop"]
[null,null,null,null,null,null,null,"Retail - Sales Area"]
[null,null,null,null,null,null,null,"Retail - Mall Concourse"]
[null,null,null,null,null,null,null,"Ring Sports Arena"]
[null,null,null,null,null,null,null,"Court Sports Arena"]
[null,null,null,null,null,null,null,"Indoor Playing Field"]
[null,null,null,null,null,null,null,"Warehouse - Fine Material Storage"]
[null,null,null,null,null,null,null,"Warehouse - Medium/Bulky Material Storage"]
[null,null,null,null,null,null,null,"Parking Garage"]
[null,null,null,null,null,null,null,"Transportation - Airport - Concourse"]
[null,null,null,null,null,null,null,"Transportation - Air/Train/Bus - Baggage Area"]
[null,null,null,null,null,null,null,"Transportation - Terminal - Ticket Counter"]

{"sheet":"TRC Version Documentation","index":23,"n_rows":32,"n_cols":3,"rows_kept":32,"cut":false,"hidden":true,"merged":[]}
[]
["v1.0 released 11/17/09, after first P4P NC Orientation."]
[]
["v2.0 released 1/17/11, and includes: "]
[null,"updates to ASHRAE space type list"]
[null,"minor updates to instructions"]
[null,"addition of Instruction tab"]
[]
["v2.1 released 4/19/2011"]
[null,"updates to IRR calculation on 10/14/11"]
[]
["v3.0 released 1/xx/2012"]
[null,"updates to program relative to 2012 filing including:"]
[null,null,"Incentive structure and payout "]
[null,null,"Expanded instructions and fuel compatibility "]
[]
["v3.1 released 03/27/2015"]
[null,"updated support tab, Incentive #3 calc to reflect accurate % ranges for incentive"]
[null,"updated Table-2 to round to two decimal places "]
[null,"locked cell formating on some tabs"]
[]
["v3.2 released 7/1/2015"]
[null,"updates to Program Guidelines reference v3.2"]
[]
["v3.3 released 7/9/2015"]
[null,"updated IRR and Savings to calculate to tenth place (e.g. 15.0%)"]
[]
["v3.4 6/3/2016"]
[null,"updated Incentive #3 calculation. 18% savings break, and 21% savings required for highest incentive tier."]
[]
["v3.4a 8/5/16"]
[null,"Added new export tab for database"]