{"text_format":"1","workbook":"xlsx","n_sheets":11,"sheets":["Worksheet","Fixture Schedule","Measure Code","Measure Code Menus","Existing Fixture Support","Proposed Fixture Support","Other Support","Fixtures","Type","Export","Version Log"],"not_rendered":{"charts":0,"images":2,"macros":1,"external_links":11,"defined_names":890,"comments":0,"pivot_tables":1},"unopened":[],"bounds":{"document_bytes":16777216,"sheet_cells":100000,"rows_first":2000,"rows_last":500,"rows_between":2000,"halvings":0,"cell_chars":16384,"cell_head_chars":4096},"cells_cut":0,"cells_raw":0,"read":"whole","date_system":"1900"}

{"sheet":"Worksheet","index":0,"n_rows":540,"n_cols":48,"rows_kept":540,"cut":false,"hidden":false,"merged":[[3,1,3,5],[20,1,20,4],[20,5,20,9],[8,7,8,10],[12,7,12,8],[8,1,8,5],[20,10,20,20],[15,0,15,3],[4,1,4,5],[5,1,5,2],[17,0,17,3],[19,0,19,8],[20,0,26,0],[21,15,26,15],[21,9,26,9],[21,10,26,10],[21,41,26,41],[21,42,26,42],[21,43,26,43],[21,1,26,1],[21,2,26,2],[21,3,26,3],[21,4,26,4],[21,6,26,6],[21,7,26,7],[21,28,26,28],[21,26,26,26],[21,5,26,5],[21,11,26,11],[21,8,26,8],[21,14,26,14],[21,20,26,20],[21,12,26,12],[21,13,26,13],[21,17,26,17],[2,12,2,13],[21,29,26,29],[21,22,26,22],[21,16,26,16],[21,21,26,21],[21,23,26,23],[21,24,26,24],[21,18,26,18],[21,25,26,25],[20,21,20,22],[21,19,26,19],[21,27,26,27],[20,26,20,27],[2,26,2,28],[3,26,3,28],[3,30,7,32],[21,30,26,30],[21,31,26,31],[21,32,26,32],[21,44,25,44],[21,46,25,46],[21,45,25,45],[21,47,25,47],[2,30,2,32],[2,33,2,35],[3,33,7,35],[21,33,26,33],[16,45,16,47],[21,38,26,38],[21,39,26,39],[21,36,26,36],[21,37,26,37],[21,34,26,34],[21,35,26,35],[21,40,26,40]]}
["FY20","Prescriptive Lighting Information"]
[]
["Customer Information (NOTE: Name and Address fields must be completed at a minimum in order for any measures to be evaluated for eligibility)",null,null,null,null,null,null,null,null,null,null,null,null,null,null,null,null,null,null,null,null,null,null,null,null,null,"Total Units Committed:",null,null,{"$f":"SUM(V28:V540)","v":0},"Pre-Inspection Notes",null,null,"Post Inspection Notes"]
["Company Name",null,null,null,null,null,null,null,null,null,null,null,null,null,null,null,null,null,null,null,null,null,null,null,null,null,"Total Units Installed:",null,null,{"$f":"SUM(W28:W540)","v":0}]
["Facility Address"]
["Application Number",null,null,"(OFFICE USE ONLY)"]
[]
["Contractor/Vendor Information"]
["Company Name"]
["Enhanced Incentive Eligibility"]
[false,false,false]
[false,false]
[]
["(NOTE: The following building and HVAC fields must be completed in order for any measures to be evaluated for eligibility)"]
["Building Type ",null,null,null,null,"Building Size"]
[]
["HVAC Type",null,null,null,null,null,null,null,null,null,null,null,null,null,null,null,null,null,null,null,null,null,null,null,null,null,null,null,null,null,null,null,null,null,null,null,null,null,null,null,null,null,null,null,"Inspection Type"]
[]
[null,null,null,null,null,null,null,null,null,null,null,null,null,null,null,null,null,null,null,null,null,null,null,null,null,null,null,null,null,null,null,null,null,null,null,null,null,null,null,null,null,null,null,null,null,"Date","Inspector/Sign-off"]
["NOTE: For proper functionality of this workbook, each line item (i.e. row) must be completed from left-to-right, beginning with the \"Measure Code\" input.",null,null,null,null,null,null,null,null,{"$f":"SUM(J28:J540)","v":0},null,null,null,null,null,null,null,null,null,null,{"$f":"SUM(U28:U540)","v":0},null,null,"NOTE: Approval is required prior to installation.",null,null,null,null,null,null,null,null,null,null,null,null,null,null,null,null,null,null,null,null,"Pre-Inspection"]
["Measure Code\n\n(From Application)","General/Location",null,null,null,"Existing Fixture Information",null,null,null,null,"Proposed Fixture Information",null,null,null,null,null,null,null,null,null,null,"Quantity",null,null,null,null,"Totals",null,{"$f":"SUMIF(AC28:AC540,\"<>#N/A\",AC28:AC540)","v":0},{"$f":"SUMIF(AD28:AD540,\"<>#N/A\",AD28:AD540)","v":0},null,null,null,null,{"$f":"SUMIF(AI28:AI540,\"<>#N/A\",AI28:AI540)","v":0},0,0,0,0,0,{"$f":"SUMIF(AO28:AO540,\"<>#N/A\",AO28:AO540)","v":0},0,0,0,"Post Inspection"]
[null,"New \nor\nRetrofit","Floor Number","Fixture Location/ \nRoom Name","Interior/\nExterior","Existing Fixture Type","Existing Fixture/Lamp Description","Default Existing Wattage per Fixture","Actual Existing Wattage per Fixture\n\n(if different)","Number of Existing Fixtures","Proposed Fixture Type","Proposed Fixture/Lamp Description","Manufacturer Name","Model Number","Default Proposed Wattage per Fixture","Actual Proposed Wattage per Fixture per DLC/EnergyStar","Number of Lamps per Fixture\n\n(LED Mogul, Screw-In, Pin-Based & Tubes Only)","Watts per Lamp\n\n(LED Mogul, Screw-In, Pin-Based & Tubes Only)","Display Case LEDs\n(# of Display Cases/\n# of Fixtures)","Cooler or Freezer","Number of Proposed Fixtures","Number of Fixtures\nCommitted\n\nShould equal the lesser of the Existing and Proposed fixture counts","Number of Fixtures\nInstalled\n\nShould equal the lesser of the Existing and Proposed fixture counts","Existing Fixture Wattage","Proposed Fixture Wattage","Eligible Measure?","Incentive Per Fixture","Enhanced Incentive Per Fixture","Total Incentive Committed","Total Incentive Installed","kW Savings Per Fixture","Peak kW Savings Per Fixture","kWh Savings Per Fixture","Fuel Savings Per Fixture\n(MMBtu)","Peak kW Savings\nCommitted","Peak kW Savings\nInstalled","Annual Energy Savings\nCommitted\n(kWh)","Annual Energy Savings\nInstalled\n(kWh)","Lifetime Energy Savings\nCommitted\n(kWh)","Lifetime Energy Savings Installed (kWh)","Annual Fuel Savings\nCommitted\n(MMBtu)","Annual Fuel Savings\nInstalled\n(MMBtu)","Lifetime Fuel Savings\nCommitted\n(MMBtu)","Lifetime Fuel Savings\nInstalled\n(MMBtu)","FOUND PRE",null,"FOUND POST"]
[]
[]
[]
[]
[null,null,null,null,null,null,null,null,null,null,null,null,null,null,null,null,null,null,null,null,null,null,null,null,null,null,null,null,null,null,null,null,null,null,null,null,null,null,null,null,null,null,null,null,"(Type)","Count","(Type)","Count"]
[null,null,null,null,null,null,null,{"$f":"IFERROR(IF(OR(F28=\"\",G28=\"\")=TRUE,\"\",VLOOKUP(G28,INDIRECT(SUBSTITUTE(SUBSTITUTE(SUBSTITUTE(F28,\" \",\"_\"),\"-\",\"_\"),\"/\",\"_\")&\"W\"),2,FALSE)),\"N/A\")","v":""},null,null,null,null,null,null,{"$f":"IFERROR(IF(OR(K28=\"\",L28=\"\")=TRUE,\"\",VLOOKUP(L28,INDIRECT(SUBSTITUTE(SUBSTITUTE(SUBSTITUTE(K28,\" \",\"_\"),\"-\",\"_\"),\"/\",\"_\")&\"W\"),2,FALSE)),\"N/A\")","v":""},null,null,null,null,null,null,{"$f":"IFERROR(MIN(N(J28),N(U28)),0)","v":0},{"$f":"IFERROR(MIN(N(J28),N(U28)),0)","v":0},{"$f":"IF(N(I28)=0,IF(N(H28)=0,0,H28),I28)","v":0},{"$f":"IF(N(P28)=0,IF(N(O28)=0,0,O28),P28)","v":0},{"$f":"IFERROR(IF(OR($B$4=\"\",$B$5=\"\",$A$16=\"\",$F$16=\"\",$A$18=\"\",A28=\"\",B28=\"\",E28=\"\",F28=\"\",G28=\"\",AND(H28=\"N/A\",N(I28)=0)=TRUE,K28=\"\",L28=\"\",AND(O28=\"N/A\",N(P28)=0)=TRUE,AND(OR(A28=\"PL1\",A28=\"PL2\",A28=\"PL3\",A28=\"PL4\",A28=\"PL5\",A28=\"PL26\",A28=\"PL35\",A28=\"PL36\",A28=\"PL37\",A28=\"PL42\",A28=\"PL43\",A28=\"PL44\")=TRUE,OR(N(Q28)=0,N(R28)=0)=TRUE),AND(A28=\"PL38\",S28=\"\")=TRUE,Y28>=X28,ISERROR(IF(VLOOKUP(A28,MeasureCode_Lookup,2,FALSE)=\"Y\",VLOOKUP(F28,INDIRECT(A28&\"EType\"),1,FALSE),VLOOKUP(F28,Light_ETechType,1,FALSE))),ISERROR(IF(OR(F28=\"Incandescent\",F28=\"Halogen Incandescent\",F28=\"Compact Fluorescent\")=TRUE,1,IF(VLOOKUP(A28,MeasureCode_Lookup,2,FALSE)=\"Y\",VLOOKUP(G28,INDIRECT(A28&\"EDesc\"&VLOOKUP(F28,INDIRECT(A28&\"EType_Lookup\"),2,FALSE)),1,FALSE),VLOOKUP(G28,INDIRECT(SUBSTITUTE(SUBSTITUTE(SUBSTITUTE(F28,\" \",\"_\"),\"-\",\"_\"),\"/\",\"_\")),1,FALSE)))),ISERROR(VLOOKUP(K28,INDIRECT(A28&\"PType\"),1,FALSE)),ISERROR(VLOOKUP(L28,INDIRECT(A28&\"PDesc\"&VLOOKUP(K28,INDIRECT(A28&\"PType_Lookup\"),2,FALSE)),1,FALSE)),AND(OR(A28=\"PL9\",A28=\"PL12\")=TRUE,Y28>125)=TRUE,AND(OR(A28=\"PL10\",A28=\"PL13\")=TRUE,OR(Y28<=125,Y28>250)=TRUE)=TRUE,AND(OR(A28=\"PL11\",A28=\"PL14\")=TRUE,Y28<=250)=TRUE,AND(A28=\"PL35\",Y28>125)=TRUE,AND(A28=\"PL36\",OR(Y28<=125,Y28>250)=TRUE)=TRUE,AND(A28=\"PL37\",Y28<=250)=TRUE,AND(OR(A28=\"PL39\",A28=\"PL40\",A28=\"PL41\")=TRUE,T28=\"\")=TRUE)=TRUE,\"N\",\"Y\"),\"N\")","v":"N"},{"$f":"IFERROR(IF(Z28=\"Y\",VLOOKUP(A28,MeasureCode_Lookup,8,FALSE)*IF(OR(A28=\"PL1\",A28=\"PL2\",A28=\"PL3\", A28=\"PL4\", A28=\"PL5\", A28=\"PL26\",A28=\"PL35\",A28=\"PL36\",A28=\"PL37\",A28=\"PL42\",A28=\"PL43\",A28=\"PL44\")=TRUE,Q28,IF(A28=\"PL38\",S28,1)),0),0)","v":0},{"$f":"IF(OR($A$11=TRUE,$A$12=TRUE,$B$11=TRUE,$B$12=TRUE,$C$11=TRUE)=TRUE,AA28,0)","v":0},{"$f":"IF(AA28=0,0,V28*(AA28+AB28))","v":0},{"$f":"IF(AA28=0,0,W28*(AA28+AB28))","v":0},{"$f":"IF(AA28=0,0,(((J28*X28)-(U28*Y28))/1000)/MIN(J28,U28))","v":0},{"$f":"IF(AA28=0,0,IF(IFERROR(SEARCH(\"Refrigerated\",L28,1),0)>0,AE28*(1+VLOOKUP(T28,Refrigerated_Lookup,4,FALSE))*VLOOKUP(T28,Refrigerated_Lookup,5,FALSE),AE28*IF(E28=\"Interior\",IF(IFERROR(MATCH($A$18,HVACe_Options,0),0)>0,1+VLOOKUP($A$16,Building_Lookup,4,FALSE),1),1)*VLOOKUP($A$16,Building_Lookup,3,FALSE)))","v":0},{"$f":"IF(AA28=0,0,IF(IFERROR(SEARCH(\"Refrigerated\",L28,1),0)>0,AE28*(1+VLOOKUP(T28,Refrigerated_Lookup,3,FALSE))*VLOOKUP(T28,Refrigerated_Lookup,2,FALSE),AE28*IF(E28=\"Interior\",IFERROR((1+VLOOKUP($A$16,Building_Lookup,MATCH($A$18,HVACe_Options,0)+4,FALSE)),1),1)*VLOOKUP($A$16,Building_Lookup,2,FALSE)))","v":0},{"$f":"IF(AA28=0,0,IF(IFERROR(SEARCH(\"Refrigerated\",L28,1),0)>0,0,IF(E28=\"Interior\",IF(IFERROR(SEARCH(\"Gas\",$A$18),0)>0,AG28*VLOOKUP(\"Gas\",HVACg_Lookup,MATCH($F$16,BuildingSize,0)+1),IF(IFERROR(SEARCH(\"Oil\",$A$18),0)>0,AG28*VLOOKUP(\"Oil\",HVACg_Lookup,MATCH($F$16,BuildingSize,0)+1),IF(IFERROR(SEARCH(\"Propane\",$A$18),0)>0,AG28*VLOOKUP(\"Propane\",HVACg_Lookup,MATCH($F$16,BuildingSize,0)+1),0))),0)))","v":0},{"$f":"V28*$AF28","v":0},{"$f":"W28*$AF28","v":0},{"$f":"V28*$AG28","v":0},{"$f":"W28*$AG28","v":0},{"$f":"AK28*IF(OR(A28=\"PL39\",A28=\"PL40\",A28=\"PL41\")=TRUE,16,15)","v":0},{"$f":"AL28*IF(OR(A28=\"PL39\",A28=\"PL40\",A28=\"PL41\")=TRUE,16,15)","v":0},{"$f":"V28*$AH28","v":0},{"$f":"W28*$AH28","v":0},{"$f":"AO28*IF(OR(A28=\"PL39\",A28=\"PL40\",A28=\"PL41\")=TRUE,16,15)","v":0},{"$f":"AP28*IF(OR(A28=\"PL39\",A28=\"PL40\",A28=\"PL41\")=TRUE,16,15)","v":0}]
[null,null,null,null,null,null,null,{"$f":"IFERROR(IF(OR(F29=\"\",G29=\"\")=TRUE,\"\",VLOOKUP(G29,INDIRECT(SUBSTITUTE(SUBSTITUTE(SUBSTITUTE(F29,\" \",\"_\"),\"-\",\"_\"),\"/\",\"_\")&\"W\"),2,FALSE)),\"N/A\")","v":""},null,null,null,null,null,null,{"$f":"IFERROR(IF(OR(K29=\"\",L29=\"\")=TRUE,\"\",VLOOKUP(L29,INDIRECT(SUBSTITUTE(SUBSTITUTE(SUBSTITUTE(K29,\" \",\"_\"),\"-\",\"_\"),\"/\",\"_\")&\"W\"),2,FALSE)),\"N/A\")","v":""},null,null,null,null,null,null,{"$f":"IFERROR(MIN(N(J29),N(U29)),0)","v":0},{"$f":"IFERROR(MIN(N(J29),N(U29)),0)","v":0},{"$f":"IF(N(I29)=0,IF(N(H29)=0,0,H29),I29)","v":0},{"$f":"IF(N(P29)=0,IF(N(O29)=0,0,O29),P29)","v":0},{"$f":"IFERROR(IF(OR($B$4=\"\",$B$5=\"\",$A$16=\"\",$F$16=\"\",$A$18=\"\",A29=\"\",B29=\"\",E29=\"\",F29=\"\",G29=\"\",AND(H29=\"N/A\",N(I29)=0)=TRUE,K29=\"\",L29=\"\",AND(O29=\"N/A\",N(P29)=0)=TRUE,AND(OR(A29=\"PL1\",A29=\"PL2\",A29=\"PL3\",A29=\"PL4\",A29=\"PL5\",A29=\"PL26\",A29=\"PL35\",A29=\"PL36\",A29=\"PL37\",A29=\"PL42\",A29=\"PL43\",A29=\"PL44\")=TRUE,OR(N(Q29)=0,N(R29)=0)=TRUE),AND(A29=\"PL38\",S29=\"\")=TRUE,Y29>=X29,ISERROR(IF(VLOOKUP(A29,MeasureCode_Lookup,2,FALSE)=\"Y\",VLOOKUP(F29,INDIRECT(A29&\"EType\"),1,FALSE),VLOOKUP(F29,Light_ETechType,1,FALSE))),ISERROR(IF(OR(F29=\"Incandescent\",F29=\"Halogen Incandescent\",F29=\"Compact Fluorescent\")=TRUE,1,IF(VLOOKUP(A29,MeasureCode_Lookup,2,FALSE)=\"Y\",VLOOKUP(G29,INDIRECT(A29&\"EDesc\"&VLOOKUP(F29,INDIRECT(A29&\"EType_Lookup\"),2,FALSE)),1,FALSE),VLOOKUP(G29,INDIRECT(SUBSTITUTE(SUBSTITUTE(SUBSTITUTE(F29,\" \",\"_\"),\"-\",\"_\"),\"/\",\"_\")),1,FALSE)))),ISERROR(VLOOKUP(K29,INDIRECT(A29&\"PType\"),1,FALSE)),ISERROR(VLOOKUP(L29,INDIRECT(A29&\"PDesc\"&VLOOKUP(K29,INDIRECT(A29&\"PType_Lookup\"),2,FALSE)),1,FALSE)),AND(OR(A29=\"PL9\",A29=\"PL12\")=TRUE,Y29>125)=TRUE,AND(OR(A29=\"PL10\",A29=\"PL13\")=TRUE,OR(Y29<=125,Y29>250)=TRUE)=TRUE,AND(OR(A29=\"PL11\",A29=\"PL14\")=TRUE,Y29<=250)=TRUE,AND(A29=\"PL35\",Y29>125)=TRUE,AND(A29=\"PL36\",OR(Y29<=125,Y29>250)=TRUE)=TRUE,AND(A29=\"PL37\",Y29<=250)=TRUE,AND(OR(A29=\"PL39\",A29=\"PL40\",A29=\"PL41\")=TRUE,T29=\"\")=TRUE)=TRUE,\"N\",\"Y\"),\"N\")","v":"N"},0,{"$f":"IF(OR($A$11=TRUE,$A$12=TRUE,$B$11=TRUE,$B$12=TRUE,$C$11=TRUE)=TRUE,AA29,0)","v":0},{"$f":"IF(AA29=0,0,V29*(AA29+AB29))","v":0},{"$f":"IF(AA29=0,0,W29*(AA29+AB29))","v":0},{"$f":"IF(AA29=0,0,(((J29*X29)-(U29*Y29))/1000)/MIN(J29,U29))","v":0},{"$f":"IF(AA29=0,0,IF(IFERROR(SEARCH(\"Refrigerated\",L29,1),0)>0,AE29*(1+VLOOKUP(T29,Refrigerated_Lookup,4,FALSE))*VLOOKUP(T29,Refrigerated_Lookup,5,FALSE),AE29*IF(E29=\"Interior\",IF(IFERROR(MATCH($A$18,HVACe_Options,0),0)>0,1+VLOOKUP($A$16,Building_Lookup,4,FALSE),1),1)*VLOOKUP($A$16,Building_Lookup,3,FALSE)))","v":0},{"$f":"IF(AA29=0,0,IF(IFERROR(SEARCH(\"Refrigerated\",L29,1),0)>0,AE29*(1+VLOOKUP(T29,Refrigerated_Lookup,3,FALSE))*VLOOKUP(T29,Refrigerated_Lookup,2,FALSE),AE29*IF(E29=\"Interior\",IFERROR((1+VLOOKUP($A$16,Building_Lookup,MATCH($A$18,HVACe_Options,0)+4,FALSE)),1),1)*VLOOKUP($A$16,Building_Lookup,2,FALSE)))","v":0},{"$f":"IF(AA29=0,0,IF(IFERROR(SEARCH(\"Refrigerated\",L29,1),0)>0,0,IF(E29=\"Interior\",IF(IFERROR(SEARCH(\"Gas\",$A$18),0)>0,AG29*VLOOKUP(\"Gas\",HVACg_Lookup,MATCH($F$16,BuildingSize,0)+1),IF(IFERROR(SEARCH(\"Oil\",$A$18),0)>0,AG29*VLOOKUP(\"Oil\",HVACg_Lookup,MATCH($F$16,BuildingSize,0)+1),IF(IFERROR(SEARCH(\"Propane\",$A$18),0)>0,AG29*VLOOKUP(\"Propane\",HVACg_Lookup,MATCH($F$16,BuildingSize,0)+1),0))),0)))","v":0},{"$f":"V29*$AF29","v":0},{"$f":"W29*$AF29","v":0},{"$f":"V29*$AG29","v":0},{"$f":"W29*$AG29","v":0},{"$f":"AK29*IF(OR(A29=\"PL39\",A29=\"PL40\",A29=\"PL41\")=TRUE,16,15)","v":0},{"$f":"AL29*IF(OR(A29=\"PL39\",A29=\"PL40\",A29=\"PL41\")=TRUE,16,15)","v":0},{"$f":"V29*$AH29","v":0},{"$f":"W29*$AH29","v":0},{"$f":"AO29*IF(OR(A29=\"PL39\",A29=\"PL40\",A29=\"PL41\")=TRUE,16,15)","v":0},{"$f":"AP29*IF(OR(A29=\"PL39\",A29=\"PL40\",A29=\"PL41\")=TRUE,16,15)","v":0}]
[null,null,null,null,null,null,null,"",null,null,null,null,null,null,"",null,null,null,null,null,null,0,0,0,0,"N",0,0,0,0,0,0,0,0,0,0,0,0,0,0,0,0,0,0]
[null,null,null,null,null,null,null,"",null,null,null,null,null,null,"",null,null,null,null,null,null,0,0,0,0,"N",0,0,0,0,0,0,0,0,0,0,0,0,0,0,0,0,0,0]
[null,null,null,null,null,null,null,"",null,null,null,null,null,null,"",null,null,null,null,null,null,0,0,0,0,"N",0,0,0,0,0,0,0,0,0,0,0,0,0,0,0,0,0,0]
[null,null,null,null,null,null,null,"",null,null,null,null,null,null,"",null,null,null,null,null,null,0,0,0,0,"N",0,0,0,0,0,0,0,0,0,0,0,0,0,0,0,0,0,0]
[null,null,null,null,null,null,null,"",null,null,null,null,null,null,"",null,null,null,null,null,null,0,0,0,0,"N",0,0,0,0,0,0,0,0,0,0,0,0,0,0,0,0,0,0]
[null,null,null,null,null,null,null,"",null,null,null,null,null,null,"",null,null,null,null,null,null,0,0,0,0,"N",0,0,0,0,0,0,0,0,0,0,0,0,0,0,0,0,0,0]
[null,null,null,null,null,null,null,"",null,null,null,null,null,null,"",null,null,null,null,null,null,0,0,0,0,"N",0,0,0,0,0,0,0,0,0,0,0,0,0,0,0,0,0,0]
[null,null,null,null,null,null,null,"",null,null,null,null,null,null,"",null,null,null,null,null,null,0,0,0,0,"N",0,0,0,0,0,0,0,0,0,0,0,0,0,0,0,0,0,0]
[null,null,null,null,null,null,null,"",null,null,null,null,null,null,"",null,null,null,null,null,null,0,0,0,0,"N",0,0,0,0,0,0,0,0,0,0,0,0,0,0,0,0,0,0]
[null,null,null,null,null,null,null,"",null,null,null,null,null,null,"",null,null,null,null,null,null,0,0,0,0,"N",0,0,0,0,0,0,0,0,0,0,0,0,0,0,0,0,0,0]
[null,null,null,null,null,null,null,"",null,null,null,null,null,null,"",null,null,null,null,null,null,0,0,0,0,"N",0,0,0,0,0,0,0,0,0,0,0,0,0,0,0,0,0,0]
[null,null,null,null,null,null,null,"",null,null,null,null,null,null,"",null,null,null,null,null,null,0,0,0,0,"N",0,0,0,0,0,0,0,0,0,0,0,0,0,0,0,0,0,0]
[null,null,null,null,null,null,null,"",null,null,null,null,null,null,"",null,null,null,null,null,null,0,0,0,0,"N",0,0,0,0,0,0,0,0,0,0,0,0,0,0,0,0,0,0]
[null,null,null,null,null,null,null,"",null,null,null,null,null,null,"",null,null,null,null,null,null,0,0,0,0,"N",0,0,0,0,0,0,0,0,0,0,0,0,0,0,0,0,0,0]
[null,null,null,null,null,null,null,"",null,null,null,null,null,null,"",null,null,null,null,null,null,0,0,0,0,"N",0,0,0,0,0,0,0,0,0,0,0,0,0,0,0,0,0,0]
[null,null,null,null,null,null,null,"",null,null,null,null,null,null,"",null,null,null,null,null,null,0,0,0,0,"N",0,0,0,0,0,0,0,0,0,0,0,0,0,0,0,0,0,0]
[null,null,null,null,null,null,null,"",null,null,null,null,null,null,"",null,null,null,null,null,null,0,0,0,0,"N",0,0,0,0,0,0,0,0,0,0,0,0,0,0,0,0,0,0]
[null,null,null,null,null,null,null,"",null,null,null,null,null,null,"",null,null,null,null,null,null,0,0,0,0,"N",0,0,0,0,0,0,0,0,0,0,0,0,0,0,0,0,0,0]
[null,null,null,null,null,null,null,"",null,null,null,null,null,null,"",null,null,null,null,null,null,0,0,0,0,"N",0,0,0,0,0,0,0,0,0,0,0,0,0,0,0,0,0,0]
[null,null,null,null,null,null,null,"",null,null,null,null,null,null,"",null,null,null,null,null,null,0,0,0,0,"N",0,0,0,0,0,0,0,0,0,0,0,0,0,0,0,0,0,0]
[null,null,null,null,null,null,null,"",null,null,null,null,null,null,"",null,null,null,null,null,null,0,0,0,0,"N",0,0,0,0,0,0,0,0,0,0,0,0,0,0,0,0,0,0]
[null,null,null,null,null,null,null,"",null,null,null,null,null,null,"",null,null,null,null,null,null,0,0,0,0,"N",0,0,0,0,0,0,0,0,0,0,0,0,0,0,0,0,0,0]
[null,null,null,null,null,null,null,"",null,null,null,null,null,null,"",null,null,null,null,null,null,0,0,0,0,"N",0,0,0,0,0,0,0,0,0,0,0,0,0,0,0,0,0,0]
[null,null,null,null,null,null,null,"",null,null,null,null,null,null,"",null,null,null,null,null,null,0,0,0,0,"N",0,0,0,0,0,0,0,0,0,0,0,0,0,0,0,0,0,0]
[null,null,null,null,null,null,null,"",null,null,null,null,null,null,"",null,null,null,null,null,null,0,0,0,0,"N",0,0,0,0,0,0,0,0,0,0,0,0,0,0,0,0,0,0]
[null,null,null,null,null,null,null,"",null,null,null,null,null,null,"",null,null,null,null,null,null,0,0,0,0,"N",0,0,0,0,0,0,0,0,0,0,0,0,0,0,0,0,0,0]
[null,null,null,null,null,null,null,"",null,null,null,null,null,null,"",null,null,null,null,null,null,0,0,0,0,"N",0,0,0,0,0,0,0,0,0,0,0,0,0,0,0,0,0,0]
[null,null,null,null,null,null,null,"",null,null,null,null,null,null,"",null,null,null,null,null,null,0,0,0,0,"N",0,0,0,0,0,0,0,0,0,0,0,0,0,0,0,0,0,0]
[null,null,null,null,null,null,null,"",null,null,null,null,null,null,"",null,null,null,null,null,null,0,0,0,0,"N",0,0,0,0,0,0,0,0,0,0,0,0,0,0,0,0,0,0]
[null,null,null,null,null,null,null,"",null,null,null,null,null,null,"",null,null,null,null,null,null,0,0,0,0,"N",0,0,0,0,0,0,0,0,0,0,0,0,0,0,0,0,0,0]
[null,null,null,null,null,null,null,"",null,null,null,null,null,null,"",null,null,null,null,null,null,0,0,0,0,"N",0,0,0,0,0,0,0,0,0,0,0,0,0,0,0,0,0,0]
[null,null,null,null,null,null,null,"",null,null,null,null,null,null,"",null,null,null,null,null,null,0,0,0,0,"N",0,0,0,0,0,0,0,0,0,0,0,0,0,0,0,0,0,0]
[null,null,null,null,null,null,null,"",null,null,null,null,null,null,"",null,null,null,null,null,null,0,0,0,0,"N",0,0,0,0,0,0,0,0,0,0,0,0,0,0,0,0,0,0]
[null,null,null,null,null,null,null,"",null,null,null,null,null,null,"",null,null,null,null,null,null,0,0,0,0,"N",0,0,0,0,0,0,0,0,0,0,0,0,0,0,0,0,0,0]
[null,null,null,null,null,null,null,"",null,null,null,null,null,null,"",null,null,null,null,null,null,0,0,0,0,"N",0,0,0,0,0,0,0,0,0,0,0,0,0,0,0,0,0,0]
[null,null,null,null,null,null,null,"",null,null,null,null,null,null,"",null,null,null,null,null,null,0,0,0,0,"N",0,0,0,0,0,0,0,0,0,0,0,0,0,0,0,0,0,0]
[null,null,null,null,null,null,null,"",null,null,null,null,null,null,"",null,null,null,null,null,null,0,0,0,0,"N",0,0,0,0,0,0,0,0,0,0,0,0,0,0,0,0,0,0]
[null,null,null,null,null,null,null,"",null,null,null,null,null,null,"",null,null,null,null,null,null,0,0,0,0,"N",0,0,0,0,0,0,0,0,0,0,0,0,0,0,0,0,0,0]
[null,null,null,null,null,null,null,"",null,null,null,null,null,null,"",null,null,null,null,null,null,0,0,0,0,"N",0,0,0,0,0,0,0,0,0,0,0,0,0,0,0,0,0,0]
[null,null,null,null,null,null,null,"",null,null,null,null,null,null,"",null,null,null,null,null,null,0,0,0,0,"N",0,0,0,0,0,0,0,0,0,0,0,0,0,0,0,0,0,0]
[null,null,null,null,null,null,null,"",null,null,null,null,null,null,"",null,null,null,null,null,null,0,0,0,0,"N",0,0,0,0,0,0,0,0,0,0,0,0,0,0,0,0,0,0]
[null,null,null,null,null,null,null,"",null,null,null,null,null,null,"",null,null,null,null,null,null,0,0,0,0,"N",0,0,0,0,0,0,0,0,0,0,0,0,0,0,0,0,0,0]
[null,null,null,null,null,null,null,"",null,null,null,null,null,null,"",null,null,null,null,null,null,0,0,0,0,"N",0,0,0,0,0,0,0,0,0,0,0,0,0,0,0,0,0,0]
[null,null,null,null,null,null,null,"",null,null,null,null,null,null,"",null,null,null,null,null,null,0,0,0,0,"N",0,0,0,0,0,0,0,0,0,0,0,0,0,0,0,0,0,0]
[null,null,null,null,null,null,null,"",null,null,null,null,null,null,"",null,null,null,null,null,null,0,0,0,0,"N",0,0,0,0,0,0,0,0,0,0,0,0,0,0,0,0,0,0]
[null,null,null,null,null,null,null,"",null,null,null,null,null,null,"",null,null,null,null,null,null,0,0,0,0,"N",0,0,0,0,0,0,0,0,0,0,0,0,0,0,0,0,0,0]
[null,null,null,null,null,null,null,"",null,null,null,null,null,null,"",null,null,null,null,null,null,0,0,0,0,"N",0,0,0,0,0,0,0,0,0,0,0,0,0,0,0,0,0,0]
[null,null,null,null,null,null,null,"",null,null,null,null,null,null,"",null,null,null,null,null,null,0,0,0,0,"N",0,0,0,0,0,0,0,0,0,0,0,0,0,0,0,0,0,0]
[null,null,null,null,null,null,null,"",null,null,null,null,null,null,"",null,null,null,null,null,null,0,0,0,0,"N",0,0,0,0,0,0,0,0,0,0,0,0,0,0,0,0,0,0]
[null,null,null,null,null,null,null,"",null,null,null,null,null,null,"",null,null,null,null,null,null,0,0,0,0,"N",0,0,0,0,0,0,0,0,0,0,0,0,0,0,0,0,0,0]
[null,null,null,null,null,null,null,"",null,null,null,null,null,null,"",null,null,null,null,null,null,0,0,0,0,"N",0,0,0,0,0,0,0,0,0,0,0,0,0,0,0,0,0,0]
[null,null,null,null,null,null,null,"",null,null,null,null,null,null,"",null,null,null,null,null,null,0,0,0,0,"N",0,0,0,0,0,0,0,0,0,0,0,0,0,0,0,0,0,0]
[null,null,null,null,null,null,null,"",null,null,null,null,null,null,"",null,null,null,null,null,null,0,0,0,0,"N",0,0,0,0,0,0,0,0,0,0,0,0,0,0,0,0,0,0]
[null,null,null,null,null,null,null,"",null,null,null,null,null,null,"",null,null,null,null,null,null,0,0,0,0,"N",0,0,0,0,0,0,0,0,0,0,0,0,0,0,0,0,0,0]
[null,null,null,null,null,null,null,"",null,null,null,null,null,null,"",null,null,null,null,null,null,0,0,0,0,"N",0,0,0,0,0,0,0,0,0,0,0,0,0,0,0,0,0,0]
[null,null,null,null,null,null,null,"",null,null,null,null,null,null,"",null,null,null,null,null,null,0,0,0,0,"N",0,0,0,0,0,0,0,0,0,0,0,0,0,0,0,0,0,0]
[null,null,null,null,null,null,null,"",null,null,null,null,null,null,"",null,null,null,null,null,null,0,0,0,0,"N",0,0,0,0,0,0,0,0,0,0,0,0,0,0,0,0,0,0]
[null,null,null,null,null,null,null,"",null,null,null,null,null,null,"",null,null,null,null,null,null,0,0,0,0,"N",0,0,0,0,0,0,0,0,0,0,0,0,0,0,0,0,0,0]
[null,null,null,null,null,null,null,"",null,null,null,null,null,null,"",null,null,null,null,null,null,0,0,0,0,"N",0,0,0,0,0,0,0,0,0,0,0,0,0,0,0,0,0,0]
[null,null,null,null,null,null,null,"",null,null,null,null,null,null,"",null,null,null,null,null,null,0,0,0,0,"N",0,0,0,0,0,0,0,0,0,0,0,0,0,0,0,0,0,0]
[null,null,null,null,null,null,null,"",null,null,null,null,null,null,"",null,null,null,null,null,null,0,0,0,0,"N",0,0,0,0,0,0,0,0,0,0,0,0,0,0,0,0,0,0]
[null,null,null,null,null,null,null,"",null,null,null,null,null,null,"",null,null,null,null,null,null,0,0,0,0,"N",0,0,0,0,0,0,0,0,0,0,0,0,0,0,0,0,0,0]
[null,null,null,null,null,null,null,"",null,null,null,null,null,null,"",null,null,null,null,null,null,0,0,0,0,"N",{"$f":"IFERROR(IF(Z92=\"Y\",VLOOKUP(A92,MeasureCode_Lookup,8,FALSE)*IF(OR(A92=\"PL1\",A92=\"PL2\",A92=\"PL3\", A92=\"PL4\", A92=\"PL5\", A92=\"PL26\",A92=\"PL35\",A92=\"PL36\",A92=\"PL37\",A92=\"PL42\",A92=\"PL43\",A92=\"PL44\")=TRUE,Q92,IF(A92=\"PL38\",S92,1)),0),0)","v":0},0,0,0,0,0,0,0,0,0,0,0,0,0,0,0,0,0]
[null,null,null,null,null,null,null,{"$f":"IFERROR(IF(OR(F93=\"\",G93=\"\")=TRUE,\"\",VLOOKUP(G93,INDIRECT(SUBSTITUTE(SUBSTITUTE(SUBSTITUTE(F93,\" \",\"_\"),\"-\",\"_\"),\"/\",\"_\")&\"W\"),2,FALSE)),\"N/A\")","v":""},null,null,null,null,null,null,{"$f":"IFERROR(IF(OR(K93=\"\",L93=\"\")=TRUE,\"\",VLOOKUP(L93,INDIRECT(SUBSTITUTE(SUBSTITUTE(SUBSTITUTE(K93,\" \",\"_\"),\"-\",\"_\"),\"/\",\"_\")&\"W\"),2,FALSE)),\"N/A\")","v":""},null,null,null,null,null,null,{"$f":"IFERROR(MIN(N(J93),N(U93)),0)","v":0},{"$f":"IFERROR(MIN(N(J93),N(U93)),0)","v":0},{"$f":"IF(N(I93)=0,IF(N(H93)=0,0,H93),I93)","v":0},{"$f":"IF(N(P93)=0,IF(N(O93)=0,0,O93),P93)","v":0},{"$f":"IFERROR(IF(OR($B$4=\"\",$B$5=\"\",$A$16=\"\",$F$16=\"\",$A$18=\"\",A93=\"\",B93=\"\",E93=\"\",F93=\"\",G93=\"\",AND(H93=\"N/A\",N(I93)=0)=TRUE,K93=\"\",L93=\"\",AND(O93=\"N/A\",N(P93)=0)=TRUE,AND(OR(A93=\"PL1\",A93=\"PL2\",A93=\"PL3\",A93=\"PL4\",A93=\"PL5\",A93=\"PL26\",A93=\"PL35\",A93=\"PL36\",A93=\"PL37\",A93=\"PL42\",A93=\"PL43\",A93=\"PL44\")=TRUE,OR(N(Q93)=0,N(R93)=0)=TRUE),AND(A93=\"PL38\",S93=\"\")=TRUE,Y93>=X93,ISERROR(IF(VLOOKUP(A93,MeasureCode_Lookup,2,FALSE)=\"Y\",VLOOKUP(F93,INDIRECT(A93&\"EType\"),1,FALSE),VLOOKUP(F93,Light_ETechType,1,FALSE))),ISERROR(IF(OR(F93=\"Incandescent\",F93=\"Halogen Incandescent\",F93=\"Compact Fluorescent\")=TRUE,1,IF(VLOOKUP(A93,MeasureCode_Lookup,2,FALSE)=\"Y\",VLOOKUP(G93,INDIRECT(A93&\"EDesc\"&VLOOKUP(F93,INDIRECT(A93&\"EType_Lookup\"),2,FALSE)),1,FALSE),VLOOKUP(G93,INDIRECT(SUBSTITUTE(SUBSTITUTE(SUBSTITUTE(F93,\" \",\"_\"),\"-\",\"_\"),\"/\",\"_\")),1,FALSE)))),ISERROR(VLOOKUP(K93,INDIRECT(A93&\"PType\"),1,FALSE)),ISERROR(VLOOKUP(L93,INDIRECT(A93&\"PDesc\"&VLOOKUP(K93,INDIRECT(A93&\"PType_Lookup\"),2,FALSE)),1,FALSE)),AND(OR(A93=\"PL9\",A93=\"PL12\")=TRUE,Y93>125)=TRUE,AND(OR(A93=\"PL10\",A93=\"PL13\")=TRUE,OR(Y93<=125,Y93>250)=TRUE)=TRUE,AND(OR(A93=\"PL11\",A93=\"PL14\")=TRUE,Y93<=250)=TRUE,AND(A93=\"PL35\",Y93>125)=TRUE,AND(A93=\"PL36\",OR(Y93<=125,Y93>250)=TRUE)=TRUE,AND(A93=\"PL37\",Y93<=250)=TRUE,AND(OR(A93=\"PL39\",A93=\"PL40\",A93=\"PL41\")=TRUE,T93=\"\")=TRUE)=TRUE,\"N\",\"Y\"),\"N\")","v":"N"},0,{"$f":"IF(OR($A$11=TRUE,$A$12=TRUE,$B$11=TRUE,$B$12=TRUE,$C$11=TRUE)=TRUE,AA93,0)","v":0},{"$f":"IF(AA93=0,0,V93*(AA93+AB93))","v":0},{"$f":"IF(AA93=0,0,W93*(AA93+AB93))","v":0},{"$f":"IF(AA93=0,0,(((J93*X93)-(U93*Y93))/1000)/MIN(J93,U93))","v":0},{"$f":"IF(AA93=0,0,IF(IFERROR(SEARCH(\"Refrigerated\",L93,1),0)>0,AE93*(1+VLOOKUP(T93,Refrigerated_Lookup,4,FALSE))*VLOOKUP(T93,Refrigerated_Lookup,5,FALSE),AE93*IF(E93=\"Interior\",IF(IFERROR(MATCH($A$18,HVACe_Options,0),0)>0,1+VLOOKUP($A$16,Building_Lookup,4,FALSE),1),1)*VLOOKUP($A$16,Building_Lookup,3,FALSE)))","v":0},{"$f":"IF(AA93=0,0,IF(IFERROR(SEARCH(\"Refrigerated\",L93,1),0)>0,AE93*(1+VLOOKUP(T93,Refrigerated_Lookup,3,FALSE))*VLOOKUP(T93,Refrigerated_Lookup,2,FALSE),AE93*IF(E93=\"Interior\",IFERROR((1+VLOOKUP($A$16,Building_Lookup,MATCH($A$18,HVACe_Options,0)+4,FALSE)),1),1)*VLOOKUP($A$16,Building_Lookup,2,FALSE)))","v":0},{"$f":"IF(AA93=0,0,IF(IFERROR(SEARCH(\"Refrigerated\",L93,1),0)>0,0,IF(E93=\"Interior\",IF(IFERROR(SEARCH(\"Gas\",$A$18),0)>0,AG93*VLOOKUP(\"Gas\",HVACg_Lookup,MATCH($F$16,BuildingSize,0)+1),IF(IFERROR(SEARCH(\"Oil\",$A$18),0)>0,AG93*VLOOKUP(\"Oil\",HVACg_Lookup,MATCH($F$16,BuildingSize,0)+1),IF(IFERROR(SEARCH(\"Propane\",$A$18),0)>0,AG93*VLOOKUP(\"Propane\",HVACg_Lookup,MATCH($F$16,BuildingSize,0)+1),0))),0)))","v":0},{"$f":"V93*$AF93","v":0},{"$f":"W93*$AF93","v":0},{"$f":"V93*$AG93","v":0},{"$f":"W93*$AG93","v":0},{"$f":"AK93*IF(OR(A93=\"PL39\",A93=\"PL40\",A93=\"PL41\")=TRUE,16,15)","v":0},{"$f":"AL93*IF(OR(A93=\"PL39\",A93=\"PL40\",A93=\"PL41\")=TRUE,16,15)","v":0},{"$f":"V93*$AH93","v":0},{"$f":"W93*$AH93","v":0},{"$f":"AO93*IF(OR(A93=\"PL39\",A93=\"PL40\",A93=\"PL41\")=TRUE,16,15)","v":0},{"$f":"AP93*IF(OR(A93=\"PL39\",A93=\"PL40\",A93=\"PL41\")=TRUE,16,15)","v":0}]
[null,null,null,null,null,null,null,"",null,null,null,null,null,null,"",null,null,null,null,null,null,0,0,0,0,"N",0,0,0,0,0,0,0,0,0,0,0,0,0,0,0,0,0,0]
[null,null,null,null,null,null,null,"",null,null,null,null,null,null,"",null,null,null,null,null,null,0,0,0,0,"N",0,0,0,0,0,0,0,0,0,0,0,0,0,0,0,0,0,0]
[null,null,null,null,null,null,null,"",null,null,null,null,null,null,"",null,null,null,null,null,null,0,0,0,0,"N",0,0,0,0,0,0,0,0,0,0,0,0,0,0,0,0,0,0]
[null,null,null,null,null,null,null,"",null,null,null,null,null,null,"",null,null,null,null,null,null,0,0,0,0,"N",0,0,0,0,0,0,0,0,0,0,0,0,0,0,0,0,0,0]
[null,null,null,null,null,null,null,"",null,null,null,null,null,null,"",null,null,null,null,null,null,0,0,0,0,"N",0,0,0,0,0,0,0,0,0,0,0,0,0,0,0,0,0,0]
[null,null,null,null,null,null,null,"",null,null,null,null,null,null,"",null,null,null,null,null,null,0,0,0,0,"N",0,0,0,0,0,0,0,0,0,0,0,0,0,0,0,0,0,0]
[null,null,null,null,null,null,null,"",null,null,null,null,null,null,"",null,null,null,null,null,null,0,0,0,0,"N",0,0,0,0,0,0,0,0,0,0,0,0,0,0,0,0,0,0]
[null,null,null,null,null,null,null,"",null,null,null,null,null,null,"",null,null,null,null,null,null,0,0,0,0,"N",0,0,0,0,0,0,0,0,0,0,0,0,0,0,0,0,0,0]
[null,null,null,null,null,null,null,"",null,null,null,null,null,null,"",null,null,null,null,null,null,0,0,0,0,"N",0,0,0,0,0,0,0,0,0,0,0,0,0,0,0,0,0,0]
[null,null,null,null,null,null,null,"",null,null,null,null,null,null,"",null,null,null,null,null,null,0,0,0,0,"N",0,0,0,0,0,0,0,0,0,0,0,0,0,0,0,0,0,0]
[null,null,null,null,null,null,null,"",null,null,null,null,null,null,"",null,null,null,null,null,null,0,0,0,0,"N",0,0,0,0,0,0,0,0,0,0,0,0,0,0,0,0,0,0]
[null,null,null,null,null,null,null,"",null,null,null,null,null,null,"",null,null,null,null,null,null,0,0,0,0,"N",0,0,0,0,0,0,0,0,0,0,0,0,0,0,0,0,0,0]
[null,null,null,null,null,null,null,"",null,null,null,null,null,null,"",null,null,null,null,null,null,0,0,0,0,"N",0,0,0,0,0,0,0,0,0,0,0,0,0,0,0,0,0,0]
[null,null,null,null,null,null,null,"",null,null,null,null,null,null,"",null,null,null,null,null,null,0,0,0,0,"N",0,0,0,0,0,0,0,0,0,0,0,0,0,0,0,0,0,0]
[null,null,null,null,null,null,null,"",null,null,null,null,null,null,"",null,null,null,null,null,null,0,0,0,0,"N",0,0,0,0,0,0,0,0,0,0,0,0,0,0,0,0,0,0]
[null,null,null,null,null,null,null,"",null,null,null,null,null,null,"",null,null,null,null,null,null,0,0,0,0,"N",0,0,0,0,0,0,0,0,0,0,0,0,0,0,0,0,0,0]
[null,null,null,null,null,null,null,"",null,null,null,null,null,null,"",null,null,null,null,null,null,0,0,0,0,"N",0,0,0,0,0,0,0,0,0,0,0,0,0,0,0,0,0,0]
[null,null,null,null,null,null,null,"",null,null,null,null,null,null,"",null,null,null,null,null,null,0,0,0,0,"N",0,0,0,0,0,0,0,0,0,0,0,0,0,0,0,0,0,0]
[null,null,null,null,null,null,null,"",null,null,null,null,null,null,"",null,null,null,null,null,null,0,0,0,0,"N",0,0,0,0,0,0,0,0,0,0,0,0,0,0,0,0,0,0]
[null,null,null,null,null,null,null,"",null,null,null,null,null,null,"",null,null,null,null,null,null,0,0,0,0,"N",0,0,0,0,0,0,0,0,0,0,0,0,0,0,0,0,0,0]
[null,null,null,null,null,null,null,"",null,null,null,null,null,null,"",null,null,null,null,null,null,0,0,0,0,"N",0,0,0,0,0,0,0,0,0,0,0,0,0,0,0,0,0,0]
[null,null,null,null,null,null,null,"",null,null,null,null,null,null,"",null,null,null,null,null,null,0,0,0,0,"N",0,0,0,0,0,0,0,0,0,0,0,0,0,0,0,0,0,0]
[null,null,null,null,null,null,null,"",null,null,null,null,null,null,"",null,null,null,null,null,null,0,0,0,0,"N",0,0,0,0,0,0,0,0,0,0,0,0,0,0,0,0,0,0]
[null,null,null,null,null,null,null,"",null,null,null,null,null,null,"",null,null,null,null,null,null,0,0,0,0,"N",0,0,0,0,0,0,0,0,0,0,0,0,0,0,0,0,0,0]
[null,null,null,null,null,null,null,"",null,null,null,null,null,null,"",null,null,null,null,null,null,0,0,0,0,"N",0,0,0,0,0,0,0,0,0,0,0,0,0,0,0,0,0,0]
[null,null,null,null,null,null,null,"",null,null,null,null,null,null,"",null,null,null,null,null,null,0,0,0,0,"N",0,0,0,0,0,0,0,0,0,0,0,0,0,0,0,0,0,0]
[null,null,null,null,null,null,null,"",null,null,null,null,null,null,"",null,null,null,null,null,null,0,0,0,0,"N",0,0,0,0,0,0,0,0,0,0,0,0,0,0,0,0,0,0]
[null,null,null,null,null,null,null,"",null,null,null,null,null,null,"",null,null,null,null,null,null,0,0,0,0,"N",0,0,0,0,0,0,0,0,0,0,0,0,0,0,0,0,0,0]
[null,null,null,null,null,null,null,"",null,null,null,null,null,null,"",null,null,null,null,null,null,0,0,0,0,"N",0,0,0,0,0,0,0,0,0,0,0,0,0,0,0,0,0,0]
[null,null,null,null,null,null,null,"",null,null,null,null,null,null,"",null,null,null,null,null,null,0,0,0,0,"N",0,0,0,0,0,0,0,0,0,0,0,0,0,0,0,0,0,0]
[null,null,null,null,null,null,null,"",null,null,null,null,null,null,"",null,null,null,null,null,null,0,0,0,0,"N",0,0,0,0,0,0,0,0,0,0,0,0,0,0,0,0,0,0]
[null,null,null,null,null,null,null,"",null,null,null,null,null,null,"",null,null,null,null,null,null,0,0,0,0,"N",0,0,0,0,0,0,0,0,0,0,0,0,0,0,0,0,0,0]
[null,null,null,null,null,null,null,"",null,null,null,null,null,null,"",null,null,null,null,null,null,0,0,0,0,"N",0,0,0,0,0,0,0,0,0,0,0,0,0,0,0,0,0,0]
[null,null,null,null,null,null,null,"",null,null,null,null,null,null,"",null,null,null,null,null,null,0,0,0,0,"N",0,0,0,0,0,0,0,0,0,0,0,0,0,0,0,0,0,0]
[null,null,null,null,null,null,null,"",null,null,null,null,null,null,"",null,null,null,null,null,null,0,0,0,0,"N",0,0,0,0,0,0,0,0,0,0,0,0,0,0,0,0,0,0]
[null,null,null,null,null,null,null,"",null,null,null,null,null,null,"",null,null,null,null,null,null,0,0,0,0,"N",0,0,0,0,0,0,0,0,0,0,0,0,0,0,0,0,0,0]
[null,null,null,null,null,null,null,"",null,null,null,null,null,null,"",null,null,null,null,null,null,0,0,0,0,"N",0,0,0,0,0,0,0,0,0,0,0,0,0,0,0,0,0,0]
[null,null,null,null,null,null,null,"",null,null,null,null,null,null,"",null,null,null,null,null,null,0,0,0,0,"N",0,0,0,0,0,0,0,0,0,0,0,0,0,0,0,0,0,0]
[null,null,null,null,null,null,null,"",null,null,null,null,null,null,"",null,null,null,null,null,null,0,0,0,0,"N",0,0,0,0,0,0,0,0,0,0,0,0,0,0,0,0,0,0]
[null,null,null,null,null,null,null,"",null,null,null,null,null,null,"",null,null,null,null,null,null,0,0,0,0,"N",0,0,0,0,0,0,0,0,0,0,0,0,0,0,0,0,0,0]
[null,null,null,null,null,null,null,"",null,null,null,null,null,null,"",null,null,null,null,null,null,0,0,0,0,"N",0,0,0,0,0,0,0,0,0,0,0,0,0,0,0,0,0,0]
[null,null,null,null,null,null,null,"",null,null,null,null,null,null,"",null,null,null,null,null,null,0,0,0,0,"N",0,0,0,0,0,0,0,0,0,0,0,0,0,0,0,0,0,0]
[null,null,null,null,null,null,null,"",null,null,null,null,null,null,"",null,null,null,null,null,null,0,0,0,0,"N",0,0,0,0,0,0,0,0,0,0,0,0,0,0,0,0,0,0]
[null,null,null,null,null,null,null,"",null,null,null,null,null,null,"",null,null,null,null,null,null,0,0,0,0,"N",0,0,0,0,0,0,0,0,0,0,0,0,0,0,0,0,0,0]
[null,null,null,null,null,null,null,"",null,null,null,null,null,null,"",null,null,null,null,null,null,0,0,0,0,"N",0,0,0,0,0,0,0,0,0,0,0,0,0,0,0,0,0,0]
[null,null,null,null,null,null,null,"",null,null,null,null,null,null,"",null,null,null,null,null,null,0,0,0,0,"N",0,0,0,0,0,0,0,0,0,0,0,0,0,0,0,0,0,0]
[null,null,null,null,null,null,null,"",null,null,null,null,null,null,"",null,null,null,null,null,null,0,0,0,0,"N",0,0,0,0,0,0,0,0,0,0,0,0,0,0,0,0,0,0]
[null,null,null,null,null,null,null,"",null,null,null,null,null,null,"",null,null,null,null,null,null,0,0,0,0,"N",0,0,0,0,0,0,0,0,0,0,0,0,0,0,0,0,0,0]
[null,null,null,null,null,null,null,"",null,null,null,null,null,null,"",null,null,null,null,null,null,0,0,0,0,"N",0,0,0,0,0,0,0,0,0,0,0,0,0,0,0,0,0,0]
[null,null,null,null,null,null,null,"",null,null,null,null,null,null,"",null,null,null,null,null,null,0,0,0,0,"N",0,0,0,0,0,0,0,0,0,0,0,0,0,0,0,0,0,0]
[null,null,null,null,null,null,null,"",null,null,null,null,null,null,"",null,null,null,null,null,null,0,0,0,0,"N",0,0,0,0,0,0,0,0,0,0,0,0,0,0,0,0,0,0]
[null,null,null,null,null,null,null,"",null,null,null,null,null,null,"",null,null,null,null,null,null,0,0,0,0,"N",0,0,0,0,0,0,0,0,0,0,0,0,0,0,0,0,0,0]
[null,null,null,null,null,null,null,"",null,null,null,null,null,null,"",null,null,null,null,null,null,0,0,0,0,"N",0,0,0,0,0,0,0,0,0,0,0,0,0,0,0,0,0,0]
[null,null,null,null,null,null,null,"",null,null,null,null,null,null,"",null,null,null,null,null,null,0,0,0,0,"N",0,0,0,0,0,0,0,0,0,0,0,0,0,0,0,0,0,0]
[null,null,null,null,null,null,null,"",null,null,null,null,null,null,"",null,null,null,null,null,null,0,0,0,0,"N",0,0,0,0,0,0,0,0,0,0,0,0,0,0,0,0,0,0]
[null,null,null,null,null,null,null,"",null,null,null,null,null,null,"",null,null,null,null,null,null,0,0,0,0,"N",0,0,0,0,0,0,0,0,0,0,0,0,0,0,0,0,0,0]
[null,null,null,null,null,null,null,"",null,null,null,null,null,null,"",null,null,null,null,null,null,0,0,0,0,"N",0,0,0,0,0,0,0,0,0,0,0,0,0,0,0,0,0,0]
[null,null,null,null,null,null,null,"",null,null,null,null,null,null,"",null,null,null,null,null,null,0,0,0,0,"N",0,0,0,0,0,0,0,0,0,0,0,0,0,0,0,0,0,0]
[null,null,null,null,null,null,null,"",null,null,null,null,null,null,"",null,null,null,null,null,null,0,0,0,0,"N",0,0,0,0,0,0,0,0,0,0,0,0,0,0,0,0,0,0]
[null,null,null,null,null,null,null,"",null,null,null,null,null,null,"",null,null,null,null,null,null,0,0,0,0,"N",0,0,0,0,0,0,0,0,0,0,0,0,0,0,0,0,0,0]
[null,null,null,null,null,null,null,"",null,null,null,null,null,null,"",null,null,null,null,null,null,0,0,0,0,"N",0,0,0,0,0,0,0,0,0,0,0,0,0,0,0,0,0,0]
[null,null,null,null,null,null,null,"",null,null,null,null,null,null,"",null,null,null,null,null,null,0,0,0,0,"N",0,0,0,0,0,0,0,0,0,0,0,0,0,0,0,0,0,0]
[null,null,null,null,null,null,null,"",null,null,null,null,null,null,"",null,null,null,null,null,null,0,0,0,0,"N",{"$f":"IFERROR(IF(Z156=\"Y\",VLOOKUP(A156,MeasureCode_Lookup,8,FALSE)*IF(OR(A156=\"PL1\",A156=\"PL2\",A156=\"PL3\", A156=\"PL4\", A156=\"PL5\", A156=\"PL26\",A156=\"PL35\",A156=\"PL36\",A156=\"PL37\",A156=\"PL42\",A156=\"PL43\",A156=\"PL44\")=TRUE,Q156,IF(A156=\"PL38\",S156,1)),0),0)","v":0},0,0,0,0,0,0,0,0,0,0,0,0,0,0,0,0,0]
[null,null,null,null,null,null,null,{"$f":"IFERROR(IF(OR(F157=\"\",G157=\"\")=TRUE,\"\",VLOOKUP(G157,INDIRECT(SUBSTITUTE(SUBSTITUTE(SUBSTITUTE(F157,\" \",\"_\"),\"-\",\"_\"),\"/\",\"_\")&\"W\"),2,FALSE)),\"N/A\")","v":""},null,null,null,null,null,null,{"$f":"IFERROR(IF(OR(K157=\"\",L157=\"\")=TRUE,\"\",VLOOKUP(L157,INDIRECT(SUBSTITUTE(SUBSTITUTE(SUBSTITUTE(K157,\" \",\"_\"),\"-\",\"_\"),\"/\",\"_\")&\"W\"),2,FALSE)),\"N/A\")","v":""},null,null,null,null,null,null,{"$f":"IFERROR(MIN(N(J157),N(U157)),0)","v":0},{"$f":"IFERROR(MIN(N(J157),N(U157)),0)","v":0},{"$f":"IF(N(I157)=0,IF(N(H157)=0,0,H157),I157)","v":0},{"$f":"IF(N(P157)=0,IF(N(O157)=0,0,O157),P157)","v":0},{"$f":"IFERROR(IF(OR($B$4=\"\",$B$5=\"\",$A$16=\"\",$F$16=\"\",$A$18=\"\",A157=\"\",B157=\"\",E157=\"\",F157=\"\",G157=\"\",AND(H157=\"N/A\",N(I157)=0)=TRUE,K157=\"\",L157=\"\",AND(O157=\"N/A\",N(P157)=0)=TRUE,AND(OR(A157=\"PL1\",A157=\"PL2\",A157=\"PL3\",A157=\"PL4\",A157=\"PL5\",A157=\"PL26\",A157=\"PL35\",A157=\"PL36\",A157=\"PL37\",A157=\"PL42\",A157=\"PL43\",A157=\"PL44\")=TRUE,OR(N(Q157)=0,N(R157)=0)=TRUE),AND(A157=\"PL38\",S157=\"\")=TRUE,Y157>=X157,ISERROR(IF(VLOOKUP(A157,MeasureCode_Lookup,2,FALSE)=\"Y\",VLOOKUP(F157,INDIRECT(A157&\"EType\"),1,FALSE),VLOOKUP(F157,Light_ETechType,1,FALSE))),ISERROR(IF(OR(F157=\"Incandescent\",F157=\"Halogen Incandescent\",F157=\"Compact Fluorescent\")=TRUE,1,IF(VLOOKUP(A157,MeasureCode_Lookup,2,FALSE)=\"Y\",VLOOKUP(G157,INDIRECT(A157&\"EDesc\"&VLOOKUP(F157,INDIRECT(A157&\"EType_Lookup\"),2,FALSE)),1,FALSE),VLOOKUP(G157,INDIRECT(SUBSTITUTE(SUBSTITUTE(SUBSTITUTE(F157,\" \",\"_\"),\"-\",\"_\"),\"/\",\"_\")),1,FALSE)))),ISERROR(VLOOKUP(K157,INDIRECT(A157&\"PType\"),1,FALSE)),ISERROR(VLOOKUP(L157,INDIRECT(A157&\"PDesc\"&VLOOKUP(K157,INDIRECT(A157&\"PType_Lookup\"),2,FALSE)),1,FALSE)),AND(OR(A157=\"PL9\",A157=\"PL12\")=TRUE,Y157>125)=TRUE,AND(OR(A157=\"PL10\",A157=\"PL13\")=TRUE,OR(Y157<=125,Y157>250)=TRUE)=TRUE,AND(OR(A157=\"PL11\",A157=\"PL14\")=TRUE,Y157<=250)=TRUE,AND(A157=\"PL35\",Y157>125)=TRUE,AND(A157=\"PL36\",OR(Y157<=125,Y157>250)=TRUE)=TRUE,AND(A157=\"PL37\",Y157<=250)=TRUE,AND(OR(A157=\"PL39\",A157=\"PL40\",A157=\"PL41\")=TRUE,T157=\"\")=TRUE)=TRUE,\"N\",\"Y\"),\"N\")","v":"N"},0,{"$f":"IF(OR($A$11=TRUE,$A$12=TRUE,$B$11=TRUE,$B$12=TRUE,$C$11=TRUE)=TRUE,AA157,0)","v":0},{"$f":"IF(AA157=0,0,V157*(AA157+AB157))","v":0},{"$f":"IF(AA157=0,0,W157*(AA157+AB157))","v":0},{"$f":"IF(AA157=0,0,(((J157*X157)-(U157*Y157))/1000)/MIN(J157,U157))","v":0},{"$f":"IF(AA157=0,0,IF(IFERROR(SEARCH(\"Refrigerated\",L157,1),0)>0,AE157*(1+VLOOKUP(T157,Refrigerated_Lookup,4,FALSE))*VLOOKUP(T157,Refrigerated_Lookup,5,FALSE),AE157*IF(E157=\"Interior\",IF(IFERROR(MATCH($A$18,HVACe_Options,0),0)>0,1+VLOOKUP($A$16,Building_Lookup,4,FALSE),1),1)*VLOOKUP($A$16,Building_Lookup,3,FALSE)))","v":0},{"$f":"IF(AA157=0,0,IF(IFERROR(SEARCH(\"Refrigerated\",L157,1),0)>0,AE157*(1+VLOOKUP(T157,Refrigerated_Lookup,3,FALSE))*VLOOKUP(T157,Refrigerated_Lookup,2,FALSE),AE157*IF(E157=\"Interior\",IFERROR((1+VLOOKUP($A$16,Building_Lookup,MATCH($A$18,HVACe_Options,0)+4,FALSE)),1),1)*VLOOKUP($A$16,Building_Lookup,2,FALSE)))","v":0},{"$f":"IF(AA157=0,0,IF(IFERROR(SEARCH(\"Refrigerated\",L157,1),0)>0,0,IF(E157=\"Interior\",IF(IFERROR(SEARCH(\"Gas\",$A$18),0)>0,AG157*VLOOKUP(\"Gas\",HVACg_Lookup,MATCH($F$16,BuildingSize,0)+1),IF(IFERROR(SEARCH(\"Oil\",$A$18),0)>0,AG157*VLOOKUP(\"Oil\",HVACg_Lookup,MATCH($F$16,BuildingSize,0)+1),IF(IFERROR(SEARCH(\"Propane\",$A$18),0)>0,AG157*VLOOKUP(\"Propane\",HVACg_Lookup,MATCH($F$16,BuildingSize,0)+1),0))),0)))","v":0},{"$f":"V157*$AF157","v":0},{"$f":"W157*$AF157","v":0},{"$f":"V157*$AG157","v":0},{"$f":"W157*$AG157","v":0},{"$f":"AK157*IF(OR(A157=\"PL39\",A157=\"PL40\",A157=\"PL41\")=TRUE,16,15)","v":0},{"$f":"AL157*IF(OR(A157=\"PL39\",A157=\"PL40\",A157=\"PL41\")=TRUE,16,15)","v":0},{"$f":"V157*$AH157","v":0},{"$f":"W157*$AH157","v":0},{"$f":"AO157*IF(OR(A157=\"PL39\",A157=\"PL40\",A157=\"PL41\")=TRUE,16,15)","v":0},{"$f":"AP157*IF(OR(A157=\"PL39\",A157=\"PL40\",A157=\"PL41\")=TRUE,16,15)","v":0}]
[null,null,null,null,null,null,null,"",null,null,null,null,null,null,"",null,null,null,null,null,null,0,0,0,0,"N",0,0,0,0,0,0,0,0,0,0,0,0,0,0,0,0,0,0]
[null,null,null,null,null,null,null,"",null,null,null,null,null,null,"",null,null,null,null,null,null,0,0,0,0,"N",0,0,0,0,0,0,0,0,0,0,0,0,0,0,0,0,0,0]
[null,null,null,null,null,null,null,"",null,null,null,null,null,null,"",null,null,null,null,null,null,0,0,0,0,"N",0,0,0,0,0,0,0,0,0,0,0,0,0,0,0,0,0,0]
[null,null,null,null,null,null,null,"",null,null,null,null,null,null,"",null,null,null,null,null,null,0,0,0,0,"N",0,0,0,0,0,0,0,0,0,0,0,0,0,0,0,0,0,0]
[null,null,null,null,null,null,null,"",null,null,null,null,null,null,"",null,null,null,null,null,null,0,0,0,0,"N",0,0,0,0,0,0,0,0,0,0,0,0,0,0,0,0,0,0]
[null,null,null,null,null,null,null,"",null,null,null,null,null,null,"",null,null,null,null,null,null,0,0,0,0,"N",0,0,0,0,0,0,0,0,0,0,0,0,0,0,0,0,0,0]
[null,null,null,null,null,null,null,"",null,null,null,null,null,null,"",null,null,null,null,null,null,0,0,0,0,"N",0,0,0,0,0,0,0,0,0,0,0,0,0,0,0,0,0,0]
[null,null,null,null,null,null,null,"",null,null,null,null,null,null,"",null,null,null,null,null,null,0,0,0,0,"N",0,0,0,0,0,0,0,0,0,0,0,0,0,0,0,0,0,0]
[null,null,null,null,null,null,null,"",null,null,null,null,null,null,"",null,null,null,null,null,null,0,0,0,0,"N",0,0,0,0,0,0,0,0,0,0,0,0,0,0,0,0,0,0]
[null,null,null,null,null,null,null,"",null,null,null,null,null,null,"",null,null,null,null,null,null,0,0,0,0,"N",0,0,0,0,0,0,0,0,0,0,0,0,0,0,0,0,0,0]
[null,null,null,null,null,null,null,"",null,null,null,null,null,null,"",null,null,null,null,null,null,0,0,0,0,"N",0,0,0,0,0,0,0,0,0,0,0,0,0,0,0,0,0,0]
[null,null,null,null,null,null,null,"",null,null,null,null,null,null,"",null,null,null,null,null,null,0,0,0,0,"N",0,0,0,0,0,0,0,0,0,0,0,0,0,0,0,0,0,0]
[null,null,null,null,null,null,null,"",null,null,null,null,null,null,"",null,null,null,null,null,null,0,0,0,0,"N",0,0,0,0,0,0,0,0,0,0,0,0,0,0,0,0,0,0]
[null,null,null,null,null,null,null,"",null,null,null,null,null,null,"",null,null,null,null,null,null,0,0,0,0,"N",0,0,0,0,0,0,0,0,0,0,0,0,0,0,0,0,0,0]
[null,null,null,null,null,null,null,"",null,null,null,null,null,null,"",null,null,null,null,null,null,0,0,0,0,"N",0,0,0,0,0,0,0,0,0,0,0,0,0,0,0,0,0,0]
[null,null,null,null,null,null,null,"",null,null,null,null,null,null,"",null,null,null,null,null,null,0,0,0,0,"N",0,0,0,0,0,0,0,0,0,0,0,0,0,0,0,0,0,0]
[null,null,null,null,null,null,null,"",null,null,null,null,null,null,"",null,null,null,null,null,null,0,0,0,0,"N",0,0,0,0,0,0,0,0,0,0,0,0,0,0,0,0,0,0]
[null,null,null,null,null,null,null,"",null,null,null,null,null,null,"",null,null,null,null,null,null,0,0,0,0,"N",0,0,0,0,0,0,0,0,0,0,0,0,0,0,0,0,0,0]
[null,null,null,null,null,null,null,"",null,null,null,null,null,null,"",null,null,null,null,null,null,0,0,0,0,"N",0,0,0,0,0,0,0,0,0,0,0,0,0,0,0,0,0,0]
[null,null,null,null,null,null,null,"",null,null,null,null,null,null,"",null,null,null,null,null,null,0,0,0,0,"N",0,0,0,0,0,0,0,0,0,0,0,0,0,0,0,0,0,0]
[null,null,null,null,null,null,null,"",null,null,null,null,null,null,"",null,null,null,null,null,null,0,0,0,0,"N",0,0,0,0,0,0,0,0,0,0,0,0,0,0,0,0,0,0]
[null,null,null,null,null,null,null,"",null,null,null,null,null,null,"",null,null,null,null,null,null,0,0,0,0,"N",0,0,0,0,0,0,0,0,0,0,0,0,0,0,0,0,0,0]
[null,null,null,null,null,null,null,"",null,null,null,null,null,null,"",null,null,null,null,null,null,0,0,0,0,"N",0,0,0,0,0,0,0,0,0,0,0,0,0,0,0,0,0,0]
[null,null,null,null,null,null,null,"",null,null,null,null,null,null,"",null,null,null,null,null,null,0,0,0,0,"N",0,0,0,0,0,0,0,0,0,0,0,0,0,0,0,0,0,0]
[null,null,null,null,null,null,null,"",null,null,null,null,null,null,"",null,null,null,null,null,null,0,0,0,0,"N",0,0,0,0,0,0,0,0,0,0,0,0,0,0,0,0,0,0]
[null,null,null,null,null,null,null,"",null,null,null,null,null,null,"",null,null,null,null,null,null,0,0,0,0,"N",0,0,0,0,0,0,0,0,0,0,0,0,0,0,0,0,0,0]
[null,null,null,null,null,null,null,"",null,null,null,null,null,null,"",null,null,null,null,null,null,0,0,0,0,"N",0,0,0,0,0,0,0,0,0,0,0,0,0,0,0,0,0,0]
[null,null,null,null,null,null,null,"",null,null,null,null,null,null,"",null,null,null,null,null,null,0,0,0,0,"N",0,0,0,0,0,0,0,0,0,0,0,0,0,0,0,0,0,0]
[null,null,null,null,null,null,null,"",null,null,null,null,null,null,"",null,null,null,null,null,null,0,0,0,0,"N",0,0,0,0,0,0,0,0,0,0,0,0,0,0,0,0,0,0]
[null,null,null,null,null,null,null,"",null,null,null,null,null,null,"",null,null,null,null,null,null,0,0,0,0,"N",0,0,0,0,0,0,0,0,0,0,0,0,0,0,0,0,0,0]
[null,null,null,null,null,null,null,"",null,null,null,null,null,null,"",null,null,null,null,null,null,0,0,0,0,"N",0,0,0,0,0,0,0,0,0,0,0,0,0,0,0,0,0,0]
[null,null,null,null,null,null,null,"",null,null,null,null,null,null,"",null,null,null,null,null,null,0,0,0,0,"N",0,0,0,0,0,0,0,0,0,0,0,0,0,0,0,0,0,0]
[null,null,null,null,null,null,null,"",null,null,null,null,null,null,"",null,null,null,null,null,null,0,0,0,0,"N",0,0,0,0,0,0,0,0,0,0,0,0,0,0,0,0,0,0]
[null,null,null,null,null,null,null,"",null,null,null,null,null,null,"",null,null,null,null,null,null,0,0,0,0,"N",0,0,0,0,0,0,0,0,0,0,0,0,0,0,0,0,0,0]
[null,null,null,null,null,null,null,"",null,null,null,null,null,null,"",null,null,null,null,null,null,0,0,0,0,"N",0,0,0,0,0,0,0,0,0,0,0,0,0,0,0,0,0,0]
[null,null,null,null,null,null,null,"",null,null,null,null,null,null,"",null,null,null,null,null,null,0,0,0,0,"N",0,0,0,0,0,0,0,0,0,0,0,0,0,0,0,0,0,0]
[null,null,null,null,null,null,null,"",null,null,null,null,null,null,"",null,null,null,null,null,null,0,0,0,0,"N",0,0,0,0,0,0,0,0,0,0,0,0,0,0,0,0,0,0]
[null,null,null,null,null,null,null,"",null,null,null,null,null,null,"",null,null,null,null,null,null,0,0,0,0,"N",0,0,0,0,0,0,0,0,0,0,0,0,0,0,0,0,0,0]
[null,null,null,null,null,null,null,"",null,null,null,null,null,null,"",null,null,null,null,null,null,0,0,0,0,"N",0,0,0,0,0,0,0,0,0,0,0,0,0,0,0,0,0,0]
[null,null,null,null,null,null,null,"",null,null,null,null,null,null,"",null,null,null,null,null,null,0,0,0,0,"N",0,0,0,0,0,0,0,0,0,0,0,0,0,0,0,0,0,0]
[null,null,null,null,null,null,null,"",null,null,null,null,null,null,"",null,null,null,null,null,null,0,0,0,0,"N",0,0,0,0,0,0,0,0,0,0,0,0,0,0,0,0,0,0]
[null,null,null,null,null,null,null,"",null,null,null,null,null,null,"",null,null,null,null,null,null,0,0,0,0,"N",0,0,0,0,0,0,0,0,0,0,0,0,0,0,0,0,0,0]
[null,null,null,null,null,null,null,"",null,null,null,null,null,null,"",null,null,null,null,null,null,0,0,0,0,"N",0,0,0,0,0,0,0,0,0,0,0,0,0,0,0,0,0,0]
[null,null,null,null,null,null,null,"",null,null,null,null,null,null,"",null,null,null,null,null,null,0,0,0,0,"N",0,0,0,0,0,0,0,0,0,0,0,0,0,0,0,0,0,0]
[null,null,null,null,null,null,null,"",null,null,null,null,null,null,"",null,null,null,null,null,null,0,0,0,0,"N",0,0,0,0,0,0,0,0,0,0,0,0,0,0,0,0,0,0]
[null,null,null,null,null,null,null,"",null,null,null,null,null,null,"",null,null,null,null,null,null,0,0,0,0,"N",0,0,0,0,0,0,0,0,0,0,0,0,0,0,0,0,0,0]
[null,null,null,null,null,null,null,"",null,null,null,null,null,null,"",null,null,null,null,null,null,0,0,0,0,"N",0,0,0,0,0,0,0,0,0,0,0,0,0,0,0,0,0,0]
[null,null,null,null,null,null,null,"",null,null,null,null,null,null,"",null,null,null,null,null,null,0,0,0,0,"N",0,0,0,0,0,0,0,0,0,0,0,0,0,0,0,0,0,0]
[null,null,null,null,null,null,null,"",null,null,null,null,null,null,"",null,null,null,null,null,null,0,0,0,0,"N",0,0,0,0,0,0,0,0,0,0,0,0,0,0,0,0,0,0]
[null,null,null,null,null,null,null,"",null,null,null,null,null,null,"",null,null,null,null,null,null,0,0,0,0,"N",0,0,0,0,0,0,0,0,0,0,0,0,0,0,0,0,0,0]
[null,null,null,null,null,null,null,"",null,null,null,null,null,null,"",null,null,null,null,null,null,0,0,0,0,"N",0,0,0,0,0,0,0,0,0,0,0,0,0,0,0,0,0,0]
[null,null,null,null,null,null,null,"",null,null,null,null,null,null,"",null,null,null,null,null,null,0,0,0,0,"N",0,0,0,0,0,0,0,0,0,0,0,0,0,0,0,0,0,0]
[null,null,null,null,null,null,null,"",null,null,null,null,null,null,"",null,null,null,null,null,null,0,0,0,0,"N",0,0,0,0,0,0,0,0,0,0,0,0,0,0,0,0,0,0]
[null,null,null,null,null,null,null,"",null,null,null,null,null,null,"",null,null,null,null,null,null,0,0,0,0,"N",0,0,0,0,0,0,0,0,0,0,0,0,0,0,0,0,0,0]
[null,null,null,null,null,null,null,"",null,null,null,null,null,null,"",null,null,null,null,null,null,0,0,0,0,"N",0,0,0,0,0,0,0,0,0,0,0,0,0,0,0,0,0,0]
[null,null,null,null,null,null,null,"",null,null,null,null,null,null,"",null,null,null,null,null,null,0,0,0,0,"N",0,0,0,0,0,0,0,0,0,0,0,0,0,0,0,0,0,0]
[null,null,null,null,null,null,null,"",null,null,null,null,null,null,"",null,null,null,null,null,null,0,0,0,0,"N",0,0,0,0,0,0,0,0,0,0,0,0,0,0,0,0,0,0]
[null,null,null,null,null,null,null,"",null,null,null,null,null,null,"",null,null,null,null,null,null,0,0,0,0,"N",0,0,0,0,0,0,0,0,0,0,0,0,0,0,0,0,0,0]
[null,null,null,null,null,null,null,"",null,null,null,null,null,null,"",null,null,null,null,null,null,0,0,0,0,"N",0,0,0,0,0,0,0,0,0,0,0,0,0,0,0,0,0,0]
[null,null,null,null,null,null,null,"",null,null,null,null,null,null,"",null,null,null,null,null,null,0,0,0,0,"N",0,0,0,0,0,0,0,0,0,0,0,0,0,0,0,0,0,0]
[null,null,null,null,null,null,null,"",null,null,null,null,null,null,"",null,null,null,null,null,null,0,0,0,0,"N",0,0,0,0,0,0,0,0,0,0,0,0,0,0,0,0,0,0]
[null,null,null,null,null,null,null,"",null,null,null,null,null,null,"",null,null,null,null,null,null,0,0,0,0,"N",0,0,0,0,0,0,0,0,0,0,0,0,0,0,0,0,0,0]
[null,null,null,null,null,null,null,"",null,null,null,null,null,null,"",null,null,null,null,null,null,0,0,0,0,"N",{"$f":"IFERROR(IF(Z220=\"Y\",VLOOKUP(A220,MeasureCode_Lookup,8,FALSE)*IF(OR(A220=\"PL1\",A220=\"PL2\",A220=\"PL3\", A220=\"PL4\", A220=\"PL5\", A220=\"PL26\",A220=\"PL35\",A220=\"PL36\",A220=\"PL37\",A220=\"PL42\",A220=\"PL43\",A220=\"PL44\")=TRUE,Q220,IF(A220=\"PL38\",S220,1)),0),0)","v":0},0,0,0,0,0,0,0,0,0,0,0,0,0,0,0,0,0]
[null,null,null,null,null,null,null,{"$f":"IFERROR(IF(OR(F221=\"\",G221=\"\")=TRUE,\"\",VLOOKUP(G221,INDIRECT(SUBSTITUTE(SUBSTITUTE(SUBSTITUTE(F221,\" \",\"_\"),\"-\",\"_\"),\"/\",\"_\")&\"W\"),2,FALSE)),\"N/A\")","v":""},null,null,null,null,null,null,{"$f":"IFERROR(IF(OR(K221=\"\",L221=\"\")=TRUE,\"\",VLOOKUP(L221,INDIRECT(SUBSTITUTE(SUBSTITUTE(SUBSTITUTE(K221,\" \",\"_\"),\"-\",\"_\"),\"/\",\"_\")&\"W\"),2,FALSE)),\"N/A\")","v":""},null,null,null,null,null,null,{"$f":"IFERROR(MIN(N(J221),N(U221)),0)","v":0},{"$f":"IFERROR(MIN(N(J221),N(U221)),0)","v":0},{"$f":"IF(N(I221)=0,IF(N(H221)=0,0,H221),I221)","v":0},{"$f":"IF(N(P221)=0,IF(N(O221)=0,0,O221),P221)","v":0},{"$f":"IFERROR(IF(OR($B$4=\"\",$B$5=\"\",$A$16=\"\",$F$16=\"\",$A$18=\"\",A221=\"\",B221=\"\",E221=\"\",F221=\"\",G221=\"\",AND(H221=\"N/A\",N(I221)=0)=TRUE,K221=\"\",L221=\"\",AND(O221=\"N/A\",N(P221)=0)=TRUE,AND(OR(A221=\"PL1\",A221=\"PL2\",A221=\"PL3\",A221=\"PL4\",A221=\"PL5\",A221=\"PL26\",A221=\"PL35\",A221=\"PL36\",A221=\"PL37\",A221=\"PL42\",A221=\"PL43\",A221=\"PL44\")=TRUE,OR(N(Q221)=0,N(R221)=0)=TRUE),AND(A221=\"PL38\",S221=\"\")=TRUE,Y221>=X221,ISERROR(IF(VLOOKUP(A221,MeasureCode_Lookup,2,FALSE)=\"Y\",VLOOKUP(F221,INDIRECT(A221&\"EType\"),1,FALSE),VLOOKUP(F221,Light_ETechType,1,FALSE))),ISERROR(IF(OR(F221=\"Incandescent\",F221=\"Halogen Incandescent\",F221=\"Compact Fluorescent\")=TRUE,1,IF(VLOOKUP(A221,MeasureCode_Lookup,2,FALSE)=\"Y\",VLOOKUP(G221,INDIRECT(A221&\"EDesc\"&VLOOKUP(F221,INDIRECT(A221&\"EType_Lookup\"),2,FALSE)),1,FALSE),VLOOKUP(G221,INDIRECT(SUBSTITUTE(SUBSTITUTE(SUBSTITUTE(F221,\" \",\"_\"),\"-\",\"_\"),\"/\",\"_\")),1,FALSE)))),ISERROR(VLOOKUP(K221,INDIRECT(A221&\"PType\"),1,FALSE)),ISERROR(VLOOKUP(L221,INDIRECT(A221&\"PDesc\"&VLOOKUP(K221,INDIRECT(A221&\"PType_Lookup\"),2,FALSE)),1,FALSE)),AND(OR(A221=\"PL9\",A221=\"PL12\")=TRUE,Y221>125)=TRUE,AND(OR(A221=\"PL10\",A221=\"PL13\")=TRUE,OR(Y221<=125,Y221>250)=TRUE)=TRUE,AND(OR(A221=\"PL11\",A221=\"PL14\")=TRUE,Y221<=250)=TRUE,AND(A221=\"PL35\",Y221>125)=TRUE,AND(A221=\"PL36\",OR(Y221<=125,Y221>250)=TRUE)=TRUE,AND(A221=\"PL37\",Y221<=250)=TRUE,AND(OR(A221=\"PL39\",A221=\"PL40\",A221=\"PL41\")=TRUE,T221=\"\")=TRUE)=TRUE,\"N\",\"Y\"),\"N\")","v":"N"},0,{"$f":"IF(OR($A$11=TRUE,$A$12=TRUE,$B$11=TRUE,$B$12=TRUE,$C$11=TRUE)=TRUE,AA221,0)","v":0},{"$f":"IF(AA221=0,0,V221*(AA221+AB221))","v":0},{"$f":"IF(AA221=0,0,W221*(AA221+AB221))","v":0},{"$f":"IF(AA221=0,0,(((J221*X221)-(U221*Y221))/1000)/MIN(J221,U221))","v":0},{"$f":"IF(AA221=0,0,IF(IFERROR(SEARCH(\"Refrigerated\",L221,1),0)>0,AE221*(1+VLOOKUP(T221,Refrigerated_Lookup,4,FALSE))*VLOOKUP(T221,Refrigerated_Lookup,5,FALSE),AE221*IF(E221=\"Interior\",IF(IFERROR(MATCH($A$18,HVACe_Options,0),0)>0,1+VLOOKUP($A$16,Building_Lookup,4,FALSE),1),1)*VLOOKUP($A$16,Building_Lookup,3,FALSE)))","v":0},{"$f":"IF(AA221=0,0,IF(IFERROR(SEARCH(\"Refrigerated\",L221,1),0)>0,AE221*(1+VLOOKUP(T221,Refrigerated_Lookup,3,FALSE))*VLOOKUP(T221,Refrigerated_Lookup,2,FALSE),AE221*IF(E221=\"Interior\",IFERROR((1+VLOOKUP($A$16,Building_Lookup,MATCH($A$18,HVACe_Options,0)+4,FALSE)),1),1)*VLOOKUP($A$16,Building_Lookup,2,FALSE)))","v":0},{"$f":"IF(AA221=0,0,IF(IFERROR(SEARCH(\"Refrigerated\",L221,1),0)>0,0,IF(E221=\"Interior\",IF(IFERROR(SEARCH(\"Gas\",$A$18),0)>0,AG221*VLOOKUP(\"Gas\",HVACg_Lookup,MATCH($F$16,BuildingSize,0)+1),IF(IFERROR(SEARCH(\"Oil\",$A$18),0)>0,AG221*VLOOKUP(\"Oil\",HVACg_Lookup,MATCH($F$16,BuildingSize,0)+1),IF(IFERROR(SEARCH(\"Propane\",$A$18),0)>0,AG221*VLOOKUP(\"Propane\",HVACg_Lookup,MATCH($F$16,BuildingSize,0)+1),0))),0)))","v":0},{"$f":"V221*$AF221","v":0},{"$f":"W221*$AF221","v":0},{"$f":"V221*$AG221","v":0},{"$f":"W221*$AG221","v":0},{"$f":"AK221*IF(OR(A221=\"PL39\",A221=\"PL40\",A221=\"PL41\")=TRUE,16,15)","v":0},{"$f":"AL221*IF(OR(A221=\"PL39\",A221=\"PL40\",A221=\"PL41\")=TRUE,16,15)","v":0},{"$f":"V221*$AH221","v":0},{"$f":"W221*$AH221","v":0},{"$f":"AO221*IF(OR(A221=\"PL39\",A221=\"PL40\",A221=\"PL41\")=TRUE,16,15)","v":0},{"$f":"AP221*IF(OR(A221=\"PL39\",A221=\"PL40\",A221=\"PL41\")=TRUE,16,15)","v":0}]
[null,null,null,null,null,null,null,"",null,null,null,null,null,null,"",null,null,null,null,null,null,0,0,0,0,"N",0,0,0,0,0,0,0,0,0,0,0,0,0,0,0,0,0,0]
[null,null,null,null,null,null,null,"",null,null,null,null,null,null,"",null,null,null,null,null,null,0,0,0,0,"N",0,0,0,0,0,0,0,0,0,0,0,0,0,0,0,0,0,0]
[null,null,null,null,null,null,null,"",null,null,null,null,null,null,"",null,null,null,null,null,null,0,0,0,0,"N",0,0,0,0,0,0,0,0,0,0,0,0,0,0,0,0,0,0]
[null,null,null,null,null,null,null,"",null,null,null,null,null,null,"",null,null,null,null,null,null,0,0,0,0,"N",0,0,0,0,0,0,0,0,0,0,0,0,0,0,0,0,0,0]
[null,null,null,null,null,null,null,"",null,null,null,null,null,null,"",null,null,null,null,null,null,0,0,0,0,"N",0,0,0,0,0,0,0,0,0,0,0,0,0,0,0,0,0,0]
[null,null,null,null,null,null,null,"",null,null,null,null,null,null,"",null,null,null,null,null,null,0,0,0,0,"N",0,0,0,0,0,0,0,0,0,0,0,0,0,0,0,0,0,0]
[null,null,null,null,null,null,null,"",null,null,null,null,null,null,"",null,null,null,null,null,null,0,0,0,0,"N",0,0,0,0,0,0,0,0,0,0,0,0,0,0,0,0,0,0]
[null,null,null,null,null,null,null,"",null,null,null,null,null,null,"",null,null,null,null,null,null,0,0,0,0,"N",0,0,0,0,0,0,0,0,0,0,0,0,0,0,0,0,0,0]
[null,null,null,null,null,null,null,"",null,null,null,null,null,null,"",null,null,null,null,null,null,0,0,0,0,"N",0,0,0,0,0,0,0,0,0,0,0,0,0,0,0,0,0,0]
[null,null,null,null,null,null,null,"",null,null,null,null,null,null,"",null,null,null,null,null,null,0,0,0,0,"N",0,0,0,0,0,0,0,0,0,0,0,0,0,0,0,0,0,0]
[null,null,null,null,null,null,null,"",null,null,null,null,null,null,"",null,null,null,null,null,null,0,0,0,0,"N",0,0,0,0,0,0,0,0,0,0,0,0,0,0,0,0,0,0]
[null,null,null,null,null,null,null,"",null,null,null,null,null,null,"",null,null,null,null,null,null,0,0,0,0,"N",0,0,0,0,0,0,0,0,0,0,0,0,0,0,0,0,0,0]
[null,null,null,null,null,null,null,"",null,null,null,null,null,null,"",null,null,null,null,null,null,0,0,0,0,"N",0,0,0,0,0,0,0,0,0,0,0,0,0,0,0,0,0,0]
[null,null,null,null,null,null,null,"",null,null,null,null,null,null,"",null,null,null,null,null,null,0,0,0,0,"N",0,0,0,0,0,0,0,0,0,0,0,0,0,0,0,0,0,0]
[null,null,null,null,null,null,null,"",null,null,null,null,null,null,"",null,null,null,null,null,null,0,0,0,0,"N",0,0,0,0,0,0,0,0,0,0,0,0,0,0,0,0,0,0]
[null,null,null,null,null,null,null,"",null,null,null,null,null,null,"",null,null,null,null,null,null,0,0,0,0,"N",0,0,0,0,0,0,0,0,0,0,0,0,0,0,0,0,0,0]
[null,null,null,null,null,null,null,"",null,null,null,null,null,null,"",null,null,null,null,null,null,0,0,0,0,"N",0,0,0,0,0,0,0,0,0,0,0,0,0,0,0,0,0,0]
[null,null,null,null,null,null,null,"",null,null,null,null,null,null,"",null,null,null,null,null,null,0,0,0,0,"N",0,0,0,0,0,0,0,0,0,0,0,0,0,0,0,0,0,0]
[null,null,null,null,null,null,null,"",null,null,null,null,null,null,"",null,null,null,null,null,null,0,0,0,0,"N",0,0,0,0,0,0,0,0,0,0,0,0,0,0,0,0,0,0]
[null,null,null,null,null,null,null,"",null,null,null,null,null,null,"",null,null,null,null,null,null,0,0,0,0,"N",0,0,0,0,0,0,0,0,0,0,0,0,0,0,0,0,0,0]
[null,null,null,null,null,null,null,"",null,null,null,null,null,null,"",null,null,null,null,null,null,0,0,0,0,"N",0,0,0,0,0,0,0,0,0,0,0,0,0,0,0,0,0,0]
[null,null,null,null,null,null,null,"",null,null,null,null,null,null,"",null,null,null,null,null,null,0,0,0,0,"N",0,0,0,0,0,0,0,0,0,0,0,0,0,0,0,0,0,0]
[null,null,null,null,null,null,null,"",null,null,null,null,null,null,"",null,null,null,null,null,null,0,0,0,0,"N",0,0,0,0,0,0,0,0,0,0,0,0,0,0,0,0,0,0]
[null,null,null,null,null,null,null,"",null,null,null,null,null,null,"",null,null,null,null,null,null,0,0,0,0,"N",0,0,0,0,0,0,0,0,0,0,0,0,0,0,0,0,0,0]
[null,null,null,null,null,null,null,"",null,null,null,null,null,null,"",null,null,null,null,null,null,0,0,0,0,"N",0,0,0,0,0,0,0,0,0,0,0,0,0,0,0,0,0,0]
[null,null,null,null,null,null,null,"",null,null,null,null,null,null,"",null,null,null,null,null,null,0,0,0,0,"N",0,0,0,0,0,0,0,0,0,0,0,0,0,0,0,0,0,0]
[null,null,null,null,null,null,null,"",null,null,null,null,null,null,"",null,null,null,null,null,null,0,0,0,0,"N",0,0,0,0,0,0,0,0,0,0,0,0,0,0,0,0,0,0]
[null,null,null,null,null,null,null,"",null,null,null,null,null,null,"",null,null,null,null,null,null,0,0,0,0,"N",0,0,0,0,0,0,0,0,0,0,0,0,0,0,0,0,0,0]
[null,null,null,null,null,null,null,"",null,null,null,null,null,null,"",null,null,null,null,null,null,0,0,0,0,"N",0,0,0,0,0,0,0,0,0,0,0,0,0,0,0,0,0,0]
[null,null,null,null,null,null,null,"",null,null,null,null,null,null,"",null,null,null,null,null,null,0,0,0,0,"N",0,0,0,0,0,0,0,0,0,0,0,0,0,0,0,0,0,0]
[null,null,null,null,null,null,null,"",null,null,null,null,null,null,"",null,null,null,null,null,null,0,0,0,0,"N",0,0,0,0,0,0,0,0,0,0,0,0,0,0,0,0,0,0]
[null,null,null,null,null,null,null,"",null,null,null,null,null,null,"",null,null,null,null,null,null,0,0,0,0,"N",0,0,0,0,0,0,0,0,0,0,0,0,0,0,0,0,0,0]
[null,null,null,null,null,null,null,"",null,null,null,null,null,null,"",null,null,null,null,null,null,0,0,0,0,"N",0,0,0,0,0,0,0,0,0,0,0,0,0,0,0,0,0,0]
[null,null,null,null,null,null,null,"",null,null,null,null,null,null,"",null,null,null,null,null,null,0,0,0,0,"N",0,0,0,0,0,0,0,0,0,0,0,0,0,0,0,0,0,0]
[null,null,null,null,null,null,null,"",null,null,null,null,null,null,"",null,null,null,null,null,null,0,0,0,0,"N",0,0,0,0,0,0,0,0,0,0,0,0,0,0,0,0,0,0]
[null,null,null,null,null,null,null,"",null,null,null,null,null,null,"",null,null,null,null,null,null,0,0,0,0,"N",0,0,0,0,0,0,0,0,0,0,0,0,0,0,0,0,0,0]
[null,null,null,null,null,null,null,"",null,null,null,null,null,null,"",null,null,null,null,null,null,0,0,0,0,"N",0,0,0,0,0,0,0,0,0,0,0,0,0,0,0,0,0,0]
[null,null,null,null,null,null,null,"",null,null,null,null,null,null,"",null,null,null,null,null,null,0,0,0,0,"N",0,0,0,0,0,0,0,0,0,0,0,0,0,0,0,0,0,0]
[null,null,null,null,null,null,null,"",null,null,null,null,null,null,"",null,null,null,null,null,null,0,0,0,0,"N",0,0,0,0,0,0,0,0,0,0,0,0,0,0,0,0,0,0]
[null,null,null,null,null,null,null,"",null,null,null,null,null,null,"",null,null,null,null,null,null,0,0,0,0,"N",0,0,0,0,0,0,0,0,0,0,0,0,0,0,0,0,0,0]
[null,null,null,null,null,null,null,"",null,null,null,null,null,null,"",null,null,null,null,null,null,0,0,0,0,"N",0,0,0,0,0,0,0,0,0,0,0,0,0,0,0,0,0,0]
[null,null,null,null,null,null,null,"",null,null,null,null,null,null,"",null,null,null,null,null,null,0,0,0,0,"N",0,0,0,0,0,0,0,0,0,0,0,0,0,0,0,0,0,0]
[null,null,null,null,null,null,null,"",null,null,null,null,null,null,"",null,null,null,null,null,null,0,0,0,0,"N",0,0,0,0,0,0,0,0,0,0,0,0,0,0,0,0,0,0]
[null,null,null,null,null,null,null,"",null,null,null,null,null,null,"",null,null,null,null,null,null,0,0,0,0,"N",0,0,0,0,0,0,0,0,0,0,0,0,0,0,0,0,0,0]
[null,null,null,null,null,null,null,"",null,null,null,null,null,null,"",null,null,null,null,null,null,0,0,0,0,"N",0,0,0,0,0,0,0,0,0,0,0,0,0,0,0,0,0,0]
[null,null,null,null,null,null,null,"",null,null,null,null,null,null,"",null,null,null,null,null,null,0,0,0,0,"N",0,0,0,0,0,0,0,0,0,0,0,0,0,0,0,0,0,0]
[null,null,null,null,null,null,null,"",null,null,null,null,null,null,"",null,null,null,null,null,null,0,0,0,0,"N",0,0,0,0,0,0,0,0,0,0,0,0,0,0,0,0,0,0]
[null,null,null,null,null,null,null,"",null,null,null,null,null,null,"",null,null,null,null,null,null,0,0,0,0,"N",0,0,0,0,0,0,0,0,0,0,0,0,0,0,0,0,0,0]
[null,null,null,null,null,null,null,"",null,null,null,null,null,null,"",null,null,null,null,null,null,0,0,0,0,"N",0,0,0,0,0,0,0,0,0,0,0,0,0,0,0,0,0,0]
[null,null,null,null,null,null,null,"",null,null,null,null,null,null,"",null,null,null,null,null,null,0,0,0,0,"N",0,0,0,0,0,0,0,0,0,0,0,0,0,0,0,0,0,0]
[null,null,null,null,null,null,null,"",null,null,null,null,null,null,"",null,null,null,null,null,null,0,0,0,0,"N",0,0,0,0,0,0,0,0,0,0,0,0,0,0,0,0,0,0]
[null,null,null,null,null,null,null,"",null,null,null,null,null,null,"",null,null,null,null,null,null,0,0,0,0,"N",0,0,0,0,0,0,0,0,0,0,0,0,0,0,0,0,0,0]
[null,null,null,null,null,null,null,"",null,null,null,null,null,null,"",null,null,null,null,null,null,0,0,0,0,"N",0,0,0,0,0,0,0,0,0,0,0,0,0,0,0,0,0,0]
[null,null,null,null,null,null,null,"",null,null,null,null,null,null,"",null,null,null,null,null,null,0,0,0,0,"N",0,0,0,0,0,0,0,0,0,0,0,0,0,0,0,0,0,0]
[null,null,null,null,null,null,null,"",null,null,null,null,null,null,"",null,null,null,null,null,null,0,0,0,0,"N",0,0,0,0,0,0,0,0,0,0,0,0,0,0,0,0,0,0]
[null,null,null,null,null,null,null,"",null,null,null,null,null,null,"",null,null,null,null,null,null,0,0,0,0,"N",0,0,0,0,0,0,0,0,0,0,0,0,0,0,0,0,0,0]
[null,null,null,null,null,null,null,"",null,null,null,null,null,null,"",null,null,null,null,null,null,0,0,0,0,"N",0,0,0,0,0,0,0,0,0,0,0,0,0,0,0,0,0,0]
[null,null,null,null,null,null,null,"",null,null,null,null,null,null,"",null,null,null,null,null,null,0,0,0,0,"N",0,0,0,0,0,0,0,0,0,0,0,0,0,0,0,0,0,0]
[null,null,null,null,null,null,null,"",null,null,null,null,null,null,"",null,null,null,null,null,null,0,0,0,0,"N",0,0,0,0,0,0,0,0,0,0,0,0,0,0,0,0,0,0]
[null,null,null,null,null,null,null,"",null,null,null,null,null,null,"",null,null,null,null,null,null,0,0,0,0,"N",0,0,0,0,0,0,0,0,0,0,0,0,0,0,0,0,0,0]
[null,null,null,null,null,null,null,"",null,null,null,null,null,null,"",null,null,null,null,null,null,0,0,0,0,"N",0,0,0,0,0,0,0,0,0,0,0,0,0,0,0,0,0,0]
[null,null,null,null,null,null,null,"",null,null,null,null,null,null,"",null,null,null,null,null,null,0,0,0,0,"N",0,0,0,0,0,0,0,0,0,0,0,0,0,0,0,0,0,0]
[null,null,null,null,null,null,null,"",null,null,null,null,null,null,"",null,null,null,null,null,null,0,0,0,0,"N",{"$f":"IFERROR(IF(Z284=\"Y\",VLOOKUP(A284,MeasureCode_Lookup,8,FALSE)*IF(OR(A284=\"PL1\",A284=\"PL2\",A284=\"PL3\", A284=\"PL4\", A284=\"PL5\", A284=\"PL26\",A284=\"PL35\",A284=\"PL36\",A284=\"PL37\",A284=\"PL42\",A284=\"PL43\",A284=\"PL44\")=TRUE,Q284,IF(A284=\"PL38\",S284,1)),0),0)","v":0},0,0,0,0,0,0,0,0,0,0,0,0,0,0,0,0,0]
[null,null,null,null,null,null,null,{"$f":"IFERROR(IF(OR(F285=\"\",G285=\"\")=TRUE,\"\",VLOOKUP(G285,INDIRECT(SUBSTITUTE(SUBSTITUTE(SUBSTITUTE(F285,\" \",\"_\"),\"-\",\"_\"),\"/\",\"_\")&\"W\"),2,FALSE)),\"N/A\")","v":""},null,null,null,null,null,null,{"$f":"IFERROR(IF(OR(K285=\"\",L285=\"\")=TRUE,\"\",VLOOKUP(L285,INDIRECT(SUBSTITUTE(SUBSTITUTE(SUBSTITUTE(K285,\" \",\"_\"),\"-\",\"_\"),\"/\",\"_\")&\"W\"),2,FALSE)),\"N/A\")","v":""},null,null,null,null,null,null,{"$f":"IFERROR(MIN(N(J285),N(U285)),0)","v":0},{"$f":"IFERROR(MIN(N(J285),N(U285)),0)","v":0},{"$f":"IF(N(I285)=0,IF(N(H285)=0,0,H285),I285)","v":0},{"$f":"IF(N(P285)=0,IF(N(O285)=0,0,O285),P285)","v":0},{"$f":"IFERROR(IF(OR($B$4=\"\",$B$5=\"\",$A$16=\"\",$F$16=\"\",$A$18=\"\",A285=\"\",B285=\"\",E285=\"\",F285=\"\",G285=\"\",AND(H285=\"N/A\",N(I285)=0)=TRUE,K285=\"\",L285=\"\",AND(O285=\"N/A\",N(P285)=0)=TRUE,AND(OR(A285=\"PL1\",A285=\"PL2\",A285=\"PL3\",A285=\"PL4\",A285=\"PL5\",A285=\"PL26\",A285=\"PL35\",A285=\"PL36\",A285=\"PL37\",A285=\"PL42\",A285=\"PL43\",A285=\"PL44\")=TRUE,OR(N(Q285)=0,N(R285)=0)=TRUE),AND(A285=\"PL38\",S285=\"\")=TRUE,Y285>=X285,ISERROR(IF(VLOOKUP(A285,MeasureCode_Lookup,2,FALSE)=\"Y\",VLOOKUP(F285,INDIRECT(A285&\"EType\"),1,FALSE),VLOOKUP(F285,Light_ETechType,1,FALSE))),ISERROR(IF(OR(F285=\"Incandescent\",F285=\"Halogen Incandescent\",F285=\"Compact Fluorescent\")=TRUE,1,IF(VLOOKUP(A285,MeasureCode_Lookup,2,FALSE)=\"Y\",VLOOKUP(G285,INDIRECT(A285&\"EDesc\"&VLOOKUP(F285,INDIRECT(A285&\"EType_Lookup\"),2,FALSE)),1,FALSE),VLOOKUP(G285,INDIRECT(SUBSTITUTE(SUBSTITUTE(SUBSTITUTE(F285,\" \",\"_\"),\"-\",\"_\"),\"/\",\"_\")),1,FALSE)))),ISERROR(VLOOKUP(K285,INDIRECT(A285&\"PType\"),1,FALSE)),ISERROR(VLOOKUP(L285,INDIRECT(A285&\"PDesc\"&VLOOKUP(K285,INDIRECT(A285&\"PType_Lookup\"),2,FALSE)),1,FALSE)),AND(OR(A285=\"PL9\",A285=\"PL12\")=TRUE,Y285>125)=TRUE,AND(OR(A285=\"PL10\",A285=\"PL13\")=TRUE,OR(Y285<=125,Y285>250)=TRUE)=TRUE,AND(OR(A285=\"PL11\",A285=\"PL14\")=TRUE,Y285<=250)=TRUE,AND(A285=\"PL35\",Y285>125)=TRUE,AND(A285=\"PL36\",OR(Y285<=125,Y285>250)=TRUE)=TRUE,AND(A285=\"PL37\",Y285<=250)=TRUE,AND(OR(A285=\"PL39\",A285=\"PL40\",A285=\"PL41\")=TRUE,T285=\"\")=TRUE)=TRUE,\"N\",\"Y\"),\"N\")","v":"N"},0,{"$f":"IF(OR($A$11=TRUE,$A$12=TRUE,$B$11=TRUE,$B$12=TRUE,$C$11=TRUE)=TRUE,AA285,0)","v":0},{"$f":"IF(AA285=0,0,V285*(AA285+AB285))","v":0},{"$f":"IF(AA285=0,0,W285*(AA285+AB285))","v":0},{"$f":"IF(AA285=0,0,(((J285*X285)-(U285*Y285))/1000)/MIN(J285,U285))","v":0},{"$f":"IF(AA285=0,0,IF(IFERROR(SEARCH(\"Refrigerated\",L285,1),0)>0,AE285*(1+VLOOKUP(T285,Refrigerated_Lookup,4,FALSE))*VLOOKUP(T285,Refrigerated_Lookup,5,FALSE),AE285*IF(E285=\"Interior\",IF(IFERROR(MATCH($A$18,HVACe_Options,0),0)>0,1+VLOOKUP($A$16,Building_Lookup,4,FALSE),1),1)*VLOOKUP($A$16,Building_Lookup,3,FALSE)))","v":0},{"$f":"IF(AA285=0,0,IF(IFERROR(SEARCH(\"Refrigerated\",L285,1),0)>0,AE285*(1+VLOOKUP(T285,Refrigerated_Lookup,3,FALSE))*VLOOKUP(T285,Refrigerated_Lookup,2,FALSE),AE285*IF(E285=\"Interior\",IFERROR((1+VLOOKUP($A$16,Building_Lookup,MATCH($A$18,HVACe_Options,0)+4,FALSE)),1),1)*VLOOKUP($A$16,Building_Lookup,2,FALSE)))","v":0},{"$f":"IF(AA285=0,0,IF(IFERROR(SEARCH(\"Refrigerated\",L285,1),0)>0,0,IF(E285=\"Interior\",IF(IFERROR(SEARCH(\"Gas\",$A$18),0)>0,AG285*VLOOKUP(\"Gas\",HVACg_Lookup,MATCH($F$16,BuildingSize,0)+1),IF(IFERROR(SEARCH(\"Oil\",$A$18),0)>0,AG285*VLOOKUP(\"Oil\",HVACg_Lookup,MATCH($F$16,BuildingSize,0)+1),IF(IFERROR(SEARCH(\"Propane\",$A$18),0)>0,AG285*VLOOKUP(\"Propane\",HVACg_Lookup,MATCH($F$16,BuildingSize,0)+1),0))),0)))","v":0},{"$f":"V285*$AF285","v":0},{"$f":"W285*$AF285","v":0},{"$f":"V285*$AG285","v":0},{"$f":"W285*$AG285","v":0},{"$f":"AK285*IF(OR(A285=\"PL39\",A285=\"PL40\",A285=\"PL41\")=TRUE,16,15)","v":0},{"$f":"AL285*IF(OR(A285=\"PL39\",A285=\"PL40\",A285=\"PL41\")=TRUE,16,15)","v":0},{"$f":"V285*$AH285","v":0},{"$f":"W285*$AH285","v":0},{"$f":"AO285*IF(OR(A285=\"PL39\",A285=\"PL40\",A285=\"PL41\")=TRUE,16,15)","v":0},{"$f":"AP285*IF(OR(A285=\"PL39\",A285=\"PL40\",A285=\"PL41\")=TRUE,16,15)","v":0}]
[null,null,null,null,null,null,null,"",null,null,null,null,null,null,"",null,null,null,null,null,null,0,0,0,0,"N",0,0,0,0,0,0,0,0,0,0,0,0,0,0,0,0,0,0]
[null,null,null,null,null,null,null,"",null,null,null,null,null,null,"",null,null,null,null,null,null,0,0,0,0,"N",0,0,0,0,0,0,0,0,0,0,0,0,0,0,0,0,0,0]
[null,null,null,null,null,null,null,"",null,null,null,null,null,null,"",null,null,null,null,null,null,0,0,0,0,"N",0,0,0,0,0,0,0,0,0,0,0,0,0,0,0,0,0,0]
[null,null,null,null,null,null,null,"",null,null,null,null,null,null,"",null,null,null,null,null,null,0,0,0,0,"N",0,0,0,0,0,0,0,0,0,0,0,0,0,0,0,0,0,0]
[null,null,null,null,null,null,null,"",null,null,null,null,null,null,"",null,null,null,null,null,null,0,0,0,0,"N",0,0,0,0,0,0,0,0,0,0,0,0,0,0,0,0,0,0]
[null,null,null,null,null,null,null,"",null,null,null,null,null,null,"",null,null,null,null,null,null,0,0,0,0,"N",0,0,0,0,0,0,0,0,0,0,0,0,0,0,0,0,0,0]
[null,null,null,null,null,null,null,"",null,null,null,null,null,null,"",null,null,null,null,null,null,0,0,0,0,"N",0,0,0,0,0,0,0,0,0,0,0,0,0,0,0,0,0,0]
[null,null,null,null,null,null,null,"",null,null,null,null,null,null,"",null,null,null,null,null,null,0,0,0,0,"N",0,0,0,0,0,0,0,0,0,0,0,0,0,0,0,0,0,0]
[null,null,null,null,null,null,null,"",null,null,null,null,null,null,"",null,null,null,null,null,null,0,0,0,0,"N",0,0,0,0,0,0,0,0,0,0,0,0,0,0,0,0,0,0]
[null,null,null,null,null,null,null,"",null,null,null,null,null,null,"",null,null,null,null,null,null,0,0,0,0,"N",0,0,0,0,0,0,0,0,0,0,0,0,0,0,0,0,0,0]
[null,null,null,null,null,null,null,"",null,null,null,null,null,null,"",null,null,null,null,null,null,0,0,0,0,"N",0,0,0,0,0,0,0,0,0,0,0,0,0,0,0,0,0,0]
[null,null,null,null,null,null,null,"",null,null,null,null,null,null,"",null,null,null,null,null,null,0,0,0,0,"N",0,0,0,0,0,0,0,0,0,0,0,0,0,0,0,0,0,0]
[null,null,null,null,null,null,null,"",null,null,null,null,null,null,"",null,null,null,null,null,null,0,0,0,0,"N",0,0,0,0,0,0,0,0,0,0,0,0,0,0,0,0,0,0]
[null,null,null,null,null,null,null,"",null,null,null,null,null,null,"",null,null,null,null,null,null,0,0,0,0,"N",0,0,0,0,0,0,0,0,0,0,0,0,0,0,0,0,0,0]
[null,null,null,null,null,null,null,"",null,null,null,null,null,null,"",null,null,null,null,null,null,0,0,0,0,"N",0,0,0,0,0,0,0,0,0,0,0,0,0,0,0,0,0,0]
[null,null,null,null,null,null,null,"",null,null,null,null,null,null,"",null,null,null,null,null,null,0,0,0,0,"N",0,0,0,0,0,0,0,0,0,0,0,0,0,0,0,0,0,0]
[null,null,null,null,null,null,null,"",null,null,null,null,null,null,"",null,null,null,null,null,null,0,0,0,0,"N",0,0,0,0,0,0,0,0,0,0,0,0,0,0,0,0,0,0]
[null,null,null,null,null,null,null,"",null,null,null,null,null,null,"",null,null,null,null,null,null,0,0,0,0,"N",0,0,0,0,0,0,0,0,0,0,0,0,0,0,0,0,0,0]
[null,null,null,null,null,null,null,"",null,null,null,null,null,null,"",null,null,null,null,null,null,0,0,0,0,"N",0,0,0,0,0,0,0,0,0,0,0,0,0,0,0,0,0,0]
[null,null,null,null,null,null,null,"",null,null,null,null,null,null,"",null,null,null,null,null,null,0,0,0,0,"N",0,0,0,0,0,0,0,0,0,0,0,0,0,0,0,0,0,0]
[null,null,null,null,null,null,null,"",null,null,null,null,null,null,"",null,null,null,null,null,null,0,0,0,0,"N",0,0,0,0,0,0,0,0,0,0,0,0,0,0,0,0,0,0]
[null,null,null,null,null,null,null,"",null,null,null,null,null,null,"",null,null,null,null,null,null,0,0,0,0,"N",0,0,0,0,0,0,0,0,0,0,0,0,0,0,0,0,0,0]
[null,null,null,null,null,null,null,"",null,null,null,null,null,null,"",null,null,null,null,null,null,0,0,0,0,"N",0,0,0,0,0,0,0,0,0,0,0,0,0,0,0,0,0,0]
[null,null,null,null,null,null,null,"",null,null,null,null,null,null,"",null,null,null,null,null,null,0,0,0,0,"N",0,0,0,0,0,0,0,0,0,0,0,0,0,0,0,0,0,0]
[null,null,null,null,null,null,null,"",null,null,null,null,null,null,"",null,null,null,null,null,null,0,0,0,0,"N",0,0,0,0,0,0,0,0,0,0,0,0,0,0,0,0,0,0]
[null,null,null,null,null,null,null,"",null,null,null,null,null,null,"",null,null,null,null,null,null,0,0,0,0,"N",0,0,0,0,0,0,0,0,0,0,0,0,0,0,0,0,0,0]
[null,null,null,null,null,null,null,"",null,null,null,null,null,null,"",null,null,null,null,null,null,0,0,0,0,"N",0,0,0,0,0,0,0,0,0,0,0,0,0,0,0,0,0,0]
[null,null,null,null,null,null,null,"",null,null,null,null,null,null,"",null,null,null,null,null,null,0,0,0,0,"N",0,0,0,0,0,0,0,0,0,0,0,0,0,0,0,0,0,0]
[null,null,null,null,null,null,null,"",null,null,null,null,null,null,"",null,null,null,null,null,null,0,0,0,0,"N",0,0,0,0,0,0,0,0,0,0,0,0,0,0,0,0,0,0]
[null,null,null,null,null,null,null,"",null,null,null,null,null,null,"",null,null,null,null,null,null,0,0,0,0,"N",0,0,0,0,0,0,0,0,0,0,0,0,0,0,0,0,0,0]
[null,null,null,null,null,null,null,"",null,null,null,null,null,null,"",null,null,null,null,null,null,0,0,0,0,"N",0,0,0,0,0,0,0,0,0,0,0,0,0,0,0,0,0,0]
[null,null,null,null,null,null,null,"",null,null,null,null,null,null,"",null,null,null,null,null,null,0,0,0,0,"N",0,0,0,0,0,0,0,0,0,0,0,0,0,0,0,0,0,0]
[null,null,null,null,null,null,null,"",null,null,null,null,null,null,"",null,null,null,null,null,null,0,0,0,0,"N",0,0,0,0,0,0,0,0,0,0,0,0,0,0,0,0,0,0]
[null,null,null,null,null,null,null,"",null,null,null,null,null,null,"",null,null,null,null,null,null,0,0,0,0,"N",0,0,0,0,0,0,0,0,0,0,0,0,0,0,0,0,0,0]
[null,null,null,null,null,null,null,"",null,null,null,null,null,null,"",null,null,null,null,null,null,0,0,0,0,"N",0,0,0,0,0,0,0,0,0,0,0,0,0,0,0,0,0,0]
[null,null,null,null,null,null,null,"",null,null,null,null,null,null,"",null,null,null,null,null,null,0,0,0,0,"N",0,0,0,0,0,0,0,0,0,0,0,0,0,0,0,0,0,0]
[null,null,null,null,null,null,null,"",null,null,null,null,null,null,"",null,null,null,null,null,null,0,0,0,0,"N",0,0,0,0,0,0,0,0,0,0,0,0,0,0,0,0,0,0]
[null,null,null,null,null,null,null,"",null,null,null,null,null,null,"",null,null,null,null,null,null,0,0,0,0,"N",0,0,0,0,0,0,0,0,0,0,0,0,0,0,0,0,0,0]
[null,null,null,null,null,null,null,"",null,null,null,null,null,null,"",null,null,null,null,null,null,0,0,0,0,"N",0,0,0,0,0,0,0,0,0,0,0,0,0,0,0,0,0,0]
[null,null,null,null,null,null,null,"",null,null,null,null,null,null,"",null,null,null,null,null,null,0,0,0,0,"N",0,0,0,0,0,0,0,0,0,0,0,0,0,0,0,0,0,0]
[null,null,null,null,null,null,null,"",null,null,null,null,null,null,"",null,null,null,null,null,null,0,0,0,0,"N",0,0,0,0,0,0,0,0,0,0,0,0,0,0,0,0,0,0]
[null,null,null,null,null,null,null,"",null,null,null,null,null,null,"",null,null,null,null,null,null,0,0,0,0,"N",0,0,0,0,0,0,0,0,0,0,0,0,0,0,0,0,0,0]
[null,null,null,null,null,null,null,"",null,null,null,null,null,null,"",null,null,null,null,null,null,0,0,0,0,"N",0,0,0,0,0,0,0,0,0,0,0,0,0,0,0,0,0,0]
[null,null,null,null,null,null,null,"",null,null,null,null,null,null,"",null,null,null,null,null,null,0,0,0,0,"N",0,0,0,0,0,0,0,0,0,0,0,0,0,0,0,0,0,0]
[null,null,null,null,null,null,null,"",null,null,null,null,null,null,"",null,null,null,null,null,null,0,0,0,0,"N",0,0,0,0,0,0,0,0,0,0,0,0,0,0,0,0,0,0]
[null,null,null,null,null,null,null,"",null,null,null,null,null,null,"",null,null,null,null,null,null,0,0,0,0,"N",0,0,0,0,0,0,0,0,0,0,0,0,0,0,0,0,0,0]
[null,null,null,null,null,null,null,"",null,null,null,null,null,null,"",null,null,null,null,null,null,0,0,0,0,"N",0,0,0,0,0,0,0,0,0,0,0,0,0,0,0,0,0,0]
[null,null,null,null,null,null,null,"",null,null,null,null,null,null,"",null,null,null,null,null,null,0,0,0,0,"N",0,0,0,0,0,0,0,0,0,0,0,0,0,0,0,0,0,0]
[null,null,null,null,null,null,null,"",null,null,null,null,null,null,"",null,null,null,null,null,null,0,0,0,0,"N",0,0,0,0,0,0,0,0,0,0,0,0,0,0,0,0,0,0]
[null,null,null,null,null,null,null,"",null,null,null,null,null,null,"",null,null,null,null,null,null,0,0,0,0,"N",0,0,0,0,0,0,0,0,0,0,0,0,0,0,0,0,0,0]
[null,null,null,null,null,null,null,"",null,null,null,null,null,null,"",null,null,null,null,null,null,0,0,0,0,"N",0,0,0,0,0,0,0,0,0,0,0,0,0,0,0,0,0,0]
[null,null,null,null,null,null,null,"",null,null,null,null,null,null,"",null,null,null,null,null,null,0,0,0,0,"N",0,0,0,0,0,0,0,0,0,0,0,0,0,0,0,0,0,0]
[null,null,null,null,null,null,null,"",null,null,null,null,null,null,"",null,null,null,null,null,null,0,0,0,0,"N",0,0,0,0,0,0,0,0,0,0,0,0,0,0,0,0,0,0]
[null,null,null,null,null,null,null,"",null,null,null,null,null,null,"",null,null,null,null,null,null,0,0,0,0,"N",0,0,0,0,0,0,0,0,0,0,0,0,0,0,0,0,0,0]
[null,null,null,null,null,null,null,"",null,null,null,null,null,null,"",null,null,null,null,null,null,0,0,0,0,"N",0,0,0,0,0,0,0,0,0,0,0,0,0,0,0,0,0,0]
[null,null,null,null,null,null,null,"",null,null,null,null,null,null,"",null,null,null,null,null,null,0,0,0,0,"N",0,0,0,0,0,0,0,0,0,0,0,0,0,0,0,0,0,0]
[null,null,null,null,null,null,null,"",null,null,null,null,null,null,"",null,null,null,null,null,null,0,0,0,0,"N",0,0,0,0,0,0,0,0,0,0,0,0,0,0,0,0,0,0]
[null,null,null,null,null,null,null,"",null,null,null,null,null,null,"",null,null,null,null,null,null,0,0,0,0,"N",0,0,0,0,0,0,0,0,0,0,0,0,0,0,0,0,0,0]
[null,null,null,null,null,null,null,"",null,null,null,null,null,null,"",null,null,null,null,null,null,0,0,0,0,"N",0,0,0,0,0,0,0,0,0,0,0,0,0,0,0,0,0,0]
[null,null,null,null,null,null,null,"",null,null,null,null,null,null,"",null,null,null,null,null,null,0,0,0,0,"N",0,0,0,0,0,0,0,0,0,0,0,0,0,0,0,0,0,0]
[null,null,null,null,null,null,null,"",null,null,null,null,null,null,"",null,null,null,null,null,null,0,0,0,0,"N",0,0,0,0,0,0,0,0,0,0,0,0,0,0,0,0,0,0]
[null,null,null,null,null,null,null,"",null,null,null,null,null,null,"",null,null,null,null,null,null,0,0,0,0,"N",0,0,0,0,0,0,0,0,0,0,0,0,0,0,0,0,0,0]
[null,null,null,null,null,null,null,"",null,null,null,null,null,null,"",null,null,null,null,null,null,0,0,0,0,"N",{"$f":"IFERROR(IF(Z348=\"Y\",VLOOKUP(A348,MeasureCode_Lookup,8,FALSE)*IF(OR(A348=\"PL1\",A348=\"PL2\",A348=\"PL3\", A348=\"PL4\", A348=\"PL5\", A348=\"PL26\",A348=\"PL35\",A348=\"PL36\",A348=\"PL37\",A348=\"PL42\",A348=\"PL43\",A348=\"PL44\")=TRUE,Q348,IF(A348=\"PL38\",S348,1)),0),0)","v":0},0,0,0,0,0,0,0,0,0,0,0,0,0,0,0,0,0]
[null,null,null,null,null,null,null,{"$f":"IFERROR(IF(OR(F349=\"\",G349=\"\")=TRUE,\"\",VLOOKUP(G349,INDIRECT(SUBSTITUTE(SUBSTITUTE(SUBSTITUTE(F349,\" \",\"_\"),\"-\",\"_\"),\"/\",\"_\")&\"W\"),2,FALSE)),\"N/A\")","v":""},null,null,null,null,null,null,{"$f":"IFERROR(IF(OR(K349=\"\",L349=\"\")=TRUE,\"\",VLOOKUP(L349,INDIRECT(SUBSTITUTE(SUBSTITUTE(SUBSTITUTE(K349,\" \",\"_\"),\"-\",\"_\"),\"/\",\"_\")&\"W\"),2,FALSE)),\"N/A\")","v":""},null,null,null,null,null,null,{"$f":"IFERROR(MIN(N(J349),N(U349)),0)","v":0},{"$f":"IFERROR(MIN(N(J349),N(U349)),0)","v":0},{"$f":"IF(N(I349)=0,IF(N(H349)=0,0,H349),I349)","v":0},{"$f":"IF(N(P349)=0,IF(N(O349)=0,0,O349),P349)","v":0},{"$f":"IFERROR(IF(OR($B$4=\"\",$B$5=\"\",$A$16=\"\",$F$16=\"\",$A$18=\"\",A349=\"\",B349=\"\",E349=\"\",F349=\"\",G349=\"\",AND(H349=\"N/A\",N(I349)=0)=TRUE,K349=\"\",L349=\"\",AND(O349=\"N/A\",N(P349)=0)=TRUE,AND(OR(A349=\"PL1\",A349=\"PL2\",A349=\"PL3\",A349=\"PL4\",A349=\"PL5\",A349=\"PL26\",A349=\"PL35\",A349=\"PL36\",A349=\"PL37\",A349=\"PL42\",A349=\"PL43\",A349=\"PL44\")=TRUE,OR(N(Q349)=0,N(R349)=0)=TRUE),AND(A349=\"PL38\",S349=\"\")=TRUE,Y349>=X349,ISERROR(IF(VLOOKUP(A349,MeasureCode_Lookup,2,FALSE)=\"Y\",VLOOKUP(F349,INDIRECT(A349&\"EType\"),1,FALSE),VLOOKUP(F349,Light_ETechType,1,FALSE))),ISERROR(IF(OR(F349=\"Incandescent\",F349=\"Halogen Incandescent\",F349=\"Compact Fluorescent\")=TRUE,1,IF(VLOOKUP(A349,MeasureCode_Lookup,2,FALSE)=\"Y\",VLOOKUP(G349,INDIRECT(A349&\"EDesc\"&VLOOKUP(F349,INDIRECT(A349&\"EType_Lookup\"),2,FALSE)),1,FALSE),VLOOKUP(G349,INDIRECT(SUBSTITUTE(SUBSTITUTE(SUBSTITUTE(F349,\" \",\"_\"),\"-\",\"_\"),\"/\",\"_\")),1,FALSE)))),ISERROR(VLOOKUP(K349,INDIRECT(A349&\"PType\"),1,FALSE)),ISERROR(VLOOKUP(L349,INDIRECT(A349&\"PDesc\"&VLOOKUP(K349,INDIRECT(A349&\"PType_Lookup\"),2,FALSE)),1,FALSE)),AND(OR(A349=\"PL9\",A349=\"PL12\")=TRUE,Y349>125)=TRUE,AND(OR(A349=\"PL10\",A349=\"PL13\")=TRUE,OR(Y349<=125,Y349>250)=TRUE)=TRUE,AND(OR(A349=\"PL11\",A349=\"PL14\")=TRUE,Y349<=250)=TRUE,AND(A349=\"PL35\",Y349>125)=TRUE,AND(A349=\"PL36\",OR(Y349<=125,Y349>250)=TRUE)=TRUE,AND(A349=\"PL37\",Y349<=250)=TRUE,AND(OR(A349=\"PL39\",A349=\"PL40\",A349=\"PL41\")=TRUE,T349=\"\")=TRUE)=TRUE,\"N\",\"Y\"),\"N\")","v":"N"},0,{"$f":"IF(OR($A$11=TRUE,$A$12=TRUE,$B$11=TRUE,$B$12=TRUE,$C$11=TRUE)=TRUE,AA349,0)","v":0},{"$f":"IF(AA349=0,0,V349*(AA349+AB349))","v":0},{"$f":"IF(AA349=0,0,W349*(AA349+AB349))","v":0},{"$f":"IF(AA349=0,0,(((J349*X349)-(U349*Y349))/1000)/MIN(J349,U349))","v":0},{"$f":"IF(AA349=0,0,IF(IFERROR(SEARCH(\"Refrigerated\",L349,1),0)>0,AE349*(1+VLOOKUP(T349,Refrigerated_Lookup,4,FALSE))*VLOOKUP(T349,Refrigerated_Lookup,5,FALSE),AE349*IF(E349=\"Interior\",IF(IFERROR(MATCH($A$18,HVACe_Options,0),0)>0,1+VLOOKUP($A$16,Building_Lookup,4,FALSE),1),1)*VLOOKUP($A$16,Building_Lookup,3,FALSE)))","v":0},{"$f":"IF(AA349=0,0,IF(IFERROR(SEARCH(\"Refrigerated\",L349,1),0)>0,AE349*(1+VLOOKUP(T349,Refrigerated_Lookup,3,FALSE))*VLOOKUP(T349,Refrigerated_Lookup,2,FALSE),AE349*IF(E349=\"Interior\",IFERROR((1+VLOOKUP($A$16,Building_Lookup,MATCH($A$18,HVACe_Options,0)+4,FALSE)),1),1)*VLOOKUP($A$16,Building_Lookup,2,FALSE)))","v":0},{"$f":"IF(AA349=0,0,IF(IFERROR(SEARCH(\"Refrigerated\",L349,1),0)>0,0,IF(E349=\"Interior\",IF(IFERROR(SEARCH(\"Gas\",$A$18),0)>0,AG349*VLOOKUP(\"Gas\",HVACg_Lookup,MATCH($F$16,BuildingSize,0)+1),IF(IFERROR(SEARCH(\"Oil\",$A$18),0)>0,AG349*VLOOKUP(\"Oil\",HVACg_Lookup,MATCH($F$16,BuildingSize,0)+1),IF(IFERROR(SEARCH(\"Propane\",$A$18),0)>0,AG349*VLOOKUP(\"Propane\",HVACg_Lookup,MATCH($F$16,BuildingSize,0)+1),0))),0)))","v":0},{"$f":"V349*$AF349","v":0},{"$f":"W349*$AF349","v":0},{"$f":"V349*$AG349","v":0},{"$f":"W349*$AG349","v":0},{"$f":"AK349*IF(OR(A349=\"PL39\",A349=\"PL40\",A349=\"PL41\")=TRUE,16,15)","v":0},{"$f":"AL349*IF(OR(A349=\"PL39\",A349=\"PL40\",A349=\"PL41\")=TRUE,16,15)","v":0},{"$f":"V349*$AH349","v":0},{"$f":"W349*$AH349","v":0},{"$f":"AO349*IF(OR(A349=\"PL39\",A349=\"PL40\",A349=\"PL41\")=TRUE,16,15)","v":0},{"$f":"AP349*IF(OR(A349=\"PL39\",A349=\"PL40\",A349=\"PL41\")=TRUE,16,15)","v":0}]
[null,null,null,null,null,null,null,"",null,null,null,null,null,null,"",null,null,null,null,null,null,0,0,0,0,"N",0,0,0,0,0,0,0,0,0,0,0,0,0,0,0,0,0,0]
[null,null,null,null,null,null,null,"",null,null,null,null,null,null,"",null,null,null,null,null,null,0,0,0,0,"N",0,0,0,0,0,0,0,0,0,0,0,0,0,0,0,0,0,0]
[null,null,null,null,null,null,null,"",null,null,null,null,null,null,"",null,null,null,null,null,null,0,0,0,0,"N",0,0,0,0,0,0,0,0,0,0,0,0,0,0,0,0,0,0]
[null,null,null,null,null,null,null,"",null,null,null,null,null,null,"",null,null,null,null,null,null,0,0,0,0,"N",0,0,0,0,0,0,0,0,0,0,0,0,0,0,0,0,0,0]
[null,null,null,null,null,null,null,"",null,null,null,null,null,null,"",null,null,null,null,null,null,0,0,0,0,"N",0,0,0,0,0,0,0,0,0,0,0,0,0,0,0,0,0,0]
[null,null,null,null,null,null,null,"",null,null,null,null,null,null,"",null,null,null,null,null,null,0,0,0,0,"N",0,0,0,0,0,0,0,0,0,0,0,0,0,0,0,0,0,0]
[null,null,null,null,null,null,null,"",null,null,null,null,null,null,"",null,null,null,null,null,null,0,0,0,0,"N",0,0,0,0,0,0,0,0,0,0,0,0,0,0,0,0,0,0]
[null,null,null,null,null,null,null,"",null,null,null,null,null,null,"",null,null,null,null,null,null,0,0,0,0,"N",0,0,0,0,0,0,0,0,0,0,0,0,0,0,0,0,0,0]
[null,null,null,null,null,null,null,"",null,null,null,null,null,null,"",null,null,null,null,null,null,0,0,0,0,"N",0,0,0,0,0,0,0,0,0,0,0,0,0,0,0,0,0,0]
[null,null,null,null,null,null,null,"",null,null,null,null,null,null,"",null,null,null,null,null,null,0,0,0,0,"N",0,0,0,0,0,0,0,0,0,0,0,0,0,0,0,0,0,0]
[null,null,null,null,null,null,null,"",null,null,null,null,null,null,"",null,null,null,null,null,null,0,0,0,0,"N",0,0,0,0,0,0,0,0,0,0,0,0,0,0,0,0,0,0]
[null,null,null,null,null,null,null,"",null,null,null,null,null,null,"",null,null,null,null,null,null,0,0,0,0,"N",0,0,0,0,0,0,0,0,0,0,0,0,0,0,0,0,0,0]
[null,null,null,null,null,null,null,"",null,null,null,null,null,null,"",null,null,null,null,null,null,0,0,0,0,"N",0,0,0,0,0,0,0,0,0,0,0,0,0,0,0,0,0,0]
[null,null,null,null,null,null,null,"",null,null,null,null,null,null,"",null,null,null,null,null,null,0,0,0,0,"N",0,0,0,0,0,0,0,0,0,0,0,0,0,0,0,0,0,0]
[null,null,null,null,null,null,null,"",null,null,null,null,null,null,"",null,null,null,null,null,null,0,0,0,0,"N",0,0,0,0,0,0,0,0,0,0,0,0,0,0,0,0,0,0]
[null,null,null,null,null,null,null,"",null,null,null,null,null,null,"",null,null,null,null,null,null,0,0,0,0,"N",0,0,0,0,0,0,0,0,0,0,0,0,0,0,0,0,0,0]
[null,null,null,null,null,null,null,"",null,null,null,null,null,null,"",null,null,null,null,null,null,0,0,0,0,"N",0,0,0,0,0,0,0,0,0,0,0,0,0,0,0,0,0,0]
[null,null,null,null,null,null,null,"",null,null,null,null,null,null,"",null,null,null,null,null,null,0,0,0,0,"N",0,0,0,0,0,0,0,0,0,0,0,0,0,0,0,0,0,0]
[null,null,null,null,null,null,null,"",null,null,null,null,null,null,"",null,null,null,null,null,null,0,0,0,0,"N",0,0,0,0,0,0,0,0,0,0,0,0,0,0,0,0,0,0]
[null,null,null,null,null,null,null,"",null,null,null,null,null,null,"",null,null,null,null,null,null,0,0,0,0,"N",0,0,0,0,0,0,0,0,0,0,0,0,0,0,0,0,0,0]
[null,null,null,null,null,null,null,"",null,null,null,null,null,null,"",null,null,null,null,null,null,0,0,0,0,"N",0,0,0,0,0,0,0,0,0,0,0,0,0,0,0,0,0,0]
[null,null,null,null,null,null,null,"",null,null,null,null,null,null,"",null,null,null,null,null,null,0,0,0,0,"N",0,0,0,0,0,0,0,0,0,0,0,0,0,0,0,0,0,0]
[null,null,null,null,null,null,null,"",null,null,null,null,null,null,"",null,null,null,null,null,null,0,0,0,0,"N",0,0,0,0,0,0,0,0,0,0,0,0,0,0,0,0,0,0]
[null,null,null,null,null,null,null,"",null,null,null,null,null,null,"",null,null,null,null,null,null,0,0,0,0,"N",0,0,0,0,0,0,0,0,0,0,0,0,0,0,0,0,0,0]
[null,null,null,null,null,null,null,"",null,null,null,null,null,null,"",null,null,null,null,null,null,0,0,0,0,"N",0,0,0,0,0,0,0,0,0,0,0,0,0,0,0,0,0,0]
[null,null,null,null,null,null,null,"",null,null,null,null,null,null,"",null,null,null,null,null,null,0,0,0,0,"N",0,0,0,0,0,0,0,0,0,0,0,0,0,0,0,0,0,0]
[null,null,null,null,null,null,null,"",null,null,null,null,null,null,"",null,null,null,null,null,null,0,0,0,0,"N",0,0,0,0,0,0,0,0,0,0,0,0,0,0,0,0,0,0]
[null,null,null,null,null,null,null,"",null,null,null,null,null,null,"",null,null,null,null,null,null,0,0,0,0,"N",0,0,0,0,0,0,0,0,0,0,0,0,0,0,0,0,0,0]
[null,null,null,null,null,null,null,"",null,null,null,null,null,null,"",null,null,null,null,null,null,0,0,0,0,"N",0,0,0,0,0,0,0,0,0,0,0,0,0,0,0,0,0,0]
[null,null,null,null,null,null,null,"",null,null,null,null,null,null,"",null,null,null,null,null,null,0,0,0,0,"N",0,0,0,0,0,0,0,0,0,0,0,0,0,0,0,0,0,0]
[null,null,null,null,null,null,null,"",null,null,null,null,null,null,"",null,null,null,null,null,null,0,0,0,0,"N",0,0,0,0,0,0,0,0,0,0,0,0,0,0,0,0,0,0]
[null,null,null,null,null,null,null,"",null,null,null,null,null,null,"",null,null,null,null,null,null,0,0,0,0,"N",0,0,0,0,0,0,0,0,0,0,0,0,0,0,0,0,0,0]
[null,null,null,null,null,null,null,"",null,null,null,null,null,null,"",null,null,null,null,null,null,0,0,0,0,"N",0,0,0,0,0,0,0,0,0,0,0,0,0,0,0,0,0,0]
[null,null,null,null,null,null,null,"",null,null,null,null,null,null,"",null,null,null,null,null,null,0,0,0,0,"N",0,0,0,0,0,0,0,0,0,0,0,0,0,0,0,0,0,0]
[null,null,null,null,null,null,null,"",null,null,null,null,null,null,"",null,null,null,null,null,null,0,0,0,0,"N",0,0,0,0,0,0,0,0,0,0,0,0,0,0,0,0,0,0]
[null,null,null,null,null,null,null,"",null,null,null,null,null,null,"",null,null,null,null,null,null,0,0,0,0,"N",0,0,0,0,0,0,0,0,0,0,0,0,0,0,0,0,0,0]
[null,null,null,null,null,null,null,"",null,null,null,null,null,null,"",null,null,null,null,null,null,0,0,0,0,"N",0,0,0,0,0,0,0,0,0,0,0,0,0,0,0,0,0,0]
[null,null,null,null,null,null,null,"",null,null,null,null,null,null,"",null,null,null,null,null,null,0,0,0,0,"N",0,0,0,0,0,0,0,0,0,0,0,0,0,0,0,0,0,0]
[null,null,null,null,null,null,null,"",null,null,null,null,null,null,"",null,null,null,null,null,null,0,0,0,0,"N",0,0,0,0,0,0,0,0,0,0,0,0,0,0,0,0,0,0]
[null,null,null,null,null,null,null,"",null,null,null,null,null,null,"",null,null,null,null,null,null,0,0,0,0,"N",0,0,0,0,0,0,0,0,0,0,0,0,0,0,0,0,0,0]
[null,null,null,null,null,null,null,"",null,null,null,null,null,null,"",null,null,null,null,null,null,0,0,0,0,"N",0,0,0,0,0,0,0,0,0,0,0,0,0,0,0,0,0,0]
[null,null,null,null,null,null,null,"",null,null,null,null,null,null,"",null,null,null,null,null,null,0,0,0,0,"N",0,0,0,0,0,0,0,0,0,0,0,0,0,0,0,0,0,0]
[null,null,null,null,null,null,null,"",null,null,null,null,null,null,"",null,null,null,null,null,null,0,0,0,0,"N",0,0,0,0,0,0,0,0,0,0,0,0,0,0,0,0,0,0]
[null,null,null,null,null,null,null,"",null,null,null,null,null,null,"",null,null,null,null,null,null,0,0,0,0,"N",0,0,0,0,0,0,0,0,0,0,0,0,0,0,0,0,0,0]
[null,null,null,null,null,null,null,"",null,null,null,null,null,null,"",null,null,null,null,null,null,0,0,0,0,"N",0,0,0,0,0,0,0,0,0,0,0,0,0,0,0,0,0,0]
[null,null,null,null,null,null,null,"",null,null,null,null,null,null,"",null,null,null,null,null,null,0,0,0,0,"N",0,0,0,0,0,0,0,0,0,0,0,0,0,0,0,0,0,0]
[null,null,null,null,null,null,null,"",null,null,null,null,null,null,"",null,null,null,null,null,null,0,0,0,0,"N",0,0,0,0,0,0,0,0,0,0,0,0,0,0,0,0,0,0]
[null,null,null,null,null,null,null,"",null,null,null,null,null,null,"",null,null,null,null,null,null,0,0,0,0,"N",0,0,0,0,0,0,0,0,0,0,0,0,0,0,0,0,0,0]
[null,null,null,null,null,null,null,"",null,null,null,null,null,null,"",null,null,null,null,null,null,0,0,0,0,"N",0,0,0,0,0,0,0,0,0,0,0,0,0,0,0,0,0,0]
[null,null,null,null,null,null,null,"",null,null,null,null,null,null,"",null,null,null,null,null,null,0,0,0,0,"N",0,0,0,0,0,0,0,0,0,0,0,0,0,0,0,0,0,0]
[null,null,null,null,null,null,null,"",null,null,null,null,null,null,"",null,null,null,null,null,null,0,0,0,0,"N",0,0,0,0,0,0,0,0,0,0,0,0,0,0,0,0,0,0]
[null,null,null,null,null,null,null,"",null,null,null,null,null,null,"",null,null,null,null,null,null,0,0,0,0,"N",0,0,0,0,0,0,0,0,0,0,0,0,0,0,0,0,0,0]
[null,null,null,null,null,null,null,"",null,null,null,null,null,null,"",null,null,null,null,null,null,0,0,0,0,"N",0,0,0,0,0,0,0,0,0,0,0,0,0,0,0,0,0,0]
[null,null,null,null,null,null,null,"",null,null,null,null,null,null,"",null,null,null,null,null,null,0,0,0,0,"N",0,0,0,0,0,0,0,0,0,0,0,0,0,0,0,0,0,0]
[null,null,null,null,null,null,null,"",null,null,null,null,null,null,"",null,null,null,null,null,null,0,0,0,0,"N",0,0,0,0,0,0,0,0,0,0,0,0,0,0,0,0,0,0]
[null,null,null,null,null,null,null,"",null,null,null,null,null,null,"",null,null,null,null,null,null,0,0,0,0,"N",0,0,0,0,0,0,0,0,0,0,0,0,0,0,0,0,0,0]
[null,null,null,null,null,null,null,"",null,null,null,null,null,null,"",null,null,null,null,null,null,0,0,0,0,"N",0,0,0,0,0,0,0,0,0,0,0,0,0,0,0,0,0,0]
[null,null,null,null,null,null,null,"",null,null,null,null,null,null,"",null,null,null,null,null,null,0,0,0,0,"N",0,0,0,0,0,0,0,0,0,0,0,0,0,0,0,0,0,0]
[null,null,null,null,null,null,null,"",null,null,null,null,null,null,"",null,null,null,null,null,null,0,0,0,0,"N",0,0,0,0,0,0,0,0,0,0,0,0,0,0,0,0,0,0]
[null,null,null,null,null,null,null,"",null,null,null,null,null,null,"",null,null,null,null,null,null,0,0,0,0,"N",0,0,0,0,0,0,0,0,0,0,0,0,0,0,0,0,0,0]
[null,null,null,null,null,null,null,"",null,null,null,null,null,null,"",null,null,null,null,null,null,0,0,0,0,"N",0,0,0,0,0,0,0,0,0,0,0,0,0,0,0,0,0,0]
[null,null,null,null,null,null,null,"",null,null,null,null,null,null,"",null,null,null,null,null,null,0,0,0,0,"N",0,0,0,0,0,0,0,0,0,0,0,0,0,0,0,0,0,0]
[null,null,null,null,null,null,null,"",null,null,null,null,null,null,"",null,null,null,null,null,null,0,0,0,0,"N",{"$f":"IFERROR(IF(Z412=\"Y\",VLOOKUP(A412,MeasureCode_Lookup,8,FALSE)*IF(OR(A412=\"PL1\",A412=\"PL2\",A412=\"PL3\", A412=\"PL4\", A412=\"PL5\", A412=\"PL26\",A412=\"PL35\",A412=\"PL36\",A412=\"PL37\",A412=\"PL42\",A412=\"PL43\",A412=\"PL44\")=TRUE,Q412,IF(A412=\"PL38\",S412,1)),0),0)","v":0},0,0,0,0,0,0,0,0,0,0,0,0,0,0,0,0,0]
[null,null,null,null,null,null,null,{"$f":"IFERROR(IF(OR(F413=\"\",G413=\"\")=TRUE,\"\",VLOOKUP(G413,INDIRECT(SUBSTITUTE(SUBSTITUTE(SUBSTITUTE(F413,\" \",\"_\"),\"-\",\"_\"),\"/\",\"_\")&\"W\"),2,FALSE)),\"N/A\")","v":""},null,null,null,null,null,null,{"$f":"IFERROR(IF(OR(K413=\"\",L413=\"\")=TRUE,\"\",VLOOKUP(L413,INDIRECT(SUBSTITUTE(SUBSTITUTE(SUBSTITUTE(K413,\" \",\"_\"),\"-\",\"_\"),\"/\",\"_\")&\"W\"),2,FALSE)),\"N/A\")","v":""},null,null,null,null,null,null,{"$f":"IFERROR(MIN(N(J413),N(U413)),0)","v":0},{"$f":"IFERROR(MIN(N(J413),N(U413)),0)","v":0},{"$f":"IF(N(I413)=0,IF(N(H413)=0,0,H413),I413)","v":0},{"$f":"IF(N(P413)=0,IF(N(O413)=0,0,O413),P413)","v":0},{"$f":"IFERROR(IF(OR($B$4=\"\",$B$5=\"\",$A$16=\"\",$F$16=\"\",$A$18=\"\",A413=\"\",B413=\"\",E413=\"\",F413=\"\",G413=\"\",AND(H413=\"N/A\",N(I413)=0)=TRUE,K413=\"\",L413=\"\",AND(O413=\"N/A\",N(P413)=0)=TRUE,AND(OR(A413=\"PL1\",A413=\"PL2\",A413=\"PL3\",A413=\"PL4\",A413=\"PL5\",A413=\"PL26\",A413=\"PL35\",A413=\"PL36\",A413=\"PL37\",A413=\"PL42\",A413=\"PL43\",A413=\"PL44\")=TRUE,OR(N(Q413)=0,N(R413)=0)=TRUE),AND(A413=\"PL38\",S413=\"\")=TRUE,Y413>=X413,ISERROR(IF(VLOOKUP(A413,MeasureCode_Lookup,2,FALSE)=\"Y\",VLOOKUP(F413,INDIRECT(A413&\"EType\"),1,FALSE),VLOOKUP(F413,Light_ETechType,1,FALSE))),ISERROR(IF(OR(F413=\"Incandescent\",F413=\"Halogen Incandescent\",F413=\"Compact Fluorescent\")=TRUE,1,IF(VLOOKUP(A413,MeasureCode_Lookup,2,FALSE)=\"Y\",VLOOKUP(G413,INDIRECT(A413&\"EDesc\"&VLOOKUP(F413,INDIRECT(A413&\"EType_Lookup\"),2,FALSE)),1,FALSE),VLOOKUP(G413,INDIRECT(SUBSTITUTE(SUBSTITUTE(SUBSTITUTE(F413,\" \",\"_\"),\"-\",\"_\"),\"/\",\"_\")),1,FALSE)))),ISERROR(VLOOKUP(K413,INDIRECT(A413&\"PType\"),1,FALSE)),ISERROR(VLOOKUP(L413,INDIRECT(A413&\"PDesc\"&VLOOKUP(K413,INDIRECT(A413&\"PType_Lookup\"),2,FALSE)),1,FALSE)),AND(OR(A413=\"PL9\",A413=\"PL12\")=TRUE,Y413>125)=TRUE,AND(OR(A413=\"PL10\",A413=\"PL13\")=TRUE,OR(Y413<=125,Y413>250)=TRUE)=TRUE,AND(OR(A413=\"PL11\",A413=\"PL14\")=TRUE,Y413<=250)=TRUE,AND(A413=\"PL35\",Y413>125)=TRUE,AND(A413=\"PL36\",OR(Y413<=125,Y413>250)=TRUE)=TRUE,AND(A413=\"PL37\",Y413<=250)=TRUE,AND(OR(A413=\"PL39\",A413=\"PL40\",A413=\"PL41\")=TRUE,T413=\"\")=TRUE)=TRUE,\"N\",\"Y\"),\"N\")","v":"N"},0,{"$f":"IF(OR($A$11=TRUE,$A$12=TRUE,$B$11=TRUE,$B$12=TRUE,$C$11=TRUE)=TRUE,AA413,0)","v":0},{"$f":"IF(AA413=0,0,V413*(AA413+AB413))","v":0},{"$f":"IF(AA413=0,0,W413*(AA413+AB413))","v":0},{"$f":"IF(AA413=0,0,(((J413*X413)-(U413*Y413))/1000)/MIN(J413,U413))","v":0},{"$f":"IF(AA413=0,0,IF(IFERROR(SEARCH(\"Refrigerated\",L413,1),0)>0,AE413*(1+VLOOKUP(T413,Refrigerated_Lookup,4,FALSE))*VLOOKUP(T413,Refrigerated_Lookup,5,FALSE),AE413*IF(E413=\"Interior\",IF(IFERROR(MATCH($A$18,HVACe_Options,0),0)>0,1+VLOOKUP($A$16,Building_Lookup,4,FALSE),1),1)*VLOOKUP($A$16,Building_Lookup,3,FALSE)))","v":0},{"$f":"IF(AA413=0,0,IF(IFERROR(SEARCH(\"Refrigerated\",L413,1),0)>0,AE413*(1+VLOOKUP(T413,Refrigerated_Lookup,3,FALSE))*VLOOKUP(T413,Refrigerated_Lookup,2,FALSE),AE413*IF(E413=\"Interior\",IFERROR((1+VLOOKUP($A$16,Building_Lookup,MATCH($A$18,HVACe_Options,0)+4,FALSE)),1),1)*VLOOKUP($A$16,Building_Lookup,2,FALSE)))","v":0},{"$f":"IF(AA413=0,0,IF(IFERROR(SEARCH(\"Refrigerated\",L413,1),0)>0,0,IF(E413=\"Interior\",IF(IFERROR(SEARCH(\"Gas\",$A$18),0)>0,AG413*VLOOKUP(\"Gas\",HVACg_Lookup,MATCH($F$16,BuildingSize,0)+1),IF(IFERROR(SEARCH(\"Oil\",$A$18),0)>0,AG413*VLOOKUP(\"Oil\",HVACg_Lookup,MATCH($F$16,BuildingSize,0)+1),IF(IFERROR(SEARCH(\"Propane\",$A$18),0)>0,AG413*VLOOKUP(\"Propane\",HVACg_Lookup,MATCH($F$16,BuildingSize,0)+1),0))),0)))","v":0},{"$f":"V413*$AF413","v":0},{"$f":"W413*$AF413","v":0},{"$f":"V413*$AG413","v":0},{"$f":"W413*$AG413","v":0},{"$f":"AK413*IF(OR(A413=\"PL39\",A413=\"PL40\",A413=\"PL41\")=TRUE,16,15)","v":0},{"$f":"AL413*IF(OR(A413=\"PL39\",A413=\"PL40\",A413=\"PL41\")=TRUE,16,15)","v":0},{"$f":"V413*$AH413","v":0},{"$f":"W413*$AH413","v":0},{"$f":"AO413*IF(OR(A413=\"PL39\",A413=\"PL40\",A413=\"PL41\")=TRUE,16,15)","v":0},{"$f":"AP413*IF(OR(A413=\"PL39\",A413=\"PL40\",A413=\"PL41\")=TRUE,16,15)","v":0}]
[null,null,null,null,null,null,null,"",null,null,null,null,null,null,"",null,null,null,null,null,null,0,0,0,0,"N",0,0,0,0,0,0,0,0,0,0,0,0,0,0,0,0,0,0]
[null,null,null,null,null,null,null,"",null,null,null,null,null,null,"",null,null,null,null,null,null,0,0,0,0,"N",0,0,0,0,0,0,0,0,0,0,0,0,0,0,0,0,0,0]
[null,null,null,null,null,null,null,"",null,null,null,null,null,null,"",null,null,null,null,null,null,0,0,0,0,"N",0,0,0,0,0,0,0,0,0,0,0,0,0,0,0,0,0,0]
[null,null,null,null,null,null,null,"",null,null,null,null,null,null,"",null,null,null,null,null,null,0,0,0,0,"N",0,0,0,0,0,0,0,0,0,0,0,0,0,0,0,0,0,0]
[null,null,null,null,null,null,null,"",null,null,null,null,null,null,"",null,null,null,null,null,null,0,0,0,0,"N",0,0,0,0,0,0,0,0,0,0,0,0,0,0,0,0,0,0]
[null,null,null,null,null,null,null,"",null,null,null,null,null,null,"",null,null,null,null,null,null,0,0,0,0,"N",0,0,0,0,0,0,0,0,0,0,0,0,0,0,0,0,0,0]
[null,null,null,null,null,null,null,"",null,null,null,null,null,null,"",null,null,null,null,null,null,0,0,0,0,"N",0,0,0,0,0,0,0,0,0,0,0,0,0,0,0,0,0,0]
[null,null,null,null,null,null,null,"",null,null,null,null,null,null,"",null,null,null,null,null,null,0,0,0,0,"N",0,0,0,0,0,0,0,0,0,0,0,0,0,0,0,0,0,0]
[null,null,null,null,null,null,null,"",null,null,null,null,null,null,"",null,null,null,null,null,null,0,0,0,0,"N",0,0,0,0,0,0,0,0,0,0,0,0,0,0,0,0,0,0]
[null,null,null,null,null,null,null,"",null,null,null,null,null,null,"",null,null,null,null,null,null,0,0,0,0,"N",0,0,0,0,0,0,0,0,0,0,0,0,0,0,0,0,0,0]
[null,null,null,null,null,null,null,"",null,null,null,null,null,null,"",null,null,null,null,null,null,0,0,0,0,"N",0,0,0,0,0,0,0,0,0,0,0,0,0,0,0,0,0,0]
[null,null,null,null,null,null,null,"",null,null,null,null,null,null,"",null,null,null,null,null,null,0,0,0,0,"N",0,0,0,0,0,0,0,0,0,0,0,0,0,0,0,0,0,0]
[null,null,null,null,null,null,null,"",null,null,null,null,null,null,"",null,null,null,null,null,null,0,0,0,0,"N",0,0,0,0,0,0,0,0,0,0,0,0,0,0,0,0,0,0]
[null,null,null,null,null,null,null,"",null,null,null,null,null,null,"",null,null,null,null,null,null,0,0,0,0,"N",0,0,0,0,0,0,0,0,0,0,0,0,0,0,0,0,0,0]
[null,null,null,null,null,null,null,"",null,null,null,null,null,null,"",null,null,null,null,null,null,0,0,0,0,"N",0,0,0,0,0,0,0,0,0,0,0,0,0,0,0,0,0,0]
[null,null,null,null,null,null,null,"",null,null,null,null,null,null,"",null,null,null,null,null,null,0,0,0,0,"N",0,0,0,0,0,0,0,0,0,0,0,0,0,0,0,0,0,0]
[null,null,null,null,null,null,null,"",null,null,null,null,null,null,"",null,null,null,null,null,null,0,0,0,0,"N",0,0,0,0,0,0,0,0,0,0,0,0,0,0,0,0,0,0]
[null,null,null,null,null,null,null,"",null,null,null,null,null,null,"",null,null,null,null,null,null,0,0,0,0,"N",0,0,0,0,0,0,0,0,0,0,0,0,0,0,0,0,0,0]
[null,null,null,null,null,null,null,"",null,null,null,null,null,null,"",null,null,null,null,null,null,0,0,0,0,"N",0,0,0,0,0,0,0,0,0,0,0,0,0,0,0,0,0,0]
[null,null,null,null,null,null,null,"",null,null,null,null,null,null,"",null,null,null,null,null,null,0,0,0,0,"N",0,0,0,0,0,0,0,0,0,0,0,0,0,0,0,0,0,0]
[null,null,null,null,null,null,null,"",null,null,null,null,null,null,"",null,null,null,null,null,null,0,0,0,0,"N",0,0,0,0,0,0,0,0,0,0,0,0,0,0,0,0,0,0]
[null,null,null,null,null,null,null,"",null,null,null,null,null,null,"",null,null,null,null,null,null,0,0,0,0,"N",0,0,0,0,0,0,0,0,0,0,0,0,0,0,0,0,0,0]
[null,null,null,null,null,null,null,"",null,null,null,null,null,null,"",null,null,null,null,null,null,0,0,0,0,"N",0,0,0,0,0,0,0,0,0,0,0,0,0,0,0,0,0,0]
[null,null,null,null,null,null,null,"",null,null,null,null,null,null,"",null,null,null,null,null,null,0,0,0,0,"N",0,0,0,0,0,0,0,0,0,0,0,0,0,0,0,0,0,0]
[null,null,null,null,null,null,null,"",null,null,null,null,null,null,"",null,null,null,null,null,null,0,0,0,0,"N",0,0,0,0,0,0,0,0,0,0,0,0,0,0,0,0,0,0]
[null,null,null,null,null,null,null,"",null,null,null,null,null,null,"",null,null,null,null,null,null,0,0,0,0,"N",0,0,0,0,0,0,0,0,0,0,0,0,0,0,0,0,0,0]
[null,null,null,null,null,null,null,"",null,null,null,null,null,null,"",null,null,null,null,null,null,0,0,0,0,"N",0,0,0,0,0,0,0,0,0,0,0,0,0,0,0,0,0,0]
[null,null,null,null,null,null,null,"",null,null,null,null,null,null,"",null,null,null,null,null,null,0,0,0,0,"N",0,0,0,0,0,0,0,0,0,0,0,0,0,0,0,0,0,0]
[null,null,null,null,null,null,null,"",null,null,null,null,null,null,"",null,null,null,null,null,null,0,0,0,0,"N",0,0,0,0,0,0,0,0,0,0,0,0,0,0,0,0,0,0]
[null,null,null,null,null,null,null,"",null,null,null,null,null,null,"",null,null,null,null,null,null,0,0,0,0,"N",0,0,0,0,0,0,0,0,0,0,0,0,0,0,0,0,0,0]
[null,null,null,null,null,null,null,"",null,null,null,null,null,null,"",null,null,null,null,null,null,0,0,0,0,"N",0,0,0,0,0,0,0,0,0,0,0,0,0,0,0,0,0,0]
[null,null,null,null,null,null,null,"",null,null,null,null,null,null,"",null,null,null,null,null,null,0,0,0,0,"N",0,0,0,0,0,0,0,0,0,0,0,0,0,0,0,0,0,0]
[null,null,null,null,null,null,null,"",null,null,null,null,null,null,"",null,null,null,null,null,null,0,0,0,0,"N",0,0,0,0,0,0,0,0,0,0,0,0,0,0,0,0,0,0]
[null,null,null,null,null,null,null,"",null,null,null,null,null,null,"",null,null,null,null,null,null,0,0,0,0,"N",0,0,0,0,0,0,0,0,0,0,0,0,0,0,0,0,0,0]
[null,null,null,null,null,null,null,"",null,null,null,null,null,null,"",null,null,null,null,null,null,0,0,0,0,"N",0,0,0,0,0,0,0,0,0,0,0,0,0,0,0,0,0,0]
[null,null,null,null,null,null,null,"",null,null,null,null,null,null,"",null,null,null,null,null,null,0,0,0,0,"N",0,0,0,0,0,0,0,0,0,0,0,0,0,0,0,0,0,0]
[null,null,null,null,null,null,null,"",null,null,null,null,null,null,"",null,null,null,null,null,null,0,0,0,0,"N",0,0,0,0,0,0,0,0,0,0,0,0,0,0,0,0,0,0]
[null,null,null,null,null,null,null,"",null,null,null,null,null,null,"",null,null,null,null,null,null,0,0,0,0,"N",0,0,0,0,0,0,0,0,0,0,0,0,0,0,0,0,0,0]
[null,null,null,null,null,null,null,"",null,null,null,null,null,null,"",null,null,null,null,null,null,0,0,0,0,"N",0,0,0,0,0,0,0,0,0,0,0,0,0,0,0,0,0,0]
[null,null,null,null,null,null,null,"",null,null,null,null,null,null,"",null,null,null,null,null,null,0,0,0,0,"N",0,0,0,0,0,0,0,0,0,0,0,0,0,0,0,0,0,0]
[null,null,null,null,null,null,null,"",null,null,null,null,null,null,"",null,null,null,null,null,null,0,0,0,0,"N",0,0,0,0,0,0,0,0,0,0,0,0,0,0,0,0,0,0]
[null,null,null,null,null,null,null,"",null,null,null,null,null,null,"",null,null,null,null,null,null,0,0,0,0,"N",0,0,0,0,0,0,0,0,0,0,0,0,0,0,0,0,0,0]
[null,null,null,null,null,null,null,"",null,null,null,null,null,null,"",null,null,null,null,null,null,0,0,0,0,"N",0,0,0,0,0,0,0,0,0,0,0,0,0,0,0,0,0,0]
[null,null,null,null,null,null,null,"",null,null,null,null,null,null,"",null,null,null,null,null,null,0,0,0,0,"N",0,0,0,0,0,0,0,0,0,0,0,0,0,0,0,0,0,0]
[null,null,null,null,null,null,null,"",null,null,null,null,null,null,"",null,null,null,null,null,null,0,0,0,0,"N",0,0,0,0,0,0,0,0,0,0,0,0,0,0,0,0,0,0]
[null,null,null,null,null,null,null,"",null,null,null,null,null,null,"",null,null,null,null,null,null,0,0,0,0,"N",0,0,0,0,0,0,0,0,0,0,0,0,0,0,0,0,0,0]
[null,null,null,null,null,null,null,"",null,null,null,null,null,null,"",null,null,null,null,null,null,0,0,0,0,"N",0,0,0,0,0,0,0,0,0,0,0,0,0,0,0,0,0,0]
[null,null,null,null,null,null,null,"",null,null,null,null,null,null,"",null,null,null,null,null,null,0,0,0,0,"N",0,0,0,0,0,0,0,0,0,0,0,0,0,0,0,0,0,0]
[null,null,null,null,null,null,null,"",null,null,null,null,null,null,"",null,null,null,null,null,null,0,0,0,0,"N",0,0,0,0,0,0,0,0,0,0,0,0,0,0,0,0,0,0]
[null,null,null,null,null,null,null,"",null,null,null,null,null,null,"",null,null,null,null,null,null,0,0,0,0,"N",0,0,0,0,0,0,0,0,0,0,0,0,0,0,0,0,0,0]
[null,null,null,null,null,null,null,"",null,null,null,null,null,null,"",null,null,null,null,null,null,0,0,0,0,"N",0,0,0,0,0,0,0,0,0,0,0,0,0,0,0,0,0,0]
[null,null,null,null,null,null,null,"",null,null,null,null,null,null,"",null,null,null,null,null,null,0,0,0,0,"N",0,0,0,0,0,0,0,0,0,0,0,0,0,0,0,0,0,0]
[null,null,null,null,null,null,null,"",null,null,null,null,null,null,"",null,null,null,null,null,null,0,0,0,0,"N",0,0,0,0,0,0,0,0,0,0,0,0,0,0,0,0,0,0]
[null,null,null,null,null,null,null,"",null,null,null,null,null,null,"",null,null,null,null,null,null,0,0,0,0,"N",0,0,0,0,0,0,0,0,0,0,0,0,0,0,0,0,0,0]
[null,null,null,null,null,null,null,"",null,null,null,null,null,null,"",null,null,null,null,null,null,0,0,0,0,"N",0,0,0,0,0,0,0,0,0,0,0,0,0,0,0,0,0,0]
[null,null,null,null,null,null,null,"",null,null,null,null,null,null,"",null,null,null,null,null,null,0,0,0,0,"N",0,0,0,0,0,0,0,0,0,0,0,0,0,0,0,0,0,0]
[null,null,null,null,null,null,null,"",null,null,null,null,null,null,"",null,null,null,null,null,null,0,0,0,0,"N",0,0,0,0,0,0,0,0,0,0,0,0,0,0,0,0,0,0]
[null,null,null,null,null,null,null,"",null,null,null,null,null,null,"",null,null,null,null,null,null,0,0,0,0,"N",0,0,0,0,0,0,0,0,0,0,0,0,0,0,0,0,0,0]
[null,null,null,null,null,null,null,"",null,null,null,null,null,null,"",null,null,null,null,null,null,0,0,0,0,"N",0,0,0,0,0,0,0,0,0,0,0,0,0,0,0,0,0,0]
[null,null,null,null,null,null,null,"",null,null,null,null,null,null,"",null,null,null,null,null,null,0,0,0,0,"N",0,0,0,0,0,0,0,0,0,0,0,0,0,0,0,0,0,0]
[null,null,null,null,null,null,null,"",null,null,null,null,null,null,"",null,null,null,null,null,null,0,0,0,0,"N",0,0,0,0,0,0,0,0,0,0,0,0,0,0,0,0,0,0]
[null,null,null,null,null,null,null,"",null,null,null,null,null,null,"",null,null,null,null,null,null,0,0,0,0,"N",0,0,0,0,0,0,0,0,0,0,0,0,0,0,0,0,0,0]
[null,null,null,null,null,null,null,"",null,null,null,null,null,null,"",null,null,null,null,null,null,0,0,0,0,"N",{"$f":"IFERROR(IF(Z476=\"Y\",VLOOKUP(A476,MeasureCode_Lookup,8,FALSE)*IF(OR(A476=\"PL1\",A476=\"PL2\",A476=\"PL3\", A476=\"PL4\", A476=\"PL5\", A476=\"PL26\",A476=\"PL35\",A476=\"PL36\",A476=\"PL37\",A476=\"PL42\",A476=\"PL43\",A476=\"PL44\")=TRUE,Q476,IF(A476=\"PL38\",S476,1)),0),0)","v":0},0,0,0,0,0,0,0,0,0,0,0,0,0,0,0,0,0]
[null,null,null,null,null,null,null,{"$f":"IFERROR(IF(OR(F477=\"\",G477=\"\")=TRUE,\"\",VLOOKUP(G477,INDIRECT(SUBSTITUTE(SUBSTITUTE(SUBSTITUTE(F477,\" \",\"_\"),\"-\",\"_\"),\"/\",\"_\")&\"W\"),2,FALSE)),\"N/A\")","v":""},null,null,null,null,null,null,{"$f":"IFERROR(IF(OR(K477=\"\",L477=\"\")=TRUE,\"\",VLOOKUP(L477,INDIRECT(SUBSTITUTE(SUBSTITUTE(SUBSTITUTE(K477,\" \",\"_\"),\"-\",\"_\"),\"/\",\"_\")&\"W\"),2,FALSE)),\"N/A\")","v":""},null,null,null,null,null,null,{"$f":"IFERROR(MIN(N(J477),N(U477)),0)","v":0},{"$f":"IFERROR(MIN(N(J477),N(U477)),0)","v":0},{"$f":"IF(N(I477)=0,IF(N(H477)=0,0,H477),I477)","v":0},{"$f":"IF(N(P477)=0,IF(N(O477)=0,0,O477),P477)","v":0},{"$f":"IFERROR(IF(OR($B$4=\"\",$B$5=\"\",$A$16=\"\",$F$16=\"\",$A$18=\"\",A477=\"\",B477=\"\",E477=\"\",F477=\"\",G477=\"\",AND(H477=\"N/A\",N(I477)=0)=TRUE,K477=\"\",L477=\"\",AND(O477=\"N/A\",N(P477)=0)=TRUE,AND(OR(A477=\"PL1\",A477=\"PL2\",A477=\"PL3\",A477=\"PL4\",A477=\"PL5\",A477=\"PL26\",A477=\"PL35\",A477=\"PL36\",A477=\"PL37\",A477=\"PL42\",A477=\"PL43\",A477=\"PL44\")=TRUE,OR(N(Q477)=0,N(R477)=0)=TRUE),AND(A477=\"PL38\",S477=\"\")=TRUE,Y477>=X477,ISERROR(IF(VLOOKUP(A477,MeasureCode_Lookup,2,FALSE)=\"Y\",VLOOKUP(F477,INDIRECT(A477&\"EType\"),1,FALSE),VLOOKUP(F477,Light_ETechType,1,FALSE))),ISERROR(IF(OR(F477=\"Incandescent\",F477=\"Halogen Incandescent\",F477=\"Compact Fluorescent\")=TRUE,1,IF(VLOOKUP(A477,MeasureCode_Lookup,2,FALSE)=\"Y\",VLOOKUP(G477,INDIRECT(A477&\"EDesc\"&VLOOKUP(F477,INDIRECT(A477&\"EType_Lookup\"),2,FALSE)),1,FALSE),VLOOKUP(G477,INDIRECT(SUBSTITUTE(SUBSTITUTE(SUBSTITUTE(F477,\" \",\"_\"),\"-\",\"_\"),\"/\",\"_\")),1,FALSE)))),ISERROR(VLOOKUP(K477,INDIRECT(A477&\"PType\"),1,FALSE)),ISERROR(VLOOKUP(L477,INDIRECT(A477&\"PDesc\"&VLOOKUP(K477,INDIRECT(A477&\"PType_Lookup\"),2,FALSE)),1,FALSE)),AND(OR(A477=\"PL9\",A477=\"PL12\")=TRUE,Y477>125)=TRUE,AND(OR(A477=\"PL10\",A477=\"PL13\")=TRUE,OR(Y477<=125,Y477>250)=TRUE)=TRUE,AND(OR(A477=\"PL11\",A477=\"PL14\")=TRUE,Y477<=250)=TRUE,AND(A477=\"PL35\",Y477>125)=TRUE,AND(A477=\"PL36\",OR(Y477<=125,Y477>250)=TRUE)=TRUE,AND(A477=\"PL37\",Y477<=250)=TRUE,AND(OR(A477=\"PL39\",A477=\"PL40\",A477=\"PL41\")=TRUE,T477=\"\")=TRUE)=TRUE,\"N\",\"Y\"),\"N\")","v":"N"},0,{"$f":"IF(OR($A$11=TRUE,$A$12=TRUE,$B$11=TRUE,$B$12=TRUE,$C$11=TRUE)=TRUE,AA477,0)","v":0},{"$f":"IF(AA477=0,0,V477*(AA477+AB477))","v":0},{"$f":"IF(AA477=0,0,W477*(AA477+AB477))","v":0},{"$f":"IF(AA477=0,0,(((J477*X477)-(U477*Y477))/1000)/MIN(J477,U477))","v":0},{"$f":"IF(AA477=0,0,IF(IFERROR(SEARCH(\"Refrigerated\",L477,1),0)>0,AE477*(1+VLOOKUP(T477,Refrigerated_Lookup,4,FALSE))*VLOOKUP(T477,Refrigerated_Lookup,5,FALSE),AE477*IF(E477=\"Interior\",IF(IFERROR(MATCH($A$18,HVACe_Options,0),0)>0,1+VLOOKUP($A$16,Building_Lookup,4,FALSE),1),1)*VLOOKUP($A$16,Building_Lookup,3,FALSE)))","v":0},{"$f":"IF(AA477=0,0,IF(IFERROR(SEARCH(\"Refrigerated\",L477,1),0)>0,AE477*(1+VLOOKUP(T477,Refrigerated_Lookup,3,FALSE))*VLOOKUP(T477,Refrigerated_Lookup,2,FALSE),AE477*IF(E477=\"Interior\",IFERROR((1+VLOOKUP($A$16,Building_Lookup,MATCH($A$18,HVACe_Options,0)+4,FALSE)),1),1)*VLOOKUP($A$16,Building_Lookup,2,FALSE)))","v":0},{"$f":"IF(AA477=0,0,IF(IFERROR(SEARCH(\"Refrigerated\",L477,1),0)>0,0,IF(E477=\"Interior\",IF(IFERROR(SEARCH(\"Gas\",$A$18),0)>0,AG477*VLOOKUP(\"Gas\",HVACg_Lookup,MATCH($F$16,BuildingSize,0)+1),IF(IFERROR(SEARCH(\"Oil\",$A$18),0)>0,AG477*VLOOKUP(\"Oil\",HVACg_Lookup,MATCH($F$16,BuildingSize,0)+1),IF(IFERROR(SEARCH(\"Propane\",$A$18),0)>0,AG477*VLOOKUP(\"Propane\",HVACg_Lookup,MATCH($F$16,BuildingSize,0)+1),0))),0)))","v":0},{"$f":"V477*$AF477","v":0},{"$f":"W477*$AF477","v":0},{"$f":"V477*$AG477","v":0},{"$f":"W477*$AG477","v":0},{"$f":"AK477*IF(OR(A477=\"PL39\",A477=\"PL40\",A477=\"PL41\")=TRUE,16,15)","v":0},{"$f":"AL477*IF(OR(A477=\"PL39\",A477=\"PL40\",A477=\"PL41\")=TRUE,16,15)","v":0},{"$f":"V477*$AH477","v":0},{"$f":"W477*$AH477","v":0},{"$f":"AO477*IF(OR(A477=\"PL39\",A477=\"PL40\",A477=\"PL41\")=TRUE,16,15)","v":0},{"$f":"AP477*IF(OR(A477=\"PL39\",A477=\"PL40\",A477=\"PL41\")=TRUE,16,15)","v":0}]
[null,null,null,null,null,null,null,"",null,null,null,null,null,null,"",null,null,null,null,null,null,0,0,0,0,"N",0,0,0,0,0,0,0,0,0,0,0,0,0,0,0,0,0,0]
[null,null,null,null,null,null,null,"",null,null,null,null,null,null,"",null,null,null,null,null,null,0,0,0,0,"N",0,0,0,0,0,0,0,0,0,0,0,0,0,0,0,0,0,0]
[null,null,null,null,null,null,null,"",null,null,null,null,null,null,"",null,null,null,null,null,null,0,0,0,0,"N",0,0,0,0,0,0,0,0,0,0,0,0,0,0,0,0,0,0]
[null,null,null,null,null,null,null,"",null,null,null,null,null,null,"",null,null,null,null,null,null,0,0,0,0,"N",0,0,0,0,0,0,0,0,0,0,0,0,0,0,0,0,0,0]
[null,null,null,null,null,null,null,"",null,null,null,null,null,null,"",null,null,null,null,null,null,0,0,0,0,"N",0,0,0,0,0,0,0,0,0,0,0,0,0,0,0,0,0,0]
[null,null,null,null,null,null,null,"",null,null,null,null,null,null,"",null,null,null,null,null,null,0,0,0,0,"N",0,0,0,0,0,0,0,0,0,0,0,0,0,0,0,0,0,0]
[null,null,null,null,null,null,null,"",null,null,null,null,null,null,"",null,null,null,null,null,null,0,0,0,0,"N",0,0,0,0,0,0,0,0,0,0,0,0,0,0,0,0,0,0]
[null,null,null,null,null,null,null,"",null,null,null,null,null,null,"",null,null,null,null,null,null,0,0,0,0,"N",0,0,0,0,0,0,0,0,0,0,0,0,0,0,0,0,0,0]
[null,null,null,null,null,null,null,"",null,null,null,null,null,null,"",null,null,null,null,null,null,0,0,0,0,"N",0,0,0,0,0,0,0,0,0,0,0,0,0,0,0,0,0,0]
[null,null,null,null,null,null,null,"",null,null,null,null,null,null,"",null,null,null,null,null,null,0,0,0,0,"N",0,0,0,0,0,0,0,0,0,0,0,0,0,0,0,0,0,0]
[null,null,null,null,null,null,null,"",null,null,null,null,null,null,"",null,null,null,null,null,null,0,0,0,0,"N",0,0,0,0,0,0,0,0,0,0,0,0,0,0,0,0,0,0]
[null,null,null,null,null,null,null,"",null,null,null,null,null,null,"",null,null,null,null,null,null,0,0,0,0,"N",0,0,0,0,0,0,0,0,0,0,0,0,0,0,0,0,0,0]
[null,null,null,null,null,null,null,"",null,null,null,null,null,null,"",null,null,null,null,null,null,0,0,0,0,"N",0,0,0,0,0,0,0,0,0,0,0,0,0,0,0,0,0,0]
[null,null,null,null,null,null,null,"",null,null,null,null,null,null,"",null,null,null,null,null,null,0,0,0,0,"N",0,0,0,0,0,0,0,0,0,0,0,0,0,0,0,0,0,0]
[null,null,null,null,null,null,null,"",null,null,null,null,null,null,"",null,null,null,null,null,null,0,0,0,0,"N",0,0,0,0,0,0,0,0,0,0,0,0,0,0,0,0,0,0]
[null,null,null,null,null,null,null,"",null,null,null,null,null,null,"",null,null,null,null,null,null,0,0,0,0,"N",0,0,0,0,0,0,0,0,0,0,0,0,0,0,0,0,0,0]
[null,null,null,null,null,null,null,"",null,null,null,null,null,null,"",null,null,null,null,null,null,0,0,0,0,"N",0,0,0,0,0,0,0,0,0,0,0,0,0,0,0,0,0,0]
[null,null,null,null,null,null,null,"",null,null,null,null,null,null,"",null,null,null,null,null,null,0,0,0,0,"N",0,0,0,0,0,0,0,0,0,0,0,0,0,0,0,0,0,0]
[null,null,null,null,null,null,null,"",null,null,null,null,null,null,"",null,null,null,null,null,null,0,0,0,0,"N",0,0,0,0,0,0,0,0,0,0,0,0,0,0,0,0,0,0]
[null,null,null,null,null,null,null,"",null,null,null,null,null,null,"",null,null,null,null,null,null,0,0,0,0,"N",0,0,0,0,0,0,0,0,0,0,0,0,0,0,0,0,0,0]
[null,null,null,null,null,null,null,"",null,null,null,null,null,null,"",null,null,null,null,null,null,0,0,0,0,"N",0,0,0,0,0,0,0,0,0,0,0,0,0,0,0,0,0,0]
[null,null,null,null,null,null,null,"",null,null,null,null,null,null,"",null,null,null,null,null,null,0,0,0,0,"N",0,0,0,0,0,0,0,0,0,0,0,0,0,0,0,0,0,0]
[null,null,null,null,null,null,null,"",null,null,null,null,null,null,"",null,null,null,null,null,null,0,0,0,0,"N",0,0,0,0,0,0,0,0,0,0,0,0,0,0,0,0,0,0]
[null,null,null,null,null,null,null,"",null,null,null,null,null,null,"",null,null,null,null,null,null,0,0,0,0,"N",0,0,0,0,0,0,0,0,0,0,0,0,0,0,0,0,0,0]
[null,null,null,null,null,null,null,"",null,null,null,null,null,null,"",null,null,null,null,null,null,0,0,0,0,"N",0,0,0,0,0,0,0,0,0,0,0,0,0,0,0,0,0,0]
[null,null,null,null,null,null,null,"",null,null,null,null,null,null,"",null,null,null,null,null,null,0,0,0,0,"N",0,0,0,0,0,0,0,0,0,0,0,0,0,0,0,0,0,0]
[null,null,null,null,null,null,null,"",null,null,null,null,null,null,"",null,null,null,null,null,null,0,0,0,0,"N",0,0,0,0,0,0,0,0,0,0,0,0,0,0,0,0,0,0]
[null,null,null,null,null,null,null,"",null,null,null,null,null,null,"",null,null,null,null,null,null,0,0,0,0,"N",0,0,0,0,0,0,0,0,0,0,0,0,0,0,0,0,0,0]
[null,null,null,null,null,null,null,"",null,null,null,null,null,null,"",null,null,null,null,null,null,0,0,0,0,"N",0,0,0,0,0,0,0,0,0,0,0,0,0,0,0,0,0,0]
[null,null,null,null,null,null,null,"",null,null,null,null,null,null,"",null,null,null,null,null,null,0,0,0,0,"N",0,0,0,0,0,0,0,0,0,0,0,0,0,0,0,0,0,0]
[null,null,null,null,null,null,null,"",null,null,null,null,null,null,"",null,null,null,null,null,null,0,0,0,0,"N",0,0,0,0,0,0,0,0,0,0,0,0,0,0,0,0,0,0]
[null,null,null,null,null,null,null,"",null,null,null,null,null,null,"",null,null,null,null,null,null,0,0,0,0,"N",0,0,0,0,0,0,0,0,0,0,0,0,0,0,0,0,0,0]
[null,null,null,null,null,null,null,"",null,null,null,null,null,null,"",null,null,null,null,null,null,0,0,0,0,"N",0,0,0,0,0,0,0,0,0,0,0,0,0,0,0,0,0,0]
[null,null,null,null,null,null,null,"",null,null,null,null,null,null,"",null,null,null,null,null,null,0,0,0,0,"N",0,0,0,0,0,0,0,0,0,0,0,0,0,0,0,0,0,0]
[null,null,null,null,null,null,null,"",null,null,null,null,null,null,"",null,null,null,null,null,null,0,0,0,0,"N",0,0,0,0,0,0,0,0,0,0,0,0,0,0,0,0,0,0]
[null,null,null,null,null,null,null,"",null,null,null,null,null,null,"",null,null,null,null,null,null,0,0,0,0,"N",0,0,0,0,0,0,0,0,0,0,0,0,0,0,0,0,0,0]
[null,null,null,null,null,null,null,"",null,null,null,null,null,null,"",null,null,null,null,null,null,0,0,0,0,"N",0,0,0,0,0,0,0,0,0,0,0,0,0,0,0,0,0,0]
[null,null,null,null,null,null,null,"",null,null,null,null,null,null,"",null,null,null,null,null,null,0,0,0,0,"N",0,0,0,0,0,0,0,0,0,0,0,0,0,0,0,0,0,0]
[null,null,null,null,null,null,null,"",null,null,null,null,null,null,"",null,null,null,null,null,null,0,0,0,0,"N",0,0,0,0,0,0,0,0,0,0,0,0,0,0,0,0,0,0]
[null,null,null,null,null,null,null,"",null,null,null,null,null,null,"",null,null,null,null,null,null,0,0,0,0,"N",0,0,0,0,0,0,0,0,0,0,0,0,0,0,0,0,0,0]
[null,null,null,null,null,null,null,"",null,null,null,null,null,null,"",null,null,null,null,null,null,0,0,0,0,"N",0,0,0,0,0,0,0,0,0,0,0,0,0,0,0,0,0,0]
[null,null,null,null,null,null,null,"",null,null,null,null,null,null,"",null,null,null,null,null,null,0,0,0,0,"N",0,0,0,0,0,0,0,0,0,0,0,0,0,0,0,0,0,0]
[null,null,null,null,null,null,null,"",null,null,null,null,null,null,"",null,null,null,null,null,null,0,0,0,0,"N",0,0,0,0,0,0,0,0,0,0,0,0,0,0,0,0,0,0]
[null,null,null,null,null,null,null,"",null,null,null,null,null,null,"",null,null,null,null,null,null,0,0,0,0,"N",0,0,0,0,0,0,0,0,0,0,0,0,0,0,0,0,0,0]
[null,null,null,null,null,null,null,"",null,null,null,null,null,null,"",null,null,null,null,null,null,0,0,0,0,"N",0,0,0,0,0,0,0,0,0,0,0,0,0,0,0,0,0,0]
[null,null,null,null,null,null,null,"",null,null,null,null,null,null,"",null,null,null,null,null,null,0,0,0,0,"N",0,0,0,0,0,0,0,0,0,0,0,0,0,0,0,0,0,0]
[null,null,null,null,null,null,null,"",null,null,null,null,null,null,"",null,null,null,null,null,null,0,0,0,0,"N",0,0,0,0,0,0,0,0,0,0,0,0,0,0,0,0,0,0]
[null,null,null,null,null,null,null,"",null,null,null,null,null,null,"",null,null,null,null,null,null,0,0,0,0,"N",0,0,0,0,0,0,0,0,0,0,0,0,0,0,0,0,0,0]
[null,null,null,null,null,null,null,"",null,null,null,null,null,null,"",null,null,null,null,null,null,0,0,0,0,"N",0,0,0,0,0,0,0,0,0,0,0,0,0,0,0,0,0,0]
[null,null,null,null,null,null,null,"",null,null,null,null,null,null,"",null,null,null,null,null,null,0,0,0,0,"N",0,0,0,0,0,0,0,0,0,0,0,0,0,0,0,0,0,0]
[null,null,null,null,null,null,null,"",null,null,null,null,null,null,"",null,null,null,null,null,null,0,0,0,0,"N",0,0,0,0,0,0,0,0,0,0,0,0,0,0,0,0,0,0]
[null,null,null,null,null,null,null,"",null,null,null,null,null,null,"",null,null,null,null,null,null,0,0,0,0,"N",0,0,0,0,0,0,0,0,0,0,0,0,0,0,0,0,0,0]
[null,null,null,null,null,null,null,"",null,null,null,null,null,null,"",null,null,null,null,null,null,0,0,0,0,"N",0,0,0,0,0,0,0,0,0,0,0,0,0,0,0,0,0,0]
[null,null,null,null,null,null,null,"",null,null,null,null,null,null,"",null,null,null,null,null,null,0,0,0,0,"N",0,0,0,0,0,0,0,0,0,0,0,0,0,0,0,0,0,0]
[null,null,null,null,null,null,null,"",null,null,null,null,null,null,"",null,null,null,null,null,null,0,0,0,0,"N",0,0,0,0,0,0,0,0,0,0,0,0,0,0,0,0,0,0]
[null,null,null,null,null,null,null,"",null,null,null,null,null,null,"",null,null,null,null,null,null,0,0,0,0,"N",0,0,0,0,0,0,0,0,0,0,0,0,0,0,0,0,0,0]
[null,null,null,null,null,null,null,"",null,null,null,null,null,null,"",null,null,null,null,null,null,0,0,0,0,"N",0,0,0,0,0,0,0,0,0,0,0,0,0,0,0,0,0,0]
[null,null,null,null,null,null,null,"",null,null,null,null,null,null,"",null,null,null,null,null,null,0,0,0,0,"N",0,0,0,0,0,0,0,0,0,0,0,0,0,0,0,0,0,0]
[null,null,null,null,null,null,null,"",null,null,null,null,null,null,"",null,null,null,null,null,null,0,0,0,0,"N",0,0,0,0,0,0,0,0,0,0,0,0,0,0,0,0,0,0]
[null,null,null,null,null,null,null,"",null,null,null,null,null,null,"",null,null,null,null,null,null,0,0,0,0,"N",0,0,0,0,0,0,0,0,0,0,0,0,0,0,0,0,0,0]
[null,null,null,null,null,null,null,"",null,null,null,null,null,null,"",null,null,null,null,null,null,0,0,0,0,"N",0,0,0,0,0,0,0,0,0,0,0,0,0,0,0,0,0,0]
[null,null,null,null,null,null,null,"",null,null,null,null,null,null,"",null,null,null,null,null,null,0,0,0,0,"N",0,0,0,0,0,0,0,0,0,0,0,0,0,0,0,0,0,0]
[null,null,null,null,null,null,null,"",null,null,null,null,null,null,"",null,null,null,null,null,null,0,{"$f":"IFERROR(MIN(N(J540),N(U540)),0)","v":0},0,0,"N",{"$f":"IFERROR(IF(Z540=\"Y\",VLOOKUP(A540,MeasureCode_Lookup,8,FALSE)*IF(OR(A540=\"PL1\",A540=\"PL2\",A540=\"PL3\", A540=\"PL4\", A540=\"PL5\", A540=\"PL26\",A540=\"PL35\",A540=\"PL36\",A540=\"PL37\",A540=\"PL42\",A540=\"PL43\",A540=\"PL44\")=TRUE,Q540,IF(A540=\"PL38\",S540,1)),0),0)","v":0},0,0,0,0,0,0,0,0,0,0,0,0,0,0,0,0,0]

{"sheet":"Fixture Schedule","index":1,"n_rows":514,"n_cols":23,"rows_kept":514,"cut":false,"hidden":true,"merged":[]}
["Type","Fixture Description","Manuf","Model Number","Fixture Wattage","Lamp Wattage","Wattage","Lamp Config","Committed Lamp Quantity","Committed Fixture Quantity","Committed Quantity","Installed Lamp Quantity","Installed Fixture Quantity","Installed Quantity",null,null,null,"Manufacturer Name","Model Number","Fixture Description","Wattage","Sum of Committed Quantity","Sum of Installed Quantity"]
[{"$f":"IF(Worksheet!K28=0,\"\",Worksheet!K28)","v":""},{"$f":"IF(Worksheet!L28=0,\"\",Worksheet!L28)","v":""},{"$f":"IF(Worksheet!M28=0,\"\",Worksheet!M28)","v":""},{"$f":"IF(Worksheet!N28=0,\"\",Worksheet!N28)","v":""},{"$f":"IF(Worksheet!P28=0,\"\",IF(OR(LEFT(B2,8)=\"LED Four\",LEFT(B2,8)=\"LED Tube\",LEFT(B2,8)=\"LED Mogu\",RIGHT(A2,2)=\"In\"),\"\",Worksheet!P28))","v":""},{"$f":"IF(Worksheet!R28=0,\"\",Worksheet!R28)","v":""},{"$f":"IF(MAX(E2:F2)=0,\"\",MAX(E2:F2))","v":""},{"$f":"IF(Worksheet!Q28=0,\"\",Worksheet!Q28)","v":""},{"$f":"IF(OR(LEFT(B2,8)=\"LED Four\",LEFT(B2,8)=\"LED Tube\",LEFT(B2,8)=\"LED Mogu\",RIGHT(A2,2)=\"In\"),H2*Worksheet!V28,\"\")","v":""},{"$f":"IF(Worksheet!V28=0,\"\",IF(OR(LEFT(B2,8)=\"LED Four\",LEFT(B2,8)=\"LED Tube\",LEFT(B2,8)=\"LED Mogu\",RIGHT(A2,2)=\"In\"),\"\",Worksheet!V28))","v":""},{"$f":"(IF(MAX(I2:J2)=0,\"\",MAX(I2:J2)))","v":""},{"$f":"IF(OR(LEFT(B2,8)=\"LED Four\",LEFT(B2,8)=\"LED Tube\",LEFT(B2,8)=\"LED Mogu\",RIGHT(A2,2)=\"In\"),H2*Worksheet!W28,\"\")","v":""},{"$f":"IF(Worksheet!W28=0,\"\",IF(OR(LEFT(B2,8)=\"LED Four\",LEFT(B2,8)=\"LED Tube\",LEFT(B2,8)=\"LED Mogu\",RIGHT(A2,2)=\"In\"),\"\",Worksheet!W28))","v":""},{"$f":"IF(MAX(L2:M2)=0,\"\",MAX(L2:M2))","v":""},null,null,null,null,null,null,null,0,0]
[{"$f":"IF(Worksheet!K29=0,\"\",Worksheet!K29)","v":""},{"$f":"IF(Worksheet!L29=0,\"\",Worksheet!L29)","v":""},{"$f":"IF(Worksheet!M29=0,\"\",Worksheet!M29)","v":""},{"$f":"IF(Worksheet!N29=0,\"\",Worksheet!N29)","v":""},{"$f":"IF(Worksheet!P29=0,\"\",IF(OR(LEFT(B3,8)=\"LED Four\",LEFT(B3,8)=\"LED Tube\",LEFT(B3,8)=\"LED Mogu\",RIGHT(A3,2)=\"In\"),\"\",Worksheet!P29))","v":""},{"$f":"IF(Worksheet!R29=0,\"\",Worksheet!R29)","v":""},{"$f":"IF(MAX(E3:F3)=0,\"\",MAX(E3:F3))","v":""},{"$f":"IF(Worksheet!Q29=0,\"\",Worksheet!Q29)","v":""},{"$f":"IF(OR(LEFT(B3,8)=\"LED Four\",LEFT(B3,8)=\"LED Tube\",LEFT(B3,8)=\"LED Mogu\",RIGHT(A3,2)=\"In\"),H3*Worksheet!V29,\"\")","v":""},{"$f":"IF(Worksheet!V29=0,\"\",IF(OR(LEFT(B3,8)=\"LED Four\",LEFT(B3,8)=\"LED Tube\",LEFT(B3,8)=\"LED Mogu\",RIGHT(A3,2)=\"In\"),\"\",Worksheet!V29))","v":""},{"$f":"(IF(MAX(I3:J3)=0,\"\",MAX(I3:J3)))","v":""},{"$f":"IF(OR(LEFT(B3,8)=\"LED Four\",LEFT(B3,8)=\"LED Tube\",LEFT(B3,8)=\"LED Mogu\",RIGHT(A3,2)=\"In\"),H3*Worksheet!W29,\"\")","v":""},{"$f":"IF(Worksheet!W29=0,\"\",IF(OR(LEFT(B3,8)=\"LED Four\",LEFT(B3,8)=\"LED Tube\",LEFT(B3,8)=\"LED Mogu\",RIGHT(A3,2)=\"In\"),\"\",Worksheet!W29))","v":""},{"$f":"IF(MAX(L3:M3)=0,\"\",MAX(L3:M3))","v":""},null,null,null,"Grand Total",null,null,null,0,0]
[{"$f":"IF(Worksheet!K30=0,\"\",Worksheet!K30)","v":""},{"$f":"IF(Worksheet!L30=0,\"\",Worksheet!L30)","v":""},{"$f":"IF(Worksheet!M30=0,\"\",Worksheet!M30)","v":""},{"$f":"IF(Worksheet!N30=0,\"\",Worksheet!N30)","v":""},{"$f":"IF(Worksheet!P30=0,\"\",IF(OR(LEFT(B4,8)=\"LED Four\",LEFT(B4,8)=\"LED Tube\",LEFT(B4,8)=\"LED Mogu\",RIGHT(A4,2)=\"In\"),\"\",Worksheet!P30))","v":""},{"$f":"IF(Worksheet!R30=0,\"\",Worksheet!R30)","v":""},"",{"$f":"IF(Worksheet!Q30=0,\"\",Worksheet!Q30)","v":""},{"$f":"IF(OR(LEFT(B4,8)=\"LED Four\",LEFT(B4,8)=\"LED Tube\",LEFT(B4,8)=\"LED Mogu\",RIGHT(A4,2)=\"In\"),H4*Worksheet!V30,\"\")","v":""},{"$f":"IF(Worksheet!V30=0,\"\",IF(OR(LEFT(B4,8)=\"LED Four\",LEFT(B4,8)=\"LED Tube\",LEFT(B4,8)=\"LED Mogu\",RIGHT(A4,2)=\"In\"),\"\",Worksheet!V30))","v":""},"",{"$f":"IF(OR(LEFT(B4,8)=\"LED Four\",LEFT(B4,8)=\"LED Tube\",LEFT(B4,8)=\"LED Mogu\",RIGHT(A4,2)=\"In\"),H4*Worksheet!W30,\"\")","v":""},{"$f":"IF(Worksheet!W30=0,\"\",IF(OR(LEFT(B4,8)=\"LED Four\",LEFT(B4,8)=\"LED Tube\",LEFT(B4,8)=\"LED Mogu\",RIGHT(A4,2)=\"In\"),\"\",Worksheet!W30))","v":""},""]
[{"$f":"IF(Worksheet!K31=0,\"\",Worksheet!K31)","v":""},{"$f":"IF(Worksheet!L31=0,\"\",Worksheet!L31)","v":""},{"$f":"IF(Worksheet!M31=0,\"\",Worksheet!M31)","v":""},{"$f":"IF(Worksheet!N31=0,\"\",Worksheet!N31)","v":""},{"$f":"IF(Worksheet!P31=0,\"\",IF(OR(LEFT(B5,8)=\"LED Four\",LEFT(B5,8)=\"LED Tube\",LEFT(B5,8)=\"LED Mogu\",RIGHT(A5,2)=\"In\"),\"\",Worksheet!P31))","v":""},{"$f":"IF(Worksheet!R31=0,\"\",Worksheet!R31)","v":""},"",{"$f":"IF(Worksheet!Q31=0,\"\",Worksheet!Q31)","v":""},{"$f":"IF(OR(LEFT(B5,8)=\"LED Four\",LEFT(B5,8)=\"LED Tube\",LEFT(B5,8)=\"LED Mogu\",RIGHT(A5,2)=\"In\"),H5*Worksheet!V31,\"\")","v":""},{"$f":"IF(Worksheet!V31=0,\"\",IF(OR(LEFT(B5,8)=\"LED Four\",LEFT(B5,8)=\"LED Tube\",LEFT(B5,8)=\"LED Mogu\",RIGHT(A5,2)=\"In\"),\"\",Worksheet!V31))","v":""},"",{"$f":"IF(OR(LEFT(B5,8)=\"LED Four\",LEFT(B5,8)=\"LED Tube\",LEFT(B5,8)=\"LED Mogu\",RIGHT(A5,2)=\"In\"),H5*Worksheet!W31,\"\")","v":""},{"$f":"IF(Worksheet!W31=0,\"\",IF(OR(LEFT(B5,8)=\"LED Four\",LEFT(B5,8)=\"LED Tube\",LEFT(B5,8)=\"LED Mogu\",RIGHT(A5,2)=\"In\"),\"\",Worksheet!W31))","v":""},""]
[{"$f":"IF(Worksheet!K32=0,\"\",Worksheet!K32)","v":""},{"$f":"IF(Worksheet!L32=0,\"\",Worksheet!L32)","v":""},{"$f":"IF(Worksheet!M32=0,\"\",Worksheet!M32)","v":""},{"$f":"IF(Worksheet!N32=0,\"\",Worksheet!N32)","v":""},{"$f":"IF(Worksheet!P32=0,\"\",IF(OR(LEFT(B6,8)=\"LED Four\",LEFT(B6,8)=\"LED Tube\",LEFT(B6,8)=\"LED Mogu\",RIGHT(A6,2)=\"In\"),\"\",Worksheet!P32))","v":""},{"$f":"IF(Worksheet!R32=0,\"\",Worksheet!R32)","v":""},"",{"$f":"IF(Worksheet!Q32=0,\"\",Worksheet!Q32)","v":""},{"$f":"IF(OR(LEFT(B6,8)=\"LED Four\",LEFT(B6,8)=\"LED Tube\",LEFT(B6,8)=\"LED Mogu\",RIGHT(A6,2)=\"In\"),H6*Worksheet!V32,\"\")","v":""},{"$f":"IF(Worksheet!V32=0,\"\",IF(OR(LEFT(B6,8)=\"LED Four\",LEFT(B6,8)=\"LED Tube\",LEFT(B6,8)=\"LED Mogu\",RIGHT(A6,2)=\"In\"),\"\",Worksheet!V32))","v":""},"",{"$f":"IF(OR(LEFT(B6,8)=\"LED Four\",LEFT(B6,8)=\"LED Tube\",LEFT(B6,8)=\"LED Mogu\",RIGHT(A6,2)=\"In\"),H6*Worksheet!W32,\"\")","v":""},{"$f":"IF(Worksheet!W32=0,\"\",IF(OR(LEFT(B6,8)=\"LED Four\",LEFT(B6,8)=\"LED Tube\",LEFT(B6,8)=\"LED Mogu\",RIGHT(A6,2)=\"In\"),\"\",Worksheet!W32))","v":""},""]
[{"$f":"IF(Worksheet!K33=0,\"\",Worksheet!K33)","v":""},{"$f":"IF(Worksheet!L33=0,\"\",Worksheet!L33)","v":""},{"$f":"IF(Worksheet!M33=0,\"\",Worksheet!M33)","v":""},{"$f":"IF(Worksheet!N33=0,\"\",Worksheet!N33)","v":""},{"$f":"IF(Worksheet!P33=0,\"\",IF(OR(LEFT(B7,8)=\"LED Four\",LEFT(B7,8)=\"LED Tube\",LEFT(B7,8)=\"LED Mogu\",RIGHT(A7,2)=\"In\"),\"\",Worksheet!P33))","v":""},{"$f":"IF(Worksheet!R33=0,\"\",Worksheet!R33)","v":""},"",{"$f":"IF(Worksheet!Q33=0,\"\",Worksheet!Q33)","v":""},{"$f":"IF(OR(LEFT(B7,8)=\"LED Four\",LEFT(B7,8)=\"LED Tube\",LEFT(B7,8)=\"LED Mogu\",RIGHT(A7,2)=\"In\"),H7*Worksheet!V33,\"\")","v":""},{"$f":"IF(Worksheet!V33=0,\"\",IF(OR(LEFT(B7,8)=\"LED Four\",LEFT(B7,8)=\"LED Tube\",LEFT(B7,8)=\"LED Mogu\",RIGHT(A7,2)=\"In\"),\"\",Worksheet!V33))","v":""},"",{"$f":"IF(OR(LEFT(B7,8)=\"LED Four\",LEFT(B7,8)=\"LED Tube\",LEFT(B7,8)=\"LED Mogu\",RIGHT(A7,2)=\"In\"),H7*Worksheet!W33,\"\")","v":""},{"$f":"IF(Worksheet!W33=0,\"\",IF(OR(LEFT(B7,8)=\"LED Four\",LEFT(B7,8)=\"LED Tube\",LEFT(B7,8)=\"LED Mogu\",RIGHT(A7,2)=\"In\"),\"\",Worksheet!W33))","v":""},""]
[{"$f":"IF(Worksheet!K34=0,\"\",Worksheet!K34)","v":""},{"$f":"IF(Worksheet!L34=0,\"\",Worksheet!L34)","v":""},{"$f":"IF(Worksheet!M34=0,\"\",Worksheet!M34)","v":""},{"$f":"IF(Worksheet!N34=0,\"\",Worksheet!N34)","v":""},{"$f":"IF(Worksheet!P34=0,\"\",IF(OR(LEFT(B8,8)=\"LED Four\",LEFT(B8,8)=\"LED Tube\",LEFT(B8,8)=\"LED Mogu\",RIGHT(A8,2)=\"In\"),\"\",Worksheet!P34))","v":""},{"$f":"IF(Worksheet!R34=0,\"\",Worksheet!R34)","v":""},"",{"$f":"IF(Worksheet!Q34=0,\"\",Worksheet!Q34)","v":""},{"$f":"IF(OR(LEFT(B8,8)=\"LED Four\",LEFT(B8,8)=\"LED Tube\",LEFT(B8,8)=\"LED Mogu\",RIGHT(A8,2)=\"In\"),H8*Worksheet!V34,\"\")","v":""},{"$f":"IF(Worksheet!V34=0,\"\",IF(OR(LEFT(B8,8)=\"LED Four\",LEFT(B8,8)=\"LED Tube\",LEFT(B8,8)=\"LED Mogu\",RIGHT(A8,2)=\"In\"),\"\",Worksheet!V34))","v":""},"",{"$f":"IF(OR(LEFT(B8,8)=\"LED Four\",LEFT(B8,8)=\"LED Tube\",LEFT(B8,8)=\"LED Mogu\",RIGHT(A8,2)=\"In\"),H8*Worksheet!W34,\"\")","v":""},{"$f":"IF(Worksheet!W34=0,\"\",IF(OR(LEFT(B8,8)=\"LED Four\",LEFT(B8,8)=\"LED Tube\",LEFT(B8,8)=\"LED Mogu\",RIGHT(A8,2)=\"In\"),\"\",Worksheet!W34))","v":""},""]
[{"$f":"IF(Worksheet!K35=0,\"\",Worksheet!K35)","v":""},{"$f":"IF(Worksheet!L35=0,\"\",Worksheet!L35)","v":""},{"$f":"IF(Worksheet!M35=0,\"\",Worksheet!M35)","v":""},{"$f":"IF(Worksheet!N35=0,\"\",Worksheet!N35)","v":""},{"$f":"IF(Worksheet!P35=0,\"\",IF(OR(LEFT(B9,8)=\"LED Four\",LEFT(B9,8)=\"LED Tube\",LEFT(B9,8)=\"LED Mogu\",RIGHT(A9,2)=\"In\"),\"\",Worksheet!P35))","v":""},{"$f":"IF(Worksheet!R35=0,\"\",Worksheet!R35)","v":""},"",{"$f":"IF(Worksheet!Q35=0,\"\",Worksheet!Q35)","v":""},{"$f":"IF(OR(LEFT(B9,8)=\"LED Four\",LEFT(B9,8)=\"LED Tube\",LEFT(B9,8)=\"LED Mogu\",RIGHT(A9,2)=\"In\"),H9*Worksheet!V35,\"\")","v":""},{"$f":"IF(Worksheet!V35=0,\"\",IF(OR(LEFT(B9,8)=\"LED Four\",LEFT(B9,8)=\"LED Tube\",LEFT(B9,8)=\"LED Mogu\",RIGHT(A9,2)=\"In\"),\"\",Worksheet!V35))","v":""},"",{"$f":"IF(OR(LEFT(B9,8)=\"LED Four\",LEFT(B9,8)=\"LED Tube\",LEFT(B9,8)=\"LED Mogu\",RIGHT(A9,2)=\"In\"),H9*Worksheet!W35,\"\")","v":""},{"$f":"IF(Worksheet!W35=0,\"\",IF(OR(LEFT(B9,8)=\"LED Four\",LEFT(B9,8)=\"LED Tube\",LEFT(B9,8)=\"LED Mogu\",RIGHT(A9,2)=\"In\"),\"\",Worksheet!W35))","v":""},""]
[{"$f":"IF(Worksheet!K36=0,\"\",Worksheet!K36)","v":""},{"$f":"IF(Worksheet!L36=0,\"\",Worksheet!L36)","v":""},{"$f":"IF(Worksheet!M36=0,\"\",Worksheet!M36)","v":""},{"$f":"IF(Worksheet!N36=0,\"\",Worksheet!N36)","v":""},{"$f":"IF(Worksheet!P36=0,\"\",IF(OR(LEFT(B10,8)=\"LED Four\",LEFT(B10,8)=\"LED Tube\",LEFT(B10,8)=\"LED Mogu\",RIGHT(A10,2)=\"In\"),\"\",Worksheet!P36))","v":""},{"$f":"IF(Worksheet!R36=0,\"\",Worksheet!R36)","v":""},"",{"$f":"IF(Worksheet!Q36=0,\"\",Worksheet!Q36)","v":""},{"$f":"IF(OR(LEFT(B10,8)=\"LED Four\",LEFT(B10,8)=\"LED Tube\",LEFT(B10,8)=\"LED Mogu\",RIGHT(A10,2)=\"In\"),H10*Worksheet!V36,\"\")","v":""},{"$f":"IF(Worksheet!V36=0,\"\",IF(OR(LEFT(B10,8)=\"LED Four\",LEFT(B10,8)=\"LED Tube\",LEFT(B10,8)=\"LED Mogu\",RIGHT(A10,2)=\"In\"),\"\",Worksheet!V36))","v":""},"",{"$f":"IF(OR(LEFT(B10,8)=\"LED Four\",LEFT(B10,8)=\"LED Tube\",LEFT(B10,8)=\"LED Mogu\",RIGHT(A10,2)=\"In\"),H10*Worksheet!W36,\"\")","v":""},{"$f":"IF(Worksheet!W36=0,\"\",IF(OR(LEFT(B10,8)=\"LED Four\",LEFT(B10,8)=\"LED Tube\",LEFT(B10,8)=\"LED Mogu\",RIGHT(A10,2)=\"In\"),\"\",Worksheet!W36))","v":""},""]
[{"$f":"IF(Worksheet!K37=0,\"\",Worksheet!K37)","v":""},{"$f":"IF(Worksheet!L37=0,\"\",Worksheet!L37)","v":""},{"$f":"IF(Worksheet!M37=0,\"\",Worksheet!M37)","v":""},{"$f":"IF(Worksheet!N37=0,\"\",Worksheet!N37)","v":""},{"$f":"IF(Worksheet!P37=0,\"\",IF(OR(LEFT(B11,8)=\"LED Four\",LEFT(B11,8)=\"LED Tube\",LEFT(B11,8)=\"LED Mogu\",RIGHT(A11,2)=\"In\"),\"\",Worksheet!P37))","v":""},{"$f":"IF(Worksheet!R37=0,\"\",Worksheet!R37)","v":""},"",{"$f":"IF(Worksheet!Q37=0,\"\",Worksheet!Q37)","v":""},{"$f":"IF(OR(LEFT(B11,8)=\"LED Four\",LEFT(B11,8)=\"LED Tube\",LEFT(B11,8)=\"LED Mogu\",RIGHT(A11,2)=\"In\"),H11*Worksheet!V37,\"\")","v":""},{"$f":"IF(Worksheet!V37=0,\"\",IF(OR(LEFT(B11,8)=\"LED Four\",LEFT(B11,8)=\"LED Tube\",LEFT(B11,8)=\"LED Mogu\",RIGHT(A11,2)=\"In\"),\"\",Worksheet!V37))","v":""},"",{"$f":"IF(OR(LEFT(B11,8)=\"LED Four\",LEFT(B11,8)=\"LED Tube\",LEFT(B11,8)=\"LED Mogu\",RIGHT(A11,2)=\"In\"),H11*Worksheet!W37,\"\")","v":""},{"$f":"IF(Worksheet!W37=0,\"\",IF(OR(LEFT(B11,8)=\"LED Four\",LEFT(B11,8)=\"LED Tube\",LEFT(B11,8)=\"LED Mogu\",RIGHT(A11,2)=\"In\"),\"\",Worksheet!W37))","v":""},""]
[{"$f":"IF(Worksheet!K38=0,\"\",Worksheet!K38)","v":""},{"$f":"IF(Worksheet!L38=0,\"\",Worksheet!L38)","v":""},{"$f":"IF(Worksheet!M38=0,\"\",Worksheet!M38)","v":""},{"$f":"IF(Worksheet!N38=0,\"\",Worksheet!N38)","v":""},{"$f":"IF(Worksheet!P38=0,\"\",IF(OR(LEFT(B12,8)=\"LED Four\",LEFT(B12,8)=\"LED Tube\",LEFT(B12,8)=\"LED Mogu\",RIGHT(A12,2)=\"In\"),\"\",Worksheet!P38))","v":""},{"$f":"IF(Worksheet!R38=0,\"\",Worksheet!R38)","v":""},"",{"$f":"IF(Worksheet!Q38=0,\"\",Worksheet!Q38)","v":""},{"$f":"IF(OR(LEFT(B12,8)=\"LED Four\",LEFT(B12,8)=\"LED Tube\",LEFT(B12,8)=\"LED Mogu\",RIGHT(A12,2)=\"In\"),H12*Worksheet!V38,\"\")","v":""},{"$f":"IF(Worksheet!V38=0,\"\",IF(OR(LEFT(B12,8)=\"LED Four\",LEFT(B12,8)=\"LED Tube\",LEFT(B12,8)=\"LED Mogu\",RIGHT(A12,2)=\"In\"),\"\",Worksheet!V38))","v":""},"",{"$f":"IF(OR(LEFT(B12,8)=\"LED Four\",LEFT(B12,8)=\"LED Tube\",LEFT(B12,8)=\"LED Mogu\",RIGHT(A12,2)=\"In\"),H12*Worksheet!W38,\"\")","v":""},{"$f":"IF(Worksheet!W38=0,\"\",IF(OR(LEFT(B12,8)=\"LED Four\",LEFT(B12,8)=\"LED Tube\",LEFT(B12,8)=\"LED Mogu\",RIGHT(A12,2)=\"In\"),\"\",Worksheet!W38))","v":""},""]
[{"$f":"IF(Worksheet!K39=0,\"\",Worksheet!K39)","v":""},{"$f":"IF(Worksheet!L39=0,\"\",Worksheet!L39)","v":""},{"$f":"IF(Worksheet!M39=0,\"\",Worksheet!M39)","v":""},{"$f":"IF(Worksheet!N39=0,\"\",Worksheet!N39)","v":""},{"$f":"IF(Worksheet!P39=0,\"\",IF(OR(LEFT(B13,8)=\"LED Four\",LEFT(B13,8)=\"LED Tube\",LEFT(B13,8)=\"LED Mogu\",RIGHT(A13,2)=\"In\"),\"\",Worksheet!P39))","v":""},{"$f":"IF(Worksheet!R39=0,\"\",Worksheet!R39)","v":""},"",{"$f":"IF(Worksheet!Q39=0,\"\",Worksheet!Q39)","v":""},{"$f":"IF(OR(LEFT(B13,8)=\"LED Four\",LEFT(B13,8)=\"LED Tube\",LEFT(B13,8)=\"LED Mogu\",RIGHT(A13,2)=\"In\"),H13*Worksheet!V39,\"\")","v":""},{"$f":"IF(Worksheet!V39=0,\"\",IF(OR(LEFT(B13,8)=\"LED Four\",LEFT(B13,8)=\"LED Tube\",LEFT(B13,8)=\"LED Mogu\",RIGHT(A13,2)=\"In\"),\"\",Worksheet!V39))","v":""},"",{"$f":"IF(OR(LEFT(B13,8)=\"LED Four\",LEFT(B13,8)=\"LED Tube\",LEFT(B13,8)=\"LED Mogu\",RIGHT(A13,2)=\"In\"),H13*Worksheet!W39,\"\")","v":""},{"$f":"IF(Worksheet!W39=0,\"\",IF(OR(LEFT(B13,8)=\"LED Four\",LEFT(B13,8)=\"LED Tube\",LEFT(B13,8)=\"LED Mogu\",RIGHT(A13,2)=\"In\"),\"\",Worksheet!W39))","v":""},""]
[{"$f":"IF(Worksheet!K40=0,\"\",Worksheet!K40)","v":""},{"$f":"IF(Worksheet!L40=0,\"\",Worksheet!L40)","v":""},{"$f":"IF(Worksheet!M40=0,\"\",Worksheet!M40)","v":""},{"$f":"IF(Worksheet!N40=0,\"\",Worksheet!N40)","v":""},{"$f":"IF(Worksheet!P40=0,\"\",IF(OR(LEFT(B14,8)=\"LED Four\",LEFT(B14,8)=\"LED Tube\",LEFT(B14,8)=\"LED Mogu\",RIGHT(A14,2)=\"In\"),\"\",Worksheet!P40))","v":""},{"$f":"IF(Worksheet!R40=0,\"\",Worksheet!R40)","v":""},"",{"$f":"IF(Worksheet!Q40=0,\"\",Worksheet!Q40)","v":""},{"$f":"IF(OR(LEFT(B14,8)=\"LED Four\",LEFT(B14,8)=\"LED Tube\",LEFT(B14,8)=\"LED Mogu\",RIGHT(A14,2)=\"In\"),H14*Worksheet!V40,\"\")","v":""},{"$f":"IF(Worksheet!V40=0,\"\",IF(OR(LEFT(B14,8)=\"LED Four\",LEFT(B14,8)=\"LED Tube\",LEFT(B14,8)=\"LED Mogu\",RIGHT(A14,2)=\"In\"),\"\",Worksheet!V40))","v":""},"",{"$f":"IF(OR(LEFT(B14,8)=\"LED Four\",LEFT(B14,8)=\"LED Tube\",LEFT(B14,8)=\"LED Mogu\",RIGHT(A14,2)=\"In\"),H14*Worksheet!W40,\"\")","v":""},{"$f":"IF(Worksheet!W40=0,\"\",IF(OR(LEFT(B14,8)=\"LED Four\",LEFT(B14,8)=\"LED Tube\",LEFT(B14,8)=\"LED Mogu\",RIGHT(A14,2)=\"In\"),\"\",Worksheet!W40))","v":""},""]
[{"$f":"IF(Worksheet!K41=0,\"\",Worksheet!K41)","v":""},{"$f":"IF(Worksheet!L41=0,\"\",Worksheet!L41)","v":""},{"$f":"IF(Worksheet!M41=0,\"\",Worksheet!M41)","v":""},{"$f":"IF(Worksheet!N41=0,\"\",Worksheet!N41)","v":""},{"$f":"IF(Worksheet!P41=0,\"\",IF(OR(LEFT(B15,8)=\"LED Four\",LEFT(B15,8)=\"LED Tube\",LEFT(B15,8)=\"LED Mogu\",RIGHT(A15,2)=\"In\"),\"\",Worksheet!P41))","v":""},{"$f":"IF(Worksheet!R41=0,\"\",Worksheet!R41)","v":""},"",{"$f":"IF(Worksheet!Q41=0,\"\",Worksheet!Q41)","v":""},{"$f":"IF(OR(LEFT(B15,8)=\"LED Four\",LEFT(B15,8)=\"LED Tube\",LEFT(B15,8)=\"LED Mogu\",RIGHT(A15,2)=\"In\"),H15*Worksheet!V41,\"\")","v":""},{"$f":"IF(Worksheet!V41=0,\"\",IF(OR(LEFT(B15,8)=\"LED Four\",LEFT(B15,8)=\"LED Tube\",LEFT(B15,8)=\"LED Mogu\",RIGHT(A15,2)=\"In\"),\"\",Worksheet!V41))","v":""},"",{"$f":"IF(OR(LEFT(B15,8)=\"LED Four\",LEFT(B15,8)=\"LED Tube\",LEFT(B15,8)=\"LED Mogu\",RIGHT(A15,2)=\"In\"),H15*Worksheet!W41,\"\")","v":""},{"$f":"IF(Worksheet!W41=0,\"\",IF(OR(LEFT(B15,8)=\"LED Four\",LEFT(B15,8)=\"LED Tube\",LEFT(B15,8)=\"LED Mogu\",RIGHT(A15,2)=\"In\"),\"\",Worksheet!W41))","v":""},""]
[{"$f":"IF(Worksheet!K42=0,\"\",Worksheet!K42)","v":""},{"$f":"IF(Worksheet!L42=0,\"\",Worksheet!L42)","v":""},{"$f":"IF(Worksheet!M42=0,\"\",Worksheet!M42)","v":""},{"$f":"IF(Worksheet!N42=0,\"\",Worksheet!N42)","v":""},{"$f":"IF(Worksheet!P42=0,\"\",IF(OR(LEFT(B16,8)=\"LED Four\",LEFT(B16,8)=\"LED Tube\",LEFT(B16,8)=\"LED Mogu\",RIGHT(A16,2)=\"In\"),\"\",Worksheet!P42))","v":""},{"$f":"IF(Worksheet!R42=0,\"\",Worksheet!R42)","v":""},"",{"$f":"IF(Worksheet!Q42=0,\"\",Worksheet!Q42)","v":""},{"$f":"IF(OR(LEFT(B16,8)=\"LED Four\",LEFT(B16,8)=\"LED Tube\",LEFT(B16,8)=\"LED Mogu\",RIGHT(A16,2)=\"In\"),H16*Worksheet!V42,\"\")","v":""},{"$f":"IF(Worksheet!V42=0,\"\",IF(OR(LEFT(B16,8)=\"LED Four\",LEFT(B16,8)=\"LED Tube\",LEFT(B16,8)=\"LED Mogu\",RIGHT(A16,2)=\"In\"),\"\",Worksheet!V42))","v":""},"",{"$f":"IF(OR(LEFT(B16,8)=\"LED Four\",LEFT(B16,8)=\"LED Tube\",LEFT(B16,8)=\"LED Mogu\",RIGHT(A16,2)=\"In\"),H16*Worksheet!W42,\"\")","v":""},{"$f":"IF(Worksheet!W42=0,\"\",IF(OR(LEFT(B16,8)=\"LED Four\",LEFT(B16,8)=\"LED Tube\",LEFT(B16,8)=\"LED Mogu\",RIGHT(A16,2)=\"In\"),\"\",Worksheet!W42))","v":""},""]
[{"$f":"IF(Worksheet!K43=0,\"\",Worksheet!K43)","v":""},{"$f":"IF(Worksheet!L43=0,\"\",Worksheet!L43)","v":""},{"$f":"IF(Worksheet!M43=0,\"\",Worksheet!M43)","v":""},{"$f":"IF(Worksheet!N43=0,\"\",Worksheet!N43)","v":""},{"$f":"IF(Worksheet!P43=0,\"\",IF(OR(LEFT(B17,8)=\"LED Four\",LEFT(B17,8)=\"LED Tube\",LEFT(B17,8)=\"LED Mogu\",RIGHT(A17,2)=\"In\"),\"\",Worksheet!P43))","v":""},{"$f":"IF(Worksheet!R43=0,\"\",Worksheet!R43)","v":""},"",{"$f":"IF(Worksheet!Q43=0,\"\",Worksheet!Q43)","v":""},{"$f":"IF(OR(LEFT(B17,8)=\"LED Four\",LEFT(B17,8)=\"LED Tube\",LEFT(B17,8)=\"LED Mogu\",RIGHT(A17,2)=\"In\"),H17*Worksheet!V43,\"\")","v":""},{"$f":"IF(Worksheet!V43=0,\"\",IF(OR(LEFT(B17,8)=\"LED Four\",LEFT(B17,8)=\"LED Tube\",LEFT(B17,8)=\"LED Mogu\",RIGHT(A17,2)=\"In\"),\"\",Worksheet!V43))","v":""},"",{"$f":"IF(OR(LEFT(B17,8)=\"LED Four\",LEFT(B17,8)=\"LED Tube\",LEFT(B17,8)=\"LED Mogu\",RIGHT(A17,2)=\"In\"),H17*Worksheet!W43,\"\")","v":""},{"$f":"IF(Worksheet!W43=0,\"\",IF(OR(LEFT(B17,8)=\"LED Four\",LEFT(B17,8)=\"LED Tube\",LEFT(B17,8)=\"LED Mogu\",RIGHT(A17,2)=\"In\"),\"\",Worksheet!W43))","v":""},""]
[{"$f":"IF(Worksheet!K44=0,\"\",Worksheet!K44)","v":""},{"$f":"IF(Worksheet!L44=0,\"\",Worksheet!L44)","v":""},{"$f":"IF(Worksheet!M44=0,\"\",Worksheet!M44)","v":""},{"$f":"IF(Worksheet!N44=0,\"\",Worksheet!N44)","v":""},{"$f":"IF(Worksheet!P44=0,\"\",IF(OR(LEFT(B18,8)=\"LED Four\",LEFT(B18,8)=\"LED Tube\",LEFT(B18,8)=\"LED Mogu\",RIGHT(A18,2)=\"In\"),\"\",Worksheet!P44))","v":""},{"$f":"IF(Worksheet!R44=0,\"\",Worksheet!R44)","v":""},"",{"$f":"IF(Worksheet!Q44=0,\"\",Worksheet!Q44)","v":""},{"$f":"IF(OR(LEFT(B18,8)=\"LED Four\",LEFT(B18,8)=\"LED Tube\",LEFT(B18,8)=\"LED Mogu\",RIGHT(A18,2)=\"In\"),H18*Worksheet!V44,\"\")","v":""},{"$f":"IF(Worksheet!V44=0,\"\",IF(OR(LEFT(B18,8)=\"LED Four\",LEFT(B18,8)=\"LED Tube\",LEFT(B18,8)=\"LED Mogu\",RIGHT(A18,2)=\"In\"),\"\",Worksheet!V44))","v":""},"",{"$f":"IF(OR(LEFT(B18,8)=\"LED Four\",LEFT(B18,8)=\"LED Tube\",LEFT(B18,8)=\"LED Mogu\",RIGHT(A18,2)=\"In\"),H18*Worksheet!W44,\"\")","v":""},{"$f":"IF(Worksheet!W44=0,\"\",IF(OR(LEFT(B18,8)=\"LED Four\",LEFT(B18,8)=\"LED Tube\",LEFT(B18,8)=\"LED Mogu\",RIGHT(A18,2)=\"In\"),\"\",Worksheet!W44))","v":""},""]
[{"$f":"IF(Worksheet!K45=0,\"\",Worksheet!K45)","v":""},{"$f":"IF(Worksheet!L45=0,\"\",Worksheet!L45)","v":""},{"$f":"IF(Worksheet!M45=0,\"\",Worksheet!M45)","v":""},{"$f":"IF(Worksheet!N45=0,\"\",Worksheet!N45)","v":""},{"$f":"IF(Worksheet!P45=0,\"\",IF(OR(LEFT(B19,8)=\"LED Four\",LEFT(B19,8)=\"LED Tube\",LEFT(B19,8)=\"LED Mogu\",RIGHT(A19,2)=\"In\"),\"\",Worksheet!P45))","v":""},{"$f":"IF(Worksheet!R45=0,\"\",Worksheet!R45)","v":""},"",{"$f":"IF(Worksheet!Q45=0,\"\",Worksheet!Q45)","v":""},{"$f":"IF(OR(LEFT(B19,8)=\"LED Four\",LEFT(B19,8)=\"LED Tube\",LEFT(B19,8)=\"LED Mogu\",RIGHT(A19,2)=\"In\"),H19*Worksheet!V45,\"\")","v":""},{"$f":"IF(Worksheet!V45=0,\"\",IF(OR(LEFT(B19,8)=\"LED Four\",LEFT(B19,8)=\"LED Tube\",LEFT(B19,8)=\"LED Mogu\",RIGHT(A19,2)=\"In\"),\"\",Worksheet!V45))","v":""},"",{"$f":"IF(OR(LEFT(B19,8)=\"LED Four\",LEFT(B19,8)=\"LED Tube\",LEFT(B19,8)=\"LED Mogu\",RIGHT(A19,2)=\"In\"),H19*Worksheet!W45,\"\")","v":""},{"$f":"IF(Worksheet!W45=0,\"\",IF(OR(LEFT(B19,8)=\"LED Four\",LEFT(B19,8)=\"LED Tube\",LEFT(B19,8)=\"LED Mogu\",RIGHT(A19,2)=\"In\"),\"\",Worksheet!W45))","v":""},""]
[{"$f":"IF(Worksheet!K46=0,\"\",Worksheet!K46)","v":""},{"$f":"IF(Worksheet!L46=0,\"\",Worksheet!L46)","v":""},{"$f":"IF(Worksheet!M46=0,\"\",Worksheet!M46)","v":""},{"$f":"IF(Worksheet!N46=0,\"\",Worksheet!N46)","v":""},{"$f":"IF(Worksheet!P46=0,\"\",IF(OR(LEFT(B20,8)=\"LED Four\",LEFT(B20,8)=\"LED Tube\",LEFT(B20,8)=\"LED Mogu\",RIGHT(A20,2)=\"In\"),\"\",Worksheet!P46))","v":""},{"$f":"IF(Worksheet!R46=0,\"\",Worksheet!R46)","v":""},"",{"$f":"IF(Worksheet!Q46=0,\"\",Worksheet!Q46)","v":""},{"$f":"IF(OR(LEFT(B20,8)=\"LED Four\",LEFT(B20,8)=\"LED Tube\",LEFT(B20,8)=\"LED Mogu\",RIGHT(A20,2)=\"In\"),H20*Worksheet!V46,\"\")","v":""},{"$f":"IF(Worksheet!V46=0,\"\",IF(OR(LEFT(B20,8)=\"LED Four\",LEFT(B20,8)=\"LED Tube\",LEFT(B20,8)=\"LED Mogu\",RIGHT(A20,2)=\"In\"),\"\",Worksheet!V46))","v":""},"",{"$f":"IF(OR(LEFT(B20,8)=\"LED Four\",LEFT(B20,8)=\"LED Tube\",LEFT(B20,8)=\"LED Mogu\",RIGHT(A20,2)=\"In\"),H20*Worksheet!W46,\"\")","v":""},{"$f":"IF(Worksheet!W46=0,\"\",IF(OR(LEFT(B20,8)=\"LED Four\",LEFT(B20,8)=\"LED Tube\",LEFT(B20,8)=\"LED Mogu\",RIGHT(A20,2)=\"In\"),\"\",Worksheet!W46))","v":""},""]
[{"$f":"IF(Worksheet!K47=0,\"\",Worksheet!K47)","v":""},{"$f":"IF(Worksheet!L47=0,\"\",Worksheet!L47)","v":""},{"$f":"IF(Worksheet!M47=0,\"\",Worksheet!M47)","v":""},{"$f":"IF(Worksheet!N47=0,\"\",Worksheet!N47)","v":""},{"$f":"IF(Worksheet!P47=0,\"\",IF(OR(LEFT(B21,8)=\"LED Four\",LEFT(B21,8)=\"LED Tube\",LEFT(B21,8)=\"LED Mogu\",RIGHT(A21,2)=\"In\"),\"\",Worksheet!P47))","v":""},{"$f":"IF(Worksheet!R47=0,\"\",Worksheet!R47)","v":""},"",{"$f":"IF(Worksheet!Q47=0,\"\",Worksheet!Q47)","v":""},{"$f":"IF(OR(LEFT(B21,8)=\"LED Four\",LEFT(B21,8)=\"LED Tube\",LEFT(B21,8)=\"LED Mogu\",RIGHT(A21,2)=\"In\"),H21*Worksheet!V47,\"\")","v":""},{"$f":"IF(Worksheet!V47=0,\"\",IF(OR(LEFT(B21,8)=\"LED Four\",LEFT(B21,8)=\"LED Tube\",LEFT(B21,8)=\"LED Mogu\",RIGHT(A21,2)=\"In\"),\"\",Worksheet!V47))","v":""},"",{"$f":"IF(OR(LEFT(B21,8)=\"LED Four\",LEFT(B21,8)=\"LED Tube\",LEFT(B21,8)=\"LED Mogu\",RIGHT(A21,2)=\"In\"),H21*Worksheet!W47,\"\")","v":""},{"$f":"IF(Worksheet!W47=0,\"\",IF(OR(LEFT(B21,8)=\"LED Four\",LEFT(B21,8)=\"LED Tube\",LEFT(B21,8)=\"LED Mogu\",RIGHT(A21,2)=\"In\"),\"\",Worksheet!W47))","v":""},""]
[{"$f":"IF(Worksheet!K48=0,\"\",Worksheet!K48)","v":""},{"$f":"IF(Worksheet!L48=0,\"\",Worksheet!L48)","v":""},{"$f":"IF(Worksheet!M48=0,\"\",Worksheet!M48)","v":""},{"$f":"IF(Worksheet!N48=0,\"\",Worksheet!N48)","v":""},{"$f":"IF(Worksheet!P48=0,\"\",IF(OR(LEFT(B22,8)=\"LED Four\",LEFT(B22,8)=\"LED Tube\",LEFT(B22,8)=\"LED Mogu\",RIGHT(A22,2)=\"In\"),\"\",Worksheet!P48))","v":""},{"$f":"IF(Worksheet!R48=0,\"\",Worksheet!R48)","v":""},"",{"$f":"IF(Worksheet!Q48=0,\"\",Worksheet!Q48)","v":""},{"$f":"IF(OR(LEFT(B22,8)=\"LED Four\",LEFT(B22,8)=\"LED Tube\",LEFT(B22,8)=\"LED Mogu\",RIGHT(A22,2)=\"In\"),H22*Worksheet!V48,\"\")","v":""},{"$f":"IF(Worksheet!V48=0,\"\",IF(OR(LEFT(B22,8)=\"LED Four\",LEFT(B22,8)=\"LED Tube\",LEFT(B22,8)=\"LED Mogu\",RIGHT(A22,2)=\"In\"),\"\",Worksheet!V48))","v":""},"",{"$f":"IF(OR(LEFT(B22,8)=\"LED Four\",LEFT(B22,8)=\"LED Tube\",LEFT(B22,8)=\"LED Mogu\",RIGHT(A22,2)=\"In\"),H22*Worksheet!W48,\"\")","v":""},{"$f":"IF(Worksheet!W48=0,\"\",IF(OR(LEFT(B22,8)=\"LED Four\",LEFT(B22,8)=\"LED Tube\",LEFT(B22,8)=\"LED Mogu\",RIGHT(A22,2)=\"In\"),\"\",Worksheet!W48))","v":""},""]
[{"$f":"IF(Worksheet!K49=0,\"\",Worksheet!K49)","v":""},{"$f":"IF(Worksheet!L49=0,\"\",Worksheet!L49)","v":""},{"$f":"IF(Worksheet!M49=0,\"\",Worksheet!M49)","v":""},{"$f":"IF(Worksheet!N49=0,\"\",Worksheet!N49)","v":""},{"$f":"IF(Worksheet!P49=0,\"\",IF(OR(LEFT(B23,8)=\"LED Four\",LEFT(B23,8)=\"LED Tube\",LEFT(B23,8)=\"LED Mogu\",RIGHT(A23,2)=\"In\"),\"\",Worksheet!P49))","v":""},{"$f":"IF(Worksheet!R49=0,\"\",Worksheet!R49)","v":""},"",{"$f":"IF(Worksheet!Q49=0,\"\",Worksheet!Q49)","v":""},{"$f":"IF(OR(LEFT(B23,8)=\"LED Four\",LEFT(B23,8)=\"LED Tube\",LEFT(B23,8)=\"LED Mogu\",RIGHT(A23,2)=\"In\"),H23*Worksheet!V49,\"\")","v":""},{"$f":"IF(Worksheet!V49=0,\"\",IF(OR(LEFT(B23,8)=\"LED Four\",LEFT(B23,8)=\"LED Tube\",LEFT(B23,8)=\"LED Mogu\",RIGHT(A23,2)=\"In\"),\"\",Worksheet!V49))","v":""},"",{"$f":"IF(OR(LEFT(B23,8)=\"LED Four\",LEFT(B23,8)=\"LED Tube\",LEFT(B23,8)=\"LED Mogu\",RIGHT(A23,2)=\"In\"),H23*Worksheet!W49,\"\")","v":""},{"$f":"IF(Worksheet!W49=0,\"\",IF(OR(LEFT(B23,8)=\"LED Four\",LEFT(B23,8)=\"LED Tube\",LEFT(B23,8)=\"LED Mogu\",RIGHT(A23,2)=\"In\"),\"\",Worksheet!W49))","v":""},""]
[{"$f":"IF(Worksheet!K50=0,\"\",Worksheet!K50)","v":""},{"$f":"IF(Worksheet!L50=0,\"\",Worksheet!L50)","v":""},{"$f":"IF(Worksheet!M50=0,\"\",Worksheet!M50)","v":""},{"$f":"IF(Worksheet!N50=0,\"\",Worksheet!N50)","v":""},{"$f":"IF(Worksheet!P50=0,\"\",IF(OR(LEFT(B24,8)=\"LED Four\",LEFT(B24,8)=\"LED Tube\",LEFT(B24,8)=\"LED Mogu\",RIGHT(A24,2)=\"In\"),\"\",Worksheet!P50))","v":""},{"$f":"IF(Worksheet!R50=0,\"\",Worksheet!R50)","v":""},"",{"$f":"IF(Worksheet!Q50=0,\"\",Worksheet!Q50)","v":""},{"$f":"IF(OR(LEFT(B24,8)=\"LED Four\",LEFT(B24,8)=\"LED Tube\",LEFT(B24,8)=\"LED Mogu\",RIGHT(A24,2)=\"In\"),H24*Worksheet!V50,\"\")","v":""},{"$f":"IF(Worksheet!V50=0,\"\",IF(OR(LEFT(B24,8)=\"LED Four\",LEFT(B24,8)=\"LED Tube\",LEFT(B24,8)=\"LED Mogu\",RIGHT(A24,2)=\"In\"),\"\",Worksheet!V50))","v":""},"",{"$f":"IF(OR(LEFT(B24,8)=\"LED Four\",LEFT(B24,8)=\"LED Tube\",LEFT(B24,8)=\"LED Mogu\",RIGHT(A24,2)=\"In\"),H24*Worksheet!W50,\"\")","v":""},{"$f":"IF(Worksheet!W50=0,\"\",IF(OR(LEFT(B24,8)=\"LED Four\",LEFT(B24,8)=\"LED Tube\",LEFT(B24,8)=\"LED Mogu\",RIGHT(A24,2)=\"In\"),\"\",Worksheet!W50))","v":""},""]
[{"$f":"IF(Worksheet!K51=0,\"\",Worksheet!K51)","v":""},{"$f":"IF(Worksheet!L51=0,\"\",Worksheet!L51)","v":""},{"$f":"IF(Worksheet!M51=0,\"\",Worksheet!M51)","v":""},{"$f":"IF(Worksheet!N51=0,\"\",Worksheet!N51)","v":""},{"$f":"IF(Worksheet!P51=0,\"\",IF(OR(LEFT(B25,8)=\"LED Four\",LEFT(B25,8)=\"LED Tube\",LEFT(B25,8)=\"LED Mogu\",RIGHT(A25,2)=\"In\"),\"\",Worksheet!P51))","v":""},{"$f":"IF(Worksheet!R51=0,\"\",Worksheet!R51)","v":""},"",{"$f":"IF(Worksheet!Q51=0,\"\",Worksheet!Q51)","v":""},{"$f":"IF(OR(LEFT(B25,8)=\"LED Four\",LEFT(B25,8)=\"LED Tube\",LEFT(B25,8)=\"LED Mogu\",RIGHT(A25,2)=\"In\"),H25*Worksheet!V51,\"\")","v":""},{"$f":"IF(Worksheet!V51=0,\"\",IF(OR(LEFT(B25,8)=\"LED Four\",LEFT(B25,8)=\"LED Tube\",LEFT(B25,8)=\"LED Mogu\",RIGHT(A25,2)=\"In\"),\"\",Worksheet!V51))","v":""},"",{"$f":"IF(OR(LEFT(B25,8)=\"LED Four\",LEFT(B25,8)=\"LED Tube\",LEFT(B25,8)=\"LED Mogu\",RIGHT(A25,2)=\"In\"),H25*Worksheet!W51,\"\")","v":""},{"$f":"IF(Worksheet!W51=0,\"\",IF(OR(LEFT(B25,8)=\"LED Four\",LEFT(B25,8)=\"LED Tube\",LEFT(B25,8)=\"LED Mogu\",RIGHT(A25,2)=\"In\"),\"\",Worksheet!W51))","v":""},""]
[{"$f":"IF(Worksheet!K52=0,\"\",Worksheet!K52)","v":""},{"$f":"IF(Worksheet!L52=0,\"\",Worksheet!L52)","v":""},{"$f":"IF(Worksheet!M52=0,\"\",Worksheet!M52)","v":""},{"$f":"IF(Worksheet!N52=0,\"\",Worksheet!N52)","v":""},{"$f":"IF(Worksheet!P52=0,\"\",IF(OR(LEFT(B26,8)=\"LED Four\",LEFT(B26,8)=\"LED Tube\",LEFT(B26,8)=\"LED Mogu\",RIGHT(A26,2)=\"In\"),\"\",Worksheet!P52))","v":""},{"$f":"IF(Worksheet!R52=0,\"\",Worksheet!R52)","v":""},"",{"$f":"IF(Worksheet!Q52=0,\"\",Worksheet!Q52)","v":""},{"$f":"IF(OR(LEFT(B26,8)=\"LED Four\",LEFT(B26,8)=\"LED Tube\",LEFT(B26,8)=\"LED Mogu\",RIGHT(A26,2)=\"In\"),H26*Worksheet!V52,\"\")","v":""},{"$f":"IF(Worksheet!V52=0,\"\",IF(OR(LEFT(B26,8)=\"LED Four\",LEFT(B26,8)=\"LED Tube\",LEFT(B26,8)=\"LED Mogu\",RIGHT(A26,2)=\"In\"),\"\",Worksheet!V52))","v":""},"",{"$f":"IF(OR(LEFT(B26,8)=\"LED Four\",LEFT(B26,8)=\"LED Tube\",LEFT(B26,8)=\"LED Mogu\",RIGHT(A26,2)=\"In\"),H26*Worksheet!W52,\"\")","v":""},{"$f":"IF(Worksheet!W52=0,\"\",IF(OR(LEFT(B26,8)=\"LED Four\",LEFT(B26,8)=\"LED Tube\",LEFT(B26,8)=\"LED Mogu\",RIGHT(A26,2)=\"In\"),\"\",Worksheet!W52))","v":""},""]
[{"$f":"IF(Worksheet!K53=0,\"\",Worksheet!K53)","v":""},{"$f":"IF(Worksheet!L53=0,\"\",Worksheet!L53)","v":""},{"$f":"IF(Worksheet!M53=0,\"\",Worksheet!M53)","v":""},{"$f":"IF(Worksheet!N53=0,\"\",Worksheet!N53)","v":""},{"$f":"IF(Worksheet!P53=0,\"\",IF(OR(LEFT(B27,8)=\"LED Four\",LEFT(B27,8)=\"LED Tube\",LEFT(B27,8)=\"LED Mogu\",RIGHT(A27,2)=\"In\"),\"\",Worksheet!P53))","v":""},{"$f":"IF(Worksheet!R53=0,\"\",Worksheet!R53)","v":""},"",{"$f":"IF(Worksheet!Q53=0,\"\",Worksheet!Q53)","v":""},{"$f":"IF(OR(LEFT(B27,8)=\"LED Four\",LEFT(B27,8)=\"LED Tube\",LEFT(B27,8)=\"LED Mogu\",RIGHT(A27,2)=\"In\"),H27*Worksheet!V53,\"\")","v":""},{"$f":"IF(Worksheet!V53=0,\"\",IF(OR(LEFT(B27,8)=\"LED Four\",LEFT(B27,8)=\"LED Tube\",LEFT(B27,8)=\"LED Mogu\",RIGHT(A27,2)=\"In\"),\"\",Worksheet!V53))","v":""},"",{"$f":"IF(OR(LEFT(B27,8)=\"LED Four\",LEFT(B27,8)=\"LED Tube\",LEFT(B27,8)=\"LED Mogu\",RIGHT(A27,2)=\"In\"),H27*Worksheet!W53,\"\")","v":""},{"$f":"IF(Worksheet!W53=0,\"\",IF(OR(LEFT(B27,8)=\"LED Four\",LEFT(B27,8)=\"LED Tube\",LEFT(B27,8)=\"LED Mogu\",RIGHT(A27,2)=\"In\"),\"\",Worksheet!W53))","v":""},""]
[{"$f":"IF(Worksheet!K54=0,\"\",Worksheet!K54)","v":""},{"$f":"IF(Worksheet!L54=0,\"\",Worksheet!L54)","v":""},{"$f":"IF(Worksheet!M54=0,\"\",Worksheet!M54)","v":""},{"$f":"IF(Worksheet!N54=0,\"\",Worksheet!N54)","v":""},{"$f":"IF(Worksheet!P54=0,\"\",IF(OR(LEFT(B28,8)=\"LED Four\",LEFT(B28,8)=\"LED Tube\",LEFT(B28,8)=\"LED Mogu\",RIGHT(A28,2)=\"In\"),\"\",Worksheet!P54))","v":""},{"$f":"IF(Worksheet!R54=0,\"\",Worksheet!R54)","v":""},"",{"$f":"IF(Worksheet!Q54=0,\"\",Worksheet!Q54)","v":""},{"$f":"IF(OR(LEFT(B28,8)=\"LED Four\",LEFT(B28,8)=\"LED Tube\",LEFT(B28,8)=\"LED Mogu\",RIGHT(A28,2)=\"In\"),H28*Worksheet!V54,\"\")","v":""},{"$f":"IF(Worksheet!V54=0,\"\",IF(OR(LEFT(B28,8)=\"LED Four\",LEFT(B28,8)=\"LED Tube\",LEFT(B28,8)=\"LED Mogu\",RIGHT(A28,2)=\"In\"),\"\",Worksheet!V54))","v":""},"",{"$f":"IF(OR(LEFT(B28,8)=\"LED Four\",LEFT(B28,8)=\"LED Tube\",LEFT(B28,8)=\"LED Mogu\",RIGHT(A28,2)=\"In\"),H28*Worksheet!W54,\"\")","v":""},{"$f":"IF(Worksheet!W54=0,\"\",IF(OR(LEFT(B28,8)=\"LED Four\",LEFT(B28,8)=\"LED Tube\",LEFT(B28,8)=\"LED Mogu\",RIGHT(A28,2)=\"In\"),\"\",Worksheet!W54))","v":""},""]
[{"$f":"IF(Worksheet!K55=0,\"\",Worksheet!K55)","v":""},{"$f":"IF(Worksheet!L55=0,\"\",Worksheet!L55)","v":""},{"$f":"IF(Worksheet!M55=0,\"\",Worksheet!M55)","v":""},{"$f":"IF(Worksheet!N55=0,\"\",Worksheet!N55)","v":""},{"$f":"IF(Worksheet!P55=0,\"\",IF(OR(LEFT(B29,8)=\"LED Four\",LEFT(B29,8)=\"LED Tube\",LEFT(B29,8)=\"LED Mogu\",RIGHT(A29,2)=\"In\"),\"\",Worksheet!P55))","v":""},{"$f":"IF(Worksheet!R55=0,\"\",Worksheet!R55)","v":""},"",{"$f":"IF(Worksheet!Q55=0,\"\",Worksheet!Q55)","v":""},{"$f":"IF(OR(LEFT(B29,8)=\"LED Four\",LEFT(B29,8)=\"LED Tube\",LEFT(B29,8)=\"LED Mogu\",RIGHT(A29,2)=\"In\"),H29*Worksheet!V55,\"\")","v":""},{"$f":"IF(Worksheet!V55=0,\"\",IF(OR(LEFT(B29,8)=\"LED Four\",LEFT(B29,8)=\"LED Tube\",LEFT(B29,8)=\"LED Mogu\",RIGHT(A29,2)=\"In\"),\"\",Worksheet!V55))","v":""},"",{"$f":"IF(OR(LEFT(B29,8)=\"LED Four\",LEFT(B29,8)=\"LED Tube\",LEFT(B29,8)=\"LED Mogu\",RIGHT(A29,2)=\"In\"),H29*Worksheet!W55,\"\")","v":""},{"$f":"IF(Worksheet!W55=0,\"\",IF(OR(LEFT(B29,8)=\"LED Four\",LEFT(B29,8)=\"LED Tube\",LEFT(B29,8)=\"LED Mogu\",RIGHT(A29,2)=\"In\"),\"\",Worksheet!W55))","v":""},""]
[{"$f":"IF(Worksheet!K56=0,\"\",Worksheet!K56)","v":""},{"$f":"IF(Worksheet!L56=0,\"\",Worksheet!L56)","v":""},{"$f":"IF(Worksheet!M56=0,\"\",Worksheet!M56)","v":""},{"$f":"IF(Worksheet!N56=0,\"\",Worksheet!N56)","v":""},{"$f":"IF(Worksheet!P56=0,\"\",IF(OR(LEFT(B30,8)=\"LED Four\",LEFT(B30,8)=\"LED Tube\",LEFT(B30,8)=\"LED Mogu\",RIGHT(A30,2)=\"In\"),\"\",Worksheet!P56))","v":""},{"$f":"IF(Worksheet!R56=0,\"\",Worksheet!R56)","v":""},"",{"$f":"IF(Worksheet!Q56=0,\"\",Worksheet!Q56)","v":""},{"$f":"IF(OR(LEFT(B30,8)=\"LED Four\",LEFT(B30,8)=\"LED Tube\",LEFT(B30,8)=\"LED Mogu\",RIGHT(A30,2)=\"In\"),H30*Worksheet!V56,\"\")","v":""},{"$f":"IF(Worksheet!V56=0,\"\",IF(OR(LEFT(B30,8)=\"LED Four\",LEFT(B30,8)=\"LED Tube\",LEFT(B30,8)=\"LED Mogu\",RIGHT(A30,2)=\"In\"),\"\",Worksheet!V56))","v":""},"",{"$f":"IF(OR(LEFT(B30,8)=\"LED Four\",LEFT(B30,8)=\"LED Tube\",LEFT(B30,8)=\"LED Mogu\",RIGHT(A30,2)=\"In\"),H30*Worksheet!W56,\"\")","v":""},{"$f":"IF(Worksheet!W56=0,\"\",IF(OR(LEFT(B30,8)=\"LED Four\",LEFT(B30,8)=\"LED Tube\",LEFT(B30,8)=\"LED Mogu\",RIGHT(A30,2)=\"In\"),\"\",Worksheet!W56))","v":""},""]
[{"$f":"IF(Worksheet!K57=0,\"\",Worksheet!K57)","v":""},{"$f":"IF(Worksheet!L57=0,\"\",Worksheet!L57)","v":""},{"$f":"IF(Worksheet!M57=0,\"\",Worksheet!M57)","v":""},{"$f":"IF(Worksheet!N57=0,\"\",Worksheet!N57)","v":""},{"$f":"IF(Worksheet!P57=0,\"\",IF(OR(LEFT(B31,8)=\"LED Four\",LEFT(B31,8)=\"LED Tube\",LEFT(B31,8)=\"LED Mogu\",RIGHT(A31,2)=\"In\"),\"\",Worksheet!P57))","v":""},{"$f":"IF(Worksheet!R57=0,\"\",Worksheet!R57)","v":""},"",{"$f":"IF(Worksheet!Q57=0,\"\",Worksheet!Q57)","v":""},{"$f":"IF(OR(LEFT(B31,8)=\"LED Four\",LEFT(B31,8)=\"LED Tube\",LEFT(B31,8)=\"LED Mogu\",RIGHT(A31,2)=\"In\"),H31*Worksheet!V57,\"\")","v":""},{"$f":"IF(Worksheet!V57=0,\"\",IF(OR(LEFT(B31,8)=\"LED Four\",LEFT(B31,8)=\"LED Tube\",LEFT(B31,8)=\"LED Mogu\",RIGHT(A31,2)=\"In\"),\"\",Worksheet!V57))","v":""},"",{"$f":"IF(OR(LEFT(B31,8)=\"LED Four\",LEFT(B31,8)=\"LED Tube\",LEFT(B31,8)=\"LED Mogu\",RIGHT(A31,2)=\"In\"),H31*Worksheet!W57,\"\")","v":""},{"$f":"IF(Worksheet!W57=0,\"\",IF(OR(LEFT(B31,8)=\"LED Four\",LEFT(B31,8)=\"LED Tube\",LEFT(B31,8)=\"LED Mogu\",RIGHT(A31,2)=\"In\"),\"\",Worksheet!W57))","v":""},""]
[{"$f":"IF(Worksheet!K58=0,\"\",Worksheet!K58)","v":""},{"$f":"IF(Worksheet!L58=0,\"\",Worksheet!L58)","v":""},{"$f":"IF(Worksheet!M58=0,\"\",Worksheet!M58)","v":""},{"$f":"IF(Worksheet!N58=0,\"\",Worksheet!N58)","v":""},{"$f":"IF(Worksheet!P58=0,\"\",IF(OR(LEFT(B32,8)=\"LED Four\",LEFT(B32,8)=\"LED Tube\",LEFT(B32,8)=\"LED Mogu\",RIGHT(A32,2)=\"In\"),\"\",Worksheet!P58))","v":""},{"$f":"IF(Worksheet!R58=0,\"\",Worksheet!R58)","v":""},"",{"$f":"IF(Worksheet!Q58=0,\"\",Worksheet!Q58)","v":""},{"$f":"IF(OR(LEFT(B32,8)=\"LED Four\",LEFT(B32,8)=\"LED Tube\",LEFT(B32,8)=\"LED Mogu\",RIGHT(A32,2)=\"In\"),H32*Worksheet!V58,\"\")","v":""},{"$f":"IF(Worksheet!V58=0,\"\",IF(OR(LEFT(B32,8)=\"LED Four\",LEFT(B32,8)=\"LED Tube\",LEFT(B32,8)=\"LED Mogu\",RIGHT(A32,2)=\"In\"),\"\",Worksheet!V58))","v":""},"",{"$f":"IF(OR(LEFT(B32,8)=\"LED Four\",LEFT(B32,8)=\"LED Tube\",LEFT(B32,8)=\"LED Mogu\",RIGHT(A32,2)=\"In\"),H32*Worksheet!W58,\"\")","v":""},{"$f":"IF(Worksheet!W58=0,\"\",IF(OR(LEFT(B32,8)=\"LED Four\",LEFT(B32,8)=\"LED Tube\",LEFT(B32,8)=\"LED Mogu\",RIGHT(A32,2)=\"In\"),\"\",Worksheet!W58))","v":""},""]
[{"$f":"IF(Worksheet!K59=0,\"\",Worksheet!K59)","v":""},{"$f":"IF(Worksheet!L59=0,\"\",Worksheet!L59)","v":""},{"$f":"IF(Worksheet!M59=0,\"\",Worksheet!M59)","v":""},{"$f":"IF(Worksheet!N59=0,\"\",Worksheet!N59)","v":""},{"$f":"IF(Worksheet!P59=0,\"\",IF(OR(LEFT(B33,8)=\"LED Four\",LEFT(B33,8)=\"LED Tube\",LEFT(B33,8)=\"LED Mogu\",RIGHT(A33,2)=\"In\"),\"\",Worksheet!P59))","v":""},{"$f":"IF(Worksheet!R59=0,\"\",Worksheet!R59)","v":""},"",{"$f":"IF(Worksheet!Q59=0,\"\",Worksheet!Q59)","v":""},{"$f":"IF(OR(LEFT(B33,8)=\"LED Four\",LEFT(B33,8)=\"LED Tube\",LEFT(B33,8)=\"LED Mogu\",RIGHT(A33,2)=\"In\"),H33*Worksheet!V59,\"\")","v":""},{"$f":"IF(Worksheet!V59=0,\"\",IF(OR(LEFT(B33,8)=\"LED Four\",LEFT(B33,8)=\"LED Tube\",LEFT(B33,8)=\"LED Mogu\",RIGHT(A33,2)=\"In\"),\"\",Worksheet!V59))","v":""},"",{"$f":"IF(OR(LEFT(B33,8)=\"LED Four\",LEFT(B33,8)=\"LED Tube\",LEFT(B33,8)=\"LED Mogu\",RIGHT(A33,2)=\"In\"),H33*Worksheet!W59,\"\")","v":""},{"$f":"IF(Worksheet!W59=0,\"\",IF(OR(LEFT(B33,8)=\"LED Four\",LEFT(B33,8)=\"LED Tube\",LEFT(B33,8)=\"LED Mogu\",RIGHT(A33,2)=\"In\"),\"\",Worksheet!W59))","v":""},""]
[{"$f":"IF(Worksheet!K60=0,\"\",Worksheet!K60)","v":""},{"$f":"IF(Worksheet!L60=0,\"\",Worksheet!L60)","v":""},{"$f":"IF(Worksheet!M60=0,\"\",Worksheet!M60)","v":""},{"$f":"IF(Worksheet!N60=0,\"\",Worksheet!N60)","v":""},{"$f":"IF(Worksheet!P60=0,\"\",IF(OR(LEFT(B34,8)=\"LED Four\",LEFT(B34,8)=\"LED Tube\",LEFT(B34,8)=\"LED Mogu\",RIGHT(A34,2)=\"In\"),\"\",Worksheet!P60))","v":""},{"$f":"IF(Worksheet!R60=0,\"\",Worksheet!R60)","v":""},"",{"$f":"IF(Worksheet!Q60=0,\"\",Worksheet!Q60)","v":""},{"$f":"IF(OR(LEFT(B34,8)=\"LED Four\",LEFT(B34,8)=\"LED Tube\",LEFT(B34,8)=\"LED Mogu\",RIGHT(A34,2)=\"In\"),H34*Worksheet!V60,\"\")","v":""},{"$f":"IF(Worksheet!V60=0,\"\",IF(OR(LEFT(B34,8)=\"LED Four\",LEFT(B34,8)=\"LED Tube\",LEFT(B34,8)=\"LED Mogu\",RIGHT(A34,2)=\"In\"),\"\",Worksheet!V60))","v":""},"",{"$f":"IF(OR(LEFT(B34,8)=\"LED Four\",LEFT(B34,8)=\"LED Tube\",LEFT(B34,8)=\"LED Mogu\",RIGHT(A34,2)=\"In\"),H34*Worksheet!W60,\"\")","v":""},{"$f":"IF(Worksheet!W60=0,\"\",IF(OR(LEFT(B34,8)=\"LED Four\",LEFT(B34,8)=\"LED Tube\",LEFT(B34,8)=\"LED Mogu\",RIGHT(A34,2)=\"In\"),\"\",Worksheet!W60))","v":""},""]
[{"$f":"IF(Worksheet!K61=0,\"\",Worksheet!K61)","v":""},{"$f":"IF(Worksheet!L61=0,\"\",Worksheet!L61)","v":""},{"$f":"IF(Worksheet!M61=0,\"\",Worksheet!M61)","v":""},{"$f":"IF(Worksheet!N61=0,\"\",Worksheet!N61)","v":""},{"$f":"IF(Worksheet!P61=0,\"\",IF(OR(LEFT(B35,8)=\"LED Four\",LEFT(B35,8)=\"LED Tube\",LEFT(B35,8)=\"LED Mogu\",RIGHT(A35,2)=\"In\"),\"\",Worksheet!P61))","v":""},{"$f":"IF(Worksheet!R61=0,\"\",Worksheet!R61)","v":""},"",{"$f":"IF(Worksheet!Q61=0,\"\",Worksheet!Q61)","v":""},{"$f":"IF(OR(LEFT(B35,8)=\"LED Four\",LEFT(B35,8)=\"LED Tube\",LEFT(B35,8)=\"LED Mogu\",RIGHT(A35,2)=\"In\"),H35*Worksheet!V61,\"\")","v":""},{"$f":"IF(Worksheet!V61=0,\"\",IF(OR(LEFT(B35,8)=\"LED Four\",LEFT(B35,8)=\"LED Tube\",LEFT(B35,8)=\"LED Mogu\",RIGHT(A35,2)=\"In\"),\"\",Worksheet!V61))","v":""},"",{"$f":"IF(OR(LEFT(B35,8)=\"LED Four\",LEFT(B35,8)=\"LED Tube\",LEFT(B35,8)=\"LED Mogu\",RIGHT(A35,2)=\"In\"),H35*Worksheet!W61,\"\")","v":""},{"$f":"IF(Worksheet!W61=0,\"\",IF(OR(LEFT(B35,8)=\"LED Four\",LEFT(B35,8)=\"LED Tube\",LEFT(B35,8)=\"LED Mogu\",RIGHT(A35,2)=\"In\"),\"\",Worksheet!W61))","v":""},""]
[{"$f":"IF(Worksheet!K62=0,\"\",Worksheet!K62)","v":""},{"$f":"IF(Worksheet!L62=0,\"\",Worksheet!L62)","v":""},{"$f":"IF(Worksheet!M62=0,\"\",Worksheet!M62)","v":""},{"$f":"IF(Worksheet!N62=0,\"\",Worksheet!N62)","v":""},{"$f":"IF(Worksheet!P62=0,\"\",IF(OR(LEFT(B36,8)=\"LED Four\",LEFT(B36,8)=\"LED Tube\",LEFT(B36,8)=\"LED Mogu\",RIGHT(A36,2)=\"In\"),\"\",Worksheet!P62))","v":""},{"$f":"IF(Worksheet!R62=0,\"\",Worksheet!R62)","v":""},"",{"$f":"IF(Worksheet!Q62=0,\"\",Worksheet!Q62)","v":""},{"$f":"IF(OR(LEFT(B36,8)=\"LED Four\",LEFT(B36,8)=\"LED Tube\",LEFT(B36,8)=\"LED Mogu\",RIGHT(A36,2)=\"In\"),H36*Worksheet!V62,\"\")","v":""},{"$f":"IF(Worksheet!V62=0,\"\",IF(OR(LEFT(B36,8)=\"LED Four\",LEFT(B36,8)=\"LED Tube\",LEFT(B36,8)=\"LED Mogu\",RIGHT(A36,2)=\"In\"),\"\",Worksheet!V62))","v":""},"",{"$f":"IF(OR(LEFT(B36,8)=\"LED Four\",LEFT(B36,8)=\"LED Tube\",LEFT(B36,8)=\"LED Mogu\",RIGHT(A36,2)=\"In\"),H36*Worksheet!W62,\"\")","v":""},{"$f":"IF(Worksheet!W62=0,\"\",IF(OR(LEFT(B36,8)=\"LED Four\",LEFT(B36,8)=\"LED Tube\",LEFT(B36,8)=\"LED Mogu\",RIGHT(A36,2)=\"In\"),\"\",Worksheet!W62))","v":""},""]
[{"$f":"IF(Worksheet!K63=0,\"\",Worksheet!K63)","v":""},{"$f":"IF(Worksheet!L63=0,\"\",Worksheet!L63)","v":""},{"$f":"IF(Worksheet!M63=0,\"\",Worksheet!M63)","v":""},{"$f":"IF(Worksheet!N63=0,\"\",Worksheet!N63)","v":""},{"$f":"IF(Worksheet!P63=0,\"\",IF(OR(LEFT(B37,8)=\"LED Four\",LEFT(B37,8)=\"LED Tube\",LEFT(B37,8)=\"LED Mogu\",RIGHT(A37,2)=\"In\"),\"\",Worksheet!P63))","v":""},{"$f":"IF(Worksheet!R63=0,\"\",Worksheet!R63)","v":""},"",{"$f":"IF(Worksheet!Q63=0,\"\",Worksheet!Q63)","v":""},{"$f":"IF(OR(LEFT(B37,8)=\"LED Four\",LEFT(B37,8)=\"LED Tube\",LEFT(B37,8)=\"LED Mogu\",RIGHT(A37,2)=\"In\"),H37*Worksheet!V63,\"\")","v":""},{"$f":"IF(Worksheet!V63=0,\"\",IF(OR(LEFT(B37,8)=\"LED Four\",LEFT(B37,8)=\"LED Tube\",LEFT(B37,8)=\"LED Mogu\",RIGHT(A37,2)=\"In\"),\"\",Worksheet!V63))","v":""},"",{"$f":"IF(OR(LEFT(B37,8)=\"LED Four\",LEFT(B37,8)=\"LED Tube\",LEFT(B37,8)=\"LED Mogu\",RIGHT(A37,2)=\"In\"),H37*Worksheet!W63,\"\")","v":""},{"$f":"IF(Worksheet!W63=0,\"\",IF(OR(LEFT(B37,8)=\"LED Four\",LEFT(B37,8)=\"LED Tube\",LEFT(B37,8)=\"LED Mogu\",RIGHT(A37,2)=\"In\"),\"\",Worksheet!W63))","v":""},""]
[{"$f":"IF(Worksheet!K64=0,\"\",Worksheet!K64)","v":""},{"$f":"IF(Worksheet!L64=0,\"\",Worksheet!L64)","v":""},{"$f":"IF(Worksheet!M64=0,\"\",Worksheet!M64)","v":""},{"$f":"IF(Worksheet!N64=0,\"\",Worksheet!N64)","v":""},{"$f":"IF(Worksheet!P64=0,\"\",IF(OR(LEFT(B38,8)=\"LED Four\",LEFT(B38,8)=\"LED Tube\",LEFT(B38,8)=\"LED Mogu\",RIGHT(A38,2)=\"In\"),\"\",Worksheet!P64))","v":""},{"$f":"IF(Worksheet!R64=0,\"\",Worksheet!R64)","v":""},"",{"$f":"IF(Worksheet!Q64=0,\"\",Worksheet!Q64)","v":""},{"$f":"IF(OR(LEFT(B38,8)=\"LED Four\",LEFT(B38,8)=\"LED Tube\",LEFT(B38,8)=\"LED Mogu\",RIGHT(A38,2)=\"In\"),H38*Worksheet!V64,\"\")","v":""},{"$f":"IF(Worksheet!V64=0,\"\",IF(OR(LEFT(B38,8)=\"LED Four\",LEFT(B38,8)=\"LED Tube\",LEFT(B38,8)=\"LED Mogu\",RIGHT(A38,2)=\"In\"),\"\",Worksheet!V64))","v":""},"",{"$f":"IF(OR(LEFT(B38,8)=\"LED Four\",LEFT(B38,8)=\"LED Tube\",LEFT(B38,8)=\"LED Mogu\",RIGHT(A38,2)=\"In\"),H38*Worksheet!W64,\"\")","v":""},{"$f":"IF(Worksheet!W64=0,\"\",IF(OR(LEFT(B38,8)=\"LED Four\",LEFT(B38,8)=\"LED Tube\",LEFT(B38,8)=\"LED Mogu\",RIGHT(A38,2)=\"In\"),\"\",Worksheet!W64))","v":""},""]
[{"$f":"IF(Worksheet!K65=0,\"\",Worksheet!K65)","v":""},{"$f":"IF(Worksheet!L65=0,\"\",Worksheet!L65)","v":""},{"$f":"IF(Worksheet!M65=0,\"\",Worksheet!M65)","v":""},{"$f":"IF(Worksheet!N65=0,\"\",Worksheet!N65)","v":""},{"$f":"IF(Worksheet!P65=0,\"\",IF(OR(LEFT(B39,8)=\"LED Four\",LEFT(B39,8)=\"LED Tube\",LEFT(B39,8)=\"LED Mogu\",RIGHT(A39,2)=\"In\"),\"\",Worksheet!P65))","v":""},{"$f":"IF(Worksheet!R65=0,\"\",Worksheet!R65)","v":""},"",{"$f":"IF(Worksheet!Q65=0,\"\",Worksheet!Q65)","v":""},{"$f":"IF(OR(LEFT(B39,8)=\"LED Four\",LEFT(B39,8)=\"LED Tube\",LEFT(B39,8)=\"LED Mogu\",RIGHT(A39,2)=\"In\"),H39*Worksheet!V65,\"\")","v":""},{"$f":"IF(Worksheet!V65=0,\"\",IF(OR(LEFT(B39,8)=\"LED Four\",LEFT(B39,8)=\"LED Tube\",LEFT(B39,8)=\"LED Mogu\",RIGHT(A39,2)=\"In\"),\"\",Worksheet!V65))","v":""},"",{"$f":"IF(OR(LEFT(B39,8)=\"LED Four\",LEFT(B39,8)=\"LED Tube\",LEFT(B39,8)=\"LED Mogu\",RIGHT(A39,2)=\"In\"),H39*Worksheet!W65,\"\")","v":""},{"$f":"IF(Worksheet!W65=0,\"\",IF(OR(LEFT(B39,8)=\"LED Four\",LEFT(B39,8)=\"LED Tube\",LEFT(B39,8)=\"LED Mogu\",RIGHT(A39,2)=\"In\"),\"\",Worksheet!W65))","v":""},""]
[{"$f":"IF(Worksheet!K66=0,\"\",Worksheet!K66)","v":""},{"$f":"IF(Worksheet!L66=0,\"\",Worksheet!L66)","v":""},{"$f":"IF(Worksheet!M66=0,\"\",Worksheet!M66)","v":""},{"$f":"IF(Worksheet!N66=0,\"\",Worksheet!N66)","v":""},{"$f":"IF(Worksheet!P66=0,\"\",IF(OR(LEFT(B40,8)=\"LED Four\",LEFT(B40,8)=\"LED Tube\",LEFT(B40,8)=\"LED Mogu\",RIGHT(A40,2)=\"In\"),\"\",Worksheet!P66))","v":""},{"$f":"IF(Worksheet!R66=0,\"\",Worksheet!R66)","v":""},"",{"$f":"IF(Worksheet!Q66=0,\"\",Worksheet!Q66)","v":""},{"$f":"IF(OR(LEFT(B40,8)=\"LED Four\",LEFT(B40,8)=\"LED Tube\",LEFT(B40,8)=\"LED Mogu\",RIGHT(A40,2)=\"In\"),H40*Worksheet!V66,\"\")","v":""},{"$f":"IF(Worksheet!V66=0,\"\",IF(OR(LEFT(B40,8)=\"LED Four\",LEFT(B40,8)=\"LED Tube\",LEFT(B40,8)=\"LED Mogu\",RIGHT(A40,2)=\"In\"),\"\",Worksheet!V66))","v":""},"",{"$f":"IF(OR(LEFT(B40,8)=\"LED Four\",LEFT(B40,8)=\"LED Tube\",LEFT(B40,8)=\"LED Mogu\",RIGHT(A40,2)=\"In\"),H40*Worksheet!W66,\"\")","v":""},{"$f":"IF(Worksheet!W66=0,\"\",IF(OR(LEFT(B40,8)=\"LED Four\",LEFT(B40,8)=\"LED Tube\",LEFT(B40,8)=\"LED Mogu\",RIGHT(A40,2)=\"In\"),\"\",Worksheet!W66))","v":""},""]
[{"$f":"IF(Worksheet!K67=0,\"\",Worksheet!K67)","v":""},{"$f":"IF(Worksheet!L67=0,\"\",Worksheet!L67)","v":""},{"$f":"IF(Worksheet!M67=0,\"\",Worksheet!M67)","v":""},{"$f":"IF(Worksheet!N67=0,\"\",Worksheet!N67)","v":""},{"$f":"IF(Worksheet!P67=0,\"\",IF(OR(LEFT(B41,8)=\"LED Four\",LEFT(B41,8)=\"LED Tube\",LEFT(B41,8)=\"LED Mogu\",RIGHT(A41,2)=\"In\"),\"\",Worksheet!P67))","v":""},{"$f":"IF(Worksheet!R67=0,\"\",Worksheet!R67)","v":""},"",{"$f":"IF(Worksheet!Q67=0,\"\",Worksheet!Q67)","v":""},{"$f":"IF(OR(LEFT(B41,8)=\"LED Four\",LEFT(B41,8)=\"LED Tube\",LEFT(B41,8)=\"LED Mogu\",RIGHT(A41,2)=\"In\"),H41*Worksheet!V67,\"\")","v":""},{"$f":"IF(Worksheet!V67=0,\"\",IF(OR(LEFT(B41,8)=\"LED Four\",LEFT(B41,8)=\"LED Tube\",LEFT(B41,8)=\"LED Mogu\",RIGHT(A41,2)=\"In\"),\"\",Worksheet!V67))","v":""},"",{"$f":"IF(OR(LEFT(B41,8)=\"LED Four\",LEFT(B41,8)=\"LED Tube\",LEFT(B41,8)=\"LED Mogu\",RIGHT(A41,2)=\"In\"),H41*Worksheet!W67,\"\")","v":""},{"$f":"IF(Worksheet!W67=0,\"\",IF(OR(LEFT(B41,8)=\"LED Four\",LEFT(B41,8)=\"LED Tube\",LEFT(B41,8)=\"LED Mogu\",RIGHT(A41,2)=\"In\"),\"\",Worksheet!W67))","v":""},""]
[{"$f":"IF(Worksheet!K68=0,\"\",Worksheet!K68)","v":""},{"$f":"IF(Worksheet!L68=0,\"\",Worksheet!L68)","v":""},{"$f":"IF(Worksheet!M68=0,\"\",Worksheet!M68)","v":""},{"$f":"IF(Worksheet!N68=0,\"\",Worksheet!N68)","v":""},{"$f":"IF(Worksheet!P68=0,\"\",IF(OR(LEFT(B42,8)=\"LED Four\",LEFT(B42,8)=\"LED Tube\",LEFT(B42,8)=\"LED Mogu\",RIGHT(A42,2)=\"In\"),\"\",Worksheet!P68))","v":""},{"$f":"IF(Worksheet!R68=0,\"\",Worksheet!R68)","v":""},"",{"$f":"IF(Worksheet!Q68=0,\"\",Worksheet!Q68)","v":""},{"$f":"IF(OR(LEFT(B42,8)=\"LED Four\",LEFT(B42,8)=\"LED Tube\",LEFT(B42,8)=\"LED Mogu\",RIGHT(A42,2)=\"In\"),H42*Worksheet!V68,\"\")","v":""},{"$f":"IF(Worksheet!V68=0,\"\",IF(OR(LEFT(B42,8)=\"LED Four\",LEFT(B42,8)=\"LED Tube\",LEFT(B42,8)=\"LED Mogu\",RIGHT(A42,2)=\"In\"),\"\",Worksheet!V68))","v":""},"",{"$f":"IF(OR(LEFT(B42,8)=\"LED Four\",LEFT(B42,8)=\"LED Tube\",LEFT(B42,8)=\"LED Mogu\",RIGHT(A42,2)=\"In\"),H42*Worksheet!W68,\"\")","v":""},{"$f":"IF(Worksheet!W68=0,\"\",IF(OR(LEFT(B42,8)=\"LED Four\",LEFT(B42,8)=\"LED Tube\",LEFT(B42,8)=\"LED Mogu\",RIGHT(A42,2)=\"In\"),\"\",Worksheet!W68))","v":""},""]
[{"$f":"IF(Worksheet!K69=0,\"\",Worksheet!K69)","v":""},{"$f":"IF(Worksheet!L69=0,\"\",Worksheet!L69)","v":""},{"$f":"IF(Worksheet!M69=0,\"\",Worksheet!M69)","v":""},{"$f":"IF(Worksheet!N69=0,\"\",Worksheet!N69)","v":""},{"$f":"IF(Worksheet!P69=0,\"\",IF(OR(LEFT(B43,8)=\"LED Four\",LEFT(B43,8)=\"LED Tube\",LEFT(B43,8)=\"LED Mogu\",RIGHT(A43,2)=\"In\"),\"\",Worksheet!P69))","v":""},{"$f":"IF(Worksheet!R69=0,\"\",Worksheet!R69)","v":""},"",{"$f":"IF(Worksheet!Q69=0,\"\",Worksheet!Q69)","v":""},{"$f":"IF(OR(LEFT(B43,8)=\"LED Four\",LEFT(B43,8)=\"LED Tube\",LEFT(B43,8)=\"LED Mogu\",RIGHT(A43,2)=\"In\"),H43*Worksheet!V69,\"\")","v":""},{"$f":"IF(Worksheet!V69=0,\"\",IF(OR(LEFT(B43,8)=\"LED Four\",LEFT(B43,8)=\"LED Tube\",LEFT(B43,8)=\"LED Mogu\",RIGHT(A43,2)=\"In\"),\"\",Worksheet!V69))","v":""},"",{"$f":"IF(OR(LEFT(B43,8)=\"LED Four\",LEFT(B43,8)=\"LED Tube\",LEFT(B43,8)=\"LED Mogu\",RIGHT(A43,2)=\"In\"),H43*Worksheet!W69,\"\")","v":""},{"$f":"IF(Worksheet!W69=0,\"\",IF(OR(LEFT(B43,8)=\"LED Four\",LEFT(B43,8)=\"LED Tube\",LEFT(B43,8)=\"LED Mogu\",RIGHT(A43,2)=\"In\"),\"\",Worksheet!W69))","v":""},""]
[{"$f":"IF(Worksheet!K70=0,\"\",Worksheet!K70)","v":""},{"$f":"IF(Worksheet!L70=0,\"\",Worksheet!L70)","v":""},{"$f":"IF(Worksheet!M70=0,\"\",Worksheet!M70)","v":""},{"$f":"IF(Worksheet!N70=0,\"\",Worksheet!N70)","v":""},{"$f":"IF(Worksheet!P70=0,\"\",IF(OR(LEFT(B44,8)=\"LED Four\",LEFT(B44,8)=\"LED Tube\",LEFT(B44,8)=\"LED Mogu\",RIGHT(A44,2)=\"In\"),\"\",Worksheet!P70))","v":""},{"$f":"IF(Worksheet!R70=0,\"\",Worksheet!R70)","v":""},"",{"$f":"IF(Worksheet!Q70=0,\"\",Worksheet!Q70)","v":""},{"$f":"IF(OR(LEFT(B44,8)=\"LED Four\",LEFT(B44,8)=\"LED Tube\",LEFT(B44,8)=\"LED Mogu\",RIGHT(A44,2)=\"In\"),H44*Worksheet!V70,\"\")","v":""},{"$f":"IF(Worksheet!V70=0,\"\",IF(OR(LEFT(B44,8)=\"LED Four\",LEFT(B44,8)=\"LED Tube\",LEFT(B44,8)=\"LED Mogu\",RIGHT(A44,2)=\"In\"),\"\",Worksheet!V70))","v":""},"",{"$f":"IF(OR(LEFT(B44,8)=\"LED Four\",LEFT(B44,8)=\"LED Tube\",LEFT(B44,8)=\"LED Mogu\",RIGHT(A44,2)=\"In\"),H44*Worksheet!W70,\"\")","v":""},{"$f":"IF(Worksheet!W70=0,\"\",IF(OR(LEFT(B44,8)=\"LED Four\",LEFT(B44,8)=\"LED Tube\",LEFT(B44,8)=\"LED Mogu\",RIGHT(A44,2)=\"In\"),\"\",Worksheet!W70))","v":""},""]
[{"$f":"IF(Worksheet!K71=0,\"\",Worksheet!K71)","v":""},{"$f":"IF(Worksheet!L71=0,\"\",Worksheet!L71)","v":""},{"$f":"IF(Worksheet!M71=0,\"\",Worksheet!M71)","v":""},{"$f":"IF(Worksheet!N71=0,\"\",Worksheet!N71)","v":""},{"$f":"IF(Worksheet!P71=0,\"\",IF(OR(LEFT(B45,8)=\"LED Four\",LEFT(B45,8)=\"LED Tube\",LEFT(B45,8)=\"LED Mogu\",RIGHT(A45,2)=\"In\"),\"\",Worksheet!P71))","v":""},{"$f":"IF(Worksheet!R71=0,\"\",Worksheet!R71)","v":""},"",{"$f":"IF(Worksheet!Q71=0,\"\",Worksheet!Q71)","v":""},{"$f":"IF(OR(LEFT(B45,8)=\"LED Four\",LEFT(B45,8)=\"LED Tube\",LEFT(B45,8)=\"LED Mogu\",RIGHT(A45,2)=\"In\"),H45*Worksheet!V71,\"\")","v":""},{"$f":"IF(Worksheet!V71=0,\"\",IF(OR(LEFT(B45,8)=\"LED Four\",LEFT(B45,8)=\"LED Tube\",LEFT(B45,8)=\"LED Mogu\",RIGHT(A45,2)=\"In\"),\"\",Worksheet!V71))","v":""},"",{"$f":"IF(OR(LEFT(B45,8)=\"LED Four\",LEFT(B45,8)=\"LED Tube\",LEFT(B45,8)=\"LED Mogu\",RIGHT(A45,2)=\"In\"),H45*Worksheet!W71,\"\")","v":""},{"$f":"IF(Worksheet!W71=0,\"\",IF(OR(LEFT(B45,8)=\"LED Four\",LEFT(B45,8)=\"LED Tube\",LEFT(B45,8)=\"LED Mogu\",RIGHT(A45,2)=\"In\"),\"\",Worksheet!W71))","v":""},""]
[{"$f":"IF(Worksheet!K72=0,\"\",Worksheet!K72)","v":""},{"$f":"IF(Worksheet!L72=0,\"\",Worksheet!L72)","v":""},{"$f":"IF(Worksheet!M72=0,\"\",Worksheet!M72)","v":""},{"$f":"IF(Worksheet!N72=0,\"\",Worksheet!N72)","v":""},{"$f":"IF(Worksheet!P72=0,\"\",IF(OR(LEFT(B46,8)=\"LED Four\",LEFT(B46,8)=\"LED Tube\",LEFT(B46,8)=\"LED Mogu\",RIGHT(A46,2)=\"In\"),\"\",Worksheet!P72))","v":""},{"$f":"IF(Worksheet!R72=0,\"\",Worksheet!R72)","v":""},"",{"$f":"IF(Worksheet!Q72=0,\"\",Worksheet!Q72)","v":""},{"$f":"IF(OR(LEFT(B46,8)=\"LED Four\",LEFT(B46,8)=\"LED Tube\",LEFT(B46,8)=\"LED Mogu\",RIGHT(A46,2)=\"In\"),H46*Worksheet!V72,\"\")","v":""},{"$f":"IF(Worksheet!V72=0,\"\",IF(OR(LEFT(B46,8)=\"LED Four\",LEFT(B46,8)=\"LED Tube\",LEFT(B46,8)=\"LED Mogu\",RIGHT(A46,2)=\"In\"),\"\",Worksheet!V72))","v":""},"",{"$f":"IF(OR(LEFT(B46,8)=\"LED Four\",LEFT(B46,8)=\"LED Tube\",LEFT(B46,8)=\"LED Mogu\",RIGHT(A46,2)=\"In\"),H46*Worksheet!W72,\"\")","v":""},{"$f":"IF(Worksheet!W72=0,\"\",IF(OR(LEFT(B46,8)=\"LED Four\",LEFT(B46,8)=\"LED Tube\",LEFT(B46,8)=\"LED Mogu\",RIGHT(A46,2)=\"In\"),\"\",Worksheet!W72))","v":""},""]
[{"$f":"IF(Worksheet!K73=0,\"\",Worksheet!K73)","v":""},{"$f":"IF(Worksheet!L73=0,\"\",Worksheet!L73)","v":""},{"$f":"IF(Worksheet!M73=0,\"\",Worksheet!M73)","v":""},{"$f":"IF(Worksheet!N73=0,\"\",Worksheet!N73)","v":""},{"$f":"IF(Worksheet!P73=0,\"\",IF(OR(LEFT(B47,8)=\"LED Four\",LEFT(B47,8)=\"LED Tube\",LEFT(B47,8)=\"LED Mogu\",RIGHT(A47,2)=\"In\"),\"\",Worksheet!P73))","v":""},{"$f":"IF(Worksheet!R73=0,\"\",Worksheet!R73)","v":""},"",{"$f":"IF(Worksheet!Q73=0,\"\",Worksheet!Q73)","v":""},{"$f":"IF(OR(LEFT(B47,8)=\"LED Four\",LEFT(B47,8)=\"LED Tube\",LEFT(B47,8)=\"LED Mogu\",RIGHT(A47,2)=\"In\"),H47*Worksheet!V73,\"\")","v":""},{"$f":"IF(Worksheet!V73=0,\"\",IF(OR(LEFT(B47,8)=\"LED Four\",LEFT(B47,8)=\"LED Tube\",LEFT(B47,8)=\"LED Mogu\",RIGHT(A47,2)=\"In\"),\"\",Worksheet!V73))","v":""},"",{"$f":"IF(OR(LEFT(B47,8)=\"LED Four\",LEFT(B47,8)=\"LED Tube\",LEFT(B47,8)=\"LED Mogu\",RIGHT(A47,2)=\"In\"),H47*Worksheet!W73,\"\")","v":""},{"$f":"IF(Worksheet!W73=0,\"\",IF(OR(LEFT(B47,8)=\"LED Four\",LEFT(B47,8)=\"LED Tube\",LEFT(B47,8)=\"LED Mogu\",RIGHT(A47,2)=\"In\"),\"\",Worksheet!W73))","v":""},""]
[{"$f":"IF(Worksheet!K74=0,\"\",Worksheet!K74)","v":""},{"$f":"IF(Worksheet!L74=0,\"\",Worksheet!L74)","v":""},{"$f":"IF(Worksheet!M74=0,\"\",Worksheet!M74)","v":""},{"$f":"IF(Worksheet!N74=0,\"\",Worksheet!N74)","v":""},{"$f":"IF(Worksheet!P74=0,\"\",IF(OR(LEFT(B48,8)=\"LED Four\",LEFT(B48,8)=\"LED Tube\",LEFT(B48,8)=\"LED Mogu\",RIGHT(A48,2)=\"In\"),\"\",Worksheet!P74))","v":""},{"$f":"IF(Worksheet!R74=0,\"\",Worksheet!R74)","v":""},"",{"$f":"IF(Worksheet!Q74=0,\"\",Worksheet!Q74)","v":""},{"$f":"IF(OR(LEFT(B48,8)=\"LED Four\",LEFT(B48,8)=\"LED Tube\",LEFT(B48,8)=\"LED Mogu\",RIGHT(A48,2)=\"In\"),H48*Worksheet!V74,\"\")","v":""},{"$f":"IF(Worksheet!V74=0,\"\",IF(OR(LEFT(B48,8)=\"LED Four\",LEFT(B48,8)=\"LED Tube\",LEFT(B48,8)=\"LED Mogu\",RIGHT(A48,2)=\"In\"),\"\",Worksheet!V74))","v":""},"",{"$f":"IF(OR(LEFT(B48,8)=\"LED Four\",LEFT(B48,8)=\"LED Tube\",LEFT(B48,8)=\"LED Mogu\",RIGHT(A48,2)=\"In\"),H48*Worksheet!W74,\"\")","v":""},{"$f":"IF(Worksheet!W74=0,\"\",IF(OR(LEFT(B48,8)=\"LED Four\",LEFT(B48,8)=\"LED Tube\",LEFT(B48,8)=\"LED Mogu\",RIGHT(A48,2)=\"In\"),\"\",Worksheet!W74))","v":""},""]
[{"$f":"IF(Worksheet!K75=0,\"\",Worksheet!K75)","v":""},{"$f":"IF(Worksheet!L75=0,\"\",Worksheet!L75)","v":""},{"$f":"IF(Worksheet!M75=0,\"\",Worksheet!M75)","v":""},{"$f":"IF(Worksheet!N75=0,\"\",Worksheet!N75)","v":""},{"$f":"IF(Worksheet!P75=0,\"\",IF(OR(LEFT(B49,8)=\"LED Four\",LEFT(B49,8)=\"LED Tube\",LEFT(B49,8)=\"LED Mogu\",RIGHT(A49,2)=\"In\"),\"\",Worksheet!P75))","v":""},{"$f":"IF(Worksheet!R75=0,\"\",Worksheet!R75)","v":""},"",{"$f":"IF(Worksheet!Q75=0,\"\",Worksheet!Q75)","v":""},{"$f":"IF(OR(LEFT(B49,8)=\"LED Four\",LEFT(B49,8)=\"LED Tube\",LEFT(B49,8)=\"LED Mogu\",RIGHT(A49,2)=\"In\"),H49*Worksheet!V75,\"\")","v":""},{"$f":"IF(Worksheet!V75=0,\"\",IF(OR(LEFT(B49,8)=\"LED Four\",LEFT(B49,8)=\"LED Tube\",LEFT(B49,8)=\"LED Mogu\",RIGHT(A49,2)=\"In\"),\"\",Worksheet!V75))","v":""},"",{"$f":"IF(OR(LEFT(B49,8)=\"LED Four\",LEFT(B49,8)=\"LED Tube\",LEFT(B49,8)=\"LED Mogu\",RIGHT(A49,2)=\"In\"),H49*Worksheet!W75,\"\")","v":""},{"$f":"IF(Worksheet!W75=0,\"\",IF(OR(LEFT(B49,8)=\"LED Four\",LEFT(B49,8)=\"LED Tube\",LEFT(B49,8)=\"LED Mogu\",RIGHT(A49,2)=\"In\"),\"\",Worksheet!W75))","v":""},""]
[{"$f":"IF(Worksheet!K76=0,\"\",Worksheet!K76)","v":""},{"$f":"IF(Worksheet!L76=0,\"\",Worksheet!L76)","v":""},{"$f":"IF(Worksheet!M76=0,\"\",Worksheet!M76)","v":""},{"$f":"IF(Worksheet!N76=0,\"\",Worksheet!N76)","v":""},{"$f":"IF(Worksheet!P76=0,\"\",IF(OR(LEFT(B50,8)=\"LED Four\",LEFT(B50,8)=\"LED Tube\",LEFT(B50,8)=\"LED Mogu\",RIGHT(A50,2)=\"In\"),\"\",Worksheet!P76))","v":""},{"$f":"IF(Worksheet!R76=0,\"\",Worksheet!R76)","v":""},"",{"$f":"IF(Worksheet!Q76=0,\"\",Worksheet!Q76)","v":""},{"$f":"IF(OR(LEFT(B50,8)=\"LED Four\",LEFT(B50,8)=\"LED Tube\",LEFT(B50,8)=\"LED Mogu\",RIGHT(A50,2)=\"In\"),H50*Worksheet!V76,\"\")","v":""},{"$f":"IF(Worksheet!V76=0,\"\",IF(OR(LEFT(B50,8)=\"LED Four\",LEFT(B50,8)=\"LED Tube\",LEFT(B50,8)=\"LED Mogu\",RIGHT(A50,2)=\"In\"),\"\",Worksheet!V76))","v":""},"",{"$f":"IF(OR(LEFT(B50,8)=\"LED Four\",LEFT(B50,8)=\"LED Tube\",LEFT(B50,8)=\"LED Mogu\",RIGHT(A50,2)=\"In\"),H50*Worksheet!W76,\"\")","v":""},{"$f":"IF(Worksheet!W76=0,\"\",IF(OR(LEFT(B50,8)=\"LED Four\",LEFT(B50,8)=\"LED Tube\",LEFT(B50,8)=\"LED Mogu\",RIGHT(A50,2)=\"In\"),\"\",Worksheet!W76))","v":""},""]
[{"$f":"IF(Worksheet!K77=0,\"\",Worksheet!K77)","v":""},{"$f":"IF(Worksheet!L77=0,\"\",Worksheet!L77)","v":""},{"$f":"IF(Worksheet!M77=0,\"\",Worksheet!M77)","v":""},{"$f":"IF(Worksheet!N77=0,\"\",Worksheet!N77)","v":""},{"$f":"IF(Worksheet!P77=0,\"\",IF(OR(LEFT(B51,8)=\"LED Four\",LEFT(B51,8)=\"LED Tube\",LEFT(B51,8)=\"LED Mogu\",RIGHT(A51,2)=\"In\"),\"\",Worksheet!P77))","v":""},{"$f":"IF(Worksheet!R77=0,\"\",Worksheet!R77)","v":""},"",{"$f":"IF(Worksheet!Q77=0,\"\",Worksheet!Q77)","v":""},{"$f":"IF(OR(LEFT(B51,8)=\"LED Four\",LEFT(B51,8)=\"LED Tube\",LEFT(B51,8)=\"LED Mogu\",RIGHT(A51,2)=\"In\"),H51*Worksheet!V77,\"\")","v":""},{"$f":"IF(Worksheet!V77=0,\"\",IF(OR(LEFT(B51,8)=\"LED Four\",LEFT(B51,8)=\"LED Tube\",LEFT(B51,8)=\"LED Mogu\",RIGHT(A51,2)=\"In\"),\"\",Worksheet!V77))","v":""},"",{"$f":"IF(OR(LEFT(B51,8)=\"LED Four\",LEFT(B51,8)=\"LED Tube\",LEFT(B51,8)=\"LED Mogu\",RIGHT(A51,2)=\"In\"),H51*Worksheet!W77,\"\")","v":""},{"$f":"IF(Worksheet!W77=0,\"\",IF(OR(LEFT(B51,8)=\"LED Four\",LEFT(B51,8)=\"LED Tube\",LEFT(B51,8)=\"LED Mogu\",RIGHT(A51,2)=\"In\"),\"\",Worksheet!W77))","v":""},""]
[{"$f":"IF(Worksheet!K78=0,\"\",Worksheet!K78)","v":""},{"$f":"IF(Worksheet!L78=0,\"\",Worksheet!L78)","v":""},{"$f":"IF(Worksheet!M78=0,\"\",Worksheet!M78)","v":""},{"$f":"IF(Worksheet!N78=0,\"\",Worksheet!N78)","v":""},{"$f":"IF(Worksheet!P78=0,\"\",IF(OR(LEFT(B52,8)=\"LED Four\",LEFT(B52,8)=\"LED Tube\",LEFT(B52,8)=\"LED Mogu\",RIGHT(A52,2)=\"In\"),\"\",Worksheet!P78))","v":""},{"$f":"IF(Worksheet!R78=0,\"\",Worksheet!R78)","v":""},"",{"$f":"IF(Worksheet!Q78=0,\"\",Worksheet!Q78)","v":""},{"$f":"IF(OR(LEFT(B52,8)=\"LED Four\",LEFT(B52,8)=\"LED Tube\",LEFT(B52,8)=\"LED Mogu\",RIGHT(A52,2)=\"In\"),H52*Worksheet!V78,\"\")","v":""},{"$f":"IF(Worksheet!V78=0,\"\",IF(OR(LEFT(B52,8)=\"LED Four\",LEFT(B52,8)=\"LED Tube\",LEFT(B52,8)=\"LED Mogu\",RIGHT(A52,2)=\"In\"),\"\",Worksheet!V78))","v":""},"",{"$f":"IF(OR(LEFT(B52,8)=\"LED Four\",LEFT(B52,8)=\"LED Tube\",LEFT(B52,8)=\"LED Mogu\",RIGHT(A52,2)=\"In\"),H52*Worksheet!W78,\"\")","v":""},{"$f":"IF(Worksheet!W78=0,\"\",IF(OR(LEFT(B52,8)=\"LED Four\",LEFT(B52,8)=\"LED Tube\",LEFT(B52,8)=\"LED Mogu\",RIGHT(A52,2)=\"In\"),\"\",Worksheet!W78))","v":""},""]
[{"$f":"IF(Worksheet!K79=0,\"\",Worksheet!K79)","v":""},{"$f":"IF(Worksheet!L79=0,\"\",Worksheet!L79)","v":""},{"$f":"IF(Worksheet!M79=0,\"\",Worksheet!M79)","v":""},{"$f":"IF(Worksheet!N79=0,\"\",Worksheet!N79)","v":""},{"$f":"IF(Worksheet!P79=0,\"\",IF(OR(LEFT(B53,8)=\"LED Four\",LEFT(B53,8)=\"LED Tube\",LEFT(B53,8)=\"LED Mogu\",RIGHT(A53,2)=\"In\"),\"\",Worksheet!P79))","v":""},{"$f":"IF(Worksheet!R79=0,\"\",Worksheet!R79)","v":""},"",{"$f":"IF(Worksheet!Q79=0,\"\",Worksheet!Q79)","v":""},{"$f":"IF(OR(LEFT(B53,8)=\"LED Four\",LEFT(B53,8)=\"LED Tube\",LEFT(B53,8)=\"LED Mogu\",RIGHT(A53,2)=\"In\"),H53*Worksheet!V79,\"\")","v":""},{"$f":"IF(Worksheet!V79=0,\"\",IF(OR(LEFT(B53,8)=\"LED Four\",LEFT(B53,8)=\"LED Tube\",LEFT(B53,8)=\"LED Mogu\",RIGHT(A53,2)=\"In\"),\"\",Worksheet!V79))","v":""},"",{"$f":"IF(OR(LEFT(B53,8)=\"LED Four\",LEFT(B53,8)=\"LED Tube\",LEFT(B53,8)=\"LED Mogu\",RIGHT(A53,2)=\"In\"),H53*Worksheet!W79,\"\")","v":""},{"$f":"IF(Worksheet!W79=0,\"\",IF(OR(LEFT(B53,8)=\"LED Four\",LEFT(B53,8)=\"LED Tube\",LEFT(B53,8)=\"LED Mogu\",RIGHT(A53,2)=\"In\"),\"\",Worksheet!W79))","v":""},""]
[{"$f":"IF(Worksheet!K80=0,\"\",Worksheet!K80)","v":""},{"$f":"IF(Worksheet!L80=0,\"\",Worksheet!L80)","v":""},{"$f":"IF(Worksheet!M80=0,\"\",Worksheet!M80)","v":""},{"$f":"IF(Worksheet!N80=0,\"\",Worksheet!N80)","v":""},{"$f":"IF(Worksheet!P80=0,\"\",IF(OR(LEFT(B54,8)=\"LED Four\",LEFT(B54,8)=\"LED Tube\",LEFT(B54,8)=\"LED Mogu\",RIGHT(A54,2)=\"In\"),\"\",Worksheet!P80))","v":""},{"$f":"IF(Worksheet!R80=0,\"\",Worksheet!R80)","v":""},"",{"$f":"IF(Worksheet!Q80=0,\"\",Worksheet!Q80)","v":""},{"$f":"IF(OR(LEFT(B54,8)=\"LED Four\",LEFT(B54,8)=\"LED Tube\",LEFT(B54,8)=\"LED Mogu\",RIGHT(A54,2)=\"In\"),H54*Worksheet!V80,\"\")","v":""},{"$f":"IF(Worksheet!V80=0,\"\",IF(OR(LEFT(B54,8)=\"LED Four\",LEFT(B54,8)=\"LED Tube\",LEFT(B54,8)=\"LED Mogu\",RIGHT(A54,2)=\"In\"),\"\",Worksheet!V80))","v":""},"",{"$f":"IF(OR(LEFT(B54,8)=\"LED Four\",LEFT(B54,8)=\"LED Tube\",LEFT(B54,8)=\"LED Mogu\",RIGHT(A54,2)=\"In\"),H54*Worksheet!W80,\"\")","v":""},{"$f":"IF(Worksheet!W80=0,\"\",IF(OR(LEFT(B54,8)=\"LED Four\",LEFT(B54,8)=\"LED Tube\",LEFT(B54,8)=\"LED Mogu\",RIGHT(A54,2)=\"In\"),\"\",Worksheet!W80))","v":""},""]
[{"$f":"IF(Worksheet!K81=0,\"\",Worksheet!K81)","v":""},{"$f":"IF(Worksheet!L81=0,\"\",Worksheet!L81)","v":""},{"$f":"IF(Worksheet!M81=0,\"\",Worksheet!M81)","v":""},{"$f":"IF(Worksheet!N81=0,\"\",Worksheet!N81)","v":""},{"$f":"IF(Worksheet!P81=0,\"\",IF(OR(LEFT(B55,8)=\"LED Four\",LEFT(B55,8)=\"LED Tube\",LEFT(B55,8)=\"LED Mogu\",RIGHT(A55,2)=\"In\"),\"\",Worksheet!P81))","v":""},{"$f":"IF(Worksheet!R81=0,\"\",Worksheet!R81)","v":""},"",{"$f":"IF(Worksheet!Q81=0,\"\",Worksheet!Q81)","v":""},{"$f":"IF(OR(LEFT(B55,8)=\"LED Four\",LEFT(B55,8)=\"LED Tube\",LEFT(B55,8)=\"LED Mogu\",RIGHT(A55,2)=\"In\"),H55*Worksheet!V81,\"\")","v":""},{"$f":"IF(Worksheet!V81=0,\"\",IF(OR(LEFT(B55,8)=\"LED Four\",LEFT(B55,8)=\"LED Tube\",LEFT(B55,8)=\"LED Mogu\",RIGHT(A55,2)=\"In\"),\"\",Worksheet!V81))","v":""},"",{"$f":"IF(OR(LEFT(B55,8)=\"LED Four\",LEFT(B55,8)=\"LED Tube\",LEFT(B55,8)=\"LED Mogu\",RIGHT(A55,2)=\"In\"),H55*Worksheet!W81,\"\")","v":""},{"$f":"IF(Worksheet!W81=0,\"\",IF(OR(LEFT(B55,8)=\"LED Four\",LEFT(B55,8)=\"LED Tube\",LEFT(B55,8)=\"LED Mogu\",RIGHT(A55,2)=\"In\"),\"\",Worksheet!W81))","v":""},""]
[{"$f":"IF(Worksheet!K82=0,\"\",Worksheet!K82)","v":""},{"$f":"IF(Worksheet!L82=0,\"\",Worksheet!L82)","v":""},{"$f":"IF(Worksheet!M82=0,\"\",Worksheet!M82)","v":""},{"$f":"IF(Worksheet!N82=0,\"\",Worksheet!N82)","v":""},{"$f":"IF(Worksheet!P82=0,\"\",IF(OR(LEFT(B56,8)=\"LED Four\",LEFT(B56,8)=\"LED Tube\",LEFT(B56,8)=\"LED Mogu\",RIGHT(A56,2)=\"In\"),\"\",Worksheet!P82))","v":""},{"$f":"IF(Worksheet!R82=0,\"\",Worksheet!R82)","v":""},"",{"$f":"IF(Worksheet!Q82=0,\"\",Worksheet!Q82)","v":""},{"$f":"IF(OR(LEFT(B56,8)=\"LED Four\",LEFT(B56,8)=\"LED Tube\",LEFT(B56,8)=\"LED Mogu\",RIGHT(A56,2)=\"In\"),H56*Worksheet!V82,\"\")","v":""},{"$f":"IF(Worksheet!V82=0,\"\",IF(OR(LEFT(B56,8)=\"LED Four\",LEFT(B56,8)=\"LED Tube\",LEFT(B56,8)=\"LED Mogu\",RIGHT(A56,2)=\"In\"),\"\",Worksheet!V82))","v":""},"",{"$f":"IF(OR(LEFT(B56,8)=\"LED Four\",LEFT(B56,8)=\"LED Tube\",LEFT(B56,8)=\"LED Mogu\",RIGHT(A56,2)=\"In\"),H56*Worksheet!W82,\"\")","v":""},{"$f":"IF(Worksheet!W82=0,\"\",IF(OR(LEFT(B56,8)=\"LED Four\",LEFT(B56,8)=\"LED Tube\",LEFT(B56,8)=\"LED Mogu\",RIGHT(A56,2)=\"In\"),\"\",Worksheet!W82))","v":""},""]
[{"$f":"IF(Worksheet!K83=0,\"\",Worksheet!K83)","v":""},{"$f":"IF(Worksheet!L83=0,\"\",Worksheet!L83)","v":""},{"$f":"IF(Worksheet!M83=0,\"\",Worksheet!M83)","v":""},{"$f":"IF(Worksheet!N83=0,\"\",Worksheet!N83)","v":""},{"$f":"IF(Worksheet!P83=0,\"\",IF(OR(LEFT(B57,8)=\"LED Four\",LEFT(B57,8)=\"LED Tube\",LEFT(B57,8)=\"LED Mogu\",RIGHT(A57,2)=\"In\"),\"\",Worksheet!P83))","v":""},{"$f":"IF(Worksheet!R83=0,\"\",Worksheet!R83)","v":""},"",{"$f":"IF(Worksheet!Q83=0,\"\",Worksheet!Q83)","v":""},{"$f":"IF(OR(LEFT(B57,8)=\"LED Four\",LEFT(B57,8)=\"LED Tube\",LEFT(B57,8)=\"LED Mogu\",RIGHT(A57,2)=\"In\"),H57*Worksheet!V83,\"\")","v":""},{"$f":"IF(Worksheet!V83=0,\"\",IF(OR(LEFT(B57,8)=\"LED Four\",LEFT(B57,8)=\"LED Tube\",LEFT(B57,8)=\"LED Mogu\",RIGHT(A57,2)=\"In\"),\"\",Worksheet!V83))","v":""},"",{"$f":"IF(OR(LEFT(B57,8)=\"LED Four\",LEFT(B57,8)=\"LED Tube\",LEFT(B57,8)=\"LED Mogu\",RIGHT(A57,2)=\"In\"),H57*Worksheet!W83,\"\")","v":""},{"$f":"IF(Worksheet!W83=0,\"\",IF(OR(LEFT(B57,8)=\"LED Four\",LEFT(B57,8)=\"LED Tube\",LEFT(B57,8)=\"LED Mogu\",RIGHT(A57,2)=\"In\"),\"\",Worksheet!W83))","v":""},""]
[{"$f":"IF(Worksheet!K84=0,\"\",Worksheet!K84)","v":""},{"$f":"IF(Worksheet!L84=0,\"\",Worksheet!L84)","v":""},{"$f":"IF(Worksheet!M84=0,\"\",Worksheet!M84)","v":""},{"$f":"IF(Worksheet!N84=0,\"\",Worksheet!N84)","v":""},{"$f":"IF(Worksheet!P84=0,\"\",IF(OR(LEFT(B58,8)=\"LED Four\",LEFT(B58,8)=\"LED Tube\",LEFT(B58,8)=\"LED Mogu\",RIGHT(A58,2)=\"In\"),\"\",Worksheet!P84))","v":""},{"$f":"IF(Worksheet!R84=0,\"\",Worksheet!R84)","v":""},"",{"$f":"IF(Worksheet!Q84=0,\"\",Worksheet!Q84)","v":""},{"$f":"IF(OR(LEFT(B58,8)=\"LED Four\",LEFT(B58,8)=\"LED Tube\",LEFT(B58,8)=\"LED Mogu\",RIGHT(A58,2)=\"In\"),H58*Worksheet!V84,\"\")","v":""},{"$f":"IF(Worksheet!V84=0,\"\",IF(OR(LEFT(B58,8)=\"LED Four\",LEFT(B58,8)=\"LED Tube\",LEFT(B58,8)=\"LED Mogu\",RIGHT(A58,2)=\"In\"),\"\",Worksheet!V84))","v":""},"",{"$f":"IF(OR(LEFT(B58,8)=\"LED Four\",LEFT(B58,8)=\"LED Tube\",LEFT(B58,8)=\"LED Mogu\",RIGHT(A58,2)=\"In\"),H58*Worksheet!W84,\"\")","v":""},{"$f":"IF(Worksheet!W84=0,\"\",IF(OR(LEFT(B58,8)=\"LED Four\",LEFT(B58,8)=\"LED Tube\",LEFT(B58,8)=\"LED Mogu\",RIGHT(A58,2)=\"In\"),\"\",Worksheet!W84))","v":""},""]
[{"$f":"IF(Worksheet!K85=0,\"\",Worksheet!K85)","v":""},{"$f":"IF(Worksheet!L85=0,\"\",Worksheet!L85)","v":""},{"$f":"IF(Worksheet!M85=0,\"\",Worksheet!M85)","v":""},{"$f":"IF(Worksheet!N85=0,\"\",Worksheet!N85)","v":""},{"$f":"IF(Worksheet!P85=0,\"\",IF(OR(LEFT(B59,8)=\"LED Four\",LEFT(B59,8)=\"LED Tube\",LEFT(B59,8)=\"LED Mogu\",RIGHT(A59,2)=\"In\"),\"\",Worksheet!P85))","v":""},{"$f":"IF(Worksheet!R85=0,\"\",Worksheet!R85)","v":""},"",{"$f":"IF(Worksheet!Q85=0,\"\",Worksheet!Q85)","v":""},{"$f":"IF(OR(LEFT(B59,8)=\"LED Four\",LEFT(B59,8)=\"LED Tube\",LEFT(B59,8)=\"LED Mogu\",RIGHT(A59,2)=\"In\"),H59*Worksheet!V85,\"\")","v":""},{"$f":"IF(Worksheet!V85=0,\"\",IF(OR(LEFT(B59,8)=\"LED Four\",LEFT(B59,8)=\"LED Tube\",LEFT(B59,8)=\"LED Mogu\",RIGHT(A59,2)=\"In\"),\"\",Worksheet!V85))","v":""},"",{"$f":"IF(OR(LEFT(B59,8)=\"LED Four\",LEFT(B59,8)=\"LED Tube\",LEFT(B59,8)=\"LED Mogu\",RIGHT(A59,2)=\"In\"),H59*Worksheet!W85,\"\")","v":""},{"$f":"IF(Worksheet!W85=0,\"\",IF(OR(LEFT(B59,8)=\"LED Four\",LEFT(B59,8)=\"LED Tube\",LEFT(B59,8)=\"LED Mogu\",RIGHT(A59,2)=\"In\"),\"\",Worksheet!W85))","v":""},""]
[{"$f":"IF(Worksheet!K86=0,\"\",Worksheet!K86)","v":""},{"$f":"IF(Worksheet!L86=0,\"\",Worksheet!L86)","v":""},{"$f":"IF(Worksheet!M86=0,\"\",Worksheet!M86)","v":""},{"$f":"IF(Worksheet!N86=0,\"\",Worksheet!N86)","v":""},{"$f":"IF(Worksheet!P86=0,\"\",IF(OR(LEFT(B60,8)=\"LED Four\",LEFT(B60,8)=\"LED Tube\",LEFT(B60,8)=\"LED Mogu\",RIGHT(A60,2)=\"In\"),\"\",Worksheet!P86))","v":""},{"$f":"IF(Worksheet!R86=0,\"\",Worksheet!R86)","v":""},"",{"$f":"IF(Worksheet!Q86=0,\"\",Worksheet!Q86)","v":""},{"$f":"IF(OR(LEFT(B60,8)=\"LED Four\",LEFT(B60,8)=\"LED Tube\",LEFT(B60,8)=\"LED Mogu\",RIGHT(A60,2)=\"In\"),H60*Worksheet!V86,\"\")","v":""},{"$f":"IF(Worksheet!V86=0,\"\",IF(OR(LEFT(B60,8)=\"LED Four\",LEFT(B60,8)=\"LED Tube\",LEFT(B60,8)=\"LED Mogu\",RIGHT(A60,2)=\"In\"),\"\",Worksheet!V86))","v":""},"",{"$f":"IF(OR(LEFT(B60,8)=\"LED Four\",LEFT(B60,8)=\"LED Tube\",LEFT(B60,8)=\"LED Mogu\",RIGHT(A60,2)=\"In\"),H60*Worksheet!W86,\"\")","v":""},{"$f":"IF(Worksheet!W86=0,\"\",IF(OR(LEFT(B60,8)=\"LED Four\",LEFT(B60,8)=\"LED Tube\",LEFT(B60,8)=\"LED Mogu\",RIGHT(A60,2)=\"In\"),\"\",Worksheet!W86))","v":""},""]
[{"$f":"IF(Worksheet!K87=0,\"\",Worksheet!K87)","v":""},{"$f":"IF(Worksheet!L87=0,\"\",Worksheet!L87)","v":""},{"$f":"IF(Worksheet!M87=0,\"\",Worksheet!M87)","v":""},{"$f":"IF(Worksheet!N87=0,\"\",Worksheet!N87)","v":""},{"$f":"IF(Worksheet!P87=0,\"\",IF(OR(LEFT(B61,8)=\"LED Four\",LEFT(B61,8)=\"LED Tube\",LEFT(B61,8)=\"LED Mogu\",RIGHT(A61,2)=\"In\"),\"\",Worksheet!P87))","v":""},{"$f":"IF(Worksheet!R87=0,\"\",Worksheet!R87)","v":""},"",{"$f":"IF(Worksheet!Q87=0,\"\",Worksheet!Q87)","v":""},{"$f":"IF(OR(LEFT(B61,8)=\"LED Four\",LEFT(B61,8)=\"LED Tube\",LEFT(B61,8)=\"LED Mogu\",RIGHT(A61,2)=\"In\"),H61*Worksheet!V87,\"\")","v":""},{"$f":"IF(Worksheet!V87=0,\"\",IF(OR(LEFT(B61,8)=\"LED Four\",LEFT(B61,8)=\"LED Tube\",LEFT(B61,8)=\"LED Mogu\",RIGHT(A61,2)=\"In\"),\"\",Worksheet!V87))","v":""},"",{"$f":"IF(OR(LEFT(B61,8)=\"LED Four\",LEFT(B61,8)=\"LED Tube\",LEFT(B61,8)=\"LED Mogu\",RIGHT(A61,2)=\"In\"),H61*Worksheet!W87,\"\")","v":""},{"$f":"IF(Worksheet!W87=0,\"\",IF(OR(LEFT(B61,8)=\"LED Four\",LEFT(B61,8)=\"LED Tube\",LEFT(B61,8)=\"LED Mogu\",RIGHT(A61,2)=\"In\"),\"\",Worksheet!W87))","v":""},""]
[{"$f":"IF(Worksheet!K88=0,\"\",Worksheet!K88)","v":""},{"$f":"IF(Worksheet!L88=0,\"\",Worksheet!L88)","v":""},{"$f":"IF(Worksheet!M88=0,\"\",Worksheet!M88)","v":""},{"$f":"IF(Worksheet!N88=0,\"\",Worksheet!N88)","v":""},{"$f":"IF(Worksheet!P88=0,\"\",IF(OR(LEFT(B62,8)=\"LED Four\",LEFT(B62,8)=\"LED Tube\",LEFT(B62,8)=\"LED Mogu\",RIGHT(A62,2)=\"In\"),\"\",Worksheet!P88))","v":""},{"$f":"IF(Worksheet!R88=0,\"\",Worksheet!R88)","v":""},"",{"$f":"IF(Worksheet!Q88=0,\"\",Worksheet!Q88)","v":""},{"$f":"IF(OR(LEFT(B62,8)=\"LED Four\",LEFT(B62,8)=\"LED Tube\",LEFT(B62,8)=\"LED Mogu\",RIGHT(A62,2)=\"In\"),H62*Worksheet!V88,\"\")","v":""},{"$f":"IF(Worksheet!V88=0,\"\",IF(OR(LEFT(B62,8)=\"LED Four\",LEFT(B62,8)=\"LED Tube\",LEFT(B62,8)=\"LED Mogu\",RIGHT(A62,2)=\"In\"),\"\",Worksheet!V88))","v":""},"",{"$f":"IF(OR(LEFT(B62,8)=\"LED Four\",LEFT(B62,8)=\"LED Tube\",LEFT(B62,8)=\"LED Mogu\",RIGHT(A62,2)=\"In\"),H62*Worksheet!W88,\"\")","v":""},{"$f":"IF(Worksheet!W88=0,\"\",IF(OR(LEFT(B62,8)=\"LED Four\",LEFT(B62,8)=\"LED Tube\",LEFT(B62,8)=\"LED Mogu\",RIGHT(A62,2)=\"In\"),\"\",Worksheet!W88))","v":""},""]
[{"$f":"IF(Worksheet!K89=0,\"\",Worksheet!K89)","v":""},{"$f":"IF(Worksheet!L89=0,\"\",Worksheet!L89)","v":""},{"$f":"IF(Worksheet!M89=0,\"\",Worksheet!M89)","v":""},{"$f":"IF(Worksheet!N89=0,\"\",Worksheet!N89)","v":""},{"$f":"IF(Worksheet!P89=0,\"\",IF(OR(LEFT(B63,8)=\"LED Four\",LEFT(B63,8)=\"LED Tube\",LEFT(B63,8)=\"LED Mogu\",RIGHT(A63,2)=\"In\"),\"\",Worksheet!P89))","v":""},{"$f":"IF(Worksheet!R89=0,\"\",Worksheet!R89)","v":""},"",{"$f":"IF(Worksheet!Q89=0,\"\",Worksheet!Q89)","v":""},{"$f":"IF(OR(LEFT(B63,8)=\"LED Four\",LEFT(B63,8)=\"LED Tube\",LEFT(B63,8)=\"LED Mogu\",RIGHT(A63,2)=\"In\"),H63*Worksheet!V89,\"\")","v":""},{"$f":"IF(Worksheet!V89=0,\"\",IF(OR(LEFT(B63,8)=\"LED Four\",LEFT(B63,8)=\"LED Tube\",LEFT(B63,8)=\"LED Mogu\",RIGHT(A63,2)=\"In\"),\"\",Worksheet!V89))","v":""},"",{"$f":"IF(OR(LEFT(B63,8)=\"LED Four\",LEFT(B63,8)=\"LED Tube\",LEFT(B63,8)=\"LED Mogu\",RIGHT(A63,2)=\"In\"),H63*Worksheet!W89,\"\")","v":""},{"$f":"IF(Worksheet!W89=0,\"\",IF(OR(LEFT(B63,8)=\"LED Four\",LEFT(B63,8)=\"LED Tube\",LEFT(B63,8)=\"LED Mogu\",RIGHT(A63,2)=\"In\"),\"\",Worksheet!W89))","v":""},""]
[{"$f":"IF(Worksheet!K90=0,\"\",Worksheet!K90)","v":""},{"$f":"IF(Worksheet!L90=0,\"\",Worksheet!L90)","v":""},{"$f":"IF(Worksheet!M90=0,\"\",Worksheet!M90)","v":""},{"$f":"IF(Worksheet!N90=0,\"\",Worksheet!N90)","v":""},{"$f":"IF(Worksheet!P90=0,\"\",IF(OR(LEFT(B64,8)=\"LED Four\",LEFT(B64,8)=\"LED Tube\",LEFT(B64,8)=\"LED Mogu\",RIGHT(A64,2)=\"In\"),\"\",Worksheet!P90))","v":""},{"$f":"IF(Worksheet!R90=0,\"\",Worksheet!R90)","v":""},"",{"$f":"IF(Worksheet!Q90=0,\"\",Worksheet!Q90)","v":""},{"$f":"IF(OR(LEFT(B64,8)=\"LED Four\",LEFT(B64,8)=\"LED Tube\",LEFT(B64,8)=\"LED Mogu\",RIGHT(A64,2)=\"In\"),H64*Worksheet!V90,\"\")","v":""},{"$f":"IF(Worksheet!V90=0,\"\",IF(OR(LEFT(B64,8)=\"LED Four\",LEFT(B64,8)=\"LED Tube\",LEFT(B64,8)=\"LED Mogu\",RIGHT(A64,2)=\"In\"),\"\",Worksheet!V90))","v":""},"",{"$f":"IF(OR(LEFT(B64,8)=\"LED Four\",LEFT(B64,8)=\"LED Tube\",LEFT(B64,8)=\"LED Mogu\",RIGHT(A64,2)=\"In\"),H64*Worksheet!W90,\"\")","v":""},{"$f":"IF(Worksheet!W90=0,\"\",IF(OR(LEFT(B64,8)=\"LED Four\",LEFT(B64,8)=\"LED Tube\",LEFT(B64,8)=\"LED Mogu\",RIGHT(A64,2)=\"In\"),\"\",Worksheet!W90))","v":""},""]
[{"$f":"IF(Worksheet!K91=0,\"\",Worksheet!K91)","v":""},{"$f":"IF(Worksheet!L91=0,\"\",Worksheet!L91)","v":""},{"$f":"IF(Worksheet!M91=0,\"\",Worksheet!M91)","v":""},{"$f":"IF(Worksheet!N91=0,\"\",Worksheet!N91)","v":""},{"$f":"IF(Worksheet!P91=0,\"\",IF(OR(LEFT(B65,8)=\"LED Four\",LEFT(B65,8)=\"LED Tube\",LEFT(B65,8)=\"LED Mogu\",RIGHT(A65,2)=\"In\"),\"\",Worksheet!P91))","v":""},{"$f":"IF(Worksheet!R91=0,\"\",Worksheet!R91)","v":""},"",{"$f":"IF(Worksheet!Q91=0,\"\",Worksheet!Q91)","v":""},{"$f":"IF(OR(LEFT(B65,8)=\"LED Four\",LEFT(B65,8)=\"LED Tube\",LEFT(B65,8)=\"LED Mogu\",RIGHT(A65,2)=\"In\"),H65*Worksheet!V91,\"\")","v":""},{"$f":"IF(Worksheet!V91=0,\"\",IF(OR(LEFT(B65,8)=\"LED Four\",LEFT(B65,8)=\"LED Tube\",LEFT(B65,8)=\"LED Mogu\",RIGHT(A65,2)=\"In\"),\"\",Worksheet!V91))","v":""},"",{"$f":"IF(OR(LEFT(B65,8)=\"LED Four\",LEFT(B65,8)=\"LED Tube\",LEFT(B65,8)=\"LED Mogu\",RIGHT(A65,2)=\"In\"),H65*Worksheet!W91,\"\")","v":""},{"$f":"IF(Worksheet!W91=0,\"\",IF(OR(LEFT(B65,8)=\"LED Four\",LEFT(B65,8)=\"LED Tube\",LEFT(B65,8)=\"LED Mogu\",RIGHT(A65,2)=\"In\"),\"\",Worksheet!W91))","v":""},""]
[{"$f":"IF(Worksheet!K92=0,\"\",Worksheet!K92)","v":""},{"$f":"IF(Worksheet!L92=0,\"\",Worksheet!L92)","v":""},{"$f":"IF(Worksheet!M92=0,\"\",Worksheet!M92)","v":""},{"$f":"IF(Worksheet!N92=0,\"\",Worksheet!N92)","v":""},{"$f":"IF(Worksheet!P92=0,\"\",IF(OR(LEFT(B66,8)=\"LED Four\",LEFT(B66,8)=\"LED Tube\",LEFT(B66,8)=\"LED Mogu\",RIGHT(A66,2)=\"In\"),\"\",Worksheet!P92))","v":""},{"$f":"IF(Worksheet!R92=0,\"\",Worksheet!R92)","v":""},"",{"$f":"IF(Worksheet!Q92=0,\"\",Worksheet!Q92)","v":""},{"$f":"IF(OR(LEFT(B66,8)=\"LED Four\",LEFT(B66,8)=\"LED Tube\",LEFT(B66,8)=\"LED Mogu\",RIGHT(A66,2)=\"In\"),H66*Worksheet!V92,\"\")","v":""},{"$f":"IF(Worksheet!V92=0,\"\",IF(OR(LEFT(B66,8)=\"LED Four\",LEFT(B66,8)=\"LED Tube\",LEFT(B66,8)=\"LED Mogu\",RIGHT(A66,2)=\"In\"),\"\",Worksheet!V92))","v":""},"",{"$f":"IF(OR(LEFT(B66,8)=\"LED Four\",LEFT(B66,8)=\"LED Tube\",LEFT(B66,8)=\"LED Mogu\",RIGHT(A66,2)=\"In\"),H66*Worksheet!W92,\"\")","v":""},{"$f":"IF(Worksheet!W92=0,\"\",IF(OR(LEFT(B66,8)=\"LED Four\",LEFT(B66,8)=\"LED Tube\",LEFT(B66,8)=\"LED Mogu\",RIGHT(A66,2)=\"In\"),\"\",Worksheet!W92))","v":""},""]
[{"$f":"IF(Worksheet!K93=0,\"\",Worksheet!K93)","v":""},{"$f":"IF(Worksheet!L93=0,\"\",Worksheet!L93)","v":""},{"$f":"IF(Worksheet!M93=0,\"\",Worksheet!M93)","v":""},{"$f":"IF(Worksheet!N93=0,\"\",Worksheet!N93)","v":""},{"$f":"IF(Worksheet!P93=0,\"\",IF(OR(LEFT(B67,8)=\"LED Four\",LEFT(B67,8)=\"LED Tube\",LEFT(B67,8)=\"LED Mogu\",RIGHT(A67,2)=\"In\"),\"\",Worksheet!P93))","v":""},{"$f":"IF(Worksheet!R93=0,\"\",Worksheet!R93)","v":""},{"$f":"IF(MAX(E67:F67)=0,\"\",MAX(E67:F67))","v":""},{"$f":"IF(Worksheet!Q93=0,\"\",Worksheet!Q93)","v":""},{"$f":"IF(OR(LEFT(B67,8)=\"LED Four\",LEFT(B67,8)=\"LED Tube\",LEFT(B67,8)=\"LED Mogu\",RIGHT(A67,2)=\"In\"),H67*Worksheet!V93,\"\")","v":""},{"$f":"IF(Worksheet!V93=0,\"\",IF(OR(LEFT(B67,8)=\"LED Four\",LEFT(B67,8)=\"LED Tube\",LEFT(B67,8)=\"LED Mogu\",RIGHT(A67,2)=\"In\"),\"\",Worksheet!V93))","v":""},{"$f":"(IF(MAX(I67:J67)=0,\"\",MAX(I67:J67)))","v":""},{"$f":"IF(OR(LEFT(B67,8)=\"LED Four\",LEFT(B67,8)=\"LED Tube\",LEFT(B67,8)=\"LED Mogu\",RIGHT(A67,2)=\"In\"),H67*Worksheet!W93,\"\")","v":""},{"$f":"IF(Worksheet!W93=0,\"\",IF(OR(LEFT(B67,8)=\"LED Four\",LEFT(B67,8)=\"LED Tube\",LEFT(B67,8)=\"LED Mogu\",RIGHT(A67,2)=\"In\"),\"\",Worksheet!W93))","v":""},{"$f":"IF(MAX(L67:M67)=0,\"\",MAX(L67:M67))","v":""}]
[{"$f":"IF(Worksheet!K94=0,\"\",Worksheet!K94)","v":""},{"$f":"IF(Worksheet!L94=0,\"\",Worksheet!L94)","v":""},{"$f":"IF(Worksheet!M94=0,\"\",Worksheet!M94)","v":""},{"$f":"IF(Worksheet!N94=0,\"\",Worksheet!N94)","v":""},{"$f":"IF(Worksheet!P94=0,\"\",IF(OR(LEFT(B68,8)=\"LED Four\",LEFT(B68,8)=\"LED Tube\",LEFT(B68,8)=\"LED Mogu\",RIGHT(A68,2)=\"In\"),\"\",Worksheet!P94))","v":""},{"$f":"IF(Worksheet!R94=0,\"\",Worksheet!R94)","v":""},"",{"$f":"IF(Worksheet!Q94=0,\"\",Worksheet!Q94)","v":""},{"$f":"IF(OR(LEFT(B68,8)=\"LED Four\",LEFT(B68,8)=\"LED Tube\",LEFT(B68,8)=\"LED Mogu\",RIGHT(A68,2)=\"In\"),H68*Worksheet!V94,\"\")","v":""},{"$f":"IF(Worksheet!V94=0,\"\",IF(OR(LEFT(B68,8)=\"LED Four\",LEFT(B68,8)=\"LED Tube\",LEFT(B68,8)=\"LED Mogu\",RIGHT(A68,2)=\"In\"),\"\",Worksheet!V94))","v":""},"",{"$f":"IF(OR(LEFT(B68,8)=\"LED Four\",LEFT(B68,8)=\"LED Tube\",LEFT(B68,8)=\"LED Mogu\",RIGHT(A68,2)=\"In\"),H68*Worksheet!W94,\"\")","v":""},{"$f":"IF(Worksheet!W94=0,\"\",IF(OR(LEFT(B68,8)=\"LED Four\",LEFT(B68,8)=\"LED Tube\",LEFT(B68,8)=\"LED Mogu\",RIGHT(A68,2)=\"In\"),\"\",Worksheet!W94))","v":""},""]
[{"$f":"IF(Worksheet!K95=0,\"\",Worksheet!K95)","v":""},{"$f":"IF(Worksheet!L95=0,\"\",Worksheet!L95)","v":""},{"$f":"IF(Worksheet!M95=0,\"\",Worksheet!M95)","v":""},{"$f":"IF(Worksheet!N95=0,\"\",Worksheet!N95)","v":""},{"$f":"IF(Worksheet!P95=0,\"\",IF(OR(LEFT(B69,8)=\"LED Four\",LEFT(B69,8)=\"LED Tube\",LEFT(B69,8)=\"LED Mogu\",RIGHT(A69,2)=\"In\"),\"\",Worksheet!P95))","v":""},{"$f":"IF(Worksheet!R95=0,\"\",Worksheet!R95)","v":""},"",{"$f":"IF(Worksheet!Q95=0,\"\",Worksheet!Q95)","v":""},{"$f":"IF(OR(LEFT(B69,8)=\"LED Four\",LEFT(B69,8)=\"LED Tube\",LEFT(B69,8)=\"LED Mogu\",RIGHT(A69,2)=\"In\"),H69*Worksheet!V95,\"\")","v":""},{"$f":"IF(Worksheet!V95=0,\"\",IF(OR(LEFT(B69,8)=\"LED Four\",LEFT(B69,8)=\"LED Tube\",LEFT(B69,8)=\"LED Mogu\",RIGHT(A69,2)=\"In\"),\"\",Worksheet!V95))","v":""},"",{"$f":"IF(OR(LEFT(B69,8)=\"LED Four\",LEFT(B69,8)=\"LED Tube\",LEFT(B69,8)=\"LED Mogu\",RIGHT(A69,2)=\"In\"),H69*Worksheet!W95,\"\")","v":""},{"$f":"IF(Worksheet!W95=0,\"\",IF(OR(LEFT(B69,8)=\"LED Four\",LEFT(B69,8)=\"LED Tube\",LEFT(B69,8)=\"LED Mogu\",RIGHT(A69,2)=\"In\"),\"\",Worksheet!W95))","v":""},""]
[{"$f":"IF(Worksheet!K96=0,\"\",Worksheet!K96)","v":""},{"$f":"IF(Worksheet!L96=0,\"\",Worksheet!L96)","v":""},{"$f":"IF(Worksheet!M96=0,\"\",Worksheet!M96)","v":""},{"$f":"IF(Worksheet!N96=0,\"\",Worksheet!N96)","v":""},{"$f":"IF(Worksheet!P96=0,\"\",IF(OR(LEFT(B70,8)=\"LED Four\",LEFT(B70,8)=\"LED Tube\",LEFT(B70,8)=\"LED Mogu\",RIGHT(A70,2)=\"In\"),\"\",Worksheet!P96))","v":""},{"$f":"IF(Worksheet!R96=0,\"\",Worksheet!R96)","v":""},"",{"$f":"IF(Worksheet!Q96=0,\"\",Worksheet!Q96)","v":""},{"$f":"IF(OR(LEFT(B70,8)=\"LED Four\",LEFT(B70,8)=\"LED Tube\",LEFT(B70,8)=\"LED Mogu\",RIGHT(A70,2)=\"In\"),H70*Worksheet!V96,\"\")","v":""},{"$f":"IF(Worksheet!V96=0,\"\",IF(OR(LEFT(B70,8)=\"LED Four\",LEFT(B70,8)=\"LED Tube\",LEFT(B70,8)=\"LED Mogu\",RIGHT(A70,2)=\"In\"),\"\",Worksheet!V96))","v":""},"",{"$f":"IF(OR(LEFT(B70,8)=\"LED Four\",LEFT(B70,8)=\"LED Tube\",LEFT(B70,8)=\"LED Mogu\",RIGHT(A70,2)=\"In\"),H70*Worksheet!W96,\"\")","v":""},{"$f":"IF(Worksheet!W96=0,\"\",IF(OR(LEFT(B70,8)=\"LED Four\",LEFT(B70,8)=\"LED Tube\",LEFT(B70,8)=\"LED Mogu\",RIGHT(A70,2)=\"In\"),\"\",Worksheet!W96))","v":""},""]
[{"$f":"IF(Worksheet!K97=0,\"\",Worksheet!K97)","v":""},{"$f":"IF(Worksheet!L97=0,\"\",Worksheet!L97)","v":""},{"$f":"IF(Worksheet!M97=0,\"\",Worksheet!M97)","v":""},{"$f":"IF(Worksheet!N97=0,\"\",Worksheet!N97)","v":""},{"$f":"IF(Worksheet!P97=0,\"\",IF(OR(LEFT(B71,8)=\"LED Four\",LEFT(B71,8)=\"LED Tube\",LEFT(B71,8)=\"LED Mogu\",RIGHT(A71,2)=\"In\"),\"\",Worksheet!P97))","v":""},{"$f":"IF(Worksheet!R97=0,\"\",Worksheet!R97)","v":""},"",{"$f":"IF(Worksheet!Q97=0,\"\",Worksheet!Q97)","v":""},{"$f":"IF(OR(LEFT(B71,8)=\"LED Four\",LEFT(B71,8)=\"LED Tube\",LEFT(B71,8)=\"LED Mogu\",RIGHT(A71,2)=\"In\"),H71*Worksheet!V97,\"\")","v":""},{"$f":"IF(Worksheet!V97=0,\"\",IF(OR(LEFT(B71,8)=\"LED Four\",LEFT(B71,8)=\"LED Tube\",LEFT(B71,8)=\"LED Mogu\",RIGHT(A71,2)=\"In\"),\"\",Worksheet!V97))","v":""},"",{"$f":"IF(OR(LEFT(B71,8)=\"LED Four\",LEFT(B71,8)=\"LED Tube\",LEFT(B71,8)=\"LED Mogu\",RIGHT(A71,2)=\"In\"),H71*Worksheet!W97,\"\")","v":""},{"$f":"IF(Worksheet!W97=0,\"\",IF(OR(LEFT(B71,8)=\"LED Four\",LEFT(B71,8)=\"LED Tube\",LEFT(B71,8)=\"LED Mogu\",RIGHT(A71,2)=\"In\"),\"\",Worksheet!W97))","v":""},""]
[{"$f":"IF(Worksheet!K98=0,\"\",Worksheet!K98)","v":""},{"$f":"IF(Worksheet!L98=0,\"\",Worksheet!L98)","v":""},{"$f":"IF(Worksheet!M98=0,\"\",Worksheet!M98)","v":""},{"$f":"IF(Worksheet!N98=0,\"\",Worksheet!N98)","v":""},{"$f":"IF(Worksheet!P98=0,\"\",IF(OR(LEFT(B72,8)=\"LED Four\",LEFT(B72,8)=\"LED Tube\",LEFT(B72,8)=\"LED Mogu\",RIGHT(A72,2)=\"In\"),\"\",Worksheet!P98))","v":""},{"$f":"IF(Worksheet!R98=0,\"\",Worksheet!R98)","v":""},"",{"$f":"IF(Worksheet!Q98=0,\"\",Worksheet!Q98)","v":""},{"$f":"IF(OR(LEFT(B72,8)=\"LED Four\",LEFT(B72,8)=\"LED Tube\",LEFT(B72,8)=\"LED Mogu\",RIGHT(A72,2)=\"In\"),H72*Worksheet!V98,\"\")","v":""},{"$f":"IF(Worksheet!V98=0,\"\",IF(OR(LEFT(B72,8)=\"LED Four\",LEFT(B72,8)=\"LED Tube\",LEFT(B72,8)=\"LED Mogu\",RIGHT(A72,2)=\"In\"),\"\",Worksheet!V98))","v":""},"",{"$f":"IF(OR(LEFT(B72,8)=\"LED Four\",LEFT(B72,8)=\"LED Tube\",LEFT(B72,8)=\"LED Mogu\",RIGHT(A72,2)=\"In\"),H72*Worksheet!W98,\"\")","v":""},{"$f":"IF(Worksheet!W98=0,\"\",IF(OR(LEFT(B72,8)=\"LED Four\",LEFT(B72,8)=\"LED Tube\",LEFT(B72,8)=\"LED Mogu\",RIGHT(A72,2)=\"In\"),\"\",Worksheet!W98))","v":""},""]
[{"$f":"IF(Worksheet!K99=0,\"\",Worksheet!K99)","v":""},{"$f":"IF(Worksheet!L99=0,\"\",Worksheet!L99)","v":""},{"$f":"IF(Worksheet!M99=0,\"\",Worksheet!M99)","v":""},{"$f":"IF(Worksheet!N99=0,\"\",Worksheet!N99)","v":""},{"$f":"IF(Worksheet!P99=0,\"\",IF(OR(LEFT(B73,8)=\"LED Four\",LEFT(B73,8)=\"LED Tube\",LEFT(B73,8)=\"LED Mogu\",RIGHT(A73,2)=\"In\"),\"\",Worksheet!P99))","v":""},{"$f":"IF(Worksheet!R99=0,\"\",Worksheet!R99)","v":""},"",{"$f":"IF(Worksheet!Q99=0,\"\",Worksheet!Q99)","v":""},{"$f":"IF(OR(LEFT(B73,8)=\"LED Four\",LEFT(B73,8)=\"LED Tube\",LEFT(B73,8)=\"LED Mogu\",RIGHT(A73,2)=\"In\"),H73*Worksheet!V99,\"\")","v":""},{"$f":"IF(Worksheet!V99=0,\"\",IF(OR(LEFT(B73,8)=\"LED Four\",LEFT(B73,8)=\"LED Tube\",LEFT(B73,8)=\"LED Mogu\",RIGHT(A73,2)=\"In\"),\"\",Worksheet!V99))","v":""},"",{"$f":"IF(OR(LEFT(B73,8)=\"LED Four\",LEFT(B73,8)=\"LED Tube\",LEFT(B73,8)=\"LED Mogu\",RIGHT(A73,2)=\"In\"),H73*Worksheet!W99,\"\")","v":""},{"$f":"IF(Worksheet!W99=0,\"\",IF(OR(LEFT(B73,8)=\"LED Four\",LEFT(B73,8)=\"LED Tube\",LEFT(B73,8)=\"LED Mogu\",RIGHT(A73,2)=\"In\"),\"\",Worksheet!W99))","v":""},""]
[{"$f":"IF(Worksheet!K100=0,\"\",Worksheet!K100)","v":""},{"$f":"IF(Worksheet!L100=0,\"\",Worksheet!L100)","v":""},{"$f":"IF(Worksheet!M100=0,\"\",Worksheet!M100)","v":""},{"$f":"IF(Worksheet!N100=0,\"\",Worksheet!N100)","v":""},{"$f":"IF(Worksheet!P100=0,\"\",IF(OR(LEFT(B74,8)=\"LED Four\",LEFT(B74,8)=\"LED Tube\",LEFT(B74,8)=\"LED Mogu\",RIGHT(A74,2)=\"In\"),\"\",Worksheet!P100))","v":""},{"$f":"IF(Worksheet!R100=0,\"\",Worksheet!R100)","v":""},"",{"$f":"IF(Worksheet!Q100=0,\"\",Worksheet!Q100)","v":""},{"$f":"IF(OR(LEFT(B74,8)=\"LED Four\",LEFT(B74,8)=\"LED Tube\",LEFT(B74,8)=\"LED Mogu\",RIGHT(A74,2)=\"In\"),H74*Worksheet!V100,\"\")","v":""},{"$f":"IF(Worksheet!V100=0,\"\",IF(OR(LEFT(B74,8)=\"LED Four\",LEFT(B74,8)=\"LED Tube\",LEFT(B74,8)=\"LED Mogu\",RIGHT(A74,2)=\"In\"),\"\",Worksheet!V100))","v":""},"",{"$f":"IF(OR(LEFT(B74,8)=\"LED Four\",LEFT(B74,8)=\"LED Tube\",LEFT(B74,8)=\"LED Mogu\",RIGHT(A74,2)=\"In\"),H74*Worksheet!W100,\"\")","v":""},{"$f":"IF(Worksheet!W100=0,\"\",IF(OR(LEFT(B74,8)=\"LED Four\",LEFT(B74,8)=\"LED Tube\",LEFT(B74,8)=\"LED Mogu\",RIGHT(A74,2)=\"In\"),\"\",Worksheet!W100))","v":""},""]
[{"$f":"IF(Worksheet!K101=0,\"\",Worksheet!K101)","v":""},{"$f":"IF(Worksheet!L101=0,\"\",Worksheet!L101)","v":""},{"$f":"IF(Worksheet!M101=0,\"\",Worksheet!M101)","v":""},{"$f":"IF(Worksheet!N101=0,\"\",Worksheet!N101)","v":""},{"$f":"IF(Worksheet!P101=0,\"\",IF(OR(LEFT(B75,8)=\"LED Four\",LEFT(B75,8)=\"LED Tube\",LEFT(B75,8)=\"LED Mogu\",RIGHT(A75,2)=\"In\"),\"\",Worksheet!P101))","v":""},{"$f":"IF(Worksheet!R101=0,\"\",Worksheet!R101)","v":""},"",{"$f":"IF(Worksheet!Q101=0,\"\",Worksheet!Q101)","v":""},{"$f":"IF(OR(LEFT(B75,8)=\"LED Four\",LEFT(B75,8)=\"LED Tube\",LEFT(B75,8)=\"LED Mogu\",RIGHT(A75,2)=\"In\"),H75*Worksheet!V101,\"\")","v":""},{"$f":"IF(Worksheet!V101=0,\"\",IF(OR(LEFT(B75,8)=\"LED Four\",LEFT(B75,8)=\"LED Tube\",LEFT(B75,8)=\"LED Mogu\",RIGHT(A75,2)=\"In\"),\"\",Worksheet!V101))","v":""},"",{"$f":"IF(OR(LEFT(B75,8)=\"LED Four\",LEFT(B75,8)=\"LED Tube\",LEFT(B75,8)=\"LED Mogu\",RIGHT(A75,2)=\"In\"),H75*Worksheet!W101,\"\")","v":""},{"$f":"IF(Worksheet!W101=0,\"\",IF(OR(LEFT(B75,8)=\"LED Four\",LEFT(B75,8)=\"LED Tube\",LEFT(B75,8)=\"LED Mogu\",RIGHT(A75,2)=\"In\"),\"\",Worksheet!W101))","v":""},""]
[{"$f":"IF(Worksheet!K102=0,\"\",Worksheet!K102)","v":""},{"$f":"IF(Worksheet!L102=0,\"\",Worksheet!L102)","v":""},{"$f":"IF(Worksheet!M102=0,\"\",Worksheet!M102)","v":""},{"$f":"IF(Worksheet!N102=0,\"\",Worksheet!N102)","v":""},{"$f":"IF(Worksheet!P102=0,\"\",IF(OR(LEFT(B76,8)=\"LED Four\",LEFT(B76,8)=\"LED Tube\",LEFT(B76,8)=\"LED Mogu\",RIGHT(A76,2)=\"In\"),\"\",Worksheet!P102))","v":""},{"$f":"IF(Worksheet!R102=0,\"\",Worksheet!R102)","v":""},"",{"$f":"IF(Worksheet!Q102=0,\"\",Worksheet!Q102)","v":""},{"$f":"IF(OR(LEFT(B76,8)=\"LED Four\",LEFT(B76,8)=\"LED Tube\",LEFT(B76,8)=\"LED Mogu\",RIGHT(A76,2)=\"In\"),H76*Worksheet!V102,\"\")","v":""},{"$f":"IF(Worksheet!V102=0,\"\",IF(OR(LEFT(B76,8)=\"LED Four\",LEFT(B76,8)=\"LED Tube\",LEFT(B76,8)=\"LED Mogu\",RIGHT(A76,2)=\"In\"),\"\",Worksheet!V102))","v":""},"",{"$f":"IF(OR(LEFT(B76,8)=\"LED Four\",LEFT(B76,8)=\"LED Tube\",LEFT(B76,8)=\"LED Mogu\",RIGHT(A76,2)=\"In\"),H76*Worksheet!W102,\"\")","v":""},{"$f":"IF(Worksheet!W102=0,\"\",IF(OR(LEFT(B76,8)=\"LED Four\",LEFT(B76,8)=\"LED Tube\",LEFT(B76,8)=\"LED Mogu\",RIGHT(A76,2)=\"In\"),\"\",Worksheet!W102))","v":""},""]
[{"$f":"IF(Worksheet!K103=0,\"\",Worksheet!K103)","v":""},{"$f":"IF(Worksheet!L103=0,\"\",Worksheet!L103)","v":""},{"$f":"IF(Worksheet!M103=0,\"\",Worksheet!M103)","v":""},{"$f":"IF(Worksheet!N103=0,\"\",Worksheet!N103)","v":""},{"$f":"IF(Worksheet!P103=0,\"\",IF(OR(LEFT(B77,8)=\"LED Four\",LEFT(B77,8)=\"LED Tube\",LEFT(B77,8)=\"LED Mogu\",RIGHT(A77,2)=\"In\"),\"\",Worksheet!P103))","v":""},{"$f":"IF(Worksheet!R103=0,\"\",Worksheet!R103)","v":""},"",{"$f":"IF(Worksheet!Q103=0,\"\",Worksheet!Q103)","v":""},{"$f":"IF(OR(LEFT(B77,8)=\"LED Four\",LEFT(B77,8)=\"LED Tube\",LEFT(B77,8)=\"LED Mogu\",RIGHT(A77,2)=\"In\"),H77*Worksheet!V103,\"\")","v":""},{"$f":"IF(Worksheet!V103=0,\"\",IF(OR(LEFT(B77,8)=\"LED Four\",LEFT(B77,8)=\"LED Tube\",LEFT(B77,8)=\"LED Mogu\",RIGHT(A77,2)=\"In\"),\"\",Worksheet!V103))","v":""},"",{"$f":"IF(OR(LEFT(B77,8)=\"LED Four\",LEFT(B77,8)=\"LED Tube\",LEFT(B77,8)=\"LED Mogu\",RIGHT(A77,2)=\"In\"),H77*Worksheet!W103,\"\")","v":""},{"$f":"IF(Worksheet!W103=0,\"\",IF(OR(LEFT(B77,8)=\"LED Four\",LEFT(B77,8)=\"LED Tube\",LEFT(B77,8)=\"LED Mogu\",RIGHT(A77,2)=\"In\"),\"\",Worksheet!W103))","v":""},""]
[{"$f":"IF(Worksheet!K104=0,\"\",Worksheet!K104)","v":""},{"$f":"IF(Worksheet!L104=0,\"\",Worksheet!L104)","v":""},{"$f":"IF(Worksheet!M104=0,\"\",Worksheet!M104)","v":""},{"$f":"IF(Worksheet!N104=0,\"\",Worksheet!N104)","v":""},{"$f":"IF(Worksheet!P104=0,\"\",IF(OR(LEFT(B78,8)=\"LED Four\",LEFT(B78,8)=\"LED Tube\",LEFT(B78,8)=\"LED Mogu\",RIGHT(A78,2)=\"In\"),\"\",Worksheet!P104))","v":""},{"$f":"IF(Worksheet!R104=0,\"\",Worksheet!R104)","v":""},"",{"$f":"IF(Worksheet!Q104=0,\"\",Worksheet!Q104)","v":""},{"$f":"IF(OR(LEFT(B78,8)=\"LED Four\",LEFT(B78,8)=\"LED Tube\",LEFT(B78,8)=\"LED Mogu\",RIGHT(A78,2)=\"In\"),H78*Worksheet!V104,\"\")","v":""},{"$f":"IF(Worksheet!V104=0,\"\",IF(OR(LEFT(B78,8)=\"LED Four\",LEFT(B78,8)=\"LED Tube\",LEFT(B78,8)=\"LED Mogu\",RIGHT(A78,2)=\"In\"),\"\",Worksheet!V104))","v":""},"",{"$f":"IF(OR(LEFT(B78,8)=\"LED Four\",LEFT(B78,8)=\"LED Tube\",LEFT(B78,8)=\"LED Mogu\",RIGHT(A78,2)=\"In\"),H78*Worksheet!W104,\"\")","v":""},{"$f":"IF(Worksheet!W104=0,\"\",IF(OR(LEFT(B78,8)=\"LED Four\",LEFT(B78,8)=\"LED Tube\",LEFT(B78,8)=\"LED Mogu\",RIGHT(A78,2)=\"In\"),\"\",Worksheet!W104))","v":""},""]
[{"$f":"IF(Worksheet!K105=0,\"\",Worksheet!K105)","v":""},{"$f":"IF(Worksheet!L105=0,\"\",Worksheet!L105)","v":""},{"$f":"IF(Worksheet!M105=0,\"\",Worksheet!M105)","v":""},{"$f":"IF(Worksheet!N105=0,\"\",Worksheet!N105)","v":""},{"$f":"IF(Worksheet!P105=0,\"\",IF(OR(LEFT(B79,8)=\"LED Four\",LEFT(B79,8)=\"LED Tube\",LEFT(B79,8)=\"LED Mogu\",RIGHT(A79,2)=\"In\"),\"\",Worksheet!P105))","v":""},{"$f":"IF(Worksheet!R105=0,\"\",Worksheet!R105)","v":""},"",{"$f":"IF(Worksheet!Q105=0,\"\",Worksheet!Q105)","v":""},{"$f":"IF(OR(LEFT(B79,8)=\"LED Four\",LEFT(B79,8)=\"LED Tube\",LEFT(B79,8)=\"LED Mogu\",RIGHT(A79,2)=\"In\"),H79*Worksheet!V105,\"\")","v":""},{"$f":"IF(Worksheet!V105=0,\"\",IF(OR(LEFT(B79,8)=\"LED Four\",LEFT(B79,8)=\"LED Tube\",LEFT(B79,8)=\"LED Mogu\",RIGHT(A79,2)=\"In\"),\"\",Worksheet!V105))","v":""},"",{"$f":"IF(OR(LEFT(B79,8)=\"LED Four\",LEFT(B79,8)=\"LED Tube\",LEFT(B79,8)=\"LED Mogu\",RIGHT(A79,2)=\"In\"),H79*Worksheet!W105,\"\")","v":""},{"$f":"IF(Worksheet!W105=0,\"\",IF(OR(LEFT(B79,8)=\"LED Four\",LEFT(B79,8)=\"LED Tube\",LEFT(B79,8)=\"LED Mogu\",RIGHT(A79,2)=\"In\"),\"\",Worksheet!W105))","v":""},""]
[{"$f":"IF(Worksheet!K106=0,\"\",Worksheet!K106)","v":""},{"$f":"IF(Worksheet!L106=0,\"\",Worksheet!L106)","v":""},{"$f":"IF(Worksheet!M106=0,\"\",Worksheet!M106)","v":""},{"$f":"IF(Worksheet!N106=0,\"\",Worksheet!N106)","v":""},{"$f":"IF(Worksheet!P106=0,\"\",IF(OR(LEFT(B80,8)=\"LED Four\",LEFT(B80,8)=\"LED Tube\",LEFT(B80,8)=\"LED Mogu\",RIGHT(A80,2)=\"In\"),\"\",Worksheet!P106))","v":""},{"$f":"IF(Worksheet!R106=0,\"\",Worksheet!R106)","v":""},"",{"$f":"IF(Worksheet!Q106=0,\"\",Worksheet!Q106)","v":""},{"$f":"IF(OR(LEFT(B80,8)=\"LED Four\",LEFT(B80,8)=\"LED Tube\",LEFT(B80,8)=\"LED Mogu\",RIGHT(A80,2)=\"In\"),H80*Worksheet!V106,\"\")","v":""},{"$f":"IF(Worksheet!V106=0,\"\",IF(OR(LEFT(B80,8)=\"LED Four\",LEFT(B80,8)=\"LED Tube\",LEFT(B80,8)=\"LED Mogu\",RIGHT(A80,2)=\"In\"),\"\",Worksheet!V106))","v":""},"",{"$f":"IF(OR(LEFT(B80,8)=\"LED Four\",LEFT(B80,8)=\"LED Tube\",LEFT(B80,8)=\"LED Mogu\",RIGHT(A80,2)=\"In\"),H80*Worksheet!W106,\"\")","v":""},{"$f":"IF(Worksheet!W106=0,\"\",IF(OR(LEFT(B80,8)=\"LED Four\",LEFT(B80,8)=\"LED Tube\",LEFT(B80,8)=\"LED Mogu\",RIGHT(A80,2)=\"In\"),\"\",Worksheet!W106))","v":""},""]
[{"$f":"IF(Worksheet!K107=0,\"\",Worksheet!K107)","v":""},{"$f":"IF(Worksheet!L107=0,\"\",Worksheet!L107)","v":""},{"$f":"IF(Worksheet!M107=0,\"\",Worksheet!M107)","v":""},{"$f":"IF(Worksheet!N107=0,\"\",Worksheet!N107)","v":""},{"$f":"IF(Worksheet!P107=0,\"\",IF(OR(LEFT(B81,8)=\"LED Four\",LEFT(B81,8)=\"LED Tube\",LEFT(B81,8)=\"LED Mogu\",RIGHT(A81,2)=\"In\"),\"\",Worksheet!P107))","v":""},{"$f":"IF(Worksheet!R107=0,\"\",Worksheet!R107)","v":""},"",{"$f":"IF(Worksheet!Q107=0,\"\",Worksheet!Q107)","v":""},{"$f":"IF(OR(LEFT(B81,8)=\"LED Four\",LEFT(B81,8)=\"LED Tube\",LEFT(B81,8)=\"LED Mogu\",RIGHT(A81,2)=\"In\"),H81*Worksheet!V107,\"\")","v":""},{"$f":"IF(Worksheet!V107=0,\"\",IF(OR(LEFT(B81,8)=\"LED Four\",LEFT(B81,8)=\"LED Tube\",LEFT(B81,8)=\"LED Mogu\",RIGHT(A81,2)=\"In\"),\"\",Worksheet!V107))","v":""},"",{"$f":"IF(OR(LEFT(B81,8)=\"LED Four\",LEFT(B81,8)=\"LED Tube\",LEFT(B81,8)=\"LED Mogu\",RIGHT(A81,2)=\"In\"),H81*Worksheet!W107,\"\")","v":""},{"$f":"IF(Worksheet!W107=0,\"\",IF(OR(LEFT(B81,8)=\"LED Four\",LEFT(B81,8)=\"LED Tube\",LEFT(B81,8)=\"LED Mogu\",RIGHT(A81,2)=\"In\"),\"\",Worksheet!W107))","v":""},""]
[{"$f":"IF(Worksheet!K108=0,\"\",Worksheet!K108)","v":""},{"$f":"IF(Worksheet!L108=0,\"\",Worksheet!L108)","v":""},{"$f":"IF(Worksheet!M108=0,\"\",Worksheet!M108)","v":""},{"$f":"IF(Worksheet!N108=0,\"\",Worksheet!N108)","v":""},{"$f":"IF(Worksheet!P108=0,\"\",IF(OR(LEFT(B82,8)=\"LED Four\",LEFT(B82,8)=\"LED Tube\",LEFT(B82,8)=\"LED Mogu\",RIGHT(A82,2)=\"In\"),\"\",Worksheet!P108))","v":""},{"$f":"IF(Worksheet!R108=0,\"\",Worksheet!R108)","v":""},"",{"$f":"IF(Worksheet!Q108=0,\"\",Worksheet!Q108)","v":""},{"$f":"IF(OR(LEFT(B82,8)=\"LED Four\",LEFT(B82,8)=\"LED Tube\",LEFT(B82,8)=\"LED Mogu\",RIGHT(A82,2)=\"In\"),H82*Worksheet!V108,\"\")","v":""},{"$f":"IF(Worksheet!V108=0,\"\",IF(OR(LEFT(B82,8)=\"LED Four\",LEFT(B82,8)=\"LED Tube\",LEFT(B82,8)=\"LED Mogu\",RIGHT(A82,2)=\"In\"),\"\",Worksheet!V108))","v":""},"",{"$f":"IF(OR(LEFT(B82,8)=\"LED Four\",LEFT(B82,8)=\"LED Tube\",LEFT(B82,8)=\"LED Mogu\",RIGHT(A82,2)=\"In\"),H82*Worksheet!W108,\"\")","v":""},{"$f":"IF(Worksheet!W108=0,\"\",IF(OR(LEFT(B82,8)=\"LED Four\",LEFT(B82,8)=\"LED Tube\",LEFT(B82,8)=\"LED Mogu\",RIGHT(A82,2)=\"In\"),\"\",Worksheet!W108))","v":""},""]
[{"$f":"IF(Worksheet!K109=0,\"\",Worksheet!K109)","v":""},{"$f":"IF(Worksheet!L109=0,\"\",Worksheet!L109)","v":""},{"$f":"IF(Worksheet!M109=0,\"\",Worksheet!M109)","v":""},{"$f":"IF(Worksheet!N109=0,\"\",Worksheet!N109)","v":""},{"$f":"IF(Worksheet!P109=0,\"\",IF(OR(LEFT(B83,8)=\"LED Four\",LEFT(B83,8)=\"LED Tube\",LEFT(B83,8)=\"LED Mogu\",RIGHT(A83,2)=\"In\"),\"\",Worksheet!P109))","v":""},{"$f":"IF(Worksheet!R109=0,\"\",Worksheet!R109)","v":""},"",{"$f":"IF(Worksheet!Q109=0,\"\",Worksheet!Q109)","v":""},{"$f":"IF(OR(LEFT(B83,8)=\"LED Four\",LEFT(B83,8)=\"LED Tube\",LEFT(B83,8)=\"LED Mogu\",RIGHT(A83,2)=\"In\"),H83*Worksheet!V109,\"\")","v":""},{"$f":"IF(Worksheet!V109=0,\"\",IF(OR(LEFT(B83,8)=\"LED Four\",LEFT(B83,8)=\"LED Tube\",LEFT(B83,8)=\"LED Mogu\",RIGHT(A83,2)=\"In\"),\"\",Worksheet!V109))","v":""},"",{"$f":"IF(OR(LEFT(B83,8)=\"LED Four\",LEFT(B83,8)=\"LED Tube\",LEFT(B83,8)=\"LED Mogu\",RIGHT(A83,2)=\"In\"),H83*Worksheet!W109,\"\")","v":""},{"$f":"IF(Worksheet!W109=0,\"\",IF(OR(LEFT(B83,8)=\"LED Four\",LEFT(B83,8)=\"LED Tube\",LEFT(B83,8)=\"LED Mogu\",RIGHT(A83,2)=\"In\"),\"\",Worksheet!W109))","v":""},""]
[{"$f":"IF(Worksheet!K110=0,\"\",Worksheet!K110)","v":""},{"$f":"IF(Worksheet!L110=0,\"\",Worksheet!L110)","v":""},{"$f":"IF(Worksheet!M110=0,\"\",Worksheet!M110)","v":""},{"$f":"IF(Worksheet!N110=0,\"\",Worksheet!N110)","v":""},{"$f":"IF(Worksheet!P110=0,\"\",IF(OR(LEFT(B84,8)=\"LED Four\",LEFT(B84,8)=\"LED Tube\",LEFT(B84,8)=\"LED Mogu\",RIGHT(A84,2)=\"In\"),\"\",Worksheet!P110))","v":""},{"$f":"IF(Worksheet!R110=0,\"\",Worksheet!R110)","v":""},"",{"$f":"IF(Worksheet!Q110=0,\"\",Worksheet!Q110)","v":""},{"$f":"IF(OR(LEFT(B84,8)=\"LED Four\",LEFT(B84,8)=\"LED Tube\",LEFT(B84,8)=\"LED Mogu\",RIGHT(A84,2)=\"In\"),H84*Worksheet!V110,\"\")","v":""},{"$f":"IF(Worksheet!V110=0,\"\",IF(OR(LEFT(B84,8)=\"LED Four\",LEFT(B84,8)=\"LED Tube\",LEFT(B84,8)=\"LED Mogu\",RIGHT(A84,2)=\"In\"),\"\",Worksheet!V110))","v":""},"",{"$f":"IF(OR(LEFT(B84,8)=\"LED Four\",LEFT(B84,8)=\"LED Tube\",LEFT(B84,8)=\"LED Mogu\",RIGHT(A84,2)=\"In\"),H84*Worksheet!W110,\"\")","v":""},{"$f":"IF(Worksheet!W110=0,\"\",IF(OR(LEFT(B84,8)=\"LED Four\",LEFT(B84,8)=\"LED Tube\",LEFT(B84,8)=\"LED Mogu\",RIGHT(A84,2)=\"In\"),\"\",Worksheet!W110))","v":""},""]
[{"$f":"IF(Worksheet!K111=0,\"\",Worksheet!K111)","v":""},{"$f":"IF(Worksheet!L111=0,\"\",Worksheet!L111)","v":""},{"$f":"IF(Worksheet!M111=0,\"\",Worksheet!M111)","v":""},{"$f":"IF(Worksheet!N111=0,\"\",Worksheet!N111)","v":""},{"$f":"IF(Worksheet!P111=0,\"\",IF(OR(LEFT(B85,8)=\"LED Four\",LEFT(B85,8)=\"LED Tube\",LEFT(B85,8)=\"LED Mogu\",RIGHT(A85,2)=\"In\"),\"\",Worksheet!P111))","v":""},{"$f":"IF(Worksheet!R111=0,\"\",Worksheet!R111)","v":""},"",{"$f":"IF(Worksheet!Q111=0,\"\",Worksheet!Q111)","v":""},{"$f":"IF(OR(LEFT(B85,8)=\"LED Four\",LEFT(B85,8)=\"LED Tube\",LEFT(B85,8)=\"LED Mogu\",RIGHT(A85,2)=\"In\"),H85*Worksheet!V111,\"\")","v":""},{"$f":"IF(Worksheet!V111=0,\"\",IF(OR(LEFT(B85,8)=\"LED Four\",LEFT(B85,8)=\"LED Tube\",LEFT(B85,8)=\"LED Mogu\",RIGHT(A85,2)=\"In\"),\"\",Worksheet!V111))","v":""},"",{"$f":"IF(OR(LEFT(B85,8)=\"LED Four\",LEFT(B85,8)=\"LED Tube\",LEFT(B85,8)=\"LED Mogu\",RIGHT(A85,2)=\"In\"),H85*Worksheet!W111,\"\")","v":""},{"$f":"IF(Worksheet!W111=0,\"\",IF(OR(LEFT(B85,8)=\"LED Four\",LEFT(B85,8)=\"LED Tube\",LEFT(B85,8)=\"LED Mogu\",RIGHT(A85,2)=\"In\"),\"\",Worksheet!W111))","v":""},""]
[{"$f":"IF(Worksheet!K112=0,\"\",Worksheet!K112)","v":""},{"$f":"IF(Worksheet!L112=0,\"\",Worksheet!L112)","v":""},{"$f":"IF(Worksheet!M112=0,\"\",Worksheet!M112)","v":""},{"$f":"IF(Worksheet!N112=0,\"\",Worksheet!N112)","v":""},{"$f":"IF(Worksheet!P112=0,\"\",IF(OR(LEFT(B86,8)=\"LED Four\",LEFT(B86,8)=\"LED Tube\",LEFT(B86,8)=\"LED Mogu\",RIGHT(A86,2)=\"In\"),\"\",Worksheet!P112))","v":""},{"$f":"IF(Worksheet!R112=0,\"\",Worksheet!R112)","v":""},"",{"$f":"IF(Worksheet!Q112=0,\"\",Worksheet!Q112)","v":""},{"$f":"IF(OR(LEFT(B86,8)=\"LED Four\",LEFT(B86,8)=\"LED Tube\",LEFT(B86,8)=\"LED Mogu\",RIGHT(A86,2)=\"In\"),H86*Worksheet!V112,\"\")","v":""},{"$f":"IF(Worksheet!V112=0,\"\",IF(OR(LEFT(B86,8)=\"LED Four\",LEFT(B86,8)=\"LED Tube\",LEFT(B86,8)=\"LED Mogu\",RIGHT(A86,2)=\"In\"),\"\",Worksheet!V112))","v":""},"",{"$f":"IF(OR(LEFT(B86,8)=\"LED Four\",LEFT(B86,8)=\"LED Tube\",LEFT(B86,8)=\"LED Mogu\",RIGHT(A86,2)=\"In\"),H86*Worksheet!W112,\"\")","v":""},{"$f":"IF(Worksheet!W112=0,\"\",IF(OR(LEFT(B86,8)=\"LED Four\",LEFT(B86,8)=\"LED Tube\",LEFT(B86,8)=\"LED Mogu\",RIGHT(A86,2)=\"In\"),\"\",Worksheet!W112))","v":""},""]
[{"$f":"IF(Worksheet!K113=0,\"\",Worksheet!K113)","v":""},{"$f":"IF(Worksheet!L113=0,\"\",Worksheet!L113)","v":""},{"$f":"IF(Worksheet!M113=0,\"\",Worksheet!M113)","v":""},{"$f":"IF(Worksheet!N113=0,\"\",Worksheet!N113)","v":""},{"$f":"IF(Worksheet!P113=0,\"\",IF(OR(LEFT(B87,8)=\"LED Four\",LEFT(B87,8)=\"LED Tube\",LEFT(B87,8)=\"LED Mogu\",RIGHT(A87,2)=\"In\"),\"\",Worksheet!P113))","v":""},{"$f":"IF(Worksheet!R113=0,\"\",Worksheet!R113)","v":""},"",{"$f":"IF(Worksheet!Q113=0,\"\",Worksheet!Q113)","v":""},{"$f":"IF(OR(LEFT(B87,8)=\"LED Four\",LEFT(B87,8)=\"LED Tube\",LEFT(B87,8)=\"LED Mogu\",RIGHT(A87,2)=\"In\"),H87*Worksheet!V113,\"\")","v":""},{"$f":"IF(Worksheet!V113=0,\"\",IF(OR(LEFT(B87,8)=\"LED Four\",LEFT(B87,8)=\"LED Tube\",LEFT(B87,8)=\"LED Mogu\",RIGHT(A87,2)=\"In\"),\"\",Worksheet!V113))","v":""},"",{"$f":"IF(OR(LEFT(B87,8)=\"LED Four\",LEFT(B87,8)=\"LED Tube\",LEFT(B87,8)=\"LED Mogu\",RIGHT(A87,2)=\"In\"),H87*Worksheet!W113,\"\")","v":""},{"$f":"IF(Worksheet!W113=0,\"\",IF(OR(LEFT(B87,8)=\"LED Four\",LEFT(B87,8)=\"LED Tube\",LEFT(B87,8)=\"LED Mogu\",RIGHT(A87,2)=\"In\"),\"\",Worksheet!W113))","v":""},""]
[{"$f":"IF(Worksheet!K114=0,\"\",Worksheet!K114)","v":""},{"$f":"IF(Worksheet!L114=0,\"\",Worksheet!L114)","v":""},{"$f":"IF(Worksheet!M114=0,\"\",Worksheet!M114)","v":""},{"$f":"IF(Worksheet!N114=0,\"\",Worksheet!N114)","v":""},{"$f":"IF(Worksheet!P114=0,\"\",IF(OR(LEFT(B88,8)=\"LED Four\",LEFT(B88,8)=\"LED Tube\",LEFT(B88,8)=\"LED Mogu\",RIGHT(A88,2)=\"In\"),\"\",Worksheet!P114))","v":""},{"$f":"IF(Worksheet!R114=0,\"\",Worksheet!R114)","v":""},"",{"$f":"IF(Worksheet!Q114=0,\"\",Worksheet!Q114)","v":""},{"$f":"IF(OR(LEFT(B88,8)=\"LED Four\",LEFT(B88,8)=\"LED Tube\",LEFT(B88,8)=\"LED Mogu\",RIGHT(A88,2)=\"In\"),H88*Worksheet!V114,\"\")","v":""},{"$f":"IF(Worksheet!V114=0,\"\",IF(OR(LEFT(B88,8)=\"LED Four\",LEFT(B88,8)=\"LED Tube\",LEFT(B88,8)=\"LED Mogu\",RIGHT(A88,2)=\"In\"),\"\",Worksheet!V114))","v":""},"",{"$f":"IF(OR(LEFT(B88,8)=\"LED Four\",LEFT(B88,8)=\"LED Tube\",LEFT(B88,8)=\"LED Mogu\",RIGHT(A88,2)=\"In\"),H88*Worksheet!W114,\"\")","v":""},{"$f":"IF(Worksheet!W114=0,\"\",IF(OR(LEFT(B88,8)=\"LED Four\",LEFT(B88,8)=\"LED Tube\",LEFT(B88,8)=\"LED Mogu\",RIGHT(A88,2)=\"In\"),\"\",Worksheet!W114))","v":""},""]
[{"$f":"IF(Worksheet!K115=0,\"\",Worksheet!K115)","v":""},{"$f":"IF(Worksheet!L115=0,\"\",Worksheet!L115)","v":""},{"$f":"IF(Worksheet!M115=0,\"\",Worksheet!M115)","v":""},{"$f":"IF(Worksheet!N115=0,\"\",Worksheet!N115)","v":""},{"$f":"IF(Worksheet!P115=0,\"\",IF(OR(LEFT(B89,8)=\"LED Four\",LEFT(B89,8)=\"LED Tube\",LEFT(B89,8)=\"LED Mogu\",RIGHT(A89,2)=\"In\"),\"\",Worksheet!P115))","v":""},{"$f":"IF(Worksheet!R115=0,\"\",Worksheet!R115)","v":""},"",{"$f":"IF(Worksheet!Q115=0,\"\",Worksheet!Q115)","v":""},{"$f":"IF(OR(LEFT(B89,8)=\"LED Four\",LEFT(B89,8)=\"LED Tube\",LEFT(B89,8)=\"LED Mogu\",RIGHT(A89,2)=\"In\"),H89*Worksheet!V115,\"\")","v":""},{"$f":"IF(Worksheet!V115=0,\"\",IF(OR(LEFT(B89,8)=\"LED Four\",LEFT(B89,8)=\"LED Tube\",LEFT(B89,8)=\"LED Mogu\",RIGHT(A89,2)=\"In\"),\"\",Worksheet!V115))","v":""},"",{"$f":"IF(OR(LEFT(B89,8)=\"LED Four\",LEFT(B89,8)=\"LED Tube\",LEFT(B89,8)=\"LED Mogu\",RIGHT(A89,2)=\"In\"),H89*Worksheet!W115,\"\")","v":""},{"$f":"IF(Worksheet!W115=0,\"\",IF(OR(LEFT(B89,8)=\"LED Four\",LEFT(B89,8)=\"LED Tube\",LEFT(B89,8)=\"LED Mogu\",RIGHT(A89,2)=\"In\"),\"\",Worksheet!W115))","v":""},""]
[{"$f":"IF(Worksheet!K116=0,\"\",Worksheet!K116)","v":""},{"$f":"IF(Worksheet!L116=0,\"\",Worksheet!L116)","v":""},{"$f":"IF(Worksheet!M116=0,\"\",Worksheet!M116)","v":""},{"$f":"IF(Worksheet!N116=0,\"\",Worksheet!N116)","v":""},{"$f":"IF(Worksheet!P116=0,\"\",IF(OR(LEFT(B90,8)=\"LED Four\",LEFT(B90,8)=\"LED Tube\",LEFT(B90,8)=\"LED Mogu\",RIGHT(A90,2)=\"In\"),\"\",Worksheet!P116))","v":""},{"$f":"IF(Worksheet!R116=0,\"\",Worksheet!R116)","v":""},"",{"$f":"IF(Worksheet!Q116=0,\"\",Worksheet!Q116)","v":""},{"$f":"IF(OR(LEFT(B90,8)=\"LED Four\",LEFT(B90,8)=\"LED Tube\",LEFT(B90,8)=\"LED Mogu\",RIGHT(A90,2)=\"In\"),H90*Worksheet!V116,\"\")","v":""},{"$f":"IF(Worksheet!V116=0,\"\",IF(OR(LEFT(B90,8)=\"LED Four\",LEFT(B90,8)=\"LED Tube\",LEFT(B90,8)=\"LED Mogu\",RIGHT(A90,2)=\"In\"),\"\",Worksheet!V116))","v":""},"",{"$f":"IF(OR(LEFT(B90,8)=\"LED Four\",LEFT(B90,8)=\"LED Tube\",LEFT(B90,8)=\"LED Mogu\",RIGHT(A90,2)=\"In\"),H90*Worksheet!W116,\"\")","v":""},{"$f":"IF(Worksheet!W116=0,\"\",IF(OR(LEFT(B90,8)=\"LED Four\",LEFT(B90,8)=\"LED Tube\",LEFT(B90,8)=\"LED Mogu\",RIGHT(A90,2)=\"In\"),\"\",Worksheet!W116))","v":""},""]
[{"$f":"IF(Worksheet!K117=0,\"\",Worksheet!K117)","v":""},{"$f":"IF(Worksheet!L117=0,\"\",Worksheet!L117)","v":""},{"$f":"IF(Worksheet!M117=0,\"\",Worksheet!M117)","v":""},{"$f":"IF(Worksheet!N117=0,\"\",Worksheet!N117)","v":""},{"$f":"IF(Worksheet!P117=0,\"\",IF(OR(LEFT(B91,8)=\"LED Four\",LEFT(B91,8)=\"LED Tube\",LEFT(B91,8)=\"LED Mogu\",RIGHT(A91,2)=\"In\"),\"\",Worksheet!P117))","v":""},{"$f":"IF(Worksheet!R117=0,\"\",Worksheet!R117)","v":""},"",{"$f":"IF(Worksheet!Q117=0,\"\",Worksheet!Q117)","v":""},{"$f":"IF(OR(LEFT(B91,8)=\"LED Four\",LEFT(B91,8)=\"LED Tube\",LEFT(B91,8)=\"LED Mogu\",RIGHT(A91,2)=\"In\"),H91*Worksheet!V117,\"\")","v":""},{"$f":"IF(Worksheet!V117=0,\"\",IF(OR(LEFT(B91,8)=\"LED Four\",LEFT(B91,8)=\"LED Tube\",LEFT(B91,8)=\"LED Mogu\",RIGHT(A91,2)=\"In\"),\"\",Worksheet!V117))","v":""},"",{"$f":"IF(OR(LEFT(B91,8)=\"LED Four\",LEFT(B91,8)=\"LED Tube\",LEFT(B91,8)=\"LED Mogu\",RIGHT(A91,2)=\"In\"),H91*Worksheet!W117,\"\")","v":""},{"$f":"IF(Worksheet!W117=0,\"\",IF(OR(LEFT(B91,8)=\"LED Four\",LEFT(B91,8)=\"LED Tube\",LEFT(B91,8)=\"LED Mogu\",RIGHT(A91,2)=\"In\"),\"\",Worksheet!W117))","v":""},""]
[{"$f":"IF(Worksheet!K118=0,\"\",Worksheet!K118)","v":""},{"$f":"IF(Worksheet!L118=0,\"\",Worksheet!L118)","v":""},{"$f":"IF(Worksheet!M118=0,\"\",Worksheet!M118)","v":""},{"$f":"IF(Worksheet!N118=0,\"\",Worksheet!N118)","v":""},{"$f":"IF(Worksheet!P118=0,\"\",IF(OR(LEFT(B92,8)=\"LED Four\",LEFT(B92,8)=\"LED Tube\",LEFT(B92,8)=\"LED Mogu\",RIGHT(A92,2)=\"In\"),\"\",Worksheet!P118))","v":""},{"$f":"IF(Worksheet!R118=0,\"\",Worksheet!R118)","v":""},"",{"$f":"IF(Worksheet!Q118=0,\"\",Worksheet!Q118)","v":""},{"$f":"IF(OR(LEFT(B92,8)=\"LED Four\",LEFT(B92,8)=\"LED Tube\",LEFT(B92,8)=\"LED Mogu\",RIGHT(A92,2)=\"In\"),H92*Worksheet!V118,\"\")","v":""},{"$f":"IF(Worksheet!V118=0,\"\",IF(OR(LEFT(B92,8)=\"LED Four\",LEFT(B92,8)=\"LED Tube\",LEFT(B92,8)=\"LED Mogu\",RIGHT(A92,2)=\"In\"),\"\",Worksheet!V118))","v":""},"",{"$f":"IF(OR(LEFT(B92,8)=\"LED Four\",LEFT(B92,8)=\"LED Tube\",LEFT(B92,8)=\"LED Mogu\",RIGHT(A92,2)=\"In\"),H92*Worksheet!W118,\"\")","v":""},{"$f":"IF(Worksheet!W118=0,\"\",IF(OR(LEFT(B92,8)=\"LED Four\",LEFT(B92,8)=\"LED Tube\",LEFT(B92,8)=\"LED Mogu\",RIGHT(A92,2)=\"In\"),\"\",Worksheet!W118))","v":""},""]
[{"$f":"IF(Worksheet!K119=0,\"\",Worksheet!K119)","v":""},{"$f":"IF(Worksheet!L119=0,\"\",Worksheet!L119)","v":""},{"$f":"IF(Worksheet!M119=0,\"\",Worksheet!M119)","v":""},{"$f":"IF(Worksheet!N119=0,\"\",Worksheet!N119)","v":""},{"$f":"IF(Worksheet!P119=0,\"\",IF(OR(LEFT(B93,8)=\"LED Four\",LEFT(B93,8)=\"LED Tube\",LEFT(B93,8)=\"LED Mogu\",RIGHT(A93,2)=\"In\"),\"\",Worksheet!P119))","v":""},{"$f":"IF(Worksheet!R119=0,\"\",Worksheet!R119)","v":""},"",{"$f":"IF(Worksheet!Q119=0,\"\",Worksheet!Q119)","v":""},{"$f":"IF(OR(LEFT(B93,8)=\"LED Four\",LEFT(B93,8)=\"LED Tube\",LEFT(B93,8)=\"LED Mogu\",RIGHT(A93,2)=\"In\"),H93*Worksheet!V119,\"\")","v":""},{"$f":"IF(Worksheet!V119=0,\"\",IF(OR(LEFT(B93,8)=\"LED Four\",LEFT(B93,8)=\"LED Tube\",LEFT(B93,8)=\"LED Mogu\",RIGHT(A93,2)=\"In\"),\"\",Worksheet!V119))","v":""},"",{"$f":"IF(OR(LEFT(B93,8)=\"LED Four\",LEFT(B93,8)=\"LED Tube\",LEFT(B93,8)=\"LED Mogu\",RIGHT(A93,2)=\"In\"),H93*Worksheet!W119,\"\")","v":""},{"$f":"IF(Worksheet!W119=0,\"\",IF(OR(LEFT(B93,8)=\"LED Four\",LEFT(B93,8)=\"LED Tube\",LEFT(B93,8)=\"LED Mogu\",RIGHT(A93,2)=\"In\"),\"\",Worksheet!W119))","v":""},""]
[{"$f":"IF(Worksheet!K120=0,\"\",Worksheet!K120)","v":""},{"$f":"IF(Worksheet!L120=0,\"\",Worksheet!L120)","v":""},{"$f":"IF(Worksheet!M120=0,\"\",Worksheet!M120)","v":""},{"$f":"IF(Worksheet!N120=0,\"\",Worksheet!N120)","v":""},{"$f":"IF(Worksheet!P120=0,\"\",IF(OR(LEFT(B94,8)=\"LED Four\",LEFT(B94,8)=\"LED Tube\",LEFT(B94,8)=\"LED Mogu\",RIGHT(A94,2)=\"In\"),\"\",Worksheet!P120))","v":""},{"$f":"IF(Worksheet!R120=0,\"\",Worksheet!R120)","v":""},"",{"$f":"IF(Worksheet!Q120=0,\"\",Worksheet!Q120)","v":""},{"$f":"IF(OR(LEFT(B94,8)=\"LED Four\",LEFT(B94,8)=\"LED Tube\",LEFT(B94,8)=\"LED Mogu\",RIGHT(A94,2)=\"In\"),H94*Worksheet!V120,\"\")","v":""},{"$f":"IF(Worksheet!V120=0,\"\",IF(OR(LEFT(B94,8)=\"LED Four\",LEFT(B94,8)=\"LED Tube\",LEFT(B94,8)=\"LED Mogu\",RIGHT(A94,2)=\"In\"),\"\",Worksheet!V120))","v":""},"",{"$f":"IF(OR(LEFT(B94,8)=\"LED Four\",LEFT(B94,8)=\"LED Tube\",LEFT(B94,8)=\"LED Mogu\",RIGHT(A94,2)=\"In\"),H94*Worksheet!W120,\"\")","v":""},{"$f":"IF(Worksheet!W120=0,\"\",IF(OR(LEFT(B94,8)=\"LED Four\",LEFT(B94,8)=\"LED Tube\",LEFT(B94,8)=\"LED Mogu\",RIGHT(A94,2)=\"In\"),\"\",Worksheet!W120))","v":""},""]
[{"$f":"IF(Worksheet!K121=0,\"\",Worksheet!K121)","v":""},{"$f":"IF(Worksheet!L121=0,\"\",Worksheet!L121)","v":""},{"$f":"IF(Worksheet!M121=0,\"\",Worksheet!M121)","v":""},{"$f":"IF(Worksheet!N121=0,\"\",Worksheet!N121)","v":""},{"$f":"IF(Worksheet!P121=0,\"\",IF(OR(LEFT(B95,8)=\"LED Four\",LEFT(B95,8)=\"LED Tube\",LEFT(B95,8)=\"LED Mogu\",RIGHT(A95,2)=\"In\"),\"\",Worksheet!P121))","v":""},{"$f":"IF(Worksheet!R121=0,\"\",Worksheet!R121)","v":""},"",{"$f":"IF(Worksheet!Q121=0,\"\",Worksheet!Q121)","v":""},{"$f":"IF(OR(LEFT(B95,8)=\"LED Four\",LEFT(B95,8)=\"LED Tube\",LEFT(B95,8)=\"LED Mogu\",RIGHT(A95,2)=\"In\"),H95*Worksheet!V121,\"\")","v":""},{"$f":"IF(Worksheet!V121=0,\"\",IF(OR(LEFT(B95,8)=\"LED Four\",LEFT(B95,8)=\"LED Tube\",LEFT(B95,8)=\"LED Mogu\",RIGHT(A95,2)=\"In\"),\"\",Worksheet!V121))","v":""},"",{"$f":"IF(OR(LEFT(B95,8)=\"LED Four\",LEFT(B95,8)=\"LED Tube\",LEFT(B95,8)=\"LED Mogu\",RIGHT(A95,2)=\"In\"),H95*Worksheet!W121,\"\")","v":""},{"$f":"IF(Worksheet!W121=0,\"\",IF(OR(LEFT(B95,8)=\"LED Four\",LEFT(B95,8)=\"LED Tube\",LEFT(B95,8)=\"LED Mogu\",RIGHT(A95,2)=\"In\"),\"\",Worksheet!W121))","v":""},""]
[{"$f":"IF(Worksheet!K122=0,\"\",Worksheet!K122)","v":""},{"$f":"IF(Worksheet!L122=0,\"\",Worksheet!L122)","v":""},{"$f":"IF(Worksheet!M122=0,\"\",Worksheet!M122)","v":""},{"$f":"IF(Worksheet!N122=0,\"\",Worksheet!N122)","v":""},{"$f":"IF(Worksheet!P122=0,\"\",IF(OR(LEFT(B96,8)=\"LED Four\",LEFT(B96,8)=\"LED Tube\",LEFT(B96,8)=\"LED Mogu\",RIGHT(A96,2)=\"In\"),\"\",Worksheet!P122))","v":""},{"$f":"IF(Worksheet!R122=0,\"\",Worksheet!R122)","v":""},"",{"$f":"IF(Worksheet!Q122=0,\"\",Worksheet!Q122)","v":""},{"$f":"IF(OR(LEFT(B96,8)=\"LED Four\",LEFT(B96,8)=\"LED Tube\",LEFT(B96,8)=\"LED Mogu\",RIGHT(A96,2)=\"In\"),H96*Worksheet!V122,\"\")","v":""},{"$f":"IF(Worksheet!V122=0,\"\",IF(OR(LEFT(B96,8)=\"LED Four\",LEFT(B96,8)=\"LED Tube\",LEFT(B96,8)=\"LED Mogu\",RIGHT(A96,2)=\"In\"),\"\",Worksheet!V122))","v":""},"",{"$f":"IF(OR(LEFT(B96,8)=\"LED Four\",LEFT(B96,8)=\"LED Tube\",LEFT(B96,8)=\"LED Mogu\",RIGHT(A96,2)=\"In\"),H96*Worksheet!W122,\"\")","v":""},{"$f":"IF(Worksheet!W122=0,\"\",IF(OR(LEFT(B96,8)=\"LED Four\",LEFT(B96,8)=\"LED Tube\",LEFT(B96,8)=\"LED Mogu\",RIGHT(A96,2)=\"In\"),\"\",Worksheet!W122))","v":""},""]
[{"$f":"IF(Worksheet!K123=0,\"\",Worksheet!K123)","v":""},{"$f":"IF(Worksheet!L123=0,\"\",Worksheet!L123)","v":""},{"$f":"IF(Worksheet!M123=0,\"\",Worksheet!M123)","v":""},{"$f":"IF(Worksheet!N123=0,\"\",Worksheet!N123)","v":""},{"$f":"IF(Worksheet!P123=0,\"\",IF(OR(LEFT(B97,8)=\"LED Four\",LEFT(B97,8)=\"LED Tube\",LEFT(B97,8)=\"LED Mogu\",RIGHT(A97,2)=\"In\"),\"\",Worksheet!P123))","v":""},{"$f":"IF(Worksheet!R123=0,\"\",Worksheet!R123)","v":""},"",{"$f":"IF(Worksheet!Q123=0,\"\",Worksheet!Q123)","v":""},{"$f":"IF(OR(LEFT(B97,8)=\"LED Four\",LEFT(B97,8)=\"LED Tube\",LEFT(B97,8)=\"LED Mogu\",RIGHT(A97,2)=\"In\"),H97*Worksheet!V123,\"\")","v":""},{"$f":"IF(Worksheet!V123=0,\"\",IF(OR(LEFT(B97,8)=\"LED Four\",LEFT(B97,8)=\"LED Tube\",LEFT(B97,8)=\"LED Mogu\",RIGHT(A97,2)=\"In\"),\"\",Worksheet!V123))","v":""},"",{"$f":"IF(OR(LEFT(B97,8)=\"LED Four\",LEFT(B97,8)=\"LED Tube\",LEFT(B97,8)=\"LED Mogu\",RIGHT(A97,2)=\"In\"),H97*Worksheet!W123,\"\")","v":""},{"$f":"IF(Worksheet!W123=0,\"\",IF(OR(LEFT(B97,8)=\"LED Four\",LEFT(B97,8)=\"LED Tube\",LEFT(B97,8)=\"LED Mogu\",RIGHT(A97,2)=\"In\"),\"\",Worksheet!W123))","v":""},""]
[{"$f":"IF(Worksheet!K124=0,\"\",Worksheet!K124)","v":""},{"$f":"IF(Worksheet!L124=0,\"\",Worksheet!L124)","v":""},{"$f":"IF(Worksheet!M124=0,\"\",Worksheet!M124)","v":""},{"$f":"IF(Worksheet!N124=0,\"\",Worksheet!N124)","v":""},{"$f":"IF(Worksheet!P124=0,\"\",IF(OR(LEFT(B98,8)=\"LED Four\",LEFT(B98,8)=\"LED Tube\",LEFT(B98,8)=\"LED Mogu\",RIGHT(A98,2)=\"In\"),\"\",Worksheet!P124))","v":""},{"$f":"IF(Worksheet!R124=0,\"\",Worksheet!R124)","v":""},"",{"$f":"IF(Worksheet!Q124=0,\"\",Worksheet!Q124)","v":""},{"$f":"IF(OR(LEFT(B98,8)=\"LED Four\",LEFT(B98,8)=\"LED Tube\",LEFT(B98,8)=\"LED Mogu\",RIGHT(A98,2)=\"In\"),H98*Worksheet!V124,\"\")","v":""},{"$f":"IF(Worksheet!V124=0,\"\",IF(OR(LEFT(B98,8)=\"LED Four\",LEFT(B98,8)=\"LED Tube\",LEFT(B98,8)=\"LED Mogu\",RIGHT(A98,2)=\"In\"),\"\",Worksheet!V124))","v":""},"",{"$f":"IF(OR(LEFT(B98,8)=\"LED Four\",LEFT(B98,8)=\"LED Tube\",LEFT(B98,8)=\"LED Mogu\",RIGHT(A98,2)=\"In\"),H98*Worksheet!W124,\"\")","v":""},{"$f":"IF(Worksheet!W124=0,\"\",IF(OR(LEFT(B98,8)=\"LED Four\",LEFT(B98,8)=\"LED Tube\",LEFT(B98,8)=\"LED Mogu\",RIGHT(A98,2)=\"In\"),\"\",Worksheet!W124))","v":""},""]
[{"$f":"IF(Worksheet!K125=0,\"\",Worksheet!K125)","v":""},{"$f":"IF(Worksheet!L125=0,\"\",Worksheet!L125)","v":""},{"$f":"IF(Worksheet!M125=0,\"\",Worksheet!M125)","v":""},{"$f":"IF(Worksheet!N125=0,\"\",Worksheet!N125)","v":""},{"$f":"IF(Worksheet!P125=0,\"\",IF(OR(LEFT(B99,8)=\"LED Four\",LEFT(B99,8)=\"LED Tube\",LEFT(B99,8)=\"LED Mogu\",RIGHT(A99,2)=\"In\"),\"\",Worksheet!P125))","v":""},{"$f":"IF(Worksheet!R125=0,\"\",Worksheet!R125)","v":""},"",{"$f":"IF(Worksheet!Q125=0,\"\",Worksheet!Q125)","v":""},{"$f":"IF(OR(LEFT(B99,8)=\"LED Four\",LEFT(B99,8)=\"LED Tube\",LEFT(B99,8)=\"LED Mogu\",RIGHT(A99,2)=\"In\"),H99*Worksheet!V125,\"\")","v":""},{"$f":"IF(Worksheet!V125=0,\"\",IF(OR(LEFT(B99,8)=\"LED Four\",LEFT(B99,8)=\"LED Tube\",LEFT(B99,8)=\"LED Mogu\",RIGHT(A99,2)=\"In\"),\"\",Worksheet!V125))","v":""},"",{"$f":"IF(OR(LEFT(B99,8)=\"LED Four\",LEFT(B99,8)=\"LED Tube\",LEFT(B99,8)=\"LED Mogu\",RIGHT(A99,2)=\"In\"),H99*Worksheet!W125,\"\")","v":""},{"$f":"IF(Worksheet!W125=0,\"\",IF(OR(LEFT(B99,8)=\"LED Four\",LEFT(B99,8)=\"LED Tube\",LEFT(B99,8)=\"LED Mogu\",RIGHT(A99,2)=\"In\"),\"\",Worksheet!W125))","v":""},""]
[{"$f":"IF(Worksheet!K126=0,\"\",Worksheet!K126)","v":""},{"$f":"IF(Worksheet!L126=0,\"\",Worksheet!L126)","v":""},{"$f":"IF(Worksheet!M126=0,\"\",Worksheet!M126)","v":""},{"$f":"IF(Worksheet!N126=0,\"\",Worksheet!N126)","v":""},{"$f":"IF(Worksheet!P126=0,\"\",IF(OR(LEFT(B100,8)=\"LED Four\",LEFT(B100,8)=\"LED Tube\",LEFT(B100,8)=\"LED Mogu\",RIGHT(A100,2)=\"In\"),\"\",Worksheet!P126))","v":""},{"$f":"IF(Worksheet!R126=0,\"\",Worksheet!R126)","v":""},"",{"$f":"IF(Worksheet!Q126=0,\"\",Worksheet!Q126)","v":""},{"$f":"IF(OR(LEFT(B100,8)=\"LED Four\",LEFT(B100,8)=\"LED Tube\",LEFT(B100,8)=\"LED Mogu\",RIGHT(A100,2)=\"In\"),H100*Worksheet!V126,\"\")","v":""},{"$f":"IF(Worksheet!V126=0,\"\",IF(OR(LEFT(B100,8)=\"LED Four\",LEFT(B100,8)=\"LED Tube\",LEFT(B100,8)=\"LED Mogu\",RIGHT(A100,2)=\"In\"),\"\",Worksheet!V126))","v":""},"",{"$f":"IF(OR(LEFT(B100,8)=\"LED Four\",LEFT(B100,8)=\"LED Tube\",LEFT(B100,8)=\"LED Mogu\",RIGHT(A100,2)=\"In\"),H100*Worksheet!W126,\"\")","v":""},{"$f":"IF(Worksheet!W126=0,\"\",IF(OR(LEFT(B100,8)=\"LED Four\",LEFT(B100,8)=\"LED Tube\",LEFT(B100,8)=\"LED Mogu\",RIGHT(A100,2)=\"In\"),\"\",Worksheet!W126))","v":""},""]
[{"$f":"IF(Worksheet!K127=0,\"\",Worksheet!K127)","v":""},{"$f":"IF(Worksheet!L127=0,\"\",Worksheet!L127)","v":""},{"$f":"IF(Worksheet!M127=0,\"\",Worksheet!M127)","v":""},{"$f":"IF(Worksheet!N127=0,\"\",Worksheet!N127)","v":""},{"$f":"IF(Worksheet!P127=0,\"\",IF(OR(LEFT(B101,8)=\"LED Four\",LEFT(B101,8)=\"LED Tube\",LEFT(B101,8)=\"LED Mogu\",RIGHT(A101,2)=\"In\"),\"\",Worksheet!P127))","v":""},{"$f":"IF(Worksheet!R127=0,\"\",Worksheet!R127)","v":""},"",{"$f":"IF(Worksheet!Q127=0,\"\",Worksheet!Q127)","v":""},{"$f":"IF(OR(LEFT(B101,8)=\"LED Four\",LEFT(B101,8)=\"LED Tube\",LEFT(B101,8)=\"LED Mogu\",RIGHT(A101,2)=\"In\"),H101*Worksheet!V127,\"\")","v":""},{"$f":"IF(Worksheet!V127=0,\"\",IF(OR(LEFT(B101,8)=\"LED Four\",LEFT(B101,8)=\"LED Tube\",LEFT(B101,8)=\"LED Mogu\",RIGHT(A101,2)=\"In\"),\"\",Worksheet!V127))","v":""},"",{"$f":"IF(OR(LEFT(B101,8)=\"LED Four\",LEFT(B101,8)=\"LED Tube\",LEFT(B101,8)=\"LED Mogu\",RIGHT(A101,2)=\"In\"),H101*Worksheet!W127,\"\")","v":""},{"$f":"IF(Worksheet!W127=0,\"\",IF(OR(LEFT(B101,8)=\"LED Four\",LEFT(B101,8)=\"LED Tube\",LEFT(B101,8)=\"LED Mogu\",RIGHT(A101,2)=\"In\"),\"\",Worksheet!W127))","v":""},""]
[{"$f":"IF(Worksheet!K128=0,\"\",Worksheet!K128)","v":""},{"$f":"IF(Worksheet!L128=0,\"\",Worksheet!L128)","v":""},{"$f":"IF(Worksheet!M128=0,\"\",Worksheet!M128)","v":""},{"$f":"IF(Worksheet!N128=0,\"\",Worksheet!N128)","v":""},{"$f":"IF(Worksheet!P128=0,\"\",IF(OR(LEFT(B102,8)=\"LED Four\",LEFT(B102,8)=\"LED Tube\",LEFT(B102,8)=\"LED Mogu\",RIGHT(A102,2)=\"In\"),\"\",Worksheet!P128))","v":""},{"$f":"IF(Worksheet!R128=0,\"\",Worksheet!R128)","v":""},"",{"$f":"IF(Worksheet!Q128=0,\"\",Worksheet!Q128)","v":""},{"$f":"IF(OR(LEFT(B102,8)=\"LED Four\",LEFT(B102,8)=\"LED Tube\",LEFT(B102,8)=\"LED Mogu\",RIGHT(A102,2)=\"In\"),H102*Worksheet!V128,\"\")","v":""},{"$f":"IF(Worksheet!V128=0,\"\",IF(OR(LEFT(B102,8)=\"LED Four\",LEFT(B102,8)=\"LED Tube\",LEFT(B102,8)=\"LED Mogu\",RIGHT(A102,2)=\"In\"),\"\",Worksheet!V128))","v":""},"",{"$f":"IF(OR(LEFT(B102,8)=\"LED Four\",LEFT(B102,8)=\"LED Tube\",LEFT(B102,8)=\"LED Mogu\",RIGHT(A102,2)=\"In\"),H102*Worksheet!W128,\"\")","v":""},{"$f":"IF(Worksheet!W128=0,\"\",IF(OR(LEFT(B102,8)=\"LED Four\",LEFT(B102,8)=\"LED Tube\",LEFT(B102,8)=\"LED Mogu\",RIGHT(A102,2)=\"In\"),\"\",Worksheet!W128))","v":""},""]
[{"$f":"IF(Worksheet!K129=0,\"\",Worksheet!K129)","v":""},{"$f":"IF(Worksheet!L129=0,\"\",Worksheet!L129)","v":""},{"$f":"IF(Worksheet!M129=0,\"\",Worksheet!M129)","v":""},{"$f":"IF(Worksheet!N129=0,\"\",Worksheet!N129)","v":""},{"$f":"IF(Worksheet!P129=0,\"\",IF(OR(LEFT(B103,8)=\"LED Four\",LEFT(B103,8)=\"LED Tube\",LEFT(B103,8)=\"LED Mogu\",RIGHT(A103,2)=\"In\"),\"\",Worksheet!P129))","v":""},{"$f":"IF(Worksheet!R129=0,\"\",Worksheet!R129)","v":""},"",{"$f":"IF(Worksheet!Q129=0,\"\",Worksheet!Q129)","v":""},{"$f":"IF(OR(LEFT(B103,8)=\"LED Four\",LEFT(B103,8)=\"LED Tube\",LEFT(B103,8)=\"LED Mogu\",RIGHT(A103,2)=\"In\"),H103*Worksheet!V129,\"\")","v":""},{"$f":"IF(Worksheet!V129=0,\"\",IF(OR(LEFT(B103,8)=\"LED Four\",LEFT(B103,8)=\"LED Tube\",LEFT(B103,8)=\"LED Mogu\",RIGHT(A103,2)=\"In\"),\"\",Worksheet!V129))","v":""},"",{"$f":"IF(OR(LEFT(B103,8)=\"LED Four\",LEFT(B103,8)=\"LED Tube\",LEFT(B103,8)=\"LED Mogu\",RIGHT(A103,2)=\"In\"),H103*Worksheet!W129,\"\")","v":""},{"$f":"IF(Worksheet!W129=0,\"\",IF(OR(LEFT(B103,8)=\"LED Four\",LEFT(B103,8)=\"LED Tube\",LEFT(B103,8)=\"LED Mogu\",RIGHT(A103,2)=\"In\"),\"\",Worksheet!W129))","v":""},""]
[{"$f":"IF(Worksheet!K130=0,\"\",Worksheet!K130)","v":""},{"$f":"IF(Worksheet!L130=0,\"\",Worksheet!L130)","v":""},{"$f":"IF(Worksheet!M130=0,\"\",Worksheet!M130)","v":""},{"$f":"IF(Worksheet!N130=0,\"\",Worksheet!N130)","v":""},{"$f":"IF(Worksheet!P130=0,\"\",IF(OR(LEFT(B104,8)=\"LED Four\",LEFT(B104,8)=\"LED Tube\",LEFT(B104,8)=\"LED Mogu\",RIGHT(A104,2)=\"In\"),\"\",Worksheet!P130))","v":""},{"$f":"IF(Worksheet!R130=0,\"\",Worksheet!R130)","v":""},"",{"$f":"IF(Worksheet!Q130=0,\"\",Worksheet!Q130)","v":""},{"$f":"IF(OR(LEFT(B104,8)=\"LED Four\",LEFT(B104,8)=\"LED Tube\",LEFT(B104,8)=\"LED Mogu\",RIGHT(A104,2)=\"In\"),H104*Worksheet!V130,\"\")","v":""},{"$f":"IF(Worksheet!V130=0,\"\",IF(OR(LEFT(B104,8)=\"LED Four\",LEFT(B104,8)=\"LED Tube\",LEFT(B104,8)=\"LED Mogu\",RIGHT(A104,2)=\"In\"),\"\",Worksheet!V130))","v":""},"",{"$f":"IF(OR(LEFT(B104,8)=\"LED Four\",LEFT(B104,8)=\"LED Tube\",LEFT(B104,8)=\"LED Mogu\",RIGHT(A104,2)=\"In\"),H104*Worksheet!W130,\"\")","v":""},{"$f":"IF(Worksheet!W130=0,\"\",IF(OR(LEFT(B104,8)=\"LED Four\",LEFT(B104,8)=\"LED Tube\",LEFT(B104,8)=\"LED Mogu\",RIGHT(A104,2)=\"In\"),\"\",Worksheet!W130))","v":""},""]
[{"$f":"IF(Worksheet!K131=0,\"\",Worksheet!K131)","v":""},{"$f":"IF(Worksheet!L131=0,\"\",Worksheet!L131)","v":""},{"$f":"IF(Worksheet!M131=0,\"\",Worksheet!M131)","v":""},{"$f":"IF(Worksheet!N131=0,\"\",Worksheet!N131)","v":""},{"$f":"IF(Worksheet!P131=0,\"\",IF(OR(LEFT(B105,8)=\"LED Four\",LEFT(B105,8)=\"LED Tube\",LEFT(B105,8)=\"LED Mogu\",RIGHT(A105,2)=\"In\"),\"\",Worksheet!P131))","v":""},{"$f":"IF(Worksheet!R131=0,\"\",Worksheet!R131)","v":""},"",{"$f":"IF(Worksheet!Q131=0,\"\",Worksheet!Q131)","v":""},{"$f":"IF(OR(LEFT(B105,8)=\"LED Four\",LEFT(B105,8)=\"LED Tube\",LEFT(B105,8)=\"LED Mogu\",RIGHT(A105,2)=\"In\"),H105*Worksheet!V131,\"\")","v":""},{"$f":"IF(Worksheet!V131=0,\"\",IF(OR(LEFT(B105,8)=\"LED Four\",LEFT(B105,8)=\"LED Tube\",LEFT(B105,8)=\"LED Mogu\",RIGHT(A105,2)=\"In\"),\"\",Worksheet!V131))","v":""},"",{"$f":"IF(OR(LEFT(B105,8)=\"LED Four\",LEFT(B105,8)=\"LED Tube\",LEFT(B105,8)=\"LED Mogu\",RIGHT(A105,2)=\"In\"),H105*Worksheet!W131,\"\")","v":""},{"$f":"IF(Worksheet!W131=0,\"\",IF(OR(LEFT(B105,8)=\"LED Four\",LEFT(B105,8)=\"LED Tube\",LEFT(B105,8)=\"LED Mogu\",RIGHT(A105,2)=\"In\"),\"\",Worksheet!W131))","v":""},""]
[{"$f":"IF(Worksheet!K132=0,\"\",Worksheet!K132)","v":""},{"$f":"IF(Worksheet!L132=0,\"\",Worksheet!L132)","v":""},{"$f":"IF(Worksheet!M132=0,\"\",Worksheet!M132)","v":""},{"$f":"IF(Worksheet!N132=0,\"\",Worksheet!N132)","v":""},{"$f":"IF(Worksheet!P132=0,\"\",IF(OR(LEFT(B106,8)=\"LED Four\",LEFT(B106,8)=\"LED Tube\",LEFT(B106,8)=\"LED Mogu\",RIGHT(A106,2)=\"In\"),\"\",Worksheet!P132))","v":""},{"$f":"IF(Worksheet!R132=0,\"\",Worksheet!R132)","v":""},"",{"$f":"IF(Worksheet!Q132=0,\"\",Worksheet!Q132)","v":""},{"$f":"IF(OR(LEFT(B106,8)=\"LED Four\",LEFT(B106,8)=\"LED Tube\",LEFT(B106,8)=\"LED Mogu\",RIGHT(A106,2)=\"In\"),H106*Worksheet!V132,\"\")","v":""},{"$f":"IF(Worksheet!V132=0,\"\",IF(OR(LEFT(B106,8)=\"LED Four\",LEFT(B106,8)=\"LED Tube\",LEFT(B106,8)=\"LED Mogu\",RIGHT(A106,2)=\"In\"),\"\",Worksheet!V132))","v":""},"",{"$f":"IF(OR(LEFT(B106,8)=\"LED Four\",LEFT(B106,8)=\"LED Tube\",LEFT(B106,8)=\"LED Mogu\",RIGHT(A106,2)=\"In\"),H106*Worksheet!W132,\"\")","v":""},{"$f":"IF(Worksheet!W132=0,\"\",IF(OR(LEFT(B106,8)=\"LED Four\",LEFT(B106,8)=\"LED Tube\",LEFT(B106,8)=\"LED Mogu\",RIGHT(A106,2)=\"In\"),\"\",Worksheet!W132))","v":""},""]
[{"$f":"IF(Worksheet!K133=0,\"\",Worksheet!K133)","v":""},{"$f":"IF(Worksheet!L133=0,\"\",Worksheet!L133)","v":""},{"$f":"IF(Worksheet!M133=0,\"\",Worksheet!M133)","v":""},{"$f":"IF(Worksheet!N133=0,\"\",Worksheet!N133)","v":""},{"$f":"IF(Worksheet!P133=0,\"\",IF(OR(LEFT(B107,8)=\"LED Four\",LEFT(B107,8)=\"LED Tube\",LEFT(B107,8)=\"LED Mogu\",RIGHT(A107,2)=\"In\"),\"\",Worksheet!P133))","v":""},{"$f":"IF(Worksheet!R133=0,\"\",Worksheet!R133)","v":""},"",{"$f":"IF(Worksheet!Q133=0,\"\",Worksheet!Q133)","v":""},{"$f":"IF(OR(LEFT(B107,8)=\"LED Four\",LEFT(B107,8)=\"LED Tube\",LEFT(B107,8)=\"LED Mogu\",RIGHT(A107,2)=\"In\"),H107*Worksheet!V133,\"\")","v":""},{"$f":"IF(Worksheet!V133=0,\"\",IF(OR(LEFT(B107,8)=\"LED Four\",LEFT(B107,8)=\"LED Tube\",LEFT(B107,8)=\"LED Mogu\",RIGHT(A107,2)=\"In\"),\"\",Worksheet!V133))","v":""},"",{"$f":"IF(OR(LEFT(B107,8)=\"LED Four\",LEFT(B107,8)=\"LED Tube\",LEFT(B107,8)=\"LED Mogu\",RIGHT(A107,2)=\"In\"),H107*Worksheet!W133,\"\")","v":""},{"$f":"IF(Worksheet!W133=0,\"\",IF(OR(LEFT(B107,8)=\"LED Four\",LEFT(B107,8)=\"LED Tube\",LEFT(B107,8)=\"LED Mogu\",RIGHT(A107,2)=\"In\"),\"\",Worksheet!W133))","v":""},""]
[{"$f":"IF(Worksheet!K134=0,\"\",Worksheet!K134)","v":""},{"$f":"IF(Worksheet!L134=0,\"\",Worksheet!L134)","v":""},{"$f":"IF(Worksheet!M134=0,\"\",Worksheet!M134)","v":""},{"$f":"IF(Worksheet!N134=0,\"\",Worksheet!N134)","v":""},{"$f":"IF(Worksheet!P134=0,\"\",IF(OR(LEFT(B108,8)=\"LED Four\",LEFT(B108,8)=\"LED Tube\",LEFT(B108,8)=\"LED Mogu\",RIGHT(A108,2)=\"In\"),\"\",Worksheet!P134))","v":""},{"$f":"IF(Worksheet!R134=0,\"\",Worksheet!R134)","v":""},"",{"$f":"IF(Worksheet!Q134=0,\"\",Worksheet!Q134)","v":""},{"$f":"IF(OR(LEFT(B108,8)=\"LED Four\",LEFT(B108,8)=\"LED Tube\",LEFT(B108,8)=\"LED Mogu\",RIGHT(A108,2)=\"In\"),H108*Worksheet!V134,\"\")","v":""},{"$f":"IF(Worksheet!V134=0,\"\",IF(OR(LEFT(B108,8)=\"LED Four\",LEFT(B108,8)=\"LED Tube\",LEFT(B108,8)=\"LED Mogu\",RIGHT(A108,2)=\"In\"),\"\",Worksheet!V134))","v":""},"",{"$f":"IF(OR(LEFT(B108,8)=\"LED Four\",LEFT(B108,8)=\"LED Tube\",LEFT(B108,8)=\"LED Mogu\",RIGHT(A108,2)=\"In\"),H108*Worksheet!W134,\"\")","v":""},{"$f":"IF(Worksheet!W134=0,\"\",IF(OR(LEFT(B108,8)=\"LED Four\",LEFT(B108,8)=\"LED Tube\",LEFT(B108,8)=\"LED Mogu\",RIGHT(A108,2)=\"In\"),\"\",Worksheet!W134))","v":""},""]
[{"$f":"IF(Worksheet!K135=0,\"\",Worksheet!K135)","v":""},{"$f":"IF(Worksheet!L135=0,\"\",Worksheet!L135)","v":""},{"$f":"IF(Worksheet!M135=0,\"\",Worksheet!M135)","v":""},{"$f":"IF(Worksheet!N135=0,\"\",Worksheet!N135)","v":""},{"$f":"IF(Worksheet!P135=0,\"\",IF(OR(LEFT(B109,8)=\"LED Four\",LEFT(B109,8)=\"LED Tube\",LEFT(B109,8)=\"LED Mogu\",RIGHT(A109,2)=\"In\"),\"\",Worksheet!P135))","v":""},{"$f":"IF(Worksheet!R135=0,\"\",Worksheet!R135)","v":""},"",{"$f":"IF(Worksheet!Q135=0,\"\",Worksheet!Q135)","v":""},{"$f":"IF(OR(LEFT(B109,8)=\"LED Four\",LEFT(B109,8)=\"LED Tube\",LEFT(B109,8)=\"LED Mogu\",RIGHT(A109,2)=\"In\"),H109*Worksheet!V135,\"\")","v":""},{"$f":"IF(Worksheet!V135=0,\"\",IF(OR(LEFT(B109,8)=\"LED Four\",LEFT(B109,8)=\"LED Tube\",LEFT(B109,8)=\"LED Mogu\",RIGHT(A109,2)=\"In\"),\"\",Worksheet!V135))","v":""},"",{"$f":"IF(OR(LEFT(B109,8)=\"LED Four\",LEFT(B109,8)=\"LED Tube\",LEFT(B109,8)=\"LED Mogu\",RIGHT(A109,2)=\"In\"),H109*Worksheet!W135,\"\")","v":""},{"$f":"IF(Worksheet!W135=0,\"\",IF(OR(LEFT(B109,8)=\"LED Four\",LEFT(B109,8)=\"LED Tube\",LEFT(B109,8)=\"LED Mogu\",RIGHT(A109,2)=\"In\"),\"\",Worksheet!W135))","v":""},""]
[{"$f":"IF(Worksheet!K136=0,\"\",Worksheet!K136)","v":""},{"$f":"IF(Worksheet!L136=0,\"\",Worksheet!L136)","v":""},{"$f":"IF(Worksheet!M136=0,\"\",Worksheet!M136)","v":""},{"$f":"IF(Worksheet!N136=0,\"\",Worksheet!N136)","v":""},{"$f":"IF(Worksheet!P136=0,\"\",IF(OR(LEFT(B110,8)=\"LED Four\",LEFT(B110,8)=\"LED Tube\",LEFT(B110,8)=\"LED Mogu\",RIGHT(A110,2)=\"In\"),\"\",Worksheet!P136))","v":""},{"$f":"IF(Worksheet!R136=0,\"\",Worksheet!R136)","v":""},"",{"$f":"IF(Worksheet!Q136=0,\"\",Worksheet!Q136)","v":""},{"$f":"IF(OR(LEFT(B110,8)=\"LED Four\",LEFT(B110,8)=\"LED Tube\",LEFT(B110,8)=\"LED Mogu\",RIGHT(A110,2)=\"In\"),H110*Worksheet!V136,\"\")","v":""},{"$f":"IF(Worksheet!V136=0,\"\",IF(OR(LEFT(B110,8)=\"LED Four\",LEFT(B110,8)=\"LED Tube\",LEFT(B110,8)=\"LED Mogu\",RIGHT(A110,2)=\"In\"),\"\",Worksheet!V136))","v":""},"",{"$f":"IF(OR(LEFT(B110,8)=\"LED Four\",LEFT(B110,8)=\"LED Tube\",LEFT(B110,8)=\"LED Mogu\",RIGHT(A110,2)=\"In\"),H110*Worksheet!W136,\"\")","v":""},{"$f":"IF(Worksheet!W136=0,\"\",IF(OR(LEFT(B110,8)=\"LED Four\",LEFT(B110,8)=\"LED Tube\",LEFT(B110,8)=\"LED Mogu\",RIGHT(A110,2)=\"In\"),\"\",Worksheet!W136))","v":""},""]
[{"$f":"IF(Worksheet!K137=0,\"\",Worksheet!K137)","v":""},{"$f":"IF(Worksheet!L137=0,\"\",Worksheet!L137)","v":""},{"$f":"IF(Worksheet!M137=0,\"\",Worksheet!M137)","v":""},{"$f":"IF(Worksheet!N137=0,\"\",Worksheet!N137)","v":""},{"$f":"IF(Worksheet!P137=0,\"\",IF(OR(LEFT(B111,8)=\"LED Four\",LEFT(B111,8)=\"LED Tube\",LEFT(B111,8)=\"LED Mogu\",RIGHT(A111,2)=\"In\"),\"\",Worksheet!P137))","v":""},{"$f":"IF(Worksheet!R137=0,\"\",Worksheet!R137)","v":""},"",{"$f":"IF(Worksheet!Q137=0,\"\",Worksheet!Q137)","v":""},{"$f":"IF(OR(LEFT(B111,8)=\"LED Four\",LEFT(B111,8)=\"LED Tube\",LEFT(B111,8)=\"LED Mogu\",RIGHT(A111,2)=\"In\"),H111*Worksheet!V137,\"\")","v":""},{"$f":"IF(Worksheet!V137=0,\"\",IF(OR(LEFT(B111,8)=\"LED Four\",LEFT(B111,8)=\"LED Tube\",LEFT(B111,8)=\"LED Mogu\",RIGHT(A111,2)=\"In\"),\"\",Worksheet!V137))","v":""},"",{"$f":"IF(OR(LEFT(B111,8)=\"LED Four\",LEFT(B111,8)=\"LED Tube\",LEFT(B111,8)=\"LED Mogu\",RIGHT(A111,2)=\"In\"),H111*Worksheet!W137,\"\")","v":""},{"$f":"IF(Worksheet!W137=0,\"\",IF(OR(LEFT(B111,8)=\"LED Four\",LEFT(B111,8)=\"LED Tube\",LEFT(B111,8)=\"LED Mogu\",RIGHT(A111,2)=\"In\"),\"\",Worksheet!W137))","v":""},""]
[{"$f":"IF(Worksheet!K138=0,\"\",Worksheet!K138)","v":""},{"$f":"IF(Worksheet!L138=0,\"\",Worksheet!L138)","v":""},{"$f":"IF(Worksheet!M138=0,\"\",Worksheet!M138)","v":""},{"$f":"IF(Worksheet!N138=0,\"\",Worksheet!N138)","v":""},{"$f":"IF(Worksheet!P138=0,\"\",IF(OR(LEFT(B112,8)=\"LED Four\",LEFT(B112,8)=\"LED Tube\",LEFT(B112,8)=\"LED Mogu\",RIGHT(A112,2)=\"In\"),\"\",Worksheet!P138))","v":""},{"$f":"IF(Worksheet!R138=0,\"\",Worksheet!R138)","v":""},"",{"$f":"IF(Worksheet!Q138=0,\"\",Worksheet!Q138)","v":""},{"$f":"IF(OR(LEFT(B112,8)=\"LED Four\",LEFT(B112,8)=\"LED Tube\",LEFT(B112,8)=\"LED Mogu\",RIGHT(A112,2)=\"In\"),H112*Worksheet!V138,\"\")","v":""},{"$f":"IF(Worksheet!V138=0,\"\",IF(OR(LEFT(B112,8)=\"LED Four\",LEFT(B112,8)=\"LED Tube\",LEFT(B112,8)=\"LED Mogu\",RIGHT(A112,2)=\"In\"),\"\",Worksheet!V138))","v":""},"",{"$f":"IF(OR(LEFT(B112,8)=\"LED Four\",LEFT(B112,8)=\"LED Tube\",LEFT(B112,8)=\"LED Mogu\",RIGHT(A112,2)=\"In\"),H112*Worksheet!W138,\"\")","v":""},{"$f":"IF(Worksheet!W138=0,\"\",IF(OR(LEFT(B112,8)=\"LED Four\",LEFT(B112,8)=\"LED Tube\",LEFT(B112,8)=\"LED Mogu\",RIGHT(A112,2)=\"In\"),\"\",Worksheet!W138))","v":""},""]
[{"$f":"IF(Worksheet!K139=0,\"\",Worksheet!K139)","v":""},{"$f":"IF(Worksheet!L139=0,\"\",Worksheet!L139)","v":""},{"$f":"IF(Worksheet!M139=0,\"\",Worksheet!M139)","v":""},{"$f":"IF(Worksheet!N139=0,\"\",Worksheet!N139)","v":""},{"$f":"IF(Worksheet!P139=0,\"\",IF(OR(LEFT(B113,8)=\"LED Four\",LEFT(B113,8)=\"LED Tube\",LEFT(B113,8)=\"LED Mogu\",RIGHT(A113,2)=\"In\"),\"\",Worksheet!P139))","v":""},{"$f":"IF(Worksheet!R139=0,\"\",Worksheet!R139)","v":""},"",{"$f":"IF(Worksheet!Q139=0,\"\",Worksheet!Q139)","v":""},{"$f":"IF(OR(LEFT(B113,8)=\"LED Four\",LEFT(B113,8)=\"LED Tube\",LEFT(B113,8)=\"LED Mogu\",RIGHT(A113,2)=\"In\"),H113*Worksheet!V139,\"\")","v":""},{"$f":"IF(Worksheet!V139=0,\"\",IF(OR(LEFT(B113,8)=\"LED Four\",LEFT(B113,8)=\"LED Tube\",LEFT(B113,8)=\"LED Mogu\",RIGHT(A113,2)=\"In\"),\"\",Worksheet!V139))","v":""},"",{"$f":"IF(OR(LEFT(B113,8)=\"LED Four\",LEFT(B113,8)=\"LED Tube\",LEFT(B113,8)=\"LED Mogu\",RIGHT(A113,2)=\"In\"),H113*Worksheet!W139,\"\")","v":""},{"$f":"IF(Worksheet!W139=0,\"\",IF(OR(LEFT(B113,8)=\"LED Four\",LEFT(B113,8)=\"LED Tube\",LEFT(B113,8)=\"LED Mogu\",RIGHT(A113,2)=\"In\"),\"\",Worksheet!W139))","v":""},""]
[{"$f":"IF(Worksheet!K140=0,\"\",Worksheet!K140)","v":""},{"$f":"IF(Worksheet!L140=0,\"\",Worksheet!L140)","v":""},{"$f":"IF(Worksheet!M140=0,\"\",Worksheet!M140)","v":""},{"$f":"IF(Worksheet!N140=0,\"\",Worksheet!N140)","v":""},{"$f":"IF(Worksheet!P140=0,\"\",IF(OR(LEFT(B114,8)=\"LED Four\",LEFT(B114,8)=\"LED Tube\",LEFT(B114,8)=\"LED Mogu\",RIGHT(A114,2)=\"In\"),\"\",Worksheet!P140))","v":""},{"$f":"IF(Worksheet!R140=0,\"\",Worksheet!R140)","v":""},"",{"$f":"IF(Worksheet!Q140=0,\"\",Worksheet!Q140)","v":""},{"$f":"IF(OR(LEFT(B114,8)=\"LED Four\",LEFT(B114,8)=\"LED Tube\",LEFT(B114,8)=\"LED Mogu\",RIGHT(A114,2)=\"In\"),H114*Worksheet!V140,\"\")","v":""},{"$f":"IF(Worksheet!V140=0,\"\",IF(OR(LEFT(B114,8)=\"LED Four\",LEFT(B114,8)=\"LED Tube\",LEFT(B114,8)=\"LED Mogu\",RIGHT(A114,2)=\"In\"),\"\",Worksheet!V140))","v":""},"",{"$f":"IF(OR(LEFT(B114,8)=\"LED Four\",LEFT(B114,8)=\"LED Tube\",LEFT(B114,8)=\"LED Mogu\",RIGHT(A114,2)=\"In\"),H114*Worksheet!W140,\"\")","v":""},{"$f":"IF(Worksheet!W140=0,\"\",IF(OR(LEFT(B114,8)=\"LED Four\",LEFT(B114,8)=\"LED Tube\",LEFT(B114,8)=\"LED Mogu\",RIGHT(A114,2)=\"In\"),\"\",Worksheet!W140))","v":""},""]
[{"$f":"IF(Worksheet!K141=0,\"\",Worksheet!K141)","v":""},{"$f":"IF(Worksheet!L141=0,\"\",Worksheet!L141)","v":""},{"$f":"IF(Worksheet!M141=0,\"\",Worksheet!M141)","v":""},{"$f":"IF(Worksheet!N141=0,\"\",Worksheet!N141)","v":""},{"$f":"IF(Worksheet!P141=0,\"\",IF(OR(LEFT(B115,8)=\"LED Four\",LEFT(B115,8)=\"LED Tube\",LEFT(B115,8)=\"LED Mogu\",RIGHT(A115,2)=\"In\"),\"\",Worksheet!P141))","v":""},{"$f":"IF(Worksheet!R141=0,\"\",Worksheet!R141)","v":""},"",{"$f":"IF(Worksheet!Q141=0,\"\",Worksheet!Q141)","v":""},{"$f":"IF(OR(LEFT(B115,8)=\"LED Four\",LEFT(B115,8)=\"LED Tube\",LEFT(B115,8)=\"LED Mogu\",RIGHT(A115,2)=\"In\"),H115*Worksheet!V141,\"\")","v":""},{"$f":"IF(Worksheet!V141=0,\"\",IF(OR(LEFT(B115,8)=\"LED Four\",LEFT(B115,8)=\"LED Tube\",LEFT(B115,8)=\"LED Mogu\",RIGHT(A115,2)=\"In\"),\"\",Worksheet!V141))","v":""},"",{"$f":"IF(OR(LEFT(B115,8)=\"LED Four\",LEFT(B115,8)=\"LED Tube\",LEFT(B115,8)=\"LED Mogu\",RIGHT(A115,2)=\"In\"),H115*Worksheet!W141,\"\")","v":""},{"$f":"IF(Worksheet!W141=0,\"\",IF(OR(LEFT(B115,8)=\"LED Four\",LEFT(B115,8)=\"LED Tube\",LEFT(B115,8)=\"LED Mogu\",RIGHT(A115,2)=\"In\"),\"\",Worksheet!W141))","v":""},""]
[{"$f":"IF(Worksheet!K142=0,\"\",Worksheet!K142)","v":""},{"$f":"IF(Worksheet!L142=0,\"\",Worksheet!L142)","v":""},{"$f":"IF(Worksheet!M142=0,\"\",Worksheet!M142)","v":""},{"$f":"IF(Worksheet!N142=0,\"\",Worksheet!N142)","v":""},{"$f":"IF(Worksheet!P142=0,\"\",IF(OR(LEFT(B116,8)=\"LED Four\",LEFT(B116,8)=\"LED Tube\",LEFT(B116,8)=\"LED Mogu\",RIGHT(A116,2)=\"In\"),\"\",Worksheet!P142))","v":""},{"$f":"IF(Worksheet!R142=0,\"\",Worksheet!R142)","v":""},"",{"$f":"IF(Worksheet!Q142=0,\"\",Worksheet!Q142)","v":""},{"$f":"IF(OR(LEFT(B116,8)=\"LED Four\",LEFT(B116,8)=\"LED Tube\",LEFT(B116,8)=\"LED Mogu\",RIGHT(A116,2)=\"In\"),H116*Worksheet!V142,\"\")","v":""},{"$f":"IF(Worksheet!V142=0,\"\",IF(OR(LEFT(B116,8)=\"LED Four\",LEFT(B116,8)=\"LED Tube\",LEFT(B116,8)=\"LED Mogu\",RIGHT(A116,2)=\"In\"),\"\",Worksheet!V142))","v":""},"",{"$f":"IF(OR(LEFT(B116,8)=\"LED Four\",LEFT(B116,8)=\"LED Tube\",LEFT(B116,8)=\"LED Mogu\",RIGHT(A116,2)=\"In\"),H116*Worksheet!W142,\"\")","v":""},{"$f":"IF(Worksheet!W142=0,\"\",IF(OR(LEFT(B116,8)=\"LED Four\",LEFT(B116,8)=\"LED Tube\",LEFT(B116,8)=\"LED Mogu\",RIGHT(A116,2)=\"In\"),\"\",Worksheet!W142))","v":""},""]
[{"$f":"IF(Worksheet!K143=0,\"\",Worksheet!K143)","v":""},{"$f":"IF(Worksheet!L143=0,\"\",Worksheet!L143)","v":""},{"$f":"IF(Worksheet!M143=0,\"\",Worksheet!M143)","v":""},{"$f":"IF(Worksheet!N143=0,\"\",Worksheet!N143)","v":""},{"$f":"IF(Worksheet!P143=0,\"\",IF(OR(LEFT(B117,8)=\"LED Four\",LEFT(B117,8)=\"LED Tube\",LEFT(B117,8)=\"LED Mogu\",RIGHT(A117,2)=\"In\"),\"\",Worksheet!P143))","v":""},{"$f":"IF(Worksheet!R143=0,\"\",Worksheet!R143)","v":""},"",{"$f":"IF(Worksheet!Q143=0,\"\",Worksheet!Q143)","v":""},{"$f":"IF(OR(LEFT(B117,8)=\"LED Four\",LEFT(B117,8)=\"LED Tube\",LEFT(B117,8)=\"LED Mogu\",RIGHT(A117,2)=\"In\"),H117*Worksheet!V143,\"\")","v":""},{"$f":"IF(Worksheet!V143=0,\"\",IF(OR(LEFT(B117,8)=\"LED Four\",LEFT(B117,8)=\"LED Tube\",LEFT(B117,8)=\"LED Mogu\",RIGHT(A117,2)=\"In\"),\"\",Worksheet!V143))","v":""},"",{"$f":"IF(OR(LEFT(B117,8)=\"LED Four\",LEFT(B117,8)=\"LED Tube\",LEFT(B117,8)=\"LED Mogu\",RIGHT(A117,2)=\"In\"),H117*Worksheet!W143,\"\")","v":""},{"$f":"IF(Worksheet!W143=0,\"\",IF(OR(LEFT(B117,8)=\"LED Four\",LEFT(B117,8)=\"LED Tube\",LEFT(B117,8)=\"LED Mogu\",RIGHT(A117,2)=\"In\"),\"\",Worksheet!W143))","v":""},""]
[{"$f":"IF(Worksheet!K144=0,\"\",Worksheet!K144)","v":""},{"$f":"IF(Worksheet!L144=0,\"\",Worksheet!L144)","v":""},{"$f":"IF(Worksheet!M144=0,\"\",Worksheet!M144)","v":""},{"$f":"IF(Worksheet!N144=0,\"\",Worksheet!N144)","v":""},{"$f":"IF(Worksheet!P144=0,\"\",IF(OR(LEFT(B118,8)=\"LED Four\",LEFT(B118,8)=\"LED Tube\",LEFT(B118,8)=\"LED Mogu\",RIGHT(A118,2)=\"In\"),\"\",Worksheet!P144))","v":""},{"$f":"IF(Worksheet!R144=0,\"\",Worksheet!R144)","v":""},"",{"$f":"IF(Worksheet!Q144=0,\"\",Worksheet!Q144)","v":""},{"$f":"IF(OR(LEFT(B118,8)=\"LED Four\",LEFT(B118,8)=\"LED Tube\",LEFT(B118,8)=\"LED Mogu\",RIGHT(A118,2)=\"In\"),H118*Worksheet!V144,\"\")","v":""},{"$f":"IF(Worksheet!V144=0,\"\",IF(OR(LEFT(B118,8)=\"LED Four\",LEFT(B118,8)=\"LED Tube\",LEFT(B118,8)=\"LED Mogu\",RIGHT(A118,2)=\"In\"),\"\",Worksheet!V144))","v":""},"",{"$f":"IF(OR(LEFT(B118,8)=\"LED Four\",LEFT(B118,8)=\"LED Tube\",LEFT(B118,8)=\"LED Mogu\",RIGHT(A118,2)=\"In\"),H118*Worksheet!W144,\"\")","v":""},{"$f":"IF(Worksheet!W144=0,\"\",IF(OR(LEFT(B118,8)=\"LED Four\",LEFT(B118,8)=\"LED Tube\",LEFT(B118,8)=\"LED Mogu\",RIGHT(A118,2)=\"In\"),\"\",Worksheet!W144))","v":""},""]
[{"$f":"IF(Worksheet!K145=0,\"\",Worksheet!K145)","v":""},{"$f":"IF(Worksheet!L145=0,\"\",Worksheet!L145)","v":""},{"$f":"IF(Worksheet!M145=0,\"\",Worksheet!M145)","v":""},{"$f":"IF(Worksheet!N145=0,\"\",Worksheet!N145)","v":""},{"$f":"IF(Worksheet!P145=0,\"\",IF(OR(LEFT(B119,8)=\"LED Four\",LEFT(B119,8)=\"LED Tube\",LEFT(B119,8)=\"LED Mogu\",RIGHT(A119,2)=\"In\"),\"\",Worksheet!P145))","v":""},{"$f":"IF(Worksheet!R145=0,\"\",Worksheet!R145)","v":""},"",{"$f":"IF(Worksheet!Q145=0,\"\",Worksheet!Q145)","v":""},{"$f":"IF(OR(LEFT(B119,8)=\"LED Four\",LEFT(B119,8)=\"LED Tube\",LEFT(B119,8)=\"LED Mogu\",RIGHT(A119,2)=\"In\"),H119*Worksheet!V145,\"\")","v":""},{"$f":"IF(Worksheet!V145=0,\"\",IF(OR(LEFT(B119,8)=\"LED Four\",LEFT(B119,8)=\"LED Tube\",LEFT(B119,8)=\"LED Mogu\",RIGHT(A119,2)=\"In\"),\"\",Worksheet!V145))","v":""},"",{"$f":"IF(OR(LEFT(B119,8)=\"LED Four\",LEFT(B119,8)=\"LED Tube\",LEFT(B119,8)=\"LED Mogu\",RIGHT(A119,2)=\"In\"),H119*Worksheet!W145,\"\")","v":""},{"$f":"IF(Worksheet!W145=0,\"\",IF(OR(LEFT(B119,8)=\"LED Four\",LEFT(B119,8)=\"LED Tube\",LEFT(B119,8)=\"LED Mogu\",RIGHT(A119,2)=\"In\"),\"\",Worksheet!W145))","v":""},""]
[{"$f":"IF(Worksheet!K146=0,\"\",Worksheet!K146)","v":""},{"$f":"IF(Worksheet!L146=0,\"\",Worksheet!L146)","v":""},{"$f":"IF(Worksheet!M146=0,\"\",Worksheet!M146)","v":""},{"$f":"IF(Worksheet!N146=0,\"\",Worksheet!N146)","v":""},{"$f":"IF(Worksheet!P146=0,\"\",IF(OR(LEFT(B120,8)=\"LED Four\",LEFT(B120,8)=\"LED Tube\",LEFT(B120,8)=\"LED Mogu\",RIGHT(A120,2)=\"In\"),\"\",Worksheet!P146))","v":""},{"$f":"IF(Worksheet!R146=0,\"\",Worksheet!R146)","v":""},"",{"$f":"IF(Worksheet!Q146=0,\"\",Worksheet!Q146)","v":""},{"$f":"IF(OR(LEFT(B120,8)=\"LED Four\",LEFT(B120,8)=\"LED Tube\",LEFT(B120,8)=\"LED Mogu\",RIGHT(A120,2)=\"In\"),H120*Worksheet!V146,\"\")","v":""},{"$f":"IF(Worksheet!V146=0,\"\",IF(OR(LEFT(B120,8)=\"LED Four\",LEFT(B120,8)=\"LED Tube\",LEFT(B120,8)=\"LED Mogu\",RIGHT(A120,2)=\"In\"),\"\",Worksheet!V146))","v":""},"",{"$f":"IF(OR(LEFT(B120,8)=\"LED Four\",LEFT(B120,8)=\"LED Tube\",LEFT(B120,8)=\"LED Mogu\",RIGHT(A120,2)=\"In\"),H120*Worksheet!W146,\"\")","v":""},{"$f":"IF(Worksheet!W146=0,\"\",IF(OR(LEFT(B120,8)=\"LED Four\",LEFT(B120,8)=\"LED Tube\",LEFT(B120,8)=\"LED Mogu\",RIGHT(A120,2)=\"In\"),\"\",Worksheet!W146))","v":""},""]
[{"$f":"IF(Worksheet!K147=0,\"\",Worksheet!K147)","v":""},{"$f":"IF(Worksheet!L147=0,\"\",Worksheet!L147)","v":""},{"$f":"IF(Worksheet!M147=0,\"\",Worksheet!M147)","v":""},{"$f":"IF(Worksheet!N147=0,\"\",Worksheet!N147)","v":""},{"$f":"IF(Worksheet!P147=0,\"\",IF(OR(LEFT(B121,8)=\"LED Four\",LEFT(B121,8)=\"LED Tube\",LEFT(B121,8)=\"LED Mogu\",RIGHT(A121,2)=\"In\"),\"\",Worksheet!P147))","v":""},{"$f":"IF(Worksheet!R147=0,\"\",Worksheet!R147)","v":""},"",{"$f":"IF(Worksheet!Q147=0,\"\",Worksheet!Q147)","v":""},{"$f":"IF(OR(LEFT(B121,8)=\"LED Four\",LEFT(B121,8)=\"LED Tube\",LEFT(B121,8)=\"LED Mogu\",RIGHT(A121,2)=\"In\"),H121*Worksheet!V147,\"\")","v":""},{"$f":"IF(Worksheet!V147=0,\"\",IF(OR(LEFT(B121,8)=\"LED Four\",LEFT(B121,8)=\"LED Tube\",LEFT(B121,8)=\"LED Mogu\",RIGHT(A121,2)=\"In\"),\"\",Worksheet!V147))","v":""},"",{"$f":"IF(OR(LEFT(B121,8)=\"LED Four\",LEFT(B121,8)=\"LED Tube\",LEFT(B121,8)=\"LED Mogu\",RIGHT(A121,2)=\"In\"),H121*Worksheet!W147,\"\")","v":""},{"$f":"IF(Worksheet!W147=0,\"\",IF(OR(LEFT(B121,8)=\"LED Four\",LEFT(B121,8)=\"LED Tube\",LEFT(B121,8)=\"LED Mogu\",RIGHT(A121,2)=\"In\"),\"\",Worksheet!W147))","v":""},""]
[{"$f":"IF(Worksheet!K148=0,\"\",Worksheet!K148)","v":""},{"$f":"IF(Worksheet!L148=0,\"\",Worksheet!L148)","v":""},{"$f":"IF(Worksheet!M148=0,\"\",Worksheet!M148)","v":""},{"$f":"IF(Worksheet!N148=0,\"\",Worksheet!N148)","v":""},{"$f":"IF(Worksheet!P148=0,\"\",IF(OR(LEFT(B122,8)=\"LED Four\",LEFT(B122,8)=\"LED Tube\",LEFT(B122,8)=\"LED Mogu\",RIGHT(A122,2)=\"In\"),\"\",Worksheet!P148))","v":""},{"$f":"IF(Worksheet!R148=0,\"\",Worksheet!R148)","v":""},"",{"$f":"IF(Worksheet!Q148=0,\"\",Worksheet!Q148)","v":""},{"$f":"IF(OR(LEFT(B122,8)=\"LED Four\",LEFT(B122,8)=\"LED Tube\",LEFT(B122,8)=\"LED Mogu\",RIGHT(A122,2)=\"In\"),H122*Worksheet!V148,\"\")","v":""},{"$f":"IF(Worksheet!V148=0,\"\",IF(OR(LEFT(B122,8)=\"LED Four\",LEFT(B122,8)=\"LED Tube\",LEFT(B122,8)=\"LED Mogu\",RIGHT(A122,2)=\"In\"),\"\",Worksheet!V148))","v":""},"",{"$f":"IF(OR(LEFT(B122,8)=\"LED Four\",LEFT(B122,8)=\"LED Tube\",LEFT(B122,8)=\"LED Mogu\",RIGHT(A122,2)=\"In\"),H122*Worksheet!W148,\"\")","v":""},{"$f":"IF(Worksheet!W148=0,\"\",IF(OR(LEFT(B122,8)=\"LED Four\",LEFT(B122,8)=\"LED Tube\",LEFT(B122,8)=\"LED Mogu\",RIGHT(A122,2)=\"In\"),\"\",Worksheet!W148))","v":""},""]
[{"$f":"IF(Worksheet!K149=0,\"\",Worksheet!K149)","v":""},{"$f":"IF(Worksheet!L149=0,\"\",Worksheet!L149)","v":""},{"$f":"IF(Worksheet!M149=0,\"\",Worksheet!M149)","v":""},{"$f":"IF(Worksheet!N149=0,\"\",Worksheet!N149)","v":""},{"$f":"IF(Worksheet!P149=0,\"\",IF(OR(LEFT(B123,8)=\"LED Four\",LEFT(B123,8)=\"LED Tube\",LEFT(B123,8)=\"LED Mogu\",RIGHT(A123,2)=\"In\"),\"\",Worksheet!P149))","v":""},{"$f":"IF(Worksheet!R149=0,\"\",Worksheet!R149)","v":""},"",{"$f":"IF(Worksheet!Q149=0,\"\",Worksheet!Q149)","v":""},{"$f":"IF(OR(LEFT(B123,8)=\"LED Four\",LEFT(B123,8)=\"LED Tube\",LEFT(B123,8)=\"LED Mogu\",RIGHT(A123,2)=\"In\"),H123*Worksheet!V149,\"\")","v":""},{"$f":"IF(Worksheet!V149=0,\"\",IF(OR(LEFT(B123,8)=\"LED Four\",LEFT(B123,8)=\"LED Tube\",LEFT(B123,8)=\"LED Mogu\",RIGHT(A123,2)=\"In\"),\"\",Worksheet!V149))","v":""},"",{"$f":"IF(OR(LEFT(B123,8)=\"LED Four\",LEFT(B123,8)=\"LED Tube\",LEFT(B123,8)=\"LED Mogu\",RIGHT(A123,2)=\"In\"),H123*Worksheet!W149,\"\")","v":""},{"$f":"IF(Worksheet!W149=0,\"\",IF(OR(LEFT(B123,8)=\"LED Four\",LEFT(B123,8)=\"LED Tube\",LEFT(B123,8)=\"LED Mogu\",RIGHT(A123,2)=\"In\"),\"\",Worksheet!W149))","v":""},""]
[{"$f":"IF(Worksheet!K150=0,\"\",Worksheet!K150)","v":""},{"$f":"IF(Worksheet!L150=0,\"\",Worksheet!L150)","v":""},{"$f":"IF(Worksheet!M150=0,\"\",Worksheet!M150)","v":""},{"$f":"IF(Worksheet!N150=0,\"\",Worksheet!N150)","v":""},{"$f":"IF(Worksheet!P150=0,\"\",IF(OR(LEFT(B124,8)=\"LED Four\",LEFT(B124,8)=\"LED Tube\",LEFT(B124,8)=\"LED Mogu\",RIGHT(A124,2)=\"In\"),\"\",Worksheet!P150))","v":""},{"$f":"IF(Worksheet!R150=0,\"\",Worksheet!R150)","v":""},"",{"$f":"IF(Worksheet!Q150=0,\"\",Worksheet!Q150)","v":""},{"$f":"IF(OR(LEFT(B124,8)=\"LED Four\",LEFT(B124,8)=\"LED Tube\",LEFT(B124,8)=\"LED Mogu\",RIGHT(A124,2)=\"In\"),H124*Worksheet!V150,\"\")","v":""},{"$f":"IF(Worksheet!V150=0,\"\",IF(OR(LEFT(B124,8)=\"LED Four\",LEFT(B124,8)=\"LED Tube\",LEFT(B124,8)=\"LED Mogu\",RIGHT(A124,2)=\"In\"),\"\",Worksheet!V150))","v":""},"",{"$f":"IF(OR(LEFT(B124,8)=\"LED Four\",LEFT(B124,8)=\"LED Tube\",LEFT(B124,8)=\"LED Mogu\",RIGHT(A124,2)=\"In\"),H124*Worksheet!W150,\"\")","v":""},{"$f":"IF(Worksheet!W150=0,\"\",IF(OR(LEFT(B124,8)=\"LED Four\",LEFT(B124,8)=\"LED Tube\",LEFT(B124,8)=\"LED Mogu\",RIGHT(A124,2)=\"In\"),\"\",Worksheet!W150))","v":""},""]
[{"$f":"IF(Worksheet!K151=0,\"\",Worksheet!K151)","v":""},{"$f":"IF(Worksheet!L151=0,\"\",Worksheet!L151)","v":""},{"$f":"IF(Worksheet!M151=0,\"\",Worksheet!M151)","v":""},{"$f":"IF(Worksheet!N151=0,\"\",Worksheet!N151)","v":""},{"$f":"IF(Worksheet!P151=0,\"\",IF(OR(LEFT(B125,8)=\"LED Four\",LEFT(B125,8)=\"LED Tube\",LEFT(B125,8)=\"LED Mogu\",RIGHT(A125,2)=\"In\"),\"\",Worksheet!P151))","v":""},{"$f":"IF(Worksheet!R151=0,\"\",Worksheet!R151)","v":""},"",{"$f":"IF(Worksheet!Q151=0,\"\",Worksheet!Q151)","v":""},{"$f":"IF(OR(LEFT(B125,8)=\"LED Four\",LEFT(B125,8)=\"LED Tube\",LEFT(B125,8)=\"LED Mogu\",RIGHT(A125,2)=\"In\"),H125*Worksheet!V151,\"\")","v":""},{"$f":"IF(Worksheet!V151=0,\"\",IF(OR(LEFT(B125,8)=\"LED Four\",LEFT(B125,8)=\"LED Tube\",LEFT(B125,8)=\"LED Mogu\",RIGHT(A125,2)=\"In\"),\"\",Worksheet!V151))","v":""},"",{"$f":"IF(OR(LEFT(B125,8)=\"LED Four\",LEFT(B125,8)=\"LED Tube\",LEFT(B125,8)=\"LED Mogu\",RIGHT(A125,2)=\"In\"),H125*Worksheet!W151,\"\")","v":""},{"$f":"IF(Worksheet!W151=0,\"\",IF(OR(LEFT(B125,8)=\"LED Four\",LEFT(B125,8)=\"LED Tube\",LEFT(B125,8)=\"LED Mogu\",RIGHT(A125,2)=\"In\"),\"\",Worksheet!W151))","v":""},""]
[{"$f":"IF(Worksheet!K152=0,\"\",Worksheet!K152)","v":""},{"$f":"IF(Worksheet!L152=0,\"\",Worksheet!L152)","v":""},{"$f":"IF(Worksheet!M152=0,\"\",Worksheet!M152)","v":""},{"$f":"IF(Worksheet!N152=0,\"\",Worksheet!N152)","v":""},{"$f":"IF(Worksheet!P152=0,\"\",IF(OR(LEFT(B126,8)=\"LED Four\",LEFT(B126,8)=\"LED Tube\",LEFT(B126,8)=\"LED Mogu\",RIGHT(A126,2)=\"In\"),\"\",Worksheet!P152))","v":""},{"$f":"IF(Worksheet!R152=0,\"\",Worksheet!R152)","v":""},"",{"$f":"IF(Worksheet!Q152=0,\"\",Worksheet!Q152)","v":""},{"$f":"IF(OR(LEFT(B126,8)=\"LED Four\",LEFT(B126,8)=\"LED Tube\",LEFT(B126,8)=\"LED Mogu\",RIGHT(A126,2)=\"In\"),H126*Worksheet!V152,\"\")","v":""},{"$f":"IF(Worksheet!V152=0,\"\",IF(OR(LEFT(B126,8)=\"LED Four\",LEFT(B126,8)=\"LED Tube\",LEFT(B126,8)=\"LED Mogu\",RIGHT(A126,2)=\"In\"),\"\",Worksheet!V152))","v":""},"",{"$f":"IF(OR(LEFT(B126,8)=\"LED Four\",LEFT(B126,8)=\"LED Tube\",LEFT(B126,8)=\"LED Mogu\",RIGHT(A126,2)=\"In\"),H126*Worksheet!W152,\"\")","v":""},{"$f":"IF(Worksheet!W152=0,\"\",IF(OR(LEFT(B126,8)=\"LED Four\",LEFT(B126,8)=\"LED Tube\",LEFT(B126,8)=\"LED Mogu\",RIGHT(A126,2)=\"In\"),\"\",Worksheet!W152))","v":""},""]
[{"$f":"IF(Worksheet!K153=0,\"\",Worksheet!K153)","v":""},{"$f":"IF(Worksheet!L153=0,\"\",Worksheet!L153)","v":""},{"$f":"IF(Worksheet!M153=0,\"\",Worksheet!M153)","v":""},{"$f":"IF(Worksheet!N153=0,\"\",Worksheet!N153)","v":""},{"$f":"IF(Worksheet!P153=0,\"\",IF(OR(LEFT(B127,8)=\"LED Four\",LEFT(B127,8)=\"LED Tube\",LEFT(B127,8)=\"LED Mogu\",RIGHT(A127,2)=\"In\"),\"\",Worksheet!P153))","v":""},{"$f":"IF(Worksheet!R153=0,\"\",Worksheet!R153)","v":""},"",{"$f":"IF(Worksheet!Q153=0,\"\",Worksheet!Q153)","v":""},{"$f":"IF(OR(LEFT(B127,8)=\"LED Four\",LEFT(B127,8)=\"LED Tube\",LEFT(B127,8)=\"LED Mogu\",RIGHT(A127,2)=\"In\"),H127*Worksheet!V153,\"\")","v":""},{"$f":"IF(Worksheet!V153=0,\"\",IF(OR(LEFT(B127,8)=\"LED Four\",LEFT(B127,8)=\"LED Tube\",LEFT(B127,8)=\"LED Mogu\",RIGHT(A127,2)=\"In\"),\"\",Worksheet!V153))","v":""},"",{"$f":"IF(OR(LEFT(B127,8)=\"LED Four\",LEFT(B127,8)=\"LED Tube\",LEFT(B127,8)=\"LED Mogu\",RIGHT(A127,2)=\"In\"),H127*Worksheet!W153,\"\")","v":""},{"$f":"IF(Worksheet!W153=0,\"\",IF(OR(LEFT(B127,8)=\"LED Four\",LEFT(B127,8)=\"LED Tube\",LEFT(B127,8)=\"LED Mogu\",RIGHT(A127,2)=\"In\"),\"\",Worksheet!W153))","v":""},""]
[{"$f":"IF(Worksheet!K154=0,\"\",Worksheet!K154)","v":""},{"$f":"IF(Worksheet!L154=0,\"\",Worksheet!L154)","v":""},{"$f":"IF(Worksheet!M154=0,\"\",Worksheet!M154)","v":""},{"$f":"IF(Worksheet!N154=0,\"\",Worksheet!N154)","v":""},{"$f":"IF(Worksheet!P154=0,\"\",IF(OR(LEFT(B128,8)=\"LED Four\",LEFT(B128,8)=\"LED Tube\",LEFT(B128,8)=\"LED Mogu\",RIGHT(A128,2)=\"In\"),\"\",Worksheet!P154))","v":""},{"$f":"IF(Worksheet!R154=0,\"\",Worksheet!R154)","v":""},"",{"$f":"IF(Worksheet!Q154=0,\"\",Worksheet!Q154)","v":""},{"$f":"IF(OR(LEFT(B128,8)=\"LED Four\",LEFT(B128,8)=\"LED Tube\",LEFT(B128,8)=\"LED Mogu\",RIGHT(A128,2)=\"In\"),H128*Worksheet!V154,\"\")","v":""},{"$f":"IF(Worksheet!V154=0,\"\",IF(OR(LEFT(B128,8)=\"LED Four\",LEFT(B128,8)=\"LED Tube\",LEFT(B128,8)=\"LED Mogu\",RIGHT(A128,2)=\"In\"),\"\",Worksheet!V154))","v":""},"",{"$f":"IF(OR(LEFT(B128,8)=\"LED Four\",LEFT(B128,8)=\"LED Tube\",LEFT(B128,8)=\"LED Mogu\",RIGHT(A128,2)=\"In\"),H128*Worksheet!W154,\"\")","v":""},{"$f":"IF(Worksheet!W154=0,\"\",IF(OR(LEFT(B128,8)=\"LED Four\",LEFT(B128,8)=\"LED Tube\",LEFT(B128,8)=\"LED Mogu\",RIGHT(A128,2)=\"In\"),\"\",Worksheet!W154))","v":""},""]
[{"$f":"IF(Worksheet!K155=0,\"\",Worksheet!K155)","v":""},{"$f":"IF(Worksheet!L155=0,\"\",Worksheet!L155)","v":""},{"$f":"IF(Worksheet!M155=0,\"\",Worksheet!M155)","v":""},{"$f":"IF(Worksheet!N155=0,\"\",Worksheet!N155)","v":""},{"$f":"IF(Worksheet!P155=0,\"\",IF(OR(LEFT(B129,8)=\"LED Four\",LEFT(B129,8)=\"LED Tube\",LEFT(B129,8)=\"LED Mogu\",RIGHT(A129,2)=\"In\"),\"\",Worksheet!P155))","v":""},{"$f":"IF(Worksheet!R155=0,\"\",Worksheet!R155)","v":""},"",{"$f":"IF(Worksheet!Q155=0,\"\",Worksheet!Q155)","v":""},{"$f":"IF(OR(LEFT(B129,8)=\"LED Four\",LEFT(B129,8)=\"LED Tube\",LEFT(B129,8)=\"LED Mogu\",RIGHT(A129,2)=\"In\"),H129*Worksheet!V155,\"\")","v":""},{"$f":"IF(Worksheet!V155=0,\"\",IF(OR(LEFT(B129,8)=\"LED Four\",LEFT(B129,8)=\"LED Tube\",LEFT(B129,8)=\"LED Mogu\",RIGHT(A129,2)=\"In\"),\"\",Worksheet!V155))","v":""},"",{"$f":"IF(OR(LEFT(B129,8)=\"LED Four\",LEFT(B129,8)=\"LED Tube\",LEFT(B129,8)=\"LED Mogu\",RIGHT(A129,2)=\"In\"),H129*Worksheet!W155,\"\")","v":""},{"$f":"IF(Worksheet!W155=0,\"\",IF(OR(LEFT(B129,8)=\"LED Four\",LEFT(B129,8)=\"LED Tube\",LEFT(B129,8)=\"LED Mogu\",RIGHT(A129,2)=\"In\"),\"\",Worksheet!W155))","v":""},""]
[{"$f":"IF(Worksheet!K156=0,\"\",Worksheet!K156)","v":""},{"$f":"IF(Worksheet!L156=0,\"\",Worksheet!L156)","v":""},{"$f":"IF(Worksheet!M156=0,\"\",Worksheet!M156)","v":""},{"$f":"IF(Worksheet!N156=0,\"\",Worksheet!N156)","v":""},{"$f":"IF(Worksheet!P156=0,\"\",IF(OR(LEFT(B130,8)=\"LED Four\",LEFT(B130,8)=\"LED Tube\",LEFT(B130,8)=\"LED Mogu\",RIGHT(A130,2)=\"In\"),\"\",Worksheet!P156))","v":""},{"$f":"IF(Worksheet!R156=0,\"\",Worksheet!R156)","v":""},"",{"$f":"IF(Worksheet!Q156=0,\"\",Worksheet!Q156)","v":""},{"$f":"IF(OR(LEFT(B130,8)=\"LED Four\",LEFT(B130,8)=\"LED Tube\",LEFT(B130,8)=\"LED Mogu\",RIGHT(A130,2)=\"In\"),H130*Worksheet!V156,\"\")","v":""},{"$f":"IF(Worksheet!V156=0,\"\",IF(OR(LEFT(B130,8)=\"LED Four\",LEFT(B130,8)=\"LED Tube\",LEFT(B130,8)=\"LED Mogu\",RIGHT(A130,2)=\"In\"),\"\",Worksheet!V156))","v":""},"",{"$f":"IF(OR(LEFT(B130,8)=\"LED Four\",LEFT(B130,8)=\"LED Tube\",LEFT(B130,8)=\"LED Mogu\",RIGHT(A130,2)=\"In\"),H130*Worksheet!W156,\"\")","v":""},{"$f":"IF(Worksheet!W156=0,\"\",IF(OR(LEFT(B130,8)=\"LED Four\",LEFT(B130,8)=\"LED Tube\",LEFT(B130,8)=\"LED Mogu\",RIGHT(A130,2)=\"In\"),\"\",Worksheet!W156))","v":""},""]
[{"$f":"IF(Worksheet!K157=0,\"\",Worksheet!K157)","v":""},{"$f":"IF(Worksheet!L157=0,\"\",Worksheet!L157)","v":""},{"$f":"IF(Worksheet!M157=0,\"\",Worksheet!M157)","v":""},{"$f":"IF(Worksheet!N157=0,\"\",Worksheet!N157)","v":""},{"$f":"IF(Worksheet!P157=0,\"\",IF(OR(LEFT(B131,8)=\"LED Four\",LEFT(B131,8)=\"LED Tube\",LEFT(B131,8)=\"LED Mogu\",RIGHT(A131,2)=\"In\"),\"\",Worksheet!P157))","v":""},{"$f":"IF(Worksheet!R157=0,\"\",Worksheet!R157)","v":""},{"$f":"IF(MAX(E131:F131)=0,\"\",MAX(E131:F131))","v":""},{"$f":"IF(Worksheet!Q157=0,\"\",Worksheet!Q157)","v":""},{"$f":"IF(OR(LEFT(B131,8)=\"LED Four\",LEFT(B131,8)=\"LED Tube\",LEFT(B131,8)=\"LED Mogu\",RIGHT(A131,2)=\"In\"),H131*Worksheet!V157,\"\")","v":""},{"$f":"IF(Worksheet!V157=0,\"\",IF(OR(LEFT(B131,8)=\"LED Four\",LEFT(B131,8)=\"LED Tube\",LEFT(B131,8)=\"LED Mogu\",RIGHT(A131,2)=\"In\"),\"\",Worksheet!V157))","v":""},{"$f":"(IF(MAX(I131:J131)=0,\"\",MAX(I131:J131)))","v":""},{"$f":"IF(OR(LEFT(B131,8)=\"LED Four\",LEFT(B131,8)=\"LED Tube\",LEFT(B131,8)=\"LED Mogu\",RIGHT(A131,2)=\"In\"),H131*Worksheet!W157,\"\")","v":""},{"$f":"IF(Worksheet!W157=0,\"\",IF(OR(LEFT(B131,8)=\"LED Four\",LEFT(B131,8)=\"LED Tube\",LEFT(B131,8)=\"LED Mogu\",RIGHT(A131,2)=\"In\"),\"\",Worksheet!W157))","v":""},{"$f":"IF(MAX(L131:M131)=0,\"\",MAX(L131:M131))","v":""}]
[{"$f":"IF(Worksheet!K158=0,\"\",Worksheet!K158)","v":""},{"$f":"IF(Worksheet!L158=0,\"\",Worksheet!L158)","v":""},{"$f":"IF(Worksheet!M158=0,\"\",Worksheet!M158)","v":""},{"$f":"IF(Worksheet!N158=0,\"\",Worksheet!N158)","v":""},{"$f":"IF(Worksheet!P158=0,\"\",IF(OR(LEFT(B132,8)=\"LED Four\",LEFT(B132,8)=\"LED Tube\",LEFT(B132,8)=\"LED Mogu\",RIGHT(A132,2)=\"In\"),\"\",Worksheet!P158))","v":""},{"$f":"IF(Worksheet!R158=0,\"\",Worksheet!R158)","v":""},"",{"$f":"IF(Worksheet!Q158=0,\"\",Worksheet!Q158)","v":""},{"$f":"IF(OR(LEFT(B132,8)=\"LED Four\",LEFT(B132,8)=\"LED Tube\",LEFT(B132,8)=\"LED Mogu\",RIGHT(A132,2)=\"In\"),H132*Worksheet!V158,\"\")","v":""},{"$f":"IF(Worksheet!V158=0,\"\",IF(OR(LEFT(B132,8)=\"LED Four\",LEFT(B132,8)=\"LED Tube\",LEFT(B132,8)=\"LED Mogu\",RIGHT(A132,2)=\"In\"),\"\",Worksheet!V158))","v":""},"",{"$f":"IF(OR(LEFT(B132,8)=\"LED Four\",LEFT(B132,8)=\"LED Tube\",LEFT(B132,8)=\"LED Mogu\",RIGHT(A132,2)=\"In\"),H132*Worksheet!W158,\"\")","v":""},{"$f":"IF(Worksheet!W158=0,\"\",IF(OR(LEFT(B132,8)=\"LED Four\",LEFT(B132,8)=\"LED Tube\",LEFT(B132,8)=\"LED Mogu\",RIGHT(A132,2)=\"In\"),\"\",Worksheet!W158))","v":""},""]
[{"$f":"IF(Worksheet!K159=0,\"\",Worksheet!K159)","v":""},{"$f":"IF(Worksheet!L159=0,\"\",Worksheet!L159)","v":""},{"$f":"IF(Worksheet!M159=0,\"\",Worksheet!M159)","v":""},{"$f":"IF(Worksheet!N159=0,\"\",Worksheet!N159)","v":""},{"$f":"IF(Worksheet!P159=0,\"\",IF(OR(LEFT(B133,8)=\"LED Four\",LEFT(B133,8)=\"LED Tube\",LEFT(B133,8)=\"LED Mogu\",RIGHT(A133,2)=\"In\"),\"\",Worksheet!P159))","v":""},{"$f":"IF(Worksheet!R159=0,\"\",Worksheet!R159)","v":""},"",{"$f":"IF(Worksheet!Q159=0,\"\",Worksheet!Q159)","v":""},{"$f":"IF(OR(LEFT(B133,8)=\"LED Four\",LEFT(B133,8)=\"LED Tube\",LEFT(B133,8)=\"LED Mogu\",RIGHT(A133,2)=\"In\"),H133*Worksheet!V159,\"\")","v":""},{"$f":"IF(Worksheet!V159=0,\"\",IF(OR(LEFT(B133,8)=\"LED Four\",LEFT(B133,8)=\"LED Tube\",LEFT(B133,8)=\"LED Mogu\",RIGHT(A133,2)=\"In\"),\"\",Worksheet!V159))","v":""},"",{"$f":"IF(OR(LEFT(B133,8)=\"LED Four\",LEFT(B133,8)=\"LED Tube\",LEFT(B133,8)=\"LED Mogu\",RIGHT(A133,2)=\"In\"),H133*Worksheet!W159,\"\")","v":""},{"$f":"IF(Worksheet!W159=0,\"\",IF(OR(LEFT(B133,8)=\"LED Four\",LEFT(B133,8)=\"LED Tube\",LEFT(B133,8)=\"LED Mogu\",RIGHT(A133,2)=\"In\"),\"\",Worksheet!W159))","v":""},""]
[{"$f":"IF(Worksheet!K160=0,\"\",Worksheet!K160)","v":""},{"$f":"IF(Worksheet!L160=0,\"\",Worksheet!L160)","v":""},{"$f":"IF(Worksheet!M160=0,\"\",Worksheet!M160)","v":""},{"$f":"IF(Worksheet!N160=0,\"\",Worksheet!N160)","v":""},{"$f":"IF(Worksheet!P160=0,\"\",IF(OR(LEFT(B134,8)=\"LED Four\",LEFT(B134,8)=\"LED Tube\",LEFT(B134,8)=\"LED Mogu\",RIGHT(A134,2)=\"In\"),\"\",Worksheet!P160))","v":""},{"$f":"IF(Worksheet!R160=0,\"\",Worksheet!R160)","v":""},"",{"$f":"IF(Worksheet!Q160=0,\"\",Worksheet!Q160)","v":""},{"$f":"IF(OR(LEFT(B134,8)=\"LED Four\",LEFT(B134,8)=\"LED Tube\",LEFT(B134,8)=\"LED Mogu\",RIGHT(A134,2)=\"In\"),H134*Worksheet!V160,\"\")","v":""},{"$f":"IF(Worksheet!V160=0,\"\",IF(OR(LEFT(B134,8)=\"LED Four\",LEFT(B134,8)=\"LED Tube\",LEFT(B134,8)=\"LED Mogu\",RIGHT(A134,2)=\"In\"),\"\",Worksheet!V160))","v":""},"",{"$f":"IF(OR(LEFT(B134,8)=\"LED Four\",LEFT(B134,8)=\"LED Tube\",LEFT(B134,8)=\"LED Mogu\",RIGHT(A134,2)=\"In\"),H134*Worksheet!W160,\"\")","v":""},{"$f":"IF(Worksheet!W160=0,\"\",IF(OR(LEFT(B134,8)=\"LED Four\",LEFT(B134,8)=\"LED Tube\",LEFT(B134,8)=\"LED Mogu\",RIGHT(A134,2)=\"In\"),\"\",Worksheet!W160))","v":""},""]
[{"$f":"IF(Worksheet!K161=0,\"\",Worksheet!K161)","v":""},{"$f":"IF(Worksheet!L161=0,\"\",Worksheet!L161)","v":""},{"$f":"IF(Worksheet!M161=0,\"\",Worksheet!M161)","v":""},{"$f":"IF(Worksheet!N161=0,\"\",Worksheet!N161)","v":""},{"$f":"IF(Worksheet!P161=0,\"\",IF(OR(LEFT(B135,8)=\"LED Four\",LEFT(B135,8)=\"LED Tube\",LEFT(B135,8)=\"LED Mogu\",RIGHT(A135,2)=\"In\"),\"\",Worksheet!P161))","v":""},{"$f":"IF(Worksheet!R161=0,\"\",Worksheet!R161)","v":""},"",{"$f":"IF(Worksheet!Q161=0,\"\",Worksheet!Q161)","v":""},{"$f":"IF(OR(LEFT(B135,8)=\"LED Four\",LEFT(B135,8)=\"LED Tube\",LEFT(B135,8)=\"LED Mogu\",RIGHT(A135,2)=\"In\"),H135*Worksheet!V161,\"\")","v":""},{"$f":"IF(Worksheet!V161=0,\"\",IF(OR(LEFT(B135,8)=\"LED Four\",LEFT(B135,8)=\"LED Tube\",LEFT(B135,8)=\"LED Mogu\",RIGHT(A135,2)=\"In\"),\"\",Worksheet!V161))","v":""},"",{"$f":"IF(OR(LEFT(B135,8)=\"LED Four\",LEFT(B135,8)=\"LED Tube\",LEFT(B135,8)=\"LED Mogu\",RIGHT(A135,2)=\"In\"),H135*Worksheet!W161,\"\")","v":""},{"$f":"IF(Worksheet!W161=0,\"\",IF(OR(LEFT(B135,8)=\"LED Four\",LEFT(B135,8)=\"LED Tube\",LEFT(B135,8)=\"LED Mogu\",RIGHT(A135,2)=\"In\"),\"\",Worksheet!W161))","v":""},""]
[{"$f":"IF(Worksheet!K162=0,\"\",Worksheet!K162)","v":""},{"$f":"IF(Worksheet!L162=0,\"\",Worksheet!L162)","v":""},{"$f":"IF(Worksheet!M162=0,\"\",Worksheet!M162)","v":""},{"$f":"IF(Worksheet!N162=0,\"\",Worksheet!N162)","v":""},{"$f":"IF(Worksheet!P162=0,\"\",IF(OR(LEFT(B136,8)=\"LED Four\",LEFT(B136,8)=\"LED Tube\",LEFT(B136,8)=\"LED Mogu\",RIGHT(A136,2)=\"In\"),\"\",Worksheet!P162))","v":""},{"$f":"IF(Worksheet!R162=0,\"\",Worksheet!R162)","v":""},"",{"$f":"IF(Worksheet!Q162=0,\"\",Worksheet!Q162)","v":""},{"$f":"IF(OR(LEFT(B136,8)=\"LED Four\",LEFT(B136,8)=\"LED Tube\",LEFT(B136,8)=\"LED Mogu\",RIGHT(A136,2)=\"In\"),H136*Worksheet!V162,\"\")","v":""},{"$f":"IF(Worksheet!V162=0,\"\",IF(OR(LEFT(B136,8)=\"LED Four\",LEFT(B136,8)=\"LED Tube\",LEFT(B136,8)=\"LED Mogu\",RIGHT(A136,2)=\"In\"),\"\",Worksheet!V162))","v":""},"",{"$f":"IF(OR(LEFT(B136,8)=\"LED Four\",LEFT(B136,8)=\"LED Tube\",LEFT(B136,8)=\"LED Mogu\",RIGHT(A136,2)=\"In\"),H136*Worksheet!W162,\"\")","v":""},{"$f":"IF(Worksheet!W162=0,\"\",IF(OR(LEFT(B136,8)=\"LED Four\",LEFT(B136,8)=\"LED Tube\",LEFT(B136,8)=\"LED Mogu\",RIGHT(A136,2)=\"In\"),\"\",Worksheet!W162))","v":""},""]
[{"$f":"IF(Worksheet!K163=0,\"\",Worksheet!K163)","v":""},{"$f":"IF(Worksheet!L163=0,\"\",Worksheet!L163)","v":""},{"$f":"IF(Worksheet!M163=0,\"\",Worksheet!M163)","v":""},{"$f":"IF(Worksheet!N163=0,\"\",Worksheet!N163)","v":""},{"$f":"IF(Worksheet!P163=0,\"\",IF(OR(LEFT(B137,8)=\"LED Four\",LEFT(B137,8)=\"LED Tube\",LEFT(B137,8)=\"LED Mogu\",RIGHT(A137,2)=\"In\"),\"\",Worksheet!P163))","v":""},{"$f":"IF(Worksheet!R163=0,\"\",Worksheet!R163)","v":""},"",{"$f":"IF(Worksheet!Q163=0,\"\",Worksheet!Q163)","v":""},{"$f":"IF(OR(LEFT(B137,8)=\"LED Four\",LEFT(B137,8)=\"LED Tube\",LEFT(B137,8)=\"LED Mogu\",RIGHT(A137,2)=\"In\"),H137*Worksheet!V163,\"\")","v":""},{"$f":"IF(Worksheet!V163=0,\"\",IF(OR(LEFT(B137,8)=\"LED Four\",LEFT(B137,8)=\"LED Tube\",LEFT(B137,8)=\"LED Mogu\",RIGHT(A137,2)=\"In\"),\"\",Worksheet!V163))","v":""},"",{"$f":"IF(OR(LEFT(B137,8)=\"LED Four\",LEFT(B137,8)=\"LED Tube\",LEFT(B137,8)=\"LED Mogu\",RIGHT(A137,2)=\"In\"),H137*Worksheet!W163,\"\")","v":""},{"$f":"IF(Worksheet!W163=0,\"\",IF(OR(LEFT(B137,8)=\"LED Four\",LEFT(B137,8)=\"LED Tube\",LEFT(B137,8)=\"LED Mogu\",RIGHT(A137,2)=\"In\"),\"\",Worksheet!W163))","v":""},""]
[{"$f":"IF(Worksheet!K164=0,\"\",Worksheet!K164)","v":""},{"$f":"IF(Worksheet!L164=0,\"\",Worksheet!L164)","v":""},{"$f":"IF(Worksheet!M164=0,\"\",Worksheet!M164)","v":""},{"$f":"IF(Worksheet!N164=0,\"\",Worksheet!N164)","v":""},{"$f":"IF(Worksheet!P164=0,\"\",IF(OR(LEFT(B138,8)=\"LED Four\",LEFT(B138,8)=\"LED Tube\",LEFT(B138,8)=\"LED Mogu\",RIGHT(A138,2)=\"In\"),\"\",Worksheet!P164))","v":""},{"$f":"IF(Worksheet!R164=0,\"\",Worksheet!R164)","v":""},"",{"$f":"IF(Worksheet!Q164=0,\"\",Worksheet!Q164)","v":""},{"$f":"IF(OR(LEFT(B138,8)=\"LED Four\",LEFT(B138,8)=\"LED Tube\",LEFT(B138,8)=\"LED Mogu\",RIGHT(A138,2)=\"In\"),H138*Worksheet!V164,\"\")","v":""},{"$f":"IF(Worksheet!V164=0,\"\",IF(OR(LEFT(B138,8)=\"LED Four\",LEFT(B138,8)=\"LED Tube\",LEFT(B138,8)=\"LED Mogu\",RIGHT(A138,2)=\"In\"),\"\",Worksheet!V164))","v":""},"",{"$f":"IF(OR(LEFT(B138,8)=\"LED Four\",LEFT(B138,8)=\"LED Tube\",LEFT(B138,8)=\"LED Mogu\",RIGHT(A138,2)=\"In\"),H138*Worksheet!W164,\"\")","v":""},{"$f":"IF(Worksheet!W164=0,\"\",IF(OR(LEFT(B138,8)=\"LED Four\",LEFT(B138,8)=\"LED Tube\",LEFT(B138,8)=\"LED Mogu\",RIGHT(A138,2)=\"In\"),\"\",Worksheet!W164))","v":""},""]
[{"$f":"IF(Worksheet!K165=0,\"\",Worksheet!K165)","v":""},{"$f":"IF(Worksheet!L165=0,\"\",Worksheet!L165)","v":""},{"$f":"IF(Worksheet!M165=0,\"\",Worksheet!M165)","v":""},{"$f":"IF(Worksheet!N165=0,\"\",Worksheet!N165)","v":""},{"$f":"IF(Worksheet!P165=0,\"\",IF(OR(LEFT(B139,8)=\"LED Four\",LEFT(B139,8)=\"LED Tube\",LEFT(B139,8)=\"LED Mogu\",RIGHT(A139,2)=\"In\"),\"\",Worksheet!P165))","v":""},{"$f":"IF(Worksheet!R165=0,\"\",Worksheet!R165)","v":""},"",{"$f":"IF(Worksheet!Q165=0,\"\",Worksheet!Q165)","v":""},{"$f":"IF(OR(LEFT(B139,8)=\"LED Four\",LEFT(B139,8)=\"LED Tube\",LEFT(B139,8)=\"LED Mogu\",RIGHT(A139,2)=\"In\"),H139*Worksheet!V165,\"\")","v":""},{"$f":"IF(Worksheet!V165=0,\"\",IF(OR(LEFT(B139,8)=\"LED Four\",LEFT(B139,8)=\"LED Tube\",LEFT(B139,8)=\"LED Mogu\",RIGHT(A139,2)=\"In\"),\"\",Worksheet!V165))","v":""},"",{"$f":"IF(OR(LEFT(B139,8)=\"LED Four\",LEFT(B139,8)=\"LED Tube\",LEFT(B139,8)=\"LED Mogu\",RIGHT(A139,2)=\"In\"),H139*Worksheet!W165,\"\")","v":""},{"$f":"IF(Worksheet!W165=0,\"\",IF(OR(LEFT(B139,8)=\"LED Four\",LEFT(B139,8)=\"LED Tube\",LEFT(B139,8)=\"LED Mogu\",RIGHT(A139,2)=\"In\"),\"\",Worksheet!W165))","v":""},""]
[{"$f":"IF(Worksheet!K166=0,\"\",Worksheet!K166)","v":""},{"$f":"IF(Worksheet!L166=0,\"\",Worksheet!L166)","v":""},{"$f":"IF(Worksheet!M166=0,\"\",Worksheet!M166)","v":""},{"$f":"IF(Worksheet!N166=0,\"\",Worksheet!N166)","v":""},{"$f":"IF(Worksheet!P166=0,\"\",IF(OR(LEFT(B140,8)=\"LED Four\",LEFT(B140,8)=\"LED Tube\",LEFT(B140,8)=\"LED Mogu\",RIGHT(A140,2)=\"In\"),\"\",Worksheet!P166))","v":""},{"$f":"IF(Worksheet!R166=0,\"\",Worksheet!R166)","v":""},"",{"$f":"IF(Worksheet!Q166=0,\"\",Worksheet!Q166)","v":""},{"$f":"IF(OR(LEFT(B140,8)=\"LED Four\",LEFT(B140,8)=\"LED Tube\",LEFT(B140,8)=\"LED Mogu\",RIGHT(A140,2)=\"In\"),H140*Worksheet!V166,\"\")","v":""},{"$f":"IF(Worksheet!V166=0,\"\",IF(OR(LEFT(B140,8)=\"LED Four\",LEFT(B140,8)=\"LED Tube\",LEFT(B140,8)=\"LED Mogu\",RIGHT(A140,2)=\"In\"),\"\",Worksheet!V166))","v":""},"",{"$f":"IF(OR(LEFT(B140,8)=\"LED Four\",LEFT(B140,8)=\"LED Tube\",LEFT(B140,8)=\"LED Mogu\",RIGHT(A140,2)=\"In\"),H140*Worksheet!W166,\"\")","v":""},{"$f":"IF(Worksheet!W166=0,\"\",IF(OR(LEFT(B140,8)=\"LED Four\",LEFT(B140,8)=\"LED Tube\",LEFT(B140,8)=\"LED Mogu\",RIGHT(A140,2)=\"In\"),\"\",Worksheet!W166))","v":""},""]
[{"$f":"IF(Worksheet!K167=0,\"\",Worksheet!K167)","v":""},{"$f":"IF(Worksheet!L167=0,\"\",Worksheet!L167)","v":""},{"$f":"IF(Worksheet!M167=0,\"\",Worksheet!M167)","v":""},{"$f":"IF(Worksheet!N167=0,\"\",Worksheet!N167)","v":""},{"$f":"IF(Worksheet!P167=0,\"\",IF(OR(LEFT(B141,8)=\"LED Four\",LEFT(B141,8)=\"LED Tube\",LEFT(B141,8)=\"LED Mogu\",RIGHT(A141,2)=\"In\"),\"\",Worksheet!P167))","v":""},{"$f":"IF(Worksheet!R167=0,\"\",Worksheet!R167)","v":""},"",{"$f":"IF(Worksheet!Q167=0,\"\",Worksheet!Q167)","v":""},{"$f":"IF(OR(LEFT(B141,8)=\"LED Four\",LEFT(B141,8)=\"LED Tube\",LEFT(B141,8)=\"LED Mogu\",RIGHT(A141,2)=\"In\"),H141*Worksheet!V167,\"\")","v":""},{"$f":"IF(Worksheet!V167=0,\"\",IF(OR(LEFT(B141,8)=\"LED Four\",LEFT(B141,8)=\"LED Tube\",LEFT(B141,8)=\"LED Mogu\",RIGHT(A141,2)=\"In\"),\"\",Worksheet!V167))","v":""},"",{"$f":"IF(OR(LEFT(B141,8)=\"LED Four\",LEFT(B141,8)=\"LED Tube\",LEFT(B141,8)=\"LED Mogu\",RIGHT(A141,2)=\"In\"),H141*Worksheet!W167,\"\")","v":""},{"$f":"IF(Worksheet!W167=0,\"\",IF(OR(LEFT(B141,8)=\"LED Four\",LEFT(B141,8)=\"LED Tube\",LEFT(B141,8)=\"LED Mogu\",RIGHT(A141,2)=\"In\"),\"\",Worksheet!W167))","v":""},""]
[{"$f":"IF(Worksheet!K168=0,\"\",Worksheet!K168)","v":""},{"$f":"IF(Worksheet!L168=0,\"\",Worksheet!L168)","v":""},{"$f":"IF(Worksheet!M168=0,\"\",Worksheet!M168)","v":""},{"$f":"IF(Worksheet!N168=0,\"\",Worksheet!N168)","v":""},{"$f":"IF(Worksheet!P168=0,\"\",IF(OR(LEFT(B142,8)=\"LED Four\",LEFT(B142,8)=\"LED Tube\",LEFT(B142,8)=\"LED Mogu\",RIGHT(A142,2)=\"In\"),\"\",Worksheet!P168))","v":""},{"$f":"IF(Worksheet!R168=0,\"\",Worksheet!R168)","v":""},"",{"$f":"IF(Worksheet!Q168=0,\"\",Worksheet!Q168)","v":""},{"$f":"IF(OR(LEFT(B142,8)=\"LED Four\",LEFT(B142,8)=\"LED Tube\",LEFT(B142,8)=\"LED Mogu\",RIGHT(A142,2)=\"In\"),H142*Worksheet!V168,\"\")","v":""},{"$f":"IF(Worksheet!V168=0,\"\",IF(OR(LEFT(B142,8)=\"LED Four\",LEFT(B142,8)=\"LED Tube\",LEFT(B142,8)=\"LED Mogu\",RIGHT(A142,2)=\"In\"),\"\",Worksheet!V168))","v":""},"",{"$f":"IF(OR(LEFT(B142,8)=\"LED Four\",LEFT(B142,8)=\"LED Tube\",LEFT(B142,8)=\"LED Mogu\",RIGHT(A142,2)=\"In\"),H142*Worksheet!W168,\"\")","v":""},{"$f":"IF(Worksheet!W168=0,\"\",IF(OR(LEFT(B142,8)=\"LED Four\",LEFT(B142,8)=\"LED Tube\",LEFT(B142,8)=\"LED Mogu\",RIGHT(A142,2)=\"In\"),\"\",Worksheet!W168))","v":""},""]
[{"$f":"IF(Worksheet!K169=0,\"\",Worksheet!K169)","v":""},{"$f":"IF(Worksheet!L169=0,\"\",Worksheet!L169)","v":""},{"$f":"IF(Worksheet!M169=0,\"\",Worksheet!M169)","v":""},{"$f":"IF(Worksheet!N169=0,\"\",Worksheet!N169)","v":""},{"$f":"IF(Worksheet!P169=0,\"\",IF(OR(LEFT(B143,8)=\"LED Four\",LEFT(B143,8)=\"LED Tube\",LEFT(B143,8)=\"LED Mogu\",RIGHT(A143,2)=\"In\"),\"\",Worksheet!P169))","v":""},{"$f":"IF(Worksheet!R169=0,\"\",Worksheet!R169)","v":""},"",{"$f":"IF(Worksheet!Q169=0,\"\",Worksheet!Q169)","v":""},{"$f":"IF(OR(LEFT(B143,8)=\"LED Four\",LEFT(B143,8)=\"LED Tube\",LEFT(B143,8)=\"LED Mogu\",RIGHT(A143,2)=\"In\"),H143*Worksheet!V169,\"\")","v":""},{"$f":"IF(Worksheet!V169=0,\"\",IF(OR(LEFT(B143,8)=\"LED Four\",LEFT(B143,8)=\"LED Tube\",LEFT(B143,8)=\"LED Mogu\",RIGHT(A143,2)=\"In\"),\"\",Worksheet!V169))","v":""},"",{"$f":"IF(OR(LEFT(B143,8)=\"LED Four\",LEFT(B143,8)=\"LED Tube\",LEFT(B143,8)=\"LED Mogu\",RIGHT(A143,2)=\"In\"),H143*Worksheet!W169,\"\")","v":""},{"$f":"IF(Worksheet!W169=0,\"\",IF(OR(LEFT(B143,8)=\"LED Four\",LEFT(B143,8)=\"LED Tube\",LEFT(B143,8)=\"LED Mogu\",RIGHT(A143,2)=\"In\"),\"\",Worksheet!W169))","v":""},""]
[{"$f":"IF(Worksheet!K170=0,\"\",Worksheet!K170)","v":""},{"$f":"IF(Worksheet!L170=0,\"\",Worksheet!L170)","v":""},{"$f":"IF(Worksheet!M170=0,\"\",Worksheet!M170)","v":""},{"$f":"IF(Worksheet!N170=0,\"\",Worksheet!N170)","v":""},{"$f":"IF(Worksheet!P170=0,\"\",IF(OR(LEFT(B144,8)=\"LED Four\",LEFT(B144,8)=\"LED Tube\",LEFT(B144,8)=\"LED Mogu\",RIGHT(A144,2)=\"In\"),\"\",Worksheet!P170))","v":""},{"$f":"IF(Worksheet!R170=0,\"\",Worksheet!R170)","v":""},"",{"$f":"IF(Worksheet!Q170=0,\"\",Worksheet!Q170)","v":""},{"$f":"IF(OR(LEFT(B144,8)=\"LED Four\",LEFT(B144,8)=\"LED Tube\",LEFT(B144,8)=\"LED Mogu\",RIGHT(A144,2)=\"In\"),H144*Worksheet!V170,\"\")","v":""},{"$f":"IF(Worksheet!V170=0,\"\",IF(OR(LEFT(B144,8)=\"LED Four\",LEFT(B144,8)=\"LED Tube\",LEFT(B144,8)=\"LED Mogu\",RIGHT(A144,2)=\"In\"),\"\",Worksheet!V170))","v":""},"",{"$f":"IF(OR(LEFT(B144,8)=\"LED Four\",LEFT(B144,8)=\"LED Tube\",LEFT(B144,8)=\"LED Mogu\",RIGHT(A144,2)=\"In\"),H144*Worksheet!W170,\"\")","v":""},{"$f":"IF(Worksheet!W170=0,\"\",IF(OR(LEFT(B144,8)=\"LED Four\",LEFT(B144,8)=\"LED Tube\",LEFT(B144,8)=\"LED Mogu\",RIGHT(A144,2)=\"In\"),\"\",Worksheet!W170))","v":""},""]
[{"$f":"IF(Worksheet!K171=0,\"\",Worksheet!K171)","v":""},{"$f":"IF(Worksheet!L171=0,\"\",Worksheet!L171)","v":""},{"$f":"IF(Worksheet!M171=0,\"\",Worksheet!M171)","v":""},{"$f":"IF(Worksheet!N171=0,\"\",Worksheet!N171)","v":""},{"$f":"IF(Worksheet!P171=0,\"\",IF(OR(LEFT(B145,8)=\"LED Four\",LEFT(B145,8)=\"LED Tube\",LEFT(B145,8)=\"LED Mogu\",RIGHT(A145,2)=\"In\"),\"\",Worksheet!P171))","v":""},{"$f":"IF(Worksheet!R171=0,\"\",Worksheet!R171)","v":""},"",{"$f":"IF(Worksheet!Q171=0,\"\",Worksheet!Q171)","v":""},{"$f":"IF(OR(LEFT(B145,8)=\"LED Four\",LEFT(B145,8)=\"LED Tube\",LEFT(B145,8)=\"LED Mogu\",RIGHT(A145,2)=\"In\"),H145*Worksheet!V171,\"\")","v":""},{"$f":"IF(Worksheet!V171=0,\"\",IF(OR(LEFT(B145,8)=\"LED Four\",LEFT(B145,8)=\"LED Tube\",LEFT(B145,8)=\"LED Mogu\",RIGHT(A145,2)=\"In\"),\"\",Worksheet!V171))","v":""},"",{"$f":"IF(OR(LEFT(B145,8)=\"LED Four\",LEFT(B145,8)=\"LED Tube\",LEFT(B145,8)=\"LED Mogu\",RIGHT(A145,2)=\"In\"),H145*Worksheet!W171,\"\")","v":""},{"$f":"IF(Worksheet!W171=0,\"\",IF(OR(LEFT(B145,8)=\"LED Four\",LEFT(B145,8)=\"LED Tube\",LEFT(B145,8)=\"LED Mogu\",RIGHT(A145,2)=\"In\"),\"\",Worksheet!W171))","v":""},""]
[{"$f":"IF(Worksheet!K172=0,\"\",Worksheet!K172)","v":""},{"$f":"IF(Worksheet!L172=0,\"\",Worksheet!L172)","v":""},{"$f":"IF(Worksheet!M172=0,\"\",Worksheet!M172)","v":""},{"$f":"IF(Worksheet!N172=0,\"\",Worksheet!N172)","v":""},{"$f":"IF(Worksheet!P172=0,\"\",IF(OR(LEFT(B146,8)=\"LED Four\",LEFT(B146,8)=\"LED Tube\",LEFT(B146,8)=\"LED Mogu\",RIGHT(A146,2)=\"In\"),\"\",Worksheet!P172))","v":""},{"$f":"IF(Worksheet!R172=0,\"\",Worksheet!R172)","v":""},"",{"$f":"IF(Worksheet!Q172=0,\"\",Worksheet!Q172)","v":""},{"$f":"IF(OR(LEFT(B146,8)=\"LED Four\",LEFT(B146,8)=\"LED Tube\",LEFT(B146,8)=\"LED Mogu\",RIGHT(A146,2)=\"In\"),H146*Worksheet!V172,\"\")","v":""},{"$f":"IF(Worksheet!V172=0,\"\",IF(OR(LEFT(B146,8)=\"LED Four\",LEFT(B146,8)=\"LED Tube\",LEFT(B146,8)=\"LED Mogu\",RIGHT(A146,2)=\"In\"),\"\",Worksheet!V172))","v":""},"",{"$f":"IF(OR(LEFT(B146,8)=\"LED Four\",LEFT(B146,8)=\"LED Tube\",LEFT(B146,8)=\"LED Mogu\",RIGHT(A146,2)=\"In\"),H146*Worksheet!W172,\"\")","v":""},{"$f":"IF(Worksheet!W172=0,\"\",IF(OR(LEFT(B146,8)=\"LED Four\",LEFT(B146,8)=\"LED Tube\",LEFT(B146,8)=\"LED Mogu\",RIGHT(A146,2)=\"In\"),\"\",Worksheet!W172))","v":""},""]
[{"$f":"IF(Worksheet!K173=0,\"\",Worksheet!K173)","v":""},{"$f":"IF(Worksheet!L173=0,\"\",Worksheet!L173)","v":""},{"$f":"IF(Worksheet!M173=0,\"\",Worksheet!M173)","v":""},{"$f":"IF(Worksheet!N173=0,\"\",Worksheet!N173)","v":""},{"$f":"IF(Worksheet!P173=0,\"\",IF(OR(LEFT(B147,8)=\"LED Four\",LEFT(B147,8)=\"LED Tube\",LEFT(B147,8)=\"LED Mogu\",RIGHT(A147,2)=\"In\"),\"\",Worksheet!P173))","v":""},{"$f":"IF(Worksheet!R173=0,\"\",Worksheet!R173)","v":""},"",{"$f":"IF(Worksheet!Q173=0,\"\",Worksheet!Q173)","v":""},{"$f":"IF(OR(LEFT(B147,8)=\"LED Four\",LEFT(B147,8)=\"LED Tube\",LEFT(B147,8)=\"LED Mogu\",RIGHT(A147,2)=\"In\"),H147*Worksheet!V173,\"\")","v":""},{"$f":"IF(Worksheet!V173=0,\"\",IF(OR(LEFT(B147,8)=\"LED Four\",LEFT(B147,8)=\"LED Tube\",LEFT(B147,8)=\"LED Mogu\",RIGHT(A147,2)=\"In\"),\"\",Worksheet!V173))","v":""},"",{"$f":"IF(OR(LEFT(B147,8)=\"LED Four\",LEFT(B147,8)=\"LED Tube\",LEFT(B147,8)=\"LED Mogu\",RIGHT(A147,2)=\"In\"),H147*Worksheet!W173,\"\")","v":""},{"$f":"IF(Worksheet!W173=0,\"\",IF(OR(LEFT(B147,8)=\"LED Four\",LEFT(B147,8)=\"LED Tube\",LEFT(B147,8)=\"LED Mogu\",RIGHT(A147,2)=\"In\"),\"\",Worksheet!W173))","v":""},""]
[{"$f":"IF(Worksheet!K174=0,\"\",Worksheet!K174)","v":""},{"$f":"IF(Worksheet!L174=0,\"\",Worksheet!L174)","v":""},{"$f":"IF(Worksheet!M174=0,\"\",Worksheet!M174)","v":""},{"$f":"IF(Worksheet!N174=0,\"\",Worksheet!N174)","v":""},{"$f":"IF(Worksheet!P174=0,\"\",IF(OR(LEFT(B148,8)=\"LED Four\",LEFT(B148,8)=\"LED Tube\",LEFT(B148,8)=\"LED Mogu\",RIGHT(A148,2)=\"In\"),\"\",Worksheet!P174))","v":""},{"$f":"IF(Worksheet!R174=0,\"\",Worksheet!R174)","v":""},"",{"$f":"IF(Worksheet!Q174=0,\"\",Worksheet!Q174)","v":""},{"$f":"IF(OR(LEFT(B148,8)=\"LED Four\",LEFT(B148,8)=\"LED Tube\",LEFT(B148,8)=\"LED Mogu\",RIGHT(A148,2)=\"In\"),H148*Worksheet!V174,\"\")","v":""},{"$f":"IF(Worksheet!V174=0,\"\",IF(OR(LEFT(B148,8)=\"LED Four\",LEFT(B148,8)=\"LED Tube\",LEFT(B148,8)=\"LED Mogu\",RIGHT(A148,2)=\"In\"),\"\",Worksheet!V174))","v":""},"",{"$f":"IF(OR(LEFT(B148,8)=\"LED Four\",LEFT(B148,8)=\"LED Tube\",LEFT(B148,8)=\"LED Mogu\",RIGHT(A148,2)=\"In\"),H148*Worksheet!W174,\"\")","v":""},{"$f":"IF(Worksheet!W174=0,\"\",IF(OR(LEFT(B148,8)=\"LED Four\",LEFT(B148,8)=\"LED Tube\",LEFT(B148,8)=\"LED Mogu\",RIGHT(A148,2)=\"In\"),\"\",Worksheet!W174))","v":""},""]
[{"$f":"IF(Worksheet!K175=0,\"\",Worksheet!K175)","v":""},{"$f":"IF(Worksheet!L175=0,\"\",Worksheet!L175)","v":""},{"$f":"IF(Worksheet!M175=0,\"\",Worksheet!M175)","v":""},{"$f":"IF(Worksheet!N175=0,\"\",Worksheet!N175)","v":""},{"$f":"IF(Worksheet!P175=0,\"\",IF(OR(LEFT(B149,8)=\"LED Four\",LEFT(B149,8)=\"LED Tube\",LEFT(B149,8)=\"LED Mogu\",RIGHT(A149,2)=\"In\"),\"\",Worksheet!P175))","v":""},{"$f":"IF(Worksheet!R175=0,\"\",Worksheet!R175)","v":""},"",{"$f":"IF(Worksheet!Q175=0,\"\",Worksheet!Q175)","v":""},{"$f":"IF(OR(LEFT(B149,8)=\"LED Four\",LEFT(B149,8)=\"LED Tube\",LEFT(B149,8)=\"LED Mogu\",RIGHT(A149,2)=\"In\"),H149*Worksheet!V175,\"\")","v":""},{"$f":"IF(Worksheet!V175=0,\"\",IF(OR(LEFT(B149,8)=\"LED Four\",LEFT(B149,8)=\"LED Tube\",LEFT(B149,8)=\"LED Mogu\",RIGHT(A149,2)=\"In\"),\"\",Worksheet!V175))","v":""},"",{"$f":"IF(OR(LEFT(B149,8)=\"LED Four\",LEFT(B149,8)=\"LED Tube\",LEFT(B149,8)=\"LED Mogu\",RIGHT(A149,2)=\"In\"),H149*Worksheet!W175,\"\")","v":""},{"$f":"IF(Worksheet!W175=0,\"\",IF(OR(LEFT(B149,8)=\"LED Four\",LEFT(B149,8)=\"LED Tube\",LEFT(B149,8)=\"LED Mogu\",RIGHT(A149,2)=\"In\"),\"\",Worksheet!W175))","v":""},""]
[{"$f":"IF(Worksheet!K176=0,\"\",Worksheet!K176)","v":""},{"$f":"IF(Worksheet!L176=0,\"\",Worksheet!L176)","v":""},{"$f":"IF(Worksheet!M176=0,\"\",Worksheet!M176)","v":""},{"$f":"IF(Worksheet!N176=0,\"\",Worksheet!N176)","v":""},{"$f":"IF(Worksheet!P176=0,\"\",IF(OR(LEFT(B150,8)=\"LED Four\",LEFT(B150,8)=\"LED Tube\",LEFT(B150,8)=\"LED Mogu\",RIGHT(A150,2)=\"In\"),\"\",Worksheet!P176))","v":""},{"$f":"IF(Worksheet!R176=0,\"\",Worksheet!R176)","v":""},"",{"$f":"IF(Worksheet!Q176=0,\"\",Worksheet!Q176)","v":""},{"$f":"IF(OR(LEFT(B150,8)=\"LED Four\",LEFT(B150,8)=\"LED Tube\",LEFT(B150,8)=\"LED Mogu\",RIGHT(A150,2)=\"In\"),H150*Worksheet!V176,\"\")","v":""},{"$f":"IF(Worksheet!V176=0,\"\",IF(OR(LEFT(B150,8)=\"LED Four\",LEFT(B150,8)=\"LED Tube\",LEFT(B150,8)=\"LED Mogu\",RIGHT(A150,2)=\"In\"),\"\",Worksheet!V176))","v":""},"",{"$f":"IF(OR(LEFT(B150,8)=\"LED Four\",LEFT(B150,8)=\"LED Tube\",LEFT(B150,8)=\"LED Mogu\",RIGHT(A150,2)=\"In\"),H150*Worksheet!W176,\"\")","v":""},{"$f":"IF(Worksheet!W176=0,\"\",IF(OR(LEFT(B150,8)=\"LED Four\",LEFT(B150,8)=\"LED Tube\",LEFT(B150,8)=\"LED Mogu\",RIGHT(A150,2)=\"In\"),\"\",Worksheet!W176))","v":""},""]
[{"$f":"IF(Worksheet!K177=0,\"\",Worksheet!K177)","v":""},{"$f":"IF(Worksheet!L177=0,\"\",Worksheet!L177)","v":""},{"$f":"IF(Worksheet!M177=0,\"\",Worksheet!M177)","v":""},{"$f":"IF(Worksheet!N177=0,\"\",Worksheet!N177)","v":""},{"$f":"IF(Worksheet!P177=0,\"\",IF(OR(LEFT(B151,8)=\"LED Four\",LEFT(B151,8)=\"LED Tube\",LEFT(B151,8)=\"LED Mogu\",RIGHT(A151,2)=\"In\"),\"\",Worksheet!P177))","v":""},{"$f":"IF(Worksheet!R177=0,\"\",Worksheet!R177)","v":""},"",{"$f":"IF(Worksheet!Q177=0,\"\",Worksheet!Q177)","v":""},{"$f":"IF(OR(LEFT(B151,8)=\"LED Four\",LEFT(B151,8)=\"LED Tube\",LEFT(B151,8)=\"LED Mogu\",RIGHT(A151,2)=\"In\"),H151*Worksheet!V177,\"\")","v":""},{"$f":"IF(Worksheet!V177=0,\"\",IF(OR(LEFT(B151,8)=\"LED Four\",LEFT(B151,8)=\"LED Tube\",LEFT(B151,8)=\"LED Mogu\",RIGHT(A151,2)=\"In\"),\"\",Worksheet!V177))","v":""},"",{"$f":"IF(OR(LEFT(B151,8)=\"LED Four\",LEFT(B151,8)=\"LED Tube\",LEFT(B151,8)=\"LED Mogu\",RIGHT(A151,2)=\"In\"),H151*Worksheet!W177,\"\")","v":""},{"$f":"IF(Worksheet!W177=0,\"\",IF(OR(LEFT(B151,8)=\"LED Four\",LEFT(B151,8)=\"LED Tube\",LEFT(B151,8)=\"LED Mogu\",RIGHT(A151,2)=\"In\"),\"\",Worksheet!W177))","v":""},""]
[{"$f":"IF(Worksheet!K178=0,\"\",Worksheet!K178)","v":""},{"$f":"IF(Worksheet!L178=0,\"\",Worksheet!L178)","v":""},{"$f":"IF(Worksheet!M178=0,\"\",Worksheet!M178)","v":""},{"$f":"IF(Worksheet!N178=0,\"\",Worksheet!N178)","v":""},{"$f":"IF(Worksheet!P178=0,\"\",IF(OR(LEFT(B152,8)=\"LED Four\",LEFT(B152,8)=\"LED Tube\",LEFT(B152,8)=\"LED Mogu\",RIGHT(A152,2)=\"In\"),\"\",Worksheet!P178))","v":""},{"$f":"IF(Worksheet!R178=0,\"\",Worksheet!R178)","v":""},"",{"$f":"IF(Worksheet!Q178=0,\"\",Worksheet!Q178)","v":""},{"$f":"IF(OR(LEFT(B152,8)=\"LED Four\",LEFT(B152,8)=\"LED Tube\",LEFT(B152,8)=\"LED Mogu\",RIGHT(A152,2)=\"In\"),H152*Worksheet!V178,\"\")","v":""},{"$f":"IF(Worksheet!V178=0,\"\",IF(OR(LEFT(B152,8)=\"LED Four\",LEFT(B152,8)=\"LED Tube\",LEFT(B152,8)=\"LED Mogu\",RIGHT(A152,2)=\"In\"),\"\",Worksheet!V178))","v":""},"",{"$f":"IF(OR(LEFT(B152,8)=\"LED Four\",LEFT(B152,8)=\"LED Tube\",LEFT(B152,8)=\"LED Mogu\",RIGHT(A152,2)=\"In\"),H152*Worksheet!W178,\"\")","v":""},{"$f":"IF(Worksheet!W178=0,\"\",IF(OR(LEFT(B152,8)=\"LED Four\",LEFT(B152,8)=\"LED Tube\",LEFT(B152,8)=\"LED Mogu\",RIGHT(A152,2)=\"In\"),\"\",Worksheet!W178))","v":""},""]
[{"$f":"IF(Worksheet!K179=0,\"\",Worksheet!K179)","v":""},{"$f":"IF(Worksheet!L179=0,\"\",Worksheet!L179)","v":""},{"$f":"IF(Worksheet!M179=0,\"\",Worksheet!M179)","v":""},{"$f":"IF(Worksheet!N179=0,\"\",Worksheet!N179)","v":""},{"$f":"IF(Worksheet!P179=0,\"\",IF(OR(LEFT(B153,8)=\"LED Four\",LEFT(B153,8)=\"LED Tube\",LEFT(B153,8)=\"LED Mogu\",RIGHT(A153,2)=\"In\"),\"\",Worksheet!P179))","v":""},{"$f":"IF(Worksheet!R179=0,\"\",Worksheet!R179)","v":""},"",{"$f":"IF(Worksheet!Q179=0,\"\",Worksheet!Q179)","v":""},{"$f":"IF(OR(LEFT(B153,8)=\"LED Four\",LEFT(B153,8)=\"LED Tube\",LEFT(B153,8)=\"LED Mogu\",RIGHT(A153,2)=\"In\"),H153*Worksheet!V179,\"\")","v":""},{"$f":"IF(Worksheet!V179=0,\"\",IF(OR(LEFT(B153,8)=\"LED Four\",LEFT(B153,8)=\"LED Tube\",LEFT(B153,8)=\"LED Mogu\",RIGHT(A153,2)=\"In\"),\"\",Worksheet!V179))","v":""},"",{"$f":"IF(OR(LEFT(B153,8)=\"LED Four\",LEFT(B153,8)=\"LED Tube\",LEFT(B153,8)=\"LED Mogu\",RIGHT(A153,2)=\"In\"),H153*Worksheet!W179,\"\")","v":""},{"$f":"IF(Worksheet!W179=0,\"\",IF(OR(LEFT(B153,8)=\"LED Four\",LEFT(B153,8)=\"LED Tube\",LEFT(B153,8)=\"LED Mogu\",RIGHT(A153,2)=\"In\"),\"\",Worksheet!W179))","v":""},""]
[{"$f":"IF(Worksheet!K180=0,\"\",Worksheet!K180)","v":""},{"$f":"IF(Worksheet!L180=0,\"\",Worksheet!L180)","v":""},{"$f":"IF(Worksheet!M180=0,\"\",Worksheet!M180)","v":""},{"$f":"IF(Worksheet!N180=0,\"\",Worksheet!N180)","v":""},{"$f":"IF(Worksheet!P180=0,\"\",IF(OR(LEFT(B154,8)=\"LED Four\",LEFT(B154,8)=\"LED Tube\",LEFT(B154,8)=\"LED Mogu\",RIGHT(A154,2)=\"In\"),\"\",Worksheet!P180))","v":""},{"$f":"IF(Worksheet!R180=0,\"\",Worksheet!R180)","v":""},"",{"$f":"IF(Worksheet!Q180=0,\"\",Worksheet!Q180)","v":""},{"$f":"IF(OR(LEFT(B154,8)=\"LED Four\",LEFT(B154,8)=\"LED Tube\",LEFT(B154,8)=\"LED Mogu\",RIGHT(A154,2)=\"In\"),H154*Worksheet!V180,\"\")","v":""},{"$f":"IF(Worksheet!V180=0,\"\",IF(OR(LEFT(B154,8)=\"LED Four\",LEFT(B154,8)=\"LED Tube\",LEFT(B154,8)=\"LED Mogu\",RIGHT(A154,2)=\"In\"),\"\",Worksheet!V180))","v":""},"",{"$f":"IF(OR(LEFT(B154,8)=\"LED Four\",LEFT(B154,8)=\"LED Tube\",LEFT(B154,8)=\"LED Mogu\",RIGHT(A154,2)=\"In\"),H154*Worksheet!W180,\"\")","v":""},{"$f":"IF(Worksheet!W180=0,\"\",IF(OR(LEFT(B154,8)=\"LED Four\",LEFT(B154,8)=\"LED Tube\",LEFT(B154,8)=\"LED Mogu\",RIGHT(A154,2)=\"In\"),\"\",Worksheet!W180))","v":""},""]
[{"$f":"IF(Worksheet!K181=0,\"\",Worksheet!K181)","v":""},{"$f":"IF(Worksheet!L181=0,\"\",Worksheet!L181)","v":""},{"$f":"IF(Worksheet!M181=0,\"\",Worksheet!M181)","v":""},{"$f":"IF(Worksheet!N181=0,\"\",Worksheet!N181)","v":""},{"$f":"IF(Worksheet!P181=0,\"\",IF(OR(LEFT(B155,8)=\"LED Four\",LEFT(B155,8)=\"LED Tube\",LEFT(B155,8)=\"LED Mogu\",RIGHT(A155,2)=\"In\"),\"\",Worksheet!P181))","v":""},{"$f":"IF(Worksheet!R181=0,\"\",Worksheet!R181)","v":""},"",{"$f":"IF(Worksheet!Q181=0,\"\",Worksheet!Q181)","v":""},{"$f":"IF(OR(LEFT(B155,8)=\"LED Four\",LEFT(B155,8)=\"LED Tube\",LEFT(B155,8)=\"LED Mogu\",RIGHT(A155,2)=\"In\"),H155*Worksheet!V181,\"\")","v":""},{"$f":"IF(Worksheet!V181=0,\"\",IF(OR(LEFT(B155,8)=\"LED Four\",LEFT(B155,8)=\"LED Tube\",LEFT(B155,8)=\"LED Mogu\",RIGHT(A155,2)=\"In\"),\"\",Worksheet!V181))","v":""},"",{"$f":"IF(OR(LEFT(B155,8)=\"LED Four\",LEFT(B155,8)=\"LED Tube\",LEFT(B155,8)=\"LED Mogu\",RIGHT(A155,2)=\"In\"),H155*Worksheet!W181,\"\")","v":""},{"$f":"IF(Worksheet!W181=0,\"\",IF(OR(LEFT(B155,8)=\"LED Four\",LEFT(B155,8)=\"LED Tube\",LEFT(B155,8)=\"LED Mogu\",RIGHT(A155,2)=\"In\"),\"\",Worksheet!W181))","v":""},""]
[{"$f":"IF(Worksheet!K182=0,\"\",Worksheet!K182)","v":""},{"$f":"IF(Worksheet!L182=0,\"\",Worksheet!L182)","v":""},{"$f":"IF(Worksheet!M182=0,\"\",Worksheet!M182)","v":""},{"$f":"IF(Worksheet!N182=0,\"\",Worksheet!N182)","v":""},{"$f":"IF(Worksheet!P182=0,\"\",IF(OR(LEFT(B156,8)=\"LED Four\",LEFT(B156,8)=\"LED Tube\",LEFT(B156,8)=\"LED Mogu\",RIGHT(A156,2)=\"In\"),\"\",Worksheet!P182))","v":""},{"$f":"IF(Worksheet!R182=0,\"\",Worksheet!R182)","v":""},"",{"$f":"IF(Worksheet!Q182=0,\"\",Worksheet!Q182)","v":""},{"$f":"IF(OR(LEFT(B156,8)=\"LED Four\",LEFT(B156,8)=\"LED Tube\",LEFT(B156,8)=\"LED Mogu\",RIGHT(A156,2)=\"In\"),H156*Worksheet!V182,\"\")","v":""},{"$f":"IF(Worksheet!V182=0,\"\",IF(OR(LEFT(B156,8)=\"LED Four\",LEFT(B156,8)=\"LED Tube\",LEFT(B156,8)=\"LED Mogu\",RIGHT(A156,2)=\"In\"),\"\",Worksheet!V182))","v":""},"",{"$f":"IF(OR(LEFT(B156,8)=\"LED Four\",LEFT(B156,8)=\"LED Tube\",LEFT(B156,8)=\"LED Mogu\",RIGHT(A156,2)=\"In\"),H156*Worksheet!W182,\"\")","v":""},{"$f":"IF(Worksheet!W182=0,\"\",IF(OR(LEFT(B156,8)=\"LED Four\",LEFT(B156,8)=\"LED Tube\",LEFT(B156,8)=\"LED Mogu\",RIGHT(A156,2)=\"In\"),\"\",Worksheet!W182))","v":""},""]
[{"$f":"IF(Worksheet!K183=0,\"\",Worksheet!K183)","v":""},{"$f":"IF(Worksheet!L183=0,\"\",Worksheet!L183)","v":""},{"$f":"IF(Worksheet!M183=0,\"\",Worksheet!M183)","v":""},{"$f":"IF(Worksheet!N183=0,\"\",Worksheet!N183)","v":""},{"$f":"IF(Worksheet!P183=0,\"\",IF(OR(LEFT(B157,8)=\"LED Four\",LEFT(B157,8)=\"LED Tube\",LEFT(B157,8)=\"LED Mogu\",RIGHT(A157,2)=\"In\"),\"\",Worksheet!P183))","v":""},{"$f":"IF(Worksheet!R183=0,\"\",Worksheet!R183)","v":""},"",{"$f":"IF(Worksheet!Q183=0,\"\",Worksheet!Q183)","v":""},{"$f":"IF(OR(LEFT(B157,8)=\"LED Four\",LEFT(B157,8)=\"LED Tube\",LEFT(B157,8)=\"LED Mogu\",RIGHT(A157,2)=\"In\"),H157*Worksheet!V183,\"\")","v":""},{"$f":"IF(Worksheet!V183=0,\"\",IF(OR(LEFT(B157,8)=\"LED Four\",LEFT(B157,8)=\"LED Tube\",LEFT(B157,8)=\"LED Mogu\",RIGHT(A157,2)=\"In\"),\"\",Worksheet!V183))","v":""},"",{"$f":"IF(OR(LEFT(B157,8)=\"LED Four\",LEFT(B157,8)=\"LED Tube\",LEFT(B157,8)=\"LED Mogu\",RIGHT(A157,2)=\"In\"),H157*Worksheet!W183,\"\")","v":""},{"$f":"IF(Worksheet!W183=0,\"\",IF(OR(LEFT(B157,8)=\"LED Four\",LEFT(B157,8)=\"LED Tube\",LEFT(B157,8)=\"LED Mogu\",RIGHT(A157,2)=\"In\"),\"\",Worksheet!W183))","v":""},""]
[{"$f":"IF(Worksheet!K184=0,\"\",Worksheet!K184)","v":""},{"$f":"IF(Worksheet!L184=0,\"\",Worksheet!L184)","v":""},{"$f":"IF(Worksheet!M184=0,\"\",Worksheet!M184)","v":""},{"$f":"IF(Worksheet!N184=0,\"\",Worksheet!N184)","v":""},{"$f":"IF(Worksheet!P184=0,\"\",IF(OR(LEFT(B158,8)=\"LED Four\",LEFT(B158,8)=\"LED Tube\",LEFT(B158,8)=\"LED Mogu\",RIGHT(A158,2)=\"In\"),\"\",Worksheet!P184))","v":""},{"$f":"IF(Worksheet!R184=0,\"\",Worksheet!R184)","v":""},"",{"$f":"IF(Worksheet!Q184=0,\"\",Worksheet!Q184)","v":""},{"$f":"IF(OR(LEFT(B158,8)=\"LED Four\",LEFT(B158,8)=\"LED Tube\",LEFT(B158,8)=\"LED Mogu\",RIGHT(A158,2)=\"In\"),H158*Worksheet!V184,\"\")","v":""},{"$f":"IF(Worksheet!V184=0,\"\",IF(OR(LEFT(B158,8)=\"LED Four\",LEFT(B158,8)=\"LED Tube\",LEFT(B158,8)=\"LED Mogu\",RIGHT(A158,2)=\"In\"),\"\",Worksheet!V184))","v":""},"",{"$f":"IF(OR(LEFT(B158,8)=\"LED Four\",LEFT(B158,8)=\"LED Tube\",LEFT(B158,8)=\"LED Mogu\",RIGHT(A158,2)=\"In\"),H158*Worksheet!W184,\"\")","v":""},{"$f":"IF(Worksheet!W184=0,\"\",IF(OR(LEFT(B158,8)=\"LED Four\",LEFT(B158,8)=\"LED Tube\",LEFT(B158,8)=\"LED Mogu\",RIGHT(A158,2)=\"In\"),\"\",Worksheet!W184))","v":""},""]
[{"$f":"IF(Worksheet!K185=0,\"\",Worksheet!K185)","v":""},{"$f":"IF(Worksheet!L185=0,\"\",Worksheet!L185)","v":""},{"$f":"IF(Worksheet!M185=0,\"\",Worksheet!M185)","v":""},{"$f":"IF(Worksheet!N185=0,\"\",Worksheet!N185)","v":""},{"$f":"IF(Worksheet!P185=0,\"\",IF(OR(LEFT(B159,8)=\"LED Four\",LEFT(B159,8)=\"LED Tube\",LEFT(B159,8)=\"LED Mogu\",RIGHT(A159,2)=\"In\"),\"\",Worksheet!P185))","v":""},{"$f":"IF(Worksheet!R185=0,\"\",Worksheet!R185)","v":""},"",{"$f":"IF(Worksheet!Q185=0,\"\",Worksheet!Q185)","v":""},{"$f":"IF(OR(LEFT(B159,8)=\"LED Four\",LEFT(B159,8)=\"LED Tube\",LEFT(B159,8)=\"LED Mogu\",RIGHT(A159,2)=\"In\"),H159*Worksheet!V185,\"\")","v":""},{"$f":"IF(Worksheet!V185=0,\"\",IF(OR(LEFT(B159,8)=\"LED Four\",LEFT(B159,8)=\"LED Tube\",LEFT(B159,8)=\"LED Mogu\",RIGHT(A159,2)=\"In\"),\"\",Worksheet!V185))","v":""},"",{"$f":"IF(OR(LEFT(B159,8)=\"LED Four\",LEFT(B159,8)=\"LED Tube\",LEFT(B159,8)=\"LED Mogu\",RIGHT(A159,2)=\"In\"),H159*Worksheet!W185,\"\")","v":""},{"$f":"IF(Worksheet!W185=0,\"\",IF(OR(LEFT(B159,8)=\"LED Four\",LEFT(B159,8)=\"LED Tube\",LEFT(B159,8)=\"LED Mogu\",RIGHT(A159,2)=\"In\"),\"\",Worksheet!W185))","v":""},""]
[{"$f":"IF(Worksheet!K186=0,\"\",Worksheet!K186)","v":""},{"$f":"IF(Worksheet!L186=0,\"\",Worksheet!L186)","v":""},{"$f":"IF(Worksheet!M186=0,\"\",Worksheet!M186)","v":""},{"$f":"IF(Worksheet!N186=0,\"\",Worksheet!N186)","v":""},{"$f":"IF(Worksheet!P186=0,\"\",IF(OR(LEFT(B160,8)=\"LED Four\",LEFT(B160,8)=\"LED Tube\",LEFT(B160,8)=\"LED Mogu\",RIGHT(A160,2)=\"In\"),\"\",Worksheet!P186))","v":""},{"$f":"IF(Worksheet!R186=0,\"\",Worksheet!R186)","v":""},"",{"$f":"IF(Worksheet!Q186=0,\"\",Worksheet!Q186)","v":""},{"$f":"IF(OR(LEFT(B160,8)=\"LED Four\",LEFT(B160,8)=\"LED Tube\",LEFT(B160,8)=\"LED Mogu\",RIGHT(A160,2)=\"In\"),H160*Worksheet!V186,\"\")","v":""},{"$f":"IF(Worksheet!V186=0,\"\",IF(OR(LEFT(B160,8)=\"LED Four\",LEFT(B160,8)=\"LED Tube\",LEFT(B160,8)=\"LED Mogu\",RIGHT(A160,2)=\"In\"),\"\",Worksheet!V186))","v":""},"",{"$f":"IF(OR(LEFT(B160,8)=\"LED Four\",LEFT(B160,8)=\"LED Tube\",LEFT(B160,8)=\"LED Mogu\",RIGHT(A160,2)=\"In\"),H160*Worksheet!W186,\"\")","v":""},{"$f":"IF(Worksheet!W186=0,\"\",IF(OR(LEFT(B160,8)=\"LED Four\",LEFT(B160,8)=\"LED Tube\",LEFT(B160,8)=\"LED Mogu\",RIGHT(A160,2)=\"In\"),\"\",Worksheet!W186))","v":""},""]
[{"$f":"IF(Worksheet!K187=0,\"\",Worksheet!K187)","v":""},{"$f":"IF(Worksheet!L187=0,\"\",Worksheet!L187)","v":""},{"$f":"IF(Worksheet!M187=0,\"\",Worksheet!M187)","v":""},{"$f":"IF(Worksheet!N187=0,\"\",Worksheet!N187)","v":""},{"$f":"IF(Worksheet!P187=0,\"\",IF(OR(LEFT(B161,8)=\"LED Four\",LEFT(B161,8)=\"LED Tube\",LEFT(B161,8)=\"LED Mogu\",RIGHT(A161,2)=\"In\"),\"\",Worksheet!P187))","v":""},{"$f":"IF(Worksheet!R187=0,\"\",Worksheet!R187)","v":""},"",{"$f":"IF(Worksheet!Q187=0,\"\",Worksheet!Q187)","v":""},{"$f":"IF(OR(LEFT(B161,8)=\"LED Four\",LEFT(B161,8)=\"LED Tube\",LEFT(B161,8)=\"LED Mogu\",RIGHT(A161,2)=\"In\"),H161*Worksheet!V187,\"\")","v":""},{"$f":"IF(Worksheet!V187=0,\"\",IF(OR(LEFT(B161,8)=\"LED Four\",LEFT(B161,8)=\"LED Tube\",LEFT(B161,8)=\"LED Mogu\",RIGHT(A161,2)=\"In\"),\"\",Worksheet!V187))","v":""},"",{"$f":"IF(OR(LEFT(B161,8)=\"LED Four\",LEFT(B161,8)=\"LED Tube\",LEFT(B161,8)=\"LED Mogu\",RIGHT(A161,2)=\"In\"),H161*Worksheet!W187,\"\")","v":""},{"$f":"IF(Worksheet!W187=0,\"\",IF(OR(LEFT(B161,8)=\"LED Four\",LEFT(B161,8)=\"LED Tube\",LEFT(B161,8)=\"LED Mogu\",RIGHT(A161,2)=\"In\"),\"\",Worksheet!W187))","v":""},""]
[{"$f":"IF(Worksheet!K188=0,\"\",Worksheet!K188)","v":""},{"$f":"IF(Worksheet!L188=0,\"\",Worksheet!L188)","v":""},{"$f":"IF(Worksheet!M188=0,\"\",Worksheet!M188)","v":""},{"$f":"IF(Worksheet!N188=0,\"\",Worksheet!N188)","v":""},{"$f":"IF(Worksheet!P188=0,\"\",IF(OR(LEFT(B162,8)=\"LED Four\",LEFT(B162,8)=\"LED Tube\",LEFT(B162,8)=\"LED Mogu\",RIGHT(A162,2)=\"In\"),\"\",Worksheet!P188))","v":""},{"$f":"IF(Worksheet!R188=0,\"\",Worksheet!R188)","v":""},"",{"$f":"IF(Worksheet!Q188=0,\"\",Worksheet!Q188)","v":""},{"$f":"IF(OR(LEFT(B162,8)=\"LED Four\",LEFT(B162,8)=\"LED Tube\",LEFT(B162,8)=\"LED Mogu\",RIGHT(A162,2)=\"In\"),H162*Worksheet!V188,\"\")","v":""},{"$f":"IF(Worksheet!V188=0,\"\",IF(OR(LEFT(B162,8)=\"LED Four\",LEFT(B162,8)=\"LED Tube\",LEFT(B162,8)=\"LED Mogu\",RIGHT(A162,2)=\"In\"),\"\",Worksheet!V188))","v":""},"",{"$f":"IF(OR(LEFT(B162,8)=\"LED Four\",LEFT(B162,8)=\"LED Tube\",LEFT(B162,8)=\"LED Mogu\",RIGHT(A162,2)=\"In\"),H162*Worksheet!W188,\"\")","v":""},{"$f":"IF(Worksheet!W188=0,\"\",IF(OR(LEFT(B162,8)=\"LED Four\",LEFT(B162,8)=\"LED Tube\",LEFT(B162,8)=\"LED Mogu\",RIGHT(A162,2)=\"In\"),\"\",Worksheet!W188))","v":""},""]
[{"$f":"IF(Worksheet!K189=0,\"\",Worksheet!K189)","v":""},{"$f":"IF(Worksheet!L189=0,\"\",Worksheet!L189)","v":""},{"$f":"IF(Worksheet!M189=0,\"\",Worksheet!M189)","v":""},{"$f":"IF(Worksheet!N189=0,\"\",Worksheet!N189)","v":""},{"$f":"IF(Worksheet!P189=0,\"\",IF(OR(LEFT(B163,8)=\"LED Four\",LEFT(B163,8)=\"LED Tube\",LEFT(B163,8)=\"LED Mogu\",RIGHT(A163,2)=\"In\"),\"\",Worksheet!P189))","v":""},{"$f":"IF(Worksheet!R189=0,\"\",Worksheet!R189)","v":""},"",{"$f":"IF(Worksheet!Q189=0,\"\",Worksheet!Q189)","v":""},{"$f":"IF(OR(LEFT(B163,8)=\"LED Four\",LEFT(B163,8)=\"LED Tube\",LEFT(B163,8)=\"LED Mogu\",RIGHT(A163,2)=\"In\"),H163*Worksheet!V189,\"\")","v":""},{"$f":"IF(Worksheet!V189=0,\"\",IF(OR(LEFT(B163,8)=\"LED Four\",LEFT(B163,8)=\"LED Tube\",LEFT(B163,8)=\"LED Mogu\",RIGHT(A163,2)=\"In\"),\"\",Worksheet!V189))","v":""},"",{"$f":"IF(OR(LEFT(B163,8)=\"LED Four\",LEFT(B163,8)=\"LED Tube\",LEFT(B163,8)=\"LED Mogu\",RIGHT(A163,2)=\"In\"),H163*Worksheet!W189,\"\")","v":""},{"$f":"IF(Worksheet!W189=0,\"\",IF(OR(LEFT(B163,8)=\"LED Four\",LEFT(B163,8)=\"LED Tube\",LEFT(B163,8)=\"LED Mogu\",RIGHT(A163,2)=\"In\"),\"\",Worksheet!W189))","v":""},""]
[{"$f":"IF(Worksheet!K190=0,\"\",Worksheet!K190)","v":""},{"$f":"IF(Worksheet!L190=0,\"\",Worksheet!L190)","v":""},{"$f":"IF(Worksheet!M190=0,\"\",Worksheet!M190)","v":""},{"$f":"IF(Worksheet!N190=0,\"\",Worksheet!N190)","v":""},{"$f":"IF(Worksheet!P190=0,\"\",IF(OR(LEFT(B164,8)=\"LED Four\",LEFT(B164,8)=\"LED Tube\",LEFT(B164,8)=\"LED Mogu\",RIGHT(A164,2)=\"In\"),\"\",Worksheet!P190))","v":""},{"$f":"IF(Worksheet!R190=0,\"\",Worksheet!R190)","v":""},"",{"$f":"IF(Worksheet!Q190=0,\"\",Worksheet!Q190)","v":""},{"$f":"IF(OR(LEFT(B164,8)=\"LED Four\",LEFT(B164,8)=\"LED Tube\",LEFT(B164,8)=\"LED Mogu\",RIGHT(A164,2)=\"In\"),H164*Worksheet!V190,\"\")","v":""},{"$f":"IF(Worksheet!V190=0,\"\",IF(OR(LEFT(B164,8)=\"LED Four\",LEFT(B164,8)=\"LED Tube\",LEFT(B164,8)=\"LED Mogu\",RIGHT(A164,2)=\"In\"),\"\",Worksheet!V190))","v":""},"",{"$f":"IF(OR(LEFT(B164,8)=\"LED Four\",LEFT(B164,8)=\"LED Tube\",LEFT(B164,8)=\"LED Mogu\",RIGHT(A164,2)=\"In\"),H164*Worksheet!W190,\"\")","v":""},{"$f":"IF(Worksheet!W190=0,\"\",IF(OR(LEFT(B164,8)=\"LED Four\",LEFT(B164,8)=\"LED Tube\",LEFT(B164,8)=\"LED Mogu\",RIGHT(A164,2)=\"In\"),\"\",Worksheet!W190))","v":""},""]
[{"$f":"IF(Worksheet!K191=0,\"\",Worksheet!K191)","v":""},{"$f":"IF(Worksheet!L191=0,\"\",Worksheet!L191)","v":""},{"$f":"IF(Worksheet!M191=0,\"\",Worksheet!M191)","v":""},{"$f":"IF(Worksheet!N191=0,\"\",Worksheet!N191)","v":""},{"$f":"IF(Worksheet!P191=0,\"\",IF(OR(LEFT(B165,8)=\"LED Four\",LEFT(B165,8)=\"LED Tube\",LEFT(B165,8)=\"LED Mogu\",RIGHT(A165,2)=\"In\"),\"\",Worksheet!P191))","v":""},{"$f":"IF(Worksheet!R191=0,\"\",Worksheet!R191)","v":""},"",{"$f":"IF(Worksheet!Q191=0,\"\",Worksheet!Q191)","v":""},{"$f":"IF(OR(LEFT(B165,8)=\"LED Four\",LEFT(B165,8)=\"LED Tube\",LEFT(B165,8)=\"LED Mogu\",RIGHT(A165,2)=\"In\"),H165*Worksheet!V191,\"\")","v":""},{"$f":"IF(Worksheet!V191=0,\"\",IF(OR(LEFT(B165,8)=\"LED Four\",LEFT(B165,8)=\"LED Tube\",LEFT(B165,8)=\"LED Mogu\",RIGHT(A165,2)=\"In\"),\"\",Worksheet!V191))","v":""},"",{"$f":"IF(OR(LEFT(B165,8)=\"LED Four\",LEFT(B165,8)=\"LED Tube\",LEFT(B165,8)=\"LED Mogu\",RIGHT(A165,2)=\"In\"),H165*Worksheet!W191,\"\")","v":""},{"$f":"IF(Worksheet!W191=0,\"\",IF(OR(LEFT(B165,8)=\"LED Four\",LEFT(B165,8)=\"LED Tube\",LEFT(B165,8)=\"LED Mogu\",RIGHT(A165,2)=\"In\"),\"\",Worksheet!W191))","v":""},""]
[{"$f":"IF(Worksheet!K192=0,\"\",Worksheet!K192)","v":""},{"$f":"IF(Worksheet!L192=0,\"\",Worksheet!L192)","v":""},{"$f":"IF(Worksheet!M192=0,\"\",Worksheet!M192)","v":""},{"$f":"IF(Worksheet!N192=0,\"\",Worksheet!N192)","v":""},{"$f":"IF(Worksheet!P192=0,\"\",IF(OR(LEFT(B166,8)=\"LED Four\",LEFT(B166,8)=\"LED Tube\",LEFT(B166,8)=\"LED Mogu\",RIGHT(A166,2)=\"In\"),\"\",Worksheet!P192))","v":""},{"$f":"IF(Worksheet!R192=0,\"\",Worksheet!R192)","v":""},"",{"$f":"IF(Worksheet!Q192=0,\"\",Worksheet!Q192)","v":""},{"$f":"IF(OR(LEFT(B166,8)=\"LED Four\",LEFT(B166,8)=\"LED Tube\",LEFT(B166,8)=\"LED Mogu\",RIGHT(A166,2)=\"In\"),H166*Worksheet!V192,\"\")","v":""},{"$f":"IF(Worksheet!V192=0,\"\",IF(OR(LEFT(B166,8)=\"LED Four\",LEFT(B166,8)=\"LED Tube\",LEFT(B166,8)=\"LED Mogu\",RIGHT(A166,2)=\"In\"),\"\",Worksheet!V192))","v":""},"",{"$f":"IF(OR(LEFT(B166,8)=\"LED Four\",LEFT(B166,8)=\"LED Tube\",LEFT(B166,8)=\"LED Mogu\",RIGHT(A166,2)=\"In\"),H166*Worksheet!W192,\"\")","v":""},{"$f":"IF(Worksheet!W192=0,\"\",IF(OR(LEFT(B166,8)=\"LED Four\",LEFT(B166,8)=\"LED Tube\",LEFT(B166,8)=\"LED Mogu\",RIGHT(A166,2)=\"In\"),\"\",Worksheet!W192))","v":""},""]
[{"$f":"IF(Worksheet!K193=0,\"\",Worksheet!K193)","v":""},{"$f":"IF(Worksheet!L193=0,\"\",Worksheet!L193)","v":""},{"$f":"IF(Worksheet!M193=0,\"\",Worksheet!M193)","v":""},{"$f":"IF(Worksheet!N193=0,\"\",Worksheet!N193)","v":""},{"$f":"IF(Worksheet!P193=0,\"\",IF(OR(LEFT(B167,8)=\"LED Four\",LEFT(B167,8)=\"LED Tube\",LEFT(B167,8)=\"LED Mogu\",RIGHT(A167,2)=\"In\"),\"\",Worksheet!P193))","v":""},{"$f":"IF(Worksheet!R193=0,\"\",Worksheet!R193)","v":""},"",{"$f":"IF(Worksheet!Q193=0,\"\",Worksheet!Q193)","v":""},{"$f":"IF(OR(LEFT(B167,8)=\"LED Four\",LEFT(B167,8)=\"LED Tube\",LEFT(B167,8)=\"LED Mogu\",RIGHT(A167,2)=\"In\"),H167*Worksheet!V193,\"\")","v":""},{"$f":"IF(Worksheet!V193=0,\"\",IF(OR(LEFT(B167,8)=\"LED Four\",LEFT(B167,8)=\"LED Tube\",LEFT(B167,8)=\"LED Mogu\",RIGHT(A167,2)=\"In\"),\"\",Worksheet!V193))","v":""},"",{"$f":"IF(OR(LEFT(B167,8)=\"LED Four\",LEFT(B167,8)=\"LED Tube\",LEFT(B167,8)=\"LED Mogu\",RIGHT(A167,2)=\"In\"),H167*Worksheet!W193,\"\")","v":""},{"$f":"IF(Worksheet!W193=0,\"\",IF(OR(LEFT(B167,8)=\"LED Four\",LEFT(B167,8)=\"LED Tube\",LEFT(B167,8)=\"LED Mogu\",RIGHT(A167,2)=\"In\"),\"\",Worksheet!W193))","v":""},""]
[{"$f":"IF(Worksheet!K194=0,\"\",Worksheet!K194)","v":""},{"$f":"IF(Worksheet!L194=0,\"\",Worksheet!L194)","v":""},{"$f":"IF(Worksheet!M194=0,\"\",Worksheet!M194)","v":""},{"$f":"IF(Worksheet!N194=0,\"\",Worksheet!N194)","v":""},{"$f":"IF(Worksheet!P194=0,\"\",IF(OR(LEFT(B168,8)=\"LED Four\",LEFT(B168,8)=\"LED Tube\",LEFT(B168,8)=\"LED Mogu\",RIGHT(A168,2)=\"In\"),\"\",Worksheet!P194))","v":""},{"$f":"IF(Worksheet!R194=0,\"\",Worksheet!R194)","v":""},"",{"$f":"IF(Worksheet!Q194=0,\"\",Worksheet!Q194)","v":""},{"$f":"IF(OR(LEFT(B168,8)=\"LED Four\",LEFT(B168,8)=\"LED Tube\",LEFT(B168,8)=\"LED Mogu\",RIGHT(A168,2)=\"In\"),H168*Worksheet!V194,\"\")","v":""},{"$f":"IF(Worksheet!V194=0,\"\",IF(OR(LEFT(B168,8)=\"LED Four\",LEFT(B168,8)=\"LED Tube\",LEFT(B168,8)=\"LED Mogu\",RIGHT(A168,2)=\"In\"),\"\",Worksheet!V194))","v":""},"",{"$f":"IF(OR(LEFT(B168,8)=\"LED Four\",LEFT(B168,8)=\"LED Tube\",LEFT(B168,8)=\"LED Mogu\",RIGHT(A168,2)=\"In\"),H168*Worksheet!W194,\"\")","v":""},{"$f":"IF(Worksheet!W194=0,\"\",IF(OR(LEFT(B168,8)=\"LED Four\",LEFT(B168,8)=\"LED Tube\",LEFT(B168,8)=\"LED Mogu\",RIGHT(A168,2)=\"In\"),\"\",Worksheet!W194))","v":""},""]
[{"$f":"IF(Worksheet!K195=0,\"\",Worksheet!K195)","v":""},{"$f":"IF(Worksheet!L195=0,\"\",Worksheet!L195)","v":""},{"$f":"IF(Worksheet!M195=0,\"\",Worksheet!M195)","v":""},{"$f":"IF(Worksheet!N195=0,\"\",Worksheet!N195)","v":""},{"$f":"IF(Worksheet!P195=0,\"\",IF(OR(LEFT(B169,8)=\"LED Four\",LEFT(B169,8)=\"LED Tube\",LEFT(B169,8)=\"LED Mogu\",RIGHT(A169,2)=\"In\"),\"\",Worksheet!P195))","v":""},{"$f":"IF(Worksheet!R195=0,\"\",Worksheet!R195)","v":""},"",{"$f":"IF(Worksheet!Q195=0,\"\",Worksheet!Q195)","v":""},{"$f":"IF(OR(LEFT(B169,8)=\"LED Four\",LEFT(B169,8)=\"LED Tube\",LEFT(B169,8)=\"LED Mogu\",RIGHT(A169,2)=\"In\"),H169*Worksheet!V195,\"\")","v":""},{"$f":"IF(Worksheet!V195=0,\"\",IF(OR(LEFT(B169,8)=\"LED Four\",LEFT(B169,8)=\"LED Tube\",LEFT(B169,8)=\"LED Mogu\",RIGHT(A169,2)=\"In\"),\"\",Worksheet!V195))","v":""},"",{"$f":"IF(OR(LEFT(B169,8)=\"LED Four\",LEFT(B169,8)=\"LED Tube\",LEFT(B169,8)=\"LED Mogu\",RIGHT(A169,2)=\"In\"),H169*Worksheet!W195,\"\")","v":""},{"$f":"IF(Worksheet!W195=0,\"\",IF(OR(LEFT(B169,8)=\"LED Four\",LEFT(B169,8)=\"LED Tube\",LEFT(B169,8)=\"LED Mogu\",RIGHT(A169,2)=\"In\"),\"\",Worksheet!W195))","v":""},""]
[{"$f":"IF(Worksheet!K196=0,\"\",Worksheet!K196)","v":""},{"$f":"IF(Worksheet!L196=0,\"\",Worksheet!L196)","v":""},{"$f":"IF(Worksheet!M196=0,\"\",Worksheet!M196)","v":""},{"$f":"IF(Worksheet!N196=0,\"\",Worksheet!N196)","v":""},{"$f":"IF(Worksheet!P196=0,\"\",IF(OR(LEFT(B170,8)=\"LED Four\",LEFT(B170,8)=\"LED Tube\",LEFT(B170,8)=\"LED Mogu\",RIGHT(A170,2)=\"In\"),\"\",Worksheet!P196))","v":""},{"$f":"IF(Worksheet!R196=0,\"\",Worksheet!R196)","v":""},"",{"$f":"IF(Worksheet!Q196=0,\"\",Worksheet!Q196)","v":""},{"$f":"IF(OR(LEFT(B170,8)=\"LED Four\",LEFT(B170,8)=\"LED Tube\",LEFT(B170,8)=\"LED Mogu\",RIGHT(A170,2)=\"In\"),H170*Worksheet!V196,\"\")","v":""},{"$f":"IF(Worksheet!V196=0,\"\",IF(OR(LEFT(B170,8)=\"LED Four\",LEFT(B170,8)=\"LED Tube\",LEFT(B170,8)=\"LED Mogu\",RIGHT(A170,2)=\"In\"),\"\",Worksheet!V196))","v":""},"",{"$f":"IF(OR(LEFT(B170,8)=\"LED Four\",LEFT(B170,8)=\"LED Tube\",LEFT(B170,8)=\"LED Mogu\",RIGHT(A170,2)=\"In\"),H170*Worksheet!W196,\"\")","v":""},{"$f":"IF(Worksheet!W196=0,\"\",IF(OR(LEFT(B170,8)=\"LED Four\",LEFT(B170,8)=\"LED Tube\",LEFT(B170,8)=\"LED Mogu\",RIGHT(A170,2)=\"In\"),\"\",Worksheet!W196))","v":""},""]
[{"$f":"IF(Worksheet!K197=0,\"\",Worksheet!K197)","v":""},{"$f":"IF(Worksheet!L197=0,\"\",Worksheet!L197)","v":""},{"$f":"IF(Worksheet!M197=0,\"\",Worksheet!M197)","v":""},{"$f":"IF(Worksheet!N197=0,\"\",Worksheet!N197)","v":""},{"$f":"IF(Worksheet!P197=0,\"\",IF(OR(LEFT(B171,8)=\"LED Four\",LEFT(B171,8)=\"LED Tube\",LEFT(B171,8)=\"LED Mogu\",RIGHT(A171,2)=\"In\"),\"\",Worksheet!P197))","v":""},{"$f":"IF(Worksheet!R197=0,\"\",Worksheet!R197)","v":""},"",{"$f":"IF(Worksheet!Q197=0,\"\",Worksheet!Q197)","v":""},{"$f":"IF(OR(LEFT(B171,8)=\"LED Four\",LEFT(B171,8)=\"LED Tube\",LEFT(B171,8)=\"LED Mogu\",RIGHT(A171,2)=\"In\"),H171*Worksheet!V197,\"\")","v":""},{"$f":"IF(Worksheet!V197=0,\"\",IF(OR(LEFT(B171,8)=\"LED Four\",LEFT(B171,8)=\"LED Tube\",LEFT(B171,8)=\"LED Mogu\",RIGHT(A171,2)=\"In\"),\"\",Worksheet!V197))","v":""},"",{"$f":"IF(OR(LEFT(B171,8)=\"LED Four\",LEFT(B171,8)=\"LED Tube\",LEFT(B171,8)=\"LED Mogu\",RIGHT(A171,2)=\"In\"),H171*Worksheet!W197,\"\")","v":""},{"$f":"IF(Worksheet!W197=0,\"\",IF(OR(LEFT(B171,8)=\"LED Four\",LEFT(B171,8)=\"LED Tube\",LEFT(B171,8)=\"LED Mogu\",RIGHT(A171,2)=\"In\"),\"\",Worksheet!W197))","v":""},""]
[{"$f":"IF(Worksheet!K198=0,\"\",Worksheet!K198)","v":""},{"$f":"IF(Worksheet!L198=0,\"\",Worksheet!L198)","v":""},{"$f":"IF(Worksheet!M198=0,\"\",Worksheet!M198)","v":""},{"$f":"IF(Worksheet!N198=0,\"\",Worksheet!N198)","v":""},{"$f":"IF(Worksheet!P198=0,\"\",IF(OR(LEFT(B172,8)=\"LED Four\",LEFT(B172,8)=\"LED Tube\",LEFT(B172,8)=\"LED Mogu\",RIGHT(A172,2)=\"In\"),\"\",Worksheet!P198))","v":""},{"$f":"IF(Worksheet!R198=0,\"\",Worksheet!R198)","v":""},"",{"$f":"IF(Worksheet!Q198=0,\"\",Worksheet!Q198)","v":""},{"$f":"IF(OR(LEFT(B172,8)=\"LED Four\",LEFT(B172,8)=\"LED Tube\",LEFT(B172,8)=\"LED Mogu\",RIGHT(A172,2)=\"In\"),H172*Worksheet!V198,\"\")","v":""},{"$f":"IF(Worksheet!V198=0,\"\",IF(OR(LEFT(B172,8)=\"LED Four\",LEFT(B172,8)=\"LED Tube\",LEFT(B172,8)=\"LED Mogu\",RIGHT(A172,2)=\"In\"),\"\",Worksheet!V198))","v":""},"",{"$f":"IF(OR(LEFT(B172,8)=\"LED Four\",LEFT(B172,8)=\"LED Tube\",LEFT(B172,8)=\"LED Mogu\",RIGHT(A172,2)=\"In\"),H172*Worksheet!W198,\"\")","v":""},{"$f":"IF(Worksheet!W198=0,\"\",IF(OR(LEFT(B172,8)=\"LED Four\",LEFT(B172,8)=\"LED Tube\",LEFT(B172,8)=\"LED Mogu\",RIGHT(A172,2)=\"In\"),\"\",Worksheet!W198))","v":""},""]
[{"$f":"IF(Worksheet!K199=0,\"\",Worksheet!K199)","v":""},{"$f":"IF(Worksheet!L199=0,\"\",Worksheet!L199)","v":""},{"$f":"IF(Worksheet!M199=0,\"\",Worksheet!M199)","v":""},{"$f":"IF(Worksheet!N199=0,\"\",Worksheet!N199)","v":""},{"$f":"IF(Worksheet!P199=0,\"\",IF(OR(LEFT(B173,8)=\"LED Four\",LEFT(B173,8)=\"LED Tube\",LEFT(B173,8)=\"LED Mogu\",RIGHT(A173,2)=\"In\"),\"\",Worksheet!P199))","v":""},{"$f":"IF(Worksheet!R199=0,\"\",Worksheet!R199)","v":""},"",{"$f":"IF(Worksheet!Q199=0,\"\",Worksheet!Q199)","v":""},{"$f":"IF(OR(LEFT(B173,8)=\"LED Four\",LEFT(B173,8)=\"LED Tube\",LEFT(B173,8)=\"LED Mogu\",RIGHT(A173,2)=\"In\"),H173*Worksheet!V199,\"\")","v":""},{"$f":"IF(Worksheet!V199=0,\"\",IF(OR(LEFT(B173,8)=\"LED Four\",LEFT(B173,8)=\"LED Tube\",LEFT(B173,8)=\"LED Mogu\",RIGHT(A173,2)=\"In\"),\"\",Worksheet!V199))","v":""},"",{"$f":"IF(OR(LEFT(B173,8)=\"LED Four\",LEFT(B173,8)=\"LED Tube\",LEFT(B173,8)=\"LED Mogu\",RIGHT(A173,2)=\"In\"),H173*Worksheet!W199,\"\")","v":""},{"$f":"IF(Worksheet!W199=0,\"\",IF(OR(LEFT(B173,8)=\"LED Four\",LEFT(B173,8)=\"LED Tube\",LEFT(B173,8)=\"LED Mogu\",RIGHT(A173,2)=\"In\"),\"\",Worksheet!W199))","v":""},""]
[{"$f":"IF(Worksheet!K200=0,\"\",Worksheet!K200)","v":""},{"$f":"IF(Worksheet!L200=0,\"\",Worksheet!L200)","v":""},{"$f":"IF(Worksheet!M200=0,\"\",Worksheet!M200)","v":""},{"$f":"IF(Worksheet!N200=0,\"\",Worksheet!N200)","v":""},{"$f":"IF(Worksheet!P200=0,\"\",IF(OR(LEFT(B174,8)=\"LED Four\",LEFT(B174,8)=\"LED Tube\",LEFT(B174,8)=\"LED Mogu\",RIGHT(A174,2)=\"In\"),\"\",Worksheet!P200))","v":""},{"$f":"IF(Worksheet!R200=0,\"\",Worksheet!R200)","v":""},"",{"$f":"IF(Worksheet!Q200=0,\"\",Worksheet!Q200)","v":""},{"$f":"IF(OR(LEFT(B174,8)=\"LED Four\",LEFT(B174,8)=\"LED Tube\",LEFT(B174,8)=\"LED Mogu\",RIGHT(A174,2)=\"In\"),H174*Worksheet!V200,\"\")","v":""},{"$f":"IF(Worksheet!V200=0,\"\",IF(OR(LEFT(B174,8)=\"LED Four\",LEFT(B174,8)=\"LED Tube\",LEFT(B174,8)=\"LED Mogu\",RIGHT(A174,2)=\"In\"),\"\",Worksheet!V200))","v":""},"",{"$f":"IF(OR(LEFT(B174,8)=\"LED Four\",LEFT(B174,8)=\"LED Tube\",LEFT(B174,8)=\"LED Mogu\",RIGHT(A174,2)=\"In\"),H174*Worksheet!W200,\"\")","v":""},{"$f":"IF(Worksheet!W200=0,\"\",IF(OR(LEFT(B174,8)=\"LED Four\",LEFT(B174,8)=\"LED Tube\",LEFT(B174,8)=\"LED Mogu\",RIGHT(A174,2)=\"In\"),\"\",Worksheet!W200))","v":""},""]
[{"$f":"IF(Worksheet!K201=0,\"\",Worksheet!K201)","v":""},{"$f":"IF(Worksheet!L201=0,\"\",Worksheet!L201)","v":""},{"$f":"IF(Worksheet!M201=0,\"\",Worksheet!M201)","v":""},{"$f":"IF(Worksheet!N201=0,\"\",Worksheet!N201)","v":""},{"$f":"IF(Worksheet!P201=0,\"\",IF(OR(LEFT(B175,8)=\"LED Four\",LEFT(B175,8)=\"LED Tube\",LEFT(B175,8)=\"LED Mogu\",RIGHT(A175,2)=\"In\"),\"\",Worksheet!P201))","v":""},{"$f":"IF(Worksheet!R201=0,\"\",Worksheet!R201)","v":""},"",{"$f":"IF(Worksheet!Q201=0,\"\",Worksheet!Q201)","v":""},{"$f":"IF(OR(LEFT(B175,8)=\"LED Four\",LEFT(B175,8)=\"LED Tube\",LEFT(B175,8)=\"LED Mogu\",RIGHT(A175,2)=\"In\"),H175*Worksheet!V201,\"\")","v":""},{"$f":"IF(Worksheet!V201=0,\"\",IF(OR(LEFT(B175,8)=\"LED Four\",LEFT(B175,8)=\"LED Tube\",LEFT(B175,8)=\"LED Mogu\",RIGHT(A175,2)=\"In\"),\"\",Worksheet!V201))","v":""},"",{"$f":"IF(OR(LEFT(B175,8)=\"LED Four\",LEFT(B175,8)=\"LED Tube\",LEFT(B175,8)=\"LED Mogu\",RIGHT(A175,2)=\"In\"),H175*Worksheet!W201,\"\")","v":""},{"$f":"IF(Worksheet!W201=0,\"\",IF(OR(LEFT(B175,8)=\"LED Four\",LEFT(B175,8)=\"LED Tube\",LEFT(B175,8)=\"LED Mogu\",RIGHT(A175,2)=\"In\"),\"\",Worksheet!W201))","v":""},""]
[{"$f":"IF(Worksheet!K202=0,\"\",Worksheet!K202)","v":""},{"$f":"IF(Worksheet!L202=0,\"\",Worksheet!L202)","v":""},{"$f":"IF(Worksheet!M202=0,\"\",Worksheet!M202)","v":""},{"$f":"IF(Worksheet!N202=0,\"\",Worksheet!N202)","v":""},{"$f":"IF(Worksheet!P202=0,\"\",IF(OR(LEFT(B176,8)=\"LED Four\",LEFT(B176,8)=\"LED Tube\",LEFT(B176,8)=\"LED Mogu\",RIGHT(A176,2)=\"In\"),\"\",Worksheet!P202))","v":""},{"$f":"IF(Worksheet!R202=0,\"\",Worksheet!R202)","v":""},"",{"$f":"IF(Worksheet!Q202=0,\"\",Worksheet!Q202)","v":""},{"$f":"IF(OR(LEFT(B176,8)=\"LED Four\",LEFT(B176,8)=\"LED Tube\",LEFT(B176,8)=\"LED Mogu\",RIGHT(A176,2)=\"In\"),H176*Worksheet!V202,\"\")","v":""},{"$f":"IF(Worksheet!V202=0,\"\",IF(OR(LEFT(B176,8)=\"LED Four\",LEFT(B176,8)=\"LED Tube\",LEFT(B176,8)=\"LED Mogu\",RIGHT(A176,2)=\"In\"),\"\",Worksheet!V202))","v":""},"",{"$f":"IF(OR(LEFT(B176,8)=\"LED Four\",LEFT(B176,8)=\"LED Tube\",LEFT(B176,8)=\"LED Mogu\",RIGHT(A176,2)=\"In\"),H176*Worksheet!W202,\"\")","v":""},{"$f":"IF(Worksheet!W202=0,\"\",IF(OR(LEFT(B176,8)=\"LED Four\",LEFT(B176,8)=\"LED Tube\",LEFT(B176,8)=\"LED Mogu\",RIGHT(A176,2)=\"In\"),\"\",Worksheet!W202))","v":""},""]
[{"$f":"IF(Worksheet!K203=0,\"\",Worksheet!K203)","v":""},{"$f":"IF(Worksheet!L203=0,\"\",Worksheet!L203)","v":""},{"$f":"IF(Worksheet!M203=0,\"\",Worksheet!M203)","v":""},{"$f":"IF(Worksheet!N203=0,\"\",Worksheet!N203)","v":""},{"$f":"IF(Worksheet!P203=0,\"\",IF(OR(LEFT(B177,8)=\"LED Four\",LEFT(B177,8)=\"LED Tube\",LEFT(B177,8)=\"LED Mogu\",RIGHT(A177,2)=\"In\"),\"\",Worksheet!P203))","v":""},{"$f":"IF(Worksheet!R203=0,\"\",Worksheet!R203)","v":""},"",{"$f":"IF(Worksheet!Q203=0,\"\",Worksheet!Q203)","v":""},{"$f":"IF(OR(LEFT(B177,8)=\"LED Four\",LEFT(B177,8)=\"LED Tube\",LEFT(B177,8)=\"LED Mogu\",RIGHT(A177,2)=\"In\"),H177*Worksheet!V203,\"\")","v":""},{"$f":"IF(Worksheet!V203=0,\"\",IF(OR(LEFT(B177,8)=\"LED Four\",LEFT(B177,8)=\"LED Tube\",LEFT(B177,8)=\"LED Mogu\",RIGHT(A177,2)=\"In\"),\"\",Worksheet!V203))","v":""},"",{"$f":"IF(OR(LEFT(B177,8)=\"LED Four\",LEFT(B177,8)=\"LED Tube\",LEFT(B177,8)=\"LED Mogu\",RIGHT(A177,2)=\"In\"),H177*Worksheet!W203,\"\")","v":""},{"$f":"IF(Worksheet!W203=0,\"\",IF(OR(LEFT(B177,8)=\"LED Four\",LEFT(B177,8)=\"LED Tube\",LEFT(B177,8)=\"LED Mogu\",RIGHT(A177,2)=\"In\"),\"\",Worksheet!W203))","v":""},""]
[{"$f":"IF(Worksheet!K204=0,\"\",Worksheet!K204)","v":""},{"$f":"IF(Worksheet!L204=0,\"\",Worksheet!L204)","v":""},{"$f":"IF(Worksheet!M204=0,\"\",Worksheet!M204)","v":""},{"$f":"IF(Worksheet!N204=0,\"\",Worksheet!N204)","v":""},{"$f":"IF(Worksheet!P204=0,\"\",IF(OR(LEFT(B178,8)=\"LED Four\",LEFT(B178,8)=\"LED Tube\",LEFT(B178,8)=\"LED Mogu\",RIGHT(A178,2)=\"In\"),\"\",Worksheet!P204))","v":""},{"$f":"IF(Worksheet!R204=0,\"\",Worksheet!R204)","v":""},"",{"$f":"IF(Worksheet!Q204=0,\"\",Worksheet!Q204)","v":""},{"$f":"IF(OR(LEFT(B178,8)=\"LED Four\",LEFT(B178,8)=\"LED Tube\",LEFT(B178,8)=\"LED Mogu\",RIGHT(A178,2)=\"In\"),H178*Worksheet!V204,\"\")","v":""},{"$f":"IF(Worksheet!V204=0,\"\",IF(OR(LEFT(B178,8)=\"LED Four\",LEFT(B178,8)=\"LED Tube\",LEFT(B178,8)=\"LED Mogu\",RIGHT(A178,2)=\"In\"),\"\",Worksheet!V204))","v":""},"",{"$f":"IF(OR(LEFT(B178,8)=\"LED Four\",LEFT(B178,8)=\"LED Tube\",LEFT(B178,8)=\"LED Mogu\",RIGHT(A178,2)=\"In\"),H178*Worksheet!W204,\"\")","v":""},{"$f":"IF(Worksheet!W204=0,\"\",IF(OR(LEFT(B178,8)=\"LED Four\",LEFT(B178,8)=\"LED Tube\",LEFT(B178,8)=\"LED Mogu\",RIGHT(A178,2)=\"In\"),\"\",Worksheet!W204))","v":""},""]
[{"$f":"IF(Worksheet!K205=0,\"\",Worksheet!K205)","v":""},{"$f":"IF(Worksheet!L205=0,\"\",Worksheet!L205)","v":""},{"$f":"IF(Worksheet!M205=0,\"\",Worksheet!M205)","v":""},{"$f":"IF(Worksheet!N205=0,\"\",Worksheet!N205)","v":""},{"$f":"IF(Worksheet!P205=0,\"\",IF(OR(LEFT(B179,8)=\"LED Four\",LEFT(B179,8)=\"LED Tube\",LEFT(B179,8)=\"LED Mogu\",RIGHT(A179,2)=\"In\"),\"\",Worksheet!P205))","v":""},{"$f":"IF(Worksheet!R205=0,\"\",Worksheet!R205)","v":""},"",{"$f":"IF(Worksheet!Q205=0,\"\",Worksheet!Q205)","v":""},{"$f":"IF(OR(LEFT(B179,8)=\"LED Four\",LEFT(B179,8)=\"LED Tube\",LEFT(B179,8)=\"LED Mogu\",RIGHT(A179,2)=\"In\"),H179*Worksheet!V205,\"\")","v":""},{"$f":"IF(Worksheet!V205=0,\"\",IF(OR(LEFT(B179,8)=\"LED Four\",LEFT(B179,8)=\"LED Tube\",LEFT(B179,8)=\"LED Mogu\",RIGHT(A179,2)=\"In\"),\"\",Worksheet!V205))","v":""},"",{"$f":"IF(OR(LEFT(B179,8)=\"LED Four\",LEFT(B179,8)=\"LED Tube\",LEFT(B179,8)=\"LED Mogu\",RIGHT(A179,2)=\"In\"),H179*Worksheet!W205,\"\")","v":""},{"$f":"IF(Worksheet!W205=0,\"\",IF(OR(LEFT(B179,8)=\"LED Four\",LEFT(B179,8)=\"LED Tube\",LEFT(B179,8)=\"LED Mogu\",RIGHT(A179,2)=\"In\"),\"\",Worksheet!W205))","v":""},""]
[{"$f":"IF(Worksheet!K206=0,\"\",Worksheet!K206)","v":""},{"$f":"IF(Worksheet!L206=0,\"\",Worksheet!L206)","v":""},{"$f":"IF(Worksheet!M206=0,\"\",Worksheet!M206)","v":""},{"$f":"IF(Worksheet!N206=0,\"\",Worksheet!N206)","v":""},{"$f":"IF(Worksheet!P206=0,\"\",IF(OR(LEFT(B180,8)=\"LED Four\",LEFT(B180,8)=\"LED Tube\",LEFT(B180,8)=\"LED Mogu\",RIGHT(A180,2)=\"In\"),\"\",Worksheet!P206))","v":""},{"$f":"IF(Worksheet!R206=0,\"\",Worksheet!R206)","v":""},"",{"$f":"IF(Worksheet!Q206=0,\"\",Worksheet!Q206)","v":""},{"$f":"IF(OR(LEFT(B180,8)=\"LED Four\",LEFT(B180,8)=\"LED Tube\",LEFT(B180,8)=\"LED Mogu\",RIGHT(A180,2)=\"In\"),H180*Worksheet!V206,\"\")","v":""},{"$f":"IF(Worksheet!V206=0,\"\",IF(OR(LEFT(B180,8)=\"LED Four\",LEFT(B180,8)=\"LED Tube\",LEFT(B180,8)=\"LED Mogu\",RIGHT(A180,2)=\"In\"),\"\",Worksheet!V206))","v":""},"",{"$f":"IF(OR(LEFT(B180,8)=\"LED Four\",LEFT(B180,8)=\"LED Tube\",LEFT(B180,8)=\"LED Mogu\",RIGHT(A180,2)=\"In\"),H180*Worksheet!W206,\"\")","v":""},{"$f":"IF(Worksheet!W206=0,\"\",IF(OR(LEFT(B180,8)=\"LED Four\",LEFT(B180,8)=\"LED Tube\",LEFT(B180,8)=\"LED Mogu\",RIGHT(A180,2)=\"In\"),\"\",Worksheet!W206))","v":""},""]
[{"$f":"IF(Worksheet!K207=0,\"\",Worksheet!K207)","v":""},{"$f":"IF(Worksheet!L207=0,\"\",Worksheet!L207)","v":""},{"$f":"IF(Worksheet!M207=0,\"\",Worksheet!M207)","v":""},{"$f":"IF(Worksheet!N207=0,\"\",Worksheet!N207)","v":""},{"$f":"IF(Worksheet!P207=0,\"\",IF(OR(LEFT(B181,8)=\"LED Four\",LEFT(B181,8)=\"LED Tube\",LEFT(B181,8)=\"LED Mogu\",RIGHT(A181,2)=\"In\"),\"\",Worksheet!P207))","v":""},{"$f":"IF(Worksheet!R207=0,\"\",Worksheet!R207)","v":""},"",{"$f":"IF(Worksheet!Q207=0,\"\",Worksheet!Q207)","v":""},{"$f":"IF(OR(LEFT(B181,8)=\"LED Four\",LEFT(B181,8)=\"LED Tube\",LEFT(B181,8)=\"LED Mogu\",RIGHT(A181,2)=\"In\"),H181*Worksheet!V207,\"\")","v":""},{"$f":"IF(Worksheet!V207=0,\"\",IF(OR(LEFT(B181,8)=\"LED Four\",LEFT(B181,8)=\"LED Tube\",LEFT(B181,8)=\"LED Mogu\",RIGHT(A181,2)=\"In\"),\"\",Worksheet!V207))","v":""},"",{"$f":"IF(OR(LEFT(B181,8)=\"LED Four\",LEFT(B181,8)=\"LED Tube\",LEFT(B181,8)=\"LED Mogu\",RIGHT(A181,2)=\"In\"),H181*Worksheet!W207,\"\")","v":""},{"$f":"IF(Worksheet!W207=0,\"\",IF(OR(LEFT(B181,8)=\"LED Four\",LEFT(B181,8)=\"LED Tube\",LEFT(B181,8)=\"LED Mogu\",RIGHT(A181,2)=\"In\"),\"\",Worksheet!W207))","v":""},""]
[{"$f":"IF(Worksheet!K208=0,\"\",Worksheet!K208)","v":""},{"$f":"IF(Worksheet!L208=0,\"\",Worksheet!L208)","v":""},{"$f":"IF(Worksheet!M208=0,\"\",Worksheet!M208)","v":""},{"$f":"IF(Worksheet!N208=0,\"\",Worksheet!N208)","v":""},{"$f":"IF(Worksheet!P208=0,\"\",IF(OR(LEFT(B182,8)=\"LED Four\",LEFT(B182,8)=\"LED Tube\",LEFT(B182,8)=\"LED Mogu\",RIGHT(A182,2)=\"In\"),\"\",Worksheet!P208))","v":""},{"$f":"IF(Worksheet!R208=0,\"\",Worksheet!R208)","v":""},"",{"$f":"IF(Worksheet!Q208=0,\"\",Worksheet!Q208)","v":""},{"$f":"IF(OR(LEFT(B182,8)=\"LED Four\",LEFT(B182,8)=\"LED Tube\",LEFT(B182,8)=\"LED Mogu\",RIGHT(A182,2)=\"In\"),H182*Worksheet!V208,\"\")","v":""},{"$f":"IF(Worksheet!V208=0,\"\",IF(OR(LEFT(B182,8)=\"LED Four\",LEFT(B182,8)=\"LED Tube\",LEFT(B182,8)=\"LED Mogu\",RIGHT(A182,2)=\"In\"),\"\",Worksheet!V208))","v":""},"",{"$f":"IF(OR(LEFT(B182,8)=\"LED Four\",LEFT(B182,8)=\"LED Tube\",LEFT(B182,8)=\"LED Mogu\",RIGHT(A182,2)=\"In\"),H182*Worksheet!W208,\"\")","v":""},{"$f":"IF(Worksheet!W208=0,\"\",IF(OR(LEFT(B182,8)=\"LED Four\",LEFT(B182,8)=\"LED Tube\",LEFT(B182,8)=\"LED Mogu\",RIGHT(A182,2)=\"In\"),\"\",Worksheet!W208))","v":""},""]
[{"$f":"IF(Worksheet!K209=0,\"\",Worksheet!K209)","v":""},{"$f":"IF(Worksheet!L209=0,\"\",Worksheet!L209)","v":""},{"$f":"IF(Worksheet!M209=0,\"\",Worksheet!M209)","v":""},{"$f":"IF(Worksheet!N209=0,\"\",Worksheet!N209)","v":""},{"$f":"IF(Worksheet!P209=0,\"\",IF(OR(LEFT(B183,8)=\"LED Four\",LEFT(B183,8)=\"LED Tube\",LEFT(B183,8)=\"LED Mogu\",RIGHT(A183,2)=\"In\"),\"\",Worksheet!P209))","v":""},{"$f":"IF(Worksheet!R209=0,\"\",Worksheet!R209)","v":""},"",{"$f":"IF(Worksheet!Q209=0,\"\",Worksheet!Q209)","v":""},{"$f":"IF(OR(LEFT(B183,8)=\"LED Four\",LEFT(B183,8)=\"LED Tube\",LEFT(B183,8)=\"LED Mogu\",RIGHT(A183,2)=\"In\"),H183*Worksheet!V209,\"\")","v":""},{"$f":"IF(Worksheet!V209=0,\"\",IF(OR(LEFT(B183,8)=\"LED Four\",LEFT(B183,8)=\"LED Tube\",LEFT(B183,8)=\"LED Mogu\",RIGHT(A183,2)=\"In\"),\"\",Worksheet!V209))","v":""},"",{"$f":"IF(OR(LEFT(B183,8)=\"LED Four\",LEFT(B183,8)=\"LED Tube\",LEFT(B183,8)=\"LED Mogu\",RIGHT(A183,2)=\"In\"),H183*Worksheet!W209,\"\")","v":""},{"$f":"IF(Worksheet!W209=0,\"\",IF(OR(LEFT(B183,8)=\"LED Four\",LEFT(B183,8)=\"LED Tube\",LEFT(B183,8)=\"LED Mogu\",RIGHT(A183,2)=\"In\"),\"\",Worksheet!W209))","v":""},""]
[{"$f":"IF(Worksheet!K210=0,\"\",Worksheet!K210)","v":""},{"$f":"IF(Worksheet!L210=0,\"\",Worksheet!L210)","v":""},{"$f":"IF(Worksheet!M210=0,\"\",Worksheet!M210)","v":""},{"$f":"IF(Worksheet!N210=0,\"\",Worksheet!N210)","v":""},{"$f":"IF(Worksheet!P210=0,\"\",IF(OR(LEFT(B184,8)=\"LED Four\",LEFT(B184,8)=\"LED Tube\",LEFT(B184,8)=\"LED Mogu\",RIGHT(A184,2)=\"In\"),\"\",Worksheet!P210))","v":""},{"$f":"IF(Worksheet!R210=0,\"\",Worksheet!R210)","v":""},"",{"$f":"IF(Worksheet!Q210=0,\"\",Worksheet!Q210)","v":""},{"$f":"IF(OR(LEFT(B184,8)=\"LED Four\",LEFT(B184,8)=\"LED Tube\",LEFT(B184,8)=\"LED Mogu\",RIGHT(A184,2)=\"In\"),H184*Worksheet!V210,\"\")","v":""},{"$f":"IF(Worksheet!V210=0,\"\",IF(OR(LEFT(B184,8)=\"LED Four\",LEFT(B184,8)=\"LED Tube\",LEFT(B184,8)=\"LED Mogu\",RIGHT(A184,2)=\"In\"),\"\",Worksheet!V210))","v":""},"",{"$f":"IF(OR(LEFT(B184,8)=\"LED Four\",LEFT(B184,8)=\"LED Tube\",LEFT(B184,8)=\"LED Mogu\",RIGHT(A184,2)=\"In\"),H184*Worksheet!W210,\"\")","v":""},{"$f":"IF(Worksheet!W210=0,\"\",IF(OR(LEFT(B184,8)=\"LED Four\",LEFT(B184,8)=\"LED Tube\",LEFT(B184,8)=\"LED Mogu\",RIGHT(A184,2)=\"In\"),\"\",Worksheet!W210))","v":""},""]
[{"$f":"IF(Worksheet!K211=0,\"\",Worksheet!K211)","v":""},{"$f":"IF(Worksheet!L211=0,\"\",Worksheet!L211)","v":""},{"$f":"IF(Worksheet!M211=0,\"\",Worksheet!M211)","v":""},{"$f":"IF(Worksheet!N211=0,\"\",Worksheet!N211)","v":""},{"$f":"IF(Worksheet!P211=0,\"\",IF(OR(LEFT(B185,8)=\"LED Four\",LEFT(B185,8)=\"LED Tube\",LEFT(B185,8)=\"LED Mogu\",RIGHT(A185,2)=\"In\"),\"\",Worksheet!P211))","v":""},{"$f":"IF(Worksheet!R211=0,\"\",Worksheet!R211)","v":""},"",{"$f":"IF(Worksheet!Q211=0,\"\",Worksheet!Q211)","v":""},{"$f":"IF(OR(LEFT(B185,8)=\"LED Four\",LEFT(B185,8)=\"LED Tube\",LEFT(B185,8)=\"LED Mogu\",RIGHT(A185,2)=\"In\"),H185*Worksheet!V211,\"\")","v":""},{"$f":"IF(Worksheet!V211=0,\"\",IF(OR(LEFT(B185,8)=\"LED Four\",LEFT(B185,8)=\"LED Tube\",LEFT(B185,8)=\"LED Mogu\",RIGHT(A185,2)=\"In\"),\"\",Worksheet!V211))","v":""},"",{"$f":"IF(OR(LEFT(B185,8)=\"LED Four\",LEFT(B185,8)=\"LED Tube\",LEFT(B185,8)=\"LED Mogu\",RIGHT(A185,2)=\"In\"),H185*Worksheet!W211,\"\")","v":""},{"$f":"IF(Worksheet!W211=0,\"\",IF(OR(LEFT(B185,8)=\"LED Four\",LEFT(B185,8)=\"LED Tube\",LEFT(B185,8)=\"LED Mogu\",RIGHT(A185,2)=\"In\"),\"\",Worksheet!W211))","v":""},""]
[{"$f":"IF(Worksheet!K212=0,\"\",Worksheet!K212)","v":""},{"$f":"IF(Worksheet!L212=0,\"\",Worksheet!L212)","v":""},{"$f":"IF(Worksheet!M212=0,\"\",Worksheet!M212)","v":""},{"$f":"IF(Worksheet!N212=0,\"\",Worksheet!N212)","v":""},{"$f":"IF(Worksheet!P212=0,\"\",IF(OR(LEFT(B186,8)=\"LED Four\",LEFT(B186,8)=\"LED Tube\",LEFT(B186,8)=\"LED Mogu\",RIGHT(A186,2)=\"In\"),\"\",Worksheet!P212))","v":""},{"$f":"IF(Worksheet!R212=0,\"\",Worksheet!R212)","v":""},"",{"$f":"IF(Worksheet!Q212=0,\"\",Worksheet!Q212)","v":""},{"$f":"IF(OR(LEFT(B186,8)=\"LED Four\",LEFT(B186,8)=\"LED Tube\",LEFT(B186,8)=\"LED Mogu\",RIGHT(A186,2)=\"In\"),H186*Worksheet!V212,\"\")","v":""},{"$f":"IF(Worksheet!V212=0,\"\",IF(OR(LEFT(B186,8)=\"LED Four\",LEFT(B186,8)=\"LED Tube\",LEFT(B186,8)=\"LED Mogu\",RIGHT(A186,2)=\"In\"),\"\",Worksheet!V212))","v":""},"",{"$f":"IF(OR(LEFT(B186,8)=\"LED Four\",LEFT(B186,8)=\"LED Tube\",LEFT(B186,8)=\"LED Mogu\",RIGHT(A186,2)=\"In\"),H186*Worksheet!W212,\"\")","v":""},{"$f":"IF(Worksheet!W212=0,\"\",IF(OR(LEFT(B186,8)=\"LED Four\",LEFT(B186,8)=\"LED Tube\",LEFT(B186,8)=\"LED Mogu\",RIGHT(A186,2)=\"In\"),\"\",Worksheet!W212))","v":""},""]
[{"$f":"IF(Worksheet!K213=0,\"\",Worksheet!K213)","v":""},{"$f":"IF(Worksheet!L213=0,\"\",Worksheet!L213)","v":""},{"$f":"IF(Worksheet!M213=0,\"\",Worksheet!M213)","v":""},{"$f":"IF(Worksheet!N213=0,\"\",Worksheet!N213)","v":""},{"$f":"IF(Worksheet!P213=0,\"\",IF(OR(LEFT(B187,8)=\"LED Four\",LEFT(B187,8)=\"LED Tube\",LEFT(B187,8)=\"LED Mogu\",RIGHT(A187,2)=\"In\"),\"\",Worksheet!P213))","v":""},{"$f":"IF(Worksheet!R213=0,\"\",Worksheet!R213)","v":""},"",{"$f":"IF(Worksheet!Q213=0,\"\",Worksheet!Q213)","v":""},{"$f":"IF(OR(LEFT(B187,8)=\"LED Four\",LEFT(B187,8)=\"LED Tube\",LEFT(B187,8)=\"LED Mogu\",RIGHT(A187,2)=\"In\"),H187*Worksheet!V213,\"\")","v":""},{"$f":"IF(Worksheet!V213=0,\"\",IF(OR(LEFT(B187,8)=\"LED Four\",LEFT(B187,8)=\"LED Tube\",LEFT(B187,8)=\"LED Mogu\",RIGHT(A187,2)=\"In\"),\"\",Worksheet!V213))","v":""},"",{"$f":"IF(OR(LEFT(B187,8)=\"LED Four\",LEFT(B187,8)=\"LED Tube\",LEFT(B187,8)=\"LED Mogu\",RIGHT(A187,2)=\"In\"),H187*Worksheet!W213,\"\")","v":""},{"$f":"IF(Worksheet!W213=0,\"\",IF(OR(LEFT(B187,8)=\"LED Four\",LEFT(B187,8)=\"LED Tube\",LEFT(B187,8)=\"LED Mogu\",RIGHT(A187,2)=\"In\"),\"\",Worksheet!W213))","v":""},""]
[{"$f":"IF(Worksheet!K214=0,\"\",Worksheet!K214)","v":""},{"$f":"IF(Worksheet!L214=0,\"\",Worksheet!L214)","v":""},{"$f":"IF(Worksheet!M214=0,\"\",Worksheet!M214)","v":""},{"$f":"IF(Worksheet!N214=0,\"\",Worksheet!N214)","v":""},{"$f":"IF(Worksheet!P214=0,\"\",IF(OR(LEFT(B188,8)=\"LED Four\",LEFT(B188,8)=\"LED Tube\",LEFT(B188,8)=\"LED Mogu\",RIGHT(A188,2)=\"In\"),\"\",Worksheet!P214))","v":""},{"$f":"IF(Worksheet!R214=0,\"\",Worksheet!R214)","v":""},"",{"$f":"IF(Worksheet!Q214=0,\"\",Worksheet!Q214)","v":""},{"$f":"IF(OR(LEFT(B188,8)=\"LED Four\",LEFT(B188,8)=\"LED Tube\",LEFT(B188,8)=\"LED Mogu\",RIGHT(A188,2)=\"In\"),H188*Worksheet!V214,\"\")","v":""},{"$f":"IF(Worksheet!V214=0,\"\",IF(OR(LEFT(B188,8)=\"LED Four\",LEFT(B188,8)=\"LED Tube\",LEFT(B188,8)=\"LED Mogu\",RIGHT(A188,2)=\"In\"),\"\",Worksheet!V214))","v":""},"",{"$f":"IF(OR(LEFT(B188,8)=\"LED Four\",LEFT(B188,8)=\"LED Tube\",LEFT(B188,8)=\"LED Mogu\",RIGHT(A188,2)=\"In\"),H188*Worksheet!W214,\"\")","v":""},{"$f":"IF(Worksheet!W214=0,\"\",IF(OR(LEFT(B188,8)=\"LED Four\",LEFT(B188,8)=\"LED Tube\",LEFT(B188,8)=\"LED Mogu\",RIGHT(A188,2)=\"In\"),\"\",Worksheet!W214))","v":""},""]
[{"$f":"IF(Worksheet!K215=0,\"\",Worksheet!K215)","v":""},{"$f":"IF(Worksheet!L215=0,\"\",Worksheet!L215)","v":""},{"$f":"IF(Worksheet!M215=0,\"\",Worksheet!M215)","v":""},{"$f":"IF(Worksheet!N215=0,\"\",Worksheet!N215)","v":""},{"$f":"IF(Worksheet!P215=0,\"\",IF(OR(LEFT(B189,8)=\"LED Four\",LEFT(B189,8)=\"LED Tube\",LEFT(B189,8)=\"LED Mogu\",RIGHT(A189,2)=\"In\"),\"\",Worksheet!P215))","v":""},{"$f":"IF(Worksheet!R215=0,\"\",Worksheet!R215)","v":""},"",{"$f":"IF(Worksheet!Q215=0,\"\",Worksheet!Q215)","v":""},{"$f":"IF(OR(LEFT(B189,8)=\"LED Four\",LEFT(B189,8)=\"LED Tube\",LEFT(B189,8)=\"LED Mogu\",RIGHT(A189,2)=\"In\"),H189*Worksheet!V215,\"\")","v":""},{"$f":"IF(Worksheet!V215=0,\"\",IF(OR(LEFT(B189,8)=\"LED Four\",LEFT(B189,8)=\"LED Tube\",LEFT(B189,8)=\"LED Mogu\",RIGHT(A189,2)=\"In\"),\"\",Worksheet!V215))","v":""},"",{"$f":"IF(OR(LEFT(B189,8)=\"LED Four\",LEFT(B189,8)=\"LED Tube\",LEFT(B189,8)=\"LED Mogu\",RIGHT(A189,2)=\"In\"),H189*Worksheet!W215,\"\")","v":""},{"$f":"IF(Worksheet!W215=0,\"\",IF(OR(LEFT(B189,8)=\"LED Four\",LEFT(B189,8)=\"LED Tube\",LEFT(B189,8)=\"LED Mogu\",RIGHT(A189,2)=\"In\"),\"\",Worksheet!W215))","v":""},""]
[{"$f":"IF(Worksheet!K216=0,\"\",Worksheet!K216)","v":""},{"$f":"IF(Worksheet!L216=0,\"\",Worksheet!L216)","v":""},{"$f":"IF(Worksheet!M216=0,\"\",Worksheet!M216)","v":""},{"$f":"IF(Worksheet!N216=0,\"\",Worksheet!N216)","v":""},{"$f":"IF(Worksheet!P216=0,\"\",IF(OR(LEFT(B190,8)=\"LED Four\",LEFT(B190,8)=\"LED Tube\",LEFT(B190,8)=\"LED Mogu\",RIGHT(A190,2)=\"In\"),\"\",Worksheet!P216))","v":""},{"$f":"IF(Worksheet!R216=0,\"\",Worksheet!R216)","v":""},"",{"$f":"IF(Worksheet!Q216=0,\"\",Worksheet!Q216)","v":""},{"$f":"IF(OR(LEFT(B190,8)=\"LED Four\",LEFT(B190,8)=\"LED Tube\",LEFT(B190,8)=\"LED Mogu\",RIGHT(A190,2)=\"In\"),H190*Worksheet!V216,\"\")","v":""},{"$f":"IF(Worksheet!V216=0,\"\",IF(OR(LEFT(B190,8)=\"LED Four\",LEFT(B190,8)=\"LED Tube\",LEFT(B190,8)=\"LED Mogu\",RIGHT(A190,2)=\"In\"),\"\",Worksheet!V216))","v":""},"",{"$f":"IF(OR(LEFT(B190,8)=\"LED Four\",LEFT(B190,8)=\"LED Tube\",LEFT(B190,8)=\"LED Mogu\",RIGHT(A190,2)=\"In\"),H190*Worksheet!W216,\"\")","v":""},{"$f":"IF(Worksheet!W216=0,\"\",IF(OR(LEFT(B190,8)=\"LED Four\",LEFT(B190,8)=\"LED Tube\",LEFT(B190,8)=\"LED Mogu\",RIGHT(A190,2)=\"In\"),\"\",Worksheet!W216))","v":""},""]
[{"$f":"IF(Worksheet!K217=0,\"\",Worksheet!K217)","v":""},{"$f":"IF(Worksheet!L217=0,\"\",Worksheet!L217)","v":""},{"$f":"IF(Worksheet!M217=0,\"\",Worksheet!M217)","v":""},{"$f":"IF(Worksheet!N217=0,\"\",Worksheet!N217)","v":""},{"$f":"IF(Worksheet!P217=0,\"\",IF(OR(LEFT(B191,8)=\"LED Four\",LEFT(B191,8)=\"LED Tube\",LEFT(B191,8)=\"LED Mogu\",RIGHT(A191,2)=\"In\"),\"\",Worksheet!P217))","v":""},{"$f":"IF(Worksheet!R217=0,\"\",Worksheet!R217)","v":""},"",{"$f":"IF(Worksheet!Q217=0,\"\",Worksheet!Q217)","v":""},{"$f":"IF(OR(LEFT(B191,8)=\"LED Four\",LEFT(B191,8)=\"LED Tube\",LEFT(B191,8)=\"LED Mogu\",RIGHT(A191,2)=\"In\"),H191*Worksheet!V217,\"\")","v":""},{"$f":"IF(Worksheet!V217=0,\"\",IF(OR(LEFT(B191,8)=\"LED Four\",LEFT(B191,8)=\"LED Tube\",LEFT(B191,8)=\"LED Mogu\",RIGHT(A191,2)=\"In\"),\"\",Worksheet!V217))","v":""},"",{"$f":"IF(OR(LEFT(B191,8)=\"LED Four\",LEFT(B191,8)=\"LED Tube\",LEFT(B191,8)=\"LED Mogu\",RIGHT(A191,2)=\"In\"),H191*Worksheet!W217,\"\")","v":""},{"$f":"IF(Worksheet!W217=0,\"\",IF(OR(LEFT(B191,8)=\"LED Four\",LEFT(B191,8)=\"LED Tube\",LEFT(B191,8)=\"LED Mogu\",RIGHT(A191,2)=\"In\"),\"\",Worksheet!W217))","v":""},""]
[{"$f":"IF(Worksheet!K218=0,\"\",Worksheet!K218)","v":""},{"$f":"IF(Worksheet!L218=0,\"\",Worksheet!L218)","v":""},{"$f":"IF(Worksheet!M218=0,\"\",Worksheet!M218)","v":""},{"$f":"IF(Worksheet!N218=0,\"\",Worksheet!N218)","v":""},{"$f":"IF(Worksheet!P218=0,\"\",IF(OR(LEFT(B192,8)=\"LED Four\",LEFT(B192,8)=\"LED Tube\",LEFT(B192,8)=\"LED Mogu\",RIGHT(A192,2)=\"In\"),\"\",Worksheet!P218))","v":""},{"$f":"IF(Worksheet!R218=0,\"\",Worksheet!R218)","v":""},"",{"$f":"IF(Worksheet!Q218=0,\"\",Worksheet!Q218)","v":""},{"$f":"IF(OR(LEFT(B192,8)=\"LED Four\",LEFT(B192,8)=\"LED Tube\",LEFT(B192,8)=\"LED Mogu\",RIGHT(A192,2)=\"In\"),H192*Worksheet!V218,\"\")","v":""},{"$f":"IF(Worksheet!V218=0,\"\",IF(OR(LEFT(B192,8)=\"LED Four\",LEFT(B192,8)=\"LED Tube\",LEFT(B192,8)=\"LED Mogu\",RIGHT(A192,2)=\"In\"),\"\",Worksheet!V218))","v":""},"",{"$f":"IF(OR(LEFT(B192,8)=\"LED Four\",LEFT(B192,8)=\"LED Tube\",LEFT(B192,8)=\"LED Mogu\",RIGHT(A192,2)=\"In\"),H192*Worksheet!W218,\"\")","v":""},{"$f":"IF(Worksheet!W218=0,\"\",IF(OR(LEFT(B192,8)=\"LED Four\",LEFT(B192,8)=\"LED Tube\",LEFT(B192,8)=\"LED Mogu\",RIGHT(A192,2)=\"In\"),\"\",Worksheet!W218))","v":""},""]
[{"$f":"IF(Worksheet!K219=0,\"\",Worksheet!K219)","v":""},{"$f":"IF(Worksheet!L219=0,\"\",Worksheet!L219)","v":""},{"$f":"IF(Worksheet!M219=0,\"\",Worksheet!M219)","v":""},{"$f":"IF(Worksheet!N219=0,\"\",Worksheet!N219)","v":""},{"$f":"IF(Worksheet!P219=0,\"\",IF(OR(LEFT(B193,8)=\"LED Four\",LEFT(B193,8)=\"LED Tube\",LEFT(B193,8)=\"LED Mogu\",RIGHT(A193,2)=\"In\"),\"\",Worksheet!P219))","v":""},{"$f":"IF(Worksheet!R219=0,\"\",Worksheet!R219)","v":""},"",{"$f":"IF(Worksheet!Q219=0,\"\",Worksheet!Q219)","v":""},{"$f":"IF(OR(LEFT(B193,8)=\"LED Four\",LEFT(B193,8)=\"LED Tube\",LEFT(B193,8)=\"LED Mogu\",RIGHT(A193,2)=\"In\"),H193*Worksheet!V219,\"\")","v":""},{"$f":"IF(Worksheet!V219=0,\"\",IF(OR(LEFT(B193,8)=\"LED Four\",LEFT(B193,8)=\"LED Tube\",LEFT(B193,8)=\"LED Mogu\",RIGHT(A193,2)=\"In\"),\"\",Worksheet!V219))","v":""},"",{"$f":"IF(OR(LEFT(B193,8)=\"LED Four\",LEFT(B193,8)=\"LED Tube\",LEFT(B193,8)=\"LED Mogu\",RIGHT(A193,2)=\"In\"),H193*Worksheet!W219,\"\")","v":""},{"$f":"IF(Worksheet!W219=0,\"\",IF(OR(LEFT(B193,8)=\"LED Four\",LEFT(B193,8)=\"LED Tube\",LEFT(B193,8)=\"LED Mogu\",RIGHT(A193,2)=\"In\"),\"\",Worksheet!W219))","v":""},""]
[{"$f":"IF(Worksheet!K220=0,\"\",Worksheet!K220)","v":""},{"$f":"IF(Worksheet!L220=0,\"\",Worksheet!L220)","v":""},{"$f":"IF(Worksheet!M220=0,\"\",Worksheet!M220)","v":""},{"$f":"IF(Worksheet!N220=0,\"\",Worksheet!N220)","v":""},{"$f":"IF(Worksheet!P220=0,\"\",IF(OR(LEFT(B194,8)=\"LED Four\",LEFT(B194,8)=\"LED Tube\",LEFT(B194,8)=\"LED Mogu\",RIGHT(A194,2)=\"In\"),\"\",Worksheet!P220))","v":""},{"$f":"IF(Worksheet!R220=0,\"\",Worksheet!R220)","v":""},"",{"$f":"IF(Worksheet!Q220=0,\"\",Worksheet!Q220)","v":""},{"$f":"IF(OR(LEFT(B194,8)=\"LED Four\",LEFT(B194,8)=\"LED Tube\",LEFT(B194,8)=\"LED Mogu\",RIGHT(A194,2)=\"In\"),H194*Worksheet!V220,\"\")","v":""},{"$f":"IF(Worksheet!V220=0,\"\",IF(OR(LEFT(B194,8)=\"LED Four\",LEFT(B194,8)=\"LED Tube\",LEFT(B194,8)=\"LED Mogu\",RIGHT(A194,2)=\"In\"),\"\",Worksheet!V220))","v":""},"",{"$f":"IF(OR(LEFT(B194,8)=\"LED Four\",LEFT(B194,8)=\"LED Tube\",LEFT(B194,8)=\"LED Mogu\",RIGHT(A194,2)=\"In\"),H194*Worksheet!W220,\"\")","v":""},{"$f":"IF(Worksheet!W220=0,\"\",IF(OR(LEFT(B194,8)=\"LED Four\",LEFT(B194,8)=\"LED Tube\",LEFT(B194,8)=\"LED Mogu\",RIGHT(A194,2)=\"In\"),\"\",Worksheet!W220))","v":""},""]
[{"$f":"IF(Worksheet!K221=0,\"\",Worksheet!K221)","v":""},{"$f":"IF(Worksheet!L221=0,\"\",Worksheet!L221)","v":""},{"$f":"IF(Worksheet!M221=0,\"\",Worksheet!M221)","v":""},{"$f":"IF(Worksheet!N221=0,\"\",Worksheet!N221)","v":""},{"$f":"IF(Worksheet!P221=0,\"\",IF(OR(LEFT(B195,8)=\"LED Four\",LEFT(B195,8)=\"LED Tube\",LEFT(B195,8)=\"LED Mogu\",RIGHT(A195,2)=\"In\"),\"\",Worksheet!P221))","v":""},{"$f":"IF(Worksheet!R221=0,\"\",Worksheet!R221)","v":""},{"$f":"IF(MAX(E195:F195)=0,\"\",MAX(E195:F195))","v":""},{"$f":"IF(Worksheet!Q221=0,\"\",Worksheet!Q221)","v":""},{"$f":"IF(OR(LEFT(B195,8)=\"LED Four\",LEFT(B195,8)=\"LED Tube\",LEFT(B195,8)=\"LED Mogu\",RIGHT(A195,2)=\"In\"),H195*Worksheet!V221,\"\")","v":""},{"$f":"IF(Worksheet!V221=0,\"\",IF(OR(LEFT(B195,8)=\"LED Four\",LEFT(B195,8)=\"LED Tube\",LEFT(B195,8)=\"LED Mogu\",RIGHT(A195,2)=\"In\"),\"\",Worksheet!V221))","v":""},{"$f":"(IF(MAX(I195:J195)=0,\"\",MAX(I195:J195)))","v":""},{"$f":"IF(OR(LEFT(B195,8)=\"LED Four\",LEFT(B195,8)=\"LED Tube\",LEFT(B195,8)=\"LED Mogu\",RIGHT(A195,2)=\"In\"),H195*Worksheet!W221,\"\")","v":""},{"$f":"IF(Worksheet!W221=0,\"\",IF(OR(LEFT(B195,8)=\"LED Four\",LEFT(B195,8)=\"LED Tube\",LEFT(B195,8)=\"LED Mogu\",RIGHT(A195,2)=\"In\"),\"\",Worksheet!W221))","v":""},{"$f":"IF(MAX(L195:M195)=0,\"\",MAX(L195:M195))","v":""}]
[{"$f":"IF(Worksheet!K222=0,\"\",Worksheet!K222)","v":""},{"$f":"IF(Worksheet!L222=0,\"\",Worksheet!L222)","v":""},{"$f":"IF(Worksheet!M222=0,\"\",Worksheet!M222)","v":""},{"$f":"IF(Worksheet!N222=0,\"\",Worksheet!N222)","v":""},{"$f":"IF(Worksheet!P222=0,\"\",IF(OR(LEFT(B196,8)=\"LED Four\",LEFT(B196,8)=\"LED Tube\",LEFT(B196,8)=\"LED Mogu\",RIGHT(A196,2)=\"In\"),\"\",Worksheet!P222))","v":""},{"$f":"IF(Worksheet!R222=0,\"\",Worksheet!R222)","v":""},"",{"$f":"IF(Worksheet!Q222=0,\"\",Worksheet!Q222)","v":""},{"$f":"IF(OR(LEFT(B196,8)=\"LED Four\",LEFT(B196,8)=\"LED Tube\",LEFT(B196,8)=\"LED Mogu\",RIGHT(A196,2)=\"In\"),H196*Worksheet!V222,\"\")","v":""},{"$f":"IF(Worksheet!V222=0,\"\",IF(OR(LEFT(B196,8)=\"LED Four\",LEFT(B196,8)=\"LED Tube\",LEFT(B196,8)=\"LED Mogu\",RIGHT(A196,2)=\"In\"),\"\",Worksheet!V222))","v":""},"",{"$f":"IF(OR(LEFT(B196,8)=\"LED Four\",LEFT(B196,8)=\"LED Tube\",LEFT(B196,8)=\"LED Mogu\",RIGHT(A196,2)=\"In\"),H196*Worksheet!W222,\"\")","v":""},{"$f":"IF(Worksheet!W222=0,\"\",IF(OR(LEFT(B196,8)=\"LED Four\",LEFT(B196,8)=\"LED Tube\",LEFT(B196,8)=\"LED Mogu\",RIGHT(A196,2)=\"In\"),\"\",Worksheet!W222))","v":""},""]
[{"$f":"IF(Worksheet!K223=0,\"\",Worksheet!K223)","v":""},{"$f":"IF(Worksheet!L223=0,\"\",Worksheet!L223)","v":""},{"$f":"IF(Worksheet!M223=0,\"\",Worksheet!M223)","v":""},{"$f":"IF(Worksheet!N223=0,\"\",Worksheet!N223)","v":""},{"$f":"IF(Worksheet!P223=0,\"\",IF(OR(LEFT(B197,8)=\"LED Four\",LEFT(B197,8)=\"LED Tube\",LEFT(B197,8)=\"LED Mogu\",RIGHT(A197,2)=\"In\"),\"\",Worksheet!P223))","v":""},{"$f":"IF(Worksheet!R223=0,\"\",Worksheet!R223)","v":""},"",{"$f":"IF(Worksheet!Q223=0,\"\",Worksheet!Q223)","v":""},{"$f":"IF(OR(LEFT(B197,8)=\"LED Four\",LEFT(B197,8)=\"LED Tube\",LEFT(B197,8)=\"LED Mogu\",RIGHT(A197,2)=\"In\"),H197*Worksheet!V223,\"\")","v":""},{"$f":"IF(Worksheet!V223=0,\"\",IF(OR(LEFT(B197,8)=\"LED Four\",LEFT(B197,8)=\"LED Tube\",LEFT(B197,8)=\"LED Mogu\",RIGHT(A197,2)=\"In\"),\"\",Worksheet!V223))","v":""},"",{"$f":"IF(OR(LEFT(B197,8)=\"LED Four\",LEFT(B197,8)=\"LED Tube\",LEFT(B197,8)=\"LED Mogu\",RIGHT(A197,2)=\"In\"),H197*Worksheet!W223,\"\")","v":""},{"$f":"IF(Worksheet!W223=0,\"\",IF(OR(LEFT(B197,8)=\"LED Four\",LEFT(B197,8)=\"LED Tube\",LEFT(B197,8)=\"LED Mogu\",RIGHT(A197,2)=\"In\"),\"\",Worksheet!W223))","v":""},""]
[{"$f":"IF(Worksheet!K224=0,\"\",Worksheet!K224)","v":""},{"$f":"IF(Worksheet!L224=0,\"\",Worksheet!L224)","v":""},{"$f":"IF(Worksheet!M224=0,\"\",Worksheet!M224)","v":""},{"$f":"IF(Worksheet!N224=0,\"\",Worksheet!N224)","v":""},{"$f":"IF(Worksheet!P224=0,\"\",IF(OR(LEFT(B198,8)=\"LED Four\",LEFT(B198,8)=\"LED Tube\",LEFT(B198,8)=\"LED Mogu\",RIGHT(A198,2)=\"In\"),\"\",Worksheet!P224))","v":""},{"$f":"IF(Worksheet!R224=0,\"\",Worksheet!R224)","v":""},"",{"$f":"IF(Worksheet!Q224=0,\"\",Worksheet!Q224)","v":""},{"$f":"IF(OR(LEFT(B198,8)=\"LED Four\",LEFT(B198,8)=\"LED Tube\",LEFT(B198,8)=\"LED Mogu\",RIGHT(A198,2)=\"In\"),H198*Worksheet!V224,\"\")","v":""},{"$f":"IF(Worksheet!V224=0,\"\",IF(OR(LEFT(B198,8)=\"LED Four\",LEFT(B198,8)=\"LED Tube\",LEFT(B198,8)=\"LED Mogu\",RIGHT(A198,2)=\"In\"),\"\",Worksheet!V224))","v":""},"",{"$f":"IF(OR(LEFT(B198,8)=\"LED Four\",LEFT(B198,8)=\"LED Tube\",LEFT(B198,8)=\"LED Mogu\",RIGHT(A198,2)=\"In\"),H198*Worksheet!W224,\"\")","v":""},{"$f":"IF(Worksheet!W224=0,\"\",IF(OR(LEFT(B198,8)=\"LED Four\",LEFT(B198,8)=\"LED Tube\",LEFT(B198,8)=\"LED Mogu\",RIGHT(A198,2)=\"In\"),\"\",Worksheet!W224))","v":""},""]
[{"$f":"IF(Worksheet!K225=0,\"\",Worksheet!K225)","v":""},{"$f":"IF(Worksheet!L225=0,\"\",Worksheet!L225)","v":""},{"$f":"IF(Worksheet!M225=0,\"\",Worksheet!M225)","v":""},{"$f":"IF(Worksheet!N225=0,\"\",Worksheet!N225)","v":""},{"$f":"IF(Worksheet!P225=0,\"\",IF(OR(LEFT(B199,8)=\"LED Four\",LEFT(B199,8)=\"LED Tube\",LEFT(B199,8)=\"LED Mogu\",RIGHT(A199,2)=\"In\"),\"\",Worksheet!P225))","v":""},{"$f":"IF(Worksheet!R225=0,\"\",Worksheet!R225)","v":""},"",{"$f":"IF(Worksheet!Q225=0,\"\",Worksheet!Q225)","v":""},{"$f":"IF(OR(LEFT(B199,8)=\"LED Four\",LEFT(B199,8)=\"LED Tube\",LEFT(B199,8)=\"LED Mogu\",RIGHT(A199,2)=\"In\"),H199*Worksheet!V225,\"\")","v":""},{"$f":"IF(Worksheet!V225=0,\"\",IF(OR(LEFT(B199,8)=\"LED Four\",LEFT(B199,8)=\"LED Tube\",LEFT(B199,8)=\"LED Mogu\",RIGHT(A199,2)=\"In\"),\"\",Worksheet!V225))","v":""},"",{"$f":"IF(OR(LEFT(B199,8)=\"LED Four\",LEFT(B199,8)=\"LED Tube\",LEFT(B199,8)=\"LED Mogu\",RIGHT(A199,2)=\"In\"),H199*Worksheet!W225,\"\")","v":""},{"$f":"IF(Worksheet!W225=0,\"\",IF(OR(LEFT(B199,8)=\"LED Four\",LEFT(B199,8)=\"LED Tube\",LEFT(B199,8)=\"LED Mogu\",RIGHT(A199,2)=\"In\"),\"\",Worksheet!W225))","v":""},""]
[{"$f":"IF(Worksheet!K226=0,\"\",Worksheet!K226)","v":""},{"$f":"IF(Worksheet!L226=0,\"\",Worksheet!L226)","v":""},{"$f":"IF(Worksheet!M226=0,\"\",Worksheet!M226)","v":""},{"$f":"IF(Worksheet!N226=0,\"\",Worksheet!N226)","v":""},{"$f":"IF(Worksheet!P226=0,\"\",IF(OR(LEFT(B200,8)=\"LED Four\",LEFT(B200,8)=\"LED Tube\",LEFT(B200,8)=\"LED Mogu\",RIGHT(A200,2)=\"In\"),\"\",Worksheet!P226))","v":""},{"$f":"IF(Worksheet!R226=0,\"\",Worksheet!R226)","v":""},"",{"$f":"IF(Worksheet!Q226=0,\"\",Worksheet!Q226)","v":""},{"$f":"IF(OR(LEFT(B200,8)=\"LED Four\",LEFT(B200,8)=\"LED Tube\",LEFT(B200,8)=\"LED Mogu\",RIGHT(A200,2)=\"In\"),H200*Worksheet!V226,\"\")","v":""},{"$f":"IF(Worksheet!V226=0,\"\",IF(OR(LEFT(B200,8)=\"LED Four\",LEFT(B200,8)=\"LED Tube\",LEFT(B200,8)=\"LED Mogu\",RIGHT(A200,2)=\"In\"),\"\",Worksheet!V226))","v":""},"",{"$f":"IF(OR(LEFT(B200,8)=\"LED Four\",LEFT(B200,8)=\"LED Tube\",LEFT(B200,8)=\"LED Mogu\",RIGHT(A200,2)=\"In\"),H200*Worksheet!W226,\"\")","v":""},{"$f":"IF(Worksheet!W226=0,\"\",IF(OR(LEFT(B200,8)=\"LED Four\",LEFT(B200,8)=\"LED Tube\",LEFT(B200,8)=\"LED Mogu\",RIGHT(A200,2)=\"In\"),\"\",Worksheet!W226))","v":""},""]
[{"$f":"IF(Worksheet!K227=0,\"\",Worksheet!K227)","v":""},{"$f":"IF(Worksheet!L227=0,\"\",Worksheet!L227)","v":""},{"$f":"IF(Worksheet!M227=0,\"\",Worksheet!M227)","v":""},{"$f":"IF(Worksheet!N227=0,\"\",Worksheet!N227)","v":""},{"$f":"IF(Worksheet!P227=0,\"\",IF(OR(LEFT(B201,8)=\"LED Four\",LEFT(B201,8)=\"LED Tube\",LEFT(B201,8)=\"LED Mogu\",RIGHT(A201,2)=\"In\"),\"\",Worksheet!P227))","v":""},{"$f":"IF(Worksheet!R227=0,\"\",Worksheet!R227)","v":""},"",{"$f":"IF(Worksheet!Q227=0,\"\",Worksheet!Q227)","v":""},{"$f":"IF(OR(LEFT(B201,8)=\"LED Four\",LEFT(B201,8)=\"LED Tube\",LEFT(B201,8)=\"LED Mogu\",RIGHT(A201,2)=\"In\"),H201*Worksheet!V227,\"\")","v":""},{"$f":"IF(Worksheet!V227=0,\"\",IF(OR(LEFT(B201,8)=\"LED Four\",LEFT(B201,8)=\"LED Tube\",LEFT(B201,8)=\"LED Mogu\",RIGHT(A201,2)=\"In\"),\"\",Worksheet!V227))","v":""},"",{"$f":"IF(OR(LEFT(B201,8)=\"LED Four\",LEFT(B201,8)=\"LED Tube\",LEFT(B201,8)=\"LED Mogu\",RIGHT(A201,2)=\"In\"),H201*Worksheet!W227,\"\")","v":""},{"$f":"IF(Worksheet!W227=0,\"\",IF(OR(LEFT(B201,8)=\"LED Four\",LEFT(B201,8)=\"LED Tube\",LEFT(B201,8)=\"LED Mogu\",RIGHT(A201,2)=\"In\"),\"\",Worksheet!W227))","v":""},""]
[{"$f":"IF(Worksheet!K228=0,\"\",Worksheet!K228)","v":""},{"$f":"IF(Worksheet!L228=0,\"\",Worksheet!L228)","v":""},{"$f":"IF(Worksheet!M228=0,\"\",Worksheet!M228)","v":""},{"$f":"IF(Worksheet!N228=0,\"\",Worksheet!N228)","v":""},{"$f":"IF(Worksheet!P228=0,\"\",IF(OR(LEFT(B202,8)=\"LED Four\",LEFT(B202,8)=\"LED Tube\",LEFT(B202,8)=\"LED Mogu\",RIGHT(A202,2)=\"In\"),\"\",Worksheet!P228))","v":""},{"$f":"IF(Worksheet!R228=0,\"\",Worksheet!R228)","v":""},"",{"$f":"IF(Worksheet!Q228=0,\"\",Worksheet!Q228)","v":""},{"$f":"IF(OR(LEFT(B202,8)=\"LED Four\",LEFT(B202,8)=\"LED Tube\",LEFT(B202,8)=\"LED Mogu\",RIGHT(A202,2)=\"In\"),H202*Worksheet!V228,\"\")","v":""},{"$f":"IF(Worksheet!V228=0,\"\",IF(OR(LEFT(B202,8)=\"LED Four\",LEFT(B202,8)=\"LED Tube\",LEFT(B202,8)=\"LED Mogu\",RIGHT(A202,2)=\"In\"),\"\",Worksheet!V228))","v":""},"",{"$f":"IF(OR(LEFT(B202,8)=\"LED Four\",LEFT(B202,8)=\"LED Tube\",LEFT(B202,8)=\"LED Mogu\",RIGHT(A202,2)=\"In\"),H202*Worksheet!W228,\"\")","v":""},{"$f":"IF(Worksheet!W228=0,\"\",IF(OR(LEFT(B202,8)=\"LED Four\",LEFT(B202,8)=\"LED Tube\",LEFT(B202,8)=\"LED Mogu\",RIGHT(A202,2)=\"In\"),\"\",Worksheet!W228))","v":""},""]
[{"$f":"IF(Worksheet!K229=0,\"\",Worksheet!K229)","v":""},{"$f":"IF(Worksheet!L229=0,\"\",Worksheet!L229)","v":""},{"$f":"IF(Worksheet!M229=0,\"\",Worksheet!M229)","v":""},{"$f":"IF(Worksheet!N229=0,\"\",Worksheet!N229)","v":""},{"$f":"IF(Worksheet!P229=0,\"\",IF(OR(LEFT(B203,8)=\"LED Four\",LEFT(B203,8)=\"LED Tube\",LEFT(B203,8)=\"LED Mogu\",RIGHT(A203,2)=\"In\"),\"\",Worksheet!P229))","v":""},{"$f":"IF(Worksheet!R229=0,\"\",Worksheet!R229)","v":""},"",{"$f":"IF(Worksheet!Q229=0,\"\",Worksheet!Q229)","v":""},{"$f":"IF(OR(LEFT(B203,8)=\"LED Four\",LEFT(B203,8)=\"LED Tube\",LEFT(B203,8)=\"LED Mogu\",RIGHT(A203,2)=\"In\"),H203*Worksheet!V229,\"\")","v":""},{"$f":"IF(Worksheet!V229=0,\"\",IF(OR(LEFT(B203,8)=\"LED Four\",LEFT(B203,8)=\"LED Tube\",LEFT(B203,8)=\"LED Mogu\",RIGHT(A203,2)=\"In\"),\"\",Worksheet!V229))","v":""},"",{"$f":"IF(OR(LEFT(B203,8)=\"LED Four\",LEFT(B203,8)=\"LED Tube\",LEFT(B203,8)=\"LED Mogu\",RIGHT(A203,2)=\"In\"),H203*Worksheet!W229,\"\")","v":""},{"$f":"IF(Worksheet!W229=0,\"\",IF(OR(LEFT(B203,8)=\"LED Four\",LEFT(B203,8)=\"LED Tube\",LEFT(B203,8)=\"LED Mogu\",RIGHT(A203,2)=\"In\"),\"\",Worksheet!W229))","v":""},""]
[{"$f":"IF(Worksheet!K230=0,\"\",Worksheet!K230)","v":""},{"$f":"IF(Worksheet!L230=0,\"\",Worksheet!L230)","v":""},{"$f":"IF(Worksheet!M230=0,\"\",Worksheet!M230)","v":""},{"$f":"IF(Worksheet!N230=0,\"\",Worksheet!N230)","v":""},{"$f":"IF(Worksheet!P230=0,\"\",IF(OR(LEFT(B204,8)=\"LED Four\",LEFT(B204,8)=\"LED Tube\",LEFT(B204,8)=\"LED Mogu\",RIGHT(A204,2)=\"In\"),\"\",Worksheet!P230))","v":""},{"$f":"IF(Worksheet!R230=0,\"\",Worksheet!R230)","v":""},"",{"$f":"IF(Worksheet!Q230=0,\"\",Worksheet!Q230)","v":""},{"$f":"IF(OR(LEFT(B204,8)=\"LED Four\",LEFT(B204,8)=\"LED Tube\",LEFT(B204,8)=\"LED Mogu\",RIGHT(A204,2)=\"In\"),H204*Worksheet!V230,\"\")","v":""},{"$f":"IF(Worksheet!V230=0,\"\",IF(OR(LEFT(B204,8)=\"LED Four\",LEFT(B204,8)=\"LED Tube\",LEFT(B204,8)=\"LED Mogu\",RIGHT(A204,2)=\"In\"),\"\",Worksheet!V230))","v":""},"",{"$f":"IF(OR(LEFT(B204,8)=\"LED Four\",LEFT(B204,8)=\"LED Tube\",LEFT(B204,8)=\"LED Mogu\",RIGHT(A204,2)=\"In\"),H204*Worksheet!W230,\"\")","v":""},{"$f":"IF(Worksheet!W230=0,\"\",IF(OR(LEFT(B204,8)=\"LED Four\",LEFT(B204,8)=\"LED Tube\",LEFT(B204,8)=\"LED Mogu\",RIGHT(A204,2)=\"In\"),\"\",Worksheet!W230))","v":""},""]
[{"$f":"IF(Worksheet!K231=0,\"\",Worksheet!K231)","v":""},{"$f":"IF(Worksheet!L231=0,\"\",Worksheet!L231)","v":""},{"$f":"IF(Worksheet!M231=0,\"\",Worksheet!M231)","v":""},{"$f":"IF(Worksheet!N231=0,\"\",Worksheet!N231)","v":""},{"$f":"IF(Worksheet!P231=0,\"\",IF(OR(LEFT(B205,8)=\"LED Four\",LEFT(B205,8)=\"LED Tube\",LEFT(B205,8)=\"LED Mogu\",RIGHT(A205,2)=\"In\"),\"\",Worksheet!P231))","v":""},{"$f":"IF(Worksheet!R231=0,\"\",Worksheet!R231)","v":""},"",{"$f":"IF(Worksheet!Q231=0,\"\",Worksheet!Q231)","v":""},{"$f":"IF(OR(LEFT(B205,8)=\"LED Four\",LEFT(B205,8)=\"LED Tube\",LEFT(B205,8)=\"LED Mogu\",RIGHT(A205,2)=\"In\"),H205*Worksheet!V231,\"\")","v":""},{"$f":"IF(Worksheet!V231=0,\"\",IF(OR(LEFT(B205,8)=\"LED Four\",LEFT(B205,8)=\"LED Tube\",LEFT(B205,8)=\"LED Mogu\",RIGHT(A205,2)=\"In\"),\"\",Worksheet!V231))","v":""},"",{"$f":"IF(OR(LEFT(B205,8)=\"LED Four\",LEFT(B205,8)=\"LED Tube\",LEFT(B205,8)=\"LED Mogu\",RIGHT(A205,2)=\"In\"),H205*Worksheet!W231,\"\")","v":""},{"$f":"IF(Worksheet!W231=0,\"\",IF(OR(LEFT(B205,8)=\"LED Four\",LEFT(B205,8)=\"LED Tube\",LEFT(B205,8)=\"LED Mogu\",RIGHT(A205,2)=\"In\"),\"\",Worksheet!W231))","v":""},""]
[{"$f":"IF(Worksheet!K232=0,\"\",Worksheet!K232)","v":""},{"$f":"IF(Worksheet!L232=0,\"\",Worksheet!L232)","v":""},{"$f":"IF(Worksheet!M232=0,\"\",Worksheet!M232)","v":""},{"$f":"IF(Worksheet!N232=0,\"\",Worksheet!N232)","v":""},{"$f":"IF(Worksheet!P232=0,\"\",IF(OR(LEFT(B206,8)=\"LED Four\",LEFT(B206,8)=\"LED Tube\",LEFT(B206,8)=\"LED Mogu\",RIGHT(A206,2)=\"In\"),\"\",Worksheet!P232))","v":""},{"$f":"IF(Worksheet!R232=0,\"\",Worksheet!R232)","v":""},"",{"$f":"IF(Worksheet!Q232=0,\"\",Worksheet!Q232)","v":""},{"$f":"IF(OR(LEFT(B206,8)=\"LED Four\",LEFT(B206,8)=\"LED Tube\",LEFT(B206,8)=\"LED Mogu\",RIGHT(A206,2)=\"In\"),H206*Worksheet!V232,\"\")","v":""},{"$f":"IF(Worksheet!V232=0,\"\",IF(OR(LEFT(B206,8)=\"LED Four\",LEFT(B206,8)=\"LED Tube\",LEFT(B206,8)=\"LED Mogu\",RIGHT(A206,2)=\"In\"),\"\",Worksheet!V232))","v":""},"",{"$f":"IF(OR(LEFT(B206,8)=\"LED Four\",LEFT(B206,8)=\"LED Tube\",LEFT(B206,8)=\"LED Mogu\",RIGHT(A206,2)=\"In\"),H206*Worksheet!W232,\"\")","v":""},{"$f":"IF(Worksheet!W232=0,\"\",IF(OR(LEFT(B206,8)=\"LED Four\",LEFT(B206,8)=\"LED Tube\",LEFT(B206,8)=\"LED Mogu\",RIGHT(A206,2)=\"In\"),\"\",Worksheet!W232))","v":""},""]
[{"$f":"IF(Worksheet!K233=0,\"\",Worksheet!K233)","v":""},{"$f":"IF(Worksheet!L233=0,\"\",Worksheet!L233)","v":""},{"$f":"IF(Worksheet!M233=0,\"\",Worksheet!M233)","v":""},{"$f":"IF(Worksheet!N233=0,\"\",Worksheet!N233)","v":""},{"$f":"IF(Worksheet!P233=0,\"\",IF(OR(LEFT(B207,8)=\"LED Four\",LEFT(B207,8)=\"LED Tube\",LEFT(B207,8)=\"LED Mogu\",RIGHT(A207,2)=\"In\"),\"\",Worksheet!P233))","v":""},{"$f":"IF(Worksheet!R233=0,\"\",Worksheet!R233)","v":""},"",{"$f":"IF(Worksheet!Q233=0,\"\",Worksheet!Q233)","v":""},{"$f":"IF(OR(LEFT(B207,8)=\"LED Four\",LEFT(B207,8)=\"LED Tube\",LEFT(B207,8)=\"LED Mogu\",RIGHT(A207,2)=\"In\"),H207*Worksheet!V233,\"\")","v":""},{"$f":"IF(Worksheet!V233=0,\"\",IF(OR(LEFT(B207,8)=\"LED Four\",LEFT(B207,8)=\"LED Tube\",LEFT(B207,8)=\"LED Mogu\",RIGHT(A207,2)=\"In\"),\"\",Worksheet!V233))","v":""},"",{"$f":"IF(OR(LEFT(B207,8)=\"LED Four\",LEFT(B207,8)=\"LED Tube\",LEFT(B207,8)=\"LED Mogu\",RIGHT(A207,2)=\"In\"),H207*Worksheet!W233,\"\")","v":""},{"$f":"IF(Worksheet!W233=0,\"\",IF(OR(LEFT(B207,8)=\"LED Four\",LEFT(B207,8)=\"LED Tube\",LEFT(B207,8)=\"LED Mogu\",RIGHT(A207,2)=\"In\"),\"\",Worksheet!W233))","v":""},""]
[{"$f":"IF(Worksheet!K234=0,\"\",Worksheet!K234)","v":""},{"$f":"IF(Worksheet!L234=0,\"\",Worksheet!L234)","v":""},{"$f":"IF(Worksheet!M234=0,\"\",Worksheet!M234)","v":""},{"$f":"IF(Worksheet!N234=0,\"\",Worksheet!N234)","v":""},{"$f":"IF(Worksheet!P234=0,\"\",IF(OR(LEFT(B208,8)=\"LED Four\",LEFT(B208,8)=\"LED Tube\",LEFT(B208,8)=\"LED Mogu\",RIGHT(A208,2)=\"In\"),\"\",Worksheet!P234))","v":""},{"$f":"IF(Worksheet!R234=0,\"\",Worksheet!R234)","v":""},"",{"$f":"IF(Worksheet!Q234=0,\"\",Worksheet!Q234)","v":""},{"$f":"IF(OR(LEFT(B208,8)=\"LED Four\",LEFT(B208,8)=\"LED Tube\",LEFT(B208,8)=\"LED Mogu\",RIGHT(A208,2)=\"In\"),H208*Worksheet!V234,\"\")","v":""},{"$f":"IF(Worksheet!V234=0,\"\",IF(OR(LEFT(B208,8)=\"LED Four\",LEFT(B208,8)=\"LED Tube\",LEFT(B208,8)=\"LED Mogu\",RIGHT(A208,2)=\"In\"),\"\",Worksheet!V234))","v":""},"",{"$f":"IF(OR(LEFT(B208,8)=\"LED Four\",LEFT(B208,8)=\"LED Tube\",LEFT(B208,8)=\"LED Mogu\",RIGHT(A208,2)=\"In\"),H208*Worksheet!W234,\"\")","v":""},{"$f":"IF(Worksheet!W234=0,\"\",IF(OR(LEFT(B208,8)=\"LED Four\",LEFT(B208,8)=\"LED Tube\",LEFT(B208,8)=\"LED Mogu\",RIGHT(A208,2)=\"In\"),\"\",Worksheet!W234))","v":""},""]
[{"$f":"IF(Worksheet!K235=0,\"\",Worksheet!K235)","v":""},{"$f":"IF(Worksheet!L235=0,\"\",Worksheet!L235)","v":""},{"$f":"IF(Worksheet!M235=0,\"\",Worksheet!M235)","v":""},{"$f":"IF(Worksheet!N235=0,\"\",Worksheet!N235)","v":""},{"$f":"IF(Worksheet!P235=0,\"\",IF(OR(LEFT(B209,8)=\"LED Four\",LEFT(B209,8)=\"LED Tube\",LEFT(B209,8)=\"LED Mogu\",RIGHT(A209,2)=\"In\"),\"\",Worksheet!P235))","v":""},{"$f":"IF(Worksheet!R235=0,\"\",Worksheet!R235)","v":""},"",{"$f":"IF(Worksheet!Q235=0,\"\",Worksheet!Q235)","v":""},{"$f":"IF(OR(LEFT(B209,8)=\"LED Four\",LEFT(B209,8)=\"LED Tube\",LEFT(B209,8)=\"LED Mogu\",RIGHT(A209,2)=\"In\"),H209*Worksheet!V235,\"\")","v":""},{"$f":"IF(Worksheet!V235=0,\"\",IF(OR(LEFT(B209,8)=\"LED Four\",LEFT(B209,8)=\"LED Tube\",LEFT(B209,8)=\"LED Mogu\",RIGHT(A209,2)=\"In\"),\"\",Worksheet!V235))","v":""},"",{"$f":"IF(OR(LEFT(B209,8)=\"LED Four\",LEFT(B209,8)=\"LED Tube\",LEFT(B209,8)=\"LED Mogu\",RIGHT(A209,2)=\"In\"),H209*Worksheet!W235,\"\")","v":""},{"$f":"IF(Worksheet!W235=0,\"\",IF(OR(LEFT(B209,8)=\"LED Four\",LEFT(B209,8)=\"LED Tube\",LEFT(B209,8)=\"LED Mogu\",RIGHT(A209,2)=\"In\"),\"\",Worksheet!W235))","v":""},""]
[{"$f":"IF(Worksheet!K236=0,\"\",Worksheet!K236)","v":""},{"$f":"IF(Worksheet!L236=0,\"\",Worksheet!L236)","v":""},{"$f":"IF(Worksheet!M236=0,\"\",Worksheet!M236)","v":""},{"$f":"IF(Worksheet!N236=0,\"\",Worksheet!N236)","v":""},{"$f":"IF(Worksheet!P236=0,\"\",IF(OR(LEFT(B210,8)=\"LED Four\",LEFT(B210,8)=\"LED Tube\",LEFT(B210,8)=\"LED Mogu\",RIGHT(A210,2)=\"In\"),\"\",Worksheet!P236))","v":""},{"$f":"IF(Worksheet!R236=0,\"\",Worksheet!R236)","v":""},"",{"$f":"IF(Worksheet!Q236=0,\"\",Worksheet!Q236)","v":""},{"$f":"IF(OR(LEFT(B210,8)=\"LED Four\",LEFT(B210,8)=\"LED Tube\",LEFT(B210,8)=\"LED Mogu\",RIGHT(A210,2)=\"In\"),H210*Worksheet!V236,\"\")","v":""},{"$f":"IF(Worksheet!V236=0,\"\",IF(OR(LEFT(B210,8)=\"LED Four\",LEFT(B210,8)=\"LED Tube\",LEFT(B210,8)=\"LED Mogu\",RIGHT(A210,2)=\"In\"),\"\",Worksheet!V236))","v":""},"",{"$f":"IF(OR(LEFT(B210,8)=\"LED Four\",LEFT(B210,8)=\"LED Tube\",LEFT(B210,8)=\"LED Mogu\",RIGHT(A210,2)=\"In\"),H210*Worksheet!W236,\"\")","v":""},{"$f":"IF(Worksheet!W236=0,\"\",IF(OR(LEFT(B210,8)=\"LED Four\",LEFT(B210,8)=\"LED Tube\",LEFT(B210,8)=\"LED Mogu\",RIGHT(A210,2)=\"In\"),\"\",Worksheet!W236))","v":""},""]
[{"$f":"IF(Worksheet!K237=0,\"\",Worksheet!K237)","v":""},{"$f":"IF(Worksheet!L237=0,\"\",Worksheet!L237)","v":""},{"$f":"IF(Worksheet!M237=0,\"\",Worksheet!M237)","v":""},{"$f":"IF(Worksheet!N237=0,\"\",Worksheet!N237)","v":""},{"$f":"IF(Worksheet!P237=0,\"\",IF(OR(LEFT(B211,8)=\"LED Four\",LEFT(B211,8)=\"LED Tube\",LEFT(B211,8)=\"LED Mogu\",RIGHT(A211,2)=\"In\"),\"\",Worksheet!P237))","v":""},{"$f":"IF(Worksheet!R237=0,\"\",Worksheet!R237)","v":""},"",{"$f":"IF(Worksheet!Q237=0,\"\",Worksheet!Q237)","v":""},{"$f":"IF(OR(LEFT(B211,8)=\"LED Four\",LEFT(B211,8)=\"LED Tube\",LEFT(B211,8)=\"LED Mogu\",RIGHT(A211,2)=\"In\"),H211*Worksheet!V237,\"\")","v":""},{"$f":"IF(Worksheet!V237=0,\"\",IF(OR(LEFT(B211,8)=\"LED Four\",LEFT(B211,8)=\"LED Tube\",LEFT(B211,8)=\"LED Mogu\",RIGHT(A211,2)=\"In\"),\"\",Worksheet!V237))","v":""},"",{"$f":"IF(OR(LEFT(B211,8)=\"LED Four\",LEFT(B211,8)=\"LED Tube\",LEFT(B211,8)=\"LED Mogu\",RIGHT(A211,2)=\"In\"),H211*Worksheet!W237,\"\")","v":""},{"$f":"IF(Worksheet!W237=0,\"\",IF(OR(LEFT(B211,8)=\"LED Four\",LEFT(B211,8)=\"LED Tube\",LEFT(B211,8)=\"LED Mogu\",RIGHT(A211,2)=\"In\"),\"\",Worksheet!W237))","v":""},""]
[{"$f":"IF(Worksheet!K238=0,\"\",Worksheet!K238)","v":""},{"$f":"IF(Worksheet!L238=0,\"\",Worksheet!L238)","v":""},{"$f":"IF(Worksheet!M238=0,\"\",Worksheet!M238)","v":""},{"$f":"IF(Worksheet!N238=0,\"\",Worksheet!N238)","v":""},{"$f":"IF(Worksheet!P238=0,\"\",IF(OR(LEFT(B212,8)=\"LED Four\",LEFT(B212,8)=\"LED Tube\",LEFT(B212,8)=\"LED Mogu\",RIGHT(A212,2)=\"In\"),\"\",Worksheet!P238))","v":""},{"$f":"IF(Worksheet!R238=0,\"\",Worksheet!R238)","v":""},"",{"$f":"IF(Worksheet!Q238=0,\"\",Worksheet!Q238)","v":""},{"$f":"IF(OR(LEFT(B212,8)=\"LED Four\",LEFT(B212,8)=\"LED Tube\",LEFT(B212,8)=\"LED Mogu\",RIGHT(A212,2)=\"In\"),H212*Worksheet!V238,\"\")","v":""},{"$f":"IF(Worksheet!V238=0,\"\",IF(OR(LEFT(B212,8)=\"LED Four\",LEFT(B212,8)=\"LED Tube\",LEFT(B212,8)=\"LED Mogu\",RIGHT(A212,2)=\"In\"),\"\",Worksheet!V238))","v":""},"",{"$f":"IF(OR(LEFT(B212,8)=\"LED Four\",LEFT(B212,8)=\"LED Tube\",LEFT(B212,8)=\"LED Mogu\",RIGHT(A212,2)=\"In\"),H212*Worksheet!W238,\"\")","v":""},{"$f":"IF(Worksheet!W238=0,\"\",IF(OR(LEFT(B212,8)=\"LED Four\",LEFT(B212,8)=\"LED Tube\",LEFT(B212,8)=\"LED Mogu\",RIGHT(A212,2)=\"In\"),\"\",Worksheet!W238))","v":""},""]
[{"$f":"IF(Worksheet!K239=0,\"\",Worksheet!K239)","v":""},{"$f":"IF(Worksheet!L239=0,\"\",Worksheet!L239)","v":""},{"$f":"IF(Worksheet!M239=0,\"\",Worksheet!M239)","v":""},{"$f":"IF(Worksheet!N239=0,\"\",Worksheet!N239)","v":""},{"$f":"IF(Worksheet!P239=0,\"\",IF(OR(LEFT(B213,8)=\"LED Four\",LEFT(B213,8)=\"LED Tube\",LEFT(B213,8)=\"LED Mogu\",RIGHT(A213,2)=\"In\"),\"\",Worksheet!P239))","v":""},{"$f":"IF(Worksheet!R239=0,\"\",Worksheet!R239)","v":""},"",{"$f":"IF(Worksheet!Q239=0,\"\",Worksheet!Q239)","v":""},{"$f":"IF(OR(LEFT(B213,8)=\"LED Four\",LEFT(B213,8)=\"LED Tube\",LEFT(B213,8)=\"LED Mogu\",RIGHT(A213,2)=\"In\"),H213*Worksheet!V239,\"\")","v":""},{"$f":"IF(Worksheet!V239=0,\"\",IF(OR(LEFT(B213,8)=\"LED Four\",LEFT(B213,8)=\"LED Tube\",LEFT(B213,8)=\"LED Mogu\",RIGHT(A213,2)=\"In\"),\"\",Worksheet!V239))","v":""},"",{"$f":"IF(OR(LEFT(B213,8)=\"LED Four\",LEFT(B213,8)=\"LED Tube\",LEFT(B213,8)=\"LED Mogu\",RIGHT(A213,2)=\"In\"),H213*Worksheet!W239,\"\")","v":""},{"$f":"IF(Worksheet!W239=0,\"\",IF(OR(LEFT(B213,8)=\"LED Four\",LEFT(B213,8)=\"LED Tube\",LEFT(B213,8)=\"LED Mogu\",RIGHT(A213,2)=\"In\"),\"\",Worksheet!W239))","v":""},""]
[{"$f":"IF(Worksheet!K240=0,\"\",Worksheet!K240)","v":""},{"$f":"IF(Worksheet!L240=0,\"\",Worksheet!L240)","v":""},{"$f":"IF(Worksheet!M240=0,\"\",Worksheet!M240)","v":""},{"$f":"IF(Worksheet!N240=0,\"\",Worksheet!N240)","v":""},{"$f":"IF(Worksheet!P240=0,\"\",IF(OR(LEFT(B214,8)=\"LED Four\",LEFT(B214,8)=\"LED Tube\",LEFT(B214,8)=\"LED Mogu\",RIGHT(A214,2)=\"In\"),\"\",Worksheet!P240))","v":""},{"$f":"IF(Worksheet!R240=0,\"\",Worksheet!R240)","v":""},"",{"$f":"IF(Worksheet!Q240=0,\"\",Worksheet!Q240)","v":""},{"$f":"IF(OR(LEFT(B214,8)=\"LED Four\",LEFT(B214,8)=\"LED Tube\",LEFT(B214,8)=\"LED Mogu\",RIGHT(A214,2)=\"In\"),H214*Worksheet!V240,\"\")","v":""},{"$f":"IF(Worksheet!V240=0,\"\",IF(OR(LEFT(B214,8)=\"LED Four\",LEFT(B214,8)=\"LED Tube\",LEFT(B214,8)=\"LED Mogu\",RIGHT(A214,2)=\"In\"),\"\",Worksheet!V240))","v":""},"",{"$f":"IF(OR(LEFT(B214,8)=\"LED Four\",LEFT(B214,8)=\"LED Tube\",LEFT(B214,8)=\"LED Mogu\",RIGHT(A214,2)=\"In\"),H214*Worksheet!W240,\"\")","v":""},{"$f":"IF(Worksheet!W240=0,\"\",IF(OR(LEFT(B214,8)=\"LED Four\",LEFT(B214,8)=\"LED Tube\",LEFT(B214,8)=\"LED Mogu\",RIGHT(A214,2)=\"In\"),\"\",Worksheet!W240))","v":""},""]
[{"$f":"IF(Worksheet!K241=0,\"\",Worksheet!K241)","v":""},{"$f":"IF(Worksheet!L241=0,\"\",Worksheet!L241)","v":""},{"$f":"IF(Worksheet!M241=0,\"\",Worksheet!M241)","v":""},{"$f":"IF(Worksheet!N241=0,\"\",Worksheet!N241)","v":""},{"$f":"IF(Worksheet!P241=0,\"\",IF(OR(LEFT(B215,8)=\"LED Four\",LEFT(B215,8)=\"LED Tube\",LEFT(B215,8)=\"LED Mogu\",RIGHT(A215,2)=\"In\"),\"\",Worksheet!P241))","v":""},{"$f":"IF(Worksheet!R241=0,\"\",Worksheet!R241)","v":""},"",{"$f":"IF(Worksheet!Q241=0,\"\",Worksheet!Q241)","v":""},{"$f":"IF(OR(LEFT(B215,8)=\"LED Four\",LEFT(B215,8)=\"LED Tube\",LEFT(B215,8)=\"LED Mogu\",RIGHT(A215,2)=\"In\"),H215*Worksheet!V241,\"\")","v":""},{"$f":"IF(Worksheet!V241=0,\"\",IF(OR(LEFT(B215,8)=\"LED Four\",LEFT(B215,8)=\"LED Tube\",LEFT(B215,8)=\"LED Mogu\",RIGHT(A215,2)=\"In\"),\"\",Worksheet!V241))","v":""},"",{"$f":"IF(OR(LEFT(B215,8)=\"LED Four\",LEFT(B215,8)=\"LED Tube\",LEFT(B215,8)=\"LED Mogu\",RIGHT(A215,2)=\"In\"),H215*Worksheet!W241,\"\")","v":""},{"$f":"IF(Worksheet!W241=0,\"\",IF(OR(LEFT(B215,8)=\"LED Four\",LEFT(B215,8)=\"LED Tube\",LEFT(B215,8)=\"LED Mogu\",RIGHT(A215,2)=\"In\"),\"\",Worksheet!W241))","v":""},""]
[{"$f":"IF(Worksheet!K242=0,\"\",Worksheet!K242)","v":""},{"$f":"IF(Worksheet!L242=0,\"\",Worksheet!L242)","v":""},{"$f":"IF(Worksheet!M242=0,\"\",Worksheet!M242)","v":""},{"$f":"IF(Worksheet!N242=0,\"\",Worksheet!N242)","v":""},{"$f":"IF(Worksheet!P242=0,\"\",IF(OR(LEFT(B216,8)=\"LED Four\",LEFT(B216,8)=\"LED Tube\",LEFT(B216,8)=\"LED Mogu\",RIGHT(A216,2)=\"In\"),\"\",Worksheet!P242))","v":""},{"$f":"IF(Worksheet!R242=0,\"\",Worksheet!R242)","v":""},"",{"$f":"IF(Worksheet!Q242=0,\"\",Worksheet!Q242)","v":""},{"$f":"IF(OR(LEFT(B216,8)=\"LED Four\",LEFT(B216,8)=\"LED Tube\",LEFT(B216,8)=\"LED Mogu\",RIGHT(A216,2)=\"In\"),H216*Worksheet!V242,\"\")","v":""},{"$f":"IF(Worksheet!V242=0,\"\",IF(OR(LEFT(B216,8)=\"LED Four\",LEFT(B216,8)=\"LED Tube\",LEFT(B216,8)=\"LED Mogu\",RIGHT(A216,2)=\"In\"),\"\",Worksheet!V242))","v":""},"",{"$f":"IF(OR(LEFT(B216,8)=\"LED Four\",LEFT(B216,8)=\"LED Tube\",LEFT(B216,8)=\"LED Mogu\",RIGHT(A216,2)=\"In\"),H216*Worksheet!W242,\"\")","v":""},{"$f":"IF(Worksheet!W242=0,\"\",IF(OR(LEFT(B216,8)=\"LED Four\",LEFT(B216,8)=\"LED Tube\",LEFT(B216,8)=\"LED Mogu\",RIGHT(A216,2)=\"In\"),\"\",Worksheet!W242))","v":""},""]
[{"$f":"IF(Worksheet!K243=0,\"\",Worksheet!K243)","v":""},{"$f":"IF(Worksheet!L243=0,\"\",Worksheet!L243)","v":""},{"$f":"IF(Worksheet!M243=0,\"\",Worksheet!M243)","v":""},{"$f":"IF(Worksheet!N243=0,\"\",Worksheet!N243)","v":""},{"$f":"IF(Worksheet!P243=0,\"\",IF(OR(LEFT(B217,8)=\"LED Four\",LEFT(B217,8)=\"LED Tube\",LEFT(B217,8)=\"LED Mogu\",RIGHT(A217,2)=\"In\"),\"\",Worksheet!P243))","v":""},{"$f":"IF(Worksheet!R243=0,\"\",Worksheet!R243)","v":""},"",{"$f":"IF(Worksheet!Q243=0,\"\",Worksheet!Q243)","v":""},{"$f":"IF(OR(LEFT(B217,8)=\"LED Four\",LEFT(B217,8)=\"LED Tube\",LEFT(B217,8)=\"LED Mogu\",RIGHT(A217,2)=\"In\"),H217*Worksheet!V243,\"\")","v":""},{"$f":"IF(Worksheet!V243=0,\"\",IF(OR(LEFT(B217,8)=\"LED Four\",LEFT(B217,8)=\"LED Tube\",LEFT(B217,8)=\"LED Mogu\",RIGHT(A217,2)=\"In\"),\"\",Worksheet!V243))","v":""},"",{"$f":"IF(OR(LEFT(B217,8)=\"LED Four\",LEFT(B217,8)=\"LED Tube\",LEFT(B217,8)=\"LED Mogu\",RIGHT(A217,2)=\"In\"),H217*Worksheet!W243,\"\")","v":""},{"$f":"IF(Worksheet!W243=0,\"\",IF(OR(LEFT(B217,8)=\"LED Four\",LEFT(B217,8)=\"LED Tube\",LEFT(B217,8)=\"LED Mogu\",RIGHT(A217,2)=\"In\"),\"\",Worksheet!W243))","v":""},""]
[{"$f":"IF(Worksheet!K244=0,\"\",Worksheet!K244)","v":""},{"$f":"IF(Worksheet!L244=0,\"\",Worksheet!L244)","v":""},{"$f":"IF(Worksheet!M244=0,\"\",Worksheet!M244)","v":""},{"$f":"IF(Worksheet!N244=0,\"\",Worksheet!N244)","v":""},{"$f":"IF(Worksheet!P244=0,\"\",IF(OR(LEFT(B218,8)=\"LED Four\",LEFT(B218,8)=\"LED Tube\",LEFT(B218,8)=\"LED Mogu\",RIGHT(A218,2)=\"In\"),\"\",Worksheet!P244))","v":""},{"$f":"IF(Worksheet!R244=0,\"\",Worksheet!R244)","v":""},"",{"$f":"IF(Worksheet!Q244=0,\"\",Worksheet!Q244)","v":""},{"$f":"IF(OR(LEFT(B218,8)=\"LED Four\",LEFT(B218,8)=\"LED Tube\",LEFT(B218,8)=\"LED Mogu\",RIGHT(A218,2)=\"In\"),H218*Worksheet!V244,\"\")","v":""},{"$f":"IF(Worksheet!V244=0,\"\",IF(OR(LEFT(B218,8)=\"LED Four\",LEFT(B218,8)=\"LED Tube\",LEFT(B218,8)=\"LED Mogu\",RIGHT(A218,2)=\"In\"),\"\",Worksheet!V244))","v":""},"",{"$f":"IF(OR(LEFT(B218,8)=\"LED Four\",LEFT(B218,8)=\"LED Tube\",LEFT(B218,8)=\"LED Mogu\",RIGHT(A218,2)=\"In\"),H218*Worksheet!W244,\"\")","v":""},{"$f":"IF(Worksheet!W244=0,\"\",IF(OR(LEFT(B218,8)=\"LED Four\",LEFT(B218,8)=\"LED Tube\",LEFT(B218,8)=\"LED Mogu\",RIGHT(A218,2)=\"In\"),\"\",Worksheet!W244))","v":""},""]
[{"$f":"IF(Worksheet!K245=0,\"\",Worksheet!K245)","v":""},{"$f":"IF(Worksheet!L245=0,\"\",Worksheet!L245)","v":""},{"$f":"IF(Worksheet!M245=0,\"\",Worksheet!M245)","v":""},{"$f":"IF(Worksheet!N245=0,\"\",Worksheet!N245)","v":""},{"$f":"IF(Worksheet!P245=0,\"\",IF(OR(LEFT(B219,8)=\"LED Four\",LEFT(B219,8)=\"LED Tube\",LEFT(B219,8)=\"LED Mogu\",RIGHT(A219,2)=\"In\"),\"\",Worksheet!P245))","v":""},{"$f":"IF(Worksheet!R245=0,\"\",Worksheet!R245)","v":""},"",{"$f":"IF(Worksheet!Q245=0,\"\",Worksheet!Q245)","v":""},{"$f":"IF(OR(LEFT(B219,8)=\"LED Four\",LEFT(B219,8)=\"LED Tube\",LEFT(B219,8)=\"LED Mogu\",RIGHT(A219,2)=\"In\"),H219*Worksheet!V245,\"\")","v":""},{"$f":"IF(Worksheet!V245=0,\"\",IF(OR(LEFT(B219,8)=\"LED Four\",LEFT(B219,8)=\"LED Tube\",LEFT(B219,8)=\"LED Mogu\",RIGHT(A219,2)=\"In\"),\"\",Worksheet!V245))","v":""},"",{"$f":"IF(OR(LEFT(B219,8)=\"LED Four\",LEFT(B219,8)=\"LED Tube\",LEFT(B219,8)=\"LED Mogu\",RIGHT(A219,2)=\"In\"),H219*Worksheet!W245,\"\")","v":""},{"$f":"IF(Worksheet!W245=0,\"\",IF(OR(LEFT(B219,8)=\"LED Four\",LEFT(B219,8)=\"LED Tube\",LEFT(B219,8)=\"LED Mogu\",RIGHT(A219,2)=\"In\"),\"\",Worksheet!W245))","v":""},""]
[{"$f":"IF(Worksheet!K246=0,\"\",Worksheet!K246)","v":""},{"$f":"IF(Worksheet!L246=0,\"\",Worksheet!L246)","v":""},{"$f":"IF(Worksheet!M246=0,\"\",Worksheet!M246)","v":""},{"$f":"IF(Worksheet!N246=0,\"\",Worksheet!N246)","v":""},{"$f":"IF(Worksheet!P246=0,\"\",IF(OR(LEFT(B220,8)=\"LED Four\",LEFT(B220,8)=\"LED Tube\",LEFT(B220,8)=\"LED Mogu\",RIGHT(A220,2)=\"In\"),\"\",Worksheet!P246))","v":""},{"$f":"IF(Worksheet!R246=0,\"\",Worksheet!R246)","v":""},"",{"$f":"IF(Worksheet!Q246=0,\"\",Worksheet!Q246)","v":""},{"$f":"IF(OR(LEFT(B220,8)=\"LED Four\",LEFT(B220,8)=\"LED Tube\",LEFT(B220,8)=\"LED Mogu\",RIGHT(A220,2)=\"In\"),H220*Worksheet!V246,\"\")","v":""},{"$f":"IF(Worksheet!V246=0,\"\",IF(OR(LEFT(B220,8)=\"LED Four\",LEFT(B220,8)=\"LED Tube\",LEFT(B220,8)=\"LED Mogu\",RIGHT(A220,2)=\"In\"),\"\",Worksheet!V246))","v":""},"",{"$f":"IF(OR(LEFT(B220,8)=\"LED Four\",LEFT(B220,8)=\"LED Tube\",LEFT(B220,8)=\"LED Mogu\",RIGHT(A220,2)=\"In\"),H220*Worksheet!W246,\"\")","v":""},{"$f":"IF(Worksheet!W246=0,\"\",IF(OR(LEFT(B220,8)=\"LED Four\",LEFT(B220,8)=\"LED Tube\",LEFT(B220,8)=\"LED Mogu\",RIGHT(A220,2)=\"In\"),\"\",Worksheet!W246))","v":""},""]
[{"$f":"IF(Worksheet!K247=0,\"\",Worksheet!K247)","v":""},{"$f":"IF(Worksheet!L247=0,\"\",Worksheet!L247)","v":""},{"$f":"IF(Worksheet!M247=0,\"\",Worksheet!M247)","v":""},{"$f":"IF(Worksheet!N247=0,\"\",Worksheet!N247)","v":""},{"$f":"IF(Worksheet!P247=0,\"\",IF(OR(LEFT(B221,8)=\"LED Four\",LEFT(B221,8)=\"LED Tube\",LEFT(B221,8)=\"LED Mogu\",RIGHT(A221,2)=\"In\"),\"\",Worksheet!P247))","v":""},{"$f":"IF(Worksheet!R247=0,\"\",Worksheet!R247)","v":""},"",{"$f":"IF(Worksheet!Q247=0,\"\",Worksheet!Q247)","v":""},{"$f":"IF(OR(LEFT(B221,8)=\"LED Four\",LEFT(B221,8)=\"LED Tube\",LEFT(B221,8)=\"LED Mogu\",RIGHT(A221,2)=\"In\"),H221*Worksheet!V247,\"\")","v":""},{"$f":"IF(Worksheet!V247=0,\"\",IF(OR(LEFT(B221,8)=\"LED Four\",LEFT(B221,8)=\"LED Tube\",LEFT(B221,8)=\"LED Mogu\",RIGHT(A221,2)=\"In\"),\"\",Worksheet!V247))","v":""},"",{"$f":"IF(OR(LEFT(B221,8)=\"LED Four\",LEFT(B221,8)=\"LED Tube\",LEFT(B221,8)=\"LED Mogu\",RIGHT(A221,2)=\"In\"),H221*Worksheet!W247,\"\")","v":""},{"$f":"IF(Worksheet!W247=0,\"\",IF(OR(LEFT(B221,8)=\"LED Four\",LEFT(B221,8)=\"LED Tube\",LEFT(B221,8)=\"LED Mogu\",RIGHT(A221,2)=\"In\"),\"\",Worksheet!W247))","v":""},""]
[{"$f":"IF(Worksheet!K248=0,\"\",Worksheet!K248)","v":""},{"$f":"IF(Worksheet!L248=0,\"\",Worksheet!L248)","v":""},{"$f":"IF(Worksheet!M248=0,\"\",Worksheet!M248)","v":""},{"$f":"IF(Worksheet!N248=0,\"\",Worksheet!N248)","v":""},{"$f":"IF(Worksheet!P248=0,\"\",IF(OR(LEFT(B222,8)=\"LED Four\",LEFT(B222,8)=\"LED Tube\",LEFT(B222,8)=\"LED Mogu\",RIGHT(A222,2)=\"In\"),\"\",Worksheet!P248))","v":""},{"$f":"IF(Worksheet!R248=0,\"\",Worksheet!R248)","v":""},"",{"$f":"IF(Worksheet!Q248=0,\"\",Worksheet!Q248)","v":""},{"$f":"IF(OR(LEFT(B222,8)=\"LED Four\",LEFT(B222,8)=\"LED Tube\",LEFT(B222,8)=\"LED Mogu\",RIGHT(A222,2)=\"In\"),H222*Worksheet!V248,\"\")","v":""},{"$f":"IF(Worksheet!V248=0,\"\",IF(OR(LEFT(B222,8)=\"LED Four\",LEFT(B222,8)=\"LED Tube\",LEFT(B222,8)=\"LED Mogu\",RIGHT(A222,2)=\"In\"),\"\",Worksheet!V248))","v":""},"",{"$f":"IF(OR(LEFT(B222,8)=\"LED Four\",LEFT(B222,8)=\"LED Tube\",LEFT(B222,8)=\"LED Mogu\",RIGHT(A222,2)=\"In\"),H222*Worksheet!W248,\"\")","v":""},{"$f":"IF(Worksheet!W248=0,\"\",IF(OR(LEFT(B222,8)=\"LED Four\",LEFT(B222,8)=\"LED Tube\",LEFT(B222,8)=\"LED Mogu\",RIGHT(A222,2)=\"In\"),\"\",Worksheet!W248))","v":""},""]
[{"$f":"IF(Worksheet!K249=0,\"\",Worksheet!K249)","v":""},{"$f":"IF(Worksheet!L249=0,\"\",Worksheet!L249)","v":""},{"$f":"IF(Worksheet!M249=0,\"\",Worksheet!M249)","v":""},{"$f":"IF(Worksheet!N249=0,\"\",Worksheet!N249)","v":""},{"$f":"IF(Worksheet!P249=0,\"\",IF(OR(LEFT(B223,8)=\"LED Four\",LEFT(B223,8)=\"LED Tube\",LEFT(B223,8)=\"LED Mogu\",RIGHT(A223,2)=\"In\"),\"\",Worksheet!P249))","v":""},{"$f":"IF(Worksheet!R249=0,\"\",Worksheet!R249)","v":""},"",{"$f":"IF(Worksheet!Q249=0,\"\",Worksheet!Q249)","v":""},{"$f":"IF(OR(LEFT(B223,8)=\"LED Four\",LEFT(B223,8)=\"LED Tube\",LEFT(B223,8)=\"LED Mogu\",RIGHT(A223,2)=\"In\"),H223*Worksheet!V249,\"\")","v":""},{"$f":"IF(Worksheet!V249=0,\"\",IF(OR(LEFT(B223,8)=\"LED Four\",LEFT(B223,8)=\"LED Tube\",LEFT(B223,8)=\"LED Mogu\",RIGHT(A223,2)=\"In\"),\"\",Worksheet!V249))","v":""},"",{"$f":"IF(OR(LEFT(B223,8)=\"LED Four\",LEFT(B223,8)=\"LED Tube\",LEFT(B223,8)=\"LED Mogu\",RIGHT(A223,2)=\"In\"),H223*Worksheet!W249,\"\")","v":""},{"$f":"IF(Worksheet!W249=0,\"\",IF(OR(LEFT(B223,8)=\"LED Four\",LEFT(B223,8)=\"LED Tube\",LEFT(B223,8)=\"LED Mogu\",RIGHT(A223,2)=\"In\"),\"\",Worksheet!W249))","v":""},""]
[{"$f":"IF(Worksheet!K250=0,\"\",Worksheet!K250)","v":""},{"$f":"IF(Worksheet!L250=0,\"\",Worksheet!L250)","v":""},{"$f":"IF(Worksheet!M250=0,\"\",Worksheet!M250)","v":""},{"$f":"IF(Worksheet!N250=0,\"\",Worksheet!N250)","v":""},{"$f":"IF(Worksheet!P250=0,\"\",IF(OR(LEFT(B224,8)=\"LED Four\",LEFT(B224,8)=\"LED Tube\",LEFT(B224,8)=\"LED Mogu\",RIGHT(A224,2)=\"In\"),\"\",Worksheet!P250))","v":""},{"$f":"IF(Worksheet!R250=0,\"\",Worksheet!R250)","v":""},"",{"$f":"IF(Worksheet!Q250=0,\"\",Worksheet!Q250)","v":""},{"$f":"IF(OR(LEFT(B224,8)=\"LED Four\",LEFT(B224,8)=\"LED Tube\",LEFT(B224,8)=\"LED Mogu\",RIGHT(A224,2)=\"In\"),H224*Worksheet!V250,\"\")","v":""},{"$f":"IF(Worksheet!V250=0,\"\",IF(OR(LEFT(B224,8)=\"LED Four\",LEFT(B224,8)=\"LED Tube\",LEFT(B224,8)=\"LED Mogu\",RIGHT(A224,2)=\"In\"),\"\",Worksheet!V250))","v":""},"",{"$f":"IF(OR(LEFT(B224,8)=\"LED Four\",LEFT(B224,8)=\"LED Tube\",LEFT(B224,8)=\"LED Mogu\",RIGHT(A224,2)=\"In\"),H224*Worksheet!W250,\"\")","v":""},{"$f":"IF(Worksheet!W250=0,\"\",IF(OR(LEFT(B224,8)=\"LED Four\",LEFT(B224,8)=\"LED Tube\",LEFT(B224,8)=\"LED Mogu\",RIGHT(A224,2)=\"In\"),\"\",Worksheet!W250))","v":""},""]
[{"$f":"IF(Worksheet!K251=0,\"\",Worksheet!K251)","v":""},{"$f":"IF(Worksheet!L251=0,\"\",Worksheet!L251)","v":""},{"$f":"IF(Worksheet!M251=0,\"\",Worksheet!M251)","v":""},{"$f":"IF(Worksheet!N251=0,\"\",Worksheet!N251)","v":""},{"$f":"IF(Worksheet!P251=0,\"\",IF(OR(LEFT(B225,8)=\"LED Four\",LEFT(B225,8)=\"LED Tube\",LEFT(B225,8)=\"LED Mogu\",RIGHT(A225,2)=\"In\"),\"\",Worksheet!P251))","v":""},{"$f":"IF(Worksheet!R251=0,\"\",Worksheet!R251)","v":""},"",{"$f":"IF(Worksheet!Q251=0,\"\",Worksheet!Q251)","v":""},{"$f":"IF(OR(LEFT(B225,8)=\"LED Four\",LEFT(B225,8)=\"LED Tube\",LEFT(B225,8)=\"LED Mogu\",RIGHT(A225,2)=\"In\"),H225*Worksheet!V251,\"\")","v":""},{"$f":"IF(Worksheet!V251=0,\"\",IF(OR(LEFT(B225,8)=\"LED Four\",LEFT(B225,8)=\"LED Tube\",LEFT(B225,8)=\"LED Mogu\",RIGHT(A225,2)=\"In\"),\"\",Worksheet!V251))","v":""},"",{"$f":"IF(OR(LEFT(B225,8)=\"LED Four\",LEFT(B225,8)=\"LED Tube\",LEFT(B225,8)=\"LED Mogu\",RIGHT(A225,2)=\"In\"),H225*Worksheet!W251,\"\")","v":""},{"$f":"IF(Worksheet!W251=0,\"\",IF(OR(LEFT(B225,8)=\"LED Four\",LEFT(B225,8)=\"LED Tube\",LEFT(B225,8)=\"LED Mogu\",RIGHT(A225,2)=\"In\"),\"\",Worksheet!W251))","v":""},""]
[{"$f":"IF(Worksheet!K252=0,\"\",Worksheet!K252)","v":""},{"$f":"IF(Worksheet!L252=0,\"\",Worksheet!L252)","v":""},{"$f":"IF(Worksheet!M252=0,\"\",Worksheet!M252)","v":""},{"$f":"IF(Worksheet!N252=0,\"\",Worksheet!N252)","v":""},{"$f":"IF(Worksheet!P252=0,\"\",IF(OR(LEFT(B226,8)=\"LED Four\",LEFT(B226,8)=\"LED Tube\",LEFT(B226,8)=\"LED Mogu\",RIGHT(A226,2)=\"In\"),\"\",Worksheet!P252))","v":""},{"$f":"IF(Worksheet!R252=0,\"\",Worksheet!R252)","v":""},"",{"$f":"IF(Worksheet!Q252=0,\"\",Worksheet!Q252)","v":""},{"$f":"IF(OR(LEFT(B226,8)=\"LED Four\",LEFT(B226,8)=\"LED Tube\",LEFT(B226,8)=\"LED Mogu\",RIGHT(A226,2)=\"In\"),H226*Worksheet!V252,\"\")","v":""},{"$f":"IF(Worksheet!V252=0,\"\",IF(OR(LEFT(B226,8)=\"LED Four\",LEFT(B226,8)=\"LED Tube\",LEFT(B226,8)=\"LED Mogu\",RIGHT(A226,2)=\"In\"),\"\",Worksheet!V252))","v":""},"",{"$f":"IF(OR(LEFT(B226,8)=\"LED Four\",LEFT(B226,8)=\"LED Tube\",LEFT(B226,8)=\"LED Mogu\",RIGHT(A226,2)=\"In\"),H226*Worksheet!W252,\"\")","v":""},{"$f":"IF(Worksheet!W252=0,\"\",IF(OR(LEFT(B226,8)=\"LED Four\",LEFT(B226,8)=\"LED Tube\",LEFT(B226,8)=\"LED Mogu\",RIGHT(A226,2)=\"In\"),\"\",Worksheet!W252))","v":""},""]
[{"$f":"IF(Worksheet!K253=0,\"\",Worksheet!K253)","v":""},{"$f":"IF(Worksheet!L253=0,\"\",Worksheet!L253)","v":""},{"$f":"IF(Worksheet!M253=0,\"\",Worksheet!M253)","v":""},{"$f":"IF(Worksheet!N253=0,\"\",Worksheet!N253)","v":""},{"$f":"IF(Worksheet!P253=0,\"\",IF(OR(LEFT(B227,8)=\"LED Four\",LEFT(B227,8)=\"LED Tube\",LEFT(B227,8)=\"LED Mogu\",RIGHT(A227,2)=\"In\"),\"\",Worksheet!P253))","v":""},{"$f":"IF(Worksheet!R253=0,\"\",Worksheet!R253)","v":""},"",{"$f":"IF(Worksheet!Q253=0,\"\",Worksheet!Q253)","v":""},{"$f":"IF(OR(LEFT(B227,8)=\"LED Four\",LEFT(B227,8)=\"LED Tube\",LEFT(B227,8)=\"LED Mogu\",RIGHT(A227,2)=\"In\"),H227*Worksheet!V253,\"\")","v":""},{"$f":"IF(Worksheet!V253=0,\"\",IF(OR(LEFT(B227,8)=\"LED Four\",LEFT(B227,8)=\"LED Tube\",LEFT(B227,8)=\"LED Mogu\",RIGHT(A227,2)=\"In\"),\"\",Worksheet!V253))","v":""},"",{"$f":"IF(OR(LEFT(B227,8)=\"LED Four\",LEFT(B227,8)=\"LED Tube\",LEFT(B227,8)=\"LED Mogu\",RIGHT(A227,2)=\"In\"),H227*Worksheet!W253,\"\")","v":""},{"$f":"IF(Worksheet!W253=0,\"\",IF(OR(LEFT(B227,8)=\"LED Four\",LEFT(B227,8)=\"LED Tube\",LEFT(B227,8)=\"LED Mogu\",RIGHT(A227,2)=\"In\"),\"\",Worksheet!W253))","v":""},""]
[{"$f":"IF(Worksheet!K254=0,\"\",Worksheet!K254)","v":""},{"$f":"IF(Worksheet!L254=0,\"\",Worksheet!L254)","v":""},{"$f":"IF(Worksheet!M254=0,\"\",Worksheet!M254)","v":""},{"$f":"IF(Worksheet!N254=0,\"\",Worksheet!N254)","v":""},{"$f":"IF(Worksheet!P254=0,\"\",IF(OR(LEFT(B228,8)=\"LED Four\",LEFT(B228,8)=\"LED Tube\",LEFT(B228,8)=\"LED Mogu\",RIGHT(A228,2)=\"In\"),\"\",Worksheet!P254))","v":""},{"$f":"IF(Worksheet!R254=0,\"\",Worksheet!R254)","v":""},"",{"$f":"IF(Worksheet!Q254=0,\"\",Worksheet!Q254)","v":""},{"$f":"IF(OR(LEFT(B228,8)=\"LED Four\",LEFT(B228,8)=\"LED Tube\",LEFT(B228,8)=\"LED Mogu\",RIGHT(A228,2)=\"In\"),H228*Worksheet!V254,\"\")","v":""},{"$f":"IF(Worksheet!V254=0,\"\",IF(OR(LEFT(B228,8)=\"LED Four\",LEFT(B228,8)=\"LED Tube\",LEFT(B228,8)=\"LED Mogu\",RIGHT(A228,2)=\"In\"),\"\",Worksheet!V254))","v":""},"",{"$f":"IF(OR(LEFT(B228,8)=\"LED Four\",LEFT(B228,8)=\"LED Tube\",LEFT(B228,8)=\"LED Mogu\",RIGHT(A228,2)=\"In\"),H228*Worksheet!W254,\"\")","v":""},{"$f":"IF(Worksheet!W254=0,\"\",IF(OR(LEFT(B228,8)=\"LED Four\",LEFT(B228,8)=\"LED Tube\",LEFT(B228,8)=\"LED Mogu\",RIGHT(A228,2)=\"In\"),\"\",Worksheet!W254))","v":""},""]
[{"$f":"IF(Worksheet!K255=0,\"\",Worksheet!K255)","v":""},{"$f":"IF(Worksheet!L255=0,\"\",Worksheet!L255)","v":""},{"$f":"IF(Worksheet!M255=0,\"\",Worksheet!M255)","v":""},{"$f":"IF(Worksheet!N255=0,\"\",Worksheet!N255)","v":""},{"$f":"IF(Worksheet!P255=0,\"\",IF(OR(LEFT(B229,8)=\"LED Four\",LEFT(B229,8)=\"LED Tube\",LEFT(B229,8)=\"LED Mogu\",RIGHT(A229,2)=\"In\"),\"\",Worksheet!P255))","v":""},{"$f":"IF(Worksheet!R255=0,\"\",Worksheet!R255)","v":""},"",{"$f":"IF(Worksheet!Q255=0,\"\",Worksheet!Q255)","v":""},{"$f":"IF(OR(LEFT(B229,8)=\"LED Four\",LEFT(B229,8)=\"LED Tube\",LEFT(B229,8)=\"LED Mogu\",RIGHT(A229,2)=\"In\"),H229*Worksheet!V255,\"\")","v":""},{"$f":"IF(Worksheet!V255=0,\"\",IF(OR(LEFT(B229,8)=\"LED Four\",LEFT(B229,8)=\"LED Tube\",LEFT(B229,8)=\"LED Mogu\",RIGHT(A229,2)=\"In\"),\"\",Worksheet!V255))","v":""},"",{"$f":"IF(OR(LEFT(B229,8)=\"LED Four\",LEFT(B229,8)=\"LED Tube\",LEFT(B229,8)=\"LED Mogu\",RIGHT(A229,2)=\"In\"),H229*Worksheet!W255,\"\")","v":""},{"$f":"IF(Worksheet!W255=0,\"\",IF(OR(LEFT(B229,8)=\"LED Four\",LEFT(B229,8)=\"LED Tube\",LEFT(B229,8)=\"LED Mogu\",RIGHT(A229,2)=\"In\"),\"\",Worksheet!W255))","v":""},""]
[{"$f":"IF(Worksheet!K256=0,\"\",Worksheet!K256)","v":""},{"$f":"IF(Worksheet!L256=0,\"\",Worksheet!L256)","v":""},{"$f":"IF(Worksheet!M256=0,\"\",Worksheet!M256)","v":""},{"$f":"IF(Worksheet!N256=0,\"\",Worksheet!N256)","v":""},{"$f":"IF(Worksheet!P256=0,\"\",IF(OR(LEFT(B230,8)=\"LED Four\",LEFT(B230,8)=\"LED Tube\",LEFT(B230,8)=\"LED Mogu\",RIGHT(A230,2)=\"In\"),\"\",Worksheet!P256))","v":""},{"$f":"IF(Worksheet!R256=0,\"\",Worksheet!R256)","v":""},"",{"$f":"IF(Worksheet!Q256=0,\"\",Worksheet!Q256)","v":""},{"$f":"IF(OR(LEFT(B230,8)=\"LED Four\",LEFT(B230,8)=\"LED Tube\",LEFT(B230,8)=\"LED Mogu\",RIGHT(A230,2)=\"In\"),H230*Worksheet!V256,\"\")","v":""},{"$f":"IF(Worksheet!V256=0,\"\",IF(OR(LEFT(B230,8)=\"LED Four\",LEFT(B230,8)=\"LED Tube\",LEFT(B230,8)=\"LED Mogu\",RIGHT(A230,2)=\"In\"),\"\",Worksheet!V256))","v":""},"",{"$f":"IF(OR(LEFT(B230,8)=\"LED Four\",LEFT(B230,8)=\"LED Tube\",LEFT(B230,8)=\"LED Mogu\",RIGHT(A230,2)=\"In\"),H230*Worksheet!W256,\"\")","v":""},{"$f":"IF(Worksheet!W256=0,\"\",IF(OR(LEFT(B230,8)=\"LED Four\",LEFT(B230,8)=\"LED Tube\",LEFT(B230,8)=\"LED Mogu\",RIGHT(A230,2)=\"In\"),\"\",Worksheet!W256))","v":""},""]
[{"$f":"IF(Worksheet!K257=0,\"\",Worksheet!K257)","v":""},{"$f":"IF(Worksheet!L257=0,\"\",Worksheet!L257)","v":""},{"$f":"IF(Worksheet!M257=0,\"\",Worksheet!M257)","v":""},{"$f":"IF(Worksheet!N257=0,\"\",Worksheet!N257)","v":""},{"$f":"IF(Worksheet!P257=0,\"\",IF(OR(LEFT(B231,8)=\"LED Four\",LEFT(B231,8)=\"LED Tube\",LEFT(B231,8)=\"LED Mogu\",RIGHT(A231,2)=\"In\"),\"\",Worksheet!P257))","v":""},{"$f":"IF(Worksheet!R257=0,\"\",Worksheet!R257)","v":""},"",{"$f":"IF(Worksheet!Q257=0,\"\",Worksheet!Q257)","v":""},{"$f":"IF(OR(LEFT(B231,8)=\"LED Four\",LEFT(B231,8)=\"LED Tube\",LEFT(B231,8)=\"LED Mogu\",RIGHT(A231,2)=\"In\"),H231*Worksheet!V257,\"\")","v":""},{"$f":"IF(Worksheet!V257=0,\"\",IF(OR(LEFT(B231,8)=\"LED Four\",LEFT(B231,8)=\"LED Tube\",LEFT(B231,8)=\"LED Mogu\",RIGHT(A231,2)=\"In\"),\"\",Worksheet!V257))","v":""},"",{"$f":"IF(OR(LEFT(B231,8)=\"LED Four\",LEFT(B231,8)=\"LED Tube\",LEFT(B231,8)=\"LED Mogu\",RIGHT(A231,2)=\"In\"),H231*Worksheet!W257,\"\")","v":""},{"$f":"IF(Worksheet!W257=0,\"\",IF(OR(LEFT(B231,8)=\"LED Four\",LEFT(B231,8)=\"LED Tube\",LEFT(B231,8)=\"LED Mogu\",RIGHT(A231,2)=\"In\"),\"\",Worksheet!W257))","v":""},""]
[{"$f":"IF(Worksheet!K258=0,\"\",Worksheet!K258)","v":""},{"$f":"IF(Worksheet!L258=0,\"\",Worksheet!L258)","v":""},{"$f":"IF(Worksheet!M258=0,\"\",Worksheet!M258)","v":""},{"$f":"IF(Worksheet!N258=0,\"\",Worksheet!N258)","v":""},{"$f":"IF(Worksheet!P258=0,\"\",IF(OR(LEFT(B232,8)=\"LED Four\",LEFT(B232,8)=\"LED Tube\",LEFT(B232,8)=\"LED Mogu\",RIGHT(A232,2)=\"In\"),\"\",Worksheet!P258))","v":""},{"$f":"IF(Worksheet!R258=0,\"\",Worksheet!R258)","v":""},"",{"$f":"IF(Worksheet!Q258=0,\"\",Worksheet!Q258)","v":""},{"$f":"IF(OR(LEFT(B232,8)=\"LED Four\",LEFT(B232,8)=\"LED Tube\",LEFT(B232,8)=\"LED Mogu\",RIGHT(A232,2)=\"In\"),H232*Worksheet!V258,\"\")","v":""},{"$f":"IF(Worksheet!V258=0,\"\",IF(OR(LEFT(B232,8)=\"LED Four\",LEFT(B232,8)=\"LED Tube\",LEFT(B232,8)=\"LED Mogu\",RIGHT(A232,2)=\"In\"),\"\",Worksheet!V258))","v":""},"",{"$f":"IF(OR(LEFT(B232,8)=\"LED Four\",LEFT(B232,8)=\"LED Tube\",LEFT(B232,8)=\"LED Mogu\",RIGHT(A232,2)=\"In\"),H232*Worksheet!W258,\"\")","v":""},{"$f":"IF(Worksheet!W258=0,\"\",IF(OR(LEFT(B232,8)=\"LED Four\",LEFT(B232,8)=\"LED Tube\",LEFT(B232,8)=\"LED Mogu\",RIGHT(A232,2)=\"In\"),\"\",Worksheet!W258))","v":""},""]
[{"$f":"IF(Worksheet!K259=0,\"\",Worksheet!K259)","v":""},{"$f":"IF(Worksheet!L259=0,\"\",Worksheet!L259)","v":""},{"$f":"IF(Worksheet!M259=0,\"\",Worksheet!M259)","v":""},{"$f":"IF(Worksheet!N259=0,\"\",Worksheet!N259)","v":""},{"$f":"IF(Worksheet!P259=0,\"\",IF(OR(LEFT(B233,8)=\"LED Four\",LEFT(B233,8)=\"LED Tube\",LEFT(B233,8)=\"LED Mogu\",RIGHT(A233,2)=\"In\"),\"\",Worksheet!P259))","v":""},{"$f":"IF(Worksheet!R259=0,\"\",Worksheet!R259)","v":""},"",{"$f":"IF(Worksheet!Q259=0,\"\",Worksheet!Q259)","v":""},{"$f":"IF(OR(LEFT(B233,8)=\"LED Four\",LEFT(B233,8)=\"LED Tube\",LEFT(B233,8)=\"LED Mogu\",RIGHT(A233,2)=\"In\"),H233*Worksheet!V259,\"\")","v":""},{"$f":"IF(Worksheet!V259=0,\"\",IF(OR(LEFT(B233,8)=\"LED Four\",LEFT(B233,8)=\"LED Tube\",LEFT(B233,8)=\"LED Mogu\",RIGHT(A233,2)=\"In\"),\"\",Worksheet!V259))","v":""},"",{"$f":"IF(OR(LEFT(B233,8)=\"LED Four\",LEFT(B233,8)=\"LED Tube\",LEFT(B233,8)=\"LED Mogu\",RIGHT(A233,2)=\"In\"),H233*Worksheet!W259,\"\")","v":""},{"$f":"IF(Worksheet!W259=0,\"\",IF(OR(LEFT(B233,8)=\"LED Four\",LEFT(B233,8)=\"LED Tube\",LEFT(B233,8)=\"LED Mogu\",RIGHT(A233,2)=\"In\"),\"\",Worksheet!W259))","v":""},""]
[{"$f":"IF(Worksheet!K260=0,\"\",Worksheet!K260)","v":""},{"$f":"IF(Worksheet!L260=0,\"\",Worksheet!L260)","v":""},{"$f":"IF(Worksheet!M260=0,\"\",Worksheet!M260)","v":""},{"$f":"IF(Worksheet!N260=0,\"\",Worksheet!N260)","v":""},{"$f":"IF(Worksheet!P260=0,\"\",IF(OR(LEFT(B234,8)=\"LED Four\",LEFT(B234,8)=\"LED Tube\",LEFT(B234,8)=\"LED Mogu\",RIGHT(A234,2)=\"In\"),\"\",Worksheet!P260))","v":""},{"$f":"IF(Worksheet!R260=0,\"\",Worksheet!R260)","v":""},"",{"$f":"IF(Worksheet!Q260=0,\"\",Worksheet!Q260)","v":""},{"$f":"IF(OR(LEFT(B234,8)=\"LED Four\",LEFT(B234,8)=\"LED Tube\",LEFT(B234,8)=\"LED Mogu\",RIGHT(A234,2)=\"In\"),H234*Worksheet!V260,\"\")","v":""},{"$f":"IF(Worksheet!V260=0,\"\",IF(OR(LEFT(B234,8)=\"LED Four\",LEFT(B234,8)=\"LED Tube\",LEFT(B234,8)=\"LED Mogu\",RIGHT(A234,2)=\"In\"),\"\",Worksheet!V260))","v":""},"",{"$f":"IF(OR(LEFT(B234,8)=\"LED Four\",LEFT(B234,8)=\"LED Tube\",LEFT(B234,8)=\"LED Mogu\",RIGHT(A234,2)=\"In\"),H234*Worksheet!W260,\"\")","v":""},{"$f":"IF(Worksheet!W260=0,\"\",IF(OR(LEFT(B234,8)=\"LED Four\",LEFT(B234,8)=\"LED Tube\",LEFT(B234,8)=\"LED Mogu\",RIGHT(A234,2)=\"In\"),\"\",Worksheet!W260))","v":""},""]
[{"$f":"IF(Worksheet!K261=0,\"\",Worksheet!K261)","v":""},{"$f":"IF(Worksheet!L261=0,\"\",Worksheet!L261)","v":""},{"$f":"IF(Worksheet!M261=0,\"\",Worksheet!M261)","v":""},{"$f":"IF(Worksheet!N261=0,\"\",Worksheet!N261)","v":""},{"$f":"IF(Worksheet!P261=0,\"\",IF(OR(LEFT(B235,8)=\"LED Four\",LEFT(B235,8)=\"LED Tube\",LEFT(B235,8)=\"LED Mogu\",RIGHT(A235,2)=\"In\"),\"\",Worksheet!P261))","v":""},{"$f":"IF(Worksheet!R261=0,\"\",Worksheet!R261)","v":""},"",{"$f":"IF(Worksheet!Q261=0,\"\",Worksheet!Q261)","v":""},{"$f":"IF(OR(LEFT(B235,8)=\"LED Four\",LEFT(B235,8)=\"LED Tube\",LEFT(B235,8)=\"LED Mogu\",RIGHT(A235,2)=\"In\"),H235*Worksheet!V261,\"\")","v":""},{"$f":"IF(Worksheet!V261=0,\"\",IF(OR(LEFT(B235,8)=\"LED Four\",LEFT(B235,8)=\"LED Tube\",LEFT(B235,8)=\"LED Mogu\",RIGHT(A235,2)=\"In\"),\"\",Worksheet!V261))","v":""},"",{"$f":"IF(OR(LEFT(B235,8)=\"LED Four\",LEFT(B235,8)=\"LED Tube\",LEFT(B235,8)=\"LED Mogu\",RIGHT(A235,2)=\"In\"),H235*Worksheet!W261,\"\")","v":""},{"$f":"IF(Worksheet!W261=0,\"\",IF(OR(LEFT(B235,8)=\"LED Four\",LEFT(B235,8)=\"LED Tube\",LEFT(B235,8)=\"LED Mogu\",RIGHT(A235,2)=\"In\"),\"\",Worksheet!W261))","v":""},""]
[{"$f":"IF(Worksheet!K262=0,\"\",Worksheet!K262)","v":""},{"$f":"IF(Worksheet!L262=0,\"\",Worksheet!L262)","v":""},{"$f":"IF(Worksheet!M262=0,\"\",Worksheet!M262)","v":""},{"$f":"IF(Worksheet!N262=0,\"\",Worksheet!N262)","v":""},{"$f":"IF(Worksheet!P262=0,\"\",IF(OR(LEFT(B236,8)=\"LED Four\",LEFT(B236,8)=\"LED Tube\",LEFT(B236,8)=\"LED Mogu\",RIGHT(A236,2)=\"In\"),\"\",Worksheet!P262))","v":""},{"$f":"IF(Worksheet!R262=0,\"\",Worksheet!R262)","v":""},"",{"$f":"IF(Worksheet!Q262=0,\"\",Worksheet!Q262)","v":""},{"$f":"IF(OR(LEFT(B236,8)=\"LED Four\",LEFT(B236,8)=\"LED Tube\",LEFT(B236,8)=\"LED Mogu\",RIGHT(A236,2)=\"In\"),H236*Worksheet!V262,\"\")","v":""},{"$f":"IF(Worksheet!V262=0,\"\",IF(OR(LEFT(B236,8)=\"LED Four\",LEFT(B236,8)=\"LED Tube\",LEFT(B236,8)=\"LED Mogu\",RIGHT(A236,2)=\"In\"),\"\",Worksheet!V262))","v":""},"",{"$f":"IF(OR(LEFT(B236,8)=\"LED Four\",LEFT(B236,8)=\"LED Tube\",LEFT(B236,8)=\"LED Mogu\",RIGHT(A236,2)=\"In\"),H236*Worksheet!W262,\"\")","v":""},{"$f":"IF(Worksheet!W262=0,\"\",IF(OR(LEFT(B236,8)=\"LED Four\",LEFT(B236,8)=\"LED Tube\",LEFT(B236,8)=\"LED Mogu\",RIGHT(A236,2)=\"In\"),\"\",Worksheet!W262))","v":""},""]
[{"$f":"IF(Worksheet!K263=0,\"\",Worksheet!K263)","v":""},{"$f":"IF(Worksheet!L263=0,\"\",Worksheet!L263)","v":""},{"$f":"IF(Worksheet!M263=0,\"\",Worksheet!M263)","v":""},{"$f":"IF(Worksheet!N263=0,\"\",Worksheet!N263)","v":""},{"$f":"IF(Worksheet!P263=0,\"\",IF(OR(LEFT(B237,8)=\"LED Four\",LEFT(B237,8)=\"LED Tube\",LEFT(B237,8)=\"LED Mogu\",RIGHT(A237,2)=\"In\"),\"\",Worksheet!P263))","v":""},{"$f":"IF(Worksheet!R263=0,\"\",Worksheet!R263)","v":""},"",{"$f":"IF(Worksheet!Q263=0,\"\",Worksheet!Q263)","v":""},{"$f":"IF(OR(LEFT(B237,8)=\"LED Four\",LEFT(B237,8)=\"LED Tube\",LEFT(B237,8)=\"LED Mogu\",RIGHT(A237,2)=\"In\"),H237*Worksheet!V263,\"\")","v":""},{"$f":"IF(Worksheet!V263=0,\"\",IF(OR(LEFT(B237,8)=\"LED Four\",LEFT(B237,8)=\"LED Tube\",LEFT(B237,8)=\"LED Mogu\",RIGHT(A237,2)=\"In\"),\"\",Worksheet!V263))","v":""},"",{"$f":"IF(OR(LEFT(B237,8)=\"LED Four\",LEFT(B237,8)=\"LED Tube\",LEFT(B237,8)=\"LED Mogu\",RIGHT(A237,2)=\"In\"),H237*Worksheet!W263,\"\")","v":""},{"$f":"IF(Worksheet!W263=0,\"\",IF(OR(LEFT(B237,8)=\"LED Four\",LEFT(B237,8)=\"LED Tube\",LEFT(B237,8)=\"LED Mogu\",RIGHT(A237,2)=\"In\"),\"\",Worksheet!W263))","v":""},""]
[{"$f":"IF(Worksheet!K264=0,\"\",Worksheet!K264)","v":""},{"$f":"IF(Worksheet!L264=0,\"\",Worksheet!L264)","v":""},{"$f":"IF(Worksheet!M264=0,\"\",Worksheet!M264)","v":""},{"$f":"IF(Worksheet!N264=0,\"\",Worksheet!N264)","v":""},{"$f":"IF(Worksheet!P264=0,\"\",IF(OR(LEFT(B238,8)=\"LED Four\",LEFT(B238,8)=\"LED Tube\",LEFT(B238,8)=\"LED Mogu\",RIGHT(A238,2)=\"In\"),\"\",Worksheet!P264))","v":""},{"$f":"IF(Worksheet!R264=0,\"\",Worksheet!R264)","v":""},"",{"$f":"IF(Worksheet!Q264=0,\"\",Worksheet!Q264)","v":""},{"$f":"IF(OR(LEFT(B238,8)=\"LED Four\",LEFT(B238,8)=\"LED Tube\",LEFT(B238,8)=\"LED Mogu\",RIGHT(A238,2)=\"In\"),H238*Worksheet!V264,\"\")","v":""},{"$f":"IF(Worksheet!V264=0,\"\",IF(OR(LEFT(B238,8)=\"LED Four\",LEFT(B238,8)=\"LED Tube\",LEFT(B238,8)=\"LED Mogu\",RIGHT(A238,2)=\"In\"),\"\",Worksheet!V264))","v":""},"",{"$f":"IF(OR(LEFT(B238,8)=\"LED Four\",LEFT(B238,8)=\"LED Tube\",LEFT(B238,8)=\"LED Mogu\",RIGHT(A238,2)=\"In\"),H238*Worksheet!W264,\"\")","v":""},{"$f":"IF(Worksheet!W264=0,\"\",IF(OR(LEFT(B238,8)=\"LED Four\",LEFT(B238,8)=\"LED Tube\",LEFT(B238,8)=\"LED Mogu\",RIGHT(A238,2)=\"In\"),\"\",Worksheet!W264))","v":""},""]
[{"$f":"IF(Worksheet!K265=0,\"\",Worksheet!K265)","v":""},{"$f":"IF(Worksheet!L265=0,\"\",Worksheet!L265)","v":""},{"$f":"IF(Worksheet!M265=0,\"\",Worksheet!M265)","v":""},{"$f":"IF(Worksheet!N265=0,\"\",Worksheet!N265)","v":""},{"$f":"IF(Worksheet!P265=0,\"\",IF(OR(LEFT(B239,8)=\"LED Four\",LEFT(B239,8)=\"LED Tube\",LEFT(B239,8)=\"LED Mogu\",RIGHT(A239,2)=\"In\"),\"\",Worksheet!P265))","v":""},{"$f":"IF(Worksheet!R265=0,\"\",Worksheet!R265)","v":""},"",{"$f":"IF(Worksheet!Q265=0,\"\",Worksheet!Q265)","v":""},{"$f":"IF(OR(LEFT(B239,8)=\"LED Four\",LEFT(B239,8)=\"LED Tube\",LEFT(B239,8)=\"LED Mogu\",RIGHT(A239,2)=\"In\"),H239*Worksheet!V265,\"\")","v":""},{"$f":"IF(Worksheet!V265=0,\"\",IF(OR(LEFT(B239,8)=\"LED Four\",LEFT(B239,8)=\"LED Tube\",LEFT(B239,8)=\"LED Mogu\",RIGHT(A239,2)=\"In\"),\"\",Worksheet!V265))","v":""},"",{"$f":"IF(OR(LEFT(B239,8)=\"LED Four\",LEFT(B239,8)=\"LED Tube\",LEFT(B239,8)=\"LED Mogu\",RIGHT(A239,2)=\"In\"),H239*Worksheet!W265,\"\")","v":""},{"$f":"IF(Worksheet!W265=0,\"\",IF(OR(LEFT(B239,8)=\"LED Four\",LEFT(B239,8)=\"LED Tube\",LEFT(B239,8)=\"LED Mogu\",RIGHT(A239,2)=\"In\"),\"\",Worksheet!W265))","v":""},""]
[{"$f":"IF(Worksheet!K266=0,\"\",Worksheet!K266)","v":""},{"$f":"IF(Worksheet!L266=0,\"\",Worksheet!L266)","v":""},{"$f":"IF(Worksheet!M266=0,\"\",Worksheet!M266)","v":""},{"$f":"IF(Worksheet!N266=0,\"\",Worksheet!N266)","v":""},{"$f":"IF(Worksheet!P266=0,\"\",IF(OR(LEFT(B240,8)=\"LED Four\",LEFT(B240,8)=\"LED Tube\",LEFT(B240,8)=\"LED Mogu\",RIGHT(A240,2)=\"In\"),\"\",Worksheet!P266))","v":""},{"$f":"IF(Worksheet!R266=0,\"\",Worksheet!R266)","v":""},"",{"$f":"IF(Worksheet!Q266=0,\"\",Worksheet!Q266)","v":""},{"$f":"IF(OR(LEFT(B240,8)=\"LED Four\",LEFT(B240,8)=\"LED Tube\",LEFT(B240,8)=\"LED Mogu\",RIGHT(A240,2)=\"In\"),H240*Worksheet!V266,\"\")","v":""},{"$f":"IF(Worksheet!V266=0,\"\",IF(OR(LEFT(B240,8)=\"LED Four\",LEFT(B240,8)=\"LED Tube\",LEFT(B240,8)=\"LED Mogu\",RIGHT(A240,2)=\"In\"),\"\",Worksheet!V266))","v":""},"",{"$f":"IF(OR(LEFT(B240,8)=\"LED Four\",LEFT(B240,8)=\"LED Tube\",LEFT(B240,8)=\"LED Mogu\",RIGHT(A240,2)=\"In\"),H240*Worksheet!W266,\"\")","v":""},{"$f":"IF(Worksheet!W266=0,\"\",IF(OR(LEFT(B240,8)=\"LED Four\",LEFT(B240,8)=\"LED Tube\",LEFT(B240,8)=\"LED Mogu\",RIGHT(A240,2)=\"In\"),\"\",Worksheet!W266))","v":""},""]
[{"$f":"IF(Worksheet!K267=0,\"\",Worksheet!K267)","v":""},{"$f":"IF(Worksheet!L267=0,\"\",Worksheet!L267)","v":""},{"$f":"IF(Worksheet!M267=0,\"\",Worksheet!M267)","v":""},{"$f":"IF(Worksheet!N267=0,\"\",Worksheet!N267)","v":""},{"$f":"IF(Worksheet!P267=0,\"\",IF(OR(LEFT(B241,8)=\"LED Four\",LEFT(B241,8)=\"LED Tube\",LEFT(B241,8)=\"LED Mogu\",RIGHT(A241,2)=\"In\"),\"\",Worksheet!P267))","v":""},{"$f":"IF(Worksheet!R267=0,\"\",Worksheet!R267)","v":""},"",{"$f":"IF(Worksheet!Q267=0,\"\",Worksheet!Q267)","v":""},{"$f":"IF(OR(LEFT(B241,8)=\"LED Four\",LEFT(B241,8)=\"LED Tube\",LEFT(B241,8)=\"LED Mogu\",RIGHT(A241,2)=\"In\"),H241*Worksheet!V267,\"\")","v":""},{"$f":"IF(Worksheet!V267=0,\"\",IF(OR(LEFT(B241,8)=\"LED Four\",LEFT(B241,8)=\"LED Tube\",LEFT(B241,8)=\"LED Mogu\",RIGHT(A241,2)=\"In\"),\"\",Worksheet!V267))","v":""},"",{"$f":"IF(OR(LEFT(B241,8)=\"LED Four\",LEFT(B241,8)=\"LED Tube\",LEFT(B241,8)=\"LED Mogu\",RIGHT(A241,2)=\"In\"),H241*Worksheet!W267,\"\")","v":""},{"$f":"IF(Worksheet!W267=0,\"\",IF(OR(LEFT(B241,8)=\"LED Four\",LEFT(B241,8)=\"LED Tube\",LEFT(B241,8)=\"LED Mogu\",RIGHT(A241,2)=\"In\"),\"\",Worksheet!W267))","v":""},""]
[{"$f":"IF(Worksheet!K268=0,\"\",Worksheet!K268)","v":""},{"$f":"IF(Worksheet!L268=0,\"\",Worksheet!L268)","v":""},{"$f":"IF(Worksheet!M268=0,\"\",Worksheet!M268)","v":""},{"$f":"IF(Worksheet!N268=0,\"\",Worksheet!N268)","v":""},{"$f":"IF(Worksheet!P268=0,\"\",IF(OR(LEFT(B242,8)=\"LED Four\",LEFT(B242,8)=\"LED Tube\",LEFT(B242,8)=\"LED Mogu\",RIGHT(A242,2)=\"In\"),\"\",Worksheet!P268))","v":""},{"$f":"IF(Worksheet!R268=0,\"\",Worksheet!R268)","v":""},"",{"$f":"IF(Worksheet!Q268=0,\"\",Worksheet!Q268)","v":""},{"$f":"IF(OR(LEFT(B242,8)=\"LED Four\",LEFT(B242,8)=\"LED Tube\",LEFT(B242,8)=\"LED Mogu\",RIGHT(A242,2)=\"In\"),H242*Worksheet!V268,\"\")","v":""},{"$f":"IF(Worksheet!V268=0,\"\",IF(OR(LEFT(B242,8)=\"LED Four\",LEFT(B242,8)=\"LED Tube\",LEFT(B242,8)=\"LED Mogu\",RIGHT(A242,2)=\"In\"),\"\",Worksheet!V268))","v":""},"",{"$f":"IF(OR(LEFT(B242,8)=\"LED Four\",LEFT(B242,8)=\"LED Tube\",LEFT(B242,8)=\"LED Mogu\",RIGHT(A242,2)=\"In\"),H242*Worksheet!W268,\"\")","v":""},{"$f":"IF(Worksheet!W268=0,\"\",IF(OR(LEFT(B242,8)=\"LED Four\",LEFT(B242,8)=\"LED Tube\",LEFT(B242,8)=\"LED Mogu\",RIGHT(A242,2)=\"In\"),\"\",Worksheet!W268))","v":""},""]
[{"$f":"IF(Worksheet!K269=0,\"\",Worksheet!K269)","v":""},{"$f":"IF(Worksheet!L269=0,\"\",Worksheet!L269)","v":""},{"$f":"IF(Worksheet!M269=0,\"\",Worksheet!M269)","v":""},{"$f":"IF(Worksheet!N269=0,\"\",Worksheet!N269)","v":""},{"$f":"IF(Worksheet!P269=0,\"\",IF(OR(LEFT(B243,8)=\"LED Four\",LEFT(B243,8)=\"LED Tube\",LEFT(B243,8)=\"LED Mogu\",RIGHT(A243,2)=\"In\"),\"\",Worksheet!P269))","v":""},{"$f":"IF(Worksheet!R269=0,\"\",Worksheet!R269)","v":""},"",{"$f":"IF(Worksheet!Q269=0,\"\",Worksheet!Q269)","v":""},{"$f":"IF(OR(LEFT(B243,8)=\"LED Four\",LEFT(B243,8)=\"LED Tube\",LEFT(B243,8)=\"LED Mogu\",RIGHT(A243,2)=\"In\"),H243*Worksheet!V269,\"\")","v":""},{"$f":"IF(Worksheet!V269=0,\"\",IF(OR(LEFT(B243,8)=\"LED Four\",LEFT(B243,8)=\"LED Tube\",LEFT(B243,8)=\"LED Mogu\",RIGHT(A243,2)=\"In\"),\"\",Worksheet!V269))","v":""},"",{"$f":"IF(OR(LEFT(B243,8)=\"LED Four\",LEFT(B243,8)=\"LED Tube\",LEFT(B243,8)=\"LED Mogu\",RIGHT(A243,2)=\"In\"),H243*Worksheet!W269,\"\")","v":""},{"$f":"IF(Worksheet!W269=0,\"\",IF(OR(LEFT(B243,8)=\"LED Four\",LEFT(B243,8)=\"LED Tube\",LEFT(B243,8)=\"LED Mogu\",RIGHT(A243,2)=\"In\"),\"\",Worksheet!W269))","v":""},""]
[{"$f":"IF(Worksheet!K270=0,\"\",Worksheet!K270)","v":""},{"$f":"IF(Worksheet!L270=0,\"\",Worksheet!L270)","v":""},{"$f":"IF(Worksheet!M270=0,\"\",Worksheet!M270)","v":""},{"$f":"IF(Worksheet!N270=0,\"\",Worksheet!N270)","v":""},{"$f":"IF(Worksheet!P270=0,\"\",IF(OR(LEFT(B244,8)=\"LED Four\",LEFT(B244,8)=\"LED Tube\",LEFT(B244,8)=\"LED Mogu\",RIGHT(A244,2)=\"In\"),\"\",Worksheet!P270))","v":""},{"$f":"IF(Worksheet!R270=0,\"\",Worksheet!R270)","v":""},"",{"$f":"IF(Worksheet!Q270=0,\"\",Worksheet!Q270)","v":""},{"$f":"IF(OR(LEFT(B244,8)=\"LED Four\",LEFT(B244,8)=\"LED Tube\",LEFT(B244,8)=\"LED Mogu\",RIGHT(A244,2)=\"In\"),H244*Worksheet!V270,\"\")","v":""},{"$f":"IF(Worksheet!V270=0,\"\",IF(OR(LEFT(B244,8)=\"LED Four\",LEFT(B244,8)=\"LED Tube\",LEFT(B244,8)=\"LED Mogu\",RIGHT(A244,2)=\"In\"),\"\",Worksheet!V270))","v":""},"",{"$f":"IF(OR(LEFT(B244,8)=\"LED Four\",LEFT(B244,8)=\"LED Tube\",LEFT(B244,8)=\"LED Mogu\",RIGHT(A244,2)=\"In\"),H244*Worksheet!W270,\"\")","v":""},{"$f":"IF(Worksheet!W270=0,\"\",IF(OR(LEFT(B244,8)=\"LED Four\",LEFT(B244,8)=\"LED Tube\",LEFT(B244,8)=\"LED Mogu\",RIGHT(A244,2)=\"In\"),\"\",Worksheet!W270))","v":""},""]
[{"$f":"IF(Worksheet!K271=0,\"\",Worksheet!K271)","v":""},{"$f":"IF(Worksheet!L271=0,\"\",Worksheet!L271)","v":""},{"$f":"IF(Worksheet!M271=0,\"\",Worksheet!M271)","v":""},{"$f":"IF(Worksheet!N271=0,\"\",Worksheet!N271)","v":""},{"$f":"IF(Worksheet!P271=0,\"\",IF(OR(LEFT(B245,8)=\"LED Four\",LEFT(B245,8)=\"LED Tube\",LEFT(B245,8)=\"LED Mogu\",RIGHT(A245,2)=\"In\"),\"\",Worksheet!P271))","v":""},{"$f":"IF(Worksheet!R271=0,\"\",Worksheet!R271)","v":""},"",{"$f":"IF(Worksheet!Q271=0,\"\",Worksheet!Q271)","v":""},{"$f":"IF(OR(LEFT(B245,8)=\"LED Four\",LEFT(B245,8)=\"LED Tube\",LEFT(B245,8)=\"LED Mogu\",RIGHT(A245,2)=\"In\"),H245*Worksheet!V271,\"\")","v":""},{"$f":"IF(Worksheet!V271=0,\"\",IF(OR(LEFT(B245,8)=\"LED Four\",LEFT(B245,8)=\"LED Tube\",LEFT(B245,8)=\"LED Mogu\",RIGHT(A245,2)=\"In\"),\"\",Worksheet!V271))","v":""},"",{"$f":"IF(OR(LEFT(B245,8)=\"LED Four\",LEFT(B245,8)=\"LED Tube\",LEFT(B245,8)=\"LED Mogu\",RIGHT(A245,2)=\"In\"),H245*Worksheet!W271,\"\")","v":""},{"$f":"IF(Worksheet!W271=0,\"\",IF(OR(LEFT(B245,8)=\"LED Four\",LEFT(B245,8)=\"LED Tube\",LEFT(B245,8)=\"LED Mogu\",RIGHT(A245,2)=\"In\"),\"\",Worksheet!W271))","v":""},""]
[{"$f":"IF(Worksheet!K272=0,\"\",Worksheet!K272)","v":""},{"$f":"IF(Worksheet!L272=0,\"\",Worksheet!L272)","v":""},{"$f":"IF(Worksheet!M272=0,\"\",Worksheet!M272)","v":""},{"$f":"IF(Worksheet!N272=0,\"\",Worksheet!N272)","v":""},{"$f":"IF(Worksheet!P272=0,\"\",IF(OR(LEFT(B246,8)=\"LED Four\",LEFT(B246,8)=\"LED Tube\",LEFT(B246,8)=\"LED Mogu\",RIGHT(A246,2)=\"In\"),\"\",Worksheet!P272))","v":""},{"$f":"IF(Worksheet!R272=0,\"\",Worksheet!R272)","v":""},"",{"$f":"IF(Worksheet!Q272=0,\"\",Worksheet!Q272)","v":""},{"$f":"IF(OR(LEFT(B246,8)=\"LED Four\",LEFT(B246,8)=\"LED Tube\",LEFT(B246,8)=\"LED Mogu\",RIGHT(A246,2)=\"In\"),H246*Worksheet!V272,\"\")","v":""},{"$f":"IF(Worksheet!V272=0,\"\",IF(OR(LEFT(B246,8)=\"LED Four\",LEFT(B246,8)=\"LED Tube\",LEFT(B246,8)=\"LED Mogu\",RIGHT(A246,2)=\"In\"),\"\",Worksheet!V272))","v":""},"",{"$f":"IF(OR(LEFT(B246,8)=\"LED Four\",LEFT(B246,8)=\"LED Tube\",LEFT(B246,8)=\"LED Mogu\",RIGHT(A246,2)=\"In\"),H246*Worksheet!W272,\"\")","v":""},{"$f":"IF(Worksheet!W272=0,\"\",IF(OR(LEFT(B246,8)=\"LED Four\",LEFT(B246,8)=\"LED Tube\",LEFT(B246,8)=\"LED Mogu\",RIGHT(A246,2)=\"In\"),\"\",Worksheet!W272))","v":""},""]
[{"$f":"IF(Worksheet!K273=0,\"\",Worksheet!K273)","v":""},{"$f":"IF(Worksheet!L273=0,\"\",Worksheet!L273)","v":""},{"$f":"IF(Worksheet!M273=0,\"\",Worksheet!M273)","v":""},{"$f":"IF(Worksheet!N273=0,\"\",Worksheet!N273)","v":""},{"$f":"IF(Worksheet!P273=0,\"\",IF(OR(LEFT(B247,8)=\"LED Four\",LEFT(B247,8)=\"LED Tube\",LEFT(B247,8)=\"LED Mogu\",RIGHT(A247,2)=\"In\"),\"\",Worksheet!P273))","v":""},{"$f":"IF(Worksheet!R273=0,\"\",Worksheet!R273)","v":""},"",{"$f":"IF(Worksheet!Q273=0,\"\",Worksheet!Q273)","v":""},{"$f":"IF(OR(LEFT(B247,8)=\"LED Four\",LEFT(B247,8)=\"LED Tube\",LEFT(B247,8)=\"LED Mogu\",RIGHT(A247,2)=\"In\"),H247*Worksheet!V273,\"\")","v":""},{"$f":"IF(Worksheet!V273=0,\"\",IF(OR(LEFT(B247,8)=\"LED Four\",LEFT(B247,8)=\"LED Tube\",LEFT(B247,8)=\"LED Mogu\",RIGHT(A247,2)=\"In\"),\"\",Worksheet!V273))","v":""},"",{"$f":"IF(OR(LEFT(B247,8)=\"LED Four\",LEFT(B247,8)=\"LED Tube\",LEFT(B247,8)=\"LED Mogu\",RIGHT(A247,2)=\"In\"),H247*Worksheet!W273,\"\")","v":""},{"$f":"IF(Worksheet!W273=0,\"\",IF(OR(LEFT(B247,8)=\"LED Four\",LEFT(B247,8)=\"LED Tube\",LEFT(B247,8)=\"LED Mogu\",RIGHT(A247,2)=\"In\"),\"\",Worksheet!W273))","v":""},""]
[{"$f":"IF(Worksheet!K274=0,\"\",Worksheet!K274)","v":""},{"$f":"IF(Worksheet!L274=0,\"\",Worksheet!L274)","v":""},{"$f":"IF(Worksheet!M274=0,\"\",Worksheet!M274)","v":""},{"$f":"IF(Worksheet!N274=0,\"\",Worksheet!N274)","v":""},{"$f":"IF(Worksheet!P274=0,\"\",IF(OR(LEFT(B248,8)=\"LED Four\",LEFT(B248,8)=\"LED Tube\",LEFT(B248,8)=\"LED Mogu\",RIGHT(A248,2)=\"In\"),\"\",Worksheet!P274))","v":""},{"$f":"IF(Worksheet!R274=0,\"\",Worksheet!R274)","v":""},"",{"$f":"IF(Worksheet!Q274=0,\"\",Worksheet!Q274)","v":""},{"$f":"IF(OR(LEFT(B248,8)=\"LED Four\",LEFT(B248,8)=\"LED Tube\",LEFT(B248,8)=\"LED Mogu\",RIGHT(A248,2)=\"In\"),H248*Worksheet!V274,\"\")","v":""},{"$f":"IF(Worksheet!V274=0,\"\",IF(OR(LEFT(B248,8)=\"LED Four\",LEFT(B248,8)=\"LED Tube\",LEFT(B248,8)=\"LED Mogu\",RIGHT(A248,2)=\"In\"),\"\",Worksheet!V274))","v":""},"",{"$f":"IF(OR(LEFT(B248,8)=\"LED Four\",LEFT(B248,8)=\"LED Tube\",LEFT(B248,8)=\"LED Mogu\",RIGHT(A248,2)=\"In\"),H248*Worksheet!W274,\"\")","v":""},{"$f":"IF(Worksheet!W274=0,\"\",IF(OR(LEFT(B248,8)=\"LED Four\",LEFT(B248,8)=\"LED Tube\",LEFT(B248,8)=\"LED Mogu\",RIGHT(A248,2)=\"In\"),\"\",Worksheet!W274))","v":""},""]
[{"$f":"IF(Worksheet!K275=0,\"\",Worksheet!K275)","v":""},{"$f":"IF(Worksheet!L275=0,\"\",Worksheet!L275)","v":""},{"$f":"IF(Worksheet!M275=0,\"\",Worksheet!M275)","v":""},{"$f":"IF(Worksheet!N275=0,\"\",Worksheet!N275)","v":""},{"$f":"IF(Worksheet!P275=0,\"\",IF(OR(LEFT(B249,8)=\"LED Four\",LEFT(B249,8)=\"LED Tube\",LEFT(B249,8)=\"LED Mogu\",RIGHT(A249,2)=\"In\"),\"\",Worksheet!P275))","v":""},{"$f":"IF(Worksheet!R275=0,\"\",Worksheet!R275)","v":""},"",{"$f":"IF(Worksheet!Q275=0,\"\",Worksheet!Q275)","v":""},{"$f":"IF(OR(LEFT(B249,8)=\"LED Four\",LEFT(B249,8)=\"LED Tube\",LEFT(B249,8)=\"LED Mogu\",RIGHT(A249,2)=\"In\"),H249*Worksheet!V275,\"\")","v":""},{"$f":"IF(Worksheet!V275=0,\"\",IF(OR(LEFT(B249,8)=\"LED Four\",LEFT(B249,8)=\"LED Tube\",LEFT(B249,8)=\"LED Mogu\",RIGHT(A249,2)=\"In\"),\"\",Worksheet!V275))","v":""},"",{"$f":"IF(OR(LEFT(B249,8)=\"LED Four\",LEFT(B249,8)=\"LED Tube\",LEFT(B249,8)=\"LED Mogu\",RIGHT(A249,2)=\"In\"),H249*Worksheet!W275,\"\")","v":""},{"$f":"IF(Worksheet!W275=0,\"\",IF(OR(LEFT(B249,8)=\"LED Four\",LEFT(B249,8)=\"LED Tube\",LEFT(B249,8)=\"LED Mogu\",RIGHT(A249,2)=\"In\"),\"\",Worksheet!W275))","v":""},""]
[{"$f":"IF(Worksheet!K276=0,\"\",Worksheet!K276)","v":""},{"$f":"IF(Worksheet!L276=0,\"\",Worksheet!L276)","v":""},{"$f":"IF(Worksheet!M276=0,\"\",Worksheet!M276)","v":""},{"$f":"IF(Worksheet!N276=0,\"\",Worksheet!N276)","v":""},{"$f":"IF(Worksheet!P276=0,\"\",IF(OR(LEFT(B250,8)=\"LED Four\",LEFT(B250,8)=\"LED Tube\",LEFT(B250,8)=\"LED Mogu\",RIGHT(A250,2)=\"In\"),\"\",Worksheet!P276))","v":""},{"$f":"IF(Worksheet!R276=0,\"\",Worksheet!R276)","v":""},"",{"$f":"IF(Worksheet!Q276=0,\"\",Worksheet!Q276)","v":""},{"$f":"IF(OR(LEFT(B250,8)=\"LED Four\",LEFT(B250,8)=\"LED Tube\",LEFT(B250,8)=\"LED Mogu\",RIGHT(A250,2)=\"In\"),H250*Worksheet!V276,\"\")","v":""},{"$f":"IF(Worksheet!V276=0,\"\",IF(OR(LEFT(B250,8)=\"LED Four\",LEFT(B250,8)=\"LED Tube\",LEFT(B250,8)=\"LED Mogu\",RIGHT(A250,2)=\"In\"),\"\",Worksheet!V276))","v":""},"",{"$f":"IF(OR(LEFT(B250,8)=\"LED Four\",LEFT(B250,8)=\"LED Tube\",LEFT(B250,8)=\"LED Mogu\",RIGHT(A250,2)=\"In\"),H250*Worksheet!W276,\"\")","v":""},{"$f":"IF(Worksheet!W276=0,\"\",IF(OR(LEFT(B250,8)=\"LED Four\",LEFT(B250,8)=\"LED Tube\",LEFT(B250,8)=\"LED Mogu\",RIGHT(A250,2)=\"In\"),\"\",Worksheet!W276))","v":""},""]
[{"$f":"IF(Worksheet!K277=0,\"\",Worksheet!K277)","v":""},{"$f":"IF(Worksheet!L277=0,\"\",Worksheet!L277)","v":""},{"$f":"IF(Worksheet!M277=0,\"\",Worksheet!M277)","v":""},{"$f":"IF(Worksheet!N277=0,\"\",Worksheet!N277)","v":""},{"$f":"IF(Worksheet!P277=0,\"\",IF(OR(LEFT(B251,8)=\"LED Four\",LEFT(B251,8)=\"LED Tube\",LEFT(B251,8)=\"LED Mogu\",RIGHT(A251,2)=\"In\"),\"\",Worksheet!P277))","v":""},{"$f":"IF(Worksheet!R277=0,\"\",Worksheet!R277)","v":""},"",{"$f":"IF(Worksheet!Q277=0,\"\",Worksheet!Q277)","v":""},{"$f":"IF(OR(LEFT(B251,8)=\"LED Four\",LEFT(B251,8)=\"LED Tube\",LEFT(B251,8)=\"LED Mogu\",RIGHT(A251,2)=\"In\"),H251*Worksheet!V277,\"\")","v":""},{"$f":"IF(Worksheet!V277=0,\"\",IF(OR(LEFT(B251,8)=\"LED Four\",LEFT(B251,8)=\"LED Tube\",LEFT(B251,8)=\"LED Mogu\",RIGHT(A251,2)=\"In\"),\"\",Worksheet!V277))","v":""},"",{"$f":"IF(OR(LEFT(B251,8)=\"LED Four\",LEFT(B251,8)=\"LED Tube\",LEFT(B251,8)=\"LED Mogu\",RIGHT(A251,2)=\"In\"),H251*Worksheet!W277,\"\")","v":""},{"$f":"IF(Worksheet!W277=0,\"\",IF(OR(LEFT(B251,8)=\"LED Four\",LEFT(B251,8)=\"LED Tube\",LEFT(B251,8)=\"LED Mogu\",RIGHT(A251,2)=\"In\"),\"\",Worksheet!W277))","v":""},""]
[{"$f":"IF(Worksheet!K278=0,\"\",Worksheet!K278)","v":""},{"$f":"IF(Worksheet!L278=0,\"\",Worksheet!L278)","v":""},{"$f":"IF(Worksheet!M278=0,\"\",Worksheet!M278)","v":""},{"$f":"IF(Worksheet!N278=0,\"\",Worksheet!N278)","v":""},{"$f":"IF(Worksheet!P278=0,\"\",IF(OR(LEFT(B252,8)=\"LED Four\",LEFT(B252,8)=\"LED Tube\",LEFT(B252,8)=\"LED Mogu\",RIGHT(A252,2)=\"In\"),\"\",Worksheet!P278))","v":""},{"$f":"IF(Worksheet!R278=0,\"\",Worksheet!R278)","v":""},"",{"$f":"IF(Worksheet!Q278=0,\"\",Worksheet!Q278)","v":""},{"$f":"IF(OR(LEFT(B252,8)=\"LED Four\",LEFT(B252,8)=\"LED Tube\",LEFT(B252,8)=\"LED Mogu\",RIGHT(A252,2)=\"In\"),H252*Worksheet!V278,\"\")","v":""},{"$f":"IF(Worksheet!V278=0,\"\",IF(OR(LEFT(B252,8)=\"LED Four\",LEFT(B252,8)=\"LED Tube\",LEFT(B252,8)=\"LED Mogu\",RIGHT(A252,2)=\"In\"),\"\",Worksheet!V278))","v":""},"",{"$f":"IF(OR(LEFT(B252,8)=\"LED Four\",LEFT(B252,8)=\"LED Tube\",LEFT(B252,8)=\"LED Mogu\",RIGHT(A252,2)=\"In\"),H252*Worksheet!W278,\"\")","v":""},{"$f":"IF(Worksheet!W278=0,\"\",IF(OR(LEFT(B252,8)=\"LED Four\",LEFT(B252,8)=\"LED Tube\",LEFT(B252,8)=\"LED Mogu\",RIGHT(A252,2)=\"In\"),\"\",Worksheet!W278))","v":""},""]
[{"$f":"IF(Worksheet!K279=0,\"\",Worksheet!K279)","v":""},{"$f":"IF(Worksheet!L279=0,\"\",Worksheet!L279)","v":""},{"$f":"IF(Worksheet!M279=0,\"\",Worksheet!M279)","v":""},{"$f":"IF(Worksheet!N279=0,\"\",Worksheet!N279)","v":""},{"$f":"IF(Worksheet!P279=0,\"\",IF(OR(LEFT(B253,8)=\"LED Four\",LEFT(B253,8)=\"LED Tube\",LEFT(B253,8)=\"LED Mogu\",RIGHT(A253,2)=\"In\"),\"\",Worksheet!P279))","v":""},{"$f":"IF(Worksheet!R279=0,\"\",Worksheet!R279)","v":""},"",{"$f":"IF(Worksheet!Q279=0,\"\",Worksheet!Q279)","v":""},{"$f":"IF(OR(LEFT(B253,8)=\"LED Four\",LEFT(B253,8)=\"LED Tube\",LEFT(B253,8)=\"LED Mogu\",RIGHT(A253,2)=\"In\"),H253*Worksheet!V279,\"\")","v":""},{"$f":"IF(Worksheet!V279=0,\"\",IF(OR(LEFT(B253,8)=\"LED Four\",LEFT(B253,8)=\"LED Tube\",LEFT(B253,8)=\"LED Mogu\",RIGHT(A253,2)=\"In\"),\"\",Worksheet!V279))","v":""},"",{"$f":"IF(OR(LEFT(B253,8)=\"LED Four\",LEFT(B253,8)=\"LED Tube\",LEFT(B253,8)=\"LED Mogu\",RIGHT(A253,2)=\"In\"),H253*Worksheet!W279,\"\")","v":""},{"$f":"IF(Worksheet!W279=0,\"\",IF(OR(LEFT(B253,8)=\"LED Four\",LEFT(B253,8)=\"LED Tube\",LEFT(B253,8)=\"LED Mogu\",RIGHT(A253,2)=\"In\"),\"\",Worksheet!W279))","v":""},""]
[{"$f":"IF(Worksheet!K280=0,\"\",Worksheet!K280)","v":""},{"$f":"IF(Worksheet!L280=0,\"\",Worksheet!L280)","v":""},{"$f":"IF(Worksheet!M280=0,\"\",Worksheet!M280)","v":""},{"$f":"IF(Worksheet!N280=0,\"\",Worksheet!N280)","v":""},{"$f":"IF(Worksheet!P280=0,\"\",IF(OR(LEFT(B254,8)=\"LED Four\",LEFT(B254,8)=\"LED Tube\",LEFT(B254,8)=\"LED Mogu\",RIGHT(A254,2)=\"In\"),\"\",Worksheet!P280))","v":""},{"$f":"IF(Worksheet!R280=0,\"\",Worksheet!R280)","v":""},"",{"$f":"IF(Worksheet!Q280=0,\"\",Worksheet!Q280)","v":""},{"$f":"IF(OR(LEFT(B254,8)=\"LED Four\",LEFT(B254,8)=\"LED Tube\",LEFT(B254,8)=\"LED Mogu\",RIGHT(A254,2)=\"In\"),H254*Worksheet!V280,\"\")","v":""},{"$f":"IF(Worksheet!V280=0,\"\",IF(OR(LEFT(B254,8)=\"LED Four\",LEFT(B254,8)=\"LED Tube\",LEFT(B254,8)=\"LED Mogu\",RIGHT(A254,2)=\"In\"),\"\",Worksheet!V280))","v":""},"",{"$f":"IF(OR(LEFT(B254,8)=\"LED Four\",LEFT(B254,8)=\"LED Tube\",LEFT(B254,8)=\"LED Mogu\",RIGHT(A254,2)=\"In\"),H254*Worksheet!W280,\"\")","v":""},{"$f":"IF(Worksheet!W280=0,\"\",IF(OR(LEFT(B254,8)=\"LED Four\",LEFT(B254,8)=\"LED Tube\",LEFT(B254,8)=\"LED Mogu\",RIGHT(A254,2)=\"In\"),\"\",Worksheet!W280))","v":""},""]
[{"$f":"IF(Worksheet!K281=0,\"\",Worksheet!K281)","v":""},{"$f":"IF(Worksheet!L281=0,\"\",Worksheet!L281)","v":""},{"$f":"IF(Worksheet!M281=0,\"\",Worksheet!M281)","v":""},{"$f":"IF(Worksheet!N281=0,\"\",Worksheet!N281)","v":""},{"$f":"IF(Worksheet!P281=0,\"\",IF(OR(LEFT(B255,8)=\"LED Four\",LEFT(B255,8)=\"LED Tube\",LEFT(B255,8)=\"LED Mogu\",RIGHT(A255,2)=\"In\"),\"\",Worksheet!P281))","v":""},{"$f":"IF(Worksheet!R281=0,\"\",Worksheet!R281)","v":""},"",{"$f":"IF(Worksheet!Q281=0,\"\",Worksheet!Q281)","v":""},{"$f":"IF(OR(LEFT(B255,8)=\"LED Four\",LEFT(B255,8)=\"LED Tube\",LEFT(B255,8)=\"LED Mogu\",RIGHT(A255,2)=\"In\"),H255*Worksheet!V281,\"\")","v":""},{"$f":"IF(Worksheet!V281=0,\"\",IF(OR(LEFT(B255,8)=\"LED Four\",LEFT(B255,8)=\"LED Tube\",LEFT(B255,8)=\"LED Mogu\",RIGHT(A255,2)=\"In\"),\"\",Worksheet!V281))","v":""},"",{"$f":"IF(OR(LEFT(B255,8)=\"LED Four\",LEFT(B255,8)=\"LED Tube\",LEFT(B255,8)=\"LED Mogu\",RIGHT(A255,2)=\"In\"),H255*Worksheet!W281,\"\")","v":""},{"$f":"IF(Worksheet!W281=0,\"\",IF(OR(LEFT(B255,8)=\"LED Four\",LEFT(B255,8)=\"LED Tube\",LEFT(B255,8)=\"LED Mogu\",RIGHT(A255,2)=\"In\"),\"\",Worksheet!W281))","v":""},""]
[{"$f":"IF(Worksheet!K282=0,\"\",Worksheet!K282)","v":""},{"$f":"IF(Worksheet!L282=0,\"\",Worksheet!L282)","v":""},{"$f":"IF(Worksheet!M282=0,\"\",Worksheet!M282)","v":""},{"$f":"IF(Worksheet!N282=0,\"\",Worksheet!N282)","v":""},{"$f":"IF(Worksheet!P282=0,\"\",IF(OR(LEFT(B256,8)=\"LED Four\",LEFT(B256,8)=\"LED Tube\",LEFT(B256,8)=\"LED Mogu\",RIGHT(A256,2)=\"In\"),\"\",Worksheet!P282))","v":""},{"$f":"IF(Worksheet!R282=0,\"\",Worksheet!R282)","v":""},"",{"$f":"IF(Worksheet!Q282=0,\"\",Worksheet!Q282)","v":""},{"$f":"IF(OR(LEFT(B256,8)=\"LED Four\",LEFT(B256,8)=\"LED Tube\",LEFT(B256,8)=\"LED Mogu\",RIGHT(A256,2)=\"In\"),H256*Worksheet!V282,\"\")","v":""},{"$f":"IF(Worksheet!V282=0,\"\",IF(OR(LEFT(B256,8)=\"LED Four\",LEFT(B256,8)=\"LED Tube\",LEFT(B256,8)=\"LED Mogu\",RIGHT(A256,2)=\"In\"),\"\",Worksheet!V282))","v":""},"",{"$f":"IF(OR(LEFT(B256,8)=\"LED Four\",LEFT(B256,8)=\"LED Tube\",LEFT(B256,8)=\"LED Mogu\",RIGHT(A256,2)=\"In\"),H256*Worksheet!W282,\"\")","v":""},{"$f":"IF(Worksheet!W282=0,\"\",IF(OR(LEFT(B256,8)=\"LED Four\",LEFT(B256,8)=\"LED Tube\",LEFT(B256,8)=\"LED Mogu\",RIGHT(A256,2)=\"In\"),\"\",Worksheet!W282))","v":""},""]
[{"$f":"IF(Worksheet!K283=0,\"\",Worksheet!K283)","v":""},{"$f":"IF(Worksheet!L283=0,\"\",Worksheet!L283)","v":""},{"$f":"IF(Worksheet!M283=0,\"\",Worksheet!M283)","v":""},{"$f":"IF(Worksheet!N283=0,\"\",Worksheet!N283)","v":""},{"$f":"IF(Worksheet!P283=0,\"\",IF(OR(LEFT(B257,8)=\"LED Four\",LEFT(B257,8)=\"LED Tube\",LEFT(B257,8)=\"LED Mogu\",RIGHT(A257,2)=\"In\"),\"\",Worksheet!P283))","v":""},{"$f":"IF(Worksheet!R283=0,\"\",Worksheet!R283)","v":""},"",{"$f":"IF(Worksheet!Q283=0,\"\",Worksheet!Q283)","v":""},{"$f":"IF(OR(LEFT(B257,8)=\"LED Four\",LEFT(B257,8)=\"LED Tube\",LEFT(B257,8)=\"LED Mogu\",RIGHT(A257,2)=\"In\"),H257*Worksheet!V283,\"\")","v":""},{"$f":"IF(Worksheet!V283=0,\"\",IF(OR(LEFT(B257,8)=\"LED Four\",LEFT(B257,8)=\"LED Tube\",LEFT(B257,8)=\"LED Mogu\",RIGHT(A257,2)=\"In\"),\"\",Worksheet!V283))","v":""},"",{"$f":"IF(OR(LEFT(B257,8)=\"LED Four\",LEFT(B257,8)=\"LED Tube\",LEFT(B257,8)=\"LED Mogu\",RIGHT(A257,2)=\"In\"),H257*Worksheet!W283,\"\")","v":""},{"$f":"IF(Worksheet!W283=0,\"\",IF(OR(LEFT(B257,8)=\"LED Four\",LEFT(B257,8)=\"LED Tube\",LEFT(B257,8)=\"LED Mogu\",RIGHT(A257,2)=\"In\"),\"\",Worksheet!W283))","v":""},""]
[{"$f":"IF(Worksheet!K284=0,\"\",Worksheet!K284)","v":""},{"$f":"IF(Worksheet!L284=0,\"\",Worksheet!L284)","v":""},{"$f":"IF(Worksheet!M284=0,\"\",Worksheet!M284)","v":""},{"$f":"IF(Worksheet!N284=0,\"\",Worksheet!N284)","v":""},{"$f":"IF(Worksheet!P284=0,\"\",IF(OR(LEFT(B258,8)=\"LED Four\",LEFT(B258,8)=\"LED Tube\",LEFT(B258,8)=\"LED Mogu\",RIGHT(A258,2)=\"In\"),\"\",Worksheet!P284))","v":""},{"$f":"IF(Worksheet!R284=0,\"\",Worksheet!R284)","v":""},"",{"$f":"IF(Worksheet!Q284=0,\"\",Worksheet!Q284)","v":""},{"$f":"IF(OR(LEFT(B258,8)=\"LED Four\",LEFT(B258,8)=\"LED Tube\",LEFT(B258,8)=\"LED Mogu\",RIGHT(A258,2)=\"In\"),H258*Worksheet!V284,\"\")","v":""},{"$f":"IF(Worksheet!V284=0,\"\",IF(OR(LEFT(B258,8)=\"LED Four\",LEFT(B258,8)=\"LED Tube\",LEFT(B258,8)=\"LED Mogu\",RIGHT(A258,2)=\"In\"),\"\",Worksheet!V284))","v":""},"",{"$f":"IF(OR(LEFT(B258,8)=\"LED Four\",LEFT(B258,8)=\"LED Tube\",LEFT(B258,8)=\"LED Mogu\",RIGHT(A258,2)=\"In\"),H258*Worksheet!W284,\"\")","v":""},{"$f":"IF(Worksheet!W284=0,\"\",IF(OR(LEFT(B258,8)=\"LED Four\",LEFT(B258,8)=\"LED Tube\",LEFT(B258,8)=\"LED Mogu\",RIGHT(A258,2)=\"In\"),\"\",Worksheet!W284))","v":""},""]
[{"$f":"IF(Worksheet!K285=0,\"\",Worksheet!K285)","v":""},{"$f":"IF(Worksheet!L285=0,\"\",Worksheet!L285)","v":""},{"$f":"IF(Worksheet!M285=0,\"\",Worksheet!M285)","v":""},{"$f":"IF(Worksheet!N285=0,\"\",Worksheet!N285)","v":""},{"$f":"IF(Worksheet!P285=0,\"\",IF(OR(LEFT(B259,8)=\"LED Four\",LEFT(B259,8)=\"LED Tube\",LEFT(B259,8)=\"LED Mogu\",RIGHT(A259,2)=\"In\"),\"\",Worksheet!P285))","v":""},{"$f":"IF(Worksheet!R285=0,\"\",Worksheet!R285)","v":""},{"$f":"IF(MAX(E259:F259)=0,\"\",MAX(E259:F259))","v":""},{"$f":"IF(Worksheet!Q285=0,\"\",Worksheet!Q285)","v":""},{"$f":"IF(OR(LEFT(B259,8)=\"LED Four\",LEFT(B259,8)=\"LED Tube\",LEFT(B259,8)=\"LED Mogu\",RIGHT(A259,2)=\"In\"),H259*Worksheet!V285,\"\")","v":""},{"$f":"IF(Worksheet!V285=0,\"\",IF(OR(LEFT(B259,8)=\"LED Four\",LEFT(B259,8)=\"LED Tube\",LEFT(B259,8)=\"LED Mogu\",RIGHT(A259,2)=\"In\"),\"\",Worksheet!V285))","v":""},{"$f":"(IF(MAX(I259:J259)=0,\"\",MAX(I259:J259)))","v":""},{"$f":"IF(OR(LEFT(B259,8)=\"LED Four\",LEFT(B259,8)=\"LED Tube\",LEFT(B259,8)=\"LED Mogu\",RIGHT(A259,2)=\"In\"),H259*Worksheet!W285,\"\")","v":""},{"$f":"IF(Worksheet!W285=0,\"\",IF(OR(LEFT(B259,8)=\"LED Four\",LEFT(B259,8)=\"LED Tube\",LEFT(B259,8)=\"LED Mogu\",RIGHT(A259,2)=\"In\"),\"\",Worksheet!W285))","v":""},{"$f":"IF(MAX(L259:M259)=0,\"\",MAX(L259:M259))","v":""}]
[{"$f":"IF(Worksheet!K286=0,\"\",Worksheet!K286)","v":""},{"$f":"IF(Worksheet!L286=0,\"\",Worksheet!L286)","v":""},{"$f":"IF(Worksheet!M286=0,\"\",Worksheet!M286)","v":""},{"$f":"IF(Worksheet!N286=0,\"\",Worksheet!N286)","v":""},{"$f":"IF(Worksheet!P286=0,\"\",IF(OR(LEFT(B260,8)=\"LED Four\",LEFT(B260,8)=\"LED Tube\",LEFT(B260,8)=\"LED Mogu\",RIGHT(A260,2)=\"In\"),\"\",Worksheet!P286))","v":""},{"$f":"IF(Worksheet!R286=0,\"\",Worksheet!R286)","v":""},"",{"$f":"IF(Worksheet!Q286=0,\"\",Worksheet!Q286)","v":""},{"$f":"IF(OR(LEFT(B260,8)=\"LED Four\",LEFT(B260,8)=\"LED Tube\",LEFT(B260,8)=\"LED Mogu\",RIGHT(A260,2)=\"In\"),H260*Worksheet!V286,\"\")","v":""},{"$f":"IF(Worksheet!V286=0,\"\",IF(OR(LEFT(B260,8)=\"LED Four\",LEFT(B260,8)=\"LED Tube\",LEFT(B260,8)=\"LED Mogu\",RIGHT(A260,2)=\"In\"),\"\",Worksheet!V286))","v":""},"",{"$f":"IF(OR(LEFT(B260,8)=\"LED Four\",LEFT(B260,8)=\"LED Tube\",LEFT(B260,8)=\"LED Mogu\",RIGHT(A260,2)=\"In\"),H260*Worksheet!W286,\"\")","v":""},{"$f":"IF(Worksheet!W286=0,\"\",IF(OR(LEFT(B260,8)=\"LED Four\",LEFT(B260,8)=\"LED Tube\",LEFT(B260,8)=\"LED Mogu\",RIGHT(A260,2)=\"In\"),\"\",Worksheet!W286))","v":""},""]
[{"$f":"IF(Worksheet!K287=0,\"\",Worksheet!K287)","v":""},{"$f":"IF(Worksheet!L287=0,\"\",Worksheet!L287)","v":""},{"$f":"IF(Worksheet!M287=0,\"\",Worksheet!M287)","v":""},{"$f":"IF(Worksheet!N287=0,\"\",Worksheet!N287)","v":""},{"$f":"IF(Worksheet!P287=0,\"\",IF(OR(LEFT(B261,8)=\"LED Four\",LEFT(B261,8)=\"LED Tube\",LEFT(B261,8)=\"LED Mogu\",RIGHT(A261,2)=\"In\"),\"\",Worksheet!P287))","v":""},{"$f":"IF(Worksheet!R287=0,\"\",Worksheet!R287)","v":""},"",{"$f":"IF(Worksheet!Q287=0,\"\",Worksheet!Q287)","v":""},{"$f":"IF(OR(LEFT(B261,8)=\"LED Four\",LEFT(B261,8)=\"LED Tube\",LEFT(B261,8)=\"LED Mogu\",RIGHT(A261,2)=\"In\"),H261*Worksheet!V287,\"\")","v":""},{"$f":"IF(Worksheet!V287=0,\"\",IF(OR(LEFT(B261,8)=\"LED Four\",LEFT(B261,8)=\"LED Tube\",LEFT(B261,8)=\"LED Mogu\",RIGHT(A261,2)=\"In\"),\"\",Worksheet!V287))","v":""},"",{"$f":"IF(OR(LEFT(B261,8)=\"LED Four\",LEFT(B261,8)=\"LED Tube\",LEFT(B261,8)=\"LED Mogu\",RIGHT(A261,2)=\"In\"),H261*Worksheet!W287,\"\")","v":""},{"$f":"IF(Worksheet!W287=0,\"\",IF(OR(LEFT(B261,8)=\"LED Four\",LEFT(B261,8)=\"LED Tube\",LEFT(B261,8)=\"LED Mogu\",RIGHT(A261,2)=\"In\"),\"\",Worksheet!W287))","v":""},""]
[{"$f":"IF(Worksheet!K288=0,\"\",Worksheet!K288)","v":""},{"$f":"IF(Worksheet!L288=0,\"\",Worksheet!L288)","v":""},{"$f":"IF(Worksheet!M288=0,\"\",Worksheet!M288)","v":""},{"$f":"IF(Worksheet!N288=0,\"\",Worksheet!N288)","v":""},{"$f":"IF(Worksheet!P288=0,\"\",IF(OR(LEFT(B262,8)=\"LED Four\",LEFT(B262,8)=\"LED Tube\",LEFT(B262,8)=\"LED Mogu\",RIGHT(A262,2)=\"In\"),\"\",Worksheet!P288))","v":""},{"$f":"IF(Worksheet!R288=0,\"\",Worksheet!R288)","v":""},"",{"$f":"IF(Worksheet!Q288=0,\"\",Worksheet!Q288)","v":""},{"$f":"IF(OR(LEFT(B262,8)=\"LED Four\",LEFT(B262,8)=\"LED Tube\",LEFT(B262,8)=\"LED Mogu\",RIGHT(A262,2)=\"In\"),H262*Worksheet!V288,\"\")","v":""},{"$f":"IF(Worksheet!V288=0,\"\",IF(OR(LEFT(B262,8)=\"LED Four\",LEFT(B262,8)=\"LED Tube\",LEFT(B262,8)=\"LED Mogu\",RIGHT(A262,2)=\"In\"),\"\",Worksheet!V288))","v":""},"",{"$f":"IF(OR(LEFT(B262,8)=\"LED Four\",LEFT(B262,8)=\"LED Tube\",LEFT(B262,8)=\"LED Mogu\",RIGHT(A262,2)=\"In\"),H262*Worksheet!W288,\"\")","v":""},{"$f":"IF(Worksheet!W288=0,\"\",IF(OR(LEFT(B262,8)=\"LED Four\",LEFT(B262,8)=\"LED Tube\",LEFT(B262,8)=\"LED Mogu\",RIGHT(A262,2)=\"In\"),\"\",Worksheet!W288))","v":""},""]
[{"$f":"IF(Worksheet!K289=0,\"\",Worksheet!K289)","v":""},{"$f":"IF(Worksheet!L289=0,\"\",Worksheet!L289)","v":""},{"$f":"IF(Worksheet!M289=0,\"\",Worksheet!M289)","v":""},{"$f":"IF(Worksheet!N289=0,\"\",Worksheet!N289)","v":""},{"$f":"IF(Worksheet!P289=0,\"\",IF(OR(LEFT(B263,8)=\"LED Four\",LEFT(B263,8)=\"LED Tube\",LEFT(B263,8)=\"LED Mogu\",RIGHT(A263,2)=\"In\"),\"\",Worksheet!P289))","v":""},{"$f":"IF(Worksheet!R289=0,\"\",Worksheet!R289)","v":""},"",{"$f":"IF(Worksheet!Q289=0,\"\",Worksheet!Q289)","v":""},{"$f":"IF(OR(LEFT(B263,8)=\"LED Four\",LEFT(B263,8)=\"LED Tube\",LEFT(B263,8)=\"LED Mogu\",RIGHT(A263,2)=\"In\"),H263*Worksheet!V289,\"\")","v":""},{"$f":"IF(Worksheet!V289=0,\"\",IF(OR(LEFT(B263,8)=\"LED Four\",LEFT(B263,8)=\"LED Tube\",LEFT(B263,8)=\"LED Mogu\",RIGHT(A263,2)=\"In\"),\"\",Worksheet!V289))","v":""},"",{"$f":"IF(OR(LEFT(B263,8)=\"LED Four\",LEFT(B263,8)=\"LED Tube\",LEFT(B263,8)=\"LED Mogu\",RIGHT(A263,2)=\"In\"),H263*Worksheet!W289,\"\")","v":""},{"$f":"IF(Worksheet!W289=0,\"\",IF(OR(LEFT(B263,8)=\"LED Four\",LEFT(B263,8)=\"LED Tube\",LEFT(B263,8)=\"LED Mogu\",RIGHT(A263,2)=\"In\"),\"\",Worksheet!W289))","v":""},""]
[{"$f":"IF(Worksheet!K290=0,\"\",Worksheet!K290)","v":""},{"$f":"IF(Worksheet!L290=0,\"\",Worksheet!L290)","v":""},{"$f":"IF(Worksheet!M290=0,\"\",Worksheet!M290)","v":""},{"$f":"IF(Worksheet!N290=0,\"\",Worksheet!N290)","v":""},{"$f":"IF(Worksheet!P290=0,\"\",IF(OR(LEFT(B264,8)=\"LED Four\",LEFT(B264,8)=\"LED Tube\",LEFT(B264,8)=\"LED Mogu\",RIGHT(A264,2)=\"In\"),\"\",Worksheet!P290))","v":""},{"$f":"IF(Worksheet!R290=0,\"\",Worksheet!R290)","v":""},"",{"$f":"IF(Worksheet!Q290=0,\"\",Worksheet!Q290)","v":""},{"$f":"IF(OR(LEFT(B264,8)=\"LED Four\",LEFT(B264,8)=\"LED Tube\",LEFT(B264,8)=\"LED Mogu\",RIGHT(A264,2)=\"In\"),H264*Worksheet!V290,\"\")","v":""},{"$f":"IF(Worksheet!V290=0,\"\",IF(OR(LEFT(B264,8)=\"LED Four\",LEFT(B264,8)=\"LED Tube\",LEFT(B264,8)=\"LED Mogu\",RIGHT(A264,2)=\"In\"),\"\",Worksheet!V290))","v":""},"",{"$f":"IF(OR(LEFT(B264,8)=\"LED Four\",LEFT(B264,8)=\"LED Tube\",LEFT(B264,8)=\"LED Mogu\",RIGHT(A264,2)=\"In\"),H264*Worksheet!W290,\"\")","v":""},{"$f":"IF(Worksheet!W290=0,\"\",IF(OR(LEFT(B264,8)=\"LED Four\",LEFT(B264,8)=\"LED Tube\",LEFT(B264,8)=\"LED Mogu\",RIGHT(A264,2)=\"In\"),\"\",Worksheet!W290))","v":""},""]
[{"$f":"IF(Worksheet!K291=0,\"\",Worksheet!K291)","v":""},{"$f":"IF(Worksheet!L291=0,\"\",Worksheet!L291)","v":""},{"$f":"IF(Worksheet!M291=0,\"\",Worksheet!M291)","v":""},{"$f":"IF(Worksheet!N291=0,\"\",Worksheet!N291)","v":""},{"$f":"IF(Worksheet!P291=0,\"\",IF(OR(LEFT(B265,8)=\"LED Four\",LEFT(B265,8)=\"LED Tube\",LEFT(B265,8)=\"LED Mogu\",RIGHT(A265,2)=\"In\"),\"\",Worksheet!P291))","v":""},{"$f":"IF(Worksheet!R291=0,\"\",Worksheet!R291)","v":""},"",{"$f":"IF(Worksheet!Q291=0,\"\",Worksheet!Q291)","v":""},{"$f":"IF(OR(LEFT(B265,8)=\"LED Four\",LEFT(B265,8)=\"LED Tube\",LEFT(B265,8)=\"LED Mogu\",RIGHT(A265,2)=\"In\"),H265*Worksheet!V291,\"\")","v":""},{"$f":"IF(Worksheet!V291=0,\"\",IF(OR(LEFT(B265,8)=\"LED Four\",LEFT(B265,8)=\"LED Tube\",LEFT(B265,8)=\"LED Mogu\",RIGHT(A265,2)=\"In\"),\"\",Worksheet!V291))","v":""},"",{"$f":"IF(OR(LEFT(B265,8)=\"LED Four\",LEFT(B265,8)=\"LED Tube\",LEFT(B265,8)=\"LED Mogu\",RIGHT(A265,2)=\"In\"),H265*Worksheet!W291,\"\")","v":""},{"$f":"IF(Worksheet!W291=0,\"\",IF(OR(LEFT(B265,8)=\"LED Four\",LEFT(B265,8)=\"LED Tube\",LEFT(B265,8)=\"LED Mogu\",RIGHT(A265,2)=\"In\"),\"\",Worksheet!W291))","v":""},""]
[{"$f":"IF(Worksheet!K292=0,\"\",Worksheet!K292)","v":""},{"$f":"IF(Worksheet!L292=0,\"\",Worksheet!L292)","v":""},{"$f":"IF(Worksheet!M292=0,\"\",Worksheet!M292)","v":""},{"$f":"IF(Worksheet!N292=0,\"\",Worksheet!N292)","v":""},{"$f":"IF(Worksheet!P292=0,\"\",IF(OR(LEFT(B266,8)=\"LED Four\",LEFT(B266,8)=\"LED Tube\",LEFT(B266,8)=\"LED Mogu\",RIGHT(A266,2)=\"In\"),\"\",Worksheet!P292))","v":""},{"$f":"IF(Worksheet!R292=0,\"\",Worksheet!R292)","v":""},"",{"$f":"IF(Worksheet!Q292=0,\"\",Worksheet!Q292)","v":""},{"$f":"IF(OR(LEFT(B266,8)=\"LED Four\",LEFT(B266,8)=\"LED Tube\",LEFT(B266,8)=\"LED Mogu\",RIGHT(A266,2)=\"In\"),H266*Worksheet!V292,\"\")","v":""},{"$f":"IF(Worksheet!V292=0,\"\",IF(OR(LEFT(B266,8)=\"LED Four\",LEFT(B266,8)=\"LED Tube\",LEFT(B266,8)=\"LED Mogu\",RIGHT(A266,2)=\"In\"),\"\",Worksheet!V292))","v":""},"",{"$f":"IF(OR(LEFT(B266,8)=\"LED Four\",LEFT(B266,8)=\"LED Tube\",LEFT(B266,8)=\"LED Mogu\",RIGHT(A266,2)=\"In\"),H266*Worksheet!W292,\"\")","v":""},{"$f":"IF(Worksheet!W292=0,\"\",IF(OR(LEFT(B266,8)=\"LED Four\",LEFT(B266,8)=\"LED Tube\",LEFT(B266,8)=\"LED Mogu\",RIGHT(A266,2)=\"In\"),\"\",Worksheet!W292))","v":""},""]
[{"$f":"IF(Worksheet!K293=0,\"\",Worksheet!K293)","v":""},{"$f":"IF(Worksheet!L293=0,\"\",Worksheet!L293)","v":""},{"$f":"IF(Worksheet!M293=0,\"\",Worksheet!M293)","v":""},{"$f":"IF(Worksheet!N293=0,\"\",Worksheet!N293)","v":""},{"$f":"IF(Worksheet!P293=0,\"\",IF(OR(LEFT(B267,8)=\"LED Four\",LEFT(B267,8)=\"LED Tube\",LEFT(B267,8)=\"LED Mogu\",RIGHT(A267,2)=\"In\"),\"\",Worksheet!P293))","v":""},{"$f":"IF(Worksheet!R293=0,\"\",Worksheet!R293)","v":""},"",{"$f":"IF(Worksheet!Q293=0,\"\",Worksheet!Q293)","v":""},{"$f":"IF(OR(LEFT(B267,8)=\"LED Four\",LEFT(B267,8)=\"LED Tube\",LEFT(B267,8)=\"LED Mogu\",RIGHT(A267,2)=\"In\"),H267*Worksheet!V293,\"\")","v":""},{"$f":"IF(Worksheet!V293=0,\"\",IF(OR(LEFT(B267,8)=\"LED Four\",LEFT(B267,8)=\"LED Tube\",LEFT(B267,8)=\"LED Mogu\",RIGHT(A267,2)=\"In\"),\"\",Worksheet!V293))","v":""},"",{"$f":"IF(OR(LEFT(B267,8)=\"LED Four\",LEFT(B267,8)=\"LED Tube\",LEFT(B267,8)=\"LED Mogu\",RIGHT(A267,2)=\"In\"),H267*Worksheet!W293,\"\")","v":""},{"$f":"IF(Worksheet!W293=0,\"\",IF(OR(LEFT(B267,8)=\"LED Four\",LEFT(B267,8)=\"LED Tube\",LEFT(B267,8)=\"LED Mogu\",RIGHT(A267,2)=\"In\"),\"\",Worksheet!W293))","v":""},""]
[{"$f":"IF(Worksheet!K294=0,\"\",Worksheet!K294)","v":""},{"$f":"IF(Worksheet!L294=0,\"\",Worksheet!L294)","v":""},{"$f":"IF(Worksheet!M294=0,\"\",Worksheet!M294)","v":""},{"$f":"IF(Worksheet!N294=0,\"\",Worksheet!N294)","v":""},{"$f":"IF(Worksheet!P294=0,\"\",IF(OR(LEFT(B268,8)=\"LED Four\",LEFT(B268,8)=\"LED Tube\",LEFT(B268,8)=\"LED Mogu\",RIGHT(A268,2)=\"In\"),\"\",Worksheet!P294))","v":""},{"$f":"IF(Worksheet!R294=0,\"\",Worksheet!R294)","v":""},"",{"$f":"IF(Worksheet!Q294=0,\"\",Worksheet!Q294)","v":""},{"$f":"IF(OR(LEFT(B268,8)=\"LED Four\",LEFT(B268,8)=\"LED Tube\",LEFT(B268,8)=\"LED Mogu\",RIGHT(A268,2)=\"In\"),H268*Worksheet!V294,\"\")","v":""},{"$f":"IF(Worksheet!V294=0,\"\",IF(OR(LEFT(B268,8)=\"LED Four\",LEFT(B268,8)=\"LED Tube\",LEFT(B268,8)=\"LED Mogu\",RIGHT(A268,2)=\"In\"),\"\",Worksheet!V294))","v":""},"",{"$f":"IF(OR(LEFT(B268,8)=\"LED Four\",LEFT(B268,8)=\"LED Tube\",LEFT(B268,8)=\"LED Mogu\",RIGHT(A268,2)=\"In\"),H268*Worksheet!W294,\"\")","v":""},{"$f":"IF(Worksheet!W294=0,\"\",IF(OR(LEFT(B268,8)=\"LED Four\",LEFT(B268,8)=\"LED Tube\",LEFT(B268,8)=\"LED Mogu\",RIGHT(A268,2)=\"In\"),\"\",Worksheet!W294))","v":""},""]
[{"$f":"IF(Worksheet!K295=0,\"\",Worksheet!K295)","v":""},{"$f":"IF(Worksheet!L295=0,\"\",Worksheet!L295)","v":""},{"$f":"IF(Worksheet!M295=0,\"\",Worksheet!M295)","v":""},{"$f":"IF(Worksheet!N295=0,\"\",Worksheet!N295)","v":""},{"$f":"IF(Worksheet!P295=0,\"\",IF(OR(LEFT(B269,8)=\"LED Four\",LEFT(B269,8)=\"LED Tube\",LEFT(B269,8)=\"LED Mogu\",RIGHT(A269,2)=\"In\"),\"\",Worksheet!P295))","v":""},{"$f":"IF(Worksheet!R295=0,\"\",Worksheet!R295)","v":""},"",{"$f":"IF(Worksheet!Q295=0,\"\",Worksheet!Q295)","v":""},{"$f":"IF(OR(LEFT(B269,8)=\"LED Four\",LEFT(B269,8)=\"LED Tube\",LEFT(B269,8)=\"LED Mogu\",RIGHT(A269,2)=\"In\"),H269*Worksheet!V295,\"\")","v":""},{"$f":"IF(Worksheet!V295=0,\"\",IF(OR(LEFT(B269,8)=\"LED Four\",LEFT(B269,8)=\"LED Tube\",LEFT(B269,8)=\"LED Mogu\",RIGHT(A269,2)=\"In\"),\"\",Worksheet!V295))","v":""},"",{"$f":"IF(OR(LEFT(B269,8)=\"LED Four\",LEFT(B269,8)=\"LED Tube\",LEFT(B269,8)=\"LED Mogu\",RIGHT(A269,2)=\"In\"),H269*Worksheet!W295,\"\")","v":""},{"$f":"IF(Worksheet!W295=0,\"\",IF(OR(LEFT(B269,8)=\"LED Four\",LEFT(B269,8)=\"LED Tube\",LEFT(B269,8)=\"LED Mogu\",RIGHT(A269,2)=\"In\"),\"\",Worksheet!W295))","v":""},""]
[{"$f":"IF(Worksheet!K296=0,\"\",Worksheet!K296)","v":""},{"$f":"IF(Worksheet!L296=0,\"\",Worksheet!L296)","v":""},{"$f":"IF(Worksheet!M296=0,\"\",Worksheet!M296)","v":""},{"$f":"IF(Worksheet!N296=0,\"\",Worksheet!N296)","v":""},{"$f":"IF(Worksheet!P296=0,\"\",IF(OR(LEFT(B270,8)=\"LED Four\",LEFT(B270,8)=\"LED Tube\",LEFT(B270,8)=\"LED Mogu\",RIGHT(A270,2)=\"In\"),\"\",Worksheet!P296))","v":""},{"$f":"IF(Worksheet!R296=0,\"\",Worksheet!R296)","v":""},"",{"$f":"IF(Worksheet!Q296=0,\"\",Worksheet!Q296)","v":""},{"$f":"IF(OR(LEFT(B270,8)=\"LED Four\",LEFT(B270,8)=\"LED Tube\",LEFT(B270,8)=\"LED Mogu\",RIGHT(A270,2)=\"In\"),H270*Worksheet!V296,\"\")","v":""},{"$f":"IF(Worksheet!V296=0,\"\",IF(OR(LEFT(B270,8)=\"LED Four\",LEFT(B270,8)=\"LED Tube\",LEFT(B270,8)=\"LED Mogu\",RIGHT(A270,2)=\"In\"),\"\",Worksheet!V296))","v":""},"",{"$f":"IF(OR(LEFT(B270,8)=\"LED Four\",LEFT(B270,8)=\"LED Tube\",LEFT(B270,8)=\"LED Mogu\",RIGHT(A270,2)=\"In\"),H270*Worksheet!W296,\"\")","v":""},{"$f":"IF(Worksheet!W296=0,\"\",IF(OR(LEFT(B270,8)=\"LED Four\",LEFT(B270,8)=\"LED Tube\",LEFT(B270,8)=\"LED Mogu\",RIGHT(A270,2)=\"In\"),\"\",Worksheet!W296))","v":""},""]
[{"$f":"IF(Worksheet!K297=0,\"\",Worksheet!K297)","v":""},{"$f":"IF(Worksheet!L297=0,\"\",Worksheet!L297)","v":""},{"$f":"IF(Worksheet!M297=0,\"\",Worksheet!M297)","v":""},{"$f":"IF(Worksheet!N297=0,\"\",Worksheet!N297)","v":""},{"$f":"IF(Worksheet!P297=0,\"\",IF(OR(LEFT(B271,8)=\"LED Four\",LEFT(B271,8)=\"LED Tube\",LEFT(B271,8)=\"LED Mogu\",RIGHT(A271,2)=\"In\"),\"\",Worksheet!P297))","v":""},{"$f":"IF(Worksheet!R297=0,\"\",Worksheet!R297)","v":""},"",{"$f":"IF(Worksheet!Q297=0,\"\",Worksheet!Q297)","v":""},{"$f":"IF(OR(LEFT(B271,8)=\"LED Four\",LEFT(B271,8)=\"LED Tube\",LEFT(B271,8)=\"LED Mogu\",RIGHT(A271,2)=\"In\"),H271*Worksheet!V297,\"\")","v":""},{"$f":"IF(Worksheet!V297=0,\"\",IF(OR(LEFT(B271,8)=\"LED Four\",LEFT(B271,8)=\"LED Tube\",LEFT(B271,8)=\"LED Mogu\",RIGHT(A271,2)=\"In\"),\"\",Worksheet!V297))","v":""},"",{"$f":"IF(OR(LEFT(B271,8)=\"LED Four\",LEFT(B271,8)=\"LED Tube\",LEFT(B271,8)=\"LED Mogu\",RIGHT(A271,2)=\"In\"),H271*Worksheet!W297,\"\")","v":""},{"$f":"IF(Worksheet!W297=0,\"\",IF(OR(LEFT(B271,8)=\"LED Four\",LEFT(B271,8)=\"LED Tube\",LEFT(B271,8)=\"LED Mogu\",RIGHT(A271,2)=\"In\"),\"\",Worksheet!W297))","v":""},""]
[{"$f":"IF(Worksheet!K298=0,\"\",Worksheet!K298)","v":""},{"$f":"IF(Worksheet!L298=0,\"\",Worksheet!L298)","v":""},{"$f":"IF(Worksheet!M298=0,\"\",Worksheet!M298)","v":""},{"$f":"IF(Worksheet!N298=0,\"\",Worksheet!N298)","v":""},{"$f":"IF(Worksheet!P298=0,\"\",IF(OR(LEFT(B272,8)=\"LED Four\",LEFT(B272,8)=\"LED Tube\",LEFT(B272,8)=\"LED Mogu\",RIGHT(A272,2)=\"In\"),\"\",Worksheet!P298))","v":""},{"$f":"IF(Worksheet!R298=0,\"\",Worksheet!R298)","v":""},"",{"$f":"IF(Worksheet!Q298=0,\"\",Worksheet!Q298)","v":""},{"$f":"IF(OR(LEFT(B272,8)=\"LED Four\",LEFT(B272,8)=\"LED Tube\",LEFT(B272,8)=\"LED Mogu\",RIGHT(A272,2)=\"In\"),H272*Worksheet!V298,\"\")","v":""},{"$f":"IF(Worksheet!V298=0,\"\",IF(OR(LEFT(B272,8)=\"LED Four\",LEFT(B272,8)=\"LED Tube\",LEFT(B272,8)=\"LED Mogu\",RIGHT(A272,2)=\"In\"),\"\",Worksheet!V298))","v":""},"",{"$f":"IF(OR(LEFT(B272,8)=\"LED Four\",LEFT(B272,8)=\"LED Tube\",LEFT(B272,8)=\"LED Mogu\",RIGHT(A272,2)=\"In\"),H272*Worksheet!W298,\"\")","v":""},{"$f":"IF(Worksheet!W298=0,\"\",IF(OR(LEFT(B272,8)=\"LED Four\",LEFT(B272,8)=\"LED Tube\",LEFT(B272,8)=\"LED Mogu\",RIGHT(A272,2)=\"In\"),\"\",Worksheet!W298))","v":""},""]
[{"$f":"IF(Worksheet!K299=0,\"\",Worksheet!K299)","v":""},{"$f":"IF(Worksheet!L299=0,\"\",Worksheet!L299)","v":""},{"$f":"IF(Worksheet!M299=0,\"\",Worksheet!M299)","v":""},{"$f":"IF(Worksheet!N299=0,\"\",Worksheet!N299)","v":""},{"$f":"IF(Worksheet!P299=0,\"\",IF(OR(LEFT(B273,8)=\"LED Four\",LEFT(B273,8)=\"LED Tube\",LEFT(B273,8)=\"LED Mogu\",RIGHT(A273,2)=\"In\"),\"\",Worksheet!P299))","v":""},{"$f":"IF(Worksheet!R299=0,\"\",Worksheet!R299)","v":""},"",{"$f":"IF(Worksheet!Q299=0,\"\",Worksheet!Q299)","v":""},{"$f":"IF(OR(LEFT(B273,8)=\"LED Four\",LEFT(B273,8)=\"LED Tube\",LEFT(B273,8)=\"LED Mogu\",RIGHT(A273,2)=\"In\"),H273*Worksheet!V299,\"\")","v":""},{"$f":"IF(Worksheet!V299=0,\"\",IF(OR(LEFT(B273,8)=\"LED Four\",LEFT(B273,8)=\"LED Tube\",LEFT(B273,8)=\"LED Mogu\",RIGHT(A273,2)=\"In\"),\"\",Worksheet!V299))","v":""},"",{"$f":"IF(OR(LEFT(B273,8)=\"LED Four\",LEFT(B273,8)=\"LED Tube\",LEFT(B273,8)=\"LED Mogu\",RIGHT(A273,2)=\"In\"),H273*Worksheet!W299,\"\")","v":""},{"$f":"IF(Worksheet!W299=0,\"\",IF(OR(LEFT(B273,8)=\"LED Four\",LEFT(B273,8)=\"LED Tube\",LEFT(B273,8)=\"LED Mogu\",RIGHT(A273,2)=\"In\"),\"\",Worksheet!W299))","v":""},""]
[{"$f":"IF(Worksheet!K300=0,\"\",Worksheet!K300)","v":""},{"$f":"IF(Worksheet!L300=0,\"\",Worksheet!L300)","v":""},{"$f":"IF(Worksheet!M300=0,\"\",Worksheet!M300)","v":""},{"$f":"IF(Worksheet!N300=0,\"\",Worksheet!N300)","v":""},{"$f":"IF(Worksheet!P300=0,\"\",IF(OR(LEFT(B274,8)=\"LED Four\",LEFT(B274,8)=\"LED Tube\",LEFT(B274,8)=\"LED Mogu\",RIGHT(A274,2)=\"In\"),\"\",Worksheet!P300))","v":""},{"$f":"IF(Worksheet!R300=0,\"\",Worksheet!R300)","v":""},"",{"$f":"IF(Worksheet!Q300=0,\"\",Worksheet!Q300)","v":""},{"$f":"IF(OR(LEFT(B274,8)=\"LED Four\",LEFT(B274,8)=\"LED Tube\",LEFT(B274,8)=\"LED Mogu\",RIGHT(A274,2)=\"In\"),H274*Worksheet!V300,\"\")","v":""},{"$f":"IF(Worksheet!V300=0,\"\",IF(OR(LEFT(B274,8)=\"LED Four\",LEFT(B274,8)=\"LED Tube\",LEFT(B274,8)=\"LED Mogu\",RIGHT(A274,2)=\"In\"),\"\",Worksheet!V300))","v":""},"",{"$f":"IF(OR(LEFT(B274,8)=\"LED Four\",LEFT(B274,8)=\"LED Tube\",LEFT(B274,8)=\"LED Mogu\",RIGHT(A274,2)=\"In\"),H274*Worksheet!W300,\"\")","v":""},{"$f":"IF(Worksheet!W300=0,\"\",IF(OR(LEFT(B274,8)=\"LED Four\",LEFT(B274,8)=\"LED Tube\",LEFT(B274,8)=\"LED Mogu\",RIGHT(A274,2)=\"In\"),\"\",Worksheet!W300))","v":""},""]
[{"$f":"IF(Worksheet!K301=0,\"\",Worksheet!K301)","v":""},{"$f":"IF(Worksheet!L301=0,\"\",Worksheet!L301)","v":""},{"$f":"IF(Worksheet!M301=0,\"\",Worksheet!M301)","v":""},{"$f":"IF(Worksheet!N301=0,\"\",Worksheet!N301)","v":""},{"$f":"IF(Worksheet!P301=0,\"\",IF(OR(LEFT(B275,8)=\"LED Four\",LEFT(B275,8)=\"LED Tube\",LEFT(B275,8)=\"LED Mogu\",RIGHT(A275,2)=\"In\"),\"\",Worksheet!P301))","v":""},{"$f":"IF(Worksheet!R301=0,\"\",Worksheet!R301)","v":""},"",{"$f":"IF(Worksheet!Q301=0,\"\",Worksheet!Q301)","v":""},{"$f":"IF(OR(LEFT(B275,8)=\"LED Four\",LEFT(B275,8)=\"LED Tube\",LEFT(B275,8)=\"LED Mogu\",RIGHT(A275,2)=\"In\"),H275*Worksheet!V301,\"\")","v":""},{"$f":"IF(Worksheet!V301=0,\"\",IF(OR(LEFT(B275,8)=\"LED Four\",LEFT(B275,8)=\"LED Tube\",LEFT(B275,8)=\"LED Mogu\",RIGHT(A275,2)=\"In\"),\"\",Worksheet!V301))","v":""},"",{"$f":"IF(OR(LEFT(B275,8)=\"LED Four\",LEFT(B275,8)=\"LED Tube\",LEFT(B275,8)=\"LED Mogu\",RIGHT(A275,2)=\"In\"),H275*Worksheet!W301,\"\")","v":""},{"$f":"IF(Worksheet!W301=0,\"\",IF(OR(LEFT(B275,8)=\"LED Four\",LEFT(B275,8)=\"LED Tube\",LEFT(B275,8)=\"LED Mogu\",RIGHT(A275,2)=\"In\"),\"\",Worksheet!W301))","v":""},""]
[{"$f":"IF(Worksheet!K302=0,\"\",Worksheet!K302)","v":""},{"$f":"IF(Worksheet!L302=0,\"\",Worksheet!L302)","v":""},{"$f":"IF(Worksheet!M302=0,\"\",Worksheet!M302)","v":""},{"$f":"IF(Worksheet!N302=0,\"\",Worksheet!N302)","v":""},{"$f":"IF(Worksheet!P302=0,\"\",IF(OR(LEFT(B276,8)=\"LED Four\",LEFT(B276,8)=\"LED Tube\",LEFT(B276,8)=\"LED Mogu\",RIGHT(A276,2)=\"In\"),\"\",Worksheet!P302))","v":""},{"$f":"IF(Worksheet!R302=0,\"\",Worksheet!R302)","v":""},"",{"$f":"IF(Worksheet!Q302=0,\"\",Worksheet!Q302)","v":""},{"$f":"IF(OR(LEFT(B276,8)=\"LED Four\",LEFT(B276,8)=\"LED Tube\",LEFT(B276,8)=\"LED Mogu\",RIGHT(A276,2)=\"In\"),H276*Worksheet!V302,\"\")","v":""},{"$f":"IF(Worksheet!V302=0,\"\",IF(OR(LEFT(B276,8)=\"LED Four\",LEFT(B276,8)=\"LED Tube\",LEFT(B276,8)=\"LED Mogu\",RIGHT(A276,2)=\"In\"),\"\",Worksheet!V302))","v":""},"",{"$f":"IF(OR(LEFT(B276,8)=\"LED Four\",LEFT(B276,8)=\"LED Tube\",LEFT(B276,8)=\"LED Mogu\",RIGHT(A276,2)=\"In\"),H276*Worksheet!W302,\"\")","v":""},{"$f":"IF(Worksheet!W302=0,\"\",IF(OR(LEFT(B276,8)=\"LED Four\",LEFT(B276,8)=\"LED Tube\",LEFT(B276,8)=\"LED Mogu\",RIGHT(A276,2)=\"In\"),\"\",Worksheet!W302))","v":""},""]
[{"$f":"IF(Worksheet!K303=0,\"\",Worksheet!K303)","v":""},{"$f":"IF(Worksheet!L303=0,\"\",Worksheet!L303)","v":""},{"$f":"IF(Worksheet!M303=0,\"\",Worksheet!M303)","v":""},{"$f":"IF(Worksheet!N303=0,\"\",Worksheet!N303)","v":""},{"$f":"IF(Worksheet!P303=0,\"\",IF(OR(LEFT(B277,8)=\"LED Four\",LEFT(B277,8)=\"LED Tube\",LEFT(B277,8)=\"LED Mogu\",RIGHT(A277,2)=\"In\"),\"\",Worksheet!P303))","v":""},{"$f":"IF(Worksheet!R303=0,\"\",Worksheet!R303)","v":""},"",{"$f":"IF(Worksheet!Q303=0,\"\",Worksheet!Q303)","v":""},{"$f":"IF(OR(LEFT(B277,8)=\"LED Four\",LEFT(B277,8)=\"LED Tube\",LEFT(B277,8)=\"LED Mogu\",RIGHT(A277,2)=\"In\"),H277*Worksheet!V303,\"\")","v":""},{"$f":"IF(Worksheet!V303=0,\"\",IF(OR(LEFT(B277,8)=\"LED Four\",LEFT(B277,8)=\"LED Tube\",LEFT(B277,8)=\"LED Mogu\",RIGHT(A277,2)=\"In\"),\"\",Worksheet!V303))","v":""},"",{"$f":"IF(OR(LEFT(B277,8)=\"LED Four\",LEFT(B277,8)=\"LED Tube\",LEFT(B277,8)=\"LED Mogu\",RIGHT(A277,2)=\"In\"),H277*Worksheet!W303,\"\")","v":""},{"$f":"IF(Worksheet!W303=0,\"\",IF(OR(LEFT(B277,8)=\"LED Four\",LEFT(B277,8)=\"LED Tube\",LEFT(B277,8)=\"LED Mogu\",RIGHT(A277,2)=\"In\"),\"\",Worksheet!W303))","v":""},""]
[{"$f":"IF(Worksheet!K304=0,\"\",Worksheet!K304)","v":""},{"$f":"IF(Worksheet!L304=0,\"\",Worksheet!L304)","v":""},{"$f":"IF(Worksheet!M304=0,\"\",Worksheet!M304)","v":""},{"$f":"IF(Worksheet!N304=0,\"\",Worksheet!N304)","v":""},{"$f":"IF(Worksheet!P304=0,\"\",IF(OR(LEFT(B278,8)=\"LED Four\",LEFT(B278,8)=\"LED Tube\",LEFT(B278,8)=\"LED Mogu\",RIGHT(A278,2)=\"In\"),\"\",Worksheet!P304))","v":""},{"$f":"IF(Worksheet!R304=0,\"\",Worksheet!R304)","v":""},"",{"$f":"IF(Worksheet!Q304=0,\"\",Worksheet!Q304)","v":""},{"$f":"IF(OR(LEFT(B278,8)=\"LED Four\",LEFT(B278,8)=\"LED Tube\",LEFT(B278,8)=\"LED Mogu\",RIGHT(A278,2)=\"In\"),H278*Worksheet!V304,\"\")","v":""},{"$f":"IF(Worksheet!V304=0,\"\",IF(OR(LEFT(B278,8)=\"LED Four\",LEFT(B278,8)=\"LED Tube\",LEFT(B278,8)=\"LED Mogu\",RIGHT(A278,2)=\"In\"),\"\",Worksheet!V304))","v":""},"",{"$f":"IF(OR(LEFT(B278,8)=\"LED Four\",LEFT(B278,8)=\"LED Tube\",LEFT(B278,8)=\"LED Mogu\",RIGHT(A278,2)=\"In\"),H278*Worksheet!W304,\"\")","v":""},{"$f":"IF(Worksheet!W304=0,\"\",IF(OR(LEFT(B278,8)=\"LED Four\",LEFT(B278,8)=\"LED Tube\",LEFT(B278,8)=\"LED Mogu\",RIGHT(A278,2)=\"In\"),\"\",Worksheet!W304))","v":""},""]
[{"$f":"IF(Worksheet!K305=0,\"\",Worksheet!K305)","v":""},{"$f":"IF(Worksheet!L305=0,\"\",Worksheet!L305)","v":""},{"$f":"IF(Worksheet!M305=0,\"\",Worksheet!M305)","v":""},{"$f":"IF(Worksheet!N305=0,\"\",Worksheet!N305)","v":""},{"$f":"IF(Worksheet!P305=0,\"\",IF(OR(LEFT(B279,8)=\"LED Four\",LEFT(B279,8)=\"LED Tube\",LEFT(B279,8)=\"LED Mogu\",RIGHT(A279,2)=\"In\"),\"\",Worksheet!P305))","v":""},{"$f":"IF(Worksheet!R305=0,\"\",Worksheet!R305)","v":""},"",{"$f":"IF(Worksheet!Q305=0,\"\",Worksheet!Q305)","v":""},{"$f":"IF(OR(LEFT(B279,8)=\"LED Four\",LEFT(B279,8)=\"LED Tube\",LEFT(B279,8)=\"LED Mogu\",RIGHT(A279,2)=\"In\"),H279*Worksheet!V305,\"\")","v":""},{"$f":"IF(Worksheet!V305=0,\"\",IF(OR(LEFT(B279,8)=\"LED Four\",LEFT(B279,8)=\"LED Tube\",LEFT(B279,8)=\"LED Mogu\",RIGHT(A279,2)=\"In\"),\"\",Worksheet!V305))","v":""},"",{"$f":"IF(OR(LEFT(B279,8)=\"LED Four\",LEFT(B279,8)=\"LED Tube\",LEFT(B279,8)=\"LED Mogu\",RIGHT(A279,2)=\"In\"),H279*Worksheet!W305,\"\")","v":""},{"$f":"IF(Worksheet!W305=0,\"\",IF(OR(LEFT(B279,8)=\"LED Four\",LEFT(B279,8)=\"LED Tube\",LEFT(B279,8)=\"LED Mogu\",RIGHT(A279,2)=\"In\"),\"\",Worksheet!W305))","v":""},""]
[{"$f":"IF(Worksheet!K306=0,\"\",Worksheet!K306)","v":""},{"$f":"IF(Worksheet!L306=0,\"\",Worksheet!L306)","v":""},{"$f":"IF(Worksheet!M306=0,\"\",Worksheet!M306)","v":""},{"$f":"IF(Worksheet!N306=0,\"\",Worksheet!N306)","v":""},{"$f":"IF(Worksheet!P306=0,\"\",IF(OR(LEFT(B280,8)=\"LED Four\",LEFT(B280,8)=\"LED Tube\",LEFT(B280,8)=\"LED Mogu\",RIGHT(A280,2)=\"In\"),\"\",Worksheet!P306))","v":""},{"$f":"IF(Worksheet!R306=0,\"\",Worksheet!R306)","v":""},"",{"$f":"IF(Worksheet!Q306=0,\"\",Worksheet!Q306)","v":""},{"$f":"IF(OR(LEFT(B280,8)=\"LED Four\",LEFT(B280,8)=\"LED Tube\",LEFT(B280,8)=\"LED Mogu\",RIGHT(A280,2)=\"In\"),H280*Worksheet!V306,\"\")","v":""},{"$f":"IF(Worksheet!V306=0,\"\",IF(OR(LEFT(B280,8)=\"LED Four\",LEFT(B280,8)=\"LED Tube\",LEFT(B280,8)=\"LED Mogu\",RIGHT(A280,2)=\"In\"),\"\",Worksheet!V306))","v":""},"",{"$f":"IF(OR(LEFT(B280,8)=\"LED Four\",LEFT(B280,8)=\"LED Tube\",LEFT(B280,8)=\"LED Mogu\",RIGHT(A280,2)=\"In\"),H280*Worksheet!W306,\"\")","v":""},{"$f":"IF(Worksheet!W306=0,\"\",IF(OR(LEFT(B280,8)=\"LED Four\",LEFT(B280,8)=\"LED Tube\",LEFT(B280,8)=\"LED Mogu\",RIGHT(A280,2)=\"In\"),\"\",Worksheet!W306))","v":""},""]
[{"$f":"IF(Worksheet!K307=0,\"\",Worksheet!K307)","v":""},{"$f":"IF(Worksheet!L307=0,\"\",Worksheet!L307)","v":""},{"$f":"IF(Worksheet!M307=0,\"\",Worksheet!M307)","v":""},{"$f":"IF(Worksheet!N307=0,\"\",Worksheet!N307)","v":""},{"$f":"IF(Worksheet!P307=0,\"\",IF(OR(LEFT(B281,8)=\"LED Four\",LEFT(B281,8)=\"LED Tube\",LEFT(B281,8)=\"LED Mogu\",RIGHT(A281,2)=\"In\"),\"\",Worksheet!P307))","v":""},{"$f":"IF(Worksheet!R307=0,\"\",Worksheet!R307)","v":""},"",{"$f":"IF(Worksheet!Q307=0,\"\",Worksheet!Q307)","v":""},{"$f":"IF(OR(LEFT(B281,8)=\"LED Four\",LEFT(B281,8)=\"LED Tube\",LEFT(B281,8)=\"LED Mogu\",RIGHT(A281,2)=\"In\"),H281*Worksheet!V307,\"\")","v":""},{"$f":"IF(Worksheet!V307=0,\"\",IF(OR(LEFT(B281,8)=\"LED Four\",LEFT(B281,8)=\"LED Tube\",LEFT(B281,8)=\"LED Mogu\",RIGHT(A281,2)=\"In\"),\"\",Worksheet!V307))","v":""},"",{"$f":"IF(OR(LEFT(B281,8)=\"LED Four\",LEFT(B281,8)=\"LED Tube\",LEFT(B281,8)=\"LED Mogu\",RIGHT(A281,2)=\"In\"),H281*Worksheet!W307,\"\")","v":""},{"$f":"IF(Worksheet!W307=0,\"\",IF(OR(LEFT(B281,8)=\"LED Four\",LEFT(B281,8)=\"LED Tube\",LEFT(B281,8)=\"LED Mogu\",RIGHT(A281,2)=\"In\"),\"\",Worksheet!W307))","v":""},""]
[{"$f":"IF(Worksheet!K308=0,\"\",Worksheet!K308)","v":""},{"$f":"IF(Worksheet!L308=0,\"\",Worksheet!L308)","v":""},{"$f":"IF(Worksheet!M308=0,\"\",Worksheet!M308)","v":""},{"$f":"IF(Worksheet!N308=0,\"\",Worksheet!N308)","v":""},{"$f":"IF(Worksheet!P308=0,\"\",IF(OR(LEFT(B282,8)=\"LED Four\",LEFT(B282,8)=\"LED Tube\",LEFT(B282,8)=\"LED Mogu\",RIGHT(A282,2)=\"In\"),\"\",Worksheet!P308))","v":""},{"$f":"IF(Worksheet!R308=0,\"\",Worksheet!R308)","v":""},"",{"$f":"IF(Worksheet!Q308=0,\"\",Worksheet!Q308)","v":""},{"$f":"IF(OR(LEFT(B282,8)=\"LED Four\",LEFT(B282,8)=\"LED Tube\",LEFT(B282,8)=\"LED Mogu\",RIGHT(A282,2)=\"In\"),H282*Worksheet!V308,\"\")","v":""},{"$f":"IF(Worksheet!V308=0,\"\",IF(OR(LEFT(B282,8)=\"LED Four\",LEFT(B282,8)=\"LED Tube\",LEFT(B282,8)=\"LED Mogu\",RIGHT(A282,2)=\"In\"),\"\",Worksheet!V308))","v":""},"",{"$f":"IF(OR(LEFT(B282,8)=\"LED Four\",LEFT(B282,8)=\"LED Tube\",LEFT(B282,8)=\"LED Mogu\",RIGHT(A282,2)=\"In\"),H282*Worksheet!W308,\"\")","v":""},{"$f":"IF(Worksheet!W308=0,\"\",IF(OR(LEFT(B282,8)=\"LED Four\",LEFT(B282,8)=\"LED Tube\",LEFT(B282,8)=\"LED Mogu\",RIGHT(A282,2)=\"In\"),\"\",Worksheet!W308))","v":""},""]
[{"$f":"IF(Worksheet!K309=0,\"\",Worksheet!K309)","v":""},{"$f":"IF(Worksheet!L309=0,\"\",Worksheet!L309)","v":""},{"$f":"IF(Worksheet!M309=0,\"\",Worksheet!M309)","v":""},{"$f":"IF(Worksheet!N309=0,\"\",Worksheet!N309)","v":""},{"$f":"IF(Worksheet!P309=0,\"\",IF(OR(LEFT(B283,8)=\"LED Four\",LEFT(B283,8)=\"LED Tube\",LEFT(B283,8)=\"LED Mogu\",RIGHT(A283,2)=\"In\"),\"\",Worksheet!P309))","v":""},{"$f":"IF(Worksheet!R309=0,\"\",Worksheet!R309)","v":""},"",{"$f":"IF(Worksheet!Q309=0,\"\",Worksheet!Q309)","v":""},{"$f":"IF(OR(LEFT(B283,8)=\"LED Four\",LEFT(B283,8)=\"LED Tube\",LEFT(B283,8)=\"LED Mogu\",RIGHT(A283,2)=\"In\"),H283*Worksheet!V309,\"\")","v":""},{"$f":"IF(Worksheet!V309=0,\"\",IF(OR(LEFT(B283,8)=\"LED Four\",LEFT(B283,8)=\"LED Tube\",LEFT(B283,8)=\"LED Mogu\",RIGHT(A283,2)=\"In\"),\"\",Worksheet!V309))","v":""},"",{"$f":"IF(OR(LEFT(B283,8)=\"LED Four\",LEFT(B283,8)=\"LED Tube\",LEFT(B283,8)=\"LED Mogu\",RIGHT(A283,2)=\"In\"),H283*Worksheet!W309,\"\")","v":""},{"$f":"IF(Worksheet!W309=0,\"\",IF(OR(LEFT(B283,8)=\"LED Four\",LEFT(B283,8)=\"LED Tube\",LEFT(B283,8)=\"LED Mogu\",RIGHT(A283,2)=\"In\"),\"\",Worksheet!W309))","v":""},""]
[{"$f":"IF(Worksheet!K310=0,\"\",Worksheet!K310)","v":""},{"$f":"IF(Worksheet!L310=0,\"\",Worksheet!L310)","v":""},{"$f":"IF(Worksheet!M310=0,\"\",Worksheet!M310)","v":""},{"$f":"IF(Worksheet!N310=0,\"\",Worksheet!N310)","v":""},{"$f":"IF(Worksheet!P310=0,\"\",IF(OR(LEFT(B284,8)=\"LED Four\",LEFT(B284,8)=\"LED Tube\",LEFT(B284,8)=\"LED Mogu\",RIGHT(A284,2)=\"In\"),\"\",Worksheet!P310))","v":""},{"$f":"IF(Worksheet!R310=0,\"\",Worksheet!R310)","v":""},"",{"$f":"IF(Worksheet!Q310=0,\"\",Worksheet!Q310)","v":""},{"$f":"IF(OR(LEFT(B284,8)=\"LED Four\",LEFT(B284,8)=\"LED Tube\",LEFT(B284,8)=\"LED Mogu\",RIGHT(A284,2)=\"In\"),H284*Worksheet!V310,\"\")","v":""},{"$f":"IF(Worksheet!V310=0,\"\",IF(OR(LEFT(B284,8)=\"LED Four\",LEFT(B284,8)=\"LED Tube\",LEFT(B284,8)=\"LED Mogu\",RIGHT(A284,2)=\"In\"),\"\",Worksheet!V310))","v":""},"",{"$f":"IF(OR(LEFT(B284,8)=\"LED Four\",LEFT(B284,8)=\"LED Tube\",LEFT(B284,8)=\"LED Mogu\",RIGHT(A284,2)=\"In\"),H284*Worksheet!W310,\"\")","v":""},{"$f":"IF(Worksheet!W310=0,\"\",IF(OR(LEFT(B284,8)=\"LED Four\",LEFT(B284,8)=\"LED Tube\",LEFT(B284,8)=\"LED Mogu\",RIGHT(A284,2)=\"In\"),\"\",Worksheet!W310))","v":""},""]
[{"$f":"IF(Worksheet!K311=0,\"\",Worksheet!K311)","v":""},{"$f":"IF(Worksheet!L311=0,\"\",Worksheet!L311)","v":""},{"$f":"IF(Worksheet!M311=0,\"\",Worksheet!M311)","v":""},{"$f":"IF(Worksheet!N311=0,\"\",Worksheet!N311)","v":""},{"$f":"IF(Worksheet!P311=0,\"\",IF(OR(LEFT(B285,8)=\"LED Four\",LEFT(B285,8)=\"LED Tube\",LEFT(B285,8)=\"LED Mogu\",RIGHT(A285,2)=\"In\"),\"\",Worksheet!P311))","v":""},{"$f":"IF(Worksheet!R311=0,\"\",Worksheet!R311)","v":""},"",{"$f":"IF(Worksheet!Q311=0,\"\",Worksheet!Q311)","v":""},{"$f":"IF(OR(LEFT(B285,8)=\"LED Four\",LEFT(B285,8)=\"LED Tube\",LEFT(B285,8)=\"LED Mogu\",RIGHT(A285,2)=\"In\"),H285*Worksheet!V311,\"\")","v":""},{"$f":"IF(Worksheet!V311=0,\"\",IF(OR(LEFT(B285,8)=\"LED Four\",LEFT(B285,8)=\"LED Tube\",LEFT(B285,8)=\"LED Mogu\",RIGHT(A285,2)=\"In\"),\"\",Worksheet!V311))","v":""},"",{"$f":"IF(OR(LEFT(B285,8)=\"LED Four\",LEFT(B285,8)=\"LED Tube\",LEFT(B285,8)=\"LED Mogu\",RIGHT(A285,2)=\"In\"),H285*Worksheet!W311,\"\")","v":""},{"$f":"IF(Worksheet!W311=0,\"\",IF(OR(LEFT(B285,8)=\"LED Four\",LEFT(B285,8)=\"LED Tube\",LEFT(B285,8)=\"LED Mogu\",RIGHT(A285,2)=\"In\"),\"\",Worksheet!W311))","v":""},""]
[{"$f":"IF(Worksheet!K312=0,\"\",Worksheet!K312)","v":""},{"$f":"IF(Worksheet!L312=0,\"\",Worksheet!L312)","v":""},{"$f":"IF(Worksheet!M312=0,\"\",Worksheet!M312)","v":""},{"$f":"IF(Worksheet!N312=0,\"\",Worksheet!N312)","v":""},{"$f":"IF(Worksheet!P312=0,\"\",IF(OR(LEFT(B286,8)=\"LED Four\",LEFT(B286,8)=\"LED Tube\",LEFT(B286,8)=\"LED Mogu\",RIGHT(A286,2)=\"In\"),\"\",Worksheet!P312))","v":""},{"$f":"IF(Worksheet!R312=0,\"\",Worksheet!R312)","v":""},"",{"$f":"IF(Worksheet!Q312=0,\"\",Worksheet!Q312)","v":""},{"$f":"IF(OR(LEFT(B286,8)=\"LED Four\",LEFT(B286,8)=\"LED Tube\",LEFT(B286,8)=\"LED Mogu\",RIGHT(A286,2)=\"In\"),H286*Worksheet!V312,\"\")","v":""},{"$f":"IF(Worksheet!V312=0,\"\",IF(OR(LEFT(B286,8)=\"LED Four\",LEFT(B286,8)=\"LED Tube\",LEFT(B286,8)=\"LED Mogu\",RIGHT(A286,2)=\"In\"),\"\",Worksheet!V312))","v":""},"",{"$f":"IF(OR(LEFT(B286,8)=\"LED Four\",LEFT(B286,8)=\"LED Tube\",LEFT(B286,8)=\"LED Mogu\",RIGHT(A286,2)=\"In\"),H286*Worksheet!W312,\"\")","v":""},{"$f":"IF(Worksheet!W312=0,\"\",IF(OR(LEFT(B286,8)=\"LED Four\",LEFT(B286,8)=\"LED Tube\",LEFT(B286,8)=\"LED Mogu\",RIGHT(A286,2)=\"In\"),\"\",Worksheet!W312))","v":""},""]
[{"$f":"IF(Worksheet!K313=0,\"\",Worksheet!K313)","v":""},{"$f":"IF(Worksheet!L313=0,\"\",Worksheet!L313)","v":""},{"$f":"IF(Worksheet!M313=0,\"\",Worksheet!M313)","v":""},{"$f":"IF(Worksheet!N313=0,\"\",Worksheet!N313)","v":""},{"$f":"IF(Worksheet!P313=0,\"\",IF(OR(LEFT(B287,8)=\"LED Four\",LEFT(B287,8)=\"LED Tube\",LEFT(B287,8)=\"LED Mogu\",RIGHT(A287,2)=\"In\"),\"\",Worksheet!P313))","v":""},{"$f":"IF(Worksheet!R313=0,\"\",Worksheet!R313)","v":""},"",{"$f":"IF(Worksheet!Q313=0,\"\",Worksheet!Q313)","v":""},{"$f":"IF(OR(LEFT(B287,8)=\"LED Four\",LEFT(B287,8)=\"LED Tube\",LEFT(B287,8)=\"LED Mogu\",RIGHT(A287,2)=\"In\"),H287*Worksheet!V313,\"\")","v":""},{"$f":"IF(Worksheet!V313=0,\"\",IF(OR(LEFT(B287,8)=\"LED Four\",LEFT(B287,8)=\"LED Tube\",LEFT(B287,8)=\"LED Mogu\",RIGHT(A287,2)=\"In\"),\"\",Worksheet!V313))","v":""},"",{"$f":"IF(OR(LEFT(B287,8)=\"LED Four\",LEFT(B287,8)=\"LED Tube\",LEFT(B287,8)=\"LED Mogu\",RIGHT(A287,2)=\"In\"),H287*Worksheet!W313,\"\")","v":""},{"$f":"IF(Worksheet!W313=0,\"\",IF(OR(LEFT(B287,8)=\"LED Four\",LEFT(B287,8)=\"LED Tube\",LEFT(B287,8)=\"LED Mogu\",RIGHT(A287,2)=\"In\"),\"\",Worksheet!W313))","v":""},""]
[{"$f":"IF(Worksheet!K314=0,\"\",Worksheet!K314)","v":""},{"$f":"IF(Worksheet!L314=0,\"\",Worksheet!L314)","v":""},{"$f":"IF(Worksheet!M314=0,\"\",Worksheet!M314)","v":""},{"$f":"IF(Worksheet!N314=0,\"\",Worksheet!N314)","v":""},{"$f":"IF(Worksheet!P314=0,\"\",IF(OR(LEFT(B288,8)=\"LED Four\",LEFT(B288,8)=\"LED Tube\",LEFT(B288,8)=\"LED Mogu\",RIGHT(A288,2)=\"In\"),\"\",Worksheet!P314))","v":""},{"$f":"IF(Worksheet!R314=0,\"\",Worksheet!R314)","v":""},"",{"$f":"IF(Worksheet!Q314=0,\"\",Worksheet!Q314)","v":""},{"$f":"IF(OR(LEFT(B288,8)=\"LED Four\",LEFT(B288,8)=\"LED Tube\",LEFT(B288,8)=\"LED Mogu\",RIGHT(A288,2)=\"In\"),H288*Worksheet!V314,\"\")","v":""},{"$f":"IF(Worksheet!V314=0,\"\",IF(OR(LEFT(B288,8)=\"LED Four\",LEFT(B288,8)=\"LED Tube\",LEFT(B288,8)=\"LED Mogu\",RIGHT(A288,2)=\"In\"),\"\",Worksheet!V314))","v":""},"",{"$f":"IF(OR(LEFT(B288,8)=\"LED Four\",LEFT(B288,8)=\"LED Tube\",LEFT(B288,8)=\"LED Mogu\",RIGHT(A288,2)=\"In\"),H288*Worksheet!W314,\"\")","v":""},{"$f":"IF(Worksheet!W314=0,\"\",IF(OR(LEFT(B288,8)=\"LED Four\",LEFT(B288,8)=\"LED Tube\",LEFT(B288,8)=\"LED Mogu\",RIGHT(A288,2)=\"In\"),\"\",Worksheet!W314))","v":""},""]
[{"$f":"IF(Worksheet!K315=0,\"\",Worksheet!K315)","v":""},{"$f":"IF(Worksheet!L315=0,\"\",Worksheet!L315)","v":""},{"$f":"IF(Worksheet!M315=0,\"\",Worksheet!M315)","v":""},{"$f":"IF(Worksheet!N315=0,\"\",Worksheet!N315)","v":""},{"$f":"IF(Worksheet!P315=0,\"\",IF(OR(LEFT(B289,8)=\"LED Four\",LEFT(B289,8)=\"LED Tube\",LEFT(B289,8)=\"LED Mogu\",RIGHT(A289,2)=\"In\"),\"\",Worksheet!P315))","v":""},{"$f":"IF(Worksheet!R315=0,\"\",Worksheet!R315)","v":""},"",{"$f":"IF(Worksheet!Q315=0,\"\",Worksheet!Q315)","v":""},{"$f":"IF(OR(LEFT(B289,8)=\"LED Four\",LEFT(B289,8)=\"LED Tube\",LEFT(B289,8)=\"LED Mogu\",RIGHT(A289,2)=\"In\"),H289*Worksheet!V315,\"\")","v":""},{"$f":"IF(Worksheet!V315=0,\"\",IF(OR(LEFT(B289,8)=\"LED Four\",LEFT(B289,8)=\"LED Tube\",LEFT(B289,8)=\"LED Mogu\",RIGHT(A289,2)=\"In\"),\"\",Worksheet!V315))","v":""},"",{"$f":"IF(OR(LEFT(B289,8)=\"LED Four\",LEFT(B289,8)=\"LED Tube\",LEFT(B289,8)=\"LED Mogu\",RIGHT(A289,2)=\"In\"),H289*Worksheet!W315,\"\")","v":""},{"$f":"IF(Worksheet!W315=0,\"\",IF(OR(LEFT(B289,8)=\"LED Four\",LEFT(B289,8)=\"LED Tube\",LEFT(B289,8)=\"LED Mogu\",RIGHT(A289,2)=\"In\"),\"\",Worksheet!W315))","v":""},""]
[{"$f":"IF(Worksheet!K316=0,\"\",Worksheet!K316)","v":""},{"$f":"IF(Worksheet!L316=0,\"\",Worksheet!L316)","v":""},{"$f":"IF(Worksheet!M316=0,\"\",Worksheet!M316)","v":""},{"$f":"IF(Worksheet!N316=0,\"\",Worksheet!N316)","v":""},{"$f":"IF(Worksheet!P316=0,\"\",IF(OR(LEFT(B290,8)=\"LED Four\",LEFT(B290,8)=\"LED Tube\",LEFT(B290,8)=\"LED Mogu\",RIGHT(A290,2)=\"In\"),\"\",Worksheet!P316))","v":""},{"$f":"IF(Worksheet!R316=0,\"\",Worksheet!R316)","v":""},"",{"$f":"IF(Worksheet!Q316=0,\"\",Worksheet!Q316)","v":""},{"$f":"IF(OR(LEFT(B290,8)=\"LED Four\",LEFT(B290,8)=\"LED Tube\",LEFT(B290,8)=\"LED Mogu\",RIGHT(A290,2)=\"In\"),H290*Worksheet!V316,\"\")","v":""},{"$f":"IF(Worksheet!V316=0,\"\",IF(OR(LEFT(B290,8)=\"LED Four\",LEFT(B290,8)=\"LED Tube\",LEFT(B290,8)=\"LED Mogu\",RIGHT(A290,2)=\"In\"),\"\",Worksheet!V316))","v":""},"",{"$f":"IF(OR(LEFT(B290,8)=\"LED Four\",LEFT(B290,8)=\"LED Tube\",LEFT(B290,8)=\"LED Mogu\",RIGHT(A290,2)=\"In\"),H290*Worksheet!W316,\"\")","v":""},{"$f":"IF(Worksheet!W316=0,\"\",IF(OR(LEFT(B290,8)=\"LED Four\",LEFT(B290,8)=\"LED Tube\",LEFT(B290,8)=\"LED Mogu\",RIGHT(A290,2)=\"In\"),\"\",Worksheet!W316))","v":""},""]
[{"$f":"IF(Worksheet!K317=0,\"\",Worksheet!K317)","v":""},{"$f":"IF(Worksheet!L317=0,\"\",Worksheet!L317)","v":""},{"$f":"IF(Worksheet!M317=0,\"\",Worksheet!M317)","v":""},{"$f":"IF(Worksheet!N317=0,\"\",Worksheet!N317)","v":""},{"$f":"IF(Worksheet!P317=0,\"\",IF(OR(LEFT(B291,8)=\"LED Four\",LEFT(B291,8)=\"LED Tube\",LEFT(B291,8)=\"LED Mogu\",RIGHT(A291,2)=\"In\"),\"\",Worksheet!P317))","v":""},{"$f":"IF(Worksheet!R317=0,\"\",Worksheet!R317)","v":""},"",{"$f":"IF(Worksheet!Q317=0,\"\",Worksheet!Q317)","v":""},{"$f":"IF(OR(LEFT(B291,8)=\"LED Four\",LEFT(B291,8)=\"LED Tube\",LEFT(B291,8)=\"LED Mogu\",RIGHT(A291,2)=\"In\"),H291*Worksheet!V317,\"\")","v":""},{"$f":"IF(Worksheet!V317=0,\"\",IF(OR(LEFT(B291,8)=\"LED Four\",LEFT(B291,8)=\"LED Tube\",LEFT(B291,8)=\"LED Mogu\",RIGHT(A291,2)=\"In\"),\"\",Worksheet!V317))","v":""},"",{"$f":"IF(OR(LEFT(B291,8)=\"LED Four\",LEFT(B291,8)=\"LED Tube\",LEFT(B291,8)=\"LED Mogu\",RIGHT(A291,2)=\"In\"),H291*Worksheet!W317,\"\")","v":""},{"$f":"IF(Worksheet!W317=0,\"\",IF(OR(LEFT(B291,8)=\"LED Four\",LEFT(B291,8)=\"LED Tube\",LEFT(B291,8)=\"LED Mogu\",RIGHT(A291,2)=\"In\"),\"\",Worksheet!W317))","v":""},""]
[{"$f":"IF(Worksheet!K318=0,\"\",Worksheet!K318)","v":""},{"$f":"IF(Worksheet!L318=0,\"\",Worksheet!L318)","v":""},{"$f":"IF(Worksheet!M318=0,\"\",Worksheet!M318)","v":""},{"$f":"IF(Worksheet!N318=0,\"\",Worksheet!N318)","v":""},{"$f":"IF(Worksheet!P318=0,\"\",IF(OR(LEFT(B292,8)=\"LED Four\",LEFT(B292,8)=\"LED Tube\",LEFT(B292,8)=\"LED Mogu\",RIGHT(A292,2)=\"In\"),\"\",Worksheet!P318))","v":""},{"$f":"IF(Worksheet!R318=0,\"\",Worksheet!R318)","v":""},"",{"$f":"IF(Worksheet!Q318=0,\"\",Worksheet!Q318)","v":""},{"$f":"IF(OR(LEFT(B292,8)=\"LED Four\",LEFT(B292,8)=\"LED Tube\",LEFT(B292,8)=\"LED Mogu\",RIGHT(A292,2)=\"In\"),H292*Worksheet!V318,\"\")","v":""},{"$f":"IF(Worksheet!V318=0,\"\",IF(OR(LEFT(B292,8)=\"LED Four\",LEFT(B292,8)=\"LED Tube\",LEFT(B292,8)=\"LED Mogu\",RIGHT(A292,2)=\"In\"),\"\",Worksheet!V318))","v":""},"",{"$f":"IF(OR(LEFT(B292,8)=\"LED Four\",LEFT(B292,8)=\"LED Tube\",LEFT(B292,8)=\"LED Mogu\",RIGHT(A292,2)=\"In\"),H292*Worksheet!W318,\"\")","v":""},{"$f":"IF(Worksheet!W318=0,\"\",IF(OR(LEFT(B292,8)=\"LED Four\",LEFT(B292,8)=\"LED Tube\",LEFT(B292,8)=\"LED Mogu\",RIGHT(A292,2)=\"In\"),\"\",Worksheet!W318))","v":""},""]
[{"$f":"IF(Worksheet!K319=0,\"\",Worksheet!K319)","v":""},{"$f":"IF(Worksheet!L319=0,\"\",Worksheet!L319)","v":""},{"$f":"IF(Worksheet!M319=0,\"\",Worksheet!M319)","v":""},{"$f":"IF(Worksheet!N319=0,\"\",Worksheet!N319)","v":""},{"$f":"IF(Worksheet!P319=0,\"\",IF(OR(LEFT(B293,8)=\"LED Four\",LEFT(B293,8)=\"LED Tube\",LEFT(B293,8)=\"LED Mogu\",RIGHT(A293,2)=\"In\"),\"\",Worksheet!P319))","v":""},{"$f":"IF(Worksheet!R319=0,\"\",Worksheet!R319)","v":""},"",{"$f":"IF(Worksheet!Q319=0,\"\",Worksheet!Q319)","v":""},{"$f":"IF(OR(LEFT(B293,8)=\"LED Four\",LEFT(B293,8)=\"LED Tube\",LEFT(B293,8)=\"LED Mogu\",RIGHT(A293,2)=\"In\"),H293*Worksheet!V319,\"\")","v":""},{"$f":"IF(Worksheet!V319=0,\"\",IF(OR(LEFT(B293,8)=\"LED Four\",LEFT(B293,8)=\"LED Tube\",LEFT(B293,8)=\"LED Mogu\",RIGHT(A293,2)=\"In\"),\"\",Worksheet!V319))","v":""},"",{"$f":"IF(OR(LEFT(B293,8)=\"LED Four\",LEFT(B293,8)=\"LED Tube\",LEFT(B293,8)=\"LED Mogu\",RIGHT(A293,2)=\"In\"),H293*Worksheet!W319,\"\")","v":""},{"$f":"IF(Worksheet!W319=0,\"\",IF(OR(LEFT(B293,8)=\"LED Four\",LEFT(B293,8)=\"LED Tube\",LEFT(B293,8)=\"LED Mogu\",RIGHT(A293,2)=\"In\"),\"\",Worksheet!W319))","v":""},""]
[{"$f":"IF(Worksheet!K320=0,\"\",Worksheet!K320)","v":""},{"$f":"IF(Worksheet!L320=0,\"\",Worksheet!L320)","v":""},{"$f":"IF(Worksheet!M320=0,\"\",Worksheet!M320)","v":""},{"$f":"IF(Worksheet!N320=0,\"\",Worksheet!N320)","v":""},{"$f":"IF(Worksheet!P320=0,\"\",IF(OR(LEFT(B294,8)=\"LED Four\",LEFT(B294,8)=\"LED Tube\",LEFT(B294,8)=\"LED Mogu\",RIGHT(A294,2)=\"In\"),\"\",Worksheet!P320))","v":""},{"$f":"IF(Worksheet!R320=0,\"\",Worksheet!R320)","v":""},"",{"$f":"IF(Worksheet!Q320=0,\"\",Worksheet!Q320)","v":""},{"$f":"IF(OR(LEFT(B294,8)=\"LED Four\",LEFT(B294,8)=\"LED Tube\",LEFT(B294,8)=\"LED Mogu\",RIGHT(A294,2)=\"In\"),H294*Worksheet!V320,\"\")","v":""},{"$f":"IF(Worksheet!V320=0,\"\",IF(OR(LEFT(B294,8)=\"LED Four\",LEFT(B294,8)=\"LED Tube\",LEFT(B294,8)=\"LED Mogu\",RIGHT(A294,2)=\"In\"),\"\",Worksheet!V320))","v":""},"",{"$f":"IF(OR(LEFT(B294,8)=\"LED Four\",LEFT(B294,8)=\"LED Tube\",LEFT(B294,8)=\"LED Mogu\",RIGHT(A294,2)=\"In\"),H294*Worksheet!W320,\"\")","v":""},{"$f":"IF(Worksheet!W320=0,\"\",IF(OR(LEFT(B294,8)=\"LED Four\",LEFT(B294,8)=\"LED Tube\",LEFT(B294,8)=\"LED Mogu\",RIGHT(A294,2)=\"In\"),\"\",Worksheet!W320))","v":""},""]
[{"$f":"IF(Worksheet!K321=0,\"\",Worksheet!K321)","v":""},{"$f":"IF(Worksheet!L321=0,\"\",Worksheet!L321)","v":""},{"$f":"IF(Worksheet!M321=0,\"\",Worksheet!M321)","v":""},{"$f":"IF(Worksheet!N321=0,\"\",Worksheet!N321)","v":""},{"$f":"IF(Worksheet!P321=0,\"\",IF(OR(LEFT(B295,8)=\"LED Four\",LEFT(B295,8)=\"LED Tube\",LEFT(B295,8)=\"LED Mogu\",RIGHT(A295,2)=\"In\"),\"\",Worksheet!P321))","v":""},{"$f":"IF(Worksheet!R321=0,\"\",Worksheet!R321)","v":""},"",{"$f":"IF(Worksheet!Q321=0,\"\",Worksheet!Q321)","v":""},{"$f":"IF(OR(LEFT(B295,8)=\"LED Four\",LEFT(B295,8)=\"LED Tube\",LEFT(B295,8)=\"LED Mogu\",RIGHT(A295,2)=\"In\"),H295*Worksheet!V321,\"\")","v":""},{"$f":"IF(Worksheet!V321=0,\"\",IF(OR(LEFT(B295,8)=\"LED Four\",LEFT(B295,8)=\"LED Tube\",LEFT(B295,8)=\"LED Mogu\",RIGHT(A295,2)=\"In\"),\"\",Worksheet!V321))","v":""},"",{"$f":"IF(OR(LEFT(B295,8)=\"LED Four\",LEFT(B295,8)=\"LED Tube\",LEFT(B295,8)=\"LED Mogu\",RIGHT(A295,2)=\"In\"),H295*Worksheet!W321,\"\")","v":""},{"$f":"IF(Worksheet!W321=0,\"\",IF(OR(LEFT(B295,8)=\"LED Four\",LEFT(B295,8)=\"LED Tube\",LEFT(B295,8)=\"LED Mogu\",RIGHT(A295,2)=\"In\"),\"\",Worksheet!W321))","v":""},""]
[{"$f":"IF(Worksheet!K322=0,\"\",Worksheet!K322)","v":""},{"$f":"IF(Worksheet!L322=0,\"\",Worksheet!L322)","v":""},{"$f":"IF(Worksheet!M322=0,\"\",Worksheet!M322)","v":""},{"$f":"IF(Worksheet!N322=0,\"\",Worksheet!N322)","v":""},{"$f":"IF(Worksheet!P322=0,\"\",IF(OR(LEFT(B296,8)=\"LED Four\",LEFT(B296,8)=\"LED Tube\",LEFT(B296,8)=\"LED Mogu\",RIGHT(A296,2)=\"In\"),\"\",Worksheet!P322))","v":""},{"$f":"IF(Worksheet!R322=0,\"\",Worksheet!R322)","v":""},"",{"$f":"IF(Worksheet!Q322=0,\"\",Worksheet!Q322)","v":""},{"$f":"IF(OR(LEFT(B296,8)=\"LED Four\",LEFT(B296,8)=\"LED Tube\",LEFT(B296,8)=\"LED Mogu\",RIGHT(A296,2)=\"In\"),H296*Worksheet!V322,\"\")","v":""},{"$f":"IF(Worksheet!V322=0,\"\",IF(OR(LEFT(B296,8)=\"LED Four\",LEFT(B296,8)=\"LED Tube\",LEFT(B296,8)=\"LED Mogu\",RIGHT(A296,2)=\"In\"),\"\",Worksheet!V322))","v":""},"",{"$f":"IF(OR(LEFT(B296,8)=\"LED Four\",LEFT(B296,8)=\"LED Tube\",LEFT(B296,8)=\"LED Mogu\",RIGHT(A296,2)=\"In\"),H296*Worksheet!W322,\"\")","v":""},{"$f":"IF(Worksheet!W322=0,\"\",IF(OR(LEFT(B296,8)=\"LED Four\",LEFT(B296,8)=\"LED Tube\",LEFT(B296,8)=\"LED Mogu\",RIGHT(A296,2)=\"In\"),\"\",Worksheet!W322))","v":""},""]
[{"$f":"IF(Worksheet!K323=0,\"\",Worksheet!K323)","v":""},{"$f":"IF(Worksheet!L323=0,\"\",Worksheet!L323)","v":""},{"$f":"IF(Worksheet!M323=0,\"\",Worksheet!M323)","v":""},{"$f":"IF(Worksheet!N323=0,\"\",Worksheet!N323)","v":""},{"$f":"IF(Worksheet!P323=0,\"\",IF(OR(LEFT(B297,8)=\"LED Four\",LEFT(B297,8)=\"LED Tube\",LEFT(B297,8)=\"LED Mogu\",RIGHT(A297,2)=\"In\"),\"\",Worksheet!P323))","v":""},{"$f":"IF(Worksheet!R323=0,\"\",Worksheet!R323)","v":""},"",{"$f":"IF(Worksheet!Q323=0,\"\",Worksheet!Q323)","v":""},{"$f":"IF(OR(LEFT(B297,8)=\"LED Four\",LEFT(B297,8)=\"LED Tube\",LEFT(B297,8)=\"LED Mogu\",RIGHT(A297,2)=\"In\"),H297*Worksheet!V323,\"\")","v":""},{"$f":"IF(Worksheet!V323=0,\"\",IF(OR(LEFT(B297,8)=\"LED Four\",LEFT(B297,8)=\"LED Tube\",LEFT(B297,8)=\"LED Mogu\",RIGHT(A297,2)=\"In\"),\"\",Worksheet!V323))","v":""},"",{"$f":"IF(OR(LEFT(B297,8)=\"LED Four\",LEFT(B297,8)=\"LED Tube\",LEFT(B297,8)=\"LED Mogu\",RIGHT(A297,2)=\"In\"),H297*Worksheet!W323,\"\")","v":""},{"$f":"IF(Worksheet!W323=0,\"\",IF(OR(LEFT(B297,8)=\"LED Four\",LEFT(B297,8)=\"LED Tube\",LEFT(B297,8)=\"LED Mogu\",RIGHT(A297,2)=\"In\"),\"\",Worksheet!W323))","v":""},""]
[{"$f":"IF(Worksheet!K324=0,\"\",Worksheet!K324)","v":""},{"$f":"IF(Worksheet!L324=0,\"\",Worksheet!L324)","v":""},{"$f":"IF(Worksheet!M324=0,\"\",Worksheet!M324)","v":""},{"$f":"IF(Worksheet!N324=0,\"\",Worksheet!N324)","v":""},{"$f":"IF(Worksheet!P324=0,\"\",IF(OR(LEFT(B298,8)=\"LED Four\",LEFT(B298,8)=\"LED Tube\",LEFT(B298,8)=\"LED Mogu\",RIGHT(A298,2)=\"In\"),\"\",Worksheet!P324))","v":""},{"$f":"IF(Worksheet!R324=0,\"\",Worksheet!R324)","v":""},"",{"$f":"IF(Worksheet!Q324=0,\"\",Worksheet!Q324)","v":""},{"$f":"IF(OR(LEFT(B298,8)=\"LED Four\",LEFT(B298,8)=\"LED Tube\",LEFT(B298,8)=\"LED Mogu\",RIGHT(A298,2)=\"In\"),H298*Worksheet!V324,\"\")","v":""},{"$f":"IF(Worksheet!V324=0,\"\",IF(OR(LEFT(B298,8)=\"LED Four\",LEFT(B298,8)=\"LED Tube\",LEFT(B298,8)=\"LED Mogu\",RIGHT(A298,2)=\"In\"),\"\",Worksheet!V324))","v":""},"",{"$f":"IF(OR(LEFT(B298,8)=\"LED Four\",LEFT(B298,8)=\"LED Tube\",LEFT(B298,8)=\"LED Mogu\",RIGHT(A298,2)=\"In\"),H298*Worksheet!W324,\"\")","v":""},{"$f":"IF(Worksheet!W324=0,\"\",IF(OR(LEFT(B298,8)=\"LED Four\",LEFT(B298,8)=\"LED Tube\",LEFT(B298,8)=\"LED Mogu\",RIGHT(A298,2)=\"In\"),\"\",Worksheet!W324))","v":""},""]
[{"$f":"IF(Worksheet!K325=0,\"\",Worksheet!K325)","v":""},{"$f":"IF(Worksheet!L325=0,\"\",Worksheet!L325)","v":""},{"$f":"IF(Worksheet!M325=0,\"\",Worksheet!M325)","v":""},{"$f":"IF(Worksheet!N325=0,\"\",Worksheet!N325)","v":""},{"$f":"IF(Worksheet!P325=0,\"\",IF(OR(LEFT(B299,8)=\"LED Four\",LEFT(B299,8)=\"LED Tube\",LEFT(B299,8)=\"LED Mogu\",RIGHT(A299,2)=\"In\"),\"\",Worksheet!P325))","v":""},{"$f":"IF(Worksheet!R325=0,\"\",Worksheet!R325)","v":""},"",{"$f":"IF(Worksheet!Q325=0,\"\",Worksheet!Q325)","v":""},{"$f":"IF(OR(LEFT(B299,8)=\"LED Four\",LEFT(B299,8)=\"LED Tube\",LEFT(B299,8)=\"LED Mogu\",RIGHT(A299,2)=\"In\"),H299*Worksheet!V325,\"\")","v":""},{"$f":"IF(Worksheet!V325=0,\"\",IF(OR(LEFT(B299,8)=\"LED Four\",LEFT(B299,8)=\"LED Tube\",LEFT(B299,8)=\"LED Mogu\",RIGHT(A299,2)=\"In\"),\"\",Worksheet!V325))","v":""},"",{"$f":"IF(OR(LEFT(B299,8)=\"LED Four\",LEFT(B299,8)=\"LED Tube\",LEFT(B299,8)=\"LED Mogu\",RIGHT(A299,2)=\"In\"),H299*Worksheet!W325,\"\")","v":""},{"$f":"IF(Worksheet!W325=0,\"\",IF(OR(LEFT(B299,8)=\"LED Four\",LEFT(B299,8)=\"LED Tube\",LEFT(B299,8)=\"LED Mogu\",RIGHT(A299,2)=\"In\"),\"\",Worksheet!W325))","v":""},""]
[{"$f":"IF(Worksheet!K326=0,\"\",Worksheet!K326)","v":""},{"$f":"IF(Worksheet!L326=0,\"\",Worksheet!L326)","v":""},{"$f":"IF(Worksheet!M326=0,\"\",Worksheet!M326)","v":""},{"$f":"IF(Worksheet!N326=0,\"\",Worksheet!N326)","v":""},{"$f":"IF(Worksheet!P326=0,\"\",IF(OR(LEFT(B300,8)=\"LED Four\",LEFT(B300,8)=\"LED Tube\",LEFT(B300,8)=\"LED Mogu\",RIGHT(A300,2)=\"In\"),\"\",Worksheet!P326))","v":""},{"$f":"IF(Worksheet!R326=0,\"\",Worksheet!R326)","v":""},"",{"$f":"IF(Worksheet!Q326=0,\"\",Worksheet!Q326)","v":""},{"$f":"IF(OR(LEFT(B300,8)=\"LED Four\",LEFT(B300,8)=\"LED Tube\",LEFT(B300,8)=\"LED Mogu\",RIGHT(A300,2)=\"In\"),H300*Worksheet!V326,\"\")","v":""},{"$f":"IF(Worksheet!V326=0,\"\",IF(OR(LEFT(B300,8)=\"LED Four\",LEFT(B300,8)=\"LED Tube\",LEFT(B300,8)=\"LED Mogu\",RIGHT(A300,2)=\"In\"),\"\",Worksheet!V326))","v":""},"",{"$f":"IF(OR(LEFT(B300,8)=\"LED Four\",LEFT(B300,8)=\"LED Tube\",LEFT(B300,8)=\"LED Mogu\",RIGHT(A300,2)=\"In\"),H300*Worksheet!W326,\"\")","v":""},{"$f":"IF(Worksheet!W326=0,\"\",IF(OR(LEFT(B300,8)=\"LED Four\",LEFT(B300,8)=\"LED Tube\",LEFT(B300,8)=\"LED Mogu\",RIGHT(A300,2)=\"In\"),\"\",Worksheet!W326))","v":""},""]
[{"$f":"IF(Worksheet!K327=0,\"\",Worksheet!K327)","v":""},{"$f":"IF(Worksheet!L327=0,\"\",Worksheet!L327)","v":""},{"$f":"IF(Worksheet!M327=0,\"\",Worksheet!M327)","v":""},{"$f":"IF(Worksheet!N327=0,\"\",Worksheet!N327)","v":""},{"$f":"IF(Worksheet!P327=0,\"\",IF(OR(LEFT(B301,8)=\"LED Four\",LEFT(B301,8)=\"LED Tube\",LEFT(B301,8)=\"LED Mogu\",RIGHT(A301,2)=\"In\"),\"\",Worksheet!P327))","v":""},{"$f":"IF(Worksheet!R327=0,\"\",Worksheet!R327)","v":""},"",{"$f":"IF(Worksheet!Q327=0,\"\",Worksheet!Q327)","v":""},{"$f":"IF(OR(LEFT(B301,8)=\"LED Four\",LEFT(B301,8)=\"LED Tube\",LEFT(B301,8)=\"LED Mogu\",RIGHT(A301,2)=\"In\"),H301*Worksheet!V327,\"\")","v":""},{"$f":"IF(Worksheet!V327=0,\"\",IF(OR(LEFT(B301,8)=\"LED Four\",LEFT(B301,8)=\"LED Tube\",LEFT(B301,8)=\"LED Mogu\",RIGHT(A301,2)=\"In\"),\"\",Worksheet!V327))","v":""},"",{"$f":"IF(OR(LEFT(B301,8)=\"LED Four\",LEFT(B301,8)=\"LED Tube\",LEFT(B301,8)=\"LED Mogu\",RIGHT(A301,2)=\"In\"),H301*Worksheet!W327,\"\")","v":""},{"$f":"IF(Worksheet!W327=0,\"\",IF(OR(LEFT(B301,8)=\"LED Four\",LEFT(B301,8)=\"LED Tube\",LEFT(B301,8)=\"LED Mogu\",RIGHT(A301,2)=\"In\"),\"\",Worksheet!W327))","v":""},""]
[{"$f":"IF(Worksheet!K328=0,\"\",Worksheet!K328)","v":""},{"$f":"IF(Worksheet!L328=0,\"\",Worksheet!L328)","v":""},{"$f":"IF(Worksheet!M328=0,\"\",Worksheet!M328)","v":""},{"$f":"IF(Worksheet!N328=0,\"\",Worksheet!N328)","v":""},{"$f":"IF(Worksheet!P328=0,\"\",IF(OR(LEFT(B302,8)=\"LED Four\",LEFT(B302,8)=\"LED Tube\",LEFT(B302,8)=\"LED Mogu\",RIGHT(A302,2)=\"In\"),\"\",Worksheet!P328))","v":""},{"$f":"IF(Worksheet!R328=0,\"\",Worksheet!R328)","v":""},"",{"$f":"IF(Worksheet!Q328=0,\"\",Worksheet!Q328)","v":""},{"$f":"IF(OR(LEFT(B302,8)=\"LED Four\",LEFT(B302,8)=\"LED Tube\",LEFT(B302,8)=\"LED Mogu\",RIGHT(A302,2)=\"In\"),H302*Worksheet!V328,\"\")","v":""},{"$f":"IF(Worksheet!V328=0,\"\",IF(OR(LEFT(B302,8)=\"LED Four\",LEFT(B302,8)=\"LED Tube\",LEFT(B302,8)=\"LED Mogu\",RIGHT(A302,2)=\"In\"),\"\",Worksheet!V328))","v":""},"",{"$f":"IF(OR(LEFT(B302,8)=\"LED Four\",LEFT(B302,8)=\"LED Tube\",LEFT(B302,8)=\"LED Mogu\",RIGHT(A302,2)=\"In\"),H302*Worksheet!W328,\"\")","v":""},{"$f":"IF(Worksheet!W328=0,\"\",IF(OR(LEFT(B302,8)=\"LED Four\",LEFT(B302,8)=\"LED Tube\",LEFT(B302,8)=\"LED Mogu\",RIGHT(A302,2)=\"In\"),\"\",Worksheet!W328))","v":""},""]
[{"$f":"IF(Worksheet!K329=0,\"\",Worksheet!K329)","v":""},{"$f":"IF(Worksheet!L329=0,\"\",Worksheet!L329)","v":""},{"$f":"IF(Worksheet!M329=0,\"\",Worksheet!M329)","v":""},{"$f":"IF(Worksheet!N329=0,\"\",Worksheet!N329)","v":""},{"$f":"IF(Worksheet!P329=0,\"\",IF(OR(LEFT(B303,8)=\"LED Four\",LEFT(B303,8)=\"LED Tube\",LEFT(B303,8)=\"LED Mogu\",RIGHT(A303,2)=\"In\"),\"\",Worksheet!P329))","v":""},{"$f":"IF(Worksheet!R329=0,\"\",Worksheet!R329)","v":""},"",{"$f":"IF(Worksheet!Q329=0,\"\",Worksheet!Q329)","v":""},{"$f":"IF(OR(LEFT(B303,8)=\"LED Four\",LEFT(B303,8)=\"LED Tube\",LEFT(B303,8)=\"LED Mogu\",RIGHT(A303,2)=\"In\"),H303*Worksheet!V329,\"\")","v":""},{"$f":"IF(Worksheet!V329=0,\"\",IF(OR(LEFT(B303,8)=\"LED Four\",LEFT(B303,8)=\"LED Tube\",LEFT(B303,8)=\"LED Mogu\",RIGHT(A303,2)=\"In\"),\"\",Worksheet!V329))","v":""},"",{"$f":"IF(OR(LEFT(B303,8)=\"LED Four\",LEFT(B303,8)=\"LED Tube\",LEFT(B303,8)=\"LED Mogu\",RIGHT(A303,2)=\"In\"),H303*Worksheet!W329,\"\")","v":""},{"$f":"IF(Worksheet!W329=0,\"\",IF(OR(LEFT(B303,8)=\"LED Four\",LEFT(B303,8)=\"LED Tube\",LEFT(B303,8)=\"LED Mogu\",RIGHT(A303,2)=\"In\"),\"\",Worksheet!W329))","v":""},""]
[{"$f":"IF(Worksheet!K330=0,\"\",Worksheet!K330)","v":""},{"$f":"IF(Worksheet!L330=0,\"\",Worksheet!L330)","v":""},{"$f":"IF(Worksheet!M330=0,\"\",Worksheet!M330)","v":""},{"$f":"IF(Worksheet!N330=0,\"\",Worksheet!N330)","v":""},{"$f":"IF(Worksheet!P330=0,\"\",IF(OR(LEFT(B304,8)=\"LED Four\",LEFT(B304,8)=\"LED Tube\",LEFT(B304,8)=\"LED Mogu\",RIGHT(A304,2)=\"In\"),\"\",Worksheet!P330))","v":""},{"$f":"IF(Worksheet!R330=0,\"\",Worksheet!R330)","v":""},"",{"$f":"IF(Worksheet!Q330=0,\"\",Worksheet!Q330)","v":""},{"$f":"IF(OR(LEFT(B304,8)=\"LED Four\",LEFT(B304,8)=\"LED Tube\",LEFT(B304,8)=\"LED Mogu\",RIGHT(A304,2)=\"In\"),H304*Worksheet!V330,\"\")","v":""},{"$f":"IF(Worksheet!V330=0,\"\",IF(OR(LEFT(B304,8)=\"LED Four\",LEFT(B304,8)=\"LED Tube\",LEFT(B304,8)=\"LED Mogu\",RIGHT(A304,2)=\"In\"),\"\",Worksheet!V330))","v":""},"",{"$f":"IF(OR(LEFT(B304,8)=\"LED Four\",LEFT(B304,8)=\"LED Tube\",LEFT(B304,8)=\"LED Mogu\",RIGHT(A304,2)=\"In\"),H304*Worksheet!W330,\"\")","v":""},{"$f":"IF(Worksheet!W330=0,\"\",IF(OR(LEFT(B304,8)=\"LED Four\",LEFT(B304,8)=\"LED Tube\",LEFT(B304,8)=\"LED Mogu\",RIGHT(A304,2)=\"In\"),\"\",Worksheet!W330))","v":""},""]
[{"$f":"IF(Worksheet!K331=0,\"\",Worksheet!K331)","v":""},{"$f":"IF(Worksheet!L331=0,\"\",Worksheet!L331)","v":""},{"$f":"IF(Worksheet!M331=0,\"\",Worksheet!M331)","v":""},{"$f":"IF(Worksheet!N331=0,\"\",Worksheet!N331)","v":""},{"$f":"IF(Worksheet!P331=0,\"\",IF(OR(LEFT(B305,8)=\"LED Four\",LEFT(B305,8)=\"LED Tube\",LEFT(B305,8)=\"LED Mogu\",RIGHT(A305,2)=\"In\"),\"\",Worksheet!P331))","v":""},{"$f":"IF(Worksheet!R331=0,\"\",Worksheet!R331)","v":""},"",{"$f":"IF(Worksheet!Q331=0,\"\",Worksheet!Q331)","v":""},{"$f":"IF(OR(LEFT(B305,8)=\"LED Four\",LEFT(B305,8)=\"LED Tube\",LEFT(B305,8)=\"LED Mogu\",RIGHT(A305,2)=\"In\"),H305*Worksheet!V331,\"\")","v":""},{"$f":"IF(Worksheet!V331=0,\"\",IF(OR(LEFT(B305,8)=\"LED Four\",LEFT(B305,8)=\"LED Tube\",LEFT(B305,8)=\"LED Mogu\",RIGHT(A305,2)=\"In\"),\"\",Worksheet!V331))","v":""},"",{"$f":"IF(OR(LEFT(B305,8)=\"LED Four\",LEFT(B305,8)=\"LED Tube\",LEFT(B305,8)=\"LED Mogu\",RIGHT(A305,2)=\"In\"),H305*Worksheet!W331,\"\")","v":""},{"$f":"IF(Worksheet!W331=0,\"\",IF(OR(LEFT(B305,8)=\"LED Four\",LEFT(B305,8)=\"LED Tube\",LEFT(B305,8)=\"LED Mogu\",RIGHT(A305,2)=\"In\"),\"\",Worksheet!W331))","v":""},""]
[{"$f":"IF(Worksheet!K332=0,\"\",Worksheet!K332)","v":""},{"$f":"IF(Worksheet!L332=0,\"\",Worksheet!L332)","v":""},{"$f":"IF(Worksheet!M332=0,\"\",Worksheet!M332)","v":""},{"$f":"IF(Worksheet!N332=0,\"\",Worksheet!N332)","v":""},{"$f":"IF(Worksheet!P332=0,\"\",IF(OR(LEFT(B306,8)=\"LED Four\",LEFT(B306,8)=\"LED Tube\",LEFT(B306,8)=\"LED Mogu\",RIGHT(A306,2)=\"In\"),\"\",Worksheet!P332))","v":""},{"$f":"IF(Worksheet!R332=0,\"\",Worksheet!R332)","v":""},"",{"$f":"IF(Worksheet!Q332=0,\"\",Worksheet!Q332)","v":""},{"$f":"IF(OR(LEFT(B306,8)=\"LED Four\",LEFT(B306,8)=\"LED Tube\",LEFT(B306,8)=\"LED Mogu\",RIGHT(A306,2)=\"In\"),H306*Worksheet!V332,\"\")","v":""},{"$f":"IF(Worksheet!V332=0,\"\",IF(OR(LEFT(B306,8)=\"LED Four\",LEFT(B306,8)=\"LED Tube\",LEFT(B306,8)=\"LED Mogu\",RIGHT(A306,2)=\"In\"),\"\",Worksheet!V332))","v":""},"",{"$f":"IF(OR(LEFT(B306,8)=\"LED Four\",LEFT(B306,8)=\"LED Tube\",LEFT(B306,8)=\"LED Mogu\",RIGHT(A306,2)=\"In\"),H306*Worksheet!W332,\"\")","v":""},{"$f":"IF(Worksheet!W332=0,\"\",IF(OR(LEFT(B306,8)=\"LED Four\",LEFT(B306,8)=\"LED Tube\",LEFT(B306,8)=\"LED Mogu\",RIGHT(A306,2)=\"In\"),\"\",Worksheet!W332))","v":""},""]
[{"$f":"IF(Worksheet!K333=0,\"\",Worksheet!K333)","v":""},{"$f":"IF(Worksheet!L333=0,\"\",Worksheet!L333)","v":""},{"$f":"IF(Worksheet!M333=0,\"\",Worksheet!M333)","v":""},{"$f":"IF(Worksheet!N333=0,\"\",Worksheet!N333)","v":""},{"$f":"IF(Worksheet!P333=0,\"\",IF(OR(LEFT(B307,8)=\"LED Four\",LEFT(B307,8)=\"LED Tube\",LEFT(B307,8)=\"LED Mogu\",RIGHT(A307,2)=\"In\"),\"\",Worksheet!P333))","v":""},{"$f":"IF(Worksheet!R333=0,\"\",Worksheet!R333)","v":""},"",{"$f":"IF(Worksheet!Q333=0,\"\",Worksheet!Q333)","v":""},{"$f":"IF(OR(LEFT(B307,8)=\"LED Four\",LEFT(B307,8)=\"LED Tube\",LEFT(B307,8)=\"LED Mogu\",RIGHT(A307,2)=\"In\"),H307*Worksheet!V333,\"\")","v":""},{"$f":"IF(Worksheet!V333=0,\"\",IF(OR(LEFT(B307,8)=\"LED Four\",LEFT(B307,8)=\"LED Tube\",LEFT(B307,8)=\"LED Mogu\",RIGHT(A307,2)=\"In\"),\"\",Worksheet!V333))","v":""},"",{"$f":"IF(OR(LEFT(B307,8)=\"LED Four\",LEFT(B307,8)=\"LED Tube\",LEFT(B307,8)=\"LED Mogu\",RIGHT(A307,2)=\"In\"),H307*Worksheet!W333,\"\")","v":""},{"$f":"IF(Worksheet!W333=0,\"\",IF(OR(LEFT(B307,8)=\"LED Four\",LEFT(B307,8)=\"LED Tube\",LEFT(B307,8)=\"LED Mogu\",RIGHT(A307,2)=\"In\"),\"\",Worksheet!W333))","v":""},""]
[{"$f":"IF(Worksheet!K334=0,\"\",Worksheet!K334)","v":""},{"$f":"IF(Worksheet!L334=0,\"\",Worksheet!L334)","v":""},{"$f":"IF(Worksheet!M334=0,\"\",Worksheet!M334)","v":""},{"$f":"IF(Worksheet!N334=0,\"\",Worksheet!N334)","v":""},{"$f":"IF(Worksheet!P334=0,\"\",IF(OR(LEFT(B308,8)=\"LED Four\",LEFT(B308,8)=\"LED Tube\",LEFT(B308,8)=\"LED Mogu\",RIGHT(A308,2)=\"In\"),\"\",Worksheet!P334))","v":""},{"$f":"IF(Worksheet!R334=0,\"\",Worksheet!R334)","v":""},"",{"$f":"IF(Worksheet!Q334=0,\"\",Worksheet!Q334)","v":""},{"$f":"IF(OR(LEFT(B308,8)=\"LED Four\",LEFT(B308,8)=\"LED Tube\",LEFT(B308,8)=\"LED Mogu\",RIGHT(A308,2)=\"In\"),H308*Worksheet!V334,\"\")","v":""},{"$f":"IF(Worksheet!V334=0,\"\",IF(OR(LEFT(B308,8)=\"LED Four\",LEFT(B308,8)=\"LED Tube\",LEFT(B308,8)=\"LED Mogu\",RIGHT(A308,2)=\"In\"),\"\",Worksheet!V334))","v":""},"",{"$f":"IF(OR(LEFT(B308,8)=\"LED Four\",LEFT(B308,8)=\"LED Tube\",LEFT(B308,8)=\"LED Mogu\",RIGHT(A308,2)=\"In\"),H308*Worksheet!W334,\"\")","v":""},{"$f":"IF(Worksheet!W334=0,\"\",IF(OR(LEFT(B308,8)=\"LED Four\",LEFT(B308,8)=\"LED Tube\",LEFT(B308,8)=\"LED Mogu\",RIGHT(A308,2)=\"In\"),\"\",Worksheet!W334))","v":""},""]
[{"$f":"IF(Worksheet!K335=0,\"\",Worksheet!K335)","v":""},{"$f":"IF(Worksheet!L335=0,\"\",Worksheet!L335)","v":""},{"$f":"IF(Worksheet!M335=0,\"\",Worksheet!M335)","v":""},{"$f":"IF(Worksheet!N335=0,\"\",Worksheet!N335)","v":""},{"$f":"IF(Worksheet!P335=0,\"\",IF(OR(LEFT(B309,8)=\"LED Four\",LEFT(B309,8)=\"LED Tube\",LEFT(B309,8)=\"LED Mogu\",RIGHT(A309,2)=\"In\"),\"\",Worksheet!P335))","v":""},{"$f":"IF(Worksheet!R335=0,\"\",Worksheet!R335)","v":""},"",{"$f":"IF(Worksheet!Q335=0,\"\",Worksheet!Q335)","v":""},{"$f":"IF(OR(LEFT(B309,8)=\"LED Four\",LEFT(B309,8)=\"LED Tube\",LEFT(B309,8)=\"LED Mogu\",RIGHT(A309,2)=\"In\"),H309*Worksheet!V335,\"\")","v":""},{"$f":"IF(Worksheet!V335=0,\"\",IF(OR(LEFT(B309,8)=\"LED Four\",LEFT(B309,8)=\"LED Tube\",LEFT(B309,8)=\"LED Mogu\",RIGHT(A309,2)=\"In\"),\"\",Worksheet!V335))","v":""},"",{"$f":"IF(OR(LEFT(B309,8)=\"LED Four\",LEFT(B309,8)=\"LED Tube\",LEFT(B309,8)=\"LED Mogu\",RIGHT(A309,2)=\"In\"),H309*Worksheet!W335,\"\")","v":""},{"$f":"IF(Worksheet!W335=0,\"\",IF(OR(LEFT(B309,8)=\"LED Four\",LEFT(B309,8)=\"LED Tube\",LEFT(B309,8)=\"LED Mogu\",RIGHT(A309,2)=\"In\"),\"\",Worksheet!W335))","v":""},""]
[{"$f":"IF(Worksheet!K336=0,\"\",Worksheet!K336)","v":""},{"$f":"IF(Worksheet!L336=0,\"\",Worksheet!L336)","v":""},{"$f":"IF(Worksheet!M336=0,\"\",Worksheet!M336)","v":""},{"$f":"IF(Worksheet!N336=0,\"\",Worksheet!N336)","v":""},{"$f":"IF(Worksheet!P336=0,\"\",IF(OR(LEFT(B310,8)=\"LED Four\",LEFT(B310,8)=\"LED Tube\",LEFT(B310,8)=\"LED Mogu\",RIGHT(A310,2)=\"In\"),\"\",Worksheet!P336))","v":""},{"$f":"IF(Worksheet!R336=0,\"\",Worksheet!R336)","v":""},"",{"$f":"IF(Worksheet!Q336=0,\"\",Worksheet!Q336)","v":""},{"$f":"IF(OR(LEFT(B310,8)=\"LED Four\",LEFT(B310,8)=\"LED Tube\",LEFT(B310,8)=\"LED Mogu\",RIGHT(A310,2)=\"In\"),H310*Worksheet!V336,\"\")","v":""},{"$f":"IF(Worksheet!V336=0,\"\",IF(OR(LEFT(B310,8)=\"LED Four\",LEFT(B310,8)=\"LED Tube\",LEFT(B310,8)=\"LED Mogu\",RIGHT(A310,2)=\"In\"),\"\",Worksheet!V336))","v":""},"",{"$f":"IF(OR(LEFT(B310,8)=\"LED Four\",LEFT(B310,8)=\"LED Tube\",LEFT(B310,8)=\"LED Mogu\",RIGHT(A310,2)=\"In\"),H310*Worksheet!W336,\"\")","v":""},{"$f":"IF(Worksheet!W336=0,\"\",IF(OR(LEFT(B310,8)=\"LED Four\",LEFT(B310,8)=\"LED Tube\",LEFT(B310,8)=\"LED Mogu\",RIGHT(A310,2)=\"In\"),\"\",Worksheet!W336))","v":""},""]
[{"$f":"IF(Worksheet!K337=0,\"\",Worksheet!K337)","v":""},{"$f":"IF(Worksheet!L337=0,\"\",Worksheet!L337)","v":""},{"$f":"IF(Worksheet!M337=0,\"\",Worksheet!M337)","v":""},{"$f":"IF(Worksheet!N337=0,\"\",Worksheet!N337)","v":""},{"$f":"IF(Worksheet!P337=0,\"\",IF(OR(LEFT(B311,8)=\"LED Four\",LEFT(B311,8)=\"LED Tube\",LEFT(B311,8)=\"LED Mogu\",RIGHT(A311,2)=\"In\"),\"\",Worksheet!P337))","v":""},{"$f":"IF(Worksheet!R337=0,\"\",Worksheet!R337)","v":""},"",{"$f":"IF(Worksheet!Q337=0,\"\",Worksheet!Q337)","v":""},{"$f":"IF(OR(LEFT(B311,8)=\"LED Four\",LEFT(B311,8)=\"LED Tube\",LEFT(B311,8)=\"LED Mogu\",RIGHT(A311,2)=\"In\"),H311*Worksheet!V337,\"\")","v":""},{"$f":"IF(Worksheet!V337=0,\"\",IF(OR(LEFT(B311,8)=\"LED Four\",LEFT(B311,8)=\"LED Tube\",LEFT(B311,8)=\"LED Mogu\",RIGHT(A311,2)=\"In\"),\"\",Worksheet!V337))","v":""},"",{"$f":"IF(OR(LEFT(B311,8)=\"LED Four\",LEFT(B311,8)=\"LED Tube\",LEFT(B311,8)=\"LED Mogu\",RIGHT(A311,2)=\"In\"),H311*Worksheet!W337,\"\")","v":""},{"$f":"IF(Worksheet!W337=0,\"\",IF(OR(LEFT(B311,8)=\"LED Four\",LEFT(B311,8)=\"LED Tube\",LEFT(B311,8)=\"LED Mogu\",RIGHT(A311,2)=\"In\"),\"\",Worksheet!W337))","v":""},""]
[{"$f":"IF(Worksheet!K338=0,\"\",Worksheet!K338)","v":""},{"$f":"IF(Worksheet!L338=0,\"\",Worksheet!L338)","v":""},{"$f":"IF(Worksheet!M338=0,\"\",Worksheet!M338)","v":""},{"$f":"IF(Worksheet!N338=0,\"\",Worksheet!N338)","v":""},{"$f":"IF(Worksheet!P338=0,\"\",IF(OR(LEFT(B312,8)=\"LED Four\",LEFT(B312,8)=\"LED Tube\",LEFT(B312,8)=\"LED Mogu\",RIGHT(A312,2)=\"In\"),\"\",Worksheet!P338))","v":""},{"$f":"IF(Worksheet!R338=0,\"\",Worksheet!R338)","v":""},"",{"$f":"IF(Worksheet!Q338=0,\"\",Worksheet!Q338)","v":""},{"$f":"IF(OR(LEFT(B312,8)=\"LED Four\",LEFT(B312,8)=\"LED Tube\",LEFT(B312,8)=\"LED Mogu\",RIGHT(A312,2)=\"In\"),H312*Worksheet!V338,\"\")","v":""},{"$f":"IF(Worksheet!V338=0,\"\",IF(OR(LEFT(B312,8)=\"LED Four\",LEFT(B312,8)=\"LED Tube\",LEFT(B312,8)=\"LED Mogu\",RIGHT(A312,2)=\"In\"),\"\",Worksheet!V338))","v":""},"",{"$f":"IF(OR(LEFT(B312,8)=\"LED Four\",LEFT(B312,8)=\"LED Tube\",LEFT(B312,8)=\"LED Mogu\",RIGHT(A312,2)=\"In\"),H312*Worksheet!W338,\"\")","v":""},{"$f":"IF(Worksheet!W338=0,\"\",IF(OR(LEFT(B312,8)=\"LED Four\",LEFT(B312,8)=\"LED Tube\",LEFT(B312,8)=\"LED Mogu\",RIGHT(A312,2)=\"In\"),\"\",Worksheet!W338))","v":""},""]
[{"$f":"IF(Worksheet!K339=0,\"\",Worksheet!K339)","v":""},{"$f":"IF(Worksheet!L339=0,\"\",Worksheet!L339)","v":""},{"$f":"IF(Worksheet!M339=0,\"\",Worksheet!M339)","v":""},{"$f":"IF(Worksheet!N339=0,\"\",Worksheet!N339)","v":""},{"$f":"IF(Worksheet!P339=0,\"\",IF(OR(LEFT(B313,8)=\"LED Four\",LEFT(B313,8)=\"LED Tube\",LEFT(B313,8)=\"LED Mogu\",RIGHT(A313,2)=\"In\"),\"\",Worksheet!P339))","v":""},{"$f":"IF(Worksheet!R339=0,\"\",Worksheet!R339)","v":""},"",{"$f":"IF(Worksheet!Q339=0,\"\",Worksheet!Q339)","v":""},{"$f":"IF(OR(LEFT(B313,8)=\"LED Four\",LEFT(B313,8)=\"LED Tube\",LEFT(B313,8)=\"LED Mogu\",RIGHT(A313,2)=\"In\"),H313*Worksheet!V339,\"\")","v":""},{"$f":"IF(Worksheet!V339=0,\"\",IF(OR(LEFT(B313,8)=\"LED Four\",LEFT(B313,8)=\"LED Tube\",LEFT(B313,8)=\"LED Mogu\",RIGHT(A313,2)=\"In\"),\"\",Worksheet!V339))","v":""},"",{"$f":"IF(OR(LEFT(B313,8)=\"LED Four\",LEFT(B313,8)=\"LED Tube\",LEFT(B313,8)=\"LED Mogu\",RIGHT(A313,2)=\"In\"),H313*Worksheet!W339,\"\")","v":""},{"$f":"IF(Worksheet!W339=0,\"\",IF(OR(LEFT(B313,8)=\"LED Four\",LEFT(B313,8)=\"LED Tube\",LEFT(B313,8)=\"LED Mogu\",RIGHT(A313,2)=\"In\"),\"\",Worksheet!W339))","v":""},""]
[{"$f":"IF(Worksheet!K340=0,\"\",Worksheet!K340)","v":""},{"$f":"IF(Worksheet!L340=0,\"\",Worksheet!L340)","v":""},{"$f":"IF(Worksheet!M340=0,\"\",Worksheet!M340)","v":""},{"$f":"IF(Worksheet!N340=0,\"\",Worksheet!N340)","v":""},{"$f":"IF(Worksheet!P340=0,\"\",IF(OR(LEFT(B314,8)=\"LED Four\",LEFT(B314,8)=\"LED Tube\",LEFT(B314,8)=\"LED Mogu\",RIGHT(A314,2)=\"In\"),\"\",Worksheet!P340))","v":""},{"$f":"IF(Worksheet!R340=0,\"\",Worksheet!R340)","v":""},"",{"$f":"IF(Worksheet!Q340=0,\"\",Worksheet!Q340)","v":""},{"$f":"IF(OR(LEFT(B314,8)=\"LED Four\",LEFT(B314,8)=\"LED Tube\",LEFT(B314,8)=\"LED Mogu\",RIGHT(A314,2)=\"In\"),H314*Worksheet!V340,\"\")","v":""},{"$f":"IF(Worksheet!V340=0,\"\",IF(OR(LEFT(B314,8)=\"LED Four\",LEFT(B314,8)=\"LED Tube\",LEFT(B314,8)=\"LED Mogu\",RIGHT(A314,2)=\"In\"),\"\",Worksheet!V340))","v":""},"",{"$f":"IF(OR(LEFT(B314,8)=\"LED Four\",LEFT(B314,8)=\"LED Tube\",LEFT(B314,8)=\"LED Mogu\",RIGHT(A314,2)=\"In\"),H314*Worksheet!W340,\"\")","v":""},{"$f":"IF(Worksheet!W340=0,\"\",IF(OR(LEFT(B314,8)=\"LED Four\",LEFT(B314,8)=\"LED Tube\",LEFT(B314,8)=\"LED Mogu\",RIGHT(A314,2)=\"In\"),\"\",Worksheet!W340))","v":""},""]
[{"$f":"IF(Worksheet!K341=0,\"\",Worksheet!K341)","v":""},{"$f":"IF(Worksheet!L341=0,\"\",Worksheet!L341)","v":""},{"$f":"IF(Worksheet!M341=0,\"\",Worksheet!M341)","v":""},{"$f":"IF(Worksheet!N341=0,\"\",Worksheet!N341)","v":""},{"$f":"IF(Worksheet!P341=0,\"\",IF(OR(LEFT(B315,8)=\"LED Four\",LEFT(B315,8)=\"LED Tube\",LEFT(B315,8)=\"LED Mogu\",RIGHT(A315,2)=\"In\"),\"\",Worksheet!P341))","v":""},{"$f":"IF(Worksheet!R341=0,\"\",Worksheet!R341)","v":""},"",{"$f":"IF(Worksheet!Q341=0,\"\",Worksheet!Q341)","v":""},{"$f":"IF(OR(LEFT(B315,8)=\"LED Four\",LEFT(B315,8)=\"LED Tube\",LEFT(B315,8)=\"LED Mogu\",RIGHT(A315,2)=\"In\"),H315*Worksheet!V341,\"\")","v":""},{"$f":"IF(Worksheet!V341=0,\"\",IF(OR(LEFT(B315,8)=\"LED Four\",LEFT(B315,8)=\"LED Tube\",LEFT(B315,8)=\"LED Mogu\",RIGHT(A315,2)=\"In\"),\"\",Worksheet!V341))","v":""},"",{"$f":"IF(OR(LEFT(B315,8)=\"LED Four\",LEFT(B315,8)=\"LED Tube\",LEFT(B315,8)=\"LED Mogu\",RIGHT(A315,2)=\"In\"),H315*Worksheet!W341,\"\")","v":""},{"$f":"IF(Worksheet!W341=0,\"\",IF(OR(LEFT(B315,8)=\"LED Four\",LEFT(B315,8)=\"LED Tube\",LEFT(B315,8)=\"LED Mogu\",RIGHT(A315,2)=\"In\"),\"\",Worksheet!W341))","v":""},""]
[{"$f":"IF(Worksheet!K342=0,\"\",Worksheet!K342)","v":""},{"$f":"IF(Worksheet!L342=0,\"\",Worksheet!L342)","v":""},{"$f":"IF(Worksheet!M342=0,\"\",Worksheet!M342)","v":""},{"$f":"IF(Worksheet!N342=0,\"\",Worksheet!N342)","v":""},{"$f":"IF(Worksheet!P342=0,\"\",IF(OR(LEFT(B316,8)=\"LED Four\",LEFT(B316,8)=\"LED Tube\",LEFT(B316,8)=\"LED Mogu\",RIGHT(A316,2)=\"In\"),\"\",Worksheet!P342))","v":""},{"$f":"IF(Worksheet!R342=0,\"\",Worksheet!R342)","v":""},"",{"$f":"IF(Worksheet!Q342=0,\"\",Worksheet!Q342)","v":""},{"$f":"IF(OR(LEFT(B316,8)=\"LED Four\",LEFT(B316,8)=\"LED Tube\",LEFT(B316,8)=\"LED Mogu\",RIGHT(A316,2)=\"In\"),H316*Worksheet!V342,\"\")","v":""},{"$f":"IF(Worksheet!V342=0,\"\",IF(OR(LEFT(B316,8)=\"LED Four\",LEFT(B316,8)=\"LED Tube\",LEFT(B316,8)=\"LED Mogu\",RIGHT(A316,2)=\"In\"),\"\",Worksheet!V342))","v":""},"",{"$f":"IF(OR(LEFT(B316,8)=\"LED Four\",LEFT(B316,8)=\"LED Tube\",LEFT(B316,8)=\"LED Mogu\",RIGHT(A316,2)=\"In\"),H316*Worksheet!W342,\"\")","v":""},{"$f":"IF(Worksheet!W342=0,\"\",IF(OR(LEFT(B316,8)=\"LED Four\",LEFT(B316,8)=\"LED Tube\",LEFT(B316,8)=\"LED Mogu\",RIGHT(A316,2)=\"In\"),\"\",Worksheet!W342))","v":""},""]
[{"$f":"IF(Worksheet!K343=0,\"\",Worksheet!K343)","v":""},{"$f":"IF(Worksheet!L343=0,\"\",Worksheet!L343)","v":""},{"$f":"IF(Worksheet!M343=0,\"\",Worksheet!M343)","v":""},{"$f":"IF(Worksheet!N343=0,\"\",Worksheet!N343)","v":""},{"$f":"IF(Worksheet!P343=0,\"\",IF(OR(LEFT(B317,8)=\"LED Four\",LEFT(B317,8)=\"LED Tube\",LEFT(B317,8)=\"LED Mogu\",RIGHT(A317,2)=\"In\"),\"\",Worksheet!P343))","v":""},{"$f":"IF(Worksheet!R343=0,\"\",Worksheet!R343)","v":""},"",{"$f":"IF(Worksheet!Q343=0,\"\",Worksheet!Q343)","v":""},{"$f":"IF(OR(LEFT(B317,8)=\"LED Four\",LEFT(B317,8)=\"LED Tube\",LEFT(B317,8)=\"LED Mogu\",RIGHT(A317,2)=\"In\"),H317*Worksheet!V343,\"\")","v":""},{"$f":"IF(Worksheet!V343=0,\"\",IF(OR(LEFT(B317,8)=\"LED Four\",LEFT(B317,8)=\"LED Tube\",LEFT(B317,8)=\"LED Mogu\",RIGHT(A317,2)=\"In\"),\"\",Worksheet!V343))","v":""},"",{"$f":"IF(OR(LEFT(B317,8)=\"LED Four\",LEFT(B317,8)=\"LED Tube\",LEFT(B317,8)=\"LED Mogu\",RIGHT(A317,2)=\"In\"),H317*Worksheet!W343,\"\")","v":""},{"$f":"IF(Worksheet!W343=0,\"\",IF(OR(LEFT(B317,8)=\"LED Four\",LEFT(B317,8)=\"LED Tube\",LEFT(B317,8)=\"LED Mogu\",RIGHT(A317,2)=\"In\"),\"\",Worksheet!W343))","v":""},""]
[{"$f":"IF(Worksheet!K344=0,\"\",Worksheet!K344)","v":""},{"$f":"IF(Worksheet!L344=0,\"\",Worksheet!L344)","v":""},{"$f":"IF(Worksheet!M344=0,\"\",Worksheet!M344)","v":""},{"$f":"IF(Worksheet!N344=0,\"\",Worksheet!N344)","v":""},{"$f":"IF(Worksheet!P344=0,\"\",IF(OR(LEFT(B318,8)=\"LED Four\",LEFT(B318,8)=\"LED Tube\",LEFT(B318,8)=\"LED Mogu\",RIGHT(A318,2)=\"In\"),\"\",Worksheet!P344))","v":""},{"$f":"IF(Worksheet!R344=0,\"\",Worksheet!R344)","v":""},"",{"$f":"IF(Worksheet!Q344=0,\"\",Worksheet!Q344)","v":""},{"$f":"IF(OR(LEFT(B318,8)=\"LED Four\",LEFT(B318,8)=\"LED Tube\",LEFT(B318,8)=\"LED Mogu\",RIGHT(A318,2)=\"In\"),H318*Worksheet!V344,\"\")","v":""},{"$f":"IF(Worksheet!V344=0,\"\",IF(OR(LEFT(B318,8)=\"LED Four\",LEFT(B318,8)=\"LED Tube\",LEFT(B318,8)=\"LED Mogu\",RIGHT(A318,2)=\"In\"),\"\",Worksheet!V344))","v":""},"",{"$f":"IF(OR(LEFT(B318,8)=\"LED Four\",LEFT(B318,8)=\"LED Tube\",LEFT(B318,8)=\"LED Mogu\",RIGHT(A318,2)=\"In\"),H318*Worksheet!W344,\"\")","v":""},{"$f":"IF(Worksheet!W344=0,\"\",IF(OR(LEFT(B318,8)=\"LED Four\",LEFT(B318,8)=\"LED Tube\",LEFT(B318,8)=\"LED Mogu\",RIGHT(A318,2)=\"In\"),\"\",Worksheet!W344))","v":""},""]
[{"$f":"IF(Worksheet!K345=0,\"\",Worksheet!K345)","v":""},{"$f":"IF(Worksheet!L345=0,\"\",Worksheet!L345)","v":""},{"$f":"IF(Worksheet!M345=0,\"\",Worksheet!M345)","v":""},{"$f":"IF(Worksheet!N345=0,\"\",Worksheet!N345)","v":""},{"$f":"IF(Worksheet!P345=0,\"\",IF(OR(LEFT(B319,8)=\"LED Four\",LEFT(B319,8)=\"LED Tube\",LEFT(B319,8)=\"LED Mogu\",RIGHT(A319,2)=\"In\"),\"\",Worksheet!P345))","v":""},{"$f":"IF(Worksheet!R345=0,\"\",Worksheet!R345)","v":""},"",{"$f":"IF(Worksheet!Q345=0,\"\",Worksheet!Q345)","v":""},{"$f":"IF(OR(LEFT(B319,8)=\"LED Four\",LEFT(B319,8)=\"LED Tube\",LEFT(B319,8)=\"LED Mogu\",RIGHT(A319,2)=\"In\"),H319*Worksheet!V345,\"\")","v":""},{"$f":"IF(Worksheet!V345=0,\"\",IF(OR(LEFT(B319,8)=\"LED Four\",LEFT(B319,8)=\"LED Tube\",LEFT(B319,8)=\"LED Mogu\",RIGHT(A319,2)=\"In\"),\"\",Worksheet!V345))","v":""},"",{"$f":"IF(OR(LEFT(B319,8)=\"LED Four\",LEFT(B319,8)=\"LED Tube\",LEFT(B319,8)=\"LED Mogu\",RIGHT(A319,2)=\"In\"),H319*Worksheet!W345,\"\")","v":""},{"$f":"IF(Worksheet!W345=0,\"\",IF(OR(LEFT(B319,8)=\"LED Four\",LEFT(B319,8)=\"LED Tube\",LEFT(B319,8)=\"LED Mogu\",RIGHT(A319,2)=\"In\"),\"\",Worksheet!W345))","v":""},""]
[{"$f":"IF(Worksheet!K346=0,\"\",Worksheet!K346)","v":""},{"$f":"IF(Worksheet!L346=0,\"\",Worksheet!L346)","v":""},{"$f":"IF(Worksheet!M346=0,\"\",Worksheet!M346)","v":""},{"$f":"IF(Worksheet!N346=0,\"\",Worksheet!N346)","v":""},{"$f":"IF(Worksheet!P346=0,\"\",IF(OR(LEFT(B320,8)=\"LED Four\",LEFT(B320,8)=\"LED Tube\",LEFT(B320,8)=\"LED Mogu\",RIGHT(A320,2)=\"In\"),\"\",Worksheet!P346))","v":""},{"$f":"IF(Worksheet!R346=0,\"\",Worksheet!R346)","v":""},"",{"$f":"IF(Worksheet!Q346=0,\"\",Worksheet!Q346)","v":""},{"$f":"IF(OR(LEFT(B320,8)=\"LED Four\",LEFT(B320,8)=\"LED Tube\",LEFT(B320,8)=\"LED Mogu\",RIGHT(A320,2)=\"In\"),H320*Worksheet!V346,\"\")","v":""},{"$f":"IF(Worksheet!V346=0,\"\",IF(OR(LEFT(B320,8)=\"LED Four\",LEFT(B320,8)=\"LED Tube\",LEFT(B320,8)=\"LED Mogu\",RIGHT(A320,2)=\"In\"),\"\",Worksheet!V346))","v":""},"",{"$f":"IF(OR(LEFT(B320,8)=\"LED Four\",LEFT(B320,8)=\"LED Tube\",LEFT(B320,8)=\"LED Mogu\",RIGHT(A320,2)=\"In\"),H320*Worksheet!W346,\"\")","v":""},{"$f":"IF(Worksheet!W346=0,\"\",IF(OR(LEFT(B320,8)=\"LED Four\",LEFT(B320,8)=\"LED Tube\",LEFT(B320,8)=\"LED Mogu\",RIGHT(A320,2)=\"In\"),\"\",Worksheet!W346))","v":""},""]
[{"$f":"IF(Worksheet!K347=0,\"\",Worksheet!K347)","v":""},{"$f":"IF(Worksheet!L347=0,\"\",Worksheet!L347)","v":""},{"$f":"IF(Worksheet!M347=0,\"\",Worksheet!M347)","v":""},{"$f":"IF(Worksheet!N347=0,\"\",Worksheet!N347)","v":""},{"$f":"IF(Worksheet!P347=0,\"\",IF(OR(LEFT(B321,8)=\"LED Four\",LEFT(B321,8)=\"LED Tube\",LEFT(B321,8)=\"LED Mogu\",RIGHT(A321,2)=\"In\"),\"\",Worksheet!P347))","v":""},{"$f":"IF(Worksheet!R347=0,\"\",Worksheet!R347)","v":""},"",{"$f":"IF(Worksheet!Q347=0,\"\",Worksheet!Q347)","v":""},{"$f":"IF(OR(LEFT(B321,8)=\"LED Four\",LEFT(B321,8)=\"LED Tube\",LEFT(B321,8)=\"LED Mogu\",RIGHT(A321,2)=\"In\"),H321*Worksheet!V347,\"\")","v":""},{"$f":"IF(Worksheet!V347=0,\"\",IF(OR(LEFT(B321,8)=\"LED Four\",LEFT(B321,8)=\"LED Tube\",LEFT(B321,8)=\"LED Mogu\",RIGHT(A321,2)=\"In\"),\"\",Worksheet!V347))","v":""},"",{"$f":"IF(OR(LEFT(B321,8)=\"LED Four\",LEFT(B321,8)=\"LED Tube\",LEFT(B321,8)=\"LED Mogu\",RIGHT(A321,2)=\"In\"),H321*Worksheet!W347,\"\")","v":""},{"$f":"IF(Worksheet!W347=0,\"\",IF(OR(LEFT(B321,8)=\"LED Four\",LEFT(B321,8)=\"LED Tube\",LEFT(B321,8)=\"LED Mogu\",RIGHT(A321,2)=\"In\"),\"\",Worksheet!W347))","v":""},""]
[{"$f":"IF(Worksheet!K348=0,\"\",Worksheet!K348)","v":""},{"$f":"IF(Worksheet!L348=0,\"\",Worksheet!L348)","v":""},{"$f":"IF(Worksheet!M348=0,\"\",Worksheet!M348)","v":""},{"$f":"IF(Worksheet!N348=0,\"\",Worksheet!N348)","v":""},{"$f":"IF(Worksheet!P348=0,\"\",IF(OR(LEFT(B322,8)=\"LED Four\",LEFT(B322,8)=\"LED Tube\",LEFT(B322,8)=\"LED Mogu\",RIGHT(A322,2)=\"In\"),\"\",Worksheet!P348))","v":""},{"$f":"IF(Worksheet!R348=0,\"\",Worksheet!R348)","v":""},"",{"$f":"IF(Worksheet!Q348=0,\"\",Worksheet!Q348)","v":""},{"$f":"IF(OR(LEFT(B322,8)=\"LED Four\",LEFT(B322,8)=\"LED Tube\",LEFT(B322,8)=\"LED Mogu\",RIGHT(A322,2)=\"In\"),H322*Worksheet!V348,\"\")","v":""},{"$f":"IF(Worksheet!V348=0,\"\",IF(OR(LEFT(B322,8)=\"LED Four\",LEFT(B322,8)=\"LED Tube\",LEFT(B322,8)=\"LED Mogu\",RIGHT(A322,2)=\"In\"),\"\",Worksheet!V348))","v":""},"",{"$f":"IF(OR(LEFT(B322,8)=\"LED Four\",LEFT(B322,8)=\"LED Tube\",LEFT(B322,8)=\"LED Mogu\",RIGHT(A322,2)=\"In\"),H322*Worksheet!W348,\"\")","v":""},{"$f":"IF(Worksheet!W348=0,\"\",IF(OR(LEFT(B322,8)=\"LED Four\",LEFT(B322,8)=\"LED Tube\",LEFT(B322,8)=\"LED Mogu\",RIGHT(A322,2)=\"In\"),\"\",Worksheet!W348))","v":""},""]
[{"$f":"IF(Worksheet!K349=0,\"\",Worksheet!K349)","v":""},{"$f":"IF(Worksheet!L349=0,\"\",Worksheet!L349)","v":""},{"$f":"IF(Worksheet!M349=0,\"\",Worksheet!M349)","v":""},{"$f":"IF(Worksheet!N349=0,\"\",Worksheet!N349)","v":""},{"$f":"IF(Worksheet!P349=0,\"\",IF(OR(LEFT(B323,8)=\"LED Four\",LEFT(B323,8)=\"LED Tube\",LEFT(B323,8)=\"LED Mogu\",RIGHT(A323,2)=\"In\"),\"\",Worksheet!P349))","v":""},{"$f":"IF(Worksheet!R349=0,\"\",Worksheet!R349)","v":""},{"$f":"IF(MAX(E323:F323)=0,\"\",MAX(E323:F323))","v":""},{"$f":"IF(Worksheet!Q349=0,\"\",Worksheet!Q349)","v":""},{"$f":"IF(OR(LEFT(B323,8)=\"LED Four\",LEFT(B323,8)=\"LED Tube\",LEFT(B323,8)=\"LED Mogu\",RIGHT(A323,2)=\"In\"),H323*Worksheet!V349,\"\")","v":""},{"$f":"IF(Worksheet!V349=0,\"\",IF(OR(LEFT(B323,8)=\"LED Four\",LEFT(B323,8)=\"LED Tube\",LEFT(B323,8)=\"LED Mogu\",RIGHT(A323,2)=\"In\"),\"\",Worksheet!V349))","v":""},{"$f":"(IF(MAX(I323:J323)=0,\"\",MAX(I323:J323)))","v":""},{"$f":"IF(OR(LEFT(B323,8)=\"LED Four\",LEFT(B323,8)=\"LED Tube\",LEFT(B323,8)=\"LED Mogu\",RIGHT(A323,2)=\"In\"),H323*Worksheet!W349,\"\")","v":""},{"$f":"IF(Worksheet!W349=0,\"\",IF(OR(LEFT(B323,8)=\"LED Four\",LEFT(B323,8)=\"LED Tube\",LEFT(B323,8)=\"LED Mogu\",RIGHT(A323,2)=\"In\"),\"\",Worksheet!W349))","v":""},{"$f":"IF(MAX(L323:M323)=0,\"\",MAX(L323:M323))","v":""}]
[{"$f":"IF(Worksheet!K350=0,\"\",Worksheet!K350)","v":""},{"$f":"IF(Worksheet!L350=0,\"\",Worksheet!L350)","v":""},{"$f":"IF(Worksheet!M350=0,\"\",Worksheet!M350)","v":""},{"$f":"IF(Worksheet!N350=0,\"\",Worksheet!N350)","v":""},{"$f":"IF(Worksheet!P350=0,\"\",IF(OR(LEFT(B324,8)=\"LED Four\",LEFT(B324,8)=\"LED Tube\",LEFT(B324,8)=\"LED Mogu\",RIGHT(A324,2)=\"In\"),\"\",Worksheet!P350))","v":""},{"$f":"IF(Worksheet!R350=0,\"\",Worksheet!R350)","v":""},"",{"$f":"IF(Worksheet!Q350=0,\"\",Worksheet!Q350)","v":""},{"$f":"IF(OR(LEFT(B324,8)=\"LED Four\",LEFT(B324,8)=\"LED Tube\",LEFT(B324,8)=\"LED Mogu\",RIGHT(A324,2)=\"In\"),H324*Worksheet!V350,\"\")","v":""},{"$f":"IF(Worksheet!V350=0,\"\",IF(OR(LEFT(B324,8)=\"LED Four\",LEFT(B324,8)=\"LED Tube\",LEFT(B324,8)=\"LED Mogu\",RIGHT(A324,2)=\"In\"),\"\",Worksheet!V350))","v":""},"",{"$f":"IF(OR(LEFT(B324,8)=\"LED Four\",LEFT(B324,8)=\"LED Tube\",LEFT(B324,8)=\"LED Mogu\",RIGHT(A324,2)=\"In\"),H324*Worksheet!W350,\"\")","v":""},{"$f":"IF(Worksheet!W350=0,\"\",IF(OR(LEFT(B324,8)=\"LED Four\",LEFT(B324,8)=\"LED Tube\",LEFT(B324,8)=\"LED Mogu\",RIGHT(A324,2)=\"In\"),\"\",Worksheet!W350))","v":""},""]
[{"$f":"IF(Worksheet!K351=0,\"\",Worksheet!K351)","v":""},{"$f":"IF(Worksheet!L351=0,\"\",Worksheet!L351)","v":""},{"$f":"IF(Worksheet!M351=0,\"\",Worksheet!M351)","v":""},{"$f":"IF(Worksheet!N351=0,\"\",Worksheet!N351)","v":""},{"$f":"IF(Worksheet!P351=0,\"\",IF(OR(LEFT(B325,8)=\"LED Four\",LEFT(B325,8)=\"LED Tube\",LEFT(B325,8)=\"LED Mogu\",RIGHT(A325,2)=\"In\"),\"\",Worksheet!P351))","v":""},{"$f":"IF(Worksheet!R351=0,\"\",Worksheet!R351)","v":""},"",{"$f":"IF(Worksheet!Q351=0,\"\",Worksheet!Q351)","v":""},{"$f":"IF(OR(LEFT(B325,8)=\"LED Four\",LEFT(B325,8)=\"LED Tube\",LEFT(B325,8)=\"LED Mogu\",RIGHT(A325,2)=\"In\"),H325*Worksheet!V351,\"\")","v":""},{"$f":"IF(Worksheet!V351=0,\"\",IF(OR(LEFT(B325,8)=\"LED Four\",LEFT(B325,8)=\"LED Tube\",LEFT(B325,8)=\"LED Mogu\",RIGHT(A325,2)=\"In\"),\"\",Worksheet!V351))","v":""},"",{"$f":"IF(OR(LEFT(B325,8)=\"LED Four\",LEFT(B325,8)=\"LED Tube\",LEFT(B325,8)=\"LED Mogu\",RIGHT(A325,2)=\"In\"),H325*Worksheet!W351,\"\")","v":""},{"$f":"IF(Worksheet!W351=0,\"\",IF(OR(LEFT(B325,8)=\"LED Four\",LEFT(B325,8)=\"LED Tube\",LEFT(B325,8)=\"LED Mogu\",RIGHT(A325,2)=\"In\"),\"\",Worksheet!W351))","v":""},""]
[{"$f":"IF(Worksheet!K352=0,\"\",Worksheet!K352)","v":""},{"$f":"IF(Worksheet!L352=0,\"\",Worksheet!L352)","v":""},{"$f":"IF(Worksheet!M352=0,\"\",Worksheet!M352)","v":""},{"$f":"IF(Worksheet!N352=0,\"\",Worksheet!N352)","v":""},{"$f":"IF(Worksheet!P352=0,\"\",IF(OR(LEFT(B326,8)=\"LED Four\",LEFT(B326,8)=\"LED Tube\",LEFT(B326,8)=\"LED Mogu\",RIGHT(A326,2)=\"In\"),\"\",Worksheet!P352))","v":""},{"$f":"IF(Worksheet!R352=0,\"\",Worksheet!R352)","v":""},"",{"$f":"IF(Worksheet!Q352=0,\"\",Worksheet!Q352)","v":""},{"$f":"IF(OR(LEFT(B326,8)=\"LED Four\",LEFT(B326,8)=\"LED Tube\",LEFT(B326,8)=\"LED Mogu\",RIGHT(A326,2)=\"In\"),H326*Worksheet!V352,\"\")","v":""},{"$f":"IF(Worksheet!V352=0,\"\",IF(OR(LEFT(B326,8)=\"LED Four\",LEFT(B326,8)=\"LED Tube\",LEFT(B326,8)=\"LED Mogu\",RIGHT(A326,2)=\"In\"),\"\",Worksheet!V352))","v":""},"",{"$f":"IF(OR(LEFT(B326,8)=\"LED Four\",LEFT(B326,8)=\"LED Tube\",LEFT(B326,8)=\"LED Mogu\",RIGHT(A326,2)=\"In\"),H326*Worksheet!W352,\"\")","v":""},{"$f":"IF(Worksheet!W352=0,\"\",IF(OR(LEFT(B326,8)=\"LED Four\",LEFT(B326,8)=\"LED Tube\",LEFT(B326,8)=\"LED Mogu\",RIGHT(A326,2)=\"In\"),\"\",Worksheet!W352))","v":""},""]
[{"$f":"IF(Worksheet!K353=0,\"\",Worksheet!K353)","v":""},{"$f":"IF(Worksheet!L353=0,\"\",Worksheet!L353)","v":""},{"$f":"IF(Worksheet!M353=0,\"\",Worksheet!M353)","v":""},{"$f":"IF(Worksheet!N353=0,\"\",Worksheet!N353)","v":""},{"$f":"IF(Worksheet!P353=0,\"\",IF(OR(LEFT(B327,8)=\"LED Four\",LEFT(B327,8)=\"LED Tube\",LEFT(B327,8)=\"LED Mogu\",RIGHT(A327,2)=\"In\"),\"\",Worksheet!P353))","v":""},{"$f":"IF(Worksheet!R353=0,\"\",Worksheet!R353)","v":""},"",{"$f":"IF(Worksheet!Q353=0,\"\",Worksheet!Q353)","v":""},{"$f":"IF(OR(LEFT(B327,8)=\"LED Four\",LEFT(B327,8)=\"LED Tube\",LEFT(B327,8)=\"LED Mogu\",RIGHT(A327,2)=\"In\"),H327*Worksheet!V353,\"\")","v":""},{"$f":"IF(Worksheet!V353=0,\"\",IF(OR(LEFT(B327,8)=\"LED Four\",LEFT(B327,8)=\"LED Tube\",LEFT(B327,8)=\"LED Mogu\",RIGHT(A327,2)=\"In\"),\"\",Worksheet!V353))","v":""},"",{"$f":"IF(OR(LEFT(B327,8)=\"LED Four\",LEFT(B327,8)=\"LED Tube\",LEFT(B327,8)=\"LED Mogu\",RIGHT(A327,2)=\"In\"),H327*Worksheet!W353,\"\")","v":""},{"$f":"IF(Worksheet!W353=0,\"\",IF(OR(LEFT(B327,8)=\"LED Four\",LEFT(B327,8)=\"LED Tube\",LEFT(B327,8)=\"LED Mogu\",RIGHT(A327,2)=\"In\"),\"\",Worksheet!W353))","v":""},""]
[{"$f":"IF(Worksheet!K354=0,\"\",Worksheet!K354)","v":""},{"$f":"IF(Worksheet!L354=0,\"\",Worksheet!L354)","v":""},{"$f":"IF(Worksheet!M354=0,\"\",Worksheet!M354)","v":""},{"$f":"IF(Worksheet!N354=0,\"\",Worksheet!N354)","v":""},{"$f":"IF(Worksheet!P354=0,\"\",IF(OR(LEFT(B328,8)=\"LED Four\",LEFT(B328,8)=\"LED Tube\",LEFT(B328,8)=\"LED Mogu\",RIGHT(A328,2)=\"In\"),\"\",Worksheet!P354))","v":""},{"$f":"IF(Worksheet!R354=0,\"\",Worksheet!R354)","v":""},"",{"$f":"IF(Worksheet!Q354=0,\"\",Worksheet!Q354)","v":""},{"$f":"IF(OR(LEFT(B328,8)=\"LED Four\",LEFT(B328,8)=\"LED Tube\",LEFT(B328,8)=\"LED Mogu\",RIGHT(A328,2)=\"In\"),H328*Worksheet!V354,\"\")","v":""},{"$f":"IF(Worksheet!V354=0,\"\",IF(OR(LEFT(B328,8)=\"LED Four\",LEFT(B328,8)=\"LED Tube\",LEFT(B328,8)=\"LED Mogu\",RIGHT(A328,2)=\"In\"),\"\",Worksheet!V354))","v":""},"",{"$f":"IF(OR(LEFT(B328,8)=\"LED Four\",LEFT(B328,8)=\"LED Tube\",LEFT(B328,8)=\"LED Mogu\",RIGHT(A328,2)=\"In\"),H328*Worksheet!W354,\"\")","v":""},{"$f":"IF(Worksheet!W354=0,\"\",IF(OR(LEFT(B328,8)=\"LED Four\",LEFT(B328,8)=\"LED Tube\",LEFT(B328,8)=\"LED Mogu\",RIGHT(A328,2)=\"In\"),\"\",Worksheet!W354))","v":""},""]
[{"$f":"IF(Worksheet!K355=0,\"\",Worksheet!K355)","v":""},{"$f":"IF(Worksheet!L355=0,\"\",Worksheet!L355)","v":""},{"$f":"IF(Worksheet!M355=0,\"\",Worksheet!M355)","v":""},{"$f":"IF(Worksheet!N355=0,\"\",Worksheet!N355)","v":""},{"$f":"IF(Worksheet!P355=0,\"\",IF(OR(LEFT(B329,8)=\"LED Four\",LEFT(B329,8)=\"LED Tube\",LEFT(B329,8)=\"LED Mogu\",RIGHT(A329,2)=\"In\"),\"\",Worksheet!P355))","v":""},{"$f":"IF(Worksheet!R355=0,\"\",Worksheet!R355)","v":""},"",{"$f":"IF(Worksheet!Q355=0,\"\",Worksheet!Q355)","v":""},{"$f":"IF(OR(LEFT(B329,8)=\"LED Four\",LEFT(B329,8)=\"LED Tube\",LEFT(B329,8)=\"LED Mogu\",RIGHT(A329,2)=\"In\"),H329*Worksheet!V355,\"\")","v":""},{"$f":"IF(Worksheet!V355=0,\"\",IF(OR(LEFT(B329,8)=\"LED Four\",LEFT(B329,8)=\"LED Tube\",LEFT(B329,8)=\"LED Mogu\",RIGHT(A329,2)=\"In\"),\"\",Worksheet!V355))","v":""},"",{"$f":"IF(OR(LEFT(B329,8)=\"LED Four\",LEFT(B329,8)=\"LED Tube\",LEFT(B329,8)=\"LED Mogu\",RIGHT(A329,2)=\"In\"),H329*Worksheet!W355,\"\")","v":""},{"$f":"IF(Worksheet!W355=0,\"\",IF(OR(LEFT(B329,8)=\"LED Four\",LEFT(B329,8)=\"LED Tube\",LEFT(B329,8)=\"LED Mogu\",RIGHT(A329,2)=\"In\"),\"\",Worksheet!W355))","v":""},""]
[{"$f":"IF(Worksheet!K356=0,\"\",Worksheet!K356)","v":""},{"$f":"IF(Worksheet!L356=0,\"\",Worksheet!L356)","v":""},{"$f":"IF(Worksheet!M356=0,\"\",Worksheet!M356)","v":""},{"$f":"IF(Worksheet!N356=0,\"\",Worksheet!N356)","v":""},{"$f":"IF(Worksheet!P356=0,\"\",IF(OR(LEFT(B330,8)=\"LED Four\",LEFT(B330,8)=\"LED Tube\",LEFT(B330,8)=\"LED Mogu\",RIGHT(A330,2)=\"In\"),\"\",Worksheet!P356))","v":""},{"$f":"IF(Worksheet!R356=0,\"\",Worksheet!R356)","v":""},"",{"$f":"IF(Worksheet!Q356=0,\"\",Worksheet!Q356)","v":""},{"$f":"IF(OR(LEFT(B330,8)=\"LED Four\",LEFT(B330,8)=\"LED Tube\",LEFT(B330,8)=\"LED Mogu\",RIGHT(A330,2)=\"In\"),H330*Worksheet!V356,\"\")","v":""},{"$f":"IF(Worksheet!V356=0,\"\",IF(OR(LEFT(B330,8)=\"LED Four\",LEFT(B330,8)=\"LED Tube\",LEFT(B330,8)=\"LED Mogu\",RIGHT(A330,2)=\"In\"),\"\",Worksheet!V356))","v":""},"",{"$f":"IF(OR(LEFT(B330,8)=\"LED Four\",LEFT(B330,8)=\"LED Tube\",LEFT(B330,8)=\"LED Mogu\",RIGHT(A330,2)=\"In\"),H330*Worksheet!W356,\"\")","v":""},{"$f":"IF(Worksheet!W356=0,\"\",IF(OR(LEFT(B330,8)=\"LED Four\",LEFT(B330,8)=\"LED Tube\",LEFT(B330,8)=\"LED Mogu\",RIGHT(A330,2)=\"In\"),\"\",Worksheet!W356))","v":""},""]
[{"$f":"IF(Worksheet!K357=0,\"\",Worksheet!K357)","v":""},{"$f":"IF(Worksheet!L357=0,\"\",Worksheet!L357)","v":""},{"$f":"IF(Worksheet!M357=0,\"\",Worksheet!M357)","v":""},{"$f":"IF(Worksheet!N357=0,\"\",Worksheet!N357)","v":""},{"$f":"IF(Worksheet!P357=0,\"\",IF(OR(LEFT(B331,8)=\"LED Four\",LEFT(B331,8)=\"LED Tube\",LEFT(B331,8)=\"LED Mogu\",RIGHT(A331,2)=\"In\"),\"\",Worksheet!P357))","v":""},{"$f":"IF(Worksheet!R357=0,\"\",Worksheet!R357)","v":""},"",{"$f":"IF(Worksheet!Q357=0,\"\",Worksheet!Q357)","v":""},{"$f":"IF(OR(LEFT(B331,8)=\"LED Four\",LEFT(B331,8)=\"LED Tube\",LEFT(B331,8)=\"LED Mogu\",RIGHT(A331,2)=\"In\"),H331*Worksheet!V357,\"\")","v":""},{"$f":"IF(Worksheet!V357=0,\"\",IF(OR(LEFT(B331,8)=\"LED Four\",LEFT(B331,8)=\"LED Tube\",LEFT(B331,8)=\"LED Mogu\",RIGHT(A331,2)=\"In\"),\"\",Worksheet!V357))","v":""},"",{"$f":"IF(OR(LEFT(B331,8)=\"LED Four\",LEFT(B331,8)=\"LED Tube\",LEFT(B331,8)=\"LED Mogu\",RIGHT(A331,2)=\"In\"),H331*Worksheet!W357,\"\")","v":""},{"$f":"IF(Worksheet!W357=0,\"\",IF(OR(LEFT(B331,8)=\"LED Four\",LEFT(B331,8)=\"LED Tube\",LEFT(B331,8)=\"LED Mogu\",RIGHT(A331,2)=\"In\"),\"\",Worksheet!W357))","v":""},""]
[{"$f":"IF(Worksheet!K358=0,\"\",Worksheet!K358)","v":""},{"$f":"IF(Worksheet!L358=0,\"\",Worksheet!L358)","v":""},{"$f":"IF(Worksheet!M358=0,\"\",Worksheet!M358)","v":""},{"$f":"IF(Worksheet!N358=0,\"\",Worksheet!N358)","v":""},{"$f":"IF(Worksheet!P358=0,\"\",IF(OR(LEFT(B332,8)=\"LED Four\",LEFT(B332,8)=\"LED Tube\",LEFT(B332,8)=\"LED Mogu\",RIGHT(A332,2)=\"In\"),\"\",Worksheet!P358))","v":""},{"$f":"IF(Worksheet!R358=0,\"\",Worksheet!R358)","v":""},"",{"$f":"IF(Worksheet!Q358=0,\"\",Worksheet!Q358)","v":""},{"$f":"IF(OR(LEFT(B332,8)=\"LED Four\",LEFT(B332,8)=\"LED Tube\",LEFT(B332,8)=\"LED Mogu\",RIGHT(A332,2)=\"In\"),H332*Worksheet!V358,\"\")","v":""},{"$f":"IF(Worksheet!V358=0,\"\",IF(OR(LEFT(B332,8)=\"LED Four\",LEFT(B332,8)=\"LED Tube\",LEFT(B332,8)=\"LED Mogu\",RIGHT(A332,2)=\"In\"),\"\",Worksheet!V358))","v":""},"",{"$f":"IF(OR(LEFT(B332,8)=\"LED Four\",LEFT(B332,8)=\"LED Tube\",LEFT(B332,8)=\"LED Mogu\",RIGHT(A332,2)=\"In\"),H332*Worksheet!W358,\"\")","v":""},{"$f":"IF(Worksheet!W358=0,\"\",IF(OR(LEFT(B332,8)=\"LED Four\",LEFT(B332,8)=\"LED Tube\",LEFT(B332,8)=\"LED Mogu\",RIGHT(A332,2)=\"In\"),\"\",Worksheet!W358))","v":""},""]
[{"$f":"IF(Worksheet!K359=0,\"\",Worksheet!K359)","v":""},{"$f":"IF(Worksheet!L359=0,\"\",Worksheet!L359)","v":""},{"$f":"IF(Worksheet!M359=0,\"\",Worksheet!M359)","v":""},{"$f":"IF(Worksheet!N359=0,\"\",Worksheet!N359)","v":""},{"$f":"IF(Worksheet!P359=0,\"\",IF(OR(LEFT(B333,8)=\"LED Four\",LEFT(B333,8)=\"LED Tube\",LEFT(B333,8)=\"LED Mogu\",RIGHT(A333,2)=\"In\"),\"\",Worksheet!P359))","v":""},{"$f":"IF(Worksheet!R359=0,\"\",Worksheet!R359)","v":""},"",{"$f":"IF(Worksheet!Q359=0,\"\",Worksheet!Q359)","v":""},{"$f":"IF(OR(LEFT(B333,8)=\"LED Four\",LEFT(B333,8)=\"LED Tube\",LEFT(B333,8)=\"LED Mogu\",RIGHT(A333,2)=\"In\"),H333*Worksheet!V359,\"\")","v":""},{"$f":"IF(Worksheet!V359=0,\"\",IF(OR(LEFT(B333,8)=\"LED Four\",LEFT(B333,8)=\"LED Tube\",LEFT(B333,8)=\"LED Mogu\",RIGHT(A333,2)=\"In\"),\"\",Worksheet!V359))","v":""},"",{"$f":"IF(OR(LEFT(B333,8)=\"LED Four\",LEFT(B333,8)=\"LED Tube\",LEFT(B333,8)=\"LED Mogu\",RIGHT(A333,2)=\"In\"),H333*Worksheet!W359,\"\")","v":""},{"$f":"IF(Worksheet!W359=0,\"\",IF(OR(LEFT(B333,8)=\"LED Four\",LEFT(B333,8)=\"LED Tube\",LEFT(B333,8)=\"LED Mogu\",RIGHT(A333,2)=\"In\"),\"\",Worksheet!W359))","v":""},""]
[{"$f":"IF(Worksheet!K360=0,\"\",Worksheet!K360)","v":""},{"$f":"IF(Worksheet!L360=0,\"\",Worksheet!L360)","v":""},{"$f":"IF(Worksheet!M360=0,\"\",Worksheet!M360)","v":""},{"$f":"IF(Worksheet!N360=0,\"\",Worksheet!N360)","v":""},{"$f":"IF(Worksheet!P360=0,\"\",IF(OR(LEFT(B334,8)=\"LED Four\",LEFT(B334,8)=\"LED Tube\",LEFT(B334,8)=\"LED Mogu\",RIGHT(A334,2)=\"In\"),\"\",Worksheet!P360))","v":""},{"$f":"IF(Worksheet!R360=0,\"\",Worksheet!R360)","v":""},"",{"$f":"IF(Worksheet!Q360=0,\"\",Worksheet!Q360)","v":""},{"$f":"IF(OR(LEFT(B334,8)=\"LED Four\",LEFT(B334,8)=\"LED Tube\",LEFT(B334,8)=\"LED Mogu\",RIGHT(A334,2)=\"In\"),H334*Worksheet!V360,\"\")","v":""},{"$f":"IF(Worksheet!V360=0,\"\",IF(OR(LEFT(B334,8)=\"LED Four\",LEFT(B334,8)=\"LED Tube\",LEFT(B334,8)=\"LED Mogu\",RIGHT(A334,2)=\"In\"),\"\",Worksheet!V360))","v":""},"",{"$f":"IF(OR(LEFT(B334,8)=\"LED Four\",LEFT(B334,8)=\"LED Tube\",LEFT(B334,8)=\"LED Mogu\",RIGHT(A334,2)=\"In\"),H334*Worksheet!W360,\"\")","v":""},{"$f":"IF(Worksheet!W360=0,\"\",IF(OR(LEFT(B334,8)=\"LED Four\",LEFT(B334,8)=\"LED Tube\",LEFT(B334,8)=\"LED Mogu\",RIGHT(A334,2)=\"In\"),\"\",Worksheet!W360))","v":""},""]
[{"$f":"IF(Worksheet!K361=0,\"\",Worksheet!K361)","v":""},{"$f":"IF(Worksheet!L361=0,\"\",Worksheet!L361)","v":""},{"$f":"IF(Worksheet!M361=0,\"\",Worksheet!M361)","v":""},{"$f":"IF(Worksheet!N361=0,\"\",Worksheet!N361)","v":""},{"$f":"IF(Worksheet!P361=0,\"\",IF(OR(LEFT(B335,8)=\"LED Four\",LEFT(B335,8)=\"LED Tube\",LEFT(B335,8)=\"LED Mogu\",RIGHT(A335,2)=\"In\"),\"\",Worksheet!P361))","v":""},{"$f":"IF(Worksheet!R361=0,\"\",Worksheet!R361)","v":""},"",{"$f":"IF(Worksheet!Q361=0,\"\",Worksheet!Q361)","v":""},{"$f":"IF(OR(LEFT(B335,8)=\"LED Four\",LEFT(B335,8)=\"LED Tube\",LEFT(B335,8)=\"LED Mogu\",RIGHT(A335,2)=\"In\"),H335*Worksheet!V361,\"\")","v":""},{"$f":"IF(Worksheet!V361=0,\"\",IF(OR(LEFT(B335,8)=\"LED Four\",LEFT(B335,8)=\"LED Tube\",LEFT(B335,8)=\"LED Mogu\",RIGHT(A335,2)=\"In\"),\"\",Worksheet!V361))","v":""},"",{"$f":"IF(OR(LEFT(B335,8)=\"LED Four\",LEFT(B335,8)=\"LED Tube\",LEFT(B335,8)=\"LED Mogu\",RIGHT(A335,2)=\"In\"),H335*Worksheet!W361,\"\")","v":""},{"$f":"IF(Worksheet!W361=0,\"\",IF(OR(LEFT(B335,8)=\"LED Four\",LEFT(B335,8)=\"LED Tube\",LEFT(B335,8)=\"LED Mogu\",RIGHT(A335,2)=\"In\"),\"\",Worksheet!W361))","v":""},""]
[{"$f":"IF(Worksheet!K362=0,\"\",Worksheet!K362)","v":""},{"$f":"IF(Worksheet!L362=0,\"\",Worksheet!L362)","v":""},{"$f":"IF(Worksheet!M362=0,\"\",Worksheet!M362)","v":""},{"$f":"IF(Worksheet!N362=0,\"\",Worksheet!N362)","v":""},{"$f":"IF(Worksheet!P362=0,\"\",IF(OR(LEFT(B336,8)=\"LED Four\",LEFT(B336,8)=\"LED Tube\",LEFT(B336,8)=\"LED Mogu\",RIGHT(A336,2)=\"In\"),\"\",Worksheet!P362))","v":""},{"$f":"IF(Worksheet!R362=0,\"\",Worksheet!R362)","v":""},"",{"$f":"IF(Worksheet!Q362=0,\"\",Worksheet!Q362)","v":""},{"$f":"IF(OR(LEFT(B336,8)=\"LED Four\",LEFT(B336,8)=\"LED Tube\",LEFT(B336,8)=\"LED Mogu\",RIGHT(A336,2)=\"In\"),H336*Worksheet!V362,\"\")","v":""},{"$f":"IF(Worksheet!V362=0,\"\",IF(OR(LEFT(B336,8)=\"LED Four\",LEFT(B336,8)=\"LED Tube\",LEFT(B336,8)=\"LED Mogu\",RIGHT(A336,2)=\"In\"),\"\",Worksheet!V362))","v":""},"",{"$f":"IF(OR(LEFT(B336,8)=\"LED Four\",LEFT(B336,8)=\"LED Tube\",LEFT(B336,8)=\"LED Mogu\",RIGHT(A336,2)=\"In\"),H336*Worksheet!W362,\"\")","v":""},{"$f":"IF(Worksheet!W362=0,\"\",IF(OR(LEFT(B336,8)=\"LED Four\",LEFT(B336,8)=\"LED Tube\",LEFT(B336,8)=\"LED Mogu\",RIGHT(A336,2)=\"In\"),\"\",Worksheet!W362))","v":""},""]
[{"$f":"IF(Worksheet!K363=0,\"\",Worksheet!K363)","v":""},{"$f":"IF(Worksheet!L363=0,\"\",Worksheet!L363)","v":""},{"$f":"IF(Worksheet!M363=0,\"\",Worksheet!M363)","v":""},{"$f":"IF(Worksheet!N363=0,\"\",Worksheet!N363)","v":""},{"$f":"IF(Worksheet!P363=0,\"\",IF(OR(LEFT(B337,8)=\"LED Four\",LEFT(B337,8)=\"LED Tube\",LEFT(B337,8)=\"LED Mogu\",RIGHT(A337,2)=\"In\"),\"\",Worksheet!P363))","v":""},{"$f":"IF(Worksheet!R363=0,\"\",Worksheet!R363)","v":""},"",{"$f":"IF(Worksheet!Q363=0,\"\",Worksheet!Q363)","v":""},{"$f":"IF(OR(LEFT(B337,8)=\"LED Four\",LEFT(B337,8)=\"LED Tube\",LEFT(B337,8)=\"LED Mogu\",RIGHT(A337,2)=\"In\"),H337*Worksheet!V363,\"\")","v":""},{"$f":"IF(Worksheet!V363=0,\"\",IF(OR(LEFT(B337,8)=\"LED Four\",LEFT(B337,8)=\"LED Tube\",LEFT(B337,8)=\"LED Mogu\",RIGHT(A337,2)=\"In\"),\"\",Worksheet!V363))","v":""},"",{"$f":"IF(OR(LEFT(B337,8)=\"LED Four\",LEFT(B337,8)=\"LED Tube\",LEFT(B337,8)=\"LED Mogu\",RIGHT(A337,2)=\"In\"),H337*Worksheet!W363,\"\")","v":""},{"$f":"IF(Worksheet!W363=0,\"\",IF(OR(LEFT(B337,8)=\"LED Four\",LEFT(B337,8)=\"LED Tube\",LEFT(B337,8)=\"LED Mogu\",RIGHT(A337,2)=\"In\"),\"\",Worksheet!W363))","v":""},""]
[{"$f":"IF(Worksheet!K364=0,\"\",Worksheet!K364)","v":""},{"$f":"IF(Worksheet!L364=0,\"\",Worksheet!L364)","v":""},{"$f":"IF(Worksheet!M364=0,\"\",Worksheet!M364)","v":""},{"$f":"IF(Worksheet!N364=0,\"\",Worksheet!N364)","v":""},{"$f":"IF(Worksheet!P364=0,\"\",IF(OR(LEFT(B338,8)=\"LED Four\",LEFT(B338,8)=\"LED Tube\",LEFT(B338,8)=\"LED Mogu\",RIGHT(A338,2)=\"In\"),\"\",Worksheet!P364))","v":""},{"$f":"IF(Worksheet!R364=0,\"\",Worksheet!R364)","v":""},"",{"$f":"IF(Worksheet!Q364=0,\"\",Worksheet!Q364)","v":""},{"$f":"IF(OR(LEFT(B338,8)=\"LED Four\",LEFT(B338,8)=\"LED Tube\",LEFT(B338,8)=\"LED Mogu\",RIGHT(A338,2)=\"In\"),H338*Worksheet!V364,\"\")","v":""},{"$f":"IF(Worksheet!V364=0,\"\",IF(OR(LEFT(B338,8)=\"LED Four\",LEFT(B338,8)=\"LED Tube\",LEFT(B338,8)=\"LED Mogu\",RIGHT(A338,2)=\"In\"),\"\",Worksheet!V364))","v":""},"",{"$f":"IF(OR(LEFT(B338,8)=\"LED Four\",LEFT(B338,8)=\"LED Tube\",LEFT(B338,8)=\"LED Mogu\",RIGHT(A338,2)=\"In\"),H338*Worksheet!W364,\"\")","v":""},{"$f":"IF(Worksheet!W364=0,\"\",IF(OR(LEFT(B338,8)=\"LED Four\",LEFT(B338,8)=\"LED Tube\",LEFT(B338,8)=\"LED Mogu\",RIGHT(A338,2)=\"In\"),\"\",Worksheet!W364))","v":""},""]
[{"$f":"IF(Worksheet!K365=0,\"\",Worksheet!K365)","v":""},{"$f":"IF(Worksheet!L365=0,\"\",Worksheet!L365)","v":""},{"$f":"IF(Worksheet!M365=0,\"\",Worksheet!M365)","v":""},{"$f":"IF(Worksheet!N365=0,\"\",Worksheet!N365)","v":""},{"$f":"IF(Worksheet!P365=0,\"\",IF(OR(LEFT(B339,8)=\"LED Four\",LEFT(B339,8)=\"LED Tube\",LEFT(B339,8)=\"LED Mogu\",RIGHT(A339,2)=\"In\"),\"\",Worksheet!P365))","v":""},{"$f":"IF(Worksheet!R365=0,\"\",Worksheet!R365)","v":""},"",{"$f":"IF(Worksheet!Q365=0,\"\",Worksheet!Q365)","v":""},{"$f":"IF(OR(LEFT(B339,8)=\"LED Four\",LEFT(B339,8)=\"LED Tube\",LEFT(B339,8)=\"LED Mogu\",RIGHT(A339,2)=\"In\"),H339*Worksheet!V365,\"\")","v":""},{"$f":"IF(Worksheet!V365=0,\"\",IF(OR(LEFT(B339,8)=\"LED Four\",LEFT(B339,8)=\"LED Tube\",LEFT(B339,8)=\"LED Mogu\",RIGHT(A339,2)=\"In\"),\"\",Worksheet!V365))","v":""},"",{"$f":"IF(OR(LEFT(B339,8)=\"LED Four\",LEFT(B339,8)=\"LED Tube\",LEFT(B339,8)=\"LED Mogu\",RIGHT(A339,2)=\"In\"),H339*Worksheet!W365,\"\")","v":""},{"$f":"IF(Worksheet!W365=0,\"\",IF(OR(LEFT(B339,8)=\"LED Four\",LEFT(B339,8)=\"LED Tube\",LEFT(B339,8)=\"LED Mogu\",RIGHT(A339,2)=\"In\"),\"\",Worksheet!W365))","v":""},""]
[{"$f":"IF(Worksheet!K366=0,\"\",Worksheet!K366)","v":""},{"$f":"IF(Worksheet!L366=0,\"\",Worksheet!L366)","v":""},{"$f":"IF(Worksheet!M366=0,\"\",Worksheet!M366)","v":""},{"$f":"IF(Worksheet!N366=0,\"\",Worksheet!N366)","v":""},{"$f":"IF(Worksheet!P366=0,\"\",IF(OR(LEFT(B340,8)=\"LED Four\",LEFT(B340,8)=\"LED Tube\",LEFT(B340,8)=\"LED Mogu\",RIGHT(A340,2)=\"In\"),\"\",Worksheet!P366))","v":""},{"$f":"IF(Worksheet!R366=0,\"\",Worksheet!R366)","v":""},"",{"$f":"IF(Worksheet!Q366=0,\"\",Worksheet!Q366)","v":""},{"$f":"IF(OR(LEFT(B340,8)=\"LED Four\",LEFT(B340,8)=\"LED Tube\",LEFT(B340,8)=\"LED Mogu\",RIGHT(A340,2)=\"In\"),H340*Worksheet!V366,\"\")","v":""},{"$f":"IF(Worksheet!V366=0,\"\",IF(OR(LEFT(B340,8)=\"LED Four\",LEFT(B340,8)=\"LED Tube\",LEFT(B340,8)=\"LED Mogu\",RIGHT(A340,2)=\"In\"),\"\",Worksheet!V366))","v":""},"",{"$f":"IF(OR(LEFT(B340,8)=\"LED Four\",LEFT(B340,8)=\"LED Tube\",LEFT(B340,8)=\"LED Mogu\",RIGHT(A340,2)=\"In\"),H340*Worksheet!W366,\"\")","v":""},{"$f":"IF(Worksheet!W366=0,\"\",IF(OR(LEFT(B340,8)=\"LED Four\",LEFT(B340,8)=\"LED Tube\",LEFT(B340,8)=\"LED Mogu\",RIGHT(A340,2)=\"In\"),\"\",Worksheet!W366))","v":""},""]
[{"$f":"IF(Worksheet!K367=0,\"\",Worksheet!K367)","v":""},{"$f":"IF(Worksheet!L367=0,\"\",Worksheet!L367)","v":""},{"$f":"IF(Worksheet!M367=0,\"\",Worksheet!M367)","v":""},{"$f":"IF(Worksheet!N367=0,\"\",Worksheet!N367)","v":""},{"$f":"IF(Worksheet!P367=0,\"\",IF(OR(LEFT(B341,8)=\"LED Four\",LEFT(B341,8)=\"LED Tube\",LEFT(B341,8)=\"LED Mogu\",RIGHT(A341,2)=\"In\"),\"\",Worksheet!P367))","v":""},{"$f":"IF(Worksheet!R367=0,\"\",Worksheet!R367)","v":""},"",{"$f":"IF(Worksheet!Q367=0,\"\",Worksheet!Q367)","v":""},{"$f":"IF(OR(LEFT(B341,8)=\"LED Four\",LEFT(B341,8)=\"LED Tube\",LEFT(B341,8)=\"LED Mogu\",RIGHT(A341,2)=\"In\"),H341*Worksheet!V367,\"\")","v":""},{"$f":"IF(Worksheet!V367=0,\"\",IF(OR(LEFT(B341,8)=\"LED Four\",LEFT(B341,8)=\"LED Tube\",LEFT(B341,8)=\"LED Mogu\",RIGHT(A341,2)=\"In\"),\"\",Worksheet!V367))","v":""},"",{"$f":"IF(OR(LEFT(B341,8)=\"LED Four\",LEFT(B341,8)=\"LED Tube\",LEFT(B341,8)=\"LED Mogu\",RIGHT(A341,2)=\"In\"),H341*Worksheet!W367,\"\")","v":""},{"$f":"IF(Worksheet!W367=0,\"\",IF(OR(LEFT(B341,8)=\"LED Four\",LEFT(B341,8)=\"LED Tube\",LEFT(B341,8)=\"LED Mogu\",RIGHT(A341,2)=\"In\"),\"\",Worksheet!W367))","v":""},""]
[{"$f":"IF(Worksheet!K368=0,\"\",Worksheet!K368)","v":""},{"$f":"IF(Worksheet!L368=0,\"\",Worksheet!L368)","v":""},{"$f":"IF(Worksheet!M368=0,\"\",Worksheet!M368)","v":""},{"$f":"IF(Worksheet!N368=0,\"\",Worksheet!N368)","v":""},{"$f":"IF(Worksheet!P368=0,\"\",IF(OR(LEFT(B342,8)=\"LED Four\",LEFT(B342,8)=\"LED Tube\",LEFT(B342,8)=\"LED Mogu\",RIGHT(A342,2)=\"In\"),\"\",Worksheet!P368))","v":""},{"$f":"IF(Worksheet!R368=0,\"\",Worksheet!R368)","v":""},"",{"$f":"IF(Worksheet!Q368=0,\"\",Worksheet!Q368)","v":""},{"$f":"IF(OR(LEFT(B342,8)=\"LED Four\",LEFT(B342,8)=\"LED Tube\",LEFT(B342,8)=\"LED Mogu\",RIGHT(A342,2)=\"In\"),H342*Worksheet!V368,\"\")","v":""},{"$f":"IF(Worksheet!V368=0,\"\",IF(OR(LEFT(B342,8)=\"LED Four\",LEFT(B342,8)=\"LED Tube\",LEFT(B342,8)=\"LED Mogu\",RIGHT(A342,2)=\"In\"),\"\",Worksheet!V368))","v":""},"",{"$f":"IF(OR(LEFT(B342,8)=\"LED Four\",LEFT(B342,8)=\"LED Tube\",LEFT(B342,8)=\"LED Mogu\",RIGHT(A342,2)=\"In\"),H342*Worksheet!W368,\"\")","v":""},{"$f":"IF(Worksheet!W368=0,\"\",IF(OR(LEFT(B342,8)=\"LED Four\",LEFT(B342,8)=\"LED Tube\",LEFT(B342,8)=\"LED Mogu\",RIGHT(A342,2)=\"In\"),\"\",Worksheet!W368))","v":""},""]
[{"$f":"IF(Worksheet!K369=0,\"\",Worksheet!K369)","v":""},{"$f":"IF(Worksheet!L369=0,\"\",Worksheet!L369)","v":""},{"$f":"IF(Worksheet!M369=0,\"\",Worksheet!M369)","v":""},{"$f":"IF(Worksheet!N369=0,\"\",Worksheet!N369)","v":""},{"$f":"IF(Worksheet!P369=0,\"\",IF(OR(LEFT(B343,8)=\"LED Four\",LEFT(B343,8)=\"LED Tube\",LEFT(B343,8)=\"LED Mogu\",RIGHT(A343,2)=\"In\"),\"\",Worksheet!P369))","v":""},{"$f":"IF(Worksheet!R369=0,\"\",Worksheet!R369)","v":""},"",{"$f":"IF(Worksheet!Q369=0,\"\",Worksheet!Q369)","v":""},{"$f":"IF(OR(LEFT(B343,8)=\"LED Four\",LEFT(B343,8)=\"LED Tube\",LEFT(B343,8)=\"LED Mogu\",RIGHT(A343,2)=\"In\"),H343*Worksheet!V369,\"\")","v":""},{"$f":"IF(Worksheet!V369=0,\"\",IF(OR(LEFT(B343,8)=\"LED Four\",LEFT(B343,8)=\"LED Tube\",LEFT(B343,8)=\"LED Mogu\",RIGHT(A343,2)=\"In\"),\"\",Worksheet!V369))","v":""},"",{"$f":"IF(OR(LEFT(B343,8)=\"LED Four\",LEFT(B343,8)=\"LED Tube\",LEFT(B343,8)=\"LED Mogu\",RIGHT(A343,2)=\"In\"),H343*Worksheet!W369,\"\")","v":""},{"$f":"IF(Worksheet!W369=0,\"\",IF(OR(LEFT(B343,8)=\"LED Four\",LEFT(B343,8)=\"LED Tube\",LEFT(B343,8)=\"LED Mogu\",RIGHT(A343,2)=\"In\"),\"\",Worksheet!W369))","v":""},""]
[{"$f":"IF(Worksheet!K370=0,\"\",Worksheet!K370)","v":""},{"$f":"IF(Worksheet!L370=0,\"\",Worksheet!L370)","v":""},{"$f":"IF(Worksheet!M370=0,\"\",Worksheet!M370)","v":""},{"$f":"IF(Worksheet!N370=0,\"\",Worksheet!N370)","v":""},{"$f":"IF(Worksheet!P370=0,\"\",IF(OR(LEFT(B344,8)=\"LED Four\",LEFT(B344,8)=\"LED Tube\",LEFT(B344,8)=\"LED Mogu\",RIGHT(A344,2)=\"In\"),\"\",Worksheet!P370))","v":""},{"$f":"IF(Worksheet!R370=0,\"\",Worksheet!R370)","v":""},"",{"$f":"IF(Worksheet!Q370=0,\"\",Worksheet!Q370)","v":""},{"$f":"IF(OR(LEFT(B344,8)=\"LED Four\",LEFT(B344,8)=\"LED Tube\",LEFT(B344,8)=\"LED Mogu\",RIGHT(A344,2)=\"In\"),H344*Worksheet!V370,\"\")","v":""},{"$f":"IF(Worksheet!V370=0,\"\",IF(OR(LEFT(B344,8)=\"LED Four\",LEFT(B344,8)=\"LED Tube\",LEFT(B344,8)=\"LED Mogu\",RIGHT(A344,2)=\"In\"),\"\",Worksheet!V370))","v":""},"",{"$f":"IF(OR(LEFT(B344,8)=\"LED Four\",LEFT(B344,8)=\"LED Tube\",LEFT(B344,8)=\"LED Mogu\",RIGHT(A344,2)=\"In\"),H344*Worksheet!W370,\"\")","v":""},{"$f":"IF(Worksheet!W370=0,\"\",IF(OR(LEFT(B344,8)=\"LED Four\",LEFT(B344,8)=\"LED Tube\",LEFT(B344,8)=\"LED Mogu\",RIGHT(A344,2)=\"In\"),\"\",Worksheet!W370))","v":""},""]
[{"$f":"IF(Worksheet!K371=0,\"\",Worksheet!K371)","v":""},{"$f":"IF(Worksheet!L371=0,\"\",Worksheet!L371)","v":""},{"$f":"IF(Worksheet!M371=0,\"\",Worksheet!M371)","v":""},{"$f":"IF(Worksheet!N371=0,\"\",Worksheet!N371)","v":""},{"$f":"IF(Worksheet!P371=0,\"\",IF(OR(LEFT(B345,8)=\"LED Four\",LEFT(B345,8)=\"LED Tube\",LEFT(B345,8)=\"LED Mogu\",RIGHT(A345,2)=\"In\"),\"\",Worksheet!P371))","v":""},{"$f":"IF(Worksheet!R371=0,\"\",Worksheet!R371)","v":""},"",{"$f":"IF(Worksheet!Q371=0,\"\",Worksheet!Q371)","v":""},{"$f":"IF(OR(LEFT(B345,8)=\"LED Four\",LEFT(B345,8)=\"LED Tube\",LEFT(B345,8)=\"LED Mogu\",RIGHT(A345,2)=\"In\"),H345*Worksheet!V371,\"\")","v":""},{"$f":"IF(Worksheet!V371=0,\"\",IF(OR(LEFT(B345,8)=\"LED Four\",LEFT(B345,8)=\"LED Tube\",LEFT(B345,8)=\"LED Mogu\",RIGHT(A345,2)=\"In\"),\"\",Worksheet!V371))","v":""},"",{"$f":"IF(OR(LEFT(B345,8)=\"LED Four\",LEFT(B345,8)=\"LED Tube\",LEFT(B345,8)=\"LED Mogu\",RIGHT(A345,2)=\"In\"),H345*Worksheet!W371,\"\")","v":""},{"$f":"IF(Worksheet!W371=0,\"\",IF(OR(LEFT(B345,8)=\"LED Four\",LEFT(B345,8)=\"LED Tube\",LEFT(B345,8)=\"LED Mogu\",RIGHT(A345,2)=\"In\"),\"\",Worksheet!W371))","v":""},""]
[{"$f":"IF(Worksheet!K372=0,\"\",Worksheet!K372)","v":""},{"$f":"IF(Worksheet!L372=0,\"\",Worksheet!L372)","v":""},{"$f":"IF(Worksheet!M372=0,\"\",Worksheet!M372)","v":""},{"$f":"IF(Worksheet!N372=0,\"\",Worksheet!N372)","v":""},{"$f":"IF(Worksheet!P372=0,\"\",IF(OR(LEFT(B346,8)=\"LED Four\",LEFT(B346,8)=\"LED Tube\",LEFT(B346,8)=\"LED Mogu\",RIGHT(A346,2)=\"In\"),\"\",Worksheet!P372))","v":""},{"$f":"IF(Worksheet!R372=0,\"\",Worksheet!R372)","v":""},"",{"$f":"IF(Worksheet!Q372=0,\"\",Worksheet!Q372)","v":""},{"$f":"IF(OR(LEFT(B346,8)=\"LED Four\",LEFT(B346,8)=\"LED Tube\",LEFT(B346,8)=\"LED Mogu\",RIGHT(A346,2)=\"In\"),H346*Worksheet!V372,\"\")","v":""},{"$f":"IF(Worksheet!V372=0,\"\",IF(OR(LEFT(B346,8)=\"LED Four\",LEFT(B346,8)=\"LED Tube\",LEFT(B346,8)=\"LED Mogu\",RIGHT(A346,2)=\"In\"),\"\",Worksheet!V372))","v":""},"",{"$f":"IF(OR(LEFT(B346,8)=\"LED Four\",LEFT(B346,8)=\"LED Tube\",LEFT(B346,8)=\"LED Mogu\",RIGHT(A346,2)=\"In\"),H346*Worksheet!W372,\"\")","v":""},{"$f":"IF(Worksheet!W372=0,\"\",IF(OR(LEFT(B346,8)=\"LED Four\",LEFT(B346,8)=\"LED Tube\",LEFT(B346,8)=\"LED Mogu\",RIGHT(A346,2)=\"In\"),\"\",Worksheet!W372))","v":""},""]
[{"$f":"IF(Worksheet!K373=0,\"\",Worksheet!K373)","v":""},{"$f":"IF(Worksheet!L373=0,\"\",Worksheet!L373)","v":""},{"$f":"IF(Worksheet!M373=0,\"\",Worksheet!M373)","v":""},{"$f":"IF(Worksheet!N373=0,\"\",Worksheet!N373)","v":""},{"$f":"IF(Worksheet!P373=0,\"\",IF(OR(LEFT(B347,8)=\"LED Four\",LEFT(B347,8)=\"LED Tube\",LEFT(B347,8)=\"LED Mogu\",RIGHT(A347,2)=\"In\"),\"\",Worksheet!P373))","v":""},{"$f":"IF(Worksheet!R373=0,\"\",Worksheet!R373)","v":""},"",{"$f":"IF(Worksheet!Q373=0,\"\",Worksheet!Q373)","v":""},{"$f":"IF(OR(LEFT(B347,8)=\"LED Four\",LEFT(B347,8)=\"LED Tube\",LEFT(B347,8)=\"LED Mogu\",RIGHT(A347,2)=\"In\"),H347*Worksheet!V373,\"\")","v":""},{"$f":"IF(Worksheet!V373=0,\"\",IF(OR(LEFT(B347,8)=\"LED Four\",LEFT(B347,8)=\"LED Tube\",LEFT(B347,8)=\"LED Mogu\",RIGHT(A347,2)=\"In\"),\"\",Worksheet!V373))","v":""},"",{"$f":"IF(OR(LEFT(B347,8)=\"LED Four\",LEFT(B347,8)=\"LED Tube\",LEFT(B347,8)=\"LED Mogu\",RIGHT(A347,2)=\"In\"),H347*Worksheet!W373,\"\")","v":""},{"$f":"IF(Worksheet!W373=0,\"\",IF(OR(LEFT(B347,8)=\"LED Four\",LEFT(B347,8)=\"LED Tube\",LEFT(B347,8)=\"LED Mogu\",RIGHT(A347,2)=\"In\"),\"\",Worksheet!W373))","v":""},""]
[{"$f":"IF(Worksheet!K374=0,\"\",Worksheet!K374)","v":""},{"$f":"IF(Worksheet!L374=0,\"\",Worksheet!L374)","v":""},{"$f":"IF(Worksheet!M374=0,\"\",Worksheet!M374)","v":""},{"$f":"IF(Worksheet!N374=0,\"\",Worksheet!N374)","v":""},{"$f":"IF(Worksheet!P374=0,\"\",IF(OR(LEFT(B348,8)=\"LED Four\",LEFT(B348,8)=\"LED Tube\",LEFT(B348,8)=\"LED Mogu\",RIGHT(A348,2)=\"In\"),\"\",Worksheet!P374))","v":""},{"$f":"IF(Worksheet!R374=0,\"\",Worksheet!R374)","v":""},"",{"$f":"IF(Worksheet!Q374=0,\"\",Worksheet!Q374)","v":""},{"$f":"IF(OR(LEFT(B348,8)=\"LED Four\",LEFT(B348,8)=\"LED Tube\",LEFT(B348,8)=\"LED Mogu\",RIGHT(A348,2)=\"In\"),H348*Worksheet!V374,\"\")","v":""},{"$f":"IF(Worksheet!V374=0,\"\",IF(OR(LEFT(B348,8)=\"LED Four\",LEFT(B348,8)=\"LED Tube\",LEFT(B348,8)=\"LED Mogu\",RIGHT(A348,2)=\"In\"),\"\",Worksheet!V374))","v":""},"",{"$f":"IF(OR(LEFT(B348,8)=\"LED Four\",LEFT(B348,8)=\"LED Tube\",LEFT(B348,8)=\"LED Mogu\",RIGHT(A348,2)=\"In\"),H348*Worksheet!W374,\"\")","v":""},{"$f":"IF(Worksheet!W374=0,\"\",IF(OR(LEFT(B348,8)=\"LED Four\",LEFT(B348,8)=\"LED Tube\",LEFT(B348,8)=\"LED Mogu\",RIGHT(A348,2)=\"In\"),\"\",Worksheet!W374))","v":""},""]
[{"$f":"IF(Worksheet!K375=0,\"\",Worksheet!K375)","v":""},{"$f":"IF(Worksheet!L375=0,\"\",Worksheet!L375)","v":""},{"$f":"IF(Worksheet!M375=0,\"\",Worksheet!M375)","v":""},{"$f":"IF(Worksheet!N375=0,\"\",Worksheet!N375)","v":""},{"$f":"IF(Worksheet!P375=0,\"\",IF(OR(LEFT(B349,8)=\"LED Four\",LEFT(B349,8)=\"LED Tube\",LEFT(B349,8)=\"LED Mogu\",RIGHT(A349,2)=\"In\"),\"\",Worksheet!P375))","v":""},{"$f":"IF(Worksheet!R375=0,\"\",Worksheet!R375)","v":""},"",{"$f":"IF(Worksheet!Q375=0,\"\",Worksheet!Q375)","v":""},{"$f":"IF(OR(LEFT(B349,8)=\"LED Four\",LEFT(B349,8)=\"LED Tube\",LEFT(B349,8)=\"LED Mogu\",RIGHT(A349,2)=\"In\"),H349*Worksheet!V375,\"\")","v":""},{"$f":"IF(Worksheet!V375=0,\"\",IF(OR(LEFT(B349,8)=\"LED Four\",LEFT(B349,8)=\"LED Tube\",LEFT(B349,8)=\"LED Mogu\",RIGHT(A349,2)=\"In\"),\"\",Worksheet!V375))","v":""},"",{"$f":"IF(OR(LEFT(B349,8)=\"LED Four\",LEFT(B349,8)=\"LED Tube\",LEFT(B349,8)=\"LED Mogu\",RIGHT(A349,2)=\"In\"),H349*Worksheet!W375,\"\")","v":""},{"$f":"IF(Worksheet!W375=0,\"\",IF(OR(LEFT(B349,8)=\"LED Four\",LEFT(B349,8)=\"LED Tube\",LEFT(B349,8)=\"LED Mogu\",RIGHT(A349,2)=\"In\"),\"\",Worksheet!W375))","v":""},""]
[{"$f":"IF(Worksheet!K376=0,\"\",Worksheet!K376)","v":""},{"$f":"IF(Worksheet!L376=0,\"\",Worksheet!L376)","v":""},{"$f":"IF(Worksheet!M376=0,\"\",Worksheet!M376)","v":""},{"$f":"IF(Worksheet!N376=0,\"\",Worksheet!N376)","v":""},{"$f":"IF(Worksheet!P376=0,\"\",IF(OR(LEFT(B350,8)=\"LED Four\",LEFT(B350,8)=\"LED Tube\",LEFT(B350,8)=\"LED Mogu\",RIGHT(A350,2)=\"In\"),\"\",Worksheet!P376))","v":""},{"$f":"IF(Worksheet!R376=0,\"\",Worksheet!R376)","v":""},"",{"$f":"IF(Worksheet!Q376=0,\"\",Worksheet!Q376)","v":""},{"$f":"IF(OR(LEFT(B350,8)=\"LED Four\",LEFT(B350,8)=\"LED Tube\",LEFT(B350,8)=\"LED Mogu\",RIGHT(A350,2)=\"In\"),H350*Worksheet!V376,\"\")","v":""},{"$f":"IF(Worksheet!V376=0,\"\",IF(OR(LEFT(B350,8)=\"LED Four\",LEFT(B350,8)=\"LED Tube\",LEFT(B350,8)=\"LED Mogu\",RIGHT(A350,2)=\"In\"),\"\",Worksheet!V376))","v":""},"",{"$f":"IF(OR(LEFT(B350,8)=\"LED Four\",LEFT(B350,8)=\"LED Tube\",LEFT(B350,8)=\"LED Mogu\",RIGHT(A350,2)=\"In\"),H350*Worksheet!W376,\"\")","v":""},{"$f":"IF(Worksheet!W376=0,\"\",IF(OR(LEFT(B350,8)=\"LED Four\",LEFT(B350,8)=\"LED Tube\",LEFT(B350,8)=\"LED Mogu\",RIGHT(A350,2)=\"In\"),\"\",Worksheet!W376))","v":""},""]
[{"$f":"IF(Worksheet!K377=0,\"\",Worksheet!K377)","v":""},{"$f":"IF(Worksheet!L377=0,\"\",Worksheet!L377)","v":""},{"$f":"IF(Worksheet!M377=0,\"\",Worksheet!M377)","v":""},{"$f":"IF(Worksheet!N377=0,\"\",Worksheet!N377)","v":""},{"$f":"IF(Worksheet!P377=0,\"\",IF(OR(LEFT(B351,8)=\"LED Four\",LEFT(B351,8)=\"LED Tube\",LEFT(B351,8)=\"LED Mogu\",RIGHT(A351,2)=\"In\"),\"\",Worksheet!P377))","v":""},{"$f":"IF(Worksheet!R377=0,\"\",Worksheet!R377)","v":""},"",{"$f":"IF(Worksheet!Q377=0,\"\",Worksheet!Q377)","v":""},{"$f":"IF(OR(LEFT(B351,8)=\"LED Four\",LEFT(B351,8)=\"LED Tube\",LEFT(B351,8)=\"LED Mogu\",RIGHT(A351,2)=\"In\"),H351*Worksheet!V377,\"\")","v":""},{"$f":"IF(Worksheet!V377=0,\"\",IF(OR(LEFT(B351,8)=\"LED Four\",LEFT(B351,8)=\"LED Tube\",LEFT(B351,8)=\"LED Mogu\",RIGHT(A351,2)=\"In\"),\"\",Worksheet!V377))","v":""},"",{"$f":"IF(OR(LEFT(B351,8)=\"LED Four\",LEFT(B351,8)=\"LED Tube\",LEFT(B351,8)=\"LED Mogu\",RIGHT(A351,2)=\"In\"),H351*Worksheet!W377,\"\")","v":""},{"$f":"IF(Worksheet!W377=0,\"\",IF(OR(LEFT(B351,8)=\"LED Four\",LEFT(B351,8)=\"LED Tube\",LEFT(B351,8)=\"LED Mogu\",RIGHT(A351,2)=\"In\"),\"\",Worksheet!W377))","v":""},""]
[{"$f":"IF(Worksheet!K378=0,\"\",Worksheet!K378)","v":""},{"$f":"IF(Worksheet!L378=0,\"\",Worksheet!L378)","v":""},{"$f":"IF(Worksheet!M378=0,\"\",Worksheet!M378)","v":""},{"$f":"IF(Worksheet!N378=0,\"\",Worksheet!N378)","v":""},{"$f":"IF(Worksheet!P378=0,\"\",IF(OR(LEFT(B352,8)=\"LED Four\",LEFT(B352,8)=\"LED Tube\",LEFT(B352,8)=\"LED Mogu\",RIGHT(A352,2)=\"In\"),\"\",Worksheet!P378))","v":""},{"$f":"IF(Worksheet!R378=0,\"\",Worksheet!R378)","v":""},"",{"$f":"IF(Worksheet!Q378=0,\"\",Worksheet!Q378)","v":""},{"$f":"IF(OR(LEFT(B352,8)=\"LED Four\",LEFT(B352,8)=\"LED Tube\",LEFT(B352,8)=\"LED Mogu\",RIGHT(A352,2)=\"In\"),H352*Worksheet!V378,\"\")","v":""},{"$f":"IF(Worksheet!V378=0,\"\",IF(OR(LEFT(B352,8)=\"LED Four\",LEFT(B352,8)=\"LED Tube\",LEFT(B352,8)=\"LED Mogu\",RIGHT(A352,2)=\"In\"),\"\",Worksheet!V378))","v":""},"",{"$f":"IF(OR(LEFT(B352,8)=\"LED Four\",LEFT(B352,8)=\"LED Tube\",LEFT(B352,8)=\"LED Mogu\",RIGHT(A352,2)=\"In\"),H352*Worksheet!W378,\"\")","v":""},{"$f":"IF(Worksheet!W378=0,\"\",IF(OR(LEFT(B352,8)=\"LED Four\",LEFT(B352,8)=\"LED Tube\",LEFT(B352,8)=\"LED Mogu\",RIGHT(A352,2)=\"In\"),\"\",Worksheet!W378))","v":""},""]
[{"$f":"IF(Worksheet!K379=0,\"\",Worksheet!K379)","v":""},{"$f":"IF(Worksheet!L379=0,\"\",Worksheet!L379)","v":""},{"$f":"IF(Worksheet!M379=0,\"\",Worksheet!M379)","v":""},{"$f":"IF(Worksheet!N379=0,\"\",Worksheet!N379)","v":""},{"$f":"IF(Worksheet!P379=0,\"\",IF(OR(LEFT(B353,8)=\"LED Four\",LEFT(B353,8)=\"LED Tube\",LEFT(B353,8)=\"LED Mogu\",RIGHT(A353,2)=\"In\"),\"\",Worksheet!P379))","v":""},{"$f":"IF(Worksheet!R379=0,\"\",Worksheet!R379)","v":""},"",{"$f":"IF(Worksheet!Q379=0,\"\",Worksheet!Q379)","v":""},{"$f":"IF(OR(LEFT(B353,8)=\"LED Four\",LEFT(B353,8)=\"LED Tube\",LEFT(B353,8)=\"LED Mogu\",RIGHT(A353,2)=\"In\"),H353*Worksheet!V379,\"\")","v":""},{"$f":"IF(Worksheet!V379=0,\"\",IF(OR(LEFT(B353,8)=\"LED Four\",LEFT(B353,8)=\"LED Tube\",LEFT(B353,8)=\"LED Mogu\",RIGHT(A353,2)=\"In\"),\"\",Worksheet!V379))","v":""},"",{"$f":"IF(OR(LEFT(B353,8)=\"LED Four\",LEFT(B353,8)=\"LED Tube\",LEFT(B353,8)=\"LED Mogu\",RIGHT(A353,2)=\"In\"),H353*Worksheet!W379,\"\")","v":""},{"$f":"IF(Worksheet!W379=0,\"\",IF(OR(LEFT(B353,8)=\"LED Four\",LEFT(B353,8)=\"LED Tube\",LEFT(B353,8)=\"LED Mogu\",RIGHT(A353,2)=\"In\"),\"\",Worksheet!W379))","v":""},""]
[{"$f":"IF(Worksheet!K380=0,\"\",Worksheet!K380)","v":""},{"$f":"IF(Worksheet!L380=0,\"\",Worksheet!L380)","v":""},{"$f":"IF(Worksheet!M380=0,\"\",Worksheet!M380)","v":""},{"$f":"IF(Worksheet!N380=0,\"\",Worksheet!N380)","v":""},{"$f":"IF(Worksheet!P380=0,\"\",IF(OR(LEFT(B354,8)=\"LED Four\",LEFT(B354,8)=\"LED Tube\",LEFT(B354,8)=\"LED Mogu\",RIGHT(A354,2)=\"In\"),\"\",Worksheet!P380))","v":""},{"$f":"IF(Worksheet!R380=0,\"\",Worksheet!R380)","v":""},"",{"$f":"IF(Worksheet!Q380=0,\"\",Worksheet!Q380)","v":""},{"$f":"IF(OR(LEFT(B354,8)=\"LED Four\",LEFT(B354,8)=\"LED Tube\",LEFT(B354,8)=\"LED Mogu\",RIGHT(A354,2)=\"In\"),H354*Worksheet!V380,\"\")","v":""},{"$f":"IF(Worksheet!V380=0,\"\",IF(OR(LEFT(B354,8)=\"LED Four\",LEFT(B354,8)=\"LED Tube\",LEFT(B354,8)=\"LED Mogu\",RIGHT(A354,2)=\"In\"),\"\",Worksheet!V380))","v":""},"",{"$f":"IF(OR(LEFT(B354,8)=\"LED Four\",LEFT(B354,8)=\"LED Tube\",LEFT(B354,8)=\"LED Mogu\",RIGHT(A354,2)=\"In\"),H354*Worksheet!W380,\"\")","v":""},{"$f":"IF(Worksheet!W380=0,\"\",IF(OR(LEFT(B354,8)=\"LED Four\",LEFT(B354,8)=\"LED Tube\",LEFT(B354,8)=\"LED Mogu\",RIGHT(A354,2)=\"In\"),\"\",Worksheet!W380))","v":""},""]
[{"$f":"IF(Worksheet!K381=0,\"\",Worksheet!K381)","v":""},{"$f":"IF(Worksheet!L381=0,\"\",Worksheet!L381)","v":""},{"$f":"IF(Worksheet!M381=0,\"\",Worksheet!M381)","v":""},{"$f":"IF(Worksheet!N381=0,\"\",Worksheet!N381)","v":""},{"$f":"IF(Worksheet!P381=0,\"\",IF(OR(LEFT(B355,8)=\"LED Four\",LEFT(B355,8)=\"LED Tube\",LEFT(B355,8)=\"LED Mogu\",RIGHT(A355,2)=\"In\"),\"\",Worksheet!P381))","v":""},{"$f":"IF(Worksheet!R381=0,\"\",Worksheet!R381)","v":""},"",{"$f":"IF(Worksheet!Q381=0,\"\",Worksheet!Q381)","v":""},{"$f":"IF(OR(LEFT(B355,8)=\"LED Four\",LEFT(B355,8)=\"LED Tube\",LEFT(B355,8)=\"LED Mogu\",RIGHT(A355,2)=\"In\"),H355*Worksheet!V381,\"\")","v":""},{"$f":"IF(Worksheet!V381=0,\"\",IF(OR(LEFT(B355,8)=\"LED Four\",LEFT(B355,8)=\"LED Tube\",LEFT(B355,8)=\"LED Mogu\",RIGHT(A355,2)=\"In\"),\"\",Worksheet!V381))","v":""},"",{"$f":"IF(OR(LEFT(B355,8)=\"LED Four\",LEFT(B355,8)=\"LED Tube\",LEFT(B355,8)=\"LED Mogu\",RIGHT(A355,2)=\"In\"),H355*Worksheet!W381,\"\")","v":""},{"$f":"IF(Worksheet!W381=0,\"\",IF(OR(LEFT(B355,8)=\"LED Four\",LEFT(B355,8)=\"LED Tube\",LEFT(B355,8)=\"LED Mogu\",RIGHT(A355,2)=\"In\"),\"\",Worksheet!W381))","v":""},""]
[{"$f":"IF(Worksheet!K382=0,\"\",Worksheet!K382)","v":""},{"$f":"IF(Worksheet!L382=0,\"\",Worksheet!L382)","v":""},{"$f":"IF(Worksheet!M382=0,\"\",Worksheet!M382)","v":""},{"$f":"IF(Worksheet!N382=0,\"\",Worksheet!N382)","v":""},{"$f":"IF(Worksheet!P382=0,\"\",IF(OR(LEFT(B356,8)=\"LED Four\",LEFT(B356,8)=\"LED Tube\",LEFT(B356,8)=\"LED Mogu\",RIGHT(A356,2)=\"In\"),\"\",Worksheet!P382))","v":""},{"$f":"IF(Worksheet!R382=0,\"\",Worksheet!R382)","v":""},"",{"$f":"IF(Worksheet!Q382=0,\"\",Worksheet!Q382)","v":""},{"$f":"IF(OR(LEFT(B356,8)=\"LED Four\",LEFT(B356,8)=\"LED Tube\",LEFT(B356,8)=\"LED Mogu\",RIGHT(A356,2)=\"In\"),H356*Worksheet!V382,\"\")","v":""},{"$f":"IF(Worksheet!V382=0,\"\",IF(OR(LEFT(B356,8)=\"LED Four\",LEFT(B356,8)=\"LED Tube\",LEFT(B356,8)=\"LED Mogu\",RIGHT(A356,2)=\"In\"),\"\",Worksheet!V382))","v":""},"",{"$f":"IF(OR(LEFT(B356,8)=\"LED Four\",LEFT(B356,8)=\"LED Tube\",LEFT(B356,8)=\"LED Mogu\",RIGHT(A356,2)=\"In\"),H356*Worksheet!W382,\"\")","v":""},{"$f":"IF(Worksheet!W382=0,\"\",IF(OR(LEFT(B356,8)=\"LED Four\",LEFT(B356,8)=\"LED Tube\",LEFT(B356,8)=\"LED Mogu\",RIGHT(A356,2)=\"In\"),\"\",Worksheet!W382))","v":""},""]
[{"$f":"IF(Worksheet!K383=0,\"\",Worksheet!K383)","v":""},{"$f":"IF(Worksheet!L383=0,\"\",Worksheet!L383)","v":""},{"$f":"IF(Worksheet!M383=0,\"\",Worksheet!M383)","v":""},{"$f":"IF(Worksheet!N383=0,\"\",Worksheet!N383)","v":""},{"$f":"IF(Worksheet!P383=0,\"\",IF(OR(LEFT(B357,8)=\"LED Four\",LEFT(B357,8)=\"LED Tube\",LEFT(B357,8)=\"LED Mogu\",RIGHT(A357,2)=\"In\"),\"\",Worksheet!P383))","v":""},{"$f":"IF(Worksheet!R383=0,\"\",Worksheet!R383)","v":""},"",{"$f":"IF(Worksheet!Q383=0,\"\",Worksheet!Q383)","v":""},{"$f":"IF(OR(LEFT(B357,8)=\"LED Four\",LEFT(B357,8)=\"LED Tube\",LEFT(B357,8)=\"LED Mogu\",RIGHT(A357,2)=\"In\"),H357*Worksheet!V383,\"\")","v":""},{"$f":"IF(Worksheet!V383=0,\"\",IF(OR(LEFT(B357,8)=\"LED Four\",LEFT(B357,8)=\"LED Tube\",LEFT(B357,8)=\"LED Mogu\",RIGHT(A357,2)=\"In\"),\"\",Worksheet!V383))","v":""},"",{"$f":"IF(OR(LEFT(B357,8)=\"LED Four\",LEFT(B357,8)=\"LED Tube\",LEFT(B357,8)=\"LED Mogu\",RIGHT(A357,2)=\"In\"),H357*Worksheet!W383,\"\")","v":""},{"$f":"IF(Worksheet!W383=0,\"\",IF(OR(LEFT(B357,8)=\"LED Four\",LEFT(B357,8)=\"LED Tube\",LEFT(B357,8)=\"LED Mogu\",RIGHT(A357,2)=\"In\"),\"\",Worksheet!W383))","v":""},""]
[{"$f":"IF(Worksheet!K384=0,\"\",Worksheet!K384)","v":""},{"$f":"IF(Worksheet!L384=0,\"\",Worksheet!L384)","v":""},{"$f":"IF(Worksheet!M384=0,\"\",Worksheet!M384)","v":""},{"$f":"IF(Worksheet!N384=0,\"\",Worksheet!N384)","v":""},{"$f":"IF(Worksheet!P384=0,\"\",IF(OR(LEFT(B358,8)=\"LED Four\",LEFT(B358,8)=\"LED Tube\",LEFT(B358,8)=\"LED Mogu\",RIGHT(A358,2)=\"In\"),\"\",Worksheet!P384))","v":""},{"$f":"IF(Worksheet!R384=0,\"\",Worksheet!R384)","v":""},"",{"$f":"IF(Worksheet!Q384=0,\"\",Worksheet!Q384)","v":""},{"$f":"IF(OR(LEFT(B358,8)=\"LED Four\",LEFT(B358,8)=\"LED Tube\",LEFT(B358,8)=\"LED Mogu\",RIGHT(A358,2)=\"In\"),H358*Worksheet!V384,\"\")","v":""},{"$f":"IF(Worksheet!V384=0,\"\",IF(OR(LEFT(B358,8)=\"LED Four\",LEFT(B358,8)=\"LED Tube\",LEFT(B358,8)=\"LED Mogu\",RIGHT(A358,2)=\"In\"),\"\",Worksheet!V384))","v":""},"",{"$f":"IF(OR(LEFT(B358,8)=\"LED Four\",LEFT(B358,8)=\"LED Tube\",LEFT(B358,8)=\"LED Mogu\",RIGHT(A358,2)=\"In\"),H358*Worksheet!W384,\"\")","v":""},{"$f":"IF(Worksheet!W384=0,\"\",IF(OR(LEFT(B358,8)=\"LED Four\",LEFT(B358,8)=\"LED Tube\",LEFT(B358,8)=\"LED Mogu\",RIGHT(A358,2)=\"In\"),\"\",Worksheet!W384))","v":""},""]
[{"$f":"IF(Worksheet!K385=0,\"\",Worksheet!K385)","v":""},{"$f":"IF(Worksheet!L385=0,\"\",Worksheet!L385)","v":""},{"$f":"IF(Worksheet!M385=0,\"\",Worksheet!M385)","v":""},{"$f":"IF(Worksheet!N385=0,\"\",Worksheet!N385)","v":""},{"$f":"IF(Worksheet!P385=0,\"\",IF(OR(LEFT(B359,8)=\"LED Four\",LEFT(B359,8)=\"LED Tube\",LEFT(B359,8)=\"LED Mogu\",RIGHT(A359,2)=\"In\"),\"\",Worksheet!P385))","v":""},{"$f":"IF(Worksheet!R385=0,\"\",Worksheet!R385)","v":""},"",{"$f":"IF(Worksheet!Q385=0,\"\",Worksheet!Q385)","v":""},{"$f":"IF(OR(LEFT(B359,8)=\"LED Four\",LEFT(B359,8)=\"LED Tube\",LEFT(B359,8)=\"LED Mogu\",RIGHT(A359,2)=\"In\"),H359*Worksheet!V385,\"\")","v":""},{"$f":"IF(Worksheet!V385=0,\"\",IF(OR(LEFT(B359,8)=\"LED Four\",LEFT(B359,8)=\"LED Tube\",LEFT(B359,8)=\"LED Mogu\",RIGHT(A359,2)=\"In\"),\"\",Worksheet!V385))","v":""},"",{"$f":"IF(OR(LEFT(B359,8)=\"LED Four\",LEFT(B359,8)=\"LED Tube\",LEFT(B359,8)=\"LED Mogu\",RIGHT(A359,2)=\"In\"),H359*Worksheet!W385,\"\")","v":""},{"$f":"IF(Worksheet!W385=0,\"\",IF(OR(LEFT(B359,8)=\"LED Four\",LEFT(B359,8)=\"LED Tube\",LEFT(B359,8)=\"LED Mogu\",RIGHT(A359,2)=\"In\"),\"\",Worksheet!W385))","v":""},""]
[{"$f":"IF(Worksheet!K386=0,\"\",Worksheet!K386)","v":""},{"$f":"IF(Worksheet!L386=0,\"\",Worksheet!L386)","v":""},{"$f":"IF(Worksheet!M386=0,\"\",Worksheet!M386)","v":""},{"$f":"IF(Worksheet!N386=0,\"\",Worksheet!N386)","v":""},{"$f":"IF(Worksheet!P386=0,\"\",IF(OR(LEFT(B360,8)=\"LED Four\",LEFT(B360,8)=\"LED Tube\",LEFT(B360,8)=\"LED Mogu\",RIGHT(A360,2)=\"In\"),\"\",Worksheet!P386))","v":""},{"$f":"IF(Worksheet!R386=0,\"\",Worksheet!R386)","v":""},"",{"$f":"IF(Worksheet!Q386=0,\"\",Worksheet!Q386)","v":""},{"$f":"IF(OR(LEFT(B360,8)=\"LED Four\",LEFT(B360,8)=\"LED Tube\",LEFT(B360,8)=\"LED Mogu\",RIGHT(A360,2)=\"In\"),H360*Worksheet!V386,\"\")","v":""},{"$f":"IF(Worksheet!V386=0,\"\",IF(OR(LEFT(B360,8)=\"LED Four\",LEFT(B360,8)=\"LED Tube\",LEFT(B360,8)=\"LED Mogu\",RIGHT(A360,2)=\"In\"),\"\",Worksheet!V386))","v":""},"",{"$f":"IF(OR(LEFT(B360,8)=\"LED Four\",LEFT(B360,8)=\"LED Tube\",LEFT(B360,8)=\"LED Mogu\",RIGHT(A360,2)=\"In\"),H360*Worksheet!W386,\"\")","v":""},{"$f":"IF(Worksheet!W386=0,\"\",IF(OR(LEFT(B360,8)=\"LED Four\",LEFT(B360,8)=\"LED Tube\",LEFT(B360,8)=\"LED Mogu\",RIGHT(A360,2)=\"In\"),\"\",Worksheet!W386))","v":""},""]
[{"$f":"IF(Worksheet!K387=0,\"\",Worksheet!K387)","v":""},{"$f":"IF(Worksheet!L387=0,\"\",Worksheet!L387)","v":""},{"$f":"IF(Worksheet!M387=0,\"\",Worksheet!M387)","v":""},{"$f":"IF(Worksheet!N387=0,\"\",Worksheet!N387)","v":""},{"$f":"IF(Worksheet!P387=0,\"\",IF(OR(LEFT(B361,8)=\"LED Four\",LEFT(B361,8)=\"LED Tube\",LEFT(B361,8)=\"LED Mogu\",RIGHT(A361,2)=\"In\"),\"\",Worksheet!P387))","v":""},{"$f":"IF(Worksheet!R387=0,\"\",Worksheet!R387)","v":""},"",{"$f":"IF(Worksheet!Q387=0,\"\",Worksheet!Q387)","v":""},{"$f":"IF(OR(LEFT(B361,8)=\"LED Four\",LEFT(B361,8)=\"LED Tube\",LEFT(B361,8)=\"LED Mogu\",RIGHT(A361,2)=\"In\"),H361*Worksheet!V387,\"\")","v":""},{"$f":"IF(Worksheet!V387=0,\"\",IF(OR(LEFT(B361,8)=\"LED Four\",LEFT(B361,8)=\"LED Tube\",LEFT(B361,8)=\"LED Mogu\",RIGHT(A361,2)=\"In\"),\"\",Worksheet!V387))","v":""},"",{"$f":"IF(OR(LEFT(B361,8)=\"LED Four\",LEFT(B361,8)=\"LED Tube\",LEFT(B361,8)=\"LED Mogu\",RIGHT(A361,2)=\"In\"),H361*Worksheet!W387,\"\")","v":""},{"$f":"IF(Worksheet!W387=0,\"\",IF(OR(LEFT(B361,8)=\"LED Four\",LEFT(B361,8)=\"LED Tube\",LEFT(B361,8)=\"LED Mogu\",RIGHT(A361,2)=\"In\"),\"\",Worksheet!W387))","v":""},""]
[{"$f":"IF(Worksheet!K388=0,\"\",Worksheet!K388)","v":""},{"$f":"IF(Worksheet!L388=0,\"\",Worksheet!L388)","v":""},{"$f":"IF(Worksheet!M388=0,\"\",Worksheet!M388)","v":""},{"$f":"IF(Worksheet!N388=0,\"\",Worksheet!N388)","v":""},{"$f":"IF(Worksheet!P388=0,\"\",IF(OR(LEFT(B362,8)=\"LED Four\",LEFT(B362,8)=\"LED Tube\",LEFT(B362,8)=\"LED Mogu\",RIGHT(A362,2)=\"In\"),\"\",Worksheet!P388))","v":""},{"$f":"IF(Worksheet!R388=0,\"\",Worksheet!R388)","v":""},"",{"$f":"IF(Worksheet!Q388=0,\"\",Worksheet!Q388)","v":""},{"$f":"IF(OR(LEFT(B362,8)=\"LED Four\",LEFT(B362,8)=\"LED Tube\",LEFT(B362,8)=\"LED Mogu\",RIGHT(A362,2)=\"In\"),H362*Worksheet!V388,\"\")","v":""},{"$f":"IF(Worksheet!V388=0,\"\",IF(OR(LEFT(B362,8)=\"LED Four\",LEFT(B362,8)=\"LED Tube\",LEFT(B362,8)=\"LED Mogu\",RIGHT(A362,2)=\"In\"),\"\",Worksheet!V388))","v":""},"",{"$f":"IF(OR(LEFT(B362,8)=\"LED Four\",LEFT(B362,8)=\"LED Tube\",LEFT(B362,8)=\"LED Mogu\",RIGHT(A362,2)=\"In\"),H362*Worksheet!W388,\"\")","v":""},{"$f":"IF(Worksheet!W388=0,\"\",IF(OR(LEFT(B362,8)=\"LED Four\",LEFT(B362,8)=\"LED Tube\",LEFT(B362,8)=\"LED Mogu\",RIGHT(A362,2)=\"In\"),\"\",Worksheet!W388))","v":""},""]
[{"$f":"IF(Worksheet!K389=0,\"\",Worksheet!K389)","v":""},{"$f":"IF(Worksheet!L389=0,\"\",Worksheet!L389)","v":""},{"$f":"IF(Worksheet!M389=0,\"\",Worksheet!M389)","v":""},{"$f":"IF(Worksheet!N389=0,\"\",Worksheet!N389)","v":""},{"$f":"IF(Worksheet!P389=0,\"\",IF(OR(LEFT(B363,8)=\"LED Four\",LEFT(B363,8)=\"LED Tube\",LEFT(B363,8)=\"LED Mogu\",RIGHT(A363,2)=\"In\"),\"\",Worksheet!P389))","v":""},{"$f":"IF(Worksheet!R389=0,\"\",Worksheet!R389)","v":""},"",{"$f":"IF(Worksheet!Q389=0,\"\",Worksheet!Q389)","v":""},{"$f":"IF(OR(LEFT(B363,8)=\"LED Four\",LEFT(B363,8)=\"LED Tube\",LEFT(B363,8)=\"LED Mogu\",RIGHT(A363,2)=\"In\"),H363*Worksheet!V389,\"\")","v":""},{"$f":"IF(Worksheet!V389=0,\"\",IF(OR(LEFT(B363,8)=\"LED Four\",LEFT(B363,8)=\"LED Tube\",LEFT(B363,8)=\"LED Mogu\",RIGHT(A363,2)=\"In\"),\"\",Worksheet!V389))","v":""},"",{"$f":"IF(OR(LEFT(B363,8)=\"LED Four\",LEFT(B363,8)=\"LED Tube\",LEFT(B363,8)=\"LED Mogu\",RIGHT(A363,2)=\"In\"),H363*Worksheet!W389,\"\")","v":""},{"$f":"IF(Worksheet!W389=0,\"\",IF(OR(LEFT(B363,8)=\"LED Four\",LEFT(B363,8)=\"LED Tube\",LEFT(B363,8)=\"LED Mogu\",RIGHT(A363,2)=\"In\"),\"\",Worksheet!W389))","v":""},""]
[{"$f":"IF(Worksheet!K390=0,\"\",Worksheet!K390)","v":""},{"$f":"IF(Worksheet!L390=0,\"\",Worksheet!L390)","v":""},{"$f":"IF(Worksheet!M390=0,\"\",Worksheet!M390)","v":""},{"$f":"IF(Worksheet!N390=0,\"\",Worksheet!N390)","v":""},{"$f":"IF(Worksheet!P390=0,\"\",IF(OR(LEFT(B364,8)=\"LED Four\",LEFT(B364,8)=\"LED Tube\",LEFT(B364,8)=\"LED Mogu\",RIGHT(A364,2)=\"In\"),\"\",Worksheet!P390))","v":""},{"$f":"IF(Worksheet!R390=0,\"\",Worksheet!R390)","v":""},"",{"$f":"IF(Worksheet!Q390=0,\"\",Worksheet!Q390)","v":""},{"$f":"IF(OR(LEFT(B364,8)=\"LED Four\",LEFT(B364,8)=\"LED Tube\",LEFT(B364,8)=\"LED Mogu\",RIGHT(A364,2)=\"In\"),H364*Worksheet!V390,\"\")","v":""},{"$f":"IF(Worksheet!V390=0,\"\",IF(OR(LEFT(B364,8)=\"LED Four\",LEFT(B364,8)=\"LED Tube\",LEFT(B364,8)=\"LED Mogu\",RIGHT(A364,2)=\"In\"),\"\",Worksheet!V390))","v":""},"",{"$f":"IF(OR(LEFT(B364,8)=\"LED Four\",LEFT(B364,8)=\"LED Tube\",LEFT(B364,8)=\"LED Mogu\",RIGHT(A364,2)=\"In\"),H364*Worksheet!W390,\"\")","v":""},{"$f":"IF(Worksheet!W390=0,\"\",IF(OR(LEFT(B364,8)=\"LED Four\",LEFT(B364,8)=\"LED Tube\",LEFT(B364,8)=\"LED Mogu\",RIGHT(A364,2)=\"In\"),\"\",Worksheet!W390))","v":""},""]
[{"$f":"IF(Worksheet!K391=0,\"\",Worksheet!K391)","v":""},{"$f":"IF(Worksheet!L391=0,\"\",Worksheet!L391)","v":""},{"$f":"IF(Worksheet!M391=0,\"\",Worksheet!M391)","v":""},{"$f":"IF(Worksheet!N391=0,\"\",Worksheet!N391)","v":""},{"$f":"IF(Worksheet!P391=0,\"\",IF(OR(LEFT(B365,8)=\"LED Four\",LEFT(B365,8)=\"LED Tube\",LEFT(B365,8)=\"LED Mogu\",RIGHT(A365,2)=\"In\"),\"\",Worksheet!P391))","v":""},{"$f":"IF(Worksheet!R391=0,\"\",Worksheet!R391)","v":""},"",{"$f":"IF(Worksheet!Q391=0,\"\",Worksheet!Q391)","v":""},{"$f":"IF(OR(LEFT(B365,8)=\"LED Four\",LEFT(B365,8)=\"LED Tube\",LEFT(B365,8)=\"LED Mogu\",RIGHT(A365,2)=\"In\"),H365*Worksheet!V391,\"\")","v":""},{"$f":"IF(Worksheet!V391=0,\"\",IF(OR(LEFT(B365,8)=\"LED Four\",LEFT(B365,8)=\"LED Tube\",LEFT(B365,8)=\"LED Mogu\",RIGHT(A365,2)=\"In\"),\"\",Worksheet!V391))","v":""},"",{"$f":"IF(OR(LEFT(B365,8)=\"LED Four\",LEFT(B365,8)=\"LED Tube\",LEFT(B365,8)=\"LED Mogu\",RIGHT(A365,2)=\"In\"),H365*Worksheet!W391,\"\")","v":""},{"$f":"IF(Worksheet!W391=0,\"\",IF(OR(LEFT(B365,8)=\"LED Four\",LEFT(B365,8)=\"LED Tube\",LEFT(B365,8)=\"LED Mogu\",RIGHT(A365,2)=\"In\"),\"\",Worksheet!W391))","v":""},""]
[{"$f":"IF(Worksheet!K392=0,\"\",Worksheet!K392)","v":""},{"$f":"IF(Worksheet!L392=0,\"\",Worksheet!L392)","v":""},{"$f":"IF(Worksheet!M392=0,\"\",Worksheet!M392)","v":""},{"$f":"IF(Worksheet!N392=0,\"\",Worksheet!N392)","v":""},{"$f":"IF(Worksheet!P392=0,\"\",IF(OR(LEFT(B366,8)=\"LED Four\",LEFT(B366,8)=\"LED Tube\",LEFT(B366,8)=\"LED Mogu\",RIGHT(A366,2)=\"In\"),\"\",Worksheet!P392))","v":""},{"$f":"IF(Worksheet!R392=0,\"\",Worksheet!R392)","v":""},"",{"$f":"IF(Worksheet!Q392=0,\"\",Worksheet!Q392)","v":""},{"$f":"IF(OR(LEFT(B366,8)=\"LED Four\",LEFT(B366,8)=\"LED Tube\",LEFT(B366,8)=\"LED Mogu\",RIGHT(A366,2)=\"In\"),H366*Worksheet!V392,\"\")","v":""},{"$f":"IF(Worksheet!V392=0,\"\",IF(OR(LEFT(B366,8)=\"LED Four\",LEFT(B366,8)=\"LED Tube\",LEFT(B366,8)=\"LED Mogu\",RIGHT(A366,2)=\"In\"),\"\",Worksheet!V392))","v":""},"",{"$f":"IF(OR(LEFT(B366,8)=\"LED Four\",LEFT(B366,8)=\"LED Tube\",LEFT(B366,8)=\"LED Mogu\",RIGHT(A366,2)=\"In\"),H366*Worksheet!W392,\"\")","v":""},{"$f":"IF(Worksheet!W392=0,\"\",IF(OR(LEFT(B366,8)=\"LED Four\",LEFT(B366,8)=\"LED Tube\",LEFT(B366,8)=\"LED Mogu\",RIGHT(A366,2)=\"In\"),\"\",Worksheet!W392))","v":""},""]
[{"$f":"IF(Worksheet!K393=0,\"\",Worksheet!K393)","v":""},{"$f":"IF(Worksheet!L393=0,\"\",Worksheet!L393)","v":""},{"$f":"IF(Worksheet!M393=0,\"\",Worksheet!M393)","v":""},{"$f":"IF(Worksheet!N393=0,\"\",Worksheet!N393)","v":""},{"$f":"IF(Worksheet!P393=0,\"\",IF(OR(LEFT(B367,8)=\"LED Four\",LEFT(B367,8)=\"LED Tube\",LEFT(B367,8)=\"LED Mogu\",RIGHT(A367,2)=\"In\"),\"\",Worksheet!P393))","v":""},{"$f":"IF(Worksheet!R393=0,\"\",Worksheet!R393)","v":""},"",{"$f":"IF(Worksheet!Q393=0,\"\",Worksheet!Q393)","v":""},{"$f":"IF(OR(LEFT(B367,8)=\"LED Four\",LEFT(B367,8)=\"LED Tube\",LEFT(B367,8)=\"LED Mogu\",RIGHT(A367,2)=\"In\"),H367*Worksheet!V393,\"\")","v":""},{"$f":"IF(Worksheet!V393=0,\"\",IF(OR(LEFT(B367,8)=\"LED Four\",LEFT(B367,8)=\"LED Tube\",LEFT(B367,8)=\"LED Mogu\",RIGHT(A367,2)=\"In\"),\"\",Worksheet!V393))","v":""},"",{"$f":"IF(OR(LEFT(B367,8)=\"LED Four\",LEFT(B367,8)=\"LED Tube\",LEFT(B367,8)=\"LED Mogu\",RIGHT(A367,2)=\"In\"),H367*Worksheet!W393,\"\")","v":""},{"$f":"IF(Worksheet!W393=0,\"\",IF(OR(LEFT(B367,8)=\"LED Four\",LEFT(B367,8)=\"LED Tube\",LEFT(B367,8)=\"LED Mogu\",RIGHT(A367,2)=\"In\"),\"\",Worksheet!W393))","v":""},""]
[{"$f":"IF(Worksheet!K394=0,\"\",Worksheet!K394)","v":""},{"$f":"IF(Worksheet!L394=0,\"\",Worksheet!L394)","v":""},{"$f":"IF(Worksheet!M394=0,\"\",Worksheet!M394)","v":""},{"$f":"IF(Worksheet!N394=0,\"\",Worksheet!N394)","v":""},{"$f":"IF(Worksheet!P394=0,\"\",IF(OR(LEFT(B368,8)=\"LED Four\",LEFT(B368,8)=\"LED Tube\",LEFT(B368,8)=\"LED Mogu\",RIGHT(A368,2)=\"In\"),\"\",Worksheet!P394))","v":""},{"$f":"IF(Worksheet!R394=0,\"\",Worksheet!R394)","v":""},"",{"$f":"IF(Worksheet!Q394=0,\"\",Worksheet!Q394)","v":""},{"$f":"IF(OR(LEFT(B368,8)=\"LED Four\",LEFT(B368,8)=\"LED Tube\",LEFT(B368,8)=\"LED Mogu\",RIGHT(A368,2)=\"In\"),H368*Worksheet!V394,\"\")","v":""},{"$f":"IF(Worksheet!V394=0,\"\",IF(OR(LEFT(B368,8)=\"LED Four\",LEFT(B368,8)=\"LED Tube\",LEFT(B368,8)=\"LED Mogu\",RIGHT(A368,2)=\"In\"),\"\",Worksheet!V394))","v":""},"",{"$f":"IF(OR(LEFT(B368,8)=\"LED Four\",LEFT(B368,8)=\"LED Tube\",LEFT(B368,8)=\"LED Mogu\",RIGHT(A368,2)=\"In\"),H368*Worksheet!W394,\"\")","v":""},{"$f":"IF(Worksheet!W394=0,\"\",IF(OR(LEFT(B368,8)=\"LED Four\",LEFT(B368,8)=\"LED Tube\",LEFT(B368,8)=\"LED Mogu\",RIGHT(A368,2)=\"In\"),\"\",Worksheet!W394))","v":""},""]
[{"$f":"IF(Worksheet!K395=0,\"\",Worksheet!K395)","v":""},{"$f":"IF(Worksheet!L395=0,\"\",Worksheet!L395)","v":""},{"$f":"IF(Worksheet!M395=0,\"\",Worksheet!M395)","v":""},{"$f":"IF(Worksheet!N395=0,\"\",Worksheet!N395)","v":""},{"$f":"IF(Worksheet!P395=0,\"\",IF(OR(LEFT(B369,8)=\"LED Four\",LEFT(B369,8)=\"LED Tube\",LEFT(B369,8)=\"LED Mogu\",RIGHT(A369,2)=\"In\"),\"\",Worksheet!P395))","v":""},{"$f":"IF(Worksheet!R395=0,\"\",Worksheet!R395)","v":""},"",{"$f":"IF(Worksheet!Q395=0,\"\",Worksheet!Q395)","v":""},{"$f":"IF(OR(LEFT(B369,8)=\"LED Four\",LEFT(B369,8)=\"LED Tube\",LEFT(B369,8)=\"LED Mogu\",RIGHT(A369,2)=\"In\"),H369*Worksheet!V395,\"\")","v":""},{"$f":"IF(Worksheet!V395=0,\"\",IF(OR(LEFT(B369,8)=\"LED Four\",LEFT(B369,8)=\"LED Tube\",LEFT(B369,8)=\"LED Mogu\",RIGHT(A369,2)=\"In\"),\"\",Worksheet!V395))","v":""},"",{"$f":"IF(OR(LEFT(B369,8)=\"LED Four\",LEFT(B369,8)=\"LED Tube\",LEFT(B369,8)=\"LED Mogu\",RIGHT(A369,2)=\"In\"),H369*Worksheet!W395,\"\")","v":""},{"$f":"IF(Worksheet!W395=0,\"\",IF(OR(LEFT(B369,8)=\"LED Four\",LEFT(B369,8)=\"LED Tube\",LEFT(B369,8)=\"LED Mogu\",RIGHT(A369,2)=\"In\"),\"\",Worksheet!W395))","v":""},""]
[{"$f":"IF(Worksheet!K396=0,\"\",Worksheet!K396)","v":""},{"$f":"IF(Worksheet!L396=0,\"\",Worksheet!L396)","v":""},{"$f":"IF(Worksheet!M396=0,\"\",Worksheet!M396)","v":""},{"$f":"IF(Worksheet!N396=0,\"\",Worksheet!N396)","v":""},{"$f":"IF(Worksheet!P396=0,\"\",IF(OR(LEFT(B370,8)=\"LED Four\",LEFT(B370,8)=\"LED Tube\",LEFT(B370,8)=\"LED Mogu\",RIGHT(A370,2)=\"In\"),\"\",Worksheet!P396))","v":""},{"$f":"IF(Worksheet!R396=0,\"\",Worksheet!R396)","v":""},"",{"$f":"IF(Worksheet!Q396=0,\"\",Worksheet!Q396)","v":""},{"$f":"IF(OR(LEFT(B370,8)=\"LED Four\",LEFT(B370,8)=\"LED Tube\",LEFT(B370,8)=\"LED Mogu\",RIGHT(A370,2)=\"In\"),H370*Worksheet!V396,\"\")","v":""},{"$f":"IF(Worksheet!V396=0,\"\",IF(OR(LEFT(B370,8)=\"LED Four\",LEFT(B370,8)=\"LED Tube\",LEFT(B370,8)=\"LED Mogu\",RIGHT(A370,2)=\"In\"),\"\",Worksheet!V396))","v":""},"",{"$f":"IF(OR(LEFT(B370,8)=\"LED Four\",LEFT(B370,8)=\"LED Tube\",LEFT(B370,8)=\"LED Mogu\",RIGHT(A370,2)=\"In\"),H370*Worksheet!W396,\"\")","v":""},{"$f":"IF(Worksheet!W396=0,\"\",IF(OR(LEFT(B370,8)=\"LED Four\",LEFT(B370,8)=\"LED Tube\",LEFT(B370,8)=\"LED Mogu\",RIGHT(A370,2)=\"In\"),\"\",Worksheet!W396))","v":""},""]
[{"$f":"IF(Worksheet!K397=0,\"\",Worksheet!K397)","v":""},{"$f":"IF(Worksheet!L397=0,\"\",Worksheet!L397)","v":""},{"$f":"IF(Worksheet!M397=0,\"\",Worksheet!M397)","v":""},{"$f":"IF(Worksheet!N397=0,\"\",Worksheet!N397)","v":""},{"$f":"IF(Worksheet!P397=0,\"\",IF(OR(LEFT(B371,8)=\"LED Four\",LEFT(B371,8)=\"LED Tube\",LEFT(B371,8)=\"LED Mogu\",RIGHT(A371,2)=\"In\"),\"\",Worksheet!P397))","v":""},{"$f":"IF(Worksheet!R397=0,\"\",Worksheet!R397)","v":""},"",{"$f":"IF(Worksheet!Q397=0,\"\",Worksheet!Q397)","v":""},{"$f":"IF(OR(LEFT(B371,8)=\"LED Four\",LEFT(B371,8)=\"LED Tube\",LEFT(B371,8)=\"LED Mogu\",RIGHT(A371,2)=\"In\"),H371*Worksheet!V397,\"\")","v":""},{"$f":"IF(Worksheet!V397=0,\"\",IF(OR(LEFT(B371,8)=\"LED Four\",LEFT(B371,8)=\"LED Tube\",LEFT(B371,8)=\"LED Mogu\",RIGHT(A371,2)=\"In\"),\"\",Worksheet!V397))","v":""},"",{"$f":"IF(OR(LEFT(B371,8)=\"LED Four\",LEFT(B371,8)=\"LED Tube\",LEFT(B371,8)=\"LED Mogu\",RIGHT(A371,2)=\"In\"),H371*Worksheet!W397,\"\")","v":""},{"$f":"IF(Worksheet!W397=0,\"\",IF(OR(LEFT(B371,8)=\"LED Four\",LEFT(B371,8)=\"LED Tube\",LEFT(B371,8)=\"LED Mogu\",RIGHT(A371,2)=\"In\"),\"\",Worksheet!W397))","v":""},""]
[{"$f":"IF(Worksheet!K398=0,\"\",Worksheet!K398)","v":""},{"$f":"IF(Worksheet!L398=0,\"\",Worksheet!L398)","v":""},{"$f":"IF(Worksheet!M398=0,\"\",Worksheet!M398)","v":""},{"$f":"IF(Worksheet!N398=0,\"\",Worksheet!N398)","v":""},{"$f":"IF(Worksheet!P398=0,\"\",IF(OR(LEFT(B372,8)=\"LED Four\",LEFT(B372,8)=\"LED Tube\",LEFT(B372,8)=\"LED Mogu\",RIGHT(A372,2)=\"In\"),\"\",Worksheet!P398))","v":""},{"$f":"IF(Worksheet!R398=0,\"\",Worksheet!R398)","v":""},"",{"$f":"IF(Worksheet!Q398=0,\"\",Worksheet!Q398)","v":""},{"$f":"IF(OR(LEFT(B372,8)=\"LED Four\",LEFT(B372,8)=\"LED Tube\",LEFT(B372,8)=\"LED Mogu\",RIGHT(A372,2)=\"In\"),H372*Worksheet!V398,\"\")","v":""},{"$f":"IF(Worksheet!V398=0,\"\",IF(OR(LEFT(B372,8)=\"LED Four\",LEFT(B372,8)=\"LED Tube\",LEFT(B372,8)=\"LED Mogu\",RIGHT(A372,2)=\"In\"),\"\",Worksheet!V398))","v":""},"",{"$f":"IF(OR(LEFT(B372,8)=\"LED Four\",LEFT(B372,8)=\"LED Tube\",LEFT(B372,8)=\"LED Mogu\",RIGHT(A372,2)=\"In\"),H372*Worksheet!W398,\"\")","v":""},{"$f":"IF(Worksheet!W398=0,\"\",IF(OR(LEFT(B372,8)=\"LED Four\",LEFT(B372,8)=\"LED Tube\",LEFT(B372,8)=\"LED Mogu\",RIGHT(A372,2)=\"In\"),\"\",Worksheet!W398))","v":""},""]
[{"$f":"IF(Worksheet!K399=0,\"\",Worksheet!K399)","v":""},{"$f":"IF(Worksheet!L399=0,\"\",Worksheet!L399)","v":""},{"$f":"IF(Worksheet!M399=0,\"\",Worksheet!M399)","v":""},{"$f":"IF(Worksheet!N399=0,\"\",Worksheet!N399)","v":""},{"$f":"IF(Worksheet!P399=0,\"\",IF(OR(LEFT(B373,8)=\"LED Four\",LEFT(B373,8)=\"LED Tube\",LEFT(B373,8)=\"LED Mogu\",RIGHT(A373,2)=\"In\"),\"\",Worksheet!P399))","v":""},{"$f":"IF(Worksheet!R399=0,\"\",Worksheet!R399)","v":""},"",{"$f":"IF(Worksheet!Q399=0,\"\",Worksheet!Q399)","v":""},{"$f":"IF(OR(LEFT(B373,8)=\"LED Four\",LEFT(B373,8)=\"LED Tube\",LEFT(B373,8)=\"LED Mogu\",RIGHT(A373,2)=\"In\"),H373*Worksheet!V399,\"\")","v":""},{"$f":"IF(Worksheet!V399=0,\"\",IF(OR(LEFT(B373,8)=\"LED Four\",LEFT(B373,8)=\"LED Tube\",LEFT(B373,8)=\"LED Mogu\",RIGHT(A373,2)=\"In\"),\"\",Worksheet!V399))","v":""},"",{"$f":"IF(OR(LEFT(B373,8)=\"LED Four\",LEFT(B373,8)=\"LED Tube\",LEFT(B373,8)=\"LED Mogu\",RIGHT(A373,2)=\"In\"),H373*Worksheet!W399,\"\")","v":""},{"$f":"IF(Worksheet!W399=0,\"\",IF(OR(LEFT(B373,8)=\"LED Four\",LEFT(B373,8)=\"LED Tube\",LEFT(B373,8)=\"LED Mogu\",RIGHT(A373,2)=\"In\"),\"\",Worksheet!W399))","v":""},""]
[{"$f":"IF(Worksheet!K400=0,\"\",Worksheet!K400)","v":""},{"$f":"IF(Worksheet!L400=0,\"\",Worksheet!L400)","v":""},{"$f":"IF(Worksheet!M400=0,\"\",Worksheet!M400)","v":""},{"$f":"IF(Worksheet!N400=0,\"\",Worksheet!N400)","v":""},{"$f":"IF(Worksheet!P400=0,\"\",IF(OR(LEFT(B374,8)=\"LED Four\",LEFT(B374,8)=\"LED Tube\",LEFT(B374,8)=\"LED Mogu\",RIGHT(A374,2)=\"In\"),\"\",Worksheet!P400))","v":""},{"$f":"IF(Worksheet!R400=0,\"\",Worksheet!R400)","v":""},"",{"$f":"IF(Worksheet!Q400=0,\"\",Worksheet!Q400)","v":""},{"$f":"IF(OR(LEFT(B374,8)=\"LED Four\",LEFT(B374,8)=\"LED Tube\",LEFT(B374,8)=\"LED Mogu\",RIGHT(A374,2)=\"In\"),H374*Worksheet!V400,\"\")","v":""},{"$f":"IF(Worksheet!V400=0,\"\",IF(OR(LEFT(B374,8)=\"LED Four\",LEFT(B374,8)=\"LED Tube\",LEFT(B374,8)=\"LED Mogu\",RIGHT(A374,2)=\"In\"),\"\",Worksheet!V400))","v":""},"",{"$f":"IF(OR(LEFT(B374,8)=\"LED Four\",LEFT(B374,8)=\"LED Tube\",LEFT(B374,8)=\"LED Mogu\",RIGHT(A374,2)=\"In\"),H374*Worksheet!W400,\"\")","v":""},{"$f":"IF(Worksheet!W400=0,\"\",IF(OR(LEFT(B374,8)=\"LED Four\",LEFT(B374,8)=\"LED Tube\",LEFT(B374,8)=\"LED Mogu\",RIGHT(A374,2)=\"In\"),\"\",Worksheet!W400))","v":""},""]
[{"$f":"IF(Worksheet!K401=0,\"\",Worksheet!K401)","v":""},{"$f":"IF(Worksheet!L401=0,\"\",Worksheet!L401)","v":""},{"$f":"IF(Worksheet!M401=0,\"\",Worksheet!M401)","v":""},{"$f":"IF(Worksheet!N401=0,\"\",Worksheet!N401)","v":""},{"$f":"IF(Worksheet!P401=0,\"\",IF(OR(LEFT(B375,8)=\"LED Four\",LEFT(B375,8)=\"LED Tube\",LEFT(B375,8)=\"LED Mogu\",RIGHT(A375,2)=\"In\"),\"\",Worksheet!P401))","v":""},{"$f":"IF(Worksheet!R401=0,\"\",Worksheet!R401)","v":""},"",{"$f":"IF(Worksheet!Q401=0,\"\",Worksheet!Q401)","v":""},{"$f":"IF(OR(LEFT(B375,8)=\"LED Four\",LEFT(B375,8)=\"LED Tube\",LEFT(B375,8)=\"LED Mogu\",RIGHT(A375,2)=\"In\"),H375*Worksheet!V401,\"\")","v":""},{"$f":"IF(Worksheet!V401=0,\"\",IF(OR(LEFT(B375,8)=\"LED Four\",LEFT(B375,8)=\"LED Tube\",LEFT(B375,8)=\"LED Mogu\",RIGHT(A375,2)=\"In\"),\"\",Worksheet!V401))","v":""},"",{"$f":"IF(OR(LEFT(B375,8)=\"LED Four\",LEFT(B375,8)=\"LED Tube\",LEFT(B375,8)=\"LED Mogu\",RIGHT(A375,2)=\"In\"),H375*Worksheet!W401,\"\")","v":""},{"$f":"IF(Worksheet!W401=0,\"\",IF(OR(LEFT(B375,8)=\"LED Four\",LEFT(B375,8)=\"LED Tube\",LEFT(B375,8)=\"LED Mogu\",RIGHT(A375,2)=\"In\"),\"\",Worksheet!W401))","v":""},""]
[{"$f":"IF(Worksheet!K402=0,\"\",Worksheet!K402)","v":""},{"$f":"IF(Worksheet!L402=0,\"\",Worksheet!L402)","v":""},{"$f":"IF(Worksheet!M402=0,\"\",Worksheet!M402)","v":""},{"$f":"IF(Worksheet!N402=0,\"\",Worksheet!N402)","v":""},{"$f":"IF(Worksheet!P402=0,\"\",IF(OR(LEFT(B376,8)=\"LED Four\",LEFT(B376,8)=\"LED Tube\",LEFT(B376,8)=\"LED Mogu\",RIGHT(A376,2)=\"In\"),\"\",Worksheet!P402))","v":""},{"$f":"IF(Worksheet!R402=0,\"\",Worksheet!R402)","v":""},"",{"$f":"IF(Worksheet!Q402=0,\"\",Worksheet!Q402)","v":""},{"$f":"IF(OR(LEFT(B376,8)=\"LED Four\",LEFT(B376,8)=\"LED Tube\",LEFT(B376,8)=\"LED Mogu\",RIGHT(A376,2)=\"In\"),H376*Worksheet!V402,\"\")","v":""},{"$f":"IF(Worksheet!V402=0,\"\",IF(OR(LEFT(B376,8)=\"LED Four\",LEFT(B376,8)=\"LED Tube\",LEFT(B376,8)=\"LED Mogu\",RIGHT(A376,2)=\"In\"),\"\",Worksheet!V402))","v":""},"",{"$f":"IF(OR(LEFT(B376,8)=\"LED Four\",LEFT(B376,8)=\"LED Tube\",LEFT(B376,8)=\"LED Mogu\",RIGHT(A376,2)=\"In\"),H376*Worksheet!W402,\"\")","v":""},{"$f":"IF(Worksheet!W402=0,\"\",IF(OR(LEFT(B376,8)=\"LED Four\",LEFT(B376,8)=\"LED Tube\",LEFT(B376,8)=\"LED Mogu\",RIGHT(A376,2)=\"In\"),\"\",Worksheet!W402))","v":""},""]
[{"$f":"IF(Worksheet!K403=0,\"\",Worksheet!K403)","v":""},{"$f":"IF(Worksheet!L403=0,\"\",Worksheet!L403)","v":""},{"$f":"IF(Worksheet!M403=0,\"\",Worksheet!M403)","v":""},{"$f":"IF(Worksheet!N403=0,\"\",Worksheet!N403)","v":""},{"$f":"IF(Worksheet!P403=0,\"\",IF(OR(LEFT(B377,8)=\"LED Four\",LEFT(B377,8)=\"LED Tube\",LEFT(B377,8)=\"LED Mogu\",RIGHT(A377,2)=\"In\"),\"\",Worksheet!P403))","v":""},{"$f":"IF(Worksheet!R403=0,\"\",Worksheet!R403)","v":""},"",{"$f":"IF(Worksheet!Q403=0,\"\",Worksheet!Q403)","v":""},{"$f":"IF(OR(LEFT(B377,8)=\"LED Four\",LEFT(B377,8)=\"LED Tube\",LEFT(B377,8)=\"LED Mogu\",RIGHT(A377,2)=\"In\"),H377*Worksheet!V403,\"\")","v":""},{"$f":"IF(Worksheet!V403=0,\"\",IF(OR(LEFT(B377,8)=\"LED Four\",LEFT(B377,8)=\"LED Tube\",LEFT(B377,8)=\"LED Mogu\",RIGHT(A377,2)=\"In\"),\"\",Worksheet!V403))","v":""},"",{"$f":"IF(OR(LEFT(B377,8)=\"LED Four\",LEFT(B377,8)=\"LED Tube\",LEFT(B377,8)=\"LED Mogu\",RIGHT(A377,2)=\"In\"),H377*Worksheet!W403,\"\")","v":""},{"$f":"IF(Worksheet!W403=0,\"\",IF(OR(LEFT(B377,8)=\"LED Four\",LEFT(B377,8)=\"LED Tube\",LEFT(B377,8)=\"LED Mogu\",RIGHT(A377,2)=\"In\"),\"\",Worksheet!W403))","v":""},""]
[{"$f":"IF(Worksheet!K404=0,\"\",Worksheet!K404)","v":""},{"$f":"IF(Worksheet!L404=0,\"\",Worksheet!L404)","v":""},{"$f":"IF(Worksheet!M404=0,\"\",Worksheet!M404)","v":""},{"$f":"IF(Worksheet!N404=0,\"\",Worksheet!N404)","v":""},{"$f":"IF(Worksheet!P404=0,\"\",IF(OR(LEFT(B378,8)=\"LED Four\",LEFT(B378,8)=\"LED Tube\",LEFT(B378,8)=\"LED Mogu\",RIGHT(A378,2)=\"In\"),\"\",Worksheet!P404))","v":""},{"$f":"IF(Worksheet!R404=0,\"\",Worksheet!R404)","v":""},"",{"$f":"IF(Worksheet!Q404=0,\"\",Worksheet!Q404)","v":""},{"$f":"IF(OR(LEFT(B378,8)=\"LED Four\",LEFT(B378,8)=\"LED Tube\",LEFT(B378,8)=\"LED Mogu\",RIGHT(A378,2)=\"In\"),H378*Worksheet!V404,\"\")","v":""},{"$f":"IF(Worksheet!V404=0,\"\",IF(OR(LEFT(B378,8)=\"LED Four\",LEFT(B378,8)=\"LED Tube\",LEFT(B378,8)=\"LED Mogu\",RIGHT(A378,2)=\"In\"),\"\",Worksheet!V404))","v":""},"",{"$f":"IF(OR(LEFT(B378,8)=\"LED Four\",LEFT(B378,8)=\"LED Tube\",LEFT(B378,8)=\"LED Mogu\",RIGHT(A378,2)=\"In\"),H378*Worksheet!W404,\"\")","v":""},{"$f":"IF(Worksheet!W404=0,\"\",IF(OR(LEFT(B378,8)=\"LED Four\",LEFT(B378,8)=\"LED Tube\",LEFT(B378,8)=\"LED Mogu\",RIGHT(A378,2)=\"In\"),\"\",Worksheet!W404))","v":""},""]
[{"$f":"IF(Worksheet!K405=0,\"\",Worksheet!K405)","v":""},{"$f":"IF(Worksheet!L405=0,\"\",Worksheet!L405)","v":""},{"$f":"IF(Worksheet!M405=0,\"\",Worksheet!M405)","v":""},{"$f":"IF(Worksheet!N405=0,\"\",Worksheet!N405)","v":""},{"$f":"IF(Worksheet!P405=0,\"\",IF(OR(LEFT(B379,8)=\"LED Four\",LEFT(B379,8)=\"LED Tube\",LEFT(B379,8)=\"LED Mogu\",RIGHT(A379,2)=\"In\"),\"\",Worksheet!P405))","v":""},{"$f":"IF(Worksheet!R405=0,\"\",Worksheet!R405)","v":""},"",{"$f":"IF(Worksheet!Q405=0,\"\",Worksheet!Q405)","v":""},{"$f":"IF(OR(LEFT(B379,8)=\"LED Four\",LEFT(B379,8)=\"LED Tube\",LEFT(B379,8)=\"LED Mogu\",RIGHT(A379,2)=\"In\"),H379*Worksheet!V405,\"\")","v":""},{"$f":"IF(Worksheet!V405=0,\"\",IF(OR(LEFT(B379,8)=\"LED Four\",LEFT(B379,8)=\"LED Tube\",LEFT(B379,8)=\"LED Mogu\",RIGHT(A379,2)=\"In\"),\"\",Worksheet!V405))","v":""},"",{"$f":"IF(OR(LEFT(B379,8)=\"LED Four\",LEFT(B379,8)=\"LED Tube\",LEFT(B379,8)=\"LED Mogu\",RIGHT(A379,2)=\"In\"),H379*Worksheet!W405,\"\")","v":""},{"$f":"IF(Worksheet!W405=0,\"\",IF(OR(LEFT(B379,8)=\"LED Four\",LEFT(B379,8)=\"LED Tube\",LEFT(B379,8)=\"LED Mogu\",RIGHT(A379,2)=\"In\"),\"\",Worksheet!W405))","v":""},""]
[{"$f":"IF(Worksheet!K406=0,\"\",Worksheet!K406)","v":""},{"$f":"IF(Worksheet!L406=0,\"\",Worksheet!L406)","v":""},{"$f":"IF(Worksheet!M406=0,\"\",Worksheet!M406)","v":""},{"$f":"IF(Worksheet!N406=0,\"\",Worksheet!N406)","v":""},{"$f":"IF(Worksheet!P406=0,\"\",IF(OR(LEFT(B380,8)=\"LED Four\",LEFT(B380,8)=\"LED Tube\",LEFT(B380,8)=\"LED Mogu\",RIGHT(A380,2)=\"In\"),\"\",Worksheet!P406))","v":""},{"$f":"IF(Worksheet!R406=0,\"\",Worksheet!R406)","v":""},"",{"$f":"IF(Worksheet!Q406=0,\"\",Worksheet!Q406)","v":""},{"$f":"IF(OR(LEFT(B380,8)=\"LED Four\",LEFT(B380,8)=\"LED Tube\",LEFT(B380,8)=\"LED Mogu\",RIGHT(A380,2)=\"In\"),H380*Worksheet!V406,\"\")","v":""},{"$f":"IF(Worksheet!V406=0,\"\",IF(OR(LEFT(B380,8)=\"LED Four\",LEFT(B380,8)=\"LED Tube\",LEFT(B380,8)=\"LED Mogu\",RIGHT(A380,2)=\"In\"),\"\",Worksheet!V406))","v":""},"",{"$f":"IF(OR(LEFT(B380,8)=\"LED Four\",LEFT(B380,8)=\"LED Tube\",LEFT(B380,8)=\"LED Mogu\",RIGHT(A380,2)=\"In\"),H380*Worksheet!W406,\"\")","v":""},{"$f":"IF(Worksheet!W406=0,\"\",IF(OR(LEFT(B380,8)=\"LED Four\",LEFT(B380,8)=\"LED Tube\",LEFT(B380,8)=\"LED Mogu\",RIGHT(A380,2)=\"In\"),\"\",Worksheet!W406))","v":""},""]
[{"$f":"IF(Worksheet!K407=0,\"\",Worksheet!K407)","v":""},{"$f":"IF(Worksheet!L407=0,\"\",Worksheet!L407)","v":""},{"$f":"IF(Worksheet!M407=0,\"\",Worksheet!M407)","v":""},{"$f":"IF(Worksheet!N407=0,\"\",Worksheet!N407)","v":""},{"$f":"IF(Worksheet!P407=0,\"\",IF(OR(LEFT(B381,8)=\"LED Four\",LEFT(B381,8)=\"LED Tube\",LEFT(B381,8)=\"LED Mogu\",RIGHT(A381,2)=\"In\"),\"\",Worksheet!P407))","v":""},{"$f":"IF(Worksheet!R407=0,\"\",Worksheet!R407)","v":""},"",{"$f":"IF(Worksheet!Q407=0,\"\",Worksheet!Q407)","v":""},{"$f":"IF(OR(LEFT(B381,8)=\"LED Four\",LEFT(B381,8)=\"LED Tube\",LEFT(B381,8)=\"LED Mogu\",RIGHT(A381,2)=\"In\"),H381*Worksheet!V407,\"\")","v":""},{"$f":"IF(Worksheet!V407=0,\"\",IF(OR(LEFT(B381,8)=\"LED Four\",LEFT(B381,8)=\"LED Tube\",LEFT(B381,8)=\"LED Mogu\",RIGHT(A381,2)=\"In\"),\"\",Worksheet!V407))","v":""},"",{"$f":"IF(OR(LEFT(B381,8)=\"LED Four\",LEFT(B381,8)=\"LED Tube\",LEFT(B381,8)=\"LED Mogu\",RIGHT(A381,2)=\"In\"),H381*Worksheet!W407,\"\")","v":""},{"$f":"IF(Worksheet!W407=0,\"\",IF(OR(LEFT(B381,8)=\"LED Four\",LEFT(B381,8)=\"LED Tube\",LEFT(B381,8)=\"LED Mogu\",RIGHT(A381,2)=\"In\"),\"\",Worksheet!W407))","v":""},""]
[{"$f":"IF(Worksheet!K408=0,\"\",Worksheet!K408)","v":""},{"$f":"IF(Worksheet!L408=0,\"\",Worksheet!L408)","v":""},{"$f":"IF(Worksheet!M408=0,\"\",Worksheet!M408)","v":""},{"$f":"IF(Worksheet!N408=0,\"\",Worksheet!N408)","v":""},{"$f":"IF(Worksheet!P408=0,\"\",IF(OR(LEFT(B382,8)=\"LED Four\",LEFT(B382,8)=\"LED Tube\",LEFT(B382,8)=\"LED Mogu\",RIGHT(A382,2)=\"In\"),\"\",Worksheet!P408))","v":""},{"$f":"IF(Worksheet!R408=0,\"\",Worksheet!R408)","v":""},"",{"$f":"IF(Worksheet!Q408=0,\"\",Worksheet!Q408)","v":""},{"$f":"IF(OR(LEFT(B382,8)=\"LED Four\",LEFT(B382,8)=\"LED Tube\",LEFT(B382,8)=\"LED Mogu\",RIGHT(A382,2)=\"In\"),H382*Worksheet!V408,\"\")","v":""},{"$f":"IF(Worksheet!V408=0,\"\",IF(OR(LEFT(B382,8)=\"LED Four\",LEFT(B382,8)=\"LED Tube\",LEFT(B382,8)=\"LED Mogu\",RIGHT(A382,2)=\"In\"),\"\",Worksheet!V408))","v":""},"",{"$f":"IF(OR(LEFT(B382,8)=\"LED Four\",LEFT(B382,8)=\"LED Tube\",LEFT(B382,8)=\"LED Mogu\",RIGHT(A382,2)=\"In\"),H382*Worksheet!W408,\"\")","v":""},{"$f":"IF(Worksheet!W408=0,\"\",IF(OR(LEFT(B382,8)=\"LED Four\",LEFT(B382,8)=\"LED Tube\",LEFT(B382,8)=\"LED Mogu\",RIGHT(A382,2)=\"In\"),\"\",Worksheet!W408))","v":""},""]
[{"$f":"IF(Worksheet!K409=0,\"\",Worksheet!K409)","v":""},{"$f":"IF(Worksheet!L409=0,\"\",Worksheet!L409)","v":""},{"$f":"IF(Worksheet!M409=0,\"\",Worksheet!M409)","v":""},{"$f":"IF(Worksheet!N409=0,\"\",Worksheet!N409)","v":""},{"$f":"IF(Worksheet!P409=0,\"\",IF(OR(LEFT(B383,8)=\"LED Four\",LEFT(B383,8)=\"LED Tube\",LEFT(B383,8)=\"LED Mogu\",RIGHT(A383,2)=\"In\"),\"\",Worksheet!P409))","v":""},{"$f":"IF(Worksheet!R409=0,\"\",Worksheet!R409)","v":""},"",{"$f":"IF(Worksheet!Q409=0,\"\",Worksheet!Q409)","v":""},{"$f":"IF(OR(LEFT(B383,8)=\"LED Four\",LEFT(B383,8)=\"LED Tube\",LEFT(B383,8)=\"LED Mogu\",RIGHT(A383,2)=\"In\"),H383*Worksheet!V409,\"\")","v":""},{"$f":"IF(Worksheet!V409=0,\"\",IF(OR(LEFT(B383,8)=\"LED Four\",LEFT(B383,8)=\"LED Tube\",LEFT(B383,8)=\"LED Mogu\",RIGHT(A383,2)=\"In\"),\"\",Worksheet!V409))","v":""},"",{"$f":"IF(OR(LEFT(B383,8)=\"LED Four\",LEFT(B383,8)=\"LED Tube\",LEFT(B383,8)=\"LED Mogu\",RIGHT(A383,2)=\"In\"),H383*Worksheet!W409,\"\")","v":""},{"$f":"IF(Worksheet!W409=0,\"\",IF(OR(LEFT(B383,8)=\"LED Four\",LEFT(B383,8)=\"LED Tube\",LEFT(B383,8)=\"LED Mogu\",RIGHT(A383,2)=\"In\"),\"\",Worksheet!W409))","v":""},""]
[{"$f":"IF(Worksheet!K410=0,\"\",Worksheet!K410)","v":""},{"$f":"IF(Worksheet!L410=0,\"\",Worksheet!L410)","v":""},{"$f":"IF(Worksheet!M410=0,\"\",Worksheet!M410)","v":""},{"$f":"IF(Worksheet!N410=0,\"\",Worksheet!N410)","v":""},{"$f":"IF(Worksheet!P410=0,\"\",IF(OR(LEFT(B384,8)=\"LED Four\",LEFT(B384,8)=\"LED Tube\",LEFT(B384,8)=\"LED Mogu\",RIGHT(A384,2)=\"In\"),\"\",Worksheet!P410))","v":""},{"$f":"IF(Worksheet!R410=0,\"\",Worksheet!R410)","v":""},"",{"$f":"IF(Worksheet!Q410=0,\"\",Worksheet!Q410)","v":""},{"$f":"IF(OR(LEFT(B384,8)=\"LED Four\",LEFT(B384,8)=\"LED Tube\",LEFT(B384,8)=\"LED Mogu\",RIGHT(A384,2)=\"In\"),H384*Worksheet!V410,\"\")","v":""},{"$f":"IF(Worksheet!V410=0,\"\",IF(OR(LEFT(B384,8)=\"LED Four\",LEFT(B384,8)=\"LED Tube\",LEFT(B384,8)=\"LED Mogu\",RIGHT(A384,2)=\"In\"),\"\",Worksheet!V410))","v":""},"",{"$f":"IF(OR(LEFT(B384,8)=\"LED Four\",LEFT(B384,8)=\"LED Tube\",LEFT(B384,8)=\"LED Mogu\",RIGHT(A384,2)=\"In\"),H384*Worksheet!W410,\"\")","v":""},{"$f":"IF(Worksheet!W410=0,\"\",IF(OR(LEFT(B384,8)=\"LED Four\",LEFT(B384,8)=\"LED Tube\",LEFT(B384,8)=\"LED Mogu\",RIGHT(A384,2)=\"In\"),\"\",Worksheet!W410))","v":""},""]
[{"$f":"IF(Worksheet!K411=0,\"\",Worksheet!K411)","v":""},{"$f":"IF(Worksheet!L411=0,\"\",Worksheet!L411)","v":""},{"$f":"IF(Worksheet!M411=0,\"\",Worksheet!M411)","v":""},{"$f":"IF(Worksheet!N411=0,\"\",Worksheet!N411)","v":""},{"$f":"IF(Worksheet!P411=0,\"\",IF(OR(LEFT(B385,8)=\"LED Four\",LEFT(B385,8)=\"LED Tube\",LEFT(B385,8)=\"LED Mogu\",RIGHT(A385,2)=\"In\"),\"\",Worksheet!P411))","v":""},{"$f":"IF(Worksheet!R411=0,\"\",Worksheet!R411)","v":""},"",{"$f":"IF(Worksheet!Q411=0,\"\",Worksheet!Q411)","v":""},{"$f":"IF(OR(LEFT(B385,8)=\"LED Four\",LEFT(B385,8)=\"LED Tube\",LEFT(B385,8)=\"LED Mogu\",RIGHT(A385,2)=\"In\"),H385*Worksheet!V411,\"\")","v":""},{"$f":"IF(Worksheet!V411=0,\"\",IF(OR(LEFT(B385,8)=\"LED Four\",LEFT(B385,8)=\"LED Tube\",LEFT(B385,8)=\"LED Mogu\",RIGHT(A385,2)=\"In\"),\"\",Worksheet!V411))","v":""},"",{"$f":"IF(OR(LEFT(B385,8)=\"LED Four\",LEFT(B385,8)=\"LED Tube\",LEFT(B385,8)=\"LED Mogu\",RIGHT(A385,2)=\"In\"),H385*Worksheet!W411,\"\")","v":""},{"$f":"IF(Worksheet!W411=0,\"\",IF(OR(LEFT(B385,8)=\"LED Four\",LEFT(B385,8)=\"LED Tube\",LEFT(B385,8)=\"LED Mogu\",RIGHT(A385,2)=\"In\"),\"\",Worksheet!W411))","v":""},""]
[{"$f":"IF(Worksheet!K412=0,\"\",Worksheet!K412)","v":""},{"$f":"IF(Worksheet!L412=0,\"\",Worksheet!L412)","v":""},{"$f":"IF(Worksheet!M412=0,\"\",Worksheet!M412)","v":""},{"$f":"IF(Worksheet!N412=0,\"\",Worksheet!N412)","v":""},{"$f":"IF(Worksheet!P412=0,\"\",IF(OR(LEFT(B386,8)=\"LED Four\",LEFT(B386,8)=\"LED Tube\",LEFT(B386,8)=\"LED Mogu\",RIGHT(A386,2)=\"In\"),\"\",Worksheet!P412))","v":""},{"$f":"IF(Worksheet!R412=0,\"\",Worksheet!R412)","v":""},"",{"$f":"IF(Worksheet!Q412=0,\"\",Worksheet!Q412)","v":""},{"$f":"IF(OR(LEFT(B386,8)=\"LED Four\",LEFT(B386,8)=\"LED Tube\",LEFT(B386,8)=\"LED Mogu\",RIGHT(A386,2)=\"In\"),H386*Worksheet!V412,\"\")","v":""},{"$f":"IF(Worksheet!V412=0,\"\",IF(OR(LEFT(B386,8)=\"LED Four\",LEFT(B386,8)=\"LED Tube\",LEFT(B386,8)=\"LED Mogu\",RIGHT(A386,2)=\"In\"),\"\",Worksheet!V412))","v":""},"",{"$f":"IF(OR(LEFT(B386,8)=\"LED Four\",LEFT(B386,8)=\"LED Tube\",LEFT(B386,8)=\"LED Mogu\",RIGHT(A386,2)=\"In\"),H386*Worksheet!W412,\"\")","v":""},{"$f":"IF(Worksheet!W412=0,\"\",IF(OR(LEFT(B386,8)=\"LED Four\",LEFT(B386,8)=\"LED Tube\",LEFT(B386,8)=\"LED Mogu\",RIGHT(A386,2)=\"In\"),\"\",Worksheet!W412))","v":""},""]
[{"$f":"IF(Worksheet!K413=0,\"\",Worksheet!K413)","v":""},{"$f":"IF(Worksheet!L413=0,\"\",Worksheet!L413)","v":""},{"$f":"IF(Worksheet!M413=0,\"\",Worksheet!M413)","v":""},{"$f":"IF(Worksheet!N413=0,\"\",Worksheet!N413)","v":""},{"$f":"IF(Worksheet!P413=0,\"\",IF(OR(LEFT(B387,8)=\"LED Four\",LEFT(B387,8)=\"LED Tube\",LEFT(B387,8)=\"LED Mogu\",RIGHT(A387,2)=\"In\"),\"\",Worksheet!P413))","v":""},{"$f":"IF(Worksheet!R413=0,\"\",Worksheet!R413)","v":""},{"$f":"IF(MAX(E387:F387)=0,\"\",MAX(E387:F387))","v":""},{"$f":"IF(Worksheet!Q413=0,\"\",Worksheet!Q413)","v":""},{"$f":"IF(OR(LEFT(B387,8)=\"LED Four\",LEFT(B387,8)=\"LED Tube\",LEFT(B387,8)=\"LED Mogu\",RIGHT(A387,2)=\"In\"),H387*Worksheet!V413,\"\")","v":""},{"$f":"IF(Worksheet!V413=0,\"\",IF(OR(LEFT(B387,8)=\"LED Four\",LEFT(B387,8)=\"LED Tube\",LEFT(B387,8)=\"LED Mogu\",RIGHT(A387,2)=\"In\"),\"\",Worksheet!V413))","v":""},{"$f":"(IF(MAX(I387:J387)=0,\"\",MAX(I387:J387)))","v":""},{"$f":"IF(OR(LEFT(B387,8)=\"LED Four\",LEFT(B387,8)=\"LED Tube\",LEFT(B387,8)=\"LED Mogu\",RIGHT(A387,2)=\"In\"),H387*Worksheet!W413,\"\")","v":""},{"$f":"IF(Worksheet!W413=0,\"\",IF(OR(LEFT(B387,8)=\"LED Four\",LEFT(B387,8)=\"LED Tube\",LEFT(B387,8)=\"LED Mogu\",RIGHT(A387,2)=\"In\"),\"\",Worksheet!W413))","v":""},{"$f":"IF(MAX(L387:M387)=0,\"\",MAX(L387:M387))","v":""}]
[{"$f":"IF(Worksheet!K414=0,\"\",Worksheet!K414)","v":""},{"$f":"IF(Worksheet!L414=0,\"\",Worksheet!L414)","v":""},{"$f":"IF(Worksheet!M414=0,\"\",Worksheet!M414)","v":""},{"$f":"IF(Worksheet!N414=0,\"\",Worksheet!N414)","v":""},{"$f":"IF(Worksheet!P414=0,\"\",IF(OR(LEFT(B388,8)=\"LED Four\",LEFT(B388,8)=\"LED Tube\",LEFT(B388,8)=\"LED Mogu\",RIGHT(A388,2)=\"In\"),\"\",Worksheet!P414))","v":""},{"$f":"IF(Worksheet!R414=0,\"\",Worksheet!R414)","v":""},"",{"$f":"IF(Worksheet!Q414=0,\"\",Worksheet!Q414)","v":""},{"$f":"IF(OR(LEFT(B388,8)=\"LED Four\",LEFT(B388,8)=\"LED Tube\",LEFT(B388,8)=\"LED Mogu\",RIGHT(A388,2)=\"In\"),H388*Worksheet!V414,\"\")","v":""},{"$f":"IF(Worksheet!V414=0,\"\",IF(OR(LEFT(B388,8)=\"LED Four\",LEFT(B388,8)=\"LED Tube\",LEFT(B388,8)=\"LED Mogu\",RIGHT(A388,2)=\"In\"),\"\",Worksheet!V414))","v":""},"",{"$f":"IF(OR(LEFT(B388,8)=\"LED Four\",LEFT(B388,8)=\"LED Tube\",LEFT(B388,8)=\"LED Mogu\",RIGHT(A388,2)=\"In\"),H388*Worksheet!W414,\"\")","v":""},{"$f":"IF(Worksheet!W414=0,\"\",IF(OR(LEFT(B388,8)=\"LED Four\",LEFT(B388,8)=\"LED Tube\",LEFT(B388,8)=\"LED Mogu\",RIGHT(A388,2)=\"In\"),\"\",Worksheet!W414))","v":""},""]
[{"$f":"IF(Worksheet!K415=0,\"\",Worksheet!K415)","v":""},{"$f":"IF(Worksheet!L415=0,\"\",Worksheet!L415)","v":""},{"$f":"IF(Worksheet!M415=0,\"\",Worksheet!M415)","v":""},{"$f":"IF(Worksheet!N415=0,\"\",Worksheet!N415)","v":""},{"$f":"IF(Worksheet!P415=0,\"\",IF(OR(LEFT(B389,8)=\"LED Four\",LEFT(B389,8)=\"LED Tube\",LEFT(B389,8)=\"LED Mogu\",RIGHT(A389,2)=\"In\"),\"\",Worksheet!P415))","v":""},{"$f":"IF(Worksheet!R415=0,\"\",Worksheet!R415)","v":""},"",{"$f":"IF(Worksheet!Q415=0,\"\",Worksheet!Q415)","v":""},{"$f":"IF(OR(LEFT(B389,8)=\"LED Four\",LEFT(B389,8)=\"LED Tube\",LEFT(B389,8)=\"LED Mogu\",RIGHT(A389,2)=\"In\"),H389*Worksheet!V415,\"\")","v":""},{"$f":"IF(Worksheet!V415=0,\"\",IF(OR(LEFT(B389,8)=\"LED Four\",LEFT(B389,8)=\"LED Tube\",LEFT(B389,8)=\"LED Mogu\",RIGHT(A389,2)=\"In\"),\"\",Worksheet!V415))","v":""},"",{"$f":"IF(OR(LEFT(B389,8)=\"LED Four\",LEFT(B389,8)=\"LED Tube\",LEFT(B389,8)=\"LED Mogu\",RIGHT(A389,2)=\"In\"),H389*Worksheet!W415,\"\")","v":""},{"$f":"IF(Worksheet!W415=0,\"\",IF(OR(LEFT(B389,8)=\"LED Four\",LEFT(B389,8)=\"LED Tube\",LEFT(B389,8)=\"LED Mogu\",RIGHT(A389,2)=\"In\"),\"\",Worksheet!W415))","v":""},""]
[{"$f":"IF(Worksheet!K416=0,\"\",Worksheet!K416)","v":""},{"$f":"IF(Worksheet!L416=0,\"\",Worksheet!L416)","v":""},{"$f":"IF(Worksheet!M416=0,\"\",Worksheet!M416)","v":""},{"$f":"IF(Worksheet!N416=0,\"\",Worksheet!N416)","v":""},{"$f":"IF(Worksheet!P416=0,\"\",IF(OR(LEFT(B390,8)=\"LED Four\",LEFT(B390,8)=\"LED Tube\",LEFT(B390,8)=\"LED Mogu\",RIGHT(A390,2)=\"In\"),\"\",Worksheet!P416))","v":""},{"$f":"IF(Worksheet!R416=0,\"\",Worksheet!R416)","v":""},"",{"$f":"IF(Worksheet!Q416=0,\"\",Worksheet!Q416)","v":""},{"$f":"IF(OR(LEFT(B390,8)=\"LED Four\",LEFT(B390,8)=\"LED Tube\",LEFT(B390,8)=\"LED Mogu\",RIGHT(A390,2)=\"In\"),H390*Worksheet!V416,\"\")","v":""},{"$f":"IF(Worksheet!V416=0,\"\",IF(OR(LEFT(B390,8)=\"LED Four\",LEFT(B390,8)=\"LED Tube\",LEFT(B390,8)=\"LED Mogu\",RIGHT(A390,2)=\"In\"),\"\",Worksheet!V416))","v":""},"",{"$f":"IF(OR(LEFT(B390,8)=\"LED Four\",LEFT(B390,8)=\"LED Tube\",LEFT(B390,8)=\"LED Mogu\",RIGHT(A390,2)=\"In\"),H390*Worksheet!W416,\"\")","v":""},{"$f":"IF(Worksheet!W416=0,\"\",IF(OR(LEFT(B390,8)=\"LED Four\",LEFT(B390,8)=\"LED Tube\",LEFT(B390,8)=\"LED Mogu\",RIGHT(A390,2)=\"In\"),\"\",Worksheet!W416))","v":""},""]
[{"$f":"IF(Worksheet!K417=0,\"\",Worksheet!K417)","v":""},{"$f":"IF(Worksheet!L417=0,\"\",Worksheet!L417)","v":""},{"$f":"IF(Worksheet!M417=0,\"\",Worksheet!M417)","v":""},{"$f":"IF(Worksheet!N417=0,\"\",Worksheet!N417)","v":""},{"$f":"IF(Worksheet!P417=0,\"\",IF(OR(LEFT(B391,8)=\"LED Four\",LEFT(B391,8)=\"LED Tube\",LEFT(B391,8)=\"LED Mogu\",RIGHT(A391,2)=\"In\"),\"\",Worksheet!P417))","v":""},{"$f":"IF(Worksheet!R417=0,\"\",Worksheet!R417)","v":""},"",{"$f":"IF(Worksheet!Q417=0,\"\",Worksheet!Q417)","v":""},{"$f":"IF(OR(LEFT(B391,8)=\"LED Four\",LEFT(B391,8)=\"LED Tube\",LEFT(B391,8)=\"LED Mogu\",RIGHT(A391,2)=\"In\"),H391*Worksheet!V417,\"\")","v":""},{"$f":"IF(Worksheet!V417=0,\"\",IF(OR(LEFT(B391,8)=\"LED Four\",LEFT(B391,8)=\"LED Tube\",LEFT(B391,8)=\"LED Mogu\",RIGHT(A391,2)=\"In\"),\"\",Worksheet!V417))","v":""},"",{"$f":"IF(OR(LEFT(B391,8)=\"LED Four\",LEFT(B391,8)=\"LED Tube\",LEFT(B391,8)=\"LED Mogu\",RIGHT(A391,2)=\"In\"),H391*Worksheet!W417,\"\")","v":""},{"$f":"IF(Worksheet!W417=0,\"\",IF(OR(LEFT(B391,8)=\"LED Four\",LEFT(B391,8)=\"LED Tube\",LEFT(B391,8)=\"LED Mogu\",RIGHT(A391,2)=\"In\"),\"\",Worksheet!W417))","v":""},""]
[{"$f":"IF(Worksheet!K418=0,\"\",Worksheet!K418)","v":""},{"$f":"IF(Worksheet!L418=0,\"\",Worksheet!L418)","v":""},{"$f":"IF(Worksheet!M418=0,\"\",Worksheet!M418)","v":""},{"$f":"IF(Worksheet!N418=0,\"\",Worksheet!N418)","v":""},{"$f":"IF(Worksheet!P418=0,\"\",IF(OR(LEFT(B392,8)=\"LED Four\",LEFT(B392,8)=\"LED Tube\",LEFT(B392,8)=\"LED Mogu\",RIGHT(A392,2)=\"In\"),\"\",Worksheet!P418))","v":""},{"$f":"IF(Worksheet!R418=0,\"\",Worksheet!R418)","v":""},"",{"$f":"IF(Worksheet!Q418=0,\"\",Worksheet!Q418)","v":""},{"$f":"IF(OR(LEFT(B392,8)=\"LED Four\",LEFT(B392,8)=\"LED Tube\",LEFT(B392,8)=\"LED Mogu\",RIGHT(A392,2)=\"In\"),H392*Worksheet!V418,\"\")","v":""},{"$f":"IF(Worksheet!V418=0,\"\",IF(OR(LEFT(B392,8)=\"LED Four\",LEFT(B392,8)=\"LED Tube\",LEFT(B392,8)=\"LED Mogu\",RIGHT(A392,2)=\"In\"),\"\",Worksheet!V418))","v":""},"",{"$f":"IF(OR(LEFT(B392,8)=\"LED Four\",LEFT(B392,8)=\"LED Tube\",LEFT(B392,8)=\"LED Mogu\",RIGHT(A392,2)=\"In\"),H392*Worksheet!W418,\"\")","v":""},{"$f":"IF(Worksheet!W418=0,\"\",IF(OR(LEFT(B392,8)=\"LED Four\",LEFT(B392,8)=\"LED Tube\",LEFT(B392,8)=\"LED Mogu\",RIGHT(A392,2)=\"In\"),\"\",Worksheet!W418))","v":""},""]
[{"$f":"IF(Worksheet!K419=0,\"\",Worksheet!K419)","v":""},{"$f":"IF(Worksheet!L419=0,\"\",Worksheet!L419)","v":""},{"$f":"IF(Worksheet!M419=0,\"\",Worksheet!M419)","v":""},{"$f":"IF(Worksheet!N419=0,\"\",Worksheet!N419)","v":""},{"$f":"IF(Worksheet!P419=0,\"\",IF(OR(LEFT(B393,8)=\"LED Four\",LEFT(B393,8)=\"LED Tube\",LEFT(B393,8)=\"LED Mogu\",RIGHT(A393,2)=\"In\"),\"\",Worksheet!P419))","v":""},{"$f":"IF(Worksheet!R419=0,\"\",Worksheet!R419)","v":""},"",{"$f":"IF(Worksheet!Q419=0,\"\",Worksheet!Q419)","v":""},{"$f":"IF(OR(LEFT(B393,8)=\"LED Four\",LEFT(B393,8)=\"LED Tube\",LEFT(B393,8)=\"LED Mogu\",RIGHT(A393,2)=\"In\"),H393*Worksheet!V419,\"\")","v":""},{"$f":"IF(Worksheet!V419=0,\"\",IF(OR(LEFT(B393,8)=\"LED Four\",LEFT(B393,8)=\"LED Tube\",LEFT(B393,8)=\"LED Mogu\",RIGHT(A393,2)=\"In\"),\"\",Worksheet!V419))","v":""},"",{"$f":"IF(OR(LEFT(B393,8)=\"LED Four\",LEFT(B393,8)=\"LED Tube\",LEFT(B393,8)=\"LED Mogu\",RIGHT(A393,2)=\"In\"),H393*Worksheet!W419,\"\")","v":""},{"$f":"IF(Worksheet!W419=0,\"\",IF(OR(LEFT(B393,8)=\"LED Four\",LEFT(B393,8)=\"LED Tube\",LEFT(B393,8)=\"LED Mogu\",RIGHT(A393,2)=\"In\"),\"\",Worksheet!W419))","v":""},""]
[{"$f":"IF(Worksheet!K420=0,\"\",Worksheet!K420)","v":""},{"$f":"IF(Worksheet!L420=0,\"\",Worksheet!L420)","v":""},{"$f":"IF(Worksheet!M420=0,\"\",Worksheet!M420)","v":""},{"$f":"IF(Worksheet!N420=0,\"\",Worksheet!N420)","v":""},{"$f":"IF(Worksheet!P420=0,\"\",IF(OR(LEFT(B394,8)=\"LED Four\",LEFT(B394,8)=\"LED Tube\",LEFT(B394,8)=\"LED Mogu\",RIGHT(A394,2)=\"In\"),\"\",Worksheet!P420))","v":""},{"$f":"IF(Worksheet!R420=0,\"\",Worksheet!R420)","v":""},"",{"$f":"IF(Worksheet!Q420=0,\"\",Worksheet!Q420)","v":""},{"$f":"IF(OR(LEFT(B394,8)=\"LED Four\",LEFT(B394,8)=\"LED Tube\",LEFT(B394,8)=\"LED Mogu\",RIGHT(A394,2)=\"In\"),H394*Worksheet!V420,\"\")","v":""},{"$f":"IF(Worksheet!V420=0,\"\",IF(OR(LEFT(B394,8)=\"LED Four\",LEFT(B394,8)=\"LED Tube\",LEFT(B394,8)=\"LED Mogu\",RIGHT(A394,2)=\"In\"),\"\",Worksheet!V420))","v":""},"",{"$f":"IF(OR(LEFT(B394,8)=\"LED Four\",LEFT(B394,8)=\"LED Tube\",LEFT(B394,8)=\"LED Mogu\",RIGHT(A394,2)=\"In\"),H394*Worksheet!W420,\"\")","v":""},{"$f":"IF(Worksheet!W420=0,\"\",IF(OR(LEFT(B394,8)=\"LED Four\",LEFT(B394,8)=\"LED Tube\",LEFT(B394,8)=\"LED Mogu\",RIGHT(A394,2)=\"In\"),\"\",Worksheet!W420))","v":""},""]
[{"$f":"IF(Worksheet!K421=0,\"\",Worksheet!K421)","v":""},{"$f":"IF(Worksheet!L421=0,\"\",Worksheet!L421)","v":""},{"$f":"IF(Worksheet!M421=0,\"\",Worksheet!M421)","v":""},{"$f":"IF(Worksheet!N421=0,\"\",Worksheet!N421)","v":""},{"$f":"IF(Worksheet!P421=0,\"\",IF(OR(LEFT(B395,8)=\"LED Four\",LEFT(B395,8)=\"LED Tube\",LEFT(B395,8)=\"LED Mogu\",RIGHT(A395,2)=\"In\"),\"\",Worksheet!P421))","v":""},{"$f":"IF(Worksheet!R421=0,\"\",Worksheet!R421)","v":""},"",{"$f":"IF(Worksheet!Q421=0,\"\",Worksheet!Q421)","v":""},{"$f":"IF(OR(LEFT(B395,8)=\"LED Four\",LEFT(B395,8)=\"LED Tube\",LEFT(B395,8)=\"LED Mogu\",RIGHT(A395,2)=\"In\"),H395*Worksheet!V421,\"\")","v":""},{"$f":"IF(Worksheet!V421=0,\"\",IF(OR(LEFT(B395,8)=\"LED Four\",LEFT(B395,8)=\"LED Tube\",LEFT(B395,8)=\"LED Mogu\",RIGHT(A395,2)=\"In\"),\"\",Worksheet!V421))","v":""},"",{"$f":"IF(OR(LEFT(B395,8)=\"LED Four\",LEFT(B395,8)=\"LED Tube\",LEFT(B395,8)=\"LED Mogu\",RIGHT(A395,2)=\"In\"),H395*Worksheet!W421,\"\")","v":""},{"$f":"IF(Worksheet!W421=0,\"\",IF(OR(LEFT(B395,8)=\"LED Four\",LEFT(B395,8)=\"LED Tube\",LEFT(B395,8)=\"LED Mogu\",RIGHT(A395,2)=\"In\"),\"\",Worksheet!W421))","v":""},""]
[{"$f":"IF(Worksheet!K422=0,\"\",Worksheet!K422)","v":""},{"$f":"IF(Worksheet!L422=0,\"\",Worksheet!L422)","v":""},{"$f":"IF(Worksheet!M422=0,\"\",Worksheet!M422)","v":""},{"$f":"IF(Worksheet!N422=0,\"\",Worksheet!N422)","v":""},{"$f":"IF(Worksheet!P422=0,\"\",IF(OR(LEFT(B396,8)=\"LED Four\",LEFT(B396,8)=\"LED Tube\",LEFT(B396,8)=\"LED Mogu\",RIGHT(A396,2)=\"In\"),\"\",Worksheet!P422))","v":""},{"$f":"IF(Worksheet!R422=0,\"\",Worksheet!R422)","v":""},"",{"$f":"IF(Worksheet!Q422=0,\"\",Worksheet!Q422)","v":""},{"$f":"IF(OR(LEFT(B396,8)=\"LED Four\",LEFT(B396,8)=\"LED Tube\",LEFT(B396,8)=\"LED Mogu\",RIGHT(A396,2)=\"In\"),H396*Worksheet!V422,\"\")","v":""},{"$f":"IF(Worksheet!V422=0,\"\",IF(OR(LEFT(B396,8)=\"LED Four\",LEFT(B396,8)=\"LED Tube\",LEFT(B396,8)=\"LED Mogu\",RIGHT(A396,2)=\"In\"),\"\",Worksheet!V422))","v":""},"",{"$f":"IF(OR(LEFT(B396,8)=\"LED Four\",LEFT(B396,8)=\"LED Tube\",LEFT(B396,8)=\"LED Mogu\",RIGHT(A396,2)=\"In\"),H396*Worksheet!W422,\"\")","v":""},{"$f":"IF(Worksheet!W422=0,\"\",IF(OR(LEFT(B396,8)=\"LED Four\",LEFT(B396,8)=\"LED Tube\",LEFT(B396,8)=\"LED Mogu\",RIGHT(A396,2)=\"In\"),\"\",Worksheet!W422))","v":""},""]
[{"$f":"IF(Worksheet!K423=0,\"\",Worksheet!K423)","v":""},{"$f":"IF(Worksheet!L423=0,\"\",Worksheet!L423)","v":""},{"$f":"IF(Worksheet!M423=0,\"\",Worksheet!M423)","v":""},{"$f":"IF(Worksheet!N423=0,\"\",Worksheet!N423)","v":""},{"$f":"IF(Worksheet!P423=0,\"\",IF(OR(LEFT(B397,8)=\"LED Four\",LEFT(B397,8)=\"LED Tube\",LEFT(B397,8)=\"LED Mogu\",RIGHT(A397,2)=\"In\"),\"\",Worksheet!P423))","v":""},{"$f":"IF(Worksheet!R423=0,\"\",Worksheet!R423)","v":""},"",{"$f":"IF(Worksheet!Q423=0,\"\",Worksheet!Q423)","v":""},{"$f":"IF(OR(LEFT(B397,8)=\"LED Four\",LEFT(B397,8)=\"LED Tube\",LEFT(B397,8)=\"LED Mogu\",RIGHT(A397,2)=\"In\"),H397*Worksheet!V423,\"\")","v":""},{"$f":"IF(Worksheet!V423=0,\"\",IF(OR(LEFT(B397,8)=\"LED Four\",LEFT(B397,8)=\"LED Tube\",LEFT(B397,8)=\"LED Mogu\",RIGHT(A397,2)=\"In\"),\"\",Worksheet!V423))","v":""},"",{"$f":"IF(OR(LEFT(B397,8)=\"LED Four\",LEFT(B397,8)=\"LED Tube\",LEFT(B397,8)=\"LED Mogu\",RIGHT(A397,2)=\"In\"),H397*Worksheet!W423,\"\")","v":""},{"$f":"IF(Worksheet!W423=0,\"\",IF(OR(LEFT(B397,8)=\"LED Four\",LEFT(B397,8)=\"LED Tube\",LEFT(B397,8)=\"LED Mogu\",RIGHT(A397,2)=\"In\"),\"\",Worksheet!W423))","v":""},""]
[{"$f":"IF(Worksheet!K424=0,\"\",Worksheet!K424)","v":""},{"$f":"IF(Worksheet!L424=0,\"\",Worksheet!L424)","v":""},{"$f":"IF(Worksheet!M424=0,\"\",Worksheet!M424)","v":""},{"$f":"IF(Worksheet!N424=0,\"\",Worksheet!N424)","v":""},{"$f":"IF(Worksheet!P424=0,\"\",IF(OR(LEFT(B398,8)=\"LED Four\",LEFT(B398,8)=\"LED Tube\",LEFT(B398,8)=\"LED Mogu\",RIGHT(A398,2)=\"In\"),\"\",Worksheet!P424))","v":""},{"$f":"IF(Worksheet!R424=0,\"\",Worksheet!R424)","v":""},"",{"$f":"IF(Worksheet!Q424=0,\"\",Worksheet!Q424)","v":""},{"$f":"IF(OR(LEFT(B398,8)=\"LED Four\",LEFT(B398,8)=\"LED Tube\",LEFT(B398,8)=\"LED Mogu\",RIGHT(A398,2)=\"In\"),H398*Worksheet!V424,\"\")","v":""},{"$f":"IF(Worksheet!V424=0,\"\",IF(OR(LEFT(B398,8)=\"LED Four\",LEFT(B398,8)=\"LED Tube\",LEFT(B398,8)=\"LED Mogu\",RIGHT(A398,2)=\"In\"),\"\",Worksheet!V424))","v":""},"",{"$f":"IF(OR(LEFT(B398,8)=\"LED Four\",LEFT(B398,8)=\"LED Tube\",LEFT(B398,8)=\"LED Mogu\",RIGHT(A398,2)=\"In\"),H398*Worksheet!W424,\"\")","v":""},{"$f":"IF(Worksheet!W424=0,\"\",IF(OR(LEFT(B398,8)=\"LED Four\",LEFT(B398,8)=\"LED Tube\",LEFT(B398,8)=\"LED Mogu\",RIGHT(A398,2)=\"In\"),\"\",Worksheet!W424))","v":""},""]
[{"$f":"IF(Worksheet!K425=0,\"\",Worksheet!K425)","v":""},{"$f":"IF(Worksheet!L425=0,\"\",Worksheet!L425)","v":""},{"$f":"IF(Worksheet!M425=0,\"\",Worksheet!M425)","v":""},{"$f":"IF(Worksheet!N425=0,\"\",Worksheet!N425)","v":""},{"$f":"IF(Worksheet!P425=0,\"\",IF(OR(LEFT(B399,8)=\"LED Four\",LEFT(B399,8)=\"LED Tube\",LEFT(B399,8)=\"LED Mogu\",RIGHT(A399,2)=\"In\"),\"\",Worksheet!P425))","v":""},{"$f":"IF(Worksheet!R425=0,\"\",Worksheet!R425)","v":""},"",{"$f":"IF(Worksheet!Q425=0,\"\",Worksheet!Q425)","v":""},{"$f":"IF(OR(LEFT(B399,8)=\"LED Four\",LEFT(B399,8)=\"LED Tube\",LEFT(B399,8)=\"LED Mogu\",RIGHT(A399,2)=\"In\"),H399*Worksheet!V425,\"\")","v":""},{"$f":"IF(Worksheet!V425=0,\"\",IF(OR(LEFT(B399,8)=\"LED Four\",LEFT(B399,8)=\"LED Tube\",LEFT(B399,8)=\"LED Mogu\",RIGHT(A399,2)=\"In\"),\"\",Worksheet!V425))","v":""},"",{"$f":"IF(OR(LEFT(B399,8)=\"LED Four\",LEFT(B399,8)=\"LED Tube\",LEFT(B399,8)=\"LED Mogu\",RIGHT(A399,2)=\"In\"),H399*Worksheet!W425,\"\")","v":""},{"$f":"IF(Worksheet!W425=0,\"\",IF(OR(LEFT(B399,8)=\"LED Four\",LEFT(B399,8)=\"LED Tube\",LEFT(B399,8)=\"LED Mogu\",RIGHT(A399,2)=\"In\"),\"\",Worksheet!W425))","v":""},""]
[{"$f":"IF(Worksheet!K426=0,\"\",Worksheet!K426)","v":""},{"$f":"IF(Worksheet!L426=0,\"\",Worksheet!L426)","v":""},{"$f":"IF(Worksheet!M426=0,\"\",Worksheet!M426)","v":""},{"$f":"IF(Worksheet!N426=0,\"\",Worksheet!N426)","v":""},{"$f":"IF(Worksheet!P426=0,\"\",IF(OR(LEFT(B400,8)=\"LED Four\",LEFT(B400,8)=\"LED Tube\",LEFT(B400,8)=\"LED Mogu\",RIGHT(A400,2)=\"In\"),\"\",Worksheet!P426))","v":""},{"$f":"IF(Worksheet!R426=0,\"\",Worksheet!R426)","v":""},"",{"$f":"IF(Worksheet!Q426=0,\"\",Worksheet!Q426)","v":""},{"$f":"IF(OR(LEFT(B400,8)=\"LED Four\",LEFT(B400,8)=\"LED Tube\",LEFT(B400,8)=\"LED Mogu\",RIGHT(A400,2)=\"In\"),H400*Worksheet!V426,\"\")","v":""},{"$f":"IF(Worksheet!V426=0,\"\",IF(OR(LEFT(B400,8)=\"LED Four\",LEFT(B400,8)=\"LED Tube\",LEFT(B400,8)=\"LED Mogu\",RIGHT(A400,2)=\"In\"),\"\",Worksheet!V426))","v":""},"",{"$f":"IF(OR(LEFT(B400,8)=\"LED Four\",LEFT(B400,8)=\"LED Tube\",LEFT(B400,8)=\"LED Mogu\",RIGHT(A400,2)=\"In\"),H400*Worksheet!W426,\"\")","v":""},{"$f":"IF(Worksheet!W426=0,\"\",IF(OR(LEFT(B400,8)=\"LED Four\",LEFT(B400,8)=\"LED Tube\",LEFT(B400,8)=\"LED Mogu\",RIGHT(A400,2)=\"In\"),\"\",Worksheet!W426))","v":""},""]
[{"$f":"IF(Worksheet!K427=0,\"\",Worksheet!K427)","v":""},{"$f":"IF(Worksheet!L427=0,\"\",Worksheet!L427)","v":""},{"$f":"IF(Worksheet!M427=0,\"\",Worksheet!M427)","v":""},{"$f":"IF(Worksheet!N427=0,\"\",Worksheet!N427)","v":""},{"$f":"IF(Worksheet!P427=0,\"\",IF(OR(LEFT(B401,8)=\"LED Four\",LEFT(B401,8)=\"LED Tube\",LEFT(B401,8)=\"LED Mogu\",RIGHT(A401,2)=\"In\"),\"\",Worksheet!P427))","v":""},{"$f":"IF(Worksheet!R427=0,\"\",Worksheet!R427)","v":""},"",{"$f":"IF(Worksheet!Q427=0,\"\",Worksheet!Q427)","v":""},{"$f":"IF(OR(LEFT(B401,8)=\"LED Four\",LEFT(B401,8)=\"LED Tube\",LEFT(B401,8)=\"LED Mogu\",RIGHT(A401,2)=\"In\"),H401*Worksheet!V427,\"\")","v":""},{"$f":"IF(Worksheet!V427=0,\"\",IF(OR(LEFT(B401,8)=\"LED Four\",LEFT(B401,8)=\"LED Tube\",LEFT(B401,8)=\"LED Mogu\",RIGHT(A401,2)=\"In\"),\"\",Worksheet!V427))","v":""},"",{"$f":"IF(OR(LEFT(B401,8)=\"LED Four\",LEFT(B401,8)=\"LED Tube\",LEFT(B401,8)=\"LED Mogu\",RIGHT(A401,2)=\"In\"),H401*Worksheet!W427,\"\")","v":""},{"$f":"IF(Worksheet!W427=0,\"\",IF(OR(LEFT(B401,8)=\"LED Four\",LEFT(B401,8)=\"LED Tube\",LEFT(B401,8)=\"LED Mogu\",RIGHT(A401,2)=\"In\"),\"\",Worksheet!W427))","v":""},""]
[{"$f":"IF(Worksheet!K428=0,\"\",Worksheet!K428)","v":""},{"$f":"IF(Worksheet!L428=0,\"\",Worksheet!L428)","v":""},{"$f":"IF(Worksheet!M428=0,\"\",Worksheet!M428)","v":""},{"$f":"IF(Worksheet!N428=0,\"\",Worksheet!N428)","v":""},{"$f":"IF(Worksheet!P428=0,\"\",IF(OR(LEFT(B402,8)=\"LED Four\",LEFT(B402,8)=\"LED Tube\",LEFT(B402,8)=\"LED Mogu\",RIGHT(A402,2)=\"In\"),\"\",Worksheet!P428))","v":""},{"$f":"IF(Worksheet!R428=0,\"\",Worksheet!R428)","v":""},"",{"$f":"IF(Worksheet!Q428=0,\"\",Worksheet!Q428)","v":""},{"$f":"IF(OR(LEFT(B402,8)=\"LED Four\",LEFT(B402,8)=\"LED Tube\",LEFT(B402,8)=\"LED Mogu\",RIGHT(A402,2)=\"In\"),H402*Worksheet!V428,\"\")","v":""},{"$f":"IF(Worksheet!V428=0,\"\",IF(OR(LEFT(B402,8)=\"LED Four\",LEFT(B402,8)=\"LED Tube\",LEFT(B402,8)=\"LED Mogu\",RIGHT(A402,2)=\"In\"),\"\",Worksheet!V428))","v":""},"",{"$f":"IF(OR(LEFT(B402,8)=\"LED Four\",LEFT(B402,8)=\"LED Tube\",LEFT(B402,8)=\"LED Mogu\",RIGHT(A402,2)=\"In\"),H402*Worksheet!W428,\"\")","v":""},{"$f":"IF(Worksheet!W428=0,\"\",IF(OR(LEFT(B402,8)=\"LED Four\",LEFT(B402,8)=\"LED Tube\",LEFT(B402,8)=\"LED Mogu\",RIGHT(A402,2)=\"In\"),\"\",Worksheet!W428))","v":""},""]
[{"$f":"IF(Worksheet!K429=0,\"\",Worksheet!K429)","v":""},{"$f":"IF(Worksheet!L429=0,\"\",Worksheet!L429)","v":""},{"$f":"IF(Worksheet!M429=0,\"\",Worksheet!M429)","v":""},{"$f":"IF(Worksheet!N429=0,\"\",Worksheet!N429)","v":""},{"$f":"IF(Worksheet!P429=0,\"\",IF(OR(LEFT(B403,8)=\"LED Four\",LEFT(B403,8)=\"LED Tube\",LEFT(B403,8)=\"LED Mogu\",RIGHT(A403,2)=\"In\"),\"\",Worksheet!P429))","v":""},{"$f":"IF(Worksheet!R429=0,\"\",Worksheet!R429)","v":""},"",{"$f":"IF(Worksheet!Q429=0,\"\",Worksheet!Q429)","v":""},{"$f":"IF(OR(LEFT(B403,8)=\"LED Four\",LEFT(B403,8)=\"LED Tube\",LEFT(B403,8)=\"LED Mogu\",RIGHT(A403,2)=\"In\"),H403*Worksheet!V429,\"\")","v":""},{"$f":"IF(Worksheet!V429=0,\"\",IF(OR(LEFT(B403,8)=\"LED Four\",LEFT(B403,8)=\"LED Tube\",LEFT(B403,8)=\"LED Mogu\",RIGHT(A403,2)=\"In\"),\"\",Worksheet!V429))","v":""},"",{"$f":"IF(OR(LEFT(B403,8)=\"LED Four\",LEFT(B403,8)=\"LED Tube\",LEFT(B403,8)=\"LED Mogu\",RIGHT(A403,2)=\"In\"),H403*Worksheet!W429,\"\")","v":""},{"$f":"IF(Worksheet!W429=0,\"\",IF(OR(LEFT(B403,8)=\"LED Four\",LEFT(B403,8)=\"LED Tube\",LEFT(B403,8)=\"LED Mogu\",RIGHT(A403,2)=\"In\"),\"\",Worksheet!W429))","v":""},""]
[{"$f":"IF(Worksheet!K430=0,\"\",Worksheet!K430)","v":""},{"$f":"IF(Worksheet!L430=0,\"\",Worksheet!L430)","v":""},{"$f":"IF(Worksheet!M430=0,\"\",Worksheet!M430)","v":""},{"$f":"IF(Worksheet!N430=0,\"\",Worksheet!N430)","v":""},{"$f":"IF(Worksheet!P430=0,\"\",IF(OR(LEFT(B404,8)=\"LED Four\",LEFT(B404,8)=\"LED Tube\",LEFT(B404,8)=\"LED Mogu\",RIGHT(A404,2)=\"In\"),\"\",Worksheet!P430))","v":""},{"$f":"IF(Worksheet!R430=0,\"\",Worksheet!R430)","v":""},"",{"$f":"IF(Worksheet!Q430=0,\"\",Worksheet!Q430)","v":""},{"$f":"IF(OR(LEFT(B404,8)=\"LED Four\",LEFT(B404,8)=\"LED Tube\",LEFT(B404,8)=\"LED Mogu\",RIGHT(A404,2)=\"In\"),H404*Worksheet!V430,\"\")","v":""},{"$f":"IF(Worksheet!V430=0,\"\",IF(OR(LEFT(B404,8)=\"LED Four\",LEFT(B404,8)=\"LED Tube\",LEFT(B404,8)=\"LED Mogu\",RIGHT(A404,2)=\"In\"),\"\",Worksheet!V430))","v":""},"",{"$f":"IF(OR(LEFT(B404,8)=\"LED Four\",LEFT(B404,8)=\"LED Tube\",LEFT(B404,8)=\"LED Mogu\",RIGHT(A404,2)=\"In\"),H404*Worksheet!W430,\"\")","v":""},{"$f":"IF(Worksheet!W430=0,\"\",IF(OR(LEFT(B404,8)=\"LED Four\",LEFT(B404,8)=\"LED Tube\",LEFT(B404,8)=\"LED Mogu\",RIGHT(A404,2)=\"In\"),\"\",Worksheet!W430))","v":""},""]
[{"$f":"IF(Worksheet!K431=0,\"\",Worksheet!K431)","v":""},{"$f":"IF(Worksheet!L431=0,\"\",Worksheet!L431)","v":""},{"$f":"IF(Worksheet!M431=0,\"\",Worksheet!M431)","v":""},{"$f":"IF(Worksheet!N431=0,\"\",Worksheet!N431)","v":""},{"$f":"IF(Worksheet!P431=0,\"\",IF(OR(LEFT(B405,8)=\"LED Four\",LEFT(B405,8)=\"LED Tube\",LEFT(B405,8)=\"LED Mogu\",RIGHT(A405,2)=\"In\"),\"\",Worksheet!P431))","v":""},{"$f":"IF(Worksheet!R431=0,\"\",Worksheet!R431)","v":""},"",{"$f":"IF(Worksheet!Q431=0,\"\",Worksheet!Q431)","v":""},{"$f":"IF(OR(LEFT(B405,8)=\"LED Four\",LEFT(B405,8)=\"LED Tube\",LEFT(B405,8)=\"LED Mogu\",RIGHT(A405,2)=\"In\"),H405*Worksheet!V431,\"\")","v":""},{"$f":"IF(Worksheet!V431=0,\"\",IF(OR(LEFT(B405,8)=\"LED Four\",LEFT(B405,8)=\"LED Tube\",LEFT(B405,8)=\"LED Mogu\",RIGHT(A405,2)=\"In\"),\"\",Worksheet!V431))","v":""},"",{"$f":"IF(OR(LEFT(B405,8)=\"LED Four\",LEFT(B405,8)=\"LED Tube\",LEFT(B405,8)=\"LED Mogu\",RIGHT(A405,2)=\"In\"),H405*Worksheet!W431,\"\")","v":""},{"$f":"IF(Worksheet!W431=0,\"\",IF(OR(LEFT(B405,8)=\"LED Four\",LEFT(B405,8)=\"LED Tube\",LEFT(B405,8)=\"LED Mogu\",RIGHT(A405,2)=\"In\"),\"\",Worksheet!W431))","v":""},""]
[{"$f":"IF(Worksheet!K432=0,\"\",Worksheet!K432)","v":""},{"$f":"IF(Worksheet!L432=0,\"\",Worksheet!L432)","v":""},{"$f":"IF(Worksheet!M432=0,\"\",Worksheet!M432)","v":""},{"$f":"IF(Worksheet!N432=0,\"\",Worksheet!N432)","v":""},{"$f":"IF(Worksheet!P432=0,\"\",IF(OR(LEFT(B406,8)=\"LED Four\",LEFT(B406,8)=\"LED Tube\",LEFT(B406,8)=\"LED Mogu\",RIGHT(A406,2)=\"In\"),\"\",Worksheet!P432))","v":""},{"$f":"IF(Worksheet!R432=0,\"\",Worksheet!R432)","v":""},"",{"$f":"IF(Worksheet!Q432=0,\"\",Worksheet!Q432)","v":""},{"$f":"IF(OR(LEFT(B406,8)=\"LED Four\",LEFT(B406,8)=\"LED Tube\",LEFT(B406,8)=\"LED Mogu\",RIGHT(A406,2)=\"In\"),H406*Worksheet!V432,\"\")","v":""},{"$f":"IF(Worksheet!V432=0,\"\",IF(OR(LEFT(B406,8)=\"LED Four\",LEFT(B406,8)=\"LED Tube\",LEFT(B406,8)=\"LED Mogu\",RIGHT(A406,2)=\"In\"),\"\",Worksheet!V432))","v":""},"",{"$f":"IF(OR(LEFT(B406,8)=\"LED Four\",LEFT(B406,8)=\"LED Tube\",LEFT(B406,8)=\"LED Mogu\",RIGHT(A406,2)=\"In\"),H406*Worksheet!W432,\"\")","v":""},{"$f":"IF(Worksheet!W432=0,\"\",IF(OR(LEFT(B406,8)=\"LED Four\",LEFT(B406,8)=\"LED Tube\",LEFT(B406,8)=\"LED Mogu\",RIGHT(A406,2)=\"In\"),\"\",Worksheet!W432))","v":""},""]
[{"$f":"IF(Worksheet!K433=0,\"\",Worksheet!K433)","v":""},{"$f":"IF(Worksheet!L433=0,\"\",Worksheet!L433)","v":""},{"$f":"IF(Worksheet!M433=0,\"\",Worksheet!M433)","v":""},{"$f":"IF(Worksheet!N433=0,\"\",Worksheet!N433)","v":""},{"$f":"IF(Worksheet!P433=0,\"\",IF(OR(LEFT(B407,8)=\"LED Four\",LEFT(B407,8)=\"LED Tube\",LEFT(B407,8)=\"LED Mogu\",RIGHT(A407,2)=\"In\"),\"\",Worksheet!P433))","v":""},{"$f":"IF(Worksheet!R433=0,\"\",Worksheet!R433)","v":""},"",{"$f":"IF(Worksheet!Q433=0,\"\",Worksheet!Q433)","v":""},{"$f":"IF(OR(LEFT(B407,8)=\"LED Four\",LEFT(B407,8)=\"LED Tube\",LEFT(B407,8)=\"LED Mogu\",RIGHT(A407,2)=\"In\"),H407*Worksheet!V433,\"\")","v":""},{"$f":"IF(Worksheet!V433=0,\"\",IF(OR(LEFT(B407,8)=\"LED Four\",LEFT(B407,8)=\"LED Tube\",LEFT(B407,8)=\"LED Mogu\",RIGHT(A407,2)=\"In\"),\"\",Worksheet!V433))","v":""},"",{"$f":"IF(OR(LEFT(B407,8)=\"LED Four\",LEFT(B407,8)=\"LED Tube\",LEFT(B407,8)=\"LED Mogu\",RIGHT(A407,2)=\"In\"),H407*Worksheet!W433,\"\")","v":""},{"$f":"IF(Worksheet!W433=0,\"\",IF(OR(LEFT(B407,8)=\"LED Four\",LEFT(B407,8)=\"LED Tube\",LEFT(B407,8)=\"LED Mogu\",RIGHT(A407,2)=\"In\"),\"\",Worksheet!W433))","v":""},""]
[{"$f":"IF(Worksheet!K434=0,\"\",Worksheet!K434)","v":""},{"$f":"IF(Worksheet!L434=0,\"\",Worksheet!L434)","v":""},{"$f":"IF(Worksheet!M434=0,\"\",Worksheet!M434)","v":""},{"$f":"IF(Worksheet!N434=0,\"\",Worksheet!N434)","v":""},{"$f":"IF(Worksheet!P434=0,\"\",IF(OR(LEFT(B408,8)=\"LED Four\",LEFT(B408,8)=\"LED Tube\",LEFT(B408,8)=\"LED Mogu\",RIGHT(A408,2)=\"In\"),\"\",Worksheet!P434))","v":""},{"$f":"IF(Worksheet!R434=0,\"\",Worksheet!R434)","v":""},"",{"$f":"IF(Worksheet!Q434=0,\"\",Worksheet!Q434)","v":""},{"$f":"IF(OR(LEFT(B408,8)=\"LED Four\",LEFT(B408,8)=\"LED Tube\",LEFT(B408,8)=\"LED Mogu\",RIGHT(A408,2)=\"In\"),H408*Worksheet!V434,\"\")","v":""},{"$f":"IF(Worksheet!V434=0,\"\",IF(OR(LEFT(B408,8)=\"LED Four\",LEFT(B408,8)=\"LED Tube\",LEFT(B408,8)=\"LED Mogu\",RIGHT(A408,2)=\"In\"),\"\",Worksheet!V434))","v":""},"",{"$f":"IF(OR(LEFT(B408,8)=\"LED Four\",LEFT(B408,8)=\"LED Tube\",LEFT(B408,8)=\"LED Mogu\",RIGHT(A408,2)=\"In\"),H408*Worksheet!W434,\"\")","v":""},{"$f":"IF(Worksheet!W434=0,\"\",IF(OR(LEFT(B408,8)=\"LED Four\",LEFT(B408,8)=\"LED Tube\",LEFT(B408,8)=\"LED Mogu\",RIGHT(A408,2)=\"In\"),\"\",Worksheet!W434))","v":""},""]
[{"$f":"IF(Worksheet!K435=0,\"\",Worksheet!K435)","v":""},{"$f":"IF(Worksheet!L435=0,\"\",Worksheet!L435)","v":""},{"$f":"IF(Worksheet!M435=0,\"\",Worksheet!M435)","v":""},{"$f":"IF(Worksheet!N435=0,\"\",Worksheet!N435)","v":""},{"$f":"IF(Worksheet!P435=0,\"\",IF(OR(LEFT(B409,8)=\"LED Four\",LEFT(B409,8)=\"LED Tube\",LEFT(B409,8)=\"LED Mogu\",RIGHT(A409,2)=\"In\"),\"\",Worksheet!P435))","v":""},{"$f":"IF(Worksheet!R435=0,\"\",Worksheet!R435)","v":""},"",{"$f":"IF(Worksheet!Q435=0,\"\",Worksheet!Q435)","v":""},{"$f":"IF(OR(LEFT(B409,8)=\"LED Four\",LEFT(B409,8)=\"LED Tube\",LEFT(B409,8)=\"LED Mogu\",RIGHT(A409,2)=\"In\"),H409*Worksheet!V435,\"\")","v":""},{"$f":"IF(Worksheet!V435=0,\"\",IF(OR(LEFT(B409,8)=\"LED Four\",LEFT(B409,8)=\"LED Tube\",LEFT(B409,8)=\"LED Mogu\",RIGHT(A409,2)=\"In\"),\"\",Worksheet!V435))","v":""},"",{"$f":"IF(OR(LEFT(B409,8)=\"LED Four\",LEFT(B409,8)=\"LED Tube\",LEFT(B409,8)=\"LED Mogu\",RIGHT(A409,2)=\"In\"),H409*Worksheet!W435,\"\")","v":""},{"$f":"IF(Worksheet!W435=0,\"\",IF(OR(LEFT(B409,8)=\"LED Four\",LEFT(B409,8)=\"LED Tube\",LEFT(B409,8)=\"LED Mogu\",RIGHT(A409,2)=\"In\"),\"\",Worksheet!W435))","v":""},""]
[{"$f":"IF(Worksheet!K436=0,\"\",Worksheet!K436)","v":""},{"$f":"IF(Worksheet!L436=0,\"\",Worksheet!L436)","v":""},{"$f":"IF(Worksheet!M436=0,\"\",Worksheet!M436)","v":""},{"$f":"IF(Worksheet!N436=0,\"\",Worksheet!N436)","v":""},{"$f":"IF(Worksheet!P436=0,\"\",IF(OR(LEFT(B410,8)=\"LED Four\",LEFT(B410,8)=\"LED Tube\",LEFT(B410,8)=\"LED Mogu\",RIGHT(A410,2)=\"In\"),\"\",Worksheet!P436))","v":""},{"$f":"IF(Worksheet!R436=0,\"\",Worksheet!R436)","v":""},"",{"$f":"IF(Worksheet!Q436=0,\"\",Worksheet!Q436)","v":""},{"$f":"IF(OR(LEFT(B410,8)=\"LED Four\",LEFT(B410,8)=\"LED Tube\",LEFT(B410,8)=\"LED Mogu\",RIGHT(A410,2)=\"In\"),H410*Worksheet!V436,\"\")","v":""},{"$f":"IF(Worksheet!V436=0,\"\",IF(OR(LEFT(B410,8)=\"LED Four\",LEFT(B410,8)=\"LED Tube\",LEFT(B410,8)=\"LED Mogu\",RIGHT(A410,2)=\"In\"),\"\",Worksheet!V436))","v":""},"",{"$f":"IF(OR(LEFT(B410,8)=\"LED Four\",LEFT(B410,8)=\"LED Tube\",LEFT(B410,8)=\"LED Mogu\",RIGHT(A410,2)=\"In\"),H410*Worksheet!W436,\"\")","v":""},{"$f":"IF(Worksheet!W436=0,\"\",IF(OR(LEFT(B410,8)=\"LED Four\",LEFT(B410,8)=\"LED Tube\",LEFT(B410,8)=\"LED Mogu\",RIGHT(A410,2)=\"In\"),\"\",Worksheet!W436))","v":""},""]
[{"$f":"IF(Worksheet!K437=0,\"\",Worksheet!K437)","v":""},{"$f":"IF(Worksheet!L437=0,\"\",Worksheet!L437)","v":""},{"$f":"IF(Worksheet!M437=0,\"\",Worksheet!M437)","v":""},{"$f":"IF(Worksheet!N437=0,\"\",Worksheet!N437)","v":""},{"$f":"IF(Worksheet!P437=0,\"\",IF(OR(LEFT(B411,8)=\"LED Four\",LEFT(B411,8)=\"LED Tube\",LEFT(B411,8)=\"LED Mogu\",RIGHT(A411,2)=\"In\"),\"\",Worksheet!P437))","v":""},{"$f":"IF(Worksheet!R437=0,\"\",Worksheet!R437)","v":""},"",{"$f":"IF(Worksheet!Q437=0,\"\",Worksheet!Q437)","v":""},{"$f":"IF(OR(LEFT(B411,8)=\"LED Four\",LEFT(B411,8)=\"LED Tube\",LEFT(B411,8)=\"LED Mogu\",RIGHT(A411,2)=\"In\"),H411*Worksheet!V437,\"\")","v":""},{"$f":"IF(Worksheet!V437=0,\"\",IF(OR(LEFT(B411,8)=\"LED Four\",LEFT(B411,8)=\"LED Tube\",LEFT(B411,8)=\"LED Mogu\",RIGHT(A411,2)=\"In\"),\"\",Worksheet!V437))","v":""},"",{"$f":"IF(OR(LEFT(B411,8)=\"LED Four\",LEFT(B411,8)=\"LED Tube\",LEFT(B411,8)=\"LED Mogu\",RIGHT(A411,2)=\"In\"),H411*Worksheet!W437,\"\")","v":""},{"$f":"IF(Worksheet!W437=0,\"\",IF(OR(LEFT(B411,8)=\"LED Four\",LEFT(B411,8)=\"LED Tube\",LEFT(B411,8)=\"LED Mogu\",RIGHT(A411,2)=\"In\"),\"\",Worksheet!W437))","v":""},""]
[{"$f":"IF(Worksheet!K438=0,\"\",Worksheet!K438)","v":""},{"$f":"IF(Worksheet!L438=0,\"\",Worksheet!L438)","v":""},{"$f":"IF(Worksheet!M438=0,\"\",Worksheet!M438)","v":""},{"$f":"IF(Worksheet!N438=0,\"\",Worksheet!N438)","v":""},{"$f":"IF(Worksheet!P438=0,\"\",IF(OR(LEFT(B412,8)=\"LED Four\",LEFT(B412,8)=\"LED Tube\",LEFT(B412,8)=\"LED Mogu\",RIGHT(A412,2)=\"In\"),\"\",Worksheet!P438))","v":""},{"$f":"IF(Worksheet!R438=0,\"\",Worksheet!R438)","v":""},"",{"$f":"IF(Worksheet!Q438=0,\"\",Worksheet!Q438)","v":""},{"$f":"IF(OR(LEFT(B412,8)=\"LED Four\",LEFT(B412,8)=\"LED Tube\",LEFT(B412,8)=\"LED Mogu\",RIGHT(A412,2)=\"In\"),H412*Worksheet!V438,\"\")","v":""},{"$f":"IF(Worksheet!V438=0,\"\",IF(OR(LEFT(B412,8)=\"LED Four\",LEFT(B412,8)=\"LED Tube\",LEFT(B412,8)=\"LED Mogu\",RIGHT(A412,2)=\"In\"),\"\",Worksheet!V438))","v":""},"",{"$f":"IF(OR(LEFT(B412,8)=\"LED Four\",LEFT(B412,8)=\"LED Tube\",LEFT(B412,8)=\"LED Mogu\",RIGHT(A412,2)=\"In\"),H412*Worksheet!W438,\"\")","v":""},{"$f":"IF(Worksheet!W438=0,\"\",IF(OR(LEFT(B412,8)=\"LED Four\",LEFT(B412,8)=\"LED Tube\",LEFT(B412,8)=\"LED Mogu\",RIGHT(A412,2)=\"In\"),\"\",Worksheet!W438))","v":""},""]
[{"$f":"IF(Worksheet!K439=0,\"\",Worksheet!K439)","v":""},{"$f":"IF(Worksheet!L439=0,\"\",Worksheet!L439)","v":""},{"$f":"IF(Worksheet!M439=0,\"\",Worksheet!M439)","v":""},{"$f":"IF(Worksheet!N439=0,\"\",Worksheet!N439)","v":""},{"$f":"IF(Worksheet!P439=0,\"\",IF(OR(LEFT(B413,8)=\"LED Four\",LEFT(B413,8)=\"LED Tube\",LEFT(B413,8)=\"LED Mogu\",RIGHT(A413,2)=\"In\"),\"\",Worksheet!P439))","v":""},{"$f":"IF(Worksheet!R439=0,\"\",Worksheet!R439)","v":""},"",{"$f":"IF(Worksheet!Q439=0,\"\",Worksheet!Q439)","v":""},{"$f":"IF(OR(LEFT(B413,8)=\"LED Four\",LEFT(B413,8)=\"LED Tube\",LEFT(B413,8)=\"LED Mogu\",RIGHT(A413,2)=\"In\"),H413*Worksheet!V439,\"\")","v":""},{"$f":"IF(Worksheet!V439=0,\"\",IF(OR(LEFT(B413,8)=\"LED Four\",LEFT(B413,8)=\"LED Tube\",LEFT(B413,8)=\"LED Mogu\",RIGHT(A413,2)=\"In\"),\"\",Worksheet!V439))","v":""},"",{"$f":"IF(OR(LEFT(B413,8)=\"LED Four\",LEFT(B413,8)=\"LED Tube\",LEFT(B413,8)=\"LED Mogu\",RIGHT(A413,2)=\"In\"),H413*Worksheet!W439,\"\")","v":""},{"$f":"IF(Worksheet!W439=0,\"\",IF(OR(LEFT(B413,8)=\"LED Four\",LEFT(B413,8)=\"LED Tube\",LEFT(B413,8)=\"LED Mogu\",RIGHT(A413,2)=\"In\"),\"\",Worksheet!W439))","v":""},""]
[{"$f":"IF(Worksheet!K440=0,\"\",Worksheet!K440)","v":""},{"$f":"IF(Worksheet!L440=0,\"\",Worksheet!L440)","v":""},{"$f":"IF(Worksheet!M440=0,\"\",Worksheet!M440)","v":""},{"$f":"IF(Worksheet!N440=0,\"\",Worksheet!N440)","v":""},{"$f":"IF(Worksheet!P440=0,\"\",IF(OR(LEFT(B414,8)=\"LED Four\",LEFT(B414,8)=\"LED Tube\",LEFT(B414,8)=\"LED Mogu\",RIGHT(A414,2)=\"In\"),\"\",Worksheet!P440))","v":""},{"$f":"IF(Worksheet!R440=0,\"\",Worksheet!R440)","v":""},"",{"$f":"IF(Worksheet!Q440=0,\"\",Worksheet!Q440)","v":""},{"$f":"IF(OR(LEFT(B414,8)=\"LED Four\",LEFT(B414,8)=\"LED Tube\",LEFT(B414,8)=\"LED Mogu\",RIGHT(A414,2)=\"In\"),H414*Worksheet!V440,\"\")","v":""},{"$f":"IF(Worksheet!V440=0,\"\",IF(OR(LEFT(B414,8)=\"LED Four\",LEFT(B414,8)=\"LED Tube\",LEFT(B414,8)=\"LED Mogu\",RIGHT(A414,2)=\"In\"),\"\",Worksheet!V440))","v":""},"",{"$f":"IF(OR(LEFT(B414,8)=\"LED Four\",LEFT(B414,8)=\"LED Tube\",LEFT(B414,8)=\"LED Mogu\",RIGHT(A414,2)=\"In\"),H414*Worksheet!W440,\"\")","v":""},{"$f":"IF(Worksheet!W440=0,\"\",IF(OR(LEFT(B414,8)=\"LED Four\",LEFT(B414,8)=\"LED Tube\",LEFT(B414,8)=\"LED Mogu\",RIGHT(A414,2)=\"In\"),\"\",Worksheet!W440))","v":""},""]
[{"$f":"IF(Worksheet!K441=0,\"\",Worksheet!K441)","v":""},{"$f":"IF(Worksheet!L441=0,\"\",Worksheet!L441)","v":""},{"$f":"IF(Worksheet!M441=0,\"\",Worksheet!M441)","v":""},{"$f":"IF(Worksheet!N441=0,\"\",Worksheet!N441)","v":""},{"$f":"IF(Worksheet!P441=0,\"\",IF(OR(LEFT(B415,8)=\"LED Four\",LEFT(B415,8)=\"LED Tube\",LEFT(B415,8)=\"LED Mogu\",RIGHT(A415,2)=\"In\"),\"\",Worksheet!P441))","v":""},{"$f":"IF(Worksheet!R441=0,\"\",Worksheet!R441)","v":""},"",{"$f":"IF(Worksheet!Q441=0,\"\",Worksheet!Q441)","v":""},{"$f":"IF(OR(LEFT(B415,8)=\"LED Four\",LEFT(B415,8)=\"LED Tube\",LEFT(B415,8)=\"LED Mogu\",RIGHT(A415,2)=\"In\"),H415*Worksheet!V441,\"\")","v":""},{"$f":"IF(Worksheet!V441=0,\"\",IF(OR(LEFT(B415,8)=\"LED Four\",LEFT(B415,8)=\"LED Tube\",LEFT(B415,8)=\"LED Mogu\",RIGHT(A415,2)=\"In\"),\"\",Worksheet!V441))","v":""},"",{"$f":"IF(OR(LEFT(B415,8)=\"LED Four\",LEFT(B415,8)=\"LED Tube\",LEFT(B415,8)=\"LED Mogu\",RIGHT(A415,2)=\"In\"),H415*Worksheet!W441,\"\")","v":""},{"$f":"IF(Worksheet!W441=0,\"\",IF(OR(LEFT(B415,8)=\"LED Four\",LEFT(B415,8)=\"LED Tube\",LEFT(B415,8)=\"LED Mogu\",RIGHT(A415,2)=\"In\"),\"\",Worksheet!W441))","v":""},""]
[{"$f":"IF(Worksheet!K442=0,\"\",Worksheet!K442)","v":""},{"$f":"IF(Worksheet!L442=0,\"\",Worksheet!L442)","v":""},{"$f":"IF(Worksheet!M442=0,\"\",Worksheet!M442)","v":""},{"$f":"IF(Worksheet!N442=0,\"\",Worksheet!N442)","v":""},{"$f":"IF(Worksheet!P442=0,\"\",IF(OR(LEFT(B416,8)=\"LED Four\",LEFT(B416,8)=\"LED Tube\",LEFT(B416,8)=\"LED Mogu\",RIGHT(A416,2)=\"In\"),\"\",Worksheet!P442))","v":""},{"$f":"IF(Worksheet!R442=0,\"\",Worksheet!R442)","v":""},"",{"$f":"IF(Worksheet!Q442=0,\"\",Worksheet!Q442)","v":""},{"$f":"IF(OR(LEFT(B416,8)=\"LED Four\",LEFT(B416,8)=\"LED Tube\",LEFT(B416,8)=\"LED Mogu\",RIGHT(A416,2)=\"In\"),H416*Worksheet!V442,\"\")","v":""},{"$f":"IF(Worksheet!V442=0,\"\",IF(OR(LEFT(B416,8)=\"LED Four\",LEFT(B416,8)=\"LED Tube\",LEFT(B416,8)=\"LED Mogu\",RIGHT(A416,2)=\"In\"),\"\",Worksheet!V442))","v":""},"",{"$f":"IF(OR(LEFT(B416,8)=\"LED Four\",LEFT(B416,8)=\"LED Tube\",LEFT(B416,8)=\"LED Mogu\",RIGHT(A416,2)=\"In\"),H416*Worksheet!W442,\"\")","v":""},{"$f":"IF(Worksheet!W442=0,\"\",IF(OR(LEFT(B416,8)=\"LED Four\",LEFT(B416,8)=\"LED Tube\",LEFT(B416,8)=\"LED Mogu\",RIGHT(A416,2)=\"In\"),\"\",Worksheet!W442))","v":""},""]
[{"$f":"IF(Worksheet!K443=0,\"\",Worksheet!K443)","v":""},{"$f":"IF(Worksheet!L443=0,\"\",Worksheet!L443)","v":""},{"$f":"IF(Worksheet!M443=0,\"\",Worksheet!M443)","v":""},{"$f":"IF(Worksheet!N443=0,\"\",Worksheet!N443)","v":""},{"$f":"IF(Worksheet!P443=0,\"\",IF(OR(LEFT(B417,8)=\"LED Four\",LEFT(B417,8)=\"LED Tube\",LEFT(B417,8)=\"LED Mogu\",RIGHT(A417,2)=\"In\"),\"\",Worksheet!P443))","v":""},{"$f":"IF(Worksheet!R443=0,\"\",Worksheet!R443)","v":""},"",{"$f":"IF(Worksheet!Q443=0,\"\",Worksheet!Q443)","v":""},{"$f":"IF(OR(LEFT(B417,8)=\"LED Four\",LEFT(B417,8)=\"LED Tube\",LEFT(B417,8)=\"LED Mogu\",RIGHT(A417,2)=\"In\"),H417*Worksheet!V443,\"\")","v":""},{"$f":"IF(Worksheet!V443=0,\"\",IF(OR(LEFT(B417,8)=\"LED Four\",LEFT(B417,8)=\"LED Tube\",LEFT(B417,8)=\"LED Mogu\",RIGHT(A417,2)=\"In\"),\"\",Worksheet!V443))","v":""},"",{"$f":"IF(OR(LEFT(B417,8)=\"LED Four\",LEFT(B417,8)=\"LED Tube\",LEFT(B417,8)=\"LED Mogu\",RIGHT(A417,2)=\"In\"),H417*Worksheet!W443,\"\")","v":""},{"$f":"IF(Worksheet!W443=0,\"\",IF(OR(LEFT(B417,8)=\"LED Four\",LEFT(B417,8)=\"LED Tube\",LEFT(B417,8)=\"LED Mogu\",RIGHT(A417,2)=\"In\"),\"\",Worksheet!W443))","v":""},""]
[{"$f":"IF(Worksheet!K444=0,\"\",Worksheet!K444)","v":""},{"$f":"IF(Worksheet!L444=0,\"\",Worksheet!L444)","v":""},{"$f":"IF(Worksheet!M444=0,\"\",Worksheet!M444)","v":""},{"$f":"IF(Worksheet!N444=0,\"\",Worksheet!N444)","v":""},{"$f":"IF(Worksheet!P444=0,\"\",IF(OR(LEFT(B418,8)=\"LED Four\",LEFT(B418,8)=\"LED Tube\",LEFT(B418,8)=\"LED Mogu\",RIGHT(A418,2)=\"In\"),\"\",Worksheet!P444))","v":""},{"$f":"IF(Worksheet!R444=0,\"\",Worksheet!R444)","v":""},"",{"$f":"IF(Worksheet!Q444=0,\"\",Worksheet!Q444)","v":""},{"$f":"IF(OR(LEFT(B418,8)=\"LED Four\",LEFT(B418,8)=\"LED Tube\",LEFT(B418,8)=\"LED Mogu\",RIGHT(A418,2)=\"In\"),H418*Worksheet!V444,\"\")","v":""},{"$f":"IF(Worksheet!V444=0,\"\",IF(OR(LEFT(B418,8)=\"LED Four\",LEFT(B418,8)=\"LED Tube\",LEFT(B418,8)=\"LED Mogu\",RIGHT(A418,2)=\"In\"),\"\",Worksheet!V444))","v":""},"",{"$f":"IF(OR(LEFT(B418,8)=\"LED Four\",LEFT(B418,8)=\"LED Tube\",LEFT(B418,8)=\"LED Mogu\",RIGHT(A418,2)=\"In\"),H418*Worksheet!W444,\"\")","v":""},{"$f":"IF(Worksheet!W444=0,\"\",IF(OR(LEFT(B418,8)=\"LED Four\",LEFT(B418,8)=\"LED Tube\",LEFT(B418,8)=\"LED Mogu\",RIGHT(A418,2)=\"In\"),\"\",Worksheet!W444))","v":""},""]
[{"$f":"IF(Worksheet!K445=0,\"\",Worksheet!K445)","v":""},{"$f":"IF(Worksheet!L445=0,\"\",Worksheet!L445)","v":""},{"$f":"IF(Worksheet!M445=0,\"\",Worksheet!M445)","v":""},{"$f":"IF(Worksheet!N445=0,\"\",Worksheet!N445)","v":""},{"$f":"IF(Worksheet!P445=0,\"\",IF(OR(LEFT(B419,8)=\"LED Four\",LEFT(B419,8)=\"LED Tube\",LEFT(B419,8)=\"LED Mogu\",RIGHT(A419,2)=\"In\"),\"\",Worksheet!P445))","v":""},{"$f":"IF(Worksheet!R445=0,\"\",Worksheet!R445)","v":""},"",{"$f":"IF(Worksheet!Q445=0,\"\",Worksheet!Q445)","v":""},{"$f":"IF(OR(LEFT(B419,8)=\"LED Four\",LEFT(B419,8)=\"LED Tube\",LEFT(B419,8)=\"LED Mogu\",RIGHT(A419,2)=\"In\"),H419*Worksheet!V445,\"\")","v":""},{"$f":"IF(Worksheet!V445=0,\"\",IF(OR(LEFT(B419,8)=\"LED Four\",LEFT(B419,8)=\"LED Tube\",LEFT(B419,8)=\"LED Mogu\",RIGHT(A419,2)=\"In\"),\"\",Worksheet!V445))","v":""},"",{"$f":"IF(OR(LEFT(B419,8)=\"LED Four\",LEFT(B419,8)=\"LED Tube\",LEFT(B419,8)=\"LED Mogu\",RIGHT(A419,2)=\"In\"),H419*Worksheet!W445,\"\")","v":""},{"$f":"IF(Worksheet!W445=0,\"\",IF(OR(LEFT(B419,8)=\"LED Four\",LEFT(B419,8)=\"LED Tube\",LEFT(B419,8)=\"LED Mogu\",RIGHT(A419,2)=\"In\"),\"\",Worksheet!W445))","v":""},""]
[{"$f":"IF(Worksheet!K446=0,\"\",Worksheet!K446)","v":""},{"$f":"IF(Worksheet!L446=0,\"\",Worksheet!L446)","v":""},{"$f":"IF(Worksheet!M446=0,\"\",Worksheet!M446)","v":""},{"$f":"IF(Worksheet!N446=0,\"\",Worksheet!N446)","v":""},{"$f":"IF(Worksheet!P446=0,\"\",IF(OR(LEFT(B420,8)=\"LED Four\",LEFT(B420,8)=\"LED Tube\",LEFT(B420,8)=\"LED Mogu\",RIGHT(A420,2)=\"In\"),\"\",Worksheet!P446))","v":""},{"$f":"IF(Worksheet!R446=0,\"\",Worksheet!R446)","v":""},"",{"$f":"IF(Worksheet!Q446=0,\"\",Worksheet!Q446)","v":""},{"$f":"IF(OR(LEFT(B420,8)=\"LED Four\",LEFT(B420,8)=\"LED Tube\",LEFT(B420,8)=\"LED Mogu\",RIGHT(A420,2)=\"In\"),H420*Worksheet!V446,\"\")","v":""},{"$f":"IF(Worksheet!V446=0,\"\",IF(OR(LEFT(B420,8)=\"LED Four\",LEFT(B420,8)=\"LED Tube\",LEFT(B420,8)=\"LED Mogu\",RIGHT(A420,2)=\"In\"),\"\",Worksheet!V446))","v":""},"",{"$f":"IF(OR(LEFT(B420,8)=\"LED Four\",LEFT(B420,8)=\"LED Tube\",LEFT(B420,8)=\"LED Mogu\",RIGHT(A420,2)=\"In\"),H420*Worksheet!W446,\"\")","v":""},{"$f":"IF(Worksheet!W446=0,\"\",IF(OR(LEFT(B420,8)=\"LED Four\",LEFT(B420,8)=\"LED Tube\",LEFT(B420,8)=\"LED Mogu\",RIGHT(A420,2)=\"In\"),\"\",Worksheet!W446))","v":""},""]
[{"$f":"IF(Worksheet!K447=0,\"\",Worksheet!K447)","v":""},{"$f":"IF(Worksheet!L447=0,\"\",Worksheet!L447)","v":""},{"$f":"IF(Worksheet!M447=0,\"\",Worksheet!M447)","v":""},{"$f":"IF(Worksheet!N447=0,\"\",Worksheet!N447)","v":""},{"$f":"IF(Worksheet!P447=0,\"\",IF(OR(LEFT(B421,8)=\"LED Four\",LEFT(B421,8)=\"LED Tube\",LEFT(B421,8)=\"LED Mogu\",RIGHT(A421,2)=\"In\"),\"\",Worksheet!P447))","v":""},{"$f":"IF(Worksheet!R447=0,\"\",Worksheet!R447)","v":""},"",{"$f":"IF(Worksheet!Q447=0,\"\",Worksheet!Q447)","v":""},{"$f":"IF(OR(LEFT(B421,8)=\"LED Four\",LEFT(B421,8)=\"LED Tube\",LEFT(B421,8)=\"LED Mogu\",RIGHT(A421,2)=\"In\"),H421*Worksheet!V447,\"\")","v":""},{"$f":"IF(Worksheet!V447=0,\"\",IF(OR(LEFT(B421,8)=\"LED Four\",LEFT(B421,8)=\"LED Tube\",LEFT(B421,8)=\"LED Mogu\",RIGHT(A421,2)=\"In\"),\"\",Worksheet!V447))","v":""},"",{"$f":"IF(OR(LEFT(B421,8)=\"LED Four\",LEFT(B421,8)=\"LED Tube\",LEFT(B421,8)=\"LED Mogu\",RIGHT(A421,2)=\"In\"),H421*Worksheet!W447,\"\")","v":""},{"$f":"IF(Worksheet!W447=0,\"\",IF(OR(LEFT(B421,8)=\"LED Four\",LEFT(B421,8)=\"LED Tube\",LEFT(B421,8)=\"LED Mogu\",RIGHT(A421,2)=\"In\"),\"\",Worksheet!W447))","v":""},""]
[{"$f":"IF(Worksheet!K448=0,\"\",Worksheet!K448)","v":""},{"$f":"IF(Worksheet!L448=0,\"\",Worksheet!L448)","v":""},{"$f":"IF(Worksheet!M448=0,\"\",Worksheet!M448)","v":""},{"$f":"IF(Worksheet!N448=0,\"\",Worksheet!N448)","v":""},{"$f":"IF(Worksheet!P448=0,\"\",IF(OR(LEFT(B422,8)=\"LED Four\",LEFT(B422,8)=\"LED Tube\",LEFT(B422,8)=\"LED Mogu\",RIGHT(A422,2)=\"In\"),\"\",Worksheet!P448))","v":""},{"$f":"IF(Worksheet!R448=0,\"\",Worksheet!R448)","v":""},"",{"$f":"IF(Worksheet!Q448=0,\"\",Worksheet!Q448)","v":""},{"$f":"IF(OR(LEFT(B422,8)=\"LED Four\",LEFT(B422,8)=\"LED Tube\",LEFT(B422,8)=\"LED Mogu\",RIGHT(A422,2)=\"In\"),H422*Worksheet!V448,\"\")","v":""},{"$f":"IF(Worksheet!V448=0,\"\",IF(OR(LEFT(B422,8)=\"LED Four\",LEFT(B422,8)=\"LED Tube\",LEFT(B422,8)=\"LED Mogu\",RIGHT(A422,2)=\"In\"),\"\",Worksheet!V448))","v":""},"",{"$f":"IF(OR(LEFT(B422,8)=\"LED Four\",LEFT(B422,8)=\"LED Tube\",LEFT(B422,8)=\"LED Mogu\",RIGHT(A422,2)=\"In\"),H422*Worksheet!W448,\"\")","v":""},{"$f":"IF(Worksheet!W448=0,\"\",IF(OR(LEFT(B422,8)=\"LED Four\",LEFT(B422,8)=\"LED Tube\",LEFT(B422,8)=\"LED Mogu\",RIGHT(A422,2)=\"In\"),\"\",Worksheet!W448))","v":""},""]
[{"$f":"IF(Worksheet!K449=0,\"\",Worksheet!K449)","v":""},{"$f":"IF(Worksheet!L449=0,\"\",Worksheet!L449)","v":""},{"$f":"IF(Worksheet!M449=0,\"\",Worksheet!M449)","v":""},{"$f":"IF(Worksheet!N449=0,\"\",Worksheet!N449)","v":""},{"$f":"IF(Worksheet!P449=0,\"\",IF(OR(LEFT(B423,8)=\"LED Four\",LEFT(B423,8)=\"LED Tube\",LEFT(B423,8)=\"LED Mogu\",RIGHT(A423,2)=\"In\"),\"\",Worksheet!P449))","v":""},{"$f":"IF(Worksheet!R449=0,\"\",Worksheet!R449)","v":""},"",{"$f":"IF(Worksheet!Q449=0,\"\",Worksheet!Q449)","v":""},{"$f":"IF(OR(LEFT(B423,8)=\"LED Four\",LEFT(B423,8)=\"LED Tube\",LEFT(B423,8)=\"LED Mogu\",RIGHT(A423,2)=\"In\"),H423*Worksheet!V449,\"\")","v":""},{"$f":"IF(Worksheet!V449=0,\"\",IF(OR(LEFT(B423,8)=\"LED Four\",LEFT(B423,8)=\"LED Tube\",LEFT(B423,8)=\"LED Mogu\",RIGHT(A423,2)=\"In\"),\"\",Worksheet!V449))","v":""},"",{"$f":"IF(OR(LEFT(B423,8)=\"LED Four\",LEFT(B423,8)=\"LED Tube\",LEFT(B423,8)=\"LED Mogu\",RIGHT(A423,2)=\"In\"),H423*Worksheet!W449,\"\")","v":""},{"$f":"IF(Worksheet!W449=0,\"\",IF(OR(LEFT(B423,8)=\"LED Four\",LEFT(B423,8)=\"LED Tube\",LEFT(B423,8)=\"LED Mogu\",RIGHT(A423,2)=\"In\"),\"\",Worksheet!W449))","v":""},""]
[{"$f":"IF(Worksheet!K450=0,\"\",Worksheet!K450)","v":""},{"$f":"IF(Worksheet!L450=0,\"\",Worksheet!L450)","v":""},{"$f":"IF(Worksheet!M450=0,\"\",Worksheet!M450)","v":""},{"$f":"IF(Worksheet!N450=0,\"\",Worksheet!N450)","v":""},{"$f":"IF(Worksheet!P450=0,\"\",IF(OR(LEFT(B424,8)=\"LED Four\",LEFT(B424,8)=\"LED Tube\",LEFT(B424,8)=\"LED Mogu\",RIGHT(A424,2)=\"In\"),\"\",Worksheet!P450))","v":""},{"$f":"IF(Worksheet!R450=0,\"\",Worksheet!R450)","v":""},"",{"$f":"IF(Worksheet!Q450=0,\"\",Worksheet!Q450)","v":""},{"$f":"IF(OR(LEFT(B424,8)=\"LED Four\",LEFT(B424,8)=\"LED Tube\",LEFT(B424,8)=\"LED Mogu\",RIGHT(A424,2)=\"In\"),H424*Worksheet!V450,\"\")","v":""},{"$f":"IF(Worksheet!V450=0,\"\",IF(OR(LEFT(B424,8)=\"LED Four\",LEFT(B424,8)=\"LED Tube\",LEFT(B424,8)=\"LED Mogu\",RIGHT(A424,2)=\"In\"),\"\",Worksheet!V450))","v":""},"",{"$f":"IF(OR(LEFT(B424,8)=\"LED Four\",LEFT(B424,8)=\"LED Tube\",LEFT(B424,8)=\"LED Mogu\",RIGHT(A424,2)=\"In\"),H424*Worksheet!W450,\"\")","v":""},{"$f":"IF(Worksheet!W450=0,\"\",IF(OR(LEFT(B424,8)=\"LED Four\",LEFT(B424,8)=\"LED Tube\",LEFT(B424,8)=\"LED Mogu\",RIGHT(A424,2)=\"In\"),\"\",Worksheet!W450))","v":""},""]
[{"$f":"IF(Worksheet!K451=0,\"\",Worksheet!K451)","v":""},{"$f":"IF(Worksheet!L451=0,\"\",Worksheet!L451)","v":""},{"$f":"IF(Worksheet!M451=0,\"\",Worksheet!M451)","v":""},{"$f":"IF(Worksheet!N451=0,\"\",Worksheet!N451)","v":""},{"$f":"IF(Worksheet!P451=0,\"\",IF(OR(LEFT(B425,8)=\"LED Four\",LEFT(B425,8)=\"LED Tube\",LEFT(B425,8)=\"LED Mogu\",RIGHT(A425,2)=\"In\"),\"\",Worksheet!P451))","v":""},{"$f":"IF(Worksheet!R451=0,\"\",Worksheet!R451)","v":""},"",{"$f":"IF(Worksheet!Q451=0,\"\",Worksheet!Q451)","v":""},{"$f":"IF(OR(LEFT(B425,8)=\"LED Four\",LEFT(B425,8)=\"LED Tube\",LEFT(B425,8)=\"LED Mogu\",RIGHT(A425,2)=\"In\"),H425*Worksheet!V451,\"\")","v":""},{"$f":"IF(Worksheet!V451=0,\"\",IF(OR(LEFT(B425,8)=\"LED Four\",LEFT(B425,8)=\"LED Tube\",LEFT(B425,8)=\"LED Mogu\",RIGHT(A425,2)=\"In\"),\"\",Worksheet!V451))","v":""},"",{"$f":"IF(OR(LEFT(B425,8)=\"LED Four\",LEFT(B425,8)=\"LED Tube\",LEFT(B425,8)=\"LED Mogu\",RIGHT(A425,2)=\"In\"),H425*Worksheet!W451,\"\")","v":""},{"$f":"IF(Worksheet!W451=0,\"\",IF(OR(LEFT(B425,8)=\"LED Four\",LEFT(B425,8)=\"LED Tube\",LEFT(B425,8)=\"LED Mogu\",RIGHT(A425,2)=\"In\"),\"\",Worksheet!W451))","v":""},""]
[{"$f":"IF(Worksheet!K452=0,\"\",Worksheet!K452)","v":""},{"$f":"IF(Worksheet!L452=0,\"\",Worksheet!L452)","v":""},{"$f":"IF(Worksheet!M452=0,\"\",Worksheet!M452)","v":""},{"$f":"IF(Worksheet!N452=0,\"\",Worksheet!N452)","v":""},{"$f":"IF(Worksheet!P452=0,\"\",IF(OR(LEFT(B426,8)=\"LED Four\",LEFT(B426,8)=\"LED Tube\",LEFT(B426,8)=\"LED Mogu\",RIGHT(A426,2)=\"In\"),\"\",Worksheet!P452))","v":""},{"$f":"IF(Worksheet!R452=0,\"\",Worksheet!R452)","v":""},"",{"$f":"IF(Worksheet!Q452=0,\"\",Worksheet!Q452)","v":""},{"$f":"IF(OR(LEFT(B426,8)=\"LED Four\",LEFT(B426,8)=\"LED Tube\",LEFT(B426,8)=\"LED Mogu\",RIGHT(A426,2)=\"In\"),H426*Worksheet!V452,\"\")","v":""},{"$f":"IF(Worksheet!V452=0,\"\",IF(OR(LEFT(B426,8)=\"LED Four\",LEFT(B426,8)=\"LED Tube\",LEFT(B426,8)=\"LED Mogu\",RIGHT(A426,2)=\"In\"),\"\",Worksheet!V452))","v":""},"",{"$f":"IF(OR(LEFT(B426,8)=\"LED Four\",LEFT(B426,8)=\"LED Tube\",LEFT(B426,8)=\"LED Mogu\",RIGHT(A426,2)=\"In\"),H426*Worksheet!W452,\"\")","v":""},{"$f":"IF(Worksheet!W452=0,\"\",IF(OR(LEFT(B426,8)=\"LED Four\",LEFT(B426,8)=\"LED Tube\",LEFT(B426,8)=\"LED Mogu\",RIGHT(A426,2)=\"In\"),\"\",Worksheet!W452))","v":""},""]
[{"$f":"IF(Worksheet!K453=0,\"\",Worksheet!K453)","v":""},{"$f":"IF(Worksheet!L453=0,\"\",Worksheet!L453)","v":""},{"$f":"IF(Worksheet!M453=0,\"\",Worksheet!M453)","v":""},{"$f":"IF(Worksheet!N453=0,\"\",Worksheet!N453)","v":""},{"$f":"IF(Worksheet!P453=0,\"\",IF(OR(LEFT(B427,8)=\"LED Four\",LEFT(B427,8)=\"LED Tube\",LEFT(B427,8)=\"LED Mogu\",RIGHT(A427,2)=\"In\"),\"\",Worksheet!P453))","v":""},{"$f":"IF(Worksheet!R453=0,\"\",Worksheet!R453)","v":""},"",{"$f":"IF(Worksheet!Q453=0,\"\",Worksheet!Q453)","v":""},{"$f":"IF(OR(LEFT(B427,8)=\"LED Four\",LEFT(B427,8)=\"LED Tube\",LEFT(B427,8)=\"LED Mogu\",RIGHT(A427,2)=\"In\"),H427*Worksheet!V453,\"\")","v":""},{"$f":"IF(Worksheet!V453=0,\"\",IF(OR(LEFT(B427,8)=\"LED Four\",LEFT(B427,8)=\"LED Tube\",LEFT(B427,8)=\"LED Mogu\",RIGHT(A427,2)=\"In\"),\"\",Worksheet!V453))","v":""},"",{"$f":"IF(OR(LEFT(B427,8)=\"LED Four\",LEFT(B427,8)=\"LED Tube\",LEFT(B427,8)=\"LED Mogu\",RIGHT(A427,2)=\"In\"),H427*Worksheet!W453,\"\")","v":""},{"$f":"IF(Worksheet!W453=0,\"\",IF(OR(LEFT(B427,8)=\"LED Four\",LEFT(B427,8)=\"LED Tube\",LEFT(B427,8)=\"LED Mogu\",RIGHT(A427,2)=\"In\"),\"\",Worksheet!W453))","v":""},""]
[{"$f":"IF(Worksheet!K454=0,\"\",Worksheet!K454)","v":""},{"$f":"IF(Worksheet!L454=0,\"\",Worksheet!L454)","v":""},{"$f":"IF(Worksheet!M454=0,\"\",Worksheet!M454)","v":""},{"$f":"IF(Worksheet!N454=0,\"\",Worksheet!N454)","v":""},{"$f":"IF(Worksheet!P454=0,\"\",IF(OR(LEFT(B428,8)=\"LED Four\",LEFT(B428,8)=\"LED Tube\",LEFT(B428,8)=\"LED Mogu\",RIGHT(A428,2)=\"In\"),\"\",Worksheet!P454))","v":""},{"$f":"IF(Worksheet!R454=0,\"\",Worksheet!R454)","v":""},"",{"$f":"IF(Worksheet!Q454=0,\"\",Worksheet!Q454)","v":""},{"$f":"IF(OR(LEFT(B428,8)=\"LED Four\",LEFT(B428,8)=\"LED Tube\",LEFT(B428,8)=\"LED Mogu\",RIGHT(A428,2)=\"In\"),H428*Worksheet!V454,\"\")","v":""},{"$f":"IF(Worksheet!V454=0,\"\",IF(OR(LEFT(B428,8)=\"LED Four\",LEFT(B428,8)=\"LED Tube\",LEFT(B428,8)=\"LED Mogu\",RIGHT(A428,2)=\"In\"),\"\",Worksheet!V454))","v":""},"",{"$f":"IF(OR(LEFT(B428,8)=\"LED Four\",LEFT(B428,8)=\"LED Tube\",LEFT(B428,8)=\"LED Mogu\",RIGHT(A428,2)=\"In\"),H428*Worksheet!W454,\"\")","v":""},{"$f":"IF(Worksheet!W454=0,\"\",IF(OR(LEFT(B428,8)=\"LED Four\",LEFT(B428,8)=\"LED Tube\",LEFT(B428,8)=\"LED Mogu\",RIGHT(A428,2)=\"In\"),\"\",Worksheet!W454))","v":""},""]
[{"$f":"IF(Worksheet!K455=0,\"\",Worksheet!K455)","v":""},{"$f":"IF(Worksheet!L455=0,\"\",Worksheet!L455)","v":""},{"$f":"IF(Worksheet!M455=0,\"\",Worksheet!M455)","v":""},{"$f":"IF(Worksheet!N455=0,\"\",Worksheet!N455)","v":""},{"$f":"IF(Worksheet!P455=0,\"\",IF(OR(LEFT(B429,8)=\"LED Four\",LEFT(B429,8)=\"LED Tube\",LEFT(B429,8)=\"LED Mogu\",RIGHT(A429,2)=\"In\"),\"\",Worksheet!P455))","v":""},{"$f":"IF(Worksheet!R455=0,\"\",Worksheet!R455)","v":""},"",{"$f":"IF(Worksheet!Q455=0,\"\",Worksheet!Q455)","v":""},{"$f":"IF(OR(LEFT(B429,8)=\"LED Four\",LEFT(B429,8)=\"LED Tube\",LEFT(B429,8)=\"LED Mogu\",RIGHT(A429,2)=\"In\"),H429*Worksheet!V455,\"\")","v":""},{"$f":"IF(Worksheet!V455=0,\"\",IF(OR(LEFT(B429,8)=\"LED Four\",LEFT(B429,8)=\"LED Tube\",LEFT(B429,8)=\"LED Mogu\",RIGHT(A429,2)=\"In\"),\"\",Worksheet!V455))","v":""},"",{"$f":"IF(OR(LEFT(B429,8)=\"LED Four\",LEFT(B429,8)=\"LED Tube\",LEFT(B429,8)=\"LED Mogu\",RIGHT(A429,2)=\"In\"),H429*Worksheet!W455,\"\")","v":""},{"$f":"IF(Worksheet!W455=0,\"\",IF(OR(LEFT(B429,8)=\"LED Four\",LEFT(B429,8)=\"LED Tube\",LEFT(B429,8)=\"LED Mogu\",RIGHT(A429,2)=\"In\"),\"\",Worksheet!W455))","v":""},""]
[{"$f":"IF(Worksheet!K456=0,\"\",Worksheet!K456)","v":""},{"$f":"IF(Worksheet!L456=0,\"\",Worksheet!L456)","v":""},{"$f":"IF(Worksheet!M456=0,\"\",Worksheet!M456)","v":""},{"$f":"IF(Worksheet!N456=0,\"\",Worksheet!N456)","v":""},{"$f":"IF(Worksheet!P456=0,\"\",IF(OR(LEFT(B430,8)=\"LED Four\",LEFT(B430,8)=\"LED Tube\",LEFT(B430,8)=\"LED Mogu\",RIGHT(A430,2)=\"In\"),\"\",Worksheet!P456))","v":""},{"$f":"IF(Worksheet!R456=0,\"\",Worksheet!R456)","v":""},"",{"$f":"IF(Worksheet!Q456=0,\"\",Worksheet!Q456)","v":""},{"$f":"IF(OR(LEFT(B430,8)=\"LED Four\",LEFT(B430,8)=\"LED Tube\",LEFT(B430,8)=\"LED Mogu\",RIGHT(A430,2)=\"In\"),H430*Worksheet!V456,\"\")","v":""},{"$f":"IF(Worksheet!V456=0,\"\",IF(OR(LEFT(B430,8)=\"LED Four\",LEFT(B430,8)=\"LED Tube\",LEFT(B430,8)=\"LED Mogu\",RIGHT(A430,2)=\"In\"),\"\",Worksheet!V456))","v":""},"",{"$f":"IF(OR(LEFT(B430,8)=\"LED Four\",LEFT(B430,8)=\"LED Tube\",LEFT(B430,8)=\"LED Mogu\",RIGHT(A430,2)=\"In\"),H430*Worksheet!W456,\"\")","v":""},{"$f":"IF(Worksheet!W456=0,\"\",IF(OR(LEFT(B430,8)=\"LED Four\",LEFT(B430,8)=\"LED Tube\",LEFT(B430,8)=\"LED Mogu\",RIGHT(A430,2)=\"In\"),\"\",Worksheet!W456))","v":""},""]
[{"$f":"IF(Worksheet!K457=0,\"\",Worksheet!K457)","v":""},{"$f":"IF(Worksheet!L457=0,\"\",Worksheet!L457)","v":""},{"$f":"IF(Worksheet!M457=0,\"\",Worksheet!M457)","v":""},{"$f":"IF(Worksheet!N457=0,\"\",Worksheet!N457)","v":""},{"$f":"IF(Worksheet!P457=0,\"\",IF(OR(LEFT(B431,8)=\"LED Four\",LEFT(B431,8)=\"LED Tube\",LEFT(B431,8)=\"LED Mogu\",RIGHT(A431,2)=\"In\"),\"\",Worksheet!P457))","v":""},{"$f":"IF(Worksheet!R457=0,\"\",Worksheet!R457)","v":""},"",{"$f":"IF(Worksheet!Q457=0,\"\",Worksheet!Q457)","v":""},{"$f":"IF(OR(LEFT(B431,8)=\"LED Four\",LEFT(B431,8)=\"LED Tube\",LEFT(B431,8)=\"LED Mogu\",RIGHT(A431,2)=\"In\"),H431*Worksheet!V457,\"\")","v":""},{"$f":"IF(Worksheet!V457=0,\"\",IF(OR(LEFT(B431,8)=\"LED Four\",LEFT(B431,8)=\"LED Tube\",LEFT(B431,8)=\"LED Mogu\",RIGHT(A431,2)=\"In\"),\"\",Worksheet!V457))","v":""},"",{"$f":"IF(OR(LEFT(B431,8)=\"LED Four\",LEFT(B431,8)=\"LED Tube\",LEFT(B431,8)=\"LED Mogu\",RIGHT(A431,2)=\"In\"),H431*Worksheet!W457,\"\")","v":""},{"$f":"IF(Worksheet!W457=0,\"\",IF(OR(LEFT(B431,8)=\"LED Four\",LEFT(B431,8)=\"LED Tube\",LEFT(B431,8)=\"LED Mogu\",RIGHT(A431,2)=\"In\"),\"\",Worksheet!W457))","v":""},""]
[{"$f":"IF(Worksheet!K458=0,\"\",Worksheet!K458)","v":""},{"$f":"IF(Worksheet!L458=0,\"\",Worksheet!L458)","v":""},{"$f":"IF(Worksheet!M458=0,\"\",Worksheet!M458)","v":""},{"$f":"IF(Worksheet!N458=0,\"\",Worksheet!N458)","v":""},{"$f":"IF(Worksheet!P458=0,\"\",IF(OR(LEFT(B432,8)=\"LED Four\",LEFT(B432,8)=\"LED Tube\",LEFT(B432,8)=\"LED Mogu\",RIGHT(A432,2)=\"In\"),\"\",Worksheet!P458))","v":""},{"$f":"IF(Worksheet!R458=0,\"\",Worksheet!R458)","v":""},"",{"$f":"IF(Worksheet!Q458=0,\"\",Worksheet!Q458)","v":""},{"$f":"IF(OR(LEFT(B432,8)=\"LED Four\",LEFT(B432,8)=\"LED Tube\",LEFT(B432,8)=\"LED Mogu\",RIGHT(A432,2)=\"In\"),H432*Worksheet!V458,\"\")","v":""},{"$f":"IF(Worksheet!V458=0,\"\",IF(OR(LEFT(B432,8)=\"LED Four\",LEFT(B432,8)=\"LED Tube\",LEFT(B432,8)=\"LED Mogu\",RIGHT(A432,2)=\"In\"),\"\",Worksheet!V458))","v":""},"",{"$f":"IF(OR(LEFT(B432,8)=\"LED Four\",LEFT(B432,8)=\"LED Tube\",LEFT(B432,8)=\"LED Mogu\",RIGHT(A432,2)=\"In\"),H432*Worksheet!W458,\"\")","v":""},{"$f":"IF(Worksheet!W458=0,\"\",IF(OR(LEFT(B432,8)=\"LED Four\",LEFT(B432,8)=\"LED Tube\",LEFT(B432,8)=\"LED Mogu\",RIGHT(A432,2)=\"In\"),\"\",Worksheet!W458))","v":""},""]
[{"$f":"IF(Worksheet!K459=0,\"\",Worksheet!K459)","v":""},{"$f":"IF(Worksheet!L459=0,\"\",Worksheet!L459)","v":""},{"$f":"IF(Worksheet!M459=0,\"\",Worksheet!M459)","v":""},{"$f":"IF(Worksheet!N459=0,\"\",Worksheet!N459)","v":""},{"$f":"IF(Worksheet!P459=0,\"\",IF(OR(LEFT(B433,8)=\"LED Four\",LEFT(B433,8)=\"LED Tube\",LEFT(B433,8)=\"LED Mogu\",RIGHT(A433,2)=\"In\"),\"\",Worksheet!P459))","v":""},{"$f":"IF(Worksheet!R459=0,\"\",Worksheet!R459)","v":""},"",{"$f":"IF(Worksheet!Q459=0,\"\",Worksheet!Q459)","v":""},{"$f":"IF(OR(LEFT(B433,8)=\"LED Four\",LEFT(B433,8)=\"LED Tube\",LEFT(B433,8)=\"LED Mogu\",RIGHT(A433,2)=\"In\"),H433*Worksheet!V459,\"\")","v":""},{"$f":"IF(Worksheet!V459=0,\"\",IF(OR(LEFT(B433,8)=\"LED Four\",LEFT(B433,8)=\"LED Tube\",LEFT(B433,8)=\"LED Mogu\",RIGHT(A433,2)=\"In\"),\"\",Worksheet!V459))","v":""},"",{"$f":"IF(OR(LEFT(B433,8)=\"LED Four\",LEFT(B433,8)=\"LED Tube\",LEFT(B433,8)=\"LED Mogu\",RIGHT(A433,2)=\"In\"),H433*Worksheet!W459,\"\")","v":""},{"$f":"IF(Worksheet!W459=0,\"\",IF(OR(LEFT(B433,8)=\"LED Four\",LEFT(B433,8)=\"LED Tube\",LEFT(B433,8)=\"LED Mogu\",RIGHT(A433,2)=\"In\"),\"\",Worksheet!W459))","v":""},""]
[{"$f":"IF(Worksheet!K460=0,\"\",Worksheet!K460)","v":""},{"$f":"IF(Worksheet!L460=0,\"\",Worksheet!L460)","v":""},{"$f":"IF(Worksheet!M460=0,\"\",Worksheet!M460)","v":""},{"$f":"IF(Worksheet!N460=0,\"\",Worksheet!N460)","v":""},{"$f":"IF(Worksheet!P460=0,\"\",IF(OR(LEFT(B434,8)=\"LED Four\",LEFT(B434,8)=\"LED Tube\",LEFT(B434,8)=\"LED Mogu\",RIGHT(A434,2)=\"In\"),\"\",Worksheet!P460))","v":""},{"$f":"IF(Worksheet!R460=0,\"\",Worksheet!R460)","v":""},"",{"$f":"IF(Worksheet!Q460=0,\"\",Worksheet!Q460)","v":""},{"$f":"IF(OR(LEFT(B434,8)=\"LED Four\",LEFT(B434,8)=\"LED Tube\",LEFT(B434,8)=\"LED Mogu\",RIGHT(A434,2)=\"In\"),H434*Worksheet!V460,\"\")","v":""},{"$f":"IF(Worksheet!V460=0,\"\",IF(OR(LEFT(B434,8)=\"LED Four\",LEFT(B434,8)=\"LED Tube\",LEFT(B434,8)=\"LED Mogu\",RIGHT(A434,2)=\"In\"),\"\",Worksheet!V460))","v":""},"",{"$f":"IF(OR(LEFT(B434,8)=\"LED Four\",LEFT(B434,8)=\"LED Tube\",LEFT(B434,8)=\"LED Mogu\",RIGHT(A434,2)=\"In\"),H434*Worksheet!W460,\"\")","v":""},{"$f":"IF(Worksheet!W460=0,\"\",IF(OR(LEFT(B434,8)=\"LED Four\",LEFT(B434,8)=\"LED Tube\",LEFT(B434,8)=\"LED Mogu\",RIGHT(A434,2)=\"In\"),\"\",Worksheet!W460))","v":""},""]
[{"$f":"IF(Worksheet!K461=0,\"\",Worksheet!K461)","v":""},{"$f":"IF(Worksheet!L461=0,\"\",Worksheet!L461)","v":""},{"$f":"IF(Worksheet!M461=0,\"\",Worksheet!M461)","v":""},{"$f":"IF(Worksheet!N461=0,\"\",Worksheet!N461)","v":""},{"$f":"IF(Worksheet!P461=0,\"\",IF(OR(LEFT(B435,8)=\"LED Four\",LEFT(B435,8)=\"LED Tube\",LEFT(B435,8)=\"LED Mogu\",RIGHT(A435,2)=\"In\"),\"\",Worksheet!P461))","v":""},{"$f":"IF(Worksheet!R461=0,\"\",Worksheet!R461)","v":""},"",{"$f":"IF(Worksheet!Q461=0,\"\",Worksheet!Q461)","v":""},{"$f":"IF(OR(LEFT(B435,8)=\"LED Four\",LEFT(B435,8)=\"LED Tube\",LEFT(B435,8)=\"LED Mogu\",RIGHT(A435,2)=\"In\"),H435*Worksheet!V461,\"\")","v":""},{"$f":"IF(Worksheet!V461=0,\"\",IF(OR(LEFT(B435,8)=\"LED Four\",LEFT(B435,8)=\"LED Tube\",LEFT(B435,8)=\"LED Mogu\",RIGHT(A435,2)=\"In\"),\"\",Worksheet!V461))","v":""},"",{"$f":"IF(OR(LEFT(B435,8)=\"LED Four\",LEFT(B435,8)=\"LED Tube\",LEFT(B435,8)=\"LED Mogu\",RIGHT(A435,2)=\"In\"),H435*Worksheet!W461,\"\")","v":""},{"$f":"IF(Worksheet!W461=0,\"\",IF(OR(LEFT(B435,8)=\"LED Four\",LEFT(B435,8)=\"LED Tube\",LEFT(B435,8)=\"LED Mogu\",RIGHT(A435,2)=\"In\"),\"\",Worksheet!W461))","v":""},""]
[{"$f":"IF(Worksheet!K462=0,\"\",Worksheet!K462)","v":""},{"$f":"IF(Worksheet!L462=0,\"\",Worksheet!L462)","v":""},{"$f":"IF(Worksheet!M462=0,\"\",Worksheet!M462)","v":""},{"$f":"IF(Worksheet!N462=0,\"\",Worksheet!N462)","v":""},{"$f":"IF(Worksheet!P462=0,\"\",IF(OR(LEFT(B436,8)=\"LED Four\",LEFT(B436,8)=\"LED Tube\",LEFT(B436,8)=\"LED Mogu\",RIGHT(A436,2)=\"In\"),\"\",Worksheet!P462))","v":""},{"$f":"IF(Worksheet!R462=0,\"\",Worksheet!R462)","v":""},"",{"$f":"IF(Worksheet!Q462=0,\"\",Worksheet!Q462)","v":""},{"$f":"IF(OR(LEFT(B436,8)=\"LED Four\",LEFT(B436,8)=\"LED Tube\",LEFT(B436,8)=\"LED Mogu\",RIGHT(A436,2)=\"In\"),H436*Worksheet!V462,\"\")","v":""},{"$f":"IF(Worksheet!V462=0,\"\",IF(OR(LEFT(B436,8)=\"LED Four\",LEFT(B436,8)=\"LED Tube\",LEFT(B436,8)=\"LED Mogu\",RIGHT(A436,2)=\"In\"),\"\",Worksheet!V462))","v":""},"",{"$f":"IF(OR(LEFT(B436,8)=\"LED Four\",LEFT(B436,8)=\"LED Tube\",LEFT(B436,8)=\"LED Mogu\",RIGHT(A436,2)=\"In\"),H436*Worksheet!W462,\"\")","v":""},{"$f":"IF(Worksheet!W462=0,\"\",IF(OR(LEFT(B436,8)=\"LED Four\",LEFT(B436,8)=\"LED Tube\",LEFT(B436,8)=\"LED Mogu\",RIGHT(A436,2)=\"In\"),\"\",Worksheet!W462))","v":""},""]
[{"$f":"IF(Worksheet!K463=0,\"\",Worksheet!K463)","v":""},{"$f":"IF(Worksheet!L463=0,\"\",Worksheet!L463)","v":""},{"$f":"IF(Worksheet!M463=0,\"\",Worksheet!M463)","v":""},{"$f":"IF(Worksheet!N463=0,\"\",Worksheet!N463)","v":""},{"$f":"IF(Worksheet!P463=0,\"\",IF(OR(LEFT(B437,8)=\"LED Four\",LEFT(B437,8)=\"LED Tube\",LEFT(B437,8)=\"LED Mogu\",RIGHT(A437,2)=\"In\"),\"\",Worksheet!P463))","v":""},{"$f":"IF(Worksheet!R463=0,\"\",Worksheet!R463)","v":""},"",{"$f":"IF(Worksheet!Q463=0,\"\",Worksheet!Q463)","v":""},{"$f":"IF(OR(LEFT(B437,8)=\"LED Four\",LEFT(B437,8)=\"LED Tube\",LEFT(B437,8)=\"LED Mogu\",RIGHT(A437,2)=\"In\"),H437*Worksheet!V463,\"\")","v":""},{"$f":"IF(Worksheet!V463=0,\"\",IF(OR(LEFT(B437,8)=\"LED Four\",LEFT(B437,8)=\"LED Tube\",LEFT(B437,8)=\"LED Mogu\",RIGHT(A437,2)=\"In\"),\"\",Worksheet!V463))","v":""},"",{"$f":"IF(OR(LEFT(B437,8)=\"LED Four\",LEFT(B437,8)=\"LED Tube\",LEFT(B437,8)=\"LED Mogu\",RIGHT(A437,2)=\"In\"),H437*Worksheet!W463,\"\")","v":""},{"$f":"IF(Worksheet!W463=0,\"\",IF(OR(LEFT(B437,8)=\"LED Four\",LEFT(B437,8)=\"LED Tube\",LEFT(B437,8)=\"LED Mogu\",RIGHT(A437,2)=\"In\"),\"\",Worksheet!W463))","v":""},""]
[{"$f":"IF(Worksheet!K464=0,\"\",Worksheet!K464)","v":""},{"$f":"IF(Worksheet!L464=0,\"\",Worksheet!L464)","v":""},{"$f":"IF(Worksheet!M464=0,\"\",Worksheet!M464)","v":""},{"$f":"IF(Worksheet!N464=0,\"\",Worksheet!N464)","v":""},{"$f":"IF(Worksheet!P464=0,\"\",IF(OR(LEFT(B438,8)=\"LED Four\",LEFT(B438,8)=\"LED Tube\",LEFT(B438,8)=\"LED Mogu\",RIGHT(A438,2)=\"In\"),\"\",Worksheet!P464))","v":""},{"$f":"IF(Worksheet!R464=0,\"\",Worksheet!R464)","v":""},"",{"$f":"IF(Worksheet!Q464=0,\"\",Worksheet!Q464)","v":""},{"$f":"IF(OR(LEFT(B438,8)=\"LED Four\",LEFT(B438,8)=\"LED Tube\",LEFT(B438,8)=\"LED Mogu\",RIGHT(A438,2)=\"In\"),H438*Worksheet!V464,\"\")","v":""},{"$f":"IF(Worksheet!V464=0,\"\",IF(OR(LEFT(B438,8)=\"LED Four\",LEFT(B438,8)=\"LED Tube\",LEFT(B438,8)=\"LED Mogu\",RIGHT(A438,2)=\"In\"),\"\",Worksheet!V464))","v":""},"",{"$f":"IF(OR(LEFT(B438,8)=\"LED Four\",LEFT(B438,8)=\"LED Tube\",LEFT(B438,8)=\"LED Mogu\",RIGHT(A438,2)=\"In\"),H438*Worksheet!W464,\"\")","v":""},{"$f":"IF(Worksheet!W464=0,\"\",IF(OR(LEFT(B438,8)=\"LED Four\",LEFT(B438,8)=\"LED Tube\",LEFT(B438,8)=\"LED Mogu\",RIGHT(A438,2)=\"In\"),\"\",Worksheet!W464))","v":""},""]
[{"$f":"IF(Worksheet!K465=0,\"\",Worksheet!K465)","v":""},{"$f":"IF(Worksheet!L465=0,\"\",Worksheet!L465)","v":""},{"$f":"IF(Worksheet!M465=0,\"\",Worksheet!M465)","v":""},{"$f":"IF(Worksheet!N465=0,\"\",Worksheet!N465)","v":""},{"$f":"IF(Worksheet!P465=0,\"\",IF(OR(LEFT(B439,8)=\"LED Four\",LEFT(B439,8)=\"LED Tube\",LEFT(B439,8)=\"LED Mogu\",RIGHT(A439,2)=\"In\"),\"\",Worksheet!P465))","v":""},{"$f":"IF(Worksheet!R465=0,\"\",Worksheet!R465)","v":""},"",{"$f":"IF(Worksheet!Q465=0,\"\",Worksheet!Q465)","v":""},{"$f":"IF(OR(LEFT(B439,8)=\"LED Four\",LEFT(B439,8)=\"LED Tube\",LEFT(B439,8)=\"LED Mogu\",RIGHT(A439,2)=\"In\"),H439*Worksheet!V465,\"\")","v":""},{"$f":"IF(Worksheet!V465=0,\"\",IF(OR(LEFT(B439,8)=\"LED Four\",LEFT(B439,8)=\"LED Tube\",LEFT(B439,8)=\"LED Mogu\",RIGHT(A439,2)=\"In\"),\"\",Worksheet!V465))","v":""},"",{"$f":"IF(OR(LEFT(B439,8)=\"LED Four\",LEFT(B439,8)=\"LED Tube\",LEFT(B439,8)=\"LED Mogu\",RIGHT(A439,2)=\"In\"),H439*Worksheet!W465,\"\")","v":""},{"$f":"IF(Worksheet!W465=0,\"\",IF(OR(LEFT(B439,8)=\"LED Four\",LEFT(B439,8)=\"LED Tube\",LEFT(B439,8)=\"LED Mogu\",RIGHT(A439,2)=\"In\"),\"\",Worksheet!W465))","v":""},""]
[{"$f":"IF(Worksheet!K466=0,\"\",Worksheet!K466)","v":""},{"$f":"IF(Worksheet!L466=0,\"\",Worksheet!L466)","v":""},{"$f":"IF(Worksheet!M466=0,\"\",Worksheet!M466)","v":""},{"$f":"IF(Worksheet!N466=0,\"\",Worksheet!N466)","v":""},{"$f":"IF(Worksheet!P466=0,\"\",IF(OR(LEFT(B440,8)=\"LED Four\",LEFT(B440,8)=\"LED Tube\",LEFT(B440,8)=\"LED Mogu\",RIGHT(A440,2)=\"In\"),\"\",Worksheet!P466))","v":""},{"$f":"IF(Worksheet!R466=0,\"\",Worksheet!R466)","v":""},"",{"$f":"IF(Worksheet!Q466=0,\"\",Worksheet!Q466)","v":""},{"$f":"IF(OR(LEFT(B440,8)=\"LED Four\",LEFT(B440,8)=\"LED Tube\",LEFT(B440,8)=\"LED Mogu\",RIGHT(A440,2)=\"In\"),H440*Worksheet!V466,\"\")","v":""},{"$f":"IF(Worksheet!V466=0,\"\",IF(OR(LEFT(B440,8)=\"LED Four\",LEFT(B440,8)=\"LED Tube\",LEFT(B440,8)=\"LED Mogu\",RIGHT(A440,2)=\"In\"),\"\",Worksheet!V466))","v":""},"",{"$f":"IF(OR(LEFT(B440,8)=\"LED Four\",LEFT(B440,8)=\"LED Tube\",LEFT(B440,8)=\"LED Mogu\",RIGHT(A440,2)=\"In\"),H440*Worksheet!W466,\"\")","v":""},{"$f":"IF(Worksheet!W466=0,\"\",IF(OR(LEFT(B440,8)=\"LED Four\",LEFT(B440,8)=\"LED Tube\",LEFT(B440,8)=\"LED Mogu\",RIGHT(A440,2)=\"In\"),\"\",Worksheet!W466))","v":""},""]
[{"$f":"IF(Worksheet!K467=0,\"\",Worksheet!K467)","v":""},{"$f":"IF(Worksheet!L467=0,\"\",Worksheet!L467)","v":""},{"$f":"IF(Worksheet!M467=0,\"\",Worksheet!M467)","v":""},{"$f":"IF(Worksheet!N467=0,\"\",Worksheet!N467)","v":""},{"$f":"IF(Worksheet!P467=0,\"\",IF(OR(LEFT(B441,8)=\"LED Four\",LEFT(B441,8)=\"LED Tube\",LEFT(B441,8)=\"LED Mogu\",RIGHT(A441,2)=\"In\"),\"\",Worksheet!P467))","v":""},{"$f":"IF(Worksheet!R467=0,\"\",Worksheet!R467)","v":""},"",{"$f":"IF(Worksheet!Q467=0,\"\",Worksheet!Q467)","v":""},{"$f":"IF(OR(LEFT(B441,8)=\"LED Four\",LEFT(B441,8)=\"LED Tube\",LEFT(B441,8)=\"LED Mogu\",RIGHT(A441,2)=\"In\"),H441*Worksheet!V467,\"\")","v":""},{"$f":"IF(Worksheet!V467=0,\"\",IF(OR(LEFT(B441,8)=\"LED Four\",LEFT(B441,8)=\"LED Tube\",LEFT(B441,8)=\"LED Mogu\",RIGHT(A441,2)=\"In\"),\"\",Worksheet!V467))","v":""},"",{"$f":"IF(OR(LEFT(B441,8)=\"LED Four\",LEFT(B441,8)=\"LED Tube\",LEFT(B441,8)=\"LED Mogu\",RIGHT(A441,2)=\"In\"),H441*Worksheet!W467,\"\")","v":""},{"$f":"IF(Worksheet!W467=0,\"\",IF(OR(LEFT(B441,8)=\"LED Four\",LEFT(B441,8)=\"LED Tube\",LEFT(B441,8)=\"LED Mogu\",RIGHT(A441,2)=\"In\"),\"\",Worksheet!W467))","v":""},""]
[{"$f":"IF(Worksheet!K468=0,\"\",Worksheet!K468)","v":""},{"$f":"IF(Worksheet!L468=0,\"\",Worksheet!L468)","v":""},{"$f":"IF(Worksheet!M468=0,\"\",Worksheet!M468)","v":""},{"$f":"IF(Worksheet!N468=0,\"\",Worksheet!N468)","v":""},{"$f":"IF(Worksheet!P468=0,\"\",IF(OR(LEFT(B442,8)=\"LED Four\",LEFT(B442,8)=\"LED Tube\",LEFT(B442,8)=\"LED Mogu\",RIGHT(A442,2)=\"In\"),\"\",Worksheet!P468))","v":""},{"$f":"IF(Worksheet!R468=0,\"\",Worksheet!R468)","v":""},"",{"$f":"IF(Worksheet!Q468=0,\"\",Worksheet!Q468)","v":""},{"$f":"IF(OR(LEFT(B442,8)=\"LED Four\",LEFT(B442,8)=\"LED Tube\",LEFT(B442,8)=\"LED Mogu\",RIGHT(A442,2)=\"In\"),H442*Worksheet!V468,\"\")","v":""},{"$f":"IF(Worksheet!V468=0,\"\",IF(OR(LEFT(B442,8)=\"LED Four\",LEFT(B442,8)=\"LED Tube\",LEFT(B442,8)=\"LED Mogu\",RIGHT(A442,2)=\"In\"),\"\",Worksheet!V468))","v":""},"",{"$f":"IF(OR(LEFT(B442,8)=\"LED Four\",LEFT(B442,8)=\"LED Tube\",LEFT(B442,8)=\"LED Mogu\",RIGHT(A442,2)=\"In\"),H442*Worksheet!W468,\"\")","v":""},{"$f":"IF(Worksheet!W468=0,\"\",IF(OR(LEFT(B442,8)=\"LED Four\",LEFT(B442,8)=\"LED Tube\",LEFT(B442,8)=\"LED Mogu\",RIGHT(A442,2)=\"In\"),\"\",Worksheet!W468))","v":""},""]
[{"$f":"IF(Worksheet!K469=0,\"\",Worksheet!K469)","v":""},{"$f":"IF(Worksheet!L469=0,\"\",Worksheet!L469)","v":""},{"$f":"IF(Worksheet!M469=0,\"\",Worksheet!M469)","v":""},{"$f":"IF(Worksheet!N469=0,\"\",Worksheet!N469)","v":""},{"$f":"IF(Worksheet!P469=0,\"\",IF(OR(LEFT(B443,8)=\"LED Four\",LEFT(B443,8)=\"LED Tube\",LEFT(B443,8)=\"LED Mogu\",RIGHT(A443,2)=\"In\"),\"\",Worksheet!P469))","v":""},{"$f":"IF(Worksheet!R469=0,\"\",Worksheet!R469)","v":""},"",{"$f":"IF(Worksheet!Q469=0,\"\",Worksheet!Q469)","v":""},{"$f":"IF(OR(LEFT(B443,8)=\"LED Four\",LEFT(B443,8)=\"LED Tube\",LEFT(B443,8)=\"LED Mogu\",RIGHT(A443,2)=\"In\"),H443*Worksheet!V469,\"\")","v":""},{"$f":"IF(Worksheet!V469=0,\"\",IF(OR(LEFT(B443,8)=\"LED Four\",LEFT(B443,8)=\"LED Tube\",LEFT(B443,8)=\"LED Mogu\",RIGHT(A443,2)=\"In\"),\"\",Worksheet!V469))","v":""},"",{"$f":"IF(OR(LEFT(B443,8)=\"LED Four\",LEFT(B443,8)=\"LED Tube\",LEFT(B443,8)=\"LED Mogu\",RIGHT(A443,2)=\"In\"),H443*Worksheet!W469,\"\")","v":""},{"$f":"IF(Worksheet!W469=0,\"\",IF(OR(LEFT(B443,8)=\"LED Four\",LEFT(B443,8)=\"LED Tube\",LEFT(B443,8)=\"LED Mogu\",RIGHT(A443,2)=\"In\"),\"\",Worksheet!W469))","v":""},""]
[{"$f":"IF(Worksheet!K470=0,\"\",Worksheet!K470)","v":""},{"$f":"IF(Worksheet!L470=0,\"\",Worksheet!L470)","v":""},{"$f":"IF(Worksheet!M470=0,\"\",Worksheet!M470)","v":""},{"$f":"IF(Worksheet!N470=0,\"\",Worksheet!N470)","v":""},{"$f":"IF(Worksheet!P470=0,\"\",IF(OR(LEFT(B444,8)=\"LED Four\",LEFT(B444,8)=\"LED Tube\",LEFT(B444,8)=\"LED Mogu\",RIGHT(A444,2)=\"In\"),\"\",Worksheet!P470))","v":""},{"$f":"IF(Worksheet!R470=0,\"\",Worksheet!R470)","v":""},"",{"$f":"IF(Worksheet!Q470=0,\"\",Worksheet!Q470)","v":""},{"$f":"IF(OR(LEFT(B444,8)=\"LED Four\",LEFT(B444,8)=\"LED Tube\",LEFT(B444,8)=\"LED Mogu\",RIGHT(A444,2)=\"In\"),H444*Worksheet!V470,\"\")","v":""},{"$f":"IF(Worksheet!V470=0,\"\",IF(OR(LEFT(B444,8)=\"LED Four\",LEFT(B444,8)=\"LED Tube\",LEFT(B444,8)=\"LED Mogu\",RIGHT(A444,2)=\"In\"),\"\",Worksheet!V470))","v":""},"",{"$f":"IF(OR(LEFT(B444,8)=\"LED Four\",LEFT(B444,8)=\"LED Tube\",LEFT(B444,8)=\"LED Mogu\",RIGHT(A444,2)=\"In\"),H444*Worksheet!W470,\"\")","v":""},{"$f":"IF(Worksheet!W470=0,\"\",IF(OR(LEFT(B444,8)=\"LED Four\",LEFT(B444,8)=\"LED Tube\",LEFT(B444,8)=\"LED Mogu\",RIGHT(A444,2)=\"In\"),\"\",Worksheet!W470))","v":""},""]
[{"$f":"IF(Worksheet!K471=0,\"\",Worksheet!K471)","v":""},{"$f":"IF(Worksheet!L471=0,\"\",Worksheet!L471)","v":""},{"$f":"IF(Worksheet!M471=0,\"\",Worksheet!M471)","v":""},{"$f":"IF(Worksheet!N471=0,\"\",Worksheet!N471)","v":""},{"$f":"IF(Worksheet!P471=0,\"\",IF(OR(LEFT(B445,8)=\"LED Four\",LEFT(B445,8)=\"LED Tube\",LEFT(B445,8)=\"LED Mogu\",RIGHT(A445,2)=\"In\"),\"\",Worksheet!P471))","v":""},{"$f":"IF(Worksheet!R471=0,\"\",Worksheet!R471)","v":""},"",{"$f":"IF(Worksheet!Q471=0,\"\",Worksheet!Q471)","v":""},{"$f":"IF(OR(LEFT(B445,8)=\"LED Four\",LEFT(B445,8)=\"LED Tube\",LEFT(B445,8)=\"LED Mogu\",RIGHT(A445,2)=\"In\"),H445*Worksheet!V471,\"\")","v":""},{"$f":"IF(Worksheet!V471=0,\"\",IF(OR(LEFT(B445,8)=\"LED Four\",LEFT(B445,8)=\"LED Tube\",LEFT(B445,8)=\"LED Mogu\",RIGHT(A445,2)=\"In\"),\"\",Worksheet!V471))","v":""},"",{"$f":"IF(OR(LEFT(B445,8)=\"LED Four\",LEFT(B445,8)=\"LED Tube\",LEFT(B445,8)=\"LED Mogu\",RIGHT(A445,2)=\"In\"),H445*Worksheet!W471,\"\")","v":""},{"$f":"IF(Worksheet!W471=0,\"\",IF(OR(LEFT(B445,8)=\"LED Four\",LEFT(B445,8)=\"LED Tube\",LEFT(B445,8)=\"LED Mogu\",RIGHT(A445,2)=\"In\"),\"\",Worksheet!W471))","v":""},""]
[{"$f":"IF(Worksheet!K472=0,\"\",Worksheet!K472)","v":""},{"$f":"IF(Worksheet!L472=0,\"\",Worksheet!L472)","v":""},{"$f":"IF(Worksheet!M472=0,\"\",Worksheet!M472)","v":""},{"$f":"IF(Worksheet!N472=0,\"\",Worksheet!N472)","v":""},{"$f":"IF(Worksheet!P472=0,\"\",IF(OR(LEFT(B446,8)=\"LED Four\",LEFT(B446,8)=\"LED Tube\",LEFT(B446,8)=\"LED Mogu\",RIGHT(A446,2)=\"In\"),\"\",Worksheet!P472))","v":""},{"$f":"IF(Worksheet!R472=0,\"\",Worksheet!R472)","v":""},"",{"$f":"IF(Worksheet!Q472=0,\"\",Worksheet!Q472)","v":""},{"$f":"IF(OR(LEFT(B446,8)=\"LED Four\",LEFT(B446,8)=\"LED Tube\",LEFT(B446,8)=\"LED Mogu\",RIGHT(A446,2)=\"In\"),H446*Worksheet!V472,\"\")","v":""},{"$f":"IF(Worksheet!V472=0,\"\",IF(OR(LEFT(B446,8)=\"LED Four\",LEFT(B446,8)=\"LED Tube\",LEFT(B446,8)=\"LED Mogu\",RIGHT(A446,2)=\"In\"),\"\",Worksheet!V472))","v":""},"",{"$f":"IF(OR(LEFT(B446,8)=\"LED Four\",LEFT(B446,8)=\"LED Tube\",LEFT(B446,8)=\"LED Mogu\",RIGHT(A446,2)=\"In\"),H446*Worksheet!W472,\"\")","v":""},{"$f":"IF(Worksheet!W472=0,\"\",IF(OR(LEFT(B446,8)=\"LED Four\",LEFT(B446,8)=\"LED Tube\",LEFT(B446,8)=\"LED Mogu\",RIGHT(A446,2)=\"In\"),\"\",Worksheet!W472))","v":""},""]
[{"$f":"IF(Worksheet!K473=0,\"\",Worksheet!K473)","v":""},{"$f":"IF(Worksheet!L473=0,\"\",Worksheet!L473)","v":""},{"$f":"IF(Worksheet!M473=0,\"\",Worksheet!M473)","v":""},{"$f":"IF(Worksheet!N473=0,\"\",Worksheet!N473)","v":""},{"$f":"IF(Worksheet!P473=0,\"\",IF(OR(LEFT(B447,8)=\"LED Four\",LEFT(B447,8)=\"LED Tube\",LEFT(B447,8)=\"LED Mogu\",RIGHT(A447,2)=\"In\"),\"\",Worksheet!P473))","v":""},{"$f":"IF(Worksheet!R473=0,\"\",Worksheet!R473)","v":""},"",{"$f":"IF(Worksheet!Q473=0,\"\",Worksheet!Q473)","v":""},{"$f":"IF(OR(LEFT(B447,8)=\"LED Four\",LEFT(B447,8)=\"LED Tube\",LEFT(B447,8)=\"LED Mogu\",RIGHT(A447,2)=\"In\"),H447*Worksheet!V473,\"\")","v":""},{"$f":"IF(Worksheet!V473=0,\"\",IF(OR(LEFT(B447,8)=\"LED Four\",LEFT(B447,8)=\"LED Tube\",LEFT(B447,8)=\"LED Mogu\",RIGHT(A447,2)=\"In\"),\"\",Worksheet!V473))","v":""},"",{"$f":"IF(OR(LEFT(B447,8)=\"LED Four\",LEFT(B447,8)=\"LED Tube\",LEFT(B447,8)=\"LED Mogu\",RIGHT(A447,2)=\"In\"),H447*Worksheet!W473,\"\")","v":""},{"$f":"IF(Worksheet!W473=0,\"\",IF(OR(LEFT(B447,8)=\"LED Four\",LEFT(B447,8)=\"LED Tube\",LEFT(B447,8)=\"LED Mogu\",RIGHT(A447,2)=\"In\"),\"\",Worksheet!W473))","v":""},""]
[{"$f":"IF(Worksheet!K474=0,\"\",Worksheet!K474)","v":""},{"$f":"IF(Worksheet!L474=0,\"\",Worksheet!L474)","v":""},{"$f":"IF(Worksheet!M474=0,\"\",Worksheet!M474)","v":""},{"$f":"IF(Worksheet!N474=0,\"\",Worksheet!N474)","v":""},{"$f":"IF(Worksheet!P474=0,\"\",IF(OR(LEFT(B448,8)=\"LED Four\",LEFT(B448,8)=\"LED Tube\",LEFT(B448,8)=\"LED Mogu\",RIGHT(A448,2)=\"In\"),\"\",Worksheet!P474))","v":""},{"$f":"IF(Worksheet!R474=0,\"\",Worksheet!R474)","v":""},"",{"$f":"IF(Worksheet!Q474=0,\"\",Worksheet!Q474)","v":""},{"$f":"IF(OR(LEFT(B448,8)=\"LED Four\",LEFT(B448,8)=\"LED Tube\",LEFT(B448,8)=\"LED Mogu\",RIGHT(A448,2)=\"In\"),H448*Worksheet!V474,\"\")","v":""},{"$f":"IF(Worksheet!V474=0,\"\",IF(OR(LEFT(B448,8)=\"LED Four\",LEFT(B448,8)=\"LED Tube\",LEFT(B448,8)=\"LED Mogu\",RIGHT(A448,2)=\"In\"),\"\",Worksheet!V474))","v":""},"",{"$f":"IF(OR(LEFT(B448,8)=\"LED Four\",LEFT(B448,8)=\"LED Tube\",LEFT(B448,8)=\"LED Mogu\",RIGHT(A448,2)=\"In\"),H448*Worksheet!W474,\"\")","v":""},{"$f":"IF(Worksheet!W474=0,\"\",IF(OR(LEFT(B448,8)=\"LED Four\",LEFT(B448,8)=\"LED Tube\",LEFT(B448,8)=\"LED Mogu\",RIGHT(A448,2)=\"In\"),\"\",Worksheet!W474))","v":""},""]
[{"$f":"IF(Worksheet!K475=0,\"\",Worksheet!K475)","v":""},{"$f":"IF(Worksheet!L475=0,\"\",Worksheet!L475)","v":""},{"$f":"IF(Worksheet!M475=0,\"\",Worksheet!M475)","v":""},{"$f":"IF(Worksheet!N475=0,\"\",Worksheet!N475)","v":""},{"$f":"IF(Worksheet!P475=0,\"\",IF(OR(LEFT(B449,8)=\"LED Four\",LEFT(B449,8)=\"LED Tube\",LEFT(B449,8)=\"LED Mogu\",RIGHT(A449,2)=\"In\"),\"\",Worksheet!P475))","v":""},{"$f":"IF(Worksheet!R475=0,\"\",Worksheet!R475)","v":""},"",{"$f":"IF(Worksheet!Q475=0,\"\",Worksheet!Q475)","v":""},{"$f":"IF(OR(LEFT(B449,8)=\"LED Four\",LEFT(B449,8)=\"LED Tube\",LEFT(B449,8)=\"LED Mogu\",RIGHT(A449,2)=\"In\"),H449*Worksheet!V475,\"\")","v":""},{"$f":"IF(Worksheet!V475=0,\"\",IF(OR(LEFT(B449,8)=\"LED Four\",LEFT(B449,8)=\"LED Tube\",LEFT(B449,8)=\"LED Mogu\",RIGHT(A449,2)=\"In\"),\"\",Worksheet!V475))","v":""},"",{"$f":"IF(OR(LEFT(B449,8)=\"LED Four\",LEFT(B449,8)=\"LED Tube\",LEFT(B449,8)=\"LED Mogu\",RIGHT(A449,2)=\"In\"),H449*Worksheet!W475,\"\")","v":""},{"$f":"IF(Worksheet!W475=0,\"\",IF(OR(LEFT(B449,8)=\"LED Four\",LEFT(B449,8)=\"LED Tube\",LEFT(B449,8)=\"LED Mogu\",RIGHT(A449,2)=\"In\"),\"\",Worksheet!W475))","v":""},""]
[{"$f":"IF(Worksheet!K476=0,\"\",Worksheet!K476)","v":""},{"$f":"IF(Worksheet!L476=0,\"\",Worksheet!L476)","v":""},{"$f":"IF(Worksheet!M476=0,\"\",Worksheet!M476)","v":""},{"$f":"IF(Worksheet!N476=0,\"\",Worksheet!N476)","v":""},{"$f":"IF(Worksheet!P476=0,\"\",IF(OR(LEFT(B450,8)=\"LED Four\",LEFT(B450,8)=\"LED Tube\",LEFT(B450,8)=\"LED Mogu\",RIGHT(A450,2)=\"In\"),\"\",Worksheet!P476))","v":""},{"$f":"IF(Worksheet!R476=0,\"\",Worksheet!R476)","v":""},"",{"$f":"IF(Worksheet!Q476=0,\"\",Worksheet!Q476)","v":""},{"$f":"IF(OR(LEFT(B450,8)=\"LED Four\",LEFT(B450,8)=\"LED Tube\",LEFT(B450,8)=\"LED Mogu\",RIGHT(A450,2)=\"In\"),H450*Worksheet!V476,\"\")","v":""},{"$f":"IF(Worksheet!V476=0,\"\",IF(OR(LEFT(B450,8)=\"LED Four\",LEFT(B450,8)=\"LED Tube\",LEFT(B450,8)=\"LED Mogu\",RIGHT(A450,2)=\"In\"),\"\",Worksheet!V476))","v":""},"",{"$f":"IF(OR(LEFT(B450,8)=\"LED Four\",LEFT(B450,8)=\"LED Tube\",LEFT(B450,8)=\"LED Mogu\",RIGHT(A450,2)=\"In\"),H450*Worksheet!W476,\"\")","v":""},{"$f":"IF(Worksheet!W476=0,\"\",IF(OR(LEFT(B450,8)=\"LED Four\",LEFT(B450,8)=\"LED Tube\",LEFT(B450,8)=\"LED Mogu\",RIGHT(A450,2)=\"In\"),\"\",Worksheet!W476))","v":""},""]
[{"$f":"IF(Worksheet!K477=0,\"\",Worksheet!K477)","v":""},{"$f":"IF(Worksheet!L477=0,\"\",Worksheet!L477)","v":""},{"$f":"IF(Worksheet!M477=0,\"\",Worksheet!M477)","v":""},{"$f":"IF(Worksheet!N477=0,\"\",Worksheet!N477)","v":""},{"$f":"IF(Worksheet!P477=0,\"\",IF(OR(LEFT(B451,8)=\"LED Four\",LEFT(B451,8)=\"LED Tube\",LEFT(B451,8)=\"LED Mogu\",RIGHT(A451,2)=\"In\"),\"\",Worksheet!P477))","v":""},{"$f":"IF(Worksheet!R477=0,\"\",Worksheet!R477)","v":""},{"$f":"IF(MAX(E451:F451)=0,\"\",MAX(E451:F451))","v":""},{"$f":"IF(Worksheet!Q477=0,\"\",Worksheet!Q477)","v":""},{"$f":"IF(OR(LEFT(B451,8)=\"LED Four\",LEFT(B451,8)=\"LED Tube\",LEFT(B451,8)=\"LED Mogu\",RIGHT(A451,2)=\"In\"),H451*Worksheet!V477,\"\")","v":""},{"$f":"IF(Worksheet!V477=0,\"\",IF(OR(LEFT(B451,8)=\"LED Four\",LEFT(B451,8)=\"LED Tube\",LEFT(B451,8)=\"LED Mogu\",RIGHT(A451,2)=\"In\"),\"\",Worksheet!V477))","v":""},{"$f":"(IF(MAX(I451:J451)=0,\"\",MAX(I451:J451)))","v":""},{"$f":"IF(OR(LEFT(B451,8)=\"LED Four\",LEFT(B451,8)=\"LED Tube\",LEFT(B451,8)=\"LED Mogu\",RIGHT(A451,2)=\"In\"),H451*Worksheet!W477,\"\")","v":""},{"$f":"IF(Worksheet!W477=0,\"\",IF(OR(LEFT(B451,8)=\"LED Four\",LEFT(B451,8)=\"LED Tube\",LEFT(B451,8)=\"LED Mogu\",RIGHT(A451,2)=\"In\"),\"\",Worksheet!W477))","v":""},{"$f":"IF(MAX(L451:M451)=0,\"\",MAX(L451:M451))","v":""}]
[{"$f":"IF(Worksheet!K478=0,\"\",Worksheet!K478)","v":""},{"$f":"IF(Worksheet!L478=0,\"\",Worksheet!L478)","v":""},{"$f":"IF(Worksheet!M478=0,\"\",Worksheet!M478)","v":""},{"$f":"IF(Worksheet!N478=0,\"\",Worksheet!N478)","v":""},{"$f":"IF(Worksheet!P478=0,\"\",IF(OR(LEFT(B452,8)=\"LED Four\",LEFT(B452,8)=\"LED Tube\",LEFT(B452,8)=\"LED Mogu\",RIGHT(A452,2)=\"In\"),\"\",Worksheet!P478))","v":""},{"$f":"IF(Worksheet!R478=0,\"\",Worksheet!R478)","v":""},"",{"$f":"IF(Worksheet!Q478=0,\"\",Worksheet!Q478)","v":""},{"$f":"IF(OR(LEFT(B452,8)=\"LED Four\",LEFT(B452,8)=\"LED Tube\",LEFT(B452,8)=\"LED Mogu\",RIGHT(A452,2)=\"In\"),H452*Worksheet!V478,\"\")","v":""},{"$f":"IF(Worksheet!V478=0,\"\",IF(OR(LEFT(B452,8)=\"LED Four\",LEFT(B452,8)=\"LED Tube\",LEFT(B452,8)=\"LED Mogu\",RIGHT(A452,2)=\"In\"),\"\",Worksheet!V478))","v":""},"",{"$f":"IF(OR(LEFT(B452,8)=\"LED Four\",LEFT(B452,8)=\"LED Tube\",LEFT(B452,8)=\"LED Mogu\",RIGHT(A452,2)=\"In\"),H452*Worksheet!W478,\"\")","v":""},{"$f":"IF(Worksheet!W478=0,\"\",IF(OR(LEFT(B452,8)=\"LED Four\",LEFT(B452,8)=\"LED Tube\",LEFT(B452,8)=\"LED Mogu\",RIGHT(A452,2)=\"In\"),\"\",Worksheet!W478))","v":""},""]
[{"$f":"IF(Worksheet!K479=0,\"\",Worksheet!K479)","v":""},{"$f":"IF(Worksheet!L479=0,\"\",Worksheet!L479)","v":""},{"$f":"IF(Worksheet!M479=0,\"\",Worksheet!M479)","v":""},{"$f":"IF(Worksheet!N479=0,\"\",Worksheet!N479)","v":""},{"$f":"IF(Worksheet!P479=0,\"\",IF(OR(LEFT(B453,8)=\"LED Four\",LEFT(B453,8)=\"LED Tube\",LEFT(B453,8)=\"LED Mogu\",RIGHT(A453,2)=\"In\"),\"\",Worksheet!P479))","v":""},{"$f":"IF(Worksheet!R479=0,\"\",Worksheet!R479)","v":""},"",{"$f":"IF(Worksheet!Q479=0,\"\",Worksheet!Q479)","v":""},{"$f":"IF(OR(LEFT(B453,8)=\"LED Four\",LEFT(B453,8)=\"LED Tube\",LEFT(B453,8)=\"LED Mogu\",RIGHT(A453,2)=\"In\"),H453*Worksheet!V479,\"\")","v":""},{"$f":"IF(Worksheet!V479=0,\"\",IF(OR(LEFT(B453,8)=\"LED Four\",LEFT(B453,8)=\"LED Tube\",LEFT(B453,8)=\"LED Mogu\",RIGHT(A453,2)=\"In\"),\"\",Worksheet!V479))","v":""},"",{"$f":"IF(OR(LEFT(B453,8)=\"LED Four\",LEFT(B453,8)=\"LED Tube\",LEFT(B453,8)=\"LED Mogu\",RIGHT(A453,2)=\"In\"),H453*Worksheet!W479,\"\")","v":""},{"$f":"IF(Worksheet!W479=0,\"\",IF(OR(LEFT(B453,8)=\"LED Four\",LEFT(B453,8)=\"LED Tube\",LEFT(B453,8)=\"LED Mogu\",RIGHT(A453,2)=\"In\"),\"\",Worksheet!W479))","v":""},""]
[{"$f":"IF(Worksheet!K480=0,\"\",Worksheet!K480)","v":""},{"$f":"IF(Worksheet!L480=0,\"\",Worksheet!L480)","v":""},{"$f":"IF(Worksheet!M480=0,\"\",Worksheet!M480)","v":""},{"$f":"IF(Worksheet!N480=0,\"\",Worksheet!N480)","v":""},{"$f":"IF(Worksheet!P480=0,\"\",IF(OR(LEFT(B454,8)=\"LED Four\",LEFT(B454,8)=\"LED Tube\",LEFT(B454,8)=\"LED Mogu\",RIGHT(A454,2)=\"In\"),\"\",Worksheet!P480))","v":""},{"$f":"IF(Worksheet!R480=0,\"\",Worksheet!R480)","v":""},"",{"$f":"IF(Worksheet!Q480=0,\"\",Worksheet!Q480)","v":""},{"$f":"IF(OR(LEFT(B454,8)=\"LED Four\",LEFT(B454,8)=\"LED Tube\",LEFT(B454,8)=\"LED Mogu\",RIGHT(A454,2)=\"In\"),H454*Worksheet!V480,\"\")","v":""},{"$f":"IF(Worksheet!V480=0,\"\",IF(OR(LEFT(B454,8)=\"LED Four\",LEFT(B454,8)=\"LED Tube\",LEFT(B454,8)=\"LED Mogu\",RIGHT(A454,2)=\"In\"),\"\",Worksheet!V480))","v":""},"",{"$f":"IF(OR(LEFT(B454,8)=\"LED Four\",LEFT(B454,8)=\"LED Tube\",LEFT(B454,8)=\"LED Mogu\",RIGHT(A454,2)=\"In\"),H454*Worksheet!W480,\"\")","v":""},{"$f":"IF(Worksheet!W480=0,\"\",IF(OR(LEFT(B454,8)=\"LED Four\",LEFT(B454,8)=\"LED Tube\",LEFT(B454,8)=\"LED Mogu\",RIGHT(A454,2)=\"In\"),\"\",Worksheet!W480))","v":""},""]
[{"$f":"IF(Worksheet!K481=0,\"\",Worksheet!K481)","v":""},{"$f":"IF(Worksheet!L481=0,\"\",Worksheet!L481)","v":""},{"$f":"IF(Worksheet!M481=0,\"\",Worksheet!M481)","v":""},{"$f":"IF(Worksheet!N481=0,\"\",Worksheet!N481)","v":""},{"$f":"IF(Worksheet!P481=0,\"\",IF(OR(LEFT(B455,8)=\"LED Four\",LEFT(B455,8)=\"LED Tube\",LEFT(B455,8)=\"LED Mogu\",RIGHT(A455,2)=\"In\"),\"\",Worksheet!P481))","v":""},{"$f":"IF(Worksheet!R481=0,\"\",Worksheet!R481)","v":""},"",{"$f":"IF(Worksheet!Q481=0,\"\",Worksheet!Q481)","v":""},{"$f":"IF(OR(LEFT(B455,8)=\"LED Four\",LEFT(B455,8)=\"LED Tube\",LEFT(B455,8)=\"LED Mogu\",RIGHT(A455,2)=\"In\"),H455*Worksheet!V481,\"\")","v":""},{"$f":"IF(Worksheet!V481=0,\"\",IF(OR(LEFT(B455,8)=\"LED Four\",LEFT(B455,8)=\"LED Tube\",LEFT(B455,8)=\"LED Mogu\",RIGHT(A455,2)=\"In\"),\"\",Worksheet!V481))","v":""},"",{"$f":"IF(OR(LEFT(B455,8)=\"LED Four\",LEFT(B455,8)=\"LED Tube\",LEFT(B455,8)=\"LED Mogu\",RIGHT(A455,2)=\"In\"),H455*Worksheet!W481,\"\")","v":""},{"$f":"IF(Worksheet!W481=0,\"\",IF(OR(LEFT(B455,8)=\"LED Four\",LEFT(B455,8)=\"LED Tube\",LEFT(B455,8)=\"LED Mogu\",RIGHT(A455,2)=\"In\"),\"\",Worksheet!W481))","v":""},""]
[{"$f":"IF(Worksheet!K482=0,\"\",Worksheet!K482)","v":""},{"$f":"IF(Worksheet!L482=0,\"\",Worksheet!L482)","v":""},{"$f":"IF(Worksheet!M482=0,\"\",Worksheet!M482)","v":""},{"$f":"IF(Worksheet!N482=0,\"\",Worksheet!N482)","v":""},{"$f":"IF(Worksheet!P482=0,\"\",IF(OR(LEFT(B456,8)=\"LED Four\",LEFT(B456,8)=\"LED Tube\",LEFT(B456,8)=\"LED Mogu\",RIGHT(A456,2)=\"In\"),\"\",Worksheet!P482))","v":""},{"$f":"IF(Worksheet!R482=0,\"\",Worksheet!R482)","v":""},"",{"$f":"IF(Worksheet!Q482=0,\"\",Worksheet!Q482)","v":""},{"$f":"IF(OR(LEFT(B456,8)=\"LED Four\",LEFT(B456,8)=\"LED Tube\",LEFT(B456,8)=\"LED Mogu\",RIGHT(A456,2)=\"In\"),H456*Worksheet!V482,\"\")","v":""},{"$f":"IF(Worksheet!V482=0,\"\",IF(OR(LEFT(B456,8)=\"LED Four\",LEFT(B456,8)=\"LED Tube\",LEFT(B456,8)=\"LED Mogu\",RIGHT(A456,2)=\"In\"),\"\",Worksheet!V482))","v":""},"",{"$f":"IF(OR(LEFT(B456,8)=\"LED Four\",LEFT(B456,8)=\"LED Tube\",LEFT(B456,8)=\"LED Mogu\",RIGHT(A456,2)=\"In\"),H456*Worksheet!W482,\"\")","v":""},{"$f":"IF(Worksheet!W482=0,\"\",IF(OR(LEFT(B456,8)=\"LED Four\",LEFT(B456,8)=\"LED Tube\",LEFT(B456,8)=\"LED Mogu\",RIGHT(A456,2)=\"In\"),\"\",Worksheet!W482))","v":""},""]
[{"$f":"IF(Worksheet!K483=0,\"\",Worksheet!K483)","v":""},{"$f":"IF(Worksheet!L483=0,\"\",Worksheet!L483)","v":""},{"$f":"IF(Worksheet!M483=0,\"\",Worksheet!M483)","v":""},{"$f":"IF(Worksheet!N483=0,\"\",Worksheet!N483)","v":""},{"$f":"IF(Worksheet!P483=0,\"\",IF(OR(LEFT(B457,8)=\"LED Four\",LEFT(B457,8)=\"LED Tube\",LEFT(B457,8)=\"LED Mogu\",RIGHT(A457,2)=\"In\"),\"\",Worksheet!P483))","v":""},{"$f":"IF(Worksheet!R483=0,\"\",Worksheet!R483)","v":""},"",{"$f":"IF(Worksheet!Q483=0,\"\",Worksheet!Q483)","v":""},{"$f":"IF(OR(LEFT(B457,8)=\"LED Four\",LEFT(B457,8)=\"LED Tube\",LEFT(B457,8)=\"LED Mogu\",RIGHT(A457,2)=\"In\"),H457*Worksheet!V483,\"\")","v":""},{"$f":"IF(Worksheet!V483=0,\"\",IF(OR(LEFT(B457,8)=\"LED Four\",LEFT(B457,8)=\"LED Tube\",LEFT(B457,8)=\"LED Mogu\",RIGHT(A457,2)=\"In\"),\"\",Worksheet!V483))","v":""},"",{"$f":"IF(OR(LEFT(B457,8)=\"LED Four\",LEFT(B457,8)=\"LED Tube\",LEFT(B457,8)=\"LED Mogu\",RIGHT(A457,2)=\"In\"),H457*Worksheet!W483,\"\")","v":""},{"$f":"IF(Worksheet!W483=0,\"\",IF(OR(LEFT(B457,8)=\"LED Four\",LEFT(B457,8)=\"LED Tube\",LEFT(B457,8)=\"LED Mogu\",RIGHT(A457,2)=\"In\"),\"\",Worksheet!W483))","v":""},""]
[{"$f":"IF(Worksheet!K484=0,\"\",Worksheet!K484)","v":""},{"$f":"IF(Worksheet!L484=0,\"\",Worksheet!L484)","v":""},{"$f":"IF(Worksheet!M484=0,\"\",Worksheet!M484)","v":""},{"$f":"IF(Worksheet!N484=0,\"\",Worksheet!N484)","v":""},{"$f":"IF(Worksheet!P484=0,\"\",IF(OR(LEFT(B458,8)=\"LED Four\",LEFT(B458,8)=\"LED Tube\",LEFT(B458,8)=\"LED Mogu\",RIGHT(A458,2)=\"In\"),\"\",Worksheet!P484))","v":""},{"$f":"IF(Worksheet!R484=0,\"\",Worksheet!R484)","v":""},"",{"$f":"IF(Worksheet!Q484=0,\"\",Worksheet!Q484)","v":""},{"$f":"IF(OR(LEFT(B458,8)=\"LED Four\",LEFT(B458,8)=\"LED Tube\",LEFT(B458,8)=\"LED Mogu\",RIGHT(A458,2)=\"In\"),H458*Worksheet!V484,\"\")","v":""},{"$f":"IF(Worksheet!V484=0,\"\",IF(OR(LEFT(B458,8)=\"LED Four\",LEFT(B458,8)=\"LED Tube\",LEFT(B458,8)=\"LED Mogu\",RIGHT(A458,2)=\"In\"),\"\",Worksheet!V484))","v":""},"",{"$f":"IF(OR(LEFT(B458,8)=\"LED Four\",LEFT(B458,8)=\"LED Tube\",LEFT(B458,8)=\"LED Mogu\",RIGHT(A458,2)=\"In\"),H458*Worksheet!W484,\"\")","v":""},{"$f":"IF(Worksheet!W484=0,\"\",IF(OR(LEFT(B458,8)=\"LED Four\",LEFT(B458,8)=\"LED Tube\",LEFT(B458,8)=\"LED Mogu\",RIGHT(A458,2)=\"In\"),\"\",Worksheet!W484))","v":""},""]
[{"$f":"IF(Worksheet!K485=0,\"\",Worksheet!K485)","v":""},{"$f":"IF(Worksheet!L485=0,\"\",Worksheet!L485)","v":""},{"$f":"IF(Worksheet!M485=0,\"\",Worksheet!M485)","v":""},{"$f":"IF(Worksheet!N485=0,\"\",Worksheet!N485)","v":""},{"$f":"IF(Worksheet!P485=0,\"\",IF(OR(LEFT(B459,8)=\"LED Four\",LEFT(B459,8)=\"LED Tube\",LEFT(B459,8)=\"LED Mogu\",RIGHT(A459,2)=\"In\"),\"\",Worksheet!P485))","v":""},{"$f":"IF(Worksheet!R485=0,\"\",Worksheet!R485)","v":""},"",{"$f":"IF(Worksheet!Q485=0,\"\",Worksheet!Q485)","v":""},{"$f":"IF(OR(LEFT(B459,8)=\"LED Four\",LEFT(B459,8)=\"LED Tube\",LEFT(B459,8)=\"LED Mogu\",RIGHT(A459,2)=\"In\"),H459*Worksheet!V485,\"\")","v":""},{"$f":"IF(Worksheet!V485=0,\"\",IF(OR(LEFT(B459,8)=\"LED Four\",LEFT(B459,8)=\"LED Tube\",LEFT(B459,8)=\"LED Mogu\",RIGHT(A459,2)=\"In\"),\"\",Worksheet!V485))","v":""},"",{"$f":"IF(OR(LEFT(B459,8)=\"LED Four\",LEFT(B459,8)=\"LED Tube\",LEFT(B459,8)=\"LED Mogu\",RIGHT(A459,2)=\"In\"),H459*Worksheet!W485,\"\")","v":""},{"$f":"IF(Worksheet!W485=0,\"\",IF(OR(LEFT(B459,8)=\"LED Four\",LEFT(B459,8)=\"LED Tube\",LEFT(B459,8)=\"LED Mogu\",RIGHT(A459,2)=\"In\"),\"\",Worksheet!W485))","v":""},""]
[{"$f":"IF(Worksheet!K486=0,\"\",Worksheet!K486)","v":""},{"$f":"IF(Worksheet!L486=0,\"\",Worksheet!L486)","v":""},{"$f":"IF(Worksheet!M486=0,\"\",Worksheet!M486)","v":""},{"$f":"IF(Worksheet!N486=0,\"\",Worksheet!N486)","v":""},{"$f":"IF(Worksheet!P486=0,\"\",IF(OR(LEFT(B460,8)=\"LED Four\",LEFT(B460,8)=\"LED Tube\",LEFT(B460,8)=\"LED Mogu\",RIGHT(A460,2)=\"In\"),\"\",Worksheet!P486))","v":""},{"$f":"IF(Worksheet!R486=0,\"\",Worksheet!R486)","v":""},"",{"$f":"IF(Worksheet!Q486=0,\"\",Worksheet!Q486)","v":""},{"$f":"IF(OR(LEFT(B460,8)=\"LED Four\",LEFT(B460,8)=\"LED Tube\",LEFT(B460,8)=\"LED Mogu\",RIGHT(A460,2)=\"In\"),H460*Worksheet!V486,\"\")","v":""},{"$f":"IF(Worksheet!V486=0,\"\",IF(OR(LEFT(B460,8)=\"LED Four\",LEFT(B460,8)=\"LED Tube\",LEFT(B460,8)=\"LED Mogu\",RIGHT(A460,2)=\"In\"),\"\",Worksheet!V486))","v":""},"",{"$f":"IF(OR(LEFT(B460,8)=\"LED Four\",LEFT(B460,8)=\"LED Tube\",LEFT(B460,8)=\"LED Mogu\",RIGHT(A460,2)=\"In\"),H460*Worksheet!W486,\"\")","v":""},{"$f":"IF(Worksheet!W486=0,\"\",IF(OR(LEFT(B460,8)=\"LED Four\",LEFT(B460,8)=\"LED Tube\",LEFT(B460,8)=\"LED Mogu\",RIGHT(A460,2)=\"In\"),\"\",Worksheet!W486))","v":""},""]
[{"$f":"IF(Worksheet!K487=0,\"\",Worksheet!K487)","v":""},{"$f":"IF(Worksheet!L487=0,\"\",Worksheet!L487)","v":""},{"$f":"IF(Worksheet!M487=0,\"\",Worksheet!M487)","v":""},{"$f":"IF(Worksheet!N487=0,\"\",Worksheet!N487)","v":""},{"$f":"IF(Worksheet!P487=0,\"\",IF(OR(LEFT(B461,8)=\"LED Four\",LEFT(B461,8)=\"LED Tube\",LEFT(B461,8)=\"LED Mogu\",RIGHT(A461,2)=\"In\"),\"\",Worksheet!P487))","v":""},{"$f":"IF(Worksheet!R487=0,\"\",Worksheet!R487)","v":""},"",{"$f":"IF(Worksheet!Q487=0,\"\",Worksheet!Q487)","v":""},{"$f":"IF(OR(LEFT(B461,8)=\"LED Four\",LEFT(B461,8)=\"LED Tube\",LEFT(B461,8)=\"LED Mogu\",RIGHT(A461,2)=\"In\"),H461*Worksheet!V487,\"\")","v":""},{"$f":"IF(Worksheet!V487=0,\"\",IF(OR(LEFT(B461,8)=\"LED Four\",LEFT(B461,8)=\"LED Tube\",LEFT(B461,8)=\"LED Mogu\",RIGHT(A461,2)=\"In\"),\"\",Worksheet!V487))","v":""},"",{"$f":"IF(OR(LEFT(B461,8)=\"LED Four\",LEFT(B461,8)=\"LED Tube\",LEFT(B461,8)=\"LED Mogu\",RIGHT(A461,2)=\"In\"),H461*Worksheet!W487,\"\")","v":""},{"$f":"IF(Worksheet!W487=0,\"\",IF(OR(LEFT(B461,8)=\"LED Four\",LEFT(B461,8)=\"LED Tube\",LEFT(B461,8)=\"LED Mogu\",RIGHT(A461,2)=\"In\"),\"\",Worksheet!W487))","v":""},""]
[{"$f":"IF(Worksheet!K488=0,\"\",Worksheet!K488)","v":""},{"$f":"IF(Worksheet!L488=0,\"\",Worksheet!L488)","v":""},{"$f":"IF(Worksheet!M488=0,\"\",Worksheet!M488)","v":""},{"$f":"IF(Worksheet!N488=0,\"\",Worksheet!N488)","v":""},{"$f":"IF(Worksheet!P488=0,\"\",IF(OR(LEFT(B462,8)=\"LED Four\",LEFT(B462,8)=\"LED Tube\",LEFT(B462,8)=\"LED Mogu\",RIGHT(A462,2)=\"In\"),\"\",Worksheet!P488))","v":""},{"$f":"IF(Worksheet!R488=0,\"\",Worksheet!R488)","v":""},"",{"$f":"IF(Worksheet!Q488=0,\"\",Worksheet!Q488)","v":""},{"$f":"IF(OR(LEFT(B462,8)=\"LED Four\",LEFT(B462,8)=\"LED Tube\",LEFT(B462,8)=\"LED Mogu\",RIGHT(A462,2)=\"In\"),H462*Worksheet!V488,\"\")","v":""},{"$f":"IF(Worksheet!V488=0,\"\",IF(OR(LEFT(B462,8)=\"LED Four\",LEFT(B462,8)=\"LED Tube\",LEFT(B462,8)=\"LED Mogu\",RIGHT(A462,2)=\"In\"),\"\",Worksheet!V488))","v":""},"",{"$f":"IF(OR(LEFT(B462,8)=\"LED Four\",LEFT(B462,8)=\"LED Tube\",LEFT(B462,8)=\"LED Mogu\",RIGHT(A462,2)=\"In\"),H462*Worksheet!W488,\"\")","v":""},{"$f":"IF(Worksheet!W488=0,\"\",IF(OR(LEFT(B462,8)=\"LED Four\",LEFT(B462,8)=\"LED Tube\",LEFT(B462,8)=\"LED Mogu\",RIGHT(A462,2)=\"In\"),\"\",Worksheet!W488))","v":""},""]
[{"$f":"IF(Worksheet!K489=0,\"\",Worksheet!K489)","v":""},{"$f":"IF(Worksheet!L489=0,\"\",Worksheet!L489)","v":""},{"$f":"IF(Worksheet!M489=0,\"\",Worksheet!M489)","v":""},{"$f":"IF(Worksheet!N489=0,\"\",Worksheet!N489)","v":""},{"$f":"IF(Worksheet!P489=0,\"\",IF(OR(LEFT(B463,8)=\"LED Four\",LEFT(B463,8)=\"LED Tube\",LEFT(B463,8)=\"LED Mogu\",RIGHT(A463,2)=\"In\"),\"\",Worksheet!P489))","v":""},{"$f":"IF(Worksheet!R489=0,\"\",Worksheet!R489)","v":""},"",{"$f":"IF(Worksheet!Q489=0,\"\",Worksheet!Q489)","v":""},{"$f":"IF(OR(LEFT(B463,8)=\"LED Four\",LEFT(B463,8)=\"LED Tube\",LEFT(B463,8)=\"LED Mogu\",RIGHT(A463,2)=\"In\"),H463*Worksheet!V489,\"\")","v":""},{"$f":"IF(Worksheet!V489=0,\"\",IF(OR(LEFT(B463,8)=\"LED Four\",LEFT(B463,8)=\"LED Tube\",LEFT(B463,8)=\"LED Mogu\",RIGHT(A463,2)=\"In\"),\"\",Worksheet!V489))","v":""},"",{"$f":"IF(OR(LEFT(B463,8)=\"LED Four\",LEFT(B463,8)=\"LED Tube\",LEFT(B463,8)=\"LED Mogu\",RIGHT(A463,2)=\"In\"),H463*Worksheet!W489,\"\")","v":""},{"$f":"IF(Worksheet!W489=0,\"\",IF(OR(LEFT(B463,8)=\"LED Four\",LEFT(B463,8)=\"LED Tube\",LEFT(B463,8)=\"LED Mogu\",RIGHT(A463,2)=\"In\"),\"\",Worksheet!W489))","v":""},""]
[{"$f":"IF(Worksheet!K490=0,\"\",Worksheet!K490)","v":""},{"$f":"IF(Worksheet!L490=0,\"\",Worksheet!L490)","v":""},{"$f":"IF(Worksheet!M490=0,\"\",Worksheet!M490)","v":""},{"$f":"IF(Worksheet!N490=0,\"\",Worksheet!N490)","v":""},{"$f":"IF(Worksheet!P490=0,\"\",IF(OR(LEFT(B464,8)=\"LED Four\",LEFT(B464,8)=\"LED Tube\",LEFT(B464,8)=\"LED Mogu\",RIGHT(A464,2)=\"In\"),\"\",Worksheet!P490))","v":""},{"$f":"IF(Worksheet!R490=0,\"\",Worksheet!R490)","v":""},"",{"$f":"IF(Worksheet!Q490=0,\"\",Worksheet!Q490)","v":""},{"$f":"IF(OR(LEFT(B464,8)=\"LED Four\",LEFT(B464,8)=\"LED Tube\",LEFT(B464,8)=\"LED Mogu\",RIGHT(A464,2)=\"In\"),H464*Worksheet!V490,\"\")","v":""},{"$f":"IF(Worksheet!V490=0,\"\",IF(OR(LEFT(B464,8)=\"LED Four\",LEFT(B464,8)=\"LED Tube\",LEFT(B464,8)=\"LED Mogu\",RIGHT(A464,2)=\"In\"),\"\",Worksheet!V490))","v":""},"",{"$f":"IF(OR(LEFT(B464,8)=\"LED Four\",LEFT(B464,8)=\"LED Tube\",LEFT(B464,8)=\"LED Mogu\",RIGHT(A464,2)=\"In\"),H464*Worksheet!W490,\"\")","v":""},{"$f":"IF(Worksheet!W490=0,\"\",IF(OR(LEFT(B464,8)=\"LED Four\",LEFT(B464,8)=\"LED Tube\",LEFT(B464,8)=\"LED Mogu\",RIGHT(A464,2)=\"In\"),\"\",Worksheet!W490))","v":""},""]
[{"$f":"IF(Worksheet!K491=0,\"\",Worksheet!K491)","v":""},{"$f":"IF(Worksheet!L491=0,\"\",Worksheet!L491)","v":""},{"$f":"IF(Worksheet!M491=0,\"\",Worksheet!M491)","v":""},{"$f":"IF(Worksheet!N491=0,\"\",Worksheet!N491)","v":""},{"$f":"IF(Worksheet!P491=0,\"\",IF(OR(LEFT(B465,8)=\"LED Four\",LEFT(B465,8)=\"LED Tube\",LEFT(B465,8)=\"LED Mogu\",RIGHT(A465,2)=\"In\"),\"\",Worksheet!P491))","v":""},{"$f":"IF(Worksheet!R491=0,\"\",Worksheet!R491)","v":""},"",{"$f":"IF(Worksheet!Q491=0,\"\",Worksheet!Q491)","v":""},{"$f":"IF(OR(LEFT(B465,8)=\"LED Four\",LEFT(B465,8)=\"LED Tube\",LEFT(B465,8)=\"LED Mogu\",RIGHT(A465,2)=\"In\"),H465*Worksheet!V491,\"\")","v":""},{"$f":"IF(Worksheet!V491=0,\"\",IF(OR(LEFT(B465,8)=\"LED Four\",LEFT(B465,8)=\"LED Tube\",LEFT(B465,8)=\"LED Mogu\",RIGHT(A465,2)=\"In\"),\"\",Worksheet!V491))","v":""},"",{"$f":"IF(OR(LEFT(B465,8)=\"LED Four\",LEFT(B465,8)=\"LED Tube\",LEFT(B465,8)=\"LED Mogu\",RIGHT(A465,2)=\"In\"),H465*Worksheet!W491,\"\")","v":""},{"$f":"IF(Worksheet!W491=0,\"\",IF(OR(LEFT(B465,8)=\"LED Four\",LEFT(B465,8)=\"LED Tube\",LEFT(B465,8)=\"LED Mogu\",RIGHT(A465,2)=\"In\"),\"\",Worksheet!W491))","v":""},""]
[{"$f":"IF(Worksheet!K492=0,\"\",Worksheet!K492)","v":""},{"$f":"IF(Worksheet!L492=0,\"\",Worksheet!L492)","v":""},{"$f":"IF(Worksheet!M492=0,\"\",Worksheet!M492)","v":""},{"$f":"IF(Worksheet!N492=0,\"\",Worksheet!N492)","v":""},{"$f":"IF(Worksheet!P492=0,\"\",IF(OR(LEFT(B466,8)=\"LED Four\",LEFT(B466,8)=\"LED Tube\",LEFT(B466,8)=\"LED Mogu\",RIGHT(A466,2)=\"In\"),\"\",Worksheet!P492))","v":""},{"$f":"IF(Worksheet!R492=0,\"\",Worksheet!R492)","v":""},"",{"$f":"IF(Worksheet!Q492=0,\"\",Worksheet!Q492)","v":""},{"$f":"IF(OR(LEFT(B466,8)=\"LED Four\",LEFT(B466,8)=\"LED Tube\",LEFT(B466,8)=\"LED Mogu\",RIGHT(A466,2)=\"In\"),H466*Worksheet!V492,\"\")","v":""},{"$f":"IF(Worksheet!V492=0,\"\",IF(OR(LEFT(B466,8)=\"LED Four\",LEFT(B466,8)=\"LED Tube\",LEFT(B466,8)=\"LED Mogu\",RIGHT(A466,2)=\"In\"),\"\",Worksheet!V492))","v":""},"",{"$f":"IF(OR(LEFT(B466,8)=\"LED Four\",LEFT(B466,8)=\"LED Tube\",LEFT(B466,8)=\"LED Mogu\",RIGHT(A466,2)=\"In\"),H466*Worksheet!W492,\"\")","v":""},{"$f":"IF(Worksheet!W492=0,\"\",IF(OR(LEFT(B466,8)=\"LED Four\",LEFT(B466,8)=\"LED Tube\",LEFT(B466,8)=\"LED Mogu\",RIGHT(A466,2)=\"In\"),\"\",Worksheet!W492))","v":""},""]
[{"$f":"IF(Worksheet!K493=0,\"\",Worksheet!K493)","v":""},{"$f":"IF(Worksheet!L493=0,\"\",Worksheet!L493)","v":""},{"$f":"IF(Worksheet!M493=0,\"\",Worksheet!M493)","v":""},{"$f":"IF(Worksheet!N493=0,\"\",Worksheet!N493)","v":""},{"$f":"IF(Worksheet!P493=0,\"\",IF(OR(LEFT(B467,8)=\"LED Four\",LEFT(B467,8)=\"LED Tube\",LEFT(B467,8)=\"LED Mogu\",RIGHT(A467,2)=\"In\"),\"\",Worksheet!P493))","v":""},{"$f":"IF(Worksheet!R493=0,\"\",Worksheet!R493)","v":""},"",{"$f":"IF(Worksheet!Q493=0,\"\",Worksheet!Q493)","v":""},{"$f":"IF(OR(LEFT(B467,8)=\"LED Four\",LEFT(B467,8)=\"LED Tube\",LEFT(B467,8)=\"LED Mogu\",RIGHT(A467,2)=\"In\"),H467*Worksheet!V493,\"\")","v":""},{"$f":"IF(Worksheet!V493=0,\"\",IF(OR(LEFT(B467,8)=\"LED Four\",LEFT(B467,8)=\"LED Tube\",LEFT(B467,8)=\"LED Mogu\",RIGHT(A467,2)=\"In\"),\"\",Worksheet!V493))","v":""},"",{"$f":"IF(OR(LEFT(B467,8)=\"LED Four\",LEFT(B467,8)=\"LED Tube\",LEFT(B467,8)=\"LED Mogu\",RIGHT(A467,2)=\"In\"),H467*Worksheet!W493,\"\")","v":""},{"$f":"IF(Worksheet!W493=0,\"\",IF(OR(LEFT(B467,8)=\"LED Four\",LEFT(B467,8)=\"LED Tube\",LEFT(B467,8)=\"LED Mogu\",RIGHT(A467,2)=\"In\"),\"\",Worksheet!W493))","v":""},""]
[{"$f":"IF(Worksheet!K494=0,\"\",Worksheet!K494)","v":""},{"$f":"IF(Worksheet!L494=0,\"\",Worksheet!L494)","v":""},{"$f":"IF(Worksheet!M494=0,\"\",Worksheet!M494)","v":""},{"$f":"IF(Worksheet!N494=0,\"\",Worksheet!N494)","v":""},{"$f":"IF(Worksheet!P494=0,\"\",IF(OR(LEFT(B468,8)=\"LED Four\",LEFT(B468,8)=\"LED Tube\",LEFT(B468,8)=\"LED Mogu\",RIGHT(A468,2)=\"In\"),\"\",Worksheet!P494))","v":""},{"$f":"IF(Worksheet!R494=0,\"\",Worksheet!R494)","v":""},"",{"$f":"IF(Worksheet!Q494=0,\"\",Worksheet!Q494)","v":""},{"$f":"IF(OR(LEFT(B468,8)=\"LED Four\",LEFT(B468,8)=\"LED Tube\",LEFT(B468,8)=\"LED Mogu\",RIGHT(A468,2)=\"In\"),H468*Worksheet!V494,\"\")","v":""},{"$f":"IF(Worksheet!V494=0,\"\",IF(OR(LEFT(B468,8)=\"LED Four\",LEFT(B468,8)=\"LED Tube\",LEFT(B468,8)=\"LED Mogu\",RIGHT(A468,2)=\"In\"),\"\",Worksheet!V494))","v":""},"",{"$f":"IF(OR(LEFT(B468,8)=\"LED Four\",LEFT(B468,8)=\"LED Tube\",LEFT(B468,8)=\"LED Mogu\",RIGHT(A468,2)=\"In\"),H468*Worksheet!W494,\"\")","v":""},{"$f":"IF(Worksheet!W494=0,\"\",IF(OR(LEFT(B468,8)=\"LED Four\",LEFT(B468,8)=\"LED Tube\",LEFT(B468,8)=\"LED Mogu\",RIGHT(A468,2)=\"In\"),\"\",Worksheet!W494))","v":""},""]
[{"$f":"IF(Worksheet!K495=0,\"\",Worksheet!K495)","v":""},{"$f":"IF(Worksheet!L495=0,\"\",Worksheet!L495)","v":""},{"$f":"IF(Worksheet!M495=0,\"\",Worksheet!M495)","v":""},{"$f":"IF(Worksheet!N495=0,\"\",Worksheet!N495)","v":""},{"$f":"IF(Worksheet!P495=0,\"\",IF(OR(LEFT(B469,8)=\"LED Four\",LEFT(B469,8)=\"LED Tube\",LEFT(B469,8)=\"LED Mogu\",RIGHT(A469,2)=\"In\"),\"\",Worksheet!P495))","v":""},{"$f":"IF(Worksheet!R495=0,\"\",Worksheet!R495)","v":""},"",{"$f":"IF(Worksheet!Q495=0,\"\",Worksheet!Q495)","v":""},{"$f":"IF(OR(LEFT(B469,8)=\"LED Four\",LEFT(B469,8)=\"LED Tube\",LEFT(B469,8)=\"LED Mogu\",RIGHT(A469,2)=\"In\"),H469*Worksheet!V495,\"\")","v":""},{"$f":"IF(Worksheet!V495=0,\"\",IF(OR(LEFT(B469,8)=\"LED Four\",LEFT(B469,8)=\"LED Tube\",LEFT(B469,8)=\"LED Mogu\",RIGHT(A469,2)=\"In\"),\"\",Worksheet!V495))","v":""},"",{"$f":"IF(OR(LEFT(B469,8)=\"LED Four\",LEFT(B469,8)=\"LED Tube\",LEFT(B469,8)=\"LED Mogu\",RIGHT(A469,2)=\"In\"),H469*Worksheet!W495,\"\")","v":""},{"$f":"IF(Worksheet!W495=0,\"\",IF(OR(LEFT(B469,8)=\"LED Four\",LEFT(B469,8)=\"LED Tube\",LEFT(B469,8)=\"LED Mogu\",RIGHT(A469,2)=\"In\"),\"\",Worksheet!W495))","v":""},""]
[{"$f":"IF(Worksheet!K496=0,\"\",Worksheet!K496)","v":""},{"$f":"IF(Worksheet!L496=0,\"\",Worksheet!L496)","v":""},{"$f":"IF(Worksheet!M496=0,\"\",Worksheet!M496)","v":""},{"$f":"IF(Worksheet!N496=0,\"\",Worksheet!N496)","v":""},{"$f":"IF(Worksheet!P496=0,\"\",IF(OR(LEFT(B470,8)=\"LED Four\",LEFT(B470,8)=\"LED Tube\",LEFT(B470,8)=\"LED Mogu\",RIGHT(A470,2)=\"In\"),\"\",Worksheet!P496))","v":""},{"$f":"IF(Worksheet!R496=0,\"\",Worksheet!R496)","v":""},"",{"$f":"IF(Worksheet!Q496=0,\"\",Worksheet!Q496)","v":""},{"$f":"IF(OR(LEFT(B470,8)=\"LED Four\",LEFT(B470,8)=\"LED Tube\",LEFT(B470,8)=\"LED Mogu\",RIGHT(A470,2)=\"In\"),H470*Worksheet!V496,\"\")","v":""},{"$f":"IF(Worksheet!V496=0,\"\",IF(OR(LEFT(B470,8)=\"LED Four\",LEFT(B470,8)=\"LED Tube\",LEFT(B470,8)=\"LED Mogu\",RIGHT(A470,2)=\"In\"),\"\",Worksheet!V496))","v":""},"",{"$f":"IF(OR(LEFT(B470,8)=\"LED Four\",LEFT(B470,8)=\"LED Tube\",LEFT(B470,8)=\"LED Mogu\",RIGHT(A470,2)=\"In\"),H470*Worksheet!W496,\"\")","v":""},{"$f":"IF(Worksheet!W496=0,\"\",IF(OR(LEFT(B470,8)=\"LED Four\",LEFT(B470,8)=\"LED Tube\",LEFT(B470,8)=\"LED Mogu\",RIGHT(A470,2)=\"In\"),\"\",Worksheet!W496))","v":""},""]
[{"$f":"IF(Worksheet!K497=0,\"\",Worksheet!K497)","v":""},{"$f":"IF(Worksheet!L497=0,\"\",Worksheet!L497)","v":""},{"$f":"IF(Worksheet!M497=0,\"\",Worksheet!M497)","v":""},{"$f":"IF(Worksheet!N497=0,\"\",Worksheet!N497)","v":""},{"$f":"IF(Worksheet!P497=0,\"\",IF(OR(LEFT(B471,8)=\"LED Four\",LEFT(B471,8)=\"LED Tube\",LEFT(B471,8)=\"LED Mogu\",RIGHT(A471,2)=\"In\"),\"\",Worksheet!P497))","v":""},{"$f":"IF(Worksheet!R497=0,\"\",Worksheet!R497)","v":""},"",{"$f":"IF(Worksheet!Q497=0,\"\",Worksheet!Q497)","v":""},{"$f":"IF(OR(LEFT(B471,8)=\"LED Four\",LEFT(B471,8)=\"LED Tube\",LEFT(B471,8)=\"LED Mogu\",RIGHT(A471,2)=\"In\"),H471*Worksheet!V497,\"\")","v":""},{"$f":"IF(Worksheet!V497=0,\"\",IF(OR(LEFT(B471,8)=\"LED Four\",LEFT(B471,8)=\"LED Tube\",LEFT(B471,8)=\"LED Mogu\",RIGHT(A471,2)=\"In\"),\"\",Worksheet!V497))","v":""},"",{"$f":"IF(OR(LEFT(B471,8)=\"LED Four\",LEFT(B471,8)=\"LED Tube\",LEFT(B471,8)=\"LED Mogu\",RIGHT(A471,2)=\"In\"),H471*Worksheet!W497,\"\")","v":""},{"$f":"IF(Worksheet!W497=0,\"\",IF(OR(LEFT(B471,8)=\"LED Four\",LEFT(B471,8)=\"LED Tube\",LEFT(B471,8)=\"LED Mogu\",RIGHT(A471,2)=\"In\"),\"\",Worksheet!W497))","v":""},""]
[{"$f":"IF(Worksheet!K498=0,\"\",Worksheet!K498)","v":""},{"$f":"IF(Worksheet!L498=0,\"\",Worksheet!L498)","v":""},{"$f":"IF(Worksheet!M498=0,\"\",Worksheet!M498)","v":""},{"$f":"IF(Worksheet!N498=0,\"\",Worksheet!N498)","v":""},{"$f":"IF(Worksheet!P498=0,\"\",IF(OR(LEFT(B472,8)=\"LED Four\",LEFT(B472,8)=\"LED Tube\",LEFT(B472,8)=\"LED Mogu\",RIGHT(A472,2)=\"In\"),\"\",Worksheet!P498))","v":""},{"$f":"IF(Worksheet!R498=0,\"\",Worksheet!R498)","v":""},"",{"$f":"IF(Worksheet!Q498=0,\"\",Worksheet!Q498)","v":""},{"$f":"IF(OR(LEFT(B472,8)=\"LED Four\",LEFT(B472,8)=\"LED Tube\",LEFT(B472,8)=\"LED Mogu\",RIGHT(A472,2)=\"In\"),H472*Worksheet!V498,\"\")","v":""},{"$f":"IF(Worksheet!V498=0,\"\",IF(OR(LEFT(B472,8)=\"LED Four\",LEFT(B472,8)=\"LED Tube\",LEFT(B472,8)=\"LED Mogu\",RIGHT(A472,2)=\"In\"),\"\",Worksheet!V498))","v":""},"",{"$f":"IF(OR(LEFT(B472,8)=\"LED Four\",LEFT(B472,8)=\"LED Tube\",LEFT(B472,8)=\"LED Mogu\",RIGHT(A472,2)=\"In\"),H472*Worksheet!W498,\"\")","v":""},{"$f":"IF(Worksheet!W498=0,\"\",IF(OR(LEFT(B472,8)=\"LED Four\",LEFT(B472,8)=\"LED Tube\",LEFT(B472,8)=\"LED Mogu\",RIGHT(A472,2)=\"In\"),\"\",Worksheet!W498))","v":""},""]
[{"$f":"IF(Worksheet!K499=0,\"\",Worksheet!K499)","v":""},{"$f":"IF(Worksheet!L499=0,\"\",Worksheet!L499)","v":""},{"$f":"IF(Worksheet!M499=0,\"\",Worksheet!M499)","v":""},{"$f":"IF(Worksheet!N499=0,\"\",Worksheet!N499)","v":""},{"$f":"IF(Worksheet!P499=0,\"\",IF(OR(LEFT(B473,8)=\"LED Four\",LEFT(B473,8)=\"LED Tube\",LEFT(B473,8)=\"LED Mogu\",RIGHT(A473,2)=\"In\"),\"\",Worksheet!P499))","v":""},{"$f":"IF(Worksheet!R499=0,\"\",Worksheet!R499)","v":""},"",{"$f":"IF(Worksheet!Q499=0,\"\",Worksheet!Q499)","v":""},{"$f":"IF(OR(LEFT(B473,8)=\"LED Four\",LEFT(B473,8)=\"LED Tube\",LEFT(B473,8)=\"LED Mogu\",RIGHT(A473,2)=\"In\"),H473*Worksheet!V499,\"\")","v":""},{"$f":"IF(Worksheet!V499=0,\"\",IF(OR(LEFT(B473,8)=\"LED Four\",LEFT(B473,8)=\"LED Tube\",LEFT(B473,8)=\"LED Mogu\",RIGHT(A473,2)=\"In\"),\"\",Worksheet!V499))","v":""},"",{"$f":"IF(OR(LEFT(B473,8)=\"LED Four\",LEFT(B473,8)=\"LED Tube\",LEFT(B473,8)=\"LED Mogu\",RIGHT(A473,2)=\"In\"),H473*Worksheet!W499,\"\")","v":""},{"$f":"IF(Worksheet!W499=0,\"\",IF(OR(LEFT(B473,8)=\"LED Four\",LEFT(B473,8)=\"LED Tube\",LEFT(B473,8)=\"LED Mogu\",RIGHT(A473,2)=\"In\"),\"\",Worksheet!W499))","v":""},""]
[{"$f":"IF(Worksheet!K500=0,\"\",Worksheet!K500)","v":""},{"$f":"IF(Worksheet!L500=0,\"\",Worksheet!L500)","v":""},{"$f":"IF(Worksheet!M500=0,\"\",Worksheet!M500)","v":""},{"$f":"IF(Worksheet!N500=0,\"\",Worksheet!N500)","v":""},{"$f":"IF(Worksheet!P500=0,\"\",IF(OR(LEFT(B474,8)=\"LED Four\",LEFT(B474,8)=\"LED Tube\",LEFT(B474,8)=\"LED Mogu\",RIGHT(A474,2)=\"In\"),\"\",Worksheet!P500))","v":""},{"$f":"IF(Worksheet!R500=0,\"\",Worksheet!R500)","v":""},"",{"$f":"IF(Worksheet!Q500=0,\"\",Worksheet!Q500)","v":""},{"$f":"IF(OR(LEFT(B474,8)=\"LED Four\",LEFT(B474,8)=\"LED Tube\",LEFT(B474,8)=\"LED Mogu\",RIGHT(A474,2)=\"In\"),H474*Worksheet!V500,\"\")","v":""},{"$f":"IF(Worksheet!V500=0,\"\",IF(OR(LEFT(B474,8)=\"LED Four\",LEFT(B474,8)=\"LED Tube\",LEFT(B474,8)=\"LED Mogu\",RIGHT(A474,2)=\"In\"),\"\",Worksheet!V500))","v":""},"",{"$f":"IF(OR(LEFT(B474,8)=\"LED Four\",LEFT(B474,8)=\"LED Tube\",LEFT(B474,8)=\"LED Mogu\",RIGHT(A474,2)=\"In\"),H474*Worksheet!W500,\"\")","v":""},{"$f":"IF(Worksheet!W500=0,\"\",IF(OR(LEFT(B474,8)=\"LED Four\",LEFT(B474,8)=\"LED Tube\",LEFT(B474,8)=\"LED Mogu\",RIGHT(A474,2)=\"In\"),\"\",Worksheet!W500))","v":""},""]
[{"$f":"IF(Worksheet!K501=0,\"\",Worksheet!K501)","v":""},{"$f":"IF(Worksheet!L501=0,\"\",Worksheet!L501)","v":""},{"$f":"IF(Worksheet!M501=0,\"\",Worksheet!M501)","v":""},{"$f":"IF(Worksheet!N501=0,\"\",Worksheet!N501)","v":""},{"$f":"IF(Worksheet!P501=0,\"\",IF(OR(LEFT(B475,8)=\"LED Four\",LEFT(B475,8)=\"LED Tube\",LEFT(B475,8)=\"LED Mogu\",RIGHT(A475,2)=\"In\"),\"\",Worksheet!P501))","v":""},{"$f":"IF(Worksheet!R501=0,\"\",Worksheet!R501)","v":""},"",{"$f":"IF(Worksheet!Q501=0,\"\",Worksheet!Q501)","v":""},{"$f":"IF(OR(LEFT(B475,8)=\"LED Four\",LEFT(B475,8)=\"LED Tube\",LEFT(B475,8)=\"LED Mogu\",RIGHT(A475,2)=\"In\"),H475*Worksheet!V501,\"\")","v":""},{"$f":"IF(Worksheet!V501=0,\"\",IF(OR(LEFT(B475,8)=\"LED Four\",LEFT(B475,8)=\"LED Tube\",LEFT(B475,8)=\"LED Mogu\",RIGHT(A475,2)=\"In\"),\"\",Worksheet!V501))","v":""},"",{"$f":"IF(OR(LEFT(B475,8)=\"LED Four\",LEFT(B475,8)=\"LED Tube\",LEFT(B475,8)=\"LED Mogu\",RIGHT(A475,2)=\"In\"),H475*Worksheet!W501,\"\")","v":""},{"$f":"IF(Worksheet!W501=0,\"\",IF(OR(LEFT(B475,8)=\"LED Four\",LEFT(B475,8)=\"LED Tube\",LEFT(B475,8)=\"LED Mogu\",RIGHT(A475,2)=\"In\"),\"\",Worksheet!W501))","v":""},""]
[{"$f":"IF(Worksheet!K502=0,\"\",Worksheet!K502)","v":""},{"$f":"IF(Worksheet!L502=0,\"\",Worksheet!L502)","v":""},{"$f":"IF(Worksheet!M502=0,\"\",Worksheet!M502)","v":""},{"$f":"IF(Worksheet!N502=0,\"\",Worksheet!N502)","v":""},{"$f":"IF(Worksheet!P502=0,\"\",IF(OR(LEFT(B476,8)=\"LED Four\",LEFT(B476,8)=\"LED Tube\",LEFT(B476,8)=\"LED Mogu\",RIGHT(A476,2)=\"In\"),\"\",Worksheet!P502))","v":""},{"$f":"IF(Worksheet!R502=0,\"\",Worksheet!R502)","v":""},"",{"$f":"IF(Worksheet!Q502=0,\"\",Worksheet!Q502)","v":""},{"$f":"IF(OR(LEFT(B476,8)=\"LED Four\",LEFT(B476,8)=\"LED Tube\",LEFT(B476,8)=\"LED Mogu\",RIGHT(A476,2)=\"In\"),H476*Worksheet!V502,\"\")","v":""},{"$f":"IF(Worksheet!V502=0,\"\",IF(OR(LEFT(B476,8)=\"LED Four\",LEFT(B476,8)=\"LED Tube\",LEFT(B476,8)=\"LED Mogu\",RIGHT(A476,2)=\"In\"),\"\",Worksheet!V502))","v":""},"",{"$f":"IF(OR(LEFT(B476,8)=\"LED Four\",LEFT(B476,8)=\"LED Tube\",LEFT(B476,8)=\"LED Mogu\",RIGHT(A476,2)=\"In\"),H476*Worksheet!W502,\"\")","v":""},{"$f":"IF(Worksheet!W502=0,\"\",IF(OR(LEFT(B476,8)=\"LED Four\",LEFT(B476,8)=\"LED Tube\",LEFT(B476,8)=\"LED Mogu\",RIGHT(A476,2)=\"In\"),\"\",Worksheet!W502))","v":""},""]
[{"$f":"IF(Worksheet!K503=0,\"\",Worksheet!K503)","v":""},{"$f":"IF(Worksheet!L503=0,\"\",Worksheet!L503)","v":""},{"$f":"IF(Worksheet!M503=0,\"\",Worksheet!M503)","v":""},{"$f":"IF(Worksheet!N503=0,\"\",Worksheet!N503)","v":""},{"$f":"IF(Worksheet!P503=0,\"\",IF(OR(LEFT(B477,8)=\"LED Four\",LEFT(B477,8)=\"LED Tube\",LEFT(B477,8)=\"LED Mogu\",RIGHT(A477,2)=\"In\"),\"\",Worksheet!P503))","v":""},{"$f":"IF(Worksheet!R503=0,\"\",Worksheet!R503)","v":""},"",{"$f":"IF(Worksheet!Q503=0,\"\",Worksheet!Q503)","v":""},{"$f":"IF(OR(LEFT(B477,8)=\"LED Four\",LEFT(B477,8)=\"LED Tube\",LEFT(B477,8)=\"LED Mogu\",RIGHT(A477,2)=\"In\"),H477*Worksheet!V503,\"\")","v":""},{"$f":"IF(Worksheet!V503=0,\"\",IF(OR(LEFT(B477,8)=\"LED Four\",LEFT(B477,8)=\"LED Tube\",LEFT(B477,8)=\"LED Mogu\",RIGHT(A477,2)=\"In\"),\"\",Worksheet!V503))","v":""},"",{"$f":"IF(OR(LEFT(B477,8)=\"LED Four\",LEFT(B477,8)=\"LED Tube\",LEFT(B477,8)=\"LED Mogu\",RIGHT(A477,2)=\"In\"),H477*Worksheet!W503,\"\")","v":""},{"$f":"IF(Worksheet!W503=0,\"\",IF(OR(LEFT(B477,8)=\"LED Four\",LEFT(B477,8)=\"LED Tube\",LEFT(B477,8)=\"LED Mogu\",RIGHT(A477,2)=\"In\"),\"\",Worksheet!W503))","v":""},""]
[{"$f":"IF(Worksheet!K504=0,\"\",Worksheet!K504)","v":""},{"$f":"IF(Worksheet!L504=0,\"\",Worksheet!L504)","v":""},{"$f":"IF(Worksheet!M504=0,\"\",Worksheet!M504)","v":""},{"$f":"IF(Worksheet!N504=0,\"\",Worksheet!N504)","v":""},{"$f":"IF(Worksheet!P504=0,\"\",IF(OR(LEFT(B478,8)=\"LED Four\",LEFT(B478,8)=\"LED Tube\",LEFT(B478,8)=\"LED Mogu\",RIGHT(A478,2)=\"In\"),\"\",Worksheet!P504))","v":""},{"$f":"IF(Worksheet!R504=0,\"\",Worksheet!R504)","v":""},"",{"$f":"IF(Worksheet!Q504=0,\"\",Worksheet!Q504)","v":""},{"$f":"IF(OR(LEFT(B478,8)=\"LED Four\",LEFT(B478,8)=\"LED Tube\",LEFT(B478,8)=\"LED Mogu\",RIGHT(A478,2)=\"In\"),H478*Worksheet!V504,\"\")","v":""},{"$f":"IF(Worksheet!V504=0,\"\",IF(OR(LEFT(B478,8)=\"LED Four\",LEFT(B478,8)=\"LED Tube\",LEFT(B478,8)=\"LED Mogu\",RIGHT(A478,2)=\"In\"),\"\",Worksheet!V504))","v":""},"",{"$f":"IF(OR(LEFT(B478,8)=\"LED Four\",LEFT(B478,8)=\"LED Tube\",LEFT(B478,8)=\"LED Mogu\",RIGHT(A478,2)=\"In\"),H478*Worksheet!W504,\"\")","v":""},{"$f":"IF(Worksheet!W504=0,\"\",IF(OR(LEFT(B478,8)=\"LED Four\",LEFT(B478,8)=\"LED Tube\",LEFT(B478,8)=\"LED Mogu\",RIGHT(A478,2)=\"In\"),\"\",Worksheet!W504))","v":""},""]
[{"$f":"IF(Worksheet!K505=0,\"\",Worksheet!K505)","v":""},{"$f":"IF(Worksheet!L505=0,\"\",Worksheet!L505)","v":""},{"$f":"IF(Worksheet!M505=0,\"\",Worksheet!M505)","v":""},{"$f":"IF(Worksheet!N505=0,\"\",Worksheet!N505)","v":""},{"$f":"IF(Worksheet!P505=0,\"\",IF(OR(LEFT(B479,8)=\"LED Four\",LEFT(B479,8)=\"LED Tube\",LEFT(B479,8)=\"LED Mogu\",RIGHT(A479,2)=\"In\"),\"\",Worksheet!P505))","v":""},{"$f":"IF(Worksheet!R505=0,\"\",Worksheet!R505)","v":""},"",{"$f":"IF(Worksheet!Q505=0,\"\",Worksheet!Q505)","v":""},{"$f":"IF(OR(LEFT(B479,8)=\"LED Four\",LEFT(B479,8)=\"LED Tube\",LEFT(B479,8)=\"LED Mogu\",RIGHT(A479,2)=\"In\"),H479*Worksheet!V505,\"\")","v":""},{"$f":"IF(Worksheet!V505=0,\"\",IF(OR(LEFT(B479,8)=\"LED Four\",LEFT(B479,8)=\"LED Tube\",LEFT(B479,8)=\"LED Mogu\",RIGHT(A479,2)=\"In\"),\"\",Worksheet!V505))","v":""},"",{"$f":"IF(OR(LEFT(B479,8)=\"LED Four\",LEFT(B479,8)=\"LED Tube\",LEFT(B479,8)=\"LED Mogu\",RIGHT(A479,2)=\"In\"),H479*Worksheet!W505,\"\")","v":""},{"$f":"IF(Worksheet!W505=0,\"\",IF(OR(LEFT(B479,8)=\"LED Four\",LEFT(B479,8)=\"LED Tube\",LEFT(B479,8)=\"LED Mogu\",RIGHT(A479,2)=\"In\"),\"\",Worksheet!W505))","v":""},""]
[{"$f":"IF(Worksheet!K506=0,\"\",Worksheet!K506)","v":""},{"$f":"IF(Worksheet!L506=0,\"\",Worksheet!L506)","v":""},{"$f":"IF(Worksheet!M506=0,\"\",Worksheet!M506)","v":""},{"$f":"IF(Worksheet!N506=0,\"\",Worksheet!N506)","v":""},{"$f":"IF(Worksheet!P506=0,\"\",IF(OR(LEFT(B480,8)=\"LED Four\",LEFT(B480,8)=\"LED Tube\",LEFT(B480,8)=\"LED Mogu\",RIGHT(A480,2)=\"In\"),\"\",Worksheet!P506))","v":""},{"$f":"IF(Worksheet!R506=0,\"\",Worksheet!R506)","v":""},"",{"$f":"IF(Worksheet!Q506=0,\"\",Worksheet!Q506)","v":""},{"$f":"IF(OR(LEFT(B480,8)=\"LED Four\",LEFT(B480,8)=\"LED Tube\",LEFT(B480,8)=\"LED Mogu\",RIGHT(A480,2)=\"In\"),H480*Worksheet!V506,\"\")","v":""},{"$f":"IF(Worksheet!V506=0,\"\",IF(OR(LEFT(B480,8)=\"LED Four\",LEFT(B480,8)=\"LED Tube\",LEFT(B480,8)=\"LED Mogu\",RIGHT(A480,2)=\"In\"),\"\",Worksheet!V506))","v":""},"",{"$f":"IF(OR(LEFT(B480,8)=\"LED Four\",LEFT(B480,8)=\"LED Tube\",LEFT(B480,8)=\"LED Mogu\",RIGHT(A480,2)=\"In\"),H480*Worksheet!W506,\"\")","v":""},{"$f":"IF(Worksheet!W506=0,\"\",IF(OR(LEFT(B480,8)=\"LED Four\",LEFT(B480,8)=\"LED Tube\",LEFT(B480,8)=\"LED Mogu\",RIGHT(A480,2)=\"In\"),\"\",Worksheet!W506))","v":""},""]
[{"$f":"IF(Worksheet!K507=0,\"\",Worksheet!K507)","v":""},{"$f":"IF(Worksheet!L507=0,\"\",Worksheet!L507)","v":""},{"$f":"IF(Worksheet!M507=0,\"\",Worksheet!M507)","v":""},{"$f":"IF(Worksheet!N507=0,\"\",Worksheet!N507)","v":""},{"$f":"IF(Worksheet!P507=0,\"\",IF(OR(LEFT(B481,8)=\"LED Four\",LEFT(B481,8)=\"LED Tube\",LEFT(B481,8)=\"LED Mogu\",RIGHT(A481,2)=\"In\"),\"\",Worksheet!P507))","v":""},{"$f":"IF(Worksheet!R507=0,\"\",Worksheet!R507)","v":""},"",{"$f":"IF(Worksheet!Q507=0,\"\",Worksheet!Q507)","v":""},{"$f":"IF(OR(LEFT(B481,8)=\"LED Four\",LEFT(B481,8)=\"LED Tube\",LEFT(B481,8)=\"LED Mogu\",RIGHT(A481,2)=\"In\"),H481*Worksheet!V507,\"\")","v":""},{"$f":"IF(Worksheet!V507=0,\"\",IF(OR(LEFT(B481,8)=\"LED Four\",LEFT(B481,8)=\"LED Tube\",LEFT(B481,8)=\"LED Mogu\",RIGHT(A481,2)=\"In\"),\"\",Worksheet!V507))","v":""},"",{"$f":"IF(OR(LEFT(B481,8)=\"LED Four\",LEFT(B481,8)=\"LED Tube\",LEFT(B481,8)=\"LED Mogu\",RIGHT(A481,2)=\"In\"),H481*Worksheet!W507,\"\")","v":""},{"$f":"IF(Worksheet!W507=0,\"\",IF(OR(LEFT(B481,8)=\"LED Four\",LEFT(B481,8)=\"LED Tube\",LEFT(B481,8)=\"LED Mogu\",RIGHT(A481,2)=\"In\"),\"\",Worksheet!W507))","v":""},""]
[{"$f":"IF(Worksheet!K508=0,\"\",Worksheet!K508)","v":""},{"$f":"IF(Worksheet!L508=0,\"\",Worksheet!L508)","v":""},{"$f":"IF(Worksheet!M508=0,\"\",Worksheet!M508)","v":""},{"$f":"IF(Worksheet!N508=0,\"\",Worksheet!N508)","v":""},{"$f":"IF(Worksheet!P508=0,\"\",IF(OR(LEFT(B482,8)=\"LED Four\",LEFT(B482,8)=\"LED Tube\",LEFT(B482,8)=\"LED Mogu\",RIGHT(A482,2)=\"In\"),\"\",Worksheet!P508))","v":""},{"$f":"IF(Worksheet!R508=0,\"\",Worksheet!R508)","v":""},"",{"$f":"IF(Worksheet!Q508=0,\"\",Worksheet!Q508)","v":""},{"$f":"IF(OR(LEFT(B482,8)=\"LED Four\",LEFT(B482,8)=\"LED Tube\",LEFT(B482,8)=\"LED Mogu\",RIGHT(A482,2)=\"In\"),H482*Worksheet!V508,\"\")","v":""},{"$f":"IF(Worksheet!V508=0,\"\",IF(OR(LEFT(B482,8)=\"LED Four\",LEFT(B482,8)=\"LED Tube\",LEFT(B482,8)=\"LED Mogu\",RIGHT(A482,2)=\"In\"),\"\",Worksheet!V508))","v":""},"",{"$f":"IF(OR(LEFT(B482,8)=\"LED Four\",LEFT(B482,8)=\"LED Tube\",LEFT(B482,8)=\"LED Mogu\",RIGHT(A482,2)=\"In\"),H482*Worksheet!W508,\"\")","v":""},{"$f":"IF(Worksheet!W508=0,\"\",IF(OR(LEFT(B482,8)=\"LED Four\",LEFT(B482,8)=\"LED Tube\",LEFT(B482,8)=\"LED Mogu\",RIGHT(A482,2)=\"In\"),\"\",Worksheet!W508))","v":""},""]
[{"$f":"IF(Worksheet!K509=0,\"\",Worksheet!K509)","v":""},{"$f":"IF(Worksheet!L509=0,\"\",Worksheet!L509)","v":""},{"$f":"IF(Worksheet!M509=0,\"\",Worksheet!M509)","v":""},{"$f":"IF(Worksheet!N509=0,\"\",Worksheet!N509)","v":""},{"$f":"IF(Worksheet!P509=0,\"\",IF(OR(LEFT(B483,8)=\"LED Four\",LEFT(B483,8)=\"LED Tube\",LEFT(B483,8)=\"LED Mogu\",RIGHT(A483,2)=\"In\"),\"\",Worksheet!P509))","v":""},{"$f":"IF(Worksheet!R509=0,\"\",Worksheet!R509)","v":""},"",{"$f":"IF(Worksheet!Q509=0,\"\",Worksheet!Q509)","v":""},{"$f":"IF(OR(LEFT(B483,8)=\"LED Four\",LEFT(B483,8)=\"LED Tube\",LEFT(B483,8)=\"LED Mogu\",RIGHT(A483,2)=\"In\"),H483*Worksheet!V509,\"\")","v":""},{"$f":"IF(Worksheet!V509=0,\"\",IF(OR(LEFT(B483,8)=\"LED Four\",LEFT(B483,8)=\"LED Tube\",LEFT(B483,8)=\"LED Mogu\",RIGHT(A483,2)=\"In\"),\"\",Worksheet!V509))","v":""},"",{"$f":"IF(OR(LEFT(B483,8)=\"LED Four\",LEFT(B483,8)=\"LED Tube\",LEFT(B483,8)=\"LED Mogu\",RIGHT(A483,2)=\"In\"),H483*Worksheet!W509,\"\")","v":""},{"$f":"IF(Worksheet!W509=0,\"\",IF(OR(LEFT(B483,8)=\"LED Four\",LEFT(B483,8)=\"LED Tube\",LEFT(B483,8)=\"LED Mogu\",RIGHT(A483,2)=\"In\"),\"\",Worksheet!W509))","v":""},""]
[{"$f":"IF(Worksheet!K510=0,\"\",Worksheet!K510)","v":""},{"$f":"IF(Worksheet!L510=0,\"\",Worksheet!L510)","v":""},{"$f":"IF(Worksheet!M510=0,\"\",Worksheet!M510)","v":""},{"$f":"IF(Worksheet!N510=0,\"\",Worksheet!N510)","v":""},{"$f":"IF(Worksheet!P510=0,\"\",IF(OR(LEFT(B484,8)=\"LED Four\",LEFT(B484,8)=\"LED Tube\",LEFT(B484,8)=\"LED Mogu\",RIGHT(A484,2)=\"In\"),\"\",Worksheet!P510))","v":""},{"$f":"IF(Worksheet!R510=0,\"\",Worksheet!R510)","v":""},"",{"$f":"IF(Worksheet!Q510=0,\"\",Worksheet!Q510)","v":""},{"$f":"IF(OR(LEFT(B484,8)=\"LED Four\",LEFT(B484,8)=\"LED Tube\",LEFT(B484,8)=\"LED Mogu\",RIGHT(A484,2)=\"In\"),H484*Worksheet!V510,\"\")","v":""},{"$f":"IF(Worksheet!V510=0,\"\",IF(OR(LEFT(B484,8)=\"LED Four\",LEFT(B484,8)=\"LED Tube\",LEFT(B484,8)=\"LED Mogu\",RIGHT(A484,2)=\"In\"),\"\",Worksheet!V510))","v":""},"",{"$f":"IF(OR(LEFT(B484,8)=\"LED Four\",LEFT(B484,8)=\"LED Tube\",LEFT(B484,8)=\"LED Mogu\",RIGHT(A484,2)=\"In\"),H484*Worksheet!W510,\"\")","v":""},{"$f":"IF(Worksheet!W510=0,\"\",IF(OR(LEFT(B484,8)=\"LED Four\",LEFT(B484,8)=\"LED Tube\",LEFT(B484,8)=\"LED Mogu\",RIGHT(A484,2)=\"In\"),\"\",Worksheet!W510))","v":""},""]
[{"$f":"IF(Worksheet!K511=0,\"\",Worksheet!K511)","v":""},{"$f":"IF(Worksheet!L511=0,\"\",Worksheet!L511)","v":""},{"$f":"IF(Worksheet!M511=0,\"\",Worksheet!M511)","v":""},{"$f":"IF(Worksheet!N511=0,\"\",Worksheet!N511)","v":""},{"$f":"IF(Worksheet!P511=0,\"\",IF(OR(LEFT(B485,8)=\"LED Four\",LEFT(B485,8)=\"LED Tube\",LEFT(B485,8)=\"LED Mogu\",RIGHT(A485,2)=\"In\"),\"\",Worksheet!P511))","v":""},{"$f":"IF(Worksheet!R511=0,\"\",Worksheet!R511)","v":""},"",{"$f":"IF(Worksheet!Q511=0,\"\",Worksheet!Q511)","v":""},{"$f":"IF(OR(LEFT(B485,8)=\"LED Four\",LEFT(B485,8)=\"LED Tube\",LEFT(B485,8)=\"LED Mogu\",RIGHT(A485,2)=\"In\"),H485*Worksheet!V511,\"\")","v":""},{"$f":"IF(Worksheet!V511=0,\"\",IF(OR(LEFT(B485,8)=\"LED Four\",LEFT(B485,8)=\"LED Tube\",LEFT(B485,8)=\"LED Mogu\",RIGHT(A485,2)=\"In\"),\"\",Worksheet!V511))","v":""},"",{"$f":"IF(OR(LEFT(B485,8)=\"LED Four\",LEFT(B485,8)=\"LED Tube\",LEFT(B485,8)=\"LED Mogu\",RIGHT(A485,2)=\"In\"),H485*Worksheet!W511,\"\")","v":""},{"$f":"IF(Worksheet!W511=0,\"\",IF(OR(LEFT(B485,8)=\"LED Four\",LEFT(B485,8)=\"LED Tube\",LEFT(B485,8)=\"LED Mogu\",RIGHT(A485,2)=\"In\"),\"\",Worksheet!W511))","v":""},""]
[{"$f":"IF(Worksheet!K512=0,\"\",Worksheet!K512)","v":""},{"$f":"IF(Worksheet!L512=0,\"\",Worksheet!L512)","v":""},{"$f":"IF(Worksheet!M512=0,\"\",Worksheet!M512)","v":""},{"$f":"IF(Worksheet!N512=0,\"\",Worksheet!N512)","v":""},{"$f":"IF(Worksheet!P512=0,\"\",IF(OR(LEFT(B486,8)=\"LED Four\",LEFT(B486,8)=\"LED Tube\",LEFT(B486,8)=\"LED Mogu\",RIGHT(A486,2)=\"In\"),\"\",Worksheet!P512))","v":""},{"$f":"IF(Worksheet!R512=0,\"\",Worksheet!R512)","v":""},"",{"$f":"IF(Worksheet!Q512=0,\"\",Worksheet!Q512)","v":""},{"$f":"IF(OR(LEFT(B486,8)=\"LED Four\",LEFT(B486,8)=\"LED Tube\",LEFT(B486,8)=\"LED Mogu\",RIGHT(A486,2)=\"In\"),H486*Worksheet!V512,\"\")","v":""},{"$f":"IF(Worksheet!V512=0,\"\",IF(OR(LEFT(B486,8)=\"LED Four\",LEFT(B486,8)=\"LED Tube\",LEFT(B486,8)=\"LED Mogu\",RIGHT(A486,2)=\"In\"),\"\",Worksheet!V512))","v":""},"",{"$f":"IF(OR(LEFT(B486,8)=\"LED Four\",LEFT(B486,8)=\"LED Tube\",LEFT(B486,8)=\"LED Mogu\",RIGHT(A486,2)=\"In\"),H486*Worksheet!W512,\"\")","v":""},{"$f":"IF(Worksheet!W512=0,\"\",IF(OR(LEFT(B486,8)=\"LED Four\",LEFT(B486,8)=\"LED Tube\",LEFT(B486,8)=\"LED Mogu\",RIGHT(A486,2)=\"In\"),\"\",Worksheet!W512))","v":""},""]
[{"$f":"IF(Worksheet!K513=0,\"\",Worksheet!K513)","v":""},{"$f":"IF(Worksheet!L513=0,\"\",Worksheet!L513)","v":""},{"$f":"IF(Worksheet!M513=0,\"\",Worksheet!M513)","v":""},{"$f":"IF(Worksheet!N513=0,\"\",Worksheet!N513)","v":""},{"$f":"IF(Worksheet!P513=0,\"\",IF(OR(LEFT(B487,8)=\"LED Four\",LEFT(B487,8)=\"LED Tube\",LEFT(B487,8)=\"LED Mogu\",RIGHT(A487,2)=\"In\"),\"\",Worksheet!P513))","v":""},{"$f":"IF(Worksheet!R513=0,\"\",Worksheet!R513)","v":""},"",{"$f":"IF(Worksheet!Q513=0,\"\",Worksheet!Q513)","v":""},{"$f":"IF(OR(LEFT(B487,8)=\"LED Four\",LEFT(B487,8)=\"LED Tube\",LEFT(B487,8)=\"LED Mogu\",RIGHT(A487,2)=\"In\"),H487*Worksheet!V513,\"\")","v":""},{"$f":"IF(Worksheet!V513=0,\"\",IF(OR(LEFT(B487,8)=\"LED Four\",LEFT(B487,8)=\"LED Tube\",LEFT(B487,8)=\"LED Mogu\",RIGHT(A487,2)=\"In\"),\"\",Worksheet!V513))","v":""},"",{"$f":"IF(OR(LEFT(B487,8)=\"LED Four\",LEFT(B487,8)=\"LED Tube\",LEFT(B487,8)=\"LED Mogu\",RIGHT(A487,2)=\"In\"),H487*Worksheet!W513,\"\")","v":""},{"$f":"IF(Worksheet!W513=0,\"\",IF(OR(LEFT(B487,8)=\"LED Four\",LEFT(B487,8)=\"LED Tube\",LEFT(B487,8)=\"LED Mogu\",RIGHT(A487,2)=\"In\"),\"\",Worksheet!W513))","v":""},""]
[{"$f":"IF(Worksheet!K514=0,\"\",Worksheet!K514)","v":""},{"$f":"IF(Worksheet!L514=0,\"\",Worksheet!L514)","v":""},{"$f":"IF(Worksheet!M514=0,\"\",Worksheet!M514)","v":""},{"$f":"IF(Worksheet!N514=0,\"\",Worksheet!N514)","v":""},{"$f":"IF(Worksheet!P514=0,\"\",IF(OR(LEFT(B488,8)=\"LED Four\",LEFT(B488,8)=\"LED Tube\",LEFT(B488,8)=\"LED Mogu\",RIGHT(A488,2)=\"In\"),\"\",Worksheet!P514))","v":""},{"$f":"IF(Worksheet!R514=0,\"\",Worksheet!R514)","v":""},"",{"$f":"IF(Worksheet!Q514=0,\"\",Worksheet!Q514)","v":""},{"$f":"IF(OR(LEFT(B488,8)=\"LED Four\",LEFT(B488,8)=\"LED Tube\",LEFT(B488,8)=\"LED Mogu\",RIGHT(A488,2)=\"In\"),H488*Worksheet!V514,\"\")","v":""},{"$f":"IF(Worksheet!V514=0,\"\",IF(OR(LEFT(B488,8)=\"LED Four\",LEFT(B488,8)=\"LED Tube\",LEFT(B488,8)=\"LED Mogu\",RIGHT(A488,2)=\"In\"),\"\",Worksheet!V514))","v":""},"",{"$f":"IF(OR(LEFT(B488,8)=\"LED Four\",LEFT(B488,8)=\"LED Tube\",LEFT(B488,8)=\"LED Mogu\",RIGHT(A488,2)=\"In\"),H488*Worksheet!W514,\"\")","v":""},{"$f":"IF(Worksheet!W514=0,\"\",IF(OR(LEFT(B488,8)=\"LED Four\",LEFT(B488,8)=\"LED Tube\",LEFT(B488,8)=\"LED Mogu\",RIGHT(A488,2)=\"In\"),\"\",Worksheet!W514))","v":""},""]
[{"$f":"IF(Worksheet!K515=0,\"\",Worksheet!K515)","v":""},{"$f":"IF(Worksheet!L515=0,\"\",Worksheet!L515)","v":""},{"$f":"IF(Worksheet!M515=0,\"\",Worksheet!M515)","v":""},{"$f":"IF(Worksheet!N515=0,\"\",Worksheet!N515)","v":""},{"$f":"IF(Worksheet!P515=0,\"\",IF(OR(LEFT(B489,8)=\"LED Four\",LEFT(B489,8)=\"LED Tube\",LEFT(B489,8)=\"LED Mogu\",RIGHT(A489,2)=\"In\"),\"\",Worksheet!P515))","v":""},{"$f":"IF(Worksheet!R515=0,\"\",Worksheet!R515)","v":""},"",{"$f":"IF(Worksheet!Q515=0,\"\",Worksheet!Q515)","v":""},{"$f":"IF(OR(LEFT(B489,8)=\"LED Four\",LEFT(B489,8)=\"LED Tube\",LEFT(B489,8)=\"LED Mogu\",RIGHT(A489,2)=\"In\"),H489*Worksheet!V515,\"\")","v":""},{"$f":"IF(Worksheet!V515=0,\"\",IF(OR(LEFT(B489,8)=\"LED Four\",LEFT(B489,8)=\"LED Tube\",LEFT(B489,8)=\"LED Mogu\",RIGHT(A489,2)=\"In\"),\"\",Worksheet!V515))","v":""},"",{"$f":"IF(OR(LEFT(B489,8)=\"LED Four\",LEFT(B489,8)=\"LED Tube\",LEFT(B489,8)=\"LED Mogu\",RIGHT(A489,2)=\"In\"),H489*Worksheet!W515,\"\")","v":""},{"$f":"IF(Worksheet!W515=0,\"\",IF(OR(LEFT(B489,8)=\"LED Four\",LEFT(B489,8)=\"LED Tube\",LEFT(B489,8)=\"LED Mogu\",RIGHT(A489,2)=\"In\"),\"\",Worksheet!W515))","v":""},""]
[{"$f":"IF(Worksheet!K516=0,\"\",Worksheet!K516)","v":""},{"$f":"IF(Worksheet!L516=0,\"\",Worksheet!L516)","v":""},{"$f":"IF(Worksheet!M516=0,\"\",Worksheet!M516)","v":""},{"$f":"IF(Worksheet!N516=0,\"\",Worksheet!N516)","v":""},{"$f":"IF(Worksheet!P516=0,\"\",IF(OR(LEFT(B490,8)=\"LED Four\",LEFT(B490,8)=\"LED Tube\",LEFT(B490,8)=\"LED Mogu\",RIGHT(A490,2)=\"In\"),\"\",Worksheet!P516))","v":""},{"$f":"IF(Worksheet!R516=0,\"\",Worksheet!R516)","v":""},"",{"$f":"IF(Worksheet!Q516=0,\"\",Worksheet!Q516)","v":""},{"$f":"IF(OR(LEFT(B490,8)=\"LED Four\",LEFT(B490,8)=\"LED Tube\",LEFT(B490,8)=\"LED Mogu\",RIGHT(A490,2)=\"In\"),H490*Worksheet!V516,\"\")","v":""},{"$f":"IF(Worksheet!V516=0,\"\",IF(OR(LEFT(B490,8)=\"LED Four\",LEFT(B490,8)=\"LED Tube\",LEFT(B490,8)=\"LED Mogu\",RIGHT(A490,2)=\"In\"),\"\",Worksheet!V516))","v":""},"",{"$f":"IF(OR(LEFT(B490,8)=\"LED Four\",LEFT(B490,8)=\"LED Tube\",LEFT(B490,8)=\"LED Mogu\",RIGHT(A490,2)=\"In\"),H490*Worksheet!W516,\"\")","v":""},{"$f":"IF(Worksheet!W516=0,\"\",IF(OR(LEFT(B490,8)=\"LED Four\",LEFT(B490,8)=\"LED Tube\",LEFT(B490,8)=\"LED Mogu\",RIGHT(A490,2)=\"In\"),\"\",Worksheet!W516))","v":""},""]
[{"$f":"IF(Worksheet!K517=0,\"\",Worksheet!K517)","v":""},{"$f":"IF(Worksheet!L517=0,\"\",Worksheet!L517)","v":""},{"$f":"IF(Worksheet!M517=0,\"\",Worksheet!M517)","v":""},{"$f":"IF(Worksheet!N517=0,\"\",Worksheet!N517)","v":""},{"$f":"IF(Worksheet!P517=0,\"\",IF(OR(LEFT(B491,8)=\"LED Four\",LEFT(B491,8)=\"LED Tube\",LEFT(B491,8)=\"LED Mogu\",RIGHT(A491,2)=\"In\"),\"\",Worksheet!P517))","v":""},{"$f":"IF(Worksheet!R517=0,\"\",Worksheet!R517)","v":""},"",{"$f":"IF(Worksheet!Q517=0,\"\",Worksheet!Q517)","v":""},{"$f":"IF(OR(LEFT(B491,8)=\"LED Four\",LEFT(B491,8)=\"LED Tube\",LEFT(B491,8)=\"LED Mogu\",RIGHT(A491,2)=\"In\"),H491*Worksheet!V517,\"\")","v":""},{"$f":"IF(Worksheet!V517=0,\"\",IF(OR(LEFT(B491,8)=\"LED Four\",LEFT(B491,8)=\"LED Tube\",LEFT(B491,8)=\"LED Mogu\",RIGHT(A491,2)=\"In\"),\"\",Worksheet!V517))","v":""},"",{"$f":"IF(OR(LEFT(B491,8)=\"LED Four\",LEFT(B491,8)=\"LED Tube\",LEFT(B491,8)=\"LED Mogu\",RIGHT(A491,2)=\"In\"),H491*Worksheet!W517,\"\")","v":""},{"$f":"IF(Worksheet!W517=0,\"\",IF(OR(LEFT(B491,8)=\"LED Four\",LEFT(B491,8)=\"LED Tube\",LEFT(B491,8)=\"LED Mogu\",RIGHT(A491,2)=\"In\"),\"\",Worksheet!W517))","v":""},""]
[{"$f":"IF(Worksheet!K518=0,\"\",Worksheet!K518)","v":""},{"$f":"IF(Worksheet!L518=0,\"\",Worksheet!L518)","v":""},{"$f":"IF(Worksheet!M518=0,\"\",Worksheet!M518)","v":""},{"$f":"IF(Worksheet!N518=0,\"\",Worksheet!N518)","v":""},{"$f":"IF(Worksheet!P518=0,\"\",IF(OR(LEFT(B492,8)=\"LED Four\",LEFT(B492,8)=\"LED Tube\",LEFT(B492,8)=\"LED Mogu\",RIGHT(A492,2)=\"In\"),\"\",Worksheet!P518))","v":""},{"$f":"IF(Worksheet!R518=0,\"\",Worksheet!R518)","v":""},"",{"$f":"IF(Worksheet!Q518=0,\"\",Worksheet!Q518)","v":""},{"$f":"IF(OR(LEFT(B492,8)=\"LED Four\",LEFT(B492,8)=\"LED Tube\",LEFT(B492,8)=\"LED Mogu\",RIGHT(A492,2)=\"In\"),H492*Worksheet!V518,\"\")","v":""},{"$f":"IF(Worksheet!V518=0,\"\",IF(OR(LEFT(B492,8)=\"LED Four\",LEFT(B492,8)=\"LED Tube\",LEFT(B492,8)=\"LED Mogu\",RIGHT(A492,2)=\"In\"),\"\",Worksheet!V518))","v":""},"",{"$f":"IF(OR(LEFT(B492,8)=\"LED Four\",LEFT(B492,8)=\"LED Tube\",LEFT(B492,8)=\"LED Mogu\",RIGHT(A492,2)=\"In\"),H492*Worksheet!W518,\"\")","v":""},{"$f":"IF(Worksheet!W518=0,\"\",IF(OR(LEFT(B492,8)=\"LED Four\",LEFT(B492,8)=\"LED Tube\",LEFT(B492,8)=\"LED Mogu\",RIGHT(A492,2)=\"In\"),\"\",Worksheet!W518))","v":""},""]
[{"$f":"IF(Worksheet!K519=0,\"\",Worksheet!K519)","v":""},{"$f":"IF(Worksheet!L519=0,\"\",Worksheet!L519)","v":""},{"$f":"IF(Worksheet!M519=0,\"\",Worksheet!M519)","v":""},{"$f":"IF(Worksheet!N519=0,\"\",Worksheet!N519)","v":""},{"$f":"IF(Worksheet!P519=0,\"\",IF(OR(LEFT(B493,8)=\"LED Four\",LEFT(B493,8)=\"LED Tube\",LEFT(B493,8)=\"LED Mogu\",RIGHT(A493,2)=\"In\"),\"\",Worksheet!P519))","v":""},{"$f":"IF(Worksheet!R519=0,\"\",Worksheet!R519)","v":""},"",{"$f":"IF(Worksheet!Q519=0,\"\",Worksheet!Q519)","v":""},{"$f":"IF(OR(LEFT(B493,8)=\"LED Four\",LEFT(B493,8)=\"LED Tube\",LEFT(B493,8)=\"LED Mogu\",RIGHT(A493,2)=\"In\"),H493*Worksheet!V519,\"\")","v":""},{"$f":"IF(Worksheet!V519=0,\"\",IF(OR(LEFT(B493,8)=\"LED Four\",LEFT(B493,8)=\"LED Tube\",LEFT(B493,8)=\"LED Mogu\",RIGHT(A493,2)=\"In\"),\"\",Worksheet!V519))","v":""},"",{"$f":"IF(OR(LEFT(B493,8)=\"LED Four\",LEFT(B493,8)=\"LED Tube\",LEFT(B493,8)=\"LED Mogu\",RIGHT(A493,2)=\"In\"),H493*Worksheet!W519,\"\")","v":""},{"$f":"IF(Worksheet!W519=0,\"\",IF(OR(LEFT(B493,8)=\"LED Four\",LEFT(B493,8)=\"LED Tube\",LEFT(B493,8)=\"LED Mogu\",RIGHT(A493,2)=\"In\"),\"\",Worksheet!W519))","v":""},""]
[{"$f":"IF(Worksheet!K520=0,\"\",Worksheet!K520)","v":""},{"$f":"IF(Worksheet!L520=0,\"\",Worksheet!L520)","v":""},{"$f":"IF(Worksheet!M520=0,\"\",Worksheet!M520)","v":""},{"$f":"IF(Worksheet!N520=0,\"\",Worksheet!N520)","v":""},{"$f":"IF(Worksheet!P520=0,\"\",IF(OR(LEFT(B494,8)=\"LED Four\",LEFT(B494,8)=\"LED Tube\",LEFT(B494,8)=\"LED Mogu\",RIGHT(A494,2)=\"In\"),\"\",Worksheet!P520))","v":""},{"$f":"IF(Worksheet!R520=0,\"\",Worksheet!R520)","v":""},"",{"$f":"IF(Worksheet!Q520=0,\"\",Worksheet!Q520)","v":""},{"$f":"IF(OR(LEFT(B494,8)=\"LED Four\",LEFT(B494,8)=\"LED Tube\",LEFT(B494,8)=\"LED Mogu\",RIGHT(A494,2)=\"In\"),H494*Worksheet!V520,\"\")","v":""},{"$f":"IF(Worksheet!V520=0,\"\",IF(OR(LEFT(B494,8)=\"LED Four\",LEFT(B494,8)=\"LED Tube\",LEFT(B494,8)=\"LED Mogu\",RIGHT(A494,2)=\"In\"),\"\",Worksheet!V520))","v":""},"",{"$f":"IF(OR(LEFT(B494,8)=\"LED Four\",LEFT(B494,8)=\"LED Tube\",LEFT(B494,8)=\"LED Mogu\",RIGHT(A494,2)=\"In\"),H494*Worksheet!W520,\"\")","v":""},{"$f":"IF(Worksheet!W520=0,\"\",IF(OR(LEFT(B494,8)=\"LED Four\",LEFT(B494,8)=\"LED Tube\",LEFT(B494,8)=\"LED Mogu\",RIGHT(A494,2)=\"In\"),\"\",Worksheet!W520))","v":""},""]
[{"$f":"IF(Worksheet!K521=0,\"\",Worksheet!K521)","v":""},{"$f":"IF(Worksheet!L521=0,\"\",Worksheet!L521)","v":""},{"$f":"IF(Worksheet!M521=0,\"\",Worksheet!M521)","v":""},{"$f":"IF(Worksheet!N521=0,\"\",Worksheet!N521)","v":""},{"$f":"IF(Worksheet!P521=0,\"\",IF(OR(LEFT(B495,8)=\"LED Four\",LEFT(B495,8)=\"LED Tube\",LEFT(B495,8)=\"LED Mogu\",RIGHT(A495,2)=\"In\"),\"\",Worksheet!P521))","v":""},{"$f":"IF(Worksheet!R521=0,\"\",Worksheet!R521)","v":""},"",{"$f":"IF(Worksheet!Q521=0,\"\",Worksheet!Q521)","v":""},{"$f":"IF(OR(LEFT(B495,8)=\"LED Four\",LEFT(B495,8)=\"LED Tube\",LEFT(B495,8)=\"LED Mogu\",RIGHT(A495,2)=\"In\"),H495*Worksheet!V521,\"\")","v":""},{"$f":"IF(Worksheet!V521=0,\"\",IF(OR(LEFT(B495,8)=\"LED Four\",LEFT(B495,8)=\"LED Tube\",LEFT(B495,8)=\"LED Mogu\",RIGHT(A495,2)=\"In\"),\"\",Worksheet!V521))","v":""},"",{"$f":"IF(OR(LEFT(B495,8)=\"LED Four\",LEFT(B495,8)=\"LED Tube\",LEFT(B495,8)=\"LED Mogu\",RIGHT(A495,2)=\"In\"),H495*Worksheet!W521,\"\")","v":""},{"$f":"IF(Worksheet!W521=0,\"\",IF(OR(LEFT(B495,8)=\"LED Four\",LEFT(B495,8)=\"LED Tube\",LEFT(B495,8)=\"LED Mogu\",RIGHT(A495,2)=\"In\"),\"\",Worksheet!W521))","v":""},""]
[{"$f":"IF(Worksheet!K522=0,\"\",Worksheet!K522)","v":""},{"$f":"IF(Worksheet!L522=0,\"\",Worksheet!L522)","v":""},{"$f":"IF(Worksheet!M522=0,\"\",Worksheet!M522)","v":""},{"$f":"IF(Worksheet!N522=0,\"\",Worksheet!N522)","v":""},{"$f":"IF(Worksheet!P522=0,\"\",IF(OR(LEFT(B496,8)=\"LED Four\",LEFT(B496,8)=\"LED Tube\",LEFT(B496,8)=\"LED Mogu\",RIGHT(A496,2)=\"In\"),\"\",Worksheet!P522))","v":""},{"$f":"IF(Worksheet!R522=0,\"\",Worksheet!R522)","v":""},"",{"$f":"IF(Worksheet!Q522=0,\"\",Worksheet!Q522)","v":""},{"$f":"IF(OR(LEFT(B496,8)=\"LED Four\",LEFT(B496,8)=\"LED Tube\",LEFT(B496,8)=\"LED Mogu\",RIGHT(A496,2)=\"In\"),H496*Worksheet!V522,\"\")","v":""},{"$f":"IF(Worksheet!V522=0,\"\",IF(OR(LEFT(B496,8)=\"LED Four\",LEFT(B496,8)=\"LED Tube\",LEFT(B496,8)=\"LED Mogu\",RIGHT(A496,2)=\"In\"),\"\",Worksheet!V522))","v":""},"",{"$f":"IF(OR(LEFT(B496,8)=\"LED Four\",LEFT(B496,8)=\"LED Tube\",LEFT(B496,8)=\"LED Mogu\",RIGHT(A496,2)=\"In\"),H496*Worksheet!W522,\"\")","v":""},{"$f":"IF(Worksheet!W522=0,\"\",IF(OR(LEFT(B496,8)=\"LED Four\",LEFT(B496,8)=\"LED Tube\",LEFT(B496,8)=\"LED Mogu\",RIGHT(A496,2)=\"In\"),\"\",Worksheet!W522))","v":""},""]
[{"$f":"IF(Worksheet!K523=0,\"\",Worksheet!K523)","v":""},{"$f":"IF(Worksheet!L523=0,\"\",Worksheet!L523)","v":""},{"$f":"IF(Worksheet!M523=0,\"\",Worksheet!M523)","v":""},{"$f":"IF(Worksheet!N523=0,\"\",Worksheet!N523)","v":""},{"$f":"IF(Worksheet!P523=0,\"\",IF(OR(LEFT(B497,8)=\"LED Four\",LEFT(B497,8)=\"LED Tube\",LEFT(B497,8)=\"LED Mogu\",RIGHT(A497,2)=\"In\"),\"\",Worksheet!P523))","v":""},{"$f":"IF(Worksheet!R523=0,\"\",Worksheet!R523)","v":""},"",{"$f":"IF(Worksheet!Q523=0,\"\",Worksheet!Q523)","v":""},{"$f":"IF(OR(LEFT(B497,8)=\"LED Four\",LEFT(B497,8)=\"LED Tube\",LEFT(B497,8)=\"LED Mogu\",RIGHT(A497,2)=\"In\"),H497*Worksheet!V523,\"\")","v":""},{"$f":"IF(Worksheet!V523=0,\"\",IF(OR(LEFT(B497,8)=\"LED Four\",LEFT(B497,8)=\"LED Tube\",LEFT(B497,8)=\"LED Mogu\",RIGHT(A497,2)=\"In\"),\"\",Worksheet!V523))","v":""},"",{"$f":"IF(OR(LEFT(B497,8)=\"LED Four\",LEFT(B497,8)=\"LED Tube\",LEFT(B497,8)=\"LED Mogu\",RIGHT(A497,2)=\"In\"),H497*Worksheet!W523,\"\")","v":""},{"$f":"IF(Worksheet!W523=0,\"\",IF(OR(LEFT(B497,8)=\"LED Four\",LEFT(B497,8)=\"LED Tube\",LEFT(B497,8)=\"LED Mogu\",RIGHT(A497,2)=\"In\"),\"\",Worksheet!W523))","v":""},""]
[{"$f":"IF(Worksheet!K524=0,\"\",Worksheet!K524)","v":""},{"$f":"IF(Worksheet!L524=0,\"\",Worksheet!L524)","v":""},{"$f":"IF(Worksheet!M524=0,\"\",Worksheet!M524)","v":""},{"$f":"IF(Worksheet!N524=0,\"\",Worksheet!N524)","v":""},{"$f":"IF(Worksheet!P524=0,\"\",IF(OR(LEFT(B498,8)=\"LED Four\",LEFT(B498,8)=\"LED Tube\",LEFT(B498,8)=\"LED Mogu\",RIGHT(A498,2)=\"In\"),\"\",Worksheet!P524))","v":""},{"$f":"IF(Worksheet!R524=0,\"\",Worksheet!R524)","v":""},"",{"$f":"IF(Worksheet!Q524=0,\"\",Worksheet!Q524)","v":""},{"$f":"IF(OR(LEFT(B498,8)=\"LED Four\",LEFT(B498,8)=\"LED Tube\",LEFT(B498,8)=\"LED Mogu\",RIGHT(A498,2)=\"In\"),H498*Worksheet!V524,\"\")","v":""},{"$f":"IF(Worksheet!V524=0,\"\",IF(OR(LEFT(B498,8)=\"LED Four\",LEFT(B498,8)=\"LED Tube\",LEFT(B498,8)=\"LED Mogu\",RIGHT(A498,2)=\"In\"),\"\",Worksheet!V524))","v":""},"",{"$f":"IF(OR(LEFT(B498,8)=\"LED Four\",LEFT(B498,8)=\"LED Tube\",LEFT(B498,8)=\"LED Mogu\",RIGHT(A498,2)=\"In\"),H498*Worksheet!W524,\"\")","v":""},{"$f":"IF(Worksheet!W524=0,\"\",IF(OR(LEFT(B498,8)=\"LED Four\",LEFT(B498,8)=\"LED Tube\",LEFT(B498,8)=\"LED Mogu\",RIGHT(A498,2)=\"In\"),\"\",Worksheet!W524))","v":""},""]
[{"$f":"IF(Worksheet!K525=0,\"\",Worksheet!K525)","v":""},{"$f":"IF(Worksheet!L525=0,\"\",Worksheet!L525)","v":""},{"$f":"IF(Worksheet!M525=0,\"\",Worksheet!M525)","v":""},{"$f":"IF(Worksheet!N525=0,\"\",Worksheet!N525)","v":""},{"$f":"IF(Worksheet!P525=0,\"\",IF(OR(LEFT(B499,8)=\"LED Four\",LEFT(B499,8)=\"LED Tube\",LEFT(B499,8)=\"LED Mogu\",RIGHT(A499,2)=\"In\"),\"\",Worksheet!P525))","v":""},{"$f":"IF(Worksheet!R525=0,\"\",Worksheet!R525)","v":""},"",{"$f":"IF(Worksheet!Q525=0,\"\",Worksheet!Q525)","v":""},{"$f":"IF(OR(LEFT(B499,8)=\"LED Four\",LEFT(B499,8)=\"LED Tube\",LEFT(B499,8)=\"LED Mogu\",RIGHT(A499,2)=\"In\"),H499*Worksheet!V525,\"\")","v":""},{"$f":"IF(Worksheet!V525=0,\"\",IF(OR(LEFT(B499,8)=\"LED Four\",LEFT(B499,8)=\"LED Tube\",LEFT(B499,8)=\"LED Mogu\",RIGHT(A499,2)=\"In\"),\"\",Worksheet!V525))","v":""},"",{"$f":"IF(OR(LEFT(B499,8)=\"LED Four\",LEFT(B499,8)=\"LED Tube\",LEFT(B499,8)=\"LED Mogu\",RIGHT(A499,2)=\"In\"),H499*Worksheet!W525,\"\")","v":""},{"$f":"IF(Worksheet!W525=0,\"\",IF(OR(LEFT(B499,8)=\"LED Four\",LEFT(B499,8)=\"LED Tube\",LEFT(B499,8)=\"LED Mogu\",RIGHT(A499,2)=\"In\"),\"\",Worksheet!W525))","v":""},""]
[{"$f":"IF(Worksheet!K526=0,\"\",Worksheet!K526)","v":""},{"$f":"IF(Worksheet!L526=0,\"\",Worksheet!L526)","v":""},{"$f":"IF(Worksheet!M526=0,\"\",Worksheet!M526)","v":""},{"$f":"IF(Worksheet!N526=0,\"\",Worksheet!N526)","v":""},{"$f":"IF(Worksheet!P526=0,\"\",IF(OR(LEFT(B500,8)=\"LED Four\",LEFT(B500,8)=\"LED Tube\",LEFT(B500,8)=\"LED Mogu\",RIGHT(A500,2)=\"In\"),\"\",Worksheet!P526))","v":""},{"$f":"IF(Worksheet!R526=0,\"\",Worksheet!R526)","v":""},"",{"$f":"IF(Worksheet!Q526=0,\"\",Worksheet!Q526)","v":""},{"$f":"IF(OR(LEFT(B500,8)=\"LED Four\",LEFT(B500,8)=\"LED Tube\",LEFT(B500,8)=\"LED Mogu\",RIGHT(A500,2)=\"In\"),H500*Worksheet!V526,\"\")","v":""},{"$f":"IF(Worksheet!V526=0,\"\",IF(OR(LEFT(B500,8)=\"LED Four\",LEFT(B500,8)=\"LED Tube\",LEFT(B500,8)=\"LED Mogu\",RIGHT(A500,2)=\"In\"),\"\",Worksheet!V526))","v":""},"",{"$f":"IF(OR(LEFT(B500,8)=\"LED Four\",LEFT(B500,8)=\"LED Tube\",LEFT(B500,8)=\"LED Mogu\",RIGHT(A500,2)=\"In\"),H500*Worksheet!W526,\"\")","v":""},{"$f":"IF(Worksheet!W526=0,\"\",IF(OR(LEFT(B500,8)=\"LED Four\",LEFT(B500,8)=\"LED Tube\",LEFT(B500,8)=\"LED Mogu\",RIGHT(A500,2)=\"In\"),\"\",Worksheet!W526))","v":""},""]
[{"$f":"IF(Worksheet!K527=0,\"\",Worksheet!K527)","v":""},{"$f":"IF(Worksheet!L527=0,\"\",Worksheet!L527)","v":""},{"$f":"IF(Worksheet!M527=0,\"\",Worksheet!M527)","v":""},{"$f":"IF(Worksheet!N527=0,\"\",Worksheet!N527)","v":""},{"$f":"IF(Worksheet!P527=0,\"\",IF(OR(LEFT(B501,8)=\"LED Four\",LEFT(B501,8)=\"LED Tube\",LEFT(B501,8)=\"LED Mogu\",RIGHT(A501,2)=\"In\"),\"\",Worksheet!P527))","v":""},{"$f":"IF(Worksheet!R527=0,\"\",Worksheet!R527)","v":""},"",{"$f":"IF(Worksheet!Q527=0,\"\",Worksheet!Q527)","v":""},{"$f":"IF(OR(LEFT(B501,8)=\"LED Four\",LEFT(B501,8)=\"LED Tube\",LEFT(B501,8)=\"LED Mogu\",RIGHT(A501,2)=\"In\"),H501*Worksheet!V527,\"\")","v":""},{"$f":"IF(Worksheet!V527=0,\"\",IF(OR(LEFT(B501,8)=\"LED Four\",LEFT(B501,8)=\"LED Tube\",LEFT(B501,8)=\"LED Mogu\",RIGHT(A501,2)=\"In\"),\"\",Worksheet!V527))","v":""},"",{"$f":"IF(OR(LEFT(B501,8)=\"LED Four\",LEFT(B501,8)=\"LED Tube\",LEFT(B501,8)=\"LED Mogu\",RIGHT(A501,2)=\"In\"),H501*Worksheet!W527,\"\")","v":""},{"$f":"IF(Worksheet!W527=0,\"\",IF(OR(LEFT(B501,8)=\"LED Four\",LEFT(B501,8)=\"LED Tube\",LEFT(B501,8)=\"LED Mogu\",RIGHT(A501,2)=\"In\"),\"\",Worksheet!W527))","v":""},""]
[{"$f":"IF(Worksheet!K528=0,\"\",Worksheet!K528)","v":""},{"$f":"IF(Worksheet!L528=0,\"\",Worksheet!L528)","v":""},{"$f":"IF(Worksheet!M528=0,\"\",Worksheet!M528)","v":""},{"$f":"IF(Worksheet!N528=0,\"\",Worksheet!N528)","v":""},{"$f":"IF(Worksheet!P528=0,\"\",IF(OR(LEFT(B502,8)=\"LED Four\",LEFT(B502,8)=\"LED Tube\",LEFT(B502,8)=\"LED Mogu\",RIGHT(A502,2)=\"In\"),\"\",Worksheet!P528))","v":""},{"$f":"IF(Worksheet!R528=0,\"\",Worksheet!R528)","v":""},"",{"$f":"IF(Worksheet!Q528=0,\"\",Worksheet!Q528)","v":""},{"$f":"IF(OR(LEFT(B502,8)=\"LED Four\",LEFT(B502,8)=\"LED Tube\",LEFT(B502,8)=\"LED Mogu\",RIGHT(A502,2)=\"In\"),H502*Worksheet!V528,\"\")","v":""},{"$f":"IF(Worksheet!V528=0,\"\",IF(OR(LEFT(B502,8)=\"LED Four\",LEFT(B502,8)=\"LED Tube\",LEFT(B502,8)=\"LED Mogu\",RIGHT(A502,2)=\"In\"),\"\",Worksheet!V528))","v":""},"",{"$f":"IF(OR(LEFT(B502,8)=\"LED Four\",LEFT(B502,8)=\"LED Tube\",LEFT(B502,8)=\"LED Mogu\",RIGHT(A502,2)=\"In\"),H502*Worksheet!W528,\"\")","v":""},{"$f":"IF(Worksheet!W528=0,\"\",IF(OR(LEFT(B502,8)=\"LED Four\",LEFT(B502,8)=\"LED Tube\",LEFT(B502,8)=\"LED Mogu\",RIGHT(A502,2)=\"In\"),\"\",Worksheet!W528))","v":""},""]
[{"$f":"IF(Worksheet!K529=0,\"\",Worksheet!K529)","v":""},{"$f":"IF(Worksheet!L529=0,\"\",Worksheet!L529)","v":""},{"$f":"IF(Worksheet!M529=0,\"\",Worksheet!M529)","v":""},{"$f":"IF(Worksheet!N529=0,\"\",Worksheet!N529)","v":""},{"$f":"IF(Worksheet!P529=0,\"\",IF(OR(LEFT(B503,8)=\"LED Four\",LEFT(B503,8)=\"LED Tube\",LEFT(B503,8)=\"LED Mogu\",RIGHT(A503,2)=\"In\"),\"\",Worksheet!P529))","v":""},{"$f":"IF(Worksheet!R529=0,\"\",Worksheet!R529)","v":""},"",{"$f":"IF(Worksheet!Q529=0,\"\",Worksheet!Q529)","v":""},{"$f":"IF(OR(LEFT(B503,8)=\"LED Four\",LEFT(B503,8)=\"LED Tube\",LEFT(B503,8)=\"LED Mogu\",RIGHT(A503,2)=\"In\"),H503*Worksheet!V529,\"\")","v":""},{"$f":"IF(Worksheet!V529=0,\"\",IF(OR(LEFT(B503,8)=\"LED Four\",LEFT(B503,8)=\"LED Tube\",LEFT(B503,8)=\"LED Mogu\",RIGHT(A503,2)=\"In\"),\"\",Worksheet!V529))","v":""},"",{"$f":"IF(OR(LEFT(B503,8)=\"LED Four\",LEFT(B503,8)=\"LED Tube\",LEFT(B503,8)=\"LED Mogu\",RIGHT(A503,2)=\"In\"),H503*Worksheet!W529,\"\")","v":""},{"$f":"IF(Worksheet!W529=0,\"\",IF(OR(LEFT(B503,8)=\"LED Four\",LEFT(B503,8)=\"LED Tube\",LEFT(B503,8)=\"LED Mogu\",RIGHT(A503,2)=\"In\"),\"\",Worksheet!W529))","v":""},""]
[{"$f":"IF(Worksheet!K530=0,\"\",Worksheet!K530)","v":""},{"$f":"IF(Worksheet!L530=0,\"\",Worksheet!L530)","v":""},{"$f":"IF(Worksheet!M530=0,\"\",Worksheet!M530)","v":""},{"$f":"IF(Worksheet!N530=0,\"\",Worksheet!N530)","v":""},{"$f":"IF(Worksheet!P530=0,\"\",IF(OR(LEFT(B504,8)=\"LED Four\",LEFT(B504,8)=\"LED Tube\",LEFT(B504,8)=\"LED Mogu\",RIGHT(A504,2)=\"In\"),\"\",Worksheet!P530))","v":""},{"$f":"IF(Worksheet!R530=0,\"\",Worksheet!R530)","v":""},"",{"$f":"IF(Worksheet!Q530=0,\"\",Worksheet!Q530)","v":""},{"$f":"IF(OR(LEFT(B504,8)=\"LED Four\",LEFT(B504,8)=\"LED Tube\",LEFT(B504,8)=\"LED Mogu\",RIGHT(A504,2)=\"In\"),H504*Worksheet!V530,\"\")","v":""},{"$f":"IF(Worksheet!V530=0,\"\",IF(OR(LEFT(B504,8)=\"LED Four\",LEFT(B504,8)=\"LED Tube\",LEFT(B504,8)=\"LED Mogu\",RIGHT(A504,2)=\"In\"),\"\",Worksheet!V530))","v":""},"",{"$f":"IF(OR(LEFT(B504,8)=\"LED Four\",LEFT(B504,8)=\"LED Tube\",LEFT(B504,8)=\"LED Mogu\",RIGHT(A504,2)=\"In\"),H504*Worksheet!W530,\"\")","v":""},{"$f":"IF(Worksheet!W530=0,\"\",IF(OR(LEFT(B504,8)=\"LED Four\",LEFT(B504,8)=\"LED Tube\",LEFT(B504,8)=\"LED Mogu\",RIGHT(A504,2)=\"In\"),\"\",Worksheet!W530))","v":""},""]
[{"$f":"IF(Worksheet!K531=0,\"\",Worksheet!K531)","v":""},{"$f":"IF(Worksheet!L531=0,\"\",Worksheet!L531)","v":""},{"$f":"IF(Worksheet!M531=0,\"\",Worksheet!M531)","v":""},{"$f":"IF(Worksheet!N531=0,\"\",Worksheet!N531)","v":""},{"$f":"IF(Worksheet!P531=0,\"\",IF(OR(LEFT(B505,8)=\"LED Four\",LEFT(B505,8)=\"LED Tube\",LEFT(B505,8)=\"LED Mogu\",RIGHT(A505,2)=\"In\"),\"\",Worksheet!P531))","v":""},{"$f":"IF(Worksheet!R531=0,\"\",Worksheet!R531)","v":""},"",{"$f":"IF(Worksheet!Q531=0,\"\",Worksheet!Q531)","v":""},{"$f":"IF(OR(LEFT(B505,8)=\"LED Four\",LEFT(B505,8)=\"LED Tube\",LEFT(B505,8)=\"LED Mogu\",RIGHT(A505,2)=\"In\"),H505*Worksheet!V531,\"\")","v":""},{"$f":"IF(Worksheet!V531=0,\"\",IF(OR(LEFT(B505,8)=\"LED Four\",LEFT(B505,8)=\"LED Tube\",LEFT(B505,8)=\"LED Mogu\",RIGHT(A505,2)=\"In\"),\"\",Worksheet!V531))","v":""},"",{"$f":"IF(OR(LEFT(B505,8)=\"LED Four\",LEFT(B505,8)=\"LED Tube\",LEFT(B505,8)=\"LED Mogu\",RIGHT(A505,2)=\"In\"),H505*Worksheet!W531,\"\")","v":""},{"$f":"IF(Worksheet!W531=0,\"\",IF(OR(LEFT(B505,8)=\"LED Four\",LEFT(B505,8)=\"LED Tube\",LEFT(B505,8)=\"LED Mogu\",RIGHT(A505,2)=\"In\"),\"\",Worksheet!W531))","v":""},""]
[{"$f":"IF(Worksheet!K532=0,\"\",Worksheet!K532)","v":""},{"$f":"IF(Worksheet!L532=0,\"\",Worksheet!L532)","v":""},{"$f":"IF(Worksheet!M532=0,\"\",Worksheet!M532)","v":""},{"$f":"IF(Worksheet!N532=0,\"\",Worksheet!N532)","v":""},{"$f":"IF(Worksheet!P532=0,\"\",IF(OR(LEFT(B506,8)=\"LED Four\",LEFT(B506,8)=\"LED Tube\",LEFT(B506,8)=\"LED Mogu\",RIGHT(A506,2)=\"In\"),\"\",Worksheet!P532))","v":""},{"$f":"IF(Worksheet!R532=0,\"\",Worksheet!R532)","v":""},"",{"$f":"IF(Worksheet!Q532=0,\"\",Worksheet!Q532)","v":""},{"$f":"IF(OR(LEFT(B506,8)=\"LED Four\",LEFT(B506,8)=\"LED Tube\",LEFT(B506,8)=\"LED Mogu\",RIGHT(A506,2)=\"In\"),H506*Worksheet!V532,\"\")","v":""},{"$f":"IF(Worksheet!V532=0,\"\",IF(OR(LEFT(B506,8)=\"LED Four\",LEFT(B506,8)=\"LED Tube\",LEFT(B506,8)=\"LED Mogu\",RIGHT(A506,2)=\"In\"),\"\",Worksheet!V532))","v":""},"",{"$f":"IF(OR(LEFT(B506,8)=\"LED Four\",LEFT(B506,8)=\"LED Tube\",LEFT(B506,8)=\"LED Mogu\",RIGHT(A506,2)=\"In\"),H506*Worksheet!W532,\"\")","v":""},{"$f":"IF(Worksheet!W532=0,\"\",IF(OR(LEFT(B506,8)=\"LED Four\",LEFT(B506,8)=\"LED Tube\",LEFT(B506,8)=\"LED Mogu\",RIGHT(A506,2)=\"In\"),\"\",Worksheet!W532))","v":""},""]
[{"$f":"IF(Worksheet!K533=0,\"\",Worksheet!K533)","v":""},{"$f":"IF(Worksheet!L533=0,\"\",Worksheet!L533)","v":""},{"$f":"IF(Worksheet!M533=0,\"\",Worksheet!M533)","v":""},{"$f":"IF(Worksheet!N533=0,\"\",Worksheet!N533)","v":""},{"$f":"IF(Worksheet!P533=0,\"\",IF(OR(LEFT(B507,8)=\"LED Four\",LEFT(B507,8)=\"LED Tube\",LEFT(B507,8)=\"LED Mogu\",RIGHT(A507,2)=\"In\"),\"\",Worksheet!P533))","v":""},{"$f":"IF(Worksheet!R533=0,\"\",Worksheet!R533)","v":""},"",{"$f":"IF(Worksheet!Q533=0,\"\",Worksheet!Q533)","v":""},{"$f":"IF(OR(LEFT(B507,8)=\"LED Four\",LEFT(B507,8)=\"LED Tube\",LEFT(B507,8)=\"LED Mogu\",RIGHT(A507,2)=\"In\"),H507*Worksheet!V533,\"\")","v":""},{"$f":"IF(Worksheet!V533=0,\"\",IF(OR(LEFT(B507,8)=\"LED Four\",LEFT(B507,8)=\"LED Tube\",LEFT(B507,8)=\"LED Mogu\",RIGHT(A507,2)=\"In\"),\"\",Worksheet!V533))","v":""},"",{"$f":"IF(OR(LEFT(B507,8)=\"LED Four\",LEFT(B507,8)=\"LED Tube\",LEFT(B507,8)=\"LED Mogu\",RIGHT(A507,2)=\"In\"),H507*Worksheet!W533,\"\")","v":""},{"$f":"IF(Worksheet!W533=0,\"\",IF(OR(LEFT(B507,8)=\"LED Four\",LEFT(B507,8)=\"LED Tube\",LEFT(B507,8)=\"LED Mogu\",RIGHT(A507,2)=\"In\"),\"\",Worksheet!W533))","v":""},""]
[{"$f":"IF(Worksheet!K534=0,\"\",Worksheet!K534)","v":""},{"$f":"IF(Worksheet!L534=0,\"\",Worksheet!L534)","v":""},{"$f":"IF(Worksheet!M534=0,\"\",Worksheet!M534)","v":""},{"$f":"IF(Worksheet!N534=0,\"\",Worksheet!N534)","v":""},{"$f":"IF(Worksheet!P534=0,\"\",IF(OR(LEFT(B508,8)=\"LED Four\",LEFT(B508,8)=\"LED Tube\",LEFT(B508,8)=\"LED Mogu\",RIGHT(A508,2)=\"In\"),\"\",Worksheet!P534))","v":""},{"$f":"IF(Worksheet!R534=0,\"\",Worksheet!R534)","v":""},"",{"$f":"IF(Worksheet!Q534=0,\"\",Worksheet!Q534)","v":""},{"$f":"IF(OR(LEFT(B508,8)=\"LED Four\",LEFT(B508,8)=\"LED Tube\",LEFT(B508,8)=\"LED Mogu\",RIGHT(A508,2)=\"In\"),H508*Worksheet!V534,\"\")","v":""},{"$f":"IF(Worksheet!V534=0,\"\",IF(OR(LEFT(B508,8)=\"LED Four\",LEFT(B508,8)=\"LED Tube\",LEFT(B508,8)=\"LED Mogu\",RIGHT(A508,2)=\"In\"),\"\",Worksheet!V534))","v":""},"",{"$f":"IF(OR(LEFT(B508,8)=\"LED Four\",LEFT(B508,8)=\"LED Tube\",LEFT(B508,8)=\"LED Mogu\",RIGHT(A508,2)=\"In\"),H508*Worksheet!W534,\"\")","v":""},{"$f":"IF(Worksheet!W534=0,\"\",IF(OR(LEFT(B508,8)=\"LED Four\",LEFT(B508,8)=\"LED Tube\",LEFT(B508,8)=\"LED Mogu\",RIGHT(A508,2)=\"In\"),\"\",Worksheet!W534))","v":""},""]
[{"$f":"IF(Worksheet!K535=0,\"\",Worksheet!K535)","v":""},{"$f":"IF(Worksheet!L535=0,\"\",Worksheet!L535)","v":""},{"$f":"IF(Worksheet!M535=0,\"\",Worksheet!M535)","v":""},{"$f":"IF(Worksheet!N535=0,\"\",Worksheet!N535)","v":""},{"$f":"IF(Worksheet!P535=0,\"\",IF(OR(LEFT(B509,8)=\"LED Four\",LEFT(B509,8)=\"LED Tube\",LEFT(B509,8)=\"LED Mogu\",RIGHT(A509,2)=\"In\"),\"\",Worksheet!P535))","v":""},{"$f":"IF(Worksheet!R535=0,\"\",Worksheet!R535)","v":""},"",{"$f":"IF(Worksheet!Q535=0,\"\",Worksheet!Q535)","v":""},{"$f":"IF(OR(LEFT(B509,8)=\"LED Four\",LEFT(B509,8)=\"LED Tube\",LEFT(B509,8)=\"LED Mogu\",RIGHT(A509,2)=\"In\"),H509*Worksheet!V535,\"\")","v":""},{"$f":"IF(Worksheet!V535=0,\"\",IF(OR(LEFT(B509,8)=\"LED Four\",LEFT(B509,8)=\"LED Tube\",LEFT(B509,8)=\"LED Mogu\",RIGHT(A509,2)=\"In\"),\"\",Worksheet!V535))","v":""},"",{"$f":"IF(OR(LEFT(B509,8)=\"LED Four\",LEFT(B509,8)=\"LED Tube\",LEFT(B509,8)=\"LED Mogu\",RIGHT(A509,2)=\"In\"),H509*Worksheet!W535,\"\")","v":""},{"$f":"IF(Worksheet!W535=0,\"\",IF(OR(LEFT(B509,8)=\"LED Four\",LEFT(B509,8)=\"LED Tube\",LEFT(B509,8)=\"LED Mogu\",RIGHT(A509,2)=\"In\"),\"\",Worksheet!W535))","v":""},""]
[{"$f":"IF(Worksheet!K536=0,\"\",Worksheet!K536)","v":""},{"$f":"IF(Worksheet!L536=0,\"\",Worksheet!L536)","v":""},{"$f":"IF(Worksheet!M536=0,\"\",Worksheet!M536)","v":""},{"$f":"IF(Worksheet!N536=0,\"\",Worksheet!N536)","v":""},{"$f":"IF(Worksheet!P536=0,\"\",IF(OR(LEFT(B510,8)=\"LED Four\",LEFT(B510,8)=\"LED Tube\",LEFT(B510,8)=\"LED Mogu\",RIGHT(A510,2)=\"In\"),\"\",Worksheet!P536))","v":""},{"$f":"IF(Worksheet!R536=0,\"\",Worksheet!R536)","v":""},"",{"$f":"IF(Worksheet!Q536=0,\"\",Worksheet!Q536)","v":""},{"$f":"IF(OR(LEFT(B510,8)=\"LED Four\",LEFT(B510,8)=\"LED Tube\",LEFT(B510,8)=\"LED Mogu\",RIGHT(A510,2)=\"In\"),H510*Worksheet!V536,\"\")","v":""},{"$f":"IF(Worksheet!V536=0,\"\",IF(OR(LEFT(B510,8)=\"LED Four\",LEFT(B510,8)=\"LED Tube\",LEFT(B510,8)=\"LED Mogu\",RIGHT(A510,2)=\"In\"),\"\",Worksheet!V536))","v":""},"",{"$f":"IF(OR(LEFT(B510,8)=\"LED Four\",LEFT(B510,8)=\"LED Tube\",LEFT(B510,8)=\"LED Mogu\",RIGHT(A510,2)=\"In\"),H510*Worksheet!W536,\"\")","v":""},{"$f":"IF(Worksheet!W536=0,\"\",IF(OR(LEFT(B510,8)=\"LED Four\",LEFT(B510,8)=\"LED Tube\",LEFT(B510,8)=\"LED Mogu\",RIGHT(A510,2)=\"In\"),\"\",Worksheet!W536))","v":""},""]
[{"$f":"IF(Worksheet!K537=0,\"\",Worksheet!K537)","v":""},{"$f":"IF(Worksheet!L537=0,\"\",Worksheet!L537)","v":""},{"$f":"IF(Worksheet!M537=0,\"\",Worksheet!M537)","v":""},{"$f":"IF(Worksheet!N537=0,\"\",Worksheet!N537)","v":""},{"$f":"IF(Worksheet!P537=0,\"\",IF(OR(LEFT(B511,8)=\"LED Four\",LEFT(B511,8)=\"LED Tube\",LEFT(B511,8)=\"LED Mogu\",RIGHT(A511,2)=\"In\"),\"\",Worksheet!P537))","v":""},{"$f":"IF(Worksheet!R537=0,\"\",Worksheet!R537)","v":""},"",{"$f":"IF(Worksheet!Q537=0,\"\",Worksheet!Q537)","v":""},{"$f":"IF(OR(LEFT(B511,8)=\"LED Four\",LEFT(B511,8)=\"LED Tube\",LEFT(B511,8)=\"LED Mogu\",RIGHT(A511,2)=\"In\"),H511*Worksheet!V537,\"\")","v":""},{"$f":"IF(Worksheet!V537=0,\"\",IF(OR(LEFT(B511,8)=\"LED Four\",LEFT(B511,8)=\"LED Tube\",LEFT(B511,8)=\"LED Mogu\",RIGHT(A511,2)=\"In\"),\"\",Worksheet!V537))","v":""},"",{"$f":"IF(OR(LEFT(B511,8)=\"LED Four\",LEFT(B511,8)=\"LED Tube\",LEFT(B511,8)=\"LED Mogu\",RIGHT(A511,2)=\"In\"),H511*Worksheet!W537,\"\")","v":""},{"$f":"IF(Worksheet!W537=0,\"\",IF(OR(LEFT(B511,8)=\"LED Four\",LEFT(B511,8)=\"LED Tube\",LEFT(B511,8)=\"LED Mogu\",RIGHT(A511,2)=\"In\"),\"\",Worksheet!W537))","v":""},""]
[{"$f":"IF(Worksheet!K538=0,\"\",Worksheet!K538)","v":""},{"$f":"IF(Worksheet!L538=0,\"\",Worksheet!L538)","v":""},{"$f":"IF(Worksheet!M538=0,\"\",Worksheet!M538)","v":""},{"$f":"IF(Worksheet!N538=0,\"\",Worksheet!N538)","v":""},{"$f":"IF(Worksheet!P538=0,\"\",IF(OR(LEFT(B512,8)=\"LED Four\",LEFT(B512,8)=\"LED Tube\",LEFT(B512,8)=\"LED Mogu\",RIGHT(A512,2)=\"In\"),\"\",Worksheet!P538))","v":""},{"$f":"IF(Worksheet!R538=0,\"\",Worksheet!R538)","v":""},"",{"$f":"IF(Worksheet!Q538=0,\"\",Worksheet!Q538)","v":""},{"$f":"IF(OR(LEFT(B512,8)=\"LED Four\",LEFT(B512,8)=\"LED Tube\",LEFT(B512,8)=\"LED Mogu\",RIGHT(A512,2)=\"In\"),H512*Worksheet!V538,\"\")","v":""},{"$f":"IF(Worksheet!V538=0,\"\",IF(OR(LEFT(B512,8)=\"LED Four\",LEFT(B512,8)=\"LED Tube\",LEFT(B512,8)=\"LED Mogu\",RIGHT(A512,2)=\"In\"),\"\",Worksheet!V538))","v":""},"",{"$f":"IF(OR(LEFT(B512,8)=\"LED Four\",LEFT(B512,8)=\"LED Tube\",LEFT(B512,8)=\"LED Mogu\",RIGHT(A512,2)=\"In\"),H512*Worksheet!W538,\"\")","v":""},{"$f":"IF(Worksheet!W538=0,\"\",IF(OR(LEFT(B512,8)=\"LED Four\",LEFT(B512,8)=\"LED Tube\",LEFT(B512,8)=\"LED Mogu\",RIGHT(A512,2)=\"In\"),\"\",Worksheet!W538))","v":""},""]
[{"$f":"IF(Worksheet!K539=0,\"\",Worksheet!K539)","v":""},{"$f":"IF(Worksheet!L539=0,\"\",Worksheet!L539)","v":""},{"$f":"IF(Worksheet!M539=0,\"\",Worksheet!M539)","v":""},{"$f":"IF(Worksheet!N539=0,\"\",Worksheet!N539)","v":""},{"$f":"IF(Worksheet!P539=0,\"\",IF(OR(LEFT(B513,8)=\"LED Four\",LEFT(B513,8)=\"LED Tube\",LEFT(B513,8)=\"LED Mogu\",RIGHT(A513,2)=\"In\"),\"\",Worksheet!P539))","v":""},{"$f":"IF(Worksheet!R539=0,\"\",Worksheet!R539)","v":""},"",{"$f":"IF(Worksheet!Q539=0,\"\",Worksheet!Q539)","v":""},{"$f":"IF(OR(LEFT(B513,8)=\"LED Four\",LEFT(B513,8)=\"LED Tube\",LEFT(B513,8)=\"LED Mogu\",RIGHT(A513,2)=\"In\"),H513*Worksheet!V539,\"\")","v":""},{"$f":"IF(Worksheet!V539=0,\"\",IF(OR(LEFT(B513,8)=\"LED Four\",LEFT(B513,8)=\"LED Tube\",LEFT(B513,8)=\"LED Mogu\",RIGHT(A513,2)=\"In\"),\"\",Worksheet!V539))","v":""},"",{"$f":"IF(OR(LEFT(B513,8)=\"LED Four\",LEFT(B513,8)=\"LED Tube\",LEFT(B513,8)=\"LED Mogu\",RIGHT(A513,2)=\"In\"),H513*Worksheet!W539,\"\")","v":""},{"$f":"IF(Worksheet!W539=0,\"\",IF(OR(LEFT(B513,8)=\"LED Four\",LEFT(B513,8)=\"LED Tube\",LEFT(B513,8)=\"LED Mogu\",RIGHT(A513,2)=\"In\"),\"\",Worksheet!W539))","v":""},""]
[{"$f":"IF(Worksheet!K540=0,\"\",Worksheet!K540)","v":""},{"$f":"IF(Worksheet!L540=0,\"\",Worksheet!L540)","v":""},{"$f":"IF(Worksheet!M540=0,\"\",Worksheet!M540)","v":""},{"$f":"IF(Worksheet!N540=0,\"\",Worksheet!N540)","v":""},{"$f":"IF(Worksheet!P540=0,\"\",IF(OR(LEFT(B514,8)=\"LED Four\",LEFT(B514,8)=\"LED Tube\",LEFT(B514,8)=\"LED Mogu\",RIGHT(A514,2)=\"In\"),\"\",Worksheet!P540))","v":""},{"$f":"IF(Worksheet!R540=0,\"\",Worksheet!R540)","v":""},"",{"$f":"IF(Worksheet!Q540=0,\"\",Worksheet!Q540)","v":""},{"$f":"IF(OR(LEFT(B514,8)=\"LED Four\",LEFT(B514,8)=\"LED Tube\",LEFT(B514,8)=\"LED Mogu\",RIGHT(A514,2)=\"In\"),H514*Worksheet!V540,\"\")","v":""},{"$f":"IF(Worksheet!V540=0,\"\",IF(OR(LEFT(B514,8)=\"LED Four\",LEFT(B514,8)=\"LED Tube\",LEFT(B514,8)=\"LED Mogu\",RIGHT(A514,2)=\"In\"),\"\",Worksheet!V540))","v":""},"",{"$f":"IF(OR(LEFT(B514,8)=\"LED Four\",LEFT(B514,8)=\"LED Tube\",LEFT(B514,8)=\"LED Mogu\",RIGHT(A514,2)=\"In\"),H514*Worksheet!W540,\"\")","v":""},{"$f":"IF(Worksheet!W540=0,\"\",IF(OR(LEFT(B514,8)=\"LED Four\",LEFT(B514,8)=\"LED Tube\",LEFT(B514,8)=\"LED Mogu\",RIGHT(A514,2)=\"In\"),\"\",Worksheet!W540))","v":""},""]

{"sheet":"Measure Code","index":2,"n_rows":66,"n_cols":8,"rows_kept":66,"cut":false,"hidden":true,"merged":[]}
["Measure Code","Restrict Existing","Measure Description","Existing Fixture Type Default","Existing Fixture/Lamp Description Default","Proposed Fixture Type Default","Proposed Fixture/Lamp Description Default","Incentive per Unit"]
["PL1","Y","LED Tube – 2' Linear Replacement Lamps",null,null,"LED - DLC Fixture","LED Tube – 2' Linear Replacement Lamps",3]
["PL2","Y","LED Tube – 3' Linear Replacement Lamps",null,null,"LED - DLC Fixture","LED Tube – 3' Linear Replacement Lamps",5]
["PL3","Y","LED Tube – 4' Linear Replacement Lamps",null,null,"LED - DLC Fixture","LED Tube – 4' Linear Replacement Lamps",5]
["PL4","Y","LED Tube – 8' Linear Replacement Lamps",null,null,"LED - DLC Fixture","LED Tube – 8' Linear Replacement Lamps",10]
["PL5","Y","LED Tube – U-Bend Replacement Lamps",null,null,"LED - DLC Fixture","LED Tube – U-Bend Replacement Lamps",5]
["PL6","N","LED Luminaire for Ambient Lighting of Commercial Spaces - 1x4",null,null,"LED - DLC Fixture","LED Luminaire for Ambient Lighting of Commercial Spaces - 1x4",15]
["PL7","N","LED Luminaire for Ambient Lighting of Commercial Spaces - 2x2",null,null,"LED - DLC Fixture","LED Luminaire for Ambient Lighting of Commercial Spaces - 2x2",15]
["PL8","N","LED Luminaire for Ambient Lighting of Commercial Spaces - 2x4",null,null,"LED - DLC Fixture","LED Luminaire for Ambient Lighting of Commercial Spaces - 2x4",25]
["PL9","N","LED High-Bay and Low-Bay Fixtures ≤125W ",null,null,"LED - DLC Fixture","LED High-Bay and Low-Bay Fixtures ≤125W ",50]
["PL10","N","LED High-Bay and Low-Bay Fixtures >125W to ≤250W ",null,null,"LED - DLC Fixture","LED High-Bay and Low-Bay Fixtures >125W to ≤250W ",75]
["PL11","N","LED High-Bay and Low-Bay Fixtures >250W ",null,null,"LED - DLC Fixture","LED High-Bay and Low-Bay Fixtures >250W ",150]
["PL12","N","LED High-Bay-Aisle Lighting  ≤125W ",null,null,"LED - DLC Fixture","LED High-Bay-Aisle Lighting  ≤125W ",50]
["PL13","N","LED High-Bay-Aisle Lighting  >125W to ≤250W ",null,null,"LED - DLC Fixture","LED High-Bay-Aisle Lighting  >125W to ≤250W ",75]
["PL14","N","LED High-Bay-Aisle Lighting  >250W ",null,null,"LED - DLC Fixture","LED High-Bay-Aisle Lighting  >250W ",150]
["PL15","N","LED Luminaire Ambient - 2' - Indirect, Indirect/Direct, Direct/Indirect & Direct",null,null,"LED - DLC Fixture","LED Luminaire Ambient - 2' - Indirect",20]
["PL16","N","LED Luminaire Ambient - 3' - Indirect, Indirect/Direct, Direct/Indirect & Direct",null,null,"LED - DLC Fixture","LED Luminaire Ambient - 3' - Indirect",30]
["PL17","N","LED Luminaire Ambient - 4' - Indirect, Indirect/Direct, Direct/Indirect & Direct",null,null,"LED - DLC Fixture","LED Luminaire Ambient - 4' - Indirect",45]
["PL18","N","LED Luminaire Ambient - 6' - Indirect, Indirect/Direct, Direct/Indirect & Direct",null,null,"LED - DLC Fixture","LED Luminaire Ambient - 6' - Indirect",60]
["PL19","N","LED Luminaire Ambient - 8' - Indirect, Indirect/Direct, Direct/Indirect & Direct",null,null,"LED - DLC Fixture","LED Luminaire Ambient - 8' - Indirect",75]
["PL20","Y","Retrofit Kit for LED Linear Ambient Luminaire - 2'",null,null,"LED - DLC Fixture","Retrofit Kit for LED Linear Ambient Luminaire - 2'",15]
["PL21","Y","Retrofit Kit for LED Linear Ambient Luminaire - 4'",null,null,"LED - DLC Fixture","Retrofit Kit for LED Linear Ambient Luminaire - 4'",15]
["PL22","Y","Retrofit Kit for LED Linear Ambient Luminaire - 8'",null,null,"LED - DLC Fixture","Retrofit Kit for LED Linear Ambient Luminaire - 8'",25]
["PL23","N","LED Stairwell and Passageway Lighting",null,null,"LED - DLC Fixture","LED Stairwell and Passageway Lighting",45]
["PL24","N","LED Track or Mono-Point Directional Lighting Fixtures",null,null,"LED - DLC Fixture","LED Track or Mono-Point Directional Lighting Fixtures",30]
["PL25","N","LED Wall-Wash Lights",null,null,"LED - DLC Fixture","LED Wall-Wash Lights",55]
["PL26","Y","LED Four Pin-Base CFL Replacement","Compact Fluorescent","<Enter Fixture Description>","LED - DLC Fixture","LED Four Pin-Base CFL Replacement",5]
["PL27","N","LED Architectural Flood and Spot Luminaires",null,null,"LED - DLC Fixture","LED Architectural Flood and Spot Luminaires",75]
["PL28","N","LED Bollard Fixtures",null,null,"LED - DLC Fixture","LED Bollard Fixtures",50]
["PL29","N","LED Fuel Pump Canopy",null,null,"LED - DLC Fixture","LED Fuel Pump Canopy",100]
["PL30","N","LED Outdoor Wall-Mounted Area Luminaires",null,null,"LED - DLC Fixture","LED Outdoor Wall-Mounted Area Luminaires",100]
["PL31","N","LED Outdoor Pole/Arm-Mounted Area and Roadway Luminaires",null,null,"LED - DLC Fixture","LED Outdoor Pole/Arm-Mounted Area and Roadway Luminaires",100]
["PL32","N","LED Outdoor Pole/Arm-Mounted Decorative Luminaires",null,null,"LED - DLC Fixture","LED Outdoor Pole/Arm-Mounted Decorative Luminaires",50]
["PL33","N","LED Parking Garage Luminaires",null,null,"LED - DLC Fixture","LED Parking Garage Luminaires",100]
["PL34","N","LED Retrofit Kits for Large Outdoor Pole/Arm-Mounted Area and Roadway Luminaires",null,null,"LED - DLC Fixture","LED Retrofit Kits for Large Outdoor Pole/Arm-Mounted Area and Roadway Luminaires",150]
["PL35","Y","Mogul Screw-Base (E39) Replacements for HID Lamps ≤125W ",null,null,"LED - DLC Fixture","Mogul Screw-Base (E39) Replacements for HID Lamps ≤125W ",50]
["PL36","Y","Mogul Screw-Base (E39) Replacements for HID Lamps >125W to ≤250W ",null,null,"LED - DLC Fixture","Mogul Screw-Base (E39) Replacements for HID Lamps >125W to ≤250W ",75]
["PL37","Y","Mogul Screw-Base (E39) Replacements for HID Lamps >250W ",null,null,"LED - DLC Fixture","Mogul Screw-Base (E39) Replacements for HID Lamps >250W ",150]
["PL38","N","LED Display Case Lighting",null,null,"LED - DLC Fixture","LED Display Case Lighting",30]
["PL39","Y","LED Refrigerated Case Luminaires (Horizontal or Vertical) - 4'","Refrigerated Case Lighting - Fluorescent","4' Fixture","LED - DLC Fixture","LED Refrigerated Case Luminaires (Horizontal or Vertical) - 4'",30]
["PL40","Y","LED Refrigerated Case Luminaires (Horizontal or Vertical) - 5'","Refrigerated Case Lighting - Fluorescent","5' Fixture","LED - DLC Fixture","LED Refrigerated Case Luminaires (Horizontal or Vertical) - 5'",42]
["PL41","Y","LED Refrigerated Case Luminaires (Horizontal or Vertical) - 6'","Refrigerated Case Lighting - Fluorescent","6' Fixture","LED - DLC Fixture","LED Refrigerated Case Luminaires (Horizontal or Vertical) - 6'",65]
["PL42","Y","LED Bulb (all not listed in PL43 or PL44)",null,null,"LED - Energy Star Screw-In/Plug-In","LED Bulb (all not listed in PL43 or PL44)",1]
["PL43","Y","LED Bulb (R14, R16, G16.5, G25, PAR16, PAR20, R20, BR20)",null,null,"LED - Energy Star Screw-In/Plug-In","LED Bulb (R14, R16, G16.5, G25, PAR16, PAR20, R20, BR20)",2]
["PL44","Y","LED Bulb (G30, G40, PAR30, PAR40, R30, BR30, BR40)",null,null,"LED - Energy Star Screw-In/Plug-In","LED Bulb (G30, G40, PAR30, PAR40, R30, BR30, BR40)",3]
["PL45","N","Accent Line Voltage",null,null,"LED - Energy Star Fixture-Retrofit","Accent Line Voltage",15]
["PL46","N","Bath Vanity",null,null,"LED - Energy Star Fixture-Retrofit","Bath Vanity",5]
["PL47","N","Ceiling Mount",null,null,"LED - Energy Star Fixture-Retrofit","Ceiling Mount",5]
["PL48","N","Close to Ceiling Mount",null,null,"LED - Energy Star Fixture-Retrofit","Close to Ceiling Mount",5]
["PL49","N","Cove Mount",null,null,"LED - Energy Star Fixture-Retrofit","Cove Mount",5]
["PL50","N","Decorative Pendant",null,null,"LED - Energy Star Fixture-Retrofit","Decorative Pendant",5]
["PL51","N","Downlight Pendant",null,null,"LED - Energy Star Fixture-Retrofit","Downlight Pendant",5]
["PL52","N","Downlight Recessed",null,null,"LED - Energy Star Fixture-Retrofit","Downlight Recessed",5]
["PL53","N","Downlight Solid State Retrofit",null,null,"LED - Energy Star Fixture-Retrofit","Downlight Solid State Retrofit",5]
["PL54","N","Downlight Surface Mount",null,null,"LED - Energy Star Fixture-Retrofit","Downlight Surface Mount",5]
["PL55","N","Linear Strip",null,null,"LED - Energy Star Fixture-Retrofit","Linear Strip",10]
["PL56","N","Other",null,null,"LED - Energy Star Fixture-Retrofit","Other",5]
["PL57","N","Outdoor Porch Wall Mount",null,null,"LED - Energy Star Fixture-Retrofit","Outdoor Porch Wall Mount",5]
["PL58","N","Outdoor Post-Mount",null,null,"LED - Energy Star Fixture-Retrofit","Outdoor Post-Mount",5]
["PL59","N","Porch (Wall Mounted)",null,null,"LED - Energy Star Fixture-Retrofit","Porch (Wall Mounted)",5]
["PL60","N","Portable Desk Task Light",null,null,"LED - Energy Star Fixture-Retrofit","Portable Desk Task Light",5]
["PL61","N","Security",null,null,"LED - Energy Star Fixture-Retrofit","Security",5]
["PL62","N","Torchiere",null,null,"LED - Energy Star Fixture-Retrofit","Torchiere",5]
["PL63","N","Under Cabinet",null,null,"LED - Energy Star Fixture-Retrofit","Under Cabinet",10]
["PL64","N","Wall Sconces",null,null,"LED - Energy Star Fixture-Retrofit","Wall Sconces",5]
["PL65","N","Wrapped Lens",null,null,"LED - Energy Star Fixture-Retrofit","Wrapped Lens",5]

{"sheet":"Measure Code Menus","index":3,"n_rows":40,"n_cols":214,"rows_kept":40,"cut":false,"hidden":true,"merged":[[0,206,0,207],[1,206,1,207],[0,208,0,209],[1,208,1,209],[0,202,0,203],[1,202,1,203],[0,204,0,205],[1,204,1,205],[0,210,0,211],[1,210,1,211],[0,198,0,199],[1,198,1,199],[0,192,0,193],[1,192,1,193],[0,194,0,195],[1,194,1,195],[0,196,0,197],[1,196,1,197],[0,200,0,201],[1,200,1,201],[0,186,0,187],[1,186,1,187],[0,188,0,189],[1,188,1,189],[0,190,0,191],[1,190,1,191],[0,180,0,181],[1,180,1,181],[0,182,0,183],[1,182,1,183],[0,184,0,185],[1,184,1,185],[1,126,1,127],[0,132,0,133],[0,130,0,131],[0,174,0,175],[1,174,1,175],[0,176,0,177],[1,176,1,177],[0,178,0,179],[1,178,1,179],[0,172,0,173],[1,172,1,173],[0,168,0,171],[1,168,1,171],[0,134,0,137],[1,134,1,137],[0,138,0,141],[1,138,1,141],[1,132,1,133],[1,130,1,131],[0,148,0,151],[1,148,1,151],[1,142,1,145],[0,142,0,145],[1,164,1,167],[0,120,0,121],[1,0,1,9],[1,10,1,19],[1,20,1,29],[1,64,1,65],[1,66,1,67],[1,68,1,69],[1,70,1,71],[1,60,1,61],[1,62,1,63],[1,30,1,39],[1,40,1,49],[1,50,1,51],[1,52,1,53],[1,54,1,55],[1,56,1,57],[1,58,1,59],[1,124,1,125],[0,0,0,9],[0,60,0,61],[0,62,0,63],[0,126,0,127],[0,128,0,129],[0,52,0,53],[0,54,0,55],[0,56,0,57],[0,58,0,59],[0,64,0,65],[0,74,0,75],[0,30,0,39],[0,40,0,49],[0,78,0,87],[0,88,0,97],[0,98,0,107],[0,10,0,19],[0,20,0,29],[0,50,0,51],[0,66,0,67],[0,68,0,69],[0,70,0,71],[0,72,0,73],[0,164,0,167],[0,152,0,155],[1,152,1,155],[0,156,0,159],[1,156,1,159],[0,146,0,147],[1,146,1,147],[0,160,0,163],[1,160,1,163],[0,212,0,213],[1,212,1,213],[1,72,1,73],[1,108,1,109],[1,110,1,111],[1,76,1,77],[1,112,1,113],[1,114,1,117],[1,120,1,121],[1,122,1,123],[1,74,1,75],[1,118,1,119],[0,108,0,109],[0,110,0,111],[0,76,0,77],[0,112,0,113],[0,124,0,125],[1,128,1,129],[1,98,1,107],[1,78,1,87],[1,88,1,97],[0,114,0,117],[0,122,0,123],[0,118,0,119]]}
["PL1",null,null,null,null,null,null,null,null,null,"PL2",null,null,null,null,null,null,null,null,null,"PL3",null,null,null,null,null,null,null,null,null,"PL4",null,null,null,null,null,null,null,null,null,"PL5",null,null,null,null,null,null,null,null,null,"PL6",null,"PL7",null,"PL8",null,"PL9",null,"PL10",null,"PL11",null,"PL12",null,"PL13",null,"PL14",null,"PL15",null,"PL16",null,"PL17",null,"PL18",null,"PL19",null,"PL20",null,null,null,null,null,null,null,null,null,"PL21",null,null,null,null,null,null,null,null,null,"PL22",null,null,null,null,null,null,null,null,null,"PL23",null,"PL24",null,"PL25",null,"PL26",null,null,null,"PL27",null,"PL28",null,"PL29",null,"PL30",null,"PL31",null,"PL32",null,"PL33",null,"PL34",null,"PL35",null,null,null,"PL36",null,null,null,"PL37",null,null,null,"PL38",null,"PL39",null,null,null,"PL40",null,null,null,"PL41",null,null,null,"PL42",null,null,null,"PL43",null,null,null,"PL44",null,null,null,"PL45",null,"PL46",null,"PL47",null,"PL48",null,"PL49",null,"PL50",null,"PL51",null,"PL52",null,"PL53",null,"PL54",null,"PL55",null,"PL56",null,"PL57",null,"PL58",null,"PL59",null,"PL60",null,"PL61",null,"PL62",null,"PL63",null,"PL64",null,"PL65"]
[{"$f":"VLOOKUP(A1,MeasureCode_Lookup,3,FALSE)","v":"LED Tube – 2' Linear Replacement Lamps"},null,{"$f":"VLOOKUP(C1,MeasureCode_Lookup,3,FALSE)","v":{"$error":"#N/A"}},null,{"$f":"VLOOKUP(E1,MeasureCode_Lookup,3,FALSE)","v":{"$error":"#N/A"}},null,{"$f":"VLOOKUP(G1,MeasureCode_Lookup,3,FALSE)","v":{"$error":"#N/A"}},null,{"$f":"VLOOKUP(I1,MeasureCode_Lookup,3,FALSE)","v":{"$error":"#N/A"}},null,{"$f":"VLOOKUP(K1,MeasureCode_Lookup,3,FALSE)","v":"LED Tube – 3' Linear Replacement Lamps"},null,{"$f":"VLOOKUP(M1,MeasureCode_Lookup,3,FALSE)","v":{"$error":"#N/A"}},null,{"$f":"VLOOKUP(O1,MeasureCode_Lookup,3,FALSE)","v":{"$error":"#N/A"}},null,{"$f":"VLOOKUP(Q1,MeasureCode_Lookup,3,FALSE)","v":{"$error":"#N/A"}},null,{"$f":"VLOOKUP(S1,MeasureCode_Lookup,3,FALSE)","v":{"$error":"#N/A"}},null,{"$f":"VLOOKUP(U1,MeasureCode_Lookup,3,FALSE)","v":"LED Tube – 4' Linear Replacement Lamps"},null,{"$f":"VLOOKUP(W1,MeasureCode_Lookup,3,FALSE)","v":{"$error":"#N/A"}},null,{"$f":"VLOOKUP(Y1,MeasureCode_Lookup,3,FALSE)","v":{"$error":"#N/A"}},null,{"$f":"VLOOKUP(AA1,MeasureCode_Lookup,3,FALSE)","v":{"$error":"#N/A"}},null,{"$f":"VLOOKUP(AC1,MeasureCode_Lookup,3,FALSE)","v":{"$error":"#N/A"}},null,{"$f":"VLOOKUP(AE1,MeasureCode_Lookup,3,FALSE)","v":"LED Tube – 8' Linear Replacement Lamps"},null,null,null,null,null,null,null,null,null,{"$f":"VLOOKUP(AO1,MeasureCode_Lookup,3,FALSE)","v":"LED Tube – U-Bend Replacement Lamps"},null,null,null,null,null,null,null,null,null,{"$f":"VLOOKUP(AY1,MeasureCode_Lookup,3,FALSE)","v":"LED Luminaire for Ambient Lighting of Commercial Spaces - 1x4"},null,{"$f":"VLOOKUP(BA1,MeasureCode_Lookup,3,FALSE)","v":"LED Luminaire for Ambient Lighting of Commercial Spaces - 2x2"},null,{"$f":"VLOOKUP(BC1,MeasureCode_Lookup,3,FALSE)","v":"LED Luminaire for Ambient Lighting of Commercial Spaces - 2x4"},null,{"$f":"VLOOKUP(BE1,MeasureCode_Lookup,3,FALSE)","v":"LED High-Bay and Low-Bay Fixtures ≤125W "},null,{"$f":"VLOOKUP(BG1,MeasureCode_Lookup,3,FALSE)","v":"LED High-Bay and Low-Bay Fixtures >125W to ≤250W "},null,{"$f":"VLOOKUP(BI1,MeasureCode_Lookup,3,FALSE)","v":"LED High-Bay and Low-Bay Fixtures >250W "},null,{"$f":"VLOOKUP(BK1,MeasureCode_Lookup,3,FALSE)","v":"LED High-Bay-Aisle Lighting  ≤125W "},null,{"$f":"VLOOKUP(BM1,MeasureCode_Lookup,3,FALSE)","v":"LED High-Bay-Aisle Lighting  >125W to ≤250W "},null,{"$f":"VLOOKUP(BO1,MeasureCode_Lookup,3,FALSE)","v":"LED High-Bay-Aisle Lighting  >250W "},null,{"$f":"VLOOKUP(BQ1,MeasureCode_Lookup,3,FALSE)","v":"LED Luminaire Ambient - 2' - Indirect, Indirect/Direct, Direct/Indirect & Direct"},null,{"$f":"VLOOKUP(BS1,MeasureCode_Lookup,3,FALSE)","v":"LED Luminaire Ambient - 3' - Indirect, Indirect/Direct, Direct/Indirect & Direct"},null,{"$f":"VLOOKUP(BU1,MeasureCode_Lookup,3,FALSE)","v":"LED Luminaire Ambient - 4' - Indirect, Indirect/Direct, Direct/Indirect & Direct"},null,{"$f":"VLOOKUP(BW1,MeasureCode_Lookup,3,FALSE)","v":"LED Luminaire Ambient - 6' - Indirect, Indirect/Direct, Direct/Indirect & Direct"},null,{"$f":"VLOOKUP(BY1,MeasureCode_Lookup,3,FALSE)","v":"LED Luminaire Ambient - 8' - Indirect, Indirect/Direct, Direct/Indirect & Direct"},null,{"$f":"VLOOKUP(CA1,MeasureCode_Lookup,3,FALSE)","v":"Retrofit Kit for LED Linear Ambient Luminaire - 2'"},null,null,null,null,null,null,null,null,null,{"$f":"VLOOKUP(CK1,MeasureCode_Lookup,3,FALSE)","v":"Retrofit Kit for LED Linear Ambient Luminaire - 4'"},null,null,null,null,null,null,null,null,null,{"$f":"VLOOKUP(CU1,MeasureCode_Lookup,3,FALSE)","v":"Retrofit Kit for LED Linear Ambient Luminaire - 8'"},null,{"$f":"VLOOKUP(CW1,MeasureCode_Lookup,3,FALSE)","v":{"$error":"#N/A"}},null,null,null,null,null,null,null,{"$f":"VLOOKUP(DE1,MeasureCode_Lookup,3,FALSE)","v":"LED Stairwell and Passageway Lighting"},null,{"$f":"VLOOKUP(DG1,MeasureCode_Lookup,3,FALSE)","v":"LED Track or Mono-Point Directional Lighting Fixtures"},null,{"$f":"VLOOKUP(DI1,MeasureCode_Lookup,3,FALSE)","v":"LED Wall-Wash Lights"},null,{"$f":"VLOOKUP(DK1,MeasureCode_Lookup,3,FALSE)","v":"LED Four Pin-Base CFL Replacement"},null,{"$f":"VLOOKUP(DM1,MeasureCode_Lookup,3,FALSE)","v":{"$error":"#N/A"}},null,{"$f":"VLOOKUP(DO1,MeasureCode_Lookup,3,FALSE)","v":"LED Architectural Flood and Spot Luminaires"},null,{"$f":"VLOOKUP(DQ1,MeasureCode_Lookup,3,FALSE)","v":"LED Bollard Fixtures"},null,{"$f":"VLOOKUP(DS1,MeasureCode_Lookup,3,FALSE)","v":"LED Fuel Pump Canopy"},null,{"$f":"VLOOKUP(DU1,MeasureCode_Lookup,3,FALSE)","v":"LED Outdoor Wall-Mounted Area Luminaires"},null,{"$f":"VLOOKUP(DW1,MeasureCode_Lookup,3,FALSE)","v":"LED Outdoor Pole/Arm-Mounted Area and Roadway Luminaires"},null,{"$f":"VLOOKUP(DY1,MeasureCode_Lookup,3,FALSE)","v":"LED Outdoor Pole/Arm-Mounted Decorative Luminaires"},null,{"$f":"VLOOKUP(EA1,MeasureCode_Lookup,3,FALSE)","v":"LED Parking Garage Luminaires"},null,{"$f":"VLOOKUP(EC1,MeasureCode_Lookup,3,FALSE)","v":"LED Retrofit Kits for Large Outdoor Pole/Arm-Mounted Area and Roadway Luminaires"},null,{"$f":"VLOOKUP(EE1,MeasureCode_Lookup,3,FALSE)","v":"Mogul Screw-Base (E39) Replacements for HID Lamps ≤125W "},null,null,null,{"$f":"VLOOKUP(EI1,MeasureCode_Lookup,3,FALSE)","v":"Mogul Screw-Base (E39) Replacements for HID Lamps >125W to ≤250W "},null,null,null,{"$f":"VLOOKUP(EM1,MeasureCode_Lookup,3,FALSE)","v":"Mogul Screw-Base (E39) Replacements for HID Lamps >250W "},null,null,null,{"$f":"VLOOKUP(EQ1,MeasureCode_Lookup,3,FALSE)","v":"LED Display Case Lighting"},null,{"$f":"VLOOKUP(ES1,MeasureCode_Lookup,3,FALSE)","v":"LED Refrigerated Case Luminaires (Horizontal or Vertical) - 4'"},null,null,null,{"$f":"VLOOKUP(EW1,MeasureCode_Lookup,3,FALSE)","v":"LED Refrigerated Case Luminaires (Horizontal or Vertical) - 5'"},null,null,null,{"$f":"VLOOKUP(FA1,MeasureCode_Lookup,3,FALSE)","v":"LED Refrigerated Case Luminaires (Horizontal or Vertical) - 6'"},null,null,null,{"$f":"VLOOKUP(FE1,MeasureCode_Lookup,3,FALSE)","v":"LED Bulb (all not listed in PL43 or PL44)"},null,null,null,{"$f":"VLOOKUP(FI1,MeasureCode_Lookup,3,FALSE)","v":"LED Bulb (R14, R16, G16.5, G25, PAR16, PAR20, R20, BR20)"},null,null,null,{"$f":"VLOOKUP(FM1,MeasureCode_Lookup,3,FALSE)","v":"LED Bulb (G30, G40, PAR30, PAR40, R30, BR30, BR40)"},null,null,null,{"$f":"VLOOKUP(FQ1,MeasureCode_Lookup,3,FALSE)","v":"Accent Line Voltage"},null,{"$f":"VLOOKUP(FS1,MeasureCode_Lookup,3,FALSE)","v":"Bath Vanity"},null,{"$f":"VLOOKUP(FU1,MeasureCode_Lookup,3,FALSE)","v":"Ceiling Mount"},null,{"$f":"VLOOKUP(FW1,MeasureCode_Lookup,3,FALSE)","v":"Close to Ceiling Mount"},null,{"$f":"VLOOKUP(FY1,MeasureCode_Lookup,3,FALSE)","v":"Cove Mount"},null,{"$f":"VLOOKUP(GA1,MeasureCode_Lookup,3,FALSE)","v":"Decorative Pendant"},null,{"$f":"VLOOKUP(GC1,MeasureCode_Lookup,3,FALSE)","v":"Downlight Pendant"},null,{"$f":"VLOOKUP(GE1,MeasureCode_Lookup,3,FALSE)","v":"Downlight Recessed"},null,{"$f":"VLOOKUP(GG1,MeasureCode_Lookup,3,FALSE)","v":"Downlight Solid State Retrofit"},null,{"$f":"VLOOKUP(GI1,MeasureCode_Lookup,3,FALSE)","v":"Downlight Surface Mount"},null,{"$f":"VLOOKUP(GK1,MeasureCode_Lookup,3,FALSE)","v":"Linear Strip"},null,{"$f":"VLOOKUP(GM1,MeasureCode_Lookup,3,FALSE)","v":"Other"},null,{"$f":"VLOOKUP(GO1,MeasureCode_Lookup,3,FALSE)","v":"Outdoor Porch Wall Mount"},null,{"$f":"VLOOKUP(GQ1,MeasureCode_Lookup,3,FALSE)","v":"Outdoor Post-Mount"},null,{"$f":"VLOOKUP(GS1,MeasureCode_Lookup,3,FALSE)","v":"Porch (Wall Mounted)"},null,{"$f":"VLOOKUP(GU1,MeasureCode_Lookup,3,FALSE)","v":"Portable Desk Task Light"},null,{"$f":"VLOOKUP(GW1,MeasureCode_Lookup,3,FALSE)","v":"Security"},null,{"$f":"VLOOKUP(GY1,MeasureCode_Lookup,3,FALSE)","v":"Torchiere"},null,{"$f":"VLOOKUP(HA1,MeasureCode_Lookup,3,FALSE)","v":"Under Cabinet"},null,{"$f":"VLOOKUP(HC1,MeasureCode_Lookup,3,FALSE)","v":"Wall Sconces"},null,{"$f":"VLOOKUP(HE1,MeasureCode_Lookup,3,FALSE)","v":"Wrapped Lens"}]
["PL1EType","Index","PL1PType","Index",null,null,null,null,null,null,"PL2EType","Index","PL2PType","Index",null,null,null,null,null,null,"PL3EType","Index","PL3PType","Index",null,null,null,null,null,null,"PL4EType","Index","PL4PType","Index",null,null,null,null,null,null,"PL5EType","Index","PL5PType","Index",null,null,null,null,null,null,"PL6PType","Index","PL7PType","Index","PL8PType","Index","PL9PType","Index","PL10PType","Index","PL11PType","Index","PL12PType","Index","PL13PType","Index","PL14PType","Index","PL15PType","Index","PL16PType","Index","PL17PType","Index","PL18PType","Index","PL19PType","Index","PL20EType","Index","PL20PType","Index",null,null,null,null,null,null,"PL21EType","Index","PL21PType","Index",null,null,null,null,null,null,"PL22EType","Index","PL22PType","Index",null,null,null,null,null,null,"PL23PType","Index","PL24PType","Index","PL25PType","Index","PL26EType","Index","PL26PType","Index","PL27PType","Index","PL28PType","Index","PL29PType","Index","PL30PType","Index","PL31PType","Index","PL32PType","Index","PL33PType","Index","PL34PType","Index","PL35EType","Index","PL35PType","Index","PL36EType","Index","PL36PType","Index","PL37EType","Index","PL37PType","Index","PL38PType","Index","PL39EType","Index","PL39PType","Index","PL40EType","Index","PL40PType","Index","PL41EType","Index","PL41PType","Index","PL42EType","Index","PL42PType","Index","PL43EType","Index","PL43PType","Index","PL44EType","Index","PL44PType","Index","PL45PType","Index","PL46PType","Index","PL47PType","Index","PL48PType","Index","PL49PType","Index","PL50PType","Index","PL51PType","Index","PL52PType","Index","PL53PType","Index","PL54PType","Index","PL55PType","Index","PL56PType","Index","PL57PType","Index","PL58PType","Index","PL59PType","Index","PL60PType","Index","PL61PType","Index","PL62PType","Index","PL63PType","Index","PL64PType","Index","PL65PType","Index"]
["Linear Fluorescent - T12",1,"LED - DLC Fixture",1,null,null,null,null,null,null,"Linear Fluorescent - T12",1,"LED - DLC Fixture",1,null,null,null,null,null,null,"Linear Fluorescent - T12",1,"LED - DLC Fixture",1,null,null,null,null,null,null,"Linear Fluorescent - T12",1,"LED - DLC Fixture",1,null,null,null,null,null,null,"Linear Fluorescent - T12",1,"LED - DLC Fixture",1,null,null,null,null,null,null,"LED - DLC Fixture",1,"LED - DLC Fixture",1,"LED - DLC Fixture",1,"LED - DLC Fixture",1,"LED - DLC Fixture",1,"LED - DLC Fixture",1,"LED - DLC Fixture",1,"LED - DLC Fixture",1,"LED - DLC Fixture",1,"LED - DLC Fixture",1,"LED - DLC Fixture",1,"LED - DLC Fixture",1,"LED - DLC Fixture",1,"LED - DLC Fixture",1,"Linear Fluorescent - T12",1,"LED - DLC Fixture",1,null,null,null,null,null,null,"Linear Fluorescent - T12",1,"LED - DLC Fixture",1,null,null,null,null,null,null,"Linear Fluorescent - T12",1,"LED - DLC Fixture",1,null,null,null,null,null,null,"LED - DLC Fixture",1,"LED - DLC Fixture",1,"LED - DLC Fixture",1,"Compact Fluorescent",1,"LED - DLC Fixture",1,"LED - DLC Fixture",1,"LED - DLC Fixture",1,"LED - DLC Fixture",1,"LED - DLC Fixture",1,"LED - DLC Fixture",1,"LED - DLC Fixture",1,"LED - DLC Fixture",1,"LED - DLC Fixture",1,"HID - High-Pressure Sodium",1,"LED - DLC Fixture",1,"HID - High-Pressure Sodium",1,"LED - DLC Fixture",1,"HID - High-Pressure Sodium",1,"LED - DLC Fixture",1,"LED - DLC Fixture",1,"Refrigerated Case Lighting - Fluorescent",1,"LED - DLC Fixture",1,"Refrigerated Case Lighting - Fluorescent",1,"LED - DLC Fixture",1,"Refrigerated Case Lighting - Fluorescent",1,"LED - DLC Fixture",1,"Incandescent",1,"LED - Energy Star Screw-In/Plug-In",1,"Incandescent",1,"LED - Energy Star Screw-In/Plug-In",1,"Incandescent",1,"LED - Energy Star Screw-In/Plug-In",1,"LED - Energy Star Fixture-Retrofit",1,"LED - Energy Star Fixture-Retrofit",1,"LED - Energy Star Fixture-Retrofit",1,"LED - Energy Star Fixture-Retrofit",1,"LED - Energy Star Fixture-Retrofit",1,"LED - Energy Star Fixture-Retrofit",1,"LED - Energy Star Fixture-Retrofit",1,"LED - Energy Star Fixture-Retrofit",1,"LED - Energy Star Fixture-Retrofit",1,"LED - Energy Star Fixture-Retrofit",1,"LED - Energy Star Fixture-Retrofit",1,"LED - Energy Star Fixture-Retrofit",1,"LED - Energy Star Fixture-Retrofit",1,"LED - Energy Star Fixture-Retrofit",1,"LED - Energy Star Fixture-Retrofit",1,"LED - Energy Star Fixture-Retrofit",1,"LED - Energy Star Fixture-Retrofit",1,"LED - Energy Star Fixture-Retrofit",1,"LED - Energy Star Fixture-Retrofit",1,"LED - Energy Star Fixture-Retrofit",1,"LED - Energy Star Fixture-Retrofit",1]
["Linear Fluorescent - T12HO",2,null,null,null,null,null,null,null,null,"Linear Fluorescent - T12HO",2,null,null,null,null,null,null,null,null,"Linear Fluorescent - T12HO",2,null,null,null,null,null,null,null,null,"Linear Fluorescent - T12HO",2,null,null,null,null,null,null,null,null,"Linear Fluorescent - T12HO",2,null,null,null,null,null,null,null,null,null,null,null,null,null,null,null,null,null,null,null,null,null,null,null,null,null,null,null,null,null,null,null,null,null,null,null,null,"Linear Fluorescent - T12HO",2,null,null,null,null,null,null,null,null,"Linear Fluorescent - T12HO",2,null,null,null,null,null,null,null,null,"Linear Fluorescent - T12HO",2,null,null,null,null,null,null,null,null,null,null,null,null,null,null,null,null,null,null,null,null,null,null,null,null,null,null,null,null,null,null,null,null,null,null,"HID - Mercury Vapor",2,null,null,"HID - Mercury Vapor",2,null,null,"HID - Mercury Vapor",2,null,null,null,null,null,null,null,null,null,null,null,null,null,null,null,null,"Halogen Incandescent",2,null,null,"Halogen Incandescent",2,null,null,"Halogen Incandescent",2]
["Linear Fluorescent - T8",3,null,null,null,null,null,null,null,null,"Linear Fluorescent - T8",3,null,null,null,null,null,null,null,null,"Linear Fluorescent - T8",3,null,null,null,null,null,null,null,null,"Linear Fluorescent - T8",3,null,null,null,null,null,null,null,null,"Linear Fluorescent - T8",3,null,null,null,null,null,null,null,null,null,null,null,null,null,null,null,null,null,null,null,null,null,null,null,null,null,null,null,null,null,null,null,null,null,null,null,null,"Linear Fluorescent - T8",3,null,null,null,null,null,null,null,null,"Linear Fluorescent - T8",3,null,null,null,null,null,null,null,null,"Linear Fluorescent - T8",3,null,null,null,null,null,null,null,null,null,null,null,null,null,null,null,null,null,null,null,null,null,null,null,null,null,null,null,null,null,null,null,null,null,null,"HID - Metal Halide",3,null,null,"HID - Metal Halide",3,null,null,"HID - Metal Halide",3,null,null,null,null,null,null,null,null,null,null,null,null,null,null,null,null,"Compact Fluorescent",3,null,null,"Compact Fluorescent",3,null,null,"Compact Fluorescent",3]
["Linear Fluorescent - RWT8",4,null,null,null,null,null,null,null,null,"Linear Fluorescent - RWT8",4,null,null,null,null,null,null,null,null,"Linear Fluorescent - RWT8",4,null,null,null,null,null,null,null,null,"Linear Fluorescent - RWT8",4,null,null,null,null,null,null,null,null,"Linear Fluorescent - RWT8",4,null,null,null,null,null,null,null,null,null,null,null,null,null,null,null,null,null,null,null,null,null,null,null,null,null,null,null,null,null,null,null,null,null,null,null,null,"Linear Fluorescent - RWT8",4,null,null,null,null,null,null,null,null,"Linear Fluorescent - RWT8",4,null,null,null,null,null,null,null,null,"Linear Fluorescent - RWT8",4]
["Linear Fluorescent - T8HO",5,null,null,null,null,null,null,null,null,"Linear Fluorescent - T8HO",5,null,null,null,null,null,null,null,null,"Linear Fluorescent - T8HO",5,null,null,null,null,null,null,null,null,"Linear Fluorescent - T8HO",5,null,null,null,null,null,null,null,null,"Linear Fluorescent - T8HO",5,null,null,null,null,null,null,null,null,null,null,null,null,null,null,null,null,null,null,null,null,null,null,null,null,null,null,null,null,null,null,null,null,null,null,null,null,"Linear Fluorescent - T8HO",5,null,null,null,null,null,null,null,null,"Linear Fluorescent - T8HO",5,null,null,null,null,null,null,null,null,"Linear Fluorescent - T8HO",5]
["Linear Fluorescent - T5",6,null,null,null,null,null,null,null,null,"Linear Fluorescent - T5",6,null,null,null,null,null,null,null,null,"Linear Fluorescent - T5",6,null,null,null,null,null,null,null,null,"Linear Fluorescent - T5",6,null,null,null,null,null,null,null,null,"Linear Fluorescent - T5",6,null,null,null,null,null,null,null,null,null,null,null,null,null,null,null,null,null,null,null,null,null,null,null,null,null,null,null,null,null,null,null,null,null,null,null,null,"Linear Fluorescent - T5",6,null,null,null,null,null,null,null,null,"Linear Fluorescent - T5",6,null,null,null,null,null,null,null,null,"Linear Fluorescent - T5",6]
["Linear Fluorescent - T5HO",7,null,null,null,null,null,null,null,null,"Linear Fluorescent - T5HO",7,null,null,null,null,null,null,null,null,"Linear Fluorescent - T5HO",7,null,null,null,null,null,null,null,null,"Linear Fluorescent - T5HO",7,null,null,null,null,null,null,null,null,"Linear Fluorescent - T5HO",7,null,null,null,null,null,null,null,null,null,null,null,null,null,null,null,null,null,null,null,null,null,null,null,null,null,null,null,null,null,null,null,null,null,null,null,null,"Linear Fluorescent - T5HO",7,null,null,null,null,null,null,null,null,"Linear Fluorescent - T5HO",7,null,null,null,null,null,null,null,null,"Linear Fluorescent - T5HO",7]
["U-Bend Fluorescent - T12",8,null,null,null,null,null,null,null,null,"U-Bend Fluorescent - T12",8,null,null,null,null,null,null,null,null,"U-Bend Fluorescent - T12",8,null,null,null,null,null,null,null,null,"U-Bend Fluorescent - T12",8,null,null,null,null,null,null,null,null,"U-Bend Fluorescent - T12",8,null,null,null,null,null,null,null,null,null,null,null,null,null,null,null,null,null,null,null,null,null,null,null,null,null,null,null,null,null,null,null,null,null,null,null,null,"U-Bend Fluorescent - T12",8,null,null,null,null,null,null,null,null,"U-Bend Fluorescent - T12",8,null,null,null,null,null,null,null,null,"U-Bend Fluorescent - T12",8]
["U-Bend Fluorescent - T8",9,null,null,null,null,null,null,null,null,"U-Bend Fluorescent - T8",9,null,null,null,null,null,null,null,null,"U-Bend Fluorescent - T8",9,null,null,null,null,null,null,null,null,"U-Bend Fluorescent - T8",9,null,null,null,null,null,null,null,null,"U-Bend Fluorescent - T8",9,null,null,null,null,null,null,null,null,null,null,null,null,null,null,null,null,null,null,null,null,null,null,null,null,null,null,null,null,null,null,null,null,null,null,null,null,"U-Bend Fluorescent - T8",9,null,null,null,null,null,null,null,null,"U-Bend Fluorescent - T8",9,null,null,null,null,null,null,null,null,"U-Bend Fluorescent - T8",9]
["U-Bend Fluorescent - RWT8",10,null,null,null,null,null,null,null,null,"U-Bend Fluorescent - RWT8",10,null,null,null,null,null,null,null,null,"U-Bend Fluorescent - RWT8",10,null,null,null,null,null,null,null,null,"U-Bend Fluorescent - RWT8",10,null,null,null,null,null,null,null,null,"U-Bend Fluorescent - RWT8",10,null,null,null,null,null,null,null,null,null,null,null,null,null,null,null,null,null,null,null,null,null,null,null,null,null,null,null,null,null,null,null,null,null,null,null,null,"U-Bend Fluorescent - RWT8",10,null,null,null,null,null,null,null,null,"U-Bend Fluorescent - RWT8",10,null,null,null,null,null,null,null,null,"U-Bend Fluorescent - RWT8",10]
[]
["PL1EDesc1","PL1EDesc2","PL1EDesc3","PL1EDesc4","PL1EDesc5","PL1EDesc6","PL1EDesc7","PL1EDesc8","PL1EDesc9","PL1EDesc10","PL2EDesc1","PL2EDesc2","PL2EDesc3","PL2EDesc4","PL2EDesc5","PL2EDesc6","PL2EDesc7","PL2EDesc8","PL2EDesc9","PL2EDesc10","PL3EDesc1","PL3EDesc2","PL3EDesc3","PL3EDesc4","PL3EDesc5","PL3EDesc6","PL3EDesc7","PL3EDesc8","PL3EDesc9","PL3EDesc10","PL4EDesc1","PL4EDesc2","PL4EDesc3","PL4EDesc4","PL4EDesc5","PL4EDesc6","PL4EDesc7","PL4EDesc8","PL4EDesc9","PL4EDesc10","PL5EDesc1","PL5EDesc2","PL5EDesc3","PL5EDesc4","PL5EDesc5","PL5EDesc6","PL5EDesc7","PL5EDesc8","PL5EDesc9","PL5EDesc10",null,null,null,null,null,null,null,null,null,null,null,null,null,null,null,null,null,null,null,null,null,null,null,null,null,null,null,null,"PL20EDesc1","PL20EDesc2","PL20EDesc3","PL20EDesc4","PL20EDesc5","PL20EDesc6","PL20EDesc7","PL20EDesc8","PL20EDesc9","PL20EDesc10","PL21EDesc1","PL21EDesc2","PL21EDesc3","PL21EDesc4","PL21EDesc5","PL21EDesc6","PL21EDesc7","PL21EDesc8","PL21EDesc9","PL21EDesc10","PL22EDesc1","PL22EDesc2","PL22EDesc3","PL22EDesc4","PL22EDesc5","PL22EDesc6","PL22EDesc7","PL22EDesc8","PL22EDesc9","PL22EDesc10",null,null,null,null,null,null,"PL26EDesc1",null,null,null,null,null,null,null,null,null,null,null,null,null,null,null,null,null,null,null,"PL35EDesc1","PL35EDesc2","PL35EDesc3",null,"PL36EDesc1","PL36EDesc2","PL36EDesc3",null,"PL37EDesc1","PL37EDesc2","PL37EDesc3",null,null,null,"PL39EDesc1",null,null,null,"PL40EDesc1",null,null,null,"PL41EDesc1",null,null,null,"PL42EDesc1","PL42EDesc2","PL42EDesc3",null,"PL43EDesc1","PL43EDesc2","PL43EDesc3",null,"PL44EDesc1","PL44EDesc2","PL44EDesc3"]
["2' T12 (20W) - 1L","8' T12HO (110W) - 1L","2' T8 (17W) - 1L","4' RWT8 (28W) - 1L","8' T8HO (86W) - 1L","2' T5 (14W) - 1L","2' T5HO (24W) - 1L","U T12 (34W) - 1L","U T8 (32W) - 1L","U RWT8 (25W) - 1L","2' T12 (20W) - 1L","8' T12HO (110W) - 1L","2' T8 (17W) - 1L","4' RWT8 (28W) - 1L","8' T8HO (86W) - 1L","2' T5 (14W) - 1L","2' T5HO (24W) - 1L","U T12 (34W) - 1L","U T8 (32W) - 1L","U RWT8 (25W) - 1L","2' T12 (20W) - 1L","8' T12HO (110W) - 1L","2' T8 (17W) - 1L","4' RWT8 (28W) - 1L","8' T8HO (86W) - 1L","2' T5 (14W) - 1L","2' T5HO (24W) - 1L","U T12 (34W) - 1L","U T8 (32W) - 1L","U RWT8 (25W) - 1L","2' T12 (20W) - 1L","8' T12HO (110W) - 1L","2' T8 (17W) - 1L","4' RWT8 (28W) - 1L","8' T8HO (86W) - 1L","2' T5 (14W) - 1L","2' T5HO (24W) - 1L","U T12 (34W) - 1L","U T8 (32W) - 1L","U RWT8 (25W) - 1L","2' T12 (20W) - 1L","8' T12HO (110W) - 1L","2' T8 (17W) - 1L","4' RWT8 (28W) - 1L","8' T8HO (86W) - 1L","2' T5 (14W) - 1L","2' T5HO (24W) - 1L","U T12 (34W) - 1L","U T8 (32W) - 1L","U RWT8 (25W) - 1L",null,null,null,null,null,null,null,null,null,null,null,null,null,null,null,null,null,null,null,null,null,null,null,null,null,null,null,null,"2' T12 (20W) - 1L","8' T12HO (110W) - 1L","2' T8 (17W) - 1L","4' RWT8 (28W) - 1L","8' T8HO (86W) - 1L","2' T5 (14W) - 1L","2' T5HO (24W) - 1L","U T12 (34W) - 1L","U T8 (32W) - 1L","U RWT8 (25W) - 1L","2' T12 (20W) - 1L","8' T12HO (110W) - 1L","2' T8 (17W) - 1L","4' RWT8 (28W) - 1L","8' T8HO (86W) - 1L","2' T5 (14W) - 1L","2' T5HO (24W) - 1L","U T12 (34W) - 1L","U T8 (32W) - 1L","U RWT8 (25W) - 1L","2' T12 (20W) - 1L","8' T12HO (110W) - 1L","2' T8 (17W) - 1L","4' RWT8 (28W) - 1L","8' T8HO (86W) - 1L","2' T5 (14W) - 1L","2' T5HO (24W) - 1L","U T12 (34W) - 1L","U T8 (32W) - 1L","U RWT8 (25W) - 1L",null,null,null,null,null,null,"<Enter Fixture Description>",null,null,null,null,null,null,null,null,null,null,null,null,null,null,null,null,null,null,null,"(1) 35W Lamp","(1) 40W Lamp","(1) 32W Lamp",null,"(1) 35W Lamp","(1) 40W Lamp","(1) 32W Lamp",null,"(1) 35W Lamp","(1) 40W Lamp","(1) 32W Lamp",null,null,null,"4' Fixture",null,null,null,"4' Fixture",null,null,null,"4' Fixture",null,null,null,"<Enter Fixture Description>","<Enter Fixture Description>","<Enter Fixture Description>",null,"<Enter Fixture Description>","<Enter Fixture Description>","<Enter Fixture Description>",null,"<Enter Fixture Description>","<Enter Fixture Description>","<Enter Fixture Description>"]
["2' T12 (20W) - 2L","8' T12HO (110W) - 2L","2' T8 (17W) - 2L","4' RWT8 (28W) - 2L","8' T8HO (86W) - 2L","2' T5 (14W) - 2L","2' T5HO (24W) - 2L","U T12 (34W) - 2L","U T8 (32W) - 2L","U RWT8 (28W) - 1L","2' T12 (20W) - 2L","8' T12HO (110W) - 2L","2' T8 (17W) - 2L","4' RWT8 (28W) - 2L","8' T8HO (86W) - 2L","2' T5 (14W) - 2L","2' T5HO (24W) - 2L","U T12 (34W) - 2L","U T8 (32W) - 2L","U RWT8 (28W) - 1L","2' T12 (20W) - 2L","8' T12HO (110W) - 2L","2' T8 (17W) - 2L","4' RWT8 (28W) - 2L","8' T8HO (86W) - 2L","2' T5 (14W) - 2L","2' T5HO (24W) - 2L","U T12 (34W) - 2L","U T8 (32W) - 2L","U RWT8 (28W) - 1L","2' T12 (20W) - 2L","8' T12HO (110W) - 2L","2' T8 (17W) - 2L","4' RWT8 (28W) - 2L","8' T8HO (86W) - 2L","2' T5 (14W) - 2L","2' T5HO (24W) - 2L","U T12 (34W) - 2L","U T8 (32W) - 2L","U RWT8 (28W) - 1L","2' T12 (20W) - 2L","8' T12HO (110W) - 2L","2' T8 (17W) - 2L","4' RWT8 (28W) - 2L","8' T8HO (86W) - 2L","2' T5 (14W) - 2L","2' T5HO (24W) - 2L","U T12 (34W) - 2L","U T8 (32W) - 2L","U RWT8 (28W) - 1L",null,null,null,null,null,null,null,null,null,null,null,null,null,null,null,null,null,null,null,null,null,null,null,null,null,null,null,null,"2' T12 (20W) - 2L","8' T12HO (110W) - 2L","2' T8 (17W) - 2L","4' RWT8 (28W) - 2L","8' T8HO (86W) - 2L","2' T5 (14W) - 2L","2' T5HO (24W) - 2L","U T12 (34W) - 2L","U T8 (32W) - 2L","U RWT8 (28W) - 1L","2' T12 (20W) - 2L","8' T12HO (110W) - 2L","2' T8 (17W) - 2L","4' RWT8 (28W) - 2L","8' T8HO (86W) - 2L","2' T5 (14W) - 2L","2' T5HO (24W) - 2L","U T12 (34W) - 2L","U T8 (32W) - 2L","U RWT8 (28W) - 1L","2' T12 (20W) - 2L","8' T12HO (110W) - 2L","2' T8 (17W) - 2L","4' RWT8 (28W) - 2L","8' T8HO (86W) - 2L","2' T5 (14W) - 2L","2' T5HO (24W) - 2L","U T12 (34W) - 2L","U T8 (32W) - 2L","U RWT8 (28W) - 1L",null,null,null,null,null,null,null,null,null,null,null,null,null,null,null,null,null,null,null,null,null,null,null,null,null,null,"(1) 50W Lamp","(1) 50W Lamp","(1) 50W Lamp",null,"(1) 50W Lamp","(1) 50W Lamp","(1) 50W Lamp",null,"(1) 50W Lamp","(1) 50W Lamp","(1) 50W Lamp",null,null,null,"5' Fixture",null,null,null,"5' Fixture",null,null,null,"5' Fixture"]
["2' T12 (20W) - 3L","8' T12VHO (215W) - 1L","2' T8 (17W) - 3L","4' RWT8 (28W) - 3L",null,"3' T5 (21W) - 1L","3' T5HO (39W) - 1L","U T12 (34W) - 3L","U T8 (32W) - 3L","U RWT8 (25W) - 2L","2' T12 (20W) - 3L","8' T12VHO (215W) - 1L","2' T8 (17W) - 3L","4' RWT8 (28W) - 3L",null,"3' T5 (21W) - 1L","3' T5HO (39W) - 1L","U T12 (34W) - 3L","U T8 (32W) - 3L","U RWT8 (25W) - 2L","2' T12 (20W) - 3L","8' T12VHO (215W) - 1L","2' T8 (17W) - 3L","4' RWT8 (28W) - 3L",null,"3' T5 (21W) - 1L","3' T5HO (39W) - 1L","U T12 (34W) - 3L","U T8 (32W) - 3L","U RWT8 (25W) - 2L","2' T12 (20W) - 3L","8' T12VHO (215W) - 1L","2' T8 (17W) - 3L","4' RWT8 (28W) - 3L",null,"3' T5 (21W) - 1L","3' T5HO (39W) - 1L","U T12 (34W) - 3L","U T8 (32W) - 3L","U RWT8 (25W) - 2L","2' T12 (20W) - 3L","8' T12VHO (215W) - 1L","2' T8 (17W) - 3L","4' RWT8 (28W) - 3L",null,"3' T5 (21W) - 1L","3' T5HO (39W) - 1L","U T12 (34W) - 3L","U T8 (32W) - 3L","U RWT8 (25W) - 2L",null,null,null,null,null,null,null,null,null,null,null,null,null,null,null,null,null,null,null,null,null,null,null,null,null,null,null,null,"2' T12 (20W) - 3L","8' T12VHO (215W) - 1L","2' T8 (17W) - 3L","4' RWT8 (28W) - 3L",null,"3' T5 (21W) - 1L","3' T5HO (39W) - 1L","U T12 (34W) - 3L","U T8 (32W) - 3L","U RWT8 (25W) - 2L","2' T12 (20W) - 3L","8' T12VHO (215W) - 1L","2' T8 (17W) - 3L","4' RWT8 (28W) - 3L",null,"3' T5 (21W) - 1L","3' T5HO (39W) - 1L","U T12 (34W) - 3L","U T8 (32W) - 3L","U RWT8 (25W) - 2L","2' T12 (20W) - 3L","8' T12VHO (215W) - 1L","2' T8 (17W) - 3L","4' RWT8 (28W) - 3L",null,"3' T5 (21W) - 1L","3' T5HO (39W) - 1L","U T12 (34W) - 3L","U T8 (32W) - 3L","U RWT8 (25W) - 2L",null,null,null,null,null,null,null,null,null,null,null,null,null,null,null,null,null,null,null,null,null,null,null,null,null,null,"(1) 70W Lamp","(1) 75W Lamp","(1) 70W Lamp",null,"(1) 70W Lamp","(1) 75W Lamp","(1) 70W Lamp",null,"(1) 70W Lamp","(1) 75W Lamp","(1) 70W Lamp",null,null,null,"6' Fixture",null,null,null,"6' Fixture",null,null,null,"6' Fixture"]
["2' T12 (20W) - 4L","8' T12VHO (215W) - 2L","2' T8 (17W) - 4L","4' RWT8 (28W) - 4L",null,"3' T5 (21W) - 2L","3' T5HO (39W) - 2L",null,null,"U RWT8 (28W) - 2L","2' T12 (20W) - 4L","8' T12VHO (215W) - 2L","2' T8 (17W) - 4L","4' RWT8 (28W) - 4L",null,"3' T5 (21W) - 2L","3' T5HO (39W) - 2L",null,null,"U RWT8 (28W) - 2L","2' T12 (20W) - 4L","8' T12VHO (215W) - 2L","2' T8 (17W) - 4L","4' RWT8 (28W) - 4L",null,"3' T5 (21W) - 2L","3' T5HO (39W) - 2L",null,null,"U RWT8 (28W) - 2L","2' T12 (20W) - 4L","8' T12VHO (215W) - 2L","2' T8 (17W) - 4L","4' RWT8 (28W) - 4L",null,"3' T5 (21W) - 2L","3' T5HO (39W) - 2L",null,null,"U RWT8 (28W) - 2L","2' T12 (20W) - 4L","8' T12VHO (215W) - 2L","2' T8 (17W) - 4L","4' RWT8 (28W) - 4L",null,"3' T5 (21W) - 2L","3' T5HO (39W) - 2L",null,null,"U RWT8 (28W) - 2L",null,null,null,null,null,null,null,null,null,null,null,null,null,null,null,null,null,null,null,null,null,null,null,null,null,null,null,null,"2' T12 (20W) - 4L","8' T12VHO (215W) - 2L","2' T8 (17W) - 4L","4' RWT8 (28W) - 4L",null,"3' T5 (21W) - 2L","3' T5HO (39W) - 2L",null,null,"U RWT8 (28W) - 2L","2' T12 (20W) - 4L","8' T12VHO (215W) - 2L","2' T8 (17W) - 4L","4' RWT8 (28W) - 4L",null,"3' T5 (21W) - 2L","3' T5HO (39W) - 2L",null,null,"U RWT8 (28W) - 2L","2' T12 (20W) - 4L","8' T12VHO (215W) - 2L","2' T8 (17W) - 4L","4' RWT8 (28W) - 4L",null,"3' T5 (21W) - 2L","3' T5HO (39W) - 2L",null,null,"U RWT8 (28W) - 2L",null,null,null,null,null,null,null,null,null,null,null,null,null,null,null,null,null,null,null,null,null,null,null,null,null,null,"(1) 100W Lamp","(1) 100W Lamp","(1) 100W Lamp",null,"(1) 100W Lamp","(1) 100W Lamp","(1) 100W Lamp",null,"(1) 100W Lamp","(1) 100W Lamp","(1) 100W Lamp"]
["3' T12 (30W) - 1L",null,"3' T8 (25W) - 1L","4' RWT8 (28W) - 6L",null,"4' T5 (28W) - 1L","4' T5HO (54W) - 1L",null,null,"U RWT8 (25W) - 3L","3' T12 (30W) - 1L",null,"3' T8 (25W) - 1L","4' RWT8 (28W) - 6L",null,"4' T5 (28W) - 1L","4' T5HO (54W) - 1L",null,null,"U RWT8 (25W) - 3L","3' T12 (30W) - 1L",null,"3' T8 (25W) - 1L","4' RWT8 (28W) - 6L",null,"4' T5 (28W) - 1L","4' T5HO (54W) - 1L",null,null,"U RWT8 (25W) - 3L","3' T12 (30W) - 1L",null,"3' T8 (25W) - 1L","4' RWT8 (28W) - 6L",null,"4' T5 (28W) - 1L","4' T5HO (54W) - 1L",null,null,"U RWT8 (25W) - 3L","3' T12 (30W) - 1L",null,"3' T8 (25W) - 1L","4' RWT8 (28W) - 6L",null,"4' T5 (28W) - 1L","4' T5HO (54W) - 1L",null,null,"U RWT8 (25W) - 3L",null,null,null,null,null,null,null,null,null,null,null,null,null,null,null,null,null,null,null,null,null,null,null,null,null,null,null,null,"3' T12 (30W) - 1L",null,"3' T8 (25W) - 1L","4' RWT8 (28W) - 6L",null,"4' T5 (28W) - 1L","4' T5HO (54W) - 1L",null,null,"U RWT8 (25W) - 3L","3' T12 (30W) - 1L",null,"3' T8 (25W) - 1L","4' RWT8 (28W) - 6L",null,"4' T5 (28W) - 1L","4' T5HO (54W) - 1L",null,null,"U RWT8 (25W) - 3L","3' T12 (30W) - 1L",null,"3' T8 (25W) - 1L","4' RWT8 (28W) - 6L",null,"4' T5 (28W) - 1L","4' T5HO (54W) - 1L",null,null,"U RWT8 (25W) - 3L",null,null,null,null,null,null,null,null,null,null,null,null,null,null,null,null,null,null,null,null,null,null,null,null,null,null,"(1) 150W Lamp","(1) 175W Lamp","(1) 150W Lamp",null,"(1) 150W Lamp","(1) 175W Lamp","(1) 150W Lamp",null,"(1) 150W Lamp","(1) 175W Lamp","(1) 150W Lamp"]
["3' T12 (30W) - 2L",null,"3' T8 (25W) - 2L","4' RWT8 (25W) - 1L",null,"4' T5 (28W) - 2L","4' T5HO (54W) - 2L",null,null,"U RWT8 (28W) - 3L","3' T12 (30W) - 2L",null,"3' T8 (25W) - 2L","4' RWT8 (25W) - 1L",null,"4' T5 (28W) - 2L","4' T5HO (54W) - 2L",null,null,"U RWT8 (28W) - 3L","3' T12 (30W) - 2L",null,"3' T8 (25W) - 2L","4' RWT8 (25W) - 1L",null,"4' T5 (28W) - 2L","4' T5HO (54W) - 2L",null,null,"U RWT8 (28W) - 3L","3' T12 (30W) - 2L",null,"3' T8 (25W) - 2L","4' RWT8 (25W) - 1L",null,"4' T5 (28W) - 2L","4' T5HO (54W) - 2L",null,null,"U RWT8 (28W) - 3L","3' T12 (30W) - 2L",null,"3' T8 (25W) - 2L","4' RWT8 (25W) - 1L",null,"4' T5 (28W) - 2L","4' T5HO (54W) - 2L",null,null,"U RWT8 (28W) - 3L",null,null,null,null,null,null,null,null,null,null,null,null,null,null,null,null,null,null,null,null,null,null,null,null,null,null,null,null,"3' T12 (30W) - 2L",null,"3' T8 (25W) - 2L","4' RWT8 (25W) - 1L",null,"4' T5 (28W) - 2L","4' T5HO (54W) - 2L",null,null,"U RWT8 (28W) - 3L","3' T12 (30W) - 2L",null,"3' T8 (25W) - 2L","4' RWT8 (25W) - 1L",null,"4' T5 (28W) - 2L","4' T5HO (54W) - 2L",null,null,"U RWT8 (28W) - 3L","3' T12 (30W) - 2L",null,"3' T8 (25W) - 2L","4' RWT8 (25W) - 1L",null,"4' T5 (28W) - 2L","4' T5HO (54W) - 2L",null,null,"U RWT8 (28W) - 3L",null,null,null,null,null,null,null,null,null,null,null,null,null,null,null,null,null,null,null,null,null,null,null,null,null,null,"(1) 200W Lamp","(1) 250W Lamp","(1) 175W Lamp",null,"(1) 200W Lamp","(1) 250W Lamp","(1) 175W Lamp",null,"(1) 200W Lamp","(1) 250W Lamp","(1) 175W Lamp"]
["3' T12 (30W) - 3L",null,"3' T8 (25W) - 3L","4' RWT8 (25W) - 2L",null,"4' T5 (28W) - 3L","4' T5HO (54W) - 3L",null,null,null,"3' T12 (30W) - 3L",null,"3' T8 (25W) - 3L","4' RWT8 (25W) - 2L",null,"4' T5 (28W) - 3L","4' T5HO (54W) - 3L",null,null,null,"3' T12 (30W) - 3L",null,"3' T8 (25W) - 3L","4' RWT8 (25W) - 2L",null,"4' T5 (28W) - 3L","4' T5HO (54W) - 3L",null,null,null,"3' T12 (30W) - 3L",null,"3' T8 (25W) - 3L","4' RWT8 (25W) - 2L",null,"4' T5 (28W) - 3L","4' T5HO (54W) - 3L",null,null,null,"3' T12 (30W) - 3L",null,"3' T8 (25W) - 3L","4' RWT8 (25W) - 2L",null,"4' T5 (28W) - 3L","4' T5HO (54W) - 3L",null,null,null,null,null,null,null,null,null,null,null,null,null,null,null,null,null,null,null,null,null,null,null,null,null,null,null,null,null,null,null,"3' T12 (30W) - 3L",null,"3' T8 (25W) - 3L","4' RWT8 (25W) - 2L",null,"4' T5 (28W) - 3L","4' T5HO (54W) - 3L",null,null,null,"3' T12 (30W) - 3L",null,"3' T8 (25W) - 3L","4' RWT8 (25W) - 2L",null,"4' T5 (28W) - 3L","4' T5HO (54W) - 3L",null,null,null,"3' T12 (30W) - 3L",null,"3' T8 (25W) - 3L","4' RWT8 (25W) - 2L",null,"4' T5 (28W) - 3L","4' T5HO (54W) - 3L",null,null,null,null,null,null,null,null,null,null,null,null,null,null,null,null,null,null,null,null,null,null,null,null,null,null,null,null,null,"(1) 250W Lamp","(1) 400W Lamp","(1) 200W Lamp",null,"(1) 250W Lamp","(1) 400W Lamp","(1) 200W Lamp",null,"(1) 250W Lamp","(1) 400W Lamp","(1) 200W Lamp"]
["3' T12 (30W) - 4L",null,"3' T8 (25W) - 4L","4' RWT8 (25W) - 3L",null,"4' T5 (28W) - 4L","4' T5HO (54W) - 4L",null,null,null,"3' T12 (30W) - 4L",null,"3' T8 (25W) - 4L","4' RWT8 (25W) - 3L",null,"4' T5 (28W) - 4L","4' T5HO (54W) - 4L",null,null,null,"3' T12 (30W) - 4L",null,"3' T8 (25W) - 4L","4' RWT8 (25W) - 3L",null,"4' T5 (28W) - 4L","4' T5HO (54W) - 4L",null,null,null,"3' T12 (30W) - 4L",null,"3' T8 (25W) - 4L","4' RWT8 (25W) - 3L",null,"4' T5 (28W) - 4L","4' T5HO (54W) - 4L",null,null,null,"3' T12 (30W) - 4L",null,"3' T8 (25W) - 4L","4' RWT8 (25W) - 3L",null,"4' T5 (28W) - 4L","4' T5HO (54W) - 4L",null,null,null,null,null,null,null,null,null,null,null,null,null,null,null,null,null,null,null,null,null,null,null,null,null,null,null,null,null,null,null,"3' T12 (30W) - 4L",null,"3' T8 (25W) - 4L","4' RWT8 (25W) - 3L",null,"4' T5 (28W) - 4L","4' T5HO (54W) - 4L",null,null,null,"3' T12 (30W) - 4L",null,"3' T8 (25W) - 4L","4' RWT8 (25W) - 3L",null,"4' T5 (28W) - 4L","4' T5HO (54W) - 4L",null,null,null,"3' T12 (30W) - 4L",null,"3' T8 (25W) - 4L","4' RWT8 (25W) - 3L",null,"4' T5 (28W) - 4L","4' T5HO (54W) - 4L",null,null,null,null,null,null,null,null,null,null,null,null,null,null,null,null,null,null,null,null,null,null,null,null,null,null,null,null,null,"(1) 310W Lamp","(2) 400W Lamps","(1) 250W Lamp",null,"(1) 310W Lamp","(2) 400W Lamps","(1) 250W Lamp",null,"(1) 310W Lamp","(2) 400W Lamps","(1) 250W Lamp"]
["4' T12 (40W) - 1L",null,"4' T8 (32W) - 1L","4' RWT8 (25W) - 4L",null,"5' T5 (35W) - 1L","4' T5HO (54W) - 5L",null,null,null,"4' T12 (40W) - 1L",null,"4' T8 (32W) - 1L","4' RWT8 (25W) - 4L",null,"5' T5 (35W) - 1L","4' T5HO (54W) - 5L",null,null,null,"4' T12 (40W) - 1L",null,"4' T8 (32W) - 1L","4' RWT8 (25W) - 4L",null,"5' T5 (35W) - 1L","4' T5HO (54W) - 5L",null,null,null,"4' T12 (40W) - 1L",null,"4' T8 (32W) - 1L","4' RWT8 (25W) - 4L",null,"5' T5 (35W) - 1L","4' T5HO (54W) - 5L",null,null,null,"4' T12 (40W) - 1L",null,"4' T8 (32W) - 1L","4' RWT8 (25W) - 4L",null,"5' T5 (35W) - 1L","4' T5HO (54W) - 5L",null,null,null,null,null,null,null,null,null,null,null,null,null,null,null,null,null,null,null,null,null,null,null,null,null,null,null,null,null,null,null,"4' T12 (40W) - 1L",null,"4' T8 (32W) - 1L","4' RWT8 (25W) - 4L",null,"5' T5 (35W) - 1L","4' T5HO (54W) - 5L",null,null,null,"4' T12 (40W) - 1L",null,"4' T8 (32W) - 1L","4' RWT8 (25W) - 4L",null,"5' T5 (35W) - 1L","4' T5HO (54W) - 5L",null,null,null,"4' T12 (40W) - 1L",null,"4' T8 (32W) - 1L","4' RWT8 (25W) - 4L",null,"5' T5 (35W) - 1L","4' T5HO (54W) - 5L",null,null,null,null,null,null,null,null,null,null,null,null,null,null,null,null,null,null,null,null,null,null,null,null,null,null,null,null,null,"(1) 360W Lamp","(1) 700W Lamp","(1) 320W Lamp",null,"(1) 360W Lamp","(1) 700W Lamp","(1) 320W Lamp",null,"(1) 360W Lamp","(1) 700W Lamp","(1) 320W Lamp"]
["4' T12 (40W) - 2L",null,"4' T8 (32W) - 2L","4' RWT8 (25W) - 6L",null,"5' T5 (35W) - 2L","4' T5HO (54W) - 6L",null,null,null,"4' T12 (40W) - 2L",null,"4' T8 (32W) - 2L","4' RWT8 (25W) - 6L",null,"5' T5 (35W) - 2L","4' T5HO (54W) - 6L",null,null,null,"4' T12 (40W) - 2L",null,"4' T8 (32W) - 2L","4' RWT8 (25W) - 6L",null,"5' T5 (35W) - 2L","4' T5HO (54W) - 6L",null,null,null,"4' T12 (40W) - 2L",null,"4' T8 (32W) - 2L","4' RWT8 (25W) - 6L",null,"5' T5 (35W) - 2L","4' T5HO (54W) - 6L",null,null,null,"4' T12 (40W) - 2L",null,"4' T8 (32W) - 2L","4' RWT8 (25W) - 6L",null,"5' T5 (35W) - 2L","4' T5HO (54W) - 6L",null,null,null,null,null,null,null,null,null,null,null,null,null,null,null,null,null,null,null,null,null,null,null,null,null,null,null,null,null,null,null,"4' T12 (40W) - 2L",null,"4' T8 (32W) - 2L","4' RWT8 (25W) - 6L",null,"5' T5 (35W) - 2L","4' T5HO (54W) - 6L",null,null,null,"4' T12 (40W) - 2L",null,"4' T8 (32W) - 2L","4' RWT8 (25W) - 6L",null,"5' T5 (35W) - 2L","4' T5HO (54W) - 6L",null,null,null,"4' T12 (40W) - 2L",null,"4' T8 (32W) - 2L","4' RWT8 (25W) - 6L",null,"5' T5 (35W) - 2L","4' T5HO (54W) - 6L",null,null,null,null,null,null,null,null,null,null,null,null,null,null,null,null,null,null,null,null,null,null,null,null,null,null,null,null,null,"(1) 400W Lamp","(1) 1000W Lamp","(1) 350W Lamp",null,"(1) 400W Lamp","(1) 1000W Lamp","(1) 350W Lamp",null,"(1) 400W Lamp","(1) 1000W Lamp","(1) 350W Lamp"]
["4' T12 (40W) - 3L",null,"4' T8 (32W) - 3L","4' RWT8 (25W) - 8L",null,null,"4' T5HO (54W) - 8L",null,null,null,"4' T12 (40W) - 3L",null,"4' T8 (32W) - 3L","4' RWT8 (25W) - 8L",null,null,"4' T5HO (54W) - 8L",null,null,null,"4' T12 (40W) - 3L",null,"4' T8 (32W) - 3L","4' RWT8 (25W) - 8L",null,null,"4' T5HO (54W) - 8L",null,null,null,"4' T12 (40W) - 3L",null,"4' T8 (32W) - 3L","4' RWT8 (25W) - 8L",null,null,"4' T5HO (54W) - 8L",null,null,null,"4' T12 (40W) - 3L",null,"4' T8 (32W) - 3L","4' RWT8 (25W) - 8L",null,null,"4' T5HO (54W) - 8L",null,null,null,null,null,null,null,null,null,null,null,null,null,null,null,null,null,null,null,null,null,null,null,null,null,null,null,null,null,null,null,"4' T12 (40W) - 3L",null,"4' T8 (32W) - 3L","4' RWT8 (25W) - 8L",null,null,"4' T5HO (54W) - 8L",null,null,null,"4' T12 (40W) - 3L",null,"4' T8 (32W) - 3L","4' RWT8 (25W) - 8L",null,null,"4' T5HO (54W) - 8L",null,null,null,"4' T12 (40W) - 3L",null,"4' T8 (32W) - 3L","4' RWT8 (25W) - 8L",null,null,"4' T5HO (54W) - 8L",null,null,null,null,null,null,null,null,null,null,null,null,null,null,null,null,null,null,null,null,null,null,null,null,null,null,null,null,null,"(1) 1000W Lamp",null,"(1) 400W Lamp",null,"(1) 1000W Lamp",null,"(1) 400W Lamp",null,"(1) 1000W Lamp",null,"(1) 400W Lamp"]
["4' T12 (40W) - 4L",null,"4' T8 (32W) - 4L",null,null,null,"5' T5HO (80W) - 1L",null,null,null,"4' T12 (40W) - 4L",null,"4' T8 (32W) - 4L",null,null,null,"5' T5HO (80W) - 1L",null,null,null,"4' T12 (40W) - 4L",null,"4' T8 (32W) - 4L",null,null,null,"5' T5HO (80W) - 1L",null,null,null,"4' T12 (40W) - 4L",null,"4' T8 (32W) - 4L",null,null,null,"5' T5HO (80W) - 1L",null,null,null,"4' T12 (40W) - 4L",null,"4' T8 (32W) - 4L",null,null,null,"5' T5HO (80W) - 1L",null,null,null,null,null,null,null,null,null,null,null,null,null,null,null,null,null,null,null,null,null,null,null,null,null,null,null,null,null,null,null,"4' T12 (40W) - 4L",null,"4' T8 (32W) - 4L",null,null,null,"5' T5HO (80W) - 1L",null,null,null,"4' T12 (40W) - 4L",null,"4' T8 (32W) - 4L",null,null,null,"5' T5HO (80W) - 1L",null,null,null,"4' T12 (40W) - 4L",null,"4' T8 (32W) - 4L",null,null,null,"5' T5HO (80W) - 1L",null,null,null,null,null,null,null,null,null,null,null,null,null,null,null,null,null,null,null,null,null,null,null,null,null,null,null,null,null,null,null,"(2) 400W Lamps",null,null,null,"(2) 400W Lamps",null,null,null,"(2) 400W Lamps"]
["4' T12 (40W) - 6L",null,"4' T8 (32W) - 6L",null,null,null,"5' T5HO (80W) - 2L",null,null,null,"4' T12 (40W) - 6L",null,"4' T8 (32W) - 6L",null,null,null,"5' T5HO (80W) - 2L",null,null,null,"4' T12 (40W) - 6L",null,"4' T8 (32W) - 6L",null,null,null,"5' T5HO (80W) - 2L",null,null,null,"4' T12 (40W) - 6L",null,"4' T8 (32W) - 6L",null,null,null,"5' T5HO (80W) - 2L",null,null,null,"4' T12 (40W) - 6L",null,"4' T8 (32W) - 6L",null,null,null,"5' T5HO (80W) - 2L",null,null,null,null,null,null,null,null,null,null,null,null,null,null,null,null,null,null,null,null,null,null,null,null,null,null,null,null,null,null,null,"4' T12 (40W) - 6L",null,"4' T8 (32W) - 6L",null,null,null,"5' T5HO (80W) - 2L",null,null,null,"4' T12 (40W) - 6L",null,"4' T8 (32W) - 6L",null,null,null,"5' T5HO (80W) - 2L",null,null,null,"4' T12 (40W) - 6L",null,"4' T8 (32W) - 6L",null,null,null,"5' T5HO (80W) - 2L",null,null,null,null,null,null,null,null,null,null,null,null,null,null,null,null,null,null,null,null,null,null,null,null,null,null,null,null,null,null,null,"(1) 450W Lamp",null,null,null,"(1) 450W Lamp",null,null,null,"(1) 450W Lamp"]
["4' T12 (40W) - 8L",null,"4' T8 (32W) - 8L",null,null,null,null,null,null,null,"4' T12 (40W) - 8L",null,"4' T8 (32W) - 8L",null,null,null,null,null,null,null,"4' T12 (40W) - 8L",null,"4' T8 (32W) - 8L",null,null,null,null,null,null,null,"4' T12 (40W) - 8L",null,"4' T8 (32W) - 8L",null,null,null,null,null,null,null,"4' T12 (40W) - 8L",null,"4' T8 (32W) - 8L",null,null,null,null,null,null,null,null,null,null,null,null,null,null,null,null,null,null,null,null,null,null,null,null,null,null,null,null,null,null,null,null,null,null,null,"4' T12 (40W) - 8L",null,"4' T8 (32W) - 8L",null,null,null,null,null,null,null,"4' T12 (40W) - 8L",null,"4' T8 (32W) - 8L",null,null,null,null,null,null,null,"4' T12 (40W) - 8L",null,"4' T8 (32W) - 8L",null,null,null,null,null,null,null,null,null,null,null,null,null,null,null,null,null,null,null,null,null,null,null,null,null,null,null,null,null,null,null,null,null,null,null,"(1) 750W Lamp",null,null,null,"(1) 750W Lamp",null,null,null,"(1) 750W Lamp"]
["8' T12 (75W) - 1L",null,"5' T8 (40W) - 1L",null,null,null,null,null,null,null,"8' T12 (75W) - 1L",null,"5' T8 (40W) - 1L",null,null,null,null,null,null,null,"8' T12 (75W) - 1L",null,"5' T8 (40W) - 1L",null,null,null,null,null,null,null,"8' T12 (75W) - 1L",null,"5' T8 (40W) - 1L",null,null,null,null,null,null,null,"8' T12 (75W) - 1L",null,"5' T8 (40W) - 1L",null,null,null,null,null,null,null,null,null,null,null,null,null,null,null,null,null,null,null,null,null,null,null,null,null,null,null,null,null,null,null,null,null,null,null,"8' T12 (75W) - 1L",null,"5' T8 (40W) - 1L",null,null,null,null,null,null,null,"8' T12 (75W) - 1L",null,"5' T8 (40W) - 1L",null,null,null,null,null,null,null,"8' T12 (75W) - 1L",null,"5' T8 (40W) - 1L",null,null,null,null,null,null,null,null,null,null,null,null,null,null,null,null,null,null,null,null,null,null,null,null,null,null,null,null,null,null,null,null,null,null,null,"(1) 1000W Lamp",null,null,null,"(1) 1000W Lamp",null,null,null,"(1) 1000W Lamp"]
["8' T12 (75W) - 2L",null,"5' T8 (40W) - 2L",null,null,null,null,null,null,null,"8' T12 (75W) - 2L",null,"5' T8 (40W) - 2L",null,null,null,null,null,null,null,"8' T12 (75W) - 2L",null,"5' T8 (40W) - 2L",null,null,null,null,null,null,null,"8' T12 (75W) - 2L",null,"5' T8 (40W) - 2L",null,null,null,null,null,null,null,"8' T12 (75W) - 2L",null,"5' T8 (40W) - 2L",null,null,null,null,null,null,null,null,null,null,null,null,null,null,null,null,null,null,null,null,null,null,null,null,null,null,null,null,null,null,null,null,null,null,null,"8' T12 (75W) - 2L",null,"5' T8 (40W) - 2L",null,null,null,null,null,null,null,"8' T12 (75W) - 2L",null,"5' T8 (40W) - 2L",null,null,null,null,null,null,null,"8' T12 (75W) - 2L",null,"5' T8 (40W) - 2L",null,null,null,null,null,null,null,null,null,null,null,null,null,null,null,null,null,null,null,null,null,null,null,null,null,null,null,null,null,null,null,null,null,null,null,"(1) 1500W Lamp",null,null,null,"(1) 1500W Lamp",null,null,null,"(1) 1500W Lamp"]
[null,null,"5' T8 (40W) - 3L",null,null,null,null,null,null,null,null,null,"5' T8 (40W) - 3L",null,null,null,null,null,null,null,null,null,"5' T8 (40W) - 3L",null,null,null,null,null,null,null,null,null,"5' T8 (40W) - 3L",null,null,null,null,null,null,null,null,null,"5' T8 (40W) - 3L",null,null,null,null,null,null,null,null,null,null,null,null,null,null,null,null,null,null,null,null,null,null,null,null,null,null,null,null,null,null,null,null,null,null,null,null,null,"5' T8 (40W) - 3L",null,null,null,null,null,null,null,null,null,"5' T8 (40W) - 3L",null,null,null,null,null,null,null,null,null,"5' T8 (40W) - 3L",null,null,null,null,null,null,null,null,null,null,null,null,null,null,null,null,null,null,null,null,null,null,null,null,null,null,null,null,null,null,null,null,null,null,null,"(1) 1500W Lamp",null,null,null,"(1) 1500W Lamp",null,null,null,"(1) 1500W Lamp"]
[null,null,"5' T8 (40W) - 4L",null,null,null,null,null,null,null,null,null,"5' T8 (40W) - 4L",null,null,null,null,null,null,null,null,null,"5' T8 (40W) - 4L",null,null,null,null,null,null,null,null,null,"5' T8 (40W) - 4L",null,null,null,null,null,null,null,null,null,"5' T8 (40W) - 4L",null,null,null,null,null,null,null,null,null,null,null,null,null,null,null,null,null,null,null,null,null,null,null,null,null,null,null,null,null,null,null,null,null,null,null,null,null,"5' T8 (40W) - 4L",null,null,null,null,null,null,null,null,null,"5' T8 (40W) - 4L",null,null,null,null,null,null,null,null,null,"5' T8 (40W) - 4L"]
[null,null,"8' T8 (59W) - 1L",null,null,null,null,null,null,null,null,null,"8' T8 (59W) - 1L",null,null,null,null,null,null,null,null,null,"8' T8 (59W) - 1L",null,null,null,null,null,null,null,null,null,"8' T8 (59W) - 1L",null,null,null,null,null,null,null,null,null,"8' T8 (59W) - 1L",null,null,null,null,null,null,null,null,null,null,null,null,null,null,null,null,null,null,null,null,null,null,null,null,null,null,null,null,null,null,null,null,null,null,null,null,null,"8' T8 (59W) - 1L",null,null,null,null,null,null,null,null,null,"8' T8 (59W) - 1L",null,null,null,null,null,null,null,null,null,"8' T8 (59W) - 1L"]
[null,null,"8' T8 (59W) - 2L",null,null,null,null,null,null,null,null,null,"8' T8 (59W) - 2L",null,null,null,null,null,null,null,null,null,"8' T8 (59W) - 2L",null,null,null,null,null,null,null,null,null,"8' T8 (59W) - 2L",null,null,null,null,null,null,null,null,null,"8' T8 (59W) - 2L",null,null,null,null,null,null,null,null,null,null,null,null,null,null,null,null,null,null,null,null,null,null,null,null,null,null,null,null,null,null,null,null,null,null,null,null,null,"8' T8 (59W) - 2L",null,null,null,null,null,null,null,null,null,"8' T8 (59W) - 2L",null,null,null,null,null,null,null,null,null,"8' T8 (59W) - 2L"]
["PL1PDesc1",null,null,null,null,null,null,null,null,null,"PL2PDesc1",null,null,null,null,null,null,null,null,null,"PL3PDesc1",null,null,null,null,null,null,null,null,null,"PL4PDesc1",null,null,null,null,null,null,null,null,null,"PL5PDesc1",null,null,null,null,null,null,null,null,null,"PL6PDesc1",null,"PL7PDesc1",null,"PL8PDesc1",null,"PL9PDesc1",null,"PL10PDesc1",null,"PL11PDesc1",null,"PL12PDesc1",null,"PL13PDesc1",null,"PL14PDesc1",null,"PL15PDesc1",null,"PL16PDesc1",null,"PL17PDesc1",null,"PL18PDesc1",null,"PL19PDesc1",null,"PL20PDesc1",null,null,null,null,null,null,null,null,null,"PL21PDesc1",null,null,null,null,null,null,null,null,null,"PL22PDesc1",null,null,null,null,null,null,null,null,null,"PL23PDesc1",null,"PL24PDesc1",null,"PL25PDesc1",null,"PL26PDesc1",null,null,null,"PL27PDesc1",null,"PL28PDesc1",null,"PL29PDesc1",null,"PL30PDesc1",null,"PL31PDesc1",null,"PL32PDesc1",null,"PL33PDesc1",null,"PL34PDesc1",null,"PL35PDesc1",null,null,null,"PL36PDesc1",null,null,null,"PL37PDesc1",null,null,null,"PL38PDesc1",null,"PL39PDesc1",null,null,null,"PL40PDesc1",null,null,null,"PL41PDesc1",null,null,null,"PL42PDesc1",null,null,null,"PL43PDesc1",null,null,null,"PL44PDesc1",null,null,null,"PL45PDesc1",null,"PL46PDesc1",null,"PL47PDesc1",null,"PL48PDesc1",null,"PL49PDesc1",null,"PL50PDesc1",null,"PL51PDesc1",null,"PL52PDesc1",null,"PL53PDesc1",null,"PL54PDesc1",null,"PL55PDesc1",null,"PL56PDesc1",null,"PL57PDesc1",null,"PL58PDesc1",null,"PL59PDesc1",null,"PL60PDesc1",null,"PL61PDesc1",null,"PL62PDesc1",null,"PL63PDesc1",null,"PL64PDesc1",null,"PL65PDesc1"]
["LED Tube – 2' Linear Replacement Lamps",null,null,null,null,null,null,null,null,null,"LED Tube – 3' Linear Replacement Lamps",null,null,null,null,null,null,null,null,null,"LED Tube – 4' Linear Replacement Lamps",null,null,null,null,null,null,null,null,null,"LED Tube – 8' Linear Replacement Lamps",null,null,null,null,null,null,null,null,null,"LED Tube – U-Bend Replacement Lamps",null,null,null,null,null,null,null,null,null,"LED Luminaire for Ambient Lighting of Commercial Spaces - 1x4",null,"LED Luminaire for Ambient Lighting of Commercial Spaces - 2x2",null,"LED Luminaire for Ambient Lighting of Commercial Spaces - 2x4",null,"LED High-Bay and Low-Bay Fixtures ≤125W ",null,"LED High-Bay and Low-Bay Fixtures >125W to ≤250W ",null,"LED High-Bay and Low-Bay Fixtures >250W ",null,"LED High-Bay-Aisle Lighting  ≤125W ",null,"LED High-Bay-Aisle Lighting  >125W to ≤250W ",null,"LED High-Bay-Aisle Lighting  >250W ",null,"LED Luminaire Ambient - 2' - Indirect",null,"LED Luminaire Ambient - 3' - Indirect",null,"LED Luminaire Ambient - 4' - Indirect",null,"LED Luminaire Ambient - 6' - Indirect",null,"LED Luminaire Ambient - 8' - Indirect",null,"Retrofit Kit for LED Linear Ambient Luminaire - 2'",null,null,null,null,null,null,null,null,null,"Retrofit Kit for LED Linear Ambient Luminaire - 4'",null,null,null,null,null,null,null,null,null,"Retrofit Kit for LED Linear Ambient Luminaire - 8'",null,null,null,null,null,null,null,null,null,"LED Stairwell and Passageway Lighting",null,"LED Track or Mono-Point Directional Lighting Fixtures",null,"LED Wall-Wash Lights",null,"LED Four Pin-Base CFL Replacement",null,null,null,"LED Architectural Flood and Spot Luminaires",null,"LED Bollard Fixtures",null,"LED Fuel Pump Canopy",null,"LED Outdoor Wall-Mounted Area Luminaires",null,"LED Outdoor Pole/Arm-Mounted Area and Roadway Luminaires",null,"LED Outdoor Pole/Arm-Mounted Decorative Luminaires",null,"LED Parking Garage Luminaires",null,"LED Retrofit Kits for Large Outdoor Pole/Arm-Mounted Area and Roadway Luminaires",null,"Mogul Screw-Base (E39) Replacements for HID Lamps ≤125W ",null,null,null,"Mogul Screw-Base (E39) Replacements for HID Lamps >125W to ≤250W ",null,null,null,"Mogul Screw-Base (E39) Replacements for HID Lamps >250W ",null,null,null,"LED Display Case Lighting",null,"LED Refrigerated Case Luminaires (Horizontal or Vertical) - 4'",null,null,null,"LED Refrigerated Case Luminaires (Horizontal or Vertical) - 5'",null,null,null,"LED Refrigerated Case Luminaires (Horizontal or Vertical) - 6'",null,null,null,"LED Bulb (all not listed in PL43 or PL44)",null,null,null,"LED Bulb (R14, R16, G16.5, G25, PAR16, PAR20, R20, BR20)",null,null,null,"LED Bulb (G30, G40, PAR30, PAR40, R30, BR30, BR40)",null,null,null,"Accent Line Voltage",null,"Bath Vanity",null,"Ceiling Mount",null,"Close to Ceiling Mount",null,"Cove Mount",null,"Decorative Pendant",null,"Downlight Pendant",null,"Downlight Recessed",null,"Downlight Solid State Retrofit",null,"Downlight Surface Mount",null,"Linear Strip",null,"Other",null,"Outdoor Porch Wall Mount",null,"Outdoor Post-Mount",null,"Porch (Wall Mounted)",null,"Portable Desk Task Light",null,"Security",null,"Torchiere",null,"Under Cabinet",null,"Wall Sconces",null,"Wrapped Lens"]
[null,null,null,null,null,null,null,null,null,null,null,null,null,null,null,null,null,null,null,null,null,null,null,null,null,null,null,null,null,null,null,null,null,null,null,null,null,null,null,null,null,null,null,null,null,null,null,null,null,null,null,null,null,null,null,null,null,null,null,null,null,null,null,null,null,null,null,null,"LED Luminaire Ambient - 2' - Indirect/Direct",null,"LED Luminaire Ambient - 3' - Indirect/Direct",null,"LED Luminaire Ambient - 4' - Indirect/Direct",null,"LED Luminaire Ambient - 6' - Indirect/Direct",null,"LED Luminaire Ambient - 8' - Indirect/Direct"]
[null,null,null,null,null,null,null,null,null,null,null,null,null,null,null,null,null,null,null,null,null,null,null,null,null,null,null,null,null,null,null,null,null,null,null,null,null,null,null,null,null,null,null,null,null,null,null,null,null,null,null,null,null,null,null,null,null,null,null,null,null,null,null,null,null,null,null,null,"LED Luminaire Ambient - 2' - Direct/Indirect",null,"LED Luminaire Ambient - 3' - Direct/Indirect",null,"LED Luminaire Ambient - 4' - Direct/Indirect",null,"LED Luminaire Ambient - 6' - Direct/Indirect",null,"LED Luminaire Ambient - 8' - Direct/Indirect"]
[null,null,null,null,null,null,null,null,null,null,null,null,null,null,null,null,null,null,null,null,null,null,null,null,null,null,null,null,null,null,null,null,null,null,null,null,null,null,null,null,null,null,null,null,null,null,null,null,null,null,null,null,null,null,null,null,null,null,null,null,null,null,null,null,null,null,null,null,"LED Luminaire Ambient - 2' - Direct",null,"LED Luminaire Ambient - 3' - Direct",null,"LED Luminaire Ambient - 4' - Direct",null,"LED Luminaire Ambient - 6' - Direct",null,"LED Luminaire Ambient - 8' - Direct"]

{"sheet":"Existing Fixture Support","index":4,"n_rows":22,"n_cols":54,"rows_kept":22,"cut":false,"hidden":true,"merged":[[0,17,0,18],[0,20,0,21],[0,23,0,24],[0,26,0,27],[0,29,0,30],[0,2,0,3],[0,5,0,6],[0,8,0,9],[0,11,0,12],[0,14,0,15],[0,41,0,42],[0,44,0,45],[0,47,0,48],[0,32,0,33],[0,50,0,51],[0,35,0,36],[0,38,0,39]]}
["Light_ETechType",null,"Linear Fluorescent - T12",null,null,"Linear Fluorescent - T12HO",null,null,"Linear Fluorescent - T8",null,null,"Linear Fluorescent - RWT8",null,null,"Linear Fluorescent - T8HO",null,null,"Linear Fluorescent - T5",null,null,"Linear Fluorescent - T5HO",null,null,"U-Bend Fluorescent - T12",null,null,"U-Bend Fluorescent - T8",null,null,"U-Bend Fluorescent - RWT8",null,null,"Incandescent",null,null,"Halogen Incandescent",null,null,"Compact Fluorescent",null,null,"HID - High-Pressure Sodium",null,null,"HID - Mercury Vapor",null,null,"HID - Metal Halide",null,null,"Refrigerated Case Lighting - Fluorescent",null,null,"Light_IntExt"]
["Linear Fluorescent - T12",null,"Fixture Description","Wattage",null,"Fixture Description","Wattage",null,"Fixture Description","Wattage",null,"Fixture Description","Wattage",null,"Fixture Description","Wattage",null,"Fixture Description","Wattage",null,"Fixture Description","Wattage",null,"Fixture Description","Wattage",null,"Fixture Description","Wattage",null,"Fixture Description","Wattage",null,"Fixture Description","Wattage",null,"Fixture Description","Wattage",null,"Fixture Description","Wattage",null,"Fixture Description","Wattage",null,"Fixture Description","Wattage",null,"Fixture Description","Wattage",null,"Fixture Description","Wattage",null,"Interior"]
["Linear Fluorescent - T12HO",null,"2' T12 (20W) - 1L",25,null,"8' T12HO (110W) - 1L",140,null,"2' T8 (17W) - 1L",22,null,"4' RWT8 (28W) - 1L",25,null,"8' T8HO (86W) - 1L",88,null,"2' T5 (14W) - 1L",18,null,"2' T5HO (24W) - 1L",27,null,"U T12 (34W) - 1L",43,null,"U T8 (32W) - 1L",39,null,"U RWT8 (25W) - 1L",23,null,"<Enter Fixture Description>","N/A",null,"<Enter Fixture Description>","N/A",null,"<Enter Fixture Description>","N/A",null,"(1) 35W Lamp",46,null,"(1) 40W Lamp",50,null,"(1) 32W Lamp",43,null,"4' Fixture",32,null,"Exterior"]
["Linear Fluorescent - T8",null,"2' T12 (20W) - 2L",50,null,"8' T12HO (110W) - 2L",252,null,"2' T8 (17W) - 2L",33,null,"4' RWT8 (28W) - 2L",49,null,"8' T8HO (86W) - 2L",160,null,"2' T5 (14W) - 2L",34,null,"2' T5HO (24W) - 2L",52,null,"U T12 (34W) - 2L",72,null,"U T8 (32W) - 2L",62,null,"U RWT8 (28W) - 1L",25,null,null,null,null,null,null,null,null,null,null,"(1) 50W Lamp",66,null,"(1) 50W Lamp",74,null,"(1) 50W Lamp",72,null,"5' Fixture",46]
["Linear Fluorescent - RWT8",null,"2' T12 (20W) - 3L",75,null,"8' T12VHO (215W) - 1L",230,null,"2' T8 (17W) - 3L",53,null,"4' RWT8 (28W) - 3L",72,null,null,null,null,"3' T5 (21W) - 1L",27,null,"3' T5HO (39W) - 1L",43,null,"U T12 (34W) - 3L",105,null,"U T8 (32W) - 3L",92,null,"U RWT8 (25W) - 2L",44,null,null,null,null,null,null,null,null,null,null,"(1) 70W Lamp",95,null,"(1) 75W Lamp",93,null,"(1) 70W Lamp",95,null,"6' Fixture",60]
["Linear Fluorescent - T8HO",null,"2' T12 (20W) - 4L",100,null,"8' T12VHO (215W) - 2L",440,null,"2' T8 (17W) - 4L",63,null,"4' RWT8 (28W) - 4L",96,null,null,null,null,"3' T5 (21W) - 2L",50,null,"3' T5HO (39W) - 2L",85,null,null,null,null,null,null,null,"U RWT8 (28W) - 2L",49,null,null,null,null,null,null,null,null,null,null,"(1) 100W Lamp",138,null,"(1) 100W Lamp",125,null,"(1) 100W Lamp",128]
["Linear Fluorescent - T5",null,"3' T12 (30W) - 1L",46,null,null,null,null,"3' T8 (25W) - 1L",27,null,"4' RWT8 (28W) - 6L",142,null,null,null,null,"4' T5 (28W) - 1L",30,null,"4' T5HO (54W) - 1L",62,null,null,null,null,null,null,null,"U RWT8 (25W) - 3L",65,null,null,null,null,null,null,null,null,null,null,"(1) 150W Lamp",188,null,"(1) 175W Lamp",205,null,"(1) 150W Lamp",190]
["Linear Fluorescent - T5HO",null,"3' T12 (30W) - 2L",79,null,null,null,null,"3' T8 (25W) - 2L",48,null,"4' RWT8 (25W) - 1L",23,null,null,null,null,"4' T5 (28W) - 2L",60,null,"4' T5HO (54W) - 2L",117,null,null,null,null,null,null,null,"U RWT8 (28W) - 3L",72,null,null,null,null,null,null,null,null,null,null,"(1) 200W Lamp",250,null,"(1) 250W Lamp",290,null,"(1) 175W Lamp",215]
["U-Bend Fluorescent - T12",null,"3' T12 (30W) - 3L",125,null,null,null,null,"3' T8 (25W) - 3L",68,null,"4' RWT8 (25W) - 2L",44,null,null,null,null,"4' T5 (28W) - 3L",90,null,"4' T5HO (54W) - 3L",179,null,null,null,null,null,null,null,null,null,null,null,null,null,null,null,null,null,null,null,"(1) 250W Lamp",295,null,"(1) 400W Lamp",455,null,"(1) 200W Lamp",232]
["U-Bend Fluorescent - T8",null,"3' T12 (30W) - 4L",158,null,null,null,null,"3' T8 (25W) - 4L",89,null,"4' RWT8 (25W) - 3L",65,null,null,null,null,"4' T5 (28W) - 4L",120,null,"4' T5HO (54W) - 4L",234,null,null,null,null,null,null,null,null,null,null,null,null,null,null,null,null,null,null,null,"(1) 310W Lamp",365,null,"(2) 400W Lamps",910,null,"(1) 250W Lamp",295]
["U-Bend Fluorescent - RWT8",null,"4' T12 (40W) - 1L",46,null,null,null,null,"4' T8 (32W) - 1L",32,null,"4' RWT8 (25W) - 4L",86,null,null,null,null,"5' T5 (35W) - 1L",40,null,"4' T5HO (54W) - 5L",296,null,null,null,null,null,null,null,null,null,null,null,null,null,null,null,null,null,null,null,"(1) 360W Lamp",414,null,"(1) 700W Lamp",780,null,"(1) 320W Lamp",365]
["Incandescent",null,"4' T12 (40W) - 2L",88,null,null,null,null,"4' T8 (32W) - 2L",62,null,"4' RWT8 (25W) - 6L",127,null,null,null,null,"5' T5 (35W) - 2L",78,null,"4' T5HO (54W) - 6L",358,null,null,null,null,null,null,null,null,null,null,null,null,null,null,null,null,null,null,null,"(1) 400W Lamp",465,null,"(1) 1000W Lamp",1075,null,"(1) 350W Lamp",400]
["Halogen Incandescent",null,"4' T12 (40W) - 3L",127,null,null,null,null,"4' T8 (32W) - 3L",93,null,"4' RWT8 (25W) - 8L",172,null,null,null,null,null,null,null,"4' T5HO (54W) - 8L",468,null,null,null,null,null,null,null,null,null,null,null,null,null,null,null,null,null,null,null,"(1) 1000W Lamp",1100,null,null,null,null,"(1) 400W Lamp",458]
["Compact Fluorescent",null,"4' T12 (40W) - 4L",176,null,null,null,null,"4' T8 (32W) - 4L",114,null,null,null,null,null,null,null,null,null,null,"5' T5HO (80W) - 1L",89,null,null,null,null,null,null,null,null,null,null,null,null,null,null,null,null,null,null,null,null,null,null,null,null,null,"(2) 400W Lamps",916]
["HID - High-Pressure Sodium",null,"4' T12 (40W) - 6L",254,null,null,null,null,"4' T8 (32W) - 6L",176,null,null,null,null,null,null,null,null,null,null,"5' T5HO (80W) - 2L",178,null,null,null,null,null,null,null,null,null,null,null,null,null,null,null,null,null,null,null,null,null,null,null,null,null,"(1) 450W Lamp",506]
["HID - Mercury Vapor",null,"4' T12 (40W) - 8L",352,null,null,null,null,"4' T8 (32W) - 8L",228,null,null,null,null,null,null,null,null,null,null,null,null,null,null,null,null,null,null,null,null,null,null,null,null,null,null,null,null,null,null,null,null,null,null,null,null,null,"(1) 750W Lamp",850]
["HID - Metal Halide",null,"8' T12 (75W) - 1L",92,null,null,null,null,"5' T8 (40W) - 1L",46,null,null,null,null,null,null,null,null,null,null,null,null,null,null,null,null,null,null,null,null,null,null,null,null,null,null,null,null,null,null,null,null,null,null,null,null,null,"(1) 1000W Lamp",1080]
[null,null,"8' T12 (75W) - 2L",158,null,null,null,null,"5' T8 (40W) - 2L",79,null,null,null,null,null,null,null,null,null,null,null,null,null,null,null,null,null,null,null,null,null,null,null,null,null,null,null,null,null,null,null,null,null,null,null,null,null,"(1) 1500W Lamp",1610]
["Refrigerated Case Lighting - Fluorescent",null,null,null,null,null,null,null,"5' T8 (40W) - 3L",112]
[null,null,null,null,null,null,null,null,"5' T8 (40W) - 4L",142]
[null,null,null,null,null,null,null,null,"8' T8 (59W) - 1L",58]
[null,null,null,null,null,null,null,null,"8' T8 (59W) - 2L",110]

{"sheet":"Proposed Fixture Support","index":5,"n_rows":60,"n_cols":30,"rows_kept":60,"cut":false,"hidden":true,"merged":[[55,17,55,18],[0,3,0,8],[0,10,0,15],[0,17,0,22],[0,24,0,29],[21,24,21,25]]}
["Light_PTechTypeN",null,null,"LED - Energy Star Fixture-Retrofit",null,null,null,null,null,null,"LED - Energy Star Screw-In/Plug-In",null,null,null,null,null,null,"LED - DLC Fixture",null,null,null,null,null,null,"LED - DLC Retrofit"]
["LED - Energy Star Fixture-Retrofit",null,null,"Fixture Description","Proposed Wattage","Lamps","Baseline Wattage","Delta kW","Incentive per Unit",null,"Fixture Description","Proposed Wattage","Lamps","Baseline Wattage","Delta kW","Incentive per Unit",null,"Fixture Description","Proposed Wattage","Lamps","Baseline Wattage","Delta kW","Incentive per Unit",null,"Fixture Description","Proposed Wattage","Lamps","Baseline Wattage","Delta kW","Incentive per Unit"]
["LED - Energy Star Screw-In/Plug-In",null,null,"Bath Vanity","N/A","N/A","N/A","N/A",5,null,"LED Bulb (all types)","N/A","N/A","N/A","N/A",1,null,"LED Architectural Flood and Spot Luminaires","N/A","N/A","N/A","N/A",50,null,"LED Luminaire for Ambient Lighting of Commercial Spaces - 1x4","N/A","N/A","N/A","N/A",15]
["LED - DLC Fixture",null,null,"Ceiling Mount","N/A","N/A","N/A","N/A",10,null,null,null,null,null,null,null,null,"LED Bollard Fixtures","N/A","N/A","N/A","N/A",50,null,"LED Luminaire for Ambient Lighting of Commercial Spaces - 2x2","N/A","N/A","N/A","N/A",15]
[null,null,null,"Close to Ceiling Mount","N/A","N/A","N/A","N/A",10,null,null,null,null,null,null,null,null,"LED Display Case Lighting","N/A","N/A","N/A","N/A",30,null,"LED Luminaire for Ambient Lighting of Commercial Spaces - 2x4","N/A","N/A","N/A","N/A",25]
["Light_PTechTypeR",null,null,"Cove Mount","N/A","N/A","N/A","N/A",5,null,null,null,null,null,null,null,null,"LED Fuel Pump Canopy","N/A","N/A","N/A","N/A",100,null,"Mogul Screw-Base (E39) Replacements for HID Lamps ≤125W ","N/A","N/A","N/A","N/A",50]
["LED - Energy Star Fixture-Retrofit",null,null,"Decorative Candle: Other","N/A","N/A","N/A","N/A",5,null,null,null,null,null,null,null,null,"LED High-Bay and Low-Bay Fixtures ≤125W ","N/A","N/A","N/A","N/A",50,null,"Mogul Screw-Base (E39) Replacements for HID Lamps >125W to ≤250W ","N/A","N/A","N/A","N/A",75]
["LED - Energy Star Screw-In/Plug-In",null,null,"Decorative Pendant","N/A","N/A","N/A","N/A",10,null,null,null,null,null,null,null,null,"LED High-Bay and Low-Bay Fixtures >125W to ≤250W ","N/A","N/A","N/A","N/A",75,null,"Mogul Screw-Base (E39) Replacements for HID Lamps >250W ","N/A","N/A","N/A","N/A",150]
["LED - DLC Retrofit",null,null,"Decorative: Other","N/A","N/A","N/A","N/A",5,null,null,null,null,null,null,null,null,"LED High-Bay and Low-Bay Fixtures >250W ","N/A","N/A","N/A","N/A",150,null,"LED Outdoor Pole/Arm-Mounted Area and Roadway Luminaires","N/A","N/A","N/A","N/A",100]
[null,null,null,"Downlight Pendant","N/A","N/A","N/A","N/A",5,null,null,null,null,null,null,null,null,"LED High-Bay-Aisle Lighting  ≤125W ","N/A","N/A","N/A","N/A",50,null,"LED Outdoor Pole/Arm-Mounted Decorative Luminaires","N/A","N/A","N/A","N/A",50]
[null,null,null,"Downlight Recessed","N/A","N/A","N/A","N/A",5,null,null,null,null,null,null,null,null,"LED High-Bay-Aisle Lighting  >125W to ≤250W ","N/A","N/A","N/A","N/A",75,null,"LED Large Outdoor Pole/Arm-Mounted Area and Roadway Luminaires","N/A","N/A","N/A","N/A",150]
[null,null,null,"Downlight Solid State Retrofit","N/A","N/A","N/A","N/A",5,null,null,null,null,null,null,null,null,"LED High-Bay-Aisle Lighting  >250W ","N/A","N/A","N/A","N/A",150,null,"LED Pin-Based CFL Replacement","N/A","N/A","N/A","N/A",5]
[null,null,null,"Downlight Surface Mount","N/A","N/A","N/A","N/A",5,null,null,null,null,null,null,null,null,"LED Luminaire Ambient - 2' - Indirect","N/A","N/A","N/A","N/A",20,null,"Retrofit Kit For LED Linear Ambient Luminaire - 2'","N/A","N/A","N/A","N/A",15]
[null,null,null,"Inseparable SSL - Other","N/A","N/A","N/A","N/A",10,null,null,null,null,null,null,null,null,"LED Luminaire Ambient - 2' - Indirect/Direct","N/A","N/A","N/A","N/A",20,null,"Retrofit Kit For LED Linear Ambient Luminaire - 4'","N/A","N/A","N/A","N/A",15]
[null,null,null,"Other","N/A","N/A","N/A","N/A",5,null,null,null,null,null,null,null,null,"LED Luminaire Ambient - 2' - Direct/Indirect","N/A","N/A","N/A","N/A",20,null,"Retrofit Kit For LED Linear Ambient Luminaire - 8'","N/A","N/A","N/A","N/A",25]
[null,null,null,"Outdoor Porch Wall Mount","N/A","N/A","N/A","N/A",5,null,null,null,null,null,null,null,null,"LED Luminaire Ambient - 2' - Direct","N/A","N/A","N/A","N/A",20,null,"LED Tube – 2' Linear Replacement Lamps","N/A","N/A","N/A","N/A",3]
[null,null,null,"Outdoor Post-Mount","N/A","N/A","N/A","N/A",5,null,null,null,null,null,null,null,null,"LED Luminaire Ambient - 3' - Indirect","N/A","N/A","N/A","N/A",30,null,"LED Tube – 3' Linear Replacement Lamps","N/A","N/A","N/A","N/A",5]
[null,null,null,"Porch (Wall Mounted)","N/A","N/A","N/A","N/A",5,null,null,null,null,null,null,null,null,"LED Luminaire Ambient - 3' - Indirect/Direct","N/A","N/A","N/A","N/A",30,null,"LED Tube – 4' Linear Replacement Lamps","N/A","N/A","N/A","N/A",5]
[null,null,null,"Portable Desk Task Light","N/A","N/A","N/A","N/A",5,null,null,null,null,null,null,null,null,"LED Luminaire Ambient - 3' - Direct/Indirect","N/A","N/A","N/A","N/A",30,null,"LED Tube – 8' Linear Replacement Lamps","N/A","N/A","N/A","N/A",10]
[null,null,null,"Security","N/A","N/A","N/A","N/A",10,null,null,null,null,null,null,null,null,"LED Luminaire Ambient - 3' - Direct","N/A","N/A","N/A","N/A",30,null,"LED Tube – U-Bend Replacement Lamps","N/A","N/A","N/A","N/A",5]
[null,null,null,"Torchiere","N/A","N/A","N/A","N/A",5,null,null,null,null,null,null,null,null,"LED Luminaire Ambient - 4' - Indirect","N/A","N/A","N/A","N/A",45]
[null,null,null,"Wall Scounces","N/A","N/A","N/A","N/A",10,null,null,null,null,null,null,null,null,"LED Luminaire Ambient - 4' - Indirect/Direct","N/A","N/A","N/A","N/A",45,null,"LED Mogul"]
[null,null,null,"Wrapped Lens","N/A","N/A","N/A","N/A",10,null,null,null,null,null,null,null,null,"LED Luminaire Ambient - 4' - Direct/Indirect","N/A","N/A","N/A","N/A",45,null,"Wattage","Incentive per Unit"]
[null,null,null,null,null,null,null,null,null,null,null,null,null,null,null,null,null,"LED Luminaire Ambient - 4' - Direct","N/A","N/A","N/A","N/A",45,null,0,50]
[null,null,null,null,null,null,null,null,null,null,null,null,null,null,null,null,null,"LED Luminaire Ambient - 6' - Indirect","N/A","N/A","N/A","N/A",60,null,125.001,75]
[null,null,null,null,null,null,null,null,null,null,null,null,null,null,null,null,null,"LED Luminaire Ambient - 6' - Indirect/Direct","N/A","N/A","N/A","N/A",60,null,250.001,150]
[null,null,null,null,null,null,null,null,null,null,null,null,null,null,null,null,null,"LED Luminaire Ambient - 6' - Direct/Indirect","N/A","N/A","N/A","N/A",60]
[null,null,null,null,null,null,null,null,null,null,null,null,null,null,null,null,null,"LED Luminaire Ambient - 6' - Direct","N/A","N/A","N/A","N/A",60]
[null,null,null,null,null,null,null,null,null,null,null,null,null,null,null,null,null,"LED Luminaire Ambient - 8' - Indirect","N/A","N/A","N/A","N/A",75]
[null,null,null,null,null,null,null,null,null,null,null,null,null,null,null,null,null,"LED Luminaire Ambient - 8' - Indirect/Direct","N/A","N/A","N/A","N/A",75]
[null,null,null,null,null,null,null,null,null,null,null,null,null,null,null,null,null,"LED Luminaire Ambient - 8' - Direct/Indirect","N/A","N/A","N/A","N/A",75]
[null,null,null,null,null,null,null,null,null,null,null,null,null,null,null,null,null,"LED Luminaire Ambient - 8' - Direct","N/A","N/A","N/A","N/A",75]
[null,null,null,null,null,null,null,null,null,null,null,null,null,null,null,null,null,"LED Tube – 2' Linear Replacement Lamps","N/A","N/A","N/A","N/A",5]
[null,null,null,null,null,null,null,null,null,null,null,null,null,null,null,null,null,"LED Tube – 4' Linear Replacement Lamps","N/A","N/A","N/A","N/A",5]
[null,null,null,null,null,null,null,null,null,null,null,null,null,null,null,null,null,"LED Tube – U-Bend Replacement Lamps","N/A","N/A","N/A","N/A",5]
[null,null,null,null,null,null,null,null,null,null,null,null,null,null,null,null,null,"LED Luminaire for Ambient Lighting of Commercial Spaces - 1x4","N/A","N/A","N/A","N/A",15]
[null,null,null,null,null,null,null,null,null,null,null,null,null,null,null,null,null,"LED Luminaire for Ambient Lighting of Commercial Spaces - 2x2","N/A","N/A","N/A","N/A",15]
[null,null,null,null,null,null,null,null,null,null,null,null,null,null,null,null,null,"LED Luminaire for Ambient Lighting of Commercial Spaces - 2x4","N/A","N/A","N/A","N/A",25]
[null,null,null,null,null,null,null,null,null,null,null,null,null,null,null,null,null,"LED Outdoor Pole/Arm-Mounted Area and Roadway Luminaires","N/A","N/A","N/A","N/A",100]
[null,null,null,null,null,null,null,null,null,null,null,null,null,null,null,null,null,"LED Outdoor Pole/Arm-Mounted Decorative Luminaires","N/A","N/A","N/A","N/A",50]
[null,null,null,null,null,null,null,null,null,null,null,null,null,null,null,null,null,"LED Outdoor Wall-Mounted Area Luminaires","N/A","N/A","N/A","N/A",100]
[null,null,null,null,null,null,null,null,null,null,null,null,null,null,null,null,null,"LED Parking Garage Luminaires","N/A","N/A","N/A","N/A",100]
[null,null,null,null,null,null,null,null,null,null,null,null,null,null,null,null,null,"LED Retrofit Kits for Large Outdoor Pole/Arm-Mounted Area and Roadway Luminaires","N/A","N/A","N/A","N/A",150]
[null,null,null,null,null,null,null,null,null,null,null,null,null,null,null,null,null,"LED Refrigerated Case Luminaires (Horizontal or Vertical) - 4'","N/A","N/A","N/A","N/A",30]
[null,null,null,null,null,null,null,null,null,null,null,null,null,null,null,null,null,"LED Refrigerated Case Luminaires (Horizontal or Vertical) - 5'","N/A","N/A","N/A","N/A",42]
[null,null,null,null,null,null,null,null,null,null,null,null,null,null,null,null,null,"LED Refrigerated Case Luminaires (Horizontal or Vertical) - 6'","N/A","N/A","N/A","N/A",65]
[null,null,null,null,null,null,null,null,null,null,null,null,null,null,null,null,null,"LED Shelf-Mounted Display and Task Lights","N/A","N/A","N/A","N/A",15]
[null,null,null,null,null,null,null,null,null,null,null,null,null,null,null,null,null,"LED Stairwell and Passageway Lighting","N/A","N/A","N/A","N/A",40]
[null,null,null,null,null,null,null,null,null,null,null,null,null,null,null,null,null,"LED Track or Mono-Point Directional Lighting Fixtures","N/A","N/A","N/A","N/A",30]
[null,null,null,null,null,null,null,null,null,null,null,null,null,null,null,null,null,"LED Wall-Wash Lights","N/A","N/A","N/A","N/A",30]
[null,null,null,null,null,null,null,null,null,null,null,null,null,null,null,null,null,"LED Four Pin-Base CFL Replacement","N/A","N/A","N/A","N/A",5]
[null,null,null,null,null,null,null,null,null,null,null,null,null,null,null,null,null,"Mogul Screw-Base (E39) Replacements for HID Lamps ≤125W ","N/A","N/A","N/A","N/A",50]
[null,null,null,null,null,null,null,null,null,null,null,null,null,null,null,null,null,"Mogul Screw-Base (E39) Replacements for HID Lamps >125W to ≤250W ","N/A","N/A","N/A","N/A",75]
[null,null,null,null,null,null,null,null,null,null,null,null,null,null,null,null,null,"Mogul Screw-Base (E39) Replacements for HID Lamps >250W ","N/A","N/A","N/A","N/A",150]
[]
[null,null,null,null,null,null,null,null,null,null,null,null,null,null,null,null,null,"HID-LED Hi-Bay"]
[null,null,null,null,null,null,null,null,null,null,null,null,null,null,null,null,null,"Wattage","Incentive per Unit"]
[null,null,null,null,null,null,null,null,null,null,null,null,null,null,null,null,null,0,50]
[null,null,null,null,null,null,null,null,null,null,null,null,null,null,null,null,null,125.001,75]
[null,null,null,null,null,null,null,null,null,null,null,null,null,null,null,null,null,250.001,150]

{"sheet":"Other Support","index":6,"n_rows":23,"n_cols":18,"rows_kept":23,"cut":false,"hidden":true,"merged":[[0,4,0,9],[0,12,0,13]]}
[null,null,null,"HVAC_d","HVAC_e",null,null,null,null,null,null,null,"HVAC_g"]
["Building Type","EFLH","CF","AC","Electric Cooling & Gas Heat","Electric Cooling & Oil Heat","Electric Cooling & Propane Heat","Electric Cooling & Resistance Heat","Heat Pump","No Electric Cooling (Electric Resistance Heat Only)",null,"Fuel Type","Large Commercial","Small Commercial",null,null,null,"HVAC Options"]
["Education – Primary School",2575,0.5,0.44,0.1,0.1,0.1,-0.19,-0.04,-0.28999999999999998,null,"Gas",-2.3000000000000001E-4,-1.075E-3,null,null,null,"Electric Cooling & Gas Heat"]
["Education – Secondary School",2575,0.5,0.44,0.1,0.1,0.1,-0.19,-0.04,-0.28999999999999998,null,"Oil",-4.6000000000000001E-4,-1.2E-4,null,null,null,"Electric Cooling & Oil Heat"]
["Education – Community College",2575,0.5,0.44,0.1,0.1,0.1,-0.19,-0.04,-0.28999999999999998,null,"Propane",-4.6000000000000001E-4,-1.2E-4,null,null,null,"Electric Cooling & Propane Heat"]
["Education – University",2575,0.5,0.44,0.1,0.1,0.1,-0.19,-0.04,-0.28999999999999998,null,null,null,null,null,null,null,"Electric Cooling & Resistance Heat"]
["Grocery",7134,0.96,0.27,0.06,0.06,0.06,-0.17,-0.05,-0.23,null,null,null,null,null,null,null,"No Electric Cooling (Electric Resistance Heat Only)"]
["Medical – Hospital ",8760,0.8,0.34,0.08,0.08,0.08,-0.18,-7.0000000000000007E-2,-0.26,null,null,null,null,null,null,null,"No Electric Cooling (Gas Heat Only)"]
["Medical – Clinic",3909,0.8,0.34,0.08,0.08,0.08,-0.18,-7.0000000000000007E-2,-0.26,null,null,null,null,null,null,null,"No Electric Cooling (Oil Heat Only)"]
["Lodging Hotel (Guest Rooms)",4573,0.66,0.34,0.08,0.08,0.08,-0.18,-7.0000000000000007E-2,-0.26,null,"Refrigerated Type","Hours","Compressor Efficiency","Compressor Factor","CF",null,"No Electric Cooling (Propane Heat Only)"]
["Lodging Motel",4573,0.66,0.34,0.08,0.08,0.08,-0.18,-7.0000000000000007E-2,-0.26,null,"Cooler",6205,0.41,0.4,0.92,null,"Heat Pump"]
["Manufacturing – Light Industrial",4116,0.7,0.34,0.08,0.08,0.08,-0.18,-7.0000000000000007E-2,-0.26,null,"Freezer",6205,0.52,0.51,0.92]
["Office - Large",2969,0.7,0.35,0.1,0.1,0.1,-0.15,-0.06,-0.25]
["Office - Small",2950,0.67,0.35,0.1,0.1,0.1,-0.15,-0.06,-0.25]
["Restaurant – Sit-Down",4573,0.66,0.34,0.08,0.08,0.08,-0.18,-7.0000000000000007E-2,-0.26]
["Restaurant – Fast-Food",4573,0.66,0.34,0.08,0.08,0.08,-0.18,-7.0000000000000007E-2,-0.26]
["Retail – 3-Story Large",4920,0.96,0.27,0.06,0.06,0.06,-0.17,-0.05,-0.23]
["Retail – Single-Story Large",4920,0.96,0.27,0.06,0.06,0.06,-0.17,-0.05,-0.23]
["Retail – Small",4926,0.86,0.27,0.06,0.06,0.06,-0.17,-0.05,-0.23]
["Storage Conditioned ",4116,0.7,0.22,0.02,0.02,0.02,-0.25,-0.11,-0.27]
["Storage Unconditioned",4116,0.7,0,0,0,0,0,0,0]
["Warehouse",4116,0.7,0.22,0.02,0.02,0.02,-0.25,-0.11,-0.27]
["Average = Miscellaneous",4573,0.66,0.34,0.08,0.08,0.08,-0.18,-7.0000000000000007E-2,-0.26]

{"sheet":"Fixtures","index":7,"n_rows":339,"n_cols":16,"rows_kept":339,"cut":false,"hidden":true,"merged":[[310,13,310,14],[3,0,46,0],[48,0,60,0]]}
["FIXTURE CODE","DESCRIPTION","kW/Fixt","LAMP / FIXT","Baseline","deltakW","Additional Input","Incentive","delamping Baseline","delamping\ndeltakW"]
[null,null,null,null,null,null,null,"N"]
["LED",null,null,null,null,null,null,"*0.16  applies to tubes replacing HIDs"]
["New","LED Architectural Flood and Spot Luminaires",null,null,null,null,null,50]
[null,"LED Bollard Fixtures",null,null,null,null,null,50]
[null,"LED Display Case Lighting",null,null,null,null,"Enter the number of linear feet served by this fixture type divided by the number of fixtures",30]
[null,"LED Refrigeration - 4' Center Strip",null,null,null,null,null,30]
[null,"LED Refrigeration - 4' End Strip",null,null,null,null,null,30]
[null,"LED Refrigeration - 5' Center Strip",null,null,null,null,null,42]
[null,"LED Refrigeration - 5' End Strip",null,null,null,null,null,42]
[null,"LED Refrigeration - 6' Center Strip",null,null,null,null,null,65]
[null,"LED Refrigeration - 6' End Strip",null,null,null,null,null,65]
[null,"LED Fuel Pump Canopy",null,null,null,null,null,100]
[null,"LED High-Bay and Low-Bay Fixtures",null,null,null,null,null,150]
[null,"LED High-Bay-Aisle Lighting",null,null,null,null,null,150]
[null,"LED Luminaire Ambient - 2' - Indirect",null,null,null,null,null,20]
[null,"LED Luminaire Ambient - 2' - Indirect/Direct",null,null,null,null,null,20]
[null,"LED Luminaire Ambient - 2' - Direct/Indirect",null,null,null,null,null,20]
[null,"LED Luminaire Ambient - 2' - Direct",null,null,null,null,null,20]
[null,"LED Luminaire Ambient - 3' - Indirect",null,null,null,null,null,30]
[null,"LED Luminaire Ambient - 3' - Indirect/Direct",null,null,null,null,null,30]
[null,"LED Luminaire Ambient - 3' - Direct/Indirect",null,null,null,null,null,30]
[null,"LED Luminaire Ambient - 3' - Direct",null,null,null,null,null,30]
[null,"LED Luminaire Ambient - 4' - Indirect",null,null,null,null,null,45]
[null,"LED Luminaire Ambient - 4' - Indirect/Direct",null,null,null,null,null,45]
[null,"LED Luminaire Ambient - 4' - Direct/Indirect",null,null,null,null,null,45]
[null,"LED Luminaire Ambient - 4' - Direct",null,null,null,null,null,45]
[null,"LED Luminaire Ambient - 6' - Indirect",null,null,null,null,null,60]
[null,"LED Luminaire Ambient - 6' - Indirect/Direct",null,null,null,null,null,60]
[null,"LED Luminaire Ambient - 6' - Direct/Indirect",null,null,null,null,null,60]
[null,"LED Luminaire Ambient - 6' - Direct",null,null,null,null,null,60]
[null,"LED Luminaire Ambient - 8' - Indirect",null,null,null,null,null,75]
[null,"LED Luminaire Ambient - 8' - Indirect/Direct",null,null,null,null,null,75]
[null,"LED Luminaire Ambient - 8' - Direct/Indirect",null,null,null,null,null,75]
[null,"LED Luminaire Ambient - 8' - Direct",null,null,null,null,null,75]
[null,"LED Luminaire for Ambient Lighting of Commercial Spaces - 1x4",null,null,null,null,null,15]
[null,"LED Luminaire for Ambient Lighting of Commercial Spaces - 2x2",null,null,null,null,null,15]
[null,"LED Luminaire for Ambient Lighting of Commercial Spaces - 2x4",null,null,null,null,null,25]
[null,"LED Outdoor Pole/Arm-Mounted Area and Roadway Luminaires",null,null,null,null,null,100]
[null,"LED Outdoor Pole/Arm-Mounted Decorative Luminaires",null,null,null,null,null,50]
[null,"LED Outdoor Wall-Mounted Area Luminaires",null,null,null,null,null,100]
[null,"LED Parking Garage Luminaires",null,null,null,null,null,100]
[null,"LED Shelf-Mounted Display and Task Lights",null,null,null,null,null,15]
[null,"LED Stairwell and Passageway Lighting",null,null,null,null,null,40]
[null,"LED Track or Mono-Point Directional Lighting Fixtures",null,null,null,null,null,30]
[null,"LED Wall-Wash Lights",null,null,null,null,null,30]
[null,"LED Wrapped Lens",null,null,null,null,null,10]
[]
["Retrofit","LED Luminaire for Ambient Lighting of Commercial Spaces - 1x4",null,null,null,null,null,15]
[null,"LED Luminaire for Ambient Lighting of Commercial Spaces - 2x2",null,null,null,null,null,15]
[null,"LED Luminaire for Ambient Lighting of Commercial Spaces - 2x4",null,null,null,null,null,25]
[null,"LED Tube – 2' Linear Replacement Lamps",null,null,null,null,null,3]
[null,"LED Tube – 3' Linear Replacement Lamps",null,null,null,null,null,5]
[null,"LED Tube – 4' Linear Replacement Lamps",null,null,null,null,null,5]
[null,"LED Tube – 8' Linear Replacement Lamps",null,null,null,null,null,10]
[null,"Retrofit Kit for LED Linear Ambient Luminaire - 2'",null,null,null,null,null,15]
[null,"Retrofit Kit for LED Linear Ambient Luminaire - 4'",null,null,null,null,null,15]
[null,"Retrofit Kit for LED Linear Ambient Luminaire - 8'",null,null,null,null,null,25]
[null,"LED Outdoor Pole/Arm-Mounted Area and Roadway Luminaires",null,null,null,null,null,100]
[null,"LED Outdoor Pole/Arm-Mounted Decorative Luminaires",null,null,null,null,null,50]
[null,"LED Large Outdoor Pole/Arm-Mounted Area and Roadway Luminaires",null,null,null,null,null,150]
[]
["Energy Star Screw and Pin Based Bulbs"]
[null,"LED A15",null,null,null,null,null,1]
[null,"LED A19",null,null,null,null,null,1]
[null,"LED A21",null,null,null,null,null,1]
[null,"LED B10",null,null,null,null,null,1]
[null,"LED B13",null,null,null,null,null,1]
[null,"LED BA10",null,null,null,null,null,1]
[null,"LED BR30",null,null,null,null,null,1]
[null,"LED BR40",null,null,null,null,null,1]
[null,"LED CA10",null,null,null,null,null,1]
[null,"LED F10",null,null,null,null,null,1]
[null,"LED F15",null,null,null,null,null,1]
[null,"LED G16.5",null,null,null,null,null,1]
[null,"LED G25",null,null,null,null,null,1]
[null,"LED MR16",null,null,null,null,null,1]
[null,"LED MRX16",null,null,null,null,null,1]
[null,"LED PAR16",null,null,null,null,null,1]
[null,"LED PAR20",null,null,null,null,null,1]
[null,"LED PAR30",null,null,null,null,null,1]
[null,"LED PAR30L",null,null,null,null,null,1]
[null,"LED PAR38",null,null,null,null,null,1]
[null,"LED R20",null,null,null,null,null,1]
[null,"LED R30",null,null,null,null,null,1]
[null,"LED R40",null,null,null,null,null,1]
[]
["Energy Star Commercial Lighting Fixtures"]
[null,"Bath Vanity",null,null,null,null,null,5]
[null,"Ceiling Mount",null,null,null,null,null,10]
[null,"Close to Ceiling Mount",null,null,null,null,null,10]
[null,"Cove Mount",null,null,null,null,null,5]
[null,"Decorative Candle: Other",null,null,null,null,null,5]
[null,"Decorative Pendant",null,null,null,null,null,10]
[null,"Decorative: Other",null,null,null,null,null,5]
[null,"Downlight Pendant",null,null,null,null,null,5]
[null,"Downlight Recessed",null,null,null,null,null,5]
[null,"Downlight Solid State Retrofit",null,null,null,null,null,5]
[null,"Downlight Surgace Mount",null,null,null,null,null,5]
[null,"Inseparable SSL - Other",null,null,null,null,null,10]
[null,"Other",null,null,null,null,null,5]
[null,"Outdoor Porch Wall Mount",null,null,null,null,null,5]
[null,"Outdoor Post-Mount",null,null,null,null,null,5]
[null,"Porch (Wall Mounted)",null,null,null,null,null,5]
[null,"Portable Desk Task Light",null,null,null,null,null,5]
[null,"Security",null,null,null,null,null,10]
[null,"Torchiere",null,null,null,null,null,5]
[null,"Wall Scounces",null,null,null,null,null,10]
[null,"Wrapped Lens",null,null,null,null,null,10]
[null,null,null,null,null,null,null,null,null,null,"LED Large Outdoor Pole/Arm-Mounted Area and Roadway Luminaires"]
[null,null,null,null,null,null,null,null,null,null,"LED Outdoor Pole/Arm-Mounted Area and Roadway Luminaires"]
[null,null,null,null,null,null,null,null,null,null,"LED Outdoor Pole/Arm-Mounted Decorative Luminaires"]
[]
[]
["t5"]
["F21PL","T5 1L2",1.7999999999999999E-2,1,2.8000000000000001E-2,{"$f":"E116-C116","v":1.0000000000000002E-2}]
["F22PL","T5 2L2",3.4000000000000002E-2,2,5.6000000000000001E-2,2.1999999999999999E-2]
["F23PL/2","T5 3L2",5.1999999999999998E-2,3,6.2E-2,1.0000000000000002E-2]
["F24PL/2","T5 4L2",6.8000000000000005E-2,4,0.112,4.3999999999999997E-2]
["F31PL","T5 1L3",2.5000000000000001E-2,1,4.5999999999999999E-2,2.0999999999999998E-2]
["F32PL","T5 2L3",4.8000000000000001E-2,2,8.1000000000000003E-2,3.3000000000000002E-2]
["F33PL/2","T5 3L3",7.2999999999999995E-2,3,0.127,5.4000000000000006E-2]
["F34PL/2","T5 4L3",9.6000000000000002E-2,4,0.16200000000000001,6.6000000000000003E-2]
["F41PL","T5 1L4",3.3000000000000002E-2,1,0.06,2.6999999999999996E-2]
["F42PL","T5 2L4",6.4000000000000001E-2,2,8.2000000000000003E-2,1.8000000000000002E-2]
["F43PL/2","T5 3L4",9.7000000000000003E-2,3,0.13300000000000001,3.6000000000000004E-2]
["F44PL/2","T5 4L4",0.128,4,0.16400000000000001,3.6000000000000004E-2]
["F51PL","T5 1L5",0.04,1,6.3E-2,2.3E-2]
["F52PL","T5 2L5",7.8E-2,2,0.128,0.05]
[]
["high output T5"]
["F42PHL","T5HO lamp 1L4, Instant Start Ballast",{"$f":"0.5*C133","v":5.8500000000000003E-2},{"$f":"0.5*D133","v":1},7.2499999999999995E-2,{"$f":"0.5*F133","v":1.3999999999999992E-2}]
["F42PHL","T5HO lamp 2L4, Instant Start Ballast",0.11700000000000001,2,0.14499999999999999,{"$f":"E133-C133","v":2.7999999999999983E-2}]
["F43PHL/2","T5HO lamp 3L4, Instant Start Ballast",0.17899999999999999,3,0.23,{"$f":"E134-C134","v":5.1000000000000018E-2}]
["F44PHL/2","T5HO lamp, 4L4 Instant Start Ballast",0.23400000000000001,4,0.28999999999999998,{"$f":"E135-C135","v":5.5999999999999966E-2}]
["F46PHL/3","T5HO lamp, 6L4 Instant Start Ballast",0.35099999999999998,6,0.43499999999999994,{"$f":"E136-C136","v":8.3999999999999964E-2}]
["F48PHL/4","T5HO lamp, 8L4 Instant Start Ballast",0.46800000000000003,8,0.57999999999999996,{"$f":"E137-C137","v":0.11199999999999993}]
[]
["t8"]
["F21ILL","T8 1L2 Instant Start Ballast",0.02,1,2.8000000000000001E-2,{"$f":"E140-C140","v":8.0000000000000002E-3},null,0.16,3.3000000000000002E-2,{"$f":"I140-C140","v":1.3000000000000001E-2}]
["F22ILL","T8 2L2 Instant Start Ballast",3.3000000000000002E-2,2,5.6000000000000001E-2,2.3E-2,null,0.16,4.7E-2,{"$f":"I141-C141","v":1.3999999999999999E-2}]
["F23ILL","T8 3L2 Instant Start Ballast",4.7E-2,3,6.2E-2,1.4999999999999999E-2,null,0.16,6.0999999999999999E-2,1.3999999999999999E-2]
["F24ILL","T8 4L2 Instant Start Ballast",6.0999999999999999E-2,4,0.112,5.1000000000000004E-2,null,0.16,8.8999999999999996E-2,2.7999999999999997E-2]
["F31ILL","T8 1L3 Instant Start Ballast",2.5999999999999999E-2,1,4.5999999999999999E-2,0.02,null,0.16,4.5999999999999999E-2,0.02]
["F32ILL","T8 2L3 Instant Start Ballast",4.5999999999999999E-2,2,8.1000000000000003E-2,3.5000000000000003E-2,null,0.16,6.7000000000000004E-2,2.1000000000000005E-2]
["F33ILL","T8 3L3 Instant Start Ballast",6.7000000000000004E-2,3,0.127,0.06,null,0.16,8.6999999999999994E-2,1.999999999999999E-2]
["F34ILL","T8 4L3 Instant Start Ballast",8.6999999999999994E-2,4,0.16200000000000001,7.5000000000000011E-2,null,0.16,0.13400000000000001,4.7000000000000014E-2]
["F41ILL","T8 1L4 Instant Start Ballast",3.1E-2,1,0.06,2.8999999999999998E-2,null,0.16,5.8999999999999997E-2,2.7999999999999997E-2]
["F42ILL","T8 2L4 Instant Start Ballast",5.8999999999999997E-2,2,8.2000000000000003E-2,2.3000000000000007E-2,null,0.16,8.8999999999999996E-2,0.03]
["F43ILL","T8 3L4 Instant Start Ballast",8.8999999999999996E-2,3,0.13300000000000001,4.4000000000000011E-2,null,0.16,0.112,2.3000000000000007E-2]
["F44ILL","T8 4L4 Instant Start Ballast",0.112,4,0.16400000000000001,5.2000000000000005E-2,null,0.16,0.16800000000000001,5.6000000000000008E-2]
["T46ILL","T8 6L4 Instant Start Ballast",{"$f":"(C153+C151)/2","v":0.16800000000000001},{"$f":"(D153+D151)/2","v":6},{"$f":"(E153+E151)/2","v":0.22599999999999998},{"$f":"(F153+F151)/2","v":5.7999999999999989E-2},"*took average of 4 lamp and 8 lamp fixtures",0.16,0.224,5.5999999999999994E-2]
["F48ILL","T8 8L4 Instant Start Ballast",0.224,8,0.28799999999999998,6.3999999999999974E-2,null,0.16,0.28000000000000003,5.6000000000000022E-2]
["F410ILL","T8 10L4 Instant Start Ballast",0.28000000000000003,10,0.35199999999999998,7.1999999999999953E-2,null,0.16,0.33600000000000008,5.600000000000005E-2]
["F51ILL","T8 1L5 Instant Start Ballast",3.5999999999999997E-2,1,6.3E-2,2.7000000000000003E-2,null,0.16,7.1999999999999995E-2,3.5999999999999997E-2]
["F52ILL","T8 2L5 Instant Start Ballast",7.1999999999999995E-2,2,0.128,5.6000000000000008E-2,null,0.16,0.10799999999999998,3.599999999999999E-2]
["F81ILL","T8 1L8 Instant Start Ballast",5.8000000000000003E-2,1,7.4999999999999997E-2,1.6999999999999994E-2,null,0.16,0.109,5.0999999999999997E-2]
["F82ILL","T8 2L8 Instant Start Ballast",0.109,2,0.128,1.9000000000000003E-2,null,0.16,0.16700000000000001,5.800000000000001E-2]
["F83ILL","T8 3L8 Instant Start Ballast",0.16700000000000001,3,0.20300000000000001,3.6000000000000004E-2,null,0.16,0.219,5.1999999999999991E-2]
["F84ILL","T8 4L8 Instant Start Ballast",0.219,4,0.25600000000000001,3.7000000000000005E-2,null,0.16,0.32800000000000001,0.10900000000000001]
["F21LL","T8 1L2 Rapid Start Ballast",1.6E-2,1,2.8000000000000001E-2,1.2E-2,null,0.16,3.1E-2,1.4999999999999999E-2]
["F22LL","T8 2L2 Rapid Start Ballast",3.1E-2,2,5.6000000000000001E-2,2.5000000000000001E-2,null,0.16,5.1999999999999998E-2,2.0999999999999998E-2]
["F23LL","T8 3L2 Rapid Start Ballast",5.1999999999999998E-2,3,6.2E-2,1.0000000000000002E-2,null,0.16,6.8000000000000005E-2,1.6000000000000007E-2]
["F24LL","T8 4L2 Rapid Start Ballast",6.8000000000000005E-2,4,0.112,4.3999999999999997E-2,null,0.16,0.10000000000000002,3.2000000000000015E-2]
["F31LL","T8 1L3 Rapid Start Ballast",2.4E-2,1,4.5999999999999999E-2,2.1999999999999999E-2,null,0.16,4.5999999999999999E-2,2.1999999999999999E-2]
["F32LL","T8 2L3 Rapid Start Ballast",4.5999999999999999E-2,2,8.1000000000000003E-2,3.5000000000000003E-2,null,0.16,7.1999999999999995E-2,2.5999999999999995E-2]
["F33LL","T8 3L3 Rapid Start Ballast",7.1999999999999995E-2,3,0.127,5.5000000000000007E-2,null,0.16,8.8999999999999996E-2,1.7000000000000001E-2]
["F34LL","T8 4L3 Rapid Start Ballast",8.8999999999999996E-2,4,0.16200000000000001,7.3000000000000009E-2,null,0.16,0.123,3.4000000000000002E-2]
["F41LL","T8 1L4 Rapid Start Ballast",3.2000000000000001E-2,1,0.06,2.7999999999999997E-2,null,0.16,0.06,2.7999999999999997E-2]
["F42LL","T8 2L4 Rapid Start Ballast",0.06,2,8.2000000000000003E-2,2.2000000000000006E-2,null,0.16,9.2999999999999999E-2,3.3000000000000002E-2]
["F43LL","T8 3L4 Rapid Start Ballast",9.2999999999999999E-2,3,0.13300000000000001,4.0000000000000008E-2,null,0.16,0.11799999999999999,2.4999999999999994E-2]
["F44LL","T8 4L4 Rapid Start Ballast",0.11799999999999999,4,0.16400000000000001,{"$f":"E172-C172","v":4.6000000000000013E-2},null,0.16,0.17699999999999999,5.8999999999999997E-2]
["F46LL","T8 6L4 Rapid Start Ballast",{"$f":"C172*1.5","v":0.17699999999999999},6,{"$f":"E172*1.5","v":0.246},{"$f":"E173-C173","v":6.9000000000000006E-2},"*4 lamp fixture prorated",0.16,0.23599999999999999,5.8999999999999997E-2]
["F48ILL","T8 8L4 Rapid Start Ballast",{"$f":"I173","v":0.23599999999999999},8,{"$f":"C174+(E173-E172)","v":0.31799999999999995},{"$f":"E174-C174","v":8.1999999999999962E-2},null,0.16,0.29499999999999998,5.8999999999999997E-2]
[]
["premium"]
["F42WLL","25 W (1) 48'' T-8 lamp, Premium PRS Ballast, NLO",2.1999999999999999E-2,1,3.1E-2,{"$f":"E177-C177","v":9.0000000000000011E-3},"No 1 light fixture on the CA table - just used half the 2L fixture",null,4.3999999999999997E-2,{"$f":"I177-C177","v":2.1999999999999999E-2}]
["F42WLL","25 W (2) 48'' T-8 lamp, Premium PRS Ballast, NLO",4.3999999999999997E-2,2,5.8999999999999997E-2,1.4999999999999999E-2,null,null,6.6000000000000003E-2,{"$f":"I178-C178","v":2.2000000000000006E-2}]
["F43WLL","25 W (3) 48'' T-8 lamp, Premium PRS Ballast, NLO",6.6000000000000003E-2,3,8.8999999999999996E-2,2.2999999999999993E-2,null,null,0.09,2.3999999999999994E-2]
["F44WLL","25 W (4) 48'' T-8 lamp, Premium PRS Ballast, NLO",0.09,4,0.112,2.2000000000000006E-2,null,null,0.13799999999999998,4.7999999999999987E-2]
["F42WLL","28 W (1) 48'' T-8 lamp, Premium PRS Ballast, NLO",2.5000000000000001E-2,1,3.1E-2,5.9999999999999984E-3,"No 1 light fixture on the CA table - just used half the 2L fixture",null,0.05,2.5000000000000001E-2]
["F42WLL","28 W (2) 48'' T-8 lamp, Premium PRS Ballast, NLO",0.05,2,5.8999999999999997E-2,8.9999999999999941E-3,null,null,7.3999999999999996E-2,2.3999999999999994E-2]
["F43WLL","28 W, (3) 48'' T-8 lamp, Premium PRS Ballast, NLO",7.3999999999999996E-2,3,8.8999999999999996E-2,1.4999999999999999E-2,null,null,9.9000000000000005E-2,2.5000000000000008E-2]
["F44WLL","28 W (4) 48'' T-8 lamp, Premium PRS Ballast, NLO",9.9000000000000005E-2,4,0.112,1.2999999999999998E-2,null,null,0.15,5.099999999999999E-2]
["F46WLL","28 W (6) 48'' T-8 lamp, Premium PRS Ballast, NLO",{"$f":"0.15","v":0.15},6,0.16800000000000001,1.8000000000000016E-2,"not listed in table, baseline wattage taken from 6 lamp 32W T8 fixture baseline below.",null,0.19800000000000001,4.8000000000000015E-2]
["F48WLL","28 W (8) 48'' T-8 lamp, Premium PRS Ballast, NLO",0.19800000000000001,8,0.224,2.5999999999999995E-2,"not listed in table. Baseline wattage taken from 8 lamp 32W T8 fixture baseline below.",null,0.24600000000000002,4.8000000000000015E-2]
[]
["u tube"]
["FU1LL-R","31 W (1) U-Bend, T-8 lamp, RLO",2.7E-2,1,4.2999999999999997E-2,{"$f":"E189-C189","v":1.5999999999999997E-2},null,null,5.3999999999999999E-2,{"$f":"I189-C189","v":2.7E-2}]
["FU1ILL","32 W (1) U-Bend, T-8 lamp, Instant Start ballast",3.1E-2,1,4.2999999999999997E-2,1.1999999999999997E-2,null,null,5.8999999999999997E-2,{"$f":"I190-C190","v":2.7999999999999997E-2}]
["FU1LL","32 W (1) U-Bend, T-8 lamp",3.2000000000000001E-2,1,4.2999999999999997E-2,1.0999999999999996E-2,null,null,0.06,2.7999999999999997E-2]
["FU2LL-R","31 W (2) U-Bend, T-8 lamp, RLO",5.3999999999999999E-2,2,7.1999999999999995E-2,1.7999999999999995E-2,null,null,8.1000000000000003E-2,2.7000000000000003E-2]
["FU2ILL","32 W (2) U-Bend, T-8 lamp, Instand Start Ballast",5.8999999999999997E-2,2,7.1999999999999995E-2,1.2999999999999998E-2,null,null,8.8999999999999996E-2,0.03]
["FU2ILL-H","32 W (2) U-Bend, T-8 lamp, Instand Start HLO Ballast",6.5000000000000002E-2,2,7.1999999999999995E-2,6.9999999999999923E-3,null,null,9.7500000000000003E-2,3.2500000000000001E-2]
["FU2ILL-R","32 W (2) U-Bend, T-8 lamp, Instand Start RLO Ballast",5.1999999999999998E-2,2,7.1999999999999995E-2,1.9999999999999997E-2,null,null,7.8E-2,2.6000000000000002E-2]
["FU2LL","32 W (2) U-Bend, T-8 lamp",0.06,2,7.1999999999999995E-2,1.1999999999999997E-2,null,null,8.7999999999999995E-2,2.7999999999999997E-2]
["FU3ILL","32 W (3) U-Bend, T-8 lamp, Instand Start Ballast",8.8999999999999996E-2,3,0.115,2.6000000000000009E-2,null,null,0.11899999999999999,0.03]
["FU3ILL-R","32 W (3) U-Bend, T-8 lamp, Instand Start RLO Ballast",7.8E-2,3,0.115,3.7000000000000005E-2,null,null,0.10400000000000001,2.6000000000000009E-2]
[]
["high output T8"]
["F44ILL-V","T8 lamp 2L4, Instant Start Ballast, VHLO",7.5999999999999998E-2,2,{"$f":"C201/C202*E202","v":0.14596026490066225},{"$f":"E201-C201","v":6.9960264900662247E-2},"Note: Prorated 4 lamp fixture",null,0.151,{"$f":"I201-C201","v":7.4999999999999997E-2}]
["F44ILL-V","T8 lamp 4L4, Instant Start Ballast, VHLO",0.151,4,0.28999999999999998,{"$f":"E202-C202","v":0.13899999999999998},null,null,0.22600000000000001,{"$f":"I202-C202","v":7.5000000000000011E-2}]
["F46ILL/2-V","T8 lamp 6L4,Instant Start Ballast, VHLO",0.22600000000000001,6,0.36,{"$f":"E203-C203","v":0.13399999999999998},null,null,0.30099999999999999,{"$f":"I203-C203","v":7.4999999999999983E-2}]
["F48ILL/2-V","T8 lamp 8L4,Instant Start Ballast, VHLO",0.30099999999999999,8,{"$f":"4/3*E203","v":0.48},{"$f":"E204-C204","v":0.17899999999999999},null,null,0.376,{"$f":"I204-C204","v":7.5000000000000011E-2}]
[]
["CFL New Fixture Wattages (1 & 2 Lamp)"]
["CF10/2D","Compact Fluorescent, 2D, (1) 10W lamp",1.6E-2,1,{"$f":"C207*4","v":6.4000000000000001E-2},{"$f":"E207-C207","v":4.8000000000000001E-2}]
["CF16/2D","Compact Fluorescent, 2D, (1) 16W lamp",2.5999999999999999E-2,1,{"$f":"C208*4","v":0.104},7.8E-2]
["CF21/2D","Compact Fluorescent, 2D, (1) 21W lamp",2.5999999999999999E-2,1,0.104,7.8E-2]
["CF28/2D","Compact Fluorescent, 2D, (1) 28W lamp",3.5000000000000003E-2,1,0.14000000000000001,0.10500000000000001]
["CF38/2D","Compact Fluorescent, 2D, (1) 38W lamp",4.5999999999999999E-2,1,0.184,0.13800000000000001]
["CFQ10/1","Compact Fluorescent, quad, (1) 10W lamp",1.4999999999999999E-2,1,0.06,4.4999999999999998E-2]
["CFQ13/1","Compact Fluorescent, quad, (1) 13W lamp",1.7000000000000001E-2,1,6.8000000000000005E-2,5.1000000000000004E-2]
["CFQ13/1-L","Compact Fluorescent, quad, (1) 13W lamp, BF=1.05",1.4999999999999999E-2,1,0.06,4.4999999999999998E-2]
["CFQ13/2","Compact Fluorescent, quad, (2) 13W lamp",3.1E-2,2,0.124,9.2999999999999999E-2]
["CFQ13/2-L","Compact Fluorescent, quad, (2) 13W lamp, BF=1.0",2.8000000000000001E-2,2,0.112,8.4000000000000005E-2]
["CFQ13/3","Compact Fluorescent, quad, (3) 13W lamp",4.8000000000000001E-2,3,0.192,0.14400000000000002]
["CFQ15/1","Compact Fluorescent, quad, (1) 15W lamp",0.02,1,0.08,0.06]
["CFQ17/1","Compact Fluorescent, quad, (1) 17W lamp",2.4E-2,1,9.6000000000000002E-2,7.2000000000000008E-2]
["CFQ17/2","Compact Fluorescent, quad, (2) 17W lamp",4.8000000000000001E-2,2,0.192,0.14400000000000002]
["CFQ18/1","Compact Fluorescent, quad, (1) 18W lamp",2.5999999999999999E-2,1,0.104,7.8E-2]
["CFQ18/1-L","Compact Fluorescent, quad, (1) 18W lamp, BF=1.0",0.02,1,0.08,0.06]
["CFQ18/2","Compact Fluorescent, quad, (2) 18W lamp",4.4999999999999998E-2,2,0.18,0.13500000000000001]
["CFQ18/2-L","Compact Fluorescent, quad, (2) 18W lamp, BF=1.0",3.7999999999999999E-2,2,0.152,0.11399999999999999]
["CFQ18/4","Compact Fluorescent, quad, (4) 18W lamp",0.09,4,0.36,0.27]
["CFQ20/1","Compact Fluorescent, quad, (1) 20W lamp",2.3E-2,1,9.1999999999999998E-2,6.9000000000000006E-2]
["CFQ20/2","Compact Fluorescent, quad, (2) 20W lamp",4.5999999999999999E-2,2,0.184,0.13800000000000001]
["CFQ22/1","Compact Fluorescent, Quad, (1) 22W lamp",2.4E-2,1,9.6000000000000002E-2,7.2000000000000008E-2]
["CFQ22/2","Compact Fluorescent, Quad, (2) 22W lamp",4.8000000000000001E-2,2,0.192,0.14400000000000002]
["CFQ22/3","Compact Fluorescent, Quad, (3) 22W lamp",7.1999999999999995E-2,3,0.28799999999999998,0.21599999999999997]
["CFQ25/1","Compact Fluorescent, Quad, (1) 25W lamp",3.3000000000000002E-2,1,0.13200000000000001,9.9000000000000005E-2]
["CFQ25/2","Compact Fluorescent, Quad, (2) 25W lamp",6.6000000000000003E-2,2,0.26400000000000001,0.19800000000000001]
["CFQ26/1","Compact Fluorescent, quad, (1) 26W lamp",3.3000000000000002E-2,1,0.13200000000000001,9.9000000000000005E-2]
["CFQ26/1-L","Compact Fluorescent, quad, (1) 26W lamp, BF=0.95",2.7E-2,1,0.108,8.1000000000000003E-2]
["CFQ26/2","Compact Fluorescent, quad, (2) 26W lamp",6.6000000000000003E-2,2,0.26400000000000001,0.19800000000000001]
["CFQ26/2-L","Compact Fluorescent, quad, (2) 26W lamp, BF=0.95",0.05,2,0.2,0.15000000000000002]
["CFQ26/3","Compact Fluorescent, quad, (3) 26W lamp",9.9000000000000005E-2,3,0.39600000000000002,0.29700000000000004]
["CFQ26/6-L","Compact Fluorescent, quad, (6) 26W lamp, BF=0.95",0.15,6,0.6,0.44999999999999996]
["CFQ28/1","Compact Fluorescent, quad, (1) 28W lamp",3.3000000000000002E-2,1,0.13200000000000001,{"$f":"E239-C239","v":9.9000000000000005E-2}]
["CFQ9/1","Compact Fluorescent, Quad, (1) 9W lamp",1.4E-2,1,5.6000000000000001E-2,4.2000000000000003E-2]
["CFQ9/2","Compact Fluorescent, Quad, (2) 9W lamp",2.3E-2,2,9.1999999999999998E-2,6.9000000000000006E-2]
["CFT13/1","Compact Fluorescent, twin, (1) 13W lamp",1.7000000000000001E-2,1,6.8000000000000005E-2,5.1000000000000004E-2]
["CFT13/2","Compact Fluorescent, twin, (2) 13W lamp",3.1E-2,2,0.124,9.2999999999999999E-2]
["CFT13/3","Compact Fluorescent, twin, (3) 13 W lamp",4.8000000000000001E-2,3,0.192,0.14400000000000002]
["CFT18/1","Compact Fluorescent, Long twin., (1) 18W lamp",2.4E-2,1,9.6000000000000002E-2,7.2000000000000008E-2]
["CFT22/1","Compact Fluorescent, twin, (1) 22W lamp",2.7E-2,1,0.108,8.1000000000000003E-2]
["CFT22/2","Compact Fluorescent, twin, (2) 22W lamp",5.3999999999999999E-2,2,0.216,0.16200000000000001]
["CFT22/4","Compact Fluorescent, twin, (4) 22W lamp",0.108,4,0.432,0.32400000000000001]
["CFT24/1","Compact Fluorescent, long twin, (1) 24W lamp",3.2000000000000001E-2,1,0.128,9.6000000000000002E-2]
["CFT28/1","Compact Fluorescent, twin, (1) 28W lamp",3.3000000000000002E-2,1,0.13200000000000001,9.9000000000000005E-2]
["CFT28/2","Compact Fluorescent, twin, (2) 28W lamp",6.6000000000000003E-2,2,0.26400000000000001,0.19800000000000001]
["CFT32/1-L","Compact Fluorescent, twin or multi, (1) 32W lamp",3.4000000000000002E-2,1,0.13600000000000001,0.10200000000000001]
["CFT32/2-L","Compact Fluorescent, twin or multi, (2) 32W lamp",6.2E-2,2,0.248,0.186]
["CFT32/6-L","Compact Fluorescent, twin or multi, (2) 32W lamp",0.186,6,0.74399999999999999,0.55800000000000005]
["CFT36/1","Compact Fluorescent, long twin, (1) 36W lamp",5.0999999999999997E-2,1,0.20399999999999999,0.153]
["CFT40/1","Compact Fluorescent, twin, (1) 40W lamp",4.5999999999999999E-2,1,0.184,0.13800000000000001]
["CFT40/1-L","Compact Fluorescent, long twin, (1) 40W lamp",4.2999999999999997E-2,1,0.17199999999999999,0.129]
["CFT40/2","Compact Fluorescent, twin, (2) 40W lamp",8.5000000000000006E-2,2,0.34,0.255]
["CFT40/2-L","Compact Fluorescent, long twin, (2) 40W lamp",7.1999999999999995E-2,2,0.28799999999999998,0.21599999999999997]
["CFT40/3","Compact Fluorescent, twin, (3) 40 W lamp",0.13300000000000001,3,0.53200000000000003,0.39900000000000002]
["CFT40/3-L","Compact Fluorescent, long twin, (3) 40W lamp",0.105,3,0.42,0.315]
["CFT5/1","Compact Fluorescent, twin, (1) 5W lamp",8.9999999999999993E-3,1,3.5999999999999997E-2,2.6999999999999996E-2]
["CFT5/2","Compact Fluorescent, twin, (2) 5W lamp",1.7999999999999999E-2,2,7.1999999999999995E-2,5.3999999999999992E-2]
["CFT7/1","Compact Fluorescent, twin, (1) 7W lamp",0.01,1,0.04,0.03]
["CFT7/2","Compact Fluorescent, twin, (2) 7W lamp",2.1000000000000001E-2,2,8.4000000000000005E-2,6.3E-2]
["CFT9/1","Compact Fluorescent, twin, (1) 9W lamp",1.0999999999999999E-2,1,4.3999999999999997E-2,3.3000000000000002E-2]
["CFT9/2","Compact Fluorescent, twin, (2) 9W lamp",2.3E-2,2,9.1999999999999998E-2,6.9000000000000006E-2]
["CFT9/3","Compact Fluorescent, twin, (3) 9 W lamp",3.4000000000000002E-2,3,0.13600000000000001,0.10200000000000001]
[]
["CFL Screw-In PAR30/PAR38"]
["CF/SCRWN/REF","Compact Fluorescent, (1) 15W screw-in PAR lamp with Reflector",1.4999999999999999E-2,1,{"$f":"C271*4","v":0.06},{"$f":"E271-C271","v":4.4999999999999998E-2}]
["CF/SCRWN/REF","Compact Fluorescent, (1) 16W screw-in PAR lamp with Reflector",1.6E-2,1,6.4000000000000001E-2,4.8000000000000001E-2]
["CF/SCRWN/REF","Compact Fluorescent, (1) 17W screw-in PAR lamp with Reflector",1.7000000000000001E-2,1,6.8000000000000005E-2,5.1000000000000004E-2]
["CF/SCRWN/REF","Compact Fluorescent, (1) 18W screw-in PAR lamp with Reflector",1.7999999999999999E-2,1,7.1999999999999995E-2,5.3999999999999992E-2]
["CF/SCRWN/REF","Compact Fluorescent, (1) 20W screw-in PAR lamp with Reflector",0.02,1,0.08,0.06]
["CF/SCRWN/REF","Compact Fluorescent, (1) 23W screw-in PAR lamp with Reflector",2.3E-2,1,9.1999999999999998E-2,6.9000000000000006E-2]
["CF/SCRWN/REF","Compact Fluorescent, (1) 25W screw-in PAR lamp with Reflector",2.5000000000000001E-2,1,0.1,7.5000000000000011E-2]
["CF/SCRWN/REF","Compact Fluorescent, (1) 32W screw-in PAR lamp with Reflector",3.2000000000000001E-2,1,0.128,9.6000000000000002E-2]
[]
["Pulse Start Metal Halide"]
[null,"PULSE START METAL HALIDE  150 W",0.185,1,0.2,{"$f":"E281-C281","v":1.5000000000000013E-2}]
[null,"PULSE START METAL HALIDE  175 W",0.20799999999999999,1,0.28499999999999998,7.6999999999999985E-2]
[null,"PULSE START METAL HALIDE  200 W",0.23499999999999999,1,0.28499999999999998,4.9999999999999989E-2]
[null,"PULSE START METAL HALIDE  250 W",0.28799999999999998,1,0.45400000000000001,0.16600000000000004]
[null,"PULSE START METAL HALIDE  300 W",0.34200000000000003,1,0.45400000000000001,0.11199999999999999]
[null,"PULSE START METAL HALIDE  320 W",0.36799999999999999,1,0.45400000000000001,8.6000000000000021E-2]
[null,"PULSE START METAL HALIDE  350 W",0.4,1,0.45400000000000001,5.3999999999999992E-2]
[null,"PULSE START METAL HALIDE  400 W",0.45,1,0.45400000000000001,4.0000000000000036E-3]
[null,"PULSE START METAL HALIDE  750 W",0.81499999999999995,1,1.075,0.26]
[null,"PULSE START METAL HALIDE  1000 W",1.075,1,1.08,5.0000000000001155E-3]
[]
[]
["Parking Lot Low Bay LED"]
[null,"Low Bay LED 85 W for 250 Metal Halide",8.5000000000000006E-2,1,0.248,{"$f":"E294-C294","v":0.16299999999999998},null,43]
[null,"Low Bay LED 85 W for 2LHO T-8",8.5000000000000006E-2,1,0.11799999999999999,{"$f":"E295-C295","v":3.2999999999999988E-2},null,43]
[]
["LED Exit Signs"]
["ELED2/1","EXIT Light Emmitting Diode, (1) 2W lamp, Single Sided",6.0000000000000001E-3,1,0.04,{"$f":"E298-C298","v":3.4000000000000002E-2}]
["ELED2/2","EXIT Light Emmitting Diode, (2) 2W lamp, Dual Sided",8.9999999999999993E-3,2,0.04,{"$f":"E299-C299","v":3.1E-2}]
[]
["LED Refrigerator Case Lighting"]
["4' LED Strip","28W center strip",2.9000000000000001E-2,1,7.6270000000000004E-2,{"$f":"E302-C302","v":4.7270000000000006E-2},null,30]
[null,"14W end strip",1.4999999999999999E-2,1,3.9449999999999999E-2,{"$f":"E303-C303","v":2.445E-2},null,30]
["5' LED Strip","38W Center Strip LED",0.04,1,0.10526315789473684,6.5263157894736828E-2,null,42]
[null,"19W End Strip LED",0.02,1,5.2631578947368418E-2,3.2631578947368414E-2,null,42]
[null,"11.5W Center Strip LED",1.15E-2,1,{"$f":"C306*2.63","v":3.0244999999999998E-2},{"$f":"E306-C306","v":1.8744999999999998E-2},null,42]
[null,"5.9W End Strip LED",5.8999999999999999E-3,1,{"$f":"C307*2.63","v":1.5517E-2},{"$f":"E307-C307","v":9.6170000000000005E-3},null,42]
["6' LED Strip","46W Center Strip LED",4.9000000000000002E-2,1,{"$f":"C308/0.38","v":0.12894736842105264},{"$f":"E308-C308","v":7.9947368421052642E-2},null,65]
[null,"23W End Strip LED",2.4E-2,1,{"$f":"C309/0.38","v":6.3157894736842107E-2},{"$f":"E309-C309","v":3.9157894736842107E-2},null,65]
[]
["Induction Lighting",null,null,null,null,null,null,null,null,null,null,null,null,"baseline fixture",null,"fixture rated wattage"]
[null,{"$f":"P312&\"W Induction\"","v":"40W Induction"},{"$f":"1.05*P312/1000","v":4.2000000000000003E-2},1,0.185,{"$f":"E312-C312","v":0.14299999999999999},null,70,null,null,null,null,50,"PSMH 150 W",null,40]
[null,"50W Induction",5.2499999999999998E-2,1,0.185,0.13250000000000001,null,70,null,null,null,null,50,"PSMH 150 W",null,50]
[null,"55W Induction",5.8000000000000003E-2,1,0.185,0.127,null,70,null,null,null,null,50,"PSMH 150 W",null,55]
[null,{"$f":"P315&\"W Induction\"","v":"60W Induction"},{"$f":"1.05*P315/1000","v":6.3E-2},1,0.185,0.122,null,70,null,null,null,null,50,"PSMH 150 W",null,60]
[null,{"$f":"P316&\"W Induction\"","v":"70W Induction"},{"$f":"1.05*P316/1000","v":7.3499999999999996E-2},1,0.185,0.1115,null,70,null,null,null,null,50,"PSMH 150 W",null,70]
[null,"80W Induction",8.4000000000000005E-2,1,0.185,0.10099999999999999,null,70,null,null,null,null,50,"PSMH 150 W",null,80]
[null,"85W Induction",0.09,1,0.185,9.5000000000000001E-2,null,70,null,null,null,null,50,"PSMH 150 W",null,85]
[null,{"$f":"P319&\"W Induction\"","v":"90W Induction"},{"$f":"1.05*P319/1000","v":9.4500000000000001E-2},1,0.23499999999999999,0.14049999999999999,null,70,null,null,null,null,50,"PSMH 200 W",null,90]
[null,"100W Induction",0.105,1,0.23499999999999999,0.13,null,70,null,null,null,null,50,"PSMH 200 W",null,100]
[null,"110W Induction",0.11550000000000001,1,0.23499999999999999,0.11949999999999998,null,70,null,null,null,null,50,"PSMH 200 W",null,110]
[null,"120W Induction",0.126,1,0.23499999999999999,0.10899999999999999,null,70,null,null,null,null,50,"PSMH 200 W",null,120]
[null,"130W Induction",0.13650000000000001,1,0.23499999999999999,9.8499999999999976E-2,null,70,null,null,null,null,50,"PSMH 200 W",null,130]
[null,"140W Induction",0.14699999999999999,1,0.23499999999999999,8.7999999999999995E-2,null,70,null,null,null,null,50,"PSMH 200 W",null,140]
[null,"150W Induction",0.158,1,0.23499999999999999,7.6999999999999985E-2,null,70,null,null,null,null,50,"PSMH 200 W",null,150]
[null,{"$f":"P326&\"W Induction\"","v":"160W Induction"},{"$f":"1.05*P326/1000","v":0.16800000000000001},1,0.28799999999999998,0.11999999999999997,null,70,null,null,null,null,50,"PSMH 250 W",null,160]
[null,"165W Induction",0.17299999999999999,1,0.28799999999999998,0.11499999999999999,null,70,null,null,null,null,50,"PSMH 250 W",null,165]
[null,{"$f":"P328&\"W Induction\"","v":"170W Induction"},{"$f":"1.05*P328/1000","v":0.17849999999999999},1,0.28799999999999998,0.10949999999999999,null,70,null,null,null,null,50,"PSMH 250 W",null,170]
[null,{"$f":"P329&\"W Induction\"","v":"180W Induction"},{"$f":"1.05*P329/1000","v":0.189},1,0.34200000000000003,0.15300000000000002,null,70,null,null,null,null,50,"PSMH 300 W",null,180]
[null,{"$f":"P330&\"W Induction\"","v":"190W Induction"},{"$f":"1.05*P330/1000","v":0.19950000000000001},1,0.34200000000000003,0.14250000000000002,null,70,null,null,null,null,50,"PSMH 300 W",null,190]
[null,"200W Induction",0.21,1,0.34200000000000003,0.13200000000000003,null,70,null,null,null,null,50,"PSMH 300 W",null,200]
[null,"300W Induction",{"$f":"3/2*C331","v":0.315},1,{"$f":"3/2*E331","v":0.51300000000000001},0.19800000000000001,null,70,null,null,null,null,50,"Prorated vs 200W induction",null,300]
[]
["**For Fluorescent, assume baseline is T12 magnetic ballast of same characteristics.  Wattage of T12 fixture taken from CA fixture list."]
["**For CFL, assume baseline is 4x the wattage of the CFL"]
["*For LED exit sign, assume 40 W per sign baseline as per defaults in energy star savings calculator for LED exit signs: http://www.energystar.gov/index.cfm?c=exit_signs.pr_exit_signs"]
["**For LED refrigeration lighting, assume LED is 62% more efficient than replacement as per RPI study: http://www.lrc.rpi.edu/programs/solidstate/pdf/SPIE4776-13_Raghavan.pdf"]
["**For induction Lighting, used the lowest PSMH that would produce a 30% reduction in wattage to the induction fixture, which is the minimum requirement for incentives replacing HID with induction lighting."]
["**For induction lighting, assumed 5% increase for input wattage"]

{"sheet":"Type","index":8,"n_rows":39,"n_cols":7,"rows_kept":39,"cut":false,"hidden":true,"merged":[[27,2,27,3],[16,0,21,0],[29,0,29,1],[30,0,30,1],[31,0,31,1],[28,0,28,1],[27,0,27,1]]}
["Removed Fixture Types",null,"Installed Fixture Types","Named Range","Measure Type ID",null,"A. Existing Facility with Connected Load <=75 kW"]
["Incadescent",null,"LED - Energy Star Fixture-Retrofit","ESFixtures","ID_308",null,"B. Existing Facility Connected Load > 75 kW"]
["HID",null,"LED - Energy Star Screw-in/Plug-in","ESBulbs","ID_308",null,"C. New Construction and Major Renovation"]
["T8",null,"LED - DLC Fixture","LEDTypeN","ID_308"]
["T5"]
[]
[]
[]
[]
[]
[]
[]
[]
[]
["Proposed","Parking Lot Low Bay","LED Refrigeration","Induction Lighting","LED"]
["ID",131,122,117,308]
["Existing","Incandescent","T8","Incandescent","Incandescent"]
[null,"Halogen","T5","Halogen","Halogen"]
[null,"HID",null,"HID","HID"]
[null,"T8",null,"T8","T8"]
[null,"T5",null,"T5","T5"]
[null,"CFL",null,null,"CFL"]
[]
[]
[]
["All Screw-based or Pin-based standard or decorative lamps"]
[]
["Category",null,"$/unit"]
["ENERGY STAR Listed Lamps ≥ 70 Lumens/Watt",null,10,"Lamp"]
["ENERGY STAR Listed Lamps ≥ 70 Lumens/Watt",null,5,"Lamp"]
["ENERGY STAR Listed Fixtures ≥ 70 Lumens/Watt",null,20,"Fixture"]
["ENERGY STAR Listed Fixtures ≥ 70 Lumens/Watt",null,10,"Fixture"]
[]
[]
["LED Linear  Lamps"]
[]
["Length","$/lamp"]
["2'",5]
["4'",5]

{"sheet":"Export","index":9,"n_rows":514,"n_cols":39,"rows_kept":514,"cut":false,"hidden":true,"merged":[]}
["Measure Type","Manufacturer","Model","Capacity/Size","Capacity/Size Units","EER Efficiency","SEER Efficiency","Incentive Per Unit","Quantity Committed","Annual Electricity Savings","Peak Demand Reduction","Lifetime Electricity Savings","Annual Gas Savings","Lifetime Gas Savings","Efficiency- other","Efficiency- other-type","Measure ID removed","Quantity Installed","Oil","Oil Life","Propane","Propane Life","Quantity Removed","New or Retrofit","Fixture Type Installed","Fixture Installed","LED Lamp Wattage","Fixture Type Removed","Fixture Removed","Existing Wattage","Lamps per Fixture (LED Tubes/ Lamps)","Floor Number","Location","Project in UEZ","Project in OZ","Municipality","K-12 School","County","Enhanced Incentive per Unit"]
[{"$f":"IF(IFERROR(SEARCH(\"Refrigerated\",Worksheet!L28,1),0)>0,122,IF(ISERROR(RIGHT(VLOOKUP(Worksheet!K28,Type!C$1:E$13,3,FALSE),3))=FALSE,RIGHT(VLOOKUP(Worksheet!K28,Type!C$1:E$13,3,FALSE),3),\"\"))","v":""},{"$f":"IF(Worksheet!M28=\"\",\"\",Worksheet!M28)","v":""},{"$f":"IF(Worksheet!N28=\"\",\"\",Worksheet!N28)","v":""},{"$f":"IF(Worksheet!Y28=0,\"\",Worksheet!Y28)","v":""},"Watts",null,null,{"$f":"Worksheet!AA28","v":0},{"$f":"IF(ISBLANK(Worksheet!V28)=FALSE,Worksheet!V28,\"\")","v":0},{"$f":"Worksheet!AG28","v":0},{"$f":"Worksheet!AF28","v":0},{"$f":"J2*IF(A2=122,16,15)","v":0},{"$f":"IF(ISERROR(SEARCH(\"Gas\",Worksheet!$A$18))=TRUE,0,Worksheet!AH28)","v":0},{"$f":"M2*IF(A2=122,16,15)","v":0},null,null,{"$f":"IF(OR(Worksheet!F28=\"Incandescent\",Worksheet!F28=\"Halogen Incandescent\")=TRUE,118,IF(LEFT(Worksheet!F28,3)=\"HID\",117,IF(OR(RIGHT(Worksheet!F28,3)=\"T12\",RIGHT(Worksheet!F28,5)=\"T12HO\")=TRUE,115,IF(OR(RIGHT(Worksheet!F28,2)=\"T8\",RIGHT(Worksheet!F28,4)=\"RWT8\",RIGHT(Worksheet!F28,4)=\"T8HO\")=TRUE,115,\"\"))))","v":""},{"$f":"IF(ISBLANK(Worksheet!W28)=FALSE,Worksheet!W28,\"\")","v":0},{"$f":"IF(ISERROR(SEARCH(\"Oil\",Worksheet!$A$18))=TRUE,0,Worksheet!AH28)","v":0},{"$f":"S2*IF(A2=122,16,15)","v":0},{"$f":"IF(ISERROR(SEARCH(\"Propane\",Worksheet!$A$18))=TRUE,0,Worksheet!AH28)","v":0},{"$f":"U2*IF(A2=122,16,15)","v":0},{"$f":"IF(Worksheet!J28=0,\"\",Worksheet!J28)","v":""},{"$f":"IF(Worksheet!B28=0,\"\",Worksheet!B28)","v":""},{"$f":"IF(Worksheet!K28=0,\"\",Worksheet!K28)","v":""},{"$f":"IF(Worksheet!L28=0,\"\",Worksheet!L28)","v":""},{"$f":"IF(Worksheet!R28=0,\"\",Worksheet!R28)","v":""},{"$f":"IF(Worksheet!F28=0,\"\",Worksheet!F28)","v":""},{"$f":"IF(Worksheet!G28=0,\"\",Worksheet!G28)","v":""},{"$f":"IF(Worksheet!X28=0,\"\",Worksheet!X28)","v":""},{"$f":"IF(Worksheet!Q28=0,\"\",Worksheet!Q28)","v":""},{"$f":"IF(Worksheet!C28=0,\"\",Worksheet!C28)","v":""},{"$f":"IF(Worksheet!D28=0,\"\",Worksheet!D28)","v":""},{"$f":"IF(Worksheet!$A$11=TRUE,\"Y\",\"N\")","v":"N"},{"$f":"IF(Worksheet!$A$12=TRUE,\"Y\",\"N\")","v":"N"},{"$f":"IF(Worksheet!$B$11=TRUE,\"Y\",\"N\")","v":"N"},{"$f":"IF(Worksheet!$B$12=TRUE,\"Y\",\"N\")","v":"N"},{"$f":"IF(Worksheet!$C$11=TRUE,\"Y\",\"N\")","v":"N"},{"$f":"IFERROR(Worksheet!AB28,\"\")","v":0}]
[{"$f":"IF(IFERROR(SEARCH(\"Refrigerated\",Worksheet!L29,1),0)>0,122,IF(ISERROR(RIGHT(VLOOKUP(Worksheet!K29,Type!C$1:E$13,3,FALSE),3))=FALSE,RIGHT(VLOOKUP(Worksheet!K29,Type!C$1:E$13,3,FALSE),3),\"\"))","v":""},{"$f":"IF(Worksheet!M29=\"\",\"\",Worksheet!M29)","v":""},{"$f":"IF(Worksheet!N29=\"\",\"\",Worksheet!N29)","v":""},{"$f":"IF(Worksheet!Y29=0,\"\",Worksheet!Y29)","v":""},"Watts",null,null,{"$f":"Worksheet!AA29","v":0},{"$f":"IF(ISBLANK(Worksheet!V29)=FALSE,Worksheet!V29,\"\")","v":0},{"$f":"Worksheet!AG29","v":0},{"$f":"Worksheet!AF29","v":0},{"$f":"J3*IF(A3=122,16,15)","v":0},{"$f":"IF(ISERROR(SEARCH(\"Gas\",Worksheet!$A$18))=TRUE,0,Worksheet!AH29)","v":0},{"$f":"M3*IF(A3=122,16,15)","v":0},null,null,{"$f":"IF(OR(Worksheet!F29=\"Incandescent\",Worksheet!F29=\"Halogen Incandescent\")=TRUE,118,IF(LEFT(Worksheet!F29,3)=\"HID\",117,IF(OR(RIGHT(Worksheet!F29,3)=\"T12\",RIGHT(Worksheet!F29,5)=\"T12HO\")=TRUE,115,IF(OR(RIGHT(Worksheet!F29,2)=\"T8\",RIGHT(Worksheet!F29,4)=\"RWT8\",RIGHT(Worksheet!F29,4)=\"T8HO\")=TRUE,115,\"\"))))","v":""},{"$f":"IF(ISBLANK(Worksheet!W29)=FALSE,Worksheet!W29,\"\")","v":0},{"$f":"IF(ISERROR(SEARCH(\"Oil\",Worksheet!$A$18))=TRUE,0,Worksheet!AH29)","v":0},{"$f":"S3*IF(A3=122,16,15)","v":0},{"$f":"IF(ISERROR(SEARCH(\"Propane\",Worksheet!$A$18))=TRUE,0,Worksheet!AH29)","v":0},{"$f":"U3*IF(A3=122,16,15)","v":0},{"$f":"IF(Worksheet!J29=0,\"\",Worksheet!J29)","v":""},{"$f":"IF(Worksheet!B29=0,\"\",Worksheet!B29)","v":""},{"$f":"IF(Worksheet!K29=0,\"\",Worksheet!K29)","v":""},{"$f":"IF(Worksheet!L29=0,\"\",Worksheet!L29)","v":""},{"$f":"IF(Worksheet!R29=0,\"\",Worksheet!R29)","v":""},{"$f":"IF(Worksheet!F29=0,\"\",Worksheet!F29)","v":""},{"$f":"IF(Worksheet!G29=0,\"\",Worksheet!G29)","v":""},{"$f":"IF(Worksheet!X29=0,\"\",Worksheet!X29)","v":""},{"$f":"IF(Worksheet!Q29=0,\"\",Worksheet!Q29)","v":""},{"$f":"IF(Worksheet!C29=0,\"\",Worksheet!C29)","v":""},{"$f":"IF(Worksheet!D29=0,\"\",Worksheet!D29)","v":""},{"$f":"IF(Worksheet!$A$11=TRUE,\"Y\",\"N\")","v":"N"},{"$f":"IF(Worksheet!$A$12=TRUE,\"Y\",\"N\")","v":"N"},{"$f":"IF(Worksheet!$B$11=TRUE,\"Y\",\"N\")","v":"N"},{"$f":"IF(Worksheet!$B$12=TRUE,\"Y\",\"N\")","v":"N"},{"$f":"IF(Worksheet!$C$11=TRUE,\"Y\",\"N\")","v":"N"},{"$f":"IFERROR(Worksheet!AB29,\"\")","v":0}]
[{"$f":"IF(IFERROR(SEARCH(\"Refrigerated\",Worksheet!L30,1),0)>0,122,IF(ISERROR(RIGHT(VLOOKUP(Worksheet!K30,Type!C$1:E$13,3,FALSE),3))=FALSE,RIGHT(VLOOKUP(Worksheet!K30,Type!C$1:E$13,3,FALSE),3),\"\"))","v":""},{"$f":"IF(Worksheet!M30=\"\",\"\",Worksheet!M30)","v":""},{"$f":"IF(Worksheet!N30=\"\",\"\",Worksheet!N30)","v":""},{"$f":"IF(Worksheet!Y30=0,\"\",Worksheet!Y30)","v":""},"Watts",null,null,{"$f":"Worksheet!AA30","v":0},{"$f":"IF(ISBLANK(Worksheet!V30)=FALSE,Worksheet!V30,\"\")","v":0},{"$f":"Worksheet!AG30","v":0},{"$f":"Worksheet!AF30","v":0},0,{"$f":"IF(ISERROR(SEARCH(\"Gas\",Worksheet!$A$18))=TRUE,0,Worksheet!AH30)","v":0},0,null,null,{"$f":"IF(OR(Worksheet!F30=\"Incandescent\",Worksheet!F30=\"Halogen Incandescent\")=TRUE,118,IF(LEFT(Worksheet!F30,3)=\"HID\",117,IF(OR(RIGHT(Worksheet!F30,3)=\"T12\",RIGHT(Worksheet!F30,5)=\"T12HO\")=TRUE,115,IF(OR(RIGHT(Worksheet!F30,2)=\"T8\",RIGHT(Worksheet!F30,4)=\"RWT8\",RIGHT(Worksheet!F30,4)=\"T8HO\")=TRUE,115,\"\"))))","v":""},{"$f":"IF(ISBLANK(Worksheet!W30)=FALSE,Worksheet!W30,\"\")","v":0},{"$f":"IF(ISERROR(SEARCH(\"Oil\",Worksheet!$A$18))=TRUE,0,Worksheet!AH30)","v":0},0,{"$f":"IF(ISERROR(SEARCH(\"Propane\",Worksheet!$A$18))=TRUE,0,Worksheet!AH30)","v":0},0,{"$f":"IF(Worksheet!J30=0,\"\",Worksheet!J30)","v":""},{"$f":"IF(Worksheet!B30=0,\"\",Worksheet!B30)","v":""},{"$f":"IF(Worksheet!K30=0,\"\",Worksheet!K30)","v":""},{"$f":"IF(Worksheet!L30=0,\"\",Worksheet!L30)","v":""},{"$f":"IF(Worksheet!R30=0,\"\",Worksheet!R30)","v":""},{"$f":"IF(Worksheet!F30=0,\"\",Worksheet!F30)","v":""},{"$f":"IF(Worksheet!G30=0,\"\",Worksheet!G30)","v":""},{"$f":"IF(Worksheet!X30=0,\"\",Worksheet!X30)","v":""},{"$f":"IF(Worksheet!Q30=0,\"\",Worksheet!Q30)","v":""},{"$f":"IF(Worksheet!C30=0,\"\",Worksheet!C30)","v":""},{"$f":"IF(Worksheet!D30=0,\"\",Worksheet!D30)","v":""},{"$f":"IF(Worksheet!$A$11=TRUE,\"Y\",\"N\")","v":"N"},{"$f":"IF(Worksheet!$A$12=TRUE,\"Y\",\"N\")","v":"N"},{"$f":"IF(Worksheet!$B$11=TRUE,\"Y\",\"N\")","v":"N"},{"$f":"IF(Worksheet!$B$12=TRUE,\"Y\",\"N\")","v":"N"},{"$f":"IF(Worksheet!$C$11=TRUE,\"Y\",\"N\")","v":"N"},{"$f":"IFERROR(Worksheet!AB30,\"\")","v":0}]
[{"$f":"IF(IFERROR(SEARCH(\"Refrigerated\",Worksheet!L31,1),0)>0,122,IF(ISERROR(RIGHT(VLOOKUP(Worksheet!K31,Type!C$1:E$13,3,FALSE),3))=FALSE,RIGHT(VLOOKUP(Worksheet!K31,Type!C$1:E$13,3,FALSE),3),\"\"))","v":""},{"$f":"IF(Worksheet!M31=\"\",\"\",Worksheet!M31)","v":""},{"$f":"IF(Worksheet!N31=\"\",\"\",Worksheet!N31)","v":""},{"$f":"IF(Worksheet!Y31=0,\"\",Worksheet!Y31)","v":""},"Watts",null,null,{"$f":"Worksheet!AA31","v":0},{"$f":"IF(ISBLANK(Worksheet!V31)=FALSE,Worksheet!V31,\"\")","v":0},{"$f":"Worksheet!AG31","v":0},{"$f":"Worksheet!AF31","v":0},0,{"$f":"IF(ISERROR(SEARCH(\"Gas\",Worksheet!$A$18))=TRUE,0,Worksheet!AH31)","v":0},0,null,null,{"$f":"IF(OR(Worksheet!F31=\"Incandescent\",Worksheet!F31=\"Halogen Incandescent\")=TRUE,118,IF(LEFT(Worksheet!F31,3)=\"HID\",117,IF(OR(RIGHT(Worksheet!F31,3)=\"T12\",RIGHT(Worksheet!F31,5)=\"T12HO\")=TRUE,115,IF(OR(RIGHT(Worksheet!F31,2)=\"T8\",RIGHT(Worksheet!F31,4)=\"RWT8\",RIGHT(Worksheet!F31,4)=\"T8HO\")=TRUE,115,\"\"))))","v":""},{"$f":"IF(ISBLANK(Worksheet!W31)=FALSE,Worksheet!W31,\"\")","v":0},{"$f":"IF(ISERROR(SEARCH(\"Oil\",Worksheet!$A$18))=TRUE,0,Worksheet!AH31)","v":0},0,{"$f":"IF(ISERROR(SEARCH(\"Propane\",Worksheet!$A$18))=TRUE,0,Worksheet!AH31)","v":0},0,{"$f":"IF(Worksheet!J31=0,\"\",Worksheet!J31)","v":""},{"$f":"IF(Worksheet!B31=0,\"\",Worksheet!B31)","v":""},{"$f":"IF(Worksheet!K31=0,\"\",Worksheet!K31)","v":""},{"$f":"IF(Worksheet!L31=0,\"\",Worksheet!L31)","v":""},{"$f":"IF(Worksheet!R31=0,\"\",Worksheet!R31)","v":""},{"$f":"IF(Worksheet!F31=0,\"\",Worksheet!F31)","v":""},{"$f":"IF(Worksheet!G31=0,\"\",Worksheet!G31)","v":""},{"$f":"IF(Worksheet!X31=0,\"\",Worksheet!X31)","v":""},{"$f":"IF(Worksheet!Q31=0,\"\",Worksheet!Q31)","v":""},{"$f":"IF(Worksheet!C31=0,\"\",Worksheet!C31)","v":""},{"$f":"IF(Worksheet!D31=0,\"\",Worksheet!D31)","v":""},{"$f":"IF(Worksheet!$A$11=TRUE,\"Y\",\"N\")","v":"N"},{"$f":"IF(Worksheet!$A$12=TRUE,\"Y\",\"N\")","v":"N"},{"$f":"IF(Worksheet!$B$11=TRUE,\"Y\",\"N\")","v":"N"},{"$f":"IF(Worksheet!$B$12=TRUE,\"Y\",\"N\")","v":"N"},{"$f":"IF(Worksheet!$C$11=TRUE,\"Y\",\"N\")","v":"N"},{"$f":"IFERROR(Worksheet!AB31,\"\")","v":0}]
[{"$f":"IF(IFERROR(SEARCH(\"Refrigerated\",Worksheet!L32,1),0)>0,122,IF(ISERROR(RIGHT(VLOOKUP(Worksheet!K32,Type!C$1:E$13,3,FALSE),3))=FALSE,RIGHT(VLOOKUP(Worksheet!K32,Type!C$1:E$13,3,FALSE),3),\"\"))","v":""},{"$f":"IF(Worksheet!M32=\"\",\"\",Worksheet!M32)","v":""},{"$f":"IF(Worksheet!N32=\"\",\"\",Worksheet!N32)","v":""},{"$f":"IF(Worksheet!Y32=0,\"\",Worksheet!Y32)","v":""},"Watts",null,null,{"$f":"Worksheet!AA32","v":0},{"$f":"IF(ISBLANK(Worksheet!V32)=FALSE,Worksheet!V32,\"\")","v":0},{"$f":"Worksheet!AG32","v":0},{"$f":"Worksheet!AF32","v":0},0,{"$f":"IF(ISERROR(SEARCH(\"Gas\",Worksheet!$A$18))=TRUE,0,Worksheet!AH32)","v":0},0,null,null,{"$f":"IF(OR(Worksheet!F32=\"Incandescent\",Worksheet!F32=\"Halogen Incandescent\")=TRUE,118,IF(LEFT(Worksheet!F32,3)=\"HID\",117,IF(OR(RIGHT(Worksheet!F32,3)=\"T12\",RIGHT(Worksheet!F32,5)=\"T12HO\")=TRUE,115,IF(OR(RIGHT(Worksheet!F32,2)=\"T8\",RIGHT(Worksheet!F32,4)=\"RWT8\",RIGHT(Worksheet!F32,4)=\"T8HO\")=TRUE,115,\"\"))))","v":""},{"$f":"IF(ISBLANK(Worksheet!W32)=FALSE,Worksheet!W32,\"\")","v":0},{"$f":"IF(ISERROR(SEARCH(\"Oil\",Worksheet!$A$18))=TRUE,0,Worksheet!AH32)","v":0},0,{"$f":"IF(ISERROR(SEARCH(\"Propane\",Worksheet!$A$18))=TRUE,0,Worksheet!AH32)","v":0},0,{"$f":"IF(Worksheet!J32=0,\"\",Worksheet!J32)","v":""},{"$f":"IF(Worksheet!B32=0,\"\",Worksheet!B32)","v":""},{"$f":"IF(Worksheet!K32=0,\"\",Worksheet!K32)","v":""},{"$f":"IF(Worksheet!L32=0,\"\",Worksheet!L32)","v":""},{"$f":"IF(Worksheet!R32=0,\"\",Worksheet!R32)","v":""},{"$f":"IF(Worksheet!F32=0,\"\",Worksheet!F32)","v":""},{"$f":"IF(Worksheet!G32=0,\"\",Worksheet!G32)","v":""},{"$f":"IF(Worksheet!X32=0,\"\",Worksheet!X32)","v":""},{"$f":"IF(Worksheet!Q32=0,\"\",Worksheet!Q32)","v":""},{"$f":"IF(Worksheet!C32=0,\"\",Worksheet!C32)","v":""},{"$f":"IF(Worksheet!D32=0,\"\",Worksheet!D32)","v":""},{"$f":"IF(Worksheet!$A$11=TRUE,\"Y\",\"N\")","v":"N"},{"$f":"IF(Worksheet!$A$12=TRUE,\"Y\",\"N\")","v":"N"},{"$f":"IF(Worksheet!$B$11=TRUE,\"Y\",\"N\")","v":"N"},{"$f":"IF(Worksheet!$B$12=TRUE,\"Y\",\"N\")","v":"N"},{"$f":"IF(Worksheet!$C$11=TRUE,\"Y\",\"N\")","v":"N"},{"$f":"IFERROR(Worksheet!AB32,\"\")","v":0}]
[{"$f":"IF(IFERROR(SEARCH(\"Refrigerated\",Worksheet!L33,1),0)>0,122,IF(ISERROR(RIGHT(VLOOKUP(Worksheet!K33,Type!C$1:E$13,3,FALSE),3))=FALSE,RIGHT(VLOOKUP(Worksheet!K33,Type!C$1:E$13,3,FALSE),3),\"\"))","v":""},{"$f":"IF(Worksheet!M33=\"\",\"\",Worksheet!M33)","v":""},{"$f":"IF(Worksheet!N33=\"\",\"\",Worksheet!N33)","v":""},{"$f":"IF(Worksheet!Y33=0,\"\",Worksheet!Y33)","v":""},"Watts",null,null,{"$f":"Worksheet!AA33","v":0},{"$f":"IF(ISBLANK(Worksheet!V33)=FALSE,Worksheet!V33,\"\")","v":0},{"$f":"Worksheet!AG33","v":0},{"$f":"Worksheet!AF33","v":0},0,{"$f":"IF(ISERROR(SEARCH(\"Gas\",Worksheet!$A$18))=TRUE,0,Worksheet!AH33)","v":0},0,null,null,{"$f":"IF(OR(Worksheet!F33=\"Incandescent\",Worksheet!F33=\"Halogen Incandescent\")=TRUE,118,IF(LEFT(Worksheet!F33,3)=\"HID\",117,IF(OR(RIGHT(Worksheet!F33,3)=\"T12\",RIGHT(Worksheet!F33,5)=\"T12HO\")=TRUE,115,IF(OR(RIGHT(Worksheet!F33,2)=\"T8\",RIGHT(Worksheet!F33,4)=\"RWT8\",RIGHT(Worksheet!F33,4)=\"T8HO\")=TRUE,115,\"\"))))","v":""},{"$f":"IF(ISBLANK(Worksheet!W33)=FALSE,Worksheet!W33,\"\")","v":0},{"$f":"IF(ISERROR(SEARCH(\"Oil\",Worksheet!$A$18))=TRUE,0,Worksheet!AH33)","v":0},0,{"$f":"IF(ISERROR(SEARCH(\"Propane\",Worksheet!$A$18))=TRUE,0,Worksheet!AH33)","v":0},0,{"$f":"IF(Worksheet!J33=0,\"\",Worksheet!J33)","v":""},{"$f":"IF(Worksheet!B33=0,\"\",Worksheet!B33)","v":""},{"$f":"IF(Worksheet!K33=0,\"\",Worksheet!K33)","v":""},{"$f":"IF(Worksheet!L33=0,\"\",Worksheet!L33)","v":""},{"$f":"IF(Worksheet!R33=0,\"\",Worksheet!R33)","v":""},{"$f":"IF(Worksheet!F33=0,\"\",Worksheet!F33)","v":""},{"$f":"IF(Worksheet!G33=0,\"\",Worksheet!G33)","v":""},{"$f":"IF(Worksheet!X33=0,\"\",Worksheet!X33)","v":""},{"$f":"IF(Worksheet!Q33=0,\"\",Worksheet!Q33)","v":""},{"$f":"IF(Worksheet!C33=0,\"\",Worksheet!C33)","v":""},{"$f":"IF(Worksheet!D33=0,\"\",Worksheet!D33)","v":""},{"$f":"IF(Worksheet!$A$11=TRUE,\"Y\",\"N\")","v":"N"},{"$f":"IF(Worksheet!$A$12=TRUE,\"Y\",\"N\")","v":"N"},{"$f":"IF(Worksheet!$B$11=TRUE,\"Y\",\"N\")","v":"N"},{"$f":"IF(Worksheet!$B$12=TRUE,\"Y\",\"N\")","v":"N"},{"$f":"IF(Worksheet!$C$11=TRUE,\"Y\",\"N\")","v":"N"},{"$f":"IFERROR(Worksheet!AB33,\"\")","v":0}]
[{"$f":"IF(IFERROR(SEARCH(\"Refrigerated\",Worksheet!L34,1),0)>0,122,IF(ISERROR(RIGHT(VLOOKUP(Worksheet!K34,Type!C$1:E$13,3,FALSE),3))=FALSE,RIGHT(VLOOKUP(Worksheet!K34,Type!C$1:E$13,3,FALSE),3),\"\"))","v":""},{"$f":"IF(Worksheet!M34=\"\",\"\",Worksheet!M34)","v":""},{"$f":"IF(Worksheet!N34=\"\",\"\",Worksheet!N34)","v":""},{"$f":"IF(Worksheet!Y34=0,\"\",Worksheet!Y34)","v":""},"Watts",null,null,{"$f":"Worksheet!AA34","v":0},{"$f":"IF(ISBLANK(Worksheet!V34)=FALSE,Worksheet!V34,\"\")","v":0},{"$f":"Worksheet!AG34","v":0},{"$f":"Worksheet!AF34","v":0},0,{"$f":"IF(ISERROR(SEARCH(\"Gas\",Worksheet!$A$18))=TRUE,0,Worksheet!AH34)","v":0},0,null,null,{"$f":"IF(OR(Worksheet!F34=\"Incandescent\",Worksheet!F34=\"Halogen Incandescent\")=TRUE,118,IF(LEFT(Worksheet!F34,3)=\"HID\",117,IF(OR(RIGHT(Worksheet!F34,3)=\"T12\",RIGHT(Worksheet!F34,5)=\"T12HO\")=TRUE,115,IF(OR(RIGHT(Worksheet!F34,2)=\"T8\",RIGHT(Worksheet!F34,4)=\"RWT8\",RIGHT(Worksheet!F34,4)=\"T8HO\")=TRUE,115,\"\"))))","v":""},{"$f":"IF(ISBLANK(Worksheet!W34)=FALSE,Worksheet!W34,\"\")","v":0},{"$f":"IF(ISERROR(SEARCH(\"Oil\",Worksheet!$A$18))=TRUE,0,Worksheet!AH34)","v":0},0,{"$f":"IF(ISERROR(SEARCH(\"Propane\",Worksheet!$A$18))=TRUE,0,Worksheet!AH34)","v":0},0,{"$f":"IF(Worksheet!J34=0,\"\",Worksheet!J34)","v":""},{"$f":"IF(Worksheet!B34=0,\"\",Worksheet!B34)","v":""},{"$f":"IF(Worksheet!K34=0,\"\",Worksheet!K34)","v":""},{"$f":"IF(Worksheet!L34=0,\"\",Worksheet!L34)","v":""},{"$f":"IF(Worksheet!R34=0,\"\",Worksheet!R34)","v":""},{"$f":"IF(Worksheet!F34=0,\"\",Worksheet!F34)","v":""},{"$f":"IF(Worksheet!G34=0,\"\",Worksheet!G34)","v":""},{"$f":"IF(Worksheet!X34=0,\"\",Worksheet!X34)","v":""},{"$f":"IF(Worksheet!Q34=0,\"\",Worksheet!Q34)","v":""},{"$f":"IF(Worksheet!C34=0,\"\",Worksheet!C34)","v":""},{"$f":"IF(Worksheet!D34=0,\"\",Worksheet!D34)","v":""},{"$f":"IF(Worksheet!$A$11=TRUE,\"Y\",\"N\")","v":"N"},{"$f":"IF(Worksheet!$A$12=TRUE,\"Y\",\"N\")","v":"N"},{"$f":"IF(Worksheet!$B$11=TRUE,\"Y\",\"N\")","v":"N"},{"$f":"IF(Worksheet!$B$12=TRUE,\"Y\",\"N\")","v":"N"},{"$f":"IF(Worksheet!$C$11=TRUE,\"Y\",\"N\")","v":"N"},{"$f":"IFERROR(Worksheet!AB34,\"\")","v":0}]
[{"$f":"IF(IFERROR(SEARCH(\"Refrigerated\",Worksheet!L35,1),0)>0,122,IF(ISERROR(RIGHT(VLOOKUP(Worksheet!K35,Type!C$1:E$13,3,FALSE),3))=FALSE,RIGHT(VLOOKUP(Worksheet!K35,Type!C$1:E$13,3,FALSE),3),\"\"))","v":""},{"$f":"IF(Worksheet!M35=\"\",\"\",Worksheet!M35)","v":""},{"$f":"IF(Worksheet!N35=\"\",\"\",Worksheet!N35)","v":""},{"$f":"IF(Worksheet!Y35=0,\"\",Worksheet!Y35)","v":""},"Watts",null,null,{"$f":"Worksheet!AA35","v":0},{"$f":"IF(ISBLANK(Worksheet!V35)=FALSE,Worksheet!V35,\"\")","v":0},{"$f":"Worksheet!AG35","v":0},{"$f":"Worksheet!AF35","v":0},0,{"$f":"IF(ISERROR(SEARCH(\"Gas\",Worksheet!$A$18))=TRUE,0,Worksheet!AH35)","v":0},0,null,null,{"$f":"IF(OR(Worksheet!F35=\"Incandescent\",Worksheet!F35=\"Halogen Incandescent\")=TRUE,118,IF(LEFT(Worksheet!F35,3)=\"HID\",117,IF(OR(RIGHT(Worksheet!F35,3)=\"T12\",RIGHT(Worksheet!F35,5)=\"T12HO\")=TRUE,115,IF(OR(RIGHT(Worksheet!F35,2)=\"T8\",RIGHT(Worksheet!F35,4)=\"RWT8\",RIGHT(Worksheet!F35,4)=\"T8HO\")=TRUE,115,\"\"))))","v":""},{"$f":"IF(ISBLANK(Worksheet!W35)=FALSE,Worksheet!W35,\"\")","v":0},{"$f":"IF(ISERROR(SEARCH(\"Oil\",Worksheet!$A$18))=TRUE,0,Worksheet!AH35)","v":0},0,{"$f":"IF(ISERROR(SEARCH(\"Propane\",Worksheet!$A$18))=TRUE,0,Worksheet!AH35)","v":0},0,{"$f":"IF(Worksheet!J35=0,\"\",Worksheet!J35)","v":""},{"$f":"IF(Worksheet!B35=0,\"\",Worksheet!B35)","v":""},{"$f":"IF(Worksheet!K35=0,\"\",Worksheet!K35)","v":""},{"$f":"IF(Worksheet!L35=0,\"\",Worksheet!L35)","v":""},{"$f":"IF(Worksheet!R35=0,\"\",Worksheet!R35)","v":""},{"$f":"IF(Worksheet!F35=0,\"\",Worksheet!F35)","v":""},{"$f":"IF(Worksheet!G35=0,\"\",Worksheet!G35)","v":""},{"$f":"IF(Worksheet!X35=0,\"\",Worksheet!X35)","v":""},{"$f":"IF(Worksheet!Q35=0,\"\",Worksheet!Q35)","v":""},{"$f":"IF(Worksheet!C35=0,\"\",Worksheet!C35)","v":""},{"$f":"IF(Worksheet!D35=0,\"\",Worksheet!D35)","v":""},{"$f":"IF(Worksheet!$A$11=TRUE,\"Y\",\"N\")","v":"N"},{"$f":"IF(Worksheet!$A$12=TRUE,\"Y\",\"N\")","v":"N"},{"$f":"IF(Worksheet!$B$11=TRUE,\"Y\",\"N\")","v":"N"},{"$f":"IF(Worksheet!$B$12=TRUE,\"Y\",\"N\")","v":"N"},{"$f":"IF(Worksheet!$C$11=TRUE,\"Y\",\"N\")","v":"N"},{"$f":"IFERROR(Worksheet!AB35,\"\")","v":0}]
[{"$f":"IF(IFERROR(SEARCH(\"Refrigerated\",Worksheet!L36,1),0)>0,122,IF(ISERROR(RIGHT(VLOOKUP(Worksheet!K36,Type!C$1:E$13,3,FALSE),3))=FALSE,RIGHT(VLOOKUP(Worksheet!K36,Type!C$1:E$13,3,FALSE),3),\"\"))","v":""},{"$f":"IF(Worksheet!M36=\"\",\"\",Worksheet!M36)","v":""},{"$f":"IF(Worksheet!N36=\"\",\"\",Worksheet!N36)","v":""},{"$f":"IF(Worksheet!Y36=0,\"\",Worksheet!Y36)","v":""},"Watts",null,null,{"$f":"Worksheet!AA36","v":0},{"$f":"IF(ISBLANK(Worksheet!V36)=FALSE,Worksheet!V36,\"\")","v":0},{"$f":"Worksheet!AG36","v":0},{"$f":"Worksheet!AF36","v":0},0,{"$f":"IF(ISERROR(SEARCH(\"Gas\",Worksheet!$A$18))=TRUE,0,Worksheet!AH36)","v":0},0,null,null,{"$f":"IF(OR(Worksheet!F36=\"Incandescent\",Worksheet!F36=\"Halogen Incandescent\")=TRUE,118,IF(LEFT(Worksheet!F36,3)=\"HID\",117,IF(OR(RIGHT(Worksheet!F36,3)=\"T12\",RIGHT(Worksheet!F36,5)=\"T12HO\")=TRUE,115,IF(OR(RIGHT(Worksheet!F36,2)=\"T8\",RIGHT(Worksheet!F36,4)=\"RWT8\",RIGHT(Worksheet!F36,4)=\"T8HO\")=TRUE,115,\"\"))))","v":""},{"$f":"IF(ISBLANK(Worksheet!W36)=FALSE,Worksheet!W36,\"\")","v":0},{"$f":"IF(ISERROR(SEARCH(\"Oil\",Worksheet!$A$18))=TRUE,0,Worksheet!AH36)","v":0},0,{"$f":"IF(ISERROR(SEARCH(\"Propane\",Worksheet!$A$18))=TRUE,0,Worksheet!AH36)","v":0},0,{"$f":"IF(Worksheet!J36=0,\"\",Worksheet!J36)","v":""},{"$f":"IF(Worksheet!B36=0,\"\",Worksheet!B36)","v":""},{"$f":"IF(Worksheet!K36=0,\"\",Worksheet!K36)","v":""},{"$f":"IF(Worksheet!L36=0,\"\",Worksheet!L36)","v":""},{"$f":"IF(Worksheet!R36=0,\"\",Worksheet!R36)","v":""},{"$f":"IF(Worksheet!F36=0,\"\",Worksheet!F36)","v":""},{"$f":"IF(Worksheet!G36=0,\"\",Worksheet!G36)","v":""},{"$f":"IF(Worksheet!X36=0,\"\",Worksheet!X36)","v":""},{"$f":"IF(Worksheet!Q36=0,\"\",Worksheet!Q36)","v":""},{"$f":"IF(Worksheet!C36=0,\"\",Worksheet!C36)","v":""},{"$f":"IF(Worksheet!D36=0,\"\",Worksheet!D36)","v":""},{"$f":"IF(Worksheet!$A$11=TRUE,\"Y\",\"N\")","v":"N"},{"$f":"IF(Worksheet!$A$12=TRUE,\"Y\",\"N\")","v":"N"},{"$f":"IF(Worksheet!$B$11=TRUE,\"Y\",\"N\")","v":"N"},{"$f":"IF(Worksheet!$B$12=TRUE,\"Y\",\"N\")","v":"N"},{"$f":"IF(Worksheet!$C$11=TRUE,\"Y\",\"N\")","v":"N"},{"$f":"IFERROR(Worksheet!AB36,\"\")","v":0}]
[{"$f":"IF(IFERROR(SEARCH(\"Refrigerated\",Worksheet!L37,1),0)>0,122,IF(ISERROR(RIGHT(VLOOKUP(Worksheet!K37,Type!C$1:E$13,3,FALSE),3))=FALSE,RIGHT(VLOOKUP(Worksheet!K37,Type!C$1:E$13,3,FALSE),3),\"\"))","v":""},{"$f":"IF(Worksheet!M37=\"\",\"\",Worksheet!M37)","v":""},{"$f":"IF(Worksheet!N37=\"\",\"\",Worksheet!N37)","v":""},{"$f":"IF(Worksheet!Y37=0,\"\",Worksheet!Y37)","v":""},"Watts",null,null,{"$f":"Worksheet!AA37","v":0},{"$f":"IF(ISBLANK(Worksheet!V37)=FALSE,Worksheet!V37,\"\")","v":0},{"$f":"Worksheet!AG37","v":0},{"$f":"Worksheet!AF37","v":0},0,{"$f":"IF(ISERROR(SEARCH(\"Gas\",Worksheet!$A$18))=TRUE,0,Worksheet!AH37)","v":0},0,null,null,{"$f":"IF(OR(Worksheet!F37=\"Incandescent\",Worksheet!F37=\"Halogen Incandescent\")=TRUE,118,IF(LEFT(Worksheet!F37,3)=\"HID\",117,IF(OR(RIGHT(Worksheet!F37,3)=\"T12\",RIGHT(Worksheet!F37,5)=\"T12HO\")=TRUE,115,IF(OR(RIGHT(Worksheet!F37,2)=\"T8\",RIGHT(Worksheet!F37,4)=\"RWT8\",RIGHT(Worksheet!F37,4)=\"T8HO\")=TRUE,115,\"\"))))","v":""},{"$f":"IF(ISBLANK(Worksheet!W37)=FALSE,Worksheet!W37,\"\")","v":0},{"$f":"IF(ISERROR(SEARCH(\"Oil\",Worksheet!$A$18))=TRUE,0,Worksheet!AH37)","v":0},0,{"$f":"IF(ISERROR(SEARCH(\"Propane\",Worksheet!$A$18))=TRUE,0,Worksheet!AH37)","v":0},0,{"$f":"IF(Worksheet!J37=0,\"\",Worksheet!J37)","v":""},{"$f":"IF(Worksheet!B37=0,\"\",Worksheet!B37)","v":""},{"$f":"IF(Worksheet!K37=0,\"\",Worksheet!K37)","v":""},{"$f":"IF(Worksheet!L37=0,\"\",Worksheet!L37)","v":""},{"$f":"IF(Worksheet!R37=0,\"\",Worksheet!R37)","v":""},{"$f":"IF(Worksheet!F37=0,\"\",Worksheet!F37)","v":""},{"$f":"IF(Worksheet!G37=0,\"\",Worksheet!G37)","v":""},{"$f":"IF(Worksheet!X37=0,\"\",Worksheet!X37)","v":""},{"$f":"IF(Worksheet!Q37=0,\"\",Worksheet!Q37)","v":""},{"$f":"IF(Worksheet!C37=0,\"\",Worksheet!C37)","v":""},{"$f":"IF(Worksheet!D37=0,\"\",Worksheet!D37)","v":""},{"$f":"IF(Worksheet!$A$11=TRUE,\"Y\",\"N\")","v":"N"},{"$f":"IF(Worksheet!$A$12=TRUE,\"Y\",\"N\")","v":"N"},{"$f":"IF(Worksheet!$B$11=TRUE,\"Y\",\"N\")","v":"N"},{"$f":"IF(Worksheet!$B$12=TRUE,\"Y\",\"N\")","v":"N"},{"$f":"IF(Worksheet!$C$11=TRUE,\"Y\",\"N\")","v":"N"},{"$f":"IFERROR(Worksheet!AB37,\"\")","v":0}]
[{"$f":"IF(IFERROR(SEARCH(\"Refrigerated\",Worksheet!L38,1),0)>0,122,IF(ISERROR(RIGHT(VLOOKUP(Worksheet!K38,Type!C$1:E$13,3,FALSE),3))=FALSE,RIGHT(VLOOKUP(Worksheet!K38,Type!C$1:E$13,3,FALSE),3),\"\"))","v":""},{"$f":"IF(Worksheet!M38=\"\",\"\",Worksheet!M38)","v":""},{"$f":"IF(Worksheet!N38=\"\",\"\",Worksheet!N38)","v":""},{"$f":"IF(Worksheet!Y38=0,\"\",Worksheet!Y38)","v":""},"Watts",null,null,{"$f":"Worksheet!AA38","v":0},{"$f":"IF(ISBLANK(Worksheet!V38)=FALSE,Worksheet!V38,\"\")","v":0},{"$f":"Worksheet!AG38","v":0},{"$f":"Worksheet!AF38","v":0},0,{"$f":"IF(ISERROR(SEARCH(\"Gas\",Worksheet!$A$18))=TRUE,0,Worksheet!AH38)","v":0},0,null,null,{"$f":"IF(OR(Worksheet!F38=\"Incandescent\",Worksheet!F38=\"Halogen Incandescent\")=TRUE,118,IF(LEFT(Worksheet!F38,3)=\"HID\",117,IF(OR(RIGHT(Worksheet!F38,3)=\"T12\",RIGHT(Worksheet!F38,5)=\"T12HO\")=TRUE,115,IF(OR(RIGHT(Worksheet!F38,2)=\"T8\",RIGHT(Worksheet!F38,4)=\"RWT8\",RIGHT(Worksheet!F38,4)=\"T8HO\")=TRUE,115,\"\"))))","v":""},{"$f":"IF(ISBLANK(Worksheet!W38)=FALSE,Worksheet!W38,\"\")","v":0},{"$f":"IF(ISERROR(SEARCH(\"Oil\",Worksheet!$A$18))=TRUE,0,Worksheet!AH38)","v":0},0,{"$f":"IF(ISERROR(SEARCH(\"Propane\",Worksheet!$A$18))=TRUE,0,Worksheet!AH38)","v":0},0,{"$f":"IF(Worksheet!J38=0,\"\",Worksheet!J38)","v":""},{"$f":"IF(Worksheet!B38=0,\"\",Worksheet!B38)","v":""},{"$f":"IF(Worksheet!K38=0,\"\",Worksheet!K38)","v":""},{"$f":"IF(Worksheet!L38=0,\"\",Worksheet!L38)","v":""},{"$f":"IF(Worksheet!R38=0,\"\",Worksheet!R38)","v":""},{"$f":"IF(Worksheet!F38=0,\"\",Worksheet!F38)","v":""},{"$f":"IF(Worksheet!G38=0,\"\",Worksheet!G38)","v":""},{"$f":"IF(Worksheet!X38=0,\"\",Worksheet!X38)","v":""},{"$f":"IF(Worksheet!Q38=0,\"\",Worksheet!Q38)","v":""},{"$f":"IF(Worksheet!C38=0,\"\",Worksheet!C38)","v":""},{"$f":"IF(Worksheet!D38=0,\"\",Worksheet!D38)","v":""},{"$f":"IF(Worksheet!$A$11=TRUE,\"Y\",\"N\")","v":"N"},{"$f":"IF(Worksheet!$A$12=TRUE,\"Y\",\"N\")","v":"N"},{"$f":"IF(Worksheet!$B$11=TRUE,\"Y\",\"N\")","v":"N"},{"$f":"IF(Worksheet!$B$12=TRUE,\"Y\",\"N\")","v":"N"},{"$f":"IF(Worksheet!$C$11=TRUE,\"Y\",\"N\")","v":"N"},{"$f":"IFERROR(Worksheet!AB38,\"\")","v":0}]
[{"$f":"IF(IFERROR(SEARCH(\"Refrigerated\",Worksheet!L39,1),0)>0,122,IF(ISERROR(RIGHT(VLOOKUP(Worksheet!K39,Type!C$1:E$13,3,FALSE),3))=FALSE,RIGHT(VLOOKUP(Worksheet!K39,Type!C$1:E$13,3,FALSE),3),\"\"))","v":""},{"$f":"IF(Worksheet!M39=\"\",\"\",Worksheet!M39)","v":""},{"$f":"IF(Worksheet!N39=\"\",\"\",Worksheet!N39)","v":""},{"$f":"IF(Worksheet!Y39=0,\"\",Worksheet!Y39)","v":""},"Watts",null,null,{"$f":"Worksheet!AA39","v":0},{"$f":"IF(ISBLANK(Worksheet!V39)=FALSE,Worksheet!V39,\"\")","v":0},{"$f":"Worksheet!AG39","v":0},{"$f":"Worksheet!AF39","v":0},0,{"$f":"IF(ISERROR(SEARCH(\"Gas\",Worksheet!$A$18))=TRUE,0,Worksheet!AH39)","v":0},0,null,null,{"$f":"IF(OR(Worksheet!F39=\"Incandescent\",Worksheet!F39=\"Halogen Incandescent\")=TRUE,118,IF(LEFT(Worksheet!F39,3)=\"HID\",117,IF(OR(RIGHT(Worksheet!F39,3)=\"T12\",RIGHT(Worksheet!F39,5)=\"T12HO\")=TRUE,115,IF(OR(RIGHT(Worksheet!F39,2)=\"T8\",RIGHT(Worksheet!F39,4)=\"RWT8\",RIGHT(Worksheet!F39,4)=\"T8HO\")=TRUE,115,\"\"))))","v":""},{"$f":"IF(ISBLANK(Worksheet!W39)=FALSE,Worksheet!W39,\"\")","v":0},{"$f":"IF(ISERROR(SEARCH(\"Oil\",Worksheet!$A$18))=TRUE,0,Worksheet!AH39)","v":0},0,{"$f":"IF(ISERROR(SEARCH(\"Propane\",Worksheet!$A$18))=TRUE,0,Worksheet!AH39)","v":0},0,{"$f":"IF(Worksheet!J39=0,\"\",Worksheet!J39)","v":""},{"$f":"IF(Worksheet!B39=0,\"\",Worksheet!B39)","v":""},{"$f":"IF(Worksheet!K39=0,\"\",Worksheet!K39)","v":""},{"$f":"IF(Worksheet!L39=0,\"\",Worksheet!L39)","v":""},{"$f":"IF(Worksheet!R39=0,\"\",Worksheet!R39)","v":""},{"$f":"IF(Worksheet!F39=0,\"\",Worksheet!F39)","v":""},{"$f":"IF(Worksheet!G39=0,\"\",Worksheet!G39)","v":""},{"$f":"IF(Worksheet!X39=0,\"\",Worksheet!X39)","v":""},{"$f":"IF(Worksheet!Q39=0,\"\",Worksheet!Q39)","v":""},{"$f":"IF(Worksheet!C39=0,\"\",Worksheet!C39)","v":""},{"$f":"IF(Worksheet!D39=0,\"\",Worksheet!D39)","v":""},{"$f":"IF(Worksheet!$A$11=TRUE,\"Y\",\"N\")","v":"N"},{"$f":"IF(Worksheet!$A$12=TRUE,\"Y\",\"N\")","v":"N"},{"$f":"IF(Worksheet!$B$11=TRUE,\"Y\",\"N\")","v":"N"},{"$f":"IF(Worksheet!$B$12=TRUE,\"Y\",\"N\")","v":"N"},{"$f":"IF(Worksheet!$C$11=TRUE,\"Y\",\"N\")","v":"N"},{"$f":"IFERROR(Worksheet!AB39,\"\")","v":0}]
[{"$f":"IF(IFERROR(SEARCH(\"Refrigerated\",Worksheet!L40,1),0)>0,122,IF(ISERROR(RIGHT(VLOOKUP(Worksheet!K40,Type!C$1:E$13,3,FALSE),3))=FALSE,RIGHT(VLOOKUP(Worksheet!K40,Type!C$1:E$13,3,FALSE),3),\"\"))","v":""},{"$f":"IF(Worksheet!M40=\"\",\"\",Worksheet!M40)","v":""},{"$f":"IF(Worksheet!N40=\"\",\"\",Worksheet!N40)","v":""},{"$f":"IF(Worksheet!Y40=0,\"\",Worksheet!Y40)","v":""},"Watts",null,null,{"$f":"Worksheet!AA40","v":0},{"$f":"IF(ISBLANK(Worksheet!V40)=FALSE,Worksheet!V40,\"\")","v":0},{"$f":"Worksheet!AG40","v":0},{"$f":"Worksheet!AF40","v":0},0,{"$f":"IF(ISERROR(SEARCH(\"Gas\",Worksheet!$A$18))=TRUE,0,Worksheet!AH40)","v":0},0,null,null,{"$f":"IF(OR(Worksheet!F40=\"Incandescent\",Worksheet!F40=\"Halogen Incandescent\")=TRUE,118,IF(LEFT(Worksheet!F40,3)=\"HID\",117,IF(OR(RIGHT(Worksheet!F40,3)=\"T12\",RIGHT(Worksheet!F40,5)=\"T12HO\")=TRUE,115,IF(OR(RIGHT(Worksheet!F40,2)=\"T8\",RIGHT(Worksheet!F40,4)=\"RWT8\",RIGHT(Worksheet!F40,4)=\"T8HO\")=TRUE,115,\"\"))))","v":""},{"$f":"IF(ISBLANK(Worksheet!W40)=FALSE,Worksheet!W40,\"\")","v":0},{"$f":"IF(ISERROR(SEARCH(\"Oil\",Worksheet!$A$18))=TRUE,0,Worksheet!AH40)","v":0},0,{"$f":"IF(ISERROR(SEARCH(\"Propane\",Worksheet!$A$18))=TRUE,0,Worksheet!AH40)","v":0},0,{"$f":"IF(Worksheet!J40=0,\"\",Worksheet!J40)","v":""},{"$f":"IF(Worksheet!B40=0,\"\",Worksheet!B40)","v":""},{"$f":"IF(Worksheet!K40=0,\"\",Worksheet!K40)","v":""},{"$f":"IF(Worksheet!L40=0,\"\",Worksheet!L40)","v":""},{"$f":"IF(Worksheet!R40=0,\"\",Worksheet!R40)","v":""},{"$f":"IF(Worksheet!F40=0,\"\",Worksheet!F40)","v":""},{"$f":"IF(Worksheet!G40=0,\"\",Worksheet!G40)","v":""},{"$f":"IF(Worksheet!X40=0,\"\",Worksheet!X40)","v":""},{"$f":"IF(Worksheet!Q40=0,\"\",Worksheet!Q40)","v":""},{"$f":"IF(Worksheet!C40=0,\"\",Worksheet!C40)","v":""},{"$f":"IF(Worksheet!D40=0,\"\",Worksheet!D40)","v":""},{"$f":"IF(Worksheet!$A$11=TRUE,\"Y\",\"N\")","v":"N"},{"$f":"IF(Worksheet!$A$12=TRUE,\"Y\",\"N\")","v":"N"},{"$f":"IF(Worksheet!$B$11=TRUE,\"Y\",\"N\")","v":"N"},{"$f":"IF(Worksheet!$B$12=TRUE,\"Y\",\"N\")","v":"N"},{"$f":"IF(Worksheet!$C$11=TRUE,\"Y\",\"N\")","v":"N"},{"$f":"IFERROR(Worksheet!AB40,\"\")","v":0}]
[{"$f":"IF(IFERROR(SEARCH(\"Refrigerated\",Worksheet!L41,1),0)>0,122,IF(ISERROR(RIGHT(VLOOKUP(Worksheet!K41,Type!C$1:E$13,3,FALSE),3))=FALSE,RIGHT(VLOOKUP(Worksheet!K41,Type!C$1:E$13,3,FALSE),3),\"\"))","v":""},{"$f":"IF(Worksheet!M41=\"\",\"\",Worksheet!M41)","v":""},{"$f":"IF(Worksheet!N41=\"\",\"\",Worksheet!N41)","v":""},{"$f":"IF(Worksheet!Y41=0,\"\",Worksheet!Y41)","v":""},"Watts",null,null,{"$f":"Worksheet!AA41","v":0},{"$f":"IF(ISBLANK(Worksheet!V41)=FALSE,Worksheet!V41,\"\")","v":0},{"$f":"Worksheet!AG41","v":0},{"$f":"Worksheet!AF41","v":0},0,{"$f":"IF(ISERROR(SEARCH(\"Gas\",Worksheet!$A$18))=TRUE,0,Worksheet!AH41)","v":0},0,null,null,{"$f":"IF(OR(Worksheet!F41=\"Incandescent\",Worksheet!F41=\"Halogen Incandescent\")=TRUE,118,IF(LEFT(Worksheet!F41,3)=\"HID\",117,IF(OR(RIGHT(Worksheet!F41,3)=\"T12\",RIGHT(Worksheet!F41,5)=\"T12HO\")=TRUE,115,IF(OR(RIGHT(Worksheet!F41,2)=\"T8\",RIGHT(Worksheet!F41,4)=\"RWT8\",RIGHT(Worksheet!F41,4)=\"T8HO\")=TRUE,115,\"\"))))","v":""},{"$f":"IF(ISBLANK(Worksheet!W41)=FALSE,Worksheet!W41,\"\")","v":0},{"$f":"IF(ISERROR(SEARCH(\"Oil\",Worksheet!$A$18))=TRUE,0,Worksheet!AH41)","v":0},0,{"$f":"IF(ISERROR(SEARCH(\"Propane\",Worksheet!$A$18))=TRUE,0,Worksheet!AH41)","v":0},0,{"$f":"IF(Worksheet!J41=0,\"\",Worksheet!J41)","v":""},{"$f":"IF(Worksheet!B41=0,\"\",Worksheet!B41)","v":""},{"$f":"IF(Worksheet!K41=0,\"\",Worksheet!K41)","v":""},{"$f":"IF(Worksheet!L41=0,\"\",Worksheet!L41)","v":""},{"$f":"IF(Worksheet!R41=0,\"\",Worksheet!R41)","v":""},{"$f":"IF(Worksheet!F41=0,\"\",Worksheet!F41)","v":""},{"$f":"IF(Worksheet!G41=0,\"\",Worksheet!G41)","v":""},{"$f":"IF(Worksheet!X41=0,\"\",Worksheet!X41)","v":""},{"$f":"IF(Worksheet!Q41=0,\"\",Worksheet!Q41)","v":""},{"$f":"IF(Worksheet!C41=0,\"\",Worksheet!C41)","v":""},{"$f":"IF(Worksheet!D41=0,\"\",Worksheet!D41)","v":""},{"$f":"IF(Worksheet!$A$11=TRUE,\"Y\",\"N\")","v":"N"},{"$f":"IF(Worksheet!$A$12=TRUE,\"Y\",\"N\")","v":"N"},{"$f":"IF(Worksheet!$B$11=TRUE,\"Y\",\"N\")","v":"N"},{"$f":"IF(Worksheet!$B$12=TRUE,\"Y\",\"N\")","v":"N"},{"$f":"IF(Worksheet!$C$11=TRUE,\"Y\",\"N\")","v":"N"},{"$f":"IFERROR(Worksheet!AB41,\"\")","v":0}]
[{"$f":"IF(IFERROR(SEARCH(\"Refrigerated\",Worksheet!L42,1),0)>0,122,IF(ISERROR(RIGHT(VLOOKUP(Worksheet!K42,Type!C$1:E$13,3,FALSE),3))=FALSE,RIGHT(VLOOKUP(Worksheet!K42,Type!C$1:E$13,3,FALSE),3),\"\"))","v":""},{"$f":"IF(Worksheet!M42=\"\",\"\",Worksheet!M42)","v":""},{"$f":"IF(Worksheet!N42=\"\",\"\",Worksheet!N42)","v":""},{"$f":"IF(Worksheet!Y42=0,\"\",Worksheet!Y42)","v":""},"Watts",null,null,{"$f":"Worksheet!AA42","v":0},{"$f":"IF(ISBLANK(Worksheet!V42)=FALSE,Worksheet!V42,\"\")","v":0},{"$f":"Worksheet!AG42","v":0},{"$f":"Worksheet!AF42","v":0},0,{"$f":"IF(ISERROR(SEARCH(\"Gas\",Worksheet!$A$18))=TRUE,0,Worksheet!AH42)","v":0},0,null,null,{"$f":"IF(OR(Worksheet!F42=\"Incandescent\",Worksheet!F42=\"Halogen Incandescent\")=TRUE,118,IF(LEFT(Worksheet!F42,3)=\"HID\",117,IF(OR(RIGHT(Worksheet!F42,3)=\"T12\",RIGHT(Worksheet!F42,5)=\"T12HO\")=TRUE,115,IF(OR(RIGHT(Worksheet!F42,2)=\"T8\",RIGHT(Worksheet!F42,4)=\"RWT8\",RIGHT(Worksheet!F42,4)=\"T8HO\")=TRUE,115,\"\"))))","v":""},{"$f":"IF(ISBLANK(Worksheet!W42)=FALSE,Worksheet!W42,\"\")","v":0},{"$f":"IF(ISERROR(SEARCH(\"Oil\",Worksheet!$A$18))=TRUE,0,Worksheet!AH42)","v":0},0,{"$f":"IF(ISERROR(SEARCH(\"Propane\",Worksheet!$A$18))=TRUE,0,Worksheet!AH42)","v":0},0,{"$f":"IF(Worksheet!J42=0,\"\",Worksheet!J42)","v":""},{"$f":"IF(Worksheet!B42=0,\"\",Worksheet!B42)","v":""},{"$f":"IF(Worksheet!K42=0,\"\",Worksheet!K42)","v":""},{"$f":"IF(Worksheet!L42=0,\"\",Worksheet!L42)","v":""},{"$f":"IF(Worksheet!R42=0,\"\",Worksheet!R42)","v":""},{"$f":"IF(Worksheet!F42=0,\"\",Worksheet!F42)","v":""},{"$f":"IF(Worksheet!G42=0,\"\",Worksheet!G42)","v":""},{"$f":"IF(Worksheet!X42=0,\"\",Worksheet!X42)","v":""},{"$f":"IF(Worksheet!Q42=0,\"\",Worksheet!Q42)","v":""},{"$f":"IF(Worksheet!C42=0,\"\",Worksheet!C42)","v":""},{"$f":"IF(Worksheet!D42=0,\"\",Worksheet!D42)","v":""},{"$f":"IF(Worksheet!$A$11=TRUE,\"Y\",\"N\")","v":"N"},{"$f":"IF(Worksheet!$A$12=TRUE,\"Y\",\"N\")","v":"N"},{"$f":"IF(Worksheet!$B$11=TRUE,\"Y\",\"N\")","v":"N"},{"$f":"IF(Worksheet!$B$12=TRUE,\"Y\",\"N\")","v":"N"},{"$f":"IF(Worksheet!$C$11=TRUE,\"Y\",\"N\")","v":"N"},{"$f":"IFERROR(Worksheet!AB42,\"\")","v":0}]
[{"$f":"IF(IFERROR(SEARCH(\"Refrigerated\",Worksheet!L43,1),0)>0,122,IF(ISERROR(RIGHT(VLOOKUP(Worksheet!K43,Type!C$1:E$13,3,FALSE),3))=FALSE,RIGHT(VLOOKUP(Worksheet!K43,Type!C$1:E$13,3,FALSE),3),\"\"))","v":""},{"$f":"IF(Worksheet!M43=\"\",\"\",Worksheet!M43)","v":""},{"$f":"IF(Worksheet!N43=\"\",\"\",Worksheet!N43)","v":""},{"$f":"IF(Worksheet!Y43=0,\"\",Worksheet!Y43)","v":""},"Watts",null,null,{"$f":"Worksheet!AA43","v":0},{"$f":"IF(ISBLANK(Worksheet!V43)=FALSE,Worksheet!V43,\"\")","v":0},{"$f":"Worksheet!AG43","v":0},{"$f":"Worksheet!AF43","v":0},0,{"$f":"IF(ISERROR(SEARCH(\"Gas\",Worksheet!$A$18))=TRUE,0,Worksheet!AH43)","v":0},0,null,null,{"$f":"IF(OR(Worksheet!F43=\"Incandescent\",Worksheet!F43=\"Halogen Incandescent\")=TRUE,118,IF(LEFT(Worksheet!F43,3)=\"HID\",117,IF(OR(RIGHT(Worksheet!F43,3)=\"T12\",RIGHT(Worksheet!F43,5)=\"T12HO\")=TRUE,115,IF(OR(RIGHT(Worksheet!F43,2)=\"T8\",RIGHT(Worksheet!F43,4)=\"RWT8\",RIGHT(Worksheet!F43,4)=\"T8HO\")=TRUE,115,\"\"))))","v":""},{"$f":"IF(ISBLANK(Worksheet!W43)=FALSE,Worksheet!W43,\"\")","v":0},{"$f":"IF(ISERROR(SEARCH(\"Oil\",Worksheet!$A$18))=TRUE,0,Worksheet!AH43)","v":0},0,{"$f":"IF(ISERROR(SEARCH(\"Propane\",Worksheet!$A$18))=TRUE,0,Worksheet!AH43)","v":0},0,{"$f":"IF(Worksheet!J43=0,\"\",Worksheet!J43)","v":""},{"$f":"IF(Worksheet!B43=0,\"\",Worksheet!B43)","v":""},{"$f":"IF(Worksheet!K43=0,\"\",Worksheet!K43)","v":""},{"$f":"IF(Worksheet!L43=0,\"\",Worksheet!L43)","v":""},{"$f":"IF(Worksheet!R43=0,\"\",Worksheet!R43)","v":""},{"$f":"IF(Worksheet!F43=0,\"\",Worksheet!F43)","v":""},{"$f":"IF(Worksheet!G43=0,\"\",Worksheet!G43)","v":""},{"$f":"IF(Worksheet!X43=0,\"\",Worksheet!X43)","v":""},{"$f":"IF(Worksheet!Q43=0,\"\",Worksheet!Q43)","v":""},{"$f":"IF(Worksheet!C43=0,\"\",Worksheet!C43)","v":""},{"$f":"IF(Worksheet!D43=0,\"\",Worksheet!D43)","v":""},{"$f":"IF(Worksheet!$A$11=TRUE,\"Y\",\"N\")","v":"N"},{"$f":"IF(Worksheet!$A$12=TRUE,\"Y\",\"N\")","v":"N"},{"$f":"IF(Worksheet!$B$11=TRUE,\"Y\",\"N\")","v":"N"},{"$f":"IF(Worksheet!$B$12=TRUE,\"Y\",\"N\")","v":"N"},{"$f":"IF(Worksheet!$C$11=TRUE,\"Y\",\"N\")","v":"N"},{"$f":"IFERROR(Worksheet!AB43,\"\")","v":0}]
[{"$f":"IF(IFERROR(SEARCH(\"Refrigerated\",Worksheet!L44,1),0)>0,122,IF(ISERROR(RIGHT(VLOOKUP(Worksheet!K44,Type!C$1:E$13,3,FALSE),3))=FALSE,RIGHT(VLOOKUP(Worksheet!K44,Type!C$1:E$13,3,FALSE),3),\"\"))","v":""},{"$f":"IF(Worksheet!M44=\"\",\"\",Worksheet!M44)","v":""},{"$f":"IF(Worksheet!N44=\"\",\"\",Worksheet!N44)","v":""},{"$f":"IF(Worksheet!Y44=0,\"\",Worksheet!Y44)","v":""},"Watts",null,null,{"$f":"Worksheet!AA44","v":0},{"$f":"IF(ISBLANK(Worksheet!V44)=FALSE,Worksheet!V44,\"\")","v":0},{"$f":"Worksheet!AG44","v":0},{"$f":"Worksheet!AF44","v":0},0,{"$f":"IF(ISERROR(SEARCH(\"Gas\",Worksheet!$A$18))=TRUE,0,Worksheet!AH44)","v":0},0,null,null,{"$f":"IF(OR(Worksheet!F44=\"Incandescent\",Worksheet!F44=\"Halogen Incandescent\")=TRUE,118,IF(LEFT(Worksheet!F44,3)=\"HID\",117,IF(OR(RIGHT(Worksheet!F44,3)=\"T12\",RIGHT(Worksheet!F44,5)=\"T12HO\")=TRUE,115,IF(OR(RIGHT(Worksheet!F44,2)=\"T8\",RIGHT(Worksheet!F44,4)=\"RWT8\",RIGHT(Worksheet!F44,4)=\"T8HO\")=TRUE,115,\"\"))))","v":""},{"$f":"IF(ISBLANK(Worksheet!W44)=FALSE,Worksheet!W44,\"\")","v":0},{"$f":"IF(ISERROR(SEARCH(\"Oil\",Worksheet!$A$18))=TRUE,0,Worksheet!AH44)","v":0},0,{"$f":"IF(ISERROR(SEARCH(\"Propane\",Worksheet!$A$18))=TRUE,0,Worksheet!AH44)","v":0},0,{"$f":"IF(Worksheet!J44=0,\"\",Worksheet!J44)","v":""},{"$f":"IF(Worksheet!B44=0,\"\",Worksheet!B44)","v":""},{"$f":"IF(Worksheet!K44=0,\"\",Worksheet!K44)","v":""},{"$f":"IF(Worksheet!L44=0,\"\",Worksheet!L44)","v":""},{"$f":"IF(Worksheet!R44=0,\"\",Worksheet!R44)","v":""},{"$f":"IF(Worksheet!F44=0,\"\",Worksheet!F44)","v":""},{"$f":"IF(Worksheet!G44=0,\"\",Worksheet!G44)","v":""},{"$f":"IF(Worksheet!X44=0,\"\",Worksheet!X44)","v":""},{"$f":"IF(Worksheet!Q44=0,\"\",Worksheet!Q44)","v":""},{"$f":"IF(Worksheet!C44=0,\"\",Worksheet!C44)","v":""},{"$f":"IF(Worksheet!D44=0,\"\",Worksheet!D44)","v":""},{"$f":"IF(Worksheet!$A$11=TRUE,\"Y\",\"N\")","v":"N"},{"$f":"IF(Worksheet!$A$12=TRUE,\"Y\",\"N\")","v":"N"},{"$f":"IF(Worksheet!$B$11=TRUE,\"Y\",\"N\")","v":"N"},{"$f":"IF(Worksheet!$B$12=TRUE,\"Y\",\"N\")","v":"N"},{"$f":"IF(Worksheet!$C$11=TRUE,\"Y\",\"N\")","v":"N"},{"$f":"IFERROR(Worksheet!AB44,\"\")","v":0}]
[{"$f":"IF(IFERROR(SEARCH(\"Refrigerated\",Worksheet!L45,1),0)>0,122,IF(ISERROR(RIGHT(VLOOKUP(Worksheet!K45,Type!C$1:E$13,3,FALSE),3))=FALSE,RIGHT(VLOOKUP(Worksheet!K45,Type!C$1:E$13,3,FALSE),3),\"\"))","v":""},{"$f":"IF(Worksheet!M45=\"\",\"\",Worksheet!M45)","v":""},{"$f":"IF(Worksheet!N45=\"\",\"\",Worksheet!N45)","v":""},{"$f":"IF(Worksheet!Y45=0,\"\",Worksheet!Y45)","v":""},"Watts",null,null,{"$f":"Worksheet!AA45","v":0},{"$f":"IF(ISBLANK(Worksheet!V45)=FALSE,Worksheet!V45,\"\")","v":0},{"$f":"Worksheet!AG45","v":0},{"$f":"Worksheet!AF45","v":0},0,{"$f":"IF(ISERROR(SEARCH(\"Gas\",Worksheet!$A$18))=TRUE,0,Worksheet!AH45)","v":0},0,null,null,{"$f":"IF(OR(Worksheet!F45=\"Incandescent\",Worksheet!F45=\"Halogen Incandescent\")=TRUE,118,IF(LEFT(Worksheet!F45,3)=\"HID\",117,IF(OR(RIGHT(Worksheet!F45,3)=\"T12\",RIGHT(Worksheet!F45,5)=\"T12HO\")=TRUE,115,IF(OR(RIGHT(Worksheet!F45,2)=\"T8\",RIGHT(Worksheet!F45,4)=\"RWT8\",RIGHT(Worksheet!F45,4)=\"T8HO\")=TRUE,115,\"\"))))","v":""},{"$f":"IF(ISBLANK(Worksheet!W45)=FALSE,Worksheet!W45,\"\")","v":0},{"$f":"IF(ISERROR(SEARCH(\"Oil\",Worksheet!$A$18))=TRUE,0,Worksheet!AH45)","v":0},0,{"$f":"IF(ISERROR(SEARCH(\"Propane\",Worksheet!$A$18))=TRUE,0,Worksheet!AH45)","v":0},0,{"$f":"IF(Worksheet!J45=0,\"\",Worksheet!J45)","v":""},{"$f":"IF(Worksheet!B45=0,\"\",Worksheet!B45)","v":""},{"$f":"IF(Worksheet!K45=0,\"\",Worksheet!K45)","v":""},{"$f":"IF(Worksheet!L45=0,\"\",Worksheet!L45)","v":""},{"$f":"IF(Worksheet!R45=0,\"\",Worksheet!R45)","v":""},{"$f":"IF(Worksheet!F45=0,\"\",Worksheet!F45)","v":""},{"$f":"IF(Worksheet!G45=0,\"\",Worksheet!G45)","v":""},{"$f":"IF(Worksheet!X45=0,\"\",Worksheet!X45)","v":""},{"$f":"IF(Worksheet!Q45=0,\"\",Worksheet!Q45)","v":""},{"$f":"IF(Worksheet!C45=0,\"\",Worksheet!C45)","v":""},{"$f":"IF(Worksheet!D45=0,\"\",Worksheet!D45)","v":""},{"$f":"IF(Worksheet!$A$11=TRUE,\"Y\",\"N\")","v":"N"},{"$f":"IF(Worksheet!$A$12=TRUE,\"Y\",\"N\")","v":"N"},{"$f":"IF(Worksheet!$B$11=TRUE,\"Y\",\"N\")","v":"N"},{"$f":"IF(Worksheet!$B$12=TRUE,\"Y\",\"N\")","v":"N"},{"$f":"IF(Worksheet!$C$11=TRUE,\"Y\",\"N\")","v":"N"},{"$f":"IFERROR(Worksheet!AB45,\"\")","v":0}]
[{"$f":"IF(IFERROR(SEARCH(\"Refrigerated\",Worksheet!L46,1),0)>0,122,IF(ISERROR(RIGHT(VLOOKUP(Worksheet!K46,Type!C$1:E$13,3,FALSE),3))=FALSE,RIGHT(VLOOKUP(Worksheet!K46,Type!C$1:E$13,3,FALSE),3),\"\"))","v":""},{"$f":"IF(Worksheet!M46=\"\",\"\",Worksheet!M46)","v":""},{"$f":"IF(Worksheet!N46=\"\",\"\",Worksheet!N46)","v":""},{"$f":"IF(Worksheet!Y46=0,\"\",Worksheet!Y46)","v":""},"Watts",null,null,{"$f":"Worksheet!AA46","v":0},{"$f":"IF(ISBLANK(Worksheet!V46)=FALSE,Worksheet!V46,\"\")","v":0},{"$f":"Worksheet!AG46","v":0},{"$f":"Worksheet!AF46","v":0},0,{"$f":"IF(ISERROR(SEARCH(\"Gas\",Worksheet!$A$18))=TRUE,0,Worksheet!AH46)","v":0},0,null,null,{"$f":"IF(OR(Worksheet!F46=\"Incandescent\",Worksheet!F46=\"Halogen Incandescent\")=TRUE,118,IF(LEFT(Worksheet!F46,3)=\"HID\",117,IF(OR(RIGHT(Worksheet!F46,3)=\"T12\",RIGHT(Worksheet!F46,5)=\"T12HO\")=TRUE,115,IF(OR(RIGHT(Worksheet!F46,2)=\"T8\",RIGHT(Worksheet!F46,4)=\"RWT8\",RIGHT(Worksheet!F46,4)=\"T8HO\")=TRUE,115,\"\"))))","v":""},{"$f":"IF(ISBLANK(Worksheet!W46)=FALSE,Worksheet!W46,\"\")","v":0},{"$f":"IF(ISERROR(SEARCH(\"Oil\",Worksheet!$A$18))=TRUE,0,Worksheet!AH46)","v":0},0,{"$f":"IF(ISERROR(SEARCH(\"Propane\",Worksheet!$A$18))=TRUE,0,Worksheet!AH46)","v":0},0,{"$f":"IF(Worksheet!J46=0,\"\",Worksheet!J46)","v":""},{"$f":"IF(Worksheet!B46=0,\"\",Worksheet!B46)","v":""},{"$f":"IF(Worksheet!K46=0,\"\",Worksheet!K46)","v":""},{"$f":"IF(Worksheet!L46=0,\"\",Worksheet!L46)","v":""},{"$f":"IF(Worksheet!R46=0,\"\",Worksheet!R46)","v":""},{"$f":"IF(Worksheet!F46=0,\"\",Worksheet!F46)","v":""},{"$f":"IF(Worksheet!G46=0,\"\",Worksheet!G46)","v":""},{"$f":"IF(Worksheet!X46=0,\"\",Worksheet!X46)","v":""},{"$f":"IF(Worksheet!Q46=0,\"\",Worksheet!Q46)","v":""},{"$f":"IF(Worksheet!C46=0,\"\",Worksheet!C46)","v":""},{"$f":"IF(Worksheet!D46=0,\"\",Worksheet!D46)","v":""},{"$f":"IF(Worksheet!$A$11=TRUE,\"Y\",\"N\")","v":"N"},{"$f":"IF(Worksheet!$A$12=TRUE,\"Y\",\"N\")","v":"N"},{"$f":"IF(Worksheet!$B$11=TRUE,\"Y\",\"N\")","v":"N"},{"$f":"IF(Worksheet!$B$12=TRUE,\"Y\",\"N\")","v":"N"},{"$f":"IF(Worksheet!$C$11=TRUE,\"Y\",\"N\")","v":"N"},{"$f":"IFERROR(Worksheet!AB46,\"\")","v":0}]
[{"$f":"IF(IFERROR(SEARCH(\"Refrigerated\",Worksheet!L47,1),0)>0,122,IF(ISERROR(RIGHT(VLOOKUP(Worksheet!K47,Type!C$1:E$13,3,FALSE),3))=FALSE,RIGHT(VLOOKUP(Worksheet!K47,Type!C$1:E$13,3,FALSE),3),\"\"))","v":""},{"$f":"IF(Worksheet!M47=\"\",\"\",Worksheet!M47)","v":""},{"$f":"IF(Worksheet!N47=\"\",\"\",Worksheet!N47)","v":""},{"$f":"IF(Worksheet!Y47=0,\"\",Worksheet!Y47)","v":""},"Watts",null,null,{"$f":"Worksheet!AA47","v":0},{"$f":"IF(ISBLANK(Worksheet!V47)=FALSE,Worksheet!V47,\"\")","v":0},{"$f":"Worksheet!AG47","v":0},{"$f":"Worksheet!AF47","v":0},0,{"$f":"IF(ISERROR(SEARCH(\"Gas\",Worksheet!$A$18))=TRUE,0,Worksheet!AH47)","v":0},0,null,null,{"$f":"IF(OR(Worksheet!F47=\"Incandescent\",Worksheet!F47=\"Halogen Incandescent\")=TRUE,118,IF(LEFT(Worksheet!F47,3)=\"HID\",117,IF(OR(RIGHT(Worksheet!F47,3)=\"T12\",RIGHT(Worksheet!F47,5)=\"T12HO\")=TRUE,115,IF(OR(RIGHT(Worksheet!F47,2)=\"T8\",RIGHT(Worksheet!F47,4)=\"RWT8\",RIGHT(Worksheet!F47,4)=\"T8HO\")=TRUE,115,\"\"))))","v":""},{"$f":"IF(ISBLANK(Worksheet!W47)=FALSE,Worksheet!W47,\"\")","v":0},{"$f":"IF(ISERROR(SEARCH(\"Oil\",Worksheet!$A$18))=TRUE,0,Worksheet!AH47)","v":0},0,{"$f":"IF(ISERROR(SEARCH(\"Propane\",Worksheet!$A$18))=TRUE,0,Worksheet!AH47)","v":0},0,{"$f":"IF(Worksheet!J47=0,\"\",Worksheet!J47)","v":""},{"$f":"IF(Worksheet!B47=0,\"\",Worksheet!B47)","v":""},{"$f":"IF(Worksheet!K47=0,\"\",Worksheet!K47)","v":""},{"$f":"IF(Worksheet!L47=0,\"\",Worksheet!L47)","v":""},{"$f":"IF(Worksheet!R47=0,\"\",Worksheet!R47)","v":""},{"$f":"IF(Worksheet!F47=0,\"\",Worksheet!F47)","v":""},{"$f":"IF(Worksheet!G47=0,\"\",Worksheet!G47)","v":""},{"$f":"IF(Worksheet!X47=0,\"\",Worksheet!X47)","v":""},{"$f":"IF(Worksheet!Q47=0,\"\",Worksheet!Q47)","v":""},{"$f":"IF(Worksheet!C47=0,\"\",Worksheet!C47)","v":""},{"$f":"IF(Worksheet!D47=0,\"\",Worksheet!D47)","v":""},{"$f":"IF(Worksheet!$A$11=TRUE,\"Y\",\"N\")","v":"N"},{"$f":"IF(Worksheet!$A$12=TRUE,\"Y\",\"N\")","v":"N"},{"$f":"IF(Worksheet!$B$11=TRUE,\"Y\",\"N\")","v":"N"},{"$f":"IF(Worksheet!$B$12=TRUE,\"Y\",\"N\")","v":"N"},{"$f":"IF(Worksheet!$C$11=TRUE,\"Y\",\"N\")","v":"N"},{"$f":"IFERROR(Worksheet!AB47,\"\")","v":0}]
[{"$f":"IF(IFERROR(SEARCH(\"Refrigerated\",Worksheet!L48,1),0)>0,122,IF(ISERROR(RIGHT(VLOOKUP(Worksheet!K48,Type!C$1:E$13,3,FALSE),3))=FALSE,RIGHT(VLOOKUP(Worksheet!K48,Type!C$1:E$13,3,FALSE),3),\"\"))","v":""},{"$f":"IF(Worksheet!M48=\"\",\"\",Worksheet!M48)","v":""},{"$f":"IF(Worksheet!N48=\"\",\"\",Worksheet!N48)","v":""},{"$f":"IF(Worksheet!Y48=0,\"\",Worksheet!Y48)","v":""},"Watts",null,null,{"$f":"Worksheet!AA48","v":0},{"$f":"IF(ISBLANK(Worksheet!V48)=FALSE,Worksheet!V48,\"\")","v":0},{"$f":"Worksheet!AG48","v":0},{"$f":"Worksheet!AF48","v":0},0,{"$f":"IF(ISERROR(SEARCH(\"Gas\",Worksheet!$A$18))=TRUE,0,Worksheet!AH48)","v":0},0,null,null,{"$f":"IF(OR(Worksheet!F48=\"Incandescent\",Worksheet!F48=\"Halogen Incandescent\")=TRUE,118,IF(LEFT(Worksheet!F48,3)=\"HID\",117,IF(OR(RIGHT(Worksheet!F48,3)=\"T12\",RIGHT(Worksheet!F48,5)=\"T12HO\")=TRUE,115,IF(OR(RIGHT(Worksheet!F48,2)=\"T8\",RIGHT(Worksheet!F48,4)=\"RWT8\",RIGHT(Worksheet!F48,4)=\"T8HO\")=TRUE,115,\"\"))))","v":""},{"$f":"IF(ISBLANK(Worksheet!W48)=FALSE,Worksheet!W48,\"\")","v":0},{"$f":"IF(ISERROR(SEARCH(\"Oil\",Worksheet!$A$18))=TRUE,0,Worksheet!AH48)","v":0},0,{"$f":"IF(ISERROR(SEARCH(\"Propane\",Worksheet!$A$18))=TRUE,0,Worksheet!AH48)","v":0},0,{"$f":"IF(Worksheet!J48=0,\"\",Worksheet!J48)","v":""},{"$f":"IF(Worksheet!B48=0,\"\",Worksheet!B48)","v":""},{"$f":"IF(Worksheet!K48=0,\"\",Worksheet!K48)","v":""},{"$f":"IF(Worksheet!L48=0,\"\",Worksheet!L48)","v":""},{"$f":"IF(Worksheet!R48=0,\"\",Worksheet!R48)","v":""},{"$f":"IF(Worksheet!F48=0,\"\",Worksheet!F48)","v":""},{"$f":"IF(Worksheet!G48=0,\"\",Worksheet!G48)","v":""},{"$f":"IF(Worksheet!X48=0,\"\",Worksheet!X48)","v":""},{"$f":"IF(Worksheet!Q48=0,\"\",Worksheet!Q48)","v":""},{"$f":"IF(Worksheet!C48=0,\"\",Worksheet!C48)","v":""},{"$f":"IF(Worksheet!D48=0,\"\",Worksheet!D48)","v":""},{"$f":"IF(Worksheet!$A$11=TRUE,\"Y\",\"N\")","v":"N"},{"$f":"IF(Worksheet!$A$12=TRUE,\"Y\",\"N\")","v":"N"},{"$f":"IF(Worksheet!$B$11=TRUE,\"Y\",\"N\")","v":"N"},{"$f":"IF(Worksheet!$B$12=TRUE,\"Y\",\"N\")","v":"N"},{"$f":"IF(Worksheet!$C$11=TRUE,\"Y\",\"N\")","v":"N"},{"$f":"IFERROR(Worksheet!AB48,\"\")","v":0}]
[{"$f":"IF(IFERROR(SEARCH(\"Refrigerated\",Worksheet!L49,1),0)>0,122,IF(ISERROR(RIGHT(VLOOKUP(Worksheet!K49,Type!C$1:E$13,3,FALSE),3))=FALSE,RIGHT(VLOOKUP(Worksheet!K49,Type!C$1:E$13,3,FALSE),3),\"\"))","v":""},{"$f":"IF(Worksheet!M49=\"\",\"\",Worksheet!M49)","v":""},{"$f":"IF(Worksheet!N49=\"\",\"\",Worksheet!N49)","v":""},{"$f":"IF(Worksheet!Y49=0,\"\",Worksheet!Y49)","v":""},"Watts",null,null,{"$f":"Worksheet!AA49","v":0},{"$f":"IF(ISBLANK(Worksheet!V49)=FALSE,Worksheet!V49,\"\")","v":0},{"$f":"Worksheet!AG49","v":0},{"$f":"Worksheet!AF49","v":0},0,{"$f":"IF(ISERROR(SEARCH(\"Gas\",Worksheet!$A$18))=TRUE,0,Worksheet!AH49)","v":0},0,null,null,{"$f":"IF(OR(Worksheet!F49=\"Incandescent\",Worksheet!F49=\"Halogen Incandescent\")=TRUE,118,IF(LEFT(Worksheet!F49,3)=\"HID\",117,IF(OR(RIGHT(Worksheet!F49,3)=\"T12\",RIGHT(Worksheet!F49,5)=\"T12HO\")=TRUE,115,IF(OR(RIGHT(Worksheet!F49,2)=\"T8\",RIGHT(Worksheet!F49,4)=\"RWT8\",RIGHT(Worksheet!F49,4)=\"T8HO\")=TRUE,115,\"\"))))","v":""},{"$f":"IF(ISBLANK(Worksheet!W49)=FALSE,Worksheet!W49,\"\")","v":0},{"$f":"IF(ISERROR(SEARCH(\"Oil\",Worksheet!$A$18))=TRUE,0,Worksheet!AH49)","v":0},0,{"$f":"IF(ISERROR(SEARCH(\"Propane\",Worksheet!$A$18))=TRUE,0,Worksheet!AH49)","v":0},0,{"$f":"IF(Worksheet!J49=0,\"\",Worksheet!J49)","v":""},{"$f":"IF(Worksheet!B49=0,\"\",Worksheet!B49)","v":""},{"$f":"IF(Worksheet!K49=0,\"\",Worksheet!K49)","v":""},{"$f":"IF(Worksheet!L49=0,\"\",Worksheet!L49)","v":""},{"$f":"IF(Worksheet!R49=0,\"\",Worksheet!R49)","v":""},{"$f":"IF(Worksheet!F49=0,\"\",Worksheet!F49)","v":""},{"$f":"IF(Worksheet!G49=0,\"\",Worksheet!G49)","v":""},{"$f":"IF(Worksheet!X49=0,\"\",Worksheet!X49)","v":""},{"$f":"IF(Worksheet!Q49=0,\"\",Worksheet!Q49)","v":""},{"$f":"IF(Worksheet!C49=0,\"\",Worksheet!C49)","v":""},{"$f":"IF(Worksheet!D49=0,\"\",Worksheet!D49)","v":""},{"$f":"IF(Worksheet!$A$11=TRUE,\"Y\",\"N\")","v":"N"},{"$f":"IF(Worksheet!$A$12=TRUE,\"Y\",\"N\")","v":"N"},{"$f":"IF(Worksheet!$B$11=TRUE,\"Y\",\"N\")","v":"N"},{"$f":"IF(Worksheet!$B$12=TRUE,\"Y\",\"N\")","v":"N"},{"$f":"IF(Worksheet!$C$11=TRUE,\"Y\",\"N\")","v":"N"},{"$f":"IFERROR(Worksheet!AB49,\"\")","v":0}]
[{"$f":"IF(IFERROR(SEARCH(\"Refrigerated\",Worksheet!L50,1),0)>0,122,IF(ISERROR(RIGHT(VLOOKUP(Worksheet!K50,Type!C$1:E$13,3,FALSE),3))=FALSE,RIGHT(VLOOKUP(Worksheet!K50,Type!C$1:E$13,3,FALSE),3),\"\"))","v":""},{"$f":"IF(Worksheet!M50=\"\",\"\",Worksheet!M50)","v":""},{"$f":"IF(Worksheet!N50=\"\",\"\",Worksheet!N50)","v":""},{"$f":"IF(Worksheet!Y50=0,\"\",Worksheet!Y50)","v":""},"Watts",null,null,{"$f":"Worksheet!AA50","v":0},{"$f":"IF(ISBLANK(Worksheet!V50)=FALSE,Worksheet!V50,\"\")","v":0},{"$f":"Worksheet!AG50","v":0},{"$f":"Worksheet!AF50","v":0},0,{"$f":"IF(ISERROR(SEARCH(\"Gas\",Worksheet!$A$18))=TRUE,0,Worksheet!AH50)","v":0},0,null,null,{"$f":"IF(OR(Worksheet!F50=\"Incandescent\",Worksheet!F50=\"Halogen Incandescent\")=TRUE,118,IF(LEFT(Worksheet!F50,3)=\"HID\",117,IF(OR(RIGHT(Worksheet!F50,3)=\"T12\",RIGHT(Worksheet!F50,5)=\"T12HO\")=TRUE,115,IF(OR(RIGHT(Worksheet!F50,2)=\"T8\",RIGHT(Worksheet!F50,4)=\"RWT8\",RIGHT(Worksheet!F50,4)=\"T8HO\")=TRUE,115,\"\"))))","v":""},{"$f":"IF(ISBLANK(Worksheet!W50)=FALSE,Worksheet!W50,\"\")","v":0},{"$f":"IF(ISERROR(SEARCH(\"Oil\",Worksheet!$A$18))=TRUE,0,Worksheet!AH50)","v":0},0,{"$f":"IF(ISERROR(SEARCH(\"Propane\",Worksheet!$A$18))=TRUE,0,Worksheet!AH50)","v":0},0,{"$f":"IF(Worksheet!J50=0,\"\",Worksheet!J50)","v":""},{"$f":"IF(Worksheet!B50=0,\"\",Worksheet!B50)","v":""},{"$f":"IF(Worksheet!K50=0,\"\",Worksheet!K50)","v":""},{"$f":"IF(Worksheet!L50=0,\"\",Worksheet!L50)","v":""},{"$f":"IF(Worksheet!R50=0,\"\",Worksheet!R50)","v":""},{"$f":"IF(Worksheet!F50=0,\"\",Worksheet!F50)","v":""},{"$f":"IF(Worksheet!G50=0,\"\",Worksheet!G50)","v":""},{"$f":"IF(Worksheet!X50=0,\"\",Worksheet!X50)","v":""},{"$f":"IF(Worksheet!Q50=0,\"\",Worksheet!Q50)","v":""},{"$f":"IF(Worksheet!C50=0,\"\",Worksheet!C50)","v":""},{"$f":"IF(Worksheet!D50=0,\"\",Worksheet!D50)","v":""},{"$f":"IF(Worksheet!$A$11=TRUE,\"Y\",\"N\")","v":"N"},{"$f":"IF(Worksheet!$A$12=TRUE,\"Y\",\"N\")","v":"N"},{"$f":"IF(Worksheet!$B$11=TRUE,\"Y\",\"N\")","v":"N"},{"$f":"IF(Worksheet!$B$12=TRUE,\"Y\",\"N\")","v":"N"},{"$f":"IF(Worksheet!$C$11=TRUE,\"Y\",\"N\")","v":"N"},{"$f":"IFERROR(Worksheet!AB50,\"\")","v":0}]
[{"$f":"IF(IFERROR(SEARCH(\"Refrigerated\",Worksheet!L51,1),0)>0,122,IF(ISERROR(RIGHT(VLOOKUP(Worksheet!K51,Type!C$1:E$13,3,FALSE),3))=FALSE,RIGHT(VLOOKUP(Worksheet!K51,Type!C$1:E$13,3,FALSE),3),\"\"))","v":""},{"$f":"IF(Worksheet!M51=\"\",\"\",Worksheet!M51)","v":""},{"$f":"IF(Worksheet!N51=\"\",\"\",Worksheet!N51)","v":""},{"$f":"IF(Worksheet!Y51=0,\"\",Worksheet!Y51)","v":""},"Watts",null,null,{"$f":"Worksheet!AA51","v":0},{"$f":"IF(ISBLANK(Worksheet!V51)=FALSE,Worksheet!V51,\"\")","v":0},{"$f":"Worksheet!AG51","v":0},{"$f":"Worksheet!AF51","v":0},0,{"$f":"IF(ISERROR(SEARCH(\"Gas\",Worksheet!$A$18))=TRUE,0,Worksheet!AH51)","v":0},0,null,null,{"$f":"IF(OR(Worksheet!F51=\"Incandescent\",Worksheet!F51=\"Halogen Incandescent\")=TRUE,118,IF(LEFT(Worksheet!F51,3)=\"HID\",117,IF(OR(RIGHT(Worksheet!F51,3)=\"T12\",RIGHT(Worksheet!F51,5)=\"T12HO\")=TRUE,115,IF(OR(RIGHT(Worksheet!F51,2)=\"T8\",RIGHT(Worksheet!F51,4)=\"RWT8\",RIGHT(Worksheet!F51,4)=\"T8HO\")=TRUE,115,\"\"))))","v":""},{"$f":"IF(ISBLANK(Worksheet!W51)=FALSE,Worksheet!W51,\"\")","v":0},{"$f":"IF(ISERROR(SEARCH(\"Oil\",Worksheet!$A$18))=TRUE,0,Worksheet!AH51)","v":0},0,{"$f":"IF(ISERROR(SEARCH(\"Propane\",Worksheet!$A$18))=TRUE,0,Worksheet!AH51)","v":0},0,{"$f":"IF(Worksheet!J51=0,\"\",Worksheet!J51)","v":""},{"$f":"IF(Worksheet!B51=0,\"\",Worksheet!B51)","v":""},{"$f":"IF(Worksheet!K51=0,\"\",Worksheet!K51)","v":""},{"$f":"IF(Worksheet!L51=0,\"\",Worksheet!L51)","v":""},{"$f":"IF(Worksheet!R51=0,\"\",Worksheet!R51)","v":""},{"$f":"IF(Worksheet!F51=0,\"\",Worksheet!F51)","v":""},{"$f":"IF(Worksheet!G51=0,\"\",Worksheet!G51)","v":""},{"$f":"IF(Worksheet!X51=0,\"\",Worksheet!X51)","v":""},{"$f":"IF(Worksheet!Q51=0,\"\",Worksheet!Q51)","v":""},{"$f":"IF(Worksheet!C51=0,\"\",Worksheet!C51)","v":""},{"$f":"IF(Worksheet!D51=0,\"\",Worksheet!D51)","v":""},{"$f":"IF(Worksheet!$A$11=TRUE,\"Y\",\"N\")","v":"N"},{"$f":"IF(Worksheet!$A$12=TRUE,\"Y\",\"N\")","v":"N"},{"$f":"IF(Worksheet!$B$11=TRUE,\"Y\",\"N\")","v":"N"},{"$f":"IF(Worksheet!$B$12=TRUE,\"Y\",\"N\")","v":"N"},{"$f":"IF(Worksheet!$C$11=TRUE,\"Y\",\"N\")","v":"N"},{"$f":"IFERROR(Worksheet!AB51,\"\")","v":0}]
[{"$f":"IF(IFERROR(SEARCH(\"Refrigerated\",Worksheet!L52,1),0)>0,122,IF(ISERROR(RIGHT(VLOOKUP(Worksheet!K52,Type!C$1:E$13,3,FALSE),3))=FALSE,RIGHT(VLOOKUP(Worksheet!K52,Type!C$1:E$13,3,FALSE),3),\"\"))","v":""},{"$f":"IF(Worksheet!M52=\"\",\"\",Worksheet!M52)","v":""},{"$f":"IF(Worksheet!N52=\"\",\"\",Worksheet!N52)","v":""},{"$f":"IF(Worksheet!Y52=0,\"\",Worksheet!Y52)","v":""},"Watts",null,null,{"$f":"Worksheet!AA52","v":0},{"$f":"IF(ISBLANK(Worksheet!V52)=FALSE,Worksheet!V52,\"\")","v":0},{"$f":"Worksheet!AG52","v":0},{"$f":"Worksheet!AF52","v":0},0,{"$f":"IF(ISERROR(SEARCH(\"Gas\",Worksheet!$A$18))=TRUE,0,Worksheet!AH52)","v":0},0,null,null,{"$f":"IF(OR(Worksheet!F52=\"Incandescent\",Worksheet!F52=\"Halogen Incandescent\")=TRUE,118,IF(LEFT(Worksheet!F52,3)=\"HID\",117,IF(OR(RIGHT(Worksheet!F52,3)=\"T12\",RIGHT(Worksheet!F52,5)=\"T12HO\")=TRUE,115,IF(OR(RIGHT(Worksheet!F52,2)=\"T8\",RIGHT(Worksheet!F52,4)=\"RWT8\",RIGHT(Worksheet!F52,4)=\"T8HO\")=TRUE,115,\"\"))))","v":""},{"$f":"IF(ISBLANK(Worksheet!W52)=FALSE,Worksheet!W52,\"\")","v":0},{"$f":"IF(ISERROR(SEARCH(\"Oil\",Worksheet!$A$18))=TRUE,0,Worksheet!AH52)","v":0},0,{"$f":"IF(ISERROR(SEARCH(\"Propane\",Worksheet!$A$18))=TRUE,0,Worksheet!AH52)","v":0},0,{"$f":"IF(Worksheet!J52=0,\"\",Worksheet!J52)","v":""},{"$f":"IF(Worksheet!B52=0,\"\",Worksheet!B52)","v":""},{"$f":"IF(Worksheet!K52=0,\"\",Worksheet!K52)","v":""},{"$f":"IF(Worksheet!L52=0,\"\",Worksheet!L52)","v":""},{"$f":"IF(Worksheet!R52=0,\"\",Worksheet!R52)","v":""},{"$f":"IF(Worksheet!F52=0,\"\",Worksheet!F52)","v":""},{"$f":"IF(Worksheet!G52=0,\"\",Worksheet!G52)","v":""},{"$f":"IF(Worksheet!X52=0,\"\",Worksheet!X52)","v":""},{"$f":"IF(Worksheet!Q52=0,\"\",Worksheet!Q52)","v":""},{"$f":"IF(Worksheet!C52=0,\"\",Worksheet!C52)","v":""},{"$f":"IF(Worksheet!D52=0,\"\",Worksheet!D52)","v":""},{"$f":"IF(Worksheet!$A$11=TRUE,\"Y\",\"N\")","v":"N"},{"$f":"IF(Worksheet!$A$12=TRUE,\"Y\",\"N\")","v":"N"},{"$f":"IF(Worksheet!$B$11=TRUE,\"Y\",\"N\")","v":"N"},{"$f":"IF(Worksheet!$B$12=TRUE,\"Y\",\"N\")","v":"N"},{"$f":"IF(Worksheet!$C$11=TRUE,\"Y\",\"N\")","v":"N"},{"$f":"IFERROR(Worksheet!AB52,\"\")","v":0}]
[{"$f":"IF(IFERROR(SEARCH(\"Refrigerated\",Worksheet!L53,1),0)>0,122,IF(ISERROR(RIGHT(VLOOKUP(Worksheet!K53,Type!C$1:E$13,3,FALSE),3))=FALSE,RIGHT(VLOOKUP(Worksheet!K53,Type!C$1:E$13,3,FALSE),3),\"\"))","v":""},{"$f":"IF(Worksheet!M53=\"\",\"\",Worksheet!M53)","v":""},{"$f":"IF(Worksheet!N53=\"\",\"\",Worksheet!N53)","v":""},{"$f":"IF(Worksheet!Y53=0,\"\",Worksheet!Y53)","v":""},"Watts",null,null,{"$f":"Worksheet!AA53","v":0},{"$f":"IF(ISBLANK(Worksheet!V53)=FALSE,Worksheet!V53,\"\")","v":0},{"$f":"Worksheet!AG53","v":0},{"$f":"Worksheet!AF53","v":0},0,{"$f":"IF(ISERROR(SEARCH(\"Gas\",Worksheet!$A$18))=TRUE,0,Worksheet!AH53)","v":0},0,null,null,{"$f":"IF(OR(Worksheet!F53=\"Incandescent\",Worksheet!F53=\"Halogen Incandescent\")=TRUE,118,IF(LEFT(Worksheet!F53,3)=\"HID\",117,IF(OR(RIGHT(Worksheet!F53,3)=\"T12\",RIGHT(Worksheet!F53,5)=\"T12HO\")=TRUE,115,IF(OR(RIGHT(Worksheet!F53,2)=\"T8\",RIGHT(Worksheet!F53,4)=\"RWT8\",RIGHT(Worksheet!F53,4)=\"T8HO\")=TRUE,115,\"\"))))","v":""},{"$f":"IF(ISBLANK(Worksheet!W53)=FALSE,Worksheet!W53,\"\")","v":0},{"$f":"IF(ISERROR(SEARCH(\"Oil\",Worksheet!$A$18))=TRUE,0,Worksheet!AH53)","v":0},0,{"$f":"IF(ISERROR(SEARCH(\"Propane\",Worksheet!$A$18))=TRUE,0,Worksheet!AH53)","v":0},0,{"$f":"IF(Worksheet!J53=0,\"\",Worksheet!J53)","v":""},{"$f":"IF(Worksheet!B53=0,\"\",Worksheet!B53)","v":""},{"$f":"IF(Worksheet!K53=0,\"\",Worksheet!K53)","v":""},{"$f":"IF(Worksheet!L53=0,\"\",Worksheet!L53)","v":""},{"$f":"IF(Worksheet!R53=0,\"\",Worksheet!R53)","v":""},{"$f":"IF(Worksheet!F53=0,\"\",Worksheet!F53)","v":""},{"$f":"IF(Worksheet!G53=0,\"\",Worksheet!G53)","v":""},{"$f":"IF(Worksheet!X53=0,\"\",Worksheet!X53)","v":""},{"$f":"IF(Worksheet!Q53=0,\"\",Worksheet!Q53)","v":""},{"$f":"IF(Worksheet!C53=0,\"\",Worksheet!C53)","v":""},{"$f":"IF(Worksheet!D53=0,\"\",Worksheet!D53)","v":""},{"$f":"IF(Worksheet!$A$11=TRUE,\"Y\",\"N\")","v":"N"},{"$f":"IF(Worksheet!$A$12=TRUE,\"Y\",\"N\")","v":"N"},{"$f":"IF(Worksheet!$B$11=TRUE,\"Y\",\"N\")","v":"N"},{"$f":"IF(Worksheet!$B$12=TRUE,\"Y\",\"N\")","v":"N"},{"$f":"IF(Worksheet!$C$11=TRUE,\"Y\",\"N\")","v":"N"},{"$f":"IFERROR(Worksheet!AB53,\"\")","v":0}]
[{"$f":"IF(IFERROR(SEARCH(\"Refrigerated\",Worksheet!L54,1),0)>0,122,IF(ISERROR(RIGHT(VLOOKUP(Worksheet!K54,Type!C$1:E$13,3,FALSE),3))=FALSE,RIGHT(VLOOKUP(Worksheet!K54,Type!C$1:E$13,3,FALSE),3),\"\"))","v":""},{"$f":"IF(Worksheet!M54=\"\",\"\",Worksheet!M54)","v":""},{"$f":"IF(Worksheet!N54=\"\",\"\",Worksheet!N54)","v":""},{"$f":"IF(Worksheet!Y54=0,\"\",Worksheet!Y54)","v":""},"Watts",null,null,{"$f":"Worksheet!AA54","v":0},{"$f":"IF(ISBLANK(Worksheet!V54)=FALSE,Worksheet!V54,\"\")","v":0},{"$f":"Worksheet!AG54","v":0},{"$f":"Worksheet!AF54","v":0},0,{"$f":"IF(ISERROR(SEARCH(\"Gas\",Worksheet!$A$18))=TRUE,0,Worksheet!AH54)","v":0},0,null,null,{"$f":"IF(OR(Worksheet!F54=\"Incandescent\",Worksheet!F54=\"Halogen Incandescent\")=TRUE,118,IF(LEFT(Worksheet!F54,3)=\"HID\",117,IF(OR(RIGHT(Worksheet!F54,3)=\"T12\",RIGHT(Worksheet!F54,5)=\"T12HO\")=TRUE,115,IF(OR(RIGHT(Worksheet!F54,2)=\"T8\",RIGHT(Worksheet!F54,4)=\"RWT8\",RIGHT(Worksheet!F54,4)=\"T8HO\")=TRUE,115,\"\"))))","v":""},{"$f":"IF(ISBLANK(Worksheet!W54)=FALSE,Worksheet!W54,\"\")","v":0},{"$f":"IF(ISERROR(SEARCH(\"Oil\",Worksheet!$A$18))=TRUE,0,Worksheet!AH54)","v":0},0,{"$f":"IF(ISERROR(SEARCH(\"Propane\",Worksheet!$A$18))=TRUE,0,Worksheet!AH54)","v":0},0,{"$f":"IF(Worksheet!J54=0,\"\",Worksheet!J54)","v":""},{"$f":"IF(Worksheet!B54=0,\"\",Worksheet!B54)","v":""},{"$f":"IF(Worksheet!K54=0,\"\",Worksheet!K54)","v":""},{"$f":"IF(Worksheet!L54=0,\"\",Worksheet!L54)","v":""},{"$f":"IF(Worksheet!R54=0,\"\",Worksheet!R54)","v":""},{"$f":"IF(Worksheet!F54=0,\"\",Worksheet!F54)","v":""},{"$f":"IF(Worksheet!G54=0,\"\",Worksheet!G54)","v":""},{"$f":"IF(Worksheet!X54=0,\"\",Worksheet!X54)","v":""},{"$f":"IF(Worksheet!Q54=0,\"\",Worksheet!Q54)","v":""},{"$f":"IF(Worksheet!C54=0,\"\",Worksheet!C54)","v":""},{"$f":"IF(Worksheet!D54=0,\"\",Worksheet!D54)","v":""},{"$f":"IF(Worksheet!$A$11=TRUE,\"Y\",\"N\")","v":"N"},{"$f":"IF(Worksheet!$A$12=TRUE,\"Y\",\"N\")","v":"N"},{"$f":"IF(Worksheet!$B$11=TRUE,\"Y\",\"N\")","v":"N"},{"$f":"IF(Worksheet!$B$12=TRUE,\"Y\",\"N\")","v":"N"},{"$f":"IF(Worksheet!$C$11=TRUE,\"Y\",\"N\")","v":"N"},{"$f":"IFERROR(Worksheet!AB54,\"\")","v":0}]
[{"$f":"IF(IFERROR(SEARCH(\"Refrigerated\",Worksheet!L55,1),0)>0,122,IF(ISERROR(RIGHT(VLOOKUP(Worksheet!K55,Type!C$1:E$13,3,FALSE),3))=FALSE,RIGHT(VLOOKUP(Worksheet!K55,Type!C$1:E$13,3,FALSE),3),\"\"))","v":""},{"$f":"IF(Worksheet!M55=\"\",\"\",Worksheet!M55)","v":""},{"$f":"IF(Worksheet!N55=\"\",\"\",Worksheet!N55)","v":""},{"$f":"IF(Worksheet!Y55=0,\"\",Worksheet!Y55)","v":""},"Watts",null,null,{"$f":"Worksheet!AA55","v":0},{"$f":"IF(ISBLANK(Worksheet!V55)=FALSE,Worksheet!V55,\"\")","v":0},{"$f":"Worksheet!AG55","v":0},{"$f":"Worksheet!AF55","v":0},0,{"$f":"IF(ISERROR(SEARCH(\"Gas\",Worksheet!$A$18))=TRUE,0,Worksheet!AH55)","v":0},0,null,null,{"$f":"IF(OR(Worksheet!F55=\"Incandescent\",Worksheet!F55=\"Halogen Incandescent\")=TRUE,118,IF(LEFT(Worksheet!F55,3)=\"HID\",117,IF(OR(RIGHT(Worksheet!F55,3)=\"T12\",RIGHT(Worksheet!F55,5)=\"T12HO\")=TRUE,115,IF(OR(RIGHT(Worksheet!F55,2)=\"T8\",RIGHT(Worksheet!F55,4)=\"RWT8\",RIGHT(Worksheet!F55,4)=\"T8HO\")=TRUE,115,\"\"))))","v":""},{"$f":"IF(ISBLANK(Worksheet!W55)=FALSE,Worksheet!W55,\"\")","v":0},{"$f":"IF(ISERROR(SEARCH(\"Oil\",Worksheet!$A$18))=TRUE,0,Worksheet!AH55)","v":0},0,{"$f":"IF(ISERROR(SEARCH(\"Propane\",Worksheet!$A$18))=TRUE,0,Worksheet!AH55)","v":0},0,{"$f":"IF(Worksheet!J55=0,\"\",Worksheet!J55)","v":""},{"$f":"IF(Worksheet!B55=0,\"\",Worksheet!B55)","v":""},{"$f":"IF(Worksheet!K55=0,\"\",Worksheet!K55)","v":""},{"$f":"IF(Worksheet!L55=0,\"\",Worksheet!L55)","v":""},{"$f":"IF(Worksheet!R55=0,\"\",Worksheet!R55)","v":""},{"$f":"IF(Worksheet!F55=0,\"\",Worksheet!F55)","v":""},{"$f":"IF(Worksheet!G55=0,\"\",Worksheet!G55)","v":""},{"$f":"IF(Worksheet!X55=0,\"\",Worksheet!X55)","v":""},{"$f":"IF(Worksheet!Q55=0,\"\",Worksheet!Q55)","v":""},{"$f":"IF(Worksheet!C55=0,\"\",Worksheet!C55)","v":""},{"$f":"IF(Worksheet!D55=0,\"\",Worksheet!D55)","v":""},{"$f":"IF(Worksheet!$A$11=TRUE,\"Y\",\"N\")","v":"N"},{"$f":"IF(Worksheet!$A$12=TRUE,\"Y\",\"N\")","v":"N"},{"$f":"IF(Worksheet!$B$11=TRUE,\"Y\",\"N\")","v":"N"},{"$f":"IF(Worksheet!$B$12=TRUE,\"Y\",\"N\")","v":"N"},{"$f":"IF(Worksheet!$C$11=TRUE,\"Y\",\"N\")","v":"N"},{"$f":"IFERROR(Worksheet!AB55,\"\")","v":0}]
[{"$f":"IF(IFERROR(SEARCH(\"Refrigerated\",Worksheet!L56,1),0)>0,122,IF(ISERROR(RIGHT(VLOOKUP(Worksheet!K56,Type!C$1:E$13,3,FALSE),3))=FALSE,RIGHT(VLOOKUP(Worksheet!K56,Type!C$1:E$13,3,FALSE),3),\"\"))","v":""},{"$f":"IF(Worksheet!M56=\"\",\"\",Worksheet!M56)","v":""},{"$f":"IF(Worksheet!N56=\"\",\"\",Worksheet!N56)","v":""},{"$f":"IF(Worksheet!Y56=0,\"\",Worksheet!Y56)","v":""},"Watts",null,null,{"$f":"Worksheet!AA56","v":0},{"$f":"IF(ISBLANK(Worksheet!V56)=FALSE,Worksheet!V56,\"\")","v":0},{"$f":"Worksheet!AG56","v":0},{"$f":"Worksheet!AF56","v":0},0,{"$f":"IF(ISERROR(SEARCH(\"Gas\",Worksheet!$A$18))=TRUE,0,Worksheet!AH56)","v":0},0,null,null,{"$f":"IF(OR(Worksheet!F56=\"Incandescent\",Worksheet!F56=\"Halogen Incandescent\")=TRUE,118,IF(LEFT(Worksheet!F56,3)=\"HID\",117,IF(OR(RIGHT(Worksheet!F56,3)=\"T12\",RIGHT(Worksheet!F56,5)=\"T12HO\")=TRUE,115,IF(OR(RIGHT(Worksheet!F56,2)=\"T8\",RIGHT(Worksheet!F56,4)=\"RWT8\",RIGHT(Worksheet!F56,4)=\"T8HO\")=TRUE,115,\"\"))))","v":""},{"$f":"IF(ISBLANK(Worksheet!W56)=FALSE,Worksheet!W56,\"\")","v":0},{"$f":"IF(ISERROR(SEARCH(\"Oil\",Worksheet!$A$18))=TRUE,0,Worksheet!AH56)","v":0},0,{"$f":"IF(ISERROR(SEARCH(\"Propane\",Worksheet!$A$18))=TRUE,0,Worksheet!AH56)","v":0},0,{"$f":"IF(Worksheet!J56=0,\"\",Worksheet!J56)","v":""},{"$f":"IF(Worksheet!B56=0,\"\",Worksheet!B56)","v":""},{"$f":"IF(Worksheet!K56=0,\"\",Worksheet!K56)","v":""},{"$f":"IF(Worksheet!L56=0,\"\",Worksheet!L56)","v":""},{"$f":"IF(Worksheet!R56=0,\"\",Worksheet!R56)","v":""},{"$f":"IF(Worksheet!F56=0,\"\",Worksheet!F56)","v":""},{"$f":"IF(Worksheet!G56=0,\"\",Worksheet!G56)","v":""},{"$f":"IF(Worksheet!X56=0,\"\",Worksheet!X56)","v":""},{"$f":"IF(Worksheet!Q56=0,\"\",Worksheet!Q56)","v":""},{"$f":"IF(Worksheet!C56=0,\"\",Worksheet!C56)","v":""},{"$f":"IF(Worksheet!D56=0,\"\",Worksheet!D56)","v":""},{"$f":"IF(Worksheet!$A$11=TRUE,\"Y\",\"N\")","v":"N"},{"$f":"IF(Worksheet!$A$12=TRUE,\"Y\",\"N\")","v":"N"},{"$f":"IF(Worksheet!$B$11=TRUE,\"Y\",\"N\")","v":"N"},{"$f":"IF(Worksheet!$B$12=TRUE,\"Y\",\"N\")","v":"N"},{"$f":"IF(Worksheet!$C$11=TRUE,\"Y\",\"N\")","v":"N"},{"$f":"IFERROR(Worksheet!AB56,\"\")","v":0}]
[{"$f":"IF(IFERROR(SEARCH(\"Refrigerated\",Worksheet!L57,1),0)>0,122,IF(ISERROR(RIGHT(VLOOKUP(Worksheet!K57,Type!C$1:E$13,3,FALSE),3))=FALSE,RIGHT(VLOOKUP(Worksheet!K57,Type!C$1:E$13,3,FALSE),3),\"\"))","v":""},{"$f":"IF(Worksheet!M57=\"\",\"\",Worksheet!M57)","v":""},{"$f":"IF(Worksheet!N57=\"\",\"\",Worksheet!N57)","v":""},{"$f":"IF(Worksheet!Y57=0,\"\",Worksheet!Y57)","v":""},"Watts",null,null,{"$f":"Worksheet!AA57","v":0},{"$f":"IF(ISBLANK(Worksheet!V57)=FALSE,Worksheet!V57,\"\")","v":0},{"$f":"Worksheet!AG57","v":0},{"$f":"Worksheet!AF57","v":0},0,{"$f":"IF(ISERROR(SEARCH(\"Gas\",Worksheet!$A$18))=TRUE,0,Worksheet!AH57)","v":0},0,null,null,{"$f":"IF(OR(Worksheet!F57=\"Incandescent\",Worksheet!F57=\"Halogen Incandescent\")=TRUE,118,IF(LEFT(Worksheet!F57,3)=\"HID\",117,IF(OR(RIGHT(Worksheet!F57,3)=\"T12\",RIGHT(Worksheet!F57,5)=\"T12HO\")=TRUE,115,IF(OR(RIGHT(Worksheet!F57,2)=\"T8\",RIGHT(Worksheet!F57,4)=\"RWT8\",RIGHT(Worksheet!F57,4)=\"T8HO\")=TRUE,115,\"\"))))","v":""},{"$f":"IF(ISBLANK(Worksheet!W57)=FALSE,Worksheet!W57,\"\")","v":0},{"$f":"IF(ISERROR(SEARCH(\"Oil\",Worksheet!$A$18))=TRUE,0,Worksheet!AH57)","v":0},0,{"$f":"IF(ISERROR(SEARCH(\"Propane\",Worksheet!$A$18))=TRUE,0,Worksheet!AH57)","v":0},0,{"$f":"IF(Worksheet!J57=0,\"\",Worksheet!J57)","v":""},{"$f":"IF(Worksheet!B57=0,\"\",Worksheet!B57)","v":""},{"$f":"IF(Worksheet!K57=0,\"\",Worksheet!K57)","v":""},{"$f":"IF(Worksheet!L57=0,\"\",Worksheet!L57)","v":""},{"$f":"IF(Worksheet!R57=0,\"\",Worksheet!R57)","v":""},{"$f":"IF(Worksheet!F57=0,\"\",Worksheet!F57)","v":""},{"$f":"IF(Worksheet!G57=0,\"\",Worksheet!G57)","v":""},{"$f":"IF(Worksheet!X57=0,\"\",Worksheet!X57)","v":""},{"$f":"IF(Worksheet!Q57=0,\"\",Worksheet!Q57)","v":""},{"$f":"IF(Worksheet!C57=0,\"\",Worksheet!C57)","v":""},{"$f":"IF(Worksheet!D57=0,\"\",Worksheet!D57)","v":""},{"$f":"IF(Worksheet!$A$11=TRUE,\"Y\",\"N\")","v":"N"},{"$f":"IF(Worksheet!$A$12=TRUE,\"Y\",\"N\")","v":"N"},{"$f":"IF(Worksheet!$B$11=TRUE,\"Y\",\"N\")","v":"N"},{"$f":"IF(Worksheet!$B$12=TRUE,\"Y\",\"N\")","v":"N"},{"$f":"IF(Worksheet!$C$11=TRUE,\"Y\",\"N\")","v":"N"},{"$f":"IFERROR(Worksheet!AB57,\"\")","v":0}]
[{"$f":"IF(IFERROR(SEARCH(\"Refrigerated\",Worksheet!L58,1),0)>0,122,IF(ISERROR(RIGHT(VLOOKUP(Worksheet!K58,Type!C$1:E$13,3,FALSE),3))=FALSE,RIGHT(VLOOKUP(Worksheet!K58,Type!C$1:E$13,3,FALSE),3),\"\"))","v":""},{"$f":"IF(Worksheet!M58=\"\",\"\",Worksheet!M58)","v":""},{"$f":"IF(Worksheet!N58=\"\",\"\",Worksheet!N58)","v":""},{"$f":"IF(Worksheet!Y58=0,\"\",Worksheet!Y58)","v":""},"Watts",null,null,{"$f":"Worksheet!AA58","v":0},{"$f":"IF(ISBLANK(Worksheet!V58)=FALSE,Worksheet!V58,\"\")","v":0},{"$f":"Worksheet!AG58","v":0},{"$f":"Worksheet!AF58","v":0},0,{"$f":"IF(ISERROR(SEARCH(\"Gas\",Worksheet!$A$18))=TRUE,0,Worksheet!AH58)","v":0},0,null,null,{"$f":"IF(OR(Worksheet!F58=\"Incandescent\",Worksheet!F58=\"Halogen Incandescent\")=TRUE,118,IF(LEFT(Worksheet!F58,3)=\"HID\",117,IF(OR(RIGHT(Worksheet!F58,3)=\"T12\",RIGHT(Worksheet!F58,5)=\"T12HO\")=TRUE,115,IF(OR(RIGHT(Worksheet!F58,2)=\"T8\",RIGHT(Worksheet!F58,4)=\"RWT8\",RIGHT(Worksheet!F58,4)=\"T8HO\")=TRUE,115,\"\"))))","v":""},{"$f":"IF(ISBLANK(Worksheet!W58)=FALSE,Worksheet!W58,\"\")","v":0},{"$f":"IF(ISERROR(SEARCH(\"Oil\",Worksheet!$A$18))=TRUE,0,Worksheet!AH58)","v":0},0,{"$f":"IF(ISERROR(SEARCH(\"Propane\",Worksheet!$A$18))=TRUE,0,Worksheet!AH58)","v":0},0,{"$f":"IF(Worksheet!J58=0,\"\",Worksheet!J58)","v":""},{"$f":"IF(Worksheet!B58=0,\"\",Worksheet!B58)","v":""},{"$f":"IF(Worksheet!K58=0,\"\",Worksheet!K58)","v":""},{"$f":"IF(Worksheet!L58=0,\"\",Worksheet!L58)","v":""},{"$f":"IF(Worksheet!R58=0,\"\",Worksheet!R58)","v":""},{"$f":"IF(Worksheet!F58=0,\"\",Worksheet!F58)","v":""},{"$f":"IF(Worksheet!G58=0,\"\",Worksheet!G58)","v":""},{"$f":"IF(Worksheet!X58=0,\"\",Worksheet!X58)","v":""},{"$f":"IF(Worksheet!Q58=0,\"\",Worksheet!Q58)","v":""},{"$f":"IF(Worksheet!C58=0,\"\",Worksheet!C58)","v":""},{"$f":"IF(Worksheet!D58=0,\"\",Worksheet!D58)","v":""},{"$f":"IF(Worksheet!$A$11=TRUE,\"Y\",\"N\")","v":"N"},{"$f":"IF(Worksheet!$A$12=TRUE,\"Y\",\"N\")","v":"N"},{"$f":"IF(Worksheet!$B$11=TRUE,\"Y\",\"N\")","v":"N"},{"$f":"IF(Worksheet!$B$12=TRUE,\"Y\",\"N\")","v":"N"},{"$f":"IF(Worksheet!$C$11=TRUE,\"Y\",\"N\")","v":"N"},{"$f":"IFERROR(Worksheet!AB58,\"\")","v":0}]
[{"$f":"IF(IFERROR(SEARCH(\"Refrigerated\",Worksheet!L59,1),0)>0,122,IF(ISERROR(RIGHT(VLOOKUP(Worksheet!K59,Type!C$1:E$13,3,FALSE),3))=FALSE,RIGHT(VLOOKUP(Worksheet!K59,Type!C$1:E$13,3,FALSE),3),\"\"))","v":""},{"$f":"IF(Worksheet!M59=\"\",\"\",Worksheet!M59)","v":""},{"$f":"IF(Worksheet!N59=\"\",\"\",Worksheet!N59)","v":""},{"$f":"IF(Worksheet!Y59=0,\"\",Worksheet!Y59)","v":""},"Watts",null,null,{"$f":"Worksheet!AA59","v":0},{"$f":"IF(ISBLANK(Worksheet!V59)=FALSE,Worksheet!V59,\"\")","v":0},{"$f":"Worksheet!AG59","v":0},{"$f":"Worksheet!AF59","v":0},0,{"$f":"IF(ISERROR(SEARCH(\"Gas\",Worksheet!$A$18))=TRUE,0,Worksheet!AH59)","v":0},0,null,null,{"$f":"IF(OR(Worksheet!F59=\"Incandescent\",Worksheet!F59=\"Halogen Incandescent\")=TRUE,118,IF(LEFT(Worksheet!F59,3)=\"HID\",117,IF(OR(RIGHT(Worksheet!F59,3)=\"T12\",RIGHT(Worksheet!F59,5)=\"T12HO\")=TRUE,115,IF(OR(RIGHT(Worksheet!F59,2)=\"T8\",RIGHT(Worksheet!F59,4)=\"RWT8\",RIGHT(Worksheet!F59,4)=\"T8HO\")=TRUE,115,\"\"))))","v":""},{"$f":"IF(ISBLANK(Worksheet!W59)=FALSE,Worksheet!W59,\"\")","v":0},{"$f":"IF(ISERROR(SEARCH(\"Oil\",Worksheet!$A$18))=TRUE,0,Worksheet!AH59)","v":0},0,{"$f":"IF(ISERROR(SEARCH(\"Propane\",Worksheet!$A$18))=TRUE,0,Worksheet!AH59)","v":0},0,{"$f":"IF(Worksheet!J59=0,\"\",Worksheet!J59)","v":""},{"$f":"IF(Worksheet!B59=0,\"\",Worksheet!B59)","v":""},{"$f":"IF(Worksheet!K59=0,\"\",Worksheet!K59)","v":""},{"$f":"IF(Worksheet!L59=0,\"\",Worksheet!L59)","v":""},{"$f":"IF(Worksheet!R59=0,\"\",Worksheet!R59)","v":""},{"$f":"IF(Worksheet!F59=0,\"\",Worksheet!F59)","v":""},{"$f":"IF(Worksheet!G59=0,\"\",Worksheet!G59)","v":""},{"$f":"IF(Worksheet!X59=0,\"\",Worksheet!X59)","v":""},{"$f":"IF(Worksheet!Q59=0,\"\",Worksheet!Q59)","v":""},{"$f":"IF(Worksheet!C59=0,\"\",Worksheet!C59)","v":""},{"$f":"IF(Worksheet!D59=0,\"\",Worksheet!D59)","v":""},{"$f":"IF(Worksheet!$A$11=TRUE,\"Y\",\"N\")","v":"N"},{"$f":"IF(Worksheet!$A$12=TRUE,\"Y\",\"N\")","v":"N"},{"$f":"IF(Worksheet!$B$11=TRUE,\"Y\",\"N\")","v":"N"},{"$f":"IF(Worksheet!$B$12=TRUE,\"Y\",\"N\")","v":"N"},{"$f":"IF(Worksheet!$C$11=TRUE,\"Y\",\"N\")","v":"N"},{"$f":"IFERROR(Worksheet!AB59,\"\")","v":0}]
[{"$f":"IF(IFERROR(SEARCH(\"Refrigerated\",Worksheet!L60,1),0)>0,122,IF(ISERROR(RIGHT(VLOOKUP(Worksheet!K60,Type!C$1:E$13,3,FALSE),3))=FALSE,RIGHT(VLOOKUP(Worksheet!K60,Type!C$1:E$13,3,FALSE),3),\"\"))","v":""},{"$f":"IF(Worksheet!M60=\"\",\"\",Worksheet!M60)","v":""},{"$f":"IF(Worksheet!N60=\"\",\"\",Worksheet!N60)","v":""},{"$f":"IF(Worksheet!Y60=0,\"\",Worksheet!Y60)","v":""},"Watts",null,null,{"$f":"Worksheet!AA60","v":0},{"$f":"IF(ISBLANK(Worksheet!V60)=FALSE,Worksheet!V60,\"\")","v":0},{"$f":"Worksheet!AG60","v":0},{"$f":"Worksheet!AF60","v":0},0,{"$f":"IF(ISERROR(SEARCH(\"Gas\",Worksheet!$A$18))=TRUE,0,Worksheet!AH60)","v":0},0,null,null,{"$f":"IF(OR(Worksheet!F60=\"Incandescent\",Worksheet!F60=\"Halogen Incandescent\")=TRUE,118,IF(LEFT(Worksheet!F60,3)=\"HID\",117,IF(OR(RIGHT(Worksheet!F60,3)=\"T12\",RIGHT(Worksheet!F60,5)=\"T12HO\")=TRUE,115,IF(OR(RIGHT(Worksheet!F60,2)=\"T8\",RIGHT(Worksheet!F60,4)=\"RWT8\",RIGHT(Worksheet!F60,4)=\"T8HO\")=TRUE,115,\"\"))))","v":""},{"$f":"IF(ISBLANK(Worksheet!W60)=FALSE,Worksheet!W60,\"\")","v":0},{"$f":"IF(ISERROR(SEARCH(\"Oil\",Worksheet!$A$18))=TRUE,0,Worksheet!AH60)","v":0},0,{"$f":"IF(ISERROR(SEARCH(\"Propane\",Worksheet!$A$18))=TRUE,0,Worksheet!AH60)","v":0},0,{"$f":"IF(Worksheet!J60=0,\"\",Worksheet!J60)","v":""},{"$f":"IF(Worksheet!B60=0,\"\",Worksheet!B60)","v":""},{"$f":"IF(Worksheet!K60=0,\"\",Worksheet!K60)","v":""},{"$f":"IF(Worksheet!L60=0,\"\",Worksheet!L60)","v":""},{"$f":"IF(Worksheet!R60=0,\"\",Worksheet!R60)","v":""},{"$f":"IF(Worksheet!F60=0,\"\",Worksheet!F60)","v":""},{"$f":"IF(Worksheet!G60=0,\"\",Worksheet!G60)","v":""},{"$f":"IF(Worksheet!X60=0,\"\",Worksheet!X60)","v":""},{"$f":"IF(Worksheet!Q60=0,\"\",Worksheet!Q60)","v":""},{"$f":"IF(Worksheet!C60=0,\"\",Worksheet!C60)","v":""},{"$f":"IF(Worksheet!D60=0,\"\",Worksheet!D60)","v":""},{"$f":"IF(Worksheet!$A$11=TRUE,\"Y\",\"N\")","v":"N"},{"$f":"IF(Worksheet!$A$12=TRUE,\"Y\",\"N\")","v":"N"},{"$f":"IF(Worksheet!$B$11=TRUE,\"Y\",\"N\")","v":"N"},{"$f":"IF(Worksheet!$B$12=TRUE,\"Y\",\"N\")","v":"N"},{"$f":"IF(Worksheet!$C$11=TRUE,\"Y\",\"N\")","v":"N"},{"$f":"IFERROR(Worksheet!AB60,\"\")","v":0}]
[{"$f":"IF(IFERROR(SEARCH(\"Refrigerated\",Worksheet!L61,1),0)>0,122,IF(ISERROR(RIGHT(VLOOKUP(Worksheet!K61,Type!C$1:E$13,3,FALSE),3))=FALSE,RIGHT(VLOOKUP(Worksheet!K61,Type!C$1:E$13,3,FALSE),3),\"\"))","v":""},{"$f":"IF(Worksheet!M61=\"\",\"\",Worksheet!M61)","v":""},{"$f":"IF(Worksheet!N61=\"\",\"\",Worksheet!N61)","v":""},{"$f":"IF(Worksheet!Y61=0,\"\",Worksheet!Y61)","v":""},"Watts",null,null,{"$f":"Worksheet!AA61","v":0},{"$f":"IF(ISBLANK(Worksheet!V61)=FALSE,Worksheet!V61,\"\")","v":0},{"$f":"Worksheet!AG61","v":0},{"$f":"Worksheet!AF61","v":0},0,{"$f":"IF(ISERROR(SEARCH(\"Gas\",Worksheet!$A$18))=TRUE,0,Worksheet!AH61)","v":0},0,null,null,{"$f":"IF(OR(Worksheet!F61=\"Incandescent\",Worksheet!F61=\"Halogen Incandescent\")=TRUE,118,IF(LEFT(Worksheet!F61,3)=\"HID\",117,IF(OR(RIGHT(Worksheet!F61,3)=\"T12\",RIGHT(Worksheet!F61,5)=\"T12HO\")=TRUE,115,IF(OR(RIGHT(Worksheet!F61,2)=\"T8\",RIGHT(Worksheet!F61,4)=\"RWT8\",RIGHT(Worksheet!F61,4)=\"T8HO\")=TRUE,115,\"\"))))","v":""},{"$f":"IF(ISBLANK(Worksheet!W61)=FALSE,Worksheet!W61,\"\")","v":0},{"$f":"IF(ISERROR(SEARCH(\"Oil\",Worksheet!$A$18))=TRUE,0,Worksheet!AH61)","v":0},0,{"$f":"IF(ISERROR(SEARCH(\"Propane\",Worksheet!$A$18))=TRUE,0,Worksheet!AH61)","v":0},0,{"$f":"IF(Worksheet!J61=0,\"\",Worksheet!J61)","v":""},{"$f":"IF(Worksheet!B61=0,\"\",Worksheet!B61)","v":""},{"$f":"IF(Worksheet!K61=0,\"\",Worksheet!K61)","v":""},{"$f":"IF(Worksheet!L61=0,\"\",Worksheet!L61)","v":""},{"$f":"IF(Worksheet!R61=0,\"\",Worksheet!R61)","v":""},{"$f":"IF(Worksheet!F61=0,\"\",Worksheet!F61)","v":""},{"$f":"IF(Worksheet!G61=0,\"\",Worksheet!G61)","v":""},{"$f":"IF(Worksheet!X61=0,\"\",Worksheet!X61)","v":""},{"$f":"IF(Worksheet!Q61=0,\"\",Worksheet!Q61)","v":""},{"$f":"IF(Worksheet!C61=0,\"\",Worksheet!C61)","v":""},{"$f":"IF(Worksheet!D61=0,\"\",Worksheet!D61)","v":""},{"$f":"IF(Worksheet!$A$11=TRUE,\"Y\",\"N\")","v":"N"},{"$f":"IF(Worksheet!$A$12=TRUE,\"Y\",\"N\")","v":"N"},{"$f":"IF(Worksheet!$B$11=TRUE,\"Y\",\"N\")","v":"N"},{"$f":"IF(Worksheet!$B$12=TRUE,\"Y\",\"N\")","v":"N"},{"$f":"IF(Worksheet!$C$11=TRUE,\"Y\",\"N\")","v":"N"},{"$f":"IFERROR(Worksheet!AB61,\"\")","v":0}]
[{"$f":"IF(IFERROR(SEARCH(\"Refrigerated\",Worksheet!L62,1),0)>0,122,IF(ISERROR(RIGHT(VLOOKUP(Worksheet!K62,Type!C$1:E$13,3,FALSE),3))=FALSE,RIGHT(VLOOKUP(Worksheet!K62,Type!C$1:E$13,3,FALSE),3),\"\"))","v":""},{"$f":"IF(Worksheet!M62=\"\",\"\",Worksheet!M62)","v":""},{"$f":"IF(Worksheet!N62=\"\",\"\",Worksheet!N62)","v":""},{"$f":"IF(Worksheet!Y62=0,\"\",Worksheet!Y62)","v":""},"Watts",null,null,{"$f":"Worksheet!AA62","v":0},{"$f":"IF(ISBLANK(Worksheet!V62)=FALSE,Worksheet!V62,\"\")","v":0},{"$f":"Worksheet!AG62","v":0},{"$f":"Worksheet!AF62","v":0},0,{"$f":"IF(ISERROR(SEARCH(\"Gas\",Worksheet!$A$18))=TRUE,0,Worksheet!AH62)","v":0},0,null,null,{"$f":"IF(OR(Worksheet!F62=\"Incandescent\",Worksheet!F62=\"Halogen Incandescent\")=TRUE,118,IF(LEFT(Worksheet!F62,3)=\"HID\",117,IF(OR(RIGHT(Worksheet!F62,3)=\"T12\",RIGHT(Worksheet!F62,5)=\"T12HO\")=TRUE,115,IF(OR(RIGHT(Worksheet!F62,2)=\"T8\",RIGHT(Worksheet!F62,4)=\"RWT8\",RIGHT(Worksheet!F62,4)=\"T8HO\")=TRUE,115,\"\"))))","v":""},{"$f":"IF(ISBLANK(Worksheet!W62)=FALSE,Worksheet!W62,\"\")","v":0},{"$f":"IF(ISERROR(SEARCH(\"Oil\",Worksheet!$A$18))=TRUE,0,Worksheet!AH62)","v":0},0,{"$f":"IF(ISERROR(SEARCH(\"Propane\",Worksheet!$A$18))=TRUE,0,Worksheet!AH62)","v":0},0,{"$f":"IF(Worksheet!J62=0,\"\",Worksheet!J62)","v":""},{"$f":"IF(Worksheet!B62=0,\"\",Worksheet!B62)","v":""},{"$f":"IF(Worksheet!K62=0,\"\",Worksheet!K62)","v":""},{"$f":"IF(Worksheet!L62=0,\"\",Worksheet!L62)","v":""},{"$f":"IF(Worksheet!R62=0,\"\",Worksheet!R62)","v":""},{"$f":"IF(Worksheet!F62=0,\"\",Worksheet!F62)","v":""},{"$f":"IF(Worksheet!G62=0,\"\",Worksheet!G62)","v":""},{"$f":"IF(Worksheet!X62=0,\"\",Worksheet!X62)","v":""},{"$f":"IF(Worksheet!Q62=0,\"\",Worksheet!Q62)","v":""},{"$f":"IF(Worksheet!C62=0,\"\",Worksheet!C62)","v":""},{"$f":"IF(Worksheet!D62=0,\"\",Worksheet!D62)","v":""},{"$f":"IF(Worksheet!$A$11=TRUE,\"Y\",\"N\")","v":"N"},{"$f":"IF(Worksheet!$A$12=TRUE,\"Y\",\"N\")","v":"N"},{"$f":"IF(Worksheet!$B$11=TRUE,\"Y\",\"N\")","v":"N"},{"$f":"IF(Worksheet!$B$12=TRUE,\"Y\",\"N\")","v":"N"},{"$f":"IF(Worksheet!$C$11=TRUE,\"Y\",\"N\")","v":"N"},{"$f":"IFERROR(Worksheet!AB62,\"\")","v":0}]
[{"$f":"IF(IFERROR(SEARCH(\"Refrigerated\",Worksheet!L63,1),0)>0,122,IF(ISERROR(RIGHT(VLOOKUP(Worksheet!K63,Type!C$1:E$13,3,FALSE),3))=FALSE,RIGHT(VLOOKUP(Worksheet!K63,Type!C$1:E$13,3,FALSE),3),\"\"))","v":""},{"$f":"IF(Worksheet!M63=\"\",\"\",Worksheet!M63)","v":""},{"$f":"IF(Worksheet!N63=\"\",\"\",Worksheet!N63)","v":""},{"$f":"IF(Worksheet!Y63=0,\"\",Worksheet!Y63)","v":""},"Watts",null,null,{"$f":"Worksheet!AA63","v":0},{"$f":"IF(ISBLANK(Worksheet!V63)=FALSE,Worksheet!V63,\"\")","v":0},{"$f":"Worksheet!AG63","v":0},{"$f":"Worksheet!AF63","v":0},0,{"$f":"IF(ISERROR(SEARCH(\"Gas\",Worksheet!$A$18))=TRUE,0,Worksheet!AH63)","v":0},0,null,null,{"$f":"IF(OR(Worksheet!F63=\"Incandescent\",Worksheet!F63=\"Halogen Incandescent\")=TRUE,118,IF(LEFT(Worksheet!F63,3)=\"HID\",117,IF(OR(RIGHT(Worksheet!F63,3)=\"T12\",RIGHT(Worksheet!F63,5)=\"T12HO\")=TRUE,115,IF(OR(RIGHT(Worksheet!F63,2)=\"T8\",RIGHT(Worksheet!F63,4)=\"RWT8\",RIGHT(Worksheet!F63,4)=\"T8HO\")=TRUE,115,\"\"))))","v":""},{"$f":"IF(ISBLANK(Worksheet!W63)=FALSE,Worksheet!W63,\"\")","v":0},{"$f":"IF(ISERROR(SEARCH(\"Oil\",Worksheet!$A$18))=TRUE,0,Worksheet!AH63)","v":0},0,{"$f":"IF(ISERROR(SEARCH(\"Propane\",Worksheet!$A$18))=TRUE,0,Worksheet!AH63)","v":0},0,{"$f":"IF(Worksheet!J63=0,\"\",Worksheet!J63)","v":""},{"$f":"IF(Worksheet!B63=0,\"\",Worksheet!B63)","v":""},{"$f":"IF(Worksheet!K63=0,\"\",Worksheet!K63)","v":""},{"$f":"IF(Worksheet!L63=0,\"\",Worksheet!L63)","v":""},{"$f":"IF(Worksheet!R63=0,\"\",Worksheet!R63)","v":""},{"$f":"IF(Worksheet!F63=0,\"\",Worksheet!F63)","v":""},{"$f":"IF(Worksheet!G63=0,\"\",Worksheet!G63)","v":""},{"$f":"IF(Worksheet!X63=0,\"\",Worksheet!X63)","v":""},{"$f":"IF(Worksheet!Q63=0,\"\",Worksheet!Q63)","v":""},{"$f":"IF(Worksheet!C63=0,\"\",Worksheet!C63)","v":""},{"$f":"IF(Worksheet!D63=0,\"\",Worksheet!D63)","v":""},{"$f":"IF(Worksheet!$A$11=TRUE,\"Y\",\"N\")","v":"N"},{"$f":"IF(Worksheet!$A$12=TRUE,\"Y\",\"N\")","v":"N"},{"$f":"IF(Worksheet!$B$11=TRUE,\"Y\",\"N\")","v":"N"},{"$f":"IF(Worksheet!$B$12=TRUE,\"Y\",\"N\")","v":"N"},{"$f":"IF(Worksheet!$C$11=TRUE,\"Y\",\"N\")","v":"N"},{"$f":"IFERROR(Worksheet!AB63,\"\")","v":0}]
[{"$f":"IF(IFERROR(SEARCH(\"Refrigerated\",Worksheet!L64,1),0)>0,122,IF(ISERROR(RIGHT(VLOOKUP(Worksheet!K64,Type!C$1:E$13,3,FALSE),3))=FALSE,RIGHT(VLOOKUP(Worksheet!K64,Type!C$1:E$13,3,FALSE),3),\"\"))","v":""},{"$f":"IF(Worksheet!M64=\"\",\"\",Worksheet!M64)","v":""},{"$f":"IF(Worksheet!N64=\"\",\"\",Worksheet!N64)","v":""},{"$f":"IF(Worksheet!Y64=0,\"\",Worksheet!Y64)","v":""},"Watts",null,null,{"$f":"Worksheet!AA64","v":0},{"$f":"IF(ISBLANK(Worksheet!V64)=FALSE,Worksheet!V64,\"\")","v":0},{"$f":"Worksheet!AG64","v":0},{"$f":"Worksheet!AF64","v":0},0,{"$f":"IF(ISERROR(SEARCH(\"Gas\",Worksheet!$A$18))=TRUE,0,Worksheet!AH64)","v":0},0,null,null,{"$f":"IF(OR(Worksheet!F64=\"Incandescent\",Worksheet!F64=\"Halogen Incandescent\")=TRUE,118,IF(LEFT(Worksheet!F64,3)=\"HID\",117,IF(OR(RIGHT(Worksheet!F64,3)=\"T12\",RIGHT(Worksheet!F64,5)=\"T12HO\")=TRUE,115,IF(OR(RIGHT(Worksheet!F64,2)=\"T8\",RIGHT(Worksheet!F64,4)=\"RWT8\",RIGHT(Worksheet!F64,4)=\"T8HO\")=TRUE,115,\"\"))))","v":""},{"$f":"IF(ISBLANK(Worksheet!W64)=FALSE,Worksheet!W64,\"\")","v":0},{"$f":"IF(ISERROR(SEARCH(\"Oil\",Worksheet!$A$18))=TRUE,0,Worksheet!AH64)","v":0},0,{"$f":"IF(ISERROR(SEARCH(\"Propane\",Worksheet!$A$18))=TRUE,0,Worksheet!AH64)","v":0},0,{"$f":"IF(Worksheet!J64=0,\"\",Worksheet!J64)","v":""},{"$f":"IF(Worksheet!B64=0,\"\",Worksheet!B64)","v":""},{"$f":"IF(Worksheet!K64=0,\"\",Worksheet!K64)","v":""},{"$f":"IF(Worksheet!L64=0,\"\",Worksheet!L64)","v":""},{"$f":"IF(Worksheet!R64=0,\"\",Worksheet!R64)","v":""},{"$f":"IF(Worksheet!F64=0,\"\",Worksheet!F64)","v":""},{"$f":"IF(Worksheet!G64=0,\"\",Worksheet!G64)","v":""},{"$f":"IF(Worksheet!X64=0,\"\",Worksheet!X64)","v":""},{"$f":"IF(Worksheet!Q64=0,\"\",Worksheet!Q64)","v":""},{"$f":"IF(Worksheet!C64=0,\"\",Worksheet!C64)","v":""},{"$f":"IF(Worksheet!D64=0,\"\",Worksheet!D64)","v":""},{"$f":"IF(Worksheet!$A$11=TRUE,\"Y\",\"N\")","v":"N"},{"$f":"IF(Worksheet!$A$12=TRUE,\"Y\",\"N\")","v":"N"},{"$f":"IF(Worksheet!$B$11=TRUE,\"Y\",\"N\")","v":"N"},{"$f":"IF(Worksheet!$B$12=TRUE,\"Y\",\"N\")","v":"N"},{"$f":"IF(Worksheet!$C$11=TRUE,\"Y\",\"N\")","v":"N"},{"$f":"IFERROR(Worksheet!AB64,\"\")","v":0}]
[{"$f":"IF(IFERROR(SEARCH(\"Refrigerated\",Worksheet!L65,1),0)>0,122,IF(ISERROR(RIGHT(VLOOKUP(Worksheet!K65,Type!C$1:E$13,3,FALSE),3))=FALSE,RIGHT(VLOOKUP(Worksheet!K65,Type!C$1:E$13,3,FALSE),3),\"\"))","v":""},{"$f":"IF(Worksheet!M65=\"\",\"\",Worksheet!M65)","v":""},{"$f":"IF(Worksheet!N65=\"\",\"\",Worksheet!N65)","v":""},{"$f":"IF(Worksheet!Y65=0,\"\",Worksheet!Y65)","v":""},"Watts",null,null,{"$f":"Worksheet!AA65","v":0},{"$f":"IF(ISBLANK(Worksheet!V65)=FALSE,Worksheet!V65,\"\")","v":0},{"$f":"Worksheet!AG65","v":0},{"$f":"Worksheet!AF65","v":0},0,{"$f":"IF(ISERROR(SEARCH(\"Gas\",Worksheet!$A$18))=TRUE,0,Worksheet!AH65)","v":0},0,null,null,{"$f":"IF(OR(Worksheet!F65=\"Incandescent\",Worksheet!F65=\"Halogen Incandescent\")=TRUE,118,IF(LEFT(Worksheet!F65,3)=\"HID\",117,IF(OR(RIGHT(Worksheet!F65,3)=\"T12\",RIGHT(Worksheet!F65,5)=\"T12HO\")=TRUE,115,IF(OR(RIGHT(Worksheet!F65,2)=\"T8\",RIGHT(Worksheet!F65,4)=\"RWT8\",RIGHT(Worksheet!F65,4)=\"T8HO\")=TRUE,115,\"\"))))","v":""},{"$f":"IF(ISBLANK(Worksheet!W65)=FALSE,Worksheet!W65,\"\")","v":0},{"$f":"IF(ISERROR(SEARCH(\"Oil\",Worksheet!$A$18))=TRUE,0,Worksheet!AH65)","v":0},0,{"$f":"IF(ISERROR(SEARCH(\"Propane\",Worksheet!$A$18))=TRUE,0,Worksheet!AH65)","v":0},0,{"$f":"IF(Worksheet!J65=0,\"\",Worksheet!J65)","v":""},{"$f":"IF(Worksheet!B65=0,\"\",Worksheet!B65)","v":""},{"$f":"IF(Worksheet!K65=0,\"\",Worksheet!K65)","v":""},{"$f":"IF(Worksheet!L65=0,\"\",Worksheet!L65)","v":""},{"$f":"IF(Worksheet!R65=0,\"\",Worksheet!R65)","v":""},{"$f":"IF(Worksheet!F65=0,\"\",Worksheet!F65)","v":""},{"$f":"IF(Worksheet!G65=0,\"\",Worksheet!G65)","v":""},{"$f":"IF(Worksheet!X65=0,\"\",Worksheet!X65)","v":""},{"$f":"IF(Worksheet!Q65=0,\"\",Worksheet!Q65)","v":""},{"$f":"IF(Worksheet!C65=0,\"\",Worksheet!C65)","v":""},{"$f":"IF(Worksheet!D65=0,\"\",Worksheet!D65)","v":""},{"$f":"IF(Worksheet!$A$11=TRUE,\"Y\",\"N\")","v":"N"},{"$f":"IF(Worksheet!$A$12=TRUE,\"Y\",\"N\")","v":"N"},{"$f":"IF(Worksheet!$B$11=TRUE,\"Y\",\"N\")","v":"N"},{"$f":"IF(Worksheet!$B$12=TRUE,\"Y\",\"N\")","v":"N"},{"$f":"IF(Worksheet!$C$11=TRUE,\"Y\",\"N\")","v":"N"},{"$f":"IFERROR(Worksheet!AB65,\"\")","v":0}]
[{"$f":"IF(IFERROR(SEARCH(\"Refrigerated\",Worksheet!L66,1),0)>0,122,IF(ISERROR(RIGHT(VLOOKUP(Worksheet!K66,Type!C$1:E$13,3,FALSE),3))=FALSE,RIGHT(VLOOKUP(Worksheet!K66,Type!C$1:E$13,3,FALSE),3),\"\"))","v":""},{"$f":"IF(Worksheet!M66=\"\",\"\",Worksheet!M66)","v":""},{"$f":"IF(Worksheet!N66=\"\",\"\",Worksheet!N66)","v":""},{"$f":"IF(Worksheet!Y66=0,\"\",Worksheet!Y66)","v":""},"Watts",null,null,{"$f":"Worksheet!AA66","v":0},{"$f":"IF(ISBLANK(Worksheet!V66)=FALSE,Worksheet!V66,\"\")","v":0},{"$f":"Worksheet!AG66","v":0},{"$f":"Worksheet!AF66","v":0},0,{"$f":"IF(ISERROR(SEARCH(\"Gas\",Worksheet!$A$18))=TRUE,0,Worksheet!AH66)","v":0},0,null,null,{"$f":"IF(OR(Worksheet!F66=\"Incandescent\",Worksheet!F66=\"Halogen Incandescent\")=TRUE,118,IF(LEFT(Worksheet!F66,3)=\"HID\",117,IF(OR(RIGHT(Worksheet!F66,3)=\"T12\",RIGHT(Worksheet!F66,5)=\"T12HO\")=TRUE,115,IF(OR(RIGHT(Worksheet!F66,2)=\"T8\",RIGHT(Worksheet!F66,4)=\"RWT8\",RIGHT(Worksheet!F66,4)=\"T8HO\")=TRUE,115,\"\"))))","v":""},{"$f":"IF(ISBLANK(Worksheet!W66)=FALSE,Worksheet!W66,\"\")","v":0},{"$f":"IF(ISERROR(SEARCH(\"Oil\",Worksheet!$A$18))=TRUE,0,Worksheet!AH66)","v":0},0,{"$f":"IF(ISERROR(SEARCH(\"Propane\",Worksheet!$A$18))=TRUE,0,Worksheet!AH66)","v":0},0,{"$f":"IF(Worksheet!J66=0,\"\",Worksheet!J66)","v":""},{"$f":"IF(Worksheet!B66=0,\"\",Worksheet!B66)","v":""},{"$f":"IF(Worksheet!K66=0,\"\",Worksheet!K66)","v":""},{"$f":"IF(Worksheet!L66=0,\"\",Worksheet!L66)","v":""},{"$f":"IF(Worksheet!R66=0,\"\",Worksheet!R66)","v":""},{"$f":"IF(Worksheet!F66=0,\"\",Worksheet!F66)","v":""},{"$f":"IF(Worksheet!G66=0,\"\",Worksheet!G66)","v":""},{"$f":"IF(Worksheet!X66=0,\"\",Worksheet!X66)","v":""},{"$f":"IF(Worksheet!Q66=0,\"\",Worksheet!Q66)","v":""},{"$f":"IF(Worksheet!C66=0,\"\",Worksheet!C66)","v":""},{"$f":"IF(Worksheet!D66=0,\"\",Worksheet!D66)","v":""},{"$f":"IF(Worksheet!$A$11=TRUE,\"Y\",\"N\")","v":"N"},{"$f":"IF(Worksheet!$A$12=TRUE,\"Y\",\"N\")","v":"N"},{"$f":"IF(Worksheet!$B$11=TRUE,\"Y\",\"N\")","v":"N"},{"$f":"IF(Worksheet!$B$12=TRUE,\"Y\",\"N\")","v":"N"},{"$f":"IF(Worksheet!$C$11=TRUE,\"Y\",\"N\")","v":"N"},{"$f":"IFERROR(Worksheet!AB66,\"\")","v":0}]
[{"$f":"IF(IFERROR(SEARCH(\"Refrigerated\",Worksheet!L67,1),0)>0,122,IF(ISERROR(RIGHT(VLOOKUP(Worksheet!K67,Type!C$1:E$13,3,FALSE),3))=FALSE,RIGHT(VLOOKUP(Worksheet!K67,Type!C$1:E$13,3,FALSE),3),\"\"))","v":""},{"$f":"IF(Worksheet!M67=\"\",\"\",Worksheet!M67)","v":""},{"$f":"IF(Worksheet!N67=\"\",\"\",Worksheet!N67)","v":""},{"$f":"IF(Worksheet!Y67=0,\"\",Worksheet!Y67)","v":""},"Watts",null,null,{"$f":"Worksheet!AA67","v":0},{"$f":"IF(ISBLANK(Worksheet!V67)=FALSE,Worksheet!V67,\"\")","v":0},{"$f":"Worksheet!AG67","v":0},{"$f":"Worksheet!AF67","v":0},0,{"$f":"IF(ISERROR(SEARCH(\"Gas\",Worksheet!$A$18))=TRUE,0,Worksheet!AH67)","v":0},0,null,null,{"$f":"IF(OR(Worksheet!F67=\"Incandescent\",Worksheet!F67=\"Halogen Incandescent\")=TRUE,118,IF(LEFT(Worksheet!F67,3)=\"HID\",117,IF(OR(RIGHT(Worksheet!F67,3)=\"T12\",RIGHT(Worksheet!F67,5)=\"T12HO\")=TRUE,115,IF(OR(RIGHT(Worksheet!F67,2)=\"T8\",RIGHT(Worksheet!F67,4)=\"RWT8\",RIGHT(Worksheet!F67,4)=\"T8HO\")=TRUE,115,\"\"))))","v":""},{"$f":"IF(ISBLANK(Worksheet!W67)=FALSE,Worksheet!W67,\"\")","v":0},{"$f":"IF(ISERROR(SEARCH(\"Oil\",Worksheet!$A$18))=TRUE,0,Worksheet!AH67)","v":0},0,{"$f":"IF(ISERROR(SEARCH(\"Propane\",Worksheet!$A$18))=TRUE,0,Worksheet!AH67)","v":0},0,{"$f":"IF(Worksheet!J67=0,\"\",Worksheet!J67)","v":""},{"$f":"IF(Worksheet!B67=0,\"\",Worksheet!B67)","v":""},{"$f":"IF(Worksheet!K67=0,\"\",Worksheet!K67)","v":""},{"$f":"IF(Worksheet!L67=0,\"\",Worksheet!L67)","v":""},{"$f":"IF(Worksheet!R67=0,\"\",Worksheet!R67)","v":""},{"$f":"IF(Worksheet!F67=0,\"\",Worksheet!F67)","v":""},{"$f":"IF(Worksheet!G67=0,\"\",Worksheet!G67)","v":""},{"$f":"IF(Worksheet!X67=0,\"\",Worksheet!X67)","v":""},{"$f":"IF(Worksheet!Q67=0,\"\",Worksheet!Q67)","v":""},{"$f":"IF(Worksheet!C67=0,\"\",Worksheet!C67)","v":""},{"$f":"IF(Worksheet!D67=0,\"\",Worksheet!D67)","v":""},{"$f":"IF(Worksheet!$A$11=TRUE,\"Y\",\"N\")","v":"N"},{"$f":"IF(Worksheet!$A$12=TRUE,\"Y\",\"N\")","v":"N"},{"$f":"IF(Worksheet!$B$11=TRUE,\"Y\",\"N\")","v":"N"},{"$f":"IF(Worksheet!$B$12=TRUE,\"Y\",\"N\")","v":"N"},{"$f":"IF(Worksheet!$C$11=TRUE,\"Y\",\"N\")","v":"N"},{"$f":"IFERROR(Worksheet!AB67,\"\")","v":0}]
[{"$f":"IF(IFERROR(SEARCH(\"Refrigerated\",Worksheet!L68,1),0)>0,122,IF(ISERROR(RIGHT(VLOOKUP(Worksheet!K68,Type!C$1:E$13,3,FALSE),3))=FALSE,RIGHT(VLOOKUP(Worksheet!K68,Type!C$1:E$13,3,FALSE),3),\"\"))","v":""},{"$f":"IF(Worksheet!M68=\"\",\"\",Worksheet!M68)","v":""},{"$f":"IF(Worksheet!N68=\"\",\"\",Worksheet!N68)","v":""},{"$f":"IF(Worksheet!Y68=0,\"\",Worksheet!Y68)","v":""},"Watts",null,null,{"$f":"Worksheet!AA68","v":0},{"$f":"IF(ISBLANK(Worksheet!V68)=FALSE,Worksheet!V68,\"\")","v":0},{"$f":"Worksheet!AG68","v":0},{"$f":"Worksheet!AF68","v":0},0,{"$f":"IF(ISERROR(SEARCH(\"Gas\",Worksheet!$A$18))=TRUE,0,Worksheet!AH68)","v":0},0,null,null,{"$f":"IF(OR(Worksheet!F68=\"Incandescent\",Worksheet!F68=\"Halogen Incandescent\")=TRUE,118,IF(LEFT(Worksheet!F68,3)=\"HID\",117,IF(OR(RIGHT(Worksheet!F68,3)=\"T12\",RIGHT(Worksheet!F68,5)=\"T12HO\")=TRUE,115,IF(OR(RIGHT(Worksheet!F68,2)=\"T8\",RIGHT(Worksheet!F68,4)=\"RWT8\",RIGHT(Worksheet!F68,4)=\"T8HO\")=TRUE,115,\"\"))))","v":""},{"$f":"IF(ISBLANK(Worksheet!W68)=FALSE,Worksheet!W68,\"\")","v":0},{"$f":"IF(ISERROR(SEARCH(\"Oil\",Worksheet!$A$18))=TRUE,0,Worksheet!AH68)","v":0},0,{"$f":"IF(ISERROR(SEARCH(\"Propane\",Worksheet!$A$18))=TRUE,0,Worksheet!AH68)","v":0},0,{"$f":"IF(Worksheet!J68=0,\"\",Worksheet!J68)","v":""},{"$f":"IF(Worksheet!B68=0,\"\",Worksheet!B68)","v":""},{"$f":"IF(Worksheet!K68=0,\"\",Worksheet!K68)","v":""},{"$f":"IF(Worksheet!L68=0,\"\",Worksheet!L68)","v":""},{"$f":"IF(Worksheet!R68=0,\"\",Worksheet!R68)","v":""},{"$f":"IF(Worksheet!F68=0,\"\",Worksheet!F68)","v":""},{"$f":"IF(Worksheet!G68=0,\"\",Worksheet!G68)","v":""},{"$f":"IF(Worksheet!X68=0,\"\",Worksheet!X68)","v":""},{"$f":"IF(Worksheet!Q68=0,\"\",Worksheet!Q68)","v":""},{"$f":"IF(Worksheet!C68=0,\"\",Worksheet!C68)","v":""},{"$f":"IF(Worksheet!D68=0,\"\",Worksheet!D68)","v":""},{"$f":"IF(Worksheet!$A$11=TRUE,\"Y\",\"N\")","v":"N"},{"$f":"IF(Worksheet!$A$12=TRUE,\"Y\",\"N\")","v":"N"},{"$f":"IF(Worksheet!$B$11=TRUE,\"Y\",\"N\")","v":"N"},{"$f":"IF(Worksheet!$B$12=TRUE,\"Y\",\"N\")","v":"N"},{"$f":"IF(Worksheet!$C$11=TRUE,\"Y\",\"N\")","v":"N"},{"$f":"IFERROR(Worksheet!AB68,\"\")","v":0}]
[{"$f":"IF(IFERROR(SEARCH(\"Refrigerated\",Worksheet!L69,1),0)>0,122,IF(ISERROR(RIGHT(VLOOKUP(Worksheet!K69,Type!C$1:E$13,3,FALSE),3))=FALSE,RIGHT(VLOOKUP(Worksheet!K69,Type!C$1:E$13,3,FALSE),3),\"\"))","v":""},{"$f":"IF(Worksheet!M69=\"\",\"\",Worksheet!M69)","v":""},{"$f":"IF(Worksheet!N69=\"\",\"\",Worksheet!N69)","v":""},{"$f":"IF(Worksheet!Y69=0,\"\",Worksheet!Y69)","v":""},"Watts",null,null,{"$f":"Worksheet!AA69","v":0},{"$f":"IF(ISBLANK(Worksheet!V69)=FALSE,Worksheet!V69,\"\")","v":0},{"$f":"Worksheet!AG69","v":0},{"$f":"Worksheet!AF69","v":0},0,{"$f":"IF(ISERROR(SEARCH(\"Gas\",Worksheet!$A$18))=TRUE,0,Worksheet!AH69)","v":0},0,null,null,{"$f":"IF(OR(Worksheet!F69=\"Incandescent\",Worksheet!F69=\"Halogen Incandescent\")=TRUE,118,IF(LEFT(Worksheet!F69,3)=\"HID\",117,IF(OR(RIGHT(Worksheet!F69,3)=\"T12\",RIGHT(Worksheet!F69,5)=\"T12HO\")=TRUE,115,IF(OR(RIGHT(Worksheet!F69,2)=\"T8\",RIGHT(Worksheet!F69,4)=\"RWT8\",RIGHT(Worksheet!F69,4)=\"T8HO\")=TRUE,115,\"\"))))","v":""},{"$f":"IF(ISBLANK(Worksheet!W69)=FALSE,Worksheet!W69,\"\")","v":0},{"$f":"IF(ISERROR(SEARCH(\"Oil\",Worksheet!$A$18))=TRUE,0,Worksheet!AH69)","v":0},0,{"$f":"IF(ISERROR(SEARCH(\"Propane\",Worksheet!$A$18))=TRUE,0,Worksheet!AH69)","v":0},0,{"$f":"IF(Worksheet!J69=0,\"\",Worksheet!J69)","v":""},{"$f":"IF(Worksheet!B69=0,\"\",Worksheet!B69)","v":""},{"$f":"IF(Worksheet!K69=0,\"\",Worksheet!K69)","v":""},{"$f":"IF(Worksheet!L69=0,\"\",Worksheet!L69)","v":""},{"$f":"IF(Worksheet!R69=0,\"\",Worksheet!R69)","v":""},{"$f":"IF(Worksheet!F69=0,\"\",Worksheet!F69)","v":""},{"$f":"IF(Worksheet!G69=0,\"\",Worksheet!G69)","v":""},{"$f":"IF(Worksheet!X69=0,\"\",Worksheet!X69)","v":""},{"$f":"IF(Worksheet!Q69=0,\"\",Worksheet!Q69)","v":""},{"$f":"IF(Worksheet!C69=0,\"\",Worksheet!C69)","v":""},{"$f":"IF(Worksheet!D69=0,\"\",Worksheet!D69)","v":""},{"$f":"IF(Worksheet!$A$11=TRUE,\"Y\",\"N\")","v":"N"},{"$f":"IF(Worksheet!$A$12=TRUE,\"Y\",\"N\")","v":"N"},{"$f":"IF(Worksheet!$B$11=TRUE,\"Y\",\"N\")","v":"N"},{"$f":"IF(Worksheet!$B$12=TRUE,\"Y\",\"N\")","v":"N"},{"$f":"IF(Worksheet!$C$11=TRUE,\"Y\",\"N\")","v":"N"},{"$f":"IFERROR(Worksheet!AB69,\"\")","v":0}]
[{"$f":"IF(IFERROR(SEARCH(\"Refrigerated\",Worksheet!L70,1),0)>0,122,IF(ISERROR(RIGHT(VLOOKUP(Worksheet!K70,Type!C$1:E$13,3,FALSE),3))=FALSE,RIGHT(VLOOKUP(Worksheet!K70,Type!C$1:E$13,3,FALSE),3),\"\"))","v":""},{"$f":"IF(Worksheet!M70=\"\",\"\",Worksheet!M70)","v":""},{"$f":"IF(Worksheet!N70=\"\",\"\",Worksheet!N70)","v":""},{"$f":"IF(Worksheet!Y70=0,\"\",Worksheet!Y70)","v":""},"Watts",null,null,{"$f":"Worksheet!AA70","v":0},{"$f":"IF(ISBLANK(Worksheet!V70)=FALSE,Worksheet!V70,\"\")","v":0},{"$f":"Worksheet!AG70","v":0},{"$f":"Worksheet!AF70","v":0},0,{"$f":"IF(ISERROR(SEARCH(\"Gas\",Worksheet!$A$18))=TRUE,0,Worksheet!AH70)","v":0},0,null,null,{"$f":"IF(OR(Worksheet!F70=\"Incandescent\",Worksheet!F70=\"Halogen Incandescent\")=TRUE,118,IF(LEFT(Worksheet!F70,3)=\"HID\",117,IF(OR(RIGHT(Worksheet!F70,3)=\"T12\",RIGHT(Worksheet!F70,5)=\"T12HO\")=TRUE,115,IF(OR(RIGHT(Worksheet!F70,2)=\"T8\",RIGHT(Worksheet!F70,4)=\"RWT8\",RIGHT(Worksheet!F70,4)=\"T8HO\")=TRUE,115,\"\"))))","v":""},{"$f":"IF(ISBLANK(Worksheet!W70)=FALSE,Worksheet!W70,\"\")","v":0},{"$f":"IF(ISERROR(SEARCH(\"Oil\",Worksheet!$A$18))=TRUE,0,Worksheet!AH70)","v":0},0,{"$f":"IF(ISERROR(SEARCH(\"Propane\",Worksheet!$A$18))=TRUE,0,Worksheet!AH70)","v":0},0,{"$f":"IF(Worksheet!J70=0,\"\",Worksheet!J70)","v":""},{"$f":"IF(Worksheet!B70=0,\"\",Worksheet!B70)","v":""},{"$f":"IF(Worksheet!K70=0,\"\",Worksheet!K70)","v":""},{"$f":"IF(Worksheet!L70=0,\"\",Worksheet!L70)","v":""},{"$f":"IF(Worksheet!R70=0,\"\",Worksheet!R70)","v":""},{"$f":"IF(Worksheet!F70=0,\"\",Worksheet!F70)","v":""},{"$f":"IF(Worksheet!G70=0,\"\",Worksheet!G70)","v":""},{"$f":"IF(Worksheet!X70=0,\"\",Worksheet!X70)","v":""},{"$f":"IF(Worksheet!Q70=0,\"\",Worksheet!Q70)","v":""},{"$f":"IF(Worksheet!C70=0,\"\",Worksheet!C70)","v":""},{"$f":"IF(Worksheet!D70=0,\"\",Worksheet!D70)","v":""},{"$f":"IF(Worksheet!$A$11=TRUE,\"Y\",\"N\")","v":"N"},{"$f":"IF(Worksheet!$A$12=TRUE,\"Y\",\"N\")","v":"N"},{"$f":"IF(Worksheet!$B$11=TRUE,\"Y\",\"N\")","v":"N"},{"$f":"IF(Worksheet!$B$12=TRUE,\"Y\",\"N\")","v":"N"},{"$f":"IF(Worksheet!$C$11=TRUE,\"Y\",\"N\")","v":"N"},{"$f":"IFERROR(Worksheet!AB70,\"\")","v":0}]
[{"$f":"IF(IFERROR(SEARCH(\"Refrigerated\",Worksheet!L71,1),0)>0,122,IF(ISERROR(RIGHT(VLOOKUP(Worksheet!K71,Type!C$1:E$13,3,FALSE),3))=FALSE,RIGHT(VLOOKUP(Worksheet!K71,Type!C$1:E$13,3,FALSE),3),\"\"))","v":""},{"$f":"IF(Worksheet!M71=\"\",\"\",Worksheet!M71)","v":""},{"$f":"IF(Worksheet!N71=\"\",\"\",Worksheet!N71)","v":""},{"$f":"IF(Worksheet!Y71=0,\"\",Worksheet!Y71)","v":""},"Watts",null,null,{"$f":"Worksheet!AA71","v":0},{"$f":"IF(ISBLANK(Worksheet!V71)=FALSE,Worksheet!V71,\"\")","v":0},{"$f":"Worksheet!AG71","v":0},{"$f":"Worksheet!AF71","v":0},0,{"$f":"IF(ISERROR(SEARCH(\"Gas\",Worksheet!$A$18))=TRUE,0,Worksheet!AH71)","v":0},0,null,null,{"$f":"IF(OR(Worksheet!F71=\"Incandescent\",Worksheet!F71=\"Halogen Incandescent\")=TRUE,118,IF(LEFT(Worksheet!F71,3)=\"HID\",117,IF(OR(RIGHT(Worksheet!F71,3)=\"T12\",RIGHT(Worksheet!F71,5)=\"T12HO\")=TRUE,115,IF(OR(RIGHT(Worksheet!F71,2)=\"T8\",RIGHT(Worksheet!F71,4)=\"RWT8\",RIGHT(Worksheet!F71,4)=\"T8HO\")=TRUE,115,\"\"))))","v":""},{"$f":"IF(ISBLANK(Worksheet!W71)=FALSE,Worksheet!W71,\"\")","v":0},{"$f":"IF(ISERROR(SEARCH(\"Oil\",Worksheet!$A$18))=TRUE,0,Worksheet!AH71)","v":0},0,{"$f":"IF(ISERROR(SEARCH(\"Propane\",Worksheet!$A$18))=TRUE,0,Worksheet!AH71)","v":0},0,{"$f":"IF(Worksheet!J71=0,\"\",Worksheet!J71)","v":""},{"$f":"IF(Worksheet!B71=0,\"\",Worksheet!B71)","v":""},{"$f":"IF(Worksheet!K71=0,\"\",Worksheet!K71)","v":""},{"$f":"IF(Worksheet!L71=0,\"\",Worksheet!L71)","v":""},{"$f":"IF(Worksheet!R71=0,\"\",Worksheet!R71)","v":""},{"$f":"IF(Worksheet!F71=0,\"\",Worksheet!F71)","v":""},{"$f":"IF(Worksheet!G71=0,\"\",Worksheet!G71)","v":""},{"$f":"IF(Worksheet!X71=0,\"\",Worksheet!X71)","v":""},{"$f":"IF(Worksheet!Q71=0,\"\",Worksheet!Q71)","v":""},{"$f":"IF(Worksheet!C71=0,\"\",Worksheet!C71)","v":""},{"$f":"IF(Worksheet!D71=0,\"\",Worksheet!D71)","v":""},{"$f":"IF(Worksheet!$A$11=TRUE,\"Y\",\"N\")","v":"N"},{"$f":"IF(Worksheet!$A$12=TRUE,\"Y\",\"N\")","v":"N"},{"$f":"IF(Worksheet!$B$11=TRUE,\"Y\",\"N\")","v":"N"},{"$f":"IF(Worksheet!$B$12=TRUE,\"Y\",\"N\")","v":"N"},{"$f":"IF(Worksheet!$C$11=TRUE,\"Y\",\"N\")","v":"N"},{"$f":"IFERROR(Worksheet!AB71,\"\")","v":0}]
[{"$f":"IF(IFERROR(SEARCH(\"Refrigerated\",Worksheet!L72,1),0)>0,122,IF(ISERROR(RIGHT(VLOOKUP(Worksheet!K72,Type!C$1:E$13,3,FALSE),3))=FALSE,RIGHT(VLOOKUP(Worksheet!K72,Type!C$1:E$13,3,FALSE),3),\"\"))","v":""},{"$f":"IF(Worksheet!M72=\"\",\"\",Worksheet!M72)","v":""},{"$f":"IF(Worksheet!N72=\"\",\"\",Worksheet!N72)","v":""},{"$f":"IF(Worksheet!Y72=0,\"\",Worksheet!Y72)","v":""},"Watts",null,null,{"$f":"Worksheet!AA72","v":0},{"$f":"IF(ISBLANK(Worksheet!V72)=FALSE,Worksheet!V72,\"\")","v":0},{"$f":"Worksheet!AG72","v":0},{"$f":"Worksheet!AF72","v":0},0,{"$f":"IF(ISERROR(SEARCH(\"Gas\",Worksheet!$A$18))=TRUE,0,Worksheet!AH72)","v":0},0,null,null,{"$f":"IF(OR(Worksheet!F72=\"Incandescent\",Worksheet!F72=\"Halogen Incandescent\")=TRUE,118,IF(LEFT(Worksheet!F72,3)=\"HID\",117,IF(OR(RIGHT(Worksheet!F72,3)=\"T12\",RIGHT(Worksheet!F72,5)=\"T12HO\")=TRUE,115,IF(OR(RIGHT(Worksheet!F72,2)=\"T8\",RIGHT(Worksheet!F72,4)=\"RWT8\",RIGHT(Worksheet!F72,4)=\"T8HO\")=TRUE,115,\"\"))))","v":""},{"$f":"IF(ISBLANK(Worksheet!W72)=FALSE,Worksheet!W72,\"\")","v":0},{"$f":"IF(ISERROR(SEARCH(\"Oil\",Worksheet!$A$18))=TRUE,0,Worksheet!AH72)","v":0},0,{"$f":"IF(ISERROR(SEARCH(\"Propane\",Worksheet!$A$18))=TRUE,0,Worksheet!AH72)","v":0},0,{"$f":"IF(Worksheet!J72=0,\"\",Worksheet!J72)","v":""},{"$f":"IF(Worksheet!B72=0,\"\",Worksheet!B72)","v":""},{"$f":"IF(Worksheet!K72=0,\"\",Worksheet!K72)","v":""},{"$f":"IF(Worksheet!L72=0,\"\",Worksheet!L72)","v":""},{"$f":"IF(Worksheet!R72=0,\"\",Worksheet!R72)","v":""},{"$f":"IF(Worksheet!F72=0,\"\",Worksheet!F72)","v":""},{"$f":"IF(Worksheet!G72=0,\"\",Worksheet!G72)","v":""},{"$f":"IF(Worksheet!X72=0,\"\",Worksheet!X72)","v":""},{"$f":"IF(Worksheet!Q72=0,\"\",Worksheet!Q72)","v":""},{"$f":"IF(Worksheet!C72=0,\"\",Worksheet!C72)","v":""},{"$f":"IF(Worksheet!D72=0,\"\",Worksheet!D72)","v":""},{"$f":"IF(Worksheet!$A$11=TRUE,\"Y\",\"N\")","v":"N"},{"$f":"IF(Worksheet!$A$12=TRUE,\"Y\",\"N\")","v":"N"},{"$f":"IF(Worksheet!$B$11=TRUE,\"Y\",\"N\")","v":"N"},{"$f":"IF(Worksheet!$B$12=TRUE,\"Y\",\"N\")","v":"N"},{"$f":"IF(Worksheet!$C$11=TRUE,\"Y\",\"N\")","v":"N"},{"$f":"IFERROR(Worksheet!AB72,\"\")","v":0}]
[{"$f":"IF(IFERROR(SEARCH(\"Refrigerated\",Worksheet!L73,1),0)>0,122,IF(ISERROR(RIGHT(VLOOKUP(Worksheet!K73,Type!C$1:E$13,3,FALSE),3))=FALSE,RIGHT(VLOOKUP(Worksheet!K73,Type!C$1:E$13,3,FALSE),3),\"\"))","v":""},{"$f":"IF(Worksheet!M73=\"\",\"\",Worksheet!M73)","v":""},{"$f":"IF(Worksheet!N73=\"\",\"\",Worksheet!N73)","v":""},{"$f":"IF(Worksheet!Y73=0,\"\",Worksheet!Y73)","v":""},"Watts",null,null,{"$f":"Worksheet!AA73","v":0},{"$f":"IF(ISBLANK(Worksheet!V73)=FALSE,Worksheet!V73,\"\")","v":0},{"$f":"Worksheet!AG73","v":0},{"$f":"Worksheet!AF73","v":0},0,{"$f":"IF(ISERROR(SEARCH(\"Gas\",Worksheet!$A$18))=TRUE,0,Worksheet!AH73)","v":0},0,null,null,{"$f":"IF(OR(Worksheet!F73=\"Incandescent\",Worksheet!F73=\"Halogen Incandescent\")=TRUE,118,IF(LEFT(Worksheet!F73,3)=\"HID\",117,IF(OR(RIGHT(Worksheet!F73,3)=\"T12\",RIGHT(Worksheet!F73,5)=\"T12HO\")=TRUE,115,IF(OR(RIGHT(Worksheet!F73,2)=\"T8\",RIGHT(Worksheet!F73,4)=\"RWT8\",RIGHT(Worksheet!F73,4)=\"T8HO\")=TRUE,115,\"\"))))","v":""},{"$f":"IF(ISBLANK(Worksheet!W73)=FALSE,Worksheet!W73,\"\")","v":0},{"$f":"IF(ISERROR(SEARCH(\"Oil\",Worksheet!$A$18))=TRUE,0,Worksheet!AH73)","v":0},0,{"$f":"IF(ISERROR(SEARCH(\"Propane\",Worksheet!$A$18))=TRUE,0,Worksheet!AH73)","v":0},0,{"$f":"IF(Worksheet!J73=0,\"\",Worksheet!J73)","v":""},{"$f":"IF(Worksheet!B73=0,\"\",Worksheet!B73)","v":""},{"$f":"IF(Worksheet!K73=0,\"\",Worksheet!K73)","v":""},{"$f":"IF(Worksheet!L73=0,\"\",Worksheet!L73)","v":""},{"$f":"IF(Worksheet!R73=0,\"\",Worksheet!R73)","v":""},{"$f":"IF(Worksheet!F73=0,\"\",Worksheet!F73)","v":""},{"$f":"IF(Worksheet!G73=0,\"\",Worksheet!G73)","v":""},{"$f":"IF(Worksheet!X73=0,\"\",Worksheet!X73)","v":""},{"$f":"IF(Worksheet!Q73=0,\"\",Worksheet!Q73)","v":""},{"$f":"IF(Worksheet!C73=0,\"\",Worksheet!C73)","v":""},{"$f":"IF(Worksheet!D73=0,\"\",Worksheet!D73)","v":""},{"$f":"IF(Worksheet!$A$11=TRUE,\"Y\",\"N\")","v":"N"},{"$f":"IF(Worksheet!$A$12=TRUE,\"Y\",\"N\")","v":"N"},{"$f":"IF(Worksheet!$B$11=TRUE,\"Y\",\"N\")","v":"N"},{"$f":"IF(Worksheet!$B$12=TRUE,\"Y\",\"N\")","v":"N"},{"$f":"IF(Worksheet!$C$11=TRUE,\"Y\",\"N\")","v":"N"},{"$f":"IFERROR(Worksheet!AB73,\"\")","v":0}]
[{"$f":"IF(IFERROR(SEARCH(\"Refrigerated\",Worksheet!L74,1),0)>0,122,IF(ISERROR(RIGHT(VLOOKUP(Worksheet!K74,Type!C$1:E$13,3,FALSE),3))=FALSE,RIGHT(VLOOKUP(Worksheet!K74,Type!C$1:E$13,3,FALSE),3),\"\"))","v":""},{"$f":"IF(Worksheet!M74=\"\",\"\",Worksheet!M74)","v":""},{"$f":"IF(Worksheet!N74=\"\",\"\",Worksheet!N74)","v":""},{"$f":"IF(Worksheet!Y74=0,\"\",Worksheet!Y74)","v":""},"Watts",null,null,{"$f":"Worksheet!AA74","v":0},{"$f":"IF(ISBLANK(Worksheet!V74)=FALSE,Worksheet!V74,\"\")","v":0},{"$f":"Worksheet!AG74","v":0},{"$f":"Worksheet!AF74","v":0},0,{"$f":"IF(ISERROR(SEARCH(\"Gas\",Worksheet!$A$18))=TRUE,0,Worksheet!AH74)","v":0},0,null,null,{"$f":"IF(OR(Worksheet!F74=\"Incandescent\",Worksheet!F74=\"Halogen Incandescent\")=TRUE,118,IF(LEFT(Worksheet!F74,3)=\"HID\",117,IF(OR(RIGHT(Worksheet!F74,3)=\"T12\",RIGHT(Worksheet!F74,5)=\"T12HO\")=TRUE,115,IF(OR(RIGHT(Worksheet!F74,2)=\"T8\",RIGHT(Worksheet!F74,4)=\"RWT8\",RIGHT(Worksheet!F74,4)=\"T8HO\")=TRUE,115,\"\"))))","v":""},{"$f":"IF(ISBLANK(Worksheet!W74)=FALSE,Worksheet!W74,\"\")","v":0},{"$f":"IF(ISERROR(SEARCH(\"Oil\",Worksheet!$A$18))=TRUE,0,Worksheet!AH74)","v":0},0,{"$f":"IF(ISERROR(SEARCH(\"Propane\",Worksheet!$A$18))=TRUE,0,Worksheet!AH74)","v":0},0,{"$f":"IF(Worksheet!J74=0,\"\",Worksheet!J74)","v":""},{"$f":"IF(Worksheet!B74=0,\"\",Worksheet!B74)","v":""},{"$f":"IF(Worksheet!K74=0,\"\",Worksheet!K74)","v":""},{"$f":"IF(Worksheet!L74=0,\"\",Worksheet!L74)","v":""},{"$f":"IF(Worksheet!R74=0,\"\",Worksheet!R74)","v":""},{"$f":"IF(Worksheet!F74=0,\"\",Worksheet!F74)","v":""},{"$f":"IF(Worksheet!G74=0,\"\",Worksheet!G74)","v":""},{"$f":"IF(Worksheet!X74=0,\"\",Worksheet!X74)","v":""},{"$f":"IF(Worksheet!Q74=0,\"\",Worksheet!Q74)","v":""},{"$f":"IF(Worksheet!C74=0,\"\",Worksheet!C74)","v":""},{"$f":"IF(Worksheet!D74=0,\"\",Worksheet!D74)","v":""},{"$f":"IF(Worksheet!$A$11=TRUE,\"Y\",\"N\")","v":"N"},{"$f":"IF(Worksheet!$A$12=TRUE,\"Y\",\"N\")","v":"N"},{"$f":"IF(Worksheet!$B$11=TRUE,\"Y\",\"N\")","v":"N"},{"$f":"IF(Worksheet!$B$12=TRUE,\"Y\",\"N\")","v":"N"},{"$f":"IF(Worksheet!$C$11=TRUE,\"Y\",\"N\")","v":"N"},{"$f":"IFERROR(Worksheet!AB74,\"\")","v":0}]
[{"$f":"IF(IFERROR(SEARCH(\"Refrigerated\",Worksheet!L75,1),0)>0,122,IF(ISERROR(RIGHT(VLOOKUP(Worksheet!K75,Type!C$1:E$13,3,FALSE),3))=FALSE,RIGHT(VLOOKUP(Worksheet!K75,Type!C$1:E$13,3,FALSE),3),\"\"))","v":""},{"$f":"IF(Worksheet!M75=\"\",\"\",Worksheet!M75)","v":""},{"$f":"IF(Worksheet!N75=\"\",\"\",Worksheet!N75)","v":""},{"$f":"IF(Worksheet!Y75=0,\"\",Worksheet!Y75)","v":""},"Watts",null,null,{"$f":"Worksheet!AA75","v":0},{"$f":"IF(ISBLANK(Worksheet!V75)=FALSE,Worksheet!V75,\"\")","v":0},{"$f":"Worksheet!AG75","v":0},{"$f":"Worksheet!AF75","v":0},0,{"$f":"IF(ISERROR(SEARCH(\"Gas\",Worksheet!$A$18))=TRUE,0,Worksheet!AH75)","v":0},0,null,null,{"$f":"IF(OR(Worksheet!F75=\"Incandescent\",Worksheet!F75=\"Halogen Incandescent\")=TRUE,118,IF(LEFT(Worksheet!F75,3)=\"HID\",117,IF(OR(RIGHT(Worksheet!F75,3)=\"T12\",RIGHT(Worksheet!F75,5)=\"T12HO\")=TRUE,115,IF(OR(RIGHT(Worksheet!F75,2)=\"T8\",RIGHT(Worksheet!F75,4)=\"RWT8\",RIGHT(Worksheet!F75,4)=\"T8HO\")=TRUE,115,\"\"))))","v":""},{"$f":"IF(ISBLANK(Worksheet!W75)=FALSE,Worksheet!W75,\"\")","v":0},{"$f":"IF(ISERROR(SEARCH(\"Oil\",Worksheet!$A$18))=TRUE,0,Worksheet!AH75)","v":0},0,{"$f":"IF(ISERROR(SEARCH(\"Propane\",Worksheet!$A$18))=TRUE,0,Worksheet!AH75)","v":0},0,{"$f":"IF(Worksheet!J75=0,\"\",Worksheet!J75)","v":""},{"$f":"IF(Worksheet!B75=0,\"\",Worksheet!B75)","v":""},{"$f":"IF(Worksheet!K75=0,\"\",Worksheet!K75)","v":""},{"$f":"IF(Worksheet!L75=0,\"\",Worksheet!L75)","v":""},{"$f":"IF(Worksheet!R75=0,\"\",Worksheet!R75)","v":""},{"$f":"IF(Worksheet!F75=0,\"\",Worksheet!F75)","v":""},{"$f":"IF(Worksheet!G75=0,\"\",Worksheet!G75)","v":""},{"$f":"IF(Worksheet!X75=0,\"\",Worksheet!X75)","v":""},{"$f":"IF(Worksheet!Q75=0,\"\",Worksheet!Q75)","v":""},{"$f":"IF(Worksheet!C75=0,\"\",Worksheet!C75)","v":""},{"$f":"IF(Worksheet!D75=0,\"\",Worksheet!D75)","v":""},{"$f":"IF(Worksheet!$A$11=TRUE,\"Y\",\"N\")","v":"N"},{"$f":"IF(Worksheet!$A$12=TRUE,\"Y\",\"N\")","v":"N"},{"$f":"IF(Worksheet!$B$11=TRUE,\"Y\",\"N\")","v":"N"},{"$f":"IF(Worksheet!$B$12=TRUE,\"Y\",\"N\")","v":"N"},{"$f":"IF(Worksheet!$C$11=TRUE,\"Y\",\"N\")","v":"N"},{"$f":"IFERROR(Worksheet!AB75,\"\")","v":0}]
[{"$f":"IF(IFERROR(SEARCH(\"Refrigerated\",Worksheet!L76,1),0)>0,122,IF(ISERROR(RIGHT(VLOOKUP(Worksheet!K76,Type!C$1:E$13,3,FALSE),3))=FALSE,RIGHT(VLOOKUP(Worksheet!K76,Type!C$1:E$13,3,FALSE),3),\"\"))","v":""},{"$f":"IF(Worksheet!M76=\"\",\"\",Worksheet!M76)","v":""},{"$f":"IF(Worksheet!N76=\"\",\"\",Worksheet!N76)","v":""},{"$f":"IF(Worksheet!Y76=0,\"\",Worksheet!Y76)","v":""},"Watts",null,null,{"$f":"Worksheet!AA76","v":0},{"$f":"IF(ISBLANK(Worksheet!V76)=FALSE,Worksheet!V76,\"\")","v":0},{"$f":"Worksheet!AG76","v":0},{"$f":"Worksheet!AF76","v":0},0,{"$f":"IF(ISERROR(SEARCH(\"Gas\",Worksheet!$A$18))=TRUE,0,Worksheet!AH76)","v":0},0,null,null,{"$f":"IF(OR(Worksheet!F76=\"Incandescent\",Worksheet!F76=\"Halogen Incandescent\")=TRUE,118,IF(LEFT(Worksheet!F76,3)=\"HID\",117,IF(OR(RIGHT(Worksheet!F76,3)=\"T12\",RIGHT(Worksheet!F76,5)=\"T12HO\")=TRUE,115,IF(OR(RIGHT(Worksheet!F76,2)=\"T8\",RIGHT(Worksheet!F76,4)=\"RWT8\",RIGHT(Worksheet!F76,4)=\"T8HO\")=TRUE,115,\"\"))))","v":""},{"$f":"IF(ISBLANK(Worksheet!W76)=FALSE,Worksheet!W76,\"\")","v":0},{"$f":"IF(ISERROR(SEARCH(\"Oil\",Worksheet!$A$18))=TRUE,0,Worksheet!AH76)","v":0},0,{"$f":"IF(ISERROR(SEARCH(\"Propane\",Worksheet!$A$18))=TRUE,0,Worksheet!AH76)","v":0},0,{"$f":"IF(Worksheet!J76=0,\"\",Worksheet!J76)","v":""},{"$f":"IF(Worksheet!B76=0,\"\",Worksheet!B76)","v":""},{"$f":"IF(Worksheet!K76=0,\"\",Worksheet!K76)","v":""},{"$f":"IF(Worksheet!L76=0,\"\",Worksheet!L76)","v":""},{"$f":"IF(Worksheet!R76=0,\"\",Worksheet!R76)","v":""},{"$f":"IF(Worksheet!F76=0,\"\",Worksheet!F76)","v":""},{"$f":"IF(Worksheet!G76=0,\"\",Worksheet!G76)","v":""},{"$f":"IF(Worksheet!X76=0,\"\",Worksheet!X76)","v":""},{"$f":"IF(Worksheet!Q76=0,\"\",Worksheet!Q76)","v":""},{"$f":"IF(Worksheet!C76=0,\"\",Worksheet!C76)","v":""},{"$f":"IF(Worksheet!D76=0,\"\",Worksheet!D76)","v":""},{"$f":"IF(Worksheet!$A$11=TRUE,\"Y\",\"N\")","v":"N"},{"$f":"IF(Worksheet!$A$12=TRUE,\"Y\",\"N\")","v":"N"},{"$f":"IF(Worksheet!$B$11=TRUE,\"Y\",\"N\")","v":"N"},{"$f":"IF(Worksheet!$B$12=TRUE,\"Y\",\"N\")","v":"N"},{"$f":"IF(Worksheet!$C$11=TRUE,\"Y\",\"N\")","v":"N"},{"$f":"IFERROR(Worksheet!AB76,\"\")","v":0}]
[{"$f":"IF(IFERROR(SEARCH(\"Refrigerated\",Worksheet!L77,1),0)>0,122,IF(ISERROR(RIGHT(VLOOKUP(Worksheet!K77,Type!C$1:E$13,3,FALSE),3))=FALSE,RIGHT(VLOOKUP(Worksheet!K77,Type!C$1:E$13,3,FALSE),3),\"\"))","v":""},{"$f":"IF(Worksheet!M77=\"\",\"\",Worksheet!M77)","v":""},{"$f":"IF(Worksheet!N77=\"\",\"\",Worksheet!N77)","v":""},{"$f":"IF(Worksheet!Y77=0,\"\",Worksheet!Y77)","v":""},"Watts",null,null,{"$f":"Worksheet!AA77","v":0},{"$f":"IF(ISBLANK(Worksheet!V77)=FALSE,Worksheet!V77,\"\")","v":0},{"$f":"Worksheet!AG77","v":0},{"$f":"Worksheet!AF77","v":0},0,{"$f":"IF(ISERROR(SEARCH(\"Gas\",Worksheet!$A$18))=TRUE,0,Worksheet!AH77)","v":0},0,null,null,{"$f":"IF(OR(Worksheet!F77=\"Incandescent\",Worksheet!F77=\"Halogen Incandescent\")=TRUE,118,IF(LEFT(Worksheet!F77,3)=\"HID\",117,IF(OR(RIGHT(Worksheet!F77,3)=\"T12\",RIGHT(Worksheet!F77,5)=\"T12HO\")=TRUE,115,IF(OR(RIGHT(Worksheet!F77,2)=\"T8\",RIGHT(Worksheet!F77,4)=\"RWT8\",RIGHT(Worksheet!F77,4)=\"T8HO\")=TRUE,115,\"\"))))","v":""},{"$f":"IF(ISBLANK(Worksheet!W77)=FALSE,Worksheet!W77,\"\")","v":0},{"$f":"IF(ISERROR(SEARCH(\"Oil\",Worksheet!$A$18))=TRUE,0,Worksheet!AH77)","v":0},0,{"$f":"IF(ISERROR(SEARCH(\"Propane\",Worksheet!$A$18))=TRUE,0,Worksheet!AH77)","v":0},0,{"$f":"IF(Worksheet!J77=0,\"\",Worksheet!J77)","v":""},{"$f":"IF(Worksheet!B77=0,\"\",Worksheet!B77)","v":""},{"$f":"IF(Worksheet!K77=0,\"\",Worksheet!K77)","v":""},{"$f":"IF(Worksheet!L77=0,\"\",Worksheet!L77)","v":""},{"$f":"IF(Worksheet!R77=0,\"\",Worksheet!R77)","v":""},{"$f":"IF(Worksheet!F77=0,\"\",Worksheet!F77)","v":""},{"$f":"IF(Worksheet!G77=0,\"\",Worksheet!G77)","v":""},{"$f":"IF(Worksheet!X77=0,\"\",Worksheet!X77)","v":""},{"$f":"IF(Worksheet!Q77=0,\"\",Worksheet!Q77)","v":""},{"$f":"IF(Worksheet!C77=0,\"\",Worksheet!C77)","v":""},{"$f":"IF(Worksheet!D77=0,\"\",Worksheet!D77)","v":""},{"$f":"IF(Worksheet!$A$11=TRUE,\"Y\",\"N\")","v":"N"},{"$f":"IF(Worksheet!$A$12=TRUE,\"Y\",\"N\")","v":"N"},{"$f":"IF(Worksheet!$B$11=TRUE,\"Y\",\"N\")","v":"N"},{"$f":"IF(Worksheet!$B$12=TRUE,\"Y\",\"N\")","v":"N"},{"$f":"IF(Worksheet!$C$11=TRUE,\"Y\",\"N\")","v":"N"},{"$f":"IFERROR(Worksheet!AB77,\"\")","v":0}]
[{"$f":"IF(IFERROR(SEARCH(\"Refrigerated\",Worksheet!L78,1),0)>0,122,IF(ISERROR(RIGHT(VLOOKUP(Worksheet!K78,Type!C$1:E$13,3,FALSE),3))=FALSE,RIGHT(VLOOKUP(Worksheet!K78,Type!C$1:E$13,3,FALSE),3),\"\"))","v":""},{"$f":"IF(Worksheet!M78=\"\",\"\",Worksheet!M78)","v":""},{"$f":"IF(Worksheet!N78=\"\",\"\",Worksheet!N78)","v":""},{"$f":"IF(Worksheet!Y78=0,\"\",Worksheet!Y78)","v":""},"Watts",null,null,{"$f":"Worksheet!AA78","v":0},{"$f":"IF(ISBLANK(Worksheet!V78)=FALSE,Worksheet!V78,\"\")","v":0},{"$f":"Worksheet!AG78","v":0},{"$f":"Worksheet!AF78","v":0},0,{"$f":"IF(ISERROR(SEARCH(\"Gas\",Worksheet!$A$18))=TRUE,0,Worksheet!AH78)","v":0},0,null,null,{"$f":"IF(OR(Worksheet!F78=\"Incandescent\",Worksheet!F78=\"Halogen Incandescent\")=TRUE,118,IF(LEFT(Worksheet!F78,3)=\"HID\",117,IF(OR(RIGHT(Worksheet!F78,3)=\"T12\",RIGHT(Worksheet!F78,5)=\"T12HO\")=TRUE,115,IF(OR(RIGHT(Worksheet!F78,2)=\"T8\",RIGHT(Worksheet!F78,4)=\"RWT8\",RIGHT(Worksheet!F78,4)=\"T8HO\")=TRUE,115,\"\"))))","v":""},{"$f":"IF(ISBLANK(Worksheet!W78)=FALSE,Worksheet!W78,\"\")","v":0},{"$f":"IF(ISERROR(SEARCH(\"Oil\",Worksheet!$A$18))=TRUE,0,Worksheet!AH78)","v":0},0,{"$f":"IF(ISERROR(SEARCH(\"Propane\",Worksheet!$A$18))=TRUE,0,Worksheet!AH78)","v":0},0,{"$f":"IF(Worksheet!J78=0,\"\",Worksheet!J78)","v":""},{"$f":"IF(Worksheet!B78=0,\"\",Worksheet!B78)","v":""},{"$f":"IF(Worksheet!K78=0,\"\",Worksheet!K78)","v":""},{"$f":"IF(Worksheet!L78=0,\"\",Worksheet!L78)","v":""},{"$f":"IF(Worksheet!R78=0,\"\",Worksheet!R78)","v":""},{"$f":"IF(Worksheet!F78=0,\"\",Worksheet!F78)","v":""},{"$f":"IF(Worksheet!G78=0,\"\",Worksheet!G78)","v":""},{"$f":"IF(Worksheet!X78=0,\"\",Worksheet!X78)","v":""},{"$f":"IF(Worksheet!Q78=0,\"\",Worksheet!Q78)","v":""},{"$f":"IF(Worksheet!C78=0,\"\",Worksheet!C78)","v":""},{"$f":"IF(Worksheet!D78=0,\"\",Worksheet!D78)","v":""},{"$f":"IF(Worksheet!$A$11=TRUE,\"Y\",\"N\")","v":"N"},{"$f":"IF(Worksheet!$A$12=TRUE,\"Y\",\"N\")","v":"N"},{"$f":"IF(Worksheet!$B$11=TRUE,\"Y\",\"N\")","v":"N"},{"$f":"IF(Worksheet!$B$12=TRUE,\"Y\",\"N\")","v":"N"},{"$f":"IF(Worksheet!$C$11=TRUE,\"Y\",\"N\")","v":"N"},{"$f":"IFERROR(Worksheet!AB78,\"\")","v":0}]
[{"$f":"IF(IFERROR(SEARCH(\"Refrigerated\",Worksheet!L79,1),0)>0,122,IF(ISERROR(RIGHT(VLOOKUP(Worksheet!K79,Type!C$1:E$13,3,FALSE),3))=FALSE,RIGHT(VLOOKUP(Worksheet!K79,Type!C$1:E$13,3,FALSE),3),\"\"))","v":""},{"$f":"IF(Worksheet!M79=\"\",\"\",Worksheet!M79)","v":""},{"$f":"IF(Worksheet!N79=\"\",\"\",Worksheet!N79)","v":""},{"$f":"IF(Worksheet!Y79=0,\"\",Worksheet!Y79)","v":""},"Watts",null,null,{"$f":"Worksheet!AA79","v":0},{"$f":"IF(ISBLANK(Worksheet!V79)=FALSE,Worksheet!V79,\"\")","v":0},{"$f":"Worksheet!AG79","v":0},{"$f":"Worksheet!AF79","v":0},0,{"$f":"IF(ISERROR(SEARCH(\"Gas\",Worksheet!$A$18))=TRUE,0,Worksheet!AH79)","v":0},0,null,null,{"$f":"IF(OR(Worksheet!F79=\"Incandescent\",Worksheet!F79=\"Halogen Incandescent\")=TRUE,118,IF(LEFT(Worksheet!F79,3)=\"HID\",117,IF(OR(RIGHT(Worksheet!F79,3)=\"T12\",RIGHT(Worksheet!F79,5)=\"T12HO\")=TRUE,115,IF(OR(RIGHT(Worksheet!F79,2)=\"T8\",RIGHT(Worksheet!F79,4)=\"RWT8\",RIGHT(Worksheet!F79,4)=\"T8HO\")=TRUE,115,\"\"))))","v":""},{"$f":"IF(ISBLANK(Worksheet!W79)=FALSE,Worksheet!W79,\"\")","v":0},{"$f":"IF(ISERROR(SEARCH(\"Oil\",Worksheet!$A$18))=TRUE,0,Worksheet!AH79)","v":0},0,{"$f":"IF(ISERROR(SEARCH(\"Propane\",Worksheet!$A$18))=TRUE,0,Worksheet!AH79)","v":0},0,{"$f":"IF(Worksheet!J79=0,\"\",Worksheet!J79)","v":""},{"$f":"IF(Worksheet!B79=0,\"\",Worksheet!B79)","v":""},{"$f":"IF(Worksheet!K79=0,\"\",Worksheet!K79)","v":""},{"$f":"IF(Worksheet!L79=0,\"\",Worksheet!L79)","v":""},{"$f":"IF(Worksheet!R79=0,\"\",Worksheet!R79)","v":""},{"$f":"IF(Worksheet!F79=0,\"\",Worksheet!F79)","v":""},{"$f":"IF(Worksheet!G79=0,\"\",Worksheet!G79)","v":""},{"$f":"IF(Worksheet!X79=0,\"\",Worksheet!X79)","v":""},{"$f":"IF(Worksheet!Q79=0,\"\",Worksheet!Q79)","v":""},{"$f":"IF(Worksheet!C79=0,\"\",Worksheet!C79)","v":""},{"$f":"IF(Worksheet!D79=0,\"\",Worksheet!D79)","v":""},{"$f":"IF(Worksheet!$A$11=TRUE,\"Y\",\"N\")","v":"N"},{"$f":"IF(Worksheet!$A$12=TRUE,\"Y\",\"N\")","v":"N"},{"$f":"IF(Worksheet!$B$11=TRUE,\"Y\",\"N\")","v":"N"},{"$f":"IF(Worksheet!$B$12=TRUE,\"Y\",\"N\")","v":"N"},{"$f":"IF(Worksheet!$C$11=TRUE,\"Y\",\"N\")","v":"N"},{"$f":"IFERROR(Worksheet!AB79,\"\")","v":0}]
[{"$f":"IF(IFERROR(SEARCH(\"Refrigerated\",Worksheet!L80,1),0)>0,122,IF(ISERROR(RIGHT(VLOOKUP(Worksheet!K80,Type!C$1:E$13,3,FALSE),3))=FALSE,RIGHT(VLOOKUP(Worksheet!K80,Type!C$1:E$13,3,FALSE),3),\"\"))","v":""},{"$f":"IF(Worksheet!M80=\"\",\"\",Worksheet!M80)","v":""},{"$f":"IF(Worksheet!N80=\"\",\"\",Worksheet!N80)","v":""},{"$f":"IF(Worksheet!Y80=0,\"\",Worksheet!Y80)","v":""},"Watts",null,null,{"$f":"Worksheet!AA80","v":0},{"$f":"IF(ISBLANK(Worksheet!V80)=FALSE,Worksheet!V80,\"\")","v":0},{"$f":"Worksheet!AG80","v":0},{"$f":"Worksheet!AF80","v":0},0,{"$f":"IF(ISERROR(SEARCH(\"Gas\",Worksheet!$A$18))=TRUE,0,Worksheet!AH80)","v":0},0,null,null,{"$f":"IF(OR(Worksheet!F80=\"Incandescent\",Worksheet!F80=\"Halogen Incandescent\")=TRUE,118,IF(LEFT(Worksheet!F80,3)=\"HID\",117,IF(OR(RIGHT(Worksheet!F80,3)=\"T12\",RIGHT(Worksheet!F80,5)=\"T12HO\")=TRUE,115,IF(OR(RIGHT(Worksheet!F80,2)=\"T8\",RIGHT(Worksheet!F80,4)=\"RWT8\",RIGHT(Worksheet!F80,4)=\"T8HO\")=TRUE,115,\"\"))))","v":""},{"$f":"IF(ISBLANK(Worksheet!W80)=FALSE,Worksheet!W80,\"\")","v":0},{"$f":"IF(ISERROR(SEARCH(\"Oil\",Worksheet!$A$18))=TRUE,0,Worksheet!AH80)","v":0},0,{"$f":"IF(ISERROR(SEARCH(\"Propane\",Worksheet!$A$18))=TRUE,0,Worksheet!AH80)","v":0},0,{"$f":"IF(Worksheet!J80=0,\"\",Worksheet!J80)","v":""},{"$f":"IF(Worksheet!B80=0,\"\",Worksheet!B80)","v":""},{"$f":"IF(Worksheet!K80=0,\"\",Worksheet!K80)","v":""},{"$f":"IF(Worksheet!L80=0,\"\",Worksheet!L80)","v":""},{"$f":"IF(Worksheet!R80=0,\"\",Worksheet!R80)","v":""},{"$f":"IF(Worksheet!F80=0,\"\",Worksheet!F80)","v":""},{"$f":"IF(Worksheet!G80=0,\"\",Worksheet!G80)","v":""},{"$f":"IF(Worksheet!X80=0,\"\",Worksheet!X80)","v":""},{"$f":"IF(Worksheet!Q80=0,\"\",Worksheet!Q80)","v":""},{"$f":"IF(Worksheet!C80=0,\"\",Worksheet!C80)","v":""},{"$f":"IF(Worksheet!D80=0,\"\",Worksheet!D80)","v":""},{"$f":"IF(Worksheet!$A$11=TRUE,\"Y\",\"N\")","v":"N"},{"$f":"IF(Worksheet!$A$12=TRUE,\"Y\",\"N\")","v":"N"},{"$f":"IF(Worksheet!$B$11=TRUE,\"Y\",\"N\")","v":"N"},{"$f":"IF(Worksheet!$B$12=TRUE,\"Y\",\"N\")","v":"N"},{"$f":"IF(Worksheet!$C$11=TRUE,\"Y\",\"N\")","v":"N"},{"$f":"IFERROR(Worksheet!AB80,\"\")","v":0}]
[{"$f":"IF(IFERROR(SEARCH(\"Refrigerated\",Worksheet!L81,1),0)>0,122,IF(ISERROR(RIGHT(VLOOKUP(Worksheet!K81,Type!C$1:E$13,3,FALSE),3))=FALSE,RIGHT(VLOOKUP(Worksheet!K81,Type!C$1:E$13,3,FALSE),3),\"\"))","v":""},{"$f":"IF(Worksheet!M81=\"\",\"\",Worksheet!M81)","v":""},{"$f":"IF(Worksheet!N81=\"\",\"\",Worksheet!N81)","v":""},{"$f":"IF(Worksheet!Y81=0,\"\",Worksheet!Y81)","v":""},"Watts",null,null,{"$f":"Worksheet!AA81","v":0},{"$f":"IF(ISBLANK(Worksheet!V81)=FALSE,Worksheet!V81,\"\")","v":0},{"$f":"Worksheet!AG81","v":0},{"$f":"Worksheet!AF81","v":0},0,{"$f":"IF(ISERROR(SEARCH(\"Gas\",Worksheet!$A$18))=TRUE,0,Worksheet!AH81)","v":0},0,null,null,{"$f":"IF(OR(Worksheet!F81=\"Incandescent\",Worksheet!F81=\"Halogen Incandescent\")=TRUE,118,IF(LEFT(Worksheet!F81,3)=\"HID\",117,IF(OR(RIGHT(Worksheet!F81,3)=\"T12\",RIGHT(Worksheet!F81,5)=\"T12HO\")=TRUE,115,IF(OR(RIGHT(Worksheet!F81,2)=\"T8\",RIGHT(Worksheet!F81,4)=\"RWT8\",RIGHT(Worksheet!F81,4)=\"T8HO\")=TRUE,115,\"\"))))","v":""},{"$f":"IF(ISBLANK(Worksheet!W81)=FALSE,Worksheet!W81,\"\")","v":0},{"$f":"IF(ISERROR(SEARCH(\"Oil\",Worksheet!$A$18))=TRUE,0,Worksheet!AH81)","v":0},0,{"$f":"IF(ISERROR(SEARCH(\"Propane\",Worksheet!$A$18))=TRUE,0,Worksheet!AH81)","v":0},0,{"$f":"IF(Worksheet!J81=0,\"\",Worksheet!J81)","v":""},{"$f":"IF(Worksheet!B81=0,\"\",Worksheet!B81)","v":""},{"$f":"IF(Worksheet!K81=0,\"\",Worksheet!K81)","v":""},{"$f":"IF(Worksheet!L81=0,\"\",Worksheet!L81)","v":""},{"$f":"IF(Worksheet!R81=0,\"\",Worksheet!R81)","v":""},{"$f":"IF(Worksheet!F81=0,\"\",Worksheet!F81)","v":""},{"$f":"IF(Worksheet!G81=0,\"\",Worksheet!G81)","v":""},{"$f":"IF(Worksheet!X81=0,\"\",Worksheet!X81)","v":""},{"$f":"IF(Worksheet!Q81=0,\"\",Worksheet!Q81)","v":""},{"$f":"IF(Worksheet!C81=0,\"\",Worksheet!C81)","v":""},{"$f":"IF(Worksheet!D81=0,\"\",Worksheet!D81)","v":""},{"$f":"IF(Worksheet!$A$11=TRUE,\"Y\",\"N\")","v":"N"},{"$f":"IF(Worksheet!$A$12=TRUE,\"Y\",\"N\")","v":"N"},{"$f":"IF(Worksheet!$B$11=TRUE,\"Y\",\"N\")","v":"N"},{"$f":"IF(Worksheet!$B$12=TRUE,\"Y\",\"N\")","v":"N"},{"$f":"IF(Worksheet!$C$11=TRUE,\"Y\",\"N\")","v":"N"},{"$f":"IFERROR(Worksheet!AB81,\"\")","v":0}]
[{"$f":"IF(IFERROR(SEARCH(\"Refrigerated\",Worksheet!L82,1),0)>0,122,IF(ISERROR(RIGHT(VLOOKUP(Worksheet!K82,Type!C$1:E$13,3,FALSE),3))=FALSE,RIGHT(VLOOKUP(Worksheet!K82,Type!C$1:E$13,3,FALSE),3),\"\"))","v":""},{"$f":"IF(Worksheet!M82=\"\",\"\",Worksheet!M82)","v":""},{"$f":"IF(Worksheet!N82=\"\",\"\",Worksheet!N82)","v":""},{"$f":"IF(Worksheet!Y82=0,\"\",Worksheet!Y82)","v":""},"Watts",null,null,{"$f":"Worksheet!AA82","v":0},{"$f":"IF(ISBLANK(Worksheet!V82)=FALSE,Worksheet!V82,\"\")","v":0},{"$f":"Worksheet!AG82","v":0},{"$f":"Worksheet!AF82","v":0},0,{"$f":"IF(ISERROR(SEARCH(\"Gas\",Worksheet!$A$18))=TRUE,0,Worksheet!AH82)","v":0},0,null,null,{"$f":"IF(OR(Worksheet!F82=\"Incandescent\",Worksheet!F82=\"Halogen Incandescent\")=TRUE,118,IF(LEFT(Worksheet!F82,3)=\"HID\",117,IF(OR(RIGHT(Worksheet!F82,3)=\"T12\",RIGHT(Worksheet!F82,5)=\"T12HO\")=TRUE,115,IF(OR(RIGHT(Worksheet!F82,2)=\"T8\",RIGHT(Worksheet!F82,4)=\"RWT8\",RIGHT(Worksheet!F82,4)=\"T8HO\")=TRUE,115,\"\"))))","v":""},{"$f":"IF(ISBLANK(Worksheet!W82)=FALSE,Worksheet!W82,\"\")","v":0},{"$f":"IF(ISERROR(SEARCH(\"Oil\",Worksheet!$A$18))=TRUE,0,Worksheet!AH82)","v":0},0,{"$f":"IF(ISERROR(SEARCH(\"Propane\",Worksheet!$A$18))=TRUE,0,Worksheet!AH82)","v":0},0,{"$f":"IF(Worksheet!J82=0,\"\",Worksheet!J82)","v":""},{"$f":"IF(Worksheet!B82=0,\"\",Worksheet!B82)","v":""},{"$f":"IF(Worksheet!K82=0,\"\",Worksheet!K82)","v":""},{"$f":"IF(Worksheet!L82=0,\"\",Worksheet!L82)","v":""},{"$f":"IF(Worksheet!R82=0,\"\",Worksheet!R82)","v":""},{"$f":"IF(Worksheet!F82=0,\"\",Worksheet!F82)","v":""},{"$f":"IF(Worksheet!G82=0,\"\",Worksheet!G82)","v":""},{"$f":"IF(Worksheet!X82=0,\"\",Worksheet!X82)","v":""},{"$f":"IF(Worksheet!Q82=0,\"\",Worksheet!Q82)","v":""},{"$f":"IF(Worksheet!C82=0,\"\",Worksheet!C82)","v":""},{"$f":"IF(Worksheet!D82=0,\"\",Worksheet!D82)","v":""},{"$f":"IF(Worksheet!$A$11=TRUE,\"Y\",\"N\")","v":"N"},{"$f":"IF(Worksheet!$A$12=TRUE,\"Y\",\"N\")","v":"N"},{"$f":"IF(Worksheet!$B$11=TRUE,\"Y\",\"N\")","v":"N"},{"$f":"IF(Worksheet!$B$12=TRUE,\"Y\",\"N\")","v":"N"},{"$f":"IF(Worksheet!$C$11=TRUE,\"Y\",\"N\")","v":"N"},{"$f":"IFERROR(Worksheet!AB82,\"\")","v":0}]
[{"$f":"IF(IFERROR(SEARCH(\"Refrigerated\",Worksheet!L83,1),0)>0,122,IF(ISERROR(RIGHT(VLOOKUP(Worksheet!K83,Type!C$1:E$13,3,FALSE),3))=FALSE,RIGHT(VLOOKUP(Worksheet!K83,Type!C$1:E$13,3,FALSE),3),\"\"))","v":""},{"$f":"IF(Worksheet!M83=\"\",\"\",Worksheet!M83)","v":""},{"$f":"IF(Worksheet!N83=\"\",\"\",Worksheet!N83)","v":""},{"$f":"IF(Worksheet!Y83=0,\"\",Worksheet!Y83)","v":""},"Watts",null,null,{"$f":"Worksheet!AA83","v":0},{"$f":"IF(ISBLANK(Worksheet!V83)=FALSE,Worksheet!V83,\"\")","v":0},{"$f":"Worksheet!AG83","v":0},{"$f":"Worksheet!AF83","v":0},0,{"$f":"IF(ISERROR(SEARCH(\"Gas\",Worksheet!$A$18))=TRUE,0,Worksheet!AH83)","v":0},0,null,null,{"$f":"IF(OR(Worksheet!F83=\"Incandescent\",Worksheet!F83=\"Halogen Incandescent\")=TRUE,118,IF(LEFT(Worksheet!F83,3)=\"HID\",117,IF(OR(RIGHT(Worksheet!F83,3)=\"T12\",RIGHT(Worksheet!F83,5)=\"T12HO\")=TRUE,115,IF(OR(RIGHT(Worksheet!F83,2)=\"T8\",RIGHT(Worksheet!F83,4)=\"RWT8\",RIGHT(Worksheet!F83,4)=\"T8HO\")=TRUE,115,\"\"))))","v":""},{"$f":"IF(ISBLANK(Worksheet!W83)=FALSE,Worksheet!W83,\"\")","v":0},{"$f":"IF(ISERROR(SEARCH(\"Oil\",Worksheet!$A$18))=TRUE,0,Worksheet!AH83)","v":0},0,{"$f":"IF(ISERROR(SEARCH(\"Propane\",Worksheet!$A$18))=TRUE,0,Worksheet!AH83)","v":0},0,{"$f":"IF(Worksheet!J83=0,\"\",Worksheet!J83)","v":""},{"$f":"IF(Worksheet!B83=0,\"\",Worksheet!B83)","v":""},{"$f":"IF(Worksheet!K83=0,\"\",Worksheet!K83)","v":""},{"$f":"IF(Worksheet!L83=0,\"\",Worksheet!L83)","v":""},{"$f":"IF(Worksheet!R83=0,\"\",Worksheet!R83)","v":""},{"$f":"IF(Worksheet!F83=0,\"\",Worksheet!F83)","v":""},{"$f":"IF(Worksheet!G83=0,\"\",Worksheet!G83)","v":""},{"$f":"IF(Worksheet!X83=0,\"\",Worksheet!X83)","v":""},{"$f":"IF(Worksheet!Q83=0,\"\",Worksheet!Q83)","v":""},{"$f":"IF(Worksheet!C83=0,\"\",Worksheet!C83)","v":""},{"$f":"IF(Worksheet!D83=0,\"\",Worksheet!D83)","v":""},{"$f":"IF(Worksheet!$A$11=TRUE,\"Y\",\"N\")","v":"N"},{"$f":"IF(Worksheet!$A$12=TRUE,\"Y\",\"N\")","v":"N"},{"$f":"IF(Worksheet!$B$11=TRUE,\"Y\",\"N\")","v":"N"},{"$f":"IF(Worksheet!$B$12=TRUE,\"Y\",\"N\")","v":"N"},{"$f":"IF(Worksheet!$C$11=TRUE,\"Y\",\"N\")","v":"N"},{"$f":"IFERROR(Worksheet!AB83,\"\")","v":0}]
[{"$f":"IF(IFERROR(SEARCH(\"Refrigerated\",Worksheet!L84,1),0)>0,122,IF(ISERROR(RIGHT(VLOOKUP(Worksheet!K84,Type!C$1:E$13,3,FALSE),3))=FALSE,RIGHT(VLOOKUP(Worksheet!K84,Type!C$1:E$13,3,FALSE),3),\"\"))","v":""},{"$f":"IF(Worksheet!M84=\"\",\"\",Worksheet!M84)","v":""},{"$f":"IF(Worksheet!N84=\"\",\"\",Worksheet!N84)","v":""},{"$f":"IF(Worksheet!Y84=0,\"\",Worksheet!Y84)","v":""},"Watts",null,null,{"$f":"Worksheet!AA84","v":0},{"$f":"IF(ISBLANK(Worksheet!V84)=FALSE,Worksheet!V84,\"\")","v":0},{"$f":"Worksheet!AG84","v":0},{"$f":"Worksheet!AF84","v":0},0,{"$f":"IF(ISERROR(SEARCH(\"Gas\",Worksheet!$A$18))=TRUE,0,Worksheet!AH84)","v":0},0,null,null,{"$f":"IF(OR(Worksheet!F84=\"Incandescent\",Worksheet!F84=\"Halogen Incandescent\")=TRUE,118,IF(LEFT(Worksheet!F84,3)=\"HID\",117,IF(OR(RIGHT(Worksheet!F84,3)=\"T12\",RIGHT(Worksheet!F84,5)=\"T12HO\")=TRUE,115,IF(OR(RIGHT(Worksheet!F84,2)=\"T8\",RIGHT(Worksheet!F84,4)=\"RWT8\",RIGHT(Worksheet!F84,4)=\"T8HO\")=TRUE,115,\"\"))))","v":""},{"$f":"IF(ISBLANK(Worksheet!W84)=FALSE,Worksheet!W84,\"\")","v":0},{"$f":"IF(ISERROR(SEARCH(\"Oil\",Worksheet!$A$18))=TRUE,0,Worksheet!AH84)","v":0},0,{"$f":"IF(ISERROR(SEARCH(\"Propane\",Worksheet!$A$18))=TRUE,0,Worksheet!AH84)","v":0},0,{"$f":"IF(Worksheet!J84=0,\"\",Worksheet!J84)","v":""},{"$f":"IF(Worksheet!B84=0,\"\",Worksheet!B84)","v":""},{"$f":"IF(Worksheet!K84=0,\"\",Worksheet!K84)","v":""},{"$f":"IF(Worksheet!L84=0,\"\",Worksheet!L84)","v":""},{"$f":"IF(Worksheet!R84=0,\"\",Worksheet!R84)","v":""},{"$f":"IF(Worksheet!F84=0,\"\",Worksheet!F84)","v":""},{"$f":"IF(Worksheet!G84=0,\"\",Worksheet!G84)","v":""},{"$f":"IF(Worksheet!X84=0,\"\",Worksheet!X84)","v":""},{"$f":"IF(Worksheet!Q84=0,\"\",Worksheet!Q84)","v":""},{"$f":"IF(Worksheet!C84=0,\"\",Worksheet!C84)","v":""},{"$f":"IF(Worksheet!D84=0,\"\",Worksheet!D84)","v":""},{"$f":"IF(Worksheet!$A$11=TRUE,\"Y\",\"N\")","v":"N"},{"$f":"IF(Worksheet!$A$12=TRUE,\"Y\",\"N\")","v":"N"},{"$f":"IF(Worksheet!$B$11=TRUE,\"Y\",\"N\")","v":"N"},{"$f":"IF(Worksheet!$B$12=TRUE,\"Y\",\"N\")","v":"N"},{"$f":"IF(Worksheet!$C$11=TRUE,\"Y\",\"N\")","v":"N"},{"$f":"IFERROR(Worksheet!AB84,\"\")","v":0}]
[{"$f":"IF(IFERROR(SEARCH(\"Refrigerated\",Worksheet!L85,1),0)>0,122,IF(ISERROR(RIGHT(VLOOKUP(Worksheet!K85,Type!C$1:E$13,3,FALSE),3))=FALSE,RIGHT(VLOOKUP(Worksheet!K85,Type!C$1:E$13,3,FALSE),3),\"\"))","v":""},{"$f":"IF(Worksheet!M85=\"\",\"\",Worksheet!M85)","v":""},{"$f":"IF(Worksheet!N85=\"\",\"\",Worksheet!N85)","v":""},{"$f":"IF(Worksheet!Y85=0,\"\",Worksheet!Y85)","v":""},"Watts",null,null,{"$f":"Worksheet!AA85","v":0},{"$f":"IF(ISBLANK(Worksheet!V85)=FALSE,Worksheet!V85,\"\")","v":0},{"$f":"Worksheet!AG85","v":0},{"$f":"Worksheet!AF85","v":0},0,{"$f":"IF(ISERROR(SEARCH(\"Gas\",Worksheet!$A$18))=TRUE,0,Worksheet!AH85)","v":0},0,null,null,{"$f":"IF(OR(Worksheet!F85=\"Incandescent\",Worksheet!F85=\"Halogen Incandescent\")=TRUE,118,IF(LEFT(Worksheet!F85,3)=\"HID\",117,IF(OR(RIGHT(Worksheet!F85,3)=\"T12\",RIGHT(Worksheet!F85,5)=\"T12HO\")=TRUE,115,IF(OR(RIGHT(Worksheet!F85,2)=\"T8\",RIGHT(Worksheet!F85,4)=\"RWT8\",RIGHT(Worksheet!F85,4)=\"T8HO\")=TRUE,115,\"\"))))","v":""},{"$f":"IF(ISBLANK(Worksheet!W85)=FALSE,Worksheet!W85,\"\")","v":0},{"$f":"IF(ISERROR(SEARCH(\"Oil\",Worksheet!$A$18))=TRUE,0,Worksheet!AH85)","v":0},0,{"$f":"IF(ISERROR(SEARCH(\"Propane\",Worksheet!$A$18))=TRUE,0,Worksheet!AH85)","v":0},0,{"$f":"IF(Worksheet!J85=0,\"\",Worksheet!J85)","v":""},{"$f":"IF(Worksheet!B85=0,\"\",Worksheet!B85)","v":""},{"$f":"IF(Worksheet!K85=0,\"\",Worksheet!K85)","v":""},{"$f":"IF(Worksheet!L85=0,\"\",Worksheet!L85)","v":""},{"$f":"IF(Worksheet!R85=0,\"\",Worksheet!R85)","v":""},{"$f":"IF(Worksheet!F85=0,\"\",Worksheet!F85)","v":""},{"$f":"IF(Worksheet!G85=0,\"\",Worksheet!G85)","v":""},{"$f":"IF(Worksheet!X85=0,\"\",Worksheet!X85)","v":""},{"$f":"IF(Worksheet!Q85=0,\"\",Worksheet!Q85)","v":""},{"$f":"IF(Worksheet!C85=0,\"\",Worksheet!C85)","v":""},{"$f":"IF(Worksheet!D85=0,\"\",Worksheet!D85)","v":""},{"$f":"IF(Worksheet!$A$11=TRUE,\"Y\",\"N\")","v":"N"},{"$f":"IF(Worksheet!$A$12=TRUE,\"Y\",\"N\")","v":"N"},{"$f":"IF(Worksheet!$B$11=TRUE,\"Y\",\"N\")","v":"N"},{"$f":"IF(Worksheet!$B$12=TRUE,\"Y\",\"N\")","v":"N"},{"$f":"IF(Worksheet!$C$11=TRUE,\"Y\",\"N\")","v":"N"},{"$f":"IFERROR(Worksheet!AB85,\"\")","v":0}]
[{"$f":"IF(IFERROR(SEARCH(\"Refrigerated\",Worksheet!L86,1),0)>0,122,IF(ISERROR(RIGHT(VLOOKUP(Worksheet!K86,Type!C$1:E$13,3,FALSE),3))=FALSE,RIGHT(VLOOKUP(Worksheet!K86,Type!C$1:E$13,3,FALSE),3),\"\"))","v":""},{"$f":"IF(Worksheet!M86=\"\",\"\",Worksheet!M86)","v":""},{"$f":"IF(Worksheet!N86=\"\",\"\",Worksheet!N86)","v":""},{"$f":"IF(Worksheet!Y86=0,\"\",Worksheet!Y86)","v":""},"Watts",null,null,{"$f":"Worksheet!AA86","v":0},{"$f":"IF(ISBLANK(Worksheet!V86)=FALSE,Worksheet!V86,\"\")","v":0},{"$f":"Worksheet!AG86","v":0},{"$f":"Worksheet!AF86","v":0},0,{"$f":"IF(ISERROR(SEARCH(\"Gas\",Worksheet!$A$18))=TRUE,0,Worksheet!AH86)","v":0},0,null,null,{"$f":"IF(OR(Worksheet!F86=\"Incandescent\",Worksheet!F86=\"Halogen Incandescent\")=TRUE,118,IF(LEFT(Worksheet!F86,3)=\"HID\",117,IF(OR(RIGHT(Worksheet!F86,3)=\"T12\",RIGHT(Worksheet!F86,5)=\"T12HO\")=TRUE,115,IF(OR(RIGHT(Worksheet!F86,2)=\"T8\",RIGHT(Worksheet!F86,4)=\"RWT8\",RIGHT(Worksheet!F86,4)=\"T8HO\")=TRUE,115,\"\"))))","v":""},{"$f":"IF(ISBLANK(Worksheet!W86)=FALSE,Worksheet!W86,\"\")","v":0},{"$f":"IF(ISERROR(SEARCH(\"Oil\",Worksheet!$A$18))=TRUE,0,Worksheet!AH86)","v":0},0,{"$f":"IF(ISERROR(SEARCH(\"Propane\",Worksheet!$A$18))=TRUE,0,Worksheet!AH86)","v":0},0,{"$f":"IF(Worksheet!J86=0,\"\",Worksheet!J86)","v":""},{"$f":"IF(Worksheet!B86=0,\"\",Worksheet!B86)","v":""},{"$f":"IF(Worksheet!K86=0,\"\",Worksheet!K86)","v":""},{"$f":"IF(Worksheet!L86=0,\"\",Worksheet!L86)","v":""},{"$f":"IF(Worksheet!R86=0,\"\",Worksheet!R86)","v":""},{"$f":"IF(Worksheet!F86=0,\"\",Worksheet!F86)","v":""},{"$f":"IF(Worksheet!G86=0,\"\",Worksheet!G86)","v":""},{"$f":"IF(Worksheet!X86=0,\"\",Worksheet!X86)","v":""},{"$f":"IF(Worksheet!Q86=0,\"\",Worksheet!Q86)","v":""},{"$f":"IF(Worksheet!C86=0,\"\",Worksheet!C86)","v":""},{"$f":"IF(Worksheet!D86=0,\"\",Worksheet!D86)","v":""},{"$f":"IF(Worksheet!$A$11=TRUE,\"Y\",\"N\")","v":"N"},{"$f":"IF(Worksheet!$A$12=TRUE,\"Y\",\"N\")","v":"N"},{"$f":"IF(Worksheet!$B$11=TRUE,\"Y\",\"N\")","v":"N"},{"$f":"IF(Worksheet!$B$12=TRUE,\"Y\",\"N\")","v":"N"},{"$f":"IF(Worksheet!$C$11=TRUE,\"Y\",\"N\")","v":"N"},{"$f":"IFERROR(Worksheet!AB86,\"\")","v":0}]
[{"$f":"IF(IFERROR(SEARCH(\"Refrigerated\",Worksheet!L87,1),0)>0,122,IF(ISERROR(RIGHT(VLOOKUP(Worksheet!K87,Type!C$1:E$13,3,FALSE),3))=FALSE,RIGHT(VLOOKUP(Worksheet!K87,Type!C$1:E$13,3,FALSE),3),\"\"))","v":""},{"$f":"IF(Worksheet!M87=\"\",\"\",Worksheet!M87)","v":""},{"$f":"IF(Worksheet!N87=\"\",\"\",Worksheet!N87)","v":""},{"$f":"IF(Worksheet!Y87=0,\"\",Worksheet!Y87)","v":""},"Watts",null,null,{"$f":"Worksheet!AA87","v":0},{"$f":"IF(ISBLANK(Worksheet!V87)=FALSE,Worksheet!V87,\"\")","v":0},{"$f":"Worksheet!AG87","v":0},{"$f":"Worksheet!AF87","v":0},0,{"$f":"IF(ISERROR(SEARCH(\"Gas\",Worksheet!$A$18))=TRUE,0,Worksheet!AH87)","v":0},0,null,null,{"$f":"IF(OR(Worksheet!F87=\"Incandescent\",Worksheet!F87=\"Halogen Incandescent\")=TRUE,118,IF(LEFT(Worksheet!F87,3)=\"HID\",117,IF(OR(RIGHT(Worksheet!F87,3)=\"T12\",RIGHT(Worksheet!F87,5)=\"T12HO\")=TRUE,115,IF(OR(RIGHT(Worksheet!F87,2)=\"T8\",RIGHT(Worksheet!F87,4)=\"RWT8\",RIGHT(Worksheet!F87,4)=\"T8HO\")=TRUE,115,\"\"))))","v":""},{"$f":"IF(ISBLANK(Worksheet!W87)=FALSE,Worksheet!W87,\"\")","v":0},{"$f":"IF(ISERROR(SEARCH(\"Oil\",Worksheet!$A$18))=TRUE,0,Worksheet!AH87)","v":0},0,{"$f":"IF(ISERROR(SEARCH(\"Propane\",Worksheet!$A$18))=TRUE,0,Worksheet!AH87)","v":0},0,{"$f":"IF(Worksheet!J87=0,\"\",Worksheet!J87)","v":""},{"$f":"IF(Worksheet!B87=0,\"\",Worksheet!B87)","v":""},{"$f":"IF(Worksheet!K87=0,\"\",Worksheet!K87)","v":""},{"$f":"IF(Worksheet!L87=0,\"\",Worksheet!L87)","v":""},{"$f":"IF(Worksheet!R87=0,\"\",Worksheet!R87)","v":""},{"$f":"IF(Worksheet!F87=0,\"\",Worksheet!F87)","v":""},{"$f":"IF(Worksheet!G87=0,\"\",Worksheet!G87)","v":""},{"$f":"IF(Worksheet!X87=0,\"\",Worksheet!X87)","v":""},{"$f":"IF(Worksheet!Q87=0,\"\",Worksheet!Q87)","v":""},{"$f":"IF(Worksheet!C87=0,\"\",Worksheet!C87)","v":""},{"$f":"IF(Worksheet!D87=0,\"\",Worksheet!D87)","v":""},{"$f":"IF(Worksheet!$A$11=TRUE,\"Y\",\"N\")","v":"N"},{"$f":"IF(Worksheet!$A$12=TRUE,\"Y\",\"N\")","v":"N"},{"$f":"IF(Worksheet!$B$11=TRUE,\"Y\",\"N\")","v":"N"},{"$f":"IF(Worksheet!$B$12=TRUE,\"Y\",\"N\")","v":"N"},{"$f":"IF(Worksheet!$C$11=TRUE,\"Y\",\"N\")","v":"N"},{"$f":"IFERROR(Worksheet!AB87,\"\")","v":0}]
[{"$f":"IF(IFERROR(SEARCH(\"Refrigerated\",Worksheet!L88,1),0)>0,122,IF(ISERROR(RIGHT(VLOOKUP(Worksheet!K88,Type!C$1:E$13,3,FALSE),3))=FALSE,RIGHT(VLOOKUP(Worksheet!K88,Type!C$1:E$13,3,FALSE),3),\"\"))","v":""},{"$f":"IF(Worksheet!M88=\"\",\"\",Worksheet!M88)","v":""},{"$f":"IF(Worksheet!N88=\"\",\"\",Worksheet!N88)","v":""},{"$f":"IF(Worksheet!Y88=0,\"\",Worksheet!Y88)","v":""},"Watts",null,null,{"$f":"Worksheet!AA88","v":0},{"$f":"IF(ISBLANK(Worksheet!V88)=FALSE,Worksheet!V88,\"\")","v":0},{"$f":"Worksheet!AG88","v":0},{"$f":"Worksheet!AF88","v":0},0,{"$f":"IF(ISERROR(SEARCH(\"Gas\",Worksheet!$A$18))=TRUE,0,Worksheet!AH88)","v":0},0,null,null,{"$f":"IF(OR(Worksheet!F88=\"Incandescent\",Worksheet!F88=\"Halogen Incandescent\")=TRUE,118,IF(LEFT(Worksheet!F88,3)=\"HID\",117,IF(OR(RIGHT(Worksheet!F88,3)=\"T12\",RIGHT(Worksheet!F88,5)=\"T12HO\")=TRUE,115,IF(OR(RIGHT(Worksheet!F88,2)=\"T8\",RIGHT(Worksheet!F88,4)=\"RWT8\",RIGHT(Worksheet!F88,4)=\"T8HO\")=TRUE,115,\"\"))))","v":""},{"$f":"IF(ISBLANK(Worksheet!W88)=FALSE,Worksheet!W88,\"\")","v":0},{"$f":"IF(ISERROR(SEARCH(\"Oil\",Worksheet!$A$18))=TRUE,0,Worksheet!AH88)","v":0},0,{"$f":"IF(ISERROR(SEARCH(\"Propane\",Worksheet!$A$18))=TRUE,0,Worksheet!AH88)","v":0},0,{"$f":"IF(Worksheet!J88=0,\"\",Worksheet!J88)","v":""},{"$f":"IF(Worksheet!B88=0,\"\",Worksheet!B88)","v":""},{"$f":"IF(Worksheet!K88=0,\"\",Worksheet!K88)","v":""},{"$f":"IF(Worksheet!L88=0,\"\",Worksheet!L88)","v":""},{"$f":"IF(Worksheet!R88=0,\"\",Worksheet!R88)","v":""},{"$f":"IF(Worksheet!F88=0,\"\",Worksheet!F88)","v":""},{"$f":"IF(Worksheet!G88=0,\"\",Worksheet!G88)","v":""},{"$f":"IF(Worksheet!X88=0,\"\",Worksheet!X88)","v":""},{"$f":"IF(Worksheet!Q88=0,\"\",Worksheet!Q88)","v":""},{"$f":"IF(Worksheet!C88=0,\"\",Worksheet!C88)","v":""},{"$f":"IF(Worksheet!D88=0,\"\",Worksheet!D88)","v":""},{"$f":"IF(Worksheet!$A$11=TRUE,\"Y\",\"N\")","v":"N"},{"$f":"IF(Worksheet!$A$12=TRUE,\"Y\",\"N\")","v":"N"},{"$f":"IF(Worksheet!$B$11=TRUE,\"Y\",\"N\")","v":"N"},{"$f":"IF(Worksheet!$B$12=TRUE,\"Y\",\"N\")","v":"N"},{"$f":"IF(Worksheet!$C$11=TRUE,\"Y\",\"N\")","v":"N"},{"$f":"IFERROR(Worksheet!AB88,\"\")","v":0}]
[{"$f":"IF(IFERROR(SEARCH(\"Refrigerated\",Worksheet!L89,1),0)>0,122,IF(ISERROR(RIGHT(VLOOKUP(Worksheet!K89,Type!C$1:E$13,3,FALSE),3))=FALSE,RIGHT(VLOOKUP(Worksheet!K89,Type!C$1:E$13,3,FALSE),3),\"\"))","v":""},{"$f":"IF(Worksheet!M89=\"\",\"\",Worksheet!M89)","v":""},{"$f":"IF(Worksheet!N89=\"\",\"\",Worksheet!N89)","v":""},{"$f":"IF(Worksheet!Y89=0,\"\",Worksheet!Y89)","v":""},"Watts",null,null,{"$f":"Worksheet!AA89","v":0},{"$f":"IF(ISBLANK(Worksheet!V89)=FALSE,Worksheet!V89,\"\")","v":0},{"$f":"Worksheet!AG89","v":0},{"$f":"Worksheet!AF89","v":0},0,{"$f":"IF(ISERROR(SEARCH(\"Gas\",Worksheet!$A$18))=TRUE,0,Worksheet!AH89)","v":0},0,null,null,{"$f":"IF(OR(Worksheet!F89=\"Incandescent\",Worksheet!F89=\"Halogen Incandescent\")=TRUE,118,IF(LEFT(Worksheet!F89,3)=\"HID\",117,IF(OR(RIGHT(Worksheet!F89,3)=\"T12\",RIGHT(Worksheet!F89,5)=\"T12HO\")=TRUE,115,IF(OR(RIGHT(Worksheet!F89,2)=\"T8\",RIGHT(Worksheet!F89,4)=\"RWT8\",RIGHT(Worksheet!F89,4)=\"T8HO\")=TRUE,115,\"\"))))","v":""},{"$f":"IF(ISBLANK(Worksheet!W89)=FALSE,Worksheet!W89,\"\")","v":0},{"$f":"IF(ISERROR(SEARCH(\"Oil\",Worksheet!$A$18))=TRUE,0,Worksheet!AH89)","v":0},0,{"$f":"IF(ISERROR(SEARCH(\"Propane\",Worksheet!$A$18))=TRUE,0,Worksheet!AH89)","v":0},0,{"$f":"IF(Worksheet!J89=0,\"\",Worksheet!J89)","v":""},{"$f":"IF(Worksheet!B89=0,\"\",Worksheet!B89)","v":""},{"$f":"IF(Worksheet!K89=0,\"\",Worksheet!K89)","v":""},{"$f":"IF(Worksheet!L89=0,\"\",Worksheet!L89)","v":""},{"$f":"IF(Worksheet!R89=0,\"\",Worksheet!R89)","v":""},{"$f":"IF(Worksheet!F89=0,\"\",Worksheet!F89)","v":""},{"$f":"IF(Worksheet!G89=0,\"\",Worksheet!G89)","v":""},{"$f":"IF(Worksheet!X89=0,\"\",Worksheet!X89)","v":""},{"$f":"IF(Worksheet!Q89=0,\"\",Worksheet!Q89)","v":""},{"$f":"IF(Worksheet!C89=0,\"\",Worksheet!C89)","v":""},{"$f":"IF(Worksheet!D89=0,\"\",Worksheet!D89)","v":""},{"$f":"IF(Worksheet!$A$11=TRUE,\"Y\",\"N\")","v":"N"},{"$f":"IF(Worksheet!$A$12=TRUE,\"Y\",\"N\")","v":"N"},{"$f":"IF(Worksheet!$B$11=TRUE,\"Y\",\"N\")","v":"N"},{"$f":"IF(Worksheet!$B$12=TRUE,\"Y\",\"N\")","v":"N"},{"$f":"IF(Worksheet!$C$11=TRUE,\"Y\",\"N\")","v":"N"},{"$f":"IFERROR(Worksheet!AB89,\"\")","v":0}]
[{"$f":"IF(IFERROR(SEARCH(\"Refrigerated\",Worksheet!L90,1),0)>0,122,IF(ISERROR(RIGHT(VLOOKUP(Worksheet!K90,Type!C$1:E$13,3,FALSE),3))=FALSE,RIGHT(VLOOKUP(Worksheet!K90,Type!C$1:E$13,3,FALSE),3),\"\"))","v":""},{"$f":"IF(Worksheet!M90=\"\",\"\",Worksheet!M90)","v":""},{"$f":"IF(Worksheet!N90=\"\",\"\",Worksheet!N90)","v":""},{"$f":"IF(Worksheet!Y90=0,\"\",Worksheet!Y90)","v":""},"Watts",null,null,{"$f":"Worksheet!AA90","v":0},{"$f":"IF(ISBLANK(Worksheet!V90)=FALSE,Worksheet!V90,\"\")","v":0},{"$f":"Worksheet!AG90","v":0},{"$f":"Worksheet!AF90","v":0},0,{"$f":"IF(ISERROR(SEARCH(\"Gas\",Worksheet!$A$18))=TRUE,0,Worksheet!AH90)","v":0},0,null,null,{"$f":"IF(OR(Worksheet!F90=\"Incandescent\",Worksheet!F90=\"Halogen Incandescent\")=TRUE,118,IF(LEFT(Worksheet!F90,3)=\"HID\",117,IF(OR(RIGHT(Worksheet!F90,3)=\"T12\",RIGHT(Worksheet!F90,5)=\"T12HO\")=TRUE,115,IF(OR(RIGHT(Worksheet!F90,2)=\"T8\",RIGHT(Worksheet!F90,4)=\"RWT8\",RIGHT(Worksheet!F90,4)=\"T8HO\")=TRUE,115,\"\"))))","v":""},{"$f":"IF(ISBLANK(Worksheet!W90)=FALSE,Worksheet!W90,\"\")","v":0},{"$f":"IF(ISERROR(SEARCH(\"Oil\",Worksheet!$A$18))=TRUE,0,Worksheet!AH90)","v":0},0,{"$f":"IF(ISERROR(SEARCH(\"Propane\",Worksheet!$A$18))=TRUE,0,Worksheet!AH90)","v":0},0,{"$f":"IF(Worksheet!J90=0,\"\",Worksheet!J90)","v":""},{"$f":"IF(Worksheet!B90=0,\"\",Worksheet!B90)","v":""},{"$f":"IF(Worksheet!K90=0,\"\",Worksheet!K90)","v":""},{"$f":"IF(Worksheet!L90=0,\"\",Worksheet!L90)","v":""},{"$f":"IF(Worksheet!R90=0,\"\",Worksheet!R90)","v":""},{"$f":"IF(Worksheet!F90=0,\"\",Worksheet!F90)","v":""},{"$f":"IF(Worksheet!G90=0,\"\",Worksheet!G90)","v":""},{"$f":"IF(Worksheet!X90=0,\"\",Worksheet!X90)","v":""},{"$f":"IF(Worksheet!Q90=0,\"\",Worksheet!Q90)","v":""},{"$f":"IF(Worksheet!C90=0,\"\",Worksheet!C90)","v":""},{"$f":"IF(Worksheet!D90=0,\"\",Worksheet!D90)","v":""},{"$f":"IF(Worksheet!$A$11=TRUE,\"Y\",\"N\")","v":"N"},{"$f":"IF(Worksheet!$A$12=TRUE,\"Y\",\"N\")","v":"N"},{"$f":"IF(Worksheet!$B$11=TRUE,\"Y\",\"N\")","v":"N"},{"$f":"IF(Worksheet!$B$12=TRUE,\"Y\",\"N\")","v":"N"},{"$f":"IF(Worksheet!$C$11=TRUE,\"Y\",\"N\")","v":"N"},{"$f":"IFERROR(Worksheet!AB90,\"\")","v":0}]
[{"$f":"IF(IFERROR(SEARCH(\"Refrigerated\",Worksheet!L91,1),0)>0,122,IF(ISERROR(RIGHT(VLOOKUP(Worksheet!K91,Type!C$1:E$13,3,FALSE),3))=FALSE,RIGHT(VLOOKUP(Worksheet!K91,Type!C$1:E$13,3,FALSE),3),\"\"))","v":""},{"$f":"IF(Worksheet!M91=\"\",\"\",Worksheet!M91)","v":""},{"$f":"IF(Worksheet!N91=\"\",\"\",Worksheet!N91)","v":""},{"$f":"IF(Worksheet!Y91=0,\"\",Worksheet!Y91)","v":""},"Watts",null,null,{"$f":"Worksheet!AA91","v":0},{"$f":"IF(ISBLANK(Worksheet!V91)=FALSE,Worksheet!V91,\"\")","v":0},{"$f":"Worksheet!AG91","v":0},{"$f":"Worksheet!AF91","v":0},0,{"$f":"IF(ISERROR(SEARCH(\"Gas\",Worksheet!$A$18))=TRUE,0,Worksheet!AH91)","v":0},0,null,null,{"$f":"IF(OR(Worksheet!F91=\"Incandescent\",Worksheet!F91=\"Halogen Incandescent\")=TRUE,118,IF(LEFT(Worksheet!F91,3)=\"HID\",117,IF(OR(RIGHT(Worksheet!F91,3)=\"T12\",RIGHT(Worksheet!F91,5)=\"T12HO\")=TRUE,115,IF(OR(RIGHT(Worksheet!F91,2)=\"T8\",RIGHT(Worksheet!F91,4)=\"RWT8\",RIGHT(Worksheet!F91,4)=\"T8HO\")=TRUE,115,\"\"))))","v":""},{"$f":"IF(ISBLANK(Worksheet!W91)=FALSE,Worksheet!W91,\"\")","v":0},{"$f":"IF(ISERROR(SEARCH(\"Oil\",Worksheet!$A$18))=TRUE,0,Worksheet!AH91)","v":0},0,{"$f":"IF(ISERROR(SEARCH(\"Propane\",Worksheet!$A$18))=TRUE,0,Worksheet!AH91)","v":0},0,{"$f":"IF(Worksheet!J91=0,\"\",Worksheet!J91)","v":""},{"$f":"IF(Worksheet!B91=0,\"\",Worksheet!B91)","v":""},{"$f":"IF(Worksheet!K91=0,\"\",Worksheet!K91)","v":""},{"$f":"IF(Worksheet!L91=0,\"\",Worksheet!L91)","v":""},{"$f":"IF(Worksheet!R91=0,\"\",Worksheet!R91)","v":""},{"$f":"IF(Worksheet!F91=0,\"\",Worksheet!F91)","v":""},{"$f":"IF(Worksheet!G91=0,\"\",Worksheet!G91)","v":""},{"$f":"IF(Worksheet!X91=0,\"\",Worksheet!X91)","v":""},{"$f":"IF(Worksheet!Q91=0,\"\",Worksheet!Q91)","v":""},{"$f":"IF(Worksheet!C91=0,\"\",Worksheet!C91)","v":""},{"$f":"IF(Worksheet!D91=0,\"\",Worksheet!D91)","v":""},{"$f":"IF(Worksheet!$A$11=TRUE,\"Y\",\"N\")","v":"N"},{"$f":"IF(Worksheet!$A$12=TRUE,\"Y\",\"N\")","v":"N"},{"$f":"IF(Worksheet!$B$11=TRUE,\"Y\",\"N\")","v":"N"},{"$f":"IF(Worksheet!$B$12=TRUE,\"Y\",\"N\")","v":"N"},{"$f":"IF(Worksheet!$C$11=TRUE,\"Y\",\"N\")","v":"N"},{"$f":"IFERROR(Worksheet!AB91,\"\")","v":0}]
[{"$f":"IF(IFERROR(SEARCH(\"Refrigerated\",Worksheet!L92,1),0)>0,122,IF(ISERROR(RIGHT(VLOOKUP(Worksheet!K92,Type!C$1:E$13,3,FALSE),3))=FALSE,RIGHT(VLOOKUP(Worksheet!K92,Type!C$1:E$13,3,FALSE),3),\"\"))","v":""},{"$f":"IF(Worksheet!M92=\"\",\"\",Worksheet!M92)","v":""},{"$f":"IF(Worksheet!N92=\"\",\"\",Worksheet!N92)","v":""},{"$f":"IF(Worksheet!Y92=0,\"\",Worksheet!Y92)","v":""},"Watts",null,null,{"$f":"Worksheet!AA92","v":0},{"$f":"IF(ISBLANK(Worksheet!V92)=FALSE,Worksheet!V92,\"\")","v":0},{"$f":"Worksheet!AG92","v":0},{"$f":"Worksheet!AF92","v":0},0,{"$f":"IF(ISERROR(SEARCH(\"Gas\",Worksheet!$A$18))=TRUE,0,Worksheet!AH92)","v":0},0,null,null,{"$f":"IF(OR(Worksheet!F92=\"Incandescent\",Worksheet!F92=\"Halogen Incandescent\")=TRUE,118,IF(LEFT(Worksheet!F92,3)=\"HID\",117,IF(OR(RIGHT(Worksheet!F92,3)=\"T12\",RIGHT(Worksheet!F92,5)=\"T12HO\")=TRUE,115,IF(OR(RIGHT(Worksheet!F92,2)=\"T8\",RIGHT(Worksheet!F92,4)=\"RWT8\",RIGHT(Worksheet!F92,4)=\"T8HO\")=TRUE,115,\"\"))))","v":""},{"$f":"IF(ISBLANK(Worksheet!W92)=FALSE,Worksheet!W92,\"\")","v":0},{"$f":"IF(ISERROR(SEARCH(\"Oil\",Worksheet!$A$18))=TRUE,0,Worksheet!AH92)","v":0},0,{"$f":"IF(ISERROR(SEARCH(\"Propane\",Worksheet!$A$18))=TRUE,0,Worksheet!AH92)","v":0},0,{"$f":"IF(Worksheet!J92=0,\"\",Worksheet!J92)","v":""},{"$f":"IF(Worksheet!B92=0,\"\",Worksheet!B92)","v":""},{"$f":"IF(Worksheet!K92=0,\"\",Worksheet!K92)","v":""},{"$f":"IF(Worksheet!L92=0,\"\",Worksheet!L92)","v":""},{"$f":"IF(Worksheet!R92=0,\"\",Worksheet!R92)","v":""},{"$f":"IF(Worksheet!F92=0,\"\",Worksheet!F92)","v":""},{"$f":"IF(Worksheet!G92=0,\"\",Worksheet!G92)","v":""},{"$f":"IF(Worksheet!X92=0,\"\",Worksheet!X92)","v":""},{"$f":"IF(Worksheet!Q92=0,\"\",Worksheet!Q92)","v":""},{"$f":"IF(Worksheet!C92=0,\"\",Worksheet!C92)","v":""},{"$f":"IF(Worksheet!D92=0,\"\",Worksheet!D92)","v":""},{"$f":"IF(Worksheet!$A$11=TRUE,\"Y\",\"N\")","v":"N"},{"$f":"IF(Worksheet!$A$12=TRUE,\"Y\",\"N\")","v":"N"},{"$f":"IF(Worksheet!$B$11=TRUE,\"Y\",\"N\")","v":"N"},{"$f":"IF(Worksheet!$B$12=TRUE,\"Y\",\"N\")","v":"N"},{"$f":"IF(Worksheet!$C$11=TRUE,\"Y\",\"N\")","v":"N"},{"$f":"IFERROR(Worksheet!AB92,\"\")","v":0}]
[{"$f":"IF(IFERROR(SEARCH(\"Refrigerated\",Worksheet!L93,1),0)>0,122,IF(ISERROR(RIGHT(VLOOKUP(Worksheet!K93,Type!C$1:E$13,3,FALSE),3))=FALSE,RIGHT(VLOOKUP(Worksheet!K93,Type!C$1:E$13,3,FALSE),3),\"\"))","v":""},{"$f":"IF(Worksheet!M93=\"\",\"\",Worksheet!M93)","v":""},{"$f":"IF(Worksheet!N93=\"\",\"\",Worksheet!N93)","v":""},{"$f":"IF(Worksheet!Y93=0,\"\",Worksheet!Y93)","v":""},"Watts",null,null,{"$f":"Worksheet!AA93","v":0},{"$f":"IF(ISBLANK(Worksheet!V93)=FALSE,Worksheet!V93,\"\")","v":0},{"$f":"Worksheet!AG93","v":0},{"$f":"Worksheet!AF93","v":0},{"$f":"J67*IF(A67=122,16,15)","v":0},{"$f":"IF(ISERROR(SEARCH(\"Gas\",Worksheet!$A$18))=TRUE,0,Worksheet!AH93)","v":0},{"$f":"M67*IF(A67=122,16,15)","v":0},null,null,{"$f":"IF(OR(Worksheet!F93=\"Incandescent\",Worksheet!F93=\"Halogen Incandescent\")=TRUE,118,IF(LEFT(Worksheet!F93,3)=\"HID\",117,IF(OR(RIGHT(Worksheet!F93,3)=\"T12\",RIGHT(Worksheet!F93,5)=\"T12HO\")=TRUE,115,IF(OR(RIGHT(Worksheet!F93,2)=\"T8\",RIGHT(Worksheet!F93,4)=\"RWT8\",RIGHT(Worksheet!F93,4)=\"T8HO\")=TRUE,115,\"\"))))","v":""},{"$f":"IF(ISBLANK(Worksheet!W93)=FALSE,Worksheet!W93,\"\")","v":0},{"$f":"IF(ISERROR(SEARCH(\"Oil\",Worksheet!$A$18))=TRUE,0,Worksheet!AH93)","v":0},{"$f":"S67*IF(A67=122,16,15)","v":0},{"$f":"IF(ISERROR(SEARCH(\"Propane\",Worksheet!$A$18))=TRUE,0,Worksheet!AH93)","v":0},{"$f":"U67*IF(A67=122,16,15)","v":0},{"$f":"IF(Worksheet!J93=0,\"\",Worksheet!J93)","v":""},{"$f":"IF(Worksheet!B93=0,\"\",Worksheet!B93)","v":""},{"$f":"IF(Worksheet!K93=0,\"\",Worksheet!K93)","v":""},{"$f":"IF(Worksheet!L93=0,\"\",Worksheet!L93)","v":""},{"$f":"IF(Worksheet!R93=0,\"\",Worksheet!R93)","v":""},{"$f":"IF(Worksheet!F93=0,\"\",Worksheet!F93)","v":""},{"$f":"IF(Worksheet!G93=0,\"\",Worksheet!G93)","v":""},{"$f":"IF(Worksheet!X93=0,\"\",Worksheet!X93)","v":""},{"$f":"IF(Worksheet!Q93=0,\"\",Worksheet!Q93)","v":""},{"$f":"IF(Worksheet!C93=0,\"\",Worksheet!C93)","v":""},{"$f":"IF(Worksheet!D93=0,\"\",Worksheet!D93)","v":""},{"$f":"IF(Worksheet!$A$11=TRUE,\"Y\",\"N\")","v":"N"},{"$f":"IF(Worksheet!$A$12=TRUE,\"Y\",\"N\")","v":"N"},{"$f":"IF(Worksheet!$B$11=TRUE,\"Y\",\"N\")","v":"N"},{"$f":"IF(Worksheet!$B$12=TRUE,\"Y\",\"N\")","v":"N"},{"$f":"IF(Worksheet!$C$11=TRUE,\"Y\",\"N\")","v":"N"},{"$f":"IFERROR(Worksheet!AB93,\"\")","v":0}]
[{"$f":"IF(IFERROR(SEARCH(\"Refrigerated\",Worksheet!L94,1),0)>0,122,IF(ISERROR(RIGHT(VLOOKUP(Worksheet!K94,Type!C$1:E$13,3,FALSE),3))=FALSE,RIGHT(VLOOKUP(Worksheet!K94,Type!C$1:E$13,3,FALSE),3),\"\"))","v":""},{"$f":"IF(Worksheet!M94=\"\",\"\",Worksheet!M94)","v":""},{"$f":"IF(Worksheet!N94=\"\",\"\",Worksheet!N94)","v":""},{"$f":"IF(Worksheet!Y94=0,\"\",Worksheet!Y94)","v":""},"Watts",null,null,{"$f":"Worksheet!AA94","v":0},{"$f":"IF(ISBLANK(Worksheet!V94)=FALSE,Worksheet!V94,\"\")","v":0},{"$f":"Worksheet!AG94","v":0},{"$f":"Worksheet!AF94","v":0},0,{"$f":"IF(ISERROR(SEARCH(\"Gas\",Worksheet!$A$18))=TRUE,0,Worksheet!AH94)","v":0},0,null,null,{"$f":"IF(OR(Worksheet!F94=\"Incandescent\",Worksheet!F94=\"Halogen Incandescent\")=TRUE,118,IF(LEFT(Worksheet!F94,3)=\"HID\",117,IF(OR(RIGHT(Worksheet!F94,3)=\"T12\",RIGHT(Worksheet!F94,5)=\"T12HO\")=TRUE,115,IF(OR(RIGHT(Worksheet!F94,2)=\"T8\",RIGHT(Worksheet!F94,4)=\"RWT8\",RIGHT(Worksheet!F94,4)=\"T8HO\")=TRUE,115,\"\"))))","v":""},{"$f":"IF(ISBLANK(Worksheet!W94)=FALSE,Worksheet!W94,\"\")","v":0},{"$f":"IF(ISERROR(SEARCH(\"Oil\",Worksheet!$A$18))=TRUE,0,Worksheet!AH94)","v":0},0,{"$f":"IF(ISERROR(SEARCH(\"Propane\",Worksheet!$A$18))=TRUE,0,Worksheet!AH94)","v":0},0,{"$f":"IF(Worksheet!J94=0,\"\",Worksheet!J94)","v":""},{"$f":"IF(Worksheet!B94=0,\"\",Worksheet!B94)","v":""},{"$f":"IF(Worksheet!K94=0,\"\",Worksheet!K94)","v":""},{"$f":"IF(Worksheet!L94=0,\"\",Worksheet!L94)","v":""},{"$f":"IF(Worksheet!R94=0,\"\",Worksheet!R94)","v":""},{"$f":"IF(Worksheet!F94=0,\"\",Worksheet!F94)","v":""},{"$f":"IF(Worksheet!G94=0,\"\",Worksheet!G94)","v":""},{"$f":"IF(Worksheet!X94=0,\"\",Worksheet!X94)","v":""},{"$f":"IF(Worksheet!Q94=0,\"\",Worksheet!Q94)","v":""},{"$f":"IF(Worksheet!C94=0,\"\",Worksheet!C94)","v":""},{"$f":"IF(Worksheet!D94=0,\"\",Worksheet!D94)","v":""},{"$f":"IF(Worksheet!$A$11=TRUE,\"Y\",\"N\")","v":"N"},{"$f":"IF(Worksheet!$A$12=TRUE,\"Y\",\"N\")","v":"N"},{"$f":"IF(Worksheet!$B$11=TRUE,\"Y\",\"N\")","v":"N"},{"$f":"IF(Worksheet!$B$12=TRUE,\"Y\",\"N\")","v":"N"},{"$f":"IF(Worksheet!$C$11=TRUE,\"Y\",\"N\")","v":"N"},{"$f":"IFERROR(Worksheet!AB94,\"\")","v":0}]
[{"$f":"IF(IFERROR(SEARCH(\"Refrigerated\",Worksheet!L95,1),0)>0,122,IF(ISERROR(RIGHT(VLOOKUP(Worksheet!K95,Type!C$1:E$13,3,FALSE),3))=FALSE,RIGHT(VLOOKUP(Worksheet!K95,Type!C$1:E$13,3,FALSE),3),\"\"))","v":""},{"$f":"IF(Worksheet!M95=\"\",\"\",Worksheet!M95)","v":""},{"$f":"IF(Worksheet!N95=\"\",\"\",Worksheet!N95)","v":""},{"$f":"IF(Worksheet!Y95=0,\"\",Worksheet!Y95)","v":""},"Watts",null,null,{"$f":"Worksheet!AA95","v":0},{"$f":"IF(ISBLANK(Worksheet!V95)=FALSE,Worksheet!V95,\"\")","v":0},{"$f":"Worksheet!AG95","v":0},{"$f":"Worksheet!AF95","v":0},0,{"$f":"IF(ISERROR(SEARCH(\"Gas\",Worksheet!$A$18))=TRUE,0,Worksheet!AH95)","v":0},0,null,null,{"$f":"IF(OR(Worksheet!F95=\"Incandescent\",Worksheet!F95=\"Halogen Incandescent\")=TRUE,118,IF(LEFT(Worksheet!F95,3)=\"HID\",117,IF(OR(RIGHT(Worksheet!F95,3)=\"T12\",RIGHT(Worksheet!F95,5)=\"T12HO\")=TRUE,115,IF(OR(RIGHT(Worksheet!F95,2)=\"T8\",RIGHT(Worksheet!F95,4)=\"RWT8\",RIGHT(Worksheet!F95,4)=\"T8HO\")=TRUE,115,\"\"))))","v":""},{"$f":"IF(ISBLANK(Worksheet!W95)=FALSE,Worksheet!W95,\"\")","v":0},{"$f":"IF(ISERROR(SEARCH(\"Oil\",Worksheet!$A$18))=TRUE,0,Worksheet!AH95)","v":0},0,{"$f":"IF(ISERROR(SEARCH(\"Propane\",Worksheet!$A$18))=TRUE,0,Worksheet!AH95)","v":0},0,{"$f":"IF(Worksheet!J95=0,\"\",Worksheet!J95)","v":""},{"$f":"IF(Worksheet!B95=0,\"\",Worksheet!B95)","v":""},{"$f":"IF(Worksheet!K95=0,\"\",Worksheet!K95)","v":""},{"$f":"IF(Worksheet!L95=0,\"\",Worksheet!L95)","v":""},{"$f":"IF(Worksheet!R95=0,\"\",Worksheet!R95)","v":""},{"$f":"IF(Worksheet!F95=0,\"\",Worksheet!F95)","v":""},{"$f":"IF(Worksheet!G95=0,\"\",Worksheet!G95)","v":""},{"$f":"IF(Worksheet!X95=0,\"\",Worksheet!X95)","v":""},{"$f":"IF(Worksheet!Q95=0,\"\",Worksheet!Q95)","v":""},{"$f":"IF(Worksheet!C95=0,\"\",Worksheet!C95)","v":""},{"$f":"IF(Worksheet!D95=0,\"\",Worksheet!D95)","v":""},{"$f":"IF(Worksheet!$A$11=TRUE,\"Y\",\"N\")","v":"N"},{"$f":"IF(Worksheet!$A$12=TRUE,\"Y\",\"N\")","v":"N"},{"$f":"IF(Worksheet!$B$11=TRUE,\"Y\",\"N\")","v":"N"},{"$f":"IF(Worksheet!$B$12=TRUE,\"Y\",\"N\")","v":"N"},{"$f":"IF(Worksheet!$C$11=TRUE,\"Y\",\"N\")","v":"N"},{"$f":"IFERROR(Worksheet!AB95,\"\")","v":0}]
[{"$f":"IF(IFERROR(SEARCH(\"Refrigerated\",Worksheet!L96,1),0)>0,122,IF(ISERROR(RIGHT(VLOOKUP(Worksheet!K96,Type!C$1:E$13,3,FALSE),3))=FALSE,RIGHT(VLOOKUP(Worksheet!K96,Type!C$1:E$13,3,FALSE),3),\"\"))","v":""},{"$f":"IF(Worksheet!M96=\"\",\"\",Worksheet!M96)","v":""},{"$f":"IF(Worksheet!N96=\"\",\"\",Worksheet!N96)","v":""},{"$f":"IF(Worksheet!Y96=0,\"\",Worksheet!Y96)","v":""},"Watts",null,null,{"$f":"Worksheet!AA96","v":0},{"$f":"IF(ISBLANK(Worksheet!V96)=FALSE,Worksheet!V96,\"\")","v":0},{"$f":"Worksheet!AG96","v":0},{"$f":"Worksheet!AF96","v":0},0,{"$f":"IF(ISERROR(SEARCH(\"Gas\",Worksheet!$A$18))=TRUE,0,Worksheet!AH96)","v":0},0,null,null,{"$f":"IF(OR(Worksheet!F96=\"Incandescent\",Worksheet!F96=\"Halogen Incandescent\")=TRUE,118,IF(LEFT(Worksheet!F96,3)=\"HID\",117,IF(OR(RIGHT(Worksheet!F96,3)=\"T12\",RIGHT(Worksheet!F96,5)=\"T12HO\")=TRUE,115,IF(OR(RIGHT(Worksheet!F96,2)=\"T8\",RIGHT(Worksheet!F96,4)=\"RWT8\",RIGHT(Worksheet!F96,4)=\"T8HO\")=TRUE,115,\"\"))))","v":""},{"$f":"IF(ISBLANK(Worksheet!W96)=FALSE,Worksheet!W96,\"\")","v":0},{"$f":"IF(ISERROR(SEARCH(\"Oil\",Worksheet!$A$18))=TRUE,0,Worksheet!AH96)","v":0},0,{"$f":"IF(ISERROR(SEARCH(\"Propane\",Worksheet!$A$18))=TRUE,0,Worksheet!AH96)","v":0},0,{"$f":"IF(Worksheet!J96=0,\"\",Worksheet!J96)","v":""},{"$f":"IF(Worksheet!B96=0,\"\",Worksheet!B96)","v":""},{"$f":"IF(Worksheet!K96=0,\"\",Worksheet!K96)","v":""},{"$f":"IF(Worksheet!L96=0,\"\",Worksheet!L96)","v":""},{"$f":"IF(Worksheet!R96=0,\"\",Worksheet!R96)","v":""},{"$f":"IF(Worksheet!F96=0,\"\",Worksheet!F96)","v":""},{"$f":"IF(Worksheet!G96=0,\"\",Worksheet!G96)","v":""},{"$f":"IF(Worksheet!X96=0,\"\",Worksheet!X96)","v":""},{"$f":"IF(Worksheet!Q96=0,\"\",Worksheet!Q96)","v":""},{"$f":"IF(Worksheet!C96=0,\"\",Worksheet!C96)","v":""},{"$f":"IF(Worksheet!D96=0,\"\",Worksheet!D96)","v":""},{"$f":"IF(Worksheet!$A$11=TRUE,\"Y\",\"N\")","v":"N"},{"$f":"IF(Worksheet!$A$12=TRUE,\"Y\",\"N\")","v":"N"},{"$f":"IF(Worksheet!$B$11=TRUE,\"Y\",\"N\")","v":"N"},{"$f":"IF(Worksheet!$B$12=TRUE,\"Y\",\"N\")","v":"N"},{"$f":"IF(Worksheet!$C$11=TRUE,\"Y\",\"N\")","v":"N"},{"$f":"IFERROR(Worksheet!AB96,\"\")","v":0}]
[{"$f":"IF(IFERROR(SEARCH(\"Refrigerated\",Worksheet!L97,1),0)>0,122,IF(ISERROR(RIGHT(VLOOKUP(Worksheet!K97,Type!C$1:E$13,3,FALSE),3))=FALSE,RIGHT(VLOOKUP(Worksheet!K97,Type!C$1:E$13,3,FALSE),3),\"\"))","v":""},{"$f":"IF(Worksheet!M97=\"\",\"\",Worksheet!M97)","v":""},{"$f":"IF(Worksheet!N97=\"\",\"\",Worksheet!N97)","v":""},{"$f":"IF(Worksheet!Y97=0,\"\",Worksheet!Y97)","v":""},"Watts",null,null,{"$f":"Worksheet!AA97","v":0},{"$f":"IF(ISBLANK(Worksheet!V97)=FALSE,Worksheet!V97,\"\")","v":0},{"$f":"Worksheet!AG97","v":0},{"$f":"Worksheet!AF97","v":0},0,{"$f":"IF(ISERROR(SEARCH(\"Gas\",Worksheet!$A$18))=TRUE,0,Worksheet!AH97)","v":0},0,null,null,{"$f":"IF(OR(Worksheet!F97=\"Incandescent\",Worksheet!F97=\"Halogen Incandescent\")=TRUE,118,IF(LEFT(Worksheet!F97,3)=\"HID\",117,IF(OR(RIGHT(Worksheet!F97,3)=\"T12\",RIGHT(Worksheet!F97,5)=\"T12HO\")=TRUE,115,IF(OR(RIGHT(Worksheet!F97,2)=\"T8\",RIGHT(Worksheet!F97,4)=\"RWT8\",RIGHT(Worksheet!F97,4)=\"T8HO\")=TRUE,115,\"\"))))","v":""},{"$f":"IF(ISBLANK(Worksheet!W97)=FALSE,Worksheet!W97,\"\")","v":0},{"$f":"IF(ISERROR(SEARCH(\"Oil\",Worksheet!$A$18))=TRUE,0,Worksheet!AH97)","v":0},0,{"$f":"IF(ISERROR(SEARCH(\"Propane\",Worksheet!$A$18))=TRUE,0,Worksheet!AH97)","v":0},0,{"$f":"IF(Worksheet!J97=0,\"\",Worksheet!J97)","v":""},{"$f":"IF(Worksheet!B97=0,\"\",Worksheet!B97)","v":""},{"$f":"IF(Worksheet!K97=0,\"\",Worksheet!K97)","v":""},{"$f":"IF(Worksheet!L97=0,\"\",Worksheet!L97)","v":""},{"$f":"IF(Worksheet!R97=0,\"\",Worksheet!R97)","v":""},{"$f":"IF(Worksheet!F97=0,\"\",Worksheet!F97)","v":""},{"$f":"IF(Worksheet!G97=0,\"\",Worksheet!G97)","v":""},{"$f":"IF(Worksheet!X97=0,\"\",Worksheet!X97)","v":""},{"$f":"IF(Worksheet!Q97=0,\"\",Worksheet!Q97)","v":""},{"$f":"IF(Worksheet!C97=0,\"\",Worksheet!C97)","v":""},{"$f":"IF(Worksheet!D97=0,\"\",Worksheet!D97)","v":""},{"$f":"IF(Worksheet!$A$11=TRUE,\"Y\",\"N\")","v":"N"},{"$f":"IF(Worksheet!$A$12=TRUE,\"Y\",\"N\")","v":"N"},{"$f":"IF(Worksheet!$B$11=TRUE,\"Y\",\"N\")","v":"N"},{"$f":"IF(Worksheet!$B$12=TRUE,\"Y\",\"N\")","v":"N"},{"$f":"IF(Worksheet!$C$11=TRUE,\"Y\",\"N\")","v":"N"},{"$f":"IFERROR(Worksheet!AB97,\"\")","v":0}]
[{"$f":"IF(IFERROR(SEARCH(\"Refrigerated\",Worksheet!L98,1),0)>0,122,IF(ISERROR(RIGHT(VLOOKUP(Worksheet!K98,Type!C$1:E$13,3,FALSE),3))=FALSE,RIGHT(VLOOKUP(Worksheet!K98,Type!C$1:E$13,3,FALSE),3),\"\"))","v":""},{"$f":"IF(Worksheet!M98=\"\",\"\",Worksheet!M98)","v":""},{"$f":"IF(Worksheet!N98=\"\",\"\",Worksheet!N98)","v":""},{"$f":"IF(Worksheet!Y98=0,\"\",Worksheet!Y98)","v":""},"Watts",null,null,{"$f":"Worksheet!AA98","v":0},{"$f":"IF(ISBLANK(Worksheet!V98)=FALSE,Worksheet!V98,\"\")","v":0},{"$f":"Worksheet!AG98","v":0},{"$f":"Worksheet!AF98","v":0},0,{"$f":"IF(ISERROR(SEARCH(\"Gas\",Worksheet!$A$18))=TRUE,0,Worksheet!AH98)","v":0},0,null,null,{"$f":"IF(OR(Worksheet!F98=\"Incandescent\",Worksheet!F98=\"Halogen Incandescent\")=TRUE,118,IF(LEFT(Worksheet!F98,3)=\"HID\",117,IF(OR(RIGHT(Worksheet!F98,3)=\"T12\",RIGHT(Worksheet!F98,5)=\"T12HO\")=TRUE,115,IF(OR(RIGHT(Worksheet!F98,2)=\"T8\",RIGHT(Worksheet!F98,4)=\"RWT8\",RIGHT(Worksheet!F98,4)=\"T8HO\")=TRUE,115,\"\"))))","v":""},{"$f":"IF(ISBLANK(Worksheet!W98)=FALSE,Worksheet!W98,\"\")","v":0},{"$f":"IF(ISERROR(SEARCH(\"Oil\",Worksheet!$A$18))=TRUE,0,Worksheet!AH98)","v":0},0,{"$f":"IF(ISERROR(SEARCH(\"Propane\",Worksheet!$A$18))=TRUE,0,Worksheet!AH98)","v":0},0,{"$f":"IF(Worksheet!J98=0,\"\",Worksheet!J98)","v":""},{"$f":"IF(Worksheet!B98=0,\"\",Worksheet!B98)","v":""},{"$f":"IF(Worksheet!K98=0,\"\",Worksheet!K98)","v":""},{"$f":"IF(Worksheet!L98=0,\"\",Worksheet!L98)","v":""},{"$f":"IF(Worksheet!R98=0,\"\",Worksheet!R98)","v":""},{"$f":"IF(Worksheet!F98=0,\"\",Worksheet!F98)","v":""},{"$f":"IF(Worksheet!G98=0,\"\",Worksheet!G98)","v":""},{"$f":"IF(Worksheet!X98=0,\"\",Worksheet!X98)","v":""},{"$f":"IF(Worksheet!Q98=0,\"\",Worksheet!Q98)","v":""},{"$f":"IF(Worksheet!C98=0,\"\",Worksheet!C98)","v":""},{"$f":"IF(Worksheet!D98=0,\"\",Worksheet!D98)","v":""},{"$f":"IF(Worksheet!$A$11=TRUE,\"Y\",\"N\")","v":"N"},{"$f":"IF(Worksheet!$A$12=TRUE,\"Y\",\"N\")","v":"N"},{"$f":"IF(Worksheet!$B$11=TRUE,\"Y\",\"N\")","v":"N"},{"$f":"IF(Worksheet!$B$12=TRUE,\"Y\",\"N\")","v":"N"},{"$f":"IF(Worksheet!$C$11=TRUE,\"Y\",\"N\")","v":"N"},{"$f":"IFERROR(Worksheet!AB98,\"\")","v":0}]
[{"$f":"IF(IFERROR(SEARCH(\"Refrigerated\",Worksheet!L99,1),0)>0,122,IF(ISERROR(RIGHT(VLOOKUP(Worksheet!K99,Type!C$1:E$13,3,FALSE),3))=FALSE,RIGHT(VLOOKUP(Worksheet!K99,Type!C$1:E$13,3,FALSE),3),\"\"))","v":""},{"$f":"IF(Worksheet!M99=\"\",\"\",Worksheet!M99)","v":""},{"$f":"IF(Worksheet!N99=\"\",\"\",Worksheet!N99)","v":""},{"$f":"IF(Worksheet!Y99=0,\"\",Worksheet!Y99)","v":""},"Watts",null,null,{"$f":"Worksheet!AA99","v":0},{"$f":"IF(ISBLANK(Worksheet!V99)=FALSE,Worksheet!V99,\"\")","v":0},{"$f":"Worksheet!AG99","v":0},{"$f":"Worksheet!AF99","v":0},0,{"$f":"IF(ISERROR(SEARCH(\"Gas\",Worksheet!$A$18))=TRUE,0,Worksheet!AH99)","v":0},0,null,null,{"$f":"IF(OR(Worksheet!F99=\"Incandescent\",Worksheet!F99=\"Halogen Incandescent\")=TRUE,118,IF(LEFT(Worksheet!F99,3)=\"HID\",117,IF(OR(RIGHT(Worksheet!F99,3)=\"T12\",RIGHT(Worksheet!F99,5)=\"T12HO\")=TRUE,115,IF(OR(RIGHT(Worksheet!F99,2)=\"T8\",RIGHT(Worksheet!F99,4)=\"RWT8\",RIGHT(Worksheet!F99,4)=\"T8HO\")=TRUE,115,\"\"))))","v":""},{"$f":"IF(ISBLANK(Worksheet!W99)=FALSE,Worksheet!W99,\"\")","v":0},{"$f":"IF(ISERROR(SEARCH(\"Oil\",Worksheet!$A$18))=TRUE,0,Worksheet!AH99)","v":0},0,{"$f":"IF(ISERROR(SEARCH(\"Propane\",Worksheet!$A$18))=TRUE,0,Worksheet!AH99)","v":0},0,{"$f":"IF(Worksheet!J99=0,\"\",Worksheet!J99)","v":""},{"$f":"IF(Worksheet!B99=0,\"\",Worksheet!B99)","v":""},{"$f":"IF(Worksheet!K99=0,\"\",Worksheet!K99)","v":""},{"$f":"IF(Worksheet!L99=0,\"\",Worksheet!L99)","v":""},{"$f":"IF(Worksheet!R99=0,\"\",Worksheet!R99)","v":""},{"$f":"IF(Worksheet!F99=0,\"\",Worksheet!F99)","v":""},{"$f":"IF(Worksheet!G99=0,\"\",Worksheet!G99)","v":""},{"$f":"IF(Worksheet!X99=0,\"\",Worksheet!X99)","v":""},{"$f":"IF(Worksheet!Q99=0,\"\",Worksheet!Q99)","v":""},{"$f":"IF(Worksheet!C99=0,\"\",Worksheet!C99)","v":""},{"$f":"IF(Worksheet!D99=0,\"\",Worksheet!D99)","v":""},{"$f":"IF(Worksheet!$A$11=TRUE,\"Y\",\"N\")","v":"N"},{"$f":"IF(Worksheet!$A$12=TRUE,\"Y\",\"N\")","v":"N"},{"$f":"IF(Worksheet!$B$11=TRUE,\"Y\",\"N\")","v":"N"},{"$f":"IF(Worksheet!$B$12=TRUE,\"Y\",\"N\")","v":"N"},{"$f":"IF(Worksheet!$C$11=TRUE,\"Y\",\"N\")","v":"N"},{"$f":"IFERROR(Worksheet!AB99,\"\")","v":0}]
[{"$f":"IF(IFERROR(SEARCH(\"Refrigerated\",Worksheet!L100,1),0)>0,122,IF(ISERROR(RIGHT(VLOOKUP(Worksheet!K100,Type!C$1:E$13,3,FALSE),3))=FALSE,RIGHT(VLOOKUP(Worksheet!K100,Type!C$1:E$13,3,FALSE),3),\"\"))","v":""},{"$f":"IF(Worksheet!M100=\"\",\"\",Worksheet!M100)","v":""},{"$f":"IF(Worksheet!N100=\"\",\"\",Worksheet!N100)","v":""},{"$f":"IF(Worksheet!Y100=0,\"\",Worksheet!Y100)","v":""},"Watts",null,null,{"$f":"Worksheet!AA100","v":0},{"$f":"IF(ISBLANK(Worksheet!V100)=FALSE,Worksheet!V100,\"\")","v":0},{"$f":"Worksheet!AG100","v":0},{"$f":"Worksheet!AF100","v":0},0,{"$f":"IF(ISERROR(SEARCH(\"Gas\",Worksheet!$A$18))=TRUE,0,Worksheet!AH100)","v":0},0,null,null,{"$f":"IF(OR(Worksheet!F100=\"Incandescent\",Worksheet!F100=\"Halogen Incandescent\")=TRUE,118,IF(LEFT(Worksheet!F100,3)=\"HID\",117,IF(OR(RIGHT(Worksheet!F100,3)=\"T12\",RIGHT(Worksheet!F100,5)=\"T12HO\")=TRUE,115,IF(OR(RIGHT(Worksheet!F100,2)=\"T8\",RIGHT(Worksheet!F100,4)=\"RWT8\",RIGHT(Worksheet!F100,4)=\"T8HO\")=TRUE,115,\"\"))))","v":""},{"$f":"IF(ISBLANK(Worksheet!W100)=FALSE,Worksheet!W100,\"\")","v":0},{"$f":"IF(ISERROR(SEARCH(\"Oil\",Worksheet!$A$18))=TRUE,0,Worksheet!AH100)","v":0},0,{"$f":"IF(ISERROR(SEARCH(\"Propane\",Worksheet!$A$18))=TRUE,0,Worksheet!AH100)","v":0},0,{"$f":"IF(Worksheet!J100=0,\"\",Worksheet!J100)","v":""},{"$f":"IF(Worksheet!B100=0,\"\",Worksheet!B100)","v":""},{"$f":"IF(Worksheet!K100=0,\"\",Worksheet!K100)","v":""},{"$f":"IF(Worksheet!L100=0,\"\",Worksheet!L100)","v":""},{"$f":"IF(Worksheet!R100=0,\"\",Worksheet!R100)","v":""},{"$f":"IF(Worksheet!F100=0,\"\",Worksheet!F100)","v":""},{"$f":"IF(Worksheet!G100=0,\"\",Worksheet!G100)","v":""},{"$f":"IF(Worksheet!X100=0,\"\",Worksheet!X100)","v":""},{"$f":"IF(Worksheet!Q100=0,\"\",Worksheet!Q100)","v":""},{"$f":"IF(Worksheet!C100=0,\"\",Worksheet!C100)","v":""},{"$f":"IF(Worksheet!D100=0,\"\",Worksheet!D100)","v":""},{"$f":"IF(Worksheet!$A$11=TRUE,\"Y\",\"N\")","v":"N"},{"$f":"IF(Worksheet!$A$12=TRUE,\"Y\",\"N\")","v":"N"},{"$f":"IF(Worksheet!$B$11=TRUE,\"Y\",\"N\")","v":"N"},{"$f":"IF(Worksheet!$B$12=TRUE,\"Y\",\"N\")","v":"N"},{"$f":"IF(Worksheet!$C$11=TRUE,\"Y\",\"N\")","v":"N"},{"$f":"IFERROR(Worksheet!AB100,\"\")","v":0}]
[{"$f":"IF(IFERROR(SEARCH(\"Refrigerated\",Worksheet!L101,1),0)>0,122,IF(ISERROR(RIGHT(VLOOKUP(Worksheet!K101,Type!C$1:E$13,3,FALSE),3))=FALSE,RIGHT(VLOOKUP(Worksheet!K101,Type!C$1:E$13,3,FALSE),3),\"\"))","v":""},{"$f":"IF(Worksheet!M101=\"\",\"\",Worksheet!M101)","v":""},{"$f":"IF(Worksheet!N101=\"\",\"\",Worksheet!N101)","v":""},{"$f":"IF(Worksheet!Y101=0,\"\",Worksheet!Y101)","v":""},"Watts",null,null,{"$f":"Worksheet!AA101","v":0},{"$f":"IF(ISBLANK(Worksheet!V101)=FALSE,Worksheet!V101,\"\")","v":0},{"$f":"Worksheet!AG101","v":0},{"$f":"Worksheet!AF101","v":0},0,{"$f":"IF(ISERROR(SEARCH(\"Gas\",Worksheet!$A$18))=TRUE,0,Worksheet!AH101)","v":0},0,null,null,{"$f":"IF(OR(Worksheet!F101=\"Incandescent\",Worksheet!F101=\"Halogen Incandescent\")=TRUE,118,IF(LEFT(Worksheet!F101,3)=\"HID\",117,IF(OR(RIGHT(Worksheet!F101,3)=\"T12\",RIGHT(Worksheet!F101,5)=\"T12HO\")=TRUE,115,IF(OR(RIGHT(Worksheet!F101,2)=\"T8\",RIGHT(Worksheet!F101,4)=\"RWT8\",RIGHT(Worksheet!F101,4)=\"T8HO\")=TRUE,115,\"\"))))","v":""},{"$f":"IF(ISBLANK(Worksheet!W101)=FALSE,Worksheet!W101,\"\")","v":0},{"$f":"IF(ISERROR(SEARCH(\"Oil\",Worksheet!$A$18))=TRUE,0,Worksheet!AH101)","v":0},0,{"$f":"IF(ISERROR(SEARCH(\"Propane\",Worksheet!$A$18))=TRUE,0,Worksheet!AH101)","v":0},0,{"$f":"IF(Worksheet!J101=0,\"\",Worksheet!J101)","v":""},{"$f":"IF(Worksheet!B101=0,\"\",Worksheet!B101)","v":""},{"$f":"IF(Worksheet!K101=0,\"\",Worksheet!K101)","v":""},{"$f":"IF(Worksheet!L101=0,\"\",Worksheet!L101)","v":""},{"$f":"IF(Worksheet!R101=0,\"\",Worksheet!R101)","v":""},{"$f":"IF(Worksheet!F101=0,\"\",Worksheet!F101)","v":""},{"$f":"IF(Worksheet!G101=0,\"\",Worksheet!G101)","v":""},{"$f":"IF(Worksheet!X101=0,\"\",Worksheet!X101)","v":""},{"$f":"IF(Worksheet!Q101=0,\"\",Worksheet!Q101)","v":""},{"$f":"IF(Worksheet!C101=0,\"\",Worksheet!C101)","v":""},{"$f":"IF(Worksheet!D101=0,\"\",Worksheet!D101)","v":""},{"$f":"IF(Worksheet!$A$11=TRUE,\"Y\",\"N\")","v":"N"},{"$f":"IF(Worksheet!$A$12=TRUE,\"Y\",\"N\")","v":"N"},{"$f":"IF(Worksheet!$B$11=TRUE,\"Y\",\"N\")","v":"N"},{"$f":"IF(Worksheet!$B$12=TRUE,\"Y\",\"N\")","v":"N"},{"$f":"IF(Worksheet!$C$11=TRUE,\"Y\",\"N\")","v":"N"},{"$f":"IFERROR(Worksheet!AB101,\"\")","v":0}]
[{"$f":"IF(IFERROR(SEARCH(\"Refrigerated\",Worksheet!L102,1),0)>0,122,IF(ISERROR(RIGHT(VLOOKUP(Worksheet!K102,Type!C$1:E$13,3,FALSE),3))=FALSE,RIGHT(VLOOKUP(Worksheet!K102,Type!C$1:E$13,3,FALSE),3),\"\"))","v":""},{"$f":"IF(Worksheet!M102=\"\",\"\",Worksheet!M102)","v":""},{"$f":"IF(Worksheet!N102=\"\",\"\",Worksheet!N102)","v":""},{"$f":"IF(Worksheet!Y102=0,\"\",Worksheet!Y102)","v":""},"Watts",null,null,{"$f":"Worksheet!AA102","v":0},{"$f":"IF(ISBLANK(Worksheet!V102)=FALSE,Worksheet!V102,\"\")","v":0},{"$f":"Worksheet!AG102","v":0},{"$f":"Worksheet!AF102","v":0},0,{"$f":"IF(ISERROR(SEARCH(\"Gas\",Worksheet!$A$18))=TRUE,0,Worksheet!AH102)","v":0},0,null,null,{"$f":"IF(OR(Worksheet!F102=\"Incandescent\",Worksheet!F102=\"Halogen Incandescent\")=TRUE,118,IF(LEFT(Worksheet!F102,3)=\"HID\",117,IF(OR(RIGHT(Worksheet!F102,3)=\"T12\",RIGHT(Worksheet!F102,5)=\"T12HO\")=TRUE,115,IF(OR(RIGHT(Worksheet!F102,2)=\"T8\",RIGHT(Worksheet!F102,4)=\"RWT8\",RIGHT(Worksheet!F102,4)=\"T8HO\")=TRUE,115,\"\"))))","v":""},{"$f":"IF(ISBLANK(Worksheet!W102)=FALSE,Worksheet!W102,\"\")","v":0},{"$f":"IF(ISERROR(SEARCH(\"Oil\",Worksheet!$A$18))=TRUE,0,Worksheet!AH102)","v":0},0,{"$f":"IF(ISERROR(SEARCH(\"Propane\",Worksheet!$A$18))=TRUE,0,Worksheet!AH102)","v":0},0,{"$f":"IF(Worksheet!J102=0,\"\",Worksheet!J102)","v":""},{"$f":"IF(Worksheet!B102=0,\"\",Worksheet!B102)","v":""},{"$f":"IF(Worksheet!K102=0,\"\",Worksheet!K102)","v":""},{"$f":"IF(Worksheet!L102=0,\"\",Worksheet!L102)","v":""},{"$f":"IF(Worksheet!R102=0,\"\",Worksheet!R102)","v":""},{"$f":"IF(Worksheet!F102=0,\"\",Worksheet!F102)","v":""},{"$f":"IF(Worksheet!G102=0,\"\",Worksheet!G102)","v":""},{"$f":"IF(Worksheet!X102=0,\"\",Worksheet!X102)","v":""},{"$f":"IF(Worksheet!Q102=0,\"\",Worksheet!Q102)","v":""},{"$f":"IF(Worksheet!C102=0,\"\",Worksheet!C102)","v":""},{"$f":"IF(Worksheet!D102=0,\"\",Worksheet!D102)","v":""},{"$f":"IF(Worksheet!$A$11=TRUE,\"Y\",\"N\")","v":"N"},{"$f":"IF(Worksheet!$A$12=TRUE,\"Y\",\"N\")","v":"N"},{"$f":"IF(Worksheet!$B$11=TRUE,\"Y\",\"N\")","v":"N"},{"$f":"IF(Worksheet!$B$12=TRUE,\"Y\",\"N\")","v":"N"},{"$f":"IF(Worksheet!$C$11=TRUE,\"Y\",\"N\")","v":"N"},{"$f":"IFERROR(Worksheet!AB102,\"\")","v":0}]
[{"$f":"IF(IFERROR(SEARCH(\"Refrigerated\",Worksheet!L103,1),0)>0,122,IF(ISERROR(RIGHT(VLOOKUP(Worksheet!K103,Type!C$1:E$13,3,FALSE),3))=FALSE,RIGHT(VLOOKUP(Worksheet!K103,Type!C$1:E$13,3,FALSE),3),\"\"))","v":""},{"$f":"IF(Worksheet!M103=\"\",\"\",Worksheet!M103)","v":""},{"$f":"IF(Worksheet!N103=\"\",\"\",Worksheet!N103)","v":""},{"$f":"IF(Worksheet!Y103=0,\"\",Worksheet!Y103)","v":""},"Watts",null,null,{"$f":"Worksheet!AA103","v":0},{"$f":"IF(ISBLANK(Worksheet!V103)=FALSE,Worksheet!V103,\"\")","v":0},{"$f":"Worksheet!AG103","v":0},{"$f":"Worksheet!AF103","v":0},0,{"$f":"IF(ISERROR(SEARCH(\"Gas\",Worksheet!$A$18))=TRUE,0,Worksheet!AH103)","v":0},0,null,null,{"$f":"IF(OR(Worksheet!F103=\"Incandescent\",Worksheet!F103=\"Halogen Incandescent\")=TRUE,118,IF(LEFT(Worksheet!F103,3)=\"HID\",117,IF(OR(RIGHT(Worksheet!F103,3)=\"T12\",RIGHT(Worksheet!F103,5)=\"T12HO\")=TRUE,115,IF(OR(RIGHT(Worksheet!F103,2)=\"T8\",RIGHT(Worksheet!F103,4)=\"RWT8\",RIGHT(Worksheet!F103,4)=\"T8HO\")=TRUE,115,\"\"))))","v":""},{"$f":"IF(ISBLANK(Worksheet!W103)=FALSE,Worksheet!W103,\"\")","v":0},{"$f":"IF(ISERROR(SEARCH(\"Oil\",Worksheet!$A$18))=TRUE,0,Worksheet!AH103)","v":0},0,{"$f":"IF(ISERROR(SEARCH(\"Propane\",Worksheet!$A$18))=TRUE,0,Worksheet!AH103)","v":0},0,{"$f":"IF(Worksheet!J103=0,\"\",Worksheet!J103)","v":""},{"$f":"IF(Worksheet!B103=0,\"\",Worksheet!B103)","v":""},{"$f":"IF(Worksheet!K103=0,\"\",Worksheet!K103)","v":""},{"$f":"IF(Worksheet!L103=0,\"\",Worksheet!L103)","v":""},{"$f":"IF(Worksheet!R103=0,\"\",Worksheet!R103)","v":""},{"$f":"IF(Worksheet!F103=0,\"\",Worksheet!F103)","v":""},{"$f":"IF(Worksheet!G103=0,\"\",Worksheet!G103)","v":""},{"$f":"IF(Worksheet!X103=0,\"\",Worksheet!X103)","v":""},{"$f":"IF(Worksheet!Q103=0,\"\",Worksheet!Q103)","v":""},{"$f":"IF(Worksheet!C103=0,\"\",Worksheet!C103)","v":""},{"$f":"IF(Worksheet!D103=0,\"\",Worksheet!D103)","v":""},{"$f":"IF(Worksheet!$A$11=TRUE,\"Y\",\"N\")","v":"N"},{"$f":"IF(Worksheet!$A$12=TRUE,\"Y\",\"N\")","v":"N"},{"$f":"IF(Worksheet!$B$11=TRUE,\"Y\",\"N\")","v":"N"},{"$f":"IF(Worksheet!$B$12=TRUE,\"Y\",\"N\")","v":"N"},{"$f":"IF(Worksheet!$C$11=TRUE,\"Y\",\"N\")","v":"N"},{"$f":"IFERROR(Worksheet!AB103,\"\")","v":0}]
[{"$f":"IF(IFERROR(SEARCH(\"Refrigerated\",Worksheet!L104,1),0)>0,122,IF(ISERROR(RIGHT(VLOOKUP(Worksheet!K104,Type!C$1:E$13,3,FALSE),3))=FALSE,RIGHT(VLOOKUP(Worksheet!K104,Type!C$1:E$13,3,FALSE),3),\"\"))","v":""},{"$f":"IF(Worksheet!M104=\"\",\"\",Worksheet!M104)","v":""},{"$f":"IF(Worksheet!N104=\"\",\"\",Worksheet!N104)","v":""},{"$f":"IF(Worksheet!Y104=0,\"\",Worksheet!Y104)","v":""},"Watts",null,null,{"$f":"Worksheet!AA104","v":0},{"$f":"IF(ISBLANK(Worksheet!V104)=FALSE,Worksheet!V104,\"\")","v":0},{"$f":"Worksheet!AG104","v":0},{"$f":"Worksheet!AF104","v":0},0,{"$f":"IF(ISERROR(SEARCH(\"Gas\",Worksheet!$A$18))=TRUE,0,Worksheet!AH104)","v":0},0,null,null,{"$f":"IF(OR(Worksheet!F104=\"Incandescent\",Worksheet!F104=\"Halogen Incandescent\")=TRUE,118,IF(LEFT(Worksheet!F104,3)=\"HID\",117,IF(OR(RIGHT(Worksheet!F104,3)=\"T12\",RIGHT(Worksheet!F104,5)=\"T12HO\")=TRUE,115,IF(OR(RIGHT(Worksheet!F104,2)=\"T8\",RIGHT(Worksheet!F104,4)=\"RWT8\",RIGHT(Worksheet!F104,4)=\"T8HO\")=TRUE,115,\"\"))))","v":""},{"$f":"IF(ISBLANK(Worksheet!W104)=FALSE,Worksheet!W104,\"\")","v":0},{"$f":"IF(ISERROR(SEARCH(\"Oil\",Worksheet!$A$18))=TRUE,0,Worksheet!AH104)","v":0},0,{"$f":"IF(ISERROR(SEARCH(\"Propane\",Worksheet!$A$18))=TRUE,0,Worksheet!AH104)","v":0},0,{"$f":"IF(Worksheet!J104=0,\"\",Worksheet!J104)","v":""},{"$f":"IF(Worksheet!B104=0,\"\",Worksheet!B104)","v":""},{"$f":"IF(Worksheet!K104=0,\"\",Worksheet!K104)","v":""},{"$f":"IF(Worksheet!L104=0,\"\",Worksheet!L104)","v":""},{"$f":"IF(Worksheet!R104=0,\"\",Worksheet!R104)","v":""},{"$f":"IF(Worksheet!F104=0,\"\",Worksheet!F104)","v":""},{"$f":"IF(Worksheet!G104=0,\"\",Worksheet!G104)","v":""},{"$f":"IF(Worksheet!X104=0,\"\",Worksheet!X104)","v":""},{"$f":"IF(Worksheet!Q104=0,\"\",Worksheet!Q104)","v":""},{"$f":"IF(Worksheet!C104=0,\"\",Worksheet!C104)","v":""},{"$f":"IF(Worksheet!D104=0,\"\",Worksheet!D104)","v":""},{"$f":"IF(Worksheet!$A$11=TRUE,\"Y\",\"N\")","v":"N"},{"$f":"IF(Worksheet!$A$12=TRUE,\"Y\",\"N\")","v":"N"},{"$f":"IF(Worksheet!$B$11=TRUE,\"Y\",\"N\")","v":"N"},{"$f":"IF(Worksheet!$B$12=TRUE,\"Y\",\"N\")","v":"N"},{"$f":"IF(Worksheet!$C$11=TRUE,\"Y\",\"N\")","v":"N"},{"$f":"IFERROR(Worksheet!AB104,\"\")","v":0}]
[{"$f":"IF(IFERROR(SEARCH(\"Refrigerated\",Worksheet!L105,1),0)>0,122,IF(ISERROR(RIGHT(VLOOKUP(Worksheet!K105,Type!C$1:E$13,3,FALSE),3))=FALSE,RIGHT(VLOOKUP(Worksheet!K105,Type!C$1:E$13,3,FALSE),3),\"\"))","v":""},{"$f":"IF(Worksheet!M105=\"\",\"\",Worksheet!M105)","v":""},{"$f":"IF(Worksheet!N105=\"\",\"\",Worksheet!N105)","v":""},{"$f":"IF(Worksheet!Y105=0,\"\",Worksheet!Y105)","v":""},"Watts",null,null,{"$f":"Worksheet!AA105","v":0},{"$f":"IF(ISBLANK(Worksheet!V105)=FALSE,Worksheet!V105,\"\")","v":0},{"$f":"Worksheet!AG105","v":0},{"$f":"Worksheet!AF105","v":0},0,{"$f":"IF(ISERROR(SEARCH(\"Gas\",Worksheet!$A$18))=TRUE,0,Worksheet!AH105)","v":0},0,null,null,{"$f":"IF(OR(Worksheet!F105=\"Incandescent\",Worksheet!F105=\"Halogen Incandescent\")=TRUE,118,IF(LEFT(Worksheet!F105,3)=\"HID\",117,IF(OR(RIGHT(Worksheet!F105,3)=\"T12\",RIGHT(Worksheet!F105,5)=\"T12HO\")=TRUE,115,IF(OR(RIGHT(Worksheet!F105,2)=\"T8\",RIGHT(Worksheet!F105,4)=\"RWT8\",RIGHT(Worksheet!F105,4)=\"T8HO\")=TRUE,115,\"\"))))","v":""},{"$f":"IF(ISBLANK(Worksheet!W105)=FALSE,Worksheet!W105,\"\")","v":0},{"$f":"IF(ISERROR(SEARCH(\"Oil\",Worksheet!$A$18))=TRUE,0,Worksheet!AH105)","v":0},0,{"$f":"IF(ISERROR(SEARCH(\"Propane\",Worksheet!$A$18))=TRUE,0,Worksheet!AH105)","v":0},0,{"$f":"IF(Worksheet!J105=0,\"\",Worksheet!J105)","v":""},{"$f":"IF(Worksheet!B105=0,\"\",Worksheet!B105)","v":""},{"$f":"IF(Worksheet!K105=0,\"\",Worksheet!K105)","v":""},{"$f":"IF(Worksheet!L105=0,\"\",Worksheet!L105)","v":""},{"$f":"IF(Worksheet!R105=0,\"\",Worksheet!R105)","v":""},{"$f":"IF(Worksheet!F105=0,\"\",Worksheet!F105)","v":""},{"$f":"IF(Worksheet!G105=0,\"\",Worksheet!G105)","v":""},{"$f":"IF(Worksheet!X105=0,\"\",Worksheet!X105)","v":""},{"$f":"IF(Worksheet!Q105=0,\"\",Worksheet!Q105)","v":""},{"$f":"IF(Worksheet!C105=0,\"\",Worksheet!C105)","v":""},{"$f":"IF(Worksheet!D105=0,\"\",Worksheet!D105)","v":""},{"$f":"IF(Worksheet!$A$11=TRUE,\"Y\",\"N\")","v":"N"},{"$f":"IF(Worksheet!$A$12=TRUE,\"Y\",\"N\")","v":"N"},{"$f":"IF(Worksheet!$B$11=TRUE,\"Y\",\"N\")","v":"N"},{"$f":"IF(Worksheet!$B$12=TRUE,\"Y\",\"N\")","v":"N"},{"$f":"IF(Worksheet!$C$11=TRUE,\"Y\",\"N\")","v":"N"},{"$f":"IFERROR(Worksheet!AB105,\"\")","v":0}]
[{"$f":"IF(IFERROR(SEARCH(\"Refrigerated\",Worksheet!L106,1),0)>0,122,IF(ISERROR(RIGHT(VLOOKUP(Worksheet!K106,Type!C$1:E$13,3,FALSE),3))=FALSE,RIGHT(VLOOKUP(Worksheet!K106,Type!C$1:E$13,3,FALSE),3),\"\"))","v":""},{"$f":"IF(Worksheet!M106=\"\",\"\",Worksheet!M106)","v":""},{"$f":"IF(Worksheet!N106=\"\",\"\",Worksheet!N106)","v":""},{"$f":"IF(Worksheet!Y106=0,\"\",Worksheet!Y106)","v":""},"Watts",null,null,{"$f":"Worksheet!AA106","v":0},{"$f":"IF(ISBLANK(Worksheet!V106)=FALSE,Worksheet!V106,\"\")","v":0},{"$f":"Worksheet!AG106","v":0},{"$f":"Worksheet!AF106","v":0},0,{"$f":"IF(ISERROR(SEARCH(\"Gas\",Worksheet!$A$18))=TRUE,0,Worksheet!AH106)","v":0},0,null,null,{"$f":"IF(OR(Worksheet!F106=\"Incandescent\",Worksheet!F106=\"Halogen Incandescent\")=TRUE,118,IF(LEFT(Worksheet!F106,3)=\"HID\",117,IF(OR(RIGHT(Worksheet!F106,3)=\"T12\",RIGHT(Worksheet!F106,5)=\"T12HO\")=TRUE,115,IF(OR(RIGHT(Worksheet!F106,2)=\"T8\",RIGHT(Worksheet!F106,4)=\"RWT8\",RIGHT(Worksheet!F106,4)=\"T8HO\")=TRUE,115,\"\"))))","v":""},{"$f":"IF(ISBLANK(Worksheet!W106)=FALSE,Worksheet!W106,\"\")","v":0},{"$f":"IF(ISERROR(SEARCH(\"Oil\",Worksheet!$A$18))=TRUE,0,Worksheet!AH106)","v":0},0,{"$f":"IF(ISERROR(SEARCH(\"Propane\",Worksheet!$A$18))=TRUE,0,Worksheet!AH106)","v":0},0,{"$f":"IF(Worksheet!J106=0,\"\",Worksheet!J106)","v":""},{"$f":"IF(Worksheet!B106=0,\"\",Worksheet!B106)","v":""},{"$f":"IF(Worksheet!K106=0,\"\",Worksheet!K106)","v":""},{"$f":"IF(Worksheet!L106=0,\"\",Worksheet!L106)","v":""},{"$f":"IF(Worksheet!R106=0,\"\",Worksheet!R106)","v":""},{"$f":"IF(Worksheet!F106=0,\"\",Worksheet!F106)","v":""},{"$f":"IF(Worksheet!G106=0,\"\",Worksheet!G106)","v":""},{"$f":"IF(Worksheet!X106=0,\"\",Worksheet!X106)","v":""},{"$f":"IF(Worksheet!Q106=0,\"\",Worksheet!Q106)","v":""},{"$f":"IF(Worksheet!C106=0,\"\",Worksheet!C106)","v":""},{"$f":"IF(Worksheet!D106=0,\"\",Worksheet!D106)","v":""},{"$f":"IF(Worksheet!$A$11=TRUE,\"Y\",\"N\")","v":"N"},{"$f":"IF(Worksheet!$A$12=TRUE,\"Y\",\"N\")","v":"N"},{"$f":"IF(Worksheet!$B$11=TRUE,\"Y\",\"N\")","v":"N"},{"$f":"IF(Worksheet!$B$12=TRUE,\"Y\",\"N\")","v":"N"},{"$f":"IF(Worksheet!$C$11=TRUE,\"Y\",\"N\")","v":"N"},{"$f":"IFERROR(Worksheet!AB106,\"\")","v":0}]
[{"$f":"IF(IFERROR(SEARCH(\"Refrigerated\",Worksheet!L107,1),0)>0,122,IF(ISERROR(RIGHT(VLOOKUP(Worksheet!K107,Type!C$1:E$13,3,FALSE),3))=FALSE,RIGHT(VLOOKUP(Worksheet!K107,Type!C$1:E$13,3,FALSE),3),\"\"))","v":""},{"$f":"IF(Worksheet!M107=\"\",\"\",Worksheet!M107)","v":""},{"$f":"IF(Worksheet!N107=\"\",\"\",Worksheet!N107)","v":""},{"$f":"IF(Worksheet!Y107=0,\"\",Worksheet!Y107)","v":""},"Watts",null,null,{"$f":"Worksheet!AA107","v":0},{"$f":"IF(ISBLANK(Worksheet!V107)=FALSE,Worksheet!V107,\"\")","v":0},{"$f":"Worksheet!AG107","v":0},{"$f":"Worksheet!AF107","v":0},0,{"$f":"IF(ISERROR(SEARCH(\"Gas\",Worksheet!$A$18))=TRUE,0,Worksheet!AH107)","v":0},0,null,null,{"$f":"IF(OR(Worksheet!F107=\"Incandescent\",Worksheet!F107=\"Halogen Incandescent\")=TRUE,118,IF(LEFT(Worksheet!F107,3)=\"HID\",117,IF(OR(RIGHT(Worksheet!F107,3)=\"T12\",RIGHT(Worksheet!F107,5)=\"T12HO\")=TRUE,115,IF(OR(RIGHT(Worksheet!F107,2)=\"T8\",RIGHT(Worksheet!F107,4)=\"RWT8\",RIGHT(Worksheet!F107,4)=\"T8HO\")=TRUE,115,\"\"))))","v":""},{"$f":"IF(ISBLANK(Worksheet!W107)=FALSE,Worksheet!W107,\"\")","v":0},{"$f":"IF(ISERROR(SEARCH(\"Oil\",Worksheet!$A$18))=TRUE,0,Worksheet!AH107)","v":0},0,{"$f":"IF(ISERROR(SEARCH(\"Propane\",Worksheet!$A$18))=TRUE,0,Worksheet!AH107)","v":0},0,{"$f":"IF(Worksheet!J107=0,\"\",Worksheet!J107)","v":""},{"$f":"IF(Worksheet!B107=0,\"\",Worksheet!B107)","v":""},{"$f":"IF(Worksheet!K107=0,\"\",Worksheet!K107)","v":""},{"$f":"IF(Worksheet!L107=0,\"\",Worksheet!L107)","v":""},{"$f":"IF(Worksheet!R107=0,\"\",Worksheet!R107)","v":""},{"$f":"IF(Worksheet!F107=0,\"\",Worksheet!F107)","v":""},{"$f":"IF(Worksheet!G107=0,\"\",Worksheet!G107)","v":""},{"$f":"IF(Worksheet!X107=0,\"\",Worksheet!X107)","v":""},{"$f":"IF(Worksheet!Q107=0,\"\",Worksheet!Q107)","v":""},{"$f":"IF(Worksheet!C107=0,\"\",Worksheet!C107)","v":""},{"$f":"IF(Worksheet!D107=0,\"\",Worksheet!D107)","v":""},{"$f":"IF(Worksheet!$A$11=TRUE,\"Y\",\"N\")","v":"N"},{"$f":"IF(Worksheet!$A$12=TRUE,\"Y\",\"N\")","v":"N"},{"$f":"IF(Worksheet!$B$11=TRUE,\"Y\",\"N\")","v":"N"},{"$f":"IF(Worksheet!$B$12=TRUE,\"Y\",\"N\")","v":"N"},{"$f":"IF(Worksheet!$C$11=TRUE,\"Y\",\"N\")","v":"N"},{"$f":"IFERROR(Worksheet!AB107,\"\")","v":0}]
[{"$f":"IF(IFERROR(SEARCH(\"Refrigerated\",Worksheet!L108,1),0)>0,122,IF(ISERROR(RIGHT(VLOOKUP(Worksheet!K108,Type!C$1:E$13,3,FALSE),3))=FALSE,RIGHT(VLOOKUP(Worksheet!K108,Type!C$1:E$13,3,FALSE),3),\"\"))","v":""},{"$f":"IF(Worksheet!M108=\"\",\"\",Worksheet!M108)","v":""},{"$f":"IF(Worksheet!N108=\"\",\"\",Worksheet!N108)","v":""},{"$f":"IF(Worksheet!Y108=0,\"\",Worksheet!Y108)","v":""},"Watts",null,null,{"$f":"Worksheet!AA108","v":0},{"$f":"IF(ISBLANK(Worksheet!V108)=FALSE,Worksheet!V108,\"\")","v":0},{"$f":"Worksheet!AG108","v":0},{"$f":"Worksheet!AF108","v":0},0,{"$f":"IF(ISERROR(SEARCH(\"Gas\",Worksheet!$A$18))=TRUE,0,Worksheet!AH108)","v":0},0,null,null,{"$f":"IF(OR(Worksheet!F108=\"Incandescent\",Worksheet!F108=\"Halogen Incandescent\")=TRUE,118,IF(LEFT(Worksheet!F108,3)=\"HID\",117,IF(OR(RIGHT(Worksheet!F108,3)=\"T12\",RIGHT(Worksheet!F108,5)=\"T12HO\")=TRUE,115,IF(OR(RIGHT(Worksheet!F108,2)=\"T8\",RIGHT(Worksheet!F108,4)=\"RWT8\",RIGHT(Worksheet!F108,4)=\"T8HO\")=TRUE,115,\"\"))))","v":""},{"$f":"IF(ISBLANK(Worksheet!W108)=FALSE,Worksheet!W108,\"\")","v":0},{"$f":"IF(ISERROR(SEARCH(\"Oil\",Worksheet!$A$18))=TRUE,0,Worksheet!AH108)","v":0},0,{"$f":"IF(ISERROR(SEARCH(\"Propane\",Worksheet!$A$18))=TRUE,0,Worksheet!AH108)","v":0},0,{"$f":"IF(Worksheet!J108=0,\"\",Worksheet!J108)","v":""},{"$f":"IF(Worksheet!B108=0,\"\",Worksheet!B108)","v":""},{"$f":"IF(Worksheet!K108=0,\"\",Worksheet!K108)","v":""},{"$f":"IF(Worksheet!L108=0,\"\",Worksheet!L108)","v":""},{"$f":"IF(Worksheet!R108=0,\"\",Worksheet!R108)","v":""},{"$f":"IF(Worksheet!F108=0,\"\",Worksheet!F108)","v":""},{"$f":"IF(Worksheet!G108=0,\"\",Worksheet!G108)","v":""},{"$f":"IF(Worksheet!X108=0,\"\",Worksheet!X108)","v":""},{"$f":"IF(Worksheet!Q108=0,\"\",Worksheet!Q108)","v":""},{"$f":"IF(Worksheet!C108=0,\"\",Worksheet!C108)","v":""},{"$f":"IF(Worksheet!D108=0,\"\",Worksheet!D108)","v":""},{"$f":"IF(Worksheet!$A$11=TRUE,\"Y\",\"N\")","v":"N"},{"$f":"IF(Worksheet!$A$12=TRUE,\"Y\",\"N\")","v":"N"},{"$f":"IF(Worksheet!$B$11=TRUE,\"Y\",\"N\")","v":"N"},{"$f":"IF(Worksheet!$B$12=TRUE,\"Y\",\"N\")","v":"N"},{"$f":"IF(Worksheet!$C$11=TRUE,\"Y\",\"N\")","v":"N"},{"$f":"IFERROR(Worksheet!AB108,\"\")","v":0}]
[{"$f":"IF(IFERROR(SEARCH(\"Refrigerated\",Worksheet!L109,1),0)>0,122,IF(ISERROR(RIGHT(VLOOKUP(Worksheet!K109,Type!C$1:E$13,3,FALSE),3))=FALSE,RIGHT(VLOOKUP(Worksheet!K109,Type!C$1:E$13,3,FALSE),3),\"\"))","v":""},{"$f":"IF(Worksheet!M109=\"\",\"\",Worksheet!M109)","v":""},{"$f":"IF(Worksheet!N109=\"\",\"\",Worksheet!N109)","v":""},{"$f":"IF(Worksheet!Y109=0,\"\",Worksheet!Y109)","v":""},"Watts",null,null,{"$f":"Worksheet!AA109","v":0},{"$f":"IF(ISBLANK(Worksheet!V109)=FALSE,Worksheet!V109,\"\")","v":0},{"$f":"Worksheet!AG109","v":0},{"$f":"Worksheet!AF109","v":0},0,{"$f":"IF(ISERROR(SEARCH(\"Gas\",Worksheet!$A$18))=TRUE,0,Worksheet!AH109)","v":0},0,null,null,{"$f":"IF(OR(Worksheet!F109=\"Incandescent\",Worksheet!F109=\"Halogen Incandescent\")=TRUE,118,IF(LEFT(Worksheet!F109,3)=\"HID\",117,IF(OR(RIGHT(Worksheet!F109,3)=\"T12\",RIGHT(Worksheet!F109,5)=\"T12HO\")=TRUE,115,IF(OR(RIGHT(Worksheet!F109,2)=\"T8\",RIGHT(Worksheet!F109,4)=\"RWT8\",RIGHT(Worksheet!F109,4)=\"T8HO\")=TRUE,115,\"\"))))","v":""},{"$f":"IF(ISBLANK(Worksheet!W109)=FALSE,Worksheet!W109,\"\")","v":0},{"$f":"IF(ISERROR(SEARCH(\"Oil\",Worksheet!$A$18))=TRUE,0,Worksheet!AH109)","v":0},0,{"$f":"IF(ISERROR(SEARCH(\"Propane\",Worksheet!$A$18))=TRUE,0,Worksheet!AH109)","v":0},0,{"$f":"IF(Worksheet!J109=0,\"\",Worksheet!J109)","v":""},{"$f":"IF(Worksheet!B109=0,\"\",Worksheet!B109)","v":""},{"$f":"IF(Worksheet!K109=0,\"\",Worksheet!K109)","v":""},{"$f":"IF(Worksheet!L109=0,\"\",Worksheet!L109)","v":""},{"$f":"IF(Worksheet!R109=0,\"\",Worksheet!R109)","v":""},{"$f":"IF(Worksheet!F109=0,\"\",Worksheet!F109)","v":""},{"$f":"IF(Worksheet!G109=0,\"\",Worksheet!G109)","v":""},{"$f":"IF(Worksheet!X109=0,\"\",Worksheet!X109)","v":""},{"$f":"IF(Worksheet!Q109=0,\"\",Worksheet!Q109)","v":""},{"$f":"IF(Worksheet!C109=0,\"\",Worksheet!C109)","v":""},{"$f":"IF(Worksheet!D109=0,\"\",Worksheet!D109)","v":""},{"$f":"IF(Worksheet!$A$11=TRUE,\"Y\",\"N\")","v":"N"},{"$f":"IF(Worksheet!$A$12=TRUE,\"Y\",\"N\")","v":"N"},{"$f":"IF(Worksheet!$B$11=TRUE,\"Y\",\"N\")","v":"N"},{"$f":"IF(Worksheet!$B$12=TRUE,\"Y\",\"N\")","v":"N"},{"$f":"IF(Worksheet!$C$11=TRUE,\"Y\",\"N\")","v":"N"},{"$f":"IFERROR(Worksheet!AB109,\"\")","v":0}]
[{"$f":"IF(IFERROR(SEARCH(\"Refrigerated\",Worksheet!L110,1),0)>0,122,IF(ISERROR(RIGHT(VLOOKUP(Worksheet!K110,Type!C$1:E$13,3,FALSE),3))=FALSE,RIGHT(VLOOKUP(Worksheet!K110,Type!C$1:E$13,3,FALSE),3),\"\"))","v":""},{"$f":"IF(Worksheet!M110=\"\",\"\",Worksheet!M110)","v":""},{"$f":"IF(Worksheet!N110=\"\",\"\",Worksheet!N110)","v":""},{"$f":"IF(Worksheet!Y110=0,\"\",Worksheet!Y110)","v":""},"Watts",null,null,{"$f":"Worksheet!AA110","v":0},{"$f":"IF(ISBLANK(Worksheet!V110)=FALSE,Worksheet!V110,\"\")","v":0},{"$f":"Worksheet!AG110","v":0},{"$f":"Worksheet!AF110","v":0},0,{"$f":"IF(ISERROR(SEARCH(\"Gas\",Worksheet!$A$18))=TRUE,0,Worksheet!AH110)","v":0},0,null,null,{"$f":"IF(OR(Worksheet!F110=\"Incandescent\",Worksheet!F110=\"Halogen Incandescent\")=TRUE,118,IF(LEFT(Worksheet!F110,3)=\"HID\",117,IF(OR(RIGHT(Worksheet!F110,3)=\"T12\",RIGHT(Worksheet!F110,5)=\"T12HO\")=TRUE,115,IF(OR(RIGHT(Worksheet!F110,2)=\"T8\",RIGHT(Worksheet!F110,4)=\"RWT8\",RIGHT(Worksheet!F110,4)=\"T8HO\")=TRUE,115,\"\"))))","v":""},{"$f":"IF(ISBLANK(Worksheet!W110)=FALSE,Worksheet!W110,\"\")","v":0},{"$f":"IF(ISERROR(SEARCH(\"Oil\",Worksheet!$A$18))=TRUE,0,Worksheet!AH110)","v":0},0,{"$f":"IF(ISERROR(SEARCH(\"Propane\",Worksheet!$A$18))=TRUE,0,Worksheet!AH110)","v":0},0,{"$f":"IF(Worksheet!J110=0,\"\",Worksheet!J110)","v":""},{"$f":"IF(Worksheet!B110=0,\"\",Worksheet!B110)","v":""},{"$f":"IF(Worksheet!K110=0,\"\",Worksheet!K110)","v":""},{"$f":"IF(Worksheet!L110=0,\"\",Worksheet!L110)","v":""},{"$f":"IF(Worksheet!R110=0,\"\",Worksheet!R110)","v":""},{"$f":"IF(Worksheet!F110=0,\"\",Worksheet!F110)","v":""},{"$f":"IF(Worksheet!G110=0,\"\",Worksheet!G110)","v":""},{"$f":"IF(Worksheet!X110=0,\"\",Worksheet!X110)","v":""},{"$f":"IF(Worksheet!Q110=0,\"\",Worksheet!Q110)","v":""},{"$f":"IF(Worksheet!C110=0,\"\",Worksheet!C110)","v":""},{"$f":"IF(Worksheet!D110=0,\"\",Worksheet!D110)","v":""},{"$f":"IF(Worksheet!$A$11=TRUE,\"Y\",\"N\")","v":"N"},{"$f":"IF(Worksheet!$A$12=TRUE,\"Y\",\"N\")","v":"N"},{"$f":"IF(Worksheet!$B$11=TRUE,\"Y\",\"N\")","v":"N"},{"$f":"IF(Worksheet!$B$12=TRUE,\"Y\",\"N\")","v":"N"},{"$f":"IF(Worksheet!$C$11=TRUE,\"Y\",\"N\")","v":"N"},{"$f":"IFERROR(Worksheet!AB110,\"\")","v":0}]
[{"$f":"IF(IFERROR(SEARCH(\"Refrigerated\",Worksheet!L111,1),0)>0,122,IF(ISERROR(RIGHT(VLOOKUP(Worksheet!K111,Type!C$1:E$13,3,FALSE),3))=FALSE,RIGHT(VLOOKUP(Worksheet!K111,Type!C$1:E$13,3,FALSE),3),\"\"))","v":""},{"$f":"IF(Worksheet!M111=\"\",\"\",Worksheet!M111)","v":""},{"$f":"IF(Worksheet!N111=\"\",\"\",Worksheet!N111)","v":""},{"$f":"IF(Worksheet!Y111=0,\"\",Worksheet!Y111)","v":""},"Watts",null,null,{"$f":"Worksheet!AA111","v":0},{"$f":"IF(ISBLANK(Worksheet!V111)=FALSE,Worksheet!V111,\"\")","v":0},{"$f":"Worksheet!AG111","v":0},{"$f":"Worksheet!AF111","v":0},0,{"$f":"IF(ISERROR(SEARCH(\"Gas\",Worksheet!$A$18))=TRUE,0,Worksheet!AH111)","v":0},0,null,null,{"$f":"IF(OR(Worksheet!F111=\"Incandescent\",Worksheet!F111=\"Halogen Incandescent\")=TRUE,118,IF(LEFT(Worksheet!F111,3)=\"HID\",117,IF(OR(RIGHT(Worksheet!F111,3)=\"T12\",RIGHT(Worksheet!F111,5)=\"T12HO\")=TRUE,115,IF(OR(RIGHT(Worksheet!F111,2)=\"T8\",RIGHT(Worksheet!F111,4)=\"RWT8\",RIGHT(Worksheet!F111,4)=\"T8HO\")=TRUE,115,\"\"))))","v":""},{"$f":"IF(ISBLANK(Worksheet!W111)=FALSE,Worksheet!W111,\"\")","v":0},{"$f":"IF(ISERROR(SEARCH(\"Oil\",Worksheet!$A$18))=TRUE,0,Worksheet!AH111)","v":0},0,{"$f":"IF(ISERROR(SEARCH(\"Propane\",Worksheet!$A$18))=TRUE,0,Worksheet!AH111)","v":0},0,{"$f":"IF(Worksheet!J111=0,\"\",Worksheet!J111)","v":""},{"$f":"IF(Worksheet!B111=0,\"\",Worksheet!B111)","v":""},{"$f":"IF(Worksheet!K111=0,\"\",Worksheet!K111)","v":""},{"$f":"IF(Worksheet!L111=0,\"\",Worksheet!L111)","v":""},{"$f":"IF(Worksheet!R111=0,\"\",Worksheet!R111)","v":""},{"$f":"IF(Worksheet!F111=0,\"\",Worksheet!F111)","v":""},{"$f":"IF(Worksheet!G111=0,\"\",Worksheet!G111)","v":""},{"$f":"IF(Worksheet!X111=0,\"\",Worksheet!X111)","v":""},{"$f":"IF(Worksheet!Q111=0,\"\",Worksheet!Q111)","v":""},{"$f":"IF(Worksheet!C111=0,\"\",Worksheet!C111)","v":""},{"$f":"IF(Worksheet!D111=0,\"\",Worksheet!D111)","v":""},{"$f":"IF(Worksheet!$A$11=TRUE,\"Y\",\"N\")","v":"N"},{"$f":"IF(Worksheet!$A$12=TRUE,\"Y\",\"N\")","v":"N"},{"$f":"IF(Worksheet!$B$11=TRUE,\"Y\",\"N\")","v":"N"},{"$f":"IF(Worksheet!$B$12=TRUE,\"Y\",\"N\")","v":"N"},{"$f":"IF(Worksheet!$C$11=TRUE,\"Y\",\"N\")","v":"N"},{"$f":"IFERROR(Worksheet!AB111,\"\")","v":0}]
[{"$f":"IF(IFERROR(SEARCH(\"Refrigerated\",Worksheet!L112,1),0)>0,122,IF(ISERROR(RIGHT(VLOOKUP(Worksheet!K112,Type!C$1:E$13,3,FALSE),3))=FALSE,RIGHT(VLOOKUP(Worksheet!K112,Type!C$1:E$13,3,FALSE),3),\"\"))","v":""},{"$f":"IF(Worksheet!M112=\"\",\"\",Worksheet!M112)","v":""},{"$f":"IF(Worksheet!N112=\"\",\"\",Worksheet!N112)","v":""},{"$f":"IF(Worksheet!Y112=0,\"\",Worksheet!Y112)","v":""},"Watts",null,null,{"$f":"Worksheet!AA112","v":0},{"$f":"IF(ISBLANK(Worksheet!V112)=FALSE,Worksheet!V112,\"\")","v":0},{"$f":"Worksheet!AG112","v":0},{"$f":"Worksheet!AF112","v":0},0,{"$f":"IF(ISERROR(SEARCH(\"Gas\",Worksheet!$A$18))=TRUE,0,Worksheet!AH112)","v":0},0,null,null,{"$f":"IF(OR(Worksheet!F112=\"Incandescent\",Worksheet!F112=\"Halogen Incandescent\")=TRUE,118,IF(LEFT(Worksheet!F112,3)=\"HID\",117,IF(OR(RIGHT(Worksheet!F112,3)=\"T12\",RIGHT(Worksheet!F112,5)=\"T12HO\")=TRUE,115,IF(OR(RIGHT(Worksheet!F112,2)=\"T8\",RIGHT(Worksheet!F112,4)=\"RWT8\",RIGHT(Worksheet!F112,4)=\"T8HO\")=TRUE,115,\"\"))))","v":""},{"$f":"IF(ISBLANK(Worksheet!W112)=FALSE,Worksheet!W112,\"\")","v":0},{"$f":"IF(ISERROR(SEARCH(\"Oil\",Worksheet!$A$18))=TRUE,0,Worksheet!AH112)","v":0},0,{"$f":"IF(ISERROR(SEARCH(\"Propane\",Worksheet!$A$18))=TRUE,0,Worksheet!AH112)","v":0},0,{"$f":"IF(Worksheet!J112=0,\"\",Worksheet!J112)","v":""},{"$f":"IF(Worksheet!B112=0,\"\",Worksheet!B112)","v":""},{"$f":"IF(Worksheet!K112=0,\"\",Worksheet!K112)","v":""},{"$f":"IF(Worksheet!L112=0,\"\",Worksheet!L112)","v":""},{"$f":"IF(Worksheet!R112=0,\"\",Worksheet!R112)","v":""},{"$f":"IF(Worksheet!F112=0,\"\",Worksheet!F112)","v":""},{"$f":"IF(Worksheet!G112=0,\"\",Worksheet!G112)","v":""},{"$f":"IF(Worksheet!X112=0,\"\",Worksheet!X112)","v":""},{"$f":"IF(Worksheet!Q112=0,\"\",Worksheet!Q112)","v":""},{"$f":"IF(Worksheet!C112=0,\"\",Worksheet!C112)","v":""},{"$f":"IF(Worksheet!D112=0,\"\",Worksheet!D112)","v":""},{"$f":"IF(Worksheet!$A$11=TRUE,\"Y\",\"N\")","v":"N"},{"$f":"IF(Worksheet!$A$12=TRUE,\"Y\",\"N\")","v":"N"},{"$f":"IF(Worksheet!$B$11=TRUE,\"Y\",\"N\")","v":"N"},{"$f":"IF(Worksheet!$B$12=TRUE,\"Y\",\"N\")","v":"N"},{"$f":"IF(Worksheet!$C$11=TRUE,\"Y\",\"N\")","v":"N"},{"$f":"IFERROR(Worksheet!AB112,\"\")","v":0}]
[{"$f":"IF(IFERROR(SEARCH(\"Refrigerated\",Worksheet!L113,1),0)>0,122,IF(ISERROR(RIGHT(VLOOKUP(Worksheet!K113,Type!C$1:E$13,3,FALSE),3))=FALSE,RIGHT(VLOOKUP(Worksheet!K113,Type!C$1:E$13,3,FALSE),3),\"\"))","v":""},{"$f":"IF(Worksheet!M113=\"\",\"\",Worksheet!M113)","v":""},{"$f":"IF(Worksheet!N113=\"\",\"\",Worksheet!N113)","v":""},{"$f":"IF(Worksheet!Y113=0,\"\",Worksheet!Y113)","v":""},"Watts",null,null,{"$f":"Worksheet!AA113","v":0},{"$f":"IF(ISBLANK(Worksheet!V113)=FALSE,Worksheet!V113,\"\")","v":0},{"$f":"Worksheet!AG113","v":0},{"$f":"Worksheet!AF113","v":0},0,{"$f":"IF(ISERROR(SEARCH(\"Gas\",Worksheet!$A$18))=TRUE,0,Worksheet!AH113)","v":0},0,null,null,{"$f":"IF(OR(Worksheet!F113=\"Incandescent\",Worksheet!F113=\"Halogen Incandescent\")=TRUE,118,IF(LEFT(Worksheet!F113,3)=\"HID\",117,IF(OR(RIGHT(Worksheet!F113,3)=\"T12\",RIGHT(Worksheet!F113,5)=\"T12HO\")=TRUE,115,IF(OR(RIGHT(Worksheet!F113,2)=\"T8\",RIGHT(Worksheet!F113,4)=\"RWT8\",RIGHT(Worksheet!F113,4)=\"T8HO\")=TRUE,115,\"\"))))","v":""},{"$f":"IF(ISBLANK(Worksheet!W113)=FALSE,Worksheet!W113,\"\")","v":0},{"$f":"IF(ISERROR(SEARCH(\"Oil\",Worksheet!$A$18))=TRUE,0,Worksheet!AH113)","v":0},0,{"$f":"IF(ISERROR(SEARCH(\"Propane\",Worksheet!$A$18))=TRUE,0,Worksheet!AH113)","v":0},0,{"$f":"IF(Worksheet!J113=0,\"\",Worksheet!J113)","v":""},{"$f":"IF(Worksheet!B113=0,\"\",Worksheet!B113)","v":""},{"$f":"IF(Worksheet!K113=0,\"\",Worksheet!K113)","v":""},{"$f":"IF(Worksheet!L113=0,\"\",Worksheet!L113)","v":""},{"$f":"IF(Worksheet!R113=0,\"\",Worksheet!R113)","v":""},{"$f":"IF(Worksheet!F113=0,\"\",Worksheet!F113)","v":""},{"$f":"IF(Worksheet!G113=0,\"\",Worksheet!G113)","v":""},{"$f":"IF(Worksheet!X113=0,\"\",Worksheet!X113)","v":""},{"$f":"IF(Worksheet!Q113=0,\"\",Worksheet!Q113)","v":""},{"$f":"IF(Worksheet!C113=0,\"\",Worksheet!C113)","v":""},{"$f":"IF(Worksheet!D113=0,\"\",Worksheet!D113)","v":""},{"$f":"IF(Worksheet!$A$11=TRUE,\"Y\",\"N\")","v":"N"},{"$f":"IF(Worksheet!$A$12=TRUE,\"Y\",\"N\")","v":"N"},{"$f":"IF(Worksheet!$B$11=TRUE,\"Y\",\"N\")","v":"N"},{"$f":"IF(Worksheet!$B$12=TRUE,\"Y\",\"N\")","v":"N"},{"$f":"IF(Worksheet!$C$11=TRUE,\"Y\",\"N\")","v":"N"},{"$f":"IFERROR(Worksheet!AB113,\"\")","v":0}]
[{"$f":"IF(IFERROR(SEARCH(\"Refrigerated\",Worksheet!L114,1),0)>0,122,IF(ISERROR(RIGHT(VLOOKUP(Worksheet!K114,Type!C$1:E$13,3,FALSE),3))=FALSE,RIGHT(VLOOKUP(Worksheet!K114,Type!C$1:E$13,3,FALSE),3),\"\"))","v":""},{"$f":"IF(Worksheet!M114=\"\",\"\",Worksheet!M114)","v":""},{"$f":"IF(Worksheet!N114=\"\",\"\",Worksheet!N114)","v":""},{"$f":"IF(Worksheet!Y114=0,\"\",Worksheet!Y114)","v":""},"Watts",null,null,{"$f":"Worksheet!AA114","v":0},{"$f":"IF(ISBLANK(Worksheet!V114)=FALSE,Worksheet!V114,\"\")","v":0},{"$f":"Worksheet!AG114","v":0},{"$f":"Worksheet!AF114","v":0},0,{"$f":"IF(ISERROR(SEARCH(\"Gas\",Worksheet!$A$18))=TRUE,0,Worksheet!AH114)","v":0},0,null,null,{"$f":"IF(OR(Worksheet!F114=\"Incandescent\",Worksheet!F114=\"Halogen Incandescent\")=TRUE,118,IF(LEFT(Worksheet!F114,3)=\"HID\",117,IF(OR(RIGHT(Worksheet!F114,3)=\"T12\",RIGHT(Worksheet!F114,5)=\"T12HO\")=TRUE,115,IF(OR(RIGHT(Worksheet!F114,2)=\"T8\",RIGHT(Worksheet!F114,4)=\"RWT8\",RIGHT(Worksheet!F114,4)=\"T8HO\")=TRUE,115,\"\"))))","v":""},{"$f":"IF(ISBLANK(Worksheet!W114)=FALSE,Worksheet!W114,\"\")","v":0},{"$f":"IF(ISERROR(SEARCH(\"Oil\",Worksheet!$A$18))=TRUE,0,Worksheet!AH114)","v":0},0,{"$f":"IF(ISERROR(SEARCH(\"Propane\",Worksheet!$A$18))=TRUE,0,Worksheet!AH114)","v":0},0,{"$f":"IF(Worksheet!J114=0,\"\",Worksheet!J114)","v":""},{"$f":"IF(Worksheet!B114=0,\"\",Worksheet!B114)","v":""},{"$f":"IF(Worksheet!K114=0,\"\",Worksheet!K114)","v":""},{"$f":"IF(Worksheet!L114=0,\"\",Worksheet!L114)","v":""},{"$f":"IF(Worksheet!R114=0,\"\",Worksheet!R114)","v":""},{"$f":"IF(Worksheet!F114=0,\"\",Worksheet!F114)","v":""},{"$f":"IF(Worksheet!G114=0,\"\",Worksheet!G114)","v":""},{"$f":"IF(Worksheet!X114=0,\"\",Worksheet!X114)","v":""},{"$f":"IF(Worksheet!Q114=0,\"\",Worksheet!Q114)","v":""},{"$f":"IF(Worksheet!C114=0,\"\",Worksheet!C114)","v":""},{"$f":"IF(Worksheet!D114=0,\"\",Worksheet!D114)","v":""},{"$f":"IF(Worksheet!$A$11=TRUE,\"Y\",\"N\")","v":"N"},{"$f":"IF(Worksheet!$A$12=TRUE,\"Y\",\"N\")","v":"N"},{"$f":"IF(Worksheet!$B$11=TRUE,\"Y\",\"N\")","v":"N"},{"$f":"IF(Worksheet!$B$12=TRUE,\"Y\",\"N\")","v":"N"},{"$f":"IF(Worksheet!$C$11=TRUE,\"Y\",\"N\")","v":"N"},{"$f":"IFERROR(Worksheet!AB114,\"\")","v":0}]
[{"$f":"IF(IFERROR(SEARCH(\"Refrigerated\",Worksheet!L115,1),0)>0,122,IF(ISERROR(RIGHT(VLOOKUP(Worksheet!K115,Type!C$1:E$13,3,FALSE),3))=FALSE,RIGHT(VLOOKUP(Worksheet!K115,Type!C$1:E$13,3,FALSE),3),\"\"))","v":""},{"$f":"IF(Worksheet!M115=\"\",\"\",Worksheet!M115)","v":""},{"$f":"IF(Worksheet!N115=\"\",\"\",Worksheet!N115)","v":""},{"$f":"IF(Worksheet!Y115=0,\"\",Worksheet!Y115)","v":""},"Watts",null,null,{"$f":"Worksheet!AA115","v":0},{"$f":"IF(ISBLANK(Worksheet!V115)=FALSE,Worksheet!V115,\"\")","v":0},{"$f":"Worksheet!AG115","v":0},{"$f":"Worksheet!AF115","v":0},0,{"$f":"IF(ISERROR(SEARCH(\"Gas\",Worksheet!$A$18))=TRUE,0,Worksheet!AH115)","v":0},0,null,null,{"$f":"IF(OR(Worksheet!F115=\"Incandescent\",Worksheet!F115=\"Halogen Incandescent\")=TRUE,118,IF(LEFT(Worksheet!F115,3)=\"HID\",117,IF(OR(RIGHT(Worksheet!F115,3)=\"T12\",RIGHT(Worksheet!F115,5)=\"T12HO\")=TRUE,115,IF(OR(RIGHT(Worksheet!F115,2)=\"T8\",RIGHT(Worksheet!F115,4)=\"RWT8\",RIGHT(Worksheet!F115,4)=\"T8HO\")=TRUE,115,\"\"))))","v":""},{"$f":"IF(ISBLANK(Worksheet!W115)=FALSE,Worksheet!W115,\"\")","v":0},{"$f":"IF(ISERROR(SEARCH(\"Oil\",Worksheet!$A$18))=TRUE,0,Worksheet!AH115)","v":0},0,{"$f":"IF(ISERROR(SEARCH(\"Propane\",Worksheet!$A$18))=TRUE,0,Worksheet!AH115)","v":0},0,{"$f":"IF(Worksheet!J115=0,\"\",Worksheet!J115)","v":""},{"$f":"IF(Worksheet!B115=0,\"\",Worksheet!B115)","v":""},{"$f":"IF(Worksheet!K115=0,\"\",Worksheet!K115)","v":""},{"$f":"IF(Worksheet!L115=0,\"\",Worksheet!L115)","v":""},{"$f":"IF(Worksheet!R115=0,\"\",Worksheet!R115)","v":""},{"$f":"IF(Worksheet!F115=0,\"\",Worksheet!F115)","v":""},{"$f":"IF(Worksheet!G115=0,\"\",Worksheet!G115)","v":""},{"$f":"IF(Worksheet!X115=0,\"\",Worksheet!X115)","v":""},{"$f":"IF(Worksheet!Q115=0,\"\",Worksheet!Q115)","v":""},{"$f":"IF(Worksheet!C115=0,\"\",Worksheet!C115)","v":""},{"$f":"IF(Worksheet!D115=0,\"\",Worksheet!D115)","v":""},{"$f":"IF(Worksheet!$A$11=TRUE,\"Y\",\"N\")","v":"N"},{"$f":"IF(Worksheet!$A$12=TRUE,\"Y\",\"N\")","v":"N"},{"$f":"IF(Worksheet!$B$11=TRUE,\"Y\",\"N\")","v":"N"},{"$f":"IF(Worksheet!$B$12=TRUE,\"Y\",\"N\")","v":"N"},{"$f":"IF(Worksheet!$C$11=TRUE,\"Y\",\"N\")","v":"N"},{"$f":"IFERROR(Worksheet!AB115,\"\")","v":0}]
[{"$f":"IF(IFERROR(SEARCH(\"Refrigerated\",Worksheet!L116,1),0)>0,122,IF(ISERROR(RIGHT(VLOOKUP(Worksheet!K116,Type!C$1:E$13,3,FALSE),3))=FALSE,RIGHT(VLOOKUP(Worksheet!K116,Type!C$1:E$13,3,FALSE),3),\"\"))","v":""},{"$f":"IF(Worksheet!M116=\"\",\"\",Worksheet!M116)","v":""},{"$f":"IF(Worksheet!N116=\"\",\"\",Worksheet!N116)","v":""},{"$f":"IF(Worksheet!Y116=0,\"\",Worksheet!Y116)","v":""},"Watts",null,null,{"$f":"Worksheet!AA116","v":0},{"$f":"IF(ISBLANK(Worksheet!V116)=FALSE,Worksheet!V116,\"\")","v":0},{"$f":"Worksheet!AG116","v":0},{"$f":"Worksheet!AF116","v":0},0,{"$f":"IF(ISERROR(SEARCH(\"Gas\",Worksheet!$A$18))=TRUE,0,Worksheet!AH116)","v":0},0,null,null,{"$f":"IF(OR(Worksheet!F116=\"Incandescent\",Worksheet!F116=\"Halogen Incandescent\")=TRUE,118,IF(LEFT(Worksheet!F116,3)=\"HID\",117,IF(OR(RIGHT(Worksheet!F116,3)=\"T12\",RIGHT(Worksheet!F116,5)=\"T12HO\")=TRUE,115,IF(OR(RIGHT(Worksheet!F116,2)=\"T8\",RIGHT(Worksheet!F116,4)=\"RWT8\",RIGHT(Worksheet!F116,4)=\"T8HO\")=TRUE,115,\"\"))))","v":""},{"$f":"IF(ISBLANK(Worksheet!W116)=FALSE,Worksheet!W116,\"\")","v":0},{"$f":"IF(ISERROR(SEARCH(\"Oil\",Worksheet!$A$18))=TRUE,0,Worksheet!AH116)","v":0},0,{"$f":"IF(ISERROR(SEARCH(\"Propane\",Worksheet!$A$18))=TRUE,0,Worksheet!AH116)","v":0},0,{"$f":"IF(Worksheet!J116=0,\"\",Worksheet!J116)","v":""},{"$f":"IF(Worksheet!B116=0,\"\",Worksheet!B116)","v":""},{"$f":"IF(Worksheet!K116=0,\"\",Worksheet!K116)","v":""},{"$f":"IF(Worksheet!L116=0,\"\",Worksheet!L116)","v":""},{"$f":"IF(Worksheet!R116=0,\"\",Worksheet!R116)","v":""},{"$f":"IF(Worksheet!F116=0,\"\",Worksheet!F116)","v":""},{"$f":"IF(Worksheet!G116=0,\"\",Worksheet!G116)","v":""},{"$f":"IF(Worksheet!X116=0,\"\",Worksheet!X116)","v":""},{"$f":"IF(Worksheet!Q116=0,\"\",Worksheet!Q116)","v":""},{"$f":"IF(Worksheet!C116=0,\"\",Worksheet!C116)","v":""},{"$f":"IF(Worksheet!D116=0,\"\",Worksheet!D116)","v":""},{"$f":"IF(Worksheet!$A$11=TRUE,\"Y\",\"N\")","v":"N"},{"$f":"IF(Worksheet!$A$12=TRUE,\"Y\",\"N\")","v":"N"},{"$f":"IF(Worksheet!$B$11=TRUE,\"Y\",\"N\")","v":"N"},{"$f":"IF(Worksheet!$B$12=TRUE,\"Y\",\"N\")","v":"N"},{"$f":"IF(Worksheet!$C$11=TRUE,\"Y\",\"N\")","v":"N"},{"$f":"IFERROR(Worksheet!AB116,\"\")","v":0}]
[{"$f":"IF(IFERROR(SEARCH(\"Refrigerated\",Worksheet!L117,1),0)>0,122,IF(ISERROR(RIGHT(VLOOKUP(Worksheet!K117,Type!C$1:E$13,3,FALSE),3))=FALSE,RIGHT(VLOOKUP(Worksheet!K117,Type!C$1:E$13,3,FALSE),3),\"\"))","v":""},{"$f":"IF(Worksheet!M117=\"\",\"\",Worksheet!M117)","v":""},{"$f":"IF(Worksheet!N117=\"\",\"\",Worksheet!N117)","v":""},{"$f":"IF(Worksheet!Y117=0,\"\",Worksheet!Y117)","v":""},"Watts",null,null,{"$f":"Worksheet!AA117","v":0},{"$f":"IF(ISBLANK(Worksheet!V117)=FALSE,Worksheet!V117,\"\")","v":0},{"$f":"Worksheet!AG117","v":0},{"$f":"Worksheet!AF117","v":0},0,{"$f":"IF(ISERROR(SEARCH(\"Gas\",Worksheet!$A$18))=TRUE,0,Worksheet!AH117)","v":0},0,null,null,{"$f":"IF(OR(Worksheet!F117=\"Incandescent\",Worksheet!F117=\"Halogen Incandescent\")=TRUE,118,IF(LEFT(Worksheet!F117,3)=\"HID\",117,IF(OR(RIGHT(Worksheet!F117,3)=\"T12\",RIGHT(Worksheet!F117,5)=\"T12HO\")=TRUE,115,IF(OR(RIGHT(Worksheet!F117,2)=\"T8\",RIGHT(Worksheet!F117,4)=\"RWT8\",RIGHT(Worksheet!F117,4)=\"T8HO\")=TRUE,115,\"\"))))","v":""},{"$f":"IF(ISBLANK(Worksheet!W117)=FALSE,Worksheet!W117,\"\")","v":0},{"$f":"IF(ISERROR(SEARCH(\"Oil\",Worksheet!$A$18))=TRUE,0,Worksheet!AH117)","v":0},0,{"$f":"IF(ISERROR(SEARCH(\"Propane\",Worksheet!$A$18))=TRUE,0,Worksheet!AH117)","v":0},0,{"$f":"IF(Worksheet!J117=0,\"\",Worksheet!J117)","v":""},{"$f":"IF(Worksheet!B117=0,\"\",Worksheet!B117)","v":""},{"$f":"IF(Worksheet!K117=0,\"\",Worksheet!K117)","v":""},{"$f":"IF(Worksheet!L117=0,\"\",Worksheet!L117)","v":""},{"$f":"IF(Worksheet!R117=0,\"\",Worksheet!R117)","v":""},{"$f":"IF(Worksheet!F117=0,\"\",Worksheet!F117)","v":""},{"$f":"IF(Worksheet!G117=0,\"\",Worksheet!G117)","v":""},{"$f":"IF(Worksheet!X117=0,\"\",Worksheet!X117)","v":""},{"$f":"IF(Worksheet!Q117=0,\"\",Worksheet!Q117)","v":""},{"$f":"IF(Worksheet!C117=0,\"\",Worksheet!C117)","v":""},{"$f":"IF(Worksheet!D117=0,\"\",Worksheet!D117)","v":""},{"$f":"IF(Worksheet!$A$11=TRUE,\"Y\",\"N\")","v":"N"},{"$f":"IF(Worksheet!$A$12=TRUE,\"Y\",\"N\")","v":"N"},{"$f":"IF(Worksheet!$B$11=TRUE,\"Y\",\"N\")","v":"N"},{"$f":"IF(Worksheet!$B$12=TRUE,\"Y\",\"N\")","v":"N"},{"$f":"IF(Worksheet!$C$11=TRUE,\"Y\",\"N\")","v":"N"},{"$f":"IFERROR(Worksheet!AB117,\"\")","v":0}]
[{"$f":"IF(IFERROR(SEARCH(\"Refrigerated\",Worksheet!L118,1),0)>0,122,IF(ISERROR(RIGHT(VLOOKUP(Worksheet!K118,Type!C$1:E$13,3,FALSE),3))=FALSE,RIGHT(VLOOKUP(Worksheet!K118,Type!C$1:E$13,3,FALSE),3),\"\"))","v":""},{"$f":"IF(Worksheet!M118=\"\",\"\",Worksheet!M118)","v":""},{"$f":"IF(Worksheet!N118=\"\",\"\",Worksheet!N118)","v":""},{"$f":"IF(Worksheet!Y118=0,\"\",Worksheet!Y118)","v":""},"Watts",null,null,{"$f":"Worksheet!AA118","v":0},{"$f":"IF(ISBLANK(Worksheet!V118)=FALSE,Worksheet!V118,\"\")","v":0},{"$f":"Worksheet!AG118","v":0},{"$f":"Worksheet!AF118","v":0},0,{"$f":"IF(ISERROR(SEARCH(\"Gas\",Worksheet!$A$18))=TRUE,0,Worksheet!AH118)","v":0},0,null,null,{"$f":"IF(OR(Worksheet!F118=\"Incandescent\",Worksheet!F118=\"Halogen Incandescent\")=TRUE,118,IF(LEFT(Worksheet!F118,3)=\"HID\",117,IF(OR(RIGHT(Worksheet!F118,3)=\"T12\",RIGHT(Worksheet!F118,5)=\"T12HO\")=TRUE,115,IF(OR(RIGHT(Worksheet!F118,2)=\"T8\",RIGHT(Worksheet!F118,4)=\"RWT8\",RIGHT(Worksheet!F118,4)=\"T8HO\")=TRUE,115,\"\"))))","v":""},{"$f":"IF(ISBLANK(Worksheet!W118)=FALSE,Worksheet!W118,\"\")","v":0},{"$f":"IF(ISERROR(SEARCH(\"Oil\",Worksheet!$A$18))=TRUE,0,Worksheet!AH118)","v":0},0,{"$f":"IF(ISERROR(SEARCH(\"Propane\",Worksheet!$A$18))=TRUE,0,Worksheet!AH118)","v":0},0,{"$f":"IF(Worksheet!J118=0,\"\",Worksheet!J118)","v":""},{"$f":"IF(Worksheet!B118=0,\"\",Worksheet!B118)","v":""},{"$f":"IF(Worksheet!K118=0,\"\",Worksheet!K118)","v":""},{"$f":"IF(Worksheet!L118=0,\"\",Worksheet!L118)","v":""},{"$f":"IF(Worksheet!R118=0,\"\",Worksheet!R118)","v":""},{"$f":"IF(Worksheet!F118=0,\"\",Worksheet!F118)","v":""},{"$f":"IF(Worksheet!G118=0,\"\",Worksheet!G118)","v":""},{"$f":"IF(Worksheet!X118=0,\"\",Worksheet!X118)","v":""},{"$f":"IF(Worksheet!Q118=0,\"\",Worksheet!Q118)","v":""},{"$f":"IF(Worksheet!C118=0,\"\",Worksheet!C118)","v":""},{"$f":"IF(Worksheet!D118=0,\"\",Worksheet!D118)","v":""},{"$f":"IF(Worksheet!$A$11=TRUE,\"Y\",\"N\")","v":"N"},{"$f":"IF(Worksheet!$A$12=TRUE,\"Y\",\"N\")","v":"N"},{"$f":"IF(Worksheet!$B$11=TRUE,\"Y\",\"N\")","v":"N"},{"$f":"IF(Worksheet!$B$12=TRUE,\"Y\",\"N\")","v":"N"},{"$f":"IF(Worksheet!$C$11=TRUE,\"Y\",\"N\")","v":"N"},{"$f":"IFERROR(Worksheet!AB118,\"\")","v":0}]
[{"$f":"IF(IFERROR(SEARCH(\"Refrigerated\",Worksheet!L119,1),0)>0,122,IF(ISERROR(RIGHT(VLOOKUP(Worksheet!K119,Type!C$1:E$13,3,FALSE),3))=FALSE,RIGHT(VLOOKUP(Worksheet!K119,Type!C$1:E$13,3,FALSE),3),\"\"))","v":""},{"$f":"IF(Worksheet!M119=\"\",\"\",Worksheet!M119)","v":""},{"$f":"IF(Worksheet!N119=\"\",\"\",Worksheet!N119)","v":""},{"$f":"IF(Worksheet!Y119=0,\"\",Worksheet!Y119)","v":""},"Watts",null,null,{"$f":"Worksheet!AA119","v":0},{"$f":"IF(ISBLANK(Worksheet!V119)=FALSE,Worksheet!V119,\"\")","v":0},{"$f":"Worksheet!AG119","v":0},{"$f":"Worksheet!AF119","v":0},0,{"$f":"IF(ISERROR(SEARCH(\"Gas\",Worksheet!$A$18))=TRUE,0,Worksheet!AH119)","v":0},0,null,null,{"$f":"IF(OR(Worksheet!F119=\"Incandescent\",Worksheet!F119=\"Halogen Incandescent\")=TRUE,118,IF(LEFT(Worksheet!F119,3)=\"HID\",117,IF(OR(RIGHT(Worksheet!F119,3)=\"T12\",RIGHT(Worksheet!F119,5)=\"T12HO\")=TRUE,115,IF(OR(RIGHT(Worksheet!F119,2)=\"T8\",RIGHT(Worksheet!F119,4)=\"RWT8\",RIGHT(Worksheet!F119,4)=\"T8HO\")=TRUE,115,\"\"))))","v":""},{"$f":"IF(ISBLANK(Worksheet!W119)=FALSE,Worksheet!W119,\"\")","v":0},{"$f":"IF(ISERROR(SEARCH(\"Oil\",Worksheet!$A$18))=TRUE,0,Worksheet!AH119)","v":0},0,{"$f":"IF(ISERROR(SEARCH(\"Propane\",Worksheet!$A$18))=TRUE,0,Worksheet!AH119)","v":0},0,{"$f":"IF(Worksheet!J119=0,\"\",Worksheet!J119)","v":""},{"$f":"IF(Worksheet!B119=0,\"\",Worksheet!B119)","v":""},{"$f":"IF(Worksheet!K119=0,\"\",Worksheet!K119)","v":""},{"$f":"IF(Worksheet!L119=0,\"\",Worksheet!L119)","v":""},{"$f":"IF(Worksheet!R119=0,\"\",Worksheet!R119)","v":""},{"$f":"IF(Worksheet!F119=0,\"\",Worksheet!F119)","v":""},{"$f":"IF(Worksheet!G119=0,\"\",Worksheet!G119)","v":""},{"$f":"IF(Worksheet!X119=0,\"\",Worksheet!X119)","v":""},{"$f":"IF(Worksheet!Q119=0,\"\",Worksheet!Q119)","v":""},{"$f":"IF(Worksheet!C119=0,\"\",Worksheet!C119)","v":""},{"$f":"IF(Worksheet!D119=0,\"\",Worksheet!D119)","v":""},{"$f":"IF(Worksheet!$A$11=TRUE,\"Y\",\"N\")","v":"N"},{"$f":"IF(Worksheet!$A$12=TRUE,\"Y\",\"N\")","v":"N"},{"$f":"IF(Worksheet!$B$11=TRUE,\"Y\",\"N\")","v":"N"},{"$f":"IF(Worksheet!$B$12=TRUE,\"Y\",\"N\")","v":"N"},{"$f":"IF(Worksheet!$C$11=TRUE,\"Y\",\"N\")","v":"N"},{"$f":"IFERROR(Worksheet!AB119,\"\")","v":0}]
[{"$f":"IF(IFERROR(SEARCH(\"Refrigerated\",Worksheet!L120,1),0)>0,122,IF(ISERROR(RIGHT(VLOOKUP(Worksheet!K120,Type!C$1:E$13,3,FALSE),3))=FALSE,RIGHT(VLOOKUP(Worksheet!K120,Type!C$1:E$13,3,FALSE),3),\"\"))","v":""},{"$f":"IF(Worksheet!M120=\"\",\"\",Worksheet!M120)","v":""},{"$f":"IF(Worksheet!N120=\"\",\"\",Worksheet!N120)","v":""},{"$f":"IF(Worksheet!Y120=0,\"\",Worksheet!Y120)","v":""},"Watts",null,null,{"$f":"Worksheet!AA120","v":0},{"$f":"IF(ISBLANK(Worksheet!V120)=FALSE,Worksheet!V120,\"\")","v":0},{"$f":"Worksheet!AG120","v":0},{"$f":"Worksheet!AF120","v":0},0,{"$f":"IF(ISERROR(SEARCH(\"Gas\",Worksheet!$A$18))=TRUE,0,Worksheet!AH120)","v":0},0,null,null,{"$f":"IF(OR(Worksheet!F120=\"Incandescent\",Worksheet!F120=\"Halogen Incandescent\")=TRUE,118,IF(LEFT(Worksheet!F120,3)=\"HID\",117,IF(OR(RIGHT(Worksheet!F120,3)=\"T12\",RIGHT(Worksheet!F120,5)=\"T12HO\")=TRUE,115,IF(OR(RIGHT(Worksheet!F120,2)=\"T8\",RIGHT(Worksheet!F120,4)=\"RWT8\",RIGHT(Worksheet!F120,4)=\"T8HO\")=TRUE,115,\"\"))))","v":""},{"$f":"IF(ISBLANK(Worksheet!W120)=FALSE,Worksheet!W120,\"\")","v":0},{"$f":"IF(ISERROR(SEARCH(\"Oil\",Worksheet!$A$18))=TRUE,0,Worksheet!AH120)","v":0},0,{"$f":"IF(ISERROR(SEARCH(\"Propane\",Worksheet!$A$18))=TRUE,0,Worksheet!AH120)","v":0},0,{"$f":"IF(Worksheet!J120=0,\"\",Worksheet!J120)","v":""},{"$f":"IF(Worksheet!B120=0,\"\",Worksheet!B120)","v":""},{"$f":"IF(Worksheet!K120=0,\"\",Worksheet!K120)","v":""},{"$f":"IF(Worksheet!L120=0,\"\",Worksheet!L120)","v":""},{"$f":"IF(Worksheet!R120=0,\"\",Worksheet!R120)","v":""},{"$f":"IF(Worksheet!F120=0,\"\",Worksheet!F120)","v":""},{"$f":"IF(Worksheet!G120=0,\"\",Worksheet!G120)","v":""},{"$f":"IF(Worksheet!X120=0,\"\",Worksheet!X120)","v":""},{"$f":"IF(Worksheet!Q120=0,\"\",Worksheet!Q120)","v":""},{"$f":"IF(Worksheet!C120=0,\"\",Worksheet!C120)","v":""},{"$f":"IF(Worksheet!D120=0,\"\",Worksheet!D120)","v":""},{"$f":"IF(Worksheet!$A$11=TRUE,\"Y\",\"N\")","v":"N"},{"$f":"IF(Worksheet!$A$12=TRUE,\"Y\",\"N\")","v":"N"},{"$f":"IF(Worksheet!$B$11=TRUE,\"Y\",\"N\")","v":"N"},{"$f":"IF(Worksheet!$B$12=TRUE,\"Y\",\"N\")","v":"N"},{"$f":"IF(Worksheet!$C$11=TRUE,\"Y\",\"N\")","v":"N"},{"$f":"IFERROR(Worksheet!AB120,\"\")","v":0}]
[{"$f":"IF(IFERROR(SEARCH(\"Refrigerated\",Worksheet!L121,1),0)>0,122,IF(ISERROR(RIGHT(VLOOKUP(Worksheet!K121,Type!C$1:E$13,3,FALSE),3))=FALSE,RIGHT(VLOOKUP(Worksheet!K121,Type!C$1:E$13,3,FALSE),3),\"\"))","v":""},{"$f":"IF(Worksheet!M121=\"\",\"\",Worksheet!M121)","v":""},{"$f":"IF(Worksheet!N121=\"\",\"\",Worksheet!N121)","v":""},{"$f":"IF(Worksheet!Y121=0,\"\",Worksheet!Y121)","v":""},"Watts",null,null,{"$f":"Worksheet!AA121","v":0},{"$f":"IF(ISBLANK(Worksheet!V121)=FALSE,Worksheet!V121,\"\")","v":0},{"$f":"Worksheet!AG121","v":0},{"$f":"Worksheet!AF121","v":0},0,{"$f":"IF(ISERROR(SEARCH(\"Gas\",Worksheet!$A$18))=TRUE,0,Worksheet!AH121)","v":0},0,null,null,{"$f":"IF(OR(Worksheet!F121=\"Incandescent\",Worksheet!F121=\"Halogen Incandescent\")=TRUE,118,IF(LEFT(Worksheet!F121,3)=\"HID\",117,IF(OR(RIGHT(Worksheet!F121,3)=\"T12\",RIGHT(Worksheet!F121,5)=\"T12HO\")=TRUE,115,IF(OR(RIGHT(Worksheet!F121,2)=\"T8\",RIGHT(Worksheet!F121,4)=\"RWT8\",RIGHT(Worksheet!F121,4)=\"T8HO\")=TRUE,115,\"\"))))","v":""},{"$f":"IF(ISBLANK(Worksheet!W121)=FALSE,Worksheet!W121,\"\")","v":0},{"$f":"IF(ISERROR(SEARCH(\"Oil\",Worksheet!$A$18))=TRUE,0,Worksheet!AH121)","v":0},0,{"$f":"IF(ISERROR(SEARCH(\"Propane\",Worksheet!$A$18))=TRUE,0,Worksheet!AH121)","v":0},0,{"$f":"IF(Worksheet!J121=0,\"\",Worksheet!J121)","v":""},{"$f":"IF(Worksheet!B121=0,\"\",Worksheet!B121)","v":""},{"$f":"IF(Worksheet!K121=0,\"\",Worksheet!K121)","v":""},{"$f":"IF(Worksheet!L121=0,\"\",Worksheet!L121)","v":""},{"$f":"IF(Worksheet!R121=0,\"\",Worksheet!R121)","v":""},{"$f":"IF(Worksheet!F121=0,\"\",Worksheet!F121)","v":""},{"$f":"IF(Worksheet!G121=0,\"\",Worksheet!G121)","v":""},{"$f":"IF(Worksheet!X121=0,\"\",Worksheet!X121)","v":""},{"$f":"IF(Worksheet!Q121=0,\"\",Worksheet!Q121)","v":""},{"$f":"IF(Worksheet!C121=0,\"\",Worksheet!C121)","v":""},{"$f":"IF(Worksheet!D121=0,\"\",Worksheet!D121)","v":""},{"$f":"IF(Worksheet!$A$11=TRUE,\"Y\",\"N\")","v":"N"},{"$f":"IF(Worksheet!$A$12=TRUE,\"Y\",\"N\")","v":"N"},{"$f":"IF(Worksheet!$B$11=TRUE,\"Y\",\"N\")","v":"N"},{"$f":"IF(Worksheet!$B$12=TRUE,\"Y\",\"N\")","v":"N"},{"$f":"IF(Worksheet!$C$11=TRUE,\"Y\",\"N\")","v":"N"},{"$f":"IFERROR(Worksheet!AB121,\"\")","v":0}]
[{"$f":"IF(IFERROR(SEARCH(\"Refrigerated\",Worksheet!L122,1),0)>0,122,IF(ISERROR(RIGHT(VLOOKUP(Worksheet!K122,Type!C$1:E$13,3,FALSE),3))=FALSE,RIGHT(VLOOKUP(Worksheet!K122,Type!C$1:E$13,3,FALSE),3),\"\"))","v":""},{"$f":"IF(Worksheet!M122=\"\",\"\",Worksheet!M122)","v":""},{"$f":"IF(Worksheet!N122=\"\",\"\",Worksheet!N122)","v":""},{"$f":"IF(Worksheet!Y122=0,\"\",Worksheet!Y122)","v":""},"Watts",null,null,{"$f":"Worksheet!AA122","v":0},{"$f":"IF(ISBLANK(Worksheet!V122)=FALSE,Worksheet!V122,\"\")","v":0},{"$f":"Worksheet!AG122","v":0},{"$f":"Worksheet!AF122","v":0},0,{"$f":"IF(ISERROR(SEARCH(\"Gas\",Worksheet!$A$18))=TRUE,0,Worksheet!AH122)","v":0},0,null,null,{"$f":"IF(OR(Worksheet!F122=\"Incandescent\",Worksheet!F122=\"Halogen Incandescent\")=TRUE,118,IF(LEFT(Worksheet!F122,3)=\"HID\",117,IF(OR(RIGHT(Worksheet!F122,3)=\"T12\",RIGHT(Worksheet!F122,5)=\"T12HO\")=TRUE,115,IF(OR(RIGHT(Worksheet!F122,2)=\"T8\",RIGHT(Worksheet!F122,4)=\"RWT8\",RIGHT(Worksheet!F122,4)=\"T8HO\")=TRUE,115,\"\"))))","v":""},{"$f":"IF(ISBLANK(Worksheet!W122)=FALSE,Worksheet!W122,\"\")","v":0},{"$f":"IF(ISERROR(SEARCH(\"Oil\",Worksheet!$A$18))=TRUE,0,Worksheet!AH122)","v":0},0,{"$f":"IF(ISERROR(SEARCH(\"Propane\",Worksheet!$A$18))=TRUE,0,Worksheet!AH122)","v":0},0,{"$f":"IF(Worksheet!J122=0,\"\",Worksheet!J122)","v":""},{"$f":"IF(Worksheet!B122=0,\"\",Worksheet!B122)","v":""},{"$f":"IF(Worksheet!K122=0,\"\",Worksheet!K122)","v":""},{"$f":"IF(Worksheet!L122=0,\"\",Worksheet!L122)","v":""},{"$f":"IF(Worksheet!R122=0,\"\",Worksheet!R122)","v":""},{"$f":"IF(Worksheet!F122=0,\"\",Worksheet!F122)","v":""},{"$f":"IF(Worksheet!G122=0,\"\",Worksheet!G122)","v":""},{"$f":"IF(Worksheet!X122=0,\"\",Worksheet!X122)","v":""},{"$f":"IF(Worksheet!Q122=0,\"\",Worksheet!Q122)","v":""},{"$f":"IF(Worksheet!C122=0,\"\",Worksheet!C122)","v":""},{"$f":"IF(Worksheet!D122=0,\"\",Worksheet!D122)","v":""},{"$f":"IF(Worksheet!$A$11=TRUE,\"Y\",\"N\")","v":"N"},{"$f":"IF(Worksheet!$A$12=TRUE,\"Y\",\"N\")","v":"N"},{"$f":"IF(Worksheet!$B$11=TRUE,\"Y\",\"N\")","v":"N"},{"$f":"IF(Worksheet!$B$12=TRUE,\"Y\",\"N\")","v":"N"},{"$f":"IF(Worksheet!$C$11=TRUE,\"Y\",\"N\")","v":"N"},{"$f":"IFERROR(Worksheet!AB122,\"\")","v":0}]
[{"$f":"IF(IFERROR(SEARCH(\"Refrigerated\",Worksheet!L123,1),0)>0,122,IF(ISERROR(RIGHT(VLOOKUP(Worksheet!K123,Type!C$1:E$13,3,FALSE),3))=FALSE,RIGHT(VLOOKUP(Worksheet!K123,Type!C$1:E$13,3,FALSE),3),\"\"))","v":""},{"$f":"IF(Worksheet!M123=\"\",\"\",Worksheet!M123)","v":""},{"$f":"IF(Worksheet!N123=\"\",\"\",Worksheet!N123)","v":""},{"$f":"IF(Worksheet!Y123=0,\"\",Worksheet!Y123)","v":""},"Watts",null,null,{"$f":"Worksheet!AA123","v":0},{"$f":"IF(ISBLANK(Worksheet!V123)=FALSE,Worksheet!V123,\"\")","v":0},{"$f":"Worksheet!AG123","v":0},{"$f":"Worksheet!AF123","v":0},0,{"$f":"IF(ISERROR(SEARCH(\"Gas\",Worksheet!$A$18))=TRUE,0,Worksheet!AH123)","v":0},0,null,null,{"$f":"IF(OR(Worksheet!F123=\"Incandescent\",Worksheet!F123=\"Halogen Incandescent\")=TRUE,118,IF(LEFT(Worksheet!F123,3)=\"HID\",117,IF(OR(RIGHT(Worksheet!F123,3)=\"T12\",RIGHT(Worksheet!F123,5)=\"T12HO\")=TRUE,115,IF(OR(RIGHT(Worksheet!F123,2)=\"T8\",RIGHT(Worksheet!F123,4)=\"RWT8\",RIGHT(Worksheet!F123,4)=\"T8HO\")=TRUE,115,\"\"))))","v":""},{"$f":"IF(ISBLANK(Worksheet!W123)=FALSE,Worksheet!W123,\"\")","v":0},{"$f":"IF(ISERROR(SEARCH(\"Oil\",Worksheet!$A$18))=TRUE,0,Worksheet!AH123)","v":0},0,{"$f":"IF(ISERROR(SEARCH(\"Propane\",Worksheet!$A$18))=TRUE,0,Worksheet!AH123)","v":0},0,{"$f":"IF(Worksheet!J123=0,\"\",Worksheet!J123)","v":""},{"$f":"IF(Worksheet!B123=0,\"\",Worksheet!B123)","v":""},{"$f":"IF(Worksheet!K123=0,\"\",Worksheet!K123)","v":""},{"$f":"IF(Worksheet!L123=0,\"\",Worksheet!L123)","v":""},{"$f":"IF(Worksheet!R123=0,\"\",Worksheet!R123)","v":""},{"$f":"IF(Worksheet!F123=0,\"\",Worksheet!F123)","v":""},{"$f":"IF(Worksheet!G123=0,\"\",Worksheet!G123)","v":""},{"$f":"IF(Worksheet!X123=0,\"\",Worksheet!X123)","v":""},{"$f":"IF(Worksheet!Q123=0,\"\",Worksheet!Q123)","v":""},{"$f":"IF(Worksheet!C123=0,\"\",Worksheet!C123)","v":""},{"$f":"IF(Worksheet!D123=0,\"\",Worksheet!D123)","v":""},{"$f":"IF(Worksheet!$A$11=TRUE,\"Y\",\"N\")","v":"N"},{"$f":"IF(Worksheet!$A$12=TRUE,\"Y\",\"N\")","v":"N"},{"$f":"IF(Worksheet!$B$11=TRUE,\"Y\",\"N\")","v":"N"},{"$f":"IF(Worksheet!$B$12=TRUE,\"Y\",\"N\")","v":"N"},{"$f":"IF(Worksheet!$C$11=TRUE,\"Y\",\"N\")","v":"N"},{"$f":"IFERROR(Worksheet!AB123,\"\")","v":0}]
[{"$f":"IF(IFERROR(SEARCH(\"Refrigerated\",Worksheet!L124,1),0)>0,122,IF(ISERROR(RIGHT(VLOOKUP(Worksheet!K124,Type!C$1:E$13,3,FALSE),3))=FALSE,RIGHT(VLOOKUP(Worksheet!K124,Type!C$1:E$13,3,FALSE),3),\"\"))","v":""},{"$f":"IF(Worksheet!M124=\"\",\"\",Worksheet!M124)","v":""},{"$f":"IF(Worksheet!N124=\"\",\"\",Worksheet!N124)","v":""},{"$f":"IF(Worksheet!Y124=0,\"\",Worksheet!Y124)","v":""},"Watts",null,null,{"$f":"Worksheet!AA124","v":0},{"$f":"IF(ISBLANK(Worksheet!V124)=FALSE,Worksheet!V124,\"\")","v":0},{"$f":"Worksheet!AG124","v":0},{"$f":"Worksheet!AF124","v":0},0,{"$f":"IF(ISERROR(SEARCH(\"Gas\",Worksheet!$A$18))=TRUE,0,Worksheet!AH124)","v":0},0,null,null,{"$f":"IF(OR(Worksheet!F124=\"Incandescent\",Worksheet!F124=\"Halogen Incandescent\")=TRUE,118,IF(LEFT(Worksheet!F124,3)=\"HID\",117,IF(OR(RIGHT(Worksheet!F124,3)=\"T12\",RIGHT(Worksheet!F124,5)=\"T12HO\")=TRUE,115,IF(OR(RIGHT(Worksheet!F124,2)=\"T8\",RIGHT(Worksheet!F124,4)=\"RWT8\",RIGHT(Worksheet!F124,4)=\"T8HO\")=TRUE,115,\"\"))))","v":""},{"$f":"IF(ISBLANK(Worksheet!W124)=FALSE,Worksheet!W124,\"\")","v":0},{"$f":"IF(ISERROR(SEARCH(\"Oil\",Worksheet!$A$18))=TRUE,0,Worksheet!AH124)","v":0},0,{"$f":"IF(ISERROR(SEARCH(\"Propane\",Worksheet!$A$18))=TRUE,0,Worksheet!AH124)","v":0},0,{"$f":"IF(Worksheet!J124=0,\"\",Worksheet!J124)","v":""},{"$f":"IF(Worksheet!B124=0,\"\",Worksheet!B124)","v":""},{"$f":"IF(Worksheet!K124=0,\"\",Worksheet!K124)","v":""},{"$f":"IF(Worksheet!L124=0,\"\",Worksheet!L124)","v":""},{"$f":"IF(Worksheet!R124=0,\"\",Worksheet!R124)","v":""},{"$f":"IF(Worksheet!F124=0,\"\",Worksheet!F124)","v":""},{"$f":"IF(Worksheet!G124=0,\"\",Worksheet!G124)","v":""},{"$f":"IF(Worksheet!X124=0,\"\",Worksheet!X124)","v":""},{"$f":"IF(Worksheet!Q124=0,\"\",Worksheet!Q124)","v":""},{"$f":"IF(Worksheet!C124=0,\"\",Worksheet!C124)","v":""},{"$f":"IF(Worksheet!D124=0,\"\",Worksheet!D124)","v":""},{"$f":"IF(Worksheet!$A$11=TRUE,\"Y\",\"N\")","v":"N"},{"$f":"IF(Worksheet!$A$12=TRUE,\"Y\",\"N\")","v":"N"},{"$f":"IF(Worksheet!$B$11=TRUE,\"Y\",\"N\")","v":"N"},{"$f":"IF(Worksheet!$B$12=TRUE,\"Y\",\"N\")","v":"N"},{"$f":"IF(Worksheet!$C$11=TRUE,\"Y\",\"N\")","v":"N"},{"$f":"IFERROR(Worksheet!AB124,\"\")","v":0}]
[{"$f":"IF(IFERROR(SEARCH(\"Refrigerated\",Worksheet!L125,1),0)>0,122,IF(ISERROR(RIGHT(VLOOKUP(Worksheet!K125,Type!C$1:E$13,3,FALSE),3))=FALSE,RIGHT(VLOOKUP(Worksheet!K125,Type!C$1:E$13,3,FALSE),3),\"\"))","v":""},{"$f":"IF(Worksheet!M125=\"\",\"\",Worksheet!M125)","v":""},{"$f":"IF(Worksheet!N125=\"\",\"\",Worksheet!N125)","v":""},{"$f":"IF(Worksheet!Y125=0,\"\",Worksheet!Y125)","v":""},"Watts",null,null,{"$f":"Worksheet!AA125","v":0},{"$f":"IF(ISBLANK(Worksheet!V125)=FALSE,Worksheet!V125,\"\")","v":0},{"$f":"Worksheet!AG125","v":0},{"$f":"Worksheet!AF125","v":0},0,{"$f":"IF(ISERROR(SEARCH(\"Gas\",Worksheet!$A$18))=TRUE,0,Worksheet!AH125)","v":0},0,null,null,{"$f":"IF(OR(Worksheet!F125=\"Incandescent\",Worksheet!F125=\"Halogen Incandescent\")=TRUE,118,IF(LEFT(Worksheet!F125,3)=\"HID\",117,IF(OR(RIGHT(Worksheet!F125,3)=\"T12\",RIGHT(Worksheet!F125,5)=\"T12HO\")=TRUE,115,IF(OR(RIGHT(Worksheet!F125,2)=\"T8\",RIGHT(Worksheet!F125,4)=\"RWT8\",RIGHT(Worksheet!F125,4)=\"T8HO\")=TRUE,115,\"\"))))","v":""},{"$f":"IF(ISBLANK(Worksheet!W125)=FALSE,Worksheet!W125,\"\")","v":0},{"$f":"IF(ISERROR(SEARCH(\"Oil\",Worksheet!$A$18))=TRUE,0,Worksheet!AH125)","v":0},0,{"$f":"IF(ISERROR(SEARCH(\"Propane\",Worksheet!$A$18))=TRUE,0,Worksheet!AH125)","v":0},0,{"$f":"IF(Worksheet!J125=0,\"\",Worksheet!J125)","v":""},{"$f":"IF(Worksheet!B125=0,\"\",Worksheet!B125)","v":""},{"$f":"IF(Worksheet!K125=0,\"\",Worksheet!K125)","v":""},{"$f":"IF(Worksheet!L125=0,\"\",Worksheet!L125)","v":""},{"$f":"IF(Worksheet!R125=0,\"\",Worksheet!R125)","v":""},{"$f":"IF(Worksheet!F125=0,\"\",Worksheet!F125)","v":""},{"$f":"IF(Worksheet!G125=0,\"\",Worksheet!G125)","v":""},{"$f":"IF(Worksheet!X125=0,\"\",Worksheet!X125)","v":""},{"$f":"IF(Worksheet!Q125=0,\"\",Worksheet!Q125)","v":""},{"$f":"IF(Worksheet!C125=0,\"\",Worksheet!C125)","v":""},{"$f":"IF(Worksheet!D125=0,\"\",Worksheet!D125)","v":""},{"$f":"IF(Worksheet!$A$11=TRUE,\"Y\",\"N\")","v":"N"},{"$f":"IF(Worksheet!$A$12=TRUE,\"Y\",\"N\")","v":"N"},{"$f":"IF(Worksheet!$B$11=TRUE,\"Y\",\"N\")","v":"N"},{"$f":"IF(Worksheet!$B$12=TRUE,\"Y\",\"N\")","v":"N"},{"$f":"IF(Worksheet!$C$11=TRUE,\"Y\",\"N\")","v":"N"},{"$f":"IFERROR(Worksheet!AB125,\"\")","v":0}]
[{"$f":"IF(IFERROR(SEARCH(\"Refrigerated\",Worksheet!L126,1),0)>0,122,IF(ISERROR(RIGHT(VLOOKUP(Worksheet!K126,Type!C$1:E$13,3,FALSE),3))=FALSE,RIGHT(VLOOKUP(Worksheet!K126,Type!C$1:E$13,3,FALSE),3),\"\"))","v":""},{"$f":"IF(Worksheet!M126=\"\",\"\",Worksheet!M126)","v":""},{"$f":"IF(Worksheet!N126=\"\",\"\",Worksheet!N126)","v":""},{"$f":"IF(Worksheet!Y126=0,\"\",Worksheet!Y126)","v":""},"Watts",null,null,{"$f":"Worksheet!AA126","v":0},{"$f":"IF(ISBLANK(Worksheet!V126)=FALSE,Worksheet!V126,\"\")","v":0},{"$f":"Worksheet!AG126","v":0},{"$f":"Worksheet!AF126","v":0},0,{"$f":"IF(ISERROR(SEARCH(\"Gas\",Worksheet!$A$18))=TRUE,0,Worksheet!AH126)","v":0},0,null,null,{"$f":"IF(OR(Worksheet!F126=\"Incandescent\",Worksheet!F126=\"Halogen Incandescent\")=TRUE,118,IF(LEFT(Worksheet!F126,3)=\"HID\",117,IF(OR(RIGHT(Worksheet!F126,3)=\"T12\",RIGHT(Worksheet!F126,5)=\"T12HO\")=TRUE,115,IF(OR(RIGHT(Worksheet!F126,2)=\"T8\",RIGHT(Worksheet!F126,4)=\"RWT8\",RIGHT(Worksheet!F126,4)=\"T8HO\")=TRUE,115,\"\"))))","v":""},{"$f":"IF(ISBLANK(Worksheet!W126)=FALSE,Worksheet!W126,\"\")","v":0},{"$f":"IF(ISERROR(SEARCH(\"Oil\",Worksheet!$A$18))=TRUE,0,Worksheet!AH126)","v":0},0,{"$f":"IF(ISERROR(SEARCH(\"Propane\",Worksheet!$A$18))=TRUE,0,Worksheet!AH126)","v":0},0,{"$f":"IF(Worksheet!J126=0,\"\",Worksheet!J126)","v":""},{"$f":"IF(Worksheet!B126=0,\"\",Worksheet!B126)","v":""},{"$f":"IF(Worksheet!K126=0,\"\",Worksheet!K126)","v":""},{"$f":"IF(Worksheet!L126=0,\"\",Worksheet!L126)","v":""},{"$f":"IF(Worksheet!R126=0,\"\",Worksheet!R126)","v":""},{"$f":"IF(Worksheet!F126=0,\"\",Worksheet!F126)","v":""},{"$f":"IF(Worksheet!G126=0,\"\",Worksheet!G126)","v":""},{"$f":"IF(Worksheet!X126=0,\"\",Worksheet!X126)","v":""},{"$f":"IF(Worksheet!Q126=0,\"\",Worksheet!Q126)","v":""},{"$f":"IF(Worksheet!C126=0,\"\",Worksheet!C126)","v":""},{"$f":"IF(Worksheet!D126=0,\"\",Worksheet!D126)","v":""},{"$f":"IF(Worksheet!$A$11=TRUE,\"Y\",\"N\")","v":"N"},{"$f":"IF(Worksheet!$A$12=TRUE,\"Y\",\"N\")","v":"N"},{"$f":"IF(Worksheet!$B$11=TRUE,\"Y\",\"N\")","v":"N"},{"$f":"IF(Worksheet!$B$12=TRUE,\"Y\",\"N\")","v":"N"},{"$f":"IF(Worksheet!$C$11=TRUE,\"Y\",\"N\")","v":"N"},{"$f":"IFERROR(Worksheet!AB126,\"\")","v":0}]
[{"$f":"IF(IFERROR(SEARCH(\"Refrigerated\",Worksheet!L127,1),0)>0,122,IF(ISERROR(RIGHT(VLOOKUP(Worksheet!K127,Type!C$1:E$13,3,FALSE),3))=FALSE,RIGHT(VLOOKUP(Worksheet!K127,Type!C$1:E$13,3,FALSE),3),\"\"))","v":""},{"$f":"IF(Worksheet!M127=\"\",\"\",Worksheet!M127)","v":""},{"$f":"IF(Worksheet!N127=\"\",\"\",Worksheet!N127)","v":""},{"$f":"IF(Worksheet!Y127=0,\"\",Worksheet!Y127)","v":""},"Watts",null,null,{"$f":"Worksheet!AA127","v":0},{"$f":"IF(ISBLANK(Worksheet!V127)=FALSE,Worksheet!V127,\"\")","v":0},{"$f":"Worksheet!AG127","v":0},{"$f":"Worksheet!AF127","v":0},0,{"$f":"IF(ISERROR(SEARCH(\"Gas\",Worksheet!$A$18))=TRUE,0,Worksheet!AH127)","v":0},0,null,null,{"$f":"IF(OR(Worksheet!F127=\"Incandescent\",Worksheet!F127=\"Halogen Incandescent\")=TRUE,118,IF(LEFT(Worksheet!F127,3)=\"HID\",117,IF(OR(RIGHT(Worksheet!F127,3)=\"T12\",RIGHT(Worksheet!F127,5)=\"T12HO\")=TRUE,115,IF(OR(RIGHT(Worksheet!F127,2)=\"T8\",RIGHT(Worksheet!F127,4)=\"RWT8\",RIGHT(Worksheet!F127,4)=\"T8HO\")=TRUE,115,\"\"))))","v":""},{"$f":"IF(ISBLANK(Worksheet!W127)=FALSE,Worksheet!W127,\"\")","v":0},{"$f":"IF(ISERROR(SEARCH(\"Oil\",Worksheet!$A$18))=TRUE,0,Worksheet!AH127)","v":0},0,{"$f":"IF(ISERROR(SEARCH(\"Propane\",Worksheet!$A$18))=TRUE,0,Worksheet!AH127)","v":0},0,{"$f":"IF(Worksheet!J127=0,\"\",Worksheet!J127)","v":""},{"$f":"IF(Worksheet!B127=0,\"\",Worksheet!B127)","v":""},{"$f":"IF(Worksheet!K127=0,\"\",Worksheet!K127)","v":""},{"$f":"IF(Worksheet!L127=0,\"\",Worksheet!L127)","v":""},{"$f":"IF(Worksheet!R127=0,\"\",Worksheet!R127)","v":""},{"$f":"IF(Worksheet!F127=0,\"\",Worksheet!F127)","v":""},{"$f":"IF(Worksheet!G127=0,\"\",Worksheet!G127)","v":""},{"$f":"IF(Worksheet!X127=0,\"\",Worksheet!X127)","v":""},{"$f":"IF(Worksheet!Q127=0,\"\",Worksheet!Q127)","v":""},{"$f":"IF(Worksheet!C127=0,\"\",Worksheet!C127)","v":""},{"$f":"IF(Worksheet!D127=0,\"\",Worksheet!D127)","v":""},{"$f":"IF(Worksheet!$A$11=TRUE,\"Y\",\"N\")","v":"N"},{"$f":"IF(Worksheet!$A$12=TRUE,\"Y\",\"N\")","v":"N"},{"$f":"IF(Worksheet!$B$11=TRUE,\"Y\",\"N\")","v":"N"},{"$f":"IF(Worksheet!$B$12=TRUE,\"Y\",\"N\")","v":"N"},{"$f":"IF(Worksheet!$C$11=TRUE,\"Y\",\"N\")","v":"N"},{"$f":"IFERROR(Worksheet!AB127,\"\")","v":0}]
[{"$f":"IF(IFERROR(SEARCH(\"Refrigerated\",Worksheet!L128,1),0)>0,122,IF(ISERROR(RIGHT(VLOOKUP(Worksheet!K128,Type!C$1:E$13,3,FALSE),3))=FALSE,RIGHT(VLOOKUP(Worksheet!K128,Type!C$1:E$13,3,FALSE),3),\"\"))","v":""},{"$f":"IF(Worksheet!M128=\"\",\"\",Worksheet!M128)","v":""},{"$f":"IF(Worksheet!N128=\"\",\"\",Worksheet!N128)","v":""},{"$f":"IF(Worksheet!Y128=0,\"\",Worksheet!Y128)","v":""},"Watts",null,null,{"$f":"Worksheet!AA128","v":0},{"$f":"IF(ISBLANK(Worksheet!V128)=FALSE,Worksheet!V128,\"\")","v":0},{"$f":"Worksheet!AG128","v":0},{"$f":"Worksheet!AF128","v":0},0,{"$f":"IF(ISERROR(SEARCH(\"Gas\",Worksheet!$A$18))=TRUE,0,Worksheet!AH128)","v":0},0,null,null,{"$f":"IF(OR(Worksheet!F128=\"Incandescent\",Worksheet!F128=\"Halogen Incandescent\")=TRUE,118,IF(LEFT(Worksheet!F128,3)=\"HID\",117,IF(OR(RIGHT(Worksheet!F128,3)=\"T12\",RIGHT(Worksheet!F128,5)=\"T12HO\")=TRUE,115,IF(OR(RIGHT(Worksheet!F128,2)=\"T8\",RIGHT(Worksheet!F128,4)=\"RWT8\",RIGHT(Worksheet!F128,4)=\"T8HO\")=TRUE,115,\"\"))))","v":""},{"$f":"IF(ISBLANK(Worksheet!W128)=FALSE,Worksheet!W128,\"\")","v":0},{"$f":"IF(ISERROR(SEARCH(\"Oil\",Worksheet!$A$18))=TRUE,0,Worksheet!AH128)","v":0},0,{"$f":"IF(ISERROR(SEARCH(\"Propane\",Worksheet!$A$18))=TRUE,0,Worksheet!AH128)","v":0},0,{"$f":"IF(Worksheet!J128=0,\"\",Worksheet!J128)","v":""},{"$f":"IF(Worksheet!B128=0,\"\",Worksheet!B128)","v":""},{"$f":"IF(Worksheet!K128=0,\"\",Worksheet!K128)","v":""},{"$f":"IF(Worksheet!L128=0,\"\",Worksheet!L128)","v":""},{"$f":"IF(Worksheet!R128=0,\"\",Worksheet!R128)","v":""},{"$f":"IF(Worksheet!F128=0,\"\",Worksheet!F128)","v":""},{"$f":"IF(Worksheet!G128=0,\"\",Worksheet!G128)","v":""},{"$f":"IF(Worksheet!X128=0,\"\",Worksheet!X128)","v":""},{"$f":"IF(Worksheet!Q128=0,\"\",Worksheet!Q128)","v":""},{"$f":"IF(Worksheet!C128=0,\"\",Worksheet!C128)","v":""},{"$f":"IF(Worksheet!D128=0,\"\",Worksheet!D128)","v":""},{"$f":"IF(Worksheet!$A$11=TRUE,\"Y\",\"N\")","v":"N"},{"$f":"IF(Worksheet!$A$12=TRUE,\"Y\",\"N\")","v":"N"},{"$f":"IF(Worksheet!$B$11=TRUE,\"Y\",\"N\")","v":"N"},{"$f":"IF(Worksheet!$B$12=TRUE,\"Y\",\"N\")","v":"N"},{"$f":"IF(Worksheet!$C$11=TRUE,\"Y\",\"N\")","v":"N"},{"$f":"IFERROR(Worksheet!AB128,\"\")","v":0}]
[{"$f":"IF(IFERROR(SEARCH(\"Refrigerated\",Worksheet!L129,1),0)>0,122,IF(ISERROR(RIGHT(VLOOKUP(Worksheet!K129,Type!C$1:E$13,3,FALSE),3))=FALSE,RIGHT(VLOOKUP(Worksheet!K129,Type!C$1:E$13,3,FALSE),3),\"\"))","v":""},{"$f":"IF(Worksheet!M129=\"\",\"\",Worksheet!M129)","v":""},{"$f":"IF(Worksheet!N129=\"\",\"\",Worksheet!N129)","v":""},{"$f":"IF(Worksheet!Y129=0,\"\",Worksheet!Y129)","v":""},"Watts",null,null,{"$f":"Worksheet!AA129","v":0},{"$f":"IF(ISBLANK(Worksheet!V129)=FALSE,Worksheet!V129,\"\")","v":0},{"$f":"Worksheet!AG129","v":0},{"$f":"Worksheet!AF129","v":0},0,{"$f":"IF(ISERROR(SEARCH(\"Gas\",Worksheet!$A$18))=TRUE,0,Worksheet!AH129)","v":0},0,null,null,{"$f":"IF(OR(Worksheet!F129=\"Incandescent\",Worksheet!F129=\"Halogen Incandescent\")=TRUE,118,IF(LEFT(Worksheet!F129,3)=\"HID\",117,IF(OR(RIGHT(Worksheet!F129,3)=\"T12\",RIGHT(Worksheet!F129,5)=\"T12HO\")=TRUE,115,IF(OR(RIGHT(Worksheet!F129,2)=\"T8\",RIGHT(Worksheet!F129,4)=\"RWT8\",RIGHT(Worksheet!F129,4)=\"T8HO\")=TRUE,115,\"\"))))","v":""},{"$f":"IF(ISBLANK(Worksheet!W129)=FALSE,Worksheet!W129,\"\")","v":0},{"$f":"IF(ISERROR(SEARCH(\"Oil\",Worksheet!$A$18))=TRUE,0,Worksheet!AH129)","v":0},0,{"$f":"IF(ISERROR(SEARCH(\"Propane\",Worksheet!$A$18))=TRUE,0,Worksheet!AH129)","v":0},0,{"$f":"IF(Worksheet!J129=0,\"\",Worksheet!J129)","v":""},{"$f":"IF(Worksheet!B129=0,\"\",Worksheet!B129)","v":""},{"$f":"IF(Worksheet!K129=0,\"\",Worksheet!K129)","v":""},{"$f":"IF(Worksheet!L129=0,\"\",Worksheet!L129)","v":""},{"$f":"IF(Worksheet!R129=0,\"\",Worksheet!R129)","v":""},{"$f":"IF(Worksheet!F129=0,\"\",Worksheet!F129)","v":""},{"$f":"IF(Worksheet!G129=0,\"\",Worksheet!G129)","v":""},{"$f":"IF(Worksheet!X129=0,\"\",Worksheet!X129)","v":""},{"$f":"IF(Worksheet!Q129=0,\"\",Worksheet!Q129)","v":""},{"$f":"IF(Worksheet!C129=0,\"\",Worksheet!C129)","v":""},{"$f":"IF(Worksheet!D129=0,\"\",Worksheet!D129)","v":""},{"$f":"IF(Worksheet!$A$11=TRUE,\"Y\",\"N\")","v":"N"},{"$f":"IF(Worksheet!$A$12=TRUE,\"Y\",\"N\")","v":"N"},{"$f":"IF(Worksheet!$B$11=TRUE,\"Y\",\"N\")","v":"N"},{"$f":"IF(Worksheet!$B$12=TRUE,\"Y\",\"N\")","v":"N"},{"$f":"IF(Worksheet!$C$11=TRUE,\"Y\",\"N\")","v":"N"},{"$f":"IFERROR(Worksheet!AB129,\"\")","v":0}]
[{"$f":"IF(IFERROR(SEARCH(\"Refrigerated\",Worksheet!L130,1),0)>0,122,IF(ISERROR(RIGHT(VLOOKUP(Worksheet!K130,Type!C$1:E$13,3,FALSE),3))=FALSE,RIGHT(VLOOKUP(Worksheet!K130,Type!C$1:E$13,3,FALSE),3),\"\"))","v":""},{"$f":"IF(Worksheet!M130=\"\",\"\",Worksheet!M130)","v":""},{"$f":"IF(Worksheet!N130=\"\",\"\",Worksheet!N130)","v":""},{"$f":"IF(Worksheet!Y130=0,\"\",Worksheet!Y130)","v":""},"Watts",null,null,{"$f":"Worksheet!AA130","v":0},{"$f":"IF(ISBLANK(Worksheet!V130)=FALSE,Worksheet!V130,\"\")","v":0},{"$f":"Worksheet!AG130","v":0},{"$f":"Worksheet!AF130","v":0},0,{"$f":"IF(ISERROR(SEARCH(\"Gas\",Worksheet!$A$18))=TRUE,0,Worksheet!AH130)","v":0},0,null,null,{"$f":"IF(OR(Worksheet!F130=\"Incandescent\",Worksheet!F130=\"Halogen Incandescent\")=TRUE,118,IF(LEFT(Worksheet!F130,3)=\"HID\",117,IF(OR(RIGHT(Worksheet!F130,3)=\"T12\",RIGHT(Worksheet!F130,5)=\"T12HO\")=TRUE,115,IF(OR(RIGHT(Worksheet!F130,2)=\"T8\",RIGHT(Worksheet!F130,4)=\"RWT8\",RIGHT(Worksheet!F130,4)=\"T8HO\")=TRUE,115,\"\"))))","v":""},{"$f":"IF(ISBLANK(Worksheet!W130)=FALSE,Worksheet!W130,\"\")","v":0},{"$f":"IF(ISERROR(SEARCH(\"Oil\",Worksheet!$A$18))=TRUE,0,Worksheet!AH130)","v":0},0,{"$f":"IF(ISERROR(SEARCH(\"Propane\",Worksheet!$A$18))=TRUE,0,Worksheet!AH130)","v":0},0,{"$f":"IF(Worksheet!J130=0,\"\",Worksheet!J130)","v":""},{"$f":"IF(Worksheet!B130=0,\"\",Worksheet!B130)","v":""},{"$f":"IF(Worksheet!K130=0,\"\",Worksheet!K130)","v":""},{"$f":"IF(Worksheet!L130=0,\"\",Worksheet!L130)","v":""},{"$f":"IF(Worksheet!R130=0,\"\",Worksheet!R130)","v":""},{"$f":"IF(Worksheet!F130=0,\"\",Worksheet!F130)","v":""},{"$f":"IF(Worksheet!G130=0,\"\",Worksheet!G130)","v":""},{"$f":"IF(Worksheet!X130=0,\"\",Worksheet!X130)","v":""},{"$f":"IF(Worksheet!Q130=0,\"\",Worksheet!Q130)","v":""},{"$f":"IF(Worksheet!C130=0,\"\",Worksheet!C130)","v":""},{"$f":"IF(Worksheet!D130=0,\"\",Worksheet!D130)","v":""},{"$f":"IF(Worksheet!$A$11=TRUE,\"Y\",\"N\")","v":"N"},{"$f":"IF(Worksheet!$A$12=TRUE,\"Y\",\"N\")","v":"N"},{"$f":"IF(Worksheet!$B$11=TRUE,\"Y\",\"N\")","v":"N"},{"$f":"IF(Worksheet!$B$12=TRUE,\"Y\",\"N\")","v":"N"},{"$f":"IF(Worksheet!$C$11=TRUE,\"Y\",\"N\")","v":"N"},{"$f":"IFERROR(Worksheet!AB130,\"\")","v":0}]
[{"$f":"IF(IFERROR(SEARCH(\"Refrigerated\",Worksheet!L131,1),0)>0,122,IF(ISERROR(RIGHT(VLOOKUP(Worksheet!K131,Type!C$1:E$13,3,FALSE),3))=FALSE,RIGHT(VLOOKUP(Worksheet!K131,Type!C$1:E$13,3,FALSE),3),\"\"))","v":""},{"$f":"IF(Worksheet!M131=\"\",\"\",Worksheet!M131)","v":""},{"$f":"IF(Worksheet!N131=\"\",\"\",Worksheet!N131)","v":""},{"$f":"IF(Worksheet!Y131=0,\"\",Worksheet!Y131)","v":""},"Watts",null,null,{"$f":"Worksheet!AA131","v":0},{"$f":"IF(ISBLANK(Worksheet!V131)=FALSE,Worksheet!V131,\"\")","v":0},{"$f":"Worksheet!AG131","v":0},{"$f":"Worksheet!AF131","v":0},0,{"$f":"IF(ISERROR(SEARCH(\"Gas\",Worksheet!$A$18))=TRUE,0,Worksheet!AH131)","v":0},0,null,null,{"$f":"IF(OR(Worksheet!F131=\"Incandescent\",Worksheet!F131=\"Halogen Incandescent\")=TRUE,118,IF(LEFT(Worksheet!F131,3)=\"HID\",117,IF(OR(RIGHT(Worksheet!F131,3)=\"T12\",RIGHT(Worksheet!F131,5)=\"T12HO\")=TRUE,115,IF(OR(RIGHT(Worksheet!F131,2)=\"T8\",RIGHT(Worksheet!F131,4)=\"RWT8\",RIGHT(Worksheet!F131,4)=\"T8HO\")=TRUE,115,\"\"))))","v":""},{"$f":"IF(ISBLANK(Worksheet!W131)=FALSE,Worksheet!W131,\"\")","v":0},{"$f":"IF(ISERROR(SEARCH(\"Oil\",Worksheet!$A$18))=TRUE,0,Worksheet!AH131)","v":0},0,{"$f":"IF(ISERROR(SEARCH(\"Propane\",Worksheet!$A$18))=TRUE,0,Worksheet!AH131)","v":0},0,{"$f":"IF(Worksheet!J131=0,\"\",Worksheet!J131)","v":""},{"$f":"IF(Worksheet!B131=0,\"\",Worksheet!B131)","v":""},{"$f":"IF(Worksheet!K131=0,\"\",Worksheet!K131)","v":""},{"$f":"IF(Worksheet!L131=0,\"\",Worksheet!L131)","v":""},{"$f":"IF(Worksheet!R131=0,\"\",Worksheet!R131)","v":""},{"$f":"IF(Worksheet!F131=0,\"\",Worksheet!F131)","v":""},{"$f":"IF(Worksheet!G131=0,\"\",Worksheet!G131)","v":""},{"$f":"IF(Worksheet!X131=0,\"\",Worksheet!X131)","v":""},{"$f":"IF(Worksheet!Q131=0,\"\",Worksheet!Q131)","v":""},{"$f":"IF(Worksheet!C131=0,\"\",Worksheet!C131)","v":""},{"$f":"IF(Worksheet!D131=0,\"\",Worksheet!D131)","v":""},{"$f":"IF(Worksheet!$A$11=TRUE,\"Y\",\"N\")","v":"N"},{"$f":"IF(Worksheet!$A$12=TRUE,\"Y\",\"N\")","v":"N"},{"$f":"IF(Worksheet!$B$11=TRUE,\"Y\",\"N\")","v":"N"},{"$f":"IF(Worksheet!$B$12=TRUE,\"Y\",\"N\")","v":"N"},{"$f":"IF(Worksheet!$C$11=TRUE,\"Y\",\"N\")","v":"N"},{"$f":"IFERROR(Worksheet!AB131,\"\")","v":0}]
[{"$f":"IF(IFERROR(SEARCH(\"Refrigerated\",Worksheet!L132,1),0)>0,122,IF(ISERROR(RIGHT(VLOOKUP(Worksheet!K132,Type!C$1:E$13,3,FALSE),3))=FALSE,RIGHT(VLOOKUP(Worksheet!K132,Type!C$1:E$13,3,FALSE),3),\"\"))","v":""},{"$f":"IF(Worksheet!M132=\"\",\"\",Worksheet!M132)","v":""},{"$f":"IF(Worksheet!N132=\"\",\"\",Worksheet!N132)","v":""},{"$f":"IF(Worksheet!Y132=0,\"\",Worksheet!Y132)","v":""},"Watts",null,null,{"$f":"Worksheet!AA132","v":0},{"$f":"IF(ISBLANK(Worksheet!V132)=FALSE,Worksheet!V132,\"\")","v":0},{"$f":"Worksheet!AG132","v":0},{"$f":"Worksheet!AF132","v":0},0,{"$f":"IF(ISERROR(SEARCH(\"Gas\",Worksheet!$A$18))=TRUE,0,Worksheet!AH132)","v":0},0,null,null,{"$f":"IF(OR(Worksheet!F132=\"Incandescent\",Worksheet!F132=\"Halogen Incandescent\")=TRUE,118,IF(LEFT(Worksheet!F132,3)=\"HID\",117,IF(OR(RIGHT(Worksheet!F132,3)=\"T12\",RIGHT(Worksheet!F132,5)=\"T12HO\")=TRUE,115,IF(OR(RIGHT(Worksheet!F132,2)=\"T8\",RIGHT(Worksheet!F132,4)=\"RWT8\",RIGHT(Worksheet!F132,4)=\"T8HO\")=TRUE,115,\"\"))))","v":""},{"$f":"IF(ISBLANK(Worksheet!W132)=FALSE,Worksheet!W132,\"\")","v":0},{"$f":"IF(ISERROR(SEARCH(\"Oil\",Worksheet!$A$18))=TRUE,0,Worksheet!AH132)","v":0},0,{"$f":"IF(ISERROR(SEARCH(\"Propane\",Worksheet!$A$18))=TRUE,0,Worksheet!AH132)","v":0},0,{"$f":"IF(Worksheet!J132=0,\"\",Worksheet!J132)","v":""},{"$f":"IF(Worksheet!B132=0,\"\",Worksheet!B132)","v":""},{"$f":"IF(Worksheet!K132=0,\"\",Worksheet!K132)","v":""},{"$f":"IF(Worksheet!L132=0,\"\",Worksheet!L132)","v":""},{"$f":"IF(Worksheet!R132=0,\"\",Worksheet!R132)","v":""},{"$f":"IF(Worksheet!F132=0,\"\",Worksheet!F132)","v":""},{"$f":"IF(Worksheet!G132=0,\"\",Worksheet!G132)","v":""},{"$f":"IF(Worksheet!X132=0,\"\",Worksheet!X132)","v":""},{"$f":"IF(Worksheet!Q132=0,\"\",Worksheet!Q132)","v":""},{"$f":"IF(Worksheet!C132=0,\"\",Worksheet!C132)","v":""},{"$f":"IF(Worksheet!D132=0,\"\",Worksheet!D132)","v":""},{"$f":"IF(Worksheet!$A$11=TRUE,\"Y\",\"N\")","v":"N"},{"$f":"IF(Worksheet!$A$12=TRUE,\"Y\",\"N\")","v":"N"},{"$f":"IF(Worksheet!$B$11=TRUE,\"Y\",\"N\")","v":"N"},{"$f":"IF(Worksheet!$B$12=TRUE,\"Y\",\"N\")","v":"N"},{"$f":"IF(Worksheet!$C$11=TRUE,\"Y\",\"N\")","v":"N"},{"$f":"IFERROR(Worksheet!AB132,\"\")","v":0}]
[{"$f":"IF(IFERROR(SEARCH(\"Refrigerated\",Worksheet!L133,1),0)>0,122,IF(ISERROR(RIGHT(VLOOKUP(Worksheet!K133,Type!C$1:E$13,3,FALSE),3))=FALSE,RIGHT(VLOOKUP(Worksheet!K133,Type!C$1:E$13,3,FALSE),3),\"\"))","v":""},{"$f":"IF(Worksheet!M133=\"\",\"\",Worksheet!M133)","v":""},{"$f":"IF(Worksheet!N133=\"\",\"\",Worksheet!N133)","v":""},{"$f":"IF(Worksheet!Y133=0,\"\",Worksheet!Y133)","v":""},"Watts",null,null,{"$f":"Worksheet!AA133","v":0},{"$f":"IF(ISBLANK(Worksheet!V133)=FALSE,Worksheet!V133,\"\")","v":0},{"$f":"Worksheet!AG133","v":0},{"$f":"Worksheet!AF133","v":0},0,{"$f":"IF(ISERROR(SEARCH(\"Gas\",Worksheet!$A$18))=TRUE,0,Worksheet!AH133)","v":0},0,null,null,{"$f":"IF(OR(Worksheet!F133=\"Incandescent\",Worksheet!F133=\"Halogen Incandescent\")=TRUE,118,IF(LEFT(Worksheet!F133,3)=\"HID\",117,IF(OR(RIGHT(Worksheet!F133,3)=\"T12\",RIGHT(Worksheet!F133,5)=\"T12HO\")=TRUE,115,IF(OR(RIGHT(Worksheet!F133,2)=\"T8\",RIGHT(Worksheet!F133,4)=\"RWT8\",RIGHT(Worksheet!F133,4)=\"T8HO\")=TRUE,115,\"\"))))","v":""},{"$f":"IF(ISBLANK(Worksheet!W133)=FALSE,Worksheet!W133,\"\")","v":0},{"$f":"IF(ISERROR(SEARCH(\"Oil\",Worksheet!$A$18))=TRUE,0,Worksheet!AH133)","v":0},0,{"$f":"IF(ISERROR(SEARCH(\"Propane\",Worksheet!$A$18))=TRUE,0,Worksheet!AH133)","v":0},0,{"$f":"IF(Worksheet!J133=0,\"\",Worksheet!J133)","v":""},{"$f":"IF(Worksheet!B133=0,\"\",Worksheet!B133)","v":""},{"$f":"IF(Worksheet!K133=0,\"\",Worksheet!K133)","v":""},{"$f":"IF(Worksheet!L133=0,\"\",Worksheet!L133)","v":""},{"$f":"IF(Worksheet!R133=0,\"\",Worksheet!R133)","v":""},{"$f":"IF(Worksheet!F133=0,\"\",Worksheet!F133)","v":""},{"$f":"IF(Worksheet!G133=0,\"\",Worksheet!G133)","v":""},{"$f":"IF(Worksheet!X133=0,\"\",Worksheet!X133)","v":""},{"$f":"IF(Worksheet!Q133=0,\"\",Worksheet!Q133)","v":""},{"$f":"IF(Worksheet!C133=0,\"\",Worksheet!C133)","v":""},{"$f":"IF(Worksheet!D133=0,\"\",Worksheet!D133)","v":""},{"$f":"IF(Worksheet!$A$11=TRUE,\"Y\",\"N\")","v":"N"},{"$f":"IF(Worksheet!$A$12=TRUE,\"Y\",\"N\")","v":"N"},{"$f":"IF(Worksheet!$B$11=TRUE,\"Y\",\"N\")","v":"N"},{"$f":"IF(Worksheet!$B$12=TRUE,\"Y\",\"N\")","v":"N"},{"$f":"IF(Worksheet!$C$11=TRUE,\"Y\",\"N\")","v":"N"},{"$f":"IFERROR(Worksheet!AB133,\"\")","v":0}]
[{"$f":"IF(IFERROR(SEARCH(\"Refrigerated\",Worksheet!L134,1),0)>0,122,IF(ISERROR(RIGHT(VLOOKUP(Worksheet!K134,Type!C$1:E$13,3,FALSE),3))=FALSE,RIGHT(VLOOKUP(Worksheet!K134,Type!C$1:E$13,3,FALSE),3),\"\"))","v":""},{"$f":"IF(Worksheet!M134=\"\",\"\",Worksheet!M134)","v":""},{"$f":"IF(Worksheet!N134=\"\",\"\",Worksheet!N134)","v":""},{"$f":"IF(Worksheet!Y134=0,\"\",Worksheet!Y134)","v":""},"Watts",null,null,{"$f":"Worksheet!AA134","v":0},{"$f":"IF(ISBLANK(Worksheet!V134)=FALSE,Worksheet!V134,\"\")","v":0},{"$f":"Worksheet!AG134","v":0},{"$f":"Worksheet!AF134","v":0},0,{"$f":"IF(ISERROR(SEARCH(\"Gas\",Worksheet!$A$18))=TRUE,0,Worksheet!AH134)","v":0},0,null,null,{"$f":"IF(OR(Worksheet!F134=\"Incandescent\",Worksheet!F134=\"Halogen Incandescent\")=TRUE,118,IF(LEFT(Worksheet!F134,3)=\"HID\",117,IF(OR(RIGHT(Worksheet!F134,3)=\"T12\",RIGHT(Worksheet!F134,5)=\"T12HO\")=TRUE,115,IF(OR(RIGHT(Worksheet!F134,2)=\"T8\",RIGHT(Worksheet!F134,4)=\"RWT8\",RIGHT(Worksheet!F134,4)=\"T8HO\")=TRUE,115,\"\"))))","v":""},{"$f":"IF(ISBLANK(Worksheet!W134)=FALSE,Worksheet!W134,\"\")","v":0},{"$f":"IF(ISERROR(SEARCH(\"Oil\",Worksheet!$A$18))=TRUE,0,Worksheet!AH134)","v":0},0,{"$f":"IF(ISERROR(SEARCH(\"Propane\",Worksheet!$A$18))=TRUE,0,Worksheet!AH134)","v":0},0,{"$f":"IF(Worksheet!J134=0,\"\",Worksheet!J134)","v":""},{"$f":"IF(Worksheet!B134=0,\"\",Worksheet!B134)","v":""},{"$f":"IF(Worksheet!K134=0,\"\",Worksheet!K134)","v":""},{"$f":"IF(Worksheet!L134=0,\"\",Worksheet!L134)","v":""},{"$f":"IF(Worksheet!R134=0,\"\",Worksheet!R134)","v":""},{"$f":"IF(Worksheet!F134=0,\"\",Worksheet!F134)","v":""},{"$f":"IF(Worksheet!G134=0,\"\",Worksheet!G134)","v":""},{"$f":"IF(Worksheet!X134=0,\"\",Worksheet!X134)","v":""},{"$f":"IF(Worksheet!Q134=0,\"\",Worksheet!Q134)","v":""},{"$f":"IF(Worksheet!C134=0,\"\",Worksheet!C134)","v":""},{"$f":"IF(Worksheet!D134=0,\"\",Worksheet!D134)","v":""},{"$f":"IF(Worksheet!$A$11=TRUE,\"Y\",\"N\")","v":"N"},{"$f":"IF(Worksheet!$A$12=TRUE,\"Y\",\"N\")","v":"N"},{"$f":"IF(Worksheet!$B$11=TRUE,\"Y\",\"N\")","v":"N"},{"$f":"IF(Worksheet!$B$12=TRUE,\"Y\",\"N\")","v":"N"},{"$f":"IF(Worksheet!$C$11=TRUE,\"Y\",\"N\")","v":"N"},{"$f":"IFERROR(Worksheet!AB134,\"\")","v":0}]
[{"$f":"IF(IFERROR(SEARCH(\"Refrigerated\",Worksheet!L135,1),0)>0,122,IF(ISERROR(RIGHT(VLOOKUP(Worksheet!K135,Type!C$1:E$13,3,FALSE),3))=FALSE,RIGHT(VLOOKUP(Worksheet!K135,Type!C$1:E$13,3,FALSE),3),\"\"))","v":""},{"$f":"IF(Worksheet!M135=\"\",\"\",Worksheet!M135)","v":""},{"$f":"IF(Worksheet!N135=\"\",\"\",Worksheet!N135)","v":""},{"$f":"IF(Worksheet!Y135=0,\"\",Worksheet!Y135)","v":""},"Watts",null,null,{"$f":"Worksheet!AA135","v":0},{"$f":"IF(ISBLANK(Worksheet!V135)=FALSE,Worksheet!V135,\"\")","v":0},{"$f":"Worksheet!AG135","v":0},{"$f":"Worksheet!AF135","v":0},0,{"$f":"IF(ISERROR(SEARCH(\"Gas\",Worksheet!$A$18))=TRUE,0,Worksheet!AH135)","v":0},0,null,null,{"$f":"IF(OR(Worksheet!F135=\"Incandescent\",Worksheet!F135=\"Halogen Incandescent\")=TRUE,118,IF(LEFT(Worksheet!F135,3)=\"HID\",117,IF(OR(RIGHT(Worksheet!F135,3)=\"T12\",RIGHT(Worksheet!F135,5)=\"T12HO\")=TRUE,115,IF(OR(RIGHT(Worksheet!F135,2)=\"T8\",RIGHT(Worksheet!F135,4)=\"RWT8\",RIGHT(Worksheet!F135,4)=\"T8HO\")=TRUE,115,\"\"))))","v":""},{"$f":"IF(ISBLANK(Worksheet!W135)=FALSE,Worksheet!W135,\"\")","v":0},{"$f":"IF(ISERROR(SEARCH(\"Oil\",Worksheet!$A$18))=TRUE,0,Worksheet!AH135)","v":0},0,{"$f":"IF(ISERROR(SEARCH(\"Propane\",Worksheet!$A$18))=TRUE,0,Worksheet!AH135)","v":0},0,{"$f":"IF(Worksheet!J135=0,\"\",Worksheet!J135)","v":""},{"$f":"IF(Worksheet!B135=0,\"\",Worksheet!B135)","v":""},{"$f":"IF(Worksheet!K135=0,\"\",Worksheet!K135)","v":""},{"$f":"IF(Worksheet!L135=0,\"\",Worksheet!L135)","v":""},{"$f":"IF(Worksheet!R135=0,\"\",Worksheet!R135)","v":""},{"$f":"IF(Worksheet!F135=0,\"\",Worksheet!F135)","v":""},{"$f":"IF(Worksheet!G135=0,\"\",Worksheet!G135)","v":""},{"$f":"IF(Worksheet!X135=0,\"\",Worksheet!X135)","v":""},{"$f":"IF(Worksheet!Q135=0,\"\",Worksheet!Q135)","v":""},{"$f":"IF(Worksheet!C135=0,\"\",Worksheet!C135)","v":""},{"$f":"IF(Worksheet!D135=0,\"\",Worksheet!D135)","v":""},{"$f":"IF(Worksheet!$A$11=TRUE,\"Y\",\"N\")","v":"N"},{"$f":"IF(Worksheet!$A$12=TRUE,\"Y\",\"N\")","v":"N"},{"$f":"IF(Worksheet!$B$11=TRUE,\"Y\",\"N\")","v":"N"},{"$f":"IF(Worksheet!$B$12=TRUE,\"Y\",\"N\")","v":"N"},{"$f":"IF(Worksheet!$C$11=TRUE,\"Y\",\"N\")","v":"N"},{"$f":"IFERROR(Worksheet!AB135,\"\")","v":0}]
[{"$f":"IF(IFERROR(SEARCH(\"Refrigerated\",Worksheet!L136,1),0)>0,122,IF(ISERROR(RIGHT(VLOOKUP(Worksheet!K136,Type!C$1:E$13,3,FALSE),3))=FALSE,RIGHT(VLOOKUP(Worksheet!K136,Type!C$1:E$13,3,FALSE),3),\"\"))","v":""},{"$f":"IF(Worksheet!M136=\"\",\"\",Worksheet!M136)","v":""},{"$f":"IF(Worksheet!N136=\"\",\"\",Worksheet!N136)","v":""},{"$f":"IF(Worksheet!Y136=0,\"\",Worksheet!Y136)","v":""},"Watts",null,null,{"$f":"Worksheet!AA136","v":0},{"$f":"IF(ISBLANK(Worksheet!V136)=FALSE,Worksheet!V136,\"\")","v":0},{"$f":"Worksheet!AG136","v":0},{"$f":"Worksheet!AF136","v":0},0,{"$f":"IF(ISERROR(SEARCH(\"Gas\",Worksheet!$A$18))=TRUE,0,Worksheet!AH136)","v":0},0,null,null,{"$f":"IF(OR(Worksheet!F136=\"Incandescent\",Worksheet!F136=\"Halogen Incandescent\")=TRUE,118,IF(LEFT(Worksheet!F136,3)=\"HID\",117,IF(OR(RIGHT(Worksheet!F136,3)=\"T12\",RIGHT(Worksheet!F136,5)=\"T12HO\")=TRUE,115,IF(OR(RIGHT(Worksheet!F136,2)=\"T8\",RIGHT(Worksheet!F136,4)=\"RWT8\",RIGHT(Worksheet!F136,4)=\"T8HO\")=TRUE,115,\"\"))))","v":""},{"$f":"IF(ISBLANK(Worksheet!W136)=FALSE,Worksheet!W136,\"\")","v":0},{"$f":"IF(ISERROR(SEARCH(\"Oil\",Worksheet!$A$18))=TRUE,0,Worksheet!AH136)","v":0},0,{"$f":"IF(ISERROR(SEARCH(\"Propane\",Worksheet!$A$18))=TRUE,0,Worksheet!AH136)","v":0},0,{"$f":"IF(Worksheet!J136=0,\"\",Worksheet!J136)","v":""},{"$f":"IF(Worksheet!B136=0,\"\",Worksheet!B136)","v":""},{"$f":"IF(Worksheet!K136=0,\"\",Worksheet!K136)","v":""},{"$f":"IF(Worksheet!L136=0,\"\",Worksheet!L136)","v":""},{"$f":"IF(Worksheet!R136=0,\"\",Worksheet!R136)","v":""},{"$f":"IF(Worksheet!F136=0,\"\",Worksheet!F136)","v":""},{"$f":"IF(Worksheet!G136=0,\"\",Worksheet!G136)","v":""},{"$f":"IF(Worksheet!X136=0,\"\",Worksheet!X136)","v":""},{"$f":"IF(Worksheet!Q136=0,\"\",Worksheet!Q136)","v":""},{"$f":"IF(Worksheet!C136=0,\"\",Worksheet!C136)","v":""},{"$f":"IF(Worksheet!D136=0,\"\",Worksheet!D136)","v":""},{"$f":"IF(Worksheet!$A$11=TRUE,\"Y\",\"N\")","v":"N"},{"$f":"IF(Worksheet!$A$12=TRUE,\"Y\",\"N\")","v":"N"},{"$f":"IF(Worksheet!$B$11=TRUE,\"Y\",\"N\")","v":"N"},{"$f":"IF(Worksheet!$B$12=TRUE,\"Y\",\"N\")","v":"N"},{"$f":"IF(Worksheet!$C$11=TRUE,\"Y\",\"N\")","v":"N"},{"$f":"IFERROR(Worksheet!AB136,\"\")","v":0}]
[{"$f":"IF(IFERROR(SEARCH(\"Refrigerated\",Worksheet!L137,1),0)>0,122,IF(ISERROR(RIGHT(VLOOKUP(Worksheet!K137,Type!C$1:E$13,3,FALSE),3))=FALSE,RIGHT(VLOOKUP(Worksheet!K137,Type!C$1:E$13,3,FALSE),3),\"\"))","v":""},{"$f":"IF(Worksheet!M137=\"\",\"\",Worksheet!M137)","v":""},{"$f":"IF(Worksheet!N137=\"\",\"\",Worksheet!N137)","v":""},{"$f":"IF(Worksheet!Y137=0,\"\",Worksheet!Y137)","v":""},"Watts",null,null,{"$f":"Worksheet!AA137","v":0},{"$f":"IF(ISBLANK(Worksheet!V137)=FALSE,Worksheet!V137,\"\")","v":0},{"$f":"Worksheet!AG137","v":0},{"$f":"Worksheet!AF137","v":0},0,{"$f":"IF(ISERROR(SEARCH(\"Gas\",Worksheet!$A$18))=TRUE,0,Worksheet!AH137)","v":0},0,null,null,{"$f":"IF(OR(Worksheet!F137=\"Incandescent\",Worksheet!F137=\"Halogen Incandescent\")=TRUE,118,IF(LEFT(Worksheet!F137,3)=\"HID\",117,IF(OR(RIGHT(Worksheet!F137,3)=\"T12\",RIGHT(Worksheet!F137,5)=\"T12HO\")=TRUE,115,IF(OR(RIGHT(Worksheet!F137,2)=\"T8\",RIGHT(Worksheet!F137,4)=\"RWT8\",RIGHT(Worksheet!F137,4)=\"T8HO\")=TRUE,115,\"\"))))","v":""},{"$f":"IF(ISBLANK(Worksheet!W137)=FALSE,Worksheet!W137,\"\")","v":0},{"$f":"IF(ISERROR(SEARCH(\"Oil\",Worksheet!$A$18))=TRUE,0,Worksheet!AH137)","v":0},0,{"$f":"IF(ISERROR(SEARCH(\"Propane\",Worksheet!$A$18))=TRUE,0,Worksheet!AH137)","v":0},0,{"$f":"IF(Worksheet!J137=0,\"\",Worksheet!J137)","v":""},{"$f":"IF(Worksheet!B137=0,\"\",Worksheet!B137)","v":""},{"$f":"IF(Worksheet!K137=0,\"\",Worksheet!K137)","v":""},{"$f":"IF(Worksheet!L137=0,\"\",Worksheet!L137)","v":""},{"$f":"IF(Worksheet!R137=0,\"\",Worksheet!R137)","v":""},{"$f":"IF(Worksheet!F137=0,\"\",Worksheet!F137)","v":""},{"$f":"IF(Worksheet!G137=0,\"\",Worksheet!G137)","v":""},{"$f":"IF(Worksheet!X137=0,\"\",Worksheet!X137)","v":""},{"$f":"IF(Worksheet!Q137=0,\"\",Worksheet!Q137)","v":""},{"$f":"IF(Worksheet!C137=0,\"\",Worksheet!C137)","v":""},{"$f":"IF(Worksheet!D137=0,\"\",Worksheet!D137)","v":""},{"$f":"IF(Worksheet!$A$11=TRUE,\"Y\",\"N\")","v":"N"},{"$f":"IF(Worksheet!$A$12=TRUE,\"Y\",\"N\")","v":"N"},{"$f":"IF(Worksheet!$B$11=TRUE,\"Y\",\"N\")","v":"N"},{"$f":"IF(Worksheet!$B$12=TRUE,\"Y\",\"N\")","v":"N"},{"$f":"IF(Worksheet!$C$11=TRUE,\"Y\",\"N\")","v":"N"},{"$f":"IFERROR(Worksheet!AB137,\"\")","v":0}]
[{"$f":"IF(IFERROR(SEARCH(\"Refrigerated\",Worksheet!L138,1),0)>0,122,IF(ISERROR(RIGHT(VLOOKUP(Worksheet!K138,Type!C$1:E$13,3,FALSE),3))=FALSE,RIGHT(VLOOKUP(Worksheet!K138,Type!C$1:E$13,3,FALSE),3),\"\"))","v":""},{"$f":"IF(Worksheet!M138=\"\",\"\",Worksheet!M138)","v":""},{"$f":"IF(Worksheet!N138=\"\",\"\",Worksheet!N138)","v":""},{"$f":"IF(Worksheet!Y138=0,\"\",Worksheet!Y138)","v":""},"Watts",null,null,{"$f":"Worksheet!AA138","v":0},{"$f":"IF(ISBLANK(Worksheet!V138)=FALSE,Worksheet!V138,\"\")","v":0},{"$f":"Worksheet!AG138","v":0},{"$f":"Worksheet!AF138","v":0},0,{"$f":"IF(ISERROR(SEARCH(\"Gas\",Worksheet!$A$18))=TRUE,0,Worksheet!AH138)","v":0},0,null,null,{"$f":"IF(OR(Worksheet!F138=\"Incandescent\",Worksheet!F138=\"Halogen Incandescent\")=TRUE,118,IF(LEFT(Worksheet!F138,3)=\"HID\",117,IF(OR(RIGHT(Worksheet!F138,3)=\"T12\",RIGHT(Worksheet!F138,5)=\"T12HO\")=TRUE,115,IF(OR(RIGHT(Worksheet!F138,2)=\"T8\",RIGHT(Worksheet!F138,4)=\"RWT8\",RIGHT(Worksheet!F138,4)=\"T8HO\")=TRUE,115,\"\"))))","v":""},{"$f":"IF(ISBLANK(Worksheet!W138)=FALSE,Worksheet!W138,\"\")","v":0},{"$f":"IF(ISERROR(SEARCH(\"Oil\",Worksheet!$A$18))=TRUE,0,Worksheet!AH138)","v":0},0,{"$f":"IF(ISERROR(SEARCH(\"Propane\",Worksheet!$A$18))=TRUE,0,Worksheet!AH138)","v":0},0,{"$f":"IF(Worksheet!J138=0,\"\",Worksheet!J138)","v":""},{"$f":"IF(Worksheet!B138=0,\"\",Worksheet!B138)","v":""},{"$f":"IF(Worksheet!K138=0,\"\",Worksheet!K138)","v":""},{"$f":"IF(Worksheet!L138=0,\"\",Worksheet!L138)","v":""},{"$f":"IF(Worksheet!R138=0,\"\",Worksheet!R138)","v":""},{"$f":"IF(Worksheet!F138=0,\"\",Worksheet!F138)","v":""},{"$f":"IF(Worksheet!G138=0,\"\",Worksheet!G138)","v":""},{"$f":"IF(Worksheet!X138=0,\"\",Worksheet!X138)","v":""},{"$f":"IF(Worksheet!Q138=0,\"\",Worksheet!Q138)","v":""},{"$f":"IF(Worksheet!C138=0,\"\",Worksheet!C138)","v":""},{"$f":"IF(Worksheet!D138=0,\"\",Worksheet!D138)","v":""},{"$f":"IF(Worksheet!$A$11=TRUE,\"Y\",\"N\")","v":"N"},{"$f":"IF(Worksheet!$A$12=TRUE,\"Y\",\"N\")","v":"N"},{"$f":"IF(Worksheet!$B$11=TRUE,\"Y\",\"N\")","v":"N"},{"$f":"IF(Worksheet!$B$12=TRUE,\"Y\",\"N\")","v":"N"},{"$f":"IF(Worksheet!$C$11=TRUE,\"Y\",\"N\")","v":"N"},{"$f":"IFERROR(Worksheet!AB138,\"\")","v":0}]
[{"$f":"IF(IFERROR(SEARCH(\"Refrigerated\",Worksheet!L139,1),0)>0,122,IF(ISERROR(RIGHT(VLOOKUP(Worksheet!K139,Type!C$1:E$13,3,FALSE),3))=FALSE,RIGHT(VLOOKUP(Worksheet!K139,Type!C$1:E$13,3,FALSE),3),\"\"))","v":""},{"$f":"IF(Worksheet!M139=\"\",\"\",Worksheet!M139)","v":""},{"$f":"IF(Worksheet!N139=\"\",\"\",Worksheet!N139)","v":""},{"$f":"IF(Worksheet!Y139=0,\"\",Worksheet!Y139)","v":""},"Watts",null,null,{"$f":"Worksheet!AA139","v":0},{"$f":"IF(ISBLANK(Worksheet!V139)=FALSE,Worksheet!V139,\"\")","v":0},{"$f":"Worksheet!AG139","v":0},{"$f":"Worksheet!AF139","v":0},0,{"$f":"IF(ISERROR(SEARCH(\"Gas\",Worksheet!$A$18))=TRUE,0,Worksheet!AH139)","v":0},0,null,null,{"$f":"IF(OR(Worksheet!F139=\"Incandescent\",Worksheet!F139=\"Halogen Incandescent\")=TRUE,118,IF(LEFT(Worksheet!F139,3)=\"HID\",117,IF(OR(RIGHT(Worksheet!F139,3)=\"T12\",RIGHT(Worksheet!F139,5)=\"T12HO\")=TRUE,115,IF(OR(RIGHT(Worksheet!F139,2)=\"T8\",RIGHT(Worksheet!F139,4)=\"RWT8\",RIGHT(Worksheet!F139,4)=\"T8HO\")=TRUE,115,\"\"))))","v":""},{"$f":"IF(ISBLANK(Worksheet!W139)=FALSE,Worksheet!W139,\"\")","v":0},{"$f":"IF(ISERROR(SEARCH(\"Oil\",Worksheet!$A$18))=TRUE,0,Worksheet!AH139)","v":0},0,{"$f":"IF(ISERROR(SEARCH(\"Propane\",Worksheet!$A$18))=TRUE,0,Worksheet!AH139)","v":0},0,{"$f":"IF(Worksheet!J139=0,\"\",Worksheet!J139)","v":""},{"$f":"IF(Worksheet!B139=0,\"\",Worksheet!B139)","v":""},{"$f":"IF(Worksheet!K139=0,\"\",Worksheet!K139)","v":""},{"$f":"IF(Worksheet!L139=0,\"\",Worksheet!L139)","v":""},{"$f":"IF(Worksheet!R139=0,\"\",Worksheet!R139)","v":""},{"$f":"IF(Worksheet!F139=0,\"\",Worksheet!F139)","v":""},{"$f":"IF(Worksheet!G139=0,\"\",Worksheet!G139)","v":""},{"$f":"IF(Worksheet!X139=0,\"\",Worksheet!X139)","v":""},{"$f":"IF(Worksheet!Q139=0,\"\",Worksheet!Q139)","v":""},{"$f":"IF(Worksheet!C139=0,\"\",Worksheet!C139)","v":""},{"$f":"IF(Worksheet!D139=0,\"\",Worksheet!D139)","v":""},{"$f":"IF(Worksheet!$A$11=TRUE,\"Y\",\"N\")","v":"N"},{"$f":"IF(Worksheet!$A$12=TRUE,\"Y\",\"N\")","v":"N"},{"$f":"IF(Worksheet!$B$11=TRUE,\"Y\",\"N\")","v":"N"},{"$f":"IF(Worksheet!$B$12=TRUE,\"Y\",\"N\")","v":"N"},{"$f":"IF(Worksheet!$C$11=TRUE,\"Y\",\"N\")","v":"N"},{"$f":"IFERROR(Worksheet!AB139,\"\")","v":0}]
[{"$f":"IF(IFERROR(SEARCH(\"Refrigerated\",Worksheet!L140,1),0)>0,122,IF(ISERROR(RIGHT(VLOOKUP(Worksheet!K140,Type!C$1:E$13,3,FALSE),3))=FALSE,RIGHT(VLOOKUP(Worksheet!K140,Type!C$1:E$13,3,FALSE),3),\"\"))","v":""},{"$f":"IF(Worksheet!M140=\"\",\"\",Worksheet!M140)","v":""},{"$f":"IF(Worksheet!N140=\"\",\"\",Worksheet!N140)","v":""},{"$f":"IF(Worksheet!Y140=0,\"\",Worksheet!Y140)","v":""},"Watts",null,null,{"$f":"Worksheet!AA140","v":0},{"$f":"IF(ISBLANK(Worksheet!V140)=FALSE,Worksheet!V140,\"\")","v":0},{"$f":"Worksheet!AG140","v":0},{"$f":"Worksheet!AF140","v":0},0,{"$f":"IF(ISERROR(SEARCH(\"Gas\",Worksheet!$A$18))=TRUE,0,Worksheet!AH140)","v":0},0,null,null,{"$f":"IF(OR(Worksheet!F140=\"Incandescent\",Worksheet!F140=\"Halogen Incandescent\")=TRUE,118,IF(LEFT(Worksheet!F140,3)=\"HID\",117,IF(OR(RIGHT(Worksheet!F140,3)=\"T12\",RIGHT(Worksheet!F140,5)=\"T12HO\")=TRUE,115,IF(OR(RIGHT(Worksheet!F140,2)=\"T8\",RIGHT(Worksheet!F140,4)=\"RWT8\",RIGHT(Worksheet!F140,4)=\"T8HO\")=TRUE,115,\"\"))))","v":""},{"$f":"IF(ISBLANK(Worksheet!W140)=FALSE,Worksheet!W140,\"\")","v":0},{"$f":"IF(ISERROR(SEARCH(\"Oil\",Worksheet!$A$18))=TRUE,0,Worksheet!AH140)","v":0},0,{"$f":"IF(ISERROR(SEARCH(\"Propane\",Worksheet!$A$18))=TRUE,0,Worksheet!AH140)","v":0},0,{"$f":"IF(Worksheet!J140=0,\"\",Worksheet!J140)","v":""},{"$f":"IF(Worksheet!B140=0,\"\",Worksheet!B140)","v":""},{"$f":"IF(Worksheet!K140=0,\"\",Worksheet!K140)","v":""},{"$f":"IF(Worksheet!L140=0,\"\",Worksheet!L140)","v":""},{"$f":"IF(Worksheet!R140=0,\"\",Worksheet!R140)","v":""},{"$f":"IF(Worksheet!F140=0,\"\",Worksheet!F140)","v":""},{"$f":"IF(Worksheet!G140=0,\"\",Worksheet!G140)","v":""},{"$f":"IF(Worksheet!X140=0,\"\",Worksheet!X140)","v":""},{"$f":"IF(Worksheet!Q140=0,\"\",Worksheet!Q140)","v":""},{"$f":"IF(Worksheet!C140=0,\"\",Worksheet!C140)","v":""},{"$f":"IF(Worksheet!D140=0,\"\",Worksheet!D140)","v":""},{"$f":"IF(Worksheet!$A$11=TRUE,\"Y\",\"N\")","v":"N"},{"$f":"IF(Worksheet!$A$12=TRUE,\"Y\",\"N\")","v":"N"},{"$f":"IF(Worksheet!$B$11=TRUE,\"Y\",\"N\")","v":"N"},{"$f":"IF(Worksheet!$B$12=TRUE,\"Y\",\"N\")","v":"N"},{"$f":"IF(Worksheet!$C$11=TRUE,\"Y\",\"N\")","v":"N"},{"$f":"IFERROR(Worksheet!AB140,\"\")","v":0}]
[{"$f":"IF(IFERROR(SEARCH(\"Refrigerated\",Worksheet!L141,1),0)>0,122,IF(ISERROR(RIGHT(VLOOKUP(Worksheet!K141,Type!C$1:E$13,3,FALSE),3))=FALSE,RIGHT(VLOOKUP(Worksheet!K141,Type!C$1:E$13,3,FALSE),3),\"\"))","v":""},{"$f":"IF(Worksheet!M141=\"\",\"\",Worksheet!M141)","v":""},{"$f":"IF(Worksheet!N141=\"\",\"\",Worksheet!N141)","v":""},{"$f":"IF(Worksheet!Y141=0,\"\",Worksheet!Y141)","v":""},"Watts",null,null,{"$f":"Worksheet!AA141","v":0},{"$f":"IF(ISBLANK(Worksheet!V141)=FALSE,Worksheet!V141,\"\")","v":0},{"$f":"Worksheet!AG141","v":0},{"$f":"Worksheet!AF141","v":0},0,{"$f":"IF(ISERROR(SEARCH(\"Gas\",Worksheet!$A$18))=TRUE,0,Worksheet!AH141)","v":0},0,null,null,{"$f":"IF(OR(Worksheet!F141=\"Incandescent\",Worksheet!F141=\"Halogen Incandescent\")=TRUE,118,IF(LEFT(Worksheet!F141,3)=\"HID\",117,IF(OR(RIGHT(Worksheet!F141,3)=\"T12\",RIGHT(Worksheet!F141,5)=\"T12HO\")=TRUE,115,IF(OR(RIGHT(Worksheet!F141,2)=\"T8\",RIGHT(Worksheet!F141,4)=\"RWT8\",RIGHT(Worksheet!F141,4)=\"T8HO\")=TRUE,115,\"\"))))","v":""},{"$f":"IF(ISBLANK(Worksheet!W141)=FALSE,Worksheet!W141,\"\")","v":0},{"$f":"IF(ISERROR(SEARCH(\"Oil\",Worksheet!$A$18))=TRUE,0,Worksheet!AH141)","v":0},0,{"$f":"IF(ISERROR(SEARCH(\"Propane\",Worksheet!$A$18))=TRUE,0,Worksheet!AH141)","v":0},0,{"$f":"IF(Worksheet!J141=0,\"\",Worksheet!J141)","v":""},{"$f":"IF(Worksheet!B141=0,\"\",Worksheet!B141)","v":""},{"$f":"IF(Worksheet!K141=0,\"\",Worksheet!K141)","v":""},{"$f":"IF(Worksheet!L141=0,\"\",Worksheet!L141)","v":""},{"$f":"IF(Worksheet!R141=0,\"\",Worksheet!R141)","v":""},{"$f":"IF(Worksheet!F141=0,\"\",Worksheet!F141)","v":""},{"$f":"IF(Worksheet!G141=0,\"\",Worksheet!G141)","v":""},{"$f":"IF(Worksheet!X141=0,\"\",Worksheet!X141)","v":""},{"$f":"IF(Worksheet!Q141=0,\"\",Worksheet!Q141)","v":""},{"$f":"IF(Worksheet!C141=0,\"\",Worksheet!C141)","v":""},{"$f":"IF(Worksheet!D141=0,\"\",Worksheet!D141)","v":""},{"$f":"IF(Worksheet!$A$11=TRUE,\"Y\",\"N\")","v":"N"},{"$f":"IF(Worksheet!$A$12=TRUE,\"Y\",\"N\")","v":"N"},{"$f":"IF(Worksheet!$B$11=TRUE,\"Y\",\"N\")","v":"N"},{"$f":"IF(Worksheet!$B$12=TRUE,\"Y\",\"N\")","v":"N"},{"$f":"IF(Worksheet!$C$11=TRUE,\"Y\",\"N\")","v":"N"},{"$f":"IFERROR(Worksheet!AB141,\"\")","v":0}]
[{"$f":"IF(IFERROR(SEARCH(\"Refrigerated\",Worksheet!L142,1),0)>0,122,IF(ISERROR(RIGHT(VLOOKUP(Worksheet!K142,Type!C$1:E$13,3,FALSE),3))=FALSE,RIGHT(VLOOKUP(Worksheet!K142,Type!C$1:E$13,3,FALSE),3),\"\"))","v":""},{"$f":"IF(Worksheet!M142=\"\",\"\",Worksheet!M142)","v":""},{"$f":"IF(Worksheet!N142=\"\",\"\",Worksheet!N142)","v":""},{"$f":"IF(Worksheet!Y142=0,\"\",Worksheet!Y142)","v":""},"Watts",null,null,{"$f":"Worksheet!AA142","v":0},{"$f":"IF(ISBLANK(Worksheet!V142)=FALSE,Worksheet!V142,\"\")","v":0},{"$f":"Worksheet!AG142","v":0},{"$f":"Worksheet!AF142","v":0},0,{"$f":"IF(ISERROR(SEARCH(\"Gas\",Worksheet!$A$18))=TRUE,0,Worksheet!AH142)","v":0},0,null,null,{"$f":"IF(OR(Worksheet!F142=\"Incandescent\",Worksheet!F142=\"Halogen Incandescent\")=TRUE,118,IF(LEFT(Worksheet!F142,3)=\"HID\",117,IF(OR(RIGHT(Worksheet!F142,3)=\"T12\",RIGHT(Worksheet!F142,5)=\"T12HO\")=TRUE,115,IF(OR(RIGHT(Worksheet!F142,2)=\"T8\",RIGHT(Worksheet!F142,4)=\"RWT8\",RIGHT(Worksheet!F142,4)=\"T8HO\")=TRUE,115,\"\"))))","v":""},{"$f":"IF(ISBLANK(Worksheet!W142)=FALSE,Worksheet!W142,\"\")","v":0},{"$f":"IF(ISERROR(SEARCH(\"Oil\",Worksheet!$A$18))=TRUE,0,Worksheet!AH142)","v":0},0,{"$f":"IF(ISERROR(SEARCH(\"Propane\",Worksheet!$A$18))=TRUE,0,Worksheet!AH142)","v":0},0,{"$f":"IF(Worksheet!J142=0,\"\",Worksheet!J142)","v":""},{"$f":"IF(Worksheet!B142=0,\"\",Worksheet!B142)","v":""},{"$f":"IF(Worksheet!K142=0,\"\",Worksheet!K142)","v":""},{"$f":"IF(Worksheet!L142=0,\"\",Worksheet!L142)","v":""},{"$f":"IF(Worksheet!R142=0,\"\",Worksheet!R142)","v":""},{"$f":"IF(Worksheet!F142=0,\"\",Worksheet!F142)","v":""},{"$f":"IF(Worksheet!G142=0,\"\",Worksheet!G142)","v":""},{"$f":"IF(Worksheet!X142=0,\"\",Worksheet!X142)","v":""},{"$f":"IF(Worksheet!Q142=0,\"\",Worksheet!Q142)","v":""},{"$f":"IF(Worksheet!C142=0,\"\",Worksheet!C142)","v":""},{"$f":"IF(Worksheet!D142=0,\"\",Worksheet!D142)","v":""},{"$f":"IF(Worksheet!$A$11=TRUE,\"Y\",\"N\")","v":"N"},{"$f":"IF(Worksheet!$A$12=TRUE,\"Y\",\"N\")","v":"N"},{"$f":"IF(Worksheet!$B$11=TRUE,\"Y\",\"N\")","v":"N"},{"$f":"IF(Worksheet!$B$12=TRUE,\"Y\",\"N\")","v":"N"},{"$f":"IF(Worksheet!$C$11=TRUE,\"Y\",\"N\")","v":"N"},{"$f":"IFERROR(Worksheet!AB142,\"\")","v":0}]
[{"$f":"IF(IFERROR(SEARCH(\"Refrigerated\",Worksheet!L143,1),0)>0,122,IF(ISERROR(RIGHT(VLOOKUP(Worksheet!K143,Type!C$1:E$13,3,FALSE),3))=FALSE,RIGHT(VLOOKUP(Worksheet!K143,Type!C$1:E$13,3,FALSE),3),\"\"))","v":""},{"$f":"IF(Worksheet!M143=\"\",\"\",Worksheet!M143)","v":""},{"$f":"IF(Worksheet!N143=\"\",\"\",Worksheet!N143)","v":""},{"$f":"IF(Worksheet!Y143=0,\"\",Worksheet!Y143)","v":""},"Watts",null,null,{"$f":"Worksheet!AA143","v":0},{"$f":"IF(ISBLANK(Worksheet!V143)=FALSE,Worksheet!V143,\"\")","v":0},{"$f":"Worksheet!AG143","v":0},{"$f":"Worksheet!AF143","v":0},0,{"$f":"IF(ISERROR(SEARCH(\"Gas\",Worksheet!$A$18))=TRUE,0,Worksheet!AH143)","v":0},0,null,null,{"$f":"IF(OR(Worksheet!F143=\"Incandescent\",Worksheet!F143=\"Halogen Incandescent\")=TRUE,118,IF(LEFT(Worksheet!F143,3)=\"HID\",117,IF(OR(RIGHT(Worksheet!F143,3)=\"T12\",RIGHT(Worksheet!F143,5)=\"T12HO\")=TRUE,115,IF(OR(RIGHT(Worksheet!F143,2)=\"T8\",RIGHT(Worksheet!F143,4)=\"RWT8\",RIGHT(Worksheet!F143,4)=\"T8HO\")=TRUE,115,\"\"))))","v":""},{"$f":"IF(ISBLANK(Worksheet!W143)=FALSE,Worksheet!W143,\"\")","v":0},{"$f":"IF(ISERROR(SEARCH(\"Oil\",Worksheet!$A$18))=TRUE,0,Worksheet!AH143)","v":0},0,{"$f":"IF(ISERROR(SEARCH(\"Propane\",Worksheet!$A$18))=TRUE,0,Worksheet!AH143)","v":0},0,{"$f":"IF(Worksheet!J143=0,\"\",Worksheet!J143)","v":""},{"$f":"IF(Worksheet!B143=0,\"\",Worksheet!B143)","v":""},{"$f":"IF(Worksheet!K143=0,\"\",Worksheet!K143)","v":""},{"$f":"IF(Worksheet!L143=0,\"\",Worksheet!L143)","v":""},{"$f":"IF(Worksheet!R143=0,\"\",Worksheet!R143)","v":""},{"$f":"IF(Worksheet!F143=0,\"\",Worksheet!F143)","v":""},{"$f":"IF(Worksheet!G143=0,\"\",Worksheet!G143)","v":""},{"$f":"IF(Worksheet!X143=0,\"\",Worksheet!X143)","v":""},{"$f":"IF(Worksheet!Q143=0,\"\",Worksheet!Q143)","v":""},{"$f":"IF(Worksheet!C143=0,\"\",Worksheet!C143)","v":""},{"$f":"IF(Worksheet!D143=0,\"\",Worksheet!D143)","v":""},{"$f":"IF(Worksheet!$A$11=TRUE,\"Y\",\"N\")","v":"N"},{"$f":"IF(Worksheet!$A$12=TRUE,\"Y\",\"N\")","v":"N"},{"$f":"IF(Worksheet!$B$11=TRUE,\"Y\",\"N\")","v":"N"},{"$f":"IF(Worksheet!$B$12=TRUE,\"Y\",\"N\")","v":"N"},{"$f":"IF(Worksheet!$C$11=TRUE,\"Y\",\"N\")","v":"N"},{"$f":"IFERROR(Worksheet!AB143,\"\")","v":0}]
[{"$f":"IF(IFERROR(SEARCH(\"Refrigerated\",Worksheet!L144,1),0)>0,122,IF(ISERROR(RIGHT(VLOOKUP(Worksheet!K144,Type!C$1:E$13,3,FALSE),3))=FALSE,RIGHT(VLOOKUP(Worksheet!K144,Type!C$1:E$13,3,FALSE),3),\"\"))","v":""},{"$f":"IF(Worksheet!M144=\"\",\"\",Worksheet!M144)","v":""},{"$f":"IF(Worksheet!N144=\"\",\"\",Worksheet!N144)","v":""},{"$f":"IF(Worksheet!Y144=0,\"\",Worksheet!Y144)","v":""},"Watts",null,null,{"$f":"Worksheet!AA144","v":0},{"$f":"IF(ISBLANK(Worksheet!V144)=FALSE,Worksheet!V144,\"\")","v":0},{"$f":"Worksheet!AG144","v":0},{"$f":"Worksheet!AF144","v":0},0,{"$f":"IF(ISERROR(SEARCH(\"Gas\",Worksheet!$A$18))=TRUE,0,Worksheet!AH144)","v":0},0,null,null,{"$f":"IF(OR(Worksheet!F144=\"Incandescent\",Worksheet!F144=\"Halogen Incandescent\")=TRUE,118,IF(LEFT(Worksheet!F144,3)=\"HID\",117,IF(OR(RIGHT(Worksheet!F144,3)=\"T12\",RIGHT(Worksheet!F144,5)=\"T12HO\")=TRUE,115,IF(OR(RIGHT(Worksheet!F144,2)=\"T8\",RIGHT(Worksheet!F144,4)=\"RWT8\",RIGHT(Worksheet!F144,4)=\"T8HO\")=TRUE,115,\"\"))))","v":""},{"$f":"IF(ISBLANK(Worksheet!W144)=FALSE,Worksheet!W144,\"\")","v":0},{"$f":"IF(ISERROR(SEARCH(\"Oil\",Worksheet!$A$18))=TRUE,0,Worksheet!AH144)","v":0},0,{"$f":"IF(ISERROR(SEARCH(\"Propane\",Worksheet!$A$18))=TRUE,0,Worksheet!AH144)","v":0},0,{"$f":"IF(Worksheet!J144=0,\"\",Worksheet!J144)","v":""},{"$f":"IF(Worksheet!B144=0,\"\",Worksheet!B144)","v":""},{"$f":"IF(Worksheet!K144=0,\"\",Worksheet!K144)","v":""},{"$f":"IF(Worksheet!L144=0,\"\",Worksheet!L144)","v":""},{"$f":"IF(Worksheet!R144=0,\"\",Worksheet!R144)","v":""},{"$f":"IF(Worksheet!F144=0,\"\",Worksheet!F144)","v":""},{"$f":"IF(Worksheet!G144=0,\"\",Worksheet!G144)","v":""},{"$f":"IF(Worksheet!X144=0,\"\",Worksheet!X144)","v":""},{"$f":"IF(Worksheet!Q144=0,\"\",Worksheet!Q144)","v":""},{"$f":"IF(Worksheet!C144=0,\"\",Worksheet!C144)","v":""},{"$f":"IF(Worksheet!D144=0,\"\",Worksheet!D144)","v":""},{"$f":"IF(Worksheet!$A$11=TRUE,\"Y\",\"N\")","v":"N"},{"$f":"IF(Worksheet!$A$12=TRUE,\"Y\",\"N\")","v":"N"},{"$f":"IF(Worksheet!$B$11=TRUE,\"Y\",\"N\")","v":"N"},{"$f":"IF(Worksheet!$B$12=TRUE,\"Y\",\"N\")","v":"N"},{"$f":"IF(Worksheet!$C$11=TRUE,\"Y\",\"N\")","v":"N"},{"$f":"IFERROR(Worksheet!AB144,\"\")","v":0}]
[{"$f":"IF(IFERROR(SEARCH(\"Refrigerated\",Worksheet!L145,1),0)>0,122,IF(ISERROR(RIGHT(VLOOKUP(Worksheet!K145,Type!C$1:E$13,3,FALSE),3))=FALSE,RIGHT(VLOOKUP(Worksheet!K145,Type!C$1:E$13,3,FALSE),3),\"\"))","v":""},{"$f":"IF(Worksheet!M145=\"\",\"\",Worksheet!M145)","v":""},{"$f":"IF(Worksheet!N145=\"\",\"\",Worksheet!N145)","v":""},{"$f":"IF(Worksheet!Y145=0,\"\",Worksheet!Y145)","v":""},"Watts",null,null,{"$f":"Worksheet!AA145","v":0},{"$f":"IF(ISBLANK(Worksheet!V145)=FALSE,Worksheet!V145,\"\")","v":0},{"$f":"Worksheet!AG145","v":0},{"$f":"Worksheet!AF145","v":0},0,{"$f":"IF(ISERROR(SEARCH(\"Gas\",Worksheet!$A$18))=TRUE,0,Worksheet!AH145)","v":0},0,null,null,{"$f":"IF(OR(Worksheet!F145=\"Incandescent\",Worksheet!F145=\"Halogen Incandescent\")=TRUE,118,IF(LEFT(Worksheet!F145,3)=\"HID\",117,IF(OR(RIGHT(Worksheet!F145,3)=\"T12\",RIGHT(Worksheet!F145,5)=\"T12HO\")=TRUE,115,IF(OR(RIGHT(Worksheet!F145,2)=\"T8\",RIGHT(Worksheet!F145,4)=\"RWT8\",RIGHT(Worksheet!F145,4)=\"T8HO\")=TRUE,115,\"\"))))","v":""},{"$f":"IF(ISBLANK(Worksheet!W145)=FALSE,Worksheet!W145,\"\")","v":0},{"$f":"IF(ISERROR(SEARCH(\"Oil\",Worksheet!$A$18))=TRUE,0,Worksheet!AH145)","v":0},0,{"$f":"IF(ISERROR(SEARCH(\"Propane\",Worksheet!$A$18))=TRUE,0,Worksheet!AH145)","v":0},0,{"$f":"IF(Worksheet!J145=0,\"\",Worksheet!J145)","v":""},{"$f":"IF(Worksheet!B145=0,\"\",Worksheet!B145)","v":""},{"$f":"IF(Worksheet!K145=0,\"\",Worksheet!K145)","v":""},{"$f":"IF(Worksheet!L145=0,\"\",Worksheet!L145)","v":""},{"$f":"IF(Worksheet!R145=0,\"\",Worksheet!R145)","v":""},{"$f":"IF(Worksheet!F145=0,\"\",Worksheet!F145)","v":""},{"$f":"IF(Worksheet!G145=0,\"\",Worksheet!G145)","v":""},{"$f":"IF(Worksheet!X145=0,\"\",Worksheet!X145)","v":""},{"$f":"IF(Worksheet!Q145=0,\"\",Worksheet!Q145)","v":""},{"$f":"IF(Worksheet!C145=0,\"\",Worksheet!C145)","v":""},{"$f":"IF(Worksheet!D145=0,\"\",Worksheet!D145)","v":""},{"$f":"IF(Worksheet!$A$11=TRUE,\"Y\",\"N\")","v":"N"},{"$f":"IF(Worksheet!$A$12=TRUE,\"Y\",\"N\")","v":"N"},{"$f":"IF(Worksheet!$B$11=TRUE,\"Y\",\"N\")","v":"N"},{"$f":"IF(Worksheet!$B$12=TRUE,\"Y\",\"N\")","v":"N"},{"$f":"IF(Worksheet!$C$11=TRUE,\"Y\",\"N\")","v":"N"},{"$f":"IFERROR(Worksheet!AB145,\"\")","v":0}]
[{"$f":"IF(IFERROR(SEARCH(\"Refrigerated\",Worksheet!L146,1),0)>0,122,IF(ISERROR(RIGHT(VLOOKUP(Worksheet!K146,Type!C$1:E$13,3,FALSE),3))=FALSE,RIGHT(VLOOKUP(Worksheet!K146,Type!C$1:E$13,3,FALSE),3),\"\"))","v":""},{"$f":"IF(Worksheet!M146=\"\",\"\",Worksheet!M146)","v":""},{"$f":"IF(Worksheet!N146=\"\",\"\",Worksheet!N146)","v":""},{"$f":"IF(Worksheet!Y146=0,\"\",Worksheet!Y146)","v":""},"Watts",null,null,{"$f":"Worksheet!AA146","v":0},{"$f":"IF(ISBLANK(Worksheet!V146)=FALSE,Worksheet!V146,\"\")","v":0},{"$f":"Worksheet!AG146","v":0},{"$f":"Worksheet!AF146","v":0},0,{"$f":"IF(ISERROR(SEARCH(\"Gas\",Worksheet!$A$18))=TRUE,0,Worksheet!AH146)","v":0},0,null,null,{"$f":"IF(OR(Worksheet!F146=\"Incandescent\",Worksheet!F146=\"Halogen Incandescent\")=TRUE,118,IF(LEFT(Worksheet!F146,3)=\"HID\",117,IF(OR(RIGHT(Worksheet!F146,3)=\"T12\",RIGHT(Worksheet!F146,5)=\"T12HO\")=TRUE,115,IF(OR(RIGHT(Worksheet!F146,2)=\"T8\",RIGHT(Worksheet!F146,4)=\"RWT8\",RIGHT(Worksheet!F146,4)=\"T8HO\")=TRUE,115,\"\"))))","v":""},{"$f":"IF(ISBLANK(Worksheet!W146)=FALSE,Worksheet!W146,\"\")","v":0},{"$f":"IF(ISERROR(SEARCH(\"Oil\",Worksheet!$A$18))=TRUE,0,Worksheet!AH146)","v":0},0,{"$f":"IF(ISERROR(SEARCH(\"Propane\",Worksheet!$A$18))=TRUE,0,Worksheet!AH146)","v":0},0,{"$f":"IF(Worksheet!J146=0,\"\",Worksheet!J146)","v":""},{"$f":"IF(Worksheet!B146=0,\"\",Worksheet!B146)","v":""},{"$f":"IF(Worksheet!K146=0,\"\",Worksheet!K146)","v":""},{"$f":"IF(Worksheet!L146=0,\"\",Worksheet!L146)","v":""},{"$f":"IF(Worksheet!R146=0,\"\",Worksheet!R146)","v":""},{"$f":"IF(Worksheet!F146=0,\"\",Worksheet!F146)","v":""},{"$f":"IF(Worksheet!G146=0,\"\",Worksheet!G146)","v":""},{"$f":"IF(Worksheet!X146=0,\"\",Worksheet!X146)","v":""},{"$f":"IF(Worksheet!Q146=0,\"\",Worksheet!Q146)","v":""},{"$f":"IF(Worksheet!C146=0,\"\",Worksheet!C146)","v":""},{"$f":"IF(Worksheet!D146=0,\"\",Worksheet!D146)","v":""},{"$f":"IF(Worksheet!$A$11=TRUE,\"Y\",\"N\")","v":"N"},{"$f":"IF(Worksheet!$A$12=TRUE,\"Y\",\"N\")","v":"N"},{"$f":"IF(Worksheet!$B$11=TRUE,\"Y\",\"N\")","v":"N"},{"$f":"IF(Worksheet!$B$12=TRUE,\"Y\",\"N\")","v":"N"},{"$f":"IF(Worksheet!$C$11=TRUE,\"Y\",\"N\")","v":"N"},{"$f":"IFERROR(Worksheet!AB146,\"\")","v":0}]
[{"$f":"IF(IFERROR(SEARCH(\"Refrigerated\",Worksheet!L147,1),0)>0,122,IF(ISERROR(RIGHT(VLOOKUP(Worksheet!K147,Type!C$1:E$13,3,FALSE),3))=FALSE,RIGHT(VLOOKUP(Worksheet!K147,Type!C$1:E$13,3,FALSE),3),\"\"))","v":""},{"$f":"IF(Worksheet!M147=\"\",\"\",Worksheet!M147)","v":""},{"$f":"IF(Worksheet!N147=\"\",\"\",Worksheet!N147)","v":""},{"$f":"IF(Worksheet!Y147=0,\"\",Worksheet!Y147)","v":""},"Watts",null,null,{"$f":"Worksheet!AA147","v":0},{"$f":"IF(ISBLANK(Worksheet!V147)=FALSE,Worksheet!V147,\"\")","v":0},{"$f":"Worksheet!AG147","v":0},{"$f":"Worksheet!AF147","v":0},0,{"$f":"IF(ISERROR(SEARCH(\"Gas\",Worksheet!$A$18))=TRUE,0,Worksheet!AH147)","v":0},0,null,null,{"$f":"IF(OR(Worksheet!F147=\"Incandescent\",Worksheet!F147=\"Halogen Incandescent\")=TRUE,118,IF(LEFT(Worksheet!F147,3)=\"HID\",117,IF(OR(RIGHT(Worksheet!F147,3)=\"T12\",RIGHT(Worksheet!F147,5)=\"T12HO\")=TRUE,115,IF(OR(RIGHT(Worksheet!F147,2)=\"T8\",RIGHT(Worksheet!F147,4)=\"RWT8\",RIGHT(Worksheet!F147,4)=\"T8HO\")=TRUE,115,\"\"))))","v":""},{"$f":"IF(ISBLANK(Worksheet!W147)=FALSE,Worksheet!W147,\"\")","v":0},{"$f":"IF(ISERROR(SEARCH(\"Oil\",Worksheet!$A$18))=TRUE,0,Worksheet!AH147)","v":0},0,{"$f":"IF(ISERROR(SEARCH(\"Propane\",Worksheet!$A$18))=TRUE,0,Worksheet!AH147)","v":0},0,{"$f":"IF(Worksheet!J147=0,\"\",Worksheet!J147)","v":""},{"$f":"IF(Worksheet!B147=0,\"\",Worksheet!B147)","v":""},{"$f":"IF(Worksheet!K147=0,\"\",Worksheet!K147)","v":""},{"$f":"IF(Worksheet!L147=0,\"\",Worksheet!L147)","v":""},{"$f":"IF(Worksheet!R147=0,\"\",Worksheet!R147)","v":""},{"$f":"IF(Worksheet!F147=0,\"\",Worksheet!F147)","v":""},{"$f":"IF(Worksheet!G147=0,\"\",Worksheet!G147)","v":""},{"$f":"IF(Worksheet!X147=0,\"\",Worksheet!X147)","v":""},{"$f":"IF(Worksheet!Q147=0,\"\",Worksheet!Q147)","v":""},{"$f":"IF(Worksheet!C147=0,\"\",Worksheet!C147)","v":""},{"$f":"IF(Worksheet!D147=0,\"\",Worksheet!D147)","v":""},{"$f":"IF(Worksheet!$A$11=TRUE,\"Y\",\"N\")","v":"N"},{"$f":"IF(Worksheet!$A$12=TRUE,\"Y\",\"N\")","v":"N"},{"$f":"IF(Worksheet!$B$11=TRUE,\"Y\",\"N\")","v":"N"},{"$f":"IF(Worksheet!$B$12=TRUE,\"Y\",\"N\")","v":"N"},{"$f":"IF(Worksheet!$C$11=TRUE,\"Y\",\"N\")","v":"N"},{"$f":"IFERROR(Worksheet!AB147,\"\")","v":0}]
[{"$f":"IF(IFERROR(SEARCH(\"Refrigerated\",Worksheet!L148,1),0)>0,122,IF(ISERROR(RIGHT(VLOOKUP(Worksheet!K148,Type!C$1:E$13,3,FALSE),3))=FALSE,RIGHT(VLOOKUP(Worksheet!K148,Type!C$1:E$13,3,FALSE),3),\"\"))","v":""},{"$f":"IF(Worksheet!M148=\"\",\"\",Worksheet!M148)","v":""},{"$f":"IF(Worksheet!N148=\"\",\"\",Worksheet!N148)","v":""},{"$f":"IF(Worksheet!Y148=0,\"\",Worksheet!Y148)","v":""},"Watts",null,null,{"$f":"Worksheet!AA148","v":0},{"$f":"IF(ISBLANK(Worksheet!V148)=FALSE,Worksheet!V148,\"\")","v":0},{"$f":"Worksheet!AG148","v":0},{"$f":"Worksheet!AF148","v":0},0,{"$f":"IF(ISERROR(SEARCH(\"Gas\",Worksheet!$A$18))=TRUE,0,Worksheet!AH148)","v":0},0,null,null,{"$f":"IF(OR(Worksheet!F148=\"Incandescent\",Worksheet!F148=\"Halogen Incandescent\")=TRUE,118,IF(LEFT(Worksheet!F148,3)=\"HID\",117,IF(OR(RIGHT(Worksheet!F148,3)=\"T12\",RIGHT(Worksheet!F148,5)=\"T12HO\")=TRUE,115,IF(OR(RIGHT(Worksheet!F148,2)=\"T8\",RIGHT(Worksheet!F148,4)=\"RWT8\",RIGHT(Worksheet!F148,4)=\"T8HO\")=TRUE,115,\"\"))))","v":""},{"$f":"IF(ISBLANK(Worksheet!W148)=FALSE,Worksheet!W148,\"\")","v":0},{"$f":"IF(ISERROR(SEARCH(\"Oil\",Worksheet!$A$18))=TRUE,0,Worksheet!AH148)","v":0},0,{"$f":"IF(ISERROR(SEARCH(\"Propane\",Worksheet!$A$18))=TRUE,0,Worksheet!AH148)","v":0},0,{"$f":"IF(Worksheet!J148=0,\"\",Worksheet!J148)","v":""},{"$f":"IF(Worksheet!B148=0,\"\",Worksheet!B148)","v":""},{"$f":"IF(Worksheet!K148=0,\"\",Worksheet!K148)","v":""},{"$f":"IF(Worksheet!L148=0,\"\",Worksheet!L148)","v":""},{"$f":"IF(Worksheet!R148=0,\"\",Worksheet!R148)","v":""},{"$f":"IF(Worksheet!F148=0,\"\",Worksheet!F148)","v":""},{"$f":"IF(Worksheet!G148=0,\"\",Worksheet!G148)","v":""},{"$f":"IF(Worksheet!X148=0,\"\",Worksheet!X148)","v":""},{"$f":"IF(Worksheet!Q148=0,\"\",Worksheet!Q148)","v":""},{"$f":"IF(Worksheet!C148=0,\"\",Worksheet!C148)","v":""},{"$f":"IF(Worksheet!D148=0,\"\",Worksheet!D148)","v":""},{"$f":"IF(Worksheet!$A$11=TRUE,\"Y\",\"N\")","v":"N"},{"$f":"IF(Worksheet!$A$12=TRUE,\"Y\",\"N\")","v":"N"},{"$f":"IF(Worksheet!$B$11=TRUE,\"Y\",\"N\")","v":"N"},{"$f":"IF(Worksheet!$B$12=TRUE,\"Y\",\"N\")","v":"N"},{"$f":"IF(Worksheet!$C$11=TRUE,\"Y\",\"N\")","v":"N"},{"$f":"IFERROR(Worksheet!AB148,\"\")","v":0}]
[{"$f":"IF(IFERROR(SEARCH(\"Refrigerated\",Worksheet!L149,1),0)>0,122,IF(ISERROR(RIGHT(VLOOKUP(Worksheet!K149,Type!C$1:E$13,3,FALSE),3))=FALSE,RIGHT(VLOOKUP(Worksheet!K149,Type!C$1:E$13,3,FALSE),3),\"\"))","v":""},{"$f":"IF(Worksheet!M149=\"\",\"\",Worksheet!M149)","v":""},{"$f":"IF(Worksheet!N149=\"\",\"\",Worksheet!N149)","v":""},{"$f":"IF(Worksheet!Y149=0,\"\",Worksheet!Y149)","v":""},"Watts",null,null,{"$f":"Worksheet!AA149","v":0},{"$f":"IF(ISBLANK(Worksheet!V149)=FALSE,Worksheet!V149,\"\")","v":0},{"$f":"Worksheet!AG149","v":0},{"$f":"Worksheet!AF149","v":0},0,{"$f":"IF(ISERROR(SEARCH(\"Gas\",Worksheet!$A$18))=TRUE,0,Worksheet!AH149)","v":0},0,null,null,{"$f":"IF(OR(Worksheet!F149=\"Incandescent\",Worksheet!F149=\"Halogen Incandescent\")=TRUE,118,IF(LEFT(Worksheet!F149,3)=\"HID\",117,IF(OR(RIGHT(Worksheet!F149,3)=\"T12\",RIGHT(Worksheet!F149,5)=\"T12HO\")=TRUE,115,IF(OR(RIGHT(Worksheet!F149,2)=\"T8\",RIGHT(Worksheet!F149,4)=\"RWT8\",RIGHT(Worksheet!F149,4)=\"T8HO\")=TRUE,115,\"\"))))","v":""},{"$f":"IF(ISBLANK(Worksheet!W149)=FALSE,Worksheet!W149,\"\")","v":0},{"$f":"IF(ISERROR(SEARCH(\"Oil\",Worksheet!$A$18))=TRUE,0,Worksheet!AH149)","v":0},0,{"$f":"IF(ISERROR(SEARCH(\"Propane\",Worksheet!$A$18))=TRUE,0,Worksheet!AH149)","v":0},0,{"$f":"IF(Worksheet!J149=0,\"\",Worksheet!J149)","v":""},{"$f":"IF(Worksheet!B149=0,\"\",Worksheet!B149)","v":""},{"$f":"IF(Worksheet!K149=0,\"\",Worksheet!K149)","v":""},{"$f":"IF(Worksheet!L149=0,\"\",Worksheet!L149)","v":""},{"$f":"IF(Worksheet!R149=0,\"\",Worksheet!R149)","v":""},{"$f":"IF(Worksheet!F149=0,\"\",Worksheet!F149)","v":""},{"$f":"IF(Worksheet!G149=0,\"\",Worksheet!G149)","v":""},{"$f":"IF(Worksheet!X149=0,\"\",Worksheet!X149)","v":""},{"$f":"IF(Worksheet!Q149=0,\"\",Worksheet!Q149)","v":""},{"$f":"IF(Worksheet!C149=0,\"\",Worksheet!C149)","v":""},{"$f":"IF(Worksheet!D149=0,\"\",Worksheet!D149)","v":""},{"$f":"IF(Worksheet!$A$11=TRUE,\"Y\",\"N\")","v":"N"},{"$f":"IF(Worksheet!$A$12=TRUE,\"Y\",\"N\")","v":"N"},{"$f":"IF(Worksheet!$B$11=TRUE,\"Y\",\"N\")","v":"N"},{"$f":"IF(Worksheet!$B$12=TRUE,\"Y\",\"N\")","v":"N"},{"$f":"IF(Worksheet!$C$11=TRUE,\"Y\",\"N\")","v":"N"},{"$f":"IFERROR(Worksheet!AB149,\"\")","v":0}]
[{"$f":"IF(IFERROR(SEARCH(\"Refrigerated\",Worksheet!L150,1),0)>0,122,IF(ISERROR(RIGHT(VLOOKUP(Worksheet!K150,Type!C$1:E$13,3,FALSE),3))=FALSE,RIGHT(VLOOKUP(Worksheet!K150,Type!C$1:E$13,3,FALSE),3),\"\"))","v":""},{"$f":"IF(Worksheet!M150=\"\",\"\",Worksheet!M150)","v":""},{"$f":"IF(Worksheet!N150=\"\",\"\",Worksheet!N150)","v":""},{"$f":"IF(Worksheet!Y150=0,\"\",Worksheet!Y150)","v":""},"Watts",null,null,{"$f":"Worksheet!AA150","v":0},{"$f":"IF(ISBLANK(Worksheet!V150)=FALSE,Worksheet!V150,\"\")","v":0},{"$f":"Worksheet!AG150","v":0},{"$f":"Worksheet!AF150","v":0},0,{"$f":"IF(ISERROR(SEARCH(\"Gas\",Worksheet!$A$18))=TRUE,0,Worksheet!AH150)","v":0},0,null,null,{"$f":"IF(OR(Worksheet!F150=\"Incandescent\",Worksheet!F150=\"Halogen Incandescent\")=TRUE,118,IF(LEFT(Worksheet!F150,3)=\"HID\",117,IF(OR(RIGHT(Worksheet!F150,3)=\"T12\",RIGHT(Worksheet!F150,5)=\"T12HO\")=TRUE,115,IF(OR(RIGHT(Worksheet!F150,2)=\"T8\",RIGHT(Worksheet!F150,4)=\"RWT8\",RIGHT(Worksheet!F150,4)=\"T8HO\")=TRUE,115,\"\"))))","v":""},{"$f":"IF(ISBLANK(Worksheet!W150)=FALSE,Worksheet!W150,\"\")","v":0},{"$f":"IF(ISERROR(SEARCH(\"Oil\",Worksheet!$A$18))=TRUE,0,Worksheet!AH150)","v":0},0,{"$f":"IF(ISERROR(SEARCH(\"Propane\",Worksheet!$A$18))=TRUE,0,Worksheet!AH150)","v":0},0,{"$f":"IF(Worksheet!J150=0,\"\",Worksheet!J150)","v":""},{"$f":"IF(Worksheet!B150=0,\"\",Worksheet!B150)","v":""},{"$f":"IF(Worksheet!K150=0,\"\",Worksheet!K150)","v":""},{"$f":"IF(Worksheet!L150=0,\"\",Worksheet!L150)","v":""},{"$f":"IF(Worksheet!R150=0,\"\",Worksheet!R150)","v":""},{"$f":"IF(Worksheet!F150=0,\"\",Worksheet!F150)","v":""},{"$f":"IF(Worksheet!G150=0,\"\",Worksheet!G150)","v":""},{"$f":"IF(Worksheet!X150=0,\"\",Worksheet!X150)","v":""},{"$f":"IF(Worksheet!Q150=0,\"\",Worksheet!Q150)","v":""},{"$f":"IF(Worksheet!C150=0,\"\",Worksheet!C150)","v":""},{"$f":"IF(Worksheet!D150=0,\"\",Worksheet!D150)","v":""},{"$f":"IF(Worksheet!$A$11=TRUE,\"Y\",\"N\")","v":"N"},{"$f":"IF(Worksheet!$A$12=TRUE,\"Y\",\"N\")","v":"N"},{"$f":"IF(Worksheet!$B$11=TRUE,\"Y\",\"N\")","v":"N"},{"$f":"IF(Worksheet!$B$12=TRUE,\"Y\",\"N\")","v":"N"},{"$f":"IF(Worksheet!$C$11=TRUE,\"Y\",\"N\")","v":"N"},{"$f":"IFERROR(Worksheet!AB150,\"\")","v":0}]
[{"$f":"IF(IFERROR(SEARCH(\"Refrigerated\",Worksheet!L151,1),0)>0,122,IF(ISERROR(RIGHT(VLOOKUP(Worksheet!K151,Type!C$1:E$13,3,FALSE),3))=FALSE,RIGHT(VLOOKUP(Worksheet!K151,Type!C$1:E$13,3,FALSE),3),\"\"))","v":""},{"$f":"IF(Worksheet!M151=\"\",\"\",Worksheet!M151)","v":""},{"$f":"IF(Worksheet!N151=\"\",\"\",Worksheet!N151)","v":""},{"$f":"IF(Worksheet!Y151=0,\"\",Worksheet!Y151)","v":""},"Watts",null,null,{"$f":"Worksheet!AA151","v":0},{"$f":"IF(ISBLANK(Worksheet!V151)=FALSE,Worksheet!V151,\"\")","v":0},{"$f":"Worksheet!AG151","v":0},{"$f":"Worksheet!AF151","v":0},0,{"$f":"IF(ISERROR(SEARCH(\"Gas\",Worksheet!$A$18))=TRUE,0,Worksheet!AH151)","v":0},0,null,null,{"$f":"IF(OR(Worksheet!F151=\"Incandescent\",Worksheet!F151=\"Halogen Incandescent\")=TRUE,118,IF(LEFT(Worksheet!F151,3)=\"HID\",117,IF(OR(RIGHT(Worksheet!F151,3)=\"T12\",RIGHT(Worksheet!F151,5)=\"T12HO\")=TRUE,115,IF(OR(RIGHT(Worksheet!F151,2)=\"T8\",RIGHT(Worksheet!F151,4)=\"RWT8\",RIGHT(Worksheet!F151,4)=\"T8HO\")=TRUE,115,\"\"))))","v":""},{"$f":"IF(ISBLANK(Worksheet!W151)=FALSE,Worksheet!W151,\"\")","v":0},{"$f":"IF(ISERROR(SEARCH(\"Oil\",Worksheet!$A$18))=TRUE,0,Worksheet!AH151)","v":0},0,{"$f":"IF(ISERROR(SEARCH(\"Propane\",Worksheet!$A$18))=TRUE,0,Worksheet!AH151)","v":0},0,{"$f":"IF(Worksheet!J151=0,\"\",Worksheet!J151)","v":""},{"$f":"IF(Worksheet!B151=0,\"\",Worksheet!B151)","v":""},{"$f":"IF(Worksheet!K151=0,\"\",Worksheet!K151)","v":""},{"$f":"IF(Worksheet!L151=0,\"\",Worksheet!L151)","v":""},{"$f":"IF(Worksheet!R151=0,\"\",Worksheet!R151)","v":""},{"$f":"IF(Worksheet!F151=0,\"\",Worksheet!F151)","v":""},{"$f":"IF(Worksheet!G151=0,\"\",Worksheet!G151)","v":""},{"$f":"IF(Worksheet!X151=0,\"\",Worksheet!X151)","v":""},{"$f":"IF(Worksheet!Q151=0,\"\",Worksheet!Q151)","v":""},{"$f":"IF(Worksheet!C151=0,\"\",Worksheet!C151)","v":""},{"$f":"IF(Worksheet!D151=0,\"\",Worksheet!D151)","v":""},{"$f":"IF(Worksheet!$A$11=TRUE,\"Y\",\"N\")","v":"N"},{"$f":"IF(Worksheet!$A$12=TRUE,\"Y\",\"N\")","v":"N"},{"$f":"IF(Worksheet!$B$11=TRUE,\"Y\",\"N\")","v":"N"},{"$f":"IF(Worksheet!$B$12=TRUE,\"Y\",\"N\")","v":"N"},{"$f":"IF(Worksheet!$C$11=TRUE,\"Y\",\"N\")","v":"N"},{"$f":"IFERROR(Worksheet!AB151,\"\")","v":0}]
[{"$f":"IF(IFERROR(SEARCH(\"Refrigerated\",Worksheet!L152,1),0)>0,122,IF(ISERROR(RIGHT(VLOOKUP(Worksheet!K152,Type!C$1:E$13,3,FALSE),3))=FALSE,RIGHT(VLOOKUP(Worksheet!K152,Type!C$1:E$13,3,FALSE),3),\"\"))","v":""},{"$f":"IF(Worksheet!M152=\"\",\"\",Worksheet!M152)","v":""},{"$f":"IF(Worksheet!N152=\"\",\"\",Worksheet!N152)","v":""},{"$f":"IF(Worksheet!Y152=0,\"\",Worksheet!Y152)","v":""},"Watts",null,null,{"$f":"Worksheet!AA152","v":0},{"$f":"IF(ISBLANK(Worksheet!V152)=FALSE,Worksheet!V152,\"\")","v":0},{"$f":"Worksheet!AG152","v":0},{"$f":"Worksheet!AF152","v":0},0,{"$f":"IF(ISERROR(SEARCH(\"Gas\",Worksheet!$A$18))=TRUE,0,Worksheet!AH152)","v":0},0,null,null,{"$f":"IF(OR(Worksheet!F152=\"Incandescent\",Worksheet!F152=\"Halogen Incandescent\")=TRUE,118,IF(LEFT(Worksheet!F152,3)=\"HID\",117,IF(OR(RIGHT(Worksheet!F152,3)=\"T12\",RIGHT(Worksheet!F152,5)=\"T12HO\")=TRUE,115,IF(OR(RIGHT(Worksheet!F152,2)=\"T8\",RIGHT(Worksheet!F152,4)=\"RWT8\",RIGHT(Worksheet!F152,4)=\"T8HO\")=TRUE,115,\"\"))))","v":""},{"$f":"IF(ISBLANK(Worksheet!W152)=FALSE,Worksheet!W152,\"\")","v":0},{"$f":"IF(ISERROR(SEARCH(\"Oil\",Worksheet!$A$18))=TRUE,0,Worksheet!AH152)","v":0},0,{"$f":"IF(ISERROR(SEARCH(\"Propane\",Worksheet!$A$18))=TRUE,0,Worksheet!AH152)","v":0},0,{"$f":"IF(Worksheet!J152=0,\"\",Worksheet!J152)","v":""},{"$f":"IF(Worksheet!B152=0,\"\",Worksheet!B152)","v":""},{"$f":"IF(Worksheet!K152=0,\"\",Worksheet!K152)","v":""},{"$f":"IF(Worksheet!L152=0,\"\",Worksheet!L152)","v":""},{"$f":"IF(Worksheet!R152=0,\"\",Worksheet!R152)","v":""},{"$f":"IF(Worksheet!F152=0,\"\",Worksheet!F152)","v":""},{"$f":"IF(Worksheet!G152=0,\"\",Worksheet!G152)","v":""},{"$f":"IF(Worksheet!X152=0,\"\",Worksheet!X152)","v":""},{"$f":"IF(Worksheet!Q152=0,\"\",Worksheet!Q152)","v":""},{"$f":"IF(Worksheet!C152=0,\"\",Worksheet!C152)","v":""},{"$f":"IF(Worksheet!D152=0,\"\",Worksheet!D152)","v":""},{"$f":"IF(Worksheet!$A$11=TRUE,\"Y\",\"N\")","v":"N"},{"$f":"IF(Worksheet!$A$12=TRUE,\"Y\",\"N\")","v":"N"},{"$f":"IF(Worksheet!$B$11=TRUE,\"Y\",\"N\")","v":"N"},{"$f":"IF(Worksheet!$B$12=TRUE,\"Y\",\"N\")","v":"N"},{"$f":"IF(Worksheet!$C$11=TRUE,\"Y\",\"N\")","v":"N"},{"$f":"IFERROR(Worksheet!AB152,\"\")","v":0}]
[{"$f":"IF(IFERROR(SEARCH(\"Refrigerated\",Worksheet!L153,1),0)>0,122,IF(ISERROR(RIGHT(VLOOKUP(Worksheet!K153,Type!C$1:E$13,3,FALSE),3))=FALSE,RIGHT(VLOOKUP(Worksheet!K153,Type!C$1:E$13,3,FALSE),3),\"\"))","v":""},{"$f":"IF(Worksheet!M153=\"\",\"\",Worksheet!M153)","v":""},{"$f":"IF(Worksheet!N153=\"\",\"\",Worksheet!N153)","v":""},{"$f":"IF(Worksheet!Y153=0,\"\",Worksheet!Y153)","v":""},"Watts",null,null,{"$f":"Worksheet!AA153","v":0},{"$f":"IF(ISBLANK(Worksheet!V153)=FALSE,Worksheet!V153,\"\")","v":0},{"$f":"Worksheet!AG153","v":0},{"$f":"Worksheet!AF153","v":0},0,{"$f":"IF(ISERROR(SEARCH(\"Gas\",Worksheet!$A$18))=TRUE,0,Worksheet!AH153)","v":0},0,null,null,{"$f":"IF(OR(Worksheet!F153=\"Incandescent\",Worksheet!F153=\"Halogen Incandescent\")=TRUE,118,IF(LEFT(Worksheet!F153,3)=\"HID\",117,IF(OR(RIGHT(Worksheet!F153,3)=\"T12\",RIGHT(Worksheet!F153,5)=\"T12HO\")=TRUE,115,IF(OR(RIGHT(Worksheet!F153,2)=\"T8\",RIGHT(Worksheet!F153,4)=\"RWT8\",RIGHT(Worksheet!F153,4)=\"T8HO\")=TRUE,115,\"\"))))","v":""},{"$f":"IF(ISBLANK(Worksheet!W153)=FALSE,Worksheet!W153,\"\")","v":0},{"$f":"IF(ISERROR(SEARCH(\"Oil\",Worksheet!$A$18))=TRUE,0,Worksheet!AH153)","v":0},0,{"$f":"IF(ISERROR(SEARCH(\"Propane\",Worksheet!$A$18))=TRUE,0,Worksheet!AH153)","v":0},0,{"$f":"IF(Worksheet!J153=0,\"\",Worksheet!J153)","v":""},{"$f":"IF(Worksheet!B153=0,\"\",Worksheet!B153)","v":""},{"$f":"IF(Worksheet!K153=0,\"\",Worksheet!K153)","v":""},{"$f":"IF(Worksheet!L153=0,\"\",Worksheet!L153)","v":""},{"$f":"IF(Worksheet!R153=0,\"\",Worksheet!R153)","v":""},{"$f":"IF(Worksheet!F153=0,\"\",Worksheet!F153)","v":""},{"$f":"IF(Worksheet!G153=0,\"\",Worksheet!G153)","v":""},{"$f":"IF(Worksheet!X153=0,\"\",Worksheet!X153)","v":""},{"$f":"IF(Worksheet!Q153=0,\"\",Worksheet!Q153)","v":""},{"$f":"IF(Worksheet!C153=0,\"\",Worksheet!C153)","v":""},{"$f":"IF(Worksheet!D153=0,\"\",Worksheet!D153)","v":""},{"$f":"IF(Worksheet!$A$11=TRUE,\"Y\",\"N\")","v":"N"},{"$f":"IF(Worksheet!$A$12=TRUE,\"Y\",\"N\")","v":"N"},{"$f":"IF(Worksheet!$B$11=TRUE,\"Y\",\"N\")","v":"N"},{"$f":"IF(Worksheet!$B$12=TRUE,\"Y\",\"N\")","v":"N"},{"$f":"IF(Worksheet!$C$11=TRUE,\"Y\",\"N\")","v":"N"},{"$f":"IFERROR(Worksheet!AB153,\"\")","v":0}]
[{"$f":"IF(IFERROR(SEARCH(\"Refrigerated\",Worksheet!L154,1),0)>0,122,IF(ISERROR(RIGHT(VLOOKUP(Worksheet!K154,Type!C$1:E$13,3,FALSE),3))=FALSE,RIGHT(VLOOKUP(Worksheet!K154,Type!C$1:E$13,3,FALSE),3),\"\"))","v":""},{"$f":"IF(Worksheet!M154=\"\",\"\",Worksheet!M154)","v":""},{"$f":"IF(Worksheet!N154=\"\",\"\",Worksheet!N154)","v":""},{"$f":"IF(Worksheet!Y154=0,\"\",Worksheet!Y154)","v":""},"Watts",null,null,{"$f":"Worksheet!AA154","v":0},{"$f":"IF(ISBLANK(Worksheet!V154)=FALSE,Worksheet!V154,\"\")","v":0},{"$f":"Worksheet!AG154","v":0},{"$f":"Worksheet!AF154","v":0},0,{"$f":"IF(ISERROR(SEARCH(\"Gas\",Worksheet!$A$18))=TRUE,0,Worksheet!AH154)","v":0},0,null,null,{"$f":"IF(OR(Worksheet!F154=\"Incandescent\",Worksheet!F154=\"Halogen Incandescent\")=TRUE,118,IF(LEFT(Worksheet!F154,3)=\"HID\",117,IF(OR(RIGHT(Worksheet!F154,3)=\"T12\",RIGHT(Worksheet!F154,5)=\"T12HO\")=TRUE,115,IF(OR(RIGHT(Worksheet!F154,2)=\"T8\",RIGHT(Worksheet!F154,4)=\"RWT8\",RIGHT(Worksheet!F154,4)=\"T8HO\")=TRUE,115,\"\"))))","v":""},{"$f":"IF(ISBLANK(Worksheet!W154)=FALSE,Worksheet!W154,\"\")","v":0},{"$f":"IF(ISERROR(SEARCH(\"Oil\",Worksheet!$A$18))=TRUE,0,Worksheet!AH154)","v":0},0,{"$f":"IF(ISERROR(SEARCH(\"Propane\",Worksheet!$A$18))=TRUE,0,Worksheet!AH154)","v":0},0,{"$f":"IF(Worksheet!J154=0,\"\",Worksheet!J154)","v":""},{"$f":"IF(Worksheet!B154=0,\"\",Worksheet!B154)","v":""},{"$f":"IF(Worksheet!K154=0,\"\",Worksheet!K154)","v":""},{"$f":"IF(Worksheet!L154=0,\"\",Worksheet!L154)","v":""},{"$f":"IF(Worksheet!R154=0,\"\",Worksheet!R154)","v":""},{"$f":"IF(Worksheet!F154=0,\"\",Worksheet!F154)","v":""},{"$f":"IF(Worksheet!G154=0,\"\",Worksheet!G154)","v":""},{"$f":"IF(Worksheet!X154=0,\"\",Worksheet!X154)","v":""},{"$f":"IF(Worksheet!Q154=0,\"\",Worksheet!Q154)","v":""},{"$f":"IF(Worksheet!C154=0,\"\",Worksheet!C154)","v":""},{"$f":"IF(Worksheet!D154=0,\"\",Worksheet!D154)","v":""},{"$f":"IF(Worksheet!$A$11=TRUE,\"Y\",\"N\")","v":"N"},{"$f":"IF(Worksheet!$A$12=TRUE,\"Y\",\"N\")","v":"N"},{"$f":"IF(Worksheet!$B$11=TRUE,\"Y\",\"N\")","v":"N"},{"$f":"IF(Worksheet!$B$12=TRUE,\"Y\",\"N\")","v":"N"},{"$f":"IF(Worksheet!$C$11=TRUE,\"Y\",\"N\")","v":"N"},{"$f":"IFERROR(Worksheet!AB154,\"\")","v":0}]
[{"$f":"IF(IFERROR(SEARCH(\"Refrigerated\",Worksheet!L155,1),0)>0,122,IF(ISERROR(RIGHT(VLOOKUP(Worksheet!K155,Type!C$1:E$13,3,FALSE),3))=FALSE,RIGHT(VLOOKUP(Worksheet!K155,Type!C$1:E$13,3,FALSE),3),\"\"))","v":""},{"$f":"IF(Worksheet!M155=\"\",\"\",Worksheet!M155)","v":""},{"$f":"IF(Worksheet!N155=\"\",\"\",Worksheet!N155)","v":""},{"$f":"IF(Worksheet!Y155=0,\"\",Worksheet!Y155)","v":""},"Watts",null,null,{"$f":"Worksheet!AA155","v":0},{"$f":"IF(ISBLANK(Worksheet!V155)=FALSE,Worksheet!V155,\"\")","v":0},{"$f":"Worksheet!AG155","v":0},{"$f":"Worksheet!AF155","v":0},0,{"$f":"IF(ISERROR(SEARCH(\"Gas\",Worksheet!$A$18))=TRUE,0,Worksheet!AH155)","v":0},0,null,null,{"$f":"IF(OR(Worksheet!F155=\"Incandescent\",Worksheet!F155=\"Halogen Incandescent\")=TRUE,118,IF(LEFT(Worksheet!F155,3)=\"HID\",117,IF(OR(RIGHT(Worksheet!F155,3)=\"T12\",RIGHT(Worksheet!F155,5)=\"T12HO\")=TRUE,115,IF(OR(RIGHT(Worksheet!F155,2)=\"T8\",RIGHT(Worksheet!F155,4)=\"RWT8\",RIGHT(Worksheet!F155,4)=\"T8HO\")=TRUE,115,\"\"))))","v":""},{"$f":"IF(ISBLANK(Worksheet!W155)=FALSE,Worksheet!W155,\"\")","v":0},{"$f":"IF(ISERROR(SEARCH(\"Oil\",Worksheet!$A$18))=TRUE,0,Worksheet!AH155)","v":0},0,{"$f":"IF(ISERROR(SEARCH(\"Propane\",Worksheet!$A$18))=TRUE,0,Worksheet!AH155)","v":0},0,{"$f":"IF(Worksheet!J155=0,\"\",Worksheet!J155)","v":""},{"$f":"IF(Worksheet!B155=0,\"\",Worksheet!B155)","v":""},{"$f":"IF(Worksheet!K155=0,\"\",Worksheet!K155)","v":""},{"$f":"IF(Worksheet!L155=0,\"\",Worksheet!L155)","v":""},{"$f":"IF(Worksheet!R155=0,\"\",Worksheet!R155)","v":""},{"$f":"IF(Worksheet!F155=0,\"\",Worksheet!F155)","v":""},{"$f":"IF(Worksheet!G155=0,\"\",Worksheet!G155)","v":""},{"$f":"IF(Worksheet!X155=0,\"\",Worksheet!X155)","v":""},{"$f":"IF(Worksheet!Q155=0,\"\",Worksheet!Q155)","v":""},{"$f":"IF(Worksheet!C155=0,\"\",Worksheet!C155)","v":""},{"$f":"IF(Worksheet!D155=0,\"\",Worksheet!D155)","v":""},{"$f":"IF(Worksheet!$A$11=TRUE,\"Y\",\"N\")","v":"N"},{"$f":"IF(Worksheet!$A$12=TRUE,\"Y\",\"N\")","v":"N"},{"$f":"IF(Worksheet!$B$11=TRUE,\"Y\",\"N\")","v":"N"},{"$f":"IF(Worksheet!$B$12=TRUE,\"Y\",\"N\")","v":"N"},{"$f":"IF(Worksheet!$C$11=TRUE,\"Y\",\"N\")","v":"N"},{"$f":"IFERROR(Worksheet!AB155,\"\")","v":0}]
[{"$f":"IF(IFERROR(SEARCH(\"Refrigerated\",Worksheet!L156,1),0)>0,122,IF(ISERROR(RIGHT(VLOOKUP(Worksheet!K156,Type!C$1:E$13,3,FALSE),3))=FALSE,RIGHT(VLOOKUP(Worksheet!K156,Type!C$1:E$13,3,FALSE),3),\"\"))","v":""},{"$f":"IF(Worksheet!M156=\"\",\"\",Worksheet!M156)","v":""},{"$f":"IF(Worksheet!N156=\"\",\"\",Worksheet!N156)","v":""},{"$f":"IF(Worksheet!Y156=0,\"\",Worksheet!Y156)","v":""},"Watts",null,null,{"$f":"Worksheet!AA156","v":0},{"$f":"IF(ISBLANK(Worksheet!V156)=FALSE,Worksheet!V156,\"\")","v":0},{"$f":"Worksheet!AG156","v":0},{"$f":"Worksheet!AF156","v":0},0,{"$f":"IF(ISERROR(SEARCH(\"Gas\",Worksheet!$A$18))=TRUE,0,Worksheet!AH156)","v":0},0,null,null,{"$f":"IF(OR(Worksheet!F156=\"Incandescent\",Worksheet!F156=\"Halogen Incandescent\")=TRUE,118,IF(LEFT(Worksheet!F156,3)=\"HID\",117,IF(OR(RIGHT(Worksheet!F156,3)=\"T12\",RIGHT(Worksheet!F156,5)=\"T12HO\")=TRUE,115,IF(OR(RIGHT(Worksheet!F156,2)=\"T8\",RIGHT(Worksheet!F156,4)=\"RWT8\",RIGHT(Worksheet!F156,4)=\"T8HO\")=TRUE,115,\"\"))))","v":""},{"$f":"IF(ISBLANK(Worksheet!W156)=FALSE,Worksheet!W156,\"\")","v":0},{"$f":"IF(ISERROR(SEARCH(\"Oil\",Worksheet!$A$18))=TRUE,0,Worksheet!AH156)","v":0},0,{"$f":"IF(ISERROR(SEARCH(\"Propane\",Worksheet!$A$18))=TRUE,0,Worksheet!AH156)","v":0},0,{"$f":"IF(Worksheet!J156=0,\"\",Worksheet!J156)","v":""},{"$f":"IF(Worksheet!B156=0,\"\",Worksheet!B156)","v":""},{"$f":"IF(Worksheet!K156=0,\"\",Worksheet!K156)","v":""},{"$f":"IF(Worksheet!L156=0,\"\",Worksheet!L156)","v":""},{"$f":"IF(Worksheet!R156=0,\"\",Worksheet!R156)","v":""},{"$f":"IF(Worksheet!F156=0,\"\",Worksheet!F156)","v":""},{"$f":"IF(Worksheet!G156=0,\"\",Worksheet!G156)","v":""},{"$f":"IF(Worksheet!X156=0,\"\",Worksheet!X156)","v":""},{"$f":"IF(Worksheet!Q156=0,\"\",Worksheet!Q156)","v":""},{"$f":"IF(Worksheet!C156=0,\"\",Worksheet!C156)","v":""},{"$f":"IF(Worksheet!D156=0,\"\",Worksheet!D156)","v":""},{"$f":"IF(Worksheet!$A$11=TRUE,\"Y\",\"N\")","v":"N"},{"$f":"IF(Worksheet!$A$12=TRUE,\"Y\",\"N\")","v":"N"},{"$f":"IF(Worksheet!$B$11=TRUE,\"Y\",\"N\")","v":"N"},{"$f":"IF(Worksheet!$B$12=TRUE,\"Y\",\"N\")","v":"N"},{"$f":"IF(Worksheet!$C$11=TRUE,\"Y\",\"N\")","v":"N"},{"$f":"IFERROR(Worksheet!AB156,\"\")","v":0}]
[{"$f":"IF(IFERROR(SEARCH(\"Refrigerated\",Worksheet!L157,1),0)>0,122,IF(ISERROR(RIGHT(VLOOKUP(Worksheet!K157,Type!C$1:E$13,3,FALSE),3))=FALSE,RIGHT(VLOOKUP(Worksheet!K157,Type!C$1:E$13,3,FALSE),3),\"\"))","v":""},{"$f":"IF(Worksheet!M157=\"\",\"\",Worksheet!M157)","v":""},{"$f":"IF(Worksheet!N157=\"\",\"\",Worksheet!N157)","v":""},{"$f":"IF(Worksheet!Y157=0,\"\",Worksheet!Y157)","v":""},"Watts",null,null,{"$f":"Worksheet!AA157","v":0},{"$f":"IF(ISBLANK(Worksheet!V157)=FALSE,Worksheet!V157,\"\")","v":0},{"$f":"Worksheet!AG157","v":0},{"$f":"Worksheet!AF157","v":0},{"$f":"J131*IF(A131=122,16,15)","v":0},{"$f":"IF(ISERROR(SEARCH(\"Gas\",Worksheet!$A$18))=TRUE,0,Worksheet!AH157)","v":0},{"$f":"M131*IF(A131=122,16,15)","v":0},null,null,{"$f":"IF(OR(Worksheet!F157=\"Incandescent\",Worksheet!F157=\"Halogen Incandescent\")=TRUE,118,IF(LEFT(Worksheet!F157,3)=\"HID\",117,IF(OR(RIGHT(Worksheet!F157,3)=\"T12\",RIGHT(Worksheet!F157,5)=\"T12HO\")=TRUE,115,IF(OR(RIGHT(Worksheet!F157,2)=\"T8\",RIGHT(Worksheet!F157,4)=\"RWT8\",RIGHT(Worksheet!F157,4)=\"T8HO\")=TRUE,115,\"\"))))","v":""},{"$f":"IF(ISBLANK(Worksheet!W157)=FALSE,Worksheet!W157,\"\")","v":0},{"$f":"IF(ISERROR(SEARCH(\"Oil\",Worksheet!$A$18))=TRUE,0,Worksheet!AH157)","v":0},{"$f":"S131*IF(A131=122,16,15)","v":0},{"$f":"IF(ISERROR(SEARCH(\"Propane\",Worksheet!$A$18))=TRUE,0,Worksheet!AH157)","v":0},{"$f":"U131*IF(A131=122,16,15)","v":0},{"$f":"IF(Worksheet!J157=0,\"\",Worksheet!J157)","v":""},{"$f":"IF(Worksheet!B157=0,\"\",Worksheet!B157)","v":""},{"$f":"IF(Worksheet!K157=0,\"\",Worksheet!K157)","v":""},{"$f":"IF(Worksheet!L157=0,\"\",Worksheet!L157)","v":""},{"$f":"IF(Worksheet!R157=0,\"\",Worksheet!R157)","v":""},{"$f":"IF(Worksheet!F157=0,\"\",Worksheet!F157)","v":""},{"$f":"IF(Worksheet!G157=0,\"\",Worksheet!G157)","v":""},{"$f":"IF(Worksheet!X157=0,\"\",Worksheet!X157)","v":""},{"$f":"IF(Worksheet!Q157=0,\"\",Worksheet!Q157)","v":""},{"$f":"IF(Worksheet!C157=0,\"\",Worksheet!C157)","v":""},{"$f":"IF(Worksheet!D157=0,\"\",Worksheet!D157)","v":""},{"$f":"IF(Worksheet!$A$11=TRUE,\"Y\",\"N\")","v":"N"},{"$f":"IF(Worksheet!$A$12=TRUE,\"Y\",\"N\")","v":"N"},{"$f":"IF(Worksheet!$B$11=TRUE,\"Y\",\"N\")","v":"N"},{"$f":"IF(Worksheet!$B$12=TRUE,\"Y\",\"N\")","v":"N"},{"$f":"IF(Worksheet!$C$11=TRUE,\"Y\",\"N\")","v":"N"},{"$f":"IFERROR(Worksheet!AB157,\"\")","v":0}]
[{"$f":"IF(IFERROR(SEARCH(\"Refrigerated\",Worksheet!L158,1),0)>0,122,IF(ISERROR(RIGHT(VLOOKUP(Worksheet!K158,Type!C$1:E$13,3,FALSE),3))=FALSE,RIGHT(VLOOKUP(Worksheet!K158,Type!C$1:E$13,3,FALSE),3),\"\"))","v":""},{"$f":"IF(Worksheet!M158=\"\",\"\",Worksheet!M158)","v":""},{"$f":"IF(Worksheet!N158=\"\",\"\",Worksheet!N158)","v":""},{"$f":"IF(Worksheet!Y158=0,\"\",Worksheet!Y158)","v":""},"Watts",null,null,{"$f":"Worksheet!AA158","v":0},{"$f":"IF(ISBLANK(Worksheet!V158)=FALSE,Worksheet!V158,\"\")","v":0},{"$f":"Worksheet!AG158","v":0},{"$f":"Worksheet!AF158","v":0},0,{"$f":"IF(ISERROR(SEARCH(\"Gas\",Worksheet!$A$18))=TRUE,0,Worksheet!AH158)","v":0},0,null,null,{"$f":"IF(OR(Worksheet!F158=\"Incandescent\",Worksheet!F158=\"Halogen Incandescent\")=TRUE,118,IF(LEFT(Worksheet!F158,3)=\"HID\",117,IF(OR(RIGHT(Worksheet!F158,3)=\"T12\",RIGHT(Worksheet!F158,5)=\"T12HO\")=TRUE,115,IF(OR(RIGHT(Worksheet!F158,2)=\"T8\",RIGHT(Worksheet!F158,4)=\"RWT8\",RIGHT(Worksheet!F158,4)=\"T8HO\")=TRUE,115,\"\"))))","v":""},{"$f":"IF(ISBLANK(Worksheet!W158)=FALSE,Worksheet!W158,\"\")","v":0},{"$f":"IF(ISERROR(SEARCH(\"Oil\",Worksheet!$A$18))=TRUE,0,Worksheet!AH158)","v":0},0,{"$f":"IF(ISERROR(SEARCH(\"Propane\",Worksheet!$A$18))=TRUE,0,Worksheet!AH158)","v":0},0,{"$f":"IF(Worksheet!J158=0,\"\",Worksheet!J158)","v":""},{"$f":"IF(Worksheet!B158=0,\"\",Worksheet!B158)","v":""},{"$f":"IF(Worksheet!K158=0,\"\",Worksheet!K158)","v":""},{"$f":"IF(Worksheet!L158=0,\"\",Worksheet!L158)","v":""},{"$f":"IF(Worksheet!R158=0,\"\",Worksheet!R158)","v":""},{"$f":"IF(Worksheet!F158=0,\"\",Worksheet!F158)","v":""},{"$f":"IF(Worksheet!G158=0,\"\",Worksheet!G158)","v":""},{"$f":"IF(Worksheet!X158=0,\"\",Worksheet!X158)","v":""},{"$f":"IF(Worksheet!Q158=0,\"\",Worksheet!Q158)","v":""},{"$f":"IF(Worksheet!C158=0,\"\",Worksheet!C158)","v":""},{"$f":"IF(Worksheet!D158=0,\"\",Worksheet!D158)","v":""},{"$f":"IF(Worksheet!$A$11=TRUE,\"Y\",\"N\")","v":"N"},{"$f":"IF(Worksheet!$A$12=TRUE,\"Y\",\"N\")","v":"N"},{"$f":"IF(Worksheet!$B$11=TRUE,\"Y\",\"N\")","v":"N"},{"$f":"IF(Worksheet!$B$12=TRUE,\"Y\",\"N\")","v":"N"},{"$f":"IF(Worksheet!$C$11=TRUE,\"Y\",\"N\")","v":"N"},{"$f":"IFERROR(Worksheet!AB158,\"\")","v":0}]
[{"$f":"IF(IFERROR(SEARCH(\"Refrigerated\",Worksheet!L159,1),0)>0,122,IF(ISERROR(RIGHT(VLOOKUP(Worksheet!K159,Type!C$1:E$13,3,FALSE),3))=FALSE,RIGHT(VLOOKUP(Worksheet!K159,Type!C$1:E$13,3,FALSE),3),\"\"))","v":""},{"$f":"IF(Worksheet!M159=\"\",\"\",Worksheet!M159)","v":""},{"$f":"IF(Worksheet!N159=\"\",\"\",Worksheet!N159)","v":""},{"$f":"IF(Worksheet!Y159=0,\"\",Worksheet!Y159)","v":""},"Watts",null,null,{"$f":"Worksheet!AA159","v":0},{"$f":"IF(ISBLANK(Worksheet!V159)=FALSE,Worksheet!V159,\"\")","v":0},{"$f":"Worksheet!AG159","v":0},{"$f":"Worksheet!AF159","v":0},0,{"$f":"IF(ISERROR(SEARCH(\"Gas\",Worksheet!$A$18))=TRUE,0,Worksheet!AH159)","v":0},0,null,null,{"$f":"IF(OR(Worksheet!F159=\"Incandescent\",Worksheet!F159=\"Halogen Incandescent\")=TRUE,118,IF(LEFT(Worksheet!F159,3)=\"HID\",117,IF(OR(RIGHT(Worksheet!F159,3)=\"T12\",RIGHT(Worksheet!F159,5)=\"T12HO\")=TRUE,115,IF(OR(RIGHT(Worksheet!F159,2)=\"T8\",RIGHT(Worksheet!F159,4)=\"RWT8\",RIGHT(Worksheet!F159,4)=\"T8HO\")=TRUE,115,\"\"))))","v":""},{"$f":"IF(ISBLANK(Worksheet!W159)=FALSE,Worksheet!W159,\"\")","v":0},{"$f":"IF(ISERROR(SEARCH(\"Oil\",Worksheet!$A$18))=TRUE,0,Worksheet!AH159)","v":0},0,{"$f":"IF(ISERROR(SEARCH(\"Propane\",Worksheet!$A$18))=TRUE,0,Worksheet!AH159)","v":0},0,{"$f":"IF(Worksheet!J159=0,\"\",Worksheet!J159)","v":""},{"$f":"IF(Worksheet!B159=0,\"\",Worksheet!B159)","v":""},{"$f":"IF(Worksheet!K159=0,\"\",Worksheet!K159)","v":""},{"$f":"IF(Worksheet!L159=0,\"\",Worksheet!L159)","v":""},{"$f":"IF(Worksheet!R159=0,\"\",Worksheet!R159)","v":""},{"$f":"IF(Worksheet!F159=0,\"\",Worksheet!F159)","v":""},{"$f":"IF(Worksheet!G159=0,\"\",Worksheet!G159)","v":""},{"$f":"IF(Worksheet!X159=0,\"\",Worksheet!X159)","v":""},{"$f":"IF(Worksheet!Q159=0,\"\",Worksheet!Q159)","v":""},{"$f":"IF(Worksheet!C159=0,\"\",Worksheet!C159)","v":""},{"$f":"IF(Worksheet!D159=0,\"\",Worksheet!D159)","v":""},{"$f":"IF(Worksheet!$A$11=TRUE,\"Y\",\"N\")","v":"N"},{"$f":"IF(Worksheet!$A$12=TRUE,\"Y\",\"N\")","v":"N"},{"$f":"IF(Worksheet!$B$11=TRUE,\"Y\",\"N\")","v":"N"},{"$f":"IF(Worksheet!$B$12=TRUE,\"Y\",\"N\")","v":"N"},{"$f":"IF(Worksheet!$C$11=TRUE,\"Y\",\"N\")","v":"N"},{"$f":"IFERROR(Worksheet!AB159,\"\")","v":0}]
[{"$f":"IF(IFERROR(SEARCH(\"Refrigerated\",Worksheet!L160,1),0)>0,122,IF(ISERROR(RIGHT(VLOOKUP(Worksheet!K160,Type!C$1:E$13,3,FALSE),3))=FALSE,RIGHT(VLOOKUP(Worksheet!K160,Type!C$1:E$13,3,FALSE),3),\"\"))","v":""},{"$f":"IF(Worksheet!M160=\"\",\"\",Worksheet!M160)","v":""},{"$f":"IF(Worksheet!N160=\"\",\"\",Worksheet!N160)","v":""},{"$f":"IF(Worksheet!Y160=0,\"\",Worksheet!Y160)","v":""},"Watts",null,null,{"$f":"Worksheet!AA160","v":0},{"$f":"IF(ISBLANK(Worksheet!V160)=FALSE,Worksheet!V160,\"\")","v":0},{"$f":"Worksheet!AG160","v":0},{"$f":"Worksheet!AF160","v":0},0,{"$f":"IF(ISERROR(SEARCH(\"Gas\",Worksheet!$A$18))=TRUE,0,Worksheet!AH160)","v":0},0,null,null,{"$f":"IF(OR(Worksheet!F160=\"Incandescent\",Worksheet!F160=\"Halogen Incandescent\")=TRUE,118,IF(LEFT(Worksheet!F160,3)=\"HID\",117,IF(OR(RIGHT(Worksheet!F160,3)=\"T12\",RIGHT(Worksheet!F160,5)=\"T12HO\")=TRUE,115,IF(OR(RIGHT(Worksheet!F160,2)=\"T8\",RIGHT(Worksheet!F160,4)=\"RWT8\",RIGHT(Worksheet!F160,4)=\"T8HO\")=TRUE,115,\"\"))))","v":""},{"$f":"IF(ISBLANK(Worksheet!W160)=FALSE,Worksheet!W160,\"\")","v":0},{"$f":"IF(ISERROR(SEARCH(\"Oil\",Worksheet!$A$18))=TRUE,0,Worksheet!AH160)","v":0},0,{"$f":"IF(ISERROR(SEARCH(\"Propane\",Worksheet!$A$18))=TRUE,0,Worksheet!AH160)","v":0},0,{"$f":"IF(Worksheet!J160=0,\"\",Worksheet!J160)","v":""},{"$f":"IF(Worksheet!B160=0,\"\",Worksheet!B160)","v":""},{"$f":"IF(Worksheet!K160=0,\"\",Worksheet!K160)","v":""},{"$f":"IF(Worksheet!L160=0,\"\",Worksheet!L160)","v":""},{"$f":"IF(Worksheet!R160=0,\"\",Worksheet!R160)","v":""},{"$f":"IF(Worksheet!F160=0,\"\",Worksheet!F160)","v":""},{"$f":"IF(Worksheet!G160=0,\"\",Worksheet!G160)","v":""},{"$f":"IF(Worksheet!X160=0,\"\",Worksheet!X160)","v":""},{"$f":"IF(Worksheet!Q160=0,\"\",Worksheet!Q160)","v":""},{"$f":"IF(Worksheet!C160=0,\"\",Worksheet!C160)","v":""},{"$f":"IF(Worksheet!D160=0,\"\",Worksheet!D160)","v":""},{"$f":"IF(Worksheet!$A$11=TRUE,\"Y\",\"N\")","v":"N"},{"$f":"IF(Worksheet!$A$12=TRUE,\"Y\",\"N\")","v":"N"},{"$f":"IF(Worksheet!$B$11=TRUE,\"Y\",\"N\")","v":"N"},{"$f":"IF(Worksheet!$B$12=TRUE,\"Y\",\"N\")","v":"N"},{"$f":"IF(Worksheet!$C$11=TRUE,\"Y\",\"N\")","v":"N"},{"$f":"IFERROR(Worksheet!AB160,\"\")","v":0}]
[{"$f":"IF(IFERROR(SEARCH(\"Refrigerated\",Worksheet!L161,1),0)>0,122,IF(ISERROR(RIGHT(VLOOKUP(Worksheet!K161,Type!C$1:E$13,3,FALSE),3))=FALSE,RIGHT(VLOOKUP(Worksheet!K161,Type!C$1:E$13,3,FALSE),3),\"\"))","v":""},{"$f":"IF(Worksheet!M161=\"\",\"\",Worksheet!M161)","v":""},{"$f":"IF(Worksheet!N161=\"\",\"\",Worksheet!N161)","v":""},{"$f":"IF(Worksheet!Y161=0,\"\",Worksheet!Y161)","v":""},"Watts",null,null,{"$f":"Worksheet!AA161","v":0},{"$f":"IF(ISBLANK(Worksheet!V161)=FALSE,Worksheet!V161,\"\")","v":0},{"$f":"Worksheet!AG161","v":0},{"$f":"Worksheet!AF161","v":0},0,{"$f":"IF(ISERROR(SEARCH(\"Gas\",Worksheet!$A$18))=TRUE,0,Worksheet!AH161)","v":0},0,null,null,{"$f":"IF(OR(Worksheet!F161=\"Incandescent\",Worksheet!F161=\"Halogen Incandescent\")=TRUE,118,IF(LEFT(Worksheet!F161,3)=\"HID\",117,IF(OR(RIGHT(Worksheet!F161,3)=\"T12\",RIGHT(Worksheet!F161,5)=\"T12HO\")=TRUE,115,IF(OR(RIGHT(Worksheet!F161,2)=\"T8\",RIGHT(Worksheet!F161,4)=\"RWT8\",RIGHT(Worksheet!F161,4)=\"T8HO\")=TRUE,115,\"\"))))","v":""},{"$f":"IF(ISBLANK(Worksheet!W161)=FALSE,Worksheet!W161,\"\")","v":0},{"$f":"IF(ISERROR(SEARCH(\"Oil\",Worksheet!$A$18))=TRUE,0,Worksheet!AH161)","v":0},0,{"$f":"IF(ISERROR(SEARCH(\"Propane\",Worksheet!$A$18))=TRUE,0,Worksheet!AH161)","v":0},0,{"$f":"IF(Worksheet!J161=0,\"\",Worksheet!J161)","v":""},{"$f":"IF(Worksheet!B161=0,\"\",Worksheet!B161)","v":""},{"$f":"IF(Worksheet!K161=0,\"\",Worksheet!K161)","v":""},{"$f":"IF(Worksheet!L161=0,\"\",Worksheet!L161)","v":""},{"$f":"IF(Worksheet!R161=0,\"\",Worksheet!R161)","v":""},{"$f":"IF(Worksheet!F161=0,\"\",Worksheet!F161)","v":""},{"$f":"IF(Worksheet!G161=0,\"\",Worksheet!G161)","v":""},{"$f":"IF(Worksheet!X161=0,\"\",Worksheet!X161)","v":""},{"$f":"IF(Worksheet!Q161=0,\"\",Worksheet!Q161)","v":""},{"$f":"IF(Worksheet!C161=0,\"\",Worksheet!C161)","v":""},{"$f":"IF(Worksheet!D161=0,\"\",Worksheet!D161)","v":""},{"$f":"IF(Worksheet!$A$11=TRUE,\"Y\",\"N\")","v":"N"},{"$f":"IF(Worksheet!$A$12=TRUE,\"Y\",\"N\")","v":"N"},{"$f":"IF(Worksheet!$B$11=TRUE,\"Y\",\"N\")","v":"N"},{"$f":"IF(Worksheet!$B$12=TRUE,\"Y\",\"N\")","v":"N"},{"$f":"IF(Worksheet!$C$11=TRUE,\"Y\",\"N\")","v":"N"},{"$f":"IFERROR(Worksheet!AB161,\"\")","v":0}]
[{"$f":"IF(IFERROR(SEARCH(\"Refrigerated\",Worksheet!L162,1),0)>0,122,IF(ISERROR(RIGHT(VLOOKUP(Worksheet!K162,Type!C$1:E$13,3,FALSE),3))=FALSE,RIGHT(VLOOKUP(Worksheet!K162,Type!C$1:E$13,3,FALSE),3),\"\"))","v":""},{"$f":"IF(Worksheet!M162=\"\",\"\",Worksheet!M162)","v":""},{"$f":"IF(Worksheet!N162=\"\",\"\",Worksheet!N162)","v":""},{"$f":"IF(Worksheet!Y162=0,\"\",Worksheet!Y162)","v":""},"Watts",null,null,{"$f":"Worksheet!AA162","v":0},{"$f":"IF(ISBLANK(Worksheet!V162)=FALSE,Worksheet!V162,\"\")","v":0},{"$f":"Worksheet!AG162","v":0},{"$f":"Worksheet!AF162","v":0},0,{"$f":"IF(ISERROR(SEARCH(\"Gas\",Worksheet!$A$18))=TRUE,0,Worksheet!AH162)","v":0},0,null,null,{"$f":"IF(OR(Worksheet!F162=\"Incandescent\",Worksheet!F162=\"Halogen Incandescent\")=TRUE,118,IF(LEFT(Worksheet!F162,3)=\"HID\",117,IF(OR(RIGHT(Worksheet!F162,3)=\"T12\",RIGHT(Worksheet!F162,5)=\"T12HO\")=TRUE,115,IF(OR(RIGHT(Worksheet!F162,2)=\"T8\",RIGHT(Worksheet!F162,4)=\"RWT8\",RIGHT(Worksheet!F162,4)=\"T8HO\")=TRUE,115,\"\"))))","v":""},{"$f":"IF(ISBLANK(Worksheet!W162)=FALSE,Worksheet!W162,\"\")","v":0},{"$f":"IF(ISERROR(SEARCH(\"Oil\",Worksheet!$A$18))=TRUE,0,Worksheet!AH162)","v":0},0,{"$f":"IF(ISERROR(SEARCH(\"Propane\",Worksheet!$A$18))=TRUE,0,Worksheet!AH162)","v":0},0,{"$f":"IF(Worksheet!J162=0,\"\",Worksheet!J162)","v":""},{"$f":"IF(Worksheet!B162=0,\"\",Worksheet!B162)","v":""},{"$f":"IF(Worksheet!K162=0,\"\",Worksheet!K162)","v":""},{"$f":"IF(Worksheet!L162=0,\"\",Worksheet!L162)","v":""},{"$f":"IF(Worksheet!R162=0,\"\",Worksheet!R162)","v":""},{"$f":"IF(Worksheet!F162=0,\"\",Worksheet!F162)","v":""},{"$f":"IF(Worksheet!G162=0,\"\",Worksheet!G162)","v":""},{"$f":"IF(Worksheet!X162=0,\"\",Worksheet!X162)","v":""},{"$f":"IF(Worksheet!Q162=0,\"\",Worksheet!Q162)","v":""},{"$f":"IF(Worksheet!C162=0,\"\",Worksheet!C162)","v":""},{"$f":"IF(Worksheet!D162=0,\"\",Worksheet!D162)","v":""},{"$f":"IF(Worksheet!$A$11=TRUE,\"Y\",\"N\")","v":"N"},{"$f":"IF(Worksheet!$A$12=TRUE,\"Y\",\"N\")","v":"N"},{"$f":"IF(Worksheet!$B$11=TRUE,\"Y\",\"N\")","v":"N"},{"$f":"IF(Worksheet!$B$12=TRUE,\"Y\",\"N\")","v":"N"},{"$f":"IF(Worksheet!$C$11=TRUE,\"Y\",\"N\")","v":"N"},{"$f":"IFERROR(Worksheet!AB162,\"\")","v":0}]
[{"$f":"IF(IFERROR(SEARCH(\"Refrigerated\",Worksheet!L163,1),0)>0,122,IF(ISERROR(RIGHT(VLOOKUP(Worksheet!K163,Type!C$1:E$13,3,FALSE),3))=FALSE,RIGHT(VLOOKUP(Worksheet!K163,Type!C$1:E$13,3,FALSE),3),\"\"))","v":""},{"$f":"IF(Worksheet!M163=\"\",\"\",Worksheet!M163)","v":""},{"$f":"IF(Worksheet!N163=\"\",\"\",Worksheet!N163)","v":""},{"$f":"IF(Worksheet!Y163=0,\"\",Worksheet!Y163)","v":""},"Watts",null,null,{"$f":"Worksheet!AA163","v":0},{"$f":"IF(ISBLANK(Worksheet!V163)=FALSE,Worksheet!V163,\"\")","v":0},{"$f":"Worksheet!AG163","v":0},{"$f":"Worksheet!AF163","v":0},0,{"$f":"IF(ISERROR(SEARCH(\"Gas\",Worksheet!$A$18))=TRUE,0,Worksheet!AH163)","v":0},0,null,null,{"$f":"IF(OR(Worksheet!F163=\"Incandescent\",Worksheet!F163=\"Halogen Incandescent\")=TRUE,118,IF(LEFT(Worksheet!F163,3)=\"HID\",117,IF(OR(RIGHT(Worksheet!F163,3)=\"T12\",RIGHT(Worksheet!F163,5)=\"T12HO\")=TRUE,115,IF(OR(RIGHT(Worksheet!F163,2)=\"T8\",RIGHT(Worksheet!F163,4)=\"RWT8\",RIGHT(Worksheet!F163,4)=\"T8HO\")=TRUE,115,\"\"))))","v":""},{"$f":"IF(ISBLANK(Worksheet!W163)=FALSE,Worksheet!W163,\"\")","v":0},{"$f":"IF(ISERROR(SEARCH(\"Oil\",Worksheet!$A$18))=TRUE,0,Worksheet!AH163)","v":0},0,{"$f":"IF(ISERROR(SEARCH(\"Propane\",Worksheet!$A$18))=TRUE,0,Worksheet!AH163)","v":0},0,{"$f":"IF(Worksheet!J163=0,\"\",Worksheet!J163)","v":""},{"$f":"IF(Worksheet!B163=0,\"\",Worksheet!B163)","v":""},{"$f":"IF(Worksheet!K163=0,\"\",Worksheet!K163)","v":""},{"$f":"IF(Worksheet!L163=0,\"\",Worksheet!L163)","v":""},{"$f":"IF(Worksheet!R163=0,\"\",Worksheet!R163)","v":""},{"$f":"IF(Worksheet!F163=0,\"\",Worksheet!F163)","v":""},{"$f":"IF(Worksheet!G163=0,\"\",Worksheet!G163)","v":""},{"$f":"IF(Worksheet!X163=0,\"\",Worksheet!X163)","v":""},{"$f":"IF(Worksheet!Q163=0,\"\",Worksheet!Q163)","v":""},{"$f":"IF(Worksheet!C163=0,\"\",Worksheet!C163)","v":""},{"$f":"IF(Worksheet!D163=0,\"\",Worksheet!D163)","v":""},{"$f":"IF(Worksheet!$A$11=TRUE,\"Y\",\"N\")","v":"N"},{"$f":"IF(Worksheet!$A$12=TRUE,\"Y\",\"N\")","v":"N"},{"$f":"IF(Worksheet!$B$11=TRUE,\"Y\",\"N\")","v":"N"},{"$f":"IF(Worksheet!$B$12=TRUE,\"Y\",\"N\")","v":"N"},{"$f":"IF(Worksheet!$C$11=TRUE,\"Y\",\"N\")","v":"N"},{"$f":"IFERROR(Worksheet!AB163,\"\")","v":0}]
[{"$f":"IF(IFERROR(SEARCH(\"Refrigerated\",Worksheet!L164,1),0)>0,122,IF(ISERROR(RIGHT(VLOOKUP(Worksheet!K164,Type!C$1:E$13,3,FALSE),3))=FALSE,RIGHT(VLOOKUP(Worksheet!K164,Type!C$1:E$13,3,FALSE),3),\"\"))","v":""},{"$f":"IF(Worksheet!M164=\"\",\"\",Worksheet!M164)","v":""},{"$f":"IF(Worksheet!N164=\"\",\"\",Worksheet!N164)","v":""},{"$f":"IF(Worksheet!Y164=0,\"\",Worksheet!Y164)","v":""},"Watts",null,null,{"$f":"Worksheet!AA164","v":0},{"$f":"IF(ISBLANK(Worksheet!V164)=FALSE,Worksheet!V164,\"\")","v":0},{"$f":"Worksheet!AG164","v":0},{"$f":"Worksheet!AF164","v":0},0,{"$f":"IF(ISERROR(SEARCH(\"Gas\",Worksheet!$A$18))=TRUE,0,Worksheet!AH164)","v":0},0,null,null,{"$f":"IF(OR(Worksheet!F164=\"Incandescent\",Worksheet!F164=\"Halogen Incandescent\")=TRUE,118,IF(LEFT(Worksheet!F164,3)=\"HID\",117,IF(OR(RIGHT(Worksheet!F164,3)=\"T12\",RIGHT(Worksheet!F164,5)=\"T12HO\")=TRUE,115,IF(OR(RIGHT(Worksheet!F164,2)=\"T8\",RIGHT(Worksheet!F164,4)=\"RWT8\",RIGHT(Worksheet!F164,4)=\"T8HO\")=TRUE,115,\"\"))))","v":""},{"$f":"IF(ISBLANK(Worksheet!W164)=FALSE,Worksheet!W164,\"\")","v":0},{"$f":"IF(ISERROR(SEARCH(\"Oil\",Worksheet!$A$18))=TRUE,0,Worksheet!AH164)","v":0},0,{"$f":"IF(ISERROR(SEARCH(\"Propane\",Worksheet!$A$18))=TRUE,0,Worksheet!AH164)","v":0},0,{"$f":"IF(Worksheet!J164=0,\"\",Worksheet!J164)","v":""},{"$f":"IF(Worksheet!B164=0,\"\",Worksheet!B164)","v":""},{"$f":"IF(Worksheet!K164=0,\"\",Worksheet!K164)","v":""},{"$f":"IF(Worksheet!L164=0,\"\",Worksheet!L164)","v":""},{"$f":"IF(Worksheet!R164=0,\"\",Worksheet!R164)","v":""},{"$f":"IF(Worksheet!F164=0,\"\",Worksheet!F164)","v":""},{"$f":"IF(Worksheet!G164=0,\"\",Worksheet!G164)","v":""},{"$f":"IF(Worksheet!X164=0,\"\",Worksheet!X164)","v":""},{"$f":"IF(Worksheet!Q164=0,\"\",Worksheet!Q164)","v":""},{"$f":"IF(Worksheet!C164=0,\"\",Worksheet!C164)","v":""},{"$f":"IF(Worksheet!D164=0,\"\",Worksheet!D164)","v":""},{"$f":"IF(Worksheet!$A$11=TRUE,\"Y\",\"N\")","v":"N"},{"$f":"IF(Worksheet!$A$12=TRUE,\"Y\",\"N\")","v":"N"},{"$f":"IF(Worksheet!$B$11=TRUE,\"Y\",\"N\")","v":"N"},{"$f":"IF(Worksheet!$B$12=TRUE,\"Y\",\"N\")","v":"N"},{"$f":"IF(Worksheet!$C$11=TRUE,\"Y\",\"N\")","v":"N"},{"$f":"IFERROR(Worksheet!AB164,\"\")","v":0}]
[{"$f":"IF(IFERROR(SEARCH(\"Refrigerated\",Worksheet!L165,1),0)>0,122,IF(ISERROR(RIGHT(VLOOKUP(Worksheet!K165,Type!C$1:E$13,3,FALSE),3))=FALSE,RIGHT(VLOOKUP(Worksheet!K165,Type!C$1:E$13,3,FALSE),3),\"\"))","v":""},{"$f":"IF(Worksheet!M165=\"\",\"\",Worksheet!M165)","v":""},{"$f":"IF(Worksheet!N165=\"\",\"\",Worksheet!N165)","v":""},{"$f":"IF(Worksheet!Y165=0,\"\",Worksheet!Y165)","v":""},"Watts",null,null,{"$f":"Worksheet!AA165","v":0},{"$f":"IF(ISBLANK(Worksheet!V165)=FALSE,Worksheet!V165,\"\")","v":0},{"$f":"Worksheet!AG165","v":0},{"$f":"Worksheet!AF165","v":0},0,{"$f":"IF(ISERROR(SEARCH(\"Gas\",Worksheet!$A$18))=TRUE,0,Worksheet!AH165)","v":0},0,null,null,{"$f":"IF(OR(Worksheet!F165=\"Incandescent\",Worksheet!F165=\"Halogen Incandescent\")=TRUE,118,IF(LEFT(Worksheet!F165,3)=\"HID\",117,IF(OR(RIGHT(Worksheet!F165,3)=\"T12\",RIGHT(Worksheet!F165,5)=\"T12HO\")=TRUE,115,IF(OR(RIGHT(Worksheet!F165,2)=\"T8\",RIGHT(Worksheet!F165,4)=\"RWT8\",RIGHT(Worksheet!F165,4)=\"T8HO\")=TRUE,115,\"\"))))","v":""},{"$f":"IF(ISBLANK(Worksheet!W165)=FALSE,Worksheet!W165,\"\")","v":0},{"$f":"IF(ISERROR(SEARCH(\"Oil\",Worksheet!$A$18))=TRUE,0,Worksheet!AH165)","v":0},0,{"$f":"IF(ISERROR(SEARCH(\"Propane\",Worksheet!$A$18))=TRUE,0,Worksheet!AH165)","v":0},0,{"$f":"IF(Worksheet!J165=0,\"\",Worksheet!J165)","v":""},{"$f":"IF(Worksheet!B165=0,\"\",Worksheet!B165)","v":""},{"$f":"IF(Worksheet!K165=0,\"\",Worksheet!K165)","v":""},{"$f":"IF(Worksheet!L165=0,\"\",Worksheet!L165)","v":""},{"$f":"IF(Worksheet!R165=0,\"\",Worksheet!R165)","v":""},{"$f":"IF(Worksheet!F165=0,\"\",Worksheet!F165)","v":""},{"$f":"IF(Worksheet!G165=0,\"\",Worksheet!G165)","v":""},{"$f":"IF(Worksheet!X165=0,\"\",Worksheet!X165)","v":""},{"$f":"IF(Worksheet!Q165=0,\"\",Worksheet!Q165)","v":""},{"$f":"IF(Worksheet!C165=0,\"\",Worksheet!C165)","v":""},{"$f":"IF(Worksheet!D165=0,\"\",Worksheet!D165)","v":""},{"$f":"IF(Worksheet!$A$11=TRUE,\"Y\",\"N\")","v":"N"},{"$f":"IF(Worksheet!$A$12=TRUE,\"Y\",\"N\")","v":"N"},{"$f":"IF(Worksheet!$B$11=TRUE,\"Y\",\"N\")","v":"N"},{"$f":"IF(Worksheet!$B$12=TRUE,\"Y\",\"N\")","v":"N"},{"$f":"IF(Worksheet!$C$11=TRUE,\"Y\",\"N\")","v":"N"},{"$f":"IFERROR(Worksheet!AB165,\"\")","v":0}]
[{"$f":"IF(IFERROR(SEARCH(\"Refrigerated\",Worksheet!L166,1),0)>0,122,IF(ISERROR(RIGHT(VLOOKUP(Worksheet!K166,Type!C$1:E$13,3,FALSE),3))=FALSE,RIGHT(VLOOKUP(Worksheet!K166,Type!C$1:E$13,3,FALSE),3),\"\"))","v":""},{"$f":"IF(Worksheet!M166=\"\",\"\",Worksheet!M166)","v":""},{"$f":"IF(Worksheet!N166=\"\",\"\",Worksheet!N166)","v":""},{"$f":"IF(Worksheet!Y166=0,\"\",Worksheet!Y166)","v":""},"Watts",null,null,{"$f":"Worksheet!AA166","v":0},{"$f":"IF(ISBLANK(Worksheet!V166)=FALSE,Worksheet!V166,\"\")","v":0},{"$f":"Worksheet!AG166","v":0},{"$f":"Worksheet!AF166","v":0},0,{"$f":"IF(ISERROR(SEARCH(\"Gas\",Worksheet!$A$18))=TRUE,0,Worksheet!AH166)","v":0},0,null,null,{"$f":"IF(OR(Worksheet!F166=\"Incandescent\",Worksheet!F166=\"Halogen Incandescent\")=TRUE,118,IF(LEFT(Worksheet!F166,3)=\"HID\",117,IF(OR(RIGHT(Worksheet!F166,3)=\"T12\",RIGHT(Worksheet!F166,5)=\"T12HO\")=TRUE,115,IF(OR(RIGHT(Worksheet!F166,2)=\"T8\",RIGHT(Worksheet!F166,4)=\"RWT8\",RIGHT(Worksheet!F166,4)=\"T8HO\")=TRUE,115,\"\"))))","v":""},{"$f":"IF(ISBLANK(Worksheet!W166)=FALSE,Worksheet!W166,\"\")","v":0},{"$f":"IF(ISERROR(SEARCH(\"Oil\",Worksheet!$A$18))=TRUE,0,Worksheet!AH166)","v":0},0,{"$f":"IF(ISERROR(SEARCH(\"Propane\",Worksheet!$A$18))=TRUE,0,Worksheet!AH166)","v":0},0,{"$f":"IF(Worksheet!J166=0,\"\",Worksheet!J166)","v":""},{"$f":"IF(Worksheet!B166=0,\"\",Worksheet!B166)","v":""},{"$f":"IF(Worksheet!K166=0,\"\",Worksheet!K166)","v":""},{"$f":"IF(Worksheet!L166=0,\"\",Worksheet!L166)","v":""},{"$f":"IF(Worksheet!R166=0,\"\",Worksheet!R166)","v":""},{"$f":"IF(Worksheet!F166=0,\"\",Worksheet!F166)","v":""},{"$f":"IF(Worksheet!G166=0,\"\",Worksheet!G166)","v":""},{"$f":"IF(Worksheet!X166=0,\"\",Worksheet!X166)","v":""},{"$f":"IF(Worksheet!Q166=0,\"\",Worksheet!Q166)","v":""},{"$f":"IF(Worksheet!C166=0,\"\",Worksheet!C166)","v":""},{"$f":"IF(Worksheet!D166=0,\"\",Worksheet!D166)","v":""},{"$f":"IF(Worksheet!$A$11=TRUE,\"Y\",\"N\")","v":"N"},{"$f":"IF(Worksheet!$A$12=TRUE,\"Y\",\"N\")","v":"N"},{"$f":"IF(Worksheet!$B$11=TRUE,\"Y\",\"N\")","v":"N"},{"$f":"IF(Worksheet!$B$12=TRUE,\"Y\",\"N\")","v":"N"},{"$f":"IF(Worksheet!$C$11=TRUE,\"Y\",\"N\")","v":"N"},{"$f":"IFERROR(Worksheet!AB166,\"\")","v":0}]
[{"$f":"IF(IFERROR(SEARCH(\"Refrigerated\",Worksheet!L167,1),0)>0,122,IF(ISERROR(RIGHT(VLOOKUP(Worksheet!K167,Type!C$1:E$13,3,FALSE),3))=FALSE,RIGHT(VLOOKUP(Worksheet!K167,Type!C$1:E$13,3,FALSE),3),\"\"))","v":""},{"$f":"IF(Worksheet!M167=\"\",\"\",Worksheet!M167)","v":""},{"$f":"IF(Worksheet!N167=\"\",\"\",Worksheet!N167)","v":""},{"$f":"IF(Worksheet!Y167=0,\"\",Worksheet!Y167)","v":""},"Watts",null,null,{"$f":"Worksheet!AA167","v":0},{"$f":"IF(ISBLANK(Worksheet!V167)=FALSE,Worksheet!V167,\"\")","v":0},{"$f":"Worksheet!AG167","v":0},{"$f":"Worksheet!AF167","v":0},0,{"$f":"IF(ISERROR(SEARCH(\"Gas\",Worksheet!$A$18))=TRUE,0,Worksheet!AH167)","v":0},0,null,null,{"$f":"IF(OR(Worksheet!F167=\"Incandescent\",Worksheet!F167=\"Halogen Incandescent\")=TRUE,118,IF(LEFT(Worksheet!F167,3)=\"HID\",117,IF(OR(RIGHT(Worksheet!F167,3)=\"T12\",RIGHT(Worksheet!F167,5)=\"T12HO\")=TRUE,115,IF(OR(RIGHT(Worksheet!F167,2)=\"T8\",RIGHT(Worksheet!F167,4)=\"RWT8\",RIGHT(Worksheet!F167,4)=\"T8HO\")=TRUE,115,\"\"))))","v":""},{"$f":"IF(ISBLANK(Worksheet!W167)=FALSE,Worksheet!W167,\"\")","v":0},{"$f":"IF(ISERROR(SEARCH(\"Oil\",Worksheet!$A$18))=TRUE,0,Worksheet!AH167)","v":0},0,{"$f":"IF(ISERROR(SEARCH(\"Propane\",Worksheet!$A$18))=TRUE,0,Worksheet!AH167)","v":0},0,{"$f":"IF(Worksheet!J167=0,\"\",Worksheet!J167)","v":""},{"$f":"IF(Worksheet!B167=0,\"\",Worksheet!B167)","v":""},{"$f":"IF(Worksheet!K167=0,\"\",Worksheet!K167)","v":""},{"$f":"IF(Worksheet!L167=0,\"\",Worksheet!L167)","v":""},{"$f":"IF(Worksheet!R167=0,\"\",Worksheet!R167)","v":""},{"$f":"IF(Worksheet!F167=0,\"\",Worksheet!F167)","v":""},{"$f":"IF(Worksheet!G167=0,\"\",Worksheet!G167)","v":""},{"$f":"IF(Worksheet!X167=0,\"\",Worksheet!X167)","v":""},{"$f":"IF(Worksheet!Q167=0,\"\",Worksheet!Q167)","v":""},{"$f":"IF(Worksheet!C167=0,\"\",Worksheet!C167)","v":""},{"$f":"IF(Worksheet!D167=0,\"\",Worksheet!D167)","v":""},{"$f":"IF(Worksheet!$A$11=TRUE,\"Y\",\"N\")","v":"N"},{"$f":"IF(Worksheet!$A$12=TRUE,\"Y\",\"N\")","v":"N"},{"$f":"IF(Worksheet!$B$11=TRUE,\"Y\",\"N\")","v":"N"},{"$f":"IF(Worksheet!$B$12=TRUE,\"Y\",\"N\")","v":"N"},{"$f":"IF(Worksheet!$C$11=TRUE,\"Y\",\"N\")","v":"N"},{"$f":"IFERROR(Worksheet!AB167,\"\")","v":0}]
[{"$f":"IF(IFERROR(SEARCH(\"Refrigerated\",Worksheet!L168,1),0)>0,122,IF(ISERROR(RIGHT(VLOOKUP(Worksheet!K168,Type!C$1:E$13,3,FALSE),3))=FALSE,RIGHT(VLOOKUP(Worksheet!K168,Type!C$1:E$13,3,FALSE),3),\"\"))","v":""},{"$f":"IF(Worksheet!M168=\"\",\"\",Worksheet!M168)","v":""},{"$f":"IF(Worksheet!N168=\"\",\"\",Worksheet!N168)","v":""},{"$f":"IF(Worksheet!Y168=0,\"\",Worksheet!Y168)","v":""},"Watts",null,null,{"$f":"Worksheet!AA168","v":0},{"$f":"IF(ISBLANK(Worksheet!V168)=FALSE,Worksheet!V168,\"\")","v":0},{"$f":"Worksheet!AG168","v":0},{"$f":"Worksheet!AF168","v":0},0,{"$f":"IF(ISERROR(SEARCH(\"Gas\",Worksheet!$A$18))=TRUE,0,Worksheet!AH168)","v":0},0,null,null,{"$f":"IF(OR(Worksheet!F168=\"Incandescent\",Worksheet!F168=\"Halogen Incandescent\")=TRUE,118,IF(LEFT(Worksheet!F168,3)=\"HID\",117,IF(OR(RIGHT(Worksheet!F168,3)=\"T12\",RIGHT(Worksheet!F168,5)=\"T12HO\")=TRUE,115,IF(OR(RIGHT(Worksheet!F168,2)=\"T8\",RIGHT(Worksheet!F168,4)=\"RWT8\",RIGHT(Worksheet!F168,4)=\"T8HO\")=TRUE,115,\"\"))))","v":""},{"$f":"IF(ISBLANK(Worksheet!W168)=FALSE,Worksheet!W168,\"\")","v":0},{"$f":"IF(ISERROR(SEARCH(\"Oil\",Worksheet!$A$18))=TRUE,0,Worksheet!AH168)","v":0},0,{"$f":"IF(ISERROR(SEARCH(\"Propane\",Worksheet!$A$18))=TRUE,0,Worksheet!AH168)","v":0},0,{"$f":"IF(Worksheet!J168=0,\"\",Worksheet!J168)","v":""},{"$f":"IF(Worksheet!B168=0,\"\",Worksheet!B168)","v":""},{"$f":"IF(Worksheet!K168=0,\"\",Worksheet!K168)","v":""},{"$f":"IF(Worksheet!L168=0,\"\",Worksheet!L168)","v":""},{"$f":"IF(Worksheet!R168=0,\"\",Worksheet!R168)","v":""},{"$f":"IF(Worksheet!F168=0,\"\",Worksheet!F168)","v":""},{"$f":"IF(Worksheet!G168=0,\"\",Worksheet!G168)","v":""},{"$f":"IF(Worksheet!X168=0,\"\",Worksheet!X168)","v":""},{"$f":"IF(Worksheet!Q168=0,\"\",Worksheet!Q168)","v":""},{"$f":"IF(Worksheet!C168=0,\"\",Worksheet!C168)","v":""},{"$f":"IF(Worksheet!D168=0,\"\",Worksheet!D168)","v":""},{"$f":"IF(Worksheet!$A$11=TRUE,\"Y\",\"N\")","v":"N"},{"$f":"IF(Worksheet!$A$12=TRUE,\"Y\",\"N\")","v":"N"},{"$f":"IF(Worksheet!$B$11=TRUE,\"Y\",\"N\")","v":"N"},{"$f":"IF(Worksheet!$B$12=TRUE,\"Y\",\"N\")","v":"N"},{"$f":"IF(Worksheet!$C$11=TRUE,\"Y\",\"N\")","v":"N"},{"$f":"IFERROR(Worksheet!AB168,\"\")","v":0}]
[{"$f":"IF(IFERROR(SEARCH(\"Refrigerated\",Worksheet!L169,1),0)>0,122,IF(ISERROR(RIGHT(VLOOKUP(Worksheet!K169,Type!C$1:E$13,3,FALSE),3))=FALSE,RIGHT(VLOOKUP(Worksheet!K169,Type!C$1:E$13,3,FALSE),3),\"\"))","v":""},{"$f":"IF(Worksheet!M169=\"\",\"\",Worksheet!M169)","v":""},{"$f":"IF(Worksheet!N169=\"\",\"\",Worksheet!N169)","v":""},{"$f":"IF(Worksheet!Y169=0,\"\",Worksheet!Y169)","v":""},"Watts",null,null,{"$f":"Worksheet!AA169","v":0},{"$f":"IF(ISBLANK(Worksheet!V169)=FALSE,Worksheet!V169,\"\")","v":0},{"$f":"Worksheet!AG169","v":0},{"$f":"Worksheet!AF169","v":0},0,{"$f":"IF(ISERROR(SEARCH(\"Gas\",Worksheet!$A$18))=TRUE,0,Worksheet!AH169)","v":0},0,null,null,{"$f":"IF(OR(Worksheet!F169=\"Incandescent\",Worksheet!F169=\"Halogen Incandescent\")=TRUE,118,IF(LEFT(Worksheet!F169,3)=\"HID\",117,IF(OR(RIGHT(Worksheet!F169,3)=\"T12\",RIGHT(Worksheet!F169,5)=\"T12HO\")=TRUE,115,IF(OR(RIGHT(Worksheet!F169,2)=\"T8\",RIGHT(Worksheet!F169,4)=\"RWT8\",RIGHT(Worksheet!F169,4)=\"T8HO\")=TRUE,115,\"\"))))","v":""},{"$f":"IF(ISBLANK(Worksheet!W169)=FALSE,Worksheet!W169,\"\")","v":0},{"$f":"IF(ISERROR(SEARCH(\"Oil\",Worksheet!$A$18))=TRUE,0,Worksheet!AH169)","v":0},0,{"$f":"IF(ISERROR(SEARCH(\"Propane\",Worksheet!$A$18))=TRUE,0,Worksheet!AH169)","v":0},0,{"$f":"IF(Worksheet!J169=0,\"\",Worksheet!J169)","v":""},{"$f":"IF(Worksheet!B169=0,\"\",Worksheet!B169)","v":""},{"$f":"IF(Worksheet!K169=0,\"\",Worksheet!K169)","v":""},{"$f":"IF(Worksheet!L169=0,\"\",Worksheet!L169)","v":""},{"$f":"IF(Worksheet!R169=0,\"\",Worksheet!R169)","v":""},{"$f":"IF(Worksheet!F169=0,\"\",Worksheet!F169)","v":""},{"$f":"IF(Worksheet!G169=0,\"\",Worksheet!G169)","v":""},{"$f":"IF(Worksheet!X169=0,\"\",Worksheet!X169)","v":""},{"$f":"IF(Worksheet!Q169=0,\"\",Worksheet!Q169)","v":""},{"$f":"IF(Worksheet!C169=0,\"\",Worksheet!C169)","v":""},{"$f":"IF(Worksheet!D169=0,\"\",Worksheet!D169)","v":""},{"$f":"IF(Worksheet!$A$11=TRUE,\"Y\",\"N\")","v":"N"},{"$f":"IF(Worksheet!$A$12=TRUE,\"Y\",\"N\")","v":"N"},{"$f":"IF(Worksheet!$B$11=TRUE,\"Y\",\"N\")","v":"N"},{"$f":"IF(Worksheet!$B$12=TRUE,\"Y\",\"N\")","v":"N"},{"$f":"IF(Worksheet!$C$11=TRUE,\"Y\",\"N\")","v":"N"},{"$f":"IFERROR(Worksheet!AB169,\"\")","v":0}]
[{"$f":"IF(IFERROR(SEARCH(\"Refrigerated\",Worksheet!L170,1),0)>0,122,IF(ISERROR(RIGHT(VLOOKUP(Worksheet!K170,Type!C$1:E$13,3,FALSE),3))=FALSE,RIGHT(VLOOKUP(Worksheet!K170,Type!C$1:E$13,3,FALSE),3),\"\"))","v":""},{"$f":"IF(Worksheet!M170=\"\",\"\",Worksheet!M170)","v":""},{"$f":"IF(Worksheet!N170=\"\",\"\",Worksheet!N170)","v":""},{"$f":"IF(Worksheet!Y170=0,\"\",Worksheet!Y170)","v":""},"Watts",null,null,{"$f":"Worksheet!AA170","v":0},{"$f":"IF(ISBLANK(Worksheet!V170)=FALSE,Worksheet!V170,\"\")","v":0},{"$f":"Worksheet!AG170","v":0},{"$f":"Worksheet!AF170","v":0},0,{"$f":"IF(ISERROR(SEARCH(\"Gas\",Worksheet!$A$18))=TRUE,0,Worksheet!AH170)","v":0},0,null,null,{"$f":"IF(OR(Worksheet!F170=\"Incandescent\",Worksheet!F170=\"Halogen Incandescent\")=TRUE,118,IF(LEFT(Worksheet!F170,3)=\"HID\",117,IF(OR(RIGHT(Worksheet!F170,3)=\"T12\",RIGHT(Worksheet!F170,5)=\"T12HO\")=TRUE,115,IF(OR(RIGHT(Worksheet!F170,2)=\"T8\",RIGHT(Worksheet!F170,4)=\"RWT8\",RIGHT(Worksheet!F170,4)=\"T8HO\")=TRUE,115,\"\"))))","v":""},{"$f":"IF(ISBLANK(Worksheet!W170)=FALSE,Worksheet!W170,\"\")","v":0},{"$f":"IF(ISERROR(SEARCH(\"Oil\",Worksheet!$A$18))=TRUE,0,Worksheet!AH170)","v":0},0,{"$f":"IF(ISERROR(SEARCH(\"Propane\",Worksheet!$A$18))=TRUE,0,Worksheet!AH170)","v":0},0,{"$f":"IF(Worksheet!J170=0,\"\",Worksheet!J170)","v":""},{"$f":"IF(Worksheet!B170=0,\"\",Worksheet!B170)","v":""},{"$f":"IF(Worksheet!K170=0,\"\",Worksheet!K170)","v":""},{"$f":"IF(Worksheet!L170=0,\"\",Worksheet!L170)","v":""},{"$f":"IF(Worksheet!R170=0,\"\",Worksheet!R170)","v":""},{"$f":"IF(Worksheet!F170=0,\"\",Worksheet!F170)","v":""},{"$f":"IF(Worksheet!G170=0,\"\",Worksheet!G170)","v":""},{"$f":"IF(Worksheet!X170=0,\"\",Worksheet!X170)","v":""},{"$f":"IF(Worksheet!Q170=0,\"\",Worksheet!Q170)","v":""},{"$f":"IF(Worksheet!C170=0,\"\",Worksheet!C170)","v":""},{"$f":"IF(Worksheet!D170=0,\"\",Worksheet!D170)","v":""},{"$f":"IF(Worksheet!$A$11=TRUE,\"Y\",\"N\")","v":"N"},{"$f":"IF(Worksheet!$A$12=TRUE,\"Y\",\"N\")","v":"N"},{"$f":"IF(Worksheet!$B$11=TRUE,\"Y\",\"N\")","v":"N"},{"$f":"IF(Worksheet!$B$12=TRUE,\"Y\",\"N\")","v":"N"},{"$f":"IF(Worksheet!$C$11=TRUE,\"Y\",\"N\")","v":"N"},{"$f":"IFERROR(Worksheet!AB170,\"\")","v":0}]
[{"$f":"IF(IFERROR(SEARCH(\"Refrigerated\",Worksheet!L171,1),0)>0,122,IF(ISERROR(RIGHT(VLOOKUP(Worksheet!K171,Type!C$1:E$13,3,FALSE),3))=FALSE,RIGHT(VLOOKUP(Worksheet!K171,Type!C$1:E$13,3,FALSE),3),\"\"))","v":""},{"$f":"IF(Worksheet!M171=\"\",\"\",Worksheet!M171)","v":""},{"$f":"IF(Worksheet!N171=\"\",\"\",Worksheet!N171)","v":""},{"$f":"IF(Worksheet!Y171=0,\"\",Worksheet!Y171)","v":""},"Watts",null,null,{"$f":"Worksheet!AA171","v":0},{"$f":"IF(ISBLANK(Worksheet!V171)=FALSE,Worksheet!V171,\"\")","v":0},{"$f":"Worksheet!AG171","v":0},{"$f":"Worksheet!AF171","v":0},0,{"$f":"IF(ISERROR(SEARCH(\"Gas\",Worksheet!$A$18))=TRUE,0,Worksheet!AH171)","v":0},0,null,null,{"$f":"IF(OR(Worksheet!F171=\"Incandescent\",Worksheet!F171=\"Halogen Incandescent\")=TRUE,118,IF(LEFT(Worksheet!F171,3)=\"HID\",117,IF(OR(RIGHT(Worksheet!F171,3)=\"T12\",RIGHT(Worksheet!F171,5)=\"T12HO\")=TRUE,115,IF(OR(RIGHT(Worksheet!F171,2)=\"T8\",RIGHT(Worksheet!F171,4)=\"RWT8\",RIGHT(Worksheet!F171,4)=\"T8HO\")=TRUE,115,\"\"))))","v":""},{"$f":"IF(ISBLANK(Worksheet!W171)=FALSE,Worksheet!W171,\"\")","v":0},{"$f":"IF(ISERROR(SEARCH(\"Oil\",Worksheet!$A$18))=TRUE,0,Worksheet!AH171)","v":0},0,{"$f":"IF(ISERROR(SEARCH(\"Propane\",Worksheet!$A$18))=TRUE,0,Worksheet!AH171)","v":0},0,{"$f":"IF(Worksheet!J171=0,\"\",Worksheet!J171)","v":""},{"$f":"IF(Worksheet!B171=0,\"\",Worksheet!B171)","v":""},{"$f":"IF(Worksheet!K171=0,\"\",Worksheet!K171)","v":""},{"$f":"IF(Worksheet!L171=0,\"\",Worksheet!L171)","v":""},{"$f":"IF(Worksheet!R171=0,\"\",Worksheet!R171)","v":""},{"$f":"IF(Worksheet!F171=0,\"\",Worksheet!F171)","v":""},{"$f":"IF(Worksheet!G171=0,\"\",Worksheet!G171)","v":""},{"$f":"IF(Worksheet!X171=0,\"\",Worksheet!X171)","v":""},{"$f":"IF(Worksheet!Q171=0,\"\",Worksheet!Q171)","v":""},{"$f":"IF(Worksheet!C171=0,\"\",Worksheet!C171)","v":""},{"$f":"IF(Worksheet!D171=0,\"\",Worksheet!D171)","v":""},{"$f":"IF(Worksheet!$A$11=TRUE,\"Y\",\"N\")","v":"N"},{"$f":"IF(Worksheet!$A$12=TRUE,\"Y\",\"N\")","v":"N"},{"$f":"IF(Worksheet!$B$11=TRUE,\"Y\",\"N\")","v":"N"},{"$f":"IF(Worksheet!$B$12=TRUE,\"Y\",\"N\")","v":"N"},{"$f":"IF(Worksheet!$C$11=TRUE,\"Y\",\"N\")","v":"N"},{"$f":"IFERROR(Worksheet!AB171,\"\")","v":0}]
[{"$f":"IF(IFERROR(SEARCH(\"Refrigerated\",Worksheet!L172,1),0)>0,122,IF(ISERROR(RIGHT(VLOOKUP(Worksheet!K172,Type!C$1:E$13,3,FALSE),3))=FALSE,RIGHT(VLOOKUP(Worksheet!K172,Type!C$1:E$13,3,FALSE),3),\"\"))","v":""},{"$f":"IF(Worksheet!M172=\"\",\"\",Worksheet!M172)","v":""},{"$f":"IF(Worksheet!N172=\"\",\"\",Worksheet!N172)","v":""},{"$f":"IF(Worksheet!Y172=0,\"\",Worksheet!Y172)","v":""},"Watts",null,null,{"$f":"Worksheet!AA172","v":0},{"$f":"IF(ISBLANK(Worksheet!V172)=FALSE,Worksheet!V172,\"\")","v":0},{"$f":"Worksheet!AG172","v":0},{"$f":"Worksheet!AF172","v":0},0,{"$f":"IF(ISERROR(SEARCH(\"Gas\",Worksheet!$A$18))=TRUE,0,Worksheet!AH172)","v":0},0,null,null,{"$f":"IF(OR(Worksheet!F172=\"Incandescent\",Worksheet!F172=\"Halogen Incandescent\")=TRUE,118,IF(LEFT(Worksheet!F172,3)=\"HID\",117,IF(OR(RIGHT(Worksheet!F172,3)=\"T12\",RIGHT(Worksheet!F172,5)=\"T12HO\")=TRUE,115,IF(OR(RIGHT(Worksheet!F172,2)=\"T8\",RIGHT(Worksheet!F172,4)=\"RWT8\",RIGHT(Worksheet!F172,4)=\"T8HO\")=TRUE,115,\"\"))))","v":""},{"$f":"IF(ISBLANK(Worksheet!W172)=FALSE,Worksheet!W172,\"\")","v":0},{"$f":"IF(ISERROR(SEARCH(\"Oil\",Worksheet!$A$18))=TRUE,0,Worksheet!AH172)","v":0},0,{"$f":"IF(ISERROR(SEARCH(\"Propane\",Worksheet!$A$18))=TRUE,0,Worksheet!AH172)","v":0},0,{"$f":"IF(Worksheet!J172=0,\"\",Worksheet!J172)","v":""},{"$f":"IF(Worksheet!B172=0,\"\",Worksheet!B172)","v":""},{"$f":"IF(Worksheet!K172=0,\"\",Worksheet!K172)","v":""},{"$f":"IF(Worksheet!L172=0,\"\",Worksheet!L172)","v":""},{"$f":"IF(Worksheet!R172=0,\"\",Worksheet!R172)","v":""},{"$f":"IF(Worksheet!F172=0,\"\",Worksheet!F172)","v":""},{"$f":"IF(Worksheet!G172=0,\"\",Worksheet!G172)","v":""},{"$f":"IF(Worksheet!X172=0,\"\",Worksheet!X172)","v":""},{"$f":"IF(Worksheet!Q172=0,\"\",Worksheet!Q172)","v":""},{"$f":"IF(Worksheet!C172=0,\"\",Worksheet!C172)","v":""},{"$f":"IF(Worksheet!D172=0,\"\",Worksheet!D172)","v":""},{"$f":"IF(Worksheet!$A$11=TRUE,\"Y\",\"N\")","v":"N"},{"$f":"IF(Worksheet!$A$12=TRUE,\"Y\",\"N\")","v":"N"},{"$f":"IF(Worksheet!$B$11=TRUE,\"Y\",\"N\")","v":"N"},{"$f":"IF(Worksheet!$B$12=TRUE,\"Y\",\"N\")","v":"N"},{"$f":"IF(Worksheet!$C$11=TRUE,\"Y\",\"N\")","v":"N"},{"$f":"IFERROR(Worksheet!AB172,\"\")","v":0}]
[{"$f":"IF(IFERROR(SEARCH(\"Refrigerated\",Worksheet!L173,1),0)>0,122,IF(ISERROR(RIGHT(VLOOKUP(Worksheet!K173,Type!C$1:E$13,3,FALSE),3))=FALSE,RIGHT(VLOOKUP(Worksheet!K173,Type!C$1:E$13,3,FALSE),3),\"\"))","v":""},{"$f":"IF(Worksheet!M173=\"\",\"\",Worksheet!M173)","v":""},{"$f":"IF(Worksheet!N173=\"\",\"\",Worksheet!N173)","v":""},{"$f":"IF(Worksheet!Y173=0,\"\",Worksheet!Y173)","v":""},"Watts",null,null,{"$f":"Worksheet!AA173","v":0},{"$f":"IF(ISBLANK(Worksheet!V173)=FALSE,Worksheet!V173,\"\")","v":0},{"$f":"Worksheet!AG173","v":0},{"$f":"Worksheet!AF173","v":0},0,{"$f":"IF(ISERROR(SEARCH(\"Gas\",Worksheet!$A$18))=TRUE,0,Worksheet!AH173)","v":0},0,null,null,{"$f":"IF(OR(Worksheet!F173=\"Incandescent\",Worksheet!F173=\"Halogen Incandescent\")=TRUE,118,IF(LEFT(Worksheet!F173,3)=\"HID\",117,IF(OR(RIGHT(Worksheet!F173,3)=\"T12\",RIGHT(Worksheet!F173,5)=\"T12HO\")=TRUE,115,IF(OR(RIGHT(Worksheet!F173,2)=\"T8\",RIGHT(Worksheet!F173,4)=\"RWT8\",RIGHT(Worksheet!F173,4)=\"T8HO\")=TRUE,115,\"\"))))","v":""},{"$f":"IF(ISBLANK(Worksheet!W173)=FALSE,Worksheet!W173,\"\")","v":0},{"$f":"IF(ISERROR(SEARCH(\"Oil\",Worksheet!$A$18))=TRUE,0,Worksheet!AH173)","v":0},0,{"$f":"IF(ISERROR(SEARCH(\"Propane\",Worksheet!$A$18))=TRUE,0,Worksheet!AH173)","v":0},0,{"$f":"IF(Worksheet!J173=0,\"\",Worksheet!J173)","v":""},{"$f":"IF(Worksheet!B173=0,\"\",Worksheet!B173)","v":""},{"$f":"IF(Worksheet!K173=0,\"\",Worksheet!K173)","v":""},{"$f":"IF(Worksheet!L173=0,\"\",Worksheet!L173)","v":""},{"$f":"IF(Worksheet!R173=0,\"\",Worksheet!R173)","v":""},{"$f":"IF(Worksheet!F173=0,\"\",Worksheet!F173)","v":""},{"$f":"IF(Worksheet!G173=0,\"\",Worksheet!G173)","v":""},{"$f":"IF(Worksheet!X173=0,\"\",Worksheet!X173)","v":""},{"$f":"IF(Worksheet!Q173=0,\"\",Worksheet!Q173)","v":""},{"$f":"IF(Worksheet!C173=0,\"\",Worksheet!C173)","v":""},{"$f":"IF(Worksheet!D173=0,\"\",Worksheet!D173)","v":""},{"$f":"IF(Worksheet!$A$11=TRUE,\"Y\",\"N\")","v":"N"},{"$f":"IF(Worksheet!$A$12=TRUE,\"Y\",\"N\")","v":"N"},{"$f":"IF(Worksheet!$B$11=TRUE,\"Y\",\"N\")","v":"N"},{"$f":"IF(Worksheet!$B$12=TRUE,\"Y\",\"N\")","v":"N"},{"$f":"IF(Worksheet!$C$11=TRUE,\"Y\",\"N\")","v":"N"},{"$f":"IFERROR(Worksheet!AB173,\"\")","v":0}]
[{"$f":"IF(IFERROR(SEARCH(\"Refrigerated\",Worksheet!L174,1),0)>0,122,IF(ISERROR(RIGHT(VLOOKUP(Worksheet!K174,Type!C$1:E$13,3,FALSE),3))=FALSE,RIGHT(VLOOKUP(Worksheet!K174,Type!C$1:E$13,3,FALSE),3),\"\"))","v":""},{"$f":"IF(Worksheet!M174=\"\",\"\",Worksheet!M174)","v":""},{"$f":"IF(Worksheet!N174=\"\",\"\",Worksheet!N174)","v":""},{"$f":"IF(Worksheet!Y174=0,\"\",Worksheet!Y174)","v":""},"Watts",null,null,{"$f":"Worksheet!AA174","v":0},{"$f":"IF(ISBLANK(Worksheet!V174)=FALSE,Worksheet!V174,\"\")","v":0},{"$f":"Worksheet!AG174","v":0},{"$f":"Worksheet!AF174","v":0},0,{"$f":"IF(ISERROR(SEARCH(\"Gas\",Worksheet!$A$18))=TRUE,0,Worksheet!AH174)","v":0},0,null,null,{"$f":"IF(OR(Worksheet!F174=\"Incandescent\",Worksheet!F174=\"Halogen Incandescent\")=TRUE,118,IF(LEFT(Worksheet!F174,3)=\"HID\",117,IF(OR(RIGHT(Worksheet!F174,3)=\"T12\",RIGHT(Worksheet!F174,5)=\"T12HO\")=TRUE,115,IF(OR(RIGHT(Worksheet!F174,2)=\"T8\",RIGHT(Worksheet!F174,4)=\"RWT8\",RIGHT(Worksheet!F174,4)=\"T8HO\")=TRUE,115,\"\"))))","v":""},{"$f":"IF(ISBLANK(Worksheet!W174)=FALSE,Worksheet!W174,\"\")","v":0},{"$f":"IF(ISERROR(SEARCH(\"Oil\",Worksheet!$A$18))=TRUE,0,Worksheet!AH174)","v":0},0,{"$f":"IF(ISERROR(SEARCH(\"Propane\",Worksheet!$A$18))=TRUE,0,Worksheet!AH174)","v":0},0,{"$f":"IF(Worksheet!J174=0,\"\",Worksheet!J174)","v":""},{"$f":"IF(Worksheet!B174=0,\"\",Worksheet!B174)","v":""},{"$f":"IF(Worksheet!K174=0,\"\",Worksheet!K174)","v":""},{"$f":"IF(Worksheet!L174=0,\"\",Worksheet!L174)","v":""},{"$f":"IF(Worksheet!R174=0,\"\",Worksheet!R174)","v":""},{"$f":"IF(Worksheet!F174=0,\"\",Worksheet!F174)","v":""},{"$f":"IF(Worksheet!G174=0,\"\",Worksheet!G174)","v":""},{"$f":"IF(Worksheet!X174=0,\"\",Worksheet!X174)","v":""},{"$f":"IF(Worksheet!Q174=0,\"\",Worksheet!Q174)","v":""},{"$f":"IF(Worksheet!C174=0,\"\",Worksheet!C174)","v":""},{"$f":"IF(Worksheet!D174=0,\"\",Worksheet!D174)","v":""},{"$f":"IF(Worksheet!$A$11=TRUE,\"Y\",\"N\")","v":"N"},{"$f":"IF(Worksheet!$A$12=TRUE,\"Y\",\"N\")","v":"N"},{"$f":"IF(Worksheet!$B$11=TRUE,\"Y\",\"N\")","v":"N"},{"$f":"IF(Worksheet!$B$12=TRUE,\"Y\",\"N\")","v":"N"},{"$f":"IF(Worksheet!$C$11=TRUE,\"Y\",\"N\")","v":"N"},{"$f":"IFERROR(Worksheet!AB174,\"\")","v":0}]
[{"$f":"IF(IFERROR(SEARCH(\"Refrigerated\",Worksheet!L175,1),0)>0,122,IF(ISERROR(RIGHT(VLOOKUP(Worksheet!K175,Type!C$1:E$13,3,FALSE),3))=FALSE,RIGHT(VLOOKUP(Worksheet!K175,Type!C$1:E$13,3,FALSE),3),\"\"))","v":""},{"$f":"IF(Worksheet!M175=\"\",\"\",Worksheet!M175)","v":""},{"$f":"IF(Worksheet!N175=\"\",\"\",Worksheet!N175)","v":""},{"$f":"IF(Worksheet!Y175=0,\"\",Worksheet!Y175)","v":""},"Watts",null,null,{"$f":"Worksheet!AA175","v":0},{"$f":"IF(ISBLANK(Worksheet!V175)=FALSE,Worksheet!V175,\"\")","v":0},{"$f":"Worksheet!AG175","v":0},{"$f":"Worksheet!AF175","v":0},0,{"$f":"IF(ISERROR(SEARCH(\"Gas\",Worksheet!$A$18))=TRUE,0,Worksheet!AH175)","v":0},0,null,null,{"$f":"IF(OR(Worksheet!F175=\"Incandescent\",Worksheet!F175=\"Halogen Incandescent\")=TRUE,118,IF(LEFT(Worksheet!F175,3)=\"HID\",117,IF(OR(RIGHT(Worksheet!F175,3)=\"T12\",RIGHT(Worksheet!F175,5)=\"T12HO\")=TRUE,115,IF(OR(RIGHT(Worksheet!F175,2)=\"T8\",RIGHT(Worksheet!F175,4)=\"RWT8\",RIGHT(Worksheet!F175,4)=\"T8HO\")=TRUE,115,\"\"))))","v":""},{"$f":"IF(ISBLANK(Worksheet!W175)=FALSE,Worksheet!W175,\"\")","v":0},{"$f":"IF(ISERROR(SEARCH(\"Oil\",Worksheet!$A$18))=TRUE,0,Worksheet!AH175)","v":0},0,{"$f":"IF(ISERROR(SEARCH(\"Propane\",Worksheet!$A$18))=TRUE,0,Worksheet!AH175)","v":0},0,{"$f":"IF(Worksheet!J175=0,\"\",Worksheet!J175)","v":""},{"$f":"IF(Worksheet!B175=0,\"\",Worksheet!B175)","v":""},{"$f":"IF(Worksheet!K175=0,\"\",Worksheet!K175)","v":""},{"$f":"IF(Worksheet!L175=0,\"\",Worksheet!L175)","v":""},{"$f":"IF(Worksheet!R175=0,\"\",Worksheet!R175)","v":""},{"$f":"IF(Worksheet!F175=0,\"\",Worksheet!F175)","v":""},{"$f":"IF(Worksheet!G175=0,\"\",Worksheet!G175)","v":""},{"$f":"IF(Worksheet!X175=0,\"\",Worksheet!X175)","v":""},{"$f":"IF(Worksheet!Q175=0,\"\",Worksheet!Q175)","v":""},{"$f":"IF(Worksheet!C175=0,\"\",Worksheet!C175)","v":""},{"$f":"IF(Worksheet!D175=0,\"\",Worksheet!D175)","v":""},{"$f":"IF(Worksheet!$A$11=TRUE,\"Y\",\"N\")","v":"N"},{"$f":"IF(Worksheet!$A$12=TRUE,\"Y\",\"N\")","v":"N"},{"$f":"IF(Worksheet!$B$11=TRUE,\"Y\",\"N\")","v":"N"},{"$f":"IF(Worksheet!$B$12=TRUE,\"Y\",\"N\")","v":"N"},{"$f":"IF(Worksheet!$C$11=TRUE,\"Y\",\"N\")","v":"N"},{"$f":"IFERROR(Worksheet!AB175,\"\")","v":0}]
[{"$f":"IF(IFERROR(SEARCH(\"Refrigerated\",Worksheet!L176,1),0)>0,122,IF(ISERROR(RIGHT(VLOOKUP(Worksheet!K176,Type!C$1:E$13,3,FALSE),3))=FALSE,RIGHT(VLOOKUP(Worksheet!K176,Type!C$1:E$13,3,FALSE),3),\"\"))","v":""},{"$f":"IF(Worksheet!M176=\"\",\"\",Worksheet!M176)","v":""},{"$f":"IF(Worksheet!N176=\"\",\"\",Worksheet!N176)","v":""},{"$f":"IF(Worksheet!Y176=0,\"\",Worksheet!Y176)","v":""},"Watts",null,null,{"$f":"Worksheet!AA176","v":0},{"$f":"IF(ISBLANK(Worksheet!V176)=FALSE,Worksheet!V176,\"\")","v":0},{"$f":"Worksheet!AG176","v":0},{"$f":"Worksheet!AF176","v":0},0,{"$f":"IF(ISERROR(SEARCH(\"Gas\",Worksheet!$A$18))=TRUE,0,Worksheet!AH176)","v":0},0,null,null,{"$f":"IF(OR(Worksheet!F176=\"Incandescent\",Worksheet!F176=\"Halogen Incandescent\")=TRUE,118,IF(LEFT(Worksheet!F176,3)=\"HID\",117,IF(OR(RIGHT(Worksheet!F176,3)=\"T12\",RIGHT(Worksheet!F176,5)=\"T12HO\")=TRUE,115,IF(OR(RIGHT(Worksheet!F176,2)=\"T8\",RIGHT(Worksheet!F176,4)=\"RWT8\",RIGHT(Worksheet!F176,4)=\"T8HO\")=TRUE,115,\"\"))))","v":""},{"$f":"IF(ISBLANK(Worksheet!W176)=FALSE,Worksheet!W176,\"\")","v":0},{"$f":"IF(ISERROR(SEARCH(\"Oil\",Worksheet!$A$18))=TRUE,0,Worksheet!AH176)","v":0},0,{"$f":"IF(ISERROR(SEARCH(\"Propane\",Worksheet!$A$18))=TRUE,0,Worksheet!AH176)","v":0},0,{"$f":"IF(Worksheet!J176=0,\"\",Worksheet!J176)","v":""},{"$f":"IF(Worksheet!B176=0,\"\",Worksheet!B176)","v":""},{"$f":"IF(Worksheet!K176=0,\"\",Worksheet!K176)","v":""},{"$f":"IF(Worksheet!L176=0,\"\",Worksheet!L176)","v":""},{"$f":"IF(Worksheet!R176=0,\"\",Worksheet!R176)","v":""},{"$f":"IF(Worksheet!F176=0,\"\",Worksheet!F176)","v":""},{"$f":"IF(Worksheet!G176=0,\"\",Worksheet!G176)","v":""},{"$f":"IF(Worksheet!X176=0,\"\",Worksheet!X176)","v":""},{"$f":"IF(Worksheet!Q176=0,\"\",Worksheet!Q176)","v":""},{"$f":"IF(Worksheet!C176=0,\"\",Worksheet!C176)","v":""},{"$f":"IF(Worksheet!D176=0,\"\",Worksheet!D176)","v":""},{"$f":"IF(Worksheet!$A$11=TRUE,\"Y\",\"N\")","v":"N"},{"$f":"IF(Worksheet!$A$12=TRUE,\"Y\",\"N\")","v":"N"},{"$f":"IF(Worksheet!$B$11=TRUE,\"Y\",\"N\")","v":"N"},{"$f":"IF(Worksheet!$B$12=TRUE,\"Y\",\"N\")","v":"N"},{"$f":"IF(Worksheet!$C$11=TRUE,\"Y\",\"N\")","v":"N"},{"$f":"IFERROR(Worksheet!AB176,\"\")","v":0}]
[{"$f":"IF(IFERROR(SEARCH(\"Refrigerated\",Worksheet!L177,1),0)>0,122,IF(ISERROR(RIGHT(VLOOKUP(Worksheet!K177,Type!C$1:E$13,3,FALSE),3))=FALSE,RIGHT(VLOOKUP(Worksheet!K177,Type!C$1:E$13,3,FALSE),3),\"\"))","v":""},{"$f":"IF(Worksheet!M177=\"\",\"\",Worksheet!M177)","v":""},{"$f":"IF(Worksheet!N177=\"\",\"\",Worksheet!N177)","v":""},{"$f":"IF(Worksheet!Y177=0,\"\",Worksheet!Y177)","v":""},"Watts",null,null,{"$f":"Worksheet!AA177","v":0},{"$f":"IF(ISBLANK(Worksheet!V177)=FALSE,Worksheet!V177,\"\")","v":0},{"$f":"Worksheet!AG177","v":0},{"$f":"Worksheet!AF177","v":0},0,{"$f":"IF(ISERROR(SEARCH(\"Gas\",Worksheet!$A$18))=TRUE,0,Worksheet!AH177)","v":0},0,null,null,{"$f":"IF(OR(Worksheet!F177=\"Incandescent\",Worksheet!F177=\"Halogen Incandescent\")=TRUE,118,IF(LEFT(Worksheet!F177,3)=\"HID\",117,IF(OR(RIGHT(Worksheet!F177,3)=\"T12\",RIGHT(Worksheet!F177,5)=\"T12HO\")=TRUE,115,IF(OR(RIGHT(Worksheet!F177,2)=\"T8\",RIGHT(Worksheet!F177,4)=\"RWT8\",RIGHT(Worksheet!F177,4)=\"T8HO\")=TRUE,115,\"\"))))","v":""},{"$f":"IF(ISBLANK(Worksheet!W177)=FALSE,Worksheet!W177,\"\")","v":0},{"$f":"IF(ISERROR(SEARCH(\"Oil\",Worksheet!$A$18))=TRUE,0,Worksheet!AH177)","v":0},0,{"$f":"IF(ISERROR(SEARCH(\"Propane\",Worksheet!$A$18))=TRUE,0,Worksheet!AH177)","v":0},0,{"$f":"IF(Worksheet!J177=0,\"\",Worksheet!J177)","v":""},{"$f":"IF(Worksheet!B177=0,\"\",Worksheet!B177)","v":""},{"$f":"IF(Worksheet!K177=0,\"\",Worksheet!K177)","v":""},{"$f":"IF(Worksheet!L177=0,\"\",Worksheet!L177)","v":""},{"$f":"IF(Worksheet!R177=0,\"\",Worksheet!R177)","v":""},{"$f":"IF(Worksheet!F177=0,\"\",Worksheet!F177)","v":""},{"$f":"IF(Worksheet!G177=0,\"\",Worksheet!G177)","v":""},{"$f":"IF(Worksheet!X177=0,\"\",Worksheet!X177)","v":""},{"$f":"IF(Worksheet!Q177=0,\"\",Worksheet!Q177)","v":""},{"$f":"IF(Worksheet!C177=0,\"\",Worksheet!C177)","v":""},{"$f":"IF(Worksheet!D177=0,\"\",Worksheet!D177)","v":""},{"$f":"IF(Worksheet!$A$11=TRUE,\"Y\",\"N\")","v":"N"},{"$f":"IF(Worksheet!$A$12=TRUE,\"Y\",\"N\")","v":"N"},{"$f":"IF(Worksheet!$B$11=TRUE,\"Y\",\"N\")","v":"N"},{"$f":"IF(Worksheet!$B$12=TRUE,\"Y\",\"N\")","v":"N"},{"$f":"IF(Worksheet!$C$11=TRUE,\"Y\",\"N\")","v":"N"},{"$f":"IFERROR(Worksheet!AB177,\"\")","v":0}]
[{"$f":"IF(IFERROR(SEARCH(\"Refrigerated\",Worksheet!L178,1),0)>0,122,IF(ISERROR(RIGHT(VLOOKUP(Worksheet!K178,Type!C$1:E$13,3,FALSE),3))=FALSE,RIGHT(VLOOKUP(Worksheet!K178,Type!C$1:E$13,3,FALSE),3),\"\"))","v":""},{"$f":"IF(Worksheet!M178=\"\",\"\",Worksheet!M178)","v":""},{"$f":"IF(Worksheet!N178=\"\",\"\",Worksheet!N178)","v":""},{"$f":"IF(Worksheet!Y178=0,\"\",Worksheet!Y178)","v":""},"Watts",null,null,{"$f":"Worksheet!AA178","v":0},{"$f":"IF(ISBLANK(Worksheet!V178)=FALSE,Worksheet!V178,\"\")","v":0},{"$f":"Worksheet!AG178","v":0},{"$f":"Worksheet!AF178","v":0},0,{"$f":"IF(ISERROR(SEARCH(\"Gas\",Worksheet!$A$18))=TRUE,0,Worksheet!AH178)","v":0},0,null,null,{"$f":"IF(OR(Worksheet!F178=\"Incandescent\",Worksheet!F178=\"Halogen Incandescent\")=TRUE,118,IF(LEFT(Worksheet!F178,3)=\"HID\",117,IF(OR(RIGHT(Worksheet!F178,3)=\"T12\",RIGHT(Worksheet!F178,5)=\"T12HO\")=TRUE,115,IF(OR(RIGHT(Worksheet!F178,2)=\"T8\",RIGHT(Worksheet!F178,4)=\"RWT8\",RIGHT(Worksheet!F178,4)=\"T8HO\")=TRUE,115,\"\"))))","v":""},{"$f":"IF(ISBLANK(Worksheet!W178)=FALSE,Worksheet!W178,\"\")","v":0},{"$f":"IF(ISERROR(SEARCH(\"Oil\",Worksheet!$A$18))=TRUE,0,Worksheet!AH178)","v":0},0,{"$f":"IF(ISERROR(SEARCH(\"Propane\",Worksheet!$A$18))=TRUE,0,Worksheet!AH178)","v":0},0,{"$f":"IF(Worksheet!J178=0,\"\",Worksheet!J178)","v":""},{"$f":"IF(Worksheet!B178=0,\"\",Worksheet!B178)","v":""},{"$f":"IF(Worksheet!K178=0,\"\",Worksheet!K178)","v":""},{"$f":"IF(Worksheet!L178=0,\"\",Worksheet!L178)","v":""},{"$f":"IF(Worksheet!R178=0,\"\",Worksheet!R178)","v":""},{"$f":"IF(Worksheet!F178=0,\"\",Worksheet!F178)","v":""},{"$f":"IF(Worksheet!G178=0,\"\",Worksheet!G178)","v":""},{"$f":"IF(Worksheet!X178=0,\"\",Worksheet!X178)","v":""},{"$f":"IF(Worksheet!Q178=0,\"\",Worksheet!Q178)","v":""},{"$f":"IF(Worksheet!C178=0,\"\",Worksheet!C178)","v":""},{"$f":"IF(Worksheet!D178=0,\"\",Worksheet!D178)","v":""},{"$f":"IF(Worksheet!$A$11=TRUE,\"Y\",\"N\")","v":"N"},{"$f":"IF(Worksheet!$A$12=TRUE,\"Y\",\"N\")","v":"N"},{"$f":"IF(Worksheet!$B$11=TRUE,\"Y\",\"N\")","v":"N"},{"$f":"IF(Worksheet!$B$12=TRUE,\"Y\",\"N\")","v":"N"},{"$f":"IF(Worksheet!$C$11=TRUE,\"Y\",\"N\")","v":"N"},{"$f":"IFERROR(Worksheet!AB178,\"\")","v":0}]
[{"$f":"IF(IFERROR(SEARCH(\"Refrigerated\",Worksheet!L179,1),0)>0,122,IF(ISERROR(RIGHT(VLOOKUP(Worksheet!K179,Type!C$1:E$13,3,FALSE),3))=FALSE,RIGHT(VLOOKUP(Worksheet!K179,Type!C$1:E$13,3,FALSE),3),\"\"))","v":""},{"$f":"IF(Worksheet!M179=\"\",\"\",Worksheet!M179)","v":""},{"$f":"IF(Worksheet!N179=\"\",\"\",Worksheet!N179)","v":""},{"$f":"IF(Worksheet!Y179=0,\"\",Worksheet!Y179)","v":""},"Watts",null,null,{"$f":"Worksheet!AA179","v":0},{"$f":"IF(ISBLANK(Worksheet!V179)=FALSE,Worksheet!V179,\"\")","v":0},{"$f":"Worksheet!AG179","v":0},{"$f":"Worksheet!AF179","v":0},0,{"$f":"IF(ISERROR(SEARCH(\"Gas\",Worksheet!$A$18))=TRUE,0,Worksheet!AH179)","v":0},0,null,null,{"$f":"IF(OR(Worksheet!F179=\"Incandescent\",Worksheet!F179=\"Halogen Incandescent\")=TRUE,118,IF(LEFT(Worksheet!F179,3)=\"HID\",117,IF(OR(RIGHT(Worksheet!F179,3)=\"T12\",RIGHT(Worksheet!F179,5)=\"T12HO\")=TRUE,115,IF(OR(RIGHT(Worksheet!F179,2)=\"T8\",RIGHT(Worksheet!F179,4)=\"RWT8\",RIGHT(Worksheet!F179,4)=\"T8HO\")=TRUE,115,\"\"))))","v":""},{"$f":"IF(ISBLANK(Worksheet!W179)=FALSE,Worksheet!W179,\"\")","v":0},{"$f":"IF(ISERROR(SEARCH(\"Oil\",Worksheet!$A$18))=TRUE,0,Worksheet!AH179)","v":0},0,{"$f":"IF(ISERROR(SEARCH(\"Propane\",Worksheet!$A$18))=TRUE,0,Worksheet!AH179)","v":0},0,{"$f":"IF(Worksheet!J179=0,\"\",Worksheet!J179)","v":""},{"$f":"IF(Worksheet!B179=0,\"\",Worksheet!B179)","v":""},{"$f":"IF(Worksheet!K179=0,\"\",Worksheet!K179)","v":""},{"$f":"IF(Worksheet!L179=0,\"\",Worksheet!L179)","v":""},{"$f":"IF(Worksheet!R179=0,\"\",Worksheet!R179)","v":""},{"$f":"IF(Worksheet!F179=0,\"\",Worksheet!F179)","v":""},{"$f":"IF(Worksheet!G179=0,\"\",Worksheet!G179)","v":""},{"$f":"IF(Worksheet!X179=0,\"\",Worksheet!X179)","v":""},{"$f":"IF(Worksheet!Q179=0,\"\",Worksheet!Q179)","v":""},{"$f":"IF(Worksheet!C179=0,\"\",Worksheet!C179)","v":""},{"$f":"IF(Worksheet!D179=0,\"\",Worksheet!D179)","v":""},{"$f":"IF(Worksheet!$A$11=TRUE,\"Y\",\"N\")","v":"N"},{"$f":"IF(Worksheet!$A$12=TRUE,\"Y\",\"N\")","v":"N"},{"$f":"IF(Worksheet!$B$11=TRUE,\"Y\",\"N\")","v":"N"},{"$f":"IF(Worksheet!$B$12=TRUE,\"Y\",\"N\")","v":"N"},{"$f":"IF(Worksheet!$C$11=TRUE,\"Y\",\"N\")","v":"N"},{"$f":"IFERROR(Worksheet!AB179,\"\")","v":0}]
[{"$f":"IF(IFERROR(SEARCH(\"Refrigerated\",Worksheet!L180,1),0)>0,122,IF(ISERROR(RIGHT(VLOOKUP(Worksheet!K180,Type!C$1:E$13,3,FALSE),3))=FALSE,RIGHT(VLOOKUP(Worksheet!K180,Type!C$1:E$13,3,FALSE),3),\"\"))","v":""},{"$f":"IF(Worksheet!M180=\"\",\"\",Worksheet!M180)","v":""},{"$f":"IF(Worksheet!N180=\"\",\"\",Worksheet!N180)","v":""},{"$f":"IF(Worksheet!Y180=0,\"\",Worksheet!Y180)","v":""},"Watts",null,null,{"$f":"Worksheet!AA180","v":0},{"$f":"IF(ISBLANK(Worksheet!V180)=FALSE,Worksheet!V180,\"\")","v":0},{"$f":"Worksheet!AG180","v":0},{"$f":"Worksheet!AF180","v":0},0,{"$f":"IF(ISERROR(SEARCH(\"Gas\",Worksheet!$A$18))=TRUE,0,Worksheet!AH180)","v":0},0,null,null,{"$f":"IF(OR(Worksheet!F180=\"Incandescent\",Worksheet!F180=\"Halogen Incandescent\")=TRUE,118,IF(LEFT(Worksheet!F180,3)=\"HID\",117,IF(OR(RIGHT(Worksheet!F180,3)=\"T12\",RIGHT(Worksheet!F180,5)=\"T12HO\")=TRUE,115,IF(OR(RIGHT(Worksheet!F180,2)=\"T8\",RIGHT(Worksheet!F180,4)=\"RWT8\",RIGHT(Worksheet!F180,4)=\"T8HO\")=TRUE,115,\"\"))))","v":""},{"$f":"IF(ISBLANK(Worksheet!W180)=FALSE,Worksheet!W180,\"\")","v":0},{"$f":"IF(ISERROR(SEARCH(\"Oil\",Worksheet!$A$18))=TRUE,0,Worksheet!AH180)","v":0},0,{"$f":"IF(ISERROR(SEARCH(\"Propane\",Worksheet!$A$18))=TRUE,0,Worksheet!AH180)","v":0},0,{"$f":"IF(Worksheet!J180=0,\"\",Worksheet!J180)","v":""},{"$f":"IF(Worksheet!B180=0,\"\",Worksheet!B180)","v":""},{"$f":"IF(Worksheet!K180=0,\"\",Worksheet!K180)","v":""},{"$f":"IF(Worksheet!L180=0,\"\",Worksheet!L180)","v":""},{"$f":"IF(Worksheet!R180=0,\"\",Worksheet!R180)","v":""},{"$f":"IF(Worksheet!F180=0,\"\",Worksheet!F180)","v":""},{"$f":"IF(Worksheet!G180=0,\"\",Worksheet!G180)","v":""},{"$f":"IF(Worksheet!X180=0,\"\",Worksheet!X180)","v":""},{"$f":"IF(Worksheet!Q180=0,\"\",Worksheet!Q180)","v":""},{"$f":"IF(Worksheet!C180=0,\"\",Worksheet!C180)","v":""},{"$f":"IF(Worksheet!D180=0,\"\",Worksheet!D180)","v":""},{"$f":"IF(Worksheet!$A$11=TRUE,\"Y\",\"N\")","v":"N"},{"$f":"IF(Worksheet!$A$12=TRUE,\"Y\",\"N\")","v":"N"},{"$f":"IF(Worksheet!$B$11=TRUE,\"Y\",\"N\")","v":"N"},{"$f":"IF(Worksheet!$B$12=TRUE,\"Y\",\"N\")","v":"N"},{"$f":"IF(Worksheet!$C$11=TRUE,\"Y\",\"N\")","v":"N"},{"$f":"IFERROR(Worksheet!AB180,\"\")","v":0}]
[{"$f":"IF(IFERROR(SEARCH(\"Refrigerated\",Worksheet!L181,1),0)>0,122,IF(ISERROR(RIGHT(VLOOKUP(Worksheet!K181,Type!C$1:E$13,3,FALSE),3))=FALSE,RIGHT(VLOOKUP(Worksheet!K181,Type!C$1:E$13,3,FALSE),3),\"\"))","v":""},{"$f":"IF(Worksheet!M181=\"\",\"\",Worksheet!M181)","v":""},{"$f":"IF(Worksheet!N181=\"\",\"\",Worksheet!N181)","v":""},{"$f":"IF(Worksheet!Y181=0,\"\",Worksheet!Y181)","v":""},"Watts",null,null,{"$f":"Worksheet!AA181","v":0},{"$f":"IF(ISBLANK(Worksheet!V181)=FALSE,Worksheet!V181,\"\")","v":0},{"$f":"Worksheet!AG181","v":0},{"$f":"Worksheet!AF181","v":0},0,{"$f":"IF(ISERROR(SEARCH(\"Gas\",Worksheet!$A$18))=TRUE,0,Worksheet!AH181)","v":0},0,null,null,{"$f":"IF(OR(Worksheet!F181=\"Incandescent\",Worksheet!F181=\"Halogen Incandescent\")=TRUE,118,IF(LEFT(Worksheet!F181,3)=\"HID\",117,IF(OR(RIGHT(Worksheet!F181,3)=\"T12\",RIGHT(Worksheet!F181,5)=\"T12HO\")=TRUE,115,IF(OR(RIGHT(Worksheet!F181,2)=\"T8\",RIGHT(Worksheet!F181,4)=\"RWT8\",RIGHT(Worksheet!F181,4)=\"T8HO\")=TRUE,115,\"\"))))","v":""},{"$f":"IF(ISBLANK(Worksheet!W181)=FALSE,Worksheet!W181,\"\")","v":0},{"$f":"IF(ISERROR(SEARCH(\"Oil\",Worksheet!$A$18))=TRUE,0,Worksheet!AH181)","v":0},0,{"$f":"IF(ISERROR(SEARCH(\"Propane\",Worksheet!$A$18))=TRUE,0,Worksheet!AH181)","v":0},0,{"$f":"IF(Worksheet!J181=0,\"\",Worksheet!J181)","v":""},{"$f":"IF(Worksheet!B181=0,\"\",Worksheet!B181)","v":""},{"$f":"IF(Worksheet!K181=0,\"\",Worksheet!K181)","v":""},{"$f":"IF(Worksheet!L181=0,\"\",Worksheet!L181)","v":""},{"$f":"IF(Worksheet!R181=0,\"\",Worksheet!R181)","v":""},{"$f":"IF(Worksheet!F181=0,\"\",Worksheet!F181)","v":""},{"$f":"IF(Worksheet!G181=0,\"\",Worksheet!G181)","v":""},{"$f":"IF(Worksheet!X181=0,\"\",Worksheet!X181)","v":""},{"$f":"IF(Worksheet!Q181=0,\"\",Worksheet!Q181)","v":""},{"$f":"IF(Worksheet!C181=0,\"\",Worksheet!C181)","v":""},{"$f":"IF(Worksheet!D181=0,\"\",Worksheet!D181)","v":""},{"$f":"IF(Worksheet!$A$11=TRUE,\"Y\",\"N\")","v":"N"},{"$f":"IF(Worksheet!$A$12=TRUE,\"Y\",\"N\")","v":"N"},{"$f":"IF(Worksheet!$B$11=TRUE,\"Y\",\"N\")","v":"N"},{"$f":"IF(Worksheet!$B$12=TRUE,\"Y\",\"N\")","v":"N"},{"$f":"IF(Worksheet!$C$11=TRUE,\"Y\",\"N\")","v":"N"},{"$f":"IFERROR(Worksheet!AB181,\"\")","v":0}]
[{"$f":"IF(IFERROR(SEARCH(\"Refrigerated\",Worksheet!L182,1),0)>0,122,IF(ISERROR(RIGHT(VLOOKUP(Worksheet!K182,Type!C$1:E$13,3,FALSE),3))=FALSE,RIGHT(VLOOKUP(Worksheet!K182,Type!C$1:E$13,3,FALSE),3),\"\"))","v":""},{"$f":"IF(Worksheet!M182=\"\",\"\",Worksheet!M182)","v":""},{"$f":"IF(Worksheet!N182=\"\",\"\",Worksheet!N182)","v":""},{"$f":"IF(Worksheet!Y182=0,\"\",Worksheet!Y182)","v":""},"Watts",null,null,{"$f":"Worksheet!AA182","v":0},{"$f":"IF(ISBLANK(Worksheet!V182)=FALSE,Worksheet!V182,\"\")","v":0},{"$f":"Worksheet!AG182","v":0},{"$f":"Worksheet!AF182","v":0},0,{"$f":"IF(ISERROR(SEARCH(\"Gas\",Worksheet!$A$18))=TRUE,0,Worksheet!AH182)","v":0},0,null,null,{"$f":"IF(OR(Worksheet!F182=\"Incandescent\",Worksheet!F182=\"Halogen Incandescent\")=TRUE,118,IF(LEFT(Worksheet!F182,3)=\"HID\",117,IF(OR(RIGHT(Worksheet!F182,3)=\"T12\",RIGHT(Worksheet!F182,5)=\"T12HO\")=TRUE,115,IF(OR(RIGHT(Worksheet!F182,2)=\"T8\",RIGHT(Worksheet!F182,4)=\"RWT8\",RIGHT(Worksheet!F182,4)=\"T8HO\")=TRUE,115,\"\"))))","v":""},{"$f":"IF(ISBLANK(Worksheet!W182)=FALSE,Worksheet!W182,\"\")","v":0},{"$f":"IF(ISERROR(SEARCH(\"Oil\",Worksheet!$A$18))=TRUE,0,Worksheet!AH182)","v":0},0,{"$f":"IF(ISERROR(SEARCH(\"Propane\",Worksheet!$A$18))=TRUE,0,Worksheet!AH182)","v":0},0,{"$f":"IF(Worksheet!J182=0,\"\",Worksheet!J182)","v":""},{"$f":"IF(Worksheet!B182=0,\"\",Worksheet!B182)","v":""},{"$f":"IF(Worksheet!K182=0,\"\",Worksheet!K182)","v":""},{"$f":"IF(Worksheet!L182=0,\"\",Worksheet!L182)","v":""},{"$f":"IF(Worksheet!R182=0,\"\",Worksheet!R182)","v":""},{"$f":"IF(Worksheet!F182=0,\"\",Worksheet!F182)","v":""},{"$f":"IF(Worksheet!G182=0,\"\",Worksheet!G182)","v":""},{"$f":"IF(Worksheet!X182=0,\"\",Worksheet!X182)","v":""},{"$f":"IF(Worksheet!Q182=0,\"\",Worksheet!Q182)","v":""},{"$f":"IF(Worksheet!C182=0,\"\",Worksheet!C182)","v":""},{"$f":"IF(Worksheet!D182=0,\"\",Worksheet!D182)","v":""},{"$f":"IF(Worksheet!$A$11=TRUE,\"Y\",\"N\")","v":"N"},{"$f":"IF(Worksheet!$A$12=TRUE,\"Y\",\"N\")","v":"N"},{"$f":"IF(Worksheet!$B$11=TRUE,\"Y\",\"N\")","v":"N"},{"$f":"IF(Worksheet!$B$12=TRUE,\"Y\",\"N\")","v":"N"},{"$f":"IF(Worksheet!$C$11=TRUE,\"Y\",\"N\")","v":"N"},{"$f":"IFERROR(Worksheet!AB182,\"\")","v":0}]
[{"$f":"IF(IFERROR(SEARCH(\"Refrigerated\",Worksheet!L183,1),0)>0,122,IF(ISERROR(RIGHT(VLOOKUP(Worksheet!K183,Type!C$1:E$13,3,FALSE),3))=FALSE,RIGHT(VLOOKUP(Worksheet!K183,Type!C$1:E$13,3,FALSE),3),\"\"))","v":""},{"$f":"IF(Worksheet!M183=\"\",\"\",Worksheet!M183)","v":""},{"$f":"IF(Worksheet!N183=\"\",\"\",Worksheet!N183)","v":""},{"$f":"IF(Worksheet!Y183=0,\"\",Worksheet!Y183)","v":""},"Watts",null,null,{"$f":"Worksheet!AA183","v":0},{"$f":"IF(ISBLANK(Worksheet!V183)=FALSE,Worksheet!V183,\"\")","v":0},{"$f":"Worksheet!AG183","v":0},{"$f":"Worksheet!AF183","v":0},0,{"$f":"IF(ISERROR(SEARCH(\"Gas\",Worksheet!$A$18))=TRUE,0,Worksheet!AH183)","v":0},0,null,null,{"$f":"IF(OR(Worksheet!F183=\"Incandescent\",Worksheet!F183=\"Halogen Incandescent\")=TRUE,118,IF(LEFT(Worksheet!F183,3)=\"HID\",117,IF(OR(RIGHT(Worksheet!F183,3)=\"T12\",RIGHT(Worksheet!F183,5)=\"T12HO\")=TRUE,115,IF(OR(RIGHT(Worksheet!F183,2)=\"T8\",RIGHT(Worksheet!F183,4)=\"RWT8\",RIGHT(Worksheet!F183,4)=\"T8HO\")=TRUE,115,\"\"))))","v":""},{"$f":"IF(ISBLANK(Worksheet!W183)=FALSE,Worksheet!W183,\"\")","v":0},{"$f":"IF(ISERROR(SEARCH(\"Oil\",Worksheet!$A$18))=TRUE,0,Worksheet!AH183)","v":0},0,{"$f":"IF(ISERROR(SEARCH(\"Propane\",Worksheet!$A$18))=TRUE,0,Worksheet!AH183)","v":0},0,{"$f":"IF(Worksheet!J183=0,\"\",Worksheet!J183)","v":""},{"$f":"IF(Worksheet!B183=0,\"\",Worksheet!B183)","v":""},{"$f":"IF(Worksheet!K183=0,\"\",Worksheet!K183)","v":""},{"$f":"IF(Worksheet!L183=0,\"\",Worksheet!L183)","v":""},{"$f":"IF(Worksheet!R183=0,\"\",Worksheet!R183)","v":""},{"$f":"IF(Worksheet!F183=0,\"\",Worksheet!F183)","v":""},{"$f":"IF(Worksheet!G183=0,\"\",Worksheet!G183)","v":""},{"$f":"IF(Worksheet!X183=0,\"\",Worksheet!X183)","v":""},{"$f":"IF(Worksheet!Q183=0,\"\",Worksheet!Q183)","v":""},{"$f":"IF(Worksheet!C183=0,\"\",Worksheet!C183)","v":""},{"$f":"IF(Worksheet!D183=0,\"\",Worksheet!D183)","v":""},{"$f":"IF(Worksheet!$A$11=TRUE,\"Y\",\"N\")","v":"N"},{"$f":"IF(Worksheet!$A$12=TRUE,\"Y\",\"N\")","v":"N"},{"$f":"IF(Worksheet!$B$11=TRUE,\"Y\",\"N\")","v":"N"},{"$f":"IF(Worksheet!$B$12=TRUE,\"Y\",\"N\")","v":"N"},{"$f":"IF(Worksheet!$C$11=TRUE,\"Y\",\"N\")","v":"N"},{"$f":"IFERROR(Worksheet!AB183,\"\")","v":0}]
[{"$f":"IF(IFERROR(SEARCH(\"Refrigerated\",Worksheet!L184,1),0)>0,122,IF(ISERROR(RIGHT(VLOOKUP(Worksheet!K184,Type!C$1:E$13,3,FALSE),3))=FALSE,RIGHT(VLOOKUP(Worksheet!K184,Type!C$1:E$13,3,FALSE),3),\"\"))","v":""},{"$f":"IF(Worksheet!M184=\"\",\"\",Worksheet!M184)","v":""},{"$f":"IF(Worksheet!N184=\"\",\"\",Worksheet!N184)","v":""},{"$f":"IF(Worksheet!Y184=0,\"\",Worksheet!Y184)","v":""},"Watts",null,null,{"$f":"Worksheet!AA184","v":0},{"$f":"IF(ISBLANK(Worksheet!V184)=FALSE,Worksheet!V184,\"\")","v":0},{"$f":"Worksheet!AG184","v":0},{"$f":"Worksheet!AF184","v":0},0,{"$f":"IF(ISERROR(SEARCH(\"Gas\",Worksheet!$A$18))=TRUE,0,Worksheet!AH184)","v":0},0,null,null,{"$f":"IF(OR(Worksheet!F184=\"Incandescent\",Worksheet!F184=\"Halogen Incandescent\")=TRUE,118,IF(LEFT(Worksheet!F184,3)=\"HID\",117,IF(OR(RIGHT(Worksheet!F184,3)=\"T12\",RIGHT(Worksheet!F184,5)=\"T12HO\")=TRUE,115,IF(OR(RIGHT(Worksheet!F184,2)=\"T8\",RIGHT(Worksheet!F184,4)=\"RWT8\",RIGHT(Worksheet!F184,4)=\"T8HO\")=TRUE,115,\"\"))))","v":""},{"$f":"IF(ISBLANK(Worksheet!W184)=FALSE,Worksheet!W184,\"\")","v":0},{"$f":"IF(ISERROR(SEARCH(\"Oil\",Worksheet!$A$18))=TRUE,0,Worksheet!AH184)","v":0},0,{"$f":"IF(ISERROR(SEARCH(\"Propane\",Worksheet!$A$18))=TRUE,0,Worksheet!AH184)","v":0},0,{"$f":"IF(Worksheet!J184=0,\"\",Worksheet!J184)","v":""},{"$f":"IF(Worksheet!B184=0,\"\",Worksheet!B184)","v":""},{"$f":"IF(Worksheet!K184=0,\"\",Worksheet!K184)","v":""},{"$f":"IF(Worksheet!L184=0,\"\",Worksheet!L184)","v":""},{"$f":"IF(Worksheet!R184=0,\"\",Worksheet!R184)","v":""},{"$f":"IF(Worksheet!F184=0,\"\",Worksheet!F184)","v":""},{"$f":"IF(Worksheet!G184=0,\"\",Worksheet!G184)","v":""},{"$f":"IF(Worksheet!X184=0,\"\",Worksheet!X184)","v":""},{"$f":"IF(Worksheet!Q184=0,\"\",Worksheet!Q184)","v":""},{"$f":"IF(Worksheet!C184=0,\"\",Worksheet!C184)","v":""},{"$f":"IF(Worksheet!D184=0,\"\",Worksheet!D184)","v":""},{"$f":"IF(Worksheet!$A$11=TRUE,\"Y\",\"N\")","v":"N"},{"$f":"IF(Worksheet!$A$12=TRUE,\"Y\",\"N\")","v":"N"},{"$f":"IF(Worksheet!$B$11=TRUE,\"Y\",\"N\")","v":"N"},{"$f":"IF(Worksheet!$B$12=TRUE,\"Y\",\"N\")","v":"N"},{"$f":"IF(Worksheet!$C$11=TRUE,\"Y\",\"N\")","v":"N"},{"$f":"IFERROR(Worksheet!AB184,\"\")","v":0}]
[{"$f":"IF(IFERROR(SEARCH(\"Refrigerated\",Worksheet!L185,1),0)>0,122,IF(ISERROR(RIGHT(VLOOKUP(Worksheet!K185,Type!C$1:E$13,3,FALSE),3))=FALSE,RIGHT(VLOOKUP(Worksheet!K185,Type!C$1:E$13,3,FALSE),3),\"\"))","v":""},{"$f":"IF(Worksheet!M185=\"\",\"\",Worksheet!M185)","v":""},{"$f":"IF(Worksheet!N185=\"\",\"\",Worksheet!N185)","v":""},{"$f":"IF(Worksheet!Y185=0,\"\",Worksheet!Y185)","v":""},"Watts",null,null,{"$f":"Worksheet!AA185","v":0},{"$f":"IF(ISBLANK(Worksheet!V185)=FALSE,Worksheet!V185,\"\")","v":0},{"$f":"Worksheet!AG185","v":0},{"$f":"Worksheet!AF185","v":0},0,{"$f":"IF(ISERROR(SEARCH(\"Gas\",Worksheet!$A$18))=TRUE,0,Worksheet!AH185)","v":0},0,null,null,{"$f":"IF(OR(Worksheet!F185=\"Incandescent\",Worksheet!F185=\"Halogen Incandescent\")=TRUE,118,IF(LEFT(Worksheet!F185,3)=\"HID\",117,IF(OR(RIGHT(Worksheet!F185,3)=\"T12\",RIGHT(Worksheet!F185,5)=\"T12HO\")=TRUE,115,IF(OR(RIGHT(Worksheet!F185,2)=\"T8\",RIGHT(Worksheet!F185,4)=\"RWT8\",RIGHT(Worksheet!F185,4)=\"T8HO\")=TRUE,115,\"\"))))","v":""},{"$f":"IF(ISBLANK(Worksheet!W185)=FALSE,Worksheet!W185,\"\")","v":0},{"$f":"IF(ISERROR(SEARCH(\"Oil\",Worksheet!$A$18))=TRUE,0,Worksheet!AH185)","v":0},0,{"$f":"IF(ISERROR(SEARCH(\"Propane\",Worksheet!$A$18))=TRUE,0,Worksheet!AH185)","v":0},0,{"$f":"IF(Worksheet!J185=0,\"\",Worksheet!J185)","v":""},{"$f":"IF(Worksheet!B185=0,\"\",Worksheet!B185)","v":""},{"$f":"IF(Worksheet!K185=0,\"\",Worksheet!K185)","v":""},{"$f":"IF(Worksheet!L185=0,\"\",Worksheet!L185)","v":""},{"$f":"IF(Worksheet!R185=0,\"\",Worksheet!R185)","v":""},{"$f":"IF(Worksheet!F185=0,\"\",Worksheet!F185)","v":""},{"$f":"IF(Worksheet!G185=0,\"\",Worksheet!G185)","v":""},{"$f":"IF(Worksheet!X185=0,\"\",Worksheet!X185)","v":""},{"$f":"IF(Worksheet!Q185=0,\"\",Worksheet!Q185)","v":""},{"$f":"IF(Worksheet!C185=0,\"\",Worksheet!C185)","v":""},{"$f":"IF(Worksheet!D185=0,\"\",Worksheet!D185)","v":""},{"$f":"IF(Worksheet!$A$11=TRUE,\"Y\",\"N\")","v":"N"},{"$f":"IF(Worksheet!$A$12=TRUE,\"Y\",\"N\")","v":"N"},{"$f":"IF(Worksheet!$B$11=TRUE,\"Y\",\"N\")","v":"N"},{"$f":"IF(Worksheet!$B$12=TRUE,\"Y\",\"N\")","v":"N"},{"$f":"IF(Worksheet!$C$11=TRUE,\"Y\",\"N\")","v":"N"},{"$f":"IFERROR(Worksheet!AB185,\"\")","v":0}]
[{"$f":"IF(IFERROR(SEARCH(\"Refrigerated\",Worksheet!L186,1),0)>0,122,IF(ISERROR(RIGHT(VLOOKUP(Worksheet!K186,Type!C$1:E$13,3,FALSE),3))=FALSE,RIGHT(VLOOKUP(Worksheet!K186,Type!C$1:E$13,3,FALSE),3),\"\"))","v":""},{"$f":"IF(Worksheet!M186=\"\",\"\",Worksheet!M186)","v":""},{"$f":"IF(Worksheet!N186=\"\",\"\",Worksheet!N186)","v":""},{"$f":"IF(Worksheet!Y186=0,\"\",Worksheet!Y186)","v":""},"Watts",null,null,{"$f":"Worksheet!AA186","v":0},{"$f":"IF(ISBLANK(Worksheet!V186)=FALSE,Worksheet!V186,\"\")","v":0},{"$f":"Worksheet!AG186","v":0},{"$f":"Worksheet!AF186","v":0},0,{"$f":"IF(ISERROR(SEARCH(\"Gas\",Worksheet!$A$18))=TRUE,0,Worksheet!AH186)","v":0},0,null,null,{"$f":"IF(OR(Worksheet!F186=\"Incandescent\",Worksheet!F186=\"Halogen Incandescent\")=TRUE,118,IF(LEFT(Worksheet!F186,3)=\"HID\",117,IF(OR(RIGHT(Worksheet!F186,3)=\"T12\",RIGHT(Worksheet!F186,5)=\"T12HO\")=TRUE,115,IF(OR(RIGHT(Worksheet!F186,2)=\"T8\",RIGHT(Worksheet!F186,4)=\"RWT8\",RIGHT(Worksheet!F186,4)=\"T8HO\")=TRUE,115,\"\"))))","v":""},{"$f":"IF(ISBLANK(Worksheet!W186)=FALSE,Worksheet!W186,\"\")","v":0},{"$f":"IF(ISERROR(SEARCH(\"Oil\",Worksheet!$A$18))=TRUE,0,Worksheet!AH186)","v":0},0,{"$f":"IF(ISERROR(SEARCH(\"Propane\",Worksheet!$A$18))=TRUE,0,Worksheet!AH186)","v":0},0,{"$f":"IF(Worksheet!J186=0,\"\",Worksheet!J186)","v":""},{"$f":"IF(Worksheet!B186=0,\"\",Worksheet!B186)","v":""},{"$f":"IF(Worksheet!K186=0,\"\",Worksheet!K186)","v":""},{"$f":"IF(Worksheet!L186=0,\"\",Worksheet!L186)","v":""},{"$f":"IF(Worksheet!R186=0,\"\",Worksheet!R186)","v":""},{"$f":"IF(Worksheet!F186=0,\"\",Worksheet!F186)","v":""},{"$f":"IF(Worksheet!G186=0,\"\",Worksheet!G186)","v":""},{"$f":"IF(Worksheet!X186=0,\"\",Worksheet!X186)","v":""},{"$f":"IF(Worksheet!Q186=0,\"\",Worksheet!Q186)","v":""},{"$f":"IF(Worksheet!C186=0,\"\",Worksheet!C186)","v":""},{"$f":"IF(Worksheet!D186=0,\"\",Worksheet!D186)","v":""},{"$f":"IF(Worksheet!$A$11=TRUE,\"Y\",\"N\")","v":"N"},{"$f":"IF(Worksheet!$A$12=TRUE,\"Y\",\"N\")","v":"N"},{"$f":"IF(Worksheet!$B$11=TRUE,\"Y\",\"N\")","v":"N"},{"$f":"IF(Worksheet!$B$12=TRUE,\"Y\",\"N\")","v":"N"},{"$f":"IF(Worksheet!$C$11=TRUE,\"Y\",\"N\")","v":"N"},{"$f":"IFERROR(Worksheet!AB186,\"\")","v":0}]
[{"$f":"IF(IFERROR(SEARCH(\"Refrigerated\",Worksheet!L187,1),0)>0,122,IF(ISERROR(RIGHT(VLOOKUP(Worksheet!K187,Type!C$1:E$13,3,FALSE),3))=FALSE,RIGHT(VLOOKUP(Worksheet!K187,Type!C$1:E$13,3,FALSE),3),\"\"))","v":""},{"$f":"IF(Worksheet!M187=\"\",\"\",Worksheet!M187)","v":""},{"$f":"IF(Worksheet!N187=\"\",\"\",Worksheet!N187)","v":""},{"$f":"IF(Worksheet!Y187=0,\"\",Worksheet!Y187)","v":""},"Watts",null,null,{"$f":"Worksheet!AA187","v":0},{"$f":"IF(ISBLANK(Worksheet!V187)=FALSE,Worksheet!V187,\"\")","v":0},{"$f":"Worksheet!AG187","v":0},{"$f":"Worksheet!AF187","v":0},0,{"$f":"IF(ISERROR(SEARCH(\"Gas\",Worksheet!$A$18))=TRUE,0,Worksheet!AH187)","v":0},0,null,null,{"$f":"IF(OR(Worksheet!F187=\"Incandescent\",Worksheet!F187=\"Halogen Incandescent\")=TRUE,118,IF(LEFT(Worksheet!F187,3)=\"HID\",117,IF(OR(RIGHT(Worksheet!F187,3)=\"T12\",RIGHT(Worksheet!F187,5)=\"T12HO\")=TRUE,115,IF(OR(RIGHT(Worksheet!F187,2)=\"T8\",RIGHT(Worksheet!F187,4)=\"RWT8\",RIGHT(Worksheet!F187,4)=\"T8HO\")=TRUE,115,\"\"))))","v":""},{"$f":"IF(ISBLANK(Worksheet!W187)=FALSE,Worksheet!W187,\"\")","v":0},{"$f":"IF(ISERROR(SEARCH(\"Oil\",Worksheet!$A$18))=TRUE,0,Worksheet!AH187)","v":0},0,{"$f":"IF(ISERROR(SEARCH(\"Propane\",Worksheet!$A$18))=TRUE,0,Worksheet!AH187)","v":0},0,{"$f":"IF(Worksheet!J187=0,\"\",Worksheet!J187)","v":""},{"$f":"IF(Worksheet!B187=0,\"\",Worksheet!B187)","v":""},{"$f":"IF(Worksheet!K187=0,\"\",Worksheet!K187)","v":""},{"$f":"IF(Worksheet!L187=0,\"\",Worksheet!L187)","v":""},{"$f":"IF(Worksheet!R187=0,\"\",Worksheet!R187)","v":""},{"$f":"IF(Worksheet!F187=0,\"\",Worksheet!F187)","v":""},{"$f":"IF(Worksheet!G187=0,\"\",Worksheet!G187)","v":""},{"$f":"IF(Worksheet!X187=0,\"\",Worksheet!X187)","v":""},{"$f":"IF(Worksheet!Q187=0,\"\",Worksheet!Q187)","v":""},{"$f":"IF(Worksheet!C187=0,\"\",Worksheet!C187)","v":""},{"$f":"IF(Worksheet!D187=0,\"\",Worksheet!D187)","v":""},{"$f":"IF(Worksheet!$A$11=TRUE,\"Y\",\"N\")","v":"N"},{"$f":"IF(Worksheet!$A$12=TRUE,\"Y\",\"N\")","v":"N"},{"$f":"IF(Worksheet!$B$11=TRUE,\"Y\",\"N\")","v":"N"},{"$f":"IF(Worksheet!$B$12=TRUE,\"Y\",\"N\")","v":"N"},{"$f":"IF(Worksheet!$C$11=TRUE,\"Y\",\"N\")","v":"N"},{"$f":"IFERROR(Worksheet!AB187,\"\")","v":0}]
[{"$f":"IF(IFERROR(SEARCH(\"Refrigerated\",Worksheet!L188,1),0)>0,122,IF(ISERROR(RIGHT(VLOOKUP(Worksheet!K188,Type!C$1:E$13,3,FALSE),3))=FALSE,RIGHT(VLOOKUP(Worksheet!K188,Type!C$1:E$13,3,FALSE),3),\"\"))","v":""},{"$f":"IF(Worksheet!M188=\"\",\"\",Worksheet!M188)","v":""},{"$f":"IF(Worksheet!N188=\"\",\"\",Worksheet!N188)","v":""},{"$f":"IF(Worksheet!Y188=0,\"\",Worksheet!Y188)","v":""},"Watts",null,null,{"$f":"Worksheet!AA188","v":0},{"$f":"IF(ISBLANK(Worksheet!V188)=FALSE,Worksheet!V188,\"\")","v":0},{"$f":"Worksheet!AG188","v":0},{"$f":"Worksheet!AF188","v":0},0,{"$f":"IF(ISERROR(SEARCH(\"Gas\",Worksheet!$A$18))=TRUE,0,Worksheet!AH188)","v":0},0,null,null,{"$f":"IF(OR(Worksheet!F188=\"Incandescent\",Worksheet!F188=\"Halogen Incandescent\")=TRUE,118,IF(LEFT(Worksheet!F188,3)=\"HID\",117,IF(OR(RIGHT(Worksheet!F188,3)=\"T12\",RIGHT(Worksheet!F188,5)=\"T12HO\")=TRUE,115,IF(OR(RIGHT(Worksheet!F188,2)=\"T8\",RIGHT(Worksheet!F188,4)=\"RWT8\",RIGHT(Worksheet!F188,4)=\"T8HO\")=TRUE,115,\"\"))))","v":""},{"$f":"IF(ISBLANK(Worksheet!W188)=FALSE,Worksheet!W188,\"\")","v":0},{"$f":"IF(ISERROR(SEARCH(\"Oil\",Worksheet!$A$18))=TRUE,0,Worksheet!AH188)","v":0},0,{"$f":"IF(ISERROR(SEARCH(\"Propane\",Worksheet!$A$18))=TRUE,0,Worksheet!AH188)","v":0},0,{"$f":"IF(Worksheet!J188=0,\"\",Worksheet!J188)","v":""},{"$f":"IF(Worksheet!B188=0,\"\",Worksheet!B188)","v":""},{"$f":"IF(Worksheet!K188=0,\"\",Worksheet!K188)","v":""},{"$f":"IF(Worksheet!L188=0,\"\",Worksheet!L188)","v":""},{"$f":"IF(Worksheet!R188=0,\"\",Worksheet!R188)","v":""},{"$f":"IF(Worksheet!F188=0,\"\",Worksheet!F188)","v":""},{"$f":"IF(Worksheet!G188=0,\"\",Worksheet!G188)","v":""},{"$f":"IF(Worksheet!X188=0,\"\",Worksheet!X188)","v":""},{"$f":"IF(Worksheet!Q188=0,\"\",Worksheet!Q188)","v":""},{"$f":"IF(Worksheet!C188=0,\"\",Worksheet!C188)","v":""},{"$f":"IF(Worksheet!D188=0,\"\",Worksheet!D188)","v":""},{"$f":"IF(Worksheet!$A$11=TRUE,\"Y\",\"N\")","v":"N"},{"$f":"IF(Worksheet!$A$12=TRUE,\"Y\",\"N\")","v":"N"},{"$f":"IF(Worksheet!$B$11=TRUE,\"Y\",\"N\")","v":"N"},{"$f":"IF(Worksheet!$B$12=TRUE,\"Y\",\"N\")","v":"N"},{"$f":"IF(Worksheet!$C$11=TRUE,\"Y\",\"N\")","v":"N"},{"$f":"IFERROR(Worksheet!AB188,\"\")","v":0}]
[{"$f":"IF(IFERROR(SEARCH(\"Refrigerated\",Worksheet!L189,1),0)>0,122,IF(ISERROR(RIGHT(VLOOKUP(Worksheet!K189,Type!C$1:E$13,3,FALSE),3))=FALSE,RIGHT(VLOOKUP(Worksheet!K189,Type!C$1:E$13,3,FALSE),3),\"\"))","v":""},{"$f":"IF(Worksheet!M189=\"\",\"\",Worksheet!M189)","v":""},{"$f":"IF(Worksheet!N189=\"\",\"\",Worksheet!N189)","v":""},{"$f":"IF(Worksheet!Y189=0,\"\",Worksheet!Y189)","v":""},"Watts",null,null,{"$f":"Worksheet!AA189","v":0},{"$f":"IF(ISBLANK(Worksheet!V189)=FALSE,Worksheet!V189,\"\")","v":0},{"$f":"Worksheet!AG189","v":0},{"$f":"Worksheet!AF189","v":0},0,{"$f":"IF(ISERROR(SEARCH(\"Gas\",Worksheet!$A$18))=TRUE,0,Worksheet!AH189)","v":0},0,null,null,{"$f":"IF(OR(Worksheet!F189=\"Incandescent\",Worksheet!F189=\"Halogen Incandescent\")=TRUE,118,IF(LEFT(Worksheet!F189,3)=\"HID\",117,IF(OR(RIGHT(Worksheet!F189,3)=\"T12\",RIGHT(Worksheet!F189,5)=\"T12HO\")=TRUE,115,IF(OR(RIGHT(Worksheet!F189,2)=\"T8\",RIGHT(Worksheet!F189,4)=\"RWT8\",RIGHT(Worksheet!F189,4)=\"T8HO\")=TRUE,115,\"\"))))","v":""},{"$f":"IF(ISBLANK(Worksheet!W189)=FALSE,Worksheet!W189,\"\")","v":0},{"$f":"IF(ISERROR(SEARCH(\"Oil\",Worksheet!$A$18))=TRUE,0,Worksheet!AH189)","v":0},0,{"$f":"IF(ISERROR(SEARCH(\"Propane\",Worksheet!$A$18))=TRUE,0,Worksheet!AH189)","v":0},0,{"$f":"IF(Worksheet!J189=0,\"\",Worksheet!J189)","v":""},{"$f":"IF(Worksheet!B189=0,\"\",Worksheet!B189)","v":""},{"$f":"IF(Worksheet!K189=0,\"\",Worksheet!K189)","v":""},{"$f":"IF(Worksheet!L189=0,\"\",Worksheet!L189)","v":""},{"$f":"IF(Worksheet!R189=0,\"\",Worksheet!R189)","v":""},{"$f":"IF(Worksheet!F189=0,\"\",Worksheet!F189)","v":""},{"$f":"IF(Worksheet!G189=0,\"\",Worksheet!G189)","v":""},{"$f":"IF(Worksheet!X189=0,\"\",Worksheet!X189)","v":""},{"$f":"IF(Worksheet!Q189=0,\"\",Worksheet!Q189)","v":""},{"$f":"IF(Worksheet!C189=0,\"\",Worksheet!C189)","v":""},{"$f":"IF(Worksheet!D189=0,\"\",Worksheet!D189)","v":""},{"$f":"IF(Worksheet!$A$11=TRUE,\"Y\",\"N\")","v":"N"},{"$f":"IF(Worksheet!$A$12=TRUE,\"Y\",\"N\")","v":"N"},{"$f":"IF(Worksheet!$B$11=TRUE,\"Y\",\"N\")","v":"N"},{"$f":"IF(Worksheet!$B$12=TRUE,\"Y\",\"N\")","v":"N"},{"$f":"IF(Worksheet!$C$11=TRUE,\"Y\",\"N\")","v":"N"},{"$f":"IFERROR(Worksheet!AB189,\"\")","v":0}]
[{"$f":"IF(IFERROR(SEARCH(\"Refrigerated\",Worksheet!L190,1),0)>0,122,IF(ISERROR(RIGHT(VLOOKUP(Worksheet!K190,Type!C$1:E$13,3,FALSE),3))=FALSE,RIGHT(VLOOKUP(Worksheet!K190,Type!C$1:E$13,3,FALSE),3),\"\"))","v":""},{"$f":"IF(Worksheet!M190=\"\",\"\",Worksheet!M190)","v":""},{"$f":"IF(Worksheet!N190=\"\",\"\",Worksheet!N190)","v":""},{"$f":"IF(Worksheet!Y190=0,\"\",Worksheet!Y190)","v":""},"Watts",null,null,{"$f":"Worksheet!AA190","v":0},{"$f":"IF(ISBLANK(Worksheet!V190)=FALSE,Worksheet!V190,\"\")","v":0},{"$f":"Worksheet!AG190","v":0},{"$f":"Worksheet!AF190","v":0},0,{"$f":"IF(ISERROR(SEARCH(\"Gas\",Worksheet!$A$18))=TRUE,0,Worksheet!AH190)","v":0},0,null,null,{"$f":"IF(OR(Worksheet!F190=\"Incandescent\",Worksheet!F190=\"Halogen Incandescent\")=TRUE,118,IF(LEFT(Worksheet!F190,3)=\"HID\",117,IF(OR(RIGHT(Worksheet!F190,3)=\"T12\",RIGHT(Worksheet!F190,5)=\"T12HO\")=TRUE,115,IF(OR(RIGHT(Worksheet!F190,2)=\"T8\",RIGHT(Worksheet!F190,4)=\"RWT8\",RIGHT(Worksheet!F190,4)=\"T8HO\")=TRUE,115,\"\"))))","v":""},{"$f":"IF(ISBLANK(Worksheet!W190)=FALSE,Worksheet!W190,\"\")","v":0},{"$f":"IF(ISERROR(SEARCH(\"Oil\",Worksheet!$A$18))=TRUE,0,Worksheet!AH190)","v":0},0,{"$f":"IF(ISERROR(SEARCH(\"Propane\",Worksheet!$A$18))=TRUE,0,Worksheet!AH190)","v":0},0,{"$f":"IF(Worksheet!J190=0,\"\",Worksheet!J190)","v":""},{"$f":"IF(Worksheet!B190=0,\"\",Worksheet!B190)","v":""},{"$f":"IF(Worksheet!K190=0,\"\",Worksheet!K190)","v":""},{"$f":"IF(Worksheet!L190=0,\"\",Worksheet!L190)","v":""},{"$f":"IF(Worksheet!R190=0,\"\",Worksheet!R190)","v":""},{"$f":"IF(Worksheet!F190=0,\"\",Worksheet!F190)","v":""},{"$f":"IF(Worksheet!G190=0,\"\",Worksheet!G190)","v":""},{"$f":"IF(Worksheet!X190=0,\"\",Worksheet!X190)","v":""},{"$f":"IF(Worksheet!Q190=0,\"\",Worksheet!Q190)","v":""},{"$f":"IF(Worksheet!C190=0,\"\",Worksheet!C190)","v":""},{"$f":"IF(Worksheet!D190=0,\"\",Worksheet!D190)","v":""},{"$f":"IF(Worksheet!$A$11=TRUE,\"Y\",\"N\")","v":"N"},{"$f":"IF(Worksheet!$A$12=TRUE,\"Y\",\"N\")","v":"N"},{"$f":"IF(Worksheet!$B$11=TRUE,\"Y\",\"N\")","v":"N"},{"$f":"IF(Worksheet!$B$12=TRUE,\"Y\",\"N\")","v":"N"},{"$f":"IF(Worksheet!$C$11=TRUE,\"Y\",\"N\")","v":"N"},{"$f":"IFERROR(Worksheet!AB190,\"\")","v":0}]
[{"$f":"IF(IFERROR(SEARCH(\"Refrigerated\",Worksheet!L191,1),0)>0,122,IF(ISERROR(RIGHT(VLOOKUP(Worksheet!K191,Type!C$1:E$13,3,FALSE),3))=FALSE,RIGHT(VLOOKUP(Worksheet!K191,Type!C$1:E$13,3,FALSE),3),\"\"))","v":""},{"$f":"IF(Worksheet!M191=\"\",\"\",Worksheet!M191)","v":""},{"$f":"IF(Worksheet!N191=\"\",\"\",Worksheet!N191)","v":""},{"$f":"IF(Worksheet!Y191=0,\"\",Worksheet!Y191)","v":""},"Watts",null,null,{"$f":"Worksheet!AA191","v":0},{"$f":"IF(ISBLANK(Worksheet!V191)=FALSE,Worksheet!V191,\"\")","v":0},{"$f":"Worksheet!AG191","v":0},{"$f":"Worksheet!AF191","v":0},0,{"$f":"IF(ISERROR(SEARCH(\"Gas\",Worksheet!$A$18))=TRUE,0,Worksheet!AH191)","v":0},0,null,null,{"$f":"IF(OR(Worksheet!F191=\"Incandescent\",Worksheet!F191=\"Halogen Incandescent\")=TRUE,118,IF(LEFT(Worksheet!F191,3)=\"HID\",117,IF(OR(RIGHT(Worksheet!F191,3)=\"T12\",RIGHT(Worksheet!F191,5)=\"T12HO\")=TRUE,115,IF(OR(RIGHT(Worksheet!F191,2)=\"T8\",RIGHT(Worksheet!F191,4)=\"RWT8\",RIGHT(Worksheet!F191,4)=\"T8HO\")=TRUE,115,\"\"))))","v":""},{"$f":"IF(ISBLANK(Worksheet!W191)=FALSE,Worksheet!W191,\"\")","v":0},{"$f":"IF(ISERROR(SEARCH(\"Oil\",Worksheet!$A$18))=TRUE,0,Worksheet!AH191)","v":0},0,{"$f":"IF(ISERROR(SEARCH(\"Propane\",Worksheet!$A$18))=TRUE,0,Worksheet!AH191)","v":0},0,{"$f":"IF(Worksheet!J191=0,\"\",Worksheet!J191)","v":""},{"$f":"IF(Worksheet!B191=0,\"\",Worksheet!B191)","v":""},{"$f":"IF(Worksheet!K191=0,\"\",Worksheet!K191)","v":""},{"$f":"IF(Worksheet!L191=0,\"\",Worksheet!L191)","v":""},{"$f":"IF(Worksheet!R191=0,\"\",Worksheet!R191)","v":""},{"$f":"IF(Worksheet!F191=0,\"\",Worksheet!F191)","v":""},{"$f":"IF(Worksheet!G191=0,\"\",Worksheet!G191)","v":""},{"$f":"IF(Worksheet!X191=0,\"\",Worksheet!X191)","v":""},{"$f":"IF(Worksheet!Q191=0,\"\",Worksheet!Q191)","v":""},{"$f":"IF(Worksheet!C191=0,\"\",Worksheet!C191)","v":""},{"$f":"IF(Worksheet!D191=0,\"\",Worksheet!D191)","v":""},{"$f":"IF(Worksheet!$A$11=TRUE,\"Y\",\"N\")","v":"N"},{"$f":"IF(Worksheet!$A$12=TRUE,\"Y\",\"N\")","v":"N"},{"$f":"IF(Worksheet!$B$11=TRUE,\"Y\",\"N\")","v":"N"},{"$f":"IF(Worksheet!$B$12=TRUE,\"Y\",\"N\")","v":"N"},{"$f":"IF(Worksheet!$C$11=TRUE,\"Y\",\"N\")","v":"N"},{"$f":"IFERROR(Worksheet!AB191,\"\")","v":0}]
[{"$f":"IF(IFERROR(SEARCH(\"Refrigerated\",Worksheet!L192,1),0)>0,122,IF(ISERROR(RIGHT(VLOOKUP(Worksheet!K192,Type!C$1:E$13,3,FALSE),3))=FALSE,RIGHT(VLOOKUP(Worksheet!K192,Type!C$1:E$13,3,FALSE),3),\"\"))","v":""},{"$f":"IF(Worksheet!M192=\"\",\"\",Worksheet!M192)","v":""},{"$f":"IF(Worksheet!N192=\"\",\"\",Worksheet!N192)","v":""},{"$f":"IF(Worksheet!Y192=0,\"\",Worksheet!Y192)","v":""},"Watts",null,null,{"$f":"Worksheet!AA192","v":0},{"$f":"IF(ISBLANK(Worksheet!V192)=FALSE,Worksheet!V192,\"\")","v":0},{"$f":"Worksheet!AG192","v":0},{"$f":"Worksheet!AF192","v":0},0,{"$f":"IF(ISERROR(SEARCH(\"Gas\",Worksheet!$A$18))=TRUE,0,Worksheet!AH192)","v":0},0,null,null,{"$f":"IF(OR(Worksheet!F192=\"Incandescent\",Worksheet!F192=\"Halogen Incandescent\")=TRUE,118,IF(LEFT(Worksheet!F192,3)=\"HID\",117,IF(OR(RIGHT(Worksheet!F192,3)=\"T12\",RIGHT(Worksheet!F192,5)=\"T12HO\")=TRUE,115,IF(OR(RIGHT(Worksheet!F192,2)=\"T8\",RIGHT(Worksheet!F192,4)=\"RWT8\",RIGHT(Worksheet!F192,4)=\"T8HO\")=TRUE,115,\"\"))))","v":""},{"$f":"IF(ISBLANK(Worksheet!W192)=FALSE,Worksheet!W192,\"\")","v":0},{"$f":"IF(ISERROR(SEARCH(\"Oil\",Worksheet!$A$18))=TRUE,0,Worksheet!AH192)","v":0},0,{"$f":"IF(ISERROR(SEARCH(\"Propane\",Worksheet!$A$18))=TRUE,0,Worksheet!AH192)","v":0},0,{"$f":"IF(Worksheet!J192=0,\"\",Worksheet!J192)","v":""},{"$f":"IF(Worksheet!B192=0,\"\",Worksheet!B192)","v":""},{"$f":"IF(Worksheet!K192=0,\"\",Worksheet!K192)","v":""},{"$f":"IF(Worksheet!L192=0,\"\",Worksheet!L192)","v":""},{"$f":"IF(Worksheet!R192=0,\"\",Worksheet!R192)","v":""},{"$f":"IF(Worksheet!F192=0,\"\",Worksheet!F192)","v":""},{"$f":"IF(Worksheet!G192=0,\"\",Worksheet!G192)","v":""},{"$f":"IF(Worksheet!X192=0,\"\",Worksheet!X192)","v":""},{"$f":"IF(Worksheet!Q192=0,\"\",Worksheet!Q192)","v":""},{"$f":"IF(Worksheet!C192=0,\"\",Worksheet!C192)","v":""},{"$f":"IF(Worksheet!D192=0,\"\",Worksheet!D192)","v":""},{"$f":"IF(Worksheet!$A$11=TRUE,\"Y\",\"N\")","v":"N"},{"$f":"IF(Worksheet!$A$12=TRUE,\"Y\",\"N\")","v":"N"},{"$f":"IF(Worksheet!$B$11=TRUE,\"Y\",\"N\")","v":"N"},{"$f":"IF(Worksheet!$B$12=TRUE,\"Y\",\"N\")","v":"N"},{"$f":"IF(Worksheet!$C$11=TRUE,\"Y\",\"N\")","v":"N"},{"$f":"IFERROR(Worksheet!AB192,\"\")","v":0}]
[{"$f":"IF(IFERROR(SEARCH(\"Refrigerated\",Worksheet!L193,1),0)>0,122,IF(ISERROR(RIGHT(VLOOKUP(Worksheet!K193,Type!C$1:E$13,3,FALSE),3))=FALSE,RIGHT(VLOOKUP(Worksheet!K193,Type!C$1:E$13,3,FALSE),3),\"\"))","v":""},{"$f":"IF(Worksheet!M193=\"\",\"\",Worksheet!M193)","v":""},{"$f":"IF(Worksheet!N193=\"\",\"\",Worksheet!N193)","v":""},{"$f":"IF(Worksheet!Y193=0,\"\",Worksheet!Y193)","v":""},"Watts",null,null,{"$f":"Worksheet!AA193","v":0},{"$f":"IF(ISBLANK(Worksheet!V193)=FALSE,Worksheet!V193,\"\")","v":0},{"$f":"Worksheet!AG193","v":0},{"$f":"Worksheet!AF193","v":0},0,{"$f":"IF(ISERROR(SEARCH(\"Gas\",Worksheet!$A$18))=TRUE,0,Worksheet!AH193)","v":0},0,null,null,{"$f":"IF(OR(Worksheet!F193=\"Incandescent\",Worksheet!F193=\"Halogen Incandescent\")=TRUE,118,IF(LEFT(Worksheet!F193,3)=\"HID\",117,IF(OR(RIGHT(Worksheet!F193,3)=\"T12\",RIGHT(Worksheet!F193,5)=\"T12HO\")=TRUE,115,IF(OR(RIGHT(Worksheet!F193,2)=\"T8\",RIGHT(Worksheet!F193,4)=\"RWT8\",RIGHT(Worksheet!F193,4)=\"T8HO\")=TRUE,115,\"\"))))","v":""},{"$f":"IF(ISBLANK(Worksheet!W193)=FALSE,Worksheet!W193,\"\")","v":0},{"$f":"IF(ISERROR(SEARCH(\"Oil\",Worksheet!$A$18))=TRUE,0,Worksheet!AH193)","v":0},0,{"$f":"IF(ISERROR(SEARCH(\"Propane\",Worksheet!$A$18))=TRUE,0,Worksheet!AH193)","v":0},0,{"$f":"IF(Worksheet!J193=0,\"\",Worksheet!J193)","v":""},{"$f":"IF(Worksheet!B193=0,\"\",Worksheet!B193)","v":""},{"$f":"IF(Worksheet!K193=0,\"\",Worksheet!K193)","v":""},{"$f":"IF(Worksheet!L193=0,\"\",Worksheet!L193)","v":""},{"$f":"IF(Worksheet!R193=0,\"\",Worksheet!R193)","v":""},{"$f":"IF(Worksheet!F193=0,\"\",Worksheet!F193)","v":""},{"$f":"IF(Worksheet!G193=0,\"\",Worksheet!G193)","v":""},{"$f":"IF(Worksheet!X193=0,\"\",Worksheet!X193)","v":""},{"$f":"IF(Worksheet!Q193=0,\"\",Worksheet!Q193)","v":""},{"$f":"IF(Worksheet!C193=0,\"\",Worksheet!C193)","v":""},{"$f":"IF(Worksheet!D193=0,\"\",Worksheet!D193)","v":""},{"$f":"IF(Worksheet!$A$11=TRUE,\"Y\",\"N\")","v":"N"},{"$f":"IF(Worksheet!$A$12=TRUE,\"Y\",\"N\")","v":"N"},{"$f":"IF(Worksheet!$B$11=TRUE,\"Y\",\"N\")","v":"N"},{"$f":"IF(Worksheet!$B$12=TRUE,\"Y\",\"N\")","v":"N"},{"$f":"IF(Worksheet!$C$11=TRUE,\"Y\",\"N\")","v":"N"},{"$f":"IFERROR(Worksheet!AB193,\"\")","v":0}]
[{"$f":"IF(IFERROR(SEARCH(\"Refrigerated\",Worksheet!L194,1),0)>0,122,IF(ISERROR(RIGHT(VLOOKUP(Worksheet!K194,Type!C$1:E$13,3,FALSE),3))=FALSE,RIGHT(VLOOKUP(Worksheet!K194,Type!C$1:E$13,3,FALSE),3),\"\"))","v":""},{"$f":"IF(Worksheet!M194=\"\",\"\",Worksheet!M194)","v":""},{"$f":"IF(Worksheet!N194=\"\",\"\",Worksheet!N194)","v":""},{"$f":"IF(Worksheet!Y194=0,\"\",Worksheet!Y194)","v":""},"Watts",null,null,{"$f":"Worksheet!AA194","v":0},{"$f":"IF(ISBLANK(Worksheet!V194)=FALSE,Worksheet!V194,\"\")","v":0},{"$f":"Worksheet!AG194","v":0},{"$f":"Worksheet!AF194","v":0},0,{"$f":"IF(ISERROR(SEARCH(\"Gas\",Worksheet!$A$18))=TRUE,0,Worksheet!AH194)","v":0},0,null,null,{"$f":"IF(OR(Worksheet!F194=\"Incandescent\",Worksheet!F194=\"Halogen Incandescent\")=TRUE,118,IF(LEFT(Worksheet!F194,3)=\"HID\",117,IF(OR(RIGHT(Worksheet!F194,3)=\"T12\",RIGHT(Worksheet!F194,5)=\"T12HO\")=TRUE,115,IF(OR(RIGHT(Worksheet!F194,2)=\"T8\",RIGHT(Worksheet!F194,4)=\"RWT8\",RIGHT(Worksheet!F194,4)=\"T8HO\")=TRUE,115,\"\"))))","v":""},{"$f":"IF(ISBLANK(Worksheet!W194)=FALSE,Worksheet!W194,\"\")","v":0},{"$f":"IF(ISERROR(SEARCH(\"Oil\",Worksheet!$A$18))=TRUE,0,Worksheet!AH194)","v":0},0,{"$f":"IF(ISERROR(SEARCH(\"Propane\",Worksheet!$A$18))=TRUE,0,Worksheet!AH194)","v":0},0,{"$f":"IF(Worksheet!J194=0,\"\",Worksheet!J194)","v":""},{"$f":"IF(Worksheet!B194=0,\"\",Worksheet!B194)","v":""},{"$f":"IF(Worksheet!K194=0,\"\",Worksheet!K194)","v":""},{"$f":"IF(Worksheet!L194=0,\"\",Worksheet!L194)","v":""},{"$f":"IF(Worksheet!R194=0,\"\",Worksheet!R194)","v":""},{"$f":"IF(Worksheet!F194=0,\"\",Worksheet!F194)","v":""},{"$f":"IF(Worksheet!G194=0,\"\",Worksheet!G194)","v":""},{"$f":"IF(Worksheet!X194=0,\"\",Worksheet!X194)","v":""},{"$f":"IF(Worksheet!Q194=0,\"\",Worksheet!Q194)","v":""},{"$f":"IF(Worksheet!C194=0,\"\",Worksheet!C194)","v":""},{"$f":"IF(Worksheet!D194=0,\"\",Worksheet!D194)","v":""},{"$f":"IF(Worksheet!$A$11=TRUE,\"Y\",\"N\")","v":"N"},{"$f":"IF(Worksheet!$A$12=TRUE,\"Y\",\"N\")","v":"N"},{"$f":"IF(Worksheet!$B$11=TRUE,\"Y\",\"N\")","v":"N"},{"$f":"IF(Worksheet!$B$12=TRUE,\"Y\",\"N\")","v":"N"},{"$f":"IF(Worksheet!$C$11=TRUE,\"Y\",\"N\")","v":"N"},{"$f":"IFERROR(Worksheet!AB194,\"\")","v":0}]
[{"$f":"IF(IFERROR(SEARCH(\"Refrigerated\",Worksheet!L195,1),0)>0,122,IF(ISERROR(RIGHT(VLOOKUP(Worksheet!K195,Type!C$1:E$13,3,FALSE),3))=FALSE,RIGHT(VLOOKUP(Worksheet!K195,Type!C$1:E$13,3,FALSE),3),\"\"))","v":""},{"$f":"IF(Worksheet!M195=\"\",\"\",Worksheet!M195)","v":""},{"$f":"IF(Worksheet!N195=\"\",\"\",Worksheet!N195)","v":""},{"$f":"IF(Worksheet!Y195=0,\"\",Worksheet!Y195)","v":""},"Watts",null,null,{"$f":"Worksheet!AA195","v":0},{"$f":"IF(ISBLANK(Worksheet!V195)=FALSE,Worksheet!V195,\"\")","v":0},{"$f":"Worksheet!AG195","v":0},{"$f":"Worksheet!AF195","v":0},0,{"$f":"IF(ISERROR(SEARCH(\"Gas\",Worksheet!$A$18))=TRUE,0,Worksheet!AH195)","v":0},0,null,null,{"$f":"IF(OR(Worksheet!F195=\"Incandescent\",Worksheet!F195=\"Halogen Incandescent\")=TRUE,118,IF(LEFT(Worksheet!F195,3)=\"HID\",117,IF(OR(RIGHT(Worksheet!F195,3)=\"T12\",RIGHT(Worksheet!F195,5)=\"T12HO\")=TRUE,115,IF(OR(RIGHT(Worksheet!F195,2)=\"T8\",RIGHT(Worksheet!F195,4)=\"RWT8\",RIGHT(Worksheet!F195,4)=\"T8HO\")=TRUE,115,\"\"))))","v":""},{"$f":"IF(ISBLANK(Worksheet!W195)=FALSE,Worksheet!W195,\"\")","v":0},{"$f":"IF(ISERROR(SEARCH(\"Oil\",Worksheet!$A$18))=TRUE,0,Worksheet!AH195)","v":0},0,{"$f":"IF(ISERROR(SEARCH(\"Propane\",Worksheet!$A$18))=TRUE,0,Worksheet!AH195)","v":0},0,{"$f":"IF(Worksheet!J195=0,\"\",Worksheet!J195)","v":""},{"$f":"IF(Worksheet!B195=0,\"\",Worksheet!B195)","v":""},{"$f":"IF(Worksheet!K195=0,\"\",Worksheet!K195)","v":""},{"$f":"IF(Worksheet!L195=0,\"\",Worksheet!L195)","v":""},{"$f":"IF(Worksheet!R195=0,\"\",Worksheet!R195)","v":""},{"$f":"IF(Worksheet!F195=0,\"\",Worksheet!F195)","v":""},{"$f":"IF(Worksheet!G195=0,\"\",Worksheet!G195)","v":""},{"$f":"IF(Worksheet!X195=0,\"\",Worksheet!X195)","v":""},{"$f":"IF(Worksheet!Q195=0,\"\",Worksheet!Q195)","v":""},{"$f":"IF(Worksheet!C195=0,\"\",Worksheet!C195)","v":""},{"$f":"IF(Worksheet!D195=0,\"\",Worksheet!D195)","v":""},{"$f":"IF(Worksheet!$A$11=TRUE,\"Y\",\"N\")","v":"N"},{"$f":"IF(Worksheet!$A$12=TRUE,\"Y\",\"N\")","v":"N"},{"$f":"IF(Worksheet!$B$11=TRUE,\"Y\",\"N\")","v":"N"},{"$f":"IF(Worksheet!$B$12=TRUE,\"Y\",\"N\")","v":"N"},{"$f":"IF(Worksheet!$C$11=TRUE,\"Y\",\"N\")","v":"N"},{"$f":"IFERROR(Worksheet!AB195,\"\")","v":0}]
[{"$f":"IF(IFERROR(SEARCH(\"Refrigerated\",Worksheet!L196,1),0)>0,122,IF(ISERROR(RIGHT(VLOOKUP(Worksheet!K196,Type!C$1:E$13,3,FALSE),3))=FALSE,RIGHT(VLOOKUP(Worksheet!K196,Type!C$1:E$13,3,FALSE),3),\"\"))","v":""},{"$f":"IF(Worksheet!M196=\"\",\"\",Worksheet!M196)","v":""},{"$f":"IF(Worksheet!N196=\"\",\"\",Worksheet!N196)","v":""},{"$f":"IF(Worksheet!Y196=0,\"\",Worksheet!Y196)","v":""},"Watts",null,null,{"$f":"Worksheet!AA196","v":0},{"$f":"IF(ISBLANK(Worksheet!V196)=FALSE,Worksheet!V196,\"\")","v":0},{"$f":"Worksheet!AG196","v":0},{"$f":"Worksheet!AF196","v":0},0,{"$f":"IF(ISERROR(SEARCH(\"Gas\",Worksheet!$A$18))=TRUE,0,Worksheet!AH196)","v":0},0,null,null,{"$f":"IF(OR(Worksheet!F196=\"Incandescent\",Worksheet!F196=\"Halogen Incandescent\")=TRUE,118,IF(LEFT(Worksheet!F196,3)=\"HID\",117,IF(OR(RIGHT(Worksheet!F196,3)=\"T12\",RIGHT(Worksheet!F196,5)=\"T12HO\")=TRUE,115,IF(OR(RIGHT(Worksheet!F196,2)=\"T8\",RIGHT(Worksheet!F196,4)=\"RWT8\",RIGHT(Worksheet!F196,4)=\"T8HO\")=TRUE,115,\"\"))))","v":""},{"$f":"IF(ISBLANK(Worksheet!W196)=FALSE,Worksheet!W196,\"\")","v":0},{"$f":"IF(ISERROR(SEARCH(\"Oil\",Worksheet!$A$18))=TRUE,0,Worksheet!AH196)","v":0},0,{"$f":"IF(ISERROR(SEARCH(\"Propane\",Worksheet!$A$18))=TRUE,0,Worksheet!AH196)","v":0},0,{"$f":"IF(Worksheet!J196=0,\"\",Worksheet!J196)","v":""},{"$f":"IF(Worksheet!B196=0,\"\",Worksheet!B196)","v":""},{"$f":"IF(Worksheet!K196=0,\"\",Worksheet!K196)","v":""},{"$f":"IF(Worksheet!L196=0,\"\",Worksheet!L196)","v":""},{"$f":"IF(Worksheet!R196=0,\"\",Worksheet!R196)","v":""},{"$f":"IF(Worksheet!F196=0,\"\",Worksheet!F196)","v":""},{"$f":"IF(Worksheet!G196=0,\"\",Worksheet!G196)","v":""},{"$f":"IF(Worksheet!X196=0,\"\",Worksheet!X196)","v":""},{"$f":"IF(Worksheet!Q196=0,\"\",Worksheet!Q196)","v":""},{"$f":"IF(Worksheet!C196=0,\"\",Worksheet!C196)","v":""},{"$f":"IF(Worksheet!D196=0,\"\",Worksheet!D196)","v":""},{"$f":"IF(Worksheet!$A$11=TRUE,\"Y\",\"N\")","v":"N"},{"$f":"IF(Worksheet!$A$12=TRUE,\"Y\",\"N\")","v":"N"},{"$f":"IF(Worksheet!$B$11=TRUE,\"Y\",\"N\")","v":"N"},{"$f":"IF(Worksheet!$B$12=TRUE,\"Y\",\"N\")","v":"N"},{"$f":"IF(Worksheet!$C$11=TRUE,\"Y\",\"N\")","v":"N"},{"$f":"IFERROR(Worksheet!AB196,\"\")","v":0}]
[{"$f":"IF(IFERROR(SEARCH(\"Refrigerated\",Worksheet!L197,1),0)>0,122,IF(ISERROR(RIGHT(VLOOKUP(Worksheet!K197,Type!C$1:E$13,3,FALSE),3))=FALSE,RIGHT(VLOOKUP(Worksheet!K197,Type!C$1:E$13,3,FALSE),3),\"\"))","v":""},{"$f":"IF(Worksheet!M197=\"\",\"\",Worksheet!M197)","v":""},{"$f":"IF(Worksheet!N197=\"\",\"\",Worksheet!N197)","v":""},{"$f":"IF(Worksheet!Y197=0,\"\",Worksheet!Y197)","v":""},"Watts",null,null,{"$f":"Worksheet!AA197","v":0},{"$f":"IF(ISBLANK(Worksheet!V197)=FALSE,Worksheet!V197,\"\")","v":0},{"$f":"Worksheet!AG197","v":0},{"$f":"Worksheet!AF197","v":0},0,{"$f":"IF(ISERROR(SEARCH(\"Gas\",Worksheet!$A$18))=TRUE,0,Worksheet!AH197)","v":0},0,null,null,{"$f":"IF(OR(Worksheet!F197=\"Incandescent\",Worksheet!F197=\"Halogen Incandescent\")=TRUE,118,IF(LEFT(Worksheet!F197,3)=\"HID\",117,IF(OR(RIGHT(Worksheet!F197,3)=\"T12\",RIGHT(Worksheet!F197,5)=\"T12HO\")=TRUE,115,IF(OR(RIGHT(Worksheet!F197,2)=\"T8\",RIGHT(Worksheet!F197,4)=\"RWT8\",RIGHT(Worksheet!F197,4)=\"T8HO\")=TRUE,115,\"\"))))","v":""},{"$f":"IF(ISBLANK(Worksheet!W197)=FALSE,Worksheet!W197,\"\")","v":0},{"$f":"IF(ISERROR(SEARCH(\"Oil\",Worksheet!$A$18))=TRUE,0,Worksheet!AH197)","v":0},0,{"$f":"IF(ISERROR(SEARCH(\"Propane\",Worksheet!$A$18))=TRUE,0,Worksheet!AH197)","v":0},0,{"$f":"IF(Worksheet!J197=0,\"\",Worksheet!J197)","v":""},{"$f":"IF(Worksheet!B197=0,\"\",Worksheet!B197)","v":""},{"$f":"IF(Worksheet!K197=0,\"\",Worksheet!K197)","v":""},{"$f":"IF(Worksheet!L197=0,\"\",Worksheet!L197)","v":""},{"$f":"IF(Worksheet!R197=0,\"\",Worksheet!R197)","v":""},{"$f":"IF(Worksheet!F197=0,\"\",Worksheet!F197)","v":""},{"$f":"IF(Worksheet!G197=0,\"\",Worksheet!G197)","v":""},{"$f":"IF(Worksheet!X197=0,\"\",Worksheet!X197)","v":""},{"$f":"IF(Worksheet!Q197=0,\"\",Worksheet!Q197)","v":""},{"$f":"IF(Worksheet!C197=0,\"\",Worksheet!C197)","v":""},{"$f":"IF(Worksheet!D197=0,\"\",Worksheet!D197)","v":""},{"$f":"IF(Worksheet!$A$11=TRUE,\"Y\",\"N\")","v":"N"},{"$f":"IF(Worksheet!$A$12=TRUE,\"Y\",\"N\")","v":"N"},{"$f":"IF(Worksheet!$B$11=TRUE,\"Y\",\"N\")","v":"N"},{"$f":"IF(Worksheet!$B$12=TRUE,\"Y\",\"N\")","v":"N"},{"$f":"IF(Worksheet!$C$11=TRUE,\"Y\",\"N\")","v":"N"},{"$f":"IFERROR(Worksheet!AB197,\"\")","v":0}]
[{"$f":"IF(IFERROR(SEARCH(\"Refrigerated\",Worksheet!L198,1),0)>0,122,IF(ISERROR(RIGHT(VLOOKUP(Worksheet!K198,Type!C$1:E$13,3,FALSE),3))=FALSE,RIGHT(VLOOKUP(Worksheet!K198,Type!C$1:E$13,3,FALSE),3),\"\"))","v":""},{"$f":"IF(Worksheet!M198=\"\",\"\",Worksheet!M198)","v":""},{"$f":"IF(Worksheet!N198=\"\",\"\",Worksheet!N198)","v":""},{"$f":"IF(Worksheet!Y198=0,\"\",Worksheet!Y198)","v":""},"Watts",null,null,{"$f":"Worksheet!AA198","v":0},{"$f":"IF(ISBLANK(Worksheet!V198)=FALSE,Worksheet!V198,\"\")","v":0},{"$f":"Worksheet!AG198","v":0},{"$f":"Worksheet!AF198","v":0},0,{"$f":"IF(ISERROR(SEARCH(\"Gas\",Worksheet!$A$18))=TRUE,0,Worksheet!AH198)","v":0},0,null,null,{"$f":"IF(OR(Worksheet!F198=\"Incandescent\",Worksheet!F198=\"Halogen Incandescent\")=TRUE,118,IF(LEFT(Worksheet!F198,3)=\"HID\",117,IF(OR(RIGHT(Worksheet!F198,3)=\"T12\",RIGHT(Worksheet!F198,5)=\"T12HO\")=TRUE,115,IF(OR(RIGHT(Worksheet!F198,2)=\"T8\",RIGHT(Worksheet!F198,4)=\"RWT8\",RIGHT(Worksheet!F198,4)=\"T8HO\")=TRUE,115,\"\"))))","v":""},{"$f":"IF(ISBLANK(Worksheet!W198)=FALSE,Worksheet!W198,\"\")","v":0},{"$f":"IF(ISERROR(SEARCH(\"Oil\",Worksheet!$A$18))=TRUE,0,Worksheet!AH198)","v":0},0,{"$f":"IF(ISERROR(SEARCH(\"Propane\",Worksheet!$A$18))=TRUE,0,Worksheet!AH198)","v":0},0,{"$f":"IF(Worksheet!J198=0,\"\",Worksheet!J198)","v":""},{"$f":"IF(Worksheet!B198=0,\"\",Worksheet!B198)","v":""},{"$f":"IF(Worksheet!K198=0,\"\",Worksheet!K198)","v":""},{"$f":"IF(Worksheet!L198=0,\"\",Worksheet!L198)","v":""},{"$f":"IF(Worksheet!R198=0,\"\",Worksheet!R198)","v":""},{"$f":"IF(Worksheet!F198=0,\"\",Worksheet!F198)","v":""},{"$f":"IF(Worksheet!G198=0,\"\",Worksheet!G198)","v":""},{"$f":"IF(Worksheet!X198=0,\"\",Worksheet!X198)","v":""},{"$f":"IF(Worksheet!Q198=0,\"\",Worksheet!Q198)","v":""},{"$f":"IF(Worksheet!C198=0,\"\",Worksheet!C198)","v":""},{"$f":"IF(Worksheet!D198=0,\"\",Worksheet!D198)","v":""},{"$f":"IF(Worksheet!$A$11=TRUE,\"Y\",\"N\")","v":"N"},{"$f":"IF(Worksheet!$A$12=TRUE,\"Y\",\"N\")","v":"N"},{"$f":"IF(Worksheet!$B$11=TRUE,\"Y\",\"N\")","v":"N"},{"$f":"IF(Worksheet!$B$12=TRUE,\"Y\",\"N\")","v":"N"},{"$f":"IF(Worksheet!$C$11=TRUE,\"Y\",\"N\")","v":"N"},{"$f":"IFERROR(Worksheet!AB198,\"\")","v":0}]
[{"$f":"IF(IFERROR(SEARCH(\"Refrigerated\",Worksheet!L199,1),0)>0,122,IF(ISERROR(RIGHT(VLOOKUP(Worksheet!K199,Type!C$1:E$13,3,FALSE),3))=FALSE,RIGHT(VLOOKUP(Worksheet!K199,Type!C$1:E$13,3,FALSE),3),\"\"))","v":""},{"$f":"IF(Worksheet!M199=\"\",\"\",Worksheet!M199)","v":""},{"$f":"IF(Worksheet!N199=\"\",\"\",Worksheet!N199)","v":""},{"$f":"IF(Worksheet!Y199=0,\"\",Worksheet!Y199)","v":""},"Watts",null,null,{"$f":"Worksheet!AA199","v":0},{"$f":"IF(ISBLANK(Worksheet!V199)=FALSE,Worksheet!V199,\"\")","v":0},{"$f":"Worksheet!AG199","v":0},{"$f":"Worksheet!AF199","v":0},0,{"$f":"IF(ISERROR(SEARCH(\"Gas\",Worksheet!$A$18))=TRUE,0,Worksheet!AH199)","v":0},0,null,null,{"$f":"IF(OR(Worksheet!F199=\"Incandescent\",Worksheet!F199=\"Halogen Incandescent\")=TRUE,118,IF(LEFT(Worksheet!F199,3)=\"HID\",117,IF(OR(RIGHT(Worksheet!F199,3)=\"T12\",RIGHT(Worksheet!F199,5)=\"T12HO\")=TRUE,115,IF(OR(RIGHT(Worksheet!F199,2)=\"T8\",RIGHT(Worksheet!F199,4)=\"RWT8\",RIGHT(Worksheet!F199,4)=\"T8HO\")=TRUE,115,\"\"))))","v":""},{"$f":"IF(ISBLANK(Worksheet!W199)=FALSE,Worksheet!W199,\"\")","v":0},{"$f":"IF(ISERROR(SEARCH(\"Oil\",Worksheet!$A$18))=TRUE,0,Worksheet!AH199)","v":0},0,{"$f":"IF(ISERROR(SEARCH(\"Propane\",Worksheet!$A$18))=TRUE,0,Worksheet!AH199)","v":0},0,{"$f":"IF(Worksheet!J199=0,\"\",Worksheet!J199)","v":""},{"$f":"IF(Worksheet!B199=0,\"\",Worksheet!B199)","v":""},{"$f":"IF(Worksheet!K199=0,\"\",Worksheet!K199)","v":""},{"$f":"IF(Worksheet!L199=0,\"\",Worksheet!L199)","v":""},{"$f":"IF(Worksheet!R199=0,\"\",Worksheet!R199)","v":""},{"$f":"IF(Worksheet!F199=0,\"\",Worksheet!F199)","v":""},{"$f":"IF(Worksheet!G199=0,\"\",Worksheet!G199)","v":""},{"$f":"IF(Worksheet!X199=0,\"\",Worksheet!X199)","v":""},{"$f":"IF(Worksheet!Q199=0,\"\",Worksheet!Q199)","v":""},{"$f":"IF(Worksheet!C199=0,\"\",Worksheet!C199)","v":""},{"$f":"IF(Worksheet!D199=0,\"\",Worksheet!D199)","v":""},{"$f":"IF(Worksheet!$A$11=TRUE,\"Y\",\"N\")","v":"N"},{"$f":"IF(Worksheet!$A$12=TRUE,\"Y\",\"N\")","v":"N"},{"$f":"IF(Worksheet!$B$11=TRUE,\"Y\",\"N\")","v":"N"},{"$f":"IF(Worksheet!$B$12=TRUE,\"Y\",\"N\")","v":"N"},{"$f":"IF(Worksheet!$C$11=TRUE,\"Y\",\"N\")","v":"N"},{"$f":"IFERROR(Worksheet!AB199,\"\")","v":0}]
[{"$f":"IF(IFERROR(SEARCH(\"Refrigerated\",Worksheet!L200,1),0)>0,122,IF(ISERROR(RIGHT(VLOOKUP(Worksheet!K200,Type!C$1:E$13,3,FALSE),3))=FALSE,RIGHT(VLOOKUP(Worksheet!K200,Type!C$1:E$13,3,FALSE),3),\"\"))","v":""},{"$f":"IF(Worksheet!M200=\"\",\"\",Worksheet!M200)","v":""},{"$f":"IF(Worksheet!N200=\"\",\"\",Worksheet!N200)","v":""},{"$f":"IF(Worksheet!Y200=0,\"\",Worksheet!Y200)","v":""},"Watts",null,null,{"$f":"Worksheet!AA200","v":0},{"$f":"IF(ISBLANK(Worksheet!V200)=FALSE,Worksheet!V200,\"\")","v":0},{"$f":"Worksheet!AG200","v":0},{"$f":"Worksheet!AF200","v":0},0,{"$f":"IF(ISERROR(SEARCH(\"Gas\",Worksheet!$A$18))=TRUE,0,Worksheet!AH200)","v":0},0,null,null,{"$f":"IF(OR(Worksheet!F200=\"Incandescent\",Worksheet!F200=\"Halogen Incandescent\")=TRUE,118,IF(LEFT(Worksheet!F200,3)=\"HID\",117,IF(OR(RIGHT(Worksheet!F200,3)=\"T12\",RIGHT(Worksheet!F200,5)=\"T12HO\")=TRUE,115,IF(OR(RIGHT(Worksheet!F200,2)=\"T8\",RIGHT(Worksheet!F200,4)=\"RWT8\",RIGHT(Worksheet!F200,4)=\"T8HO\")=TRUE,115,\"\"))))","v":""},{"$f":"IF(ISBLANK(Worksheet!W200)=FALSE,Worksheet!W200,\"\")","v":0},{"$f":"IF(ISERROR(SEARCH(\"Oil\",Worksheet!$A$18))=TRUE,0,Worksheet!AH200)","v":0},0,{"$f":"IF(ISERROR(SEARCH(\"Propane\",Worksheet!$A$18))=TRUE,0,Worksheet!AH200)","v":0},0,{"$f":"IF(Worksheet!J200=0,\"\",Worksheet!J200)","v":""},{"$f":"IF(Worksheet!B200=0,\"\",Worksheet!B200)","v":""},{"$f":"IF(Worksheet!K200=0,\"\",Worksheet!K200)","v":""},{"$f":"IF(Worksheet!L200=0,\"\",Worksheet!L200)","v":""},{"$f":"IF(Worksheet!R200=0,\"\",Worksheet!R200)","v":""},{"$f":"IF(Worksheet!F200=0,\"\",Worksheet!F200)","v":""},{"$f":"IF(Worksheet!G200=0,\"\",Worksheet!G200)","v":""},{"$f":"IF(Worksheet!X200=0,\"\",Worksheet!X200)","v":""},{"$f":"IF(Worksheet!Q200=0,\"\",Worksheet!Q200)","v":""},{"$f":"IF(Worksheet!C200=0,\"\",Worksheet!C200)","v":""},{"$f":"IF(Worksheet!D200=0,\"\",Worksheet!D200)","v":""},{"$f":"IF(Worksheet!$A$11=TRUE,\"Y\",\"N\")","v":"N"},{"$f":"IF(Worksheet!$A$12=TRUE,\"Y\",\"N\")","v":"N"},{"$f":"IF(Worksheet!$B$11=TRUE,\"Y\",\"N\")","v":"N"},{"$f":"IF(Worksheet!$B$12=TRUE,\"Y\",\"N\")","v":"N"},{"$f":"IF(Worksheet!$C$11=TRUE,\"Y\",\"N\")","v":"N"},{"$f":"IFERROR(Worksheet!AB200,\"\")","v":0}]
[{"$f":"IF(IFERROR(SEARCH(\"Refrigerated\",Worksheet!L201,1),0)>0,122,IF(ISERROR(RIGHT(VLOOKUP(Worksheet!K201,Type!C$1:E$13,3,FALSE),3))=FALSE,RIGHT(VLOOKUP(Worksheet!K201,Type!C$1:E$13,3,FALSE),3),\"\"))","v":""},{"$f":"IF(Worksheet!M201=\"\",\"\",Worksheet!M201)","v":""},{"$f":"IF(Worksheet!N201=\"\",\"\",Worksheet!N201)","v":""},{"$f":"IF(Worksheet!Y201=0,\"\",Worksheet!Y201)","v":""},"Watts",null,null,{"$f":"Worksheet!AA201","v":0},{"$f":"IF(ISBLANK(Worksheet!V201)=FALSE,Worksheet!V201,\"\")","v":0},{"$f":"Worksheet!AG201","v":0},{"$f":"Worksheet!AF201","v":0},0,{"$f":"IF(ISERROR(SEARCH(\"Gas\",Worksheet!$A$18))=TRUE,0,Worksheet!AH201)","v":0},0,null,null,{"$f":"IF(OR(Worksheet!F201=\"Incandescent\",Worksheet!F201=\"Halogen Incandescent\")=TRUE,118,IF(LEFT(Worksheet!F201,3)=\"HID\",117,IF(OR(RIGHT(Worksheet!F201,3)=\"T12\",RIGHT(Worksheet!F201,5)=\"T12HO\")=TRUE,115,IF(OR(RIGHT(Worksheet!F201,2)=\"T8\",RIGHT(Worksheet!F201,4)=\"RWT8\",RIGHT(Worksheet!F201,4)=\"T8HO\")=TRUE,115,\"\"))))","v":""},{"$f":"IF(ISBLANK(Worksheet!W201)=FALSE,Worksheet!W201,\"\")","v":0},{"$f":"IF(ISERROR(SEARCH(\"Oil\",Worksheet!$A$18))=TRUE,0,Worksheet!AH201)","v":0},0,{"$f":"IF(ISERROR(SEARCH(\"Propane\",Worksheet!$A$18))=TRUE,0,Worksheet!AH201)","v":0},0,{"$f":"IF(Worksheet!J201=0,\"\",Worksheet!J201)","v":""},{"$f":"IF(Worksheet!B201=0,\"\",Worksheet!B201)","v":""},{"$f":"IF(Worksheet!K201=0,\"\",Worksheet!K201)","v":""},{"$f":"IF(Worksheet!L201=0,\"\",Worksheet!L201)","v":""},{"$f":"IF(Worksheet!R201=0,\"\",Worksheet!R201)","v":""},{"$f":"IF(Worksheet!F201=0,\"\",Worksheet!F201)","v":""},{"$f":"IF(Worksheet!G201=0,\"\",Worksheet!G201)","v":""},{"$f":"IF(Worksheet!X201=0,\"\",Worksheet!X201)","v":""},{"$f":"IF(Worksheet!Q201=0,\"\",Worksheet!Q201)","v":""},{"$f":"IF(Worksheet!C201=0,\"\",Worksheet!C201)","v":""},{"$f":"IF(Worksheet!D201=0,\"\",Worksheet!D201)","v":""},{"$f":"IF(Worksheet!$A$11=TRUE,\"Y\",\"N\")","v":"N"},{"$f":"IF(Worksheet!$A$12=TRUE,\"Y\",\"N\")","v":"N"},{"$f":"IF(Worksheet!$B$11=TRUE,\"Y\",\"N\")","v":"N"},{"$f":"IF(Worksheet!$B$12=TRUE,\"Y\",\"N\")","v":"N"},{"$f":"IF(Worksheet!$C$11=TRUE,\"Y\",\"N\")","v":"N"},{"$f":"IFERROR(Worksheet!AB201,\"\")","v":0}]
[{"$f":"IF(IFERROR(SEARCH(\"Refrigerated\",Worksheet!L202,1),0)>0,122,IF(ISERROR(RIGHT(VLOOKUP(Worksheet!K202,Type!C$1:E$13,3,FALSE),3))=FALSE,RIGHT(VLOOKUP(Worksheet!K202,Type!C$1:E$13,3,FALSE),3),\"\"))","v":""},{"$f":"IF(Worksheet!M202=\"\",\"\",Worksheet!M202)","v":""},{"$f":"IF(Worksheet!N202=\"\",\"\",Worksheet!N202)","v":""},{"$f":"IF(Worksheet!Y202=0,\"\",Worksheet!Y202)","v":""},"Watts",null,null,{"$f":"Worksheet!AA202","v":0},{"$f":"IF(ISBLANK(Worksheet!V202)=FALSE,Worksheet!V202,\"\")","v":0},{"$f":"Worksheet!AG202","v":0},{"$f":"Worksheet!AF202","v":0},0,{"$f":"IF(ISERROR(SEARCH(\"Gas\",Worksheet!$A$18))=TRUE,0,Worksheet!AH202)","v":0},0,null,null,{"$f":"IF(OR(Worksheet!F202=\"Incandescent\",Worksheet!F202=\"Halogen Incandescent\")=TRUE,118,IF(LEFT(Worksheet!F202,3)=\"HID\",117,IF(OR(RIGHT(Worksheet!F202,3)=\"T12\",RIGHT(Worksheet!F202,5)=\"T12HO\")=TRUE,115,IF(OR(RIGHT(Worksheet!F202,2)=\"T8\",RIGHT(Worksheet!F202,4)=\"RWT8\",RIGHT(Worksheet!F202,4)=\"T8HO\")=TRUE,115,\"\"))))","v":""},{"$f":"IF(ISBLANK(Worksheet!W202)=FALSE,Worksheet!W202,\"\")","v":0},{"$f":"IF(ISERROR(SEARCH(\"Oil\",Worksheet!$A$18))=TRUE,0,Worksheet!AH202)","v":0},0,{"$f":"IF(ISERROR(SEARCH(\"Propane\",Worksheet!$A$18))=TRUE,0,Worksheet!AH202)","v":0},0,{"$f":"IF(Worksheet!J202=0,\"\",Worksheet!J202)","v":""},{"$f":"IF(Worksheet!B202=0,\"\",Worksheet!B202)","v":""},{"$f":"IF(Worksheet!K202=0,\"\",Worksheet!K202)","v":""},{"$f":"IF(Worksheet!L202=0,\"\",Worksheet!L202)","v":""},{"$f":"IF(Worksheet!R202=0,\"\",Worksheet!R202)","v":""},{"$f":"IF(Worksheet!F202=0,\"\",Worksheet!F202)","v":""},{"$f":"IF(Worksheet!G202=0,\"\",Worksheet!G202)","v":""},{"$f":"IF(Worksheet!X202=0,\"\",Worksheet!X202)","v":""},{"$f":"IF(Worksheet!Q202=0,\"\",Worksheet!Q202)","v":""},{"$f":"IF(Worksheet!C202=0,\"\",Worksheet!C202)","v":""},{"$f":"IF(Worksheet!D202=0,\"\",Worksheet!D202)","v":""},{"$f":"IF(Worksheet!$A$11=TRUE,\"Y\",\"N\")","v":"N"},{"$f":"IF(Worksheet!$A$12=TRUE,\"Y\",\"N\")","v":"N"},{"$f":"IF(Worksheet!$B$11=TRUE,\"Y\",\"N\")","v":"N"},{"$f":"IF(Worksheet!$B$12=TRUE,\"Y\",\"N\")","v":"N"},{"$f":"IF(Worksheet!$C$11=TRUE,\"Y\",\"N\")","v":"N"},{"$f":"IFERROR(Worksheet!AB202,\"\")","v":0}]
[{"$f":"IF(IFERROR(SEARCH(\"Refrigerated\",Worksheet!L203,1),0)>0,122,IF(ISERROR(RIGHT(VLOOKUP(Worksheet!K203,Type!C$1:E$13,3,FALSE),3))=FALSE,RIGHT(VLOOKUP(Worksheet!K203,Type!C$1:E$13,3,FALSE),3),\"\"))","v":""},{"$f":"IF(Worksheet!M203=\"\",\"\",Worksheet!M203)","v":""},{"$f":"IF(Worksheet!N203=\"\",\"\",Worksheet!N203)","v":""},{"$f":"IF(Worksheet!Y203=0,\"\",Worksheet!Y203)","v":""},"Watts",null,null,{"$f":"Worksheet!AA203","v":0},{"$f":"IF(ISBLANK(Worksheet!V203)=FALSE,Worksheet!V203,\"\")","v":0},{"$f":"Worksheet!AG203","v":0},{"$f":"Worksheet!AF203","v":0},0,{"$f":"IF(ISERROR(SEARCH(\"Gas\",Worksheet!$A$18))=TRUE,0,Worksheet!AH203)","v":0},0,null,null,{"$f":"IF(OR(Worksheet!F203=\"Incandescent\",Worksheet!F203=\"Halogen Incandescent\")=TRUE,118,IF(LEFT(Worksheet!F203,3)=\"HID\",117,IF(OR(RIGHT(Worksheet!F203,3)=\"T12\",RIGHT(Worksheet!F203,5)=\"T12HO\")=TRUE,115,IF(OR(RIGHT(Worksheet!F203,2)=\"T8\",RIGHT(Worksheet!F203,4)=\"RWT8\",RIGHT(Worksheet!F203,4)=\"T8HO\")=TRUE,115,\"\"))))","v":""},{"$f":"IF(ISBLANK(Worksheet!W203)=FALSE,Worksheet!W203,\"\")","v":0},{"$f":"IF(ISERROR(SEARCH(\"Oil\",Worksheet!$A$18))=TRUE,0,Worksheet!AH203)","v":0},0,{"$f":"IF(ISERROR(SEARCH(\"Propane\",Worksheet!$A$18))=TRUE,0,Worksheet!AH203)","v":0},0,{"$f":"IF(Worksheet!J203=0,\"\",Worksheet!J203)","v":""},{"$f":"IF(Worksheet!B203=0,\"\",Worksheet!B203)","v":""},{"$f":"IF(Worksheet!K203=0,\"\",Worksheet!K203)","v":""},{"$f":"IF(Worksheet!L203=0,\"\",Worksheet!L203)","v":""},{"$f":"IF(Worksheet!R203=0,\"\",Worksheet!R203)","v":""},{"$f":"IF(Worksheet!F203=0,\"\",Worksheet!F203)","v":""},{"$f":"IF(Worksheet!G203=0,\"\",Worksheet!G203)","v":""},{"$f":"IF(Worksheet!X203=0,\"\",Worksheet!X203)","v":""},{"$f":"IF(Worksheet!Q203=0,\"\",Worksheet!Q203)","v":""},{"$f":"IF(Worksheet!C203=0,\"\",Worksheet!C203)","v":""},{"$f":"IF(Worksheet!D203=0,\"\",Worksheet!D203)","v":""},{"$f":"IF(Worksheet!$A$11=TRUE,\"Y\",\"N\")","v":"N"},{"$f":"IF(Worksheet!$A$12=TRUE,\"Y\",\"N\")","v":"N"},{"$f":"IF(Worksheet!$B$11=TRUE,\"Y\",\"N\")","v":"N"},{"$f":"IF(Worksheet!$B$12=TRUE,\"Y\",\"N\")","v":"N"},{"$f":"IF(Worksheet!$C$11=TRUE,\"Y\",\"N\")","v":"N"},{"$f":"IFERROR(Worksheet!AB203,\"\")","v":0}]
[{"$f":"IF(IFERROR(SEARCH(\"Refrigerated\",Worksheet!L204,1),0)>0,122,IF(ISERROR(RIGHT(VLOOKUP(Worksheet!K204,Type!C$1:E$13,3,FALSE),3))=FALSE,RIGHT(VLOOKUP(Worksheet!K204,Type!C$1:E$13,3,FALSE),3),\"\"))","v":""},{"$f":"IF(Worksheet!M204=\"\",\"\",Worksheet!M204)","v":""},{"$f":"IF(Worksheet!N204=\"\",\"\",Worksheet!N204)","v":""},{"$f":"IF(Worksheet!Y204=0,\"\",Worksheet!Y204)","v":""},"Watts",null,null,{"$f":"Worksheet!AA204","v":0},{"$f":"IF(ISBLANK(Worksheet!V204)=FALSE,Worksheet!V204,\"\")","v":0},{"$f":"Worksheet!AG204","v":0},{"$f":"Worksheet!AF204","v":0},0,{"$f":"IF(ISERROR(SEARCH(\"Gas\",Worksheet!$A$18))=TRUE,0,Worksheet!AH204)","v":0},0,null,null,{"$f":"IF(OR(Worksheet!F204=\"Incandescent\",Worksheet!F204=\"Halogen Incandescent\")=TRUE,118,IF(LEFT(Worksheet!F204,3)=\"HID\",117,IF(OR(RIGHT(Worksheet!F204,3)=\"T12\",RIGHT(Worksheet!F204,5)=\"T12HO\")=TRUE,115,IF(OR(RIGHT(Worksheet!F204,2)=\"T8\",RIGHT(Worksheet!F204,4)=\"RWT8\",RIGHT(Worksheet!F204,4)=\"T8HO\")=TRUE,115,\"\"))))","v":""},{"$f":"IF(ISBLANK(Worksheet!W204)=FALSE,Worksheet!W204,\"\")","v":0},{"$f":"IF(ISERROR(SEARCH(\"Oil\",Worksheet!$A$18))=TRUE,0,Worksheet!AH204)","v":0},0,{"$f":"IF(ISERROR(SEARCH(\"Propane\",Worksheet!$A$18))=TRUE,0,Worksheet!AH204)","v":0},0,{"$f":"IF(Worksheet!J204=0,\"\",Worksheet!J204)","v":""},{"$f":"IF(Worksheet!B204=0,\"\",Worksheet!B204)","v":""},{"$f":"IF(Worksheet!K204=0,\"\",Worksheet!K204)","v":""},{"$f":"IF(Worksheet!L204=0,\"\",Worksheet!L204)","v":""},{"$f":"IF(Worksheet!R204=0,\"\",Worksheet!R204)","v":""},{"$f":"IF(Worksheet!F204=0,\"\",Worksheet!F204)","v":""},{"$f":"IF(Worksheet!G204=0,\"\",Worksheet!G204)","v":""},{"$f":"IF(Worksheet!X204=0,\"\",Worksheet!X204)","v":""},{"$f":"IF(Worksheet!Q204=0,\"\",Worksheet!Q204)","v":""},{"$f":"IF(Worksheet!C204=0,\"\",Worksheet!C204)","v":""},{"$f":"IF(Worksheet!D204=0,\"\",Worksheet!D204)","v":""},{"$f":"IF(Worksheet!$A$11=TRUE,\"Y\",\"N\")","v":"N"},{"$f":"IF(Worksheet!$A$12=TRUE,\"Y\",\"N\")","v":"N"},{"$f":"IF(Worksheet!$B$11=TRUE,\"Y\",\"N\")","v":"N"},{"$f":"IF(Worksheet!$B$12=TRUE,\"Y\",\"N\")","v":"N"},{"$f":"IF(Worksheet!$C$11=TRUE,\"Y\",\"N\")","v":"N"},{"$f":"IFERROR(Worksheet!AB204,\"\")","v":0}]
[{"$f":"IF(IFERROR(SEARCH(\"Refrigerated\",Worksheet!L205,1),0)>0,122,IF(ISERROR(RIGHT(VLOOKUP(Worksheet!K205,Type!C$1:E$13,3,FALSE),3))=FALSE,RIGHT(VLOOKUP(Worksheet!K205,Type!C$1:E$13,3,FALSE),3),\"\"))","v":""},{"$f":"IF(Worksheet!M205=\"\",\"\",Worksheet!M205)","v":""},{"$f":"IF(Worksheet!N205=\"\",\"\",Worksheet!N205)","v":""},{"$f":"IF(Worksheet!Y205=0,\"\",Worksheet!Y205)","v":""},"Watts",null,null,{"$f":"Worksheet!AA205","v":0},{"$f":"IF(ISBLANK(Worksheet!V205)=FALSE,Worksheet!V205,\"\")","v":0},{"$f":"Worksheet!AG205","v":0},{"$f":"Worksheet!AF205","v":0},0,{"$f":"IF(ISERROR(SEARCH(\"Gas\",Worksheet!$A$18))=TRUE,0,Worksheet!AH205)","v":0},0,null,null,{"$f":"IF(OR(Worksheet!F205=\"Incandescent\",Worksheet!F205=\"Halogen Incandescent\")=TRUE,118,IF(LEFT(Worksheet!F205,3)=\"HID\",117,IF(OR(RIGHT(Worksheet!F205,3)=\"T12\",RIGHT(Worksheet!F205,5)=\"T12HO\")=TRUE,115,IF(OR(RIGHT(Worksheet!F205,2)=\"T8\",RIGHT(Worksheet!F205,4)=\"RWT8\",RIGHT(Worksheet!F205,4)=\"T8HO\")=TRUE,115,\"\"))))","v":""},{"$f":"IF(ISBLANK(Worksheet!W205)=FALSE,Worksheet!W205,\"\")","v":0},{"$f":"IF(ISERROR(SEARCH(\"Oil\",Worksheet!$A$18))=TRUE,0,Worksheet!AH205)","v":0},0,{"$f":"IF(ISERROR(SEARCH(\"Propane\",Worksheet!$A$18))=TRUE,0,Worksheet!AH205)","v":0},0,{"$f":"IF(Worksheet!J205=0,\"\",Worksheet!J205)","v":""},{"$f":"IF(Worksheet!B205=0,\"\",Worksheet!B205)","v":""},{"$f":"IF(Worksheet!K205=0,\"\",Worksheet!K205)","v":""},{"$f":"IF(Worksheet!L205=0,\"\",Worksheet!L205)","v":""},{"$f":"IF(Worksheet!R205=0,\"\",Worksheet!R205)","v":""},{"$f":"IF(Worksheet!F205=0,\"\",Worksheet!F205)","v":""},{"$f":"IF(Worksheet!G205=0,\"\",Worksheet!G205)","v":""},{"$f":"IF(Worksheet!X205=0,\"\",Worksheet!X205)","v":""},{"$f":"IF(Worksheet!Q205=0,\"\",Worksheet!Q205)","v":""},{"$f":"IF(Worksheet!C205=0,\"\",Worksheet!C205)","v":""},{"$f":"IF(Worksheet!D205=0,\"\",Worksheet!D205)","v":""},{"$f":"IF(Worksheet!$A$11=TRUE,\"Y\",\"N\")","v":"N"},{"$f":"IF(Worksheet!$A$12=TRUE,\"Y\",\"N\")","v":"N"},{"$f":"IF(Worksheet!$B$11=TRUE,\"Y\",\"N\")","v":"N"},{"$f":"IF(Worksheet!$B$12=TRUE,\"Y\",\"N\")","v":"N"},{"$f":"IF(Worksheet!$C$11=TRUE,\"Y\",\"N\")","v":"N"},{"$f":"IFERROR(Worksheet!AB205,\"\")","v":0}]
[{"$f":"IF(IFERROR(SEARCH(\"Refrigerated\",Worksheet!L206,1),0)>0,122,IF(ISERROR(RIGHT(VLOOKUP(Worksheet!K206,Type!C$1:E$13,3,FALSE),3))=FALSE,RIGHT(VLOOKUP(Worksheet!K206,Type!C$1:E$13,3,FALSE),3),\"\"))","v":""},{"$f":"IF(Worksheet!M206=\"\",\"\",Worksheet!M206)","v":""},{"$f":"IF(Worksheet!N206=\"\",\"\",Worksheet!N206)","v":""},{"$f":"IF(Worksheet!Y206=0,\"\",Worksheet!Y206)","v":""},"Watts",null,null,{"$f":"Worksheet!AA206","v":0},{"$f":"IF(ISBLANK(Worksheet!V206)=FALSE,Worksheet!V206,\"\")","v":0},{"$f":"Worksheet!AG206","v":0},{"$f":"Worksheet!AF206","v":0},0,{"$f":"IF(ISERROR(SEARCH(\"Gas\",Worksheet!$A$18))=TRUE,0,Worksheet!AH206)","v":0},0,null,null,{"$f":"IF(OR(Worksheet!F206=\"Incandescent\",Worksheet!F206=\"Halogen Incandescent\")=TRUE,118,IF(LEFT(Worksheet!F206,3)=\"HID\",117,IF(OR(RIGHT(Worksheet!F206,3)=\"T12\",RIGHT(Worksheet!F206,5)=\"T12HO\")=TRUE,115,IF(OR(RIGHT(Worksheet!F206,2)=\"T8\",RIGHT(Worksheet!F206,4)=\"RWT8\",RIGHT(Worksheet!F206,4)=\"T8HO\")=TRUE,115,\"\"))))","v":""},{"$f":"IF(ISBLANK(Worksheet!W206)=FALSE,Worksheet!W206,\"\")","v":0},{"$f":"IF(ISERROR(SEARCH(\"Oil\",Worksheet!$A$18))=TRUE,0,Worksheet!AH206)","v":0},0,{"$f":"IF(ISERROR(SEARCH(\"Propane\",Worksheet!$A$18))=TRUE,0,Worksheet!AH206)","v":0},0,{"$f":"IF(Worksheet!J206=0,\"\",Worksheet!J206)","v":""},{"$f":"IF(Worksheet!B206=0,\"\",Worksheet!B206)","v":""},{"$f":"IF(Worksheet!K206=0,\"\",Worksheet!K206)","v":""},{"$f":"IF(Worksheet!L206=0,\"\",Worksheet!L206)","v":""},{"$f":"IF(Worksheet!R206=0,\"\",Worksheet!R206)","v":""},{"$f":"IF(Worksheet!F206=0,\"\",Worksheet!F206)","v":""},{"$f":"IF(Worksheet!G206=0,\"\",Worksheet!G206)","v":""},{"$f":"IF(Worksheet!X206=0,\"\",Worksheet!X206)","v":""},{"$f":"IF(Worksheet!Q206=0,\"\",Worksheet!Q206)","v":""},{"$f":"IF(Worksheet!C206=0,\"\",Worksheet!C206)","v":""},{"$f":"IF(Worksheet!D206=0,\"\",Worksheet!D206)","v":""},{"$f":"IF(Worksheet!$A$11=TRUE,\"Y\",\"N\")","v":"N"},{"$f":"IF(Worksheet!$A$12=TRUE,\"Y\",\"N\")","v":"N"},{"$f":"IF(Worksheet!$B$11=TRUE,\"Y\",\"N\")","v":"N"},{"$f":"IF(Worksheet!$B$12=TRUE,\"Y\",\"N\")","v":"N"},{"$f":"IF(Worksheet!$C$11=TRUE,\"Y\",\"N\")","v":"N"},{"$f":"IFERROR(Worksheet!AB206,\"\")","v":0}]
[{"$f":"IF(IFERROR(SEARCH(\"Refrigerated\",Worksheet!L207,1),0)>0,122,IF(ISERROR(RIGHT(VLOOKUP(Worksheet!K207,Type!C$1:E$13,3,FALSE),3))=FALSE,RIGHT(VLOOKUP(Worksheet!K207,Type!C$1:E$13,3,FALSE),3),\"\"))","v":""},{"$f":"IF(Worksheet!M207=\"\",\"\",Worksheet!M207)","v":""},{"$f":"IF(Worksheet!N207=\"\",\"\",Worksheet!N207)","v":""},{"$f":"IF(Worksheet!Y207=0,\"\",Worksheet!Y207)","v":""},"Watts",null,null,{"$f":"Worksheet!AA207","v":0},{"$f":"IF(ISBLANK(Worksheet!V207)=FALSE,Worksheet!V207,\"\")","v":0},{"$f":"Worksheet!AG207","v":0},{"$f":"Worksheet!AF207","v":0},0,{"$f":"IF(ISERROR(SEARCH(\"Gas\",Worksheet!$A$18))=TRUE,0,Worksheet!AH207)","v":0},0,null,null,{"$f":"IF(OR(Worksheet!F207=\"Incandescent\",Worksheet!F207=\"Halogen Incandescent\")=TRUE,118,IF(LEFT(Worksheet!F207,3)=\"HID\",117,IF(OR(RIGHT(Worksheet!F207,3)=\"T12\",RIGHT(Worksheet!F207,5)=\"T12HO\")=TRUE,115,IF(OR(RIGHT(Worksheet!F207,2)=\"T8\",RIGHT(Worksheet!F207,4)=\"RWT8\",RIGHT(Worksheet!F207,4)=\"T8HO\")=TRUE,115,\"\"))))","v":""},{"$f":"IF(ISBLANK(Worksheet!W207)=FALSE,Worksheet!W207,\"\")","v":0},{"$f":"IF(ISERROR(SEARCH(\"Oil\",Worksheet!$A$18))=TRUE,0,Worksheet!AH207)","v":0},0,{"$f":"IF(ISERROR(SEARCH(\"Propane\",Worksheet!$A$18))=TRUE,0,Worksheet!AH207)","v":0},0,{"$f":"IF(Worksheet!J207=0,\"\",Worksheet!J207)","v":""},{"$f":"IF(Worksheet!B207=0,\"\",Worksheet!B207)","v":""},{"$f":"IF(Worksheet!K207=0,\"\",Worksheet!K207)","v":""},{"$f":"IF(Worksheet!L207=0,\"\",Worksheet!L207)","v":""},{"$f":"IF(Worksheet!R207=0,\"\",Worksheet!R207)","v":""},{"$f":"IF(Worksheet!F207=0,\"\",Worksheet!F207)","v":""},{"$f":"IF(Worksheet!G207=0,\"\",Worksheet!G207)","v":""},{"$f":"IF(Worksheet!X207=0,\"\",Worksheet!X207)","v":""},{"$f":"IF(Worksheet!Q207=0,\"\",Worksheet!Q207)","v":""},{"$f":"IF(Worksheet!C207=0,\"\",Worksheet!C207)","v":""},{"$f":"IF(Worksheet!D207=0,\"\",Worksheet!D207)","v":""},{"$f":"IF(Worksheet!$A$11=TRUE,\"Y\",\"N\")","v":"N"},{"$f":"IF(Worksheet!$A$12=TRUE,\"Y\",\"N\")","v":"N"},{"$f":"IF(Worksheet!$B$11=TRUE,\"Y\",\"N\")","v":"N"},{"$f":"IF(Worksheet!$B$12=TRUE,\"Y\",\"N\")","v":"N"},{"$f":"IF(Worksheet!$C$11=TRUE,\"Y\",\"N\")","v":"N"},{"$f":"IFERROR(Worksheet!AB207,\"\")","v":0}]
[{"$f":"IF(IFERROR(SEARCH(\"Refrigerated\",Worksheet!L208,1),0)>0,122,IF(ISERROR(RIGHT(VLOOKUP(Worksheet!K208,Type!C$1:E$13,3,FALSE),3))=FALSE,RIGHT(VLOOKUP(Worksheet!K208,Type!C$1:E$13,3,FALSE),3),\"\"))","v":""},{"$f":"IF(Worksheet!M208=\"\",\"\",Worksheet!M208)","v":""},{"$f":"IF(Worksheet!N208=\"\",\"\",Worksheet!N208)","v":""},{"$f":"IF(Worksheet!Y208=0,\"\",Worksheet!Y208)","v":""},"Watts",null,null,{"$f":"Worksheet!AA208","v":0},{"$f":"IF(ISBLANK(Worksheet!V208)=FALSE,Worksheet!V208,\"\")","v":0},{"$f":"Worksheet!AG208","v":0},{"$f":"Worksheet!AF208","v":0},0,{"$f":"IF(ISERROR(SEARCH(\"Gas\",Worksheet!$A$18))=TRUE,0,Worksheet!AH208)","v":0},0,null,null,{"$f":"IF(OR(Worksheet!F208=\"Incandescent\",Worksheet!F208=\"Halogen Incandescent\")=TRUE,118,IF(LEFT(Worksheet!F208,3)=\"HID\",117,IF(OR(RIGHT(Worksheet!F208,3)=\"T12\",RIGHT(Worksheet!F208,5)=\"T12HO\")=TRUE,115,IF(OR(RIGHT(Worksheet!F208,2)=\"T8\",RIGHT(Worksheet!F208,4)=\"RWT8\",RIGHT(Worksheet!F208,4)=\"T8HO\")=TRUE,115,\"\"))))","v":""},{"$f":"IF(ISBLANK(Worksheet!W208)=FALSE,Worksheet!W208,\"\")","v":0},{"$f":"IF(ISERROR(SEARCH(\"Oil\",Worksheet!$A$18))=TRUE,0,Worksheet!AH208)","v":0},0,{"$f":"IF(ISERROR(SEARCH(\"Propane\",Worksheet!$A$18))=TRUE,0,Worksheet!AH208)","v":0},0,{"$f":"IF(Worksheet!J208=0,\"\",Worksheet!J208)","v":""},{"$f":"IF(Worksheet!B208=0,\"\",Worksheet!B208)","v":""},{"$f":"IF(Worksheet!K208=0,\"\",Worksheet!K208)","v":""},{"$f":"IF(Worksheet!L208=0,\"\",Worksheet!L208)","v":""},{"$f":"IF(Worksheet!R208=0,\"\",Worksheet!R208)","v":""},{"$f":"IF(Worksheet!F208=0,\"\",Worksheet!F208)","v":""},{"$f":"IF(Worksheet!G208=0,\"\",Worksheet!G208)","v":""},{"$f":"IF(Worksheet!X208=0,\"\",Worksheet!X208)","v":""},{"$f":"IF(Worksheet!Q208=0,\"\",Worksheet!Q208)","v":""},{"$f":"IF(Worksheet!C208=0,\"\",Worksheet!C208)","v":""},{"$f":"IF(Worksheet!D208=0,\"\",Worksheet!D208)","v":""},{"$f":"IF(Worksheet!$A$11=TRUE,\"Y\",\"N\")","v":"N"},{"$f":"IF(Worksheet!$A$12=TRUE,\"Y\",\"N\")","v":"N"},{"$f":"IF(Worksheet!$B$11=TRUE,\"Y\",\"N\")","v":"N"},{"$f":"IF(Worksheet!$B$12=TRUE,\"Y\",\"N\")","v":"N"},{"$f":"IF(Worksheet!$C$11=TRUE,\"Y\",\"N\")","v":"N"},{"$f":"IFERROR(Worksheet!AB208,\"\")","v":0}]
[{"$f":"IF(IFERROR(SEARCH(\"Refrigerated\",Worksheet!L209,1),0)>0,122,IF(ISERROR(RIGHT(VLOOKUP(Worksheet!K209,Type!C$1:E$13,3,FALSE),3))=FALSE,RIGHT(VLOOKUP(Worksheet!K209,Type!C$1:E$13,3,FALSE),3),\"\"))","v":""},{"$f":"IF(Worksheet!M209=\"\",\"\",Worksheet!M209)","v":""},{"$f":"IF(Worksheet!N209=\"\",\"\",Worksheet!N209)","v":""},{"$f":"IF(Worksheet!Y209=0,\"\",Worksheet!Y209)","v":""},"Watts",null,null,{"$f":"Worksheet!AA209","v":0},{"$f":"IF(ISBLANK(Worksheet!V209)=FALSE,Worksheet!V209,\"\")","v":0},{"$f":"Worksheet!AG209","v":0},{"$f":"Worksheet!AF209","v":0},0,{"$f":"IF(ISERROR(SEARCH(\"Gas\",Worksheet!$A$18))=TRUE,0,Worksheet!AH209)","v":0},0,null,null,{"$f":"IF(OR(Worksheet!F209=\"Incandescent\",Worksheet!F209=\"Halogen Incandescent\")=TRUE,118,IF(LEFT(Worksheet!F209,3)=\"HID\",117,IF(OR(RIGHT(Worksheet!F209,3)=\"T12\",RIGHT(Worksheet!F209,5)=\"T12HO\")=TRUE,115,IF(OR(RIGHT(Worksheet!F209,2)=\"T8\",RIGHT(Worksheet!F209,4)=\"RWT8\",RIGHT(Worksheet!F209,4)=\"T8HO\")=TRUE,115,\"\"))))","v":""},{"$f":"IF(ISBLANK(Worksheet!W209)=FALSE,Worksheet!W209,\"\")","v":0},{"$f":"IF(ISERROR(SEARCH(\"Oil\",Worksheet!$A$18))=TRUE,0,Worksheet!AH209)","v":0},0,{"$f":"IF(ISERROR(SEARCH(\"Propane\",Worksheet!$A$18))=TRUE,0,Worksheet!AH209)","v":0},0,{"$f":"IF(Worksheet!J209=0,\"\",Worksheet!J209)","v":""},{"$f":"IF(Worksheet!B209=0,\"\",Worksheet!B209)","v":""},{"$f":"IF(Worksheet!K209=0,\"\",Worksheet!K209)","v":""},{"$f":"IF(Worksheet!L209=0,\"\",Worksheet!L209)","v":""},{"$f":"IF(Worksheet!R209=0,\"\",Worksheet!R209)","v":""},{"$f":"IF(Worksheet!F209=0,\"\",Worksheet!F209)","v":""},{"$f":"IF(Worksheet!G209=0,\"\",Worksheet!G209)","v":""},{"$f":"IF(Worksheet!X209=0,\"\",Worksheet!X209)","v":""},{"$f":"IF(Worksheet!Q209=0,\"\",Worksheet!Q209)","v":""},{"$f":"IF(Worksheet!C209=0,\"\",Worksheet!C209)","v":""},{"$f":"IF(Worksheet!D209=0,\"\",Worksheet!D209)","v":""},{"$f":"IF(Worksheet!$A$11=TRUE,\"Y\",\"N\")","v":"N"},{"$f":"IF(Worksheet!$A$12=TRUE,\"Y\",\"N\")","v":"N"},{"$f":"IF(Worksheet!$B$11=TRUE,\"Y\",\"N\")","v":"N"},{"$f":"IF(Worksheet!$B$12=TRUE,\"Y\",\"N\")","v":"N"},{"$f":"IF(Worksheet!$C$11=TRUE,\"Y\",\"N\")","v":"N"},{"$f":"IFERROR(Worksheet!AB209,\"\")","v":0}]
[{"$f":"IF(IFERROR(SEARCH(\"Refrigerated\",Worksheet!L210,1),0)>0,122,IF(ISERROR(RIGHT(VLOOKUP(Worksheet!K210,Type!C$1:E$13,3,FALSE),3))=FALSE,RIGHT(VLOOKUP(Worksheet!K210,Type!C$1:E$13,3,FALSE),3),\"\"))","v":""},{"$f":"IF(Worksheet!M210=\"\",\"\",Worksheet!M210)","v":""},{"$f":"IF(Worksheet!N210=\"\",\"\",Worksheet!N210)","v":""},{"$f":"IF(Worksheet!Y210=0,\"\",Worksheet!Y210)","v":""},"Watts",null,null,{"$f":"Worksheet!AA210","v":0},{"$f":"IF(ISBLANK(Worksheet!V210)=FALSE,Worksheet!V210,\"\")","v":0},{"$f":"Worksheet!AG210","v":0},{"$f":"Worksheet!AF210","v":0},0,{"$f":"IF(ISERROR(SEARCH(\"Gas\",Worksheet!$A$18))=TRUE,0,Worksheet!AH210)","v":0},0,null,null,{"$f":"IF(OR(Worksheet!F210=\"Incandescent\",Worksheet!F210=\"Halogen Incandescent\")=TRUE,118,IF(LEFT(Worksheet!F210,3)=\"HID\",117,IF(OR(RIGHT(Worksheet!F210,3)=\"T12\",RIGHT(Worksheet!F210,5)=\"T12HO\")=TRUE,115,IF(OR(RIGHT(Worksheet!F210,2)=\"T8\",RIGHT(Worksheet!F210,4)=\"RWT8\",RIGHT(Worksheet!F210,4)=\"T8HO\")=TRUE,115,\"\"))))","v":""},{"$f":"IF(ISBLANK(Worksheet!W210)=FALSE,Worksheet!W210,\"\")","v":0},{"$f":"IF(ISERROR(SEARCH(\"Oil\",Worksheet!$A$18))=TRUE,0,Worksheet!AH210)","v":0},0,{"$f":"IF(ISERROR(SEARCH(\"Propane\",Worksheet!$A$18))=TRUE,0,Worksheet!AH210)","v":0},0,{"$f":"IF(Worksheet!J210=0,\"\",Worksheet!J210)","v":""},{"$f":"IF(Worksheet!B210=0,\"\",Worksheet!B210)","v":""},{"$f":"IF(Worksheet!K210=0,\"\",Worksheet!K210)","v":""},{"$f":"IF(Worksheet!L210=0,\"\",Worksheet!L210)","v":""},{"$f":"IF(Worksheet!R210=0,\"\",Worksheet!R210)","v":""},{"$f":"IF(Worksheet!F210=0,\"\",Worksheet!F210)","v":""},{"$f":"IF(Worksheet!G210=0,\"\",Worksheet!G210)","v":""},{"$f":"IF(Worksheet!X210=0,\"\",Worksheet!X210)","v":""},{"$f":"IF(Worksheet!Q210=0,\"\",Worksheet!Q210)","v":""},{"$f":"IF(Worksheet!C210=0,\"\",Worksheet!C210)","v":""},{"$f":"IF(Worksheet!D210=0,\"\",Worksheet!D210)","v":""},{"$f":"IF(Worksheet!$A$11=TRUE,\"Y\",\"N\")","v":"N"},{"$f":"IF(Worksheet!$A$12=TRUE,\"Y\",\"N\")","v":"N"},{"$f":"IF(Worksheet!$B$11=TRUE,\"Y\",\"N\")","v":"N"},{"$f":"IF(Worksheet!$B$12=TRUE,\"Y\",\"N\")","v":"N"},{"$f":"IF(Worksheet!$C$11=TRUE,\"Y\",\"N\")","v":"N"},{"$f":"IFERROR(Worksheet!AB210,\"\")","v":0}]
[{"$f":"IF(IFERROR(SEARCH(\"Refrigerated\",Worksheet!L211,1),0)>0,122,IF(ISERROR(RIGHT(VLOOKUP(Worksheet!K211,Type!C$1:E$13,3,FALSE),3))=FALSE,RIGHT(VLOOKUP(Worksheet!K211,Type!C$1:E$13,3,FALSE),3),\"\"))","v":""},{"$f":"IF(Worksheet!M211=\"\",\"\",Worksheet!M211)","v":""},{"$f":"IF(Worksheet!N211=\"\",\"\",Worksheet!N211)","v":""},{"$f":"IF(Worksheet!Y211=0,\"\",Worksheet!Y211)","v":""},"Watts",null,null,{"$f":"Worksheet!AA211","v":0},{"$f":"IF(ISBLANK(Worksheet!V211)=FALSE,Worksheet!V211,\"\")","v":0},{"$f":"Worksheet!AG211","v":0},{"$f":"Worksheet!AF211","v":0},0,{"$f":"IF(ISERROR(SEARCH(\"Gas\",Worksheet!$A$18))=TRUE,0,Worksheet!AH211)","v":0},0,null,null,{"$f":"IF(OR(Worksheet!F211=\"Incandescent\",Worksheet!F211=\"Halogen Incandescent\")=TRUE,118,IF(LEFT(Worksheet!F211,3)=\"HID\",117,IF(OR(RIGHT(Worksheet!F211,3)=\"T12\",RIGHT(Worksheet!F211,5)=\"T12HO\")=TRUE,115,IF(OR(RIGHT(Worksheet!F211,2)=\"T8\",RIGHT(Worksheet!F211,4)=\"RWT8\",RIGHT(Worksheet!F211,4)=\"T8HO\")=TRUE,115,\"\"))))","v":""},{"$f":"IF(ISBLANK(Worksheet!W211)=FALSE,Worksheet!W211,\"\")","v":0},{"$f":"IF(ISERROR(SEARCH(\"Oil\",Worksheet!$A$18))=TRUE,0,Worksheet!AH211)","v":0},0,{"$f":"IF(ISERROR(SEARCH(\"Propane\",Worksheet!$A$18))=TRUE,0,Worksheet!AH211)","v":0},0,{"$f":"IF(Worksheet!J211=0,\"\",Worksheet!J211)","v":""},{"$f":"IF(Worksheet!B211=0,\"\",Worksheet!B211)","v":""},{"$f":"IF(Worksheet!K211=0,\"\",Worksheet!K211)","v":""},{"$f":"IF(Worksheet!L211=0,\"\",Worksheet!L211)","v":""},{"$f":"IF(Worksheet!R211=0,\"\",Worksheet!R211)","v":""},{"$f":"IF(Worksheet!F211=0,\"\",Worksheet!F211)","v":""},{"$f":"IF(Worksheet!G211=0,\"\",Worksheet!G211)","v":""},{"$f":"IF(Worksheet!X211=0,\"\",Worksheet!X211)","v":""},{"$f":"IF(Worksheet!Q211=0,\"\",Worksheet!Q211)","v":""},{"$f":"IF(Worksheet!C211=0,\"\",Worksheet!C211)","v":""},{"$f":"IF(Worksheet!D211=0,\"\",Worksheet!D211)","v":""},{"$f":"IF(Worksheet!$A$11=TRUE,\"Y\",\"N\")","v":"N"},{"$f":"IF(Worksheet!$A$12=TRUE,\"Y\",\"N\")","v":"N"},{"$f":"IF(Worksheet!$B$11=TRUE,\"Y\",\"N\")","v":"N"},{"$f":"IF(Worksheet!$B$12=TRUE,\"Y\",\"N\")","v":"N"},{"$f":"IF(Worksheet!$C$11=TRUE,\"Y\",\"N\")","v":"N"},{"$f":"IFERROR(Worksheet!AB211,\"\")","v":0}]
[{"$f":"IF(IFERROR(SEARCH(\"Refrigerated\",Worksheet!L212,1),0)>0,122,IF(ISERROR(RIGHT(VLOOKUP(Worksheet!K212,Type!C$1:E$13,3,FALSE),3))=FALSE,RIGHT(VLOOKUP(Worksheet!K212,Type!C$1:E$13,3,FALSE),3),\"\"))","v":""},{"$f":"IF(Worksheet!M212=\"\",\"\",Worksheet!M212)","v":""},{"$f":"IF(Worksheet!N212=\"\",\"\",Worksheet!N212)","v":""},{"$f":"IF(Worksheet!Y212=0,\"\",Worksheet!Y212)","v":""},"Watts",null,null,{"$f":"Worksheet!AA212","v":0},{"$f":"IF(ISBLANK(Worksheet!V212)=FALSE,Worksheet!V212,\"\")","v":0},{"$f":"Worksheet!AG212","v":0},{"$f":"Worksheet!AF212","v":0},0,{"$f":"IF(ISERROR(SEARCH(\"Gas\",Worksheet!$A$18))=TRUE,0,Worksheet!AH212)","v":0},0,null,null,{"$f":"IF(OR(Worksheet!F212=\"Incandescent\",Worksheet!F212=\"Halogen Incandescent\")=TRUE,118,IF(LEFT(Worksheet!F212,3)=\"HID\",117,IF(OR(RIGHT(Worksheet!F212,3)=\"T12\",RIGHT(Worksheet!F212,5)=\"T12HO\")=TRUE,115,IF(OR(RIGHT(Worksheet!F212,2)=\"T8\",RIGHT(Worksheet!F212,4)=\"RWT8\",RIGHT(Worksheet!F212,4)=\"T8HO\")=TRUE,115,\"\"))))","v":""},{"$f":"IF(ISBLANK(Worksheet!W212)=FALSE,Worksheet!W212,\"\")","v":0},{"$f":"IF(ISERROR(SEARCH(\"Oil\",Worksheet!$A$18))=TRUE,0,Worksheet!AH212)","v":0},0,{"$f":"IF(ISERROR(SEARCH(\"Propane\",Worksheet!$A$18))=TRUE,0,Worksheet!AH212)","v":0},0,{"$f":"IF(Worksheet!J212=0,\"\",Worksheet!J212)","v":""},{"$f":"IF(Worksheet!B212=0,\"\",Worksheet!B212)","v":""},{"$f":"IF(Worksheet!K212=0,\"\",Worksheet!K212)","v":""},{"$f":"IF(Worksheet!L212=0,\"\",Worksheet!L212)","v":""},{"$f":"IF(Worksheet!R212=0,\"\",Worksheet!R212)","v":""},{"$f":"IF(Worksheet!F212=0,\"\",Worksheet!F212)","v":""},{"$f":"IF(Worksheet!G212=0,\"\",Worksheet!G212)","v":""},{"$f":"IF(Worksheet!X212=0,\"\",Worksheet!X212)","v":""},{"$f":"IF(Worksheet!Q212=0,\"\",Worksheet!Q212)","v":""},{"$f":"IF(Worksheet!C212=0,\"\",Worksheet!C212)","v":""},{"$f":"IF(Worksheet!D212=0,\"\",Worksheet!D212)","v":""},{"$f":"IF(Worksheet!$A$11=TRUE,\"Y\",\"N\")","v":"N"},{"$f":"IF(Worksheet!$A$12=TRUE,\"Y\",\"N\")","v":"N"},{"$f":"IF(Worksheet!$B$11=TRUE,\"Y\",\"N\")","v":"N"},{"$f":"IF(Worksheet!$B$12=TRUE,\"Y\",\"N\")","v":"N"},{"$f":"IF(Worksheet!$C$11=TRUE,\"Y\",\"N\")","v":"N"},{"$f":"IFERROR(Worksheet!AB212,\"\")","v":0}]
[{"$f":"IF(IFERROR(SEARCH(\"Refrigerated\",Worksheet!L213,1),0)>0,122,IF(ISERROR(RIGHT(VLOOKUP(Worksheet!K213,Type!C$1:E$13,3,FALSE),3))=FALSE,RIGHT(VLOOKUP(Worksheet!K213,Type!C$1:E$13,3,FALSE),3),\"\"))","v":""},{"$f":"IF(Worksheet!M213=\"\",\"\",Worksheet!M213)","v":""},{"$f":"IF(Worksheet!N213=\"\",\"\",Worksheet!N213)","v":""},{"$f":"IF(Worksheet!Y213=0,\"\",Worksheet!Y213)","v":""},"Watts",null,null,{"$f":"Worksheet!AA213","v":0},{"$f":"IF(ISBLANK(Worksheet!V213)=FALSE,Worksheet!V213,\"\")","v":0},{"$f":"Worksheet!AG213","v":0},{"$f":"Worksheet!AF213","v":0},0,{"$f":"IF(ISERROR(SEARCH(\"Gas\",Worksheet!$A$18))=TRUE,0,Worksheet!AH213)","v":0},0,null,null,{"$f":"IF(OR(Worksheet!F213=\"Incandescent\",Worksheet!F213=\"Halogen Incandescent\")=TRUE,118,IF(LEFT(Worksheet!F213,3)=\"HID\",117,IF(OR(RIGHT(Worksheet!F213,3)=\"T12\",RIGHT(Worksheet!F213,5)=\"T12HO\")=TRUE,115,IF(OR(RIGHT(Worksheet!F213,2)=\"T8\",RIGHT(Worksheet!F213,4)=\"RWT8\",RIGHT(Worksheet!F213,4)=\"T8HO\")=TRUE,115,\"\"))))","v":""},{"$f":"IF(ISBLANK(Worksheet!W213)=FALSE,Worksheet!W213,\"\")","v":0},{"$f":"IF(ISERROR(SEARCH(\"Oil\",Worksheet!$A$18))=TRUE,0,Worksheet!AH213)","v":0},0,{"$f":"IF(ISERROR(SEARCH(\"Propane\",Worksheet!$A$18))=TRUE,0,Worksheet!AH213)","v":0},0,{"$f":"IF(Worksheet!J213=0,\"\",Worksheet!J213)","v":""},{"$f":"IF(Worksheet!B213=0,\"\",Worksheet!B213)","v":""},{"$f":"IF(Worksheet!K213=0,\"\",Worksheet!K213)","v":""},{"$f":"IF(Worksheet!L213=0,\"\",Worksheet!L213)","v":""},{"$f":"IF(Worksheet!R213=0,\"\",Worksheet!R213)","v":""},{"$f":"IF(Worksheet!F213=0,\"\",Worksheet!F213)","v":""},{"$f":"IF(Worksheet!G213=0,\"\",Worksheet!G213)","v":""},{"$f":"IF(Worksheet!X213=0,\"\",Worksheet!X213)","v":""},{"$f":"IF(Worksheet!Q213=0,\"\",Worksheet!Q213)","v":""},{"$f":"IF(Worksheet!C213=0,\"\",Worksheet!C213)","v":""},{"$f":"IF(Worksheet!D213=0,\"\",Worksheet!D213)","v":""},{"$f":"IF(Worksheet!$A$11=TRUE,\"Y\",\"N\")","v":"N"},{"$f":"IF(Worksheet!$A$12=TRUE,\"Y\",\"N\")","v":"N"},{"$f":"IF(Worksheet!$B$11=TRUE,\"Y\",\"N\")","v":"N"},{"$f":"IF(Worksheet!$B$12=TRUE,\"Y\",\"N\")","v":"N"},{"$f":"IF(Worksheet!$C$11=TRUE,\"Y\",\"N\")","v":"N"},{"$f":"IFERROR(Worksheet!AB213,\"\")","v":0}]
[{"$f":"IF(IFERROR(SEARCH(\"Refrigerated\",Worksheet!L214,1),0)>0,122,IF(ISERROR(RIGHT(VLOOKUP(Worksheet!K214,Type!C$1:E$13,3,FALSE),3))=FALSE,RIGHT(VLOOKUP(Worksheet!K214,Type!C$1:E$13,3,FALSE),3),\"\"))","v":""},{"$f":"IF(Worksheet!M214=\"\",\"\",Worksheet!M214)","v":""},{"$f":"IF(Worksheet!N214=\"\",\"\",Worksheet!N214)","v":""},{"$f":"IF(Worksheet!Y214=0,\"\",Worksheet!Y214)","v":""},"Watts",null,null,{"$f":"Worksheet!AA214","v":0},{"$f":"IF(ISBLANK(Worksheet!V214)=FALSE,Worksheet!V214,\"\")","v":0},{"$f":"Worksheet!AG214","v":0},{"$f":"Worksheet!AF214","v":0},0,{"$f":"IF(ISERROR(SEARCH(\"Gas\",Worksheet!$A$18))=TRUE,0,Worksheet!AH214)","v":0},0,null,null,{"$f":"IF(OR(Worksheet!F214=\"Incandescent\",Worksheet!F214=\"Halogen Incandescent\")=TRUE,118,IF(LEFT(Worksheet!F214,3)=\"HID\",117,IF(OR(RIGHT(Worksheet!F214,3)=\"T12\",RIGHT(Worksheet!F214,5)=\"T12HO\")=TRUE,115,IF(OR(RIGHT(Worksheet!F214,2)=\"T8\",RIGHT(Worksheet!F214,4)=\"RWT8\",RIGHT(Worksheet!F214,4)=\"T8HO\")=TRUE,115,\"\"))))","v":""},{"$f":"IF(ISBLANK(Worksheet!W214)=FALSE,Worksheet!W214,\"\")","v":0},{"$f":"IF(ISERROR(SEARCH(\"Oil\",Worksheet!$A$18))=TRUE,0,Worksheet!AH214)","v":0},0,{"$f":"IF(ISERROR(SEARCH(\"Propane\",Worksheet!$A$18))=TRUE,0,Worksheet!AH214)","v":0},0,{"$f":"IF(Worksheet!J214=0,\"\",Worksheet!J214)","v":""},{"$f":"IF(Worksheet!B214=0,\"\",Worksheet!B214)","v":""},{"$f":"IF(Worksheet!K214=0,\"\",Worksheet!K214)","v":""},{"$f":"IF(Worksheet!L214=0,\"\",Worksheet!L214)","v":""},{"$f":"IF(Worksheet!R214=0,\"\",Worksheet!R214)","v":""},{"$f":"IF(Worksheet!F214=0,\"\",Worksheet!F214)","v":""},{"$f":"IF(Worksheet!G214=0,\"\",Worksheet!G214)","v":""},{"$f":"IF(Worksheet!X214=0,\"\",Worksheet!X214)","v":""},{"$f":"IF(Worksheet!Q214=0,\"\",Worksheet!Q214)","v":""},{"$f":"IF(Worksheet!C214=0,\"\",Worksheet!C214)","v":""},{"$f":"IF(Worksheet!D214=0,\"\",Worksheet!D214)","v":""},{"$f":"IF(Worksheet!$A$11=TRUE,\"Y\",\"N\")","v":"N"},{"$f":"IF(Worksheet!$A$12=TRUE,\"Y\",\"N\")","v":"N"},{"$f":"IF(Worksheet!$B$11=TRUE,\"Y\",\"N\")","v":"N"},{"$f":"IF(Worksheet!$B$12=TRUE,\"Y\",\"N\")","v":"N"},{"$f":"IF(Worksheet!$C$11=TRUE,\"Y\",\"N\")","v":"N"},{"$f":"IFERROR(Worksheet!AB214,\"\")","v":0}]
[{"$f":"IF(IFERROR(SEARCH(\"Refrigerated\",Worksheet!L215,1),0)>0,122,IF(ISERROR(RIGHT(VLOOKUP(Worksheet!K215,Type!C$1:E$13,3,FALSE),3))=FALSE,RIGHT(VLOOKUP(Worksheet!K215,Type!C$1:E$13,3,FALSE),3),\"\"))","v":""},{"$f":"IF(Worksheet!M215=\"\",\"\",Worksheet!M215)","v":""},{"$f":"IF(Worksheet!N215=\"\",\"\",Worksheet!N215)","v":""},{"$f":"IF(Worksheet!Y215=0,\"\",Worksheet!Y215)","v":""},"Watts",null,null,{"$f":"Worksheet!AA215","v":0},{"$f":"IF(ISBLANK(Worksheet!V215)=FALSE,Worksheet!V215,\"\")","v":0},{"$f":"Worksheet!AG215","v":0},{"$f":"Worksheet!AF215","v":0},0,{"$f":"IF(ISERROR(SEARCH(\"Gas\",Worksheet!$A$18))=TRUE,0,Worksheet!AH215)","v":0},0,null,null,{"$f":"IF(OR(Worksheet!F215=\"Incandescent\",Worksheet!F215=\"Halogen Incandescent\")=TRUE,118,IF(LEFT(Worksheet!F215,3)=\"HID\",117,IF(OR(RIGHT(Worksheet!F215,3)=\"T12\",RIGHT(Worksheet!F215,5)=\"T12HO\")=TRUE,115,IF(OR(RIGHT(Worksheet!F215,2)=\"T8\",RIGHT(Worksheet!F215,4)=\"RWT8\",RIGHT(Worksheet!F215,4)=\"T8HO\")=TRUE,115,\"\"))))","v":""},{"$f":"IF(ISBLANK(Worksheet!W215)=FALSE,Worksheet!W215,\"\")","v":0},{"$f":"IF(ISERROR(SEARCH(\"Oil\",Worksheet!$A$18))=TRUE,0,Worksheet!AH215)","v":0},0,{"$f":"IF(ISERROR(SEARCH(\"Propane\",Worksheet!$A$18))=TRUE,0,Worksheet!AH215)","v":0},0,{"$f":"IF(Worksheet!J215=0,\"\",Worksheet!J215)","v":""},{"$f":"IF(Worksheet!B215=0,\"\",Worksheet!B215)","v":""},{"$f":"IF(Worksheet!K215=0,\"\",Worksheet!K215)","v":""},{"$f":"IF(Worksheet!L215=0,\"\",Worksheet!L215)","v":""},{"$f":"IF(Worksheet!R215=0,\"\",Worksheet!R215)","v":""},{"$f":"IF(Worksheet!F215=0,\"\",Worksheet!F215)","v":""},{"$f":"IF(Worksheet!G215=0,\"\",Worksheet!G215)","v":""},{"$f":"IF(Worksheet!X215=0,\"\",Worksheet!X215)","v":""},{"$f":"IF(Worksheet!Q215=0,\"\",Worksheet!Q215)","v":""},{"$f":"IF(Worksheet!C215=0,\"\",Worksheet!C215)","v":""},{"$f":"IF(Worksheet!D215=0,\"\",Worksheet!D215)","v":""},{"$f":"IF(Worksheet!$A$11=TRUE,\"Y\",\"N\")","v":"N"},{"$f":"IF(Worksheet!$A$12=TRUE,\"Y\",\"N\")","v":"N"},{"$f":"IF(Worksheet!$B$11=TRUE,\"Y\",\"N\")","v":"N"},{"$f":"IF(Worksheet!$B$12=TRUE,\"Y\",\"N\")","v":"N"},{"$f":"IF(Worksheet!$C$11=TRUE,\"Y\",\"N\")","v":"N"},{"$f":"IFERROR(Worksheet!AB215,\"\")","v":0}]
[{"$f":"IF(IFERROR(SEARCH(\"Refrigerated\",Worksheet!L216,1),0)>0,122,IF(ISERROR(RIGHT(VLOOKUP(Worksheet!K216,Type!C$1:E$13,3,FALSE),3))=FALSE,RIGHT(VLOOKUP(Worksheet!K216,Type!C$1:E$13,3,FALSE),3),\"\"))","v":""},{"$f":"IF(Worksheet!M216=\"\",\"\",Worksheet!M216)","v":""},{"$f":"IF(Worksheet!N216=\"\",\"\",Worksheet!N216)","v":""},{"$f":"IF(Worksheet!Y216=0,\"\",Worksheet!Y216)","v":""},"Watts",null,null,{"$f":"Worksheet!AA216","v":0},{"$f":"IF(ISBLANK(Worksheet!V216)=FALSE,Worksheet!V216,\"\")","v":0},{"$f":"Worksheet!AG216","v":0},{"$f":"Worksheet!AF216","v":0},0,{"$f":"IF(ISERROR(SEARCH(\"Gas\",Worksheet!$A$18))=TRUE,0,Worksheet!AH216)","v":0},0,null,null,{"$f":"IF(OR(Worksheet!F216=\"Incandescent\",Worksheet!F216=\"Halogen Incandescent\")=TRUE,118,IF(LEFT(Worksheet!F216,3)=\"HID\",117,IF(OR(RIGHT(Worksheet!F216,3)=\"T12\",RIGHT(Worksheet!F216,5)=\"T12HO\")=TRUE,115,IF(OR(RIGHT(Worksheet!F216,2)=\"T8\",RIGHT(Worksheet!F216,4)=\"RWT8\",RIGHT(Worksheet!F216,4)=\"T8HO\")=TRUE,115,\"\"))))","v":""},{"$f":"IF(ISBLANK(Worksheet!W216)=FALSE,Worksheet!W216,\"\")","v":0},{"$f":"IF(ISERROR(SEARCH(\"Oil\",Worksheet!$A$18))=TRUE,0,Worksheet!AH216)","v":0},0,{"$f":"IF(ISERROR(SEARCH(\"Propane\",Worksheet!$A$18))=TRUE,0,Worksheet!AH216)","v":0},0,{"$f":"IF(Worksheet!J216=0,\"\",Worksheet!J216)","v":""},{"$f":"IF(Worksheet!B216=0,\"\",Worksheet!B216)","v":""},{"$f":"IF(Worksheet!K216=0,\"\",Worksheet!K216)","v":""},{"$f":"IF(Worksheet!L216=0,\"\",Worksheet!L216)","v":""},{"$f":"IF(Worksheet!R216=0,\"\",Worksheet!R216)","v":""},{"$f":"IF(Worksheet!F216=0,\"\",Worksheet!F216)","v":""},{"$f":"IF(Worksheet!G216=0,\"\",Worksheet!G216)","v":""},{"$f":"IF(Worksheet!X216=0,\"\",Worksheet!X216)","v":""},{"$f":"IF(Worksheet!Q216=0,\"\",Worksheet!Q216)","v":""},{"$f":"IF(Worksheet!C216=0,\"\",Worksheet!C216)","v":""},{"$f":"IF(Worksheet!D216=0,\"\",Worksheet!D216)","v":""},{"$f":"IF(Worksheet!$A$11=TRUE,\"Y\",\"N\")","v":"N"},{"$f":"IF(Worksheet!$A$12=TRUE,\"Y\",\"N\")","v":"N"},{"$f":"IF(Worksheet!$B$11=TRUE,\"Y\",\"N\")","v":"N"},{"$f":"IF(Worksheet!$B$12=TRUE,\"Y\",\"N\")","v":"N"},{"$f":"IF(Worksheet!$C$11=TRUE,\"Y\",\"N\")","v":"N"},{"$f":"IFERROR(Worksheet!AB216,\"\")","v":0}]
[{"$f":"IF(IFERROR(SEARCH(\"Refrigerated\",Worksheet!L217,1),0)>0,122,IF(ISERROR(RIGHT(VLOOKUP(Worksheet!K217,Type!C$1:E$13,3,FALSE),3))=FALSE,RIGHT(VLOOKUP(Worksheet!K217,Type!C$1:E$13,3,FALSE),3),\"\"))","v":""},{"$f":"IF(Worksheet!M217=\"\",\"\",Worksheet!M217)","v":""},{"$f":"IF(Worksheet!N217=\"\",\"\",Worksheet!N217)","v":""},{"$f":"IF(Worksheet!Y217=0,\"\",Worksheet!Y217)","v":""},"Watts",null,null,{"$f":"Worksheet!AA217","v":0},{"$f":"IF(ISBLANK(Worksheet!V217)=FALSE,Worksheet!V217,\"\")","v":0},{"$f":"Worksheet!AG217","v":0},{"$f":"Worksheet!AF217","v":0},0,{"$f":"IF(ISERROR(SEARCH(\"Gas\",Worksheet!$A$18))=TRUE,0,Worksheet!AH217)","v":0},0,null,null,{"$f":"IF(OR(Worksheet!F217=\"Incandescent\",Worksheet!F217=\"Halogen Incandescent\")=TRUE,118,IF(LEFT(Worksheet!F217,3)=\"HID\",117,IF(OR(RIGHT(Worksheet!F217,3)=\"T12\",RIGHT(Worksheet!F217,5)=\"T12HO\")=TRUE,115,IF(OR(RIGHT(Worksheet!F217,2)=\"T8\",RIGHT(Worksheet!F217,4)=\"RWT8\",RIGHT(Worksheet!F217,4)=\"T8HO\")=TRUE,115,\"\"))))","v":""},{"$f":"IF(ISBLANK(Worksheet!W217)=FALSE,Worksheet!W217,\"\")","v":0},{"$f":"IF(ISERROR(SEARCH(\"Oil\",Worksheet!$A$18))=TRUE,0,Worksheet!AH217)","v":0},0,{"$f":"IF(ISERROR(SEARCH(\"Propane\",Worksheet!$A$18))=TRUE,0,Worksheet!AH217)","v":0},0,{"$f":"IF(Worksheet!J217=0,\"\",Worksheet!J217)","v":""},{"$f":"IF(Worksheet!B217=0,\"\",Worksheet!B217)","v":""},{"$f":"IF(Worksheet!K217=0,\"\",Worksheet!K217)","v":""},{"$f":"IF(Worksheet!L217=0,\"\",Worksheet!L217)","v":""},{"$f":"IF(Worksheet!R217=0,\"\",Worksheet!R217)","v":""},{"$f":"IF(Worksheet!F217=0,\"\",Worksheet!F217)","v":""},{"$f":"IF(Worksheet!G217=0,\"\",Worksheet!G217)","v":""},{"$f":"IF(Worksheet!X217=0,\"\",Worksheet!X217)","v":""},{"$f":"IF(Worksheet!Q217=0,\"\",Worksheet!Q217)","v":""},{"$f":"IF(Worksheet!C217=0,\"\",Worksheet!C217)","v":""},{"$f":"IF(Worksheet!D217=0,\"\",Worksheet!D217)","v":""},{"$f":"IF(Worksheet!$A$11=TRUE,\"Y\",\"N\")","v":"N"},{"$f":"IF(Worksheet!$A$12=TRUE,\"Y\",\"N\")","v":"N"},{"$f":"IF(Worksheet!$B$11=TRUE,\"Y\",\"N\")","v":"N"},{"$f":"IF(Worksheet!$B$12=TRUE,\"Y\",\"N\")","v":"N"},{"$f":"IF(Worksheet!$C$11=TRUE,\"Y\",\"N\")","v":"N"},{"$f":"IFERROR(Worksheet!AB217,\"\")","v":0}]
[{"$f":"IF(IFERROR(SEARCH(\"Refrigerated\",Worksheet!L218,1),0)>0,122,IF(ISERROR(RIGHT(VLOOKUP(Worksheet!K218,Type!C$1:E$13,3,FALSE),3))=FALSE,RIGHT(VLOOKUP(Worksheet!K218,Type!C$1:E$13,3,FALSE),3),\"\"))","v":""},{"$f":"IF(Worksheet!M218=\"\",\"\",Worksheet!M218)","v":""},{"$f":"IF(Worksheet!N218=\"\",\"\",Worksheet!N218)","v":""},{"$f":"IF(Worksheet!Y218=0,\"\",Worksheet!Y218)","v":""},"Watts",null,null,{"$f":"Worksheet!AA218","v":0},{"$f":"IF(ISBLANK(Worksheet!V218)=FALSE,Worksheet!V218,\"\")","v":0},{"$f":"Worksheet!AG218","v":0},{"$f":"Worksheet!AF218","v":0},0,{"$f":"IF(ISERROR(SEARCH(\"Gas\",Worksheet!$A$18))=TRUE,0,Worksheet!AH218)","v":0},0,null,null,{"$f":"IF(OR(Worksheet!F218=\"Incandescent\",Worksheet!F218=\"Halogen Incandescent\")=TRUE,118,IF(LEFT(Worksheet!F218,3)=\"HID\",117,IF(OR(RIGHT(Worksheet!F218,3)=\"T12\",RIGHT(Worksheet!F218,5)=\"T12HO\")=TRUE,115,IF(OR(RIGHT(Worksheet!F218,2)=\"T8\",RIGHT(Worksheet!F218,4)=\"RWT8\",RIGHT(Worksheet!F218,4)=\"T8HO\")=TRUE,115,\"\"))))","v":""},{"$f":"IF(ISBLANK(Worksheet!W218)=FALSE,Worksheet!W218,\"\")","v":0},{"$f":"IF(ISERROR(SEARCH(\"Oil\",Worksheet!$A$18))=TRUE,0,Worksheet!AH218)","v":0},0,{"$f":"IF(ISERROR(SEARCH(\"Propane\",Worksheet!$A$18))=TRUE,0,Worksheet!AH218)","v":0},0,{"$f":"IF(Worksheet!J218=0,\"\",Worksheet!J218)","v":""},{"$f":"IF(Worksheet!B218=0,\"\",Worksheet!B218)","v":""},{"$f":"IF(Worksheet!K218=0,\"\",Worksheet!K218)","v":""},{"$f":"IF(Worksheet!L218=0,\"\",Worksheet!L218)","v":""},{"$f":"IF(Worksheet!R218=0,\"\",Worksheet!R218)","v":""},{"$f":"IF(Worksheet!F218=0,\"\",Worksheet!F218)","v":""},{"$f":"IF(Worksheet!G218=0,\"\",Worksheet!G218)","v":""},{"$f":"IF(Worksheet!X218=0,\"\",Worksheet!X218)","v":""},{"$f":"IF(Worksheet!Q218=0,\"\",Worksheet!Q218)","v":""},{"$f":"IF(Worksheet!C218=0,\"\",Worksheet!C218)","v":""},{"$f":"IF(Worksheet!D218=0,\"\",Worksheet!D218)","v":""},{"$f":"IF(Worksheet!$A$11=TRUE,\"Y\",\"N\")","v":"N"},{"$f":"IF(Worksheet!$A$12=TRUE,\"Y\",\"N\")","v":"N"},{"$f":"IF(Worksheet!$B$11=TRUE,\"Y\",\"N\")","v":"N"},{"$f":"IF(Worksheet!$B$12=TRUE,\"Y\",\"N\")","v":"N"},{"$f":"IF(Worksheet!$C$11=TRUE,\"Y\",\"N\")","v":"N"},{"$f":"IFERROR(Worksheet!AB218,\"\")","v":0}]
[{"$f":"IF(IFERROR(SEARCH(\"Refrigerated\",Worksheet!L219,1),0)>0,122,IF(ISERROR(RIGHT(VLOOKUP(Worksheet!K219,Type!C$1:E$13,3,FALSE),3))=FALSE,RIGHT(VLOOKUP(Worksheet!K219,Type!C$1:E$13,3,FALSE),3),\"\"))","v":""},{"$f":"IF(Worksheet!M219=\"\",\"\",Worksheet!M219)","v":""},{"$f":"IF(Worksheet!N219=\"\",\"\",Worksheet!N219)","v":""},{"$f":"IF(Worksheet!Y219=0,\"\",Worksheet!Y219)","v":""},"Watts",null,null,{"$f":"Worksheet!AA219","v":0},{"$f":"IF(ISBLANK(Worksheet!V219)=FALSE,Worksheet!V219,\"\")","v":0},{"$f":"Worksheet!AG219","v":0},{"$f":"Worksheet!AF219","v":0},0,{"$f":"IF(ISERROR(SEARCH(\"Gas\",Worksheet!$A$18))=TRUE,0,Worksheet!AH219)","v":0},0,null,null,{"$f":"IF(OR(Worksheet!F219=\"Incandescent\",Worksheet!F219=\"Halogen Incandescent\")=TRUE,118,IF(LEFT(Worksheet!F219,3)=\"HID\",117,IF(OR(RIGHT(Worksheet!F219,3)=\"T12\",RIGHT(Worksheet!F219,5)=\"T12HO\")=TRUE,115,IF(OR(RIGHT(Worksheet!F219,2)=\"T8\",RIGHT(Worksheet!F219,4)=\"RWT8\",RIGHT(Worksheet!F219,4)=\"T8HO\")=TRUE,115,\"\"))))","v":""},{"$f":"IF(ISBLANK(Worksheet!W219)=FALSE,Worksheet!W219,\"\")","v":0},{"$f":"IF(ISERROR(SEARCH(\"Oil\",Worksheet!$A$18))=TRUE,0,Worksheet!AH219)","v":0},0,{"$f":"IF(ISERROR(SEARCH(\"Propane\",Worksheet!$A$18))=TRUE,0,Worksheet!AH219)","v":0},0,{"$f":"IF(Worksheet!J219=0,\"\",Worksheet!J219)","v":""},{"$f":"IF(Worksheet!B219=0,\"\",Worksheet!B219)","v":""},{"$f":"IF(Worksheet!K219=0,\"\",Worksheet!K219)","v":""},{"$f":"IF(Worksheet!L219=0,\"\",Worksheet!L219)","v":""},{"$f":"IF(Worksheet!R219=0,\"\",Worksheet!R219)","v":""},{"$f":"IF(Worksheet!F219=0,\"\",Worksheet!F219)","v":""},{"$f":"IF(Worksheet!G219=0,\"\",Worksheet!G219)","v":""},{"$f":"IF(Worksheet!X219=0,\"\",Worksheet!X219)","v":""},{"$f":"IF(Worksheet!Q219=0,\"\",Worksheet!Q219)","v":""},{"$f":"IF(Worksheet!C219=0,\"\",Worksheet!C219)","v":""},{"$f":"IF(Worksheet!D219=0,\"\",Worksheet!D219)","v":""},{"$f":"IF(Worksheet!$A$11=TRUE,\"Y\",\"N\")","v":"N"},{"$f":"IF(Worksheet!$A$12=TRUE,\"Y\",\"N\")","v":"N"},{"$f":"IF(Worksheet!$B$11=TRUE,\"Y\",\"N\")","v":"N"},{"$f":"IF(Worksheet!$B$12=TRUE,\"Y\",\"N\")","v":"N"},{"$f":"IF(Worksheet!$C$11=TRUE,\"Y\",\"N\")","v":"N"},{"$f":"IFERROR(Worksheet!AB219,\"\")","v":0}]
[{"$f":"IF(IFERROR(SEARCH(\"Refrigerated\",Worksheet!L220,1),0)>0,122,IF(ISERROR(RIGHT(VLOOKUP(Worksheet!K220,Type!C$1:E$13,3,FALSE),3))=FALSE,RIGHT(VLOOKUP(Worksheet!K220,Type!C$1:E$13,3,FALSE),3),\"\"))","v":""},{"$f":"IF(Worksheet!M220=\"\",\"\",Worksheet!M220)","v":""},{"$f":"IF(Worksheet!N220=\"\",\"\",Worksheet!N220)","v":""},{"$f":"IF(Worksheet!Y220=0,\"\",Worksheet!Y220)","v":""},"Watts",null,null,{"$f":"Worksheet!AA220","v":0},{"$f":"IF(ISBLANK(Worksheet!V220)=FALSE,Worksheet!V220,\"\")","v":0},{"$f":"Worksheet!AG220","v":0},{"$f":"Worksheet!AF220","v":0},0,{"$f":"IF(ISERROR(SEARCH(\"Gas\",Worksheet!$A$18))=TRUE,0,Worksheet!AH220)","v":0},0,null,null,{"$f":"IF(OR(Worksheet!F220=\"Incandescent\",Worksheet!F220=\"Halogen Incandescent\")=TRUE,118,IF(LEFT(Worksheet!F220,3)=\"HID\",117,IF(OR(RIGHT(Worksheet!F220,3)=\"T12\",RIGHT(Worksheet!F220,5)=\"T12HO\")=TRUE,115,IF(OR(RIGHT(Worksheet!F220,2)=\"T8\",RIGHT(Worksheet!F220,4)=\"RWT8\",RIGHT(Worksheet!F220,4)=\"T8HO\")=TRUE,115,\"\"))))","v":""},{"$f":"IF(ISBLANK(Worksheet!W220)=FALSE,Worksheet!W220,\"\")","v":0},{"$f":"IF(ISERROR(SEARCH(\"Oil\",Worksheet!$A$18))=TRUE,0,Worksheet!AH220)","v":0},0,{"$f":"IF(ISERROR(SEARCH(\"Propane\",Worksheet!$A$18))=TRUE,0,Worksheet!AH220)","v":0},0,{"$f":"IF(Worksheet!J220=0,\"\",Worksheet!J220)","v":""},{"$f":"IF(Worksheet!B220=0,\"\",Worksheet!B220)","v":""},{"$f":"IF(Worksheet!K220=0,\"\",Worksheet!K220)","v":""},{"$f":"IF(Worksheet!L220=0,\"\",Worksheet!L220)","v":""},{"$f":"IF(Worksheet!R220=0,\"\",Worksheet!R220)","v":""},{"$f":"IF(Worksheet!F220=0,\"\",Worksheet!F220)","v":""},{"$f":"IF(Worksheet!G220=0,\"\",Worksheet!G220)","v":""},{"$f":"IF(Worksheet!X220=0,\"\",Worksheet!X220)","v":""},{"$f":"IF(Worksheet!Q220=0,\"\",Worksheet!Q220)","v":""},{"$f":"IF(Worksheet!C220=0,\"\",Worksheet!C220)","v":""},{"$f":"IF(Worksheet!D220=0,\"\",Worksheet!D220)","v":""},{"$f":"IF(Worksheet!$A$11=TRUE,\"Y\",\"N\")","v":"N"},{"$f":"IF(Worksheet!$A$12=TRUE,\"Y\",\"N\")","v":"N"},{"$f":"IF(Worksheet!$B$11=TRUE,\"Y\",\"N\")","v":"N"},{"$f":"IF(Worksheet!$B$12=TRUE,\"Y\",\"N\")","v":"N"},{"$f":"IF(Worksheet!$C$11=TRUE,\"Y\",\"N\")","v":"N"},{"$f":"IFERROR(Worksheet!AB220,\"\")","v":0}]
[{"$f":"IF(IFERROR(SEARCH(\"Refrigerated\",Worksheet!L221,1),0)>0,122,IF(ISERROR(RIGHT(VLOOKUP(Worksheet!K221,Type!C$1:E$13,3,FALSE),3))=FALSE,RIGHT(VLOOKUP(Worksheet!K221,Type!C$1:E$13,3,FALSE),3),\"\"))","v":""},{"$f":"IF(Worksheet!M221=\"\",\"\",Worksheet!M221)","v":""},{"$f":"IF(Worksheet!N221=\"\",\"\",Worksheet!N221)","v":""},{"$f":"IF(Worksheet!Y221=0,\"\",Worksheet!Y221)","v":""},"Watts",null,null,{"$f":"Worksheet!AA221","v":0},{"$f":"IF(ISBLANK(Worksheet!V221)=FALSE,Worksheet!V221,\"\")","v":0},{"$f":"Worksheet!AG221","v":0},{"$f":"Worksheet!AF221","v":0},{"$f":"J195*IF(A195=122,16,15)","v":0},{"$f":"IF(ISERROR(SEARCH(\"Gas\",Worksheet!$A$18))=TRUE,0,Worksheet!AH221)","v":0},{"$f":"M195*IF(A195=122,16,15)","v":0},null,null,{"$f":"IF(OR(Worksheet!F221=\"Incandescent\",Worksheet!F221=\"Halogen Incandescent\")=TRUE,118,IF(LEFT(Worksheet!F221,3)=\"HID\",117,IF(OR(RIGHT(Worksheet!F221,3)=\"T12\",RIGHT(Worksheet!F221,5)=\"T12HO\")=TRUE,115,IF(OR(RIGHT(Worksheet!F221,2)=\"T8\",RIGHT(Worksheet!F221,4)=\"RWT8\",RIGHT(Worksheet!F221,4)=\"T8HO\")=TRUE,115,\"\"))))","v":""},{"$f":"IF(ISBLANK(Worksheet!W221)=FALSE,Worksheet!W221,\"\")","v":0},{"$f":"IF(ISERROR(SEARCH(\"Oil\",Worksheet!$A$18))=TRUE,0,Worksheet!AH221)","v":0},{"$f":"S195*IF(A195=122,16,15)","v":0},{"$f":"IF(ISERROR(SEARCH(\"Propane\",Worksheet!$A$18))=TRUE,0,Worksheet!AH221)","v":0},{"$f":"U195*IF(A195=122,16,15)","v":0},{"$f":"IF(Worksheet!J221=0,\"\",Worksheet!J221)","v":""},{"$f":"IF(Worksheet!B221=0,\"\",Worksheet!B221)","v":""},{"$f":"IF(Worksheet!K221=0,\"\",Worksheet!K221)","v":""},{"$f":"IF(Worksheet!L221=0,\"\",Worksheet!L221)","v":""},{"$f":"IF(Worksheet!R221=0,\"\",Worksheet!R221)","v":""},{"$f":"IF(Worksheet!F221=0,\"\",Worksheet!F221)","v":""},{"$f":"IF(Worksheet!G221=0,\"\",Worksheet!G221)","v":""},{"$f":"IF(Worksheet!X221=0,\"\",Worksheet!X221)","v":""},{"$f":"IF(Worksheet!Q221=0,\"\",Worksheet!Q221)","v":""},{"$f":"IF(Worksheet!C221=0,\"\",Worksheet!C221)","v":""},{"$f":"IF(Worksheet!D221=0,\"\",Worksheet!D221)","v":""},{"$f":"IF(Worksheet!$A$11=TRUE,\"Y\",\"N\")","v":"N"},{"$f":"IF(Worksheet!$A$12=TRUE,\"Y\",\"N\")","v":"N"},{"$f":"IF(Worksheet!$B$11=TRUE,\"Y\",\"N\")","v":"N"},{"$f":"IF(Worksheet!$B$12=TRUE,\"Y\",\"N\")","v":"N"},{"$f":"IF(Worksheet!$C$11=TRUE,\"Y\",\"N\")","v":"N"},{"$f":"IFERROR(Worksheet!AB221,\"\")","v":0}]
[{"$f":"IF(IFERROR(SEARCH(\"Refrigerated\",Worksheet!L222,1),0)>0,122,IF(ISERROR(RIGHT(VLOOKUP(Worksheet!K222,Type!C$1:E$13,3,FALSE),3))=FALSE,RIGHT(VLOOKUP(Worksheet!K222,Type!C$1:E$13,3,FALSE),3),\"\"))","v":""},{"$f":"IF(Worksheet!M222=\"\",\"\",Worksheet!M222)","v":""},{"$f":"IF(Worksheet!N222=\"\",\"\",Worksheet!N222)","v":""},{"$f":"IF(Worksheet!Y222=0,\"\",Worksheet!Y222)","v":""},"Watts",null,null,{"$f":"Worksheet!AA222","v":0},{"$f":"IF(ISBLANK(Worksheet!V222)=FALSE,Worksheet!V222,\"\")","v":0},{"$f":"Worksheet!AG222","v":0},{"$f":"Worksheet!AF222","v":0},0,{"$f":"IF(ISERROR(SEARCH(\"Gas\",Worksheet!$A$18))=TRUE,0,Worksheet!AH222)","v":0},0,null,null,{"$f":"IF(OR(Worksheet!F222=\"Incandescent\",Worksheet!F222=\"Halogen Incandescent\")=TRUE,118,IF(LEFT(Worksheet!F222,3)=\"HID\",117,IF(OR(RIGHT(Worksheet!F222,3)=\"T12\",RIGHT(Worksheet!F222,5)=\"T12HO\")=TRUE,115,IF(OR(RIGHT(Worksheet!F222,2)=\"T8\",RIGHT(Worksheet!F222,4)=\"RWT8\",RIGHT(Worksheet!F222,4)=\"T8HO\")=TRUE,115,\"\"))))","v":""},{"$f":"IF(ISBLANK(Worksheet!W222)=FALSE,Worksheet!W222,\"\")","v":0},{"$f":"IF(ISERROR(SEARCH(\"Oil\",Worksheet!$A$18))=TRUE,0,Worksheet!AH222)","v":0},0,{"$f":"IF(ISERROR(SEARCH(\"Propane\",Worksheet!$A$18))=TRUE,0,Worksheet!AH222)","v":0},0,{"$f":"IF(Worksheet!J222=0,\"\",Worksheet!J222)","v":""},{"$f":"IF(Worksheet!B222=0,\"\",Worksheet!B222)","v":""},{"$f":"IF(Worksheet!K222=0,\"\",Worksheet!K222)","v":""},{"$f":"IF(Worksheet!L222=0,\"\",Worksheet!L222)","v":""},{"$f":"IF(Worksheet!R222=0,\"\",Worksheet!R222)","v":""},{"$f":"IF(Worksheet!F222=0,\"\",Worksheet!F222)","v":""},{"$f":"IF(Worksheet!G222=0,\"\",Worksheet!G222)","v":""},{"$f":"IF(Worksheet!X222=0,\"\",Worksheet!X222)","v":""},{"$f":"IF(Worksheet!Q222=0,\"\",Worksheet!Q222)","v":""},{"$f":"IF(Worksheet!C222=0,\"\",Worksheet!C222)","v":""},{"$f":"IF(Worksheet!D222=0,\"\",Worksheet!D222)","v":""},{"$f":"IF(Worksheet!$A$11=TRUE,\"Y\",\"N\")","v":"N"},{"$f":"IF(Worksheet!$A$12=TRUE,\"Y\",\"N\")","v":"N"},{"$f":"IF(Worksheet!$B$11=TRUE,\"Y\",\"N\")","v":"N"},{"$f":"IF(Worksheet!$B$12=TRUE,\"Y\",\"N\")","v":"N"},{"$f":"IF(Worksheet!$C$11=TRUE,\"Y\",\"N\")","v":"N"},{"$f":"IFERROR(Worksheet!AB222,\"\")","v":0}]
[{"$f":"IF(IFERROR(SEARCH(\"Refrigerated\",Worksheet!L223,1),0)>0,122,IF(ISERROR(RIGHT(VLOOKUP(Worksheet!K223,Type!C$1:E$13,3,FALSE),3))=FALSE,RIGHT(VLOOKUP(Worksheet!K223,Type!C$1:E$13,3,FALSE),3),\"\"))","v":""},{"$f":"IF(Worksheet!M223=\"\",\"\",Worksheet!M223)","v":""},{"$f":"IF(Worksheet!N223=\"\",\"\",Worksheet!N223)","v":""},{"$f":"IF(Worksheet!Y223=0,\"\",Worksheet!Y223)","v":""},"Watts",null,null,{"$f":"Worksheet!AA223","v":0},{"$f":"IF(ISBLANK(Worksheet!V223)=FALSE,Worksheet!V223,\"\")","v":0},{"$f":"Worksheet!AG223","v":0},{"$f":"Worksheet!AF223","v":0},0,{"$f":"IF(ISERROR(SEARCH(\"Gas\",Worksheet!$A$18))=TRUE,0,Worksheet!AH223)","v":0},0,null,null,{"$f":"IF(OR(Worksheet!F223=\"Incandescent\",Worksheet!F223=\"Halogen Incandescent\")=TRUE,118,IF(LEFT(Worksheet!F223,3)=\"HID\",117,IF(OR(RIGHT(Worksheet!F223,3)=\"T12\",RIGHT(Worksheet!F223,5)=\"T12HO\")=TRUE,115,IF(OR(RIGHT(Worksheet!F223,2)=\"T8\",RIGHT(Worksheet!F223,4)=\"RWT8\",RIGHT(Worksheet!F223,4)=\"T8HO\")=TRUE,115,\"\"))))","v":""},{"$f":"IF(ISBLANK(Worksheet!W223)=FALSE,Worksheet!W223,\"\")","v":0},{"$f":"IF(ISERROR(SEARCH(\"Oil\",Worksheet!$A$18))=TRUE,0,Worksheet!AH223)","v":0},0,{"$f":"IF(ISERROR(SEARCH(\"Propane\",Worksheet!$A$18))=TRUE,0,Worksheet!AH223)","v":0},0,{"$f":"IF(Worksheet!J223=0,\"\",Worksheet!J223)","v":""},{"$f":"IF(Worksheet!B223=0,\"\",Worksheet!B223)","v":""},{"$f":"IF(Worksheet!K223=0,\"\",Worksheet!K223)","v":""},{"$f":"IF(Worksheet!L223=0,\"\",Worksheet!L223)","v":""},{"$f":"IF(Worksheet!R223=0,\"\",Worksheet!R223)","v":""},{"$f":"IF(Worksheet!F223=0,\"\",Worksheet!F223)","v":""},{"$f":"IF(Worksheet!G223=0,\"\",Worksheet!G223)","v":""},{"$f":"IF(Worksheet!X223=0,\"\",Worksheet!X223)","v":""},{"$f":"IF(Worksheet!Q223=0,\"\",Worksheet!Q223)","v":""},{"$f":"IF(Worksheet!C223=0,\"\",Worksheet!C223)","v":""},{"$f":"IF(Worksheet!D223=0,\"\",Worksheet!D223)","v":""},{"$f":"IF(Worksheet!$A$11=TRUE,\"Y\",\"N\")","v":"N"},{"$f":"IF(Worksheet!$A$12=TRUE,\"Y\",\"N\")","v":"N"},{"$f":"IF(Worksheet!$B$11=TRUE,\"Y\",\"N\")","v":"N"},{"$f":"IF(Worksheet!$B$12=TRUE,\"Y\",\"N\")","v":"N"},{"$f":"IF(Worksheet!$C$11=TRUE,\"Y\",\"N\")","v":"N"},{"$f":"IFERROR(Worksheet!AB223,\"\")","v":0}]
[{"$f":"IF(IFERROR(SEARCH(\"Refrigerated\",Worksheet!L224,1),0)>0,122,IF(ISERROR(RIGHT(VLOOKUP(Worksheet!K224,Type!C$1:E$13,3,FALSE),3))=FALSE,RIGHT(VLOOKUP(Worksheet!K224,Type!C$1:E$13,3,FALSE),3),\"\"))","v":""},{"$f":"IF(Worksheet!M224=\"\",\"\",Worksheet!M224)","v":""},{"$f":"IF(Worksheet!N224=\"\",\"\",Worksheet!N224)","v":""},{"$f":"IF(Worksheet!Y224=0,\"\",Worksheet!Y224)","v":""},"Watts",null,null,{"$f":"Worksheet!AA224","v":0},{"$f":"IF(ISBLANK(Worksheet!V224)=FALSE,Worksheet!V224,\"\")","v":0},{"$f":"Worksheet!AG224","v":0},{"$f":"Worksheet!AF224","v":0},0,{"$f":"IF(ISERROR(SEARCH(\"Gas\",Worksheet!$A$18))=TRUE,0,Worksheet!AH224)","v":0},0,null,null,{"$f":"IF(OR(Worksheet!F224=\"Incandescent\",Worksheet!F224=\"Halogen Incandescent\")=TRUE,118,IF(LEFT(Worksheet!F224,3)=\"HID\",117,IF(OR(RIGHT(Worksheet!F224,3)=\"T12\",RIGHT(Worksheet!F224,5)=\"T12HO\")=TRUE,115,IF(OR(RIGHT(Worksheet!F224,2)=\"T8\",RIGHT(Worksheet!F224,4)=\"RWT8\",RIGHT(Worksheet!F224,4)=\"T8HO\")=TRUE,115,\"\"))))","v":""},{"$f":"IF(ISBLANK(Worksheet!W224)=FALSE,Worksheet!W224,\"\")","v":0},{"$f":"IF(ISERROR(SEARCH(\"Oil\",Worksheet!$A$18))=TRUE,0,Worksheet!AH224)","v":0},0,{"$f":"IF(ISERROR(SEARCH(\"Propane\",Worksheet!$A$18))=TRUE,0,Worksheet!AH224)","v":0},0,{"$f":"IF(Worksheet!J224=0,\"\",Worksheet!J224)","v":""},{"$f":"IF(Worksheet!B224=0,\"\",Worksheet!B224)","v":""},{"$f":"IF(Worksheet!K224=0,\"\",Worksheet!K224)","v":""},{"$f":"IF(Worksheet!L224=0,\"\",Worksheet!L224)","v":""},{"$f":"IF(Worksheet!R224=0,\"\",Worksheet!R224)","v":""},{"$f":"IF(Worksheet!F224=0,\"\",Worksheet!F224)","v":""},{"$f":"IF(Worksheet!G224=0,\"\",Worksheet!G224)","v":""},{"$f":"IF(Worksheet!X224=0,\"\",Worksheet!X224)","v":""},{"$f":"IF(Worksheet!Q224=0,\"\",Worksheet!Q224)","v":""},{"$f":"IF(Worksheet!C224=0,\"\",Worksheet!C224)","v":""},{"$f":"IF(Worksheet!D224=0,\"\",Worksheet!D224)","v":""},{"$f":"IF(Worksheet!$A$11=TRUE,\"Y\",\"N\")","v":"N"},{"$f":"IF(Worksheet!$A$12=TRUE,\"Y\",\"N\")","v":"N"},{"$f":"IF(Worksheet!$B$11=TRUE,\"Y\",\"N\")","v":"N"},{"$f":"IF(Worksheet!$B$12=TRUE,\"Y\",\"N\")","v":"N"},{"$f":"IF(Worksheet!$C$11=TRUE,\"Y\",\"N\")","v":"N"},{"$f":"IFERROR(Worksheet!AB224,\"\")","v":0}]
[{"$f":"IF(IFERROR(SEARCH(\"Refrigerated\",Worksheet!L225,1),0)>0,122,IF(ISERROR(RIGHT(VLOOKUP(Worksheet!K225,Type!C$1:E$13,3,FALSE),3))=FALSE,RIGHT(VLOOKUP(Worksheet!K225,Type!C$1:E$13,3,FALSE),3),\"\"))","v":""},{"$f":"IF(Worksheet!M225=\"\",\"\",Worksheet!M225)","v":""},{"$f":"IF(Worksheet!N225=\"\",\"\",Worksheet!N225)","v":""},{"$f":"IF(Worksheet!Y225=0,\"\",Worksheet!Y225)","v":""},"Watts",null,null,{"$f":"Worksheet!AA225","v":0},{"$f":"IF(ISBLANK(Worksheet!V225)=FALSE,Worksheet!V225,\"\")","v":0},{"$f":"Worksheet!AG225","v":0},{"$f":"Worksheet!AF225","v":0},0,{"$f":"IF(ISERROR(SEARCH(\"Gas\",Worksheet!$A$18))=TRUE,0,Worksheet!AH225)","v":0},0,null,null,{"$f":"IF(OR(Worksheet!F225=\"Incandescent\",Worksheet!F225=\"Halogen Incandescent\")=TRUE,118,IF(LEFT(Worksheet!F225,3)=\"HID\",117,IF(OR(RIGHT(Worksheet!F225,3)=\"T12\",RIGHT(Worksheet!F225,5)=\"T12HO\")=TRUE,115,IF(OR(RIGHT(Worksheet!F225,2)=\"T8\",RIGHT(Worksheet!F225,4)=\"RWT8\",RIGHT(Worksheet!F225,4)=\"T8HO\")=TRUE,115,\"\"))))","v":""},{"$f":"IF(ISBLANK(Worksheet!W225)=FALSE,Worksheet!W225,\"\")","v":0},{"$f":"IF(ISERROR(SEARCH(\"Oil\",Worksheet!$A$18))=TRUE,0,Worksheet!AH225)","v":0},0,{"$f":"IF(ISERROR(SEARCH(\"Propane\",Worksheet!$A$18))=TRUE,0,Worksheet!AH225)","v":0},0,{"$f":"IF(Worksheet!J225=0,\"\",Worksheet!J225)","v":""},{"$f":"IF(Worksheet!B225=0,\"\",Worksheet!B225)","v":""},{"$f":"IF(Worksheet!K225=0,\"\",Worksheet!K225)","v":""},{"$f":"IF(Worksheet!L225=0,\"\",Worksheet!L225)","v":""},{"$f":"IF(Worksheet!R225=0,\"\",Worksheet!R225)","v":""},{"$f":"IF(Worksheet!F225=0,\"\",Worksheet!F225)","v":""},{"$f":"IF(Worksheet!G225=0,\"\",Worksheet!G225)","v":""},{"$f":"IF(Worksheet!X225=0,\"\",Worksheet!X225)","v":""},{"$f":"IF(Worksheet!Q225=0,\"\",Worksheet!Q225)","v":""},{"$f":"IF(Worksheet!C225=0,\"\",Worksheet!C225)","v":""},{"$f":"IF(Worksheet!D225=0,\"\",Worksheet!D225)","v":""},{"$f":"IF(Worksheet!$A$11=TRUE,\"Y\",\"N\")","v":"N"},{"$f":"IF(Worksheet!$A$12=TRUE,\"Y\",\"N\")","v":"N"},{"$f":"IF(Worksheet!$B$11=TRUE,\"Y\",\"N\")","v":"N"},{"$f":"IF(Worksheet!$B$12=TRUE,\"Y\",\"N\")","v":"N"},{"$f":"IF(Worksheet!$C$11=TRUE,\"Y\",\"N\")","v":"N"},{"$f":"IFERROR(Worksheet!AB225,\"\")","v":0}]
[{"$f":"IF(IFERROR(SEARCH(\"Refrigerated\",Worksheet!L226,1),0)>0,122,IF(ISERROR(RIGHT(VLOOKUP(Worksheet!K226,Type!C$1:E$13,3,FALSE),3))=FALSE,RIGHT(VLOOKUP(Worksheet!K226,Type!C$1:E$13,3,FALSE),3),\"\"))","v":""},{"$f":"IF(Worksheet!M226=\"\",\"\",Worksheet!M226)","v":""},{"$f":"IF(Worksheet!N226=\"\",\"\",Worksheet!N226)","v":""},{"$f":"IF(Worksheet!Y226=0,\"\",Worksheet!Y226)","v":""},"Watts",null,null,{"$f":"Worksheet!AA226","v":0},{"$f":"IF(ISBLANK(Worksheet!V226)=FALSE,Worksheet!V226,\"\")","v":0},{"$f":"Worksheet!AG226","v":0},{"$f":"Worksheet!AF226","v":0},0,{"$f":"IF(ISERROR(SEARCH(\"Gas\",Worksheet!$A$18))=TRUE,0,Worksheet!AH226)","v":0},0,null,null,{"$f":"IF(OR(Worksheet!F226=\"Incandescent\",Worksheet!F226=\"Halogen Incandescent\")=TRUE,118,IF(LEFT(Worksheet!F226,3)=\"HID\",117,IF(OR(RIGHT(Worksheet!F226,3)=\"T12\",RIGHT(Worksheet!F226,5)=\"T12HO\")=TRUE,115,IF(OR(RIGHT(Worksheet!F226,2)=\"T8\",RIGHT(Worksheet!F226,4)=\"RWT8\",RIGHT(Worksheet!F226,4)=\"T8HO\")=TRUE,115,\"\"))))","v":""},{"$f":"IF(ISBLANK(Worksheet!W226)=FALSE,Worksheet!W226,\"\")","v":0},{"$f":"IF(ISERROR(SEARCH(\"Oil\",Worksheet!$A$18))=TRUE,0,Worksheet!AH226)","v":0},0,{"$f":"IF(ISERROR(SEARCH(\"Propane\",Worksheet!$A$18))=TRUE,0,Worksheet!AH226)","v":0},0,{"$f":"IF(Worksheet!J226=0,\"\",Worksheet!J226)","v":""},{"$f":"IF(Worksheet!B226=0,\"\",Worksheet!B226)","v":""},{"$f":"IF(Worksheet!K226=0,\"\",Worksheet!K226)","v":""},{"$f":"IF(Worksheet!L226=0,\"\",Worksheet!L226)","v":""},{"$f":"IF(Worksheet!R226=0,\"\",Worksheet!R226)","v":""},{"$f":"IF(Worksheet!F226=0,\"\",Worksheet!F226)","v":""},{"$f":"IF(Worksheet!G226=0,\"\",Worksheet!G226)","v":""},{"$f":"IF(Worksheet!X226=0,\"\",Worksheet!X226)","v":""},{"$f":"IF(Worksheet!Q226=0,\"\",Worksheet!Q226)","v":""},{"$f":"IF(Worksheet!C226=0,\"\",Worksheet!C226)","v":""},{"$f":"IF(Worksheet!D226=0,\"\",Worksheet!D226)","v":""},{"$f":"IF(Worksheet!$A$11=TRUE,\"Y\",\"N\")","v":"N"},{"$f":"IF(Worksheet!$A$12=TRUE,\"Y\",\"N\")","v":"N"},{"$f":"IF(Worksheet!$B$11=TRUE,\"Y\",\"N\")","v":"N"},{"$f":"IF(Worksheet!$B$12=TRUE,\"Y\",\"N\")","v":"N"},{"$f":"IF(Worksheet!$C$11=TRUE,\"Y\",\"N\")","v":"N"},{"$f":"IFERROR(Worksheet!AB226,\"\")","v":0}]
[{"$f":"IF(IFERROR(SEARCH(\"Refrigerated\",Worksheet!L227,1),0)>0,122,IF(ISERROR(RIGHT(VLOOKUP(Worksheet!K227,Type!C$1:E$13,3,FALSE),3))=FALSE,RIGHT(VLOOKUP(Worksheet!K227,Type!C$1:E$13,3,FALSE),3),\"\"))","v":""},{"$f":"IF(Worksheet!M227=\"\",\"\",Worksheet!M227)","v":""},{"$f":"IF(Worksheet!N227=\"\",\"\",Worksheet!N227)","v":""},{"$f":"IF(Worksheet!Y227=0,\"\",Worksheet!Y227)","v":""},"Watts",null,null,{"$f":"Worksheet!AA227","v":0},{"$f":"IF(ISBLANK(Worksheet!V227)=FALSE,Worksheet!V227,\"\")","v":0},{"$f":"Worksheet!AG227","v":0},{"$f":"Worksheet!AF227","v":0},0,{"$f":"IF(ISERROR(SEARCH(\"Gas\",Worksheet!$A$18))=TRUE,0,Worksheet!AH227)","v":0},0,null,null,{"$f":"IF(OR(Worksheet!F227=\"Incandescent\",Worksheet!F227=\"Halogen Incandescent\")=TRUE,118,IF(LEFT(Worksheet!F227,3)=\"HID\",117,IF(OR(RIGHT(Worksheet!F227,3)=\"T12\",RIGHT(Worksheet!F227,5)=\"T12HO\")=TRUE,115,IF(OR(RIGHT(Worksheet!F227,2)=\"T8\",RIGHT(Worksheet!F227,4)=\"RWT8\",RIGHT(Worksheet!F227,4)=\"T8HO\")=TRUE,115,\"\"))))","v":""},{"$f":"IF(ISBLANK(Worksheet!W227)=FALSE,Worksheet!W227,\"\")","v":0},{"$f":"IF(ISERROR(SEARCH(\"Oil\",Worksheet!$A$18))=TRUE,0,Worksheet!AH227)","v":0},0,{"$f":"IF(ISERROR(SEARCH(\"Propane\",Worksheet!$A$18))=TRUE,0,Worksheet!AH227)","v":0},0,{"$f":"IF(Worksheet!J227=0,\"\",Worksheet!J227)","v":""},{"$f":"IF(Worksheet!B227=0,\"\",Worksheet!B227)","v":""},{"$f":"IF(Worksheet!K227=0,\"\",Worksheet!K227)","v":""},{"$f":"IF(Worksheet!L227=0,\"\",Worksheet!L227)","v":""},{"$f":"IF(Worksheet!R227=0,\"\",Worksheet!R227)","v":""},{"$f":"IF(Worksheet!F227=0,\"\",Worksheet!F227)","v":""},{"$f":"IF(Worksheet!G227=0,\"\",Worksheet!G227)","v":""},{"$f":"IF(Worksheet!X227=0,\"\",Worksheet!X227)","v":""},{"$f":"IF(Worksheet!Q227=0,\"\",Worksheet!Q227)","v":""},{"$f":"IF(Worksheet!C227=0,\"\",Worksheet!C227)","v":""},{"$f":"IF(Worksheet!D227=0,\"\",Worksheet!D227)","v":""},{"$f":"IF(Worksheet!$A$11=TRUE,\"Y\",\"N\")","v":"N"},{"$f":"IF(Worksheet!$A$12=TRUE,\"Y\",\"N\")","v":"N"},{"$f":"IF(Worksheet!$B$11=TRUE,\"Y\",\"N\")","v":"N"},{"$f":"IF(Worksheet!$B$12=TRUE,\"Y\",\"N\")","v":"N"},{"$f":"IF(Worksheet!$C$11=TRUE,\"Y\",\"N\")","v":"N"},{"$f":"IFERROR(Worksheet!AB227,\"\")","v":0}]
[{"$f":"IF(IFERROR(SEARCH(\"Refrigerated\",Worksheet!L228,1),0)>0,122,IF(ISERROR(RIGHT(VLOOKUP(Worksheet!K228,Type!C$1:E$13,3,FALSE),3))=FALSE,RIGHT(VLOOKUP(Worksheet!K228,Type!C$1:E$13,3,FALSE),3),\"\"))","v":""},{"$f":"IF(Worksheet!M228=\"\",\"\",Worksheet!M228)","v":""},{"$f":"IF(Worksheet!N228=\"\",\"\",Worksheet!N228)","v":""},{"$f":"IF(Worksheet!Y228=0,\"\",Worksheet!Y228)","v":""},"Watts",null,null,{"$f":"Worksheet!AA228","v":0},{"$f":"IF(ISBLANK(Worksheet!V228)=FALSE,Worksheet!V228,\"\")","v":0},{"$f":"Worksheet!AG228","v":0},{"$f":"Worksheet!AF228","v":0},0,{"$f":"IF(ISERROR(SEARCH(\"Gas\",Worksheet!$A$18))=TRUE,0,Worksheet!AH228)","v":0},0,null,null,{"$f":"IF(OR(Worksheet!F228=\"Incandescent\",Worksheet!F228=\"Halogen Incandescent\")=TRUE,118,IF(LEFT(Worksheet!F228,3)=\"HID\",117,IF(OR(RIGHT(Worksheet!F228,3)=\"T12\",RIGHT(Worksheet!F228,5)=\"T12HO\")=TRUE,115,IF(OR(RIGHT(Worksheet!F228,2)=\"T8\",RIGHT(Worksheet!F228,4)=\"RWT8\",RIGHT(Worksheet!F228,4)=\"T8HO\")=TRUE,115,\"\"))))","v":""},{"$f":"IF(ISBLANK(Worksheet!W228)=FALSE,Worksheet!W228,\"\")","v":0},{"$f":"IF(ISERROR(SEARCH(\"Oil\",Worksheet!$A$18))=TRUE,0,Worksheet!AH228)","v":0},0,{"$f":"IF(ISERROR(SEARCH(\"Propane\",Worksheet!$A$18))=TRUE,0,Worksheet!AH228)","v":0},0,{"$f":"IF(Worksheet!J228=0,\"\",Worksheet!J228)","v":""},{"$f":"IF(Worksheet!B228=0,\"\",Worksheet!B228)","v":""},{"$f":"IF(Worksheet!K228=0,\"\",Worksheet!K228)","v":""},{"$f":"IF(Worksheet!L228=0,\"\",Worksheet!L228)","v":""},{"$f":"IF(Worksheet!R228=0,\"\",Worksheet!R228)","v":""},{"$f":"IF(Worksheet!F228=0,\"\",Worksheet!F228)","v":""},{"$f":"IF(Worksheet!G228=0,\"\",Worksheet!G228)","v":""},{"$f":"IF(Worksheet!X228=0,\"\",Worksheet!X228)","v":""},{"$f":"IF(Worksheet!Q228=0,\"\",Worksheet!Q228)","v":""},{"$f":"IF(Worksheet!C228=0,\"\",Worksheet!C228)","v":""},{"$f":"IF(Worksheet!D228=0,\"\",Worksheet!D228)","v":""},{"$f":"IF(Worksheet!$A$11=TRUE,\"Y\",\"N\")","v":"N"},{"$f":"IF(Worksheet!$A$12=TRUE,\"Y\",\"N\")","v":"N"},{"$f":"IF(Worksheet!$B$11=TRUE,\"Y\",\"N\")","v":"N"},{"$f":"IF(Worksheet!$B$12=TRUE,\"Y\",\"N\")","v":"N"},{"$f":"IF(Worksheet!$C$11=TRUE,\"Y\",\"N\")","v":"N"},{"$f":"IFERROR(Worksheet!AB228,\"\")","v":0}]
[{"$f":"IF(IFERROR(SEARCH(\"Refrigerated\",Worksheet!L229,1),0)>0,122,IF(ISERROR(RIGHT(VLOOKUP(Worksheet!K229,Type!C$1:E$13,3,FALSE),3))=FALSE,RIGHT(VLOOKUP(Worksheet!K229,Type!C$1:E$13,3,FALSE),3),\"\"))","v":""},{"$f":"IF(Worksheet!M229=\"\",\"\",Worksheet!M229)","v":""},{"$f":"IF(Worksheet!N229=\"\",\"\",Worksheet!N229)","v":""},{"$f":"IF(Worksheet!Y229=0,\"\",Worksheet!Y229)","v":""},"Watts",null,null,{"$f":"Worksheet!AA229","v":0},{"$f":"IF(ISBLANK(Worksheet!V229)=FALSE,Worksheet!V229,\"\")","v":0},{"$f":"Worksheet!AG229","v":0},{"$f":"Worksheet!AF229","v":0},0,{"$f":"IF(ISERROR(SEARCH(\"Gas\",Worksheet!$A$18))=TRUE,0,Worksheet!AH229)","v":0},0,null,null,{"$f":"IF(OR(Worksheet!F229=\"Incandescent\",Worksheet!F229=\"Halogen Incandescent\")=TRUE,118,IF(LEFT(Worksheet!F229,3)=\"HID\",117,IF(OR(RIGHT(Worksheet!F229,3)=\"T12\",RIGHT(Worksheet!F229,5)=\"T12HO\")=TRUE,115,IF(OR(RIGHT(Worksheet!F229,2)=\"T8\",RIGHT(Worksheet!F229,4)=\"RWT8\",RIGHT(Worksheet!F229,4)=\"T8HO\")=TRUE,115,\"\"))))","v":""},{"$f":"IF(ISBLANK(Worksheet!W229)=FALSE,Worksheet!W229,\"\")","v":0},{"$f":"IF(ISERROR(SEARCH(\"Oil\",Worksheet!$A$18))=TRUE,0,Worksheet!AH229)","v":0},0,{"$f":"IF(ISERROR(SEARCH(\"Propane\",Worksheet!$A$18))=TRUE,0,Worksheet!AH229)","v":0},0,{"$f":"IF(Worksheet!J229=0,\"\",Worksheet!J229)","v":""},{"$f":"IF(Worksheet!B229=0,\"\",Worksheet!B229)","v":""},{"$f":"IF(Worksheet!K229=0,\"\",Worksheet!K229)","v":""},{"$f":"IF(Worksheet!L229=0,\"\",Worksheet!L229)","v":""},{"$f":"IF(Worksheet!R229=0,\"\",Worksheet!R229)","v":""},{"$f":"IF(Worksheet!F229=0,\"\",Worksheet!F229)","v":""},{"$f":"IF(Worksheet!G229=0,\"\",Worksheet!G229)","v":""},{"$f":"IF(Worksheet!X229=0,\"\",Worksheet!X229)","v":""},{"$f":"IF(Worksheet!Q229=0,\"\",Worksheet!Q229)","v":""},{"$f":"IF(Worksheet!C229=0,\"\",Worksheet!C229)","v":""},{"$f":"IF(Worksheet!D229=0,\"\",Worksheet!D229)","v":""},{"$f":"IF(Worksheet!$A$11=TRUE,\"Y\",\"N\")","v":"N"},{"$f":"IF(Worksheet!$A$12=TRUE,\"Y\",\"N\")","v":"N"},{"$f":"IF(Worksheet!$B$11=TRUE,\"Y\",\"N\")","v":"N"},{"$f":"IF(Worksheet!$B$12=TRUE,\"Y\",\"N\")","v":"N"},{"$f":"IF(Worksheet!$C$11=TRUE,\"Y\",\"N\")","v":"N"},{"$f":"IFERROR(Worksheet!AB229,\"\")","v":0}]
[{"$f":"IF(IFERROR(SEARCH(\"Refrigerated\",Worksheet!L230,1),0)>0,122,IF(ISERROR(RIGHT(VLOOKUP(Worksheet!K230,Type!C$1:E$13,3,FALSE),3))=FALSE,RIGHT(VLOOKUP(Worksheet!K230,Type!C$1:E$13,3,FALSE),3),\"\"))","v":""},{"$f":"IF(Worksheet!M230=\"\",\"\",Worksheet!M230)","v":""},{"$f":"IF(Worksheet!N230=\"\",\"\",Worksheet!N230)","v":""},{"$f":"IF(Worksheet!Y230=0,\"\",Worksheet!Y230)","v":""},"Watts",null,null,{"$f":"Worksheet!AA230","v":0},{"$f":"IF(ISBLANK(Worksheet!V230)=FALSE,Worksheet!V230,\"\")","v":0},{"$f":"Worksheet!AG230","v":0},{"$f":"Worksheet!AF230","v":0},0,{"$f":"IF(ISERROR(SEARCH(\"Gas\",Worksheet!$A$18))=TRUE,0,Worksheet!AH230)","v":0},0,null,null,{"$f":"IF(OR(Worksheet!F230=\"Incandescent\",Worksheet!F230=\"Halogen Incandescent\")=TRUE,118,IF(LEFT(Worksheet!F230,3)=\"HID\",117,IF(OR(RIGHT(Worksheet!F230,3)=\"T12\",RIGHT(Worksheet!F230,5)=\"T12HO\")=TRUE,115,IF(OR(RIGHT(Worksheet!F230,2)=\"T8\",RIGHT(Worksheet!F230,4)=\"RWT8\",RIGHT(Worksheet!F230,4)=\"T8HO\")=TRUE,115,\"\"))))","v":""},{"$f":"IF(ISBLANK(Worksheet!W230)=FALSE,Worksheet!W230,\"\")","v":0},{"$f":"IF(ISERROR(SEARCH(\"Oil\",Worksheet!$A$18))=TRUE,0,Worksheet!AH230)","v":0},0,{"$f":"IF(ISERROR(SEARCH(\"Propane\",Worksheet!$A$18))=TRUE,0,Worksheet!AH230)","v":0},0,{"$f":"IF(Worksheet!J230=0,\"\",Worksheet!J230)","v":""},{"$f":"IF(Worksheet!B230=0,\"\",Worksheet!B230)","v":""},{"$f":"IF(Worksheet!K230=0,\"\",Worksheet!K230)","v":""},{"$f":"IF(Worksheet!L230=0,\"\",Worksheet!L230)","v":""},{"$f":"IF(Worksheet!R230=0,\"\",Worksheet!R230)","v":""},{"$f":"IF(Worksheet!F230=0,\"\",Worksheet!F230)","v":""},{"$f":"IF(Worksheet!G230=0,\"\",Worksheet!G230)","v":""},{"$f":"IF(Worksheet!X230=0,\"\",Worksheet!X230)","v":""},{"$f":"IF(Worksheet!Q230=0,\"\",Worksheet!Q230)","v":""},{"$f":"IF(Worksheet!C230=0,\"\",Worksheet!C230)","v":""},{"$f":"IF(Worksheet!D230=0,\"\",Worksheet!D230)","v":""},{"$f":"IF(Worksheet!$A$11=TRUE,\"Y\",\"N\")","v":"N"},{"$f":"IF(Worksheet!$A$12=TRUE,\"Y\",\"N\")","v":"N"},{"$f":"IF(Worksheet!$B$11=TRUE,\"Y\",\"N\")","v":"N"},{"$f":"IF(Worksheet!$B$12=TRUE,\"Y\",\"N\")","v":"N"},{"$f":"IF(Worksheet!$C$11=TRUE,\"Y\",\"N\")","v":"N"},{"$f":"IFERROR(Worksheet!AB230,\"\")","v":0}]
[{"$f":"IF(IFERROR(SEARCH(\"Refrigerated\",Worksheet!L231,1),0)>0,122,IF(ISERROR(RIGHT(VLOOKUP(Worksheet!K231,Type!C$1:E$13,3,FALSE),3))=FALSE,RIGHT(VLOOKUP(Worksheet!K231,Type!C$1:E$13,3,FALSE),3),\"\"))","v":""},{"$f":"IF(Worksheet!M231=\"\",\"\",Worksheet!M231)","v":""},{"$f":"IF(Worksheet!N231=\"\",\"\",Worksheet!N231)","v":""},{"$f":"IF(Worksheet!Y231=0,\"\",Worksheet!Y231)","v":""},"Watts",null,null,{"$f":"Worksheet!AA231","v":0},{"$f":"IF(ISBLANK(Worksheet!V231)=FALSE,Worksheet!V231,\"\")","v":0},{"$f":"Worksheet!AG231","v":0},{"$f":"Worksheet!AF231","v":0},0,{"$f":"IF(ISERROR(SEARCH(\"Gas\",Worksheet!$A$18))=TRUE,0,Worksheet!AH231)","v":0},0,null,null,{"$f":"IF(OR(Worksheet!F231=\"Incandescent\",Worksheet!F231=\"Halogen Incandescent\")=TRUE,118,IF(LEFT(Worksheet!F231,3)=\"HID\",117,IF(OR(RIGHT(Worksheet!F231,3)=\"T12\",RIGHT(Worksheet!F231,5)=\"T12HO\")=TRUE,115,IF(OR(RIGHT(Worksheet!F231,2)=\"T8\",RIGHT(Worksheet!F231,4)=\"RWT8\",RIGHT(Worksheet!F231,4)=\"T8HO\")=TRUE,115,\"\"))))","v":""},{"$f":"IF(ISBLANK(Worksheet!W231)=FALSE,Worksheet!W231,\"\")","v":0},{"$f":"IF(ISERROR(SEARCH(\"Oil\",Worksheet!$A$18))=TRUE,0,Worksheet!AH231)","v":0},0,{"$f":"IF(ISERROR(SEARCH(\"Propane\",Worksheet!$A$18))=TRUE,0,Worksheet!AH231)","v":0},0,{"$f":"IF(Worksheet!J231=0,\"\",Worksheet!J231)","v":""},{"$f":"IF(Worksheet!B231=0,\"\",Worksheet!B231)","v":""},{"$f":"IF(Worksheet!K231=0,\"\",Worksheet!K231)","v":""},{"$f":"IF(Worksheet!L231=0,\"\",Worksheet!L231)","v":""},{"$f":"IF(Worksheet!R231=0,\"\",Worksheet!R231)","v":""},{"$f":"IF(Worksheet!F231=0,\"\",Worksheet!F231)","v":""},{"$f":"IF(Worksheet!G231=0,\"\",Worksheet!G231)","v":""},{"$f":"IF(Worksheet!X231=0,\"\",Worksheet!X231)","v":""},{"$f":"IF(Worksheet!Q231=0,\"\",Worksheet!Q231)","v":""},{"$f":"IF(Worksheet!C231=0,\"\",Worksheet!C231)","v":""},{"$f":"IF(Worksheet!D231=0,\"\",Worksheet!D231)","v":""},{"$f":"IF(Worksheet!$A$11=TRUE,\"Y\",\"N\")","v":"N"},{"$f":"IF(Worksheet!$A$12=TRUE,\"Y\",\"N\")","v":"N"},{"$f":"IF(Worksheet!$B$11=TRUE,\"Y\",\"N\")","v":"N"},{"$f":"IF(Worksheet!$B$12=TRUE,\"Y\",\"N\")","v":"N"},{"$f":"IF(Worksheet!$C$11=TRUE,\"Y\",\"N\")","v":"N"},{"$f":"IFERROR(Worksheet!AB231,\"\")","v":0}]
[{"$f":"IF(IFERROR(SEARCH(\"Refrigerated\",Worksheet!L232,1),0)>0,122,IF(ISERROR(RIGHT(VLOOKUP(Worksheet!K232,Type!C$1:E$13,3,FALSE),3))=FALSE,RIGHT(VLOOKUP(Worksheet!K232,Type!C$1:E$13,3,FALSE),3),\"\"))","v":""},{"$f":"IF(Worksheet!M232=\"\",\"\",Worksheet!M232)","v":""},{"$f":"IF(Worksheet!N232=\"\",\"\",Worksheet!N232)","v":""},{"$f":"IF(Worksheet!Y232=0,\"\",Worksheet!Y232)","v":""},"Watts",null,null,{"$f":"Worksheet!AA232","v":0},{"$f":"IF(ISBLANK(Worksheet!V232)=FALSE,Worksheet!V232,\"\")","v":0},{"$f":"Worksheet!AG232","v":0},{"$f":"Worksheet!AF232","v":0},0,{"$f":"IF(ISERROR(SEARCH(\"Gas\",Worksheet!$A$18))=TRUE,0,Worksheet!AH232)","v":0},0,null,null,{"$f":"IF(OR(Worksheet!F232=\"Incandescent\",Worksheet!F232=\"Halogen Incandescent\")=TRUE,118,IF(LEFT(Worksheet!F232,3)=\"HID\",117,IF(OR(RIGHT(Worksheet!F232,3)=\"T12\",RIGHT(Worksheet!F232,5)=\"T12HO\")=TRUE,115,IF(OR(RIGHT(Worksheet!F232,2)=\"T8\",RIGHT(Worksheet!F232,4)=\"RWT8\",RIGHT(Worksheet!F232,4)=\"T8HO\")=TRUE,115,\"\"))))","v":""},{"$f":"IF(ISBLANK(Worksheet!W232)=FALSE,Worksheet!W232,\"\")","v":0},{"$f":"IF(ISERROR(SEARCH(\"Oil\",Worksheet!$A$18))=TRUE,0,Worksheet!AH232)","v":0},0,{"$f":"IF(ISERROR(SEARCH(\"Propane\",Worksheet!$A$18))=TRUE,0,Worksheet!AH232)","v":0},0,{"$f":"IF(Worksheet!J232=0,\"\",Worksheet!J232)","v":""},{"$f":"IF(Worksheet!B232=0,\"\",Worksheet!B232)","v":""},{"$f":"IF(Worksheet!K232=0,\"\",Worksheet!K232)","v":""},{"$f":"IF(Worksheet!L232=0,\"\",Worksheet!L232)","v":""},{"$f":"IF(Worksheet!R232=0,\"\",Worksheet!R232)","v":""},{"$f":"IF(Worksheet!F232=0,\"\",Worksheet!F232)","v":""},{"$f":"IF(Worksheet!G232=0,\"\",Worksheet!G232)","v":""},{"$f":"IF(Worksheet!X232=0,\"\",Worksheet!X232)","v":""},{"$f":"IF(Worksheet!Q232=0,\"\",Worksheet!Q232)","v":""},{"$f":"IF(Worksheet!C232=0,\"\",Worksheet!C232)","v":""},{"$f":"IF(Worksheet!D232=0,\"\",Worksheet!D232)","v":""},{"$f":"IF(Worksheet!$A$11=TRUE,\"Y\",\"N\")","v":"N"},{"$f":"IF(Worksheet!$A$12=TRUE,\"Y\",\"N\")","v":"N"},{"$f":"IF(Worksheet!$B$11=TRUE,\"Y\",\"N\")","v":"N"},{"$f":"IF(Worksheet!$B$12=TRUE,\"Y\",\"N\")","v":"N"},{"$f":"IF(Worksheet!$C$11=TRUE,\"Y\",\"N\")","v":"N"},{"$f":"IFERROR(Worksheet!AB232,\"\")","v":0}]
[{"$f":"IF(IFERROR(SEARCH(\"Refrigerated\",Worksheet!L233,1),0)>0,122,IF(ISERROR(RIGHT(VLOOKUP(Worksheet!K233,Type!C$1:E$13,3,FALSE),3))=FALSE,RIGHT(VLOOKUP(Worksheet!K233,Type!C$1:E$13,3,FALSE),3),\"\"))","v":""},{"$f":"IF(Worksheet!M233=\"\",\"\",Worksheet!M233)","v":""},{"$f":"IF(Worksheet!N233=\"\",\"\",Worksheet!N233)","v":""},{"$f":"IF(Worksheet!Y233=0,\"\",Worksheet!Y233)","v":""},"Watts",null,null,{"$f":"Worksheet!AA233","v":0},{"$f":"IF(ISBLANK(Worksheet!V233)=FALSE,Worksheet!V233,\"\")","v":0},{"$f":"Worksheet!AG233","v":0},{"$f":"Worksheet!AF233","v":0},0,{"$f":"IF(ISERROR(SEARCH(\"Gas\",Worksheet!$A$18))=TRUE,0,Worksheet!AH233)","v":0},0,null,null,{"$f":"IF(OR(Worksheet!F233=\"Incandescent\",Worksheet!F233=\"Halogen Incandescent\")=TRUE,118,IF(LEFT(Worksheet!F233,3)=\"HID\",117,IF(OR(RIGHT(Worksheet!F233,3)=\"T12\",RIGHT(Worksheet!F233,5)=\"T12HO\")=TRUE,115,IF(OR(RIGHT(Worksheet!F233,2)=\"T8\",RIGHT(Worksheet!F233,4)=\"RWT8\",RIGHT(Worksheet!F233,4)=\"T8HO\")=TRUE,115,\"\"))))","v":""},{"$f":"IF(ISBLANK(Worksheet!W233)=FALSE,Worksheet!W233,\"\")","v":0},{"$f":"IF(ISERROR(SEARCH(\"Oil\",Worksheet!$A$18))=TRUE,0,Worksheet!AH233)","v":0},0,{"$f":"IF(ISERROR(SEARCH(\"Propane\",Worksheet!$A$18))=TRUE,0,Worksheet!AH233)","v":0},0,{"$f":"IF(Worksheet!J233=0,\"\",Worksheet!J233)","v":""},{"$f":"IF(Worksheet!B233=0,\"\",Worksheet!B233)","v":""},{"$f":"IF(Worksheet!K233=0,\"\",Worksheet!K233)","v":""},{"$f":"IF(Worksheet!L233=0,\"\",Worksheet!L233)","v":""},{"$f":"IF(Worksheet!R233=0,\"\",Worksheet!R233)","v":""},{"$f":"IF(Worksheet!F233=0,\"\",Worksheet!F233)","v":""},{"$f":"IF(Worksheet!G233=0,\"\",Worksheet!G233)","v":""},{"$f":"IF(Worksheet!X233=0,\"\",Worksheet!X233)","v":""},{"$f":"IF(Worksheet!Q233=0,\"\",Worksheet!Q233)","v":""},{"$f":"IF(Worksheet!C233=0,\"\",Worksheet!C233)","v":""},{"$f":"IF(Worksheet!D233=0,\"\",Worksheet!D233)","v":""},{"$f":"IF(Worksheet!$A$11=TRUE,\"Y\",\"N\")","v":"N"},{"$f":"IF(Worksheet!$A$12=TRUE,\"Y\",\"N\")","v":"N"},{"$f":"IF(Worksheet!$B$11=TRUE,\"Y\",\"N\")","v":"N"},{"$f":"IF(Worksheet!$B$12=TRUE,\"Y\",\"N\")","v":"N"},{"$f":"IF(Worksheet!$C$11=TRUE,\"Y\",\"N\")","v":"N"},{"$f":"IFERROR(Worksheet!AB233,\"\")","v":0}]
[{"$f":"IF(IFERROR(SEARCH(\"Refrigerated\",Worksheet!L234,1),0)>0,122,IF(ISERROR(RIGHT(VLOOKUP(Worksheet!K234,Type!C$1:E$13,3,FALSE),3))=FALSE,RIGHT(VLOOKUP(Worksheet!K234,Type!C$1:E$13,3,FALSE),3),\"\"))","v":""},{"$f":"IF(Worksheet!M234=\"\",\"\",Worksheet!M234)","v":""},{"$f":"IF(Worksheet!N234=\"\",\"\",Worksheet!N234)","v":""},{"$f":"IF(Worksheet!Y234=0,\"\",Worksheet!Y234)","v":""},"Watts",null,null,{"$f":"Worksheet!AA234","v":0},{"$f":"IF(ISBLANK(Worksheet!V234)=FALSE,Worksheet!V234,\"\")","v":0},{"$f":"Worksheet!AG234","v":0},{"$f":"Worksheet!AF234","v":0},0,{"$f":"IF(ISERROR(SEARCH(\"Gas\",Worksheet!$A$18))=TRUE,0,Worksheet!AH234)","v":0},0,null,null,{"$f":"IF(OR(Worksheet!F234=\"Incandescent\",Worksheet!F234=\"Halogen Incandescent\")=TRUE,118,IF(LEFT(Worksheet!F234,3)=\"HID\",117,IF(OR(RIGHT(Worksheet!F234,3)=\"T12\",RIGHT(Worksheet!F234,5)=\"T12HO\")=TRUE,115,IF(OR(RIGHT(Worksheet!F234,2)=\"T8\",RIGHT(Worksheet!F234,4)=\"RWT8\",RIGHT(Worksheet!F234,4)=\"T8HO\")=TRUE,115,\"\"))))","v":""},{"$f":"IF(ISBLANK(Worksheet!W234)=FALSE,Worksheet!W234,\"\")","v":0},{"$f":"IF(ISERROR(SEARCH(\"Oil\",Worksheet!$A$18))=TRUE,0,Worksheet!AH234)","v":0},0,{"$f":"IF(ISERROR(SEARCH(\"Propane\",Worksheet!$A$18))=TRUE,0,Worksheet!AH234)","v":0},0,{"$f":"IF(Worksheet!J234=0,\"\",Worksheet!J234)","v":""},{"$f":"IF(Worksheet!B234=0,\"\",Worksheet!B234)","v":""},{"$f":"IF(Worksheet!K234=0,\"\",Worksheet!K234)","v":""},{"$f":"IF(Worksheet!L234=0,\"\",Worksheet!L234)","v":""},{"$f":"IF(Worksheet!R234=0,\"\",Worksheet!R234)","v":""},{"$f":"IF(Worksheet!F234=0,\"\",Worksheet!F234)","v":""},{"$f":"IF(Worksheet!G234=0,\"\",Worksheet!G234)","v":""},{"$f":"IF(Worksheet!X234=0,\"\",Worksheet!X234)","v":""},{"$f":"IF(Worksheet!Q234=0,\"\",Worksheet!Q234)","v":""},{"$f":"IF(Worksheet!C234=0,\"\",Worksheet!C234)","v":""},{"$f":"IF(Worksheet!D234=0,\"\",Worksheet!D234)","v":""},{"$f":"IF(Worksheet!$A$11=TRUE,\"Y\",\"N\")","v":"N"},{"$f":"IF(Worksheet!$A$12=TRUE,\"Y\",\"N\")","v":"N"},{"$f":"IF(Worksheet!$B$11=TRUE,\"Y\",\"N\")","v":"N"},{"$f":"IF(Worksheet!$B$12=TRUE,\"Y\",\"N\")","v":"N"},{"$f":"IF(Worksheet!$C$11=TRUE,\"Y\",\"N\")","v":"N"},{"$f":"IFERROR(Worksheet!AB234,\"\")","v":0}]
[{"$f":"IF(IFERROR(SEARCH(\"Refrigerated\",Worksheet!L235,1),0)>0,122,IF(ISERROR(RIGHT(VLOOKUP(Worksheet!K235,Type!C$1:E$13,3,FALSE),3))=FALSE,RIGHT(VLOOKUP(Worksheet!K235,Type!C$1:E$13,3,FALSE),3),\"\"))","v":""},{"$f":"IF(Worksheet!M235=\"\",\"\",Worksheet!M235)","v":""},{"$f":"IF(Worksheet!N235=\"\",\"\",Worksheet!N235)","v":""},{"$f":"IF(Worksheet!Y235=0,\"\",Worksheet!Y235)","v":""},"Watts",null,null,{"$f":"Worksheet!AA235","v":0},{"$f":"IF(ISBLANK(Worksheet!V235)=FALSE,Worksheet!V235,\"\")","v":0},{"$f":"Worksheet!AG235","v":0},{"$f":"Worksheet!AF235","v":0},0,{"$f":"IF(ISERROR(SEARCH(\"Gas\",Worksheet!$A$18))=TRUE,0,Worksheet!AH235)","v":0},0,null,null,{"$f":"IF(OR(Worksheet!F235=\"Incandescent\",Worksheet!F235=\"Halogen Incandescent\")=TRUE,118,IF(LEFT(Worksheet!F235,3)=\"HID\",117,IF(OR(RIGHT(Worksheet!F235,3)=\"T12\",RIGHT(Worksheet!F235,5)=\"T12HO\")=TRUE,115,IF(OR(RIGHT(Worksheet!F235,2)=\"T8\",RIGHT(Worksheet!F235,4)=\"RWT8\",RIGHT(Worksheet!F235,4)=\"T8HO\")=TRUE,115,\"\"))))","v":""},{"$f":"IF(ISBLANK(Worksheet!W235)=FALSE,Worksheet!W235,\"\")","v":0},{"$f":"IF(ISERROR(SEARCH(\"Oil\",Worksheet!$A$18))=TRUE,0,Worksheet!AH235)","v":0},0,{"$f":"IF(ISERROR(SEARCH(\"Propane\",Worksheet!$A$18))=TRUE,0,Worksheet!AH235)","v":0},0,{"$f":"IF(Worksheet!J235=0,\"\",Worksheet!J235)","v":""},{"$f":"IF(Worksheet!B235=0,\"\",Worksheet!B235)","v":""},{"$f":"IF(Worksheet!K235=0,\"\",Worksheet!K235)","v":""},{"$f":"IF(Worksheet!L235=0,\"\",Worksheet!L235)","v":""},{"$f":"IF(Worksheet!R235=0,\"\",Worksheet!R235)","v":""},{"$f":"IF(Worksheet!F235=0,\"\",Worksheet!F235)","v":""},{"$f":"IF(Worksheet!G235=0,\"\",Worksheet!G235)","v":""},{"$f":"IF(Worksheet!X235=0,\"\",Worksheet!X235)","v":""},{"$f":"IF(Worksheet!Q235=0,\"\",Worksheet!Q235)","v":""},{"$f":"IF(Worksheet!C235=0,\"\",Worksheet!C235)","v":""},{"$f":"IF(Worksheet!D235=0,\"\",Worksheet!D235)","v":""},{"$f":"IF(Worksheet!$A$11=TRUE,\"Y\",\"N\")","v":"N"},{"$f":"IF(Worksheet!$A$12=TRUE,\"Y\",\"N\")","v":"N"},{"$f":"IF(Worksheet!$B$11=TRUE,\"Y\",\"N\")","v":"N"},{"$f":"IF(Worksheet!$B$12=TRUE,\"Y\",\"N\")","v":"N"},{"$f":"IF(Worksheet!$C$11=TRUE,\"Y\",\"N\")","v":"N"},{"$f":"IFERROR(Worksheet!AB235,\"\")","v":0}]
[{"$f":"IF(IFERROR(SEARCH(\"Refrigerated\",Worksheet!L236,1),0)>0,122,IF(ISERROR(RIGHT(VLOOKUP(Worksheet!K236,Type!C$1:E$13,3,FALSE),3))=FALSE,RIGHT(VLOOKUP(Worksheet!K236,Type!C$1:E$13,3,FALSE),3),\"\"))","v":""},{"$f":"IF(Worksheet!M236=\"\",\"\",Worksheet!M236)","v":""},{"$f":"IF(Worksheet!N236=\"\",\"\",Worksheet!N236)","v":""},{"$f":"IF(Worksheet!Y236=0,\"\",Worksheet!Y236)","v":""},"Watts",null,null,{"$f":"Worksheet!AA236","v":0},{"$f":"IF(ISBLANK(Worksheet!V236)=FALSE,Worksheet!V236,\"\")","v":0},{"$f":"Worksheet!AG236","v":0},{"$f":"Worksheet!AF236","v":0},0,{"$f":"IF(ISERROR(SEARCH(\"Gas\",Worksheet!$A$18))=TRUE,0,Worksheet!AH236)","v":0},0,null,null,{"$f":"IF(OR(Worksheet!F236=\"Incandescent\",Worksheet!F236=\"Halogen Incandescent\")=TRUE,118,IF(LEFT(Worksheet!F236,3)=\"HID\",117,IF(OR(RIGHT(Worksheet!F236,3)=\"T12\",RIGHT(Worksheet!F236,5)=\"T12HO\")=TRUE,115,IF(OR(RIGHT(Worksheet!F236,2)=\"T8\",RIGHT(Worksheet!F236,4)=\"RWT8\",RIGHT(Worksheet!F236,4)=\"T8HO\")=TRUE,115,\"\"))))","v":""},{"$f":"IF(ISBLANK(Worksheet!W236)=FALSE,Worksheet!W236,\"\")","v":0},{"$f":"IF(ISERROR(SEARCH(\"Oil\",Worksheet!$A$18))=TRUE,0,Worksheet!AH236)","v":0},0,{"$f":"IF(ISERROR(SEARCH(\"Propane\",Worksheet!$A$18))=TRUE,0,Worksheet!AH236)","v":0},0,{"$f":"IF(Worksheet!J236=0,\"\",Worksheet!J236)","v":""},{"$f":"IF(Worksheet!B236=0,\"\",Worksheet!B236)","v":""},{"$f":"IF(Worksheet!K236=0,\"\",Worksheet!K236)","v":""},{"$f":"IF(Worksheet!L236=0,\"\",Worksheet!L236)","v":""},{"$f":"IF(Worksheet!R236=0,\"\",Worksheet!R236)","v":""},{"$f":"IF(Worksheet!F236=0,\"\",Worksheet!F236)","v":""},{"$f":"IF(Worksheet!G236=0,\"\",Worksheet!G236)","v":""},{"$f":"IF(Worksheet!X236=0,\"\",Worksheet!X236)","v":""},{"$f":"IF(Worksheet!Q236=0,\"\",Worksheet!Q236)","v":""},{"$f":"IF(Worksheet!C236=0,\"\",Worksheet!C236)","v":""},{"$f":"IF(Worksheet!D236=0,\"\",Worksheet!D236)","v":""},{"$f":"IF(Worksheet!$A$11=TRUE,\"Y\",\"N\")","v":"N"},{"$f":"IF(Worksheet!$A$12=TRUE,\"Y\",\"N\")","v":"N"},{"$f":"IF(Worksheet!$B$11=TRUE,\"Y\",\"N\")","v":"N"},{"$f":"IF(Worksheet!$B$12=TRUE,\"Y\",\"N\")","v":"N"},{"$f":"IF(Worksheet!$C$11=TRUE,\"Y\",\"N\")","v":"N"},{"$f":"IFERROR(Worksheet!AB236,\"\")","v":0}]
[{"$f":"IF(IFERROR(SEARCH(\"Refrigerated\",Worksheet!L237,1),0)>0,122,IF(ISERROR(RIGHT(VLOOKUP(Worksheet!K237,Type!C$1:E$13,3,FALSE),3))=FALSE,RIGHT(VLOOKUP(Worksheet!K237,Type!C$1:E$13,3,FALSE),3),\"\"))","v":""},{"$f":"IF(Worksheet!M237=\"\",\"\",Worksheet!M237)","v":""},{"$f":"IF(Worksheet!N237=\"\",\"\",Worksheet!N237)","v":""},{"$f":"IF(Worksheet!Y237=0,\"\",Worksheet!Y237)","v":""},"Watts",null,null,{"$f":"Worksheet!AA237","v":0},{"$f":"IF(ISBLANK(Worksheet!V237)=FALSE,Worksheet!V237,\"\")","v":0},{"$f":"Worksheet!AG237","v":0},{"$f":"Worksheet!AF237","v":0},0,{"$f":"IF(ISERROR(SEARCH(\"Gas\",Worksheet!$A$18))=TRUE,0,Worksheet!AH237)","v":0},0,null,null,{"$f":"IF(OR(Worksheet!F237=\"Incandescent\",Worksheet!F237=\"Halogen Incandescent\")=TRUE,118,IF(LEFT(Worksheet!F237,3)=\"HID\",117,IF(OR(RIGHT(Worksheet!F237,3)=\"T12\",RIGHT(Worksheet!F237,5)=\"T12HO\")=TRUE,115,IF(OR(RIGHT(Worksheet!F237,2)=\"T8\",RIGHT(Worksheet!F237,4)=\"RWT8\",RIGHT(Worksheet!F237,4)=\"T8HO\")=TRUE,115,\"\"))))","v":""},{"$f":"IF(ISBLANK(Worksheet!W237)=FALSE,Worksheet!W237,\"\")","v":0},{"$f":"IF(ISERROR(SEARCH(\"Oil\",Worksheet!$A$18))=TRUE,0,Worksheet!AH237)","v":0},0,{"$f":"IF(ISERROR(SEARCH(\"Propane\",Worksheet!$A$18))=TRUE,0,Worksheet!AH237)","v":0},0,{"$f":"IF(Worksheet!J237=0,\"\",Worksheet!J237)","v":""},{"$f":"IF(Worksheet!B237=0,\"\",Worksheet!B237)","v":""},{"$f":"IF(Worksheet!K237=0,\"\",Worksheet!K237)","v":""},{"$f":"IF(Worksheet!L237=0,\"\",Worksheet!L237)","v":""},{"$f":"IF(Worksheet!R237=0,\"\",Worksheet!R237)","v":""},{"$f":"IF(Worksheet!F237=0,\"\",Worksheet!F237)","v":""},{"$f":"IF(Worksheet!G237=0,\"\",Worksheet!G237)","v":""},{"$f":"IF(Worksheet!X237=0,\"\",Worksheet!X237)","v":""},{"$f":"IF(Worksheet!Q237=0,\"\",Worksheet!Q237)","v":""},{"$f":"IF(Worksheet!C237=0,\"\",Worksheet!C237)","v":""},{"$f":"IF(Worksheet!D237=0,\"\",Worksheet!D237)","v":""},{"$f":"IF(Worksheet!$A$11=TRUE,\"Y\",\"N\")","v":"N"},{"$f":"IF(Worksheet!$A$12=TRUE,\"Y\",\"N\")","v":"N"},{"$f":"IF(Worksheet!$B$11=TRUE,\"Y\",\"N\")","v":"N"},{"$f":"IF(Worksheet!$B$12=TRUE,\"Y\",\"N\")","v":"N"},{"$f":"IF(Worksheet!$C$11=TRUE,\"Y\",\"N\")","v":"N"},{"$f":"IFERROR(Worksheet!AB237,\"\")","v":0}]
[{"$f":"IF(IFERROR(SEARCH(\"Refrigerated\",Worksheet!L238,1),0)>0,122,IF(ISERROR(RIGHT(VLOOKUP(Worksheet!K238,Type!C$1:E$13,3,FALSE),3))=FALSE,RIGHT(VLOOKUP(Worksheet!K238,Type!C$1:E$13,3,FALSE),3),\"\"))","v":""},{"$f":"IF(Worksheet!M238=\"\",\"\",Worksheet!M238)","v":""},{"$f":"IF(Worksheet!N238=\"\",\"\",Worksheet!N238)","v":""},{"$f":"IF(Worksheet!Y238=0,\"\",Worksheet!Y238)","v":""},"Watts",null,null,{"$f":"Worksheet!AA238","v":0},{"$f":"IF(ISBLANK(Worksheet!V238)=FALSE,Worksheet!V238,\"\")","v":0},{"$f":"Worksheet!AG238","v":0},{"$f":"Worksheet!AF238","v":0},0,{"$f":"IF(ISERROR(SEARCH(\"Gas\",Worksheet!$A$18))=TRUE,0,Worksheet!AH238)","v":0},0,null,null,{"$f":"IF(OR(Worksheet!F238=\"Incandescent\",Worksheet!F238=\"Halogen Incandescent\")=TRUE,118,IF(LEFT(Worksheet!F238,3)=\"HID\",117,IF(OR(RIGHT(Worksheet!F238,3)=\"T12\",RIGHT(Worksheet!F238,5)=\"T12HO\")=TRUE,115,IF(OR(RIGHT(Worksheet!F238,2)=\"T8\",RIGHT(Worksheet!F238,4)=\"RWT8\",RIGHT(Worksheet!F238,4)=\"T8HO\")=TRUE,115,\"\"))))","v":""},{"$f":"IF(ISBLANK(Worksheet!W238)=FALSE,Worksheet!W238,\"\")","v":0},{"$f":"IF(ISERROR(SEARCH(\"Oil\",Worksheet!$A$18))=TRUE,0,Worksheet!AH238)","v":0},0,{"$f":"IF(ISERROR(SEARCH(\"Propane\",Worksheet!$A$18))=TRUE,0,Worksheet!AH238)","v":0},0,{"$f":"IF(Worksheet!J238=0,\"\",Worksheet!J238)","v":""},{"$f":"IF(Worksheet!B238=0,\"\",Worksheet!B238)","v":""},{"$f":"IF(Worksheet!K238=0,\"\",Worksheet!K238)","v":""},{"$f":"IF(Worksheet!L238=0,\"\",Worksheet!L238)","v":""},{"$f":"IF(Worksheet!R238=0,\"\",Worksheet!R238)","v":""},{"$f":"IF(Worksheet!F238=0,\"\",Worksheet!F238)","v":""},{"$f":"IF(Worksheet!G238=0,\"\",Worksheet!G238)","v":""},{"$f":"IF(Worksheet!X238=0,\"\",Worksheet!X238)","v":""},{"$f":"IF(Worksheet!Q238=0,\"\",Worksheet!Q238)","v":""},{"$f":"IF(Worksheet!C238=0,\"\",Worksheet!C238)","v":""},{"$f":"IF(Worksheet!D238=0,\"\",Worksheet!D238)","v":""},{"$f":"IF(Worksheet!$A$11=TRUE,\"Y\",\"N\")","v":"N"},{"$f":"IF(Worksheet!$A$12=TRUE,\"Y\",\"N\")","v":"N"},{"$f":"IF(Worksheet!$B$11=TRUE,\"Y\",\"N\")","v":"N"},{"$f":"IF(Worksheet!$B$12=TRUE,\"Y\",\"N\")","v":"N"},{"$f":"IF(Worksheet!$C$11=TRUE,\"Y\",\"N\")","v":"N"},{"$f":"IFERROR(Worksheet!AB238,\"\")","v":0}]
[{"$f":"IF(IFERROR(SEARCH(\"Refrigerated\",Worksheet!L239,1),0)>0,122,IF(ISERROR(RIGHT(VLOOKUP(Worksheet!K239,Type!C$1:E$13,3,FALSE),3))=FALSE,RIGHT(VLOOKUP(Worksheet!K239,Type!C$1:E$13,3,FALSE),3),\"\"))","v":""},{"$f":"IF(Worksheet!M239=\"\",\"\",Worksheet!M239)","v":""},{"$f":"IF(Worksheet!N239=\"\",\"\",Worksheet!N239)","v":""},{"$f":"IF(Worksheet!Y239=0,\"\",Worksheet!Y239)","v":""},"Watts",null,null,{"$f":"Worksheet!AA239","v":0},{"$f":"IF(ISBLANK(Worksheet!V239)=FALSE,Worksheet!V239,\"\")","v":0},{"$f":"Worksheet!AG239","v":0},{"$f":"Worksheet!AF239","v":0},0,{"$f":"IF(ISERROR(SEARCH(\"Gas\",Worksheet!$A$18))=TRUE,0,Worksheet!AH239)","v":0},0,null,null,{"$f":"IF(OR(Worksheet!F239=\"Incandescent\",Worksheet!F239=\"Halogen Incandescent\")=TRUE,118,IF(LEFT(Worksheet!F239,3)=\"HID\",117,IF(OR(RIGHT(Worksheet!F239,3)=\"T12\",RIGHT(Worksheet!F239,5)=\"T12HO\")=TRUE,115,IF(OR(RIGHT(Worksheet!F239,2)=\"T8\",RIGHT(Worksheet!F239,4)=\"RWT8\",RIGHT(Worksheet!F239,4)=\"T8HO\")=TRUE,115,\"\"))))","v":""},{"$f":"IF(ISBLANK(Worksheet!W239)=FALSE,Worksheet!W239,\"\")","v":0},{"$f":"IF(ISERROR(SEARCH(\"Oil\",Worksheet!$A$18))=TRUE,0,Worksheet!AH239)","v":0},0,{"$f":"IF(ISERROR(SEARCH(\"Propane\",Worksheet!$A$18))=TRUE,0,Worksheet!AH239)","v":0},0,{"$f":"IF(Worksheet!J239=0,\"\",Worksheet!J239)","v":""},{"$f":"IF(Worksheet!B239=0,\"\",Worksheet!B239)","v":""},{"$f":"IF(Worksheet!K239=0,\"\",Worksheet!K239)","v":""},{"$f":"IF(Worksheet!L239=0,\"\",Worksheet!L239)","v":""},{"$f":"IF(Worksheet!R239=0,\"\",Worksheet!R239)","v":""},{"$f":"IF(Worksheet!F239=0,\"\",Worksheet!F239)","v":""},{"$f":"IF(Worksheet!G239=0,\"\",Worksheet!G239)","v":""},{"$f":"IF(Worksheet!X239=0,\"\",Worksheet!X239)","v":""},{"$f":"IF(Worksheet!Q239=0,\"\",Worksheet!Q239)","v":""},{"$f":"IF(Worksheet!C239=0,\"\",Worksheet!C239)","v":""},{"$f":"IF(Worksheet!D239=0,\"\",Worksheet!D239)","v":""},{"$f":"IF(Worksheet!$A$11=TRUE,\"Y\",\"N\")","v":"N"},{"$f":"IF(Worksheet!$A$12=TRUE,\"Y\",\"N\")","v":"N"},{"$f":"IF(Worksheet!$B$11=TRUE,\"Y\",\"N\")","v":"N"},{"$f":"IF(Worksheet!$B$12=TRUE,\"Y\",\"N\")","v":"N"},{"$f":"IF(Worksheet!$C$11=TRUE,\"Y\",\"N\")","v":"N"},{"$f":"IFERROR(Worksheet!AB239,\"\")","v":0}]
[{"$f":"IF(IFERROR(SEARCH(\"Refrigerated\",Worksheet!L240,1),0)>0,122,IF(ISERROR(RIGHT(VLOOKUP(Worksheet!K240,Type!C$1:E$13,3,FALSE),3))=FALSE,RIGHT(VLOOKUP(Worksheet!K240,Type!C$1:E$13,3,FALSE),3),\"\"))","v":""},{"$f":"IF(Worksheet!M240=\"\",\"\",Worksheet!M240)","v":""},{"$f":"IF(Worksheet!N240=\"\",\"\",Worksheet!N240)","v":""},{"$f":"IF(Worksheet!Y240=0,\"\",Worksheet!Y240)","v":""},"Watts",null,null,{"$f":"Worksheet!AA240","v":0},{"$f":"IF(ISBLANK(Worksheet!V240)=FALSE,Worksheet!V240,\"\")","v":0},{"$f":"Worksheet!AG240","v":0},{"$f":"Worksheet!AF240","v":0},0,{"$f":"IF(ISERROR(SEARCH(\"Gas\",Worksheet!$A$18))=TRUE,0,Worksheet!AH240)","v":0},0,null,null,{"$f":"IF(OR(Worksheet!F240=\"Incandescent\",Worksheet!F240=\"Halogen Incandescent\")=TRUE,118,IF(LEFT(Worksheet!F240,3)=\"HID\",117,IF(OR(RIGHT(Worksheet!F240,3)=\"T12\",RIGHT(Worksheet!F240,5)=\"T12HO\")=TRUE,115,IF(OR(RIGHT(Worksheet!F240,2)=\"T8\",RIGHT(Worksheet!F240,4)=\"RWT8\",RIGHT(Worksheet!F240,4)=\"T8HO\")=TRUE,115,\"\"))))","v":""},{"$f":"IF(ISBLANK(Worksheet!W240)=FALSE,Worksheet!W240,\"\")","v":0},{"$f":"IF(ISERROR(SEARCH(\"Oil\",Worksheet!$A$18))=TRUE,0,Worksheet!AH240)","v":0},0,{"$f":"IF(ISERROR(SEARCH(\"Propane\",Worksheet!$A$18))=TRUE,0,Worksheet!AH240)","v":0},0,{"$f":"IF(Worksheet!J240=0,\"\",Worksheet!J240)","v":""},{"$f":"IF(Worksheet!B240=0,\"\",Worksheet!B240)","v":""},{"$f":"IF(Worksheet!K240=0,\"\",Worksheet!K240)","v":""},{"$f":"IF(Worksheet!L240=0,\"\",Worksheet!L240)","v":""},{"$f":"IF(Worksheet!R240=0,\"\",Worksheet!R240)","v":""},{"$f":"IF(Worksheet!F240=0,\"\",Worksheet!F240)","v":""},{"$f":"IF(Worksheet!G240=0,\"\",Worksheet!G240)","v":""},{"$f":"IF(Worksheet!X240=0,\"\",Worksheet!X240)","v":""},{"$f":"IF(Worksheet!Q240=0,\"\",Worksheet!Q240)","v":""},{"$f":"IF(Worksheet!C240=0,\"\",Worksheet!C240)","v":""},{"$f":"IF(Worksheet!D240=0,\"\",Worksheet!D240)","v":""},{"$f":"IF(Worksheet!$A$11=TRUE,\"Y\",\"N\")","v":"N"},{"$f":"IF(Worksheet!$A$12=TRUE,\"Y\",\"N\")","v":"N"},{"$f":"IF(Worksheet!$B$11=TRUE,\"Y\",\"N\")","v":"N"},{"$f":"IF(Worksheet!$B$12=TRUE,\"Y\",\"N\")","v":"N"},{"$f":"IF(Worksheet!$C$11=TRUE,\"Y\",\"N\")","v":"N"},{"$f":"IFERROR(Worksheet!AB240,\"\")","v":0}]
[{"$f":"IF(IFERROR(SEARCH(\"Refrigerated\",Worksheet!L241,1),0)>0,122,IF(ISERROR(RIGHT(VLOOKUP(Worksheet!K241,Type!C$1:E$13,3,FALSE),3))=FALSE,RIGHT(VLOOKUP(Worksheet!K241,Type!C$1:E$13,3,FALSE),3),\"\"))","v":""},{"$f":"IF(Worksheet!M241=\"\",\"\",Worksheet!M241)","v":""},{"$f":"IF(Worksheet!N241=\"\",\"\",Worksheet!N241)","v":""},{"$f":"IF(Worksheet!Y241=0,\"\",Worksheet!Y241)","v":""},"Watts",null,null,{"$f":"Worksheet!AA241","v":0},{"$f":"IF(ISBLANK(Worksheet!V241)=FALSE,Worksheet!V241,\"\")","v":0},{"$f":"Worksheet!AG241","v":0},{"$f":"Worksheet!AF241","v":0},0,{"$f":"IF(ISERROR(SEARCH(\"Gas\",Worksheet!$A$18))=TRUE,0,Worksheet!AH241)","v":0},0,null,null,{"$f":"IF(OR(Worksheet!F241=\"Incandescent\",Worksheet!F241=\"Halogen Incandescent\")=TRUE,118,IF(LEFT(Worksheet!F241,3)=\"HID\",117,IF(OR(RIGHT(Worksheet!F241,3)=\"T12\",RIGHT(Worksheet!F241,5)=\"T12HO\")=TRUE,115,IF(OR(RIGHT(Worksheet!F241,2)=\"T8\",RIGHT(Worksheet!F241,4)=\"RWT8\",RIGHT(Worksheet!F241,4)=\"T8HO\")=TRUE,115,\"\"))))","v":""},{"$f":"IF(ISBLANK(Worksheet!W241)=FALSE,Worksheet!W241,\"\")","v":0},{"$f":"IF(ISERROR(SEARCH(\"Oil\",Worksheet!$A$18))=TRUE,0,Worksheet!AH241)","v":0},0,{"$f":"IF(ISERROR(SEARCH(\"Propane\",Worksheet!$A$18))=TRUE,0,Worksheet!AH241)","v":0},0,{"$f":"IF(Worksheet!J241=0,\"\",Worksheet!J241)","v":""},{"$f":"IF(Worksheet!B241=0,\"\",Worksheet!B241)","v":""},{"$f":"IF(Worksheet!K241=0,\"\",Worksheet!K241)","v":""},{"$f":"IF(Worksheet!L241=0,\"\",Worksheet!L241)","v":""},{"$f":"IF(Worksheet!R241=0,\"\",Worksheet!R241)","v":""},{"$f":"IF(Worksheet!F241=0,\"\",Worksheet!F241)","v":""},{"$f":"IF(Worksheet!G241=0,\"\",Worksheet!G241)","v":""},{"$f":"IF(Worksheet!X241=0,\"\",Worksheet!X241)","v":""},{"$f":"IF(Worksheet!Q241=0,\"\",Worksheet!Q241)","v":""},{"$f":"IF(Worksheet!C241=0,\"\",Worksheet!C241)","v":""},{"$f":"IF(Worksheet!D241=0,\"\",Worksheet!D241)","v":""},{"$f":"IF(Worksheet!$A$11=TRUE,\"Y\",\"N\")","v":"N"},{"$f":"IF(Worksheet!$A$12=TRUE,\"Y\",\"N\")","v":"N"},{"$f":"IF(Worksheet!$B$11=TRUE,\"Y\",\"N\")","v":"N"},{"$f":"IF(Worksheet!$B$12=TRUE,\"Y\",\"N\")","v":"N"},{"$f":"IF(Worksheet!$C$11=TRUE,\"Y\",\"N\")","v":"N"},{"$f":"IFERROR(Worksheet!AB241,\"\")","v":0}]
[{"$f":"IF(IFERROR(SEARCH(\"Refrigerated\",Worksheet!L242,1),0)>0,122,IF(ISERROR(RIGHT(VLOOKUP(Worksheet!K242,Type!C$1:E$13,3,FALSE),3))=FALSE,RIGHT(VLOOKUP(Worksheet!K242,Type!C$1:E$13,3,FALSE),3),\"\"))","v":""},{"$f":"IF(Worksheet!M242=\"\",\"\",Worksheet!M242)","v":""},{"$f":"IF(Worksheet!N242=\"\",\"\",Worksheet!N242)","v":""},{"$f":"IF(Worksheet!Y242=0,\"\",Worksheet!Y242)","v":""},"Watts",null,null,{"$f":"Worksheet!AA242","v":0},{"$f":"IF(ISBLANK(Worksheet!V242)=FALSE,Worksheet!V242,\"\")","v":0},{"$f":"Worksheet!AG242","v":0},{"$f":"Worksheet!AF242","v":0},0,{"$f":"IF(ISERROR(SEARCH(\"Gas\",Worksheet!$A$18))=TRUE,0,Worksheet!AH242)","v":0},0,null,null,{"$f":"IF(OR(Worksheet!F242=\"Incandescent\",Worksheet!F242=\"Halogen Incandescent\")=TRUE,118,IF(LEFT(Worksheet!F242,3)=\"HID\",117,IF(OR(RIGHT(Worksheet!F242,3)=\"T12\",RIGHT(Worksheet!F242,5)=\"T12HO\")=TRUE,115,IF(OR(RIGHT(Worksheet!F242,2)=\"T8\",RIGHT(Worksheet!F242,4)=\"RWT8\",RIGHT(Worksheet!F242,4)=\"T8HO\")=TRUE,115,\"\"))))","v":""},{"$f":"IF(ISBLANK(Worksheet!W242)=FALSE,Worksheet!W242,\"\")","v":0},{"$f":"IF(ISERROR(SEARCH(\"Oil\",Worksheet!$A$18))=TRUE,0,Worksheet!AH242)","v":0},0,{"$f":"IF(ISERROR(SEARCH(\"Propane\",Worksheet!$A$18))=TRUE,0,Worksheet!AH242)","v":0},0,{"$f":"IF(Worksheet!J242=0,\"\",Worksheet!J242)","v":""},{"$f":"IF(Worksheet!B242=0,\"\",Worksheet!B242)","v":""},{"$f":"IF(Worksheet!K242=0,\"\",Worksheet!K242)","v":""},{"$f":"IF(Worksheet!L242=0,\"\",Worksheet!L242)","v":""},{"$f":"IF(Worksheet!R242=0,\"\",Worksheet!R242)","v":""},{"$f":"IF(Worksheet!F242=0,\"\",Worksheet!F242)","v":""},{"$f":"IF(Worksheet!G242=0,\"\",Worksheet!G242)","v":""},{"$f":"IF(Worksheet!X242=0,\"\",Worksheet!X242)","v":""},{"$f":"IF(Worksheet!Q242=0,\"\",Worksheet!Q242)","v":""},{"$f":"IF(Worksheet!C242=0,\"\",Worksheet!C242)","v":""},{"$f":"IF(Worksheet!D242=0,\"\",Worksheet!D242)","v":""},{"$f":"IF(Worksheet!$A$11=TRUE,\"Y\",\"N\")","v":"N"},{"$f":"IF(Worksheet!$A$12=TRUE,\"Y\",\"N\")","v":"N"},{"$f":"IF(Worksheet!$B$11=TRUE,\"Y\",\"N\")","v":"N"},{"$f":"IF(Worksheet!$B$12=TRUE,\"Y\",\"N\")","v":"N"},{"$f":"IF(Worksheet!$C$11=TRUE,\"Y\",\"N\")","v":"N"},{"$f":"IFERROR(Worksheet!AB242,\"\")","v":0}]
[{"$f":"IF(IFERROR(SEARCH(\"Refrigerated\",Worksheet!L243,1),0)>0,122,IF(ISERROR(RIGHT(VLOOKUP(Worksheet!K243,Type!C$1:E$13,3,FALSE),3))=FALSE,RIGHT(VLOOKUP(Worksheet!K243,Type!C$1:E$13,3,FALSE),3),\"\"))","v":""},{"$f":"IF(Worksheet!M243=\"\",\"\",Worksheet!M243)","v":""},{"$f":"IF(Worksheet!N243=\"\",\"\",Worksheet!N243)","v":""},{"$f":"IF(Worksheet!Y243=0,\"\",Worksheet!Y243)","v":""},"Watts",null,null,{"$f":"Worksheet!AA243","v":0},{"$f":"IF(ISBLANK(Worksheet!V243)=FALSE,Worksheet!V243,\"\")","v":0},{"$f":"Worksheet!AG243","v":0},{"$f":"Worksheet!AF243","v":0},0,{"$f":"IF(ISERROR(SEARCH(\"Gas\",Worksheet!$A$18))=TRUE,0,Worksheet!AH243)","v":0},0,null,null,{"$f":"IF(OR(Worksheet!F243=\"Incandescent\",Worksheet!F243=\"Halogen Incandescent\")=TRUE,118,IF(LEFT(Worksheet!F243,3)=\"HID\",117,IF(OR(RIGHT(Worksheet!F243,3)=\"T12\",RIGHT(Worksheet!F243,5)=\"T12HO\")=TRUE,115,IF(OR(RIGHT(Worksheet!F243,2)=\"T8\",RIGHT(Worksheet!F243,4)=\"RWT8\",RIGHT(Worksheet!F243,4)=\"T8HO\")=TRUE,115,\"\"))))","v":""},{"$f":"IF(ISBLANK(Worksheet!W243)=FALSE,Worksheet!W243,\"\")","v":0},{"$f":"IF(ISERROR(SEARCH(\"Oil\",Worksheet!$A$18))=TRUE,0,Worksheet!AH243)","v":0},0,{"$f":"IF(ISERROR(SEARCH(\"Propane\",Worksheet!$A$18))=TRUE,0,Worksheet!AH243)","v":0},0,{"$f":"IF(Worksheet!J243=0,\"\",Worksheet!J243)","v":""},{"$f":"IF(Worksheet!B243=0,\"\",Worksheet!B243)","v":""},{"$f":"IF(Worksheet!K243=0,\"\",Worksheet!K243)","v":""},{"$f":"IF(Worksheet!L243=0,\"\",Worksheet!L243)","v":""},{"$f":"IF(Worksheet!R243=0,\"\",Worksheet!R243)","v":""},{"$f":"IF(Worksheet!F243=0,\"\",Worksheet!F243)","v":""},{"$f":"IF(Worksheet!G243=0,\"\",Worksheet!G243)","v":""},{"$f":"IF(Worksheet!X243=0,\"\",Worksheet!X243)","v":""},{"$f":"IF(Worksheet!Q243=0,\"\",Worksheet!Q243)","v":""},{"$f":"IF(Worksheet!C243=0,\"\",Worksheet!C243)","v":""},{"$f":"IF(Worksheet!D243=0,\"\",Worksheet!D243)","v":""},{"$f":"IF(Worksheet!$A$11=TRUE,\"Y\",\"N\")","v":"N"},{"$f":"IF(Worksheet!$A$12=TRUE,\"Y\",\"N\")","v":"N"},{"$f":"IF(Worksheet!$B$11=TRUE,\"Y\",\"N\")","v":"N"},{"$f":"IF(Worksheet!$B$12=TRUE,\"Y\",\"N\")","v":"N"},{"$f":"IF(Worksheet!$C$11=TRUE,\"Y\",\"N\")","v":"N"},{"$f":"IFERROR(Worksheet!AB243,\"\")","v":0}]
[{"$f":"IF(IFERROR(SEARCH(\"Refrigerated\",Worksheet!L244,1),0)>0,122,IF(ISERROR(RIGHT(VLOOKUP(Worksheet!K244,Type!C$1:E$13,3,FALSE),3))=FALSE,RIGHT(VLOOKUP(Worksheet!K244,Type!C$1:E$13,3,FALSE),3),\"\"))","v":""},{"$f":"IF(Worksheet!M244=\"\",\"\",Worksheet!M244)","v":""},{"$f":"IF(Worksheet!N244=\"\",\"\",Worksheet!N244)","v":""},{"$f":"IF(Worksheet!Y244=0,\"\",Worksheet!Y244)","v":""},"Watts",null,null,{"$f":"Worksheet!AA244","v":0},{"$f":"IF(ISBLANK(Worksheet!V244)=FALSE,Worksheet!V244,\"\")","v":0},{"$f":"Worksheet!AG244","v":0},{"$f":"Worksheet!AF244","v":0},0,{"$f":"IF(ISERROR(SEARCH(\"Gas\",Worksheet!$A$18))=TRUE,0,Worksheet!AH244)","v":0},0,null,null,{"$f":"IF(OR(Worksheet!F244=\"Incandescent\",Worksheet!F244=\"Halogen Incandescent\")=TRUE,118,IF(LEFT(Worksheet!F244,3)=\"HID\",117,IF(OR(RIGHT(Worksheet!F244,3)=\"T12\",RIGHT(Worksheet!F244,5)=\"T12HO\")=TRUE,115,IF(OR(RIGHT(Worksheet!F244,2)=\"T8\",RIGHT(Worksheet!F244,4)=\"RWT8\",RIGHT(Worksheet!F244,4)=\"T8HO\")=TRUE,115,\"\"))))","v":""},{"$f":"IF(ISBLANK(Worksheet!W244)=FALSE,Worksheet!W244,\"\")","v":0},{"$f":"IF(ISERROR(SEARCH(\"Oil\",Worksheet!$A$18))=TRUE,0,Worksheet!AH244)","v":0},0,{"$f":"IF(ISERROR(SEARCH(\"Propane\",Worksheet!$A$18))=TRUE,0,Worksheet!AH244)","v":0},0,{"$f":"IF(Worksheet!J244=0,\"\",Worksheet!J244)","v":""},{"$f":"IF(Worksheet!B244=0,\"\",Worksheet!B244)","v":""},{"$f":"IF(Worksheet!K244=0,\"\",Worksheet!K244)","v":""},{"$f":"IF(Worksheet!L244=0,\"\",Worksheet!L244)","v":""},{"$f":"IF(Worksheet!R244=0,\"\",Worksheet!R244)","v":""},{"$f":"IF(Worksheet!F244=0,\"\",Worksheet!F244)","v":""},{"$f":"IF(Worksheet!G244=0,\"\",Worksheet!G244)","v":""},{"$f":"IF(Worksheet!X244=0,\"\",Worksheet!X244)","v":""},{"$f":"IF(Worksheet!Q244=0,\"\",Worksheet!Q244)","v":""},{"$f":"IF(Worksheet!C244=0,\"\",Worksheet!C244)","v":""},{"$f":"IF(Worksheet!D244=0,\"\",Worksheet!D244)","v":""},{"$f":"IF(Worksheet!$A$11=TRUE,\"Y\",\"N\")","v":"N"},{"$f":"IF(Worksheet!$A$12=TRUE,\"Y\",\"N\")","v":"N"},{"$f":"IF(Worksheet!$B$11=TRUE,\"Y\",\"N\")","v":"N"},{"$f":"IF(Worksheet!$B$12=TRUE,\"Y\",\"N\")","v":"N"},{"$f":"IF(Worksheet!$C$11=TRUE,\"Y\",\"N\")","v":"N"},{"$f":"IFERROR(Worksheet!AB244,\"\")","v":0}]
[{"$f":"IF(IFERROR(SEARCH(\"Refrigerated\",Worksheet!L245,1),0)>0,122,IF(ISERROR(RIGHT(VLOOKUP(Worksheet!K245,Type!C$1:E$13,3,FALSE),3))=FALSE,RIGHT(VLOOKUP(Worksheet!K245,Type!C$1:E$13,3,FALSE),3),\"\"))","v":""},{"$f":"IF(Worksheet!M245=\"\",\"\",Worksheet!M245)","v":""},{"$f":"IF(Worksheet!N245=\"\",\"\",Worksheet!N245)","v":""},{"$f":"IF(Worksheet!Y245=0,\"\",Worksheet!Y245)","v":""},"Watts",null,null,{"$f":"Worksheet!AA245","v":0},{"$f":"IF(ISBLANK(Worksheet!V245)=FALSE,Worksheet!V245,\"\")","v":0},{"$f":"Worksheet!AG245","v":0},{"$f":"Worksheet!AF245","v":0},0,{"$f":"IF(ISERROR(SEARCH(\"Gas\",Worksheet!$A$18))=TRUE,0,Worksheet!AH245)","v":0},0,null,null,{"$f":"IF(OR(Worksheet!F245=\"Incandescent\",Worksheet!F245=\"Halogen Incandescent\")=TRUE,118,IF(LEFT(Worksheet!F245,3)=\"HID\",117,IF(OR(RIGHT(Worksheet!F245,3)=\"T12\",RIGHT(Worksheet!F245,5)=\"T12HO\")=TRUE,115,IF(OR(RIGHT(Worksheet!F245,2)=\"T8\",RIGHT(Worksheet!F245,4)=\"RWT8\",RIGHT(Worksheet!F245,4)=\"T8HO\")=TRUE,115,\"\"))))","v":""},{"$f":"IF(ISBLANK(Worksheet!W245)=FALSE,Worksheet!W245,\"\")","v":0},{"$f":"IF(ISERROR(SEARCH(\"Oil\",Worksheet!$A$18))=TRUE,0,Worksheet!AH245)","v":0},0,{"$f":"IF(ISERROR(SEARCH(\"Propane\",Worksheet!$A$18))=TRUE,0,Worksheet!AH245)","v":0},0,{"$f":"IF(Worksheet!J245=0,\"\",Worksheet!J245)","v":""},{"$f":"IF(Worksheet!B245=0,\"\",Worksheet!B245)","v":""},{"$f":"IF(Worksheet!K245=0,\"\",Worksheet!K245)","v":""},{"$f":"IF(Worksheet!L245=0,\"\",Worksheet!L245)","v":""},{"$f":"IF(Worksheet!R245=0,\"\",Worksheet!R245)","v":""},{"$f":"IF(Worksheet!F245=0,\"\",Worksheet!F245)","v":""},{"$f":"IF(Worksheet!G245=0,\"\",Worksheet!G245)","v":""},{"$f":"IF(Worksheet!X245=0,\"\",Worksheet!X245)","v":""},{"$f":"IF(Worksheet!Q245=0,\"\",Worksheet!Q245)","v":""},{"$f":"IF(Worksheet!C245=0,\"\",Worksheet!C245)","v":""},{"$f":"IF(Worksheet!D245=0,\"\",Worksheet!D245)","v":""},{"$f":"IF(Worksheet!$A$11=TRUE,\"Y\",\"N\")","v":"N"},{"$f":"IF(Worksheet!$A$12=TRUE,\"Y\",\"N\")","v":"N"},{"$f":"IF(Worksheet!$B$11=TRUE,\"Y\",\"N\")","v":"N"},{"$f":"IF(Worksheet!$B$12=TRUE,\"Y\",\"N\")","v":"N"},{"$f":"IF(Worksheet!$C$11=TRUE,\"Y\",\"N\")","v":"N"},{"$f":"IFERROR(Worksheet!AB245,\"\")","v":0}]
[{"$f":"IF(IFERROR(SEARCH(\"Refrigerated\",Worksheet!L246,1),0)>0,122,IF(ISERROR(RIGHT(VLOOKUP(Worksheet!K246,Type!C$1:E$13,3,FALSE),3))=FALSE,RIGHT(VLOOKUP(Worksheet!K246,Type!C$1:E$13,3,FALSE),3),\"\"))","v":""},{"$f":"IF(Worksheet!M246=\"\",\"\",Worksheet!M246)","v":""},{"$f":"IF(Worksheet!N246=\"\",\"\",Worksheet!N246)","v":""},{"$f":"IF(Worksheet!Y246=0,\"\",Worksheet!Y246)","v":""},"Watts",null,null,{"$f":"Worksheet!AA246","v":0},{"$f":"IF(ISBLANK(Worksheet!V246)=FALSE,Worksheet!V246,\"\")","v":0},{"$f":"Worksheet!AG246","v":0},{"$f":"Worksheet!AF246","v":0},0,{"$f":"IF(ISERROR(SEARCH(\"Gas\",Worksheet!$A$18))=TRUE,0,Worksheet!AH246)","v":0},0,null,null,{"$f":"IF(OR(Worksheet!F246=\"Incandescent\",Worksheet!F246=\"Halogen Incandescent\")=TRUE,118,IF(LEFT(Worksheet!F246,3)=\"HID\",117,IF(OR(RIGHT(Worksheet!F246,3)=\"T12\",RIGHT(Worksheet!F246,5)=\"T12HO\")=TRUE,115,IF(OR(RIGHT(Worksheet!F246,2)=\"T8\",RIGHT(Worksheet!F246,4)=\"RWT8\",RIGHT(Worksheet!F246,4)=\"T8HO\")=TRUE,115,\"\"))))","v":""},{"$f":"IF(ISBLANK(Worksheet!W246)=FALSE,Worksheet!W246,\"\")","v":0},{"$f":"IF(ISERROR(SEARCH(\"Oil\",Worksheet!$A$18))=TRUE,0,Worksheet!AH246)","v":0},0,{"$f":"IF(ISERROR(SEARCH(\"Propane\",Worksheet!$A$18))=TRUE,0,Worksheet!AH246)","v":0},0,{"$f":"IF(Worksheet!J246=0,\"\",Worksheet!J246)","v":""},{"$f":"IF(Worksheet!B246=0,\"\",Worksheet!B246)","v":""},{"$f":"IF(Worksheet!K246=0,\"\",Worksheet!K246)","v":""},{"$f":"IF(Worksheet!L246=0,\"\",Worksheet!L246)","v":""},{"$f":"IF(Worksheet!R246=0,\"\",Worksheet!R246)","v":""},{"$f":"IF(Worksheet!F246=0,\"\",Worksheet!F246)","v":""},{"$f":"IF(Worksheet!G246=0,\"\",Worksheet!G246)","v":""},{"$f":"IF(Worksheet!X246=0,\"\",Worksheet!X246)","v":""},{"$f":"IF(Worksheet!Q246=0,\"\",Worksheet!Q246)","v":""},{"$f":"IF(Worksheet!C246=0,\"\",Worksheet!C246)","v":""},{"$f":"IF(Worksheet!D246=0,\"\",Worksheet!D246)","v":""},{"$f":"IF(Worksheet!$A$11=TRUE,\"Y\",\"N\")","v":"N"},{"$f":"IF(Worksheet!$A$12=TRUE,\"Y\",\"N\")","v":"N"},{"$f":"IF(Worksheet!$B$11=TRUE,\"Y\",\"N\")","v":"N"},{"$f":"IF(Worksheet!$B$12=TRUE,\"Y\",\"N\")","v":"N"},{"$f":"IF(Worksheet!$C$11=TRUE,\"Y\",\"N\")","v":"N"},{"$f":"IFERROR(Worksheet!AB246,\"\")","v":0}]
[{"$f":"IF(IFERROR(SEARCH(\"Refrigerated\",Worksheet!L247,1),0)>0,122,IF(ISERROR(RIGHT(VLOOKUP(Worksheet!K247,Type!C$1:E$13,3,FALSE),3))=FALSE,RIGHT(VLOOKUP(Worksheet!K247,Type!C$1:E$13,3,FALSE),3),\"\"))","v":""},{"$f":"IF(Worksheet!M247=\"\",\"\",Worksheet!M247)","v":""},{"$f":"IF(Worksheet!N247=\"\",\"\",Worksheet!N247)","v":""},{"$f":"IF(Worksheet!Y247=0,\"\",Worksheet!Y247)","v":""},"Watts",null,null,{"$f":"Worksheet!AA247","v":0},{"$f":"IF(ISBLANK(Worksheet!V247)=FALSE,Worksheet!V247,\"\")","v":0},{"$f":"Worksheet!AG247","v":0},{"$f":"Worksheet!AF247","v":0},0,{"$f":"IF(ISERROR(SEARCH(\"Gas\",Worksheet!$A$18))=TRUE,0,Worksheet!AH247)","v":0},0,null,null,{"$f":"IF(OR(Worksheet!F247=\"Incandescent\",Worksheet!F247=\"Halogen Incandescent\")=TRUE,118,IF(LEFT(Worksheet!F247,3)=\"HID\",117,IF(OR(RIGHT(Worksheet!F247,3)=\"T12\",RIGHT(Worksheet!F247,5)=\"T12HO\")=TRUE,115,IF(OR(RIGHT(Worksheet!F247,2)=\"T8\",RIGHT(Worksheet!F247,4)=\"RWT8\",RIGHT(Worksheet!F247,4)=\"T8HO\")=TRUE,115,\"\"))))","v":""},{"$f":"IF(ISBLANK(Worksheet!W247)=FALSE,Worksheet!W247,\"\")","v":0},{"$f":"IF(ISERROR(SEARCH(\"Oil\",Worksheet!$A$18))=TRUE,0,Worksheet!AH247)","v":0},0,{"$f":"IF(ISERROR(SEARCH(\"Propane\",Worksheet!$A$18))=TRUE,0,Worksheet!AH247)","v":0},0,{"$f":"IF(Worksheet!J247=0,\"\",Worksheet!J247)","v":""},{"$f":"IF(Worksheet!B247=0,\"\",Worksheet!B247)","v":""},{"$f":"IF(Worksheet!K247=0,\"\",Worksheet!K247)","v":""},{"$f":"IF(Worksheet!L247=0,\"\",Worksheet!L247)","v":""},{"$f":"IF(Worksheet!R247=0,\"\",Worksheet!R247)","v":""},{"$f":"IF(Worksheet!F247=0,\"\",Worksheet!F247)","v":""},{"$f":"IF(Worksheet!G247=0,\"\",Worksheet!G247)","v":""},{"$f":"IF(Worksheet!X247=0,\"\",Worksheet!X247)","v":""},{"$f":"IF(Worksheet!Q247=0,\"\",Worksheet!Q247)","v":""},{"$f":"IF(Worksheet!C247=0,\"\",Worksheet!C247)","v":""},{"$f":"IF(Worksheet!D247=0,\"\",Worksheet!D247)","v":""},{"$f":"IF(Worksheet!$A$11=TRUE,\"Y\",\"N\")","v":"N"},{"$f":"IF(Worksheet!$A$12=TRUE,\"Y\",\"N\")","v":"N"},{"$f":"IF(Worksheet!$B$11=TRUE,\"Y\",\"N\")","v":"N"},{"$f":"IF(Worksheet!$B$12=TRUE,\"Y\",\"N\")","v":"N"},{"$f":"IF(Worksheet!$C$11=TRUE,\"Y\",\"N\")","v":"N"},{"$f":"IFERROR(Worksheet!AB247,\"\")","v":0}]
[{"$f":"IF(IFERROR(SEARCH(\"Refrigerated\",Worksheet!L248,1),0)>0,122,IF(ISERROR(RIGHT(VLOOKUP(Worksheet!K248,Type!C$1:E$13,3,FALSE),3))=FALSE,RIGHT(VLOOKUP(Worksheet!K248,Type!C$1:E$13,3,FALSE),3),\"\"))","v":""},{"$f":"IF(Worksheet!M248=\"\",\"\",Worksheet!M248)","v":""},{"$f":"IF(Worksheet!N248=\"\",\"\",Worksheet!N248)","v":""},{"$f":"IF(Worksheet!Y248=0,\"\",Worksheet!Y248)","v":""},"Watts",null,null,{"$f":"Worksheet!AA248","v":0},{"$f":"IF(ISBLANK(Worksheet!V248)=FALSE,Worksheet!V248,\"\")","v":0},{"$f":"Worksheet!AG248","v":0},{"$f":"Worksheet!AF248","v":0},0,{"$f":"IF(ISERROR(SEARCH(\"Gas\",Worksheet!$A$18))=TRUE,0,Worksheet!AH248)","v":0},0,null,null,{"$f":"IF(OR(Worksheet!F248=\"Incandescent\",Worksheet!F248=\"Halogen Incandescent\")=TRUE,118,IF(LEFT(Worksheet!F248,3)=\"HID\",117,IF(OR(RIGHT(Worksheet!F248,3)=\"T12\",RIGHT(Worksheet!F248,5)=\"T12HO\")=TRUE,115,IF(OR(RIGHT(Worksheet!F248,2)=\"T8\",RIGHT(Worksheet!F248,4)=\"RWT8\",RIGHT(Worksheet!F248,4)=\"T8HO\")=TRUE,115,\"\"))))","v":""},{"$f":"IF(ISBLANK(Worksheet!W248)=FALSE,Worksheet!W248,\"\")","v":0},{"$f":"IF(ISERROR(SEARCH(\"Oil\",Worksheet!$A$18))=TRUE,0,Worksheet!AH248)","v":0},0,{"$f":"IF(ISERROR(SEARCH(\"Propane\",Worksheet!$A$18))=TRUE,0,Worksheet!AH248)","v":0},0,{"$f":"IF(Worksheet!J248=0,\"\",Worksheet!J248)","v":""},{"$f":"IF(Worksheet!B248=0,\"\",Worksheet!B248)","v":""},{"$f":"IF(Worksheet!K248=0,\"\",Worksheet!K248)","v":""},{"$f":"IF(Worksheet!L248=0,\"\",Worksheet!L248)","v":""},{"$f":"IF(Worksheet!R248=0,\"\",Worksheet!R248)","v":""},{"$f":"IF(Worksheet!F248=0,\"\",Worksheet!F248)","v":""},{"$f":"IF(Worksheet!G248=0,\"\",Worksheet!G248)","v":""},{"$f":"IF(Worksheet!X248=0,\"\",Worksheet!X248)","v":""},{"$f":"IF(Worksheet!Q248=0,\"\",Worksheet!Q248)","v":""},{"$f":"IF(Worksheet!C248=0,\"\",Worksheet!C248)","v":""},{"$f":"IF(Worksheet!D248=0,\"\",Worksheet!D248)","v":""},{"$f":"IF(Worksheet!$A$11=TRUE,\"Y\",\"N\")","v":"N"},{"$f":"IF(Worksheet!$A$12=TRUE,\"Y\",\"N\")","v":"N"},{"$f":"IF(Worksheet!$B$11=TRUE,\"Y\",\"N\")","v":"N"},{"$f":"IF(Worksheet!$B$12=TRUE,\"Y\",\"N\")","v":"N"},{"$f":"IF(Worksheet!$C$11=TRUE,\"Y\",\"N\")","v":"N"},{"$f":"IFERROR(Worksheet!AB248,\"\")","v":0}]
[{"$f":"IF(IFERROR(SEARCH(\"Refrigerated\",Worksheet!L249,1),0)>0,122,IF(ISERROR(RIGHT(VLOOKUP(Worksheet!K249,Type!C$1:E$13,3,FALSE),3))=FALSE,RIGHT(VLOOKUP(Worksheet!K249,Type!C$1:E$13,3,FALSE),3),\"\"))","v":""},{"$f":"IF(Worksheet!M249=\"\",\"\",Worksheet!M249)","v":""},{"$f":"IF(Worksheet!N249=\"\",\"\",Worksheet!N249)","v":""},{"$f":"IF(Worksheet!Y249=0,\"\",Worksheet!Y249)","v":""},"Watts",null,null,{"$f":"Worksheet!AA249","v":0},{"$f":"IF(ISBLANK(Worksheet!V249)=FALSE,Worksheet!V249,\"\")","v":0},{"$f":"Worksheet!AG249","v":0},{"$f":"Worksheet!AF249","v":0},0,{"$f":"IF(ISERROR(SEARCH(\"Gas\",Worksheet!$A$18))=TRUE,0,Worksheet!AH249)","v":0},0,null,null,{"$f":"IF(OR(Worksheet!F249=\"Incandescent\",Worksheet!F249=\"Halogen Incandescent\")=TRUE,118,IF(LEFT(Worksheet!F249,3)=\"HID\",117,IF(OR(RIGHT(Worksheet!F249,3)=\"T12\",RIGHT(Worksheet!F249,5)=\"T12HO\")=TRUE,115,IF(OR(RIGHT(Worksheet!F249,2)=\"T8\",RIGHT(Worksheet!F249,4)=\"RWT8\",RIGHT(Worksheet!F249,4)=\"T8HO\")=TRUE,115,\"\"))))","v":""},{"$f":"IF(ISBLANK(Worksheet!W249)=FALSE,Worksheet!W249,\"\")","v":0},{"$f":"IF(ISERROR(SEARCH(\"Oil\",Worksheet!$A$18))=TRUE,0,Worksheet!AH249)","v":0},0,{"$f":"IF(ISERROR(SEARCH(\"Propane\",Worksheet!$A$18))=TRUE,0,Worksheet!AH249)","v":0},0,{"$f":"IF(Worksheet!J249=0,\"\",Worksheet!J249)","v":""},{"$f":"IF(Worksheet!B249=0,\"\",Worksheet!B249)","v":""},{"$f":"IF(Worksheet!K249=0,\"\",Worksheet!K249)","v":""},{"$f":"IF(Worksheet!L249=0,\"\",Worksheet!L249)","v":""},{"$f":"IF(Worksheet!R249=0,\"\",Worksheet!R249)","v":""},{"$f":"IF(Worksheet!F249=0,\"\",Worksheet!F249)","v":""},{"$f":"IF(Worksheet!G249=0,\"\",Worksheet!G249)","v":""},{"$f":"IF(Worksheet!X249=0,\"\",Worksheet!X249)","v":""},{"$f":"IF(Worksheet!Q249=0,\"\",Worksheet!Q249)","v":""},{"$f":"IF(Worksheet!C249=0,\"\",Worksheet!C249)","v":""},{"$f":"IF(Worksheet!D249=0,\"\",Worksheet!D249)","v":""},{"$f":"IF(Worksheet!$A$11=TRUE,\"Y\",\"N\")","v":"N"},{"$f":"IF(Worksheet!$A$12=TRUE,\"Y\",\"N\")","v":"N"},{"$f":"IF(Worksheet!$B$11=TRUE,\"Y\",\"N\")","v":"N"},{"$f":"IF(Worksheet!$B$12=TRUE,\"Y\",\"N\")","v":"N"},{"$f":"IF(Worksheet!$C$11=TRUE,\"Y\",\"N\")","v":"N"},{"$f":"IFERROR(Worksheet!AB249,\"\")","v":0}]
[{"$f":"IF(IFERROR(SEARCH(\"Refrigerated\",Worksheet!L250,1),0)>0,122,IF(ISERROR(RIGHT(VLOOKUP(Worksheet!K250,Type!C$1:E$13,3,FALSE),3))=FALSE,RIGHT(VLOOKUP(Worksheet!K250,Type!C$1:E$13,3,FALSE),3),\"\"))","v":""},{"$f":"IF(Worksheet!M250=\"\",\"\",Worksheet!M250)","v":""},{"$f":"IF(Worksheet!N250=\"\",\"\",Worksheet!N250)","v":""},{"$f":"IF(Worksheet!Y250=0,\"\",Worksheet!Y250)","v":""},"Watts",null,null,{"$f":"Worksheet!AA250","v":0},{"$f":"IF(ISBLANK(Worksheet!V250)=FALSE,Worksheet!V250,\"\")","v":0},{"$f":"Worksheet!AG250","v":0},{"$f":"Worksheet!AF250","v":0},0,{"$f":"IF(ISERROR(SEARCH(\"Gas\",Worksheet!$A$18))=TRUE,0,Worksheet!AH250)","v":0},0,null,null,{"$f":"IF(OR(Worksheet!F250=\"Incandescent\",Worksheet!F250=\"Halogen Incandescent\")=TRUE,118,IF(LEFT(Worksheet!F250,3)=\"HID\",117,IF(OR(RIGHT(Worksheet!F250,3)=\"T12\",RIGHT(Worksheet!F250,5)=\"T12HO\")=TRUE,115,IF(OR(RIGHT(Worksheet!F250,2)=\"T8\",RIGHT(Worksheet!F250,4)=\"RWT8\",RIGHT(Worksheet!F250,4)=\"T8HO\")=TRUE,115,\"\"))))","v":""},{"$f":"IF(ISBLANK(Worksheet!W250)=FALSE,Worksheet!W250,\"\")","v":0},{"$f":"IF(ISERROR(SEARCH(\"Oil\",Worksheet!$A$18))=TRUE,0,Worksheet!AH250)","v":0},0,{"$f":"IF(ISERROR(SEARCH(\"Propane\",Worksheet!$A$18))=TRUE,0,Worksheet!AH250)","v":0},0,{"$f":"IF(Worksheet!J250=0,\"\",Worksheet!J250)","v":""},{"$f":"IF(Worksheet!B250=0,\"\",Worksheet!B250)","v":""},{"$f":"IF(Worksheet!K250=0,\"\",Worksheet!K250)","v":""},{"$f":"IF(Worksheet!L250=0,\"\",Worksheet!L250)","v":""},{"$f":"IF(Worksheet!R250=0,\"\",Worksheet!R250)","v":""},{"$f":"IF(Worksheet!F250=0,\"\",Worksheet!F250)","v":""},{"$f":"IF(Worksheet!G250=0,\"\",Worksheet!G250)","v":""},{"$f":"IF(Worksheet!X250=0,\"\",Worksheet!X250)","v":""},{"$f":"IF(Worksheet!Q250=0,\"\",Worksheet!Q250)","v":""},{"$f":"IF(Worksheet!C250=0,\"\",Worksheet!C250)","v":""},{"$f":"IF(Worksheet!D250=0,\"\",Worksheet!D250)","v":""},{"$f":"IF(Worksheet!$A$11=TRUE,\"Y\",\"N\")","v":"N"},{"$f":"IF(Worksheet!$A$12=TRUE,\"Y\",\"N\")","v":"N"},{"$f":"IF(Worksheet!$B$11=TRUE,\"Y\",\"N\")","v":"N"},{"$f":"IF(Worksheet!$B$12=TRUE,\"Y\",\"N\")","v":"N"},{"$f":"IF(Worksheet!$C$11=TRUE,\"Y\",\"N\")","v":"N"},{"$f":"IFERROR(Worksheet!AB250,\"\")","v":0}]
[{"$f":"IF(IFERROR(SEARCH(\"Refrigerated\",Worksheet!L251,1),0)>0,122,IF(ISERROR(RIGHT(VLOOKUP(Worksheet!K251,Type!C$1:E$13,3,FALSE),3))=FALSE,RIGHT(VLOOKUP(Worksheet!K251,Type!C$1:E$13,3,FALSE),3),\"\"))","v":""},{"$f":"IF(Worksheet!M251=\"\",\"\",Worksheet!M251)","v":""},{"$f":"IF(Worksheet!N251=\"\",\"\",Worksheet!N251)","v":""},{"$f":"IF(Worksheet!Y251=0,\"\",Worksheet!Y251)","v":""},"Watts",null,null,{"$f":"Worksheet!AA251","v":0},{"$f":"IF(ISBLANK(Worksheet!V251)=FALSE,Worksheet!V251,\"\")","v":0},{"$f":"Worksheet!AG251","v":0},{"$f":"Worksheet!AF251","v":0},0,{"$f":"IF(ISERROR(SEARCH(\"Gas\",Worksheet!$A$18))=TRUE,0,Worksheet!AH251)","v":0},0,null,null,{"$f":"IF(OR(Worksheet!F251=\"Incandescent\",Worksheet!F251=\"Halogen Incandescent\")=TRUE,118,IF(LEFT(Worksheet!F251,3)=\"HID\",117,IF(OR(RIGHT(Worksheet!F251,3)=\"T12\",RIGHT(Worksheet!F251,5)=\"T12HO\")=TRUE,115,IF(OR(RIGHT(Worksheet!F251,2)=\"T8\",RIGHT(Worksheet!F251,4)=\"RWT8\",RIGHT(Worksheet!F251,4)=\"T8HO\")=TRUE,115,\"\"))))","v":""},{"$f":"IF(ISBLANK(Worksheet!W251)=FALSE,Worksheet!W251,\"\")","v":0},{"$f":"IF(ISERROR(SEARCH(\"Oil\",Worksheet!$A$18))=TRUE,0,Worksheet!AH251)","v":0},0,{"$f":"IF(ISERROR(SEARCH(\"Propane\",Worksheet!$A$18))=TRUE,0,Worksheet!AH251)","v":0},0,{"$f":"IF(Worksheet!J251=0,\"\",Worksheet!J251)","v":""},{"$f":"IF(Worksheet!B251=0,\"\",Worksheet!B251)","v":""},{"$f":"IF(Worksheet!K251=0,\"\",Worksheet!K251)","v":""},{"$f":"IF(Worksheet!L251=0,\"\",Worksheet!L251)","v":""},{"$f":"IF(Worksheet!R251=0,\"\",Worksheet!R251)","v":""},{"$f":"IF(Worksheet!F251=0,\"\",Worksheet!F251)","v":""},{"$f":"IF(Worksheet!G251=0,\"\",Worksheet!G251)","v":""},{"$f":"IF(Worksheet!X251=0,\"\",Worksheet!X251)","v":""},{"$f":"IF(Worksheet!Q251=0,\"\",Worksheet!Q251)","v":""},{"$f":"IF(Worksheet!C251=0,\"\",Worksheet!C251)","v":""},{"$f":"IF(Worksheet!D251=0,\"\",Worksheet!D251)","v":""},{"$f":"IF(Worksheet!$A$11=TRUE,\"Y\",\"N\")","v":"N"},{"$f":"IF(Worksheet!$A$12=TRUE,\"Y\",\"N\")","v":"N"},{"$f":"IF(Worksheet!$B$11=TRUE,\"Y\",\"N\")","v":"N"},{"$f":"IF(Worksheet!$B$12=TRUE,\"Y\",\"N\")","v":"N"},{"$f":"IF(Worksheet!$C$11=TRUE,\"Y\",\"N\")","v":"N"},{"$f":"IFERROR(Worksheet!AB251,\"\")","v":0}]
[{"$f":"IF(IFERROR(SEARCH(\"Refrigerated\",Worksheet!L252,1),0)>0,122,IF(ISERROR(RIGHT(VLOOKUP(Worksheet!K252,Type!C$1:E$13,3,FALSE),3))=FALSE,RIGHT(VLOOKUP(Worksheet!K252,Type!C$1:E$13,3,FALSE),3),\"\"))","v":""},{"$f":"IF(Worksheet!M252=\"\",\"\",Worksheet!M252)","v":""},{"$f":"IF(Worksheet!N252=\"\",\"\",Worksheet!N252)","v":""},{"$f":"IF(Worksheet!Y252=0,\"\",Worksheet!Y252)","v":""},"Watts",null,null,{"$f":"Worksheet!AA252","v":0},{"$f":"IF(ISBLANK(Worksheet!V252)=FALSE,Worksheet!V252,\"\")","v":0},{"$f":"Worksheet!AG252","v":0},{"$f":"Worksheet!AF252","v":0},0,{"$f":"IF(ISERROR(SEARCH(\"Gas\",Worksheet!$A$18))=TRUE,0,Worksheet!AH252)","v":0},0,null,null,{"$f":"IF(OR(Worksheet!F252=\"Incandescent\",Worksheet!F252=\"Halogen Incandescent\")=TRUE,118,IF(LEFT(Worksheet!F252,3)=\"HID\",117,IF(OR(RIGHT(Worksheet!F252,3)=\"T12\",RIGHT(Worksheet!F252,5)=\"T12HO\")=TRUE,115,IF(OR(RIGHT(Worksheet!F252,2)=\"T8\",RIGHT(Worksheet!F252,4)=\"RWT8\",RIGHT(Worksheet!F252,4)=\"T8HO\")=TRUE,115,\"\"))))","v":""},{"$f":"IF(ISBLANK(Worksheet!W252)=FALSE,Worksheet!W252,\"\")","v":0},{"$f":"IF(ISERROR(SEARCH(\"Oil\",Worksheet!$A$18))=TRUE,0,Worksheet!AH252)","v":0},0,{"$f":"IF(ISERROR(SEARCH(\"Propane\",Worksheet!$A$18))=TRUE,0,Worksheet!AH252)","v":0},0,{"$f":"IF(Worksheet!J252=0,\"\",Worksheet!J252)","v":""},{"$f":"IF(Worksheet!B252=0,\"\",Worksheet!B252)","v":""},{"$f":"IF(Worksheet!K252=0,\"\",Worksheet!K252)","v":""},{"$f":"IF(Worksheet!L252=0,\"\",Worksheet!L252)","v":""},{"$f":"IF(Worksheet!R252=0,\"\",Worksheet!R252)","v":""},{"$f":"IF(Worksheet!F252=0,\"\",Worksheet!F252)","v":""},{"$f":"IF(Worksheet!G252=0,\"\",Worksheet!G252)","v":""},{"$f":"IF(Worksheet!X252=0,\"\",Worksheet!X252)","v":""},{"$f":"IF(Worksheet!Q252=0,\"\",Worksheet!Q252)","v":""},{"$f":"IF(Worksheet!C252=0,\"\",Worksheet!C252)","v":""},{"$f":"IF(Worksheet!D252=0,\"\",Worksheet!D252)","v":""},{"$f":"IF(Worksheet!$A$11=TRUE,\"Y\",\"N\")","v":"N"},{"$f":"IF(Worksheet!$A$12=TRUE,\"Y\",\"N\")","v":"N"},{"$f":"IF(Worksheet!$B$11=TRUE,\"Y\",\"N\")","v":"N"},{"$f":"IF(Worksheet!$B$12=TRUE,\"Y\",\"N\")","v":"N"},{"$f":"IF(Worksheet!$C$11=TRUE,\"Y\",\"N\")","v":"N"},{"$f":"IFERROR(Worksheet!AB252,\"\")","v":0}]
[{"$f":"IF(IFERROR(SEARCH(\"Refrigerated\",Worksheet!L253,1),0)>0,122,IF(ISERROR(RIGHT(VLOOKUP(Worksheet!K253,Type!C$1:E$13,3,FALSE),3))=FALSE,RIGHT(VLOOKUP(Worksheet!K253,Type!C$1:E$13,3,FALSE),3),\"\"))","v":""},{"$f":"IF(Worksheet!M253=\"\",\"\",Worksheet!M253)","v":""},{"$f":"IF(Worksheet!N253=\"\",\"\",Worksheet!N253)","v":""},{"$f":"IF(Worksheet!Y253=0,\"\",Worksheet!Y253)","v":""},"Watts",null,null,{"$f":"Worksheet!AA253","v":0},{"$f":"IF(ISBLANK(Worksheet!V253)=FALSE,Worksheet!V253,\"\")","v":0},{"$f":"Worksheet!AG253","v":0},{"$f":"Worksheet!AF253","v":0},0,{"$f":"IF(ISERROR(SEARCH(\"Gas\",Worksheet!$A$18))=TRUE,0,Worksheet!AH253)","v":0},0,null,null,{"$f":"IF(OR(Worksheet!F253=\"Incandescent\",Worksheet!F253=\"Halogen Incandescent\")=TRUE,118,IF(LEFT(Worksheet!F253,3)=\"HID\",117,IF(OR(RIGHT(Worksheet!F253,3)=\"T12\",RIGHT(Worksheet!F253,5)=\"T12HO\")=TRUE,115,IF(OR(RIGHT(Worksheet!F253,2)=\"T8\",RIGHT(Worksheet!F253,4)=\"RWT8\",RIGHT(Worksheet!F253,4)=\"T8HO\")=TRUE,115,\"\"))))","v":""},{"$f":"IF(ISBLANK(Worksheet!W253)=FALSE,Worksheet!W253,\"\")","v":0},{"$f":"IF(ISERROR(SEARCH(\"Oil\",Worksheet!$A$18))=TRUE,0,Worksheet!AH253)","v":0},0,{"$f":"IF(ISERROR(SEARCH(\"Propane\",Worksheet!$A$18))=TRUE,0,Worksheet!AH253)","v":0},0,{"$f":"IF(Worksheet!J253=0,\"\",Worksheet!J253)","v":""},{"$f":"IF(Worksheet!B253=0,\"\",Worksheet!B253)","v":""},{"$f":"IF(Worksheet!K253=0,\"\",Worksheet!K253)","v":""},{"$f":"IF(Worksheet!L253=0,\"\",Worksheet!L253)","v":""},{"$f":"IF(Worksheet!R253=0,\"\",Worksheet!R253)","v":""},{"$f":"IF(Worksheet!F253=0,\"\",Worksheet!F253)","v":""},{"$f":"IF(Worksheet!G253=0,\"\",Worksheet!G253)","v":""},{"$f":"IF(Worksheet!X253=0,\"\",Worksheet!X253)","v":""},{"$f":"IF(Worksheet!Q253=0,\"\",Worksheet!Q253)","v":""},{"$f":"IF(Worksheet!C253=0,\"\",Worksheet!C253)","v":""},{"$f":"IF(Worksheet!D253=0,\"\",Worksheet!D253)","v":""},{"$f":"IF(Worksheet!$A$11=TRUE,\"Y\",\"N\")","v":"N"},{"$f":"IF(Worksheet!$A$12=TRUE,\"Y\",\"N\")","v":"N"},{"$f":"IF(Worksheet!$B$11=TRUE,\"Y\",\"N\")","v":"N"},{"$f":"IF(Worksheet!$B$12=TRUE,\"Y\",\"N\")","v":"N"},{"$f":"IF(Worksheet!$C$11=TRUE,\"Y\",\"N\")","v":"N"},{"$f":"IFERROR(Worksheet!AB253,\"\")","v":0}]
[{"$f":"IF(IFERROR(SEARCH(\"Refrigerated\",Worksheet!L254,1),0)>0,122,IF(ISERROR(RIGHT(VLOOKUP(Worksheet!K254,Type!C$1:E$13,3,FALSE),3))=FALSE,RIGHT(VLOOKUP(Worksheet!K254,Type!C$1:E$13,3,FALSE),3),\"\"))","v":""},{"$f":"IF(Worksheet!M254=\"\",\"\",Worksheet!M254)","v":""},{"$f":"IF(Worksheet!N254=\"\",\"\",Worksheet!N254)","v":""},{"$f":"IF(Worksheet!Y254=0,\"\",Worksheet!Y254)","v":""},"Watts",null,null,{"$f":"Worksheet!AA254","v":0},{"$f":"IF(ISBLANK(Worksheet!V254)=FALSE,Worksheet!V254,\"\")","v":0},{"$f":"Worksheet!AG254","v":0},{"$f":"Worksheet!AF254","v":0},0,{"$f":"IF(ISERROR(SEARCH(\"Gas\",Worksheet!$A$18))=TRUE,0,Worksheet!AH254)","v":0},0,null,null,{"$f":"IF(OR(Worksheet!F254=\"Incandescent\",Worksheet!F254=\"Halogen Incandescent\")=TRUE,118,IF(LEFT(Worksheet!F254,3)=\"HID\",117,IF(OR(RIGHT(Worksheet!F254,3)=\"T12\",RIGHT(Worksheet!F254,5)=\"T12HO\")=TRUE,115,IF(OR(RIGHT(Worksheet!F254,2)=\"T8\",RIGHT(Worksheet!F254,4)=\"RWT8\",RIGHT(Worksheet!F254,4)=\"T8HO\")=TRUE,115,\"\"))))","v":""},{"$f":"IF(ISBLANK(Worksheet!W254)=FALSE,Worksheet!W254,\"\")","v":0},{"$f":"IF(ISERROR(SEARCH(\"Oil\",Worksheet!$A$18))=TRUE,0,Worksheet!AH254)","v":0},0,{"$f":"IF(ISERROR(SEARCH(\"Propane\",Worksheet!$A$18))=TRUE,0,Worksheet!AH254)","v":0},0,{"$f":"IF(Worksheet!J254=0,\"\",Worksheet!J254)","v":""},{"$f":"IF(Worksheet!B254=0,\"\",Worksheet!B254)","v":""},{"$f":"IF(Worksheet!K254=0,\"\",Worksheet!K254)","v":""},{"$f":"IF(Worksheet!L254=0,\"\",Worksheet!L254)","v":""},{"$f":"IF(Worksheet!R254=0,\"\",Worksheet!R254)","v":""},{"$f":"IF(Worksheet!F254=0,\"\",Worksheet!F254)","v":""},{"$f":"IF(Worksheet!G254=0,\"\",Worksheet!G254)","v":""},{"$f":"IF(Worksheet!X254=0,\"\",Worksheet!X254)","v":""},{"$f":"IF(Worksheet!Q254=0,\"\",Worksheet!Q254)","v":""},{"$f":"IF(Worksheet!C254=0,\"\",Worksheet!C254)","v":""},{"$f":"IF(Worksheet!D254=0,\"\",Worksheet!D254)","v":""},{"$f":"IF(Worksheet!$A$11=TRUE,\"Y\",\"N\")","v":"N"},{"$f":"IF(Worksheet!$A$12=TRUE,\"Y\",\"N\")","v":"N"},{"$f":"IF(Worksheet!$B$11=TRUE,\"Y\",\"N\")","v":"N"},{"$f":"IF(Worksheet!$B$12=TRUE,\"Y\",\"N\")","v":"N"},{"$f":"IF(Worksheet!$C$11=TRUE,\"Y\",\"N\")","v":"N"},{"$f":"IFERROR(Worksheet!AB254,\"\")","v":0}]
[{"$f":"IF(IFERROR(SEARCH(\"Refrigerated\",Worksheet!L255,1),0)>0,122,IF(ISERROR(RIGHT(VLOOKUP(Worksheet!K255,Type!C$1:E$13,3,FALSE),3))=FALSE,RIGHT(VLOOKUP(Worksheet!K255,Type!C$1:E$13,3,FALSE),3),\"\"))","v":""},{"$f":"IF(Worksheet!M255=\"\",\"\",Worksheet!M255)","v":""},{"$f":"IF(Worksheet!N255=\"\",\"\",Worksheet!N255)","v":""},{"$f":"IF(Worksheet!Y255=0,\"\",Worksheet!Y255)","v":""},"Watts",null,null,{"$f":"Worksheet!AA255","v":0},{"$f":"IF(ISBLANK(Worksheet!V255)=FALSE,Worksheet!V255,\"\")","v":0},{"$f":"Worksheet!AG255","v":0},{"$f":"Worksheet!AF255","v":0},0,{"$f":"IF(ISERROR(SEARCH(\"Gas\",Worksheet!$A$18))=TRUE,0,Worksheet!AH255)","v":0},0,null,null,{"$f":"IF(OR(Worksheet!F255=\"Incandescent\",Worksheet!F255=\"Halogen Incandescent\")=TRUE,118,IF(LEFT(Worksheet!F255,3)=\"HID\",117,IF(OR(RIGHT(Worksheet!F255,3)=\"T12\",RIGHT(Worksheet!F255,5)=\"T12HO\")=TRUE,115,IF(OR(RIGHT(Worksheet!F255,2)=\"T8\",RIGHT(Worksheet!F255,4)=\"RWT8\",RIGHT(Worksheet!F255,4)=\"T8HO\")=TRUE,115,\"\"))))","v":""},{"$f":"IF(ISBLANK(Worksheet!W255)=FALSE,Worksheet!W255,\"\")","v":0},{"$f":"IF(ISERROR(SEARCH(\"Oil\",Worksheet!$A$18))=TRUE,0,Worksheet!AH255)","v":0},0,{"$f":"IF(ISERROR(SEARCH(\"Propane\",Worksheet!$A$18))=TRUE,0,Worksheet!AH255)","v":0},0,{"$f":"IF(Worksheet!J255=0,\"\",Worksheet!J255)","v":""},{"$f":"IF(Worksheet!B255=0,\"\",Worksheet!B255)","v":""},{"$f":"IF(Worksheet!K255=0,\"\",Worksheet!K255)","v":""},{"$f":"IF(Worksheet!L255=0,\"\",Worksheet!L255)","v":""},{"$f":"IF(Worksheet!R255=0,\"\",Worksheet!R255)","v":""},{"$f":"IF(Worksheet!F255=0,\"\",Worksheet!F255)","v":""},{"$f":"IF(Worksheet!G255=0,\"\",Worksheet!G255)","v":""},{"$f":"IF(Worksheet!X255=0,\"\",Worksheet!X255)","v":""},{"$f":"IF(Worksheet!Q255=0,\"\",Worksheet!Q255)","v":""},{"$f":"IF(Worksheet!C255=0,\"\",Worksheet!C255)","v":""},{"$f":"IF(Worksheet!D255=0,\"\",Worksheet!D255)","v":""},{"$f":"IF(Worksheet!$A$11=TRUE,\"Y\",\"N\")","v":"N"},{"$f":"IF(Worksheet!$A$12=TRUE,\"Y\",\"N\")","v":"N"},{"$f":"IF(Worksheet!$B$11=TRUE,\"Y\",\"N\")","v":"N"},{"$f":"IF(Worksheet!$B$12=TRUE,\"Y\",\"N\")","v":"N"},{"$f":"IF(Worksheet!$C$11=TRUE,\"Y\",\"N\")","v":"N"},{"$f":"IFERROR(Worksheet!AB255,\"\")","v":0}]
[{"$f":"IF(IFERROR(SEARCH(\"Refrigerated\",Worksheet!L256,1),0)>0,122,IF(ISERROR(RIGHT(VLOOKUP(Worksheet!K256,Type!C$1:E$13,3,FALSE),3))=FALSE,RIGHT(VLOOKUP(Worksheet!K256,Type!C$1:E$13,3,FALSE),3),\"\"))","v":""},{"$f":"IF(Worksheet!M256=\"\",\"\",Worksheet!M256)","v":""},{"$f":"IF(Worksheet!N256=\"\",\"\",Worksheet!N256)","v":""},{"$f":"IF(Worksheet!Y256=0,\"\",Worksheet!Y256)","v":""},"Watts",null,null,{"$f":"Worksheet!AA256","v":0},{"$f":"IF(ISBLANK(Worksheet!V256)=FALSE,Worksheet!V256,\"\")","v":0},{"$f":"Worksheet!AG256","v":0},{"$f":"Worksheet!AF256","v":0},0,{"$f":"IF(ISERROR(SEARCH(\"Gas\",Worksheet!$A$18))=TRUE,0,Worksheet!AH256)","v":0},0,null,null,{"$f":"IF(OR(Worksheet!F256=\"Incandescent\",Worksheet!F256=\"Halogen Incandescent\")=TRUE,118,IF(LEFT(Worksheet!F256,3)=\"HID\",117,IF(OR(RIGHT(Worksheet!F256,3)=\"T12\",RIGHT(Worksheet!F256,5)=\"T12HO\")=TRUE,115,IF(OR(RIGHT(Worksheet!F256,2)=\"T8\",RIGHT(Worksheet!F256,4)=\"RWT8\",RIGHT(Worksheet!F256,4)=\"T8HO\")=TRUE,115,\"\"))))","v":""},{"$f":"IF(ISBLANK(Worksheet!W256)=FALSE,Worksheet!W256,\"\")","v":0},{"$f":"IF(ISERROR(SEARCH(\"Oil\",Worksheet!$A$18))=TRUE,0,Worksheet!AH256)","v":0},0,{"$f":"IF(ISERROR(SEARCH(\"Propane\",Worksheet!$A$18))=TRUE,0,Worksheet!AH256)","v":0},0,{"$f":"IF(Worksheet!J256=0,\"\",Worksheet!J256)","v":""},{"$f":"IF(Worksheet!B256=0,\"\",Worksheet!B256)","v":""},{"$f":"IF(Worksheet!K256=0,\"\",Worksheet!K256)","v":""},{"$f":"IF(Worksheet!L256=0,\"\",Worksheet!L256)","v":""},{"$f":"IF(Worksheet!R256=0,\"\",Worksheet!R256)","v":""},{"$f":"IF(Worksheet!F256=0,\"\",Worksheet!F256)","v":""},{"$f":"IF(Worksheet!G256=0,\"\",Worksheet!G256)","v":""},{"$f":"IF(Worksheet!X256=0,\"\",Worksheet!X256)","v":""},{"$f":"IF(Worksheet!Q256=0,\"\",Worksheet!Q256)","v":""},{"$f":"IF(Worksheet!C256=0,\"\",Worksheet!C256)","v":""},{"$f":"IF(Worksheet!D256=0,\"\",Worksheet!D256)","v":""},{"$f":"IF(Worksheet!$A$11=TRUE,\"Y\",\"N\")","v":"N"},{"$f":"IF(Worksheet!$A$12=TRUE,\"Y\",\"N\")","v":"N"},{"$f":"IF(Worksheet!$B$11=TRUE,\"Y\",\"N\")","v":"N"},{"$f":"IF(Worksheet!$B$12=TRUE,\"Y\",\"N\")","v":"N"},{"$f":"IF(Worksheet!$C$11=TRUE,\"Y\",\"N\")","v":"N"},{"$f":"IFERROR(Worksheet!AB256,\"\")","v":0}]
[{"$f":"IF(IFERROR(SEARCH(\"Refrigerated\",Worksheet!L257,1),0)>0,122,IF(ISERROR(RIGHT(VLOOKUP(Worksheet!K257,Type!C$1:E$13,3,FALSE),3))=FALSE,RIGHT(VLOOKUP(Worksheet!K257,Type!C$1:E$13,3,FALSE),3),\"\"))","v":""},{"$f":"IF(Worksheet!M257=\"\",\"\",Worksheet!M257)","v":""},{"$f":"IF(Worksheet!N257=\"\",\"\",Worksheet!N257)","v":""},{"$f":"IF(Worksheet!Y257=0,\"\",Worksheet!Y257)","v":""},"Watts",null,null,{"$f":"Worksheet!AA257","v":0},{"$f":"IF(ISBLANK(Worksheet!V257)=FALSE,Worksheet!V257,\"\")","v":0},{"$f":"Worksheet!AG257","v":0},{"$f":"Worksheet!AF257","v":0},0,{"$f":"IF(ISERROR(SEARCH(\"Gas\",Worksheet!$A$18))=TRUE,0,Worksheet!AH257)","v":0},0,null,null,{"$f":"IF(OR(Worksheet!F257=\"Incandescent\",Worksheet!F257=\"Halogen Incandescent\")=TRUE,118,IF(LEFT(Worksheet!F257,3)=\"HID\",117,IF(OR(RIGHT(Worksheet!F257,3)=\"T12\",RIGHT(Worksheet!F257,5)=\"T12HO\")=TRUE,115,IF(OR(RIGHT(Worksheet!F257,2)=\"T8\",RIGHT(Worksheet!F257,4)=\"RWT8\",RIGHT(Worksheet!F257,4)=\"T8HO\")=TRUE,115,\"\"))))","v":""},{"$f":"IF(ISBLANK(Worksheet!W257)=FALSE,Worksheet!W257,\"\")","v":0},{"$f":"IF(ISERROR(SEARCH(\"Oil\",Worksheet!$A$18))=TRUE,0,Worksheet!AH257)","v":0},0,{"$f":"IF(ISERROR(SEARCH(\"Propane\",Worksheet!$A$18))=TRUE,0,Worksheet!AH257)","v":0},0,{"$f":"IF(Worksheet!J257=0,\"\",Worksheet!J257)","v":""},{"$f":"IF(Worksheet!B257=0,\"\",Worksheet!B257)","v":""},{"$f":"IF(Worksheet!K257=0,\"\",Worksheet!K257)","v":""},{"$f":"IF(Worksheet!L257=0,\"\",Worksheet!L257)","v":""},{"$f":"IF(Worksheet!R257=0,\"\",Worksheet!R257)","v":""},{"$f":"IF(Worksheet!F257=0,\"\",Worksheet!F257)","v":""},{"$f":"IF(Worksheet!G257=0,\"\",Worksheet!G257)","v":""},{"$f":"IF(Worksheet!X257=0,\"\",Worksheet!X257)","v":""},{"$f":"IF(Worksheet!Q257=0,\"\",Worksheet!Q257)","v":""},{"$f":"IF(Worksheet!C257=0,\"\",Worksheet!C257)","v":""},{"$f":"IF(Worksheet!D257=0,\"\",Worksheet!D257)","v":""},{"$f":"IF(Worksheet!$A$11=TRUE,\"Y\",\"N\")","v":"N"},{"$f":"IF(Worksheet!$A$12=TRUE,\"Y\",\"N\")","v":"N"},{"$f":"IF(Worksheet!$B$11=TRUE,\"Y\",\"N\")","v":"N"},{"$f":"IF(Worksheet!$B$12=TRUE,\"Y\",\"N\")","v":"N"},{"$f":"IF(Worksheet!$C$11=TRUE,\"Y\",\"N\")","v":"N"},{"$f":"IFERROR(Worksheet!AB257,\"\")","v":0}]
[{"$f":"IF(IFERROR(SEARCH(\"Refrigerated\",Worksheet!L258,1),0)>0,122,IF(ISERROR(RIGHT(VLOOKUP(Worksheet!K258,Type!C$1:E$13,3,FALSE),3))=FALSE,RIGHT(VLOOKUP(Worksheet!K258,Type!C$1:E$13,3,FALSE),3),\"\"))","v":""},{"$f":"IF(Worksheet!M258=\"\",\"\",Worksheet!M258)","v":""},{"$f":"IF(Worksheet!N258=\"\",\"\",Worksheet!N258)","v":""},{"$f":"IF(Worksheet!Y258=0,\"\",Worksheet!Y258)","v":""},"Watts",null,null,{"$f":"Worksheet!AA258","v":0},{"$f":"IF(ISBLANK(Worksheet!V258)=FALSE,Worksheet!V258,\"\")","v":0},{"$f":"Worksheet!AG258","v":0},{"$f":"Worksheet!AF258","v":0},0,{"$f":"IF(ISERROR(SEARCH(\"Gas\",Worksheet!$A$18))=TRUE,0,Worksheet!AH258)","v":0},0,null,null,{"$f":"IF(OR(Worksheet!F258=\"Incandescent\",Worksheet!F258=\"Halogen Incandescent\")=TRUE,118,IF(LEFT(Worksheet!F258,3)=\"HID\",117,IF(OR(RIGHT(Worksheet!F258,3)=\"T12\",RIGHT(Worksheet!F258,5)=\"T12HO\")=TRUE,115,IF(OR(RIGHT(Worksheet!F258,2)=\"T8\",RIGHT(Worksheet!F258,4)=\"RWT8\",RIGHT(Worksheet!F258,4)=\"T8HO\")=TRUE,115,\"\"))))","v":""},{"$f":"IF(ISBLANK(Worksheet!W258)=FALSE,Worksheet!W258,\"\")","v":0},{"$f":"IF(ISERROR(SEARCH(\"Oil\",Worksheet!$A$18))=TRUE,0,Worksheet!AH258)","v":0},0,{"$f":"IF(ISERROR(SEARCH(\"Propane\",Worksheet!$A$18))=TRUE,0,Worksheet!AH258)","v":0},0,{"$f":"IF(Worksheet!J258=0,\"\",Worksheet!J258)","v":""},{"$f":"IF(Worksheet!B258=0,\"\",Worksheet!B258)","v":""},{"$f":"IF(Worksheet!K258=0,\"\",Worksheet!K258)","v":""},{"$f":"IF(Worksheet!L258=0,\"\",Worksheet!L258)","v":""},{"$f":"IF(Worksheet!R258=0,\"\",Worksheet!R258)","v":""},{"$f":"IF(Worksheet!F258=0,\"\",Worksheet!F258)","v":""},{"$f":"IF(Worksheet!G258=0,\"\",Worksheet!G258)","v":""},{"$f":"IF(Worksheet!X258=0,\"\",Worksheet!X258)","v":""},{"$f":"IF(Worksheet!Q258=0,\"\",Worksheet!Q258)","v":""},{"$f":"IF(Worksheet!C258=0,\"\",Worksheet!C258)","v":""},{"$f":"IF(Worksheet!D258=0,\"\",Worksheet!D258)","v":""},{"$f":"IF(Worksheet!$A$11=TRUE,\"Y\",\"N\")","v":"N"},{"$f":"IF(Worksheet!$A$12=TRUE,\"Y\",\"N\")","v":"N"},{"$f":"IF(Worksheet!$B$11=TRUE,\"Y\",\"N\")","v":"N"},{"$f":"IF(Worksheet!$B$12=TRUE,\"Y\",\"N\")","v":"N"},{"$f":"IF(Worksheet!$C$11=TRUE,\"Y\",\"N\")","v":"N"},{"$f":"IFERROR(Worksheet!AB258,\"\")","v":0}]
[{"$f":"IF(IFERROR(SEARCH(\"Refrigerated\",Worksheet!L259,1),0)>0,122,IF(ISERROR(RIGHT(VLOOKUP(Worksheet!K259,Type!C$1:E$13,3,FALSE),3))=FALSE,RIGHT(VLOOKUP(Worksheet!K259,Type!C$1:E$13,3,FALSE),3),\"\"))","v":""},{"$f":"IF(Worksheet!M259=\"\",\"\",Worksheet!M259)","v":""},{"$f":"IF(Worksheet!N259=\"\",\"\",Worksheet!N259)","v":""},{"$f":"IF(Worksheet!Y259=0,\"\",Worksheet!Y259)","v":""},"Watts",null,null,{"$f":"Worksheet!AA259","v":0},{"$f":"IF(ISBLANK(Worksheet!V259)=FALSE,Worksheet!V259,\"\")","v":0},{"$f":"Worksheet!AG259","v":0},{"$f":"Worksheet!AF259","v":0},0,{"$f":"IF(ISERROR(SEARCH(\"Gas\",Worksheet!$A$18))=TRUE,0,Worksheet!AH259)","v":0},0,null,null,{"$f":"IF(OR(Worksheet!F259=\"Incandescent\",Worksheet!F259=\"Halogen Incandescent\")=TRUE,118,IF(LEFT(Worksheet!F259,3)=\"HID\",117,IF(OR(RIGHT(Worksheet!F259,3)=\"T12\",RIGHT(Worksheet!F259,5)=\"T12HO\")=TRUE,115,IF(OR(RIGHT(Worksheet!F259,2)=\"T8\",RIGHT(Worksheet!F259,4)=\"RWT8\",RIGHT(Worksheet!F259,4)=\"T8HO\")=TRUE,115,\"\"))))","v":""},{"$f":"IF(ISBLANK(Worksheet!W259)=FALSE,Worksheet!W259,\"\")","v":0},{"$f":"IF(ISERROR(SEARCH(\"Oil\",Worksheet!$A$18))=TRUE,0,Worksheet!AH259)","v":0},0,{"$f":"IF(ISERROR(SEARCH(\"Propane\",Worksheet!$A$18))=TRUE,0,Worksheet!AH259)","v":0},0,{"$f":"IF(Worksheet!J259=0,\"\",Worksheet!J259)","v":""},{"$f":"IF(Worksheet!B259=0,\"\",Worksheet!B259)","v":""},{"$f":"IF(Worksheet!K259=0,\"\",Worksheet!K259)","v":""},{"$f":"IF(Worksheet!L259=0,\"\",Worksheet!L259)","v":""},{"$f":"IF(Worksheet!R259=0,\"\",Worksheet!R259)","v":""},{"$f":"IF(Worksheet!F259=0,\"\",Worksheet!F259)","v":""},{"$f":"IF(Worksheet!G259=0,\"\",Worksheet!G259)","v":""},{"$f":"IF(Worksheet!X259=0,\"\",Worksheet!X259)","v":""},{"$f":"IF(Worksheet!Q259=0,\"\",Worksheet!Q259)","v":""},{"$f":"IF(Worksheet!C259=0,\"\",Worksheet!C259)","v":""},{"$f":"IF(Worksheet!D259=0,\"\",Worksheet!D259)","v":""},{"$f":"IF(Worksheet!$A$11=TRUE,\"Y\",\"N\")","v":"N"},{"$f":"IF(Worksheet!$A$12=TRUE,\"Y\",\"N\")","v":"N"},{"$f":"IF(Worksheet!$B$11=TRUE,\"Y\",\"N\")","v":"N"},{"$f":"IF(Worksheet!$B$12=TRUE,\"Y\",\"N\")","v":"N"},{"$f":"IF(Worksheet!$C$11=TRUE,\"Y\",\"N\")","v":"N"},{"$f":"IFERROR(Worksheet!AB259,\"\")","v":0}]
[{"$f":"IF(IFERROR(SEARCH(\"Refrigerated\",Worksheet!L260,1),0)>0,122,IF(ISERROR(RIGHT(VLOOKUP(Worksheet!K260,Type!C$1:E$13,3,FALSE),3))=FALSE,RIGHT(VLOOKUP(Worksheet!K260,Type!C$1:E$13,3,FALSE),3),\"\"))","v":""},{"$f":"IF(Worksheet!M260=\"\",\"\",Worksheet!M260)","v":""},{"$f":"IF(Worksheet!N260=\"\",\"\",Worksheet!N260)","v":""},{"$f":"IF(Worksheet!Y260=0,\"\",Worksheet!Y260)","v":""},"Watts",null,null,{"$f":"Worksheet!AA260","v":0},{"$f":"IF(ISBLANK(Worksheet!V260)=FALSE,Worksheet!V260,\"\")","v":0},{"$f":"Worksheet!AG260","v":0},{"$f":"Worksheet!AF260","v":0},0,{"$f":"IF(ISERROR(SEARCH(\"Gas\",Worksheet!$A$18))=TRUE,0,Worksheet!AH260)","v":0},0,null,null,{"$f":"IF(OR(Worksheet!F260=\"Incandescent\",Worksheet!F260=\"Halogen Incandescent\")=TRUE,118,IF(LEFT(Worksheet!F260,3)=\"HID\",117,IF(OR(RIGHT(Worksheet!F260,3)=\"T12\",RIGHT(Worksheet!F260,5)=\"T12HO\")=TRUE,115,IF(OR(RIGHT(Worksheet!F260,2)=\"T8\",RIGHT(Worksheet!F260,4)=\"RWT8\",RIGHT(Worksheet!F260,4)=\"T8HO\")=TRUE,115,\"\"))))","v":""},{"$f":"IF(ISBLANK(Worksheet!W260)=FALSE,Worksheet!W260,\"\")","v":0},{"$f":"IF(ISERROR(SEARCH(\"Oil\",Worksheet!$A$18))=TRUE,0,Worksheet!AH260)","v":0},0,{"$f":"IF(ISERROR(SEARCH(\"Propane\",Worksheet!$A$18))=TRUE,0,Worksheet!AH260)","v":0},0,{"$f":"IF(Worksheet!J260=0,\"\",Worksheet!J260)","v":""},{"$f":"IF(Worksheet!B260=0,\"\",Worksheet!B260)","v":""},{"$f":"IF(Worksheet!K260=0,\"\",Worksheet!K260)","v":""},{"$f":"IF(Worksheet!L260=0,\"\",Worksheet!L260)","v":""},{"$f":"IF(Worksheet!R260=0,\"\",Worksheet!R260)","v":""},{"$f":"IF(Worksheet!F260=0,\"\",Worksheet!F260)","v":""},{"$f":"IF(Worksheet!G260=0,\"\",Worksheet!G260)","v":""},{"$f":"IF(Worksheet!X260=0,\"\",Worksheet!X260)","v":""},{"$f":"IF(Worksheet!Q260=0,\"\",Worksheet!Q260)","v":""},{"$f":"IF(Worksheet!C260=0,\"\",Worksheet!C260)","v":""},{"$f":"IF(Worksheet!D260=0,\"\",Worksheet!D260)","v":""},{"$f":"IF(Worksheet!$A$11=TRUE,\"Y\",\"N\")","v":"N"},{"$f":"IF(Worksheet!$A$12=TRUE,\"Y\",\"N\")","v":"N"},{"$f":"IF(Worksheet!$B$11=TRUE,\"Y\",\"N\")","v":"N"},{"$f":"IF(Worksheet!$B$12=TRUE,\"Y\",\"N\")","v":"N"},{"$f":"IF(Worksheet!$C$11=TRUE,\"Y\",\"N\")","v":"N"},{"$f":"IFERROR(Worksheet!AB260,\"\")","v":0}]
[{"$f":"IF(IFERROR(SEARCH(\"Refrigerated\",Worksheet!L261,1),0)>0,122,IF(ISERROR(RIGHT(VLOOKUP(Worksheet!K261,Type!C$1:E$13,3,FALSE),3))=FALSE,RIGHT(VLOOKUP(Worksheet!K261,Type!C$1:E$13,3,FALSE),3),\"\"))","v":""},{"$f":"IF(Worksheet!M261=\"\",\"\",Worksheet!M261)","v":""},{"$f":"IF(Worksheet!N261=\"\",\"\",Worksheet!N261)","v":""},{"$f":"IF(Worksheet!Y261=0,\"\",Worksheet!Y261)","v":""},"Watts",null,null,{"$f":"Worksheet!AA261","v":0},{"$f":"IF(ISBLANK(Worksheet!V261)=FALSE,Worksheet!V261,\"\")","v":0},{"$f":"Worksheet!AG261","v":0},{"$f":"Worksheet!AF261","v":0},0,{"$f":"IF(ISERROR(SEARCH(\"Gas\",Worksheet!$A$18))=TRUE,0,Worksheet!AH261)","v":0},0,null,null,{"$f":"IF(OR(Worksheet!F261=\"Incandescent\",Worksheet!F261=\"Halogen Incandescent\")=TRUE,118,IF(LEFT(Worksheet!F261,3)=\"HID\",117,IF(OR(RIGHT(Worksheet!F261,3)=\"T12\",RIGHT(Worksheet!F261,5)=\"T12HO\")=TRUE,115,IF(OR(RIGHT(Worksheet!F261,2)=\"T8\",RIGHT(Worksheet!F261,4)=\"RWT8\",RIGHT(Worksheet!F261,4)=\"T8HO\")=TRUE,115,\"\"))))","v":""},{"$f":"IF(ISBLANK(Worksheet!W261)=FALSE,Worksheet!W261,\"\")","v":0},{"$f":"IF(ISERROR(SEARCH(\"Oil\",Worksheet!$A$18))=TRUE,0,Worksheet!AH261)","v":0},0,{"$f":"IF(ISERROR(SEARCH(\"Propane\",Worksheet!$A$18))=TRUE,0,Worksheet!AH261)","v":0},0,{"$f":"IF(Worksheet!J261=0,\"\",Worksheet!J261)","v":""},{"$f":"IF(Worksheet!B261=0,\"\",Worksheet!B261)","v":""},{"$f":"IF(Worksheet!K261=0,\"\",Worksheet!K261)","v":""},{"$f":"IF(Worksheet!L261=0,\"\",Worksheet!L261)","v":""},{"$f":"IF(Worksheet!R261=0,\"\",Worksheet!R261)","v":""},{"$f":"IF(Worksheet!F261=0,\"\",Worksheet!F261)","v":""},{"$f":"IF(Worksheet!G261=0,\"\",Worksheet!G261)","v":""},{"$f":"IF(Worksheet!X261=0,\"\",Worksheet!X261)","v":""},{"$f":"IF(Worksheet!Q261=0,\"\",Worksheet!Q261)","v":""},{"$f":"IF(Worksheet!C261=0,\"\",Worksheet!C261)","v":""},{"$f":"IF(Worksheet!D261=0,\"\",Worksheet!D261)","v":""},{"$f":"IF(Worksheet!$A$11=TRUE,\"Y\",\"N\")","v":"N"},{"$f":"IF(Worksheet!$A$12=TRUE,\"Y\",\"N\")","v":"N"},{"$f":"IF(Worksheet!$B$11=TRUE,\"Y\",\"N\")","v":"N"},{"$f":"IF(Worksheet!$B$12=TRUE,\"Y\",\"N\")","v":"N"},{"$f":"IF(Worksheet!$C$11=TRUE,\"Y\",\"N\")","v":"N"},{"$f":"IFERROR(Worksheet!AB261,\"\")","v":0}]
[{"$f":"IF(IFERROR(SEARCH(\"Refrigerated\",Worksheet!L262,1),0)>0,122,IF(ISERROR(RIGHT(VLOOKUP(Worksheet!K262,Type!C$1:E$13,3,FALSE),3))=FALSE,RIGHT(VLOOKUP(Worksheet!K262,Type!C$1:E$13,3,FALSE),3),\"\"))","v":""},{"$f":"IF(Worksheet!M262=\"\",\"\",Worksheet!M262)","v":""},{"$f":"IF(Worksheet!N262=\"\",\"\",Worksheet!N262)","v":""},{"$f":"IF(Worksheet!Y262=0,\"\",Worksheet!Y262)","v":""},"Watts",null,null,{"$f":"Worksheet!AA262","v":0},{"$f":"IF(ISBLANK(Worksheet!V262)=FALSE,Worksheet!V262,\"\")","v":0},{"$f":"Worksheet!AG262","v":0},{"$f":"Worksheet!AF262","v":0},0,{"$f":"IF(ISERROR(SEARCH(\"Gas\",Worksheet!$A$18))=TRUE,0,Worksheet!AH262)","v":0},0,null,null,{"$f":"IF(OR(Worksheet!F262=\"Incandescent\",Worksheet!F262=\"Halogen Incandescent\")=TRUE,118,IF(LEFT(Worksheet!F262,3)=\"HID\",117,IF(OR(RIGHT(Worksheet!F262,3)=\"T12\",RIGHT(Worksheet!F262,5)=\"T12HO\")=TRUE,115,IF(OR(RIGHT(Worksheet!F262,2)=\"T8\",RIGHT(Worksheet!F262,4)=\"RWT8\",RIGHT(Worksheet!F262,4)=\"T8HO\")=TRUE,115,\"\"))))","v":""},{"$f":"IF(ISBLANK(Worksheet!W262)=FALSE,Worksheet!W262,\"\")","v":0},{"$f":"IF(ISERROR(SEARCH(\"Oil\",Worksheet!$A$18))=TRUE,0,Worksheet!AH262)","v":0},0,{"$f":"IF(ISERROR(SEARCH(\"Propane\",Worksheet!$A$18))=TRUE,0,Worksheet!AH262)","v":0},0,{"$f":"IF(Worksheet!J262=0,\"\",Worksheet!J262)","v":""},{"$f":"IF(Worksheet!B262=0,\"\",Worksheet!B262)","v":""},{"$f":"IF(Worksheet!K262=0,\"\",Worksheet!K262)","v":""},{"$f":"IF(Worksheet!L262=0,\"\",Worksheet!L262)","v":""},{"$f":"IF(Worksheet!R262=0,\"\",Worksheet!R262)","v":""},{"$f":"IF(Worksheet!F262=0,\"\",Worksheet!F262)","v":""},{"$f":"IF(Worksheet!G262=0,\"\",Worksheet!G262)","v":""},{"$f":"IF(Worksheet!X262=0,\"\",Worksheet!X262)","v":""},{"$f":"IF(Worksheet!Q262=0,\"\",Worksheet!Q262)","v":""},{"$f":"IF(Worksheet!C262=0,\"\",Worksheet!C262)","v":""},{"$f":"IF(Worksheet!D262=0,\"\",Worksheet!D262)","v":""},{"$f":"IF(Worksheet!$A$11=TRUE,\"Y\",\"N\")","v":"N"},{"$f":"IF(Worksheet!$A$12=TRUE,\"Y\",\"N\")","v":"N"},{"$f":"IF(Worksheet!$B$11=TRUE,\"Y\",\"N\")","v":"N"},{"$f":"IF(Worksheet!$B$12=TRUE,\"Y\",\"N\")","v":"N"},{"$f":"IF(Worksheet!$C$11=TRUE,\"Y\",\"N\")","v":"N"},{"$f":"IFERROR(Worksheet!AB262,\"\")","v":0}]
[{"$f":"IF(IFERROR(SEARCH(\"Refrigerated\",Worksheet!L263,1),0)>0,122,IF(ISERROR(RIGHT(VLOOKUP(Worksheet!K263,Type!C$1:E$13,3,FALSE),3))=FALSE,RIGHT(VLOOKUP(Worksheet!K263,Type!C$1:E$13,3,FALSE),3),\"\"))","v":""},{"$f":"IF(Worksheet!M263=\"\",\"\",Worksheet!M263)","v":""},{"$f":"IF(Worksheet!N263=\"\",\"\",Worksheet!N263)","v":""},{"$f":"IF(Worksheet!Y263=0,\"\",Worksheet!Y263)","v":""},"Watts",null,null,{"$f":"Worksheet!AA263","v":0},{"$f":"IF(ISBLANK(Worksheet!V263)=FALSE,Worksheet!V263,\"\")","v":0},{"$f":"Worksheet!AG263","v":0},{"$f":"Worksheet!AF263","v":0},0,{"$f":"IF(ISERROR(SEARCH(\"Gas\",Worksheet!$A$18))=TRUE,0,Worksheet!AH263)","v":0},0,null,null,{"$f":"IF(OR(Worksheet!F263=\"Incandescent\",Worksheet!F263=\"Halogen Incandescent\")=TRUE,118,IF(LEFT(Worksheet!F263,3)=\"HID\",117,IF(OR(RIGHT(Worksheet!F263,3)=\"T12\",RIGHT(Worksheet!F263,5)=\"T12HO\")=TRUE,115,IF(OR(RIGHT(Worksheet!F263,2)=\"T8\",RIGHT(Worksheet!F263,4)=\"RWT8\",RIGHT(Worksheet!F263,4)=\"T8HO\")=TRUE,115,\"\"))))","v":""},{"$f":"IF(ISBLANK(Worksheet!W263)=FALSE,Worksheet!W263,\"\")","v":0},{"$f":"IF(ISERROR(SEARCH(\"Oil\",Worksheet!$A$18))=TRUE,0,Worksheet!AH263)","v":0},0,{"$f":"IF(ISERROR(SEARCH(\"Propane\",Worksheet!$A$18))=TRUE,0,Worksheet!AH263)","v":0},0,{"$f":"IF(Worksheet!J263=0,\"\",Worksheet!J263)","v":""},{"$f":"IF(Worksheet!B263=0,\"\",Worksheet!B263)","v":""},{"$f":"IF(Worksheet!K263=0,\"\",Worksheet!K263)","v":""},{"$f":"IF(Worksheet!L263=0,\"\",Worksheet!L263)","v":""},{"$f":"IF(Worksheet!R263=0,\"\",Worksheet!R263)","v":""},{"$f":"IF(Worksheet!F263=0,\"\",Worksheet!F263)","v":""},{"$f":"IF(Worksheet!G263=0,\"\",Worksheet!G263)","v":""},{"$f":"IF(Worksheet!X263=0,\"\",Worksheet!X263)","v":""},{"$f":"IF(Worksheet!Q263=0,\"\",Worksheet!Q263)","v":""},{"$f":"IF(Worksheet!C263=0,\"\",Worksheet!C263)","v":""},{"$f":"IF(Worksheet!D263=0,\"\",Worksheet!D263)","v":""},{"$f":"IF(Worksheet!$A$11=TRUE,\"Y\",\"N\")","v":"N"},{"$f":"IF(Worksheet!$A$12=TRUE,\"Y\",\"N\")","v":"N"},{"$f":"IF(Worksheet!$B$11=TRUE,\"Y\",\"N\")","v":"N"},{"$f":"IF(Worksheet!$B$12=TRUE,\"Y\",\"N\")","v":"N"},{"$f":"IF(Worksheet!$C$11=TRUE,\"Y\",\"N\")","v":"N"},{"$f":"IFERROR(Worksheet!AB263,\"\")","v":0}]
[{"$f":"IF(IFERROR(SEARCH(\"Refrigerated\",Worksheet!L264,1),0)>0,122,IF(ISERROR(RIGHT(VLOOKUP(Worksheet!K264,Type!C$1:E$13,3,FALSE),3))=FALSE,RIGHT(VLOOKUP(Worksheet!K264,Type!C$1:E$13,3,FALSE),3),\"\"))","v":""},{"$f":"IF(Worksheet!M264=\"\",\"\",Worksheet!M264)","v":""},{"$f":"IF(Worksheet!N264=\"\",\"\",Worksheet!N264)","v":""},{"$f":"IF(Worksheet!Y264=0,\"\",Worksheet!Y264)","v":""},"Watts",null,null,{"$f":"Worksheet!AA264","v":0},{"$f":"IF(ISBLANK(Worksheet!V264)=FALSE,Worksheet!V264,\"\")","v":0},{"$f":"Worksheet!AG264","v":0},{"$f":"Worksheet!AF264","v":0},0,{"$f":"IF(ISERROR(SEARCH(\"Gas\",Worksheet!$A$18))=TRUE,0,Worksheet!AH264)","v":0},0,null,null,{"$f":"IF(OR(Worksheet!F264=\"Incandescent\",Worksheet!F264=\"Halogen Incandescent\")=TRUE,118,IF(LEFT(Worksheet!F264,3)=\"HID\",117,IF(OR(RIGHT(Worksheet!F264,3)=\"T12\",RIGHT(Worksheet!F264,5)=\"T12HO\")=TRUE,115,IF(OR(RIGHT(Worksheet!F264,2)=\"T8\",RIGHT(Worksheet!F264,4)=\"RWT8\",RIGHT(Worksheet!F264,4)=\"T8HO\")=TRUE,115,\"\"))))","v":""},{"$f":"IF(ISBLANK(Worksheet!W264)=FALSE,Worksheet!W264,\"\")","v":0},{"$f":"IF(ISERROR(SEARCH(\"Oil\",Worksheet!$A$18))=TRUE,0,Worksheet!AH264)","v":0},0,{"$f":"IF(ISERROR(SEARCH(\"Propane\",Worksheet!$A$18))=TRUE,0,Worksheet!AH264)","v":0},0,{"$f":"IF(Worksheet!J264=0,\"\",Worksheet!J264)","v":""},{"$f":"IF(Worksheet!B264=0,\"\",Worksheet!B264)","v":""},{"$f":"IF(Worksheet!K264=0,\"\",Worksheet!K264)","v":""},{"$f":"IF(Worksheet!L264=0,\"\",Worksheet!L264)","v":""},{"$f":"IF(Worksheet!R264=0,\"\",Worksheet!R264)","v":""},{"$f":"IF(Worksheet!F264=0,\"\",Worksheet!F264)","v":""},{"$f":"IF(Worksheet!G264=0,\"\",Worksheet!G264)","v":""},{"$f":"IF(Worksheet!X264=0,\"\",Worksheet!X264)","v":""},{"$f":"IF(Worksheet!Q264=0,\"\",Worksheet!Q264)","v":""},{"$f":"IF(Worksheet!C264=0,\"\",Worksheet!C264)","v":""},{"$f":"IF(Worksheet!D264=0,\"\",Worksheet!D264)","v":""},{"$f":"IF(Worksheet!$A$11=TRUE,\"Y\",\"N\")","v":"N"},{"$f":"IF(Worksheet!$A$12=TRUE,\"Y\",\"N\")","v":"N"},{"$f":"IF(Worksheet!$B$11=TRUE,\"Y\",\"N\")","v":"N"},{"$f":"IF(Worksheet!$B$12=TRUE,\"Y\",\"N\")","v":"N"},{"$f":"IF(Worksheet!$C$11=TRUE,\"Y\",\"N\")","v":"N"},{"$f":"IFERROR(Worksheet!AB264,\"\")","v":0}]
[{"$f":"IF(IFERROR(SEARCH(\"Refrigerated\",Worksheet!L265,1),0)>0,122,IF(ISERROR(RIGHT(VLOOKUP(Worksheet!K265,Type!C$1:E$13,3,FALSE),3))=FALSE,RIGHT(VLOOKUP(Worksheet!K265,Type!C$1:E$13,3,FALSE),3),\"\"))","v":""},{"$f":"IF(Worksheet!M265=\"\",\"\",Worksheet!M265)","v":""},{"$f":"IF(Worksheet!N265=\"\",\"\",Worksheet!N265)","v":""},{"$f":"IF(Worksheet!Y265=0,\"\",Worksheet!Y265)","v":""},"Watts",null,null,{"$f":"Worksheet!AA265","v":0},{"$f":"IF(ISBLANK(Worksheet!V265)=FALSE,Worksheet!V265,\"\")","v":0},{"$f":"Worksheet!AG265","v":0},{"$f":"Worksheet!AF265","v":0},0,{"$f":"IF(ISERROR(SEARCH(\"Gas\",Worksheet!$A$18))=TRUE,0,Worksheet!AH265)","v":0},0,null,null,{"$f":"IF(OR(Worksheet!F265=\"Incandescent\",Worksheet!F265=\"Halogen Incandescent\")=TRUE,118,IF(LEFT(Worksheet!F265,3)=\"HID\",117,IF(OR(RIGHT(Worksheet!F265,3)=\"T12\",RIGHT(Worksheet!F265,5)=\"T12HO\")=TRUE,115,IF(OR(RIGHT(Worksheet!F265,2)=\"T8\",RIGHT(Worksheet!F265,4)=\"RWT8\",RIGHT(Worksheet!F265,4)=\"T8HO\")=TRUE,115,\"\"))))","v":""},{"$f":"IF(ISBLANK(Worksheet!W265)=FALSE,Worksheet!W265,\"\")","v":0},{"$f":"IF(ISERROR(SEARCH(\"Oil\",Worksheet!$A$18))=TRUE,0,Worksheet!AH265)","v":0},0,{"$f":"IF(ISERROR(SEARCH(\"Propane\",Worksheet!$A$18))=TRUE,0,Worksheet!AH265)","v":0},0,{"$f":"IF(Worksheet!J265=0,\"\",Worksheet!J265)","v":""},{"$f":"IF(Worksheet!B265=0,\"\",Worksheet!B265)","v":""},{"$f":"IF(Worksheet!K265=0,\"\",Worksheet!K265)","v":""},{"$f":"IF(Worksheet!L265=0,\"\",Worksheet!L265)","v":""},{"$f":"IF(Worksheet!R265=0,\"\",Worksheet!R265)","v":""},{"$f":"IF(Worksheet!F265=0,\"\",Worksheet!F265)","v":""},{"$f":"IF(Worksheet!G265=0,\"\",Worksheet!G265)","v":""},{"$f":"IF(Worksheet!X265=0,\"\",Worksheet!X265)","v":""},{"$f":"IF(Worksheet!Q265=0,\"\",Worksheet!Q265)","v":""},{"$f":"IF(Worksheet!C265=0,\"\",Worksheet!C265)","v":""},{"$f":"IF(Worksheet!D265=0,\"\",Worksheet!D265)","v":""},{"$f":"IF(Worksheet!$A$11=TRUE,\"Y\",\"N\")","v":"N"},{"$f":"IF(Worksheet!$A$12=TRUE,\"Y\",\"N\")","v":"N"},{"$f":"IF(Worksheet!$B$11=TRUE,\"Y\",\"N\")","v":"N"},{"$f":"IF(Worksheet!$B$12=TRUE,\"Y\",\"N\")","v":"N"},{"$f":"IF(Worksheet!$C$11=TRUE,\"Y\",\"N\")","v":"N"},{"$f":"IFERROR(Worksheet!AB265,\"\")","v":0}]
[{"$f":"IF(IFERROR(SEARCH(\"Refrigerated\",Worksheet!L266,1),0)>0,122,IF(ISERROR(RIGHT(VLOOKUP(Worksheet!K266,Type!C$1:E$13,3,FALSE),3))=FALSE,RIGHT(VLOOKUP(Worksheet!K266,Type!C$1:E$13,3,FALSE),3),\"\"))","v":""},{"$f":"IF(Worksheet!M266=\"\",\"\",Worksheet!M266)","v":""},{"$f":"IF(Worksheet!N266=\"\",\"\",Worksheet!N266)","v":""},{"$f":"IF(Worksheet!Y266=0,\"\",Worksheet!Y266)","v":""},"Watts",null,null,{"$f":"Worksheet!AA266","v":0},{"$f":"IF(ISBLANK(Worksheet!V266)=FALSE,Worksheet!V266,\"\")","v":0},{"$f":"Worksheet!AG266","v":0},{"$f":"Worksheet!AF266","v":0},0,{"$f":"IF(ISERROR(SEARCH(\"Gas\",Worksheet!$A$18))=TRUE,0,Worksheet!AH266)","v":0},0,null,null,{"$f":"IF(OR(Worksheet!F266=\"Incandescent\",Worksheet!F266=\"Halogen Incandescent\")=TRUE,118,IF(LEFT(Worksheet!F266,3)=\"HID\",117,IF(OR(RIGHT(Worksheet!F266,3)=\"T12\",RIGHT(Worksheet!F266,5)=\"T12HO\")=TRUE,115,IF(OR(RIGHT(Worksheet!F266,2)=\"T8\",RIGHT(Worksheet!F266,4)=\"RWT8\",RIGHT(Worksheet!F266,4)=\"T8HO\")=TRUE,115,\"\"))))","v":""},{"$f":"IF(ISBLANK(Worksheet!W266)=FALSE,Worksheet!W266,\"\")","v":0},{"$f":"IF(ISERROR(SEARCH(\"Oil\",Worksheet!$A$18))=TRUE,0,Worksheet!AH266)","v":0},0,{"$f":"IF(ISERROR(SEARCH(\"Propane\",Worksheet!$A$18))=TRUE,0,Worksheet!AH266)","v":0},0,{"$f":"IF(Worksheet!J266=0,\"\",Worksheet!J266)","v":""},{"$f":"IF(Worksheet!B266=0,\"\",Worksheet!B266)","v":""},{"$f":"IF(Worksheet!K266=0,\"\",Worksheet!K266)","v":""},{"$f":"IF(Worksheet!L266=0,\"\",Worksheet!L266)","v":""},{"$f":"IF(Worksheet!R266=0,\"\",Worksheet!R266)","v":""},{"$f":"IF(Worksheet!F266=0,\"\",Worksheet!F266)","v":""},{"$f":"IF(Worksheet!G266=0,\"\",Worksheet!G266)","v":""},{"$f":"IF(Worksheet!X266=0,\"\",Worksheet!X266)","v":""},{"$f":"IF(Worksheet!Q266=0,\"\",Worksheet!Q266)","v":""},{"$f":"IF(Worksheet!C266=0,\"\",Worksheet!C266)","v":""},{"$f":"IF(Worksheet!D266=0,\"\",Worksheet!D266)","v":""},{"$f":"IF(Worksheet!$A$11=TRUE,\"Y\",\"N\")","v":"N"},{"$f":"IF(Worksheet!$A$12=TRUE,\"Y\",\"N\")","v":"N"},{"$f":"IF(Worksheet!$B$11=TRUE,\"Y\",\"N\")","v":"N"},{"$f":"IF(Worksheet!$B$12=TRUE,\"Y\",\"N\")","v":"N"},{"$f":"IF(Worksheet!$C$11=TRUE,\"Y\",\"N\")","v":"N"},{"$f":"IFERROR(Worksheet!AB266,\"\")","v":0}]
[{"$f":"IF(IFERROR(SEARCH(\"Refrigerated\",Worksheet!L267,1),0)>0,122,IF(ISERROR(RIGHT(VLOOKUP(Worksheet!K267,Type!C$1:E$13,3,FALSE),3))=FALSE,RIGHT(VLOOKUP(Worksheet!K267,Type!C$1:E$13,3,FALSE),3),\"\"))","v":""},{"$f":"IF(Worksheet!M267=\"\",\"\",Worksheet!M267)","v":""},{"$f":"IF(Worksheet!N267=\"\",\"\",Worksheet!N267)","v":""},{"$f":"IF(Worksheet!Y267=0,\"\",Worksheet!Y267)","v":""},"Watts",null,null,{"$f":"Worksheet!AA267","v":0},{"$f":"IF(ISBLANK(Worksheet!V267)=FALSE,Worksheet!V267,\"\")","v":0},{"$f":"Worksheet!AG267","v":0},{"$f":"Worksheet!AF267","v":0},0,{"$f":"IF(ISERROR(SEARCH(\"Gas\",Worksheet!$A$18))=TRUE,0,Worksheet!AH267)","v":0},0,null,null,{"$f":"IF(OR(Worksheet!F267=\"Incandescent\",Worksheet!F267=\"Halogen Incandescent\")=TRUE,118,IF(LEFT(Worksheet!F267,3)=\"HID\",117,IF(OR(RIGHT(Worksheet!F267,3)=\"T12\",RIGHT(Worksheet!F267,5)=\"T12HO\")=TRUE,115,IF(OR(RIGHT(Worksheet!F267,2)=\"T8\",RIGHT(Worksheet!F267,4)=\"RWT8\",RIGHT(Worksheet!F267,4)=\"T8HO\")=TRUE,115,\"\"))))","v":""},{"$f":"IF(ISBLANK(Worksheet!W267)=FALSE,Worksheet!W267,\"\")","v":0},{"$f":"IF(ISERROR(SEARCH(\"Oil\",Worksheet!$A$18))=TRUE,0,Worksheet!AH267)","v":0},0,{"$f":"IF(ISERROR(SEARCH(\"Propane\",Worksheet!$A$18))=TRUE,0,Worksheet!AH267)","v":0},0,{"$f":"IF(Worksheet!J267=0,\"\",Worksheet!J267)","v":""},{"$f":"IF(Worksheet!B267=0,\"\",Worksheet!B267)","v":""},{"$f":"IF(Worksheet!K267=0,\"\",Worksheet!K267)","v":""},{"$f":"IF(Worksheet!L267=0,\"\",Worksheet!L267)","v":""},{"$f":"IF(Worksheet!R267=0,\"\",Worksheet!R267)","v":""},{"$f":"IF(Worksheet!F267=0,\"\",Worksheet!F267)","v":""},{"$f":"IF(Worksheet!G267=0,\"\",Worksheet!G267)","v":""},{"$f":"IF(Worksheet!X267=0,\"\",Worksheet!X267)","v":""},{"$f":"IF(Worksheet!Q267=0,\"\",Worksheet!Q267)","v":""},{"$f":"IF(Worksheet!C267=0,\"\",Worksheet!C267)","v":""},{"$f":"IF(Worksheet!D267=0,\"\",Worksheet!D267)","v":""},{"$f":"IF(Worksheet!$A$11=TRUE,\"Y\",\"N\")","v":"N"},{"$f":"IF(Worksheet!$A$12=TRUE,\"Y\",\"N\")","v":"N"},{"$f":"IF(Worksheet!$B$11=TRUE,\"Y\",\"N\")","v":"N"},{"$f":"IF(Worksheet!$B$12=TRUE,\"Y\",\"N\")","v":"N"},{"$f":"IF(Worksheet!$C$11=TRUE,\"Y\",\"N\")","v":"N"},{"$f":"IFERROR(Worksheet!AB267,\"\")","v":0}]
[{"$f":"IF(IFERROR(SEARCH(\"Refrigerated\",Worksheet!L268,1),0)>0,122,IF(ISERROR(RIGHT(VLOOKUP(Worksheet!K268,Type!C$1:E$13,3,FALSE),3))=FALSE,RIGHT(VLOOKUP(Worksheet!K268,Type!C$1:E$13,3,FALSE),3),\"\"))","v":""},{"$f":"IF(Worksheet!M268=\"\",\"\",Worksheet!M268)","v":""},{"$f":"IF(Worksheet!N268=\"\",\"\",Worksheet!N268)","v":""},{"$f":"IF(Worksheet!Y268=0,\"\",Worksheet!Y268)","v":""},"Watts",null,null,{"$f":"Worksheet!AA268","v":0},{"$f":"IF(ISBLANK(Worksheet!V268)=FALSE,Worksheet!V268,\"\")","v":0},{"$f":"Worksheet!AG268","v":0},{"$f":"Worksheet!AF268","v":0},0,{"$f":"IF(ISERROR(SEARCH(\"Gas\",Worksheet!$A$18))=TRUE,0,Worksheet!AH268)","v":0},0,null,null,{"$f":"IF(OR(Worksheet!F268=\"Incandescent\",Worksheet!F268=\"Halogen Incandescent\")=TRUE,118,IF(LEFT(Worksheet!F268,3)=\"HID\",117,IF(OR(RIGHT(Worksheet!F268,3)=\"T12\",RIGHT(Worksheet!F268,5)=\"T12HO\")=TRUE,115,IF(OR(RIGHT(Worksheet!F268,2)=\"T8\",RIGHT(Worksheet!F268,4)=\"RWT8\",RIGHT(Worksheet!F268,4)=\"T8HO\")=TRUE,115,\"\"))))","v":""},{"$f":"IF(ISBLANK(Worksheet!W268)=FALSE,Worksheet!W268,\"\")","v":0},{"$f":"IF(ISERROR(SEARCH(\"Oil\",Worksheet!$A$18))=TRUE,0,Worksheet!AH268)","v":0},0,{"$f":"IF(ISERROR(SEARCH(\"Propane\",Worksheet!$A$18))=TRUE,0,Worksheet!AH268)","v":0},0,{"$f":"IF(Worksheet!J268=0,\"\",Worksheet!J268)","v":""},{"$f":"IF(Worksheet!B268=0,\"\",Worksheet!B268)","v":""},{"$f":"IF(Worksheet!K268=0,\"\",Worksheet!K268)","v":""},{"$f":"IF(Worksheet!L268=0,\"\",Worksheet!L268)","v":""},{"$f":"IF(Worksheet!R268=0,\"\",Worksheet!R268)","v":""},{"$f":"IF(Worksheet!F268=0,\"\",Worksheet!F268)","v":""},{"$f":"IF(Worksheet!G268=0,\"\",Worksheet!G268)","v":""},{"$f":"IF(Worksheet!X268=0,\"\",Worksheet!X268)","v":""},{"$f":"IF(Worksheet!Q268=0,\"\",Worksheet!Q268)","v":""},{"$f":"IF(Worksheet!C268=0,\"\",Worksheet!C268)","v":""},{"$f":"IF(Worksheet!D268=0,\"\",Worksheet!D268)","v":""},{"$f":"IF(Worksheet!$A$11=TRUE,\"Y\",\"N\")","v":"N"},{"$f":"IF(Worksheet!$A$12=TRUE,\"Y\",\"N\")","v":"N"},{"$f":"IF(Worksheet!$B$11=TRUE,\"Y\",\"N\")","v":"N"},{"$f":"IF(Worksheet!$B$12=TRUE,\"Y\",\"N\")","v":"N"},{"$f":"IF(Worksheet!$C$11=TRUE,\"Y\",\"N\")","v":"N"},{"$f":"IFERROR(Worksheet!AB268,\"\")","v":0}]
[{"$f":"IF(IFERROR(SEARCH(\"Refrigerated\",Worksheet!L269,1),0)>0,122,IF(ISERROR(RIGHT(VLOOKUP(Worksheet!K269,Type!C$1:E$13,3,FALSE),3))=FALSE,RIGHT(VLOOKUP(Worksheet!K269,Type!C$1:E$13,3,FALSE),3),\"\"))","v":""},{"$f":"IF(Worksheet!M269=\"\",\"\",Worksheet!M269)","v":""},{"$f":"IF(Worksheet!N269=\"\",\"\",Worksheet!N269)","v":""},{"$f":"IF(Worksheet!Y269=0,\"\",Worksheet!Y269)","v":""},"Watts",null,null,{"$f":"Worksheet!AA269","v":0},{"$f":"IF(ISBLANK(Worksheet!V269)=FALSE,Worksheet!V269,\"\")","v":0},{"$f":"Worksheet!AG269","v":0},{"$f":"Worksheet!AF269","v":0},0,{"$f":"IF(ISERROR(SEARCH(\"Gas\",Worksheet!$A$18))=TRUE,0,Worksheet!AH269)","v":0},0,null,null,{"$f":"IF(OR(Worksheet!F269=\"Incandescent\",Worksheet!F269=\"Halogen Incandescent\")=TRUE,118,IF(LEFT(Worksheet!F269,3)=\"HID\",117,IF(OR(RIGHT(Worksheet!F269,3)=\"T12\",RIGHT(Worksheet!F269,5)=\"T12HO\")=TRUE,115,IF(OR(RIGHT(Worksheet!F269,2)=\"T8\",RIGHT(Worksheet!F269,4)=\"RWT8\",RIGHT(Worksheet!F269,4)=\"T8HO\")=TRUE,115,\"\"))))","v":""},{"$f":"IF(ISBLANK(Worksheet!W269)=FALSE,Worksheet!W269,\"\")","v":0},{"$f":"IF(ISERROR(SEARCH(\"Oil\",Worksheet!$A$18))=TRUE,0,Worksheet!AH269)","v":0},0,{"$f":"IF(ISERROR(SEARCH(\"Propane\",Worksheet!$A$18))=TRUE,0,Worksheet!AH269)","v":0},0,{"$f":"IF(Worksheet!J269=0,\"\",Worksheet!J269)","v":""},{"$f":"IF(Worksheet!B269=0,\"\",Worksheet!B269)","v":""},{"$f":"IF(Worksheet!K269=0,\"\",Worksheet!K269)","v":""},{"$f":"IF(Worksheet!L269=0,\"\",Worksheet!L269)","v":""},{"$f":"IF(Worksheet!R269=0,\"\",Worksheet!R269)","v":""},{"$f":"IF(Worksheet!F269=0,\"\",Worksheet!F269)","v":""},{"$f":"IF(Worksheet!G269=0,\"\",Worksheet!G269)","v":""},{"$f":"IF(Worksheet!X269=0,\"\",Worksheet!X269)","v":""},{"$f":"IF(Worksheet!Q269=0,\"\",Worksheet!Q269)","v":""},{"$f":"IF(Worksheet!C269=0,\"\",Worksheet!C269)","v":""},{"$f":"IF(Worksheet!D269=0,\"\",Worksheet!D269)","v":""},{"$f":"IF(Worksheet!$A$11=TRUE,\"Y\",\"N\")","v":"N"},{"$f":"IF(Worksheet!$A$12=TRUE,\"Y\",\"N\")","v":"N"},{"$f":"IF(Worksheet!$B$11=TRUE,\"Y\",\"N\")","v":"N"},{"$f":"IF(Worksheet!$B$12=TRUE,\"Y\",\"N\")","v":"N"},{"$f":"IF(Worksheet!$C$11=TRUE,\"Y\",\"N\")","v":"N"},{"$f":"IFERROR(Worksheet!AB269,\"\")","v":0}]
[{"$f":"IF(IFERROR(SEARCH(\"Refrigerated\",Worksheet!L270,1),0)>0,122,IF(ISERROR(RIGHT(VLOOKUP(Worksheet!K270,Type!C$1:E$13,3,FALSE),3))=FALSE,RIGHT(VLOOKUP(Worksheet!K270,Type!C$1:E$13,3,FALSE),3),\"\"))","v":""},{"$f":"IF(Worksheet!M270=\"\",\"\",Worksheet!M270)","v":""},{"$f":"IF(Worksheet!N270=\"\",\"\",Worksheet!N270)","v":""},{"$f":"IF(Worksheet!Y270=0,\"\",Worksheet!Y270)","v":""},"Watts",null,null,{"$f":"Worksheet!AA270","v":0},{"$f":"IF(ISBLANK(Worksheet!V270)=FALSE,Worksheet!V270,\"\")","v":0},{"$f":"Worksheet!AG270","v":0},{"$f":"Worksheet!AF270","v":0},0,{"$f":"IF(ISERROR(SEARCH(\"Gas\",Worksheet!$A$18))=TRUE,0,Worksheet!AH270)","v":0},0,null,null,{"$f":"IF(OR(Worksheet!F270=\"Incandescent\",Worksheet!F270=\"Halogen Incandescent\")=TRUE,118,IF(LEFT(Worksheet!F270,3)=\"HID\",117,IF(OR(RIGHT(Worksheet!F270,3)=\"T12\",RIGHT(Worksheet!F270,5)=\"T12HO\")=TRUE,115,IF(OR(RIGHT(Worksheet!F270,2)=\"T8\",RIGHT(Worksheet!F270,4)=\"RWT8\",RIGHT(Worksheet!F270,4)=\"T8HO\")=TRUE,115,\"\"))))","v":""},{"$f":"IF(ISBLANK(Worksheet!W270)=FALSE,Worksheet!W270,\"\")","v":0},{"$f":"IF(ISERROR(SEARCH(\"Oil\",Worksheet!$A$18))=TRUE,0,Worksheet!AH270)","v":0},0,{"$f":"IF(ISERROR(SEARCH(\"Propane\",Worksheet!$A$18))=TRUE,0,Worksheet!AH270)","v":0},0,{"$f":"IF(Worksheet!J270=0,\"\",Worksheet!J270)","v":""},{"$f":"IF(Worksheet!B270=0,\"\",Worksheet!B270)","v":""},{"$f":"IF(Worksheet!K270=0,\"\",Worksheet!K270)","v":""},{"$f":"IF(Worksheet!L270=0,\"\",Worksheet!L270)","v":""},{"$f":"IF(Worksheet!R270=0,\"\",Worksheet!R270)","v":""},{"$f":"IF(Worksheet!F270=0,\"\",Worksheet!F270)","v":""},{"$f":"IF(Worksheet!G270=0,\"\",Worksheet!G270)","v":""},{"$f":"IF(Worksheet!X270=0,\"\",Worksheet!X270)","v":""},{"$f":"IF(Worksheet!Q270=0,\"\",Worksheet!Q270)","v":""},{"$f":"IF(Worksheet!C270=0,\"\",Worksheet!C270)","v":""},{"$f":"IF(Worksheet!D270=0,\"\",Worksheet!D270)","v":""},{"$f":"IF(Worksheet!$A$11=TRUE,\"Y\",\"N\")","v":"N"},{"$f":"IF(Worksheet!$A$12=TRUE,\"Y\",\"N\")","v":"N"},{"$f":"IF(Worksheet!$B$11=TRUE,\"Y\",\"N\")","v":"N"},{"$f":"IF(Worksheet!$B$12=TRUE,\"Y\",\"N\")","v":"N"},{"$f":"IF(Worksheet!$C$11=TRUE,\"Y\",\"N\")","v":"N"},{"$f":"IFERROR(Worksheet!AB270,\"\")","v":0}]
[{"$f":"IF(IFERROR(SEARCH(\"Refrigerated\",Worksheet!L271,1),0)>0,122,IF(ISERROR(RIGHT(VLOOKUP(Worksheet!K271,Type!C$1:E$13,3,FALSE),3))=FALSE,RIGHT(VLOOKUP(Worksheet!K271,Type!C$1:E$13,3,FALSE),3),\"\"))","v":""},{"$f":"IF(Worksheet!M271=\"\",\"\",Worksheet!M271)","v":""},{"$f":"IF(Worksheet!N271=\"\",\"\",Worksheet!N271)","v":""},{"$f":"IF(Worksheet!Y271=0,\"\",Worksheet!Y271)","v":""},"Watts",null,null,{"$f":"Worksheet!AA271","v":0},{"$f":"IF(ISBLANK(Worksheet!V271)=FALSE,Worksheet!V271,\"\")","v":0},{"$f":"Worksheet!AG271","v":0},{"$f":"Worksheet!AF271","v":0},0,{"$f":"IF(ISERROR(SEARCH(\"Gas\",Worksheet!$A$18))=TRUE,0,Worksheet!AH271)","v":0},0,null,null,{"$f":"IF(OR(Worksheet!F271=\"Incandescent\",Worksheet!F271=\"Halogen Incandescent\")=TRUE,118,IF(LEFT(Worksheet!F271,3)=\"HID\",117,IF(OR(RIGHT(Worksheet!F271,3)=\"T12\",RIGHT(Worksheet!F271,5)=\"T12HO\")=TRUE,115,IF(OR(RIGHT(Worksheet!F271,2)=\"T8\",RIGHT(Worksheet!F271,4)=\"RWT8\",RIGHT(Worksheet!F271,4)=\"T8HO\")=TRUE,115,\"\"))))","v":""},{"$f":"IF(ISBLANK(Worksheet!W271)=FALSE,Worksheet!W271,\"\")","v":0},{"$f":"IF(ISERROR(SEARCH(\"Oil\",Worksheet!$A$18))=TRUE,0,Worksheet!AH271)","v":0},0,{"$f":"IF(ISERROR(SEARCH(\"Propane\",Worksheet!$A$18))=TRUE,0,Worksheet!AH271)","v":0},0,{"$f":"IF(Worksheet!J271=0,\"\",Worksheet!J271)","v":""},{"$f":"IF(Worksheet!B271=0,\"\",Worksheet!B271)","v":""},{"$f":"IF(Worksheet!K271=0,\"\",Worksheet!K271)","v":""},{"$f":"IF(Worksheet!L271=0,\"\",Worksheet!L271)","v":""},{"$f":"IF(Worksheet!R271=0,\"\",Worksheet!R271)","v":""},{"$f":"IF(Worksheet!F271=0,\"\",Worksheet!F271)","v":""},{"$f":"IF(Worksheet!G271=0,\"\",Worksheet!G271)","v":""},{"$f":"IF(Worksheet!X271=0,\"\",Worksheet!X271)","v":""},{"$f":"IF(Worksheet!Q271=0,\"\",Worksheet!Q271)","v":""},{"$f":"IF(Worksheet!C271=0,\"\",Worksheet!C271)","v":""},{"$f":"IF(Worksheet!D271=0,\"\",Worksheet!D271)","v":""},{"$f":"IF(Worksheet!$A$11=TRUE,\"Y\",\"N\")","v":"N"},{"$f":"IF(Worksheet!$A$12=TRUE,\"Y\",\"N\")","v":"N"},{"$f":"IF(Worksheet!$B$11=TRUE,\"Y\",\"N\")","v":"N"},{"$f":"IF(Worksheet!$B$12=TRUE,\"Y\",\"N\")","v":"N"},{"$f":"IF(Worksheet!$C$11=TRUE,\"Y\",\"N\")","v":"N"},{"$f":"IFERROR(Worksheet!AB271,\"\")","v":0}]
[{"$f":"IF(IFERROR(SEARCH(\"Refrigerated\",Worksheet!L272,1),0)>0,122,IF(ISERROR(RIGHT(VLOOKUP(Worksheet!K272,Type!C$1:E$13,3,FALSE),3))=FALSE,RIGHT(VLOOKUP(Worksheet!K272,Type!C$1:E$13,3,FALSE),3),\"\"))","v":""},{"$f":"IF(Worksheet!M272=\"\",\"\",Worksheet!M272)","v":""},{"$f":"IF(Worksheet!N272=\"\",\"\",Worksheet!N272)","v":""},{"$f":"IF(Worksheet!Y272=0,\"\",Worksheet!Y272)","v":""},"Watts",null,null,{"$f":"Worksheet!AA272","v":0},{"$f":"IF(ISBLANK(Worksheet!V272)=FALSE,Worksheet!V272,\"\")","v":0},{"$f":"Worksheet!AG272","v":0},{"$f":"Worksheet!AF272","v":0},0,{"$f":"IF(ISERROR(SEARCH(\"Gas\",Worksheet!$A$18))=TRUE,0,Worksheet!AH272)","v":0},0,null,null,{"$f":"IF(OR(Worksheet!F272=\"Incandescent\",Worksheet!F272=\"Halogen Incandescent\")=TRUE,118,IF(LEFT(Worksheet!F272,3)=\"HID\",117,IF(OR(RIGHT(Worksheet!F272,3)=\"T12\",RIGHT(Worksheet!F272,5)=\"T12HO\")=TRUE,115,IF(OR(RIGHT(Worksheet!F272,2)=\"T8\",RIGHT(Worksheet!F272,4)=\"RWT8\",RIGHT(Worksheet!F272,4)=\"T8HO\")=TRUE,115,\"\"))))","v":""},{"$f":"IF(ISBLANK(Worksheet!W272)=FALSE,Worksheet!W272,\"\")","v":0},{"$f":"IF(ISERROR(SEARCH(\"Oil\",Worksheet!$A$18))=TRUE,0,Worksheet!AH272)","v":0},0,{"$f":"IF(ISERROR(SEARCH(\"Propane\",Worksheet!$A$18))=TRUE,0,Worksheet!AH272)","v":0},0,{"$f":"IF(Worksheet!J272=0,\"\",Worksheet!J272)","v":""},{"$f":"IF(Worksheet!B272=0,\"\",Worksheet!B272)","v":""},{"$f":"IF(Worksheet!K272=0,\"\",Worksheet!K272)","v":""},{"$f":"IF(Worksheet!L272=0,\"\",Worksheet!L272)","v":""},{"$f":"IF(Worksheet!R272=0,\"\",Worksheet!R272)","v":""},{"$f":"IF(Worksheet!F272=0,\"\",Worksheet!F272)","v":""},{"$f":"IF(Worksheet!G272=0,\"\",Worksheet!G272)","v":""},{"$f":"IF(Worksheet!X272=0,\"\",Worksheet!X272)","v":""},{"$f":"IF(Worksheet!Q272=0,\"\",Worksheet!Q272)","v":""},{"$f":"IF(Worksheet!C272=0,\"\",Worksheet!C272)","v":""},{"$f":"IF(Worksheet!D272=0,\"\",Worksheet!D272)","v":""},{"$f":"IF(Worksheet!$A$11=TRUE,\"Y\",\"N\")","v":"N"},{"$f":"IF(Worksheet!$A$12=TRUE,\"Y\",\"N\")","v":"N"},{"$f":"IF(Worksheet!$B$11=TRUE,\"Y\",\"N\")","v":"N"},{"$f":"IF(Worksheet!$B$12=TRUE,\"Y\",\"N\")","v":"N"},{"$f":"IF(Worksheet!$C$11=TRUE,\"Y\",\"N\")","v":"N"},{"$f":"IFERROR(Worksheet!AB272,\"\")","v":0}]
[{"$f":"IF(IFERROR(SEARCH(\"Refrigerated\",Worksheet!L273,1),0)>0,122,IF(ISERROR(RIGHT(VLOOKUP(Worksheet!K273,Type!C$1:E$13,3,FALSE),3))=FALSE,RIGHT(VLOOKUP(Worksheet!K273,Type!C$1:E$13,3,FALSE),3),\"\"))","v":""},{"$f":"IF(Worksheet!M273=\"\",\"\",Worksheet!M273)","v":""},{"$f":"IF(Worksheet!N273=\"\",\"\",Worksheet!N273)","v":""},{"$f":"IF(Worksheet!Y273=0,\"\",Worksheet!Y273)","v":""},"Watts",null,null,{"$f":"Worksheet!AA273","v":0},{"$f":"IF(ISBLANK(Worksheet!V273)=FALSE,Worksheet!V273,\"\")","v":0},{"$f":"Worksheet!AG273","v":0},{"$f":"Worksheet!AF273","v":0},0,{"$f":"IF(ISERROR(SEARCH(\"Gas\",Worksheet!$A$18))=TRUE,0,Worksheet!AH273)","v":0},0,null,null,{"$f":"IF(OR(Worksheet!F273=\"Incandescent\",Worksheet!F273=\"Halogen Incandescent\")=TRUE,118,IF(LEFT(Worksheet!F273,3)=\"HID\",117,IF(OR(RIGHT(Worksheet!F273,3)=\"T12\",RIGHT(Worksheet!F273,5)=\"T12HO\")=TRUE,115,IF(OR(RIGHT(Worksheet!F273,2)=\"T8\",RIGHT(Worksheet!F273,4)=\"RWT8\",RIGHT(Worksheet!F273,4)=\"T8HO\")=TRUE,115,\"\"))))","v":""},{"$f":"IF(ISBLANK(Worksheet!W273)=FALSE,Worksheet!W273,\"\")","v":0},{"$f":"IF(ISERROR(SEARCH(\"Oil\",Worksheet!$A$18))=TRUE,0,Worksheet!AH273)","v":0},0,{"$f":"IF(ISERROR(SEARCH(\"Propane\",Worksheet!$A$18))=TRUE,0,Worksheet!AH273)","v":0},0,{"$f":"IF(Worksheet!J273=0,\"\",Worksheet!J273)","v":""},{"$f":"IF(Worksheet!B273=0,\"\",Worksheet!B273)","v":""},{"$f":"IF(Worksheet!K273=0,\"\",Worksheet!K273)","v":""},{"$f":"IF(Worksheet!L273=0,\"\",Worksheet!L273)","v":""},{"$f":"IF(Worksheet!R273=0,\"\",Worksheet!R273)","v":""},{"$f":"IF(Worksheet!F273=0,\"\",Worksheet!F273)","v":""},{"$f":"IF(Worksheet!G273=0,\"\",Worksheet!G273)","v":""},{"$f":"IF(Worksheet!X273=0,\"\",Worksheet!X273)","v":""},{"$f":"IF(Worksheet!Q273=0,\"\",Worksheet!Q273)","v":""},{"$f":"IF(Worksheet!C273=0,\"\",Worksheet!C273)","v":""},{"$f":"IF(Worksheet!D273=0,\"\",Worksheet!D273)","v":""},{"$f":"IF(Worksheet!$A$11=TRUE,\"Y\",\"N\")","v":"N"},{"$f":"IF(Worksheet!$A$12=TRUE,\"Y\",\"N\")","v":"N"},{"$f":"IF(Worksheet!$B$11=TRUE,\"Y\",\"N\")","v":"N"},{"$f":"IF(Worksheet!$B$12=TRUE,\"Y\",\"N\")","v":"N"},{"$f":"IF(Worksheet!$C$11=TRUE,\"Y\",\"N\")","v":"N"},{"$f":"IFERROR(Worksheet!AB273,\"\")","v":0}]
[{"$f":"IF(IFERROR(SEARCH(\"Refrigerated\",Worksheet!L274,1),0)>0,122,IF(ISERROR(RIGHT(VLOOKUP(Worksheet!K274,Type!C$1:E$13,3,FALSE),3))=FALSE,RIGHT(VLOOKUP(Worksheet!K274,Type!C$1:E$13,3,FALSE),3),\"\"))","v":""},{"$f":"IF(Worksheet!M274=\"\",\"\",Worksheet!M274)","v":""},{"$f":"IF(Worksheet!N274=\"\",\"\",Worksheet!N274)","v":""},{"$f":"IF(Worksheet!Y274=0,\"\",Worksheet!Y274)","v":""},"Watts",null,null,{"$f":"Worksheet!AA274","v":0},{"$f":"IF(ISBLANK(Worksheet!V274)=FALSE,Worksheet!V274,\"\")","v":0},{"$f":"Worksheet!AG274","v":0},{"$f":"Worksheet!AF274","v":0},0,{"$f":"IF(ISERROR(SEARCH(\"Gas\",Worksheet!$A$18))=TRUE,0,Worksheet!AH274)","v":0},0,null,null,{"$f":"IF(OR(Worksheet!F274=\"Incandescent\",Worksheet!F274=\"Halogen Incandescent\")=TRUE,118,IF(LEFT(Worksheet!F274,3)=\"HID\",117,IF(OR(RIGHT(Worksheet!F274,3)=\"T12\",RIGHT(Worksheet!F274,5)=\"T12HO\")=TRUE,115,IF(OR(RIGHT(Worksheet!F274,2)=\"T8\",RIGHT(Worksheet!F274,4)=\"RWT8\",RIGHT(Worksheet!F274,4)=\"T8HO\")=TRUE,115,\"\"))))","v":""},{"$f":"IF(ISBLANK(Worksheet!W274)=FALSE,Worksheet!W274,\"\")","v":0},{"$f":"IF(ISERROR(SEARCH(\"Oil\",Worksheet!$A$18))=TRUE,0,Worksheet!AH274)","v":0},0,{"$f":"IF(ISERROR(SEARCH(\"Propane\",Worksheet!$A$18))=TRUE,0,Worksheet!AH274)","v":0},0,{"$f":"IF(Worksheet!J274=0,\"\",Worksheet!J274)","v":""},{"$f":"IF(Worksheet!B274=0,\"\",Worksheet!B274)","v":""},{"$f":"IF(Worksheet!K274=0,\"\",Worksheet!K274)","v":""},{"$f":"IF(Worksheet!L274=0,\"\",Worksheet!L274)","v":""},{"$f":"IF(Worksheet!R274=0,\"\",Worksheet!R274)","v":""},{"$f":"IF(Worksheet!F274=0,\"\",Worksheet!F274)","v":""},{"$f":"IF(Worksheet!G274=0,\"\",Worksheet!G274)","v":""},{"$f":"IF(Worksheet!X274=0,\"\",Worksheet!X274)","v":""},{"$f":"IF(Worksheet!Q274=0,\"\",Worksheet!Q274)","v":""},{"$f":"IF(Worksheet!C274=0,\"\",Worksheet!C274)","v":""},{"$f":"IF(Worksheet!D274=0,\"\",Worksheet!D274)","v":""},{"$f":"IF(Worksheet!$A$11=TRUE,\"Y\",\"N\")","v":"N"},{"$f":"IF(Worksheet!$A$12=TRUE,\"Y\",\"N\")","v":"N"},{"$f":"IF(Worksheet!$B$11=TRUE,\"Y\",\"N\")","v":"N"},{"$f":"IF(Worksheet!$B$12=TRUE,\"Y\",\"N\")","v":"N"},{"$f":"IF(Worksheet!$C$11=TRUE,\"Y\",\"N\")","v":"N"},{"$f":"IFERROR(Worksheet!AB274,\"\")","v":0}]
[{"$f":"IF(IFERROR(SEARCH(\"Refrigerated\",Worksheet!L275,1),0)>0,122,IF(ISERROR(RIGHT(VLOOKUP(Worksheet!K275,Type!C$1:E$13,3,FALSE),3))=FALSE,RIGHT(VLOOKUP(Worksheet!K275,Type!C$1:E$13,3,FALSE),3),\"\"))","v":""},{"$f":"IF(Worksheet!M275=\"\",\"\",Worksheet!M275)","v":""},{"$f":"IF(Worksheet!N275=\"\",\"\",Worksheet!N275)","v":""},{"$f":"IF(Worksheet!Y275=0,\"\",Worksheet!Y275)","v":""},"Watts",null,null,{"$f":"Worksheet!AA275","v":0},{"$f":"IF(ISBLANK(Worksheet!V275)=FALSE,Worksheet!V275,\"\")","v":0},{"$f":"Worksheet!AG275","v":0},{"$f":"Worksheet!AF275","v":0},0,{"$f":"IF(ISERROR(SEARCH(\"Gas\",Worksheet!$A$18))=TRUE,0,Worksheet!AH275)","v":0},0,null,null,{"$f":"IF(OR(Worksheet!F275=\"Incandescent\",Worksheet!F275=\"Halogen Incandescent\")=TRUE,118,IF(LEFT(Worksheet!F275,3)=\"HID\",117,IF(OR(RIGHT(Worksheet!F275,3)=\"T12\",RIGHT(Worksheet!F275,5)=\"T12HO\")=TRUE,115,IF(OR(RIGHT(Worksheet!F275,2)=\"T8\",RIGHT(Worksheet!F275,4)=\"RWT8\",RIGHT(Worksheet!F275,4)=\"T8HO\")=TRUE,115,\"\"))))","v":""},{"$f":"IF(ISBLANK(Worksheet!W275)=FALSE,Worksheet!W275,\"\")","v":0},{"$f":"IF(ISERROR(SEARCH(\"Oil\",Worksheet!$A$18))=TRUE,0,Worksheet!AH275)","v":0},0,{"$f":"IF(ISERROR(SEARCH(\"Propane\",Worksheet!$A$18))=TRUE,0,Worksheet!AH275)","v":0},0,{"$f":"IF(Worksheet!J275=0,\"\",Worksheet!J275)","v":""},{"$f":"IF(Worksheet!B275=0,\"\",Worksheet!B275)","v":""},{"$f":"IF(Worksheet!K275=0,\"\",Worksheet!K275)","v":""},{"$f":"IF(Worksheet!L275=0,\"\",Worksheet!L275)","v":""},{"$f":"IF(Worksheet!R275=0,\"\",Worksheet!R275)","v":""},{"$f":"IF(Worksheet!F275=0,\"\",Worksheet!F275)","v":""},{"$f":"IF(Worksheet!G275=0,\"\",Worksheet!G275)","v":""},{"$f":"IF(Worksheet!X275=0,\"\",Worksheet!X275)","v":""},{"$f":"IF(Worksheet!Q275=0,\"\",Worksheet!Q275)","v":""},{"$f":"IF(Worksheet!C275=0,\"\",Worksheet!C275)","v":""},{"$f":"IF(Worksheet!D275=0,\"\",Worksheet!D275)","v":""},{"$f":"IF(Worksheet!$A$11=TRUE,\"Y\",\"N\")","v":"N"},{"$f":"IF(Worksheet!$A$12=TRUE,\"Y\",\"N\")","v":"N"},{"$f":"IF(Worksheet!$B$11=TRUE,\"Y\",\"N\")","v":"N"},{"$f":"IF(Worksheet!$B$12=TRUE,\"Y\",\"N\")","v":"N"},{"$f":"IF(Worksheet!$C$11=TRUE,\"Y\",\"N\")","v":"N"},{"$f":"IFERROR(Worksheet!AB275,\"\")","v":0}]
[{"$f":"IF(IFERROR(SEARCH(\"Refrigerated\",Worksheet!L276,1),0)>0,122,IF(ISERROR(RIGHT(VLOOKUP(Worksheet!K276,Type!C$1:E$13,3,FALSE),3))=FALSE,RIGHT(VLOOKUP(Worksheet!K276,Type!C$1:E$13,3,FALSE),3),\"\"))","v":""},{"$f":"IF(Worksheet!M276=\"\",\"\",Worksheet!M276)","v":""},{"$f":"IF(Worksheet!N276=\"\",\"\",Worksheet!N276)","v":""},{"$f":"IF(Worksheet!Y276=0,\"\",Worksheet!Y276)","v":""},"Watts",null,null,{"$f":"Worksheet!AA276","v":0},{"$f":"IF(ISBLANK(Worksheet!V276)=FALSE,Worksheet!V276,\"\")","v":0},{"$f":"Worksheet!AG276","v":0},{"$f":"Worksheet!AF276","v":0},0,{"$f":"IF(ISERROR(SEARCH(\"Gas\",Worksheet!$A$18))=TRUE,0,Worksheet!AH276)","v":0},0,null,null,{"$f":"IF(OR(Worksheet!F276=\"Incandescent\",Worksheet!F276=\"Halogen Incandescent\")=TRUE,118,IF(LEFT(Worksheet!F276,3)=\"HID\",117,IF(OR(RIGHT(Worksheet!F276,3)=\"T12\",RIGHT(Worksheet!F276,5)=\"T12HO\")=TRUE,115,IF(OR(RIGHT(Worksheet!F276,2)=\"T8\",RIGHT(Worksheet!F276,4)=\"RWT8\",RIGHT(Worksheet!F276,4)=\"T8HO\")=TRUE,115,\"\"))))","v":""},{"$f":"IF(ISBLANK(Worksheet!W276)=FALSE,Worksheet!W276,\"\")","v":0},{"$f":"IF(ISERROR(SEARCH(\"Oil\",Worksheet!$A$18))=TRUE,0,Worksheet!AH276)","v":0},0,{"$f":"IF(ISERROR(SEARCH(\"Propane\",Worksheet!$A$18))=TRUE,0,Worksheet!AH276)","v":0},0,{"$f":"IF(Worksheet!J276=0,\"\",Worksheet!J276)","v":""},{"$f":"IF(Worksheet!B276=0,\"\",Worksheet!B276)","v":""},{"$f":"IF(Worksheet!K276=0,\"\",Worksheet!K276)","v":""},{"$f":"IF(Worksheet!L276=0,\"\",Worksheet!L276)","v":""},{"$f":"IF(Worksheet!R276=0,\"\",Worksheet!R276)","v":""},{"$f":"IF(Worksheet!F276=0,\"\",Worksheet!F276)","v":""},{"$f":"IF(Worksheet!G276=0,\"\",Worksheet!G276)","v":""},{"$f":"IF(Worksheet!X276=0,\"\",Worksheet!X276)","v":""},{"$f":"IF(Worksheet!Q276=0,\"\",Worksheet!Q276)","v":""},{"$f":"IF(Worksheet!C276=0,\"\",Worksheet!C276)","v":""},{"$f":"IF(Worksheet!D276=0,\"\",Worksheet!D276)","v":""},{"$f":"IF(Worksheet!$A$11=TRUE,\"Y\",\"N\")","v":"N"},{"$f":"IF(Worksheet!$A$12=TRUE,\"Y\",\"N\")","v":"N"},{"$f":"IF(Worksheet!$B$11=TRUE,\"Y\",\"N\")","v":"N"},{"$f":"IF(Worksheet!$B$12=TRUE,\"Y\",\"N\")","v":"N"},{"$f":"IF(Worksheet!$C$11=TRUE,\"Y\",\"N\")","v":"N"},{"$f":"IFERROR(Worksheet!AB276,\"\")","v":0}]
[{"$f":"IF(IFERROR(SEARCH(\"Refrigerated\",Worksheet!L277,1),0)>0,122,IF(ISERROR(RIGHT(VLOOKUP(Worksheet!K277,Type!C$1:E$13,3,FALSE),3))=FALSE,RIGHT(VLOOKUP(Worksheet!K277,Type!C$1:E$13,3,FALSE),3),\"\"))","v":""},{"$f":"IF(Worksheet!M277=\"\",\"\",Worksheet!M277)","v":""},{"$f":"IF(Worksheet!N277=\"\",\"\",Worksheet!N277)","v":""},{"$f":"IF(Worksheet!Y277=0,\"\",Worksheet!Y277)","v":""},"Watts",null,null,{"$f":"Worksheet!AA277","v":0},{"$f":"IF(ISBLANK(Worksheet!V277)=FALSE,Worksheet!V277,\"\")","v":0},{"$f":"Worksheet!AG277","v":0},{"$f":"Worksheet!AF277","v":0},0,{"$f":"IF(ISERROR(SEARCH(\"Gas\",Worksheet!$A$18))=TRUE,0,Worksheet!AH277)","v":0},0,null,null,{"$f":"IF(OR(Worksheet!F277=\"Incandescent\",Worksheet!F277=\"Halogen Incandescent\")=TRUE,118,IF(LEFT(Worksheet!F277,3)=\"HID\",117,IF(OR(RIGHT(Worksheet!F277,3)=\"T12\",RIGHT(Worksheet!F277,5)=\"T12HO\")=TRUE,115,IF(OR(RIGHT(Worksheet!F277,2)=\"T8\",RIGHT(Worksheet!F277,4)=\"RWT8\",RIGHT(Worksheet!F277,4)=\"T8HO\")=TRUE,115,\"\"))))","v":""},{"$f":"IF(ISBLANK(Worksheet!W277)=FALSE,Worksheet!W277,\"\")","v":0},{"$f":"IF(ISERROR(SEARCH(\"Oil\",Worksheet!$A$18))=TRUE,0,Worksheet!AH277)","v":0},0,{"$f":"IF(ISERROR(SEARCH(\"Propane\",Worksheet!$A$18))=TRUE,0,Worksheet!AH277)","v":0},0,{"$f":"IF(Worksheet!J277=0,\"\",Worksheet!J277)","v":""},{"$f":"IF(Worksheet!B277=0,\"\",Worksheet!B277)","v":""},{"$f":"IF(Worksheet!K277=0,\"\",Worksheet!K277)","v":""},{"$f":"IF(Worksheet!L277=0,\"\",Worksheet!L277)","v":""},{"$f":"IF(Worksheet!R277=0,\"\",Worksheet!R277)","v":""},{"$f":"IF(Worksheet!F277=0,\"\",Worksheet!F277)","v":""},{"$f":"IF(Worksheet!G277=0,\"\",Worksheet!G277)","v":""},{"$f":"IF(Worksheet!X277=0,\"\",Worksheet!X277)","v":""},{"$f":"IF(Worksheet!Q277=0,\"\",Worksheet!Q277)","v":""},{"$f":"IF(Worksheet!C277=0,\"\",Worksheet!C277)","v":""},{"$f":"IF(Worksheet!D277=0,\"\",Worksheet!D277)","v":""},{"$f":"IF(Worksheet!$A$11=TRUE,\"Y\",\"N\")","v":"N"},{"$f":"IF(Worksheet!$A$12=TRUE,\"Y\",\"N\")","v":"N"},{"$f":"IF(Worksheet!$B$11=TRUE,\"Y\",\"N\")","v":"N"},{"$f":"IF(Worksheet!$B$12=TRUE,\"Y\",\"N\")","v":"N"},{"$f":"IF(Worksheet!$C$11=TRUE,\"Y\",\"N\")","v":"N"},{"$f":"IFERROR(Worksheet!AB277,\"\")","v":0}]
[{"$f":"IF(IFERROR(SEARCH(\"Refrigerated\",Worksheet!L278,1),0)>0,122,IF(ISERROR(RIGHT(VLOOKUP(Worksheet!K278,Type!C$1:E$13,3,FALSE),3))=FALSE,RIGHT(VLOOKUP(Worksheet!K278,Type!C$1:E$13,3,FALSE),3),\"\"))","v":""},{"$f":"IF(Worksheet!M278=\"\",\"\",Worksheet!M278)","v":""},{"$f":"IF(Worksheet!N278=\"\",\"\",Worksheet!N278)","v":""},{"$f":"IF(Worksheet!Y278=0,\"\",Worksheet!Y278)","v":""},"Watts",null,null,{"$f":"Worksheet!AA278","v":0},{"$f":"IF(ISBLANK(Worksheet!V278)=FALSE,Worksheet!V278,\"\")","v":0},{"$f":"Worksheet!AG278","v":0},{"$f":"Worksheet!AF278","v":0},0,{"$f":"IF(ISERROR(SEARCH(\"Gas\",Worksheet!$A$18))=TRUE,0,Worksheet!AH278)","v":0},0,null,null,{"$f":"IF(OR(Worksheet!F278=\"Incandescent\",Worksheet!F278=\"Halogen Incandescent\")=TRUE,118,IF(LEFT(Worksheet!F278,3)=\"HID\",117,IF(OR(RIGHT(Worksheet!F278,3)=\"T12\",RIGHT(Worksheet!F278,5)=\"T12HO\")=TRUE,115,IF(OR(RIGHT(Worksheet!F278,2)=\"T8\",RIGHT(Worksheet!F278,4)=\"RWT8\",RIGHT(Worksheet!F278,4)=\"T8HO\")=TRUE,115,\"\"))))","v":""},{"$f":"IF(ISBLANK(Worksheet!W278)=FALSE,Worksheet!W278,\"\")","v":0},{"$f":"IF(ISERROR(SEARCH(\"Oil\",Worksheet!$A$18))=TRUE,0,Worksheet!AH278)","v":0},0,{"$f":"IF(ISERROR(SEARCH(\"Propane\",Worksheet!$A$18))=TRUE,0,Worksheet!AH278)","v":0},0,{"$f":"IF(Worksheet!J278=0,\"\",Worksheet!J278)","v":""},{"$f":"IF(Worksheet!B278=0,\"\",Worksheet!B278)","v":""},{"$f":"IF(Worksheet!K278=0,\"\",Worksheet!K278)","v":""},{"$f":"IF(Worksheet!L278=0,\"\",Worksheet!L278)","v":""},{"$f":"IF(Worksheet!R278=0,\"\",Worksheet!R278)","v":""},{"$f":"IF(Worksheet!F278=0,\"\",Worksheet!F278)","v":""},{"$f":"IF(Worksheet!G278=0,\"\",Worksheet!G278)","v":""},{"$f":"IF(Worksheet!X278=0,\"\",Worksheet!X278)","v":""},{"$f":"IF(Worksheet!Q278=0,\"\",Worksheet!Q278)","v":""},{"$f":"IF(Worksheet!C278=0,\"\",Worksheet!C278)","v":""},{"$f":"IF(Worksheet!D278=0,\"\",Worksheet!D278)","v":""},{"$f":"IF(Worksheet!$A$11=TRUE,\"Y\",\"N\")","v":"N"},{"$f":"IF(Worksheet!$A$12=TRUE,\"Y\",\"N\")","v":"N"},{"$f":"IF(Worksheet!$B$11=TRUE,\"Y\",\"N\")","v":"N"},{"$f":"IF(Worksheet!$B$12=TRUE,\"Y\",\"N\")","v":"N"},{"$f":"IF(Worksheet!$C$11=TRUE,\"Y\",\"N\")","v":"N"},{"$f":"IFERROR(Worksheet!AB278,\"\")","v":0}]
[{"$f":"IF(IFERROR(SEARCH(\"Refrigerated\",Worksheet!L279,1),0)>0,122,IF(ISERROR(RIGHT(VLOOKUP(Worksheet!K279,Type!C$1:E$13,3,FALSE),3))=FALSE,RIGHT(VLOOKUP(Worksheet!K279,Type!C$1:E$13,3,FALSE),3),\"\"))","v":""},{"$f":"IF(Worksheet!M279=\"\",\"\",Worksheet!M279)","v":""},{"$f":"IF(Worksheet!N279=\"\",\"\",Worksheet!N279)","v":""},{"$f":"IF(Worksheet!Y279=0,\"\",Worksheet!Y279)","v":""},"Watts",null,null,{"$f":"Worksheet!AA279","v":0},{"$f":"IF(ISBLANK(Worksheet!V279)=FALSE,Worksheet!V279,\"\")","v":0},{"$f":"Worksheet!AG279","v":0},{"$f":"Worksheet!AF279","v":0},0,{"$f":"IF(ISERROR(SEARCH(\"Gas\",Worksheet!$A$18))=TRUE,0,Worksheet!AH279)","v":0},0,null,null,{"$f":"IF(OR(Worksheet!F279=\"Incandescent\",Worksheet!F279=\"Halogen Incandescent\")=TRUE,118,IF(LEFT(Worksheet!F279,3)=\"HID\",117,IF(OR(RIGHT(Worksheet!F279,3)=\"T12\",RIGHT(Worksheet!F279,5)=\"T12HO\")=TRUE,115,IF(OR(RIGHT(Worksheet!F279,2)=\"T8\",RIGHT(Worksheet!F279,4)=\"RWT8\",RIGHT(Worksheet!F279,4)=\"T8HO\")=TRUE,115,\"\"))))","v":""},{"$f":"IF(ISBLANK(Worksheet!W279)=FALSE,Worksheet!W279,\"\")","v":0},{"$f":"IF(ISERROR(SEARCH(\"Oil\",Worksheet!$A$18))=TRUE,0,Worksheet!AH279)","v":0},0,{"$f":"IF(ISERROR(SEARCH(\"Propane\",Worksheet!$A$18))=TRUE,0,Worksheet!AH279)","v":0},0,{"$f":"IF(Worksheet!J279=0,\"\",Worksheet!J279)","v":""},{"$f":"IF(Worksheet!B279=0,\"\",Worksheet!B279)","v":""},{"$f":"IF(Worksheet!K279=0,\"\",Worksheet!K279)","v":""},{"$f":"IF(Worksheet!L279=0,\"\",Worksheet!L279)","v":""},{"$f":"IF(Worksheet!R279=0,\"\",Worksheet!R279)","v":""},{"$f":"IF(Worksheet!F279=0,\"\",Worksheet!F279)","v":""},{"$f":"IF(Worksheet!G279=0,\"\",Worksheet!G279)","v":""},{"$f":"IF(Worksheet!X279=0,\"\",Worksheet!X279)","v":""},{"$f":"IF(Worksheet!Q279=0,\"\",Worksheet!Q279)","v":""},{"$f":"IF(Worksheet!C279=0,\"\",Worksheet!C279)","v":""},{"$f":"IF(Worksheet!D279=0,\"\",Worksheet!D279)","v":""},{"$f":"IF(Worksheet!$A$11=TRUE,\"Y\",\"N\")","v":"N"},{"$f":"IF(Worksheet!$A$12=TRUE,\"Y\",\"N\")","v":"N"},{"$f":"IF(Worksheet!$B$11=TRUE,\"Y\",\"N\")","v":"N"},{"$f":"IF(Worksheet!$B$12=TRUE,\"Y\",\"N\")","v":"N"},{"$f":"IF(Worksheet!$C$11=TRUE,\"Y\",\"N\")","v":"N"},{"$f":"IFERROR(Worksheet!AB279,\"\")","v":0}]
[{"$f":"IF(IFERROR(SEARCH(\"Refrigerated\",Worksheet!L280,1),0)>0,122,IF(ISERROR(RIGHT(VLOOKUP(Worksheet!K280,Type!C$1:E$13,3,FALSE),3))=FALSE,RIGHT(VLOOKUP(Worksheet!K280,Type!C$1:E$13,3,FALSE),3),\"\"))","v":""},{"$f":"IF(Worksheet!M280=\"\",\"\",Worksheet!M280)","v":""},{"$f":"IF(Worksheet!N280=\"\",\"\",Worksheet!N280)","v":""},{"$f":"IF(Worksheet!Y280=0,\"\",Worksheet!Y280)","v":""},"Watts",null,null,{"$f":"Worksheet!AA280","v":0},{"$f":"IF(ISBLANK(Worksheet!V280)=FALSE,Worksheet!V280,\"\")","v":0},{"$f":"Worksheet!AG280","v":0},{"$f":"Worksheet!AF280","v":0},0,{"$f":"IF(ISERROR(SEARCH(\"Gas\",Worksheet!$A$18))=TRUE,0,Worksheet!AH280)","v":0},0,null,null,{"$f":"IF(OR(Worksheet!F280=\"Incandescent\",Worksheet!F280=\"Halogen Incandescent\")=TRUE,118,IF(LEFT(Worksheet!F280,3)=\"HID\",117,IF(OR(RIGHT(Worksheet!F280,3)=\"T12\",RIGHT(Worksheet!F280,5)=\"T12HO\")=TRUE,115,IF(OR(RIGHT(Worksheet!F280,2)=\"T8\",RIGHT(Worksheet!F280,4)=\"RWT8\",RIGHT(Worksheet!F280,4)=\"T8HO\")=TRUE,115,\"\"))))","v":""},{"$f":"IF(ISBLANK(Worksheet!W280)=FALSE,Worksheet!W280,\"\")","v":0},{"$f":"IF(ISERROR(SEARCH(\"Oil\",Worksheet!$A$18))=TRUE,0,Worksheet!AH280)","v":0},0,{"$f":"IF(ISERROR(SEARCH(\"Propane\",Worksheet!$A$18))=TRUE,0,Worksheet!AH280)","v":0},0,{"$f":"IF(Worksheet!J280=0,\"\",Worksheet!J280)","v":""},{"$f":"IF(Worksheet!B280=0,\"\",Worksheet!B280)","v":""},{"$f":"IF(Worksheet!K280=0,\"\",Worksheet!K280)","v":""},{"$f":"IF(Worksheet!L280=0,\"\",Worksheet!L280)","v":""},{"$f":"IF(Worksheet!R280=0,\"\",Worksheet!R280)","v":""},{"$f":"IF(Worksheet!F280=0,\"\",Worksheet!F280)","v":""},{"$f":"IF(Worksheet!G280=0,\"\",Worksheet!G280)","v":""},{"$f":"IF(Worksheet!X280=0,\"\",Worksheet!X280)","v":""},{"$f":"IF(Worksheet!Q280=0,\"\",Worksheet!Q280)","v":""},{"$f":"IF(Worksheet!C280=0,\"\",Worksheet!C280)","v":""},{"$f":"IF(Worksheet!D280=0,\"\",Worksheet!D280)","v":""},{"$f":"IF(Worksheet!$A$11=TRUE,\"Y\",\"N\")","v":"N"},{"$f":"IF(Worksheet!$A$12=TRUE,\"Y\",\"N\")","v":"N"},{"$f":"IF(Worksheet!$B$11=TRUE,\"Y\",\"N\")","v":"N"},{"$f":"IF(Worksheet!$B$12=TRUE,\"Y\",\"N\")","v":"N"},{"$f":"IF(Worksheet!$C$11=TRUE,\"Y\",\"N\")","v":"N"},{"$f":"IFERROR(Worksheet!AB280,\"\")","v":0}]
[{"$f":"IF(IFERROR(SEARCH(\"Refrigerated\",Worksheet!L281,1),0)>0,122,IF(ISERROR(RIGHT(VLOOKUP(Worksheet!K281,Type!C$1:E$13,3,FALSE),3))=FALSE,RIGHT(VLOOKUP(Worksheet!K281,Type!C$1:E$13,3,FALSE),3),\"\"))","v":""},{"$f":"IF(Worksheet!M281=\"\",\"\",Worksheet!M281)","v":""},{"$f":"IF(Worksheet!N281=\"\",\"\",Worksheet!N281)","v":""},{"$f":"IF(Worksheet!Y281=0,\"\",Worksheet!Y281)","v":""},"Watts",null,null,{"$f":"Worksheet!AA281","v":0},{"$f":"IF(ISBLANK(Worksheet!V281)=FALSE,Worksheet!V281,\"\")","v":0},{"$f":"Worksheet!AG281","v":0},{"$f":"Worksheet!AF281","v":0},0,{"$f":"IF(ISERROR(SEARCH(\"Gas\",Worksheet!$A$18))=TRUE,0,Worksheet!AH281)","v":0},0,null,null,{"$f":"IF(OR(Worksheet!F281=\"Incandescent\",Worksheet!F281=\"Halogen Incandescent\")=TRUE,118,IF(LEFT(Worksheet!F281,3)=\"HID\",117,IF(OR(RIGHT(Worksheet!F281,3)=\"T12\",RIGHT(Worksheet!F281,5)=\"T12HO\")=TRUE,115,IF(OR(RIGHT(Worksheet!F281,2)=\"T8\",RIGHT(Worksheet!F281,4)=\"RWT8\",RIGHT(Worksheet!F281,4)=\"T8HO\")=TRUE,115,\"\"))))","v":""},{"$f":"IF(ISBLANK(Worksheet!W281)=FALSE,Worksheet!W281,\"\")","v":0},{"$f":"IF(ISERROR(SEARCH(\"Oil\",Worksheet!$A$18))=TRUE,0,Worksheet!AH281)","v":0},0,{"$f":"IF(ISERROR(SEARCH(\"Propane\",Worksheet!$A$18))=TRUE,0,Worksheet!AH281)","v":0},0,{"$f":"IF(Worksheet!J281=0,\"\",Worksheet!J281)","v":""},{"$f":"IF(Worksheet!B281=0,\"\",Worksheet!B281)","v":""},{"$f":"IF(Worksheet!K281=0,\"\",Worksheet!K281)","v":""},{"$f":"IF(Worksheet!L281=0,\"\",Worksheet!L281)","v":""},{"$f":"IF(Worksheet!R281=0,\"\",Worksheet!R281)","v":""},{"$f":"IF(Worksheet!F281=0,\"\",Worksheet!F281)","v":""},{"$f":"IF(Worksheet!G281=0,\"\",Worksheet!G281)","v":""},{"$f":"IF(Worksheet!X281=0,\"\",Worksheet!X281)","v":""},{"$f":"IF(Worksheet!Q281=0,\"\",Worksheet!Q281)","v":""},{"$f":"IF(Worksheet!C281=0,\"\",Worksheet!C281)","v":""},{"$f":"IF(Worksheet!D281=0,\"\",Worksheet!D281)","v":""},{"$f":"IF(Worksheet!$A$11=TRUE,\"Y\",\"N\")","v":"N"},{"$f":"IF(Worksheet!$A$12=TRUE,\"Y\",\"N\")","v":"N"},{"$f":"IF(Worksheet!$B$11=TRUE,\"Y\",\"N\")","v":"N"},{"$f":"IF(Worksheet!$B$12=TRUE,\"Y\",\"N\")","v":"N"},{"$f":"IF(Worksheet!$C$11=TRUE,\"Y\",\"N\")","v":"N"},{"$f":"IFERROR(Worksheet!AB281,\"\")","v":0}]
[{"$f":"IF(IFERROR(SEARCH(\"Refrigerated\",Worksheet!L282,1),0)>0,122,IF(ISERROR(RIGHT(VLOOKUP(Worksheet!K282,Type!C$1:E$13,3,FALSE),3))=FALSE,RIGHT(VLOOKUP(Worksheet!K282,Type!C$1:E$13,3,FALSE),3),\"\"))","v":""},{"$f":"IF(Worksheet!M282=\"\",\"\",Worksheet!M282)","v":""},{"$f":"IF(Worksheet!N282=\"\",\"\",Worksheet!N282)","v":""},{"$f":"IF(Worksheet!Y282=0,\"\",Worksheet!Y282)","v":""},"Watts",null,null,{"$f":"Worksheet!AA282","v":0},{"$f":"IF(ISBLANK(Worksheet!V282)=FALSE,Worksheet!V282,\"\")","v":0},{"$f":"Worksheet!AG282","v":0},{"$f":"Worksheet!AF282","v":0},0,{"$f":"IF(ISERROR(SEARCH(\"Gas\",Worksheet!$A$18))=TRUE,0,Worksheet!AH282)","v":0},0,null,null,{"$f":"IF(OR(Worksheet!F282=\"Incandescent\",Worksheet!F282=\"Halogen Incandescent\")=TRUE,118,IF(LEFT(Worksheet!F282,3)=\"HID\",117,IF(OR(RIGHT(Worksheet!F282,3)=\"T12\",RIGHT(Worksheet!F282,5)=\"T12HO\")=TRUE,115,IF(OR(RIGHT(Worksheet!F282,2)=\"T8\",RIGHT(Worksheet!F282,4)=\"RWT8\",RIGHT(Worksheet!F282,4)=\"T8HO\")=TRUE,115,\"\"))))","v":""},{"$f":"IF(ISBLANK(Worksheet!W282)=FALSE,Worksheet!W282,\"\")","v":0},{"$f":"IF(ISERROR(SEARCH(\"Oil\",Worksheet!$A$18))=TRUE,0,Worksheet!AH282)","v":0},0,{"$f":"IF(ISERROR(SEARCH(\"Propane\",Worksheet!$A$18))=TRUE,0,Worksheet!AH282)","v":0},0,{"$f":"IF(Worksheet!J282=0,\"\",Worksheet!J282)","v":""},{"$f":"IF(Worksheet!B282=0,\"\",Worksheet!B282)","v":""},{"$f":"IF(Worksheet!K282=0,\"\",Worksheet!K282)","v":""},{"$f":"IF(Worksheet!L282=0,\"\",Worksheet!L282)","v":""},{"$f":"IF(Worksheet!R282=0,\"\",Worksheet!R282)","v":""},{"$f":"IF(Worksheet!F282=0,\"\",Worksheet!F282)","v":""},{"$f":"IF(Worksheet!G282=0,\"\",Worksheet!G282)","v":""},{"$f":"IF(Worksheet!X282=0,\"\",Worksheet!X282)","v":""},{"$f":"IF(Worksheet!Q282=0,\"\",Worksheet!Q282)","v":""},{"$f":"IF(Worksheet!C282=0,\"\",Worksheet!C282)","v":""},{"$f":"IF(Worksheet!D282=0,\"\",Worksheet!D282)","v":""},{"$f":"IF(Worksheet!$A$11=TRUE,\"Y\",\"N\")","v":"N"},{"$f":"IF(Worksheet!$A$12=TRUE,\"Y\",\"N\")","v":"N"},{"$f":"IF(Worksheet!$B$11=TRUE,\"Y\",\"N\")","v":"N"},{"$f":"IF(Worksheet!$B$12=TRUE,\"Y\",\"N\")","v":"N"},{"$f":"IF(Worksheet!$C$11=TRUE,\"Y\",\"N\")","v":"N"},{"$f":"IFERROR(Worksheet!AB282,\"\")","v":0}]
[{"$f":"IF(IFERROR(SEARCH(\"Refrigerated\",Worksheet!L283,1),0)>0,122,IF(ISERROR(RIGHT(VLOOKUP(Worksheet!K283,Type!C$1:E$13,3,FALSE),3))=FALSE,RIGHT(VLOOKUP(Worksheet!K283,Type!C$1:E$13,3,FALSE),3),\"\"))","v":""},{"$f":"IF(Worksheet!M283=\"\",\"\",Worksheet!M283)","v":""},{"$f":"IF(Worksheet!N283=\"\",\"\",Worksheet!N283)","v":""},{"$f":"IF(Worksheet!Y283=0,\"\",Worksheet!Y283)","v":""},"Watts",null,null,{"$f":"Worksheet!AA283","v":0},{"$f":"IF(ISBLANK(Worksheet!V283)=FALSE,Worksheet!V283,\"\")","v":0},{"$f":"Worksheet!AG283","v":0},{"$f":"Worksheet!AF283","v":0},0,{"$f":"IF(ISERROR(SEARCH(\"Gas\",Worksheet!$A$18))=TRUE,0,Worksheet!AH283)","v":0},0,null,null,{"$f":"IF(OR(Worksheet!F283=\"Incandescent\",Worksheet!F283=\"Halogen Incandescent\")=TRUE,118,IF(LEFT(Worksheet!F283,3)=\"HID\",117,IF(OR(RIGHT(Worksheet!F283,3)=\"T12\",RIGHT(Worksheet!F283,5)=\"T12HO\")=TRUE,115,IF(OR(RIGHT(Worksheet!F283,2)=\"T8\",RIGHT(Worksheet!F283,4)=\"RWT8\",RIGHT(Worksheet!F283,4)=\"T8HO\")=TRUE,115,\"\"))))","v":""},{"$f":"IF(ISBLANK(Worksheet!W283)=FALSE,Worksheet!W283,\"\")","v":0},{"$f":"IF(ISERROR(SEARCH(\"Oil\",Worksheet!$A$18))=TRUE,0,Worksheet!AH283)","v":0},0,{"$f":"IF(ISERROR(SEARCH(\"Propane\",Worksheet!$A$18))=TRUE,0,Worksheet!AH283)","v":0},0,{"$f":"IF(Worksheet!J283=0,\"\",Worksheet!J283)","v":""},{"$f":"IF(Worksheet!B283=0,\"\",Worksheet!B283)","v":""},{"$f":"IF(Worksheet!K283=0,\"\",Worksheet!K283)","v":""},{"$f":"IF(Worksheet!L283=0,\"\",Worksheet!L283)","v":""},{"$f":"IF(Worksheet!R283=0,\"\",Worksheet!R283)","v":""},{"$f":"IF(Worksheet!F283=0,\"\",Worksheet!F283)","v":""},{"$f":"IF(Worksheet!G283=0,\"\",Worksheet!G283)","v":""},{"$f":"IF(Worksheet!X283=0,\"\",Worksheet!X283)","v":""},{"$f":"IF(Worksheet!Q283=0,\"\",Worksheet!Q283)","v":""},{"$f":"IF(Worksheet!C283=0,\"\",Worksheet!C283)","v":""},{"$f":"IF(Worksheet!D283=0,\"\",Worksheet!D283)","v":""},{"$f":"IF(Worksheet!$A$11=TRUE,\"Y\",\"N\")","v":"N"},{"$f":"IF(Worksheet!$A$12=TRUE,\"Y\",\"N\")","v":"N"},{"$f":"IF(Worksheet!$B$11=TRUE,\"Y\",\"N\")","v":"N"},{"$f":"IF(Worksheet!$B$12=TRUE,\"Y\",\"N\")","v":"N"},{"$f":"IF(Worksheet!$C$11=TRUE,\"Y\",\"N\")","v":"N"},{"$f":"IFERROR(Worksheet!AB283,\"\")","v":0}]
[{"$f":"IF(IFERROR(SEARCH(\"Refrigerated\",Worksheet!L284,1),0)>0,122,IF(ISERROR(RIGHT(VLOOKUP(Worksheet!K284,Type!C$1:E$13,3,FALSE),3))=FALSE,RIGHT(VLOOKUP(Worksheet!K284,Type!C$1:E$13,3,FALSE),3),\"\"))","v":""},{"$f":"IF(Worksheet!M284=\"\",\"\",Worksheet!M284)","v":""},{"$f":"IF(Worksheet!N284=\"\",\"\",Worksheet!N284)","v":""},{"$f":"IF(Worksheet!Y284=0,\"\",Worksheet!Y284)","v":""},"Watts",null,null,{"$f":"Worksheet!AA284","v":0},{"$f":"IF(ISBLANK(Worksheet!V284)=FALSE,Worksheet!V284,\"\")","v":0},{"$f":"Worksheet!AG284","v":0},{"$f":"Worksheet!AF284","v":0},0,{"$f":"IF(ISERROR(SEARCH(\"Gas\",Worksheet!$A$18))=TRUE,0,Worksheet!AH284)","v":0},0,null,null,{"$f":"IF(OR(Worksheet!F284=\"Incandescent\",Worksheet!F284=\"Halogen Incandescent\")=TRUE,118,IF(LEFT(Worksheet!F284,3)=\"HID\",117,IF(OR(RIGHT(Worksheet!F284,3)=\"T12\",RIGHT(Worksheet!F284,5)=\"T12HO\")=TRUE,115,IF(OR(RIGHT(Worksheet!F284,2)=\"T8\",RIGHT(Worksheet!F284,4)=\"RWT8\",RIGHT(Worksheet!F284,4)=\"T8HO\")=TRUE,115,\"\"))))","v":""},{"$f":"IF(ISBLANK(Worksheet!W284)=FALSE,Worksheet!W284,\"\")","v":0},{"$f":"IF(ISERROR(SEARCH(\"Oil\",Worksheet!$A$18))=TRUE,0,Worksheet!AH284)","v":0},0,{"$f":"IF(ISERROR(SEARCH(\"Propane\",Worksheet!$A$18))=TRUE,0,Worksheet!AH284)","v":0},0,{"$f":"IF(Worksheet!J284=0,\"\",Worksheet!J284)","v":""},{"$f":"IF(Worksheet!B284=0,\"\",Worksheet!B284)","v":""},{"$f":"IF(Worksheet!K284=0,\"\",Worksheet!K284)","v":""},{"$f":"IF(Worksheet!L284=0,\"\",Worksheet!L284)","v":""},{"$f":"IF(Worksheet!R284=0,\"\",Worksheet!R284)","v":""},{"$f":"IF(Worksheet!F284=0,\"\",Worksheet!F284)","v":""},{"$f":"IF(Worksheet!G284=0,\"\",Worksheet!G284)","v":""},{"$f":"IF(Worksheet!X284=0,\"\",Worksheet!X284)","v":""},{"$f":"IF(Worksheet!Q284=0,\"\",Worksheet!Q284)","v":""},{"$f":"IF(Worksheet!C284=0,\"\",Worksheet!C284)","v":""},{"$f":"IF(Worksheet!D284=0,\"\",Worksheet!D284)","v":""},{"$f":"IF(Worksheet!$A$11=TRUE,\"Y\",\"N\")","v":"N"},{"$f":"IF(Worksheet!$A$12=TRUE,\"Y\",\"N\")","v":"N"},{"$f":"IF(Worksheet!$B$11=TRUE,\"Y\",\"N\")","v":"N"},{"$f":"IF(Worksheet!$B$12=TRUE,\"Y\",\"N\")","v":"N"},{"$f":"IF(Worksheet!$C$11=TRUE,\"Y\",\"N\")","v":"N"},{"$f":"IFERROR(Worksheet!AB284,\"\")","v":0}]
[{"$f":"IF(IFERROR(SEARCH(\"Refrigerated\",Worksheet!L285,1),0)>0,122,IF(ISERROR(RIGHT(VLOOKUP(Worksheet!K285,Type!C$1:E$13,3,FALSE),3))=FALSE,RIGHT(VLOOKUP(Worksheet!K285,Type!C$1:E$13,3,FALSE),3),\"\"))","v":""},{"$f":"IF(Worksheet!M285=\"\",\"\",Worksheet!M285)","v":""},{"$f":"IF(Worksheet!N285=\"\",\"\",Worksheet!N285)","v":""},{"$f":"IF(Worksheet!Y285=0,\"\",Worksheet!Y285)","v":""},"Watts",null,null,{"$f":"Worksheet!AA285","v":0},{"$f":"IF(ISBLANK(Worksheet!V285)=FALSE,Worksheet!V285,\"\")","v":0},{"$f":"Worksheet!AG285","v":0},{"$f":"Worksheet!AF285","v":0},{"$f":"J259*IF(A259=122,16,15)","v":0},{"$f":"IF(ISERROR(SEARCH(\"Gas\",Worksheet!$A$18))=TRUE,0,Worksheet!AH285)","v":0},{"$f":"M259*IF(A259=122,16,15)","v":0},null,null,{"$f":"IF(OR(Worksheet!F285=\"Incandescent\",Worksheet!F285=\"Halogen Incandescent\")=TRUE,118,IF(LEFT(Worksheet!F285,3)=\"HID\",117,IF(OR(RIGHT(Worksheet!F285,3)=\"T12\",RIGHT(Worksheet!F285,5)=\"T12HO\")=TRUE,115,IF(OR(RIGHT(Worksheet!F285,2)=\"T8\",RIGHT(Worksheet!F285,4)=\"RWT8\",RIGHT(Worksheet!F285,4)=\"T8HO\")=TRUE,115,\"\"))))","v":""},{"$f":"IF(ISBLANK(Worksheet!W285)=FALSE,Worksheet!W285,\"\")","v":0},{"$f":"IF(ISERROR(SEARCH(\"Oil\",Worksheet!$A$18))=TRUE,0,Worksheet!AH285)","v":0},{"$f":"S259*IF(A259=122,16,15)","v":0},{"$f":"IF(ISERROR(SEARCH(\"Propane\",Worksheet!$A$18))=TRUE,0,Worksheet!AH285)","v":0},{"$f":"U259*IF(A259=122,16,15)","v":0},{"$f":"IF(Worksheet!J285=0,\"\",Worksheet!J285)","v":""},{"$f":"IF(Worksheet!B285=0,\"\",Worksheet!B285)","v":""},{"$f":"IF(Worksheet!K285=0,\"\",Worksheet!K285)","v":""},{"$f":"IF(Worksheet!L285=0,\"\",Worksheet!L285)","v":""},{"$f":"IF(Worksheet!R285=0,\"\",Worksheet!R285)","v":""},{"$f":"IF(Worksheet!F285=0,\"\",Worksheet!F285)","v":""},{"$f":"IF(Worksheet!G285=0,\"\",Worksheet!G285)","v":""},{"$f":"IF(Worksheet!X285=0,\"\",Worksheet!X285)","v":""},{"$f":"IF(Worksheet!Q285=0,\"\",Worksheet!Q285)","v":""},{"$f":"IF(Worksheet!C285=0,\"\",Worksheet!C285)","v":""},{"$f":"IF(Worksheet!D285=0,\"\",Worksheet!D285)","v":""},{"$f":"IF(Worksheet!$A$11=TRUE,\"Y\",\"N\")","v":"N"},{"$f":"IF(Worksheet!$A$12=TRUE,\"Y\",\"N\")","v":"N"},{"$f":"IF(Worksheet!$B$11=TRUE,\"Y\",\"N\")","v":"N"},{"$f":"IF(Worksheet!$B$12=TRUE,\"Y\",\"N\")","v":"N"},{"$f":"IF(Worksheet!$C$11=TRUE,\"Y\",\"N\")","v":"N"},{"$f":"IFERROR(Worksheet!AB285,\"\")","v":0}]
[{"$f":"IF(IFERROR(SEARCH(\"Refrigerated\",Worksheet!L286,1),0)>0,122,IF(ISERROR(RIGHT(VLOOKUP(Worksheet!K286,Type!C$1:E$13,3,FALSE),3))=FALSE,RIGHT(VLOOKUP(Worksheet!K286,Type!C$1:E$13,3,FALSE),3),\"\"))","v":""},{"$f":"IF(Worksheet!M286=\"\",\"\",Worksheet!M286)","v":""},{"$f":"IF(Worksheet!N286=\"\",\"\",Worksheet!N286)","v":""},{"$f":"IF(Worksheet!Y286=0,\"\",Worksheet!Y286)","v":""},"Watts",null,null,{"$f":"Worksheet!AA286","v":0},{"$f":"IF(ISBLANK(Worksheet!V286)=FALSE,Worksheet!V286,\"\")","v":0},{"$f":"Worksheet!AG286","v":0},{"$f":"Worksheet!AF286","v":0},0,{"$f":"IF(ISERROR(SEARCH(\"Gas\",Worksheet!$A$18))=TRUE,0,Worksheet!AH286)","v":0},0,null,null,{"$f":"IF(OR(Worksheet!F286=\"Incandescent\",Worksheet!F286=\"Halogen Incandescent\")=TRUE,118,IF(LEFT(Worksheet!F286,3)=\"HID\",117,IF(OR(RIGHT(Worksheet!F286,3)=\"T12\",RIGHT(Worksheet!F286,5)=\"T12HO\")=TRUE,115,IF(OR(RIGHT(Worksheet!F286,2)=\"T8\",RIGHT(Worksheet!F286,4)=\"RWT8\",RIGHT(Worksheet!F286,4)=\"T8HO\")=TRUE,115,\"\"))))","v":""},{"$f":"IF(ISBLANK(Worksheet!W286)=FALSE,Worksheet!W286,\"\")","v":0},{"$f":"IF(ISERROR(SEARCH(\"Oil\",Worksheet!$A$18))=TRUE,0,Worksheet!AH286)","v":0},0,{"$f":"IF(ISERROR(SEARCH(\"Propane\",Worksheet!$A$18))=TRUE,0,Worksheet!AH286)","v":0},0,{"$f":"IF(Worksheet!J286=0,\"\",Worksheet!J286)","v":""},{"$f":"IF(Worksheet!B286=0,\"\",Worksheet!B286)","v":""},{"$f":"IF(Worksheet!K286=0,\"\",Worksheet!K286)","v":""},{"$f":"IF(Worksheet!L286=0,\"\",Worksheet!L286)","v":""},{"$f":"IF(Worksheet!R286=0,\"\",Worksheet!R286)","v":""},{"$f":"IF(Worksheet!F286=0,\"\",Worksheet!F286)","v":""},{"$f":"IF(Worksheet!G286=0,\"\",Worksheet!G286)","v":""},{"$f":"IF(Worksheet!X286=0,\"\",Worksheet!X286)","v":""},{"$f":"IF(Worksheet!Q286=0,\"\",Worksheet!Q286)","v":""},{"$f":"IF(Worksheet!C286=0,\"\",Worksheet!C286)","v":""},{"$f":"IF(Worksheet!D286=0,\"\",Worksheet!D286)","v":""},{"$f":"IF(Worksheet!$A$11=TRUE,\"Y\",\"N\")","v":"N"},{"$f":"IF(Worksheet!$A$12=TRUE,\"Y\",\"N\")","v":"N"},{"$f":"IF(Worksheet!$B$11=TRUE,\"Y\",\"N\")","v":"N"},{"$f":"IF(Worksheet!$B$12=TRUE,\"Y\",\"N\")","v":"N"},{"$f":"IF(Worksheet!$C$11=TRUE,\"Y\",\"N\")","v":"N"},{"$f":"IFERROR(Worksheet!AB286,\"\")","v":0}]
[{"$f":"IF(IFERROR(SEARCH(\"Refrigerated\",Worksheet!L287,1),0)>0,122,IF(ISERROR(RIGHT(VLOOKUP(Worksheet!K287,Type!C$1:E$13,3,FALSE),3))=FALSE,RIGHT(VLOOKUP(Worksheet!K287,Type!C$1:E$13,3,FALSE),3),\"\"))","v":""},{"$f":"IF(Worksheet!M287=\"\",\"\",Worksheet!M287)","v":""},{"$f":"IF(Worksheet!N287=\"\",\"\",Worksheet!N287)","v":""},{"$f":"IF(Worksheet!Y287=0,\"\",Worksheet!Y287)","v":""},"Watts",null,null,{"$f":"Worksheet!AA287","v":0},{"$f":"IF(ISBLANK(Worksheet!V287)=FALSE,Worksheet!V287,\"\")","v":0},{"$f":"Worksheet!AG287","v":0},{"$f":"Worksheet!AF287","v":0},0,{"$f":"IF(ISERROR(SEARCH(\"Gas\",Worksheet!$A$18))=TRUE,0,Worksheet!AH287)","v":0},0,null,null,{"$f":"IF(OR(Worksheet!F287=\"Incandescent\",Worksheet!F287=\"Halogen Incandescent\")=TRUE,118,IF(LEFT(Worksheet!F287,3)=\"HID\",117,IF(OR(RIGHT(Worksheet!F287,3)=\"T12\",RIGHT(Worksheet!F287,5)=\"T12HO\")=TRUE,115,IF(OR(RIGHT(Worksheet!F287,2)=\"T8\",RIGHT(Worksheet!F287,4)=\"RWT8\",RIGHT(Worksheet!F287,4)=\"T8HO\")=TRUE,115,\"\"))))","v":""},{"$f":"IF(ISBLANK(Worksheet!W287)=FALSE,Worksheet!W287,\"\")","v":0},{"$f":"IF(ISERROR(SEARCH(\"Oil\",Worksheet!$A$18))=TRUE,0,Worksheet!AH287)","v":0},0,{"$f":"IF(ISERROR(SEARCH(\"Propane\",Worksheet!$A$18))=TRUE,0,Worksheet!AH287)","v":0},0,{"$f":"IF(Worksheet!J287=0,\"\",Worksheet!J287)","v":""},{"$f":"IF(Worksheet!B287=0,\"\",Worksheet!B287)","v":""},{"$f":"IF(Worksheet!K287=0,\"\",Worksheet!K287)","v":""},{"$f":"IF(Worksheet!L287=0,\"\",Worksheet!L287)","v":""},{"$f":"IF(Worksheet!R287=0,\"\",Worksheet!R287)","v":""},{"$f":"IF(Worksheet!F287=0,\"\",Worksheet!F287)","v":""},{"$f":"IF(Worksheet!G287=0,\"\",Worksheet!G287)","v":""},{"$f":"IF(Worksheet!X287=0,\"\",Worksheet!X287)","v":""},{"$f":"IF(Worksheet!Q287=0,\"\",Worksheet!Q287)","v":""},{"$f":"IF(Worksheet!C287=0,\"\",Worksheet!C287)","v":""},{"$f":"IF(Worksheet!D287=0,\"\",Worksheet!D287)","v":""},{"$f":"IF(Worksheet!$A$11=TRUE,\"Y\",\"N\")","v":"N"},{"$f":"IF(Worksheet!$A$12=TRUE,\"Y\",\"N\")","v":"N"},{"$f":"IF(Worksheet!$B$11=TRUE,\"Y\",\"N\")","v":"N"},{"$f":"IF(Worksheet!$B$12=TRUE,\"Y\",\"N\")","v":"N"},{"$f":"IF(Worksheet!$C$11=TRUE,\"Y\",\"N\")","v":"N"},{"$f":"IFERROR(Worksheet!AB287,\"\")","v":0}]
[{"$f":"IF(IFERROR(SEARCH(\"Refrigerated\",Worksheet!L288,1),0)>0,122,IF(ISERROR(RIGHT(VLOOKUP(Worksheet!K288,Type!C$1:E$13,3,FALSE),3))=FALSE,RIGHT(VLOOKUP(Worksheet!K288,Type!C$1:E$13,3,FALSE),3),\"\"))","v":""},{"$f":"IF(Worksheet!M288=\"\",\"\",Worksheet!M288)","v":""},{"$f":"IF(Worksheet!N288=\"\",\"\",Worksheet!N288)","v":""},{"$f":"IF(Worksheet!Y288=0,\"\",Worksheet!Y288)","v":""},"Watts",null,null,{"$f":"Worksheet!AA288","v":0},{"$f":"IF(ISBLANK(Worksheet!V288)=FALSE,Worksheet!V288,\"\")","v":0},{"$f":"Worksheet!AG288","v":0},{"$f":"Worksheet!AF288","v":0},0,{"$f":"IF(ISERROR(SEARCH(\"Gas\",Worksheet!$A$18))=TRUE,0,Worksheet!AH288)","v":0},0,null,null,{"$f":"IF(OR(Worksheet!F288=\"Incandescent\",Worksheet!F288=\"Halogen Incandescent\")=TRUE,118,IF(LEFT(Worksheet!F288,3)=\"HID\",117,IF(OR(RIGHT(Worksheet!F288,3)=\"T12\",RIGHT(Worksheet!F288,5)=\"T12HO\")=TRUE,115,IF(OR(RIGHT(Worksheet!F288,2)=\"T8\",RIGHT(Worksheet!F288,4)=\"RWT8\",RIGHT(Worksheet!F288,4)=\"T8HO\")=TRUE,115,\"\"))))","v":""},{"$f":"IF(ISBLANK(Worksheet!W288)=FALSE,Worksheet!W288,\"\")","v":0},{"$f":"IF(ISERROR(SEARCH(\"Oil\",Worksheet!$A$18))=TRUE,0,Worksheet!AH288)","v":0},0,{"$f":"IF(ISERROR(SEARCH(\"Propane\",Worksheet!$A$18))=TRUE,0,Worksheet!AH288)","v":0},0,{"$f":"IF(Worksheet!J288=0,\"\",Worksheet!J288)","v":""},{"$f":"IF(Worksheet!B288=0,\"\",Worksheet!B288)","v":""},{"$f":"IF(Worksheet!K288=0,\"\",Worksheet!K288)","v":""},{"$f":"IF(Worksheet!L288=0,\"\",Worksheet!L288)","v":""},{"$f":"IF(Worksheet!R288=0,\"\",Worksheet!R288)","v":""},{"$f":"IF(Worksheet!F288=0,\"\",Worksheet!F288)","v":""},{"$f":"IF(Worksheet!G288=0,\"\",Worksheet!G288)","v":""},{"$f":"IF(Worksheet!X288=0,\"\",Worksheet!X288)","v":""},{"$f":"IF(Worksheet!Q288=0,\"\",Worksheet!Q288)","v":""},{"$f":"IF(Worksheet!C288=0,\"\",Worksheet!C288)","v":""},{"$f":"IF(Worksheet!D288=0,\"\",Worksheet!D288)","v":""},{"$f":"IF(Worksheet!$A$11=TRUE,\"Y\",\"N\")","v":"N"},{"$f":"IF(Worksheet!$A$12=TRUE,\"Y\",\"N\")","v":"N"},{"$f":"IF(Worksheet!$B$11=TRUE,\"Y\",\"N\")","v":"N"},{"$f":"IF(Worksheet!$B$12=TRUE,\"Y\",\"N\")","v":"N"},{"$f":"IF(Worksheet!$C$11=TRUE,\"Y\",\"N\")","v":"N"},{"$f":"IFERROR(Worksheet!AB288,\"\")","v":0}]
[{"$f":"IF(IFERROR(SEARCH(\"Refrigerated\",Worksheet!L289,1),0)>0,122,IF(ISERROR(RIGHT(VLOOKUP(Worksheet!K289,Type!C$1:E$13,3,FALSE),3))=FALSE,RIGHT(VLOOKUP(Worksheet!K289,Type!C$1:E$13,3,FALSE),3),\"\"))","v":""},{"$f":"IF(Worksheet!M289=\"\",\"\",Worksheet!M289)","v":""},{"$f":"IF(Worksheet!N289=\"\",\"\",Worksheet!N289)","v":""},{"$f":"IF(Worksheet!Y289=0,\"\",Worksheet!Y289)","v":""},"Watts",null,null,{"$f":"Worksheet!AA289","v":0},{"$f":"IF(ISBLANK(Worksheet!V289)=FALSE,Worksheet!V289,\"\")","v":0},{"$f":"Worksheet!AG289","v":0},{"$f":"Worksheet!AF289","v":0},0,{"$f":"IF(ISERROR(SEARCH(\"Gas\",Worksheet!$A$18))=TRUE,0,Worksheet!AH289)","v":0},0,null,null,{"$f":"IF(OR(Worksheet!F289=\"Incandescent\",Worksheet!F289=\"Halogen Incandescent\")=TRUE,118,IF(LEFT(Worksheet!F289,3)=\"HID\",117,IF(OR(RIGHT(Worksheet!F289,3)=\"T12\",RIGHT(Worksheet!F289,5)=\"T12HO\")=TRUE,115,IF(OR(RIGHT(Worksheet!F289,2)=\"T8\",RIGHT(Worksheet!F289,4)=\"RWT8\",RIGHT(Worksheet!F289,4)=\"T8HO\")=TRUE,115,\"\"))))","v":""},{"$f":"IF(ISBLANK(Worksheet!W289)=FALSE,Worksheet!W289,\"\")","v":0},{"$f":"IF(ISERROR(SEARCH(\"Oil\",Worksheet!$A$18))=TRUE,0,Worksheet!AH289)","v":0},0,{"$f":"IF(ISERROR(SEARCH(\"Propane\",Worksheet!$A$18))=TRUE,0,Worksheet!AH289)","v":0},0,{"$f":"IF(Worksheet!J289=0,\"\",Worksheet!J289)","v":""},{"$f":"IF(Worksheet!B289=0,\"\",Worksheet!B289)","v":""},{"$f":"IF(Worksheet!K289=0,\"\",Worksheet!K289)","v":""},{"$f":"IF(Worksheet!L289=0,\"\",Worksheet!L289)","v":""},{"$f":"IF(Worksheet!R289=0,\"\",Worksheet!R289)","v":""},{"$f":"IF(Worksheet!F289=0,\"\",Worksheet!F289)","v":""},{"$f":"IF(Worksheet!G289=0,\"\",Worksheet!G289)","v":""},{"$f":"IF(Worksheet!X289=0,\"\",Worksheet!X289)","v":""},{"$f":"IF(Worksheet!Q289=0,\"\",Worksheet!Q289)","v":""},{"$f":"IF(Worksheet!C289=0,\"\",Worksheet!C289)","v":""},{"$f":"IF(Worksheet!D289=0,\"\",Worksheet!D289)","v":""},{"$f":"IF(Worksheet!$A$11=TRUE,\"Y\",\"N\")","v":"N"},{"$f":"IF(Worksheet!$A$12=TRUE,\"Y\",\"N\")","v":"N"},{"$f":"IF(Worksheet!$B$11=TRUE,\"Y\",\"N\")","v":"N"},{"$f":"IF(Worksheet!$B$12=TRUE,\"Y\",\"N\")","v":"N"},{"$f":"IF(Worksheet!$C$11=TRUE,\"Y\",\"N\")","v":"N"},{"$f":"IFERROR(Worksheet!AB289,\"\")","v":0}]
[{"$f":"IF(IFERROR(SEARCH(\"Refrigerated\",Worksheet!L290,1),0)>0,122,IF(ISERROR(RIGHT(VLOOKUP(Worksheet!K290,Type!C$1:E$13,3,FALSE),3))=FALSE,RIGHT(VLOOKUP(Worksheet!K290,Type!C$1:E$13,3,FALSE),3),\"\"))","v":""},{"$f":"IF(Worksheet!M290=\"\",\"\",Worksheet!M290)","v":""},{"$f":"IF(Worksheet!N290=\"\",\"\",Worksheet!N290)","v":""},{"$f":"IF(Worksheet!Y290=0,\"\",Worksheet!Y290)","v":""},"Watts",null,null,{"$f":"Worksheet!AA290","v":0},{"$f":"IF(ISBLANK(Worksheet!V290)=FALSE,Worksheet!V290,\"\")","v":0},{"$f":"Worksheet!AG290","v":0},{"$f":"Worksheet!AF290","v":0},0,{"$f":"IF(ISERROR(SEARCH(\"Gas\",Worksheet!$A$18))=TRUE,0,Worksheet!AH290)","v":0},0,null,null,{"$f":"IF(OR(Worksheet!F290=\"Incandescent\",Worksheet!F290=\"Halogen Incandescent\")=TRUE,118,IF(LEFT(Worksheet!F290,3)=\"HID\",117,IF(OR(RIGHT(Worksheet!F290,3)=\"T12\",RIGHT(Worksheet!F290,5)=\"T12HO\")=TRUE,115,IF(OR(RIGHT(Worksheet!F290,2)=\"T8\",RIGHT(Worksheet!F290,4)=\"RWT8\",RIGHT(Worksheet!F290,4)=\"T8HO\")=TRUE,115,\"\"))))","v":""},{"$f":"IF(ISBLANK(Worksheet!W290)=FALSE,Worksheet!W290,\"\")","v":0},{"$f":"IF(ISERROR(SEARCH(\"Oil\",Worksheet!$A$18))=TRUE,0,Worksheet!AH290)","v":0},0,{"$f":"IF(ISERROR(SEARCH(\"Propane\",Worksheet!$A$18))=TRUE,0,Worksheet!AH290)","v":0},0,{"$f":"IF(Worksheet!J290=0,\"\",Worksheet!J290)","v":""},{"$f":"IF(Worksheet!B290=0,\"\",Worksheet!B290)","v":""},{"$f":"IF(Worksheet!K290=0,\"\",Worksheet!K290)","v":""},{"$f":"IF(Worksheet!L290=0,\"\",Worksheet!L290)","v":""},{"$f":"IF(Worksheet!R290=0,\"\",Worksheet!R290)","v":""},{"$f":"IF(Worksheet!F290=0,\"\",Worksheet!F290)","v":""},{"$f":"IF(Worksheet!G290=0,\"\",Worksheet!G290)","v":""},{"$f":"IF(Worksheet!X290=0,\"\",Worksheet!X290)","v":""},{"$f":"IF(Worksheet!Q290=0,\"\",Worksheet!Q290)","v":""},{"$f":"IF(Worksheet!C290=0,\"\",Worksheet!C290)","v":""},{"$f":"IF(Worksheet!D290=0,\"\",Worksheet!D290)","v":""},{"$f":"IF(Worksheet!$A$11=TRUE,\"Y\",\"N\")","v":"N"},{"$f":"IF(Worksheet!$A$12=TRUE,\"Y\",\"N\")","v":"N"},{"$f":"IF(Worksheet!$B$11=TRUE,\"Y\",\"N\")","v":"N"},{"$f":"IF(Worksheet!$B$12=TRUE,\"Y\",\"N\")","v":"N"},{"$f":"IF(Worksheet!$C$11=TRUE,\"Y\",\"N\")","v":"N"},{"$f":"IFERROR(Worksheet!AB290,\"\")","v":0}]
[{"$f":"IF(IFERROR(SEARCH(\"Refrigerated\",Worksheet!L291,1),0)>0,122,IF(ISERROR(RIGHT(VLOOKUP(Worksheet!K291,Type!C$1:E$13,3,FALSE),3))=FALSE,RIGHT(VLOOKUP(Worksheet!K291,Type!C$1:E$13,3,FALSE),3),\"\"))","v":""},{"$f":"IF(Worksheet!M291=\"\",\"\",Worksheet!M291)","v":""},{"$f":"IF(Worksheet!N291=\"\",\"\",Worksheet!N291)","v":""},{"$f":"IF(Worksheet!Y291=0,\"\",Worksheet!Y291)","v":""},"Watts",null,null,{"$f":"Worksheet!AA291","v":0},{"$f":"IF(ISBLANK(Worksheet!V291)=FALSE,Worksheet!V291,\"\")","v":0},{"$f":"Worksheet!AG291","v":0},{"$f":"Worksheet!AF291","v":0},0,{"$f":"IF(ISERROR(SEARCH(\"Gas\",Worksheet!$A$18))=TRUE,0,Worksheet!AH291)","v":0},0,null,null,{"$f":"IF(OR(Worksheet!F291=\"Incandescent\",Worksheet!F291=\"Halogen Incandescent\")=TRUE,118,IF(LEFT(Worksheet!F291,3)=\"HID\",117,IF(OR(RIGHT(Worksheet!F291,3)=\"T12\",RIGHT(Worksheet!F291,5)=\"T12HO\")=TRUE,115,IF(OR(RIGHT(Worksheet!F291,2)=\"T8\",RIGHT(Worksheet!F291,4)=\"RWT8\",RIGHT(Worksheet!F291,4)=\"T8HO\")=TRUE,115,\"\"))))","v":""},{"$f":"IF(ISBLANK(Worksheet!W291)=FALSE,Worksheet!W291,\"\")","v":0},{"$f":"IF(ISERROR(SEARCH(\"Oil\",Worksheet!$A$18))=TRUE,0,Worksheet!AH291)","v":0},0,{"$f":"IF(ISERROR(SEARCH(\"Propane\",Worksheet!$A$18))=TRUE,0,Worksheet!AH291)","v":0},0,{"$f":"IF(Worksheet!J291=0,\"\",Worksheet!J291)","v":""},{"$f":"IF(Worksheet!B291=0,\"\",Worksheet!B291)","v":""},{"$f":"IF(Worksheet!K291=0,\"\",Worksheet!K291)","v":""},{"$f":"IF(Worksheet!L291=0,\"\",Worksheet!L291)","v":""},{"$f":"IF(Worksheet!R291=0,\"\",Worksheet!R291)","v":""},{"$f":"IF(Worksheet!F291=0,\"\",Worksheet!F291)","v":""},{"$f":"IF(Worksheet!G291=0,\"\",Worksheet!G291)","v":""},{"$f":"IF(Worksheet!X291=0,\"\",Worksheet!X291)","v":""},{"$f":"IF(Worksheet!Q291=0,\"\",Worksheet!Q291)","v":""},{"$f":"IF(Worksheet!C291=0,\"\",Worksheet!C291)","v":""},{"$f":"IF(Worksheet!D291=0,\"\",Worksheet!D291)","v":""},{"$f":"IF(Worksheet!$A$11=TRUE,\"Y\",\"N\")","v":"N"},{"$f":"IF(Worksheet!$A$12=TRUE,\"Y\",\"N\")","v":"N"},{"$f":"IF(Worksheet!$B$11=TRUE,\"Y\",\"N\")","v":"N"},{"$f":"IF(Worksheet!$B$12=TRUE,\"Y\",\"N\")","v":"N"},{"$f":"IF(Worksheet!$C$11=TRUE,\"Y\",\"N\")","v":"N"},{"$f":"IFERROR(Worksheet!AB291,\"\")","v":0}]
[{"$f":"IF(IFERROR(SEARCH(\"Refrigerated\",Worksheet!L292,1),0)>0,122,IF(ISERROR(RIGHT(VLOOKUP(Worksheet!K292,Type!C$1:E$13,3,FALSE),3))=FALSE,RIGHT(VLOOKUP(Worksheet!K292,Type!C$1:E$13,3,FALSE),3),\"\"))","v":""},{"$f":"IF(Worksheet!M292=\"\",\"\",Worksheet!M292)","v":""},{"$f":"IF(Worksheet!N292=\"\",\"\",Worksheet!N292)","v":""},{"$f":"IF(Worksheet!Y292=0,\"\",Worksheet!Y292)","v":""},"Watts",null,null,{"$f":"Worksheet!AA292","v":0},{"$f":"IF(ISBLANK(Worksheet!V292)=FALSE,Worksheet!V292,\"\")","v":0},{"$f":"Worksheet!AG292","v":0},{"$f":"Worksheet!AF292","v":0},0,{"$f":"IF(ISERROR(SEARCH(\"Gas\",Worksheet!$A$18))=TRUE,0,Worksheet!AH292)","v":0},0,null,null,{"$f":"IF(OR(Worksheet!F292=\"Incandescent\",Worksheet!F292=\"Halogen Incandescent\")=TRUE,118,IF(LEFT(Worksheet!F292,3)=\"HID\",117,IF(OR(RIGHT(Worksheet!F292,3)=\"T12\",RIGHT(Worksheet!F292,5)=\"T12HO\")=TRUE,115,IF(OR(RIGHT(Worksheet!F292,2)=\"T8\",RIGHT(Worksheet!F292,4)=\"RWT8\",RIGHT(Worksheet!F292,4)=\"T8HO\")=TRUE,115,\"\"))))","v":""},{"$f":"IF(ISBLANK(Worksheet!W292)=FALSE,Worksheet!W292,\"\")","v":0},{"$f":"IF(ISERROR(SEARCH(\"Oil\",Worksheet!$A$18))=TRUE,0,Worksheet!AH292)","v":0},0,{"$f":"IF(ISERROR(SEARCH(\"Propane\",Worksheet!$A$18))=TRUE,0,Worksheet!AH292)","v":0},0,{"$f":"IF(Worksheet!J292=0,\"\",Worksheet!J292)","v":""},{"$f":"IF(Worksheet!B292=0,\"\",Worksheet!B292)","v":""},{"$f":"IF(Worksheet!K292=0,\"\",Worksheet!K292)","v":""},{"$f":"IF(Worksheet!L292=0,\"\",Worksheet!L292)","v":""},{"$f":"IF(Worksheet!R292=0,\"\",Worksheet!R292)","v":""},{"$f":"IF(Worksheet!F292=0,\"\",Worksheet!F292)","v":""},{"$f":"IF(Worksheet!G292=0,\"\",Worksheet!G292)","v":""},{"$f":"IF(Worksheet!X292=0,\"\",Worksheet!X292)","v":""},{"$f":"IF(Worksheet!Q292=0,\"\",Worksheet!Q292)","v":""},{"$f":"IF(Worksheet!C292=0,\"\",Worksheet!C292)","v":""},{"$f":"IF(Worksheet!D292=0,\"\",Worksheet!D292)","v":""},{"$f":"IF(Worksheet!$A$11=TRUE,\"Y\",\"N\")","v":"N"},{"$f":"IF(Worksheet!$A$12=TRUE,\"Y\",\"N\")","v":"N"},{"$f":"IF(Worksheet!$B$11=TRUE,\"Y\",\"N\")","v":"N"},{"$f":"IF(Worksheet!$B$12=TRUE,\"Y\",\"N\")","v":"N"},{"$f":"IF(Worksheet!$C$11=TRUE,\"Y\",\"N\")","v":"N"},{"$f":"IFERROR(Worksheet!AB292,\"\")","v":0}]
[{"$f":"IF(IFERROR(SEARCH(\"Refrigerated\",Worksheet!L293,1),0)>0,122,IF(ISERROR(RIGHT(VLOOKUP(Worksheet!K293,Type!C$1:E$13,3,FALSE),3))=FALSE,RIGHT(VLOOKUP(Worksheet!K293,Type!C$1:E$13,3,FALSE),3),\"\"))","v":""},{"$f":"IF(Worksheet!M293=\"\",\"\",Worksheet!M293)","v":""},{"$f":"IF(Worksheet!N293=\"\",\"\",Worksheet!N293)","v":""},{"$f":"IF(Worksheet!Y293=0,\"\",Worksheet!Y293)","v":""},"Watts",null,null,{"$f":"Worksheet!AA293","v":0},{"$f":"IF(ISBLANK(Worksheet!V293)=FALSE,Worksheet!V293,\"\")","v":0},{"$f":"Worksheet!AG293","v":0},{"$f":"Worksheet!AF293","v":0},0,{"$f":"IF(ISERROR(SEARCH(\"Gas\",Worksheet!$A$18))=TRUE,0,Worksheet!AH293)","v":0},0,null,null,{"$f":"IF(OR(Worksheet!F293=\"Incandescent\",Worksheet!F293=\"Halogen Incandescent\")=TRUE,118,IF(LEFT(Worksheet!F293,3)=\"HID\",117,IF(OR(RIGHT(Worksheet!F293,3)=\"T12\",RIGHT(Worksheet!F293,5)=\"T12HO\")=TRUE,115,IF(OR(RIGHT(Worksheet!F293,2)=\"T8\",RIGHT(Worksheet!F293,4)=\"RWT8\",RIGHT(Worksheet!F293,4)=\"T8HO\")=TRUE,115,\"\"))))","v":""},{"$f":"IF(ISBLANK(Worksheet!W293)=FALSE,Worksheet!W293,\"\")","v":0},{"$f":"IF(ISERROR(SEARCH(\"Oil\",Worksheet!$A$18))=TRUE,0,Worksheet!AH293)","v":0},0,{"$f":"IF(ISERROR(SEARCH(\"Propane\",Worksheet!$A$18))=TRUE,0,Worksheet!AH293)","v":0},0,{"$f":"IF(Worksheet!J293=0,\"\",Worksheet!J293)","v":""},{"$f":"IF(Worksheet!B293=0,\"\",Worksheet!B293)","v":""},{"$f":"IF(Worksheet!K293=0,\"\",Worksheet!K293)","v":""},{"$f":"IF(Worksheet!L293=0,\"\",Worksheet!L293)","v":""},{"$f":"IF(Worksheet!R293=0,\"\",Worksheet!R293)","v":""},{"$f":"IF(Worksheet!F293=0,\"\",Worksheet!F293)","v":""},{"$f":"IF(Worksheet!G293=0,\"\",Worksheet!G293)","v":""},{"$f":"IF(Worksheet!X293=0,\"\",Worksheet!X293)","v":""},{"$f":"IF(Worksheet!Q293=0,\"\",Worksheet!Q293)","v":""},{"$f":"IF(Worksheet!C293=0,\"\",Worksheet!C293)","v":""},{"$f":"IF(Worksheet!D293=0,\"\",Worksheet!D293)","v":""},{"$f":"IF(Worksheet!$A$11=TRUE,\"Y\",\"N\")","v":"N"},{"$f":"IF(Worksheet!$A$12=TRUE,\"Y\",\"N\")","v":"N"},{"$f":"IF(Worksheet!$B$11=TRUE,\"Y\",\"N\")","v":"N"},{"$f":"IF(Worksheet!$B$12=TRUE,\"Y\",\"N\")","v":"N"},{"$f":"IF(Worksheet!$C$11=TRUE,\"Y\",\"N\")","v":"N"},{"$f":"IFERROR(Worksheet!AB293,\"\")","v":0}]
[{"$f":"IF(IFERROR(SEARCH(\"Refrigerated\",Worksheet!L294,1),0)>0,122,IF(ISERROR(RIGHT(VLOOKUP(Worksheet!K294,Type!C$1:E$13,3,FALSE),3))=FALSE,RIGHT(VLOOKUP(Worksheet!K294,Type!C$1:E$13,3,FALSE),3),\"\"))","v":""},{"$f":"IF(Worksheet!M294=\"\",\"\",Worksheet!M294)","v":""},{"$f":"IF(Worksheet!N294=\"\",\"\",Worksheet!N294)","v":""},{"$f":"IF(Worksheet!Y294=0,\"\",Worksheet!Y294)","v":""},"Watts",null,null,{"$f":"Worksheet!AA294","v":0},{"$f":"IF(ISBLANK(Worksheet!V294)=FALSE,Worksheet!V294,\"\")","v":0},{"$f":"Worksheet!AG294","v":0},{"$f":"Worksheet!AF294","v":0},0,{"$f":"IF(ISERROR(SEARCH(\"Gas\",Worksheet!$A$18))=TRUE,0,Worksheet!AH294)","v":0},0,null,null,{"$f":"IF(OR(Worksheet!F294=\"Incandescent\",Worksheet!F294=\"Halogen Incandescent\")=TRUE,118,IF(LEFT(Worksheet!F294,3)=\"HID\",117,IF(OR(RIGHT(Worksheet!F294,3)=\"T12\",RIGHT(Worksheet!F294,5)=\"T12HO\")=TRUE,115,IF(OR(RIGHT(Worksheet!F294,2)=\"T8\",RIGHT(Worksheet!F294,4)=\"RWT8\",RIGHT(Worksheet!F294,4)=\"T8HO\")=TRUE,115,\"\"))))","v":""},{"$f":"IF(ISBLANK(Worksheet!W294)=FALSE,Worksheet!W294,\"\")","v":0},{"$f":"IF(ISERROR(SEARCH(\"Oil\",Worksheet!$A$18))=TRUE,0,Worksheet!AH294)","v":0},0,{"$f":"IF(ISERROR(SEARCH(\"Propane\",Worksheet!$A$18))=TRUE,0,Worksheet!AH294)","v":0},0,{"$f":"IF(Worksheet!J294=0,\"\",Worksheet!J294)","v":""},{"$f":"IF(Worksheet!B294=0,\"\",Worksheet!B294)","v":""},{"$f":"IF(Worksheet!K294=0,\"\",Worksheet!K294)","v":""},{"$f":"IF(Worksheet!L294=0,\"\",Worksheet!L294)","v":""},{"$f":"IF(Worksheet!R294=0,\"\",Worksheet!R294)","v":""},{"$f":"IF(Worksheet!F294=0,\"\",Worksheet!F294)","v":""},{"$f":"IF(Worksheet!G294=0,\"\",Worksheet!G294)","v":""},{"$f":"IF(Worksheet!X294=0,\"\",Worksheet!X294)","v":""},{"$f":"IF(Worksheet!Q294=0,\"\",Worksheet!Q294)","v":""},{"$f":"IF(Worksheet!C294=0,\"\",Worksheet!C294)","v":""},{"$f":"IF(Worksheet!D294=0,\"\",Worksheet!D294)","v":""},{"$f":"IF(Worksheet!$A$11=TRUE,\"Y\",\"N\")","v":"N"},{"$f":"IF(Worksheet!$A$12=TRUE,\"Y\",\"N\")","v":"N"},{"$f":"IF(Worksheet!$B$11=TRUE,\"Y\",\"N\")","v":"N"},{"$f":"IF(Worksheet!$B$12=TRUE,\"Y\",\"N\")","v":"N"},{"$f":"IF(Worksheet!$C$11=TRUE,\"Y\",\"N\")","v":"N"},{"$f":"IFERROR(Worksheet!AB294,\"\")","v":0}]
[{"$f":"IF(IFERROR(SEARCH(\"Refrigerated\",Worksheet!L295,1),0)>0,122,IF(ISERROR(RIGHT(VLOOKUP(Worksheet!K295,Type!C$1:E$13,3,FALSE),3))=FALSE,RIGHT(VLOOKUP(Worksheet!K295,Type!C$1:E$13,3,FALSE),3),\"\"))","v":""},{"$f":"IF(Worksheet!M295=\"\",\"\",Worksheet!M295)","v":""},{"$f":"IF(Worksheet!N295=\"\",\"\",Worksheet!N295)","v":""},{"$f":"IF(Worksheet!Y295=0,\"\",Worksheet!Y295)","v":""},"Watts",null,null,{"$f":"Worksheet!AA295","v":0},{"$f":"IF(ISBLANK(Worksheet!V295)=FALSE,Worksheet!V295,\"\")","v":0},{"$f":"Worksheet!AG295","v":0},{"$f":"Worksheet!AF295","v":0},0,{"$f":"IF(ISERROR(SEARCH(\"Gas\",Worksheet!$A$18))=TRUE,0,Worksheet!AH295)","v":0},0,null,null,{"$f":"IF(OR(Worksheet!F295=\"Incandescent\",Worksheet!F295=\"Halogen Incandescent\")=TRUE,118,IF(LEFT(Worksheet!F295,3)=\"HID\",117,IF(OR(RIGHT(Worksheet!F295,3)=\"T12\",RIGHT(Worksheet!F295,5)=\"T12HO\")=TRUE,115,IF(OR(RIGHT(Worksheet!F295,2)=\"T8\",RIGHT(Worksheet!F295,4)=\"RWT8\",RIGHT(Worksheet!F295,4)=\"T8HO\")=TRUE,115,\"\"))))","v":""},{"$f":"IF(ISBLANK(Worksheet!W295)=FALSE,Worksheet!W295,\"\")","v":0},{"$f":"IF(ISERROR(SEARCH(\"Oil\",Worksheet!$A$18))=TRUE,0,Worksheet!AH295)","v":0},0,{"$f":"IF(ISERROR(SEARCH(\"Propane\",Worksheet!$A$18))=TRUE,0,Worksheet!AH295)","v":0},0,{"$f":"IF(Worksheet!J295=0,\"\",Worksheet!J295)","v":""},{"$f":"IF(Worksheet!B295=0,\"\",Worksheet!B295)","v":""},{"$f":"IF(Worksheet!K295=0,\"\",Worksheet!K295)","v":""},{"$f":"IF(Worksheet!L295=0,\"\",Worksheet!L295)","v":""},{"$f":"IF(Worksheet!R295=0,\"\",Worksheet!R295)","v":""},{"$f":"IF(Worksheet!F295=0,\"\",Worksheet!F295)","v":""},{"$f":"IF(Worksheet!G295=0,\"\",Worksheet!G295)","v":""},{"$f":"IF(Worksheet!X295=0,\"\",Worksheet!X295)","v":""},{"$f":"IF(Worksheet!Q295=0,\"\",Worksheet!Q295)","v":""},{"$f":"IF(Worksheet!C295=0,\"\",Worksheet!C295)","v":""},{"$f":"IF(Worksheet!D295=0,\"\",Worksheet!D295)","v":""},{"$f":"IF(Worksheet!$A$11=TRUE,\"Y\",\"N\")","v":"N"},{"$f":"IF(Worksheet!$A$12=TRUE,\"Y\",\"N\")","v":"N"},{"$f":"IF(Worksheet!$B$11=TRUE,\"Y\",\"N\")","v":"N"},{"$f":"IF(Worksheet!$B$12=TRUE,\"Y\",\"N\")","v":"N"},{"$f":"IF(Worksheet!$C$11=TRUE,\"Y\",\"N\")","v":"N"},{"$f":"IFERROR(Worksheet!AB295,\"\")","v":0}]
[{"$f":"IF(IFERROR(SEARCH(\"Refrigerated\",Worksheet!L296,1),0)>0,122,IF(ISERROR(RIGHT(VLOOKUP(Worksheet!K296,Type!C$1:E$13,3,FALSE),3))=FALSE,RIGHT(VLOOKUP(Worksheet!K296,Type!C$1:E$13,3,FALSE),3),\"\"))","v":""},{"$f":"IF(Worksheet!M296=\"\",\"\",Worksheet!M296)","v":""},{"$f":"IF(Worksheet!N296=\"\",\"\",Worksheet!N296)","v":""},{"$f":"IF(Worksheet!Y296=0,\"\",Worksheet!Y296)","v":""},"Watts",null,null,{"$f":"Worksheet!AA296","v":0},{"$f":"IF(ISBLANK(Worksheet!V296)=FALSE,Worksheet!V296,\"\")","v":0},{"$f":"Worksheet!AG296","v":0},{"$f":"Worksheet!AF296","v":0},0,{"$f":"IF(ISERROR(SEARCH(\"Gas\",Worksheet!$A$18))=TRUE,0,Worksheet!AH296)","v":0},0,null,null,{"$f":"IF(OR(Worksheet!F296=\"Incandescent\",Worksheet!F296=\"Halogen Incandescent\")=TRUE,118,IF(LEFT(Worksheet!F296,3)=\"HID\",117,IF(OR(RIGHT(Worksheet!F296,3)=\"T12\",RIGHT(Worksheet!F296,5)=\"T12HO\")=TRUE,115,IF(OR(RIGHT(Worksheet!F296,2)=\"T8\",RIGHT(Worksheet!F296,4)=\"RWT8\",RIGHT(Worksheet!F296,4)=\"T8HO\")=TRUE,115,\"\"))))","v":""},{"$f":"IF(ISBLANK(Worksheet!W296)=FALSE,Worksheet!W296,\"\")","v":0},{"$f":"IF(ISERROR(SEARCH(\"Oil\",Worksheet!$A$18))=TRUE,0,Worksheet!AH296)","v":0},0,{"$f":"IF(ISERROR(SEARCH(\"Propane\",Worksheet!$A$18))=TRUE,0,Worksheet!AH296)","v":0},0,{"$f":"IF(Worksheet!J296=0,\"\",Worksheet!J296)","v":""},{"$f":"IF(Worksheet!B296=0,\"\",Worksheet!B296)","v":""},{"$f":"IF(Worksheet!K296=0,\"\",Worksheet!K296)","v":""},{"$f":"IF(Worksheet!L296=0,\"\",Worksheet!L296)","v":""},{"$f":"IF(Worksheet!R296=0,\"\",Worksheet!R296)","v":""},{"$f":"IF(Worksheet!F296=0,\"\",Worksheet!F296)","v":""},{"$f":"IF(Worksheet!G296=0,\"\",Worksheet!G296)","v":""},{"$f":"IF(Worksheet!X296=0,\"\",Worksheet!X296)","v":""},{"$f":"IF(Worksheet!Q296=0,\"\",Worksheet!Q296)","v":""},{"$f":"IF(Worksheet!C296=0,\"\",Worksheet!C296)","v":""},{"$f":"IF(Worksheet!D296=0,\"\",Worksheet!D296)","v":""},{"$f":"IF(Worksheet!$A$11=TRUE,\"Y\",\"N\")","v":"N"},{"$f":"IF(Worksheet!$A$12=TRUE,\"Y\",\"N\")","v":"N"},{"$f":"IF(Worksheet!$B$11=TRUE,\"Y\",\"N\")","v":"N"},{"$f":"IF(Worksheet!$B$12=TRUE,\"Y\",\"N\")","v":"N"},{"$f":"IF(Worksheet!$C$11=TRUE,\"Y\",\"N\")","v":"N"},{"$f":"IFERROR(Worksheet!AB296,\"\")","v":0}]
[{"$f":"IF(IFERROR(SEARCH(\"Refrigerated\",Worksheet!L297,1),0)>0,122,IF(ISERROR(RIGHT(VLOOKUP(Worksheet!K297,Type!C$1:E$13,3,FALSE),3))=FALSE,RIGHT(VLOOKUP(Worksheet!K297,Type!C$1:E$13,3,FALSE),3),\"\"))","v":""},{"$f":"IF(Worksheet!M297=\"\",\"\",Worksheet!M297)","v":""},{"$f":"IF(Worksheet!N297=\"\",\"\",Worksheet!N297)","v":""},{"$f":"IF(Worksheet!Y297=0,\"\",Worksheet!Y297)","v":""},"Watts",null,null,{"$f":"Worksheet!AA297","v":0},{"$f":"IF(ISBLANK(Worksheet!V297)=FALSE,Worksheet!V297,\"\")","v":0},{"$f":"Worksheet!AG297","v":0},{"$f":"Worksheet!AF297","v":0},0,{"$f":"IF(ISERROR(SEARCH(\"Gas\",Worksheet!$A$18))=TRUE,0,Worksheet!AH297)","v":0},0,null,null,{"$f":"IF(OR(Worksheet!F297=\"Incandescent\",Worksheet!F297=\"Halogen Incandescent\")=TRUE,118,IF(LEFT(Worksheet!F297,3)=\"HID\",117,IF(OR(RIGHT(Worksheet!F297,3)=\"T12\",RIGHT(Worksheet!F297,5)=\"T12HO\")=TRUE,115,IF(OR(RIGHT(Worksheet!F297,2)=\"T8\",RIGHT(Worksheet!F297,4)=\"RWT8\",RIGHT(Worksheet!F297,4)=\"T8HO\")=TRUE,115,\"\"))))","v":""},{"$f":"IF(ISBLANK(Worksheet!W297)=FALSE,Worksheet!W297,\"\")","v":0},{"$f":"IF(ISERROR(SEARCH(\"Oil\",Worksheet!$A$18))=TRUE,0,Worksheet!AH297)","v":0},0,{"$f":"IF(ISERROR(SEARCH(\"Propane\",Worksheet!$A$18))=TRUE,0,Worksheet!AH297)","v":0},0,{"$f":"IF(Worksheet!J297=0,\"\",Worksheet!J297)","v":""},{"$f":"IF(Worksheet!B297=0,\"\",Worksheet!B297)","v":""},{"$f":"IF(Worksheet!K297=0,\"\",Worksheet!K297)","v":""},{"$f":"IF(Worksheet!L297=0,\"\",Worksheet!L297)","v":""},{"$f":"IF(Worksheet!R297=0,\"\",Worksheet!R297)","v":""},{"$f":"IF(Worksheet!F297=0,\"\",Worksheet!F297)","v":""},{"$f":"IF(Worksheet!G297=0,\"\",Worksheet!G297)","v":""},{"$f":"IF(Worksheet!X297=0,\"\",Worksheet!X297)","v":""},{"$f":"IF(Worksheet!Q297=0,\"\",Worksheet!Q297)","v":""},{"$f":"IF(Worksheet!C297=0,\"\",Worksheet!C297)","v":""},{"$f":"IF(Worksheet!D297=0,\"\",Worksheet!D297)","v":""},{"$f":"IF(Worksheet!$A$11=TRUE,\"Y\",\"N\")","v":"N"},{"$f":"IF(Worksheet!$A$12=TRUE,\"Y\",\"N\")","v":"N"},{"$f":"IF(Worksheet!$B$11=TRUE,\"Y\",\"N\")","v":"N"},{"$f":"IF(Worksheet!$B$12=TRUE,\"Y\",\"N\")","v":"N"},{"$f":"IF(Worksheet!$C$11=TRUE,\"Y\",\"N\")","v":"N"},{"$f":"IFERROR(Worksheet!AB297,\"\")","v":0}]
[{"$f":"IF(IFERROR(SEARCH(\"Refrigerated\",Worksheet!L298,1),0)>0,122,IF(ISERROR(RIGHT(VLOOKUP(Worksheet!K298,Type!C$1:E$13,3,FALSE),3))=FALSE,RIGHT(VLOOKUP(Worksheet!K298,Type!C$1:E$13,3,FALSE),3),\"\"))","v":""},{"$f":"IF(Worksheet!M298=\"\",\"\",Worksheet!M298)","v":""},{"$f":"IF(Worksheet!N298=\"\",\"\",Worksheet!N298)","v":""},{"$f":"IF(Worksheet!Y298=0,\"\",Worksheet!Y298)","v":""},"Watts",null,null,{"$f":"Worksheet!AA298","v":0},{"$f":"IF(ISBLANK(Worksheet!V298)=FALSE,Worksheet!V298,\"\")","v":0},{"$f":"Worksheet!AG298","v":0},{"$f":"Worksheet!AF298","v":0},0,{"$f":"IF(ISERROR(SEARCH(\"Gas\",Worksheet!$A$18))=TRUE,0,Worksheet!AH298)","v":0},0,null,null,{"$f":"IF(OR(Worksheet!F298=\"Incandescent\",Worksheet!F298=\"Halogen Incandescent\")=TRUE,118,IF(LEFT(Worksheet!F298,3)=\"HID\",117,IF(OR(RIGHT(Worksheet!F298,3)=\"T12\",RIGHT(Worksheet!F298,5)=\"T12HO\")=TRUE,115,IF(OR(RIGHT(Worksheet!F298,2)=\"T8\",RIGHT(Worksheet!F298,4)=\"RWT8\",RIGHT(Worksheet!F298,4)=\"T8HO\")=TRUE,115,\"\"))))","v":""},{"$f":"IF(ISBLANK(Worksheet!W298)=FALSE,Worksheet!W298,\"\")","v":0},{"$f":"IF(ISERROR(SEARCH(\"Oil\",Worksheet!$A$18))=TRUE,0,Worksheet!AH298)","v":0},0,{"$f":"IF(ISERROR(SEARCH(\"Propane\",Worksheet!$A$18))=TRUE,0,Worksheet!AH298)","v":0},0,{"$f":"IF(Worksheet!J298=0,\"\",Worksheet!J298)","v":""},{"$f":"IF(Worksheet!B298=0,\"\",Worksheet!B298)","v":""},{"$f":"IF(Worksheet!K298=0,\"\",Worksheet!K298)","v":""},{"$f":"IF(Worksheet!L298=0,\"\",Worksheet!L298)","v":""},{"$f":"IF(Worksheet!R298=0,\"\",Worksheet!R298)","v":""},{"$f":"IF(Worksheet!F298=0,\"\",Worksheet!F298)","v":""},{"$f":"IF(Worksheet!G298=0,\"\",Worksheet!G298)","v":""},{"$f":"IF(Worksheet!X298=0,\"\",Worksheet!X298)","v":""},{"$f":"IF(Worksheet!Q298=0,\"\",Worksheet!Q298)","v":""},{"$f":"IF(Worksheet!C298=0,\"\",Worksheet!C298)","v":""},{"$f":"IF(Worksheet!D298=0,\"\",Worksheet!D298)","v":""},{"$f":"IF(Worksheet!$A$11=TRUE,\"Y\",\"N\")","v":"N"},{"$f":"IF(Worksheet!$A$12=TRUE,\"Y\",\"N\")","v":"N"},{"$f":"IF(Worksheet!$B$11=TRUE,\"Y\",\"N\")","v":"N"},{"$f":"IF(Worksheet!$B$12=TRUE,\"Y\",\"N\")","v":"N"},{"$f":"IF(Worksheet!$C$11=TRUE,\"Y\",\"N\")","v":"N"},{"$f":"IFERROR(Worksheet!AB298,\"\")","v":0}]
[{"$f":"IF(IFERROR(SEARCH(\"Refrigerated\",Worksheet!L299,1),0)>0,122,IF(ISERROR(RIGHT(VLOOKUP(Worksheet!K299,Type!C$1:E$13,3,FALSE),3))=FALSE,RIGHT(VLOOKUP(Worksheet!K299,Type!C$1:E$13,3,FALSE),3),\"\"))","v":""},{"$f":"IF(Worksheet!M299=\"\",\"\",Worksheet!M299)","v":""},{"$f":"IF(Worksheet!N299=\"\",\"\",Worksheet!N299)","v":""},{"$f":"IF(Worksheet!Y299=0,\"\",Worksheet!Y299)","v":""},"Watts",null,null,{"$f":"Worksheet!AA299","v":0},{"$f":"IF(ISBLANK(Worksheet!V299)=FALSE,Worksheet!V299,\"\")","v":0},{"$f":"Worksheet!AG299","v":0},{"$f":"Worksheet!AF299","v":0},0,{"$f":"IF(ISERROR(SEARCH(\"Gas\",Worksheet!$A$18))=TRUE,0,Worksheet!AH299)","v":0},0,null,null,{"$f":"IF(OR(Worksheet!F299=\"Incandescent\",Worksheet!F299=\"Halogen Incandescent\")=TRUE,118,IF(LEFT(Worksheet!F299,3)=\"HID\",117,IF(OR(RIGHT(Worksheet!F299,3)=\"T12\",RIGHT(Worksheet!F299,5)=\"T12HO\")=TRUE,115,IF(OR(RIGHT(Worksheet!F299,2)=\"T8\",RIGHT(Worksheet!F299,4)=\"RWT8\",RIGHT(Worksheet!F299,4)=\"T8HO\")=TRUE,115,\"\"))))","v":""},{"$f":"IF(ISBLANK(Worksheet!W299)=FALSE,Worksheet!W299,\"\")","v":0},{"$f":"IF(ISERROR(SEARCH(\"Oil\",Worksheet!$A$18))=TRUE,0,Worksheet!AH299)","v":0},0,{"$f":"IF(ISERROR(SEARCH(\"Propane\",Worksheet!$A$18))=TRUE,0,Worksheet!AH299)","v":0},0,{"$f":"IF(Worksheet!J299=0,\"\",Worksheet!J299)","v":""},{"$f":"IF(Worksheet!B299=0,\"\",Worksheet!B299)","v":""},{"$f":"IF(Worksheet!K299=0,\"\",Worksheet!K299)","v":""},{"$f":"IF(Worksheet!L299=0,\"\",Worksheet!L299)","v":""},{"$f":"IF(Worksheet!R299=0,\"\",Worksheet!R299)","v":""},{"$f":"IF(Worksheet!F299=0,\"\",Worksheet!F299)","v":""},{"$f":"IF(Worksheet!G299=0,\"\",Worksheet!G299)","v":""},{"$f":"IF(Worksheet!X299=0,\"\",Worksheet!X299)","v":""},{"$f":"IF(Worksheet!Q299=0,\"\",Worksheet!Q299)","v":""},{"$f":"IF(Worksheet!C299=0,\"\",Worksheet!C299)","v":""},{"$f":"IF(Worksheet!D299=0,\"\",Worksheet!D299)","v":""},{"$f":"IF(Worksheet!$A$11=TRUE,\"Y\",\"N\")","v":"N"},{"$f":"IF(Worksheet!$A$12=TRUE,\"Y\",\"N\")","v":"N"},{"$f":"IF(Worksheet!$B$11=TRUE,\"Y\",\"N\")","v":"N"},{"$f":"IF(Worksheet!$B$12=TRUE,\"Y\",\"N\")","v":"N"},{"$f":"IF(Worksheet!$C$11=TRUE,\"Y\",\"N\")","v":"N"},{"$f":"IFERROR(Worksheet!AB299,\"\")","v":0}]
[{"$f":"IF(IFERROR(SEARCH(\"Refrigerated\",Worksheet!L300,1),0)>0,122,IF(ISERROR(RIGHT(VLOOKUP(Worksheet!K300,Type!C$1:E$13,3,FALSE),3))=FALSE,RIGHT(VLOOKUP(Worksheet!K300,Type!C$1:E$13,3,FALSE),3),\"\"))","v":""},{"$f":"IF(Worksheet!M300=\"\",\"\",Worksheet!M300)","v":""},{"$f":"IF(Worksheet!N300=\"\",\"\",Worksheet!N300)","v":""},{"$f":"IF(Worksheet!Y300=0,\"\",Worksheet!Y300)","v":""},"Watts",null,null,{"$f":"Worksheet!AA300","v":0},{"$f":"IF(ISBLANK(Worksheet!V300)=FALSE,Worksheet!V300,\"\")","v":0},{"$f":"Worksheet!AG300","v":0},{"$f":"Worksheet!AF300","v":0},0,{"$f":"IF(ISERROR(SEARCH(\"Gas\",Worksheet!$A$18))=TRUE,0,Worksheet!AH300)","v":0},0,null,null,{"$f":"IF(OR(Worksheet!F300=\"Incandescent\",Worksheet!F300=\"Halogen Incandescent\")=TRUE,118,IF(LEFT(Worksheet!F300,3)=\"HID\",117,IF(OR(RIGHT(Worksheet!F300,3)=\"T12\",RIGHT(Worksheet!F300,5)=\"T12HO\")=TRUE,115,IF(OR(RIGHT(Worksheet!F300,2)=\"T8\",RIGHT(Worksheet!F300,4)=\"RWT8\",RIGHT(Worksheet!F300,4)=\"T8HO\")=TRUE,115,\"\"))))","v":""},{"$f":"IF(ISBLANK(Worksheet!W300)=FALSE,Worksheet!W300,\"\")","v":0},{"$f":"IF(ISERROR(SEARCH(\"Oil\",Worksheet!$A$18))=TRUE,0,Worksheet!AH300)","v":0},0,{"$f":"IF(ISERROR(SEARCH(\"Propane\",Worksheet!$A$18))=TRUE,0,Worksheet!AH300)","v":0},0,{"$f":"IF(Worksheet!J300=0,\"\",Worksheet!J300)","v":""},{"$f":"IF(Worksheet!B300=0,\"\",Worksheet!B300)","v":""},{"$f":"IF(Worksheet!K300=0,\"\",Worksheet!K300)","v":""},{"$f":"IF(Worksheet!L300=0,\"\",Worksheet!L300)","v":""},{"$f":"IF(Worksheet!R300=0,\"\",Worksheet!R300)","v":""},{"$f":"IF(Worksheet!F300=0,\"\",Worksheet!F300)","v":""},{"$f":"IF(Worksheet!G300=0,\"\",Worksheet!G300)","v":""},{"$f":"IF(Worksheet!X300=0,\"\",Worksheet!X300)","v":""},{"$f":"IF(Worksheet!Q300=0,\"\",Worksheet!Q300)","v":""},{"$f":"IF(Worksheet!C300=0,\"\",Worksheet!C300)","v":""},{"$f":"IF(Worksheet!D300=0,\"\",Worksheet!D300)","v":""},{"$f":"IF(Worksheet!$A$11=TRUE,\"Y\",\"N\")","v":"N"},{"$f":"IF(Worksheet!$A$12=TRUE,\"Y\",\"N\")","v":"N"},{"$f":"IF(Worksheet!$B$11=TRUE,\"Y\",\"N\")","v":"N"},{"$f":"IF(Worksheet!$B$12=TRUE,\"Y\",\"N\")","v":"N"},{"$f":"IF(Worksheet!$C$11=TRUE,\"Y\",\"N\")","v":"N"},{"$f":"IFERROR(Worksheet!AB300,\"\")","v":0}]
[{"$f":"IF(IFERROR(SEARCH(\"Refrigerated\",Worksheet!L301,1),0)>0,122,IF(ISERROR(RIGHT(VLOOKUP(Worksheet!K301,Type!C$1:E$13,3,FALSE),3))=FALSE,RIGHT(VLOOKUP(Worksheet!K301,Type!C$1:E$13,3,FALSE),3),\"\"))","v":""},{"$f":"IF(Worksheet!M301=\"\",\"\",Worksheet!M301)","v":""},{"$f":"IF(Worksheet!N301=\"\",\"\",Worksheet!N301)","v":""},{"$f":"IF(Worksheet!Y301=0,\"\",Worksheet!Y301)","v":""},"Watts",null,null,{"$f":"Worksheet!AA301","v":0},{"$f":"IF(ISBLANK(Worksheet!V301)=FALSE,Worksheet!V301,\"\")","v":0},{"$f":"Worksheet!AG301","v":0},{"$f":"Worksheet!AF301","v":0},0,{"$f":"IF(ISERROR(SEARCH(\"Gas\",Worksheet!$A$18))=TRUE,0,Worksheet!AH301)","v":0},0,null,null,{"$f":"IF(OR(Worksheet!F301=\"Incandescent\",Worksheet!F301=\"Halogen Incandescent\")=TRUE,118,IF(LEFT(Worksheet!F301,3)=\"HID\",117,IF(OR(RIGHT(Worksheet!F301,3)=\"T12\",RIGHT(Worksheet!F301,5)=\"T12HO\")=TRUE,115,IF(OR(RIGHT(Worksheet!F301,2)=\"T8\",RIGHT(Worksheet!F301,4)=\"RWT8\",RIGHT(Worksheet!F301,4)=\"T8HO\")=TRUE,115,\"\"))))","v":""},{"$f":"IF(ISBLANK(Worksheet!W301)=FALSE,Worksheet!W301,\"\")","v":0},{"$f":"IF(ISERROR(SEARCH(\"Oil\",Worksheet!$A$18))=TRUE,0,Worksheet!AH301)","v":0},0,{"$f":"IF(ISERROR(SEARCH(\"Propane\",Worksheet!$A$18))=TRUE,0,Worksheet!AH301)","v":0},0,{"$f":"IF(Worksheet!J301=0,\"\",Worksheet!J301)","v":""},{"$f":"IF(Worksheet!B301=0,\"\",Worksheet!B301)","v":""},{"$f":"IF(Worksheet!K301=0,\"\",Worksheet!K301)","v":""},{"$f":"IF(Worksheet!L301=0,\"\",Worksheet!L301)","v":""},{"$f":"IF(Worksheet!R301=0,\"\",Worksheet!R301)","v":""},{"$f":"IF(Worksheet!F301=0,\"\",Worksheet!F301)","v":""},{"$f":"IF(Worksheet!G301=0,\"\",Worksheet!G301)","v":""},{"$f":"IF(Worksheet!X301=0,\"\",Worksheet!X301)","v":""},{"$f":"IF(Worksheet!Q301=0,\"\",Worksheet!Q301)","v":""},{"$f":"IF(Worksheet!C301=0,\"\",Worksheet!C301)","v":""},{"$f":"IF(Worksheet!D301=0,\"\",Worksheet!D301)","v":""},{"$f":"IF(Worksheet!$A$11=TRUE,\"Y\",\"N\")","v":"N"},{"$f":"IF(Worksheet!$A$12=TRUE,\"Y\",\"N\")","v":"N"},{"$f":"IF(Worksheet!$B$11=TRUE,\"Y\",\"N\")","v":"N"},{"$f":"IF(Worksheet!$B$12=TRUE,\"Y\",\"N\")","v":"N"},{"$f":"IF(Worksheet!$C$11=TRUE,\"Y\",\"N\")","v":"N"},{"$f":"IFERROR(Worksheet!AB301,\"\")","v":0}]
[{"$f":"IF(IFERROR(SEARCH(\"Refrigerated\",Worksheet!L302,1),0)>0,122,IF(ISERROR(RIGHT(VLOOKUP(Worksheet!K302,Type!C$1:E$13,3,FALSE),3))=FALSE,RIGHT(VLOOKUP(Worksheet!K302,Type!C$1:E$13,3,FALSE),3),\"\"))","v":""},{"$f":"IF(Worksheet!M302=\"\",\"\",Worksheet!M302)","v":""},{"$f":"IF(Worksheet!N302=\"\",\"\",Worksheet!N302)","v":""},{"$f":"IF(Worksheet!Y302=0,\"\",Worksheet!Y302)","v":""},"Watts",null,null,{"$f":"Worksheet!AA302","v":0},{"$f":"IF(ISBLANK(Worksheet!V302)=FALSE,Worksheet!V302,\"\")","v":0},{"$f":"Worksheet!AG302","v":0},{"$f":"Worksheet!AF302","v":0},0,{"$f":"IF(ISERROR(SEARCH(\"Gas\",Worksheet!$A$18))=TRUE,0,Worksheet!AH302)","v":0},0,null,null,{"$f":"IF(OR(Worksheet!F302=\"Incandescent\",Worksheet!F302=\"Halogen Incandescent\")=TRUE,118,IF(LEFT(Worksheet!F302,3)=\"HID\",117,IF(OR(RIGHT(Worksheet!F302,3)=\"T12\",RIGHT(Worksheet!F302,5)=\"T12HO\")=TRUE,115,IF(OR(RIGHT(Worksheet!F302,2)=\"T8\",RIGHT(Worksheet!F302,4)=\"RWT8\",RIGHT(Worksheet!F302,4)=\"T8HO\")=TRUE,115,\"\"))))","v":""},{"$f":"IF(ISBLANK(Worksheet!W302)=FALSE,Worksheet!W302,\"\")","v":0},{"$f":"IF(ISERROR(SEARCH(\"Oil\",Worksheet!$A$18))=TRUE,0,Worksheet!AH302)","v":0},0,{"$f":"IF(ISERROR(SEARCH(\"Propane\",Worksheet!$A$18))=TRUE,0,Worksheet!AH302)","v":0},0,{"$f":"IF(Worksheet!J302=0,\"\",Worksheet!J302)","v":""},{"$f":"IF(Worksheet!B302=0,\"\",Worksheet!B302)","v":""},{"$f":"IF(Worksheet!K302=0,\"\",Worksheet!K302)","v":""},{"$f":"IF(Worksheet!L302=0,\"\",Worksheet!L302)","v":""},{"$f":"IF(Worksheet!R302=0,\"\",Worksheet!R302)","v":""},{"$f":"IF(Worksheet!F302=0,\"\",Worksheet!F302)","v":""},{"$f":"IF(Worksheet!G302=0,\"\",Worksheet!G302)","v":""},{"$f":"IF(Worksheet!X302=0,\"\",Worksheet!X302)","v":""},{"$f":"IF(Worksheet!Q302=0,\"\",Worksheet!Q302)","v":""},{"$f":"IF(Worksheet!C302=0,\"\",Worksheet!C302)","v":""},{"$f":"IF(Worksheet!D302=0,\"\",Worksheet!D302)","v":""},{"$f":"IF(Worksheet!$A$11=TRUE,\"Y\",\"N\")","v":"N"},{"$f":"IF(Worksheet!$A$12=TRUE,\"Y\",\"N\")","v":"N"},{"$f":"IF(Worksheet!$B$11=TRUE,\"Y\",\"N\")","v":"N"},{"$f":"IF(Worksheet!$B$12=TRUE,\"Y\",\"N\")","v":"N"},{"$f":"IF(Worksheet!$C$11=TRUE,\"Y\",\"N\")","v":"N"},{"$f":"IFERROR(Worksheet!AB302,\"\")","v":0}]
[{"$f":"IF(IFERROR(SEARCH(\"Refrigerated\",Worksheet!L303,1),0)>0,122,IF(ISERROR(RIGHT(VLOOKUP(Worksheet!K303,Type!C$1:E$13,3,FALSE),3))=FALSE,RIGHT(VLOOKUP(Worksheet!K303,Type!C$1:E$13,3,FALSE),3),\"\"))","v":""},{"$f":"IF(Worksheet!M303=\"\",\"\",Worksheet!M303)","v":""},{"$f":"IF(Worksheet!N303=\"\",\"\",Worksheet!N303)","v":""},{"$f":"IF(Worksheet!Y303=0,\"\",Worksheet!Y303)","v":""},"Watts",null,null,{"$f":"Worksheet!AA303","v":0},{"$f":"IF(ISBLANK(Worksheet!V303)=FALSE,Worksheet!V303,\"\")","v":0},{"$f":"Worksheet!AG303","v":0},{"$f":"Worksheet!AF303","v":0},0,{"$f":"IF(ISERROR(SEARCH(\"Gas\",Worksheet!$A$18))=TRUE,0,Worksheet!AH303)","v":0},0,null,null,{"$f":"IF(OR(Worksheet!F303=\"Incandescent\",Worksheet!F303=\"Halogen Incandescent\")=TRUE,118,IF(LEFT(Worksheet!F303,3)=\"HID\",117,IF(OR(RIGHT(Worksheet!F303,3)=\"T12\",RIGHT(Worksheet!F303,5)=\"T12HO\")=TRUE,115,IF(OR(RIGHT(Worksheet!F303,2)=\"T8\",RIGHT(Worksheet!F303,4)=\"RWT8\",RIGHT(Worksheet!F303,4)=\"T8HO\")=TRUE,115,\"\"))))","v":""},{"$f":"IF(ISBLANK(Worksheet!W303)=FALSE,Worksheet!W303,\"\")","v":0},{"$f":"IF(ISERROR(SEARCH(\"Oil\",Worksheet!$A$18))=TRUE,0,Worksheet!AH303)","v":0},0,{"$f":"IF(ISERROR(SEARCH(\"Propane\",Worksheet!$A$18))=TRUE,0,Worksheet!AH303)","v":0},0,{"$f":"IF(Worksheet!J303=0,\"\",Worksheet!J303)","v":""},{"$f":"IF(Worksheet!B303=0,\"\",Worksheet!B303)","v":""},{"$f":"IF(Worksheet!K303=0,\"\",Worksheet!K303)","v":""},{"$f":"IF(Worksheet!L303=0,\"\",Worksheet!L303)","v":""},{"$f":"IF(Worksheet!R303=0,\"\",Worksheet!R303)","v":""},{"$f":"IF(Worksheet!F303=0,\"\",Worksheet!F303)","v":""},{"$f":"IF(Worksheet!G303=0,\"\",Worksheet!G303)","v":""},{"$f":"IF(Worksheet!X303=0,\"\",Worksheet!X303)","v":""},{"$f":"IF(Worksheet!Q303=0,\"\",Worksheet!Q303)","v":""},{"$f":"IF(Worksheet!C303=0,\"\",Worksheet!C303)","v":""},{"$f":"IF(Worksheet!D303=0,\"\",Worksheet!D303)","v":""},{"$f":"IF(Worksheet!$A$11=TRUE,\"Y\",\"N\")","v":"N"},{"$f":"IF(Worksheet!$A$12=TRUE,\"Y\",\"N\")","v":"N"},{"$f":"IF(Worksheet!$B$11=TRUE,\"Y\",\"N\")","v":"N"},{"$f":"IF(Worksheet!$B$12=TRUE,\"Y\",\"N\")","v":"N"},{"$f":"IF(Worksheet!$C$11=TRUE,\"Y\",\"N\")","v":"N"},{"$f":"IFERROR(Worksheet!AB303,\"\")","v":0}]
[{"$f":"IF(IFERROR(SEARCH(\"Refrigerated\",Worksheet!L304,1),0)>0,122,IF(ISERROR(RIGHT(VLOOKUP(Worksheet!K304,Type!C$1:E$13,3,FALSE),3))=FALSE,RIGHT(VLOOKUP(Worksheet!K304,Type!C$1:E$13,3,FALSE),3),\"\"))","v":""},{"$f":"IF(Worksheet!M304=\"\",\"\",Worksheet!M304)","v":""},{"$f":"IF(Worksheet!N304=\"\",\"\",Worksheet!N304)","v":""},{"$f":"IF(Worksheet!Y304=0,\"\",Worksheet!Y304)","v":""},"Watts",null,null,{"$f":"Worksheet!AA304","v":0},{"$f":"IF(ISBLANK(Worksheet!V304)=FALSE,Worksheet!V304,\"\")","v":0},{"$f":"Worksheet!AG304","v":0},{"$f":"Worksheet!AF304","v":0},0,{"$f":"IF(ISERROR(SEARCH(\"Gas\",Worksheet!$A$18))=TRUE,0,Worksheet!AH304)","v":0},0,null,null,{"$f":"IF(OR(Worksheet!F304=\"Incandescent\",Worksheet!F304=\"Halogen Incandescent\")=TRUE,118,IF(LEFT(Worksheet!F304,3)=\"HID\",117,IF(OR(RIGHT(Worksheet!F304,3)=\"T12\",RIGHT(Worksheet!F304,5)=\"T12HO\")=TRUE,115,IF(OR(RIGHT(Worksheet!F304,2)=\"T8\",RIGHT(Worksheet!F304,4)=\"RWT8\",RIGHT(Worksheet!F304,4)=\"T8HO\")=TRUE,115,\"\"))))","v":""},{"$f":"IF(ISBLANK(Worksheet!W304)=FALSE,Worksheet!W304,\"\")","v":0},{"$f":"IF(ISERROR(SEARCH(\"Oil\",Worksheet!$A$18))=TRUE,0,Worksheet!AH304)","v":0},0,{"$f":"IF(ISERROR(SEARCH(\"Propane\",Worksheet!$A$18))=TRUE,0,Worksheet!AH304)","v":0},0,{"$f":"IF(Worksheet!J304=0,\"\",Worksheet!J304)","v":""},{"$f":"IF(Worksheet!B304=0,\"\",Worksheet!B304)","v":""},{"$f":"IF(Worksheet!K304=0,\"\",Worksheet!K304)","v":""},{"$f":"IF(Worksheet!L304=0,\"\",Worksheet!L304)","v":""},{"$f":"IF(Worksheet!R304=0,\"\",Worksheet!R304)","v":""},{"$f":"IF(Worksheet!F304=0,\"\",Worksheet!F304)","v":""},{"$f":"IF(Worksheet!G304=0,\"\",Worksheet!G304)","v":""},{"$f":"IF(Worksheet!X304=0,\"\",Worksheet!X304)","v":""},{"$f":"IF(Worksheet!Q304=0,\"\",Worksheet!Q304)","v":""},{"$f":"IF(Worksheet!C304=0,\"\",Worksheet!C304)","v":""},{"$f":"IF(Worksheet!D304=0,\"\",Worksheet!D304)","v":""},{"$f":"IF(Worksheet!$A$11=TRUE,\"Y\",\"N\")","v":"N"},{"$f":"IF(Worksheet!$A$12=TRUE,\"Y\",\"N\")","v":"N"},{"$f":"IF(Worksheet!$B$11=TRUE,\"Y\",\"N\")","v":"N"},{"$f":"IF(Worksheet!$B$12=TRUE,\"Y\",\"N\")","v":"N"},{"$f":"IF(Worksheet!$C$11=TRUE,\"Y\",\"N\")","v":"N"},{"$f":"IFERROR(Worksheet!AB304,\"\")","v":0}]
[{"$f":"IF(IFERROR(SEARCH(\"Refrigerated\",Worksheet!L305,1),0)>0,122,IF(ISERROR(RIGHT(VLOOKUP(Worksheet!K305,Type!C$1:E$13,3,FALSE),3))=FALSE,RIGHT(VLOOKUP(Worksheet!K305,Type!C$1:E$13,3,FALSE),3),\"\"))","v":""},{"$f":"IF(Worksheet!M305=\"\",\"\",Worksheet!M305)","v":""},{"$f":"IF(Worksheet!N305=\"\",\"\",Worksheet!N305)","v":""},{"$f":"IF(Worksheet!Y305=0,\"\",Worksheet!Y305)","v":""},"Watts",null,null,{"$f":"Worksheet!AA305","v":0},{"$f":"IF(ISBLANK(Worksheet!V305)=FALSE,Worksheet!V305,\"\")","v":0},{"$f":"Worksheet!AG305","v":0},{"$f":"Worksheet!AF305","v":0},0,{"$f":"IF(ISERROR(SEARCH(\"Gas\",Worksheet!$A$18))=TRUE,0,Worksheet!AH305)","v":0},0,null,null,{"$f":"IF(OR(Worksheet!F305=\"Incandescent\",Worksheet!F305=\"Halogen Incandescent\")=TRUE,118,IF(LEFT(Worksheet!F305,3)=\"HID\",117,IF(OR(RIGHT(Worksheet!F305,3)=\"T12\",RIGHT(Worksheet!F305,5)=\"T12HO\")=TRUE,115,IF(OR(RIGHT(Worksheet!F305,2)=\"T8\",RIGHT(Worksheet!F305,4)=\"RWT8\",RIGHT(Worksheet!F305,4)=\"T8HO\")=TRUE,115,\"\"))))","v":""},{"$f":"IF(ISBLANK(Worksheet!W305)=FALSE,Worksheet!W305,\"\")","v":0},{"$f":"IF(ISERROR(SEARCH(\"Oil\",Worksheet!$A$18))=TRUE,0,Worksheet!AH305)","v":0},0,{"$f":"IF(ISERROR(SEARCH(\"Propane\",Worksheet!$A$18))=TRUE,0,Worksheet!AH305)","v":0},0,{"$f":"IF(Worksheet!J305=0,\"\",Worksheet!J305)","v":""},{"$f":"IF(Worksheet!B305=0,\"\",Worksheet!B305)","v":""},{"$f":"IF(Worksheet!K305=0,\"\",Worksheet!K305)","v":""},{"$f":"IF(Worksheet!L305=0,\"\",Worksheet!L305)","v":""},{"$f":"IF(Worksheet!R305=0,\"\",Worksheet!R305)","v":""},{"$f":"IF(Worksheet!F305=0,\"\",Worksheet!F305)","v":""},{"$f":"IF(Worksheet!G305=0,\"\",Worksheet!G305)","v":""},{"$f":"IF(Worksheet!X305=0,\"\",Worksheet!X305)","v":""},{"$f":"IF(Worksheet!Q305=0,\"\",Worksheet!Q305)","v":""},{"$f":"IF(Worksheet!C305=0,\"\",Worksheet!C305)","v":""},{"$f":"IF(Worksheet!D305=0,\"\",Worksheet!D305)","v":""},{"$f":"IF(Worksheet!$A$11=TRUE,\"Y\",\"N\")","v":"N"},{"$f":"IF(Worksheet!$A$12=TRUE,\"Y\",\"N\")","v":"N"},{"$f":"IF(Worksheet!$B$11=TRUE,\"Y\",\"N\")","v":"N"},{"$f":"IF(Worksheet!$B$12=TRUE,\"Y\",\"N\")","v":"N"},{"$f":"IF(Worksheet!$C$11=TRUE,\"Y\",\"N\")","v":"N"},{"$f":"IFERROR(Worksheet!AB305,\"\")","v":0}]
[{"$f":"IF(IFERROR(SEARCH(\"Refrigerated\",Worksheet!L306,1),0)>0,122,IF(ISERROR(RIGHT(VLOOKUP(Worksheet!K306,Type!C$1:E$13,3,FALSE),3))=FALSE,RIGHT(VLOOKUP(Worksheet!K306,Type!C$1:E$13,3,FALSE),3),\"\"))","v":""},{"$f":"IF(Worksheet!M306=\"\",\"\",Worksheet!M306)","v":""},{"$f":"IF(Worksheet!N306=\"\",\"\",Worksheet!N306)","v":""},{"$f":"IF(Worksheet!Y306=0,\"\",Worksheet!Y306)","v":""},"Watts",null,null,{"$f":"Worksheet!AA306","v":0},{"$f":"IF(ISBLANK(Worksheet!V306)=FALSE,Worksheet!V306,\"\")","v":0},{"$f":"Worksheet!AG306","v":0},{"$f":"Worksheet!AF306","v":0},0,{"$f":"IF(ISERROR(SEARCH(\"Gas\",Worksheet!$A$18))=TRUE,0,Worksheet!AH306)","v":0},0,null,null,{"$f":"IF(OR(Worksheet!F306=\"Incandescent\",Worksheet!F306=\"Halogen Incandescent\")=TRUE,118,IF(LEFT(Worksheet!F306,3)=\"HID\",117,IF(OR(RIGHT(Worksheet!F306,3)=\"T12\",RIGHT(Worksheet!F306,5)=\"T12HO\")=TRUE,115,IF(OR(RIGHT(Worksheet!F306,2)=\"T8\",RIGHT(Worksheet!F306,4)=\"RWT8\",RIGHT(Worksheet!F306,4)=\"T8HO\")=TRUE,115,\"\"))))","v":""},{"$f":"IF(ISBLANK(Worksheet!W306)=FALSE,Worksheet!W306,\"\")","v":0},{"$f":"IF(ISERROR(SEARCH(\"Oil\",Worksheet!$A$18))=TRUE,0,Worksheet!AH306)","v":0},0,{"$f":"IF(ISERROR(SEARCH(\"Propane\",Worksheet!$A$18))=TRUE,0,Worksheet!AH306)","v":0},0,{"$f":"IF(Worksheet!J306=0,\"\",Worksheet!J306)","v":""},{"$f":"IF(Worksheet!B306=0,\"\",Worksheet!B306)","v":""},{"$f":"IF(Worksheet!K306=0,\"\",Worksheet!K306)","v":""},{"$f":"IF(Worksheet!L306=0,\"\",Worksheet!L306)","v":""},{"$f":"IF(Worksheet!R306=0,\"\",Worksheet!R306)","v":""},{"$f":"IF(Worksheet!F306=0,\"\",Worksheet!F306)","v":""},{"$f":"IF(Worksheet!G306=0,\"\",Worksheet!G306)","v":""},{"$f":"IF(Worksheet!X306=0,\"\",Worksheet!X306)","v":""},{"$f":"IF(Worksheet!Q306=0,\"\",Worksheet!Q306)","v":""},{"$f":"IF(Worksheet!C306=0,\"\",Worksheet!C306)","v":""},{"$f":"IF(Worksheet!D306=0,\"\",Worksheet!D306)","v":""},{"$f":"IF(Worksheet!$A$11=TRUE,\"Y\",\"N\")","v":"N"},{"$f":"IF(Worksheet!$A$12=TRUE,\"Y\",\"N\")","v":"N"},{"$f":"IF(Worksheet!$B$11=TRUE,\"Y\",\"N\")","v":"N"},{"$f":"IF(Worksheet!$B$12=TRUE,\"Y\",\"N\")","v":"N"},{"$f":"IF(Worksheet!$C$11=TRUE,\"Y\",\"N\")","v":"N"},{"$f":"IFERROR(Worksheet!AB306,\"\")","v":0}]
[{"$f":"IF(IFERROR(SEARCH(\"Refrigerated\",Worksheet!L307,1),0)>0,122,IF(ISERROR(RIGHT(VLOOKUP(Worksheet!K307,Type!C$1:E$13,3,FALSE),3))=FALSE,RIGHT(VLOOKUP(Worksheet!K307,Type!C$1:E$13,3,FALSE),3),\"\"))","v":""},{"$f":"IF(Worksheet!M307=\"\",\"\",Worksheet!M307)","v":""},{"$f":"IF(Worksheet!N307=\"\",\"\",Worksheet!N307)","v":""},{"$f":"IF(Worksheet!Y307=0,\"\",Worksheet!Y307)","v":""},"Watts",null,null,{"$f":"Worksheet!AA307","v":0},{"$f":"IF(ISBLANK(Worksheet!V307)=FALSE,Worksheet!V307,\"\")","v":0},{"$f":"Worksheet!AG307","v":0},{"$f":"Worksheet!AF307","v":0},0,{"$f":"IF(ISERROR(SEARCH(\"Gas\",Worksheet!$A$18))=TRUE,0,Worksheet!AH307)","v":0},0,null,null,{"$f":"IF(OR(Worksheet!F307=\"Incandescent\",Worksheet!F307=\"Halogen Incandescent\")=TRUE,118,IF(LEFT(Worksheet!F307,3)=\"HID\",117,IF(OR(RIGHT(Worksheet!F307,3)=\"T12\",RIGHT(Worksheet!F307,5)=\"T12HO\")=TRUE,115,IF(OR(RIGHT(Worksheet!F307,2)=\"T8\",RIGHT(Worksheet!F307,4)=\"RWT8\",RIGHT(Worksheet!F307,4)=\"T8HO\")=TRUE,115,\"\"))))","v":""},{"$f":"IF(ISBLANK(Worksheet!W307)=FALSE,Worksheet!W307,\"\")","v":0},{"$f":"IF(ISERROR(SEARCH(\"Oil\",Worksheet!$A$18))=TRUE,0,Worksheet!AH307)","v":0},0,{"$f":"IF(ISERROR(SEARCH(\"Propane\",Worksheet!$A$18))=TRUE,0,Worksheet!AH307)","v":0},0,{"$f":"IF(Worksheet!J307=0,\"\",Worksheet!J307)","v":""},{"$f":"IF(Worksheet!B307=0,\"\",Worksheet!B307)","v":""},{"$f":"IF(Worksheet!K307=0,\"\",Worksheet!K307)","v":""},{"$f":"IF(Worksheet!L307=0,\"\",Worksheet!L307)","v":""},{"$f":"IF(Worksheet!R307=0,\"\",Worksheet!R307)","v":""},{"$f":"IF(Worksheet!F307=0,\"\",Worksheet!F307)","v":""},{"$f":"IF(Worksheet!G307=0,\"\",Worksheet!G307)","v":""},{"$f":"IF(Worksheet!X307=0,\"\",Worksheet!X307)","v":""},{"$f":"IF(Worksheet!Q307=0,\"\",Worksheet!Q307)","v":""},{"$f":"IF(Worksheet!C307=0,\"\",Worksheet!C307)","v":""},{"$f":"IF(Worksheet!D307=0,\"\",Worksheet!D307)","v":""},{"$f":"IF(Worksheet!$A$11=TRUE,\"Y\",\"N\")","v":"N"},{"$f":"IF(Worksheet!$A$12=TRUE,\"Y\",\"N\")","v":"N"},{"$f":"IF(Worksheet!$B$11=TRUE,\"Y\",\"N\")","v":"N"},{"$f":"IF(Worksheet!$B$12=TRUE,\"Y\",\"N\")","v":"N"},{"$f":"IF(Worksheet!$C$11=TRUE,\"Y\",\"N\")","v":"N"},{"$f":"IFERROR(Worksheet!AB307,\"\")","v":0}]
[{"$f":"IF(IFERROR(SEARCH(\"Refrigerated\",Worksheet!L308,1),0)>0,122,IF(ISERROR(RIGHT(VLOOKUP(Worksheet!K308,Type!C$1:E$13,3,FALSE),3))=FALSE,RIGHT(VLOOKUP(Worksheet!K308,Type!C$1:E$13,3,FALSE),3),\"\"))","v":""},{"$f":"IF(Worksheet!M308=\"\",\"\",Worksheet!M308)","v":""},{"$f":"IF(Worksheet!N308=\"\",\"\",Worksheet!N308)","v":""},{"$f":"IF(Worksheet!Y308=0,\"\",Worksheet!Y308)","v":""},"Watts",null,null,{"$f":"Worksheet!AA308","v":0},{"$f":"IF(ISBLANK(Worksheet!V308)=FALSE,Worksheet!V308,\"\")","v":0},{"$f":"Worksheet!AG308","v":0},{"$f":"Worksheet!AF308","v":0},0,{"$f":"IF(ISERROR(SEARCH(\"Gas\",Worksheet!$A$18))=TRUE,0,Worksheet!AH308)","v":0},0,null,null,{"$f":"IF(OR(Worksheet!F308=\"Incandescent\",Worksheet!F308=\"Halogen Incandescent\")=TRUE,118,IF(LEFT(Worksheet!F308,3)=\"HID\",117,IF(OR(RIGHT(Worksheet!F308,3)=\"T12\",RIGHT(Worksheet!F308,5)=\"T12HO\")=TRUE,115,IF(OR(RIGHT(Worksheet!F308,2)=\"T8\",RIGHT(Worksheet!F308,4)=\"RWT8\",RIGHT(Worksheet!F308,4)=\"T8HO\")=TRUE,115,\"\"))))","v":""},{"$f":"IF(ISBLANK(Worksheet!W308)=FALSE,Worksheet!W308,\"\")","v":0},{"$f":"IF(ISERROR(SEARCH(\"Oil\",Worksheet!$A$18))=TRUE,0,Worksheet!AH308)","v":0},0,{"$f":"IF(ISERROR(SEARCH(\"Propane\",Worksheet!$A$18))=TRUE,0,Worksheet!AH308)","v":0},0,{"$f":"IF(Worksheet!J308=0,\"\",Worksheet!J308)","v":""},{"$f":"IF(Worksheet!B308=0,\"\",Worksheet!B308)","v":""},{"$f":"IF(Worksheet!K308=0,\"\",Worksheet!K308)","v":""},{"$f":"IF(Worksheet!L308=0,\"\",Worksheet!L308)","v":""},{"$f":"IF(Worksheet!R308=0,\"\",Worksheet!R308)","v":""},{"$f":"IF(Worksheet!F308=0,\"\",Worksheet!F308)","v":""},{"$f":"IF(Worksheet!G308=0,\"\",Worksheet!G308)","v":""},{"$f":"IF(Worksheet!X308=0,\"\",Worksheet!X308)","v":""},{"$f":"IF(Worksheet!Q308=0,\"\",Worksheet!Q308)","v":""},{"$f":"IF(Worksheet!C308=0,\"\",Worksheet!C308)","v":""},{"$f":"IF(Worksheet!D308=0,\"\",Worksheet!D308)","v":""},{"$f":"IF(Worksheet!$A$11=TRUE,\"Y\",\"N\")","v":"N"},{"$f":"IF(Worksheet!$A$12=TRUE,\"Y\",\"N\")","v":"N"},{"$f":"IF(Worksheet!$B$11=TRUE,\"Y\",\"N\")","v":"N"},{"$f":"IF(Worksheet!$B$12=TRUE,\"Y\",\"N\")","v":"N"},{"$f":"IF(Worksheet!$C$11=TRUE,\"Y\",\"N\")","v":"N"},{"$f":"IFERROR(Worksheet!AB308,\"\")","v":0}]
[{"$f":"IF(IFERROR(SEARCH(\"Refrigerated\",Worksheet!L309,1),0)>0,122,IF(ISERROR(RIGHT(VLOOKUP(Worksheet!K309,Type!C$1:E$13,3,FALSE),3))=FALSE,RIGHT(VLOOKUP(Worksheet!K309,Type!C$1:E$13,3,FALSE),3),\"\"))","v":""},{"$f":"IF(Worksheet!M309=\"\",\"\",Worksheet!M309)","v":""},{"$f":"IF(Worksheet!N309=\"\",\"\",Worksheet!N309)","v":""},{"$f":"IF(Worksheet!Y309=0,\"\",Worksheet!Y309)","v":""},"Watts",null,null,{"$f":"Worksheet!AA309","v":0},{"$f":"IF(ISBLANK(Worksheet!V309)=FALSE,Worksheet!V309,\"\")","v":0},{"$f":"Worksheet!AG309","v":0},{"$f":"Worksheet!AF309","v":0},0,{"$f":"IF(ISERROR(SEARCH(\"Gas\",Worksheet!$A$18))=TRUE,0,Worksheet!AH309)","v":0},0,null,null,{"$f":"IF(OR(Worksheet!F309=\"Incandescent\",Worksheet!F309=\"Halogen Incandescent\")=TRUE,118,IF(LEFT(Worksheet!F309,3)=\"HID\",117,IF(OR(RIGHT(Worksheet!F309,3)=\"T12\",RIGHT(Worksheet!F309,5)=\"T12HO\")=TRUE,115,IF(OR(RIGHT(Worksheet!F309,2)=\"T8\",RIGHT(Worksheet!F309,4)=\"RWT8\",RIGHT(Worksheet!F309,4)=\"T8HO\")=TRUE,115,\"\"))))","v":""},{"$f":"IF(ISBLANK(Worksheet!W309)=FALSE,Worksheet!W309,\"\")","v":0},{"$f":"IF(ISERROR(SEARCH(\"Oil\",Worksheet!$A$18))=TRUE,0,Worksheet!AH309)","v":0},0,{"$f":"IF(ISERROR(SEARCH(\"Propane\",Worksheet!$A$18))=TRUE,0,Worksheet!AH309)","v":0},0,{"$f":"IF(Worksheet!J309=0,\"\",Worksheet!J309)","v":""},{"$f":"IF(Worksheet!B309=0,\"\",Worksheet!B309)","v":""},{"$f":"IF(Worksheet!K309=0,\"\",Worksheet!K309)","v":""},{"$f":"IF(Worksheet!L309=0,\"\",Worksheet!L309)","v":""},{"$f":"IF(Worksheet!R309=0,\"\",Worksheet!R309)","v":""},{"$f":"IF(Worksheet!F309=0,\"\",Worksheet!F309)","v":""},{"$f":"IF(Worksheet!G309=0,\"\",Worksheet!G309)","v":""},{"$f":"IF(Worksheet!X309=0,\"\",Worksheet!X309)","v":""},{"$f":"IF(Worksheet!Q309=0,\"\",Worksheet!Q309)","v":""},{"$f":"IF(Worksheet!C309=0,\"\",Worksheet!C309)","v":""},{"$f":"IF(Worksheet!D309=0,\"\",Worksheet!D309)","v":""},{"$f":"IF(Worksheet!$A$11=TRUE,\"Y\",\"N\")","v":"N"},{"$f":"IF(Worksheet!$A$12=TRUE,\"Y\",\"N\")","v":"N"},{"$f":"IF(Worksheet!$B$11=TRUE,\"Y\",\"N\")","v":"N"},{"$f":"IF(Worksheet!$B$12=TRUE,\"Y\",\"N\")","v":"N"},{"$f":"IF(Worksheet!$C$11=TRUE,\"Y\",\"N\")","v":"N"},{"$f":"IFERROR(Worksheet!AB309,\"\")","v":0}]
[{"$f":"IF(IFERROR(SEARCH(\"Refrigerated\",Worksheet!L310,1),0)>0,122,IF(ISERROR(RIGHT(VLOOKUP(Worksheet!K310,Type!C$1:E$13,3,FALSE),3))=FALSE,RIGHT(VLOOKUP(Worksheet!K310,Type!C$1:E$13,3,FALSE),3),\"\"))","v":""},{"$f":"IF(Worksheet!M310=\"\",\"\",Worksheet!M310)","v":""},{"$f":"IF(Worksheet!N310=\"\",\"\",Worksheet!N310)","v":""},{"$f":"IF(Worksheet!Y310=0,\"\",Worksheet!Y310)","v":""},"Watts",null,null,{"$f":"Worksheet!AA310","v":0},{"$f":"IF(ISBLANK(Worksheet!V310)=FALSE,Worksheet!V310,\"\")","v":0},{"$f":"Worksheet!AG310","v":0},{"$f":"Worksheet!AF310","v":0},0,{"$f":"IF(ISERROR(SEARCH(\"Gas\",Worksheet!$A$18))=TRUE,0,Worksheet!AH310)","v":0},0,null,null,{"$f":"IF(OR(Worksheet!F310=\"Incandescent\",Worksheet!F310=\"Halogen Incandescent\")=TRUE,118,IF(LEFT(Worksheet!F310,3)=\"HID\",117,IF(OR(RIGHT(Worksheet!F310,3)=\"T12\",RIGHT(Worksheet!F310,5)=\"T12HO\")=TRUE,115,IF(OR(RIGHT(Worksheet!F310,2)=\"T8\",RIGHT(Worksheet!F310,4)=\"RWT8\",RIGHT(Worksheet!F310,4)=\"T8HO\")=TRUE,115,\"\"))))","v":""},{"$f":"IF(ISBLANK(Worksheet!W310)=FALSE,Worksheet!W310,\"\")","v":0},{"$f":"IF(ISERROR(SEARCH(\"Oil\",Worksheet!$A$18))=TRUE,0,Worksheet!AH310)","v":0},0,{"$f":"IF(ISERROR(SEARCH(\"Propane\",Worksheet!$A$18))=TRUE,0,Worksheet!AH310)","v":0},0,{"$f":"IF(Worksheet!J310=0,\"\",Worksheet!J310)","v":""},{"$f":"IF(Worksheet!B310=0,\"\",Worksheet!B310)","v":""},{"$f":"IF(Worksheet!K310=0,\"\",Worksheet!K310)","v":""},{"$f":"IF(Worksheet!L310=0,\"\",Worksheet!L310)","v":""},{"$f":"IF(Worksheet!R310=0,\"\",Worksheet!R310)","v":""},{"$f":"IF(Worksheet!F310=0,\"\",Worksheet!F310)","v":""},{"$f":"IF(Worksheet!G310=0,\"\",Worksheet!G310)","v":""},{"$f":"IF(Worksheet!X310=0,\"\",Worksheet!X310)","v":""},{"$f":"IF(Worksheet!Q310=0,\"\",Worksheet!Q310)","v":""},{"$f":"IF(Worksheet!C310=0,\"\",Worksheet!C310)","v":""},{"$f":"IF(Worksheet!D310=0,\"\",Worksheet!D310)","v":""},{"$f":"IF(Worksheet!$A$11=TRUE,\"Y\",\"N\")","v":"N"},{"$f":"IF(Worksheet!$A$12=TRUE,\"Y\",\"N\")","v":"N"},{"$f":"IF(Worksheet!$B$11=TRUE,\"Y\",\"N\")","v":"N"},{"$f":"IF(Worksheet!$B$12=TRUE,\"Y\",\"N\")","v":"N"},{"$f":"IF(Worksheet!$C$11=TRUE,\"Y\",\"N\")","v":"N"},{"$f":"IFERROR(Worksheet!AB310,\"\")","v":0}]
[{"$f":"IF(IFERROR(SEARCH(\"Refrigerated\",Worksheet!L311,1),0)>0,122,IF(ISERROR(RIGHT(VLOOKUP(Worksheet!K311,Type!C$1:E$13,3,FALSE),3))=FALSE,RIGHT(VLOOKUP(Worksheet!K311,Type!C$1:E$13,3,FALSE),3),\"\"))","v":""},{"$f":"IF(Worksheet!M311=\"\",\"\",Worksheet!M311)","v":""},{"$f":"IF(Worksheet!N311=\"\",\"\",Worksheet!N311)","v":""},{"$f":"IF(Worksheet!Y311=0,\"\",Worksheet!Y311)","v":""},"Watts",null,null,{"$f":"Worksheet!AA311","v":0},{"$f":"IF(ISBLANK(Worksheet!V311)=FALSE,Worksheet!V311,\"\")","v":0},{"$f":"Worksheet!AG311","v":0},{"$f":"Worksheet!AF311","v":0},0,{"$f":"IF(ISERROR(SEARCH(\"Gas\",Worksheet!$A$18))=TRUE,0,Worksheet!AH311)","v":0},0,null,null,{"$f":"IF(OR(Worksheet!F311=\"Incandescent\",Worksheet!F311=\"Halogen Incandescent\")=TRUE,118,IF(LEFT(Worksheet!F311,3)=\"HID\",117,IF(OR(RIGHT(Worksheet!F311,3)=\"T12\",RIGHT(Worksheet!F311,5)=\"T12HO\")=TRUE,115,IF(OR(RIGHT(Worksheet!F311,2)=\"T8\",RIGHT(Worksheet!F311,4)=\"RWT8\",RIGHT(Worksheet!F311,4)=\"T8HO\")=TRUE,115,\"\"))))","v":""},{"$f":"IF(ISBLANK(Worksheet!W311)=FALSE,Worksheet!W311,\"\")","v":0},{"$f":"IF(ISERROR(SEARCH(\"Oil\",Worksheet!$A$18))=TRUE,0,Worksheet!AH311)","v":0},0,{"$f":"IF(ISERROR(SEARCH(\"Propane\",Worksheet!$A$18))=TRUE,0,Worksheet!AH311)","v":0},0,{"$f":"IF(Worksheet!J311=0,\"\",Worksheet!J311)","v":""},{"$f":"IF(Worksheet!B311=0,\"\",Worksheet!B311)","v":""},{"$f":"IF(Worksheet!K311=0,\"\",Worksheet!K311)","v":""},{"$f":"IF(Worksheet!L311=0,\"\",Worksheet!L311)","v":""},{"$f":"IF(Worksheet!R311=0,\"\",Worksheet!R311)","v":""},{"$f":"IF(Worksheet!F311=0,\"\",Worksheet!F311)","v":""},{"$f":"IF(Worksheet!G311=0,\"\",Worksheet!G311)","v":""},{"$f":"IF(Worksheet!X311=0,\"\",Worksheet!X311)","v":""},{"$f":"IF(Worksheet!Q311=0,\"\",Worksheet!Q311)","v":""},{"$f":"IF(Worksheet!C311=0,\"\",Worksheet!C311)","v":""},{"$f":"IF(Worksheet!D311=0,\"\",Worksheet!D311)","v":""},{"$f":"IF(Worksheet!$A$11=TRUE,\"Y\",\"N\")","v":"N"},{"$f":"IF(Worksheet!$A$12=TRUE,\"Y\",\"N\")","v":"N"},{"$f":"IF(Worksheet!$B$11=TRUE,\"Y\",\"N\")","v":"N"},{"$f":"IF(Worksheet!$B$12=TRUE,\"Y\",\"N\")","v":"N"},{"$f":"IF(Worksheet!$C$11=TRUE,\"Y\",\"N\")","v":"N"},{"$f":"IFERROR(Worksheet!AB311,\"\")","v":0}]
[{"$f":"IF(IFERROR(SEARCH(\"Refrigerated\",Worksheet!L312,1),0)>0,122,IF(ISERROR(RIGHT(VLOOKUP(Worksheet!K312,Type!C$1:E$13,3,FALSE),3))=FALSE,RIGHT(VLOOKUP(Worksheet!K312,Type!C$1:E$13,3,FALSE),3),\"\"))","v":""},{"$f":"IF(Worksheet!M312=\"\",\"\",Worksheet!M312)","v":""},{"$f":"IF(Worksheet!N312=\"\",\"\",Worksheet!N312)","v":""},{"$f":"IF(Worksheet!Y312=0,\"\",Worksheet!Y312)","v":""},"Watts",null,null,{"$f":"Worksheet!AA312","v":0},{"$f":"IF(ISBLANK(Worksheet!V312)=FALSE,Worksheet!V312,\"\")","v":0},{"$f":"Worksheet!AG312","v":0},{"$f":"Worksheet!AF312","v":0},0,{"$f":"IF(ISERROR(SEARCH(\"Gas\",Worksheet!$A$18))=TRUE,0,Worksheet!AH312)","v":0},0,null,null,{"$f":"IF(OR(Worksheet!F312=\"Incandescent\",Worksheet!F312=\"Halogen Incandescent\")=TRUE,118,IF(LEFT(Worksheet!F312,3)=\"HID\",117,IF(OR(RIGHT(Worksheet!F312,3)=\"T12\",RIGHT(Worksheet!F312,5)=\"T12HO\")=TRUE,115,IF(OR(RIGHT(Worksheet!F312,2)=\"T8\",RIGHT(Worksheet!F312,4)=\"RWT8\",RIGHT(Worksheet!F312,4)=\"T8HO\")=TRUE,115,\"\"))))","v":""},{"$f":"IF(ISBLANK(Worksheet!W312)=FALSE,Worksheet!W312,\"\")","v":0},{"$f":"IF(ISERROR(SEARCH(\"Oil\",Worksheet!$A$18))=TRUE,0,Worksheet!AH312)","v":0},0,{"$f":"IF(ISERROR(SEARCH(\"Propane\",Worksheet!$A$18))=TRUE,0,Worksheet!AH312)","v":0},0,{"$f":"IF(Worksheet!J312=0,\"\",Worksheet!J312)","v":""},{"$f":"IF(Worksheet!B312=0,\"\",Worksheet!B312)","v":""},{"$f":"IF(Worksheet!K312=0,\"\",Worksheet!K312)","v":""},{"$f":"IF(Worksheet!L312=0,\"\",Worksheet!L312)","v":""},{"$f":"IF(Worksheet!R312=0,\"\",Worksheet!R312)","v":""},{"$f":"IF(Worksheet!F312=0,\"\",Worksheet!F312)","v":""},{"$f":"IF(Worksheet!G312=0,\"\",Worksheet!G312)","v":""},{"$f":"IF(Worksheet!X312=0,\"\",Worksheet!X312)","v":""},{"$f":"IF(Worksheet!Q312=0,\"\",Worksheet!Q312)","v":""},{"$f":"IF(Worksheet!C312=0,\"\",Worksheet!C312)","v":""},{"$f":"IF(Worksheet!D312=0,\"\",Worksheet!D312)","v":""},{"$f":"IF(Worksheet!$A$11=TRUE,\"Y\",\"N\")","v":"N"},{"$f":"IF(Worksheet!$A$12=TRUE,\"Y\",\"N\")","v":"N"},{"$f":"IF(Worksheet!$B$11=TRUE,\"Y\",\"N\")","v":"N"},{"$f":"IF(Worksheet!$B$12=TRUE,\"Y\",\"N\")","v":"N"},{"$f":"IF(Worksheet!$C$11=TRUE,\"Y\",\"N\")","v":"N"},{"$f":"IFERROR(Worksheet!AB312,\"\")","v":0}]
[{"$f":"IF(IFERROR(SEARCH(\"Refrigerated\",Worksheet!L313,1),0)>0,122,IF(ISERROR(RIGHT(VLOOKUP(Worksheet!K313,Type!C$1:E$13,3,FALSE),3))=FALSE,RIGHT(VLOOKUP(Worksheet!K313,Type!C$1:E$13,3,FALSE),3),\"\"))","v":""},{"$f":"IF(Worksheet!M313=\"\",\"\",Worksheet!M313)","v":""},{"$f":"IF(Worksheet!N313=\"\",\"\",Worksheet!N313)","v":""},{"$f":"IF(Worksheet!Y313=0,\"\",Worksheet!Y313)","v":""},"Watts",null,null,{"$f":"Worksheet!AA313","v":0},{"$f":"IF(ISBLANK(Worksheet!V313)=FALSE,Worksheet!V313,\"\")","v":0},{"$f":"Worksheet!AG313","v":0},{"$f":"Worksheet!AF313","v":0},0,{"$f":"IF(ISERROR(SEARCH(\"Gas\",Worksheet!$A$18))=TRUE,0,Worksheet!AH313)","v":0},0,null,null,{"$f":"IF(OR(Worksheet!F313=\"Incandescent\",Worksheet!F313=\"Halogen Incandescent\")=TRUE,118,IF(LEFT(Worksheet!F313,3)=\"HID\",117,IF(OR(RIGHT(Worksheet!F313,3)=\"T12\",RIGHT(Worksheet!F313,5)=\"T12HO\")=TRUE,115,IF(OR(RIGHT(Worksheet!F313,2)=\"T8\",RIGHT(Worksheet!F313,4)=\"RWT8\",RIGHT(Worksheet!F313,4)=\"T8HO\")=TRUE,115,\"\"))))","v":""},{"$f":"IF(ISBLANK(Worksheet!W313)=FALSE,Worksheet!W313,\"\")","v":0},{"$f":"IF(ISERROR(SEARCH(\"Oil\",Worksheet!$A$18))=TRUE,0,Worksheet!AH313)","v":0},0,{"$f":"IF(ISERROR(SEARCH(\"Propane\",Worksheet!$A$18))=TRUE,0,Worksheet!AH313)","v":0},0,{"$f":"IF(Worksheet!J313=0,\"\",Worksheet!J313)","v":""},{"$f":"IF(Worksheet!B313=0,\"\",Worksheet!B313)","v":""},{"$f":"IF(Worksheet!K313=0,\"\",Worksheet!K313)","v":""},{"$f":"IF(Worksheet!L313=0,\"\",Worksheet!L313)","v":""},{"$f":"IF(Worksheet!R313=0,\"\",Worksheet!R313)","v":""},{"$f":"IF(Worksheet!F313=0,\"\",Worksheet!F313)","v":""},{"$f":"IF(Worksheet!G313=0,\"\",Worksheet!G313)","v":""},{"$f":"IF(Worksheet!X313=0,\"\",Worksheet!X313)","v":""},{"$f":"IF(Worksheet!Q313=0,\"\",Worksheet!Q313)","v":""},{"$f":"IF(Worksheet!C313=0,\"\",Worksheet!C313)","v":""},{"$f":"IF(Worksheet!D313=0,\"\",Worksheet!D313)","v":""},{"$f":"IF(Worksheet!$A$11=TRUE,\"Y\",\"N\")","v":"N"},{"$f":"IF(Worksheet!$A$12=TRUE,\"Y\",\"N\")","v":"N"},{"$f":"IF(Worksheet!$B$11=TRUE,\"Y\",\"N\")","v":"N"},{"$f":"IF(Worksheet!$B$12=TRUE,\"Y\",\"N\")","v":"N"},{"$f":"IF(Worksheet!$C$11=TRUE,\"Y\",\"N\")","v":"N"},{"$f":"IFERROR(Worksheet!AB313,\"\")","v":0}]
[{"$f":"IF(IFERROR(SEARCH(\"Refrigerated\",Worksheet!L314,1),0)>0,122,IF(ISERROR(RIGHT(VLOOKUP(Worksheet!K314,Type!C$1:E$13,3,FALSE),3))=FALSE,RIGHT(VLOOKUP(Worksheet!K314,Type!C$1:E$13,3,FALSE),3),\"\"))","v":""},{"$f":"IF(Worksheet!M314=\"\",\"\",Worksheet!M314)","v":""},{"$f":"IF(Worksheet!N314=\"\",\"\",Worksheet!N314)","v":""},{"$f":"IF(Worksheet!Y314=0,\"\",Worksheet!Y314)","v":""},"Watts",null,null,{"$f":"Worksheet!AA314","v":0},{"$f":"IF(ISBLANK(Worksheet!V314)=FALSE,Worksheet!V314,\"\")","v":0},{"$f":"Worksheet!AG314","v":0},{"$f":"Worksheet!AF314","v":0},0,{"$f":"IF(ISERROR(SEARCH(\"Gas\",Worksheet!$A$18))=TRUE,0,Worksheet!AH314)","v":0},0,null,null,{"$f":"IF(OR(Worksheet!F314=\"Incandescent\",Worksheet!F314=\"Halogen Incandescent\")=TRUE,118,IF(LEFT(Worksheet!F314,3)=\"HID\",117,IF(OR(RIGHT(Worksheet!F314,3)=\"T12\",RIGHT(Worksheet!F314,5)=\"T12HO\")=TRUE,115,IF(OR(RIGHT(Worksheet!F314,2)=\"T8\",RIGHT(Worksheet!F314,4)=\"RWT8\",RIGHT(Worksheet!F314,4)=\"T8HO\")=TRUE,115,\"\"))))","v":""},{"$f":"IF(ISBLANK(Worksheet!W314)=FALSE,Worksheet!W314,\"\")","v":0},{"$f":"IF(ISERROR(SEARCH(\"Oil\",Worksheet!$A$18))=TRUE,0,Worksheet!AH314)","v":0},0,{"$f":"IF(ISERROR(SEARCH(\"Propane\",Worksheet!$A$18))=TRUE,0,Worksheet!AH314)","v":0},0,{"$f":"IF(Worksheet!J314=0,\"\",Worksheet!J314)","v":""},{"$f":"IF(Worksheet!B314=0,\"\",Worksheet!B314)","v":""},{"$f":"IF(Worksheet!K314=0,\"\",Worksheet!K314)","v":""},{"$f":"IF(Worksheet!L314=0,\"\",Worksheet!L314)","v":""},{"$f":"IF(Worksheet!R314=0,\"\",Worksheet!R314)","v":""},{"$f":"IF(Worksheet!F314=0,\"\",Worksheet!F314)","v":""},{"$f":"IF(Worksheet!G314=0,\"\",Worksheet!G314)","v":""},{"$f":"IF(Worksheet!X314=0,\"\",Worksheet!X314)","v":""},{"$f":"IF(Worksheet!Q314=0,\"\",Worksheet!Q314)","v":""},{"$f":"IF(Worksheet!C314=0,\"\",Worksheet!C314)","v":""},{"$f":"IF(Worksheet!D314=0,\"\",Worksheet!D314)","v":""},{"$f":"IF(Worksheet!$A$11=TRUE,\"Y\",\"N\")","v":"N"},{"$f":"IF(Worksheet!$A$12=TRUE,\"Y\",\"N\")","v":"N"},{"$f":"IF(Worksheet!$B$11=TRUE,\"Y\",\"N\")","v":"N"},{"$f":"IF(Worksheet!$B$12=TRUE,\"Y\",\"N\")","v":"N"},{"$f":"IF(Worksheet!$C$11=TRUE,\"Y\",\"N\")","v":"N"},{"$f":"IFERROR(Worksheet!AB314,\"\")","v":0}]
[{"$f":"IF(IFERROR(SEARCH(\"Refrigerated\",Worksheet!L315,1),0)>0,122,IF(ISERROR(RIGHT(VLOOKUP(Worksheet!K315,Type!C$1:E$13,3,FALSE),3))=FALSE,RIGHT(VLOOKUP(Worksheet!K315,Type!C$1:E$13,3,FALSE),3),\"\"))","v":""},{"$f":"IF(Worksheet!M315=\"\",\"\",Worksheet!M315)","v":""},{"$f":"IF(Worksheet!N315=\"\",\"\",Worksheet!N315)","v":""},{"$f":"IF(Worksheet!Y315=0,\"\",Worksheet!Y315)","v":""},"Watts",null,null,{"$f":"Worksheet!AA315","v":0},{"$f":"IF(ISBLANK(Worksheet!V315)=FALSE,Worksheet!V315,\"\")","v":0},{"$f":"Worksheet!AG315","v":0},{"$f":"Worksheet!AF315","v":0},0,{"$f":"IF(ISERROR(SEARCH(\"Gas\",Worksheet!$A$18))=TRUE,0,Worksheet!AH315)","v":0},0,null,null,{"$f":"IF(OR(Worksheet!F315=\"Incandescent\",Worksheet!F315=\"Halogen Incandescent\")=TRUE,118,IF(LEFT(Worksheet!F315,3)=\"HID\",117,IF(OR(RIGHT(Worksheet!F315,3)=\"T12\",RIGHT(Worksheet!F315,5)=\"T12HO\")=TRUE,115,IF(OR(RIGHT(Worksheet!F315,2)=\"T8\",RIGHT(Worksheet!F315,4)=\"RWT8\",RIGHT(Worksheet!F315,4)=\"T8HO\")=TRUE,115,\"\"))))","v":""},{"$f":"IF(ISBLANK(Worksheet!W315)=FALSE,Worksheet!W315,\"\")","v":0},{"$f":"IF(ISERROR(SEARCH(\"Oil\",Worksheet!$A$18))=TRUE,0,Worksheet!AH315)","v":0},0,{"$f":"IF(ISERROR(SEARCH(\"Propane\",Worksheet!$A$18))=TRUE,0,Worksheet!AH315)","v":0},0,{"$f":"IF(Worksheet!J315=0,\"\",Worksheet!J315)","v":""},{"$f":"IF(Worksheet!B315=0,\"\",Worksheet!B315)","v":""},{"$f":"IF(Worksheet!K315=0,\"\",Worksheet!K315)","v":""},{"$f":"IF(Worksheet!L315=0,\"\",Worksheet!L315)","v":""},{"$f":"IF(Worksheet!R315=0,\"\",Worksheet!R315)","v":""},{"$f":"IF(Worksheet!F315=0,\"\",Worksheet!F315)","v":""},{"$f":"IF(Worksheet!G315=0,\"\",Worksheet!G315)","v":""},{"$f":"IF(Worksheet!X315=0,\"\",Worksheet!X315)","v":""},{"$f":"IF(Worksheet!Q315=0,\"\",Worksheet!Q315)","v":""},{"$f":"IF(Worksheet!C315=0,\"\",Worksheet!C315)","v":""},{"$f":"IF(Worksheet!D315=0,\"\",Worksheet!D315)","v":""},{"$f":"IF(Worksheet!$A$11=TRUE,\"Y\",\"N\")","v":"N"},{"$f":"IF(Worksheet!$A$12=TRUE,\"Y\",\"N\")","v":"N"},{"$f":"IF(Worksheet!$B$11=TRUE,\"Y\",\"N\")","v":"N"},{"$f":"IF(Worksheet!$B$12=TRUE,\"Y\",\"N\")","v":"N"},{"$f":"IF(Worksheet!$C$11=TRUE,\"Y\",\"N\")","v":"N"},{"$f":"IFERROR(Worksheet!AB315,\"\")","v":0}]
[{"$f":"IF(IFERROR(SEARCH(\"Refrigerated\",Worksheet!L316,1),0)>0,122,IF(ISERROR(RIGHT(VLOOKUP(Worksheet!K316,Type!C$1:E$13,3,FALSE),3))=FALSE,RIGHT(VLOOKUP(Worksheet!K316,Type!C$1:E$13,3,FALSE),3),\"\"))","v":""},{"$f":"IF(Worksheet!M316=\"\",\"\",Worksheet!M316)","v":""},{"$f":"IF(Worksheet!N316=\"\",\"\",Worksheet!N316)","v":""},{"$f":"IF(Worksheet!Y316=0,\"\",Worksheet!Y316)","v":""},"Watts",null,null,{"$f":"Worksheet!AA316","v":0},{"$f":"IF(ISBLANK(Worksheet!V316)=FALSE,Worksheet!V316,\"\")","v":0},{"$f":"Worksheet!AG316","v":0},{"$f":"Worksheet!AF316","v":0},0,{"$f":"IF(ISERROR(SEARCH(\"Gas\",Worksheet!$A$18))=TRUE,0,Worksheet!AH316)","v":0},0,null,null,{"$f":"IF(OR(Worksheet!F316=\"Incandescent\",Worksheet!F316=\"Halogen Incandescent\")=TRUE,118,IF(LEFT(Worksheet!F316,3)=\"HID\",117,IF(OR(RIGHT(Worksheet!F316,3)=\"T12\",RIGHT(Worksheet!F316,5)=\"T12HO\")=TRUE,115,IF(OR(RIGHT(Worksheet!F316,2)=\"T8\",RIGHT(Worksheet!F316,4)=\"RWT8\",RIGHT(Worksheet!F316,4)=\"T8HO\")=TRUE,115,\"\"))))","v":""},{"$f":"IF(ISBLANK(Worksheet!W316)=FALSE,Worksheet!W316,\"\")","v":0},{"$f":"IF(ISERROR(SEARCH(\"Oil\",Worksheet!$A$18))=TRUE,0,Worksheet!AH316)","v":0},0,{"$f":"IF(ISERROR(SEARCH(\"Propane\",Worksheet!$A$18))=TRUE,0,Worksheet!AH316)","v":0},0,{"$f":"IF(Worksheet!J316=0,\"\",Worksheet!J316)","v":""},{"$f":"IF(Worksheet!B316=0,\"\",Worksheet!B316)","v":""},{"$f":"IF(Worksheet!K316=0,\"\",Worksheet!K316)","v":""},{"$f":"IF(Worksheet!L316=0,\"\",Worksheet!L316)","v":""},{"$f":"IF(Worksheet!R316=0,\"\",Worksheet!R316)","v":""},{"$f":"IF(Worksheet!F316=0,\"\",Worksheet!F316)","v":""},{"$f":"IF(Worksheet!G316=0,\"\",Worksheet!G316)","v":""},{"$f":"IF(Worksheet!X316=0,\"\",Worksheet!X316)","v":""},{"$f":"IF(Worksheet!Q316=0,\"\",Worksheet!Q316)","v":""},{"$f":"IF(Worksheet!C316=0,\"\",Worksheet!C316)","v":""},{"$f":"IF(Worksheet!D316=0,\"\",Worksheet!D316)","v":""},{"$f":"IF(Worksheet!$A$11=TRUE,\"Y\",\"N\")","v":"N"},{"$f":"IF(Worksheet!$A$12=TRUE,\"Y\",\"N\")","v":"N"},{"$f":"IF(Worksheet!$B$11=TRUE,\"Y\",\"N\")","v":"N"},{"$f":"IF(Worksheet!$B$12=TRUE,\"Y\",\"N\")","v":"N"},{"$f":"IF(Worksheet!$C$11=TRUE,\"Y\",\"N\")","v":"N"},{"$f":"IFERROR(Worksheet!AB316,\"\")","v":0}]
[{"$f":"IF(IFERROR(SEARCH(\"Refrigerated\",Worksheet!L317,1),0)>0,122,IF(ISERROR(RIGHT(VLOOKUP(Worksheet!K317,Type!C$1:E$13,3,FALSE),3))=FALSE,RIGHT(VLOOKUP(Worksheet!K317,Type!C$1:E$13,3,FALSE),3),\"\"))","v":""},{"$f":"IF(Worksheet!M317=\"\",\"\",Worksheet!M317)","v":""},{"$f":"IF(Worksheet!N317=\"\",\"\",Worksheet!N317)","v":""},{"$f":"IF(Worksheet!Y317=0,\"\",Worksheet!Y317)","v":""},"Watts",null,null,{"$f":"Worksheet!AA317","v":0},{"$f":"IF(ISBLANK(Worksheet!V317)=FALSE,Worksheet!V317,\"\")","v":0},{"$f":"Worksheet!AG317","v":0},{"$f":"Worksheet!AF317","v":0},0,{"$f":"IF(ISERROR(SEARCH(\"Gas\",Worksheet!$A$18))=TRUE,0,Worksheet!AH317)","v":0},0,null,null,{"$f":"IF(OR(Worksheet!F317=\"Incandescent\",Worksheet!F317=\"Halogen Incandescent\")=TRUE,118,IF(LEFT(Worksheet!F317,3)=\"HID\",117,IF(OR(RIGHT(Worksheet!F317,3)=\"T12\",RIGHT(Worksheet!F317,5)=\"T12HO\")=TRUE,115,IF(OR(RIGHT(Worksheet!F317,2)=\"T8\",RIGHT(Worksheet!F317,4)=\"RWT8\",RIGHT(Worksheet!F317,4)=\"T8HO\")=TRUE,115,\"\"))))","v":""},{"$f":"IF(ISBLANK(Worksheet!W317)=FALSE,Worksheet!W317,\"\")","v":0},{"$f":"IF(ISERROR(SEARCH(\"Oil\",Worksheet!$A$18))=TRUE,0,Worksheet!AH317)","v":0},0,{"$f":"IF(ISERROR(SEARCH(\"Propane\",Worksheet!$A$18))=TRUE,0,Worksheet!AH317)","v":0},0,{"$f":"IF(Worksheet!J317=0,\"\",Worksheet!J317)","v":""},{"$f":"IF(Worksheet!B317=0,\"\",Worksheet!B317)","v":""},{"$f":"IF(Worksheet!K317=0,\"\",Worksheet!K317)","v":""},{"$f":"IF(Worksheet!L317=0,\"\",Worksheet!L317)","v":""},{"$f":"IF(Worksheet!R317=0,\"\",Worksheet!R317)","v":""},{"$f":"IF(Worksheet!F317=0,\"\",Worksheet!F317)","v":""},{"$f":"IF(Worksheet!G317=0,\"\",Worksheet!G317)","v":""},{"$f":"IF(Worksheet!X317=0,\"\",Worksheet!X317)","v":""},{"$f":"IF(Worksheet!Q317=0,\"\",Worksheet!Q317)","v":""},{"$f":"IF(Worksheet!C317=0,\"\",Worksheet!C317)","v":""},{"$f":"IF(Worksheet!D317=0,\"\",Worksheet!D317)","v":""},{"$f":"IF(Worksheet!$A$11=TRUE,\"Y\",\"N\")","v":"N"},{"$f":"IF(Worksheet!$A$12=TRUE,\"Y\",\"N\")","v":"N"},{"$f":"IF(Worksheet!$B$11=TRUE,\"Y\",\"N\")","v":"N"},{"$f":"IF(Worksheet!$B$12=TRUE,\"Y\",\"N\")","v":"N"},{"$f":"IF(Worksheet!$C$11=TRUE,\"Y\",\"N\")","v":"N"},{"$f":"IFERROR(Worksheet!AB317,\"\")","v":0}]
[{"$f":"IF(IFERROR(SEARCH(\"Refrigerated\",Worksheet!L318,1),0)>0,122,IF(ISERROR(RIGHT(VLOOKUP(Worksheet!K318,Type!C$1:E$13,3,FALSE),3))=FALSE,RIGHT(VLOOKUP(Worksheet!K318,Type!C$1:E$13,3,FALSE),3),\"\"))","v":""},{"$f":"IF(Worksheet!M318=\"\",\"\",Worksheet!M318)","v":""},{"$f":"IF(Worksheet!N318=\"\",\"\",Worksheet!N318)","v":""},{"$f":"IF(Worksheet!Y318=0,\"\",Worksheet!Y318)","v":""},"Watts",null,null,{"$f":"Worksheet!AA318","v":0},{"$f":"IF(ISBLANK(Worksheet!V318)=FALSE,Worksheet!V318,\"\")","v":0},{"$f":"Worksheet!AG318","v":0},{"$f":"Worksheet!AF318","v":0},0,{"$f":"IF(ISERROR(SEARCH(\"Gas\",Worksheet!$A$18))=TRUE,0,Worksheet!AH318)","v":0},0,null,null,{"$f":"IF(OR(Worksheet!F318=\"Incandescent\",Worksheet!F318=\"Halogen Incandescent\")=TRUE,118,IF(LEFT(Worksheet!F318,3)=\"HID\",117,IF(OR(RIGHT(Worksheet!F318,3)=\"T12\",RIGHT(Worksheet!F318,5)=\"T12HO\")=TRUE,115,IF(OR(RIGHT(Worksheet!F318,2)=\"T8\",RIGHT(Worksheet!F318,4)=\"RWT8\",RIGHT(Worksheet!F318,4)=\"T8HO\")=TRUE,115,\"\"))))","v":""},{"$f":"IF(ISBLANK(Worksheet!W318)=FALSE,Worksheet!W318,\"\")","v":0},{"$f":"IF(ISERROR(SEARCH(\"Oil\",Worksheet!$A$18))=TRUE,0,Worksheet!AH318)","v":0},0,{"$f":"IF(ISERROR(SEARCH(\"Propane\",Worksheet!$A$18))=TRUE,0,Worksheet!AH318)","v":0},0,{"$f":"IF(Worksheet!J318=0,\"\",Worksheet!J318)","v":""},{"$f":"IF(Worksheet!B318=0,\"\",Worksheet!B318)","v":""},{"$f":"IF(Worksheet!K318=0,\"\",Worksheet!K318)","v":""},{"$f":"IF(Worksheet!L318=0,\"\",Worksheet!L318)","v":""},{"$f":"IF(Worksheet!R318=0,\"\",Worksheet!R318)","v":""},{"$f":"IF(Worksheet!F318=0,\"\",Worksheet!F318)","v":""},{"$f":"IF(Worksheet!G318=0,\"\",Worksheet!G318)","v":""},{"$f":"IF(Worksheet!X318=0,\"\",Worksheet!X318)","v":""},{"$f":"IF(Worksheet!Q318=0,\"\",Worksheet!Q318)","v":""},{"$f":"IF(Worksheet!C318=0,\"\",Worksheet!C318)","v":""},{"$f":"IF(Worksheet!D318=0,\"\",Worksheet!D318)","v":""},{"$f":"IF(Worksheet!$A$11=TRUE,\"Y\",\"N\")","v":"N"},{"$f":"IF(Worksheet!$A$12=TRUE,\"Y\",\"N\")","v":"N"},{"$f":"IF(Worksheet!$B$11=TRUE,\"Y\",\"N\")","v":"N"},{"$f":"IF(Worksheet!$B$12=TRUE,\"Y\",\"N\")","v":"N"},{"$f":"IF(Worksheet!$C$11=TRUE,\"Y\",\"N\")","v":"N"},{"$f":"IFERROR(Worksheet!AB318,\"\")","v":0}]
[{"$f":"IF(IFERROR(SEARCH(\"Refrigerated\",Worksheet!L319,1),0)>0,122,IF(ISERROR(RIGHT(VLOOKUP(Worksheet!K319,Type!C$1:E$13,3,FALSE),3))=FALSE,RIGHT(VLOOKUP(Worksheet!K319,Type!C$1:E$13,3,FALSE),3),\"\"))","v":""},{"$f":"IF(Worksheet!M319=\"\",\"\",Worksheet!M319)","v":""},{"$f":"IF(Worksheet!N319=\"\",\"\",Worksheet!N319)","v":""},{"$f":"IF(Worksheet!Y319=0,\"\",Worksheet!Y319)","v":""},"Watts",null,null,{"$f":"Worksheet!AA319","v":0},{"$f":"IF(ISBLANK(Worksheet!V319)=FALSE,Worksheet!V319,\"\")","v":0},{"$f":"Worksheet!AG319","v":0},{"$f":"Worksheet!AF319","v":0},0,{"$f":"IF(ISERROR(SEARCH(\"Gas\",Worksheet!$A$18))=TRUE,0,Worksheet!AH319)","v":0},0,null,null,{"$f":"IF(OR(Worksheet!F319=\"Incandescent\",Worksheet!F319=\"Halogen Incandescent\")=TRUE,118,IF(LEFT(Worksheet!F319,3)=\"HID\",117,IF(OR(RIGHT(Worksheet!F319,3)=\"T12\",RIGHT(Worksheet!F319,5)=\"T12HO\")=TRUE,115,IF(OR(RIGHT(Worksheet!F319,2)=\"T8\",RIGHT(Worksheet!F319,4)=\"RWT8\",RIGHT(Worksheet!F319,4)=\"T8HO\")=TRUE,115,\"\"))))","v":""},{"$f":"IF(ISBLANK(Worksheet!W319)=FALSE,Worksheet!W319,\"\")","v":0},{"$f":"IF(ISERROR(SEARCH(\"Oil\",Worksheet!$A$18))=TRUE,0,Worksheet!AH319)","v":0},0,{"$f":"IF(ISERROR(SEARCH(\"Propane\",Worksheet!$A$18))=TRUE,0,Worksheet!AH319)","v":0},0,{"$f":"IF(Worksheet!J319=0,\"\",Worksheet!J319)","v":""},{"$f":"IF(Worksheet!B319=0,\"\",Worksheet!B319)","v":""},{"$f":"IF(Worksheet!K319=0,\"\",Worksheet!K319)","v":""},{"$f":"IF(Worksheet!L319=0,\"\",Worksheet!L319)","v":""},{"$f":"IF(Worksheet!R319=0,\"\",Worksheet!R319)","v":""},{"$f":"IF(Worksheet!F319=0,\"\",Worksheet!F319)","v":""},{"$f":"IF(Worksheet!G319=0,\"\",Worksheet!G319)","v":""},{"$f":"IF(Worksheet!X319=0,\"\",Worksheet!X319)","v":""},{"$f":"IF(Worksheet!Q319=0,\"\",Worksheet!Q319)","v":""},{"$f":"IF(Worksheet!C319=0,\"\",Worksheet!C319)","v":""},{"$f":"IF(Worksheet!D319=0,\"\",Worksheet!D319)","v":""},{"$f":"IF(Worksheet!$A$11=TRUE,\"Y\",\"N\")","v":"N"},{"$f":"IF(Worksheet!$A$12=TRUE,\"Y\",\"N\")","v":"N"},{"$f":"IF(Worksheet!$B$11=TRUE,\"Y\",\"N\")","v":"N"},{"$f":"IF(Worksheet!$B$12=TRUE,\"Y\",\"N\")","v":"N"},{"$f":"IF(Worksheet!$C$11=TRUE,\"Y\",\"N\")","v":"N"},{"$f":"IFERROR(Worksheet!AB319,\"\")","v":0}]
[{"$f":"IF(IFERROR(SEARCH(\"Refrigerated\",Worksheet!L320,1),0)>0,122,IF(ISERROR(RIGHT(VLOOKUP(Worksheet!K320,Type!C$1:E$13,3,FALSE),3))=FALSE,RIGHT(VLOOKUP(Worksheet!K320,Type!C$1:E$13,3,FALSE),3),\"\"))","v":""},{"$f":"IF(Worksheet!M320=\"\",\"\",Worksheet!M320)","v":""},{"$f":"IF(Worksheet!N320=\"\",\"\",Worksheet!N320)","v":""},{"$f":"IF(Worksheet!Y320=0,\"\",Worksheet!Y320)","v":""},"Watts",null,null,{"$f":"Worksheet!AA320","v":0},{"$f":"IF(ISBLANK(Worksheet!V320)=FALSE,Worksheet!V320,\"\")","v":0},{"$f":"Worksheet!AG320","v":0},{"$f":"Worksheet!AF320","v":0},0,{"$f":"IF(ISERROR(SEARCH(\"Gas\",Worksheet!$A$18))=TRUE,0,Worksheet!AH320)","v":0},0,null,null,{"$f":"IF(OR(Worksheet!F320=\"Incandescent\",Worksheet!F320=\"Halogen Incandescent\")=TRUE,118,IF(LEFT(Worksheet!F320,3)=\"HID\",117,IF(OR(RIGHT(Worksheet!F320,3)=\"T12\",RIGHT(Worksheet!F320,5)=\"T12HO\")=TRUE,115,IF(OR(RIGHT(Worksheet!F320,2)=\"T8\",RIGHT(Worksheet!F320,4)=\"RWT8\",RIGHT(Worksheet!F320,4)=\"T8HO\")=TRUE,115,\"\"))))","v":""},{"$f":"IF(ISBLANK(Worksheet!W320)=FALSE,Worksheet!W320,\"\")","v":0},{"$f":"IF(ISERROR(SEARCH(\"Oil\",Worksheet!$A$18))=TRUE,0,Worksheet!AH320)","v":0},0,{"$f":"IF(ISERROR(SEARCH(\"Propane\",Worksheet!$A$18))=TRUE,0,Worksheet!AH320)","v":0},0,{"$f":"IF(Worksheet!J320=0,\"\",Worksheet!J320)","v":""},{"$f":"IF(Worksheet!B320=0,\"\",Worksheet!B320)","v":""},{"$f":"IF(Worksheet!K320=0,\"\",Worksheet!K320)","v":""},{"$f":"IF(Worksheet!L320=0,\"\",Worksheet!L320)","v":""},{"$f":"IF(Worksheet!R320=0,\"\",Worksheet!R320)","v":""},{"$f":"IF(Worksheet!F320=0,\"\",Worksheet!F320)","v":""},{"$f":"IF(Worksheet!G320=0,\"\",Worksheet!G320)","v":""},{"$f":"IF(Worksheet!X320=0,\"\",Worksheet!X320)","v":""},{"$f":"IF(Worksheet!Q320=0,\"\",Worksheet!Q320)","v":""},{"$f":"IF(Worksheet!C320=0,\"\",Worksheet!C320)","v":""},{"$f":"IF(Worksheet!D320=0,\"\",Worksheet!D320)","v":""},{"$f":"IF(Worksheet!$A$11=TRUE,\"Y\",\"N\")","v":"N"},{"$f":"IF(Worksheet!$A$12=TRUE,\"Y\",\"N\")","v":"N"},{"$f":"IF(Worksheet!$B$11=TRUE,\"Y\",\"N\")","v":"N"},{"$f":"IF(Worksheet!$B$12=TRUE,\"Y\",\"N\")","v":"N"},{"$f":"IF(Worksheet!$C$11=TRUE,\"Y\",\"N\")","v":"N"},{"$f":"IFERROR(Worksheet!AB320,\"\")","v":0}]
[{"$f":"IF(IFERROR(SEARCH(\"Refrigerated\",Worksheet!L321,1),0)>0,122,IF(ISERROR(RIGHT(VLOOKUP(Worksheet!K321,Type!C$1:E$13,3,FALSE),3))=FALSE,RIGHT(VLOOKUP(Worksheet!K321,Type!C$1:E$13,3,FALSE),3),\"\"))","v":""},{"$f":"IF(Worksheet!M321=\"\",\"\",Worksheet!M321)","v":""},{"$f":"IF(Worksheet!N321=\"\",\"\",Worksheet!N321)","v":""},{"$f":"IF(Worksheet!Y321=0,\"\",Worksheet!Y321)","v":""},"Watts",null,null,{"$f":"Worksheet!AA321","v":0},{"$f":"IF(ISBLANK(Worksheet!V321)=FALSE,Worksheet!V321,\"\")","v":0},{"$f":"Worksheet!AG321","v":0},{"$f":"Worksheet!AF321","v":0},0,{"$f":"IF(ISERROR(SEARCH(\"Gas\",Worksheet!$A$18))=TRUE,0,Worksheet!AH321)","v":0},0,null,null,{"$f":"IF(OR(Worksheet!F321=\"Incandescent\",Worksheet!F321=\"Halogen Incandescent\")=TRUE,118,IF(LEFT(Worksheet!F321,3)=\"HID\",117,IF(OR(RIGHT(Worksheet!F321,3)=\"T12\",RIGHT(Worksheet!F321,5)=\"T12HO\")=TRUE,115,IF(OR(RIGHT(Worksheet!F321,2)=\"T8\",RIGHT(Worksheet!F321,4)=\"RWT8\",RIGHT(Worksheet!F321,4)=\"T8HO\")=TRUE,115,\"\"))))","v":""},{"$f":"IF(ISBLANK(Worksheet!W321)=FALSE,Worksheet!W321,\"\")","v":0},{"$f":"IF(ISERROR(SEARCH(\"Oil\",Worksheet!$A$18))=TRUE,0,Worksheet!AH321)","v":0},0,{"$f":"IF(ISERROR(SEARCH(\"Propane\",Worksheet!$A$18))=TRUE,0,Worksheet!AH321)","v":0},0,{"$f":"IF(Worksheet!J321=0,\"\",Worksheet!J321)","v":""},{"$f":"IF(Worksheet!B321=0,\"\",Worksheet!B321)","v":""},{"$f":"IF(Worksheet!K321=0,\"\",Worksheet!K321)","v":""},{"$f":"IF(Worksheet!L321=0,\"\",Worksheet!L321)","v":""},{"$f":"IF(Worksheet!R321=0,\"\",Worksheet!R321)","v":""},{"$f":"IF(Worksheet!F321=0,\"\",Worksheet!F321)","v":""},{"$f":"IF(Worksheet!G321=0,\"\",Worksheet!G321)","v":""},{"$f":"IF(Worksheet!X321=0,\"\",Worksheet!X321)","v":""},{"$f":"IF(Worksheet!Q321=0,\"\",Worksheet!Q321)","v":""},{"$f":"IF(Worksheet!C321=0,\"\",Worksheet!C321)","v":""},{"$f":"IF(Worksheet!D321=0,\"\",Worksheet!D321)","v":""},{"$f":"IF(Worksheet!$A$11=TRUE,\"Y\",\"N\")","v":"N"},{"$f":"IF(Worksheet!$A$12=TRUE,\"Y\",\"N\")","v":"N"},{"$f":"IF(Worksheet!$B$11=TRUE,\"Y\",\"N\")","v":"N"},{"$f":"IF(Worksheet!$B$12=TRUE,\"Y\",\"N\")","v":"N"},{"$f":"IF(Worksheet!$C$11=TRUE,\"Y\",\"N\")","v":"N"},{"$f":"IFERROR(Worksheet!AB321,\"\")","v":0}]
[{"$f":"IF(IFERROR(SEARCH(\"Refrigerated\",Worksheet!L322,1),0)>0,122,IF(ISERROR(RIGHT(VLOOKUP(Worksheet!K322,Type!C$1:E$13,3,FALSE),3))=FALSE,RIGHT(VLOOKUP(Worksheet!K322,Type!C$1:E$13,3,FALSE),3),\"\"))","v":""},{"$f":"IF(Worksheet!M322=\"\",\"\",Worksheet!M322)","v":""},{"$f":"IF(Worksheet!N322=\"\",\"\",Worksheet!N322)","v":""},{"$f":"IF(Worksheet!Y322=0,\"\",Worksheet!Y322)","v":""},"Watts",null,null,{"$f":"Worksheet!AA322","v":0},{"$f":"IF(ISBLANK(Worksheet!V322)=FALSE,Worksheet!V322,\"\")","v":0},{"$f":"Worksheet!AG322","v":0},{"$f":"Worksheet!AF322","v":0},0,{"$f":"IF(ISERROR(SEARCH(\"Gas\",Worksheet!$A$18))=TRUE,0,Worksheet!AH322)","v":0},0,null,null,{"$f":"IF(OR(Worksheet!F322=\"Incandescent\",Worksheet!F322=\"Halogen Incandescent\")=TRUE,118,IF(LEFT(Worksheet!F322,3)=\"HID\",117,IF(OR(RIGHT(Worksheet!F322,3)=\"T12\",RIGHT(Worksheet!F322,5)=\"T12HO\")=TRUE,115,IF(OR(RIGHT(Worksheet!F322,2)=\"T8\",RIGHT(Worksheet!F322,4)=\"RWT8\",RIGHT(Worksheet!F322,4)=\"T8HO\")=TRUE,115,\"\"))))","v":""},{"$f":"IF(ISBLANK(Worksheet!W322)=FALSE,Worksheet!W322,\"\")","v":0},{"$f":"IF(ISERROR(SEARCH(\"Oil\",Worksheet!$A$18))=TRUE,0,Worksheet!AH322)","v":0},0,{"$f":"IF(ISERROR(SEARCH(\"Propane\",Worksheet!$A$18))=TRUE,0,Worksheet!AH322)","v":0},0,{"$f":"IF(Worksheet!J322=0,\"\",Worksheet!J322)","v":""},{"$f":"IF(Worksheet!B322=0,\"\",Worksheet!B322)","v":""},{"$f":"IF(Worksheet!K322=0,\"\",Worksheet!K322)","v":""},{"$f":"IF(Worksheet!L322=0,\"\",Worksheet!L322)","v":""},{"$f":"IF(Worksheet!R322=0,\"\",Worksheet!R322)","v":""},{"$f":"IF(Worksheet!F322=0,\"\",Worksheet!F322)","v":""},{"$f":"IF(Worksheet!G322=0,\"\",Worksheet!G322)","v":""},{"$f":"IF(Worksheet!X322=0,\"\",Worksheet!X322)","v":""},{"$f":"IF(Worksheet!Q322=0,\"\",Worksheet!Q322)","v":""},{"$f":"IF(Worksheet!C322=0,\"\",Worksheet!C322)","v":""},{"$f":"IF(Worksheet!D322=0,\"\",Worksheet!D322)","v":""},{"$f":"IF(Worksheet!$A$11=TRUE,\"Y\",\"N\")","v":"N"},{"$f":"IF(Worksheet!$A$12=TRUE,\"Y\",\"N\")","v":"N"},{"$f":"IF(Worksheet!$B$11=TRUE,\"Y\",\"N\")","v":"N"},{"$f":"IF(Worksheet!$B$12=TRUE,\"Y\",\"N\")","v":"N"},{"$f":"IF(Worksheet!$C$11=TRUE,\"Y\",\"N\")","v":"N"},{"$f":"IFERROR(Worksheet!AB322,\"\")","v":0}]
[{"$f":"IF(IFERROR(SEARCH(\"Refrigerated\",Worksheet!L323,1),0)>0,122,IF(ISERROR(RIGHT(VLOOKUP(Worksheet!K323,Type!C$1:E$13,3,FALSE),3))=FALSE,RIGHT(VLOOKUP(Worksheet!K323,Type!C$1:E$13,3,FALSE),3),\"\"))","v":""},{"$f":"IF(Worksheet!M323=\"\",\"\",Worksheet!M323)","v":""},{"$f":"IF(Worksheet!N323=\"\",\"\",Worksheet!N323)","v":""},{"$f":"IF(Worksheet!Y323=0,\"\",Worksheet!Y323)","v":""},"Watts",null,null,{"$f":"Worksheet!AA323","v":0},{"$f":"IF(ISBLANK(Worksheet!V323)=FALSE,Worksheet!V323,\"\")","v":0},{"$f":"Worksheet!AG323","v":0},{"$f":"Worksheet!AF323","v":0},0,{"$f":"IF(ISERROR(SEARCH(\"Gas\",Worksheet!$A$18))=TRUE,0,Worksheet!AH323)","v":0},0,null,null,{"$f":"IF(OR(Worksheet!F323=\"Incandescent\",Worksheet!F323=\"Halogen Incandescent\")=TRUE,118,IF(LEFT(Worksheet!F323,3)=\"HID\",117,IF(OR(RIGHT(Worksheet!F323,3)=\"T12\",RIGHT(Worksheet!F323,5)=\"T12HO\")=TRUE,115,IF(OR(RIGHT(Worksheet!F323,2)=\"T8\",RIGHT(Worksheet!F323,4)=\"RWT8\",RIGHT(Worksheet!F323,4)=\"T8HO\")=TRUE,115,\"\"))))","v":""},{"$f":"IF(ISBLANK(Worksheet!W323)=FALSE,Worksheet!W323,\"\")","v":0},{"$f":"IF(ISERROR(SEARCH(\"Oil\",Worksheet!$A$18))=TRUE,0,Worksheet!AH323)","v":0},0,{"$f":"IF(ISERROR(SEARCH(\"Propane\",Worksheet!$A$18))=TRUE,0,Worksheet!AH323)","v":0},0,{"$f":"IF(Worksheet!J323=0,\"\",Worksheet!J323)","v":""},{"$f":"IF(Worksheet!B323=0,\"\",Worksheet!B323)","v":""},{"$f":"IF(Worksheet!K323=0,\"\",Worksheet!K323)","v":""},{"$f":"IF(Worksheet!L323=0,\"\",Worksheet!L323)","v":""},{"$f":"IF(Worksheet!R323=0,\"\",Worksheet!R323)","v":""},{"$f":"IF(Worksheet!F323=0,\"\",Worksheet!F323)","v":""},{"$f":"IF(Worksheet!G323=0,\"\",Worksheet!G323)","v":""},{"$f":"IF(Worksheet!X323=0,\"\",Worksheet!X323)","v":""},{"$f":"IF(Worksheet!Q323=0,\"\",Worksheet!Q323)","v":""},{"$f":"IF(Worksheet!C323=0,\"\",Worksheet!C323)","v":""},{"$f":"IF(Worksheet!D323=0,\"\",Worksheet!D323)","v":""},{"$f":"IF(Worksheet!$A$11=TRUE,\"Y\",\"N\")","v":"N"},{"$f":"IF(Worksheet!$A$12=TRUE,\"Y\",\"N\")","v":"N"},{"$f":"IF(Worksheet!$B$11=TRUE,\"Y\",\"N\")","v":"N"},{"$f":"IF(Worksheet!$B$12=TRUE,\"Y\",\"N\")","v":"N"},{"$f":"IF(Worksheet!$C$11=TRUE,\"Y\",\"N\")","v":"N"},{"$f":"IFERROR(Worksheet!AB323,\"\")","v":0}]
[{"$f":"IF(IFERROR(SEARCH(\"Refrigerated\",Worksheet!L324,1),0)>0,122,IF(ISERROR(RIGHT(VLOOKUP(Worksheet!K324,Type!C$1:E$13,3,FALSE),3))=FALSE,RIGHT(VLOOKUP(Worksheet!K324,Type!C$1:E$13,3,FALSE),3),\"\"))","v":""},{"$f":"IF(Worksheet!M324=\"\",\"\",Worksheet!M324)","v":""},{"$f":"IF(Worksheet!N324=\"\",\"\",Worksheet!N324)","v":""},{"$f":"IF(Worksheet!Y324=0,\"\",Worksheet!Y324)","v":""},"Watts",null,null,{"$f":"Worksheet!AA324","v":0},{"$f":"IF(ISBLANK(Worksheet!V324)=FALSE,Worksheet!V324,\"\")","v":0},{"$f":"Worksheet!AG324","v":0},{"$f":"Worksheet!AF324","v":0},0,{"$f":"IF(ISERROR(SEARCH(\"Gas\",Worksheet!$A$18))=TRUE,0,Worksheet!AH324)","v":0},0,null,null,{"$f":"IF(OR(Worksheet!F324=\"Incandescent\",Worksheet!F324=\"Halogen Incandescent\")=TRUE,118,IF(LEFT(Worksheet!F324,3)=\"HID\",117,IF(OR(RIGHT(Worksheet!F324,3)=\"T12\",RIGHT(Worksheet!F324,5)=\"T12HO\")=TRUE,115,IF(OR(RIGHT(Worksheet!F324,2)=\"T8\",RIGHT(Worksheet!F324,4)=\"RWT8\",RIGHT(Worksheet!F324,4)=\"T8HO\")=TRUE,115,\"\"))))","v":""},{"$f":"IF(ISBLANK(Worksheet!W324)=FALSE,Worksheet!W324,\"\")","v":0},{"$f":"IF(ISERROR(SEARCH(\"Oil\",Worksheet!$A$18))=TRUE,0,Worksheet!AH324)","v":0},0,{"$f":"IF(ISERROR(SEARCH(\"Propane\",Worksheet!$A$18))=TRUE,0,Worksheet!AH324)","v":0},0,{"$f":"IF(Worksheet!J324=0,\"\",Worksheet!J324)","v":""},{"$f":"IF(Worksheet!B324=0,\"\",Worksheet!B324)","v":""},{"$f":"IF(Worksheet!K324=0,\"\",Worksheet!K324)","v":""},{"$f":"IF(Worksheet!L324=0,\"\",Worksheet!L324)","v":""},{"$f":"IF(Worksheet!R324=0,\"\",Worksheet!R324)","v":""},{"$f":"IF(Worksheet!F324=0,\"\",Worksheet!F324)","v":""},{"$f":"IF(Worksheet!G324=0,\"\",Worksheet!G324)","v":""},{"$f":"IF(Worksheet!X324=0,\"\",Worksheet!X324)","v":""},{"$f":"IF(Worksheet!Q324=0,\"\",Worksheet!Q324)","v":""},{"$f":"IF(Worksheet!C324=0,\"\",Worksheet!C324)","v":""},{"$f":"IF(Worksheet!D324=0,\"\",Worksheet!D324)","v":""},{"$f":"IF(Worksheet!$A$11=TRUE,\"Y\",\"N\")","v":"N"},{"$f":"IF(Worksheet!$A$12=TRUE,\"Y\",\"N\")","v":"N"},{"$f":"IF(Worksheet!$B$11=TRUE,\"Y\",\"N\")","v":"N"},{"$f":"IF(Worksheet!$B$12=TRUE,\"Y\",\"N\")","v":"N"},{"$f":"IF(Worksheet!$C$11=TRUE,\"Y\",\"N\")","v":"N"},{"$f":"IFERROR(Worksheet!AB324,\"\")","v":0}]
[{"$f":"IF(IFERROR(SEARCH(\"Refrigerated\",Worksheet!L325,1),0)>0,122,IF(ISERROR(RIGHT(VLOOKUP(Worksheet!K325,Type!C$1:E$13,3,FALSE),3))=FALSE,RIGHT(VLOOKUP(Worksheet!K325,Type!C$1:E$13,3,FALSE),3),\"\"))","v":""},{"$f":"IF(Worksheet!M325=\"\",\"\",Worksheet!M325)","v":""},{"$f":"IF(Worksheet!N325=\"\",\"\",Worksheet!N325)","v":""},{"$f":"IF(Worksheet!Y325=0,\"\",Worksheet!Y325)","v":""},"Watts",null,null,{"$f":"Worksheet!AA325","v":0},{"$f":"IF(ISBLANK(Worksheet!V325)=FALSE,Worksheet!V325,\"\")","v":0},{"$f":"Worksheet!AG325","v":0},{"$f":"Worksheet!AF325","v":0},0,{"$f":"IF(ISERROR(SEARCH(\"Gas\",Worksheet!$A$18))=TRUE,0,Worksheet!AH325)","v":0},0,null,null,{"$f":"IF(OR(Worksheet!F325=\"Incandescent\",Worksheet!F325=\"Halogen Incandescent\")=TRUE,118,IF(LEFT(Worksheet!F325,3)=\"HID\",117,IF(OR(RIGHT(Worksheet!F325,3)=\"T12\",RIGHT(Worksheet!F325,5)=\"T12HO\")=TRUE,115,IF(OR(RIGHT(Worksheet!F325,2)=\"T8\",RIGHT(Worksheet!F325,4)=\"RWT8\",RIGHT(Worksheet!F325,4)=\"T8HO\")=TRUE,115,\"\"))))","v":""},{"$f":"IF(ISBLANK(Worksheet!W325)=FALSE,Worksheet!W325,\"\")","v":0},{"$f":"IF(ISERROR(SEARCH(\"Oil\",Worksheet!$A$18))=TRUE,0,Worksheet!AH325)","v":0},0,{"$f":"IF(ISERROR(SEARCH(\"Propane\",Worksheet!$A$18))=TRUE,0,Worksheet!AH325)","v":0},0,{"$f":"IF(Worksheet!J325=0,\"\",Worksheet!J325)","v":""},{"$f":"IF(Worksheet!B325=0,\"\",Worksheet!B325)","v":""},{"$f":"IF(Worksheet!K325=0,\"\",Worksheet!K325)","v":""},{"$f":"IF(Worksheet!L325=0,\"\",Worksheet!L325)","v":""},{"$f":"IF(Worksheet!R325=0,\"\",Worksheet!R325)","v":""},{"$f":"IF(Worksheet!F325=0,\"\",Worksheet!F325)","v":""},{"$f":"IF(Worksheet!G325=0,\"\",Worksheet!G325)","v":""},{"$f":"IF(Worksheet!X325=0,\"\",Worksheet!X325)","v":""},{"$f":"IF(Worksheet!Q325=0,\"\",Worksheet!Q325)","v":""},{"$f":"IF(Worksheet!C325=0,\"\",Worksheet!C325)","v":""},{"$f":"IF(Worksheet!D325=0,\"\",Worksheet!D325)","v":""},{"$f":"IF(Worksheet!$A$11=TRUE,\"Y\",\"N\")","v":"N"},{"$f":"IF(Worksheet!$A$12=TRUE,\"Y\",\"N\")","v":"N"},{"$f":"IF(Worksheet!$B$11=TRUE,\"Y\",\"N\")","v":"N"},{"$f":"IF(Worksheet!$B$12=TRUE,\"Y\",\"N\")","v":"N"},{"$f":"IF(Worksheet!$C$11=TRUE,\"Y\",\"N\")","v":"N"},{"$f":"IFERROR(Worksheet!AB325,\"\")","v":0}]
[{"$f":"IF(IFERROR(SEARCH(\"Refrigerated\",Worksheet!L326,1),0)>0,122,IF(ISERROR(RIGHT(VLOOKUP(Worksheet!K326,Type!C$1:E$13,3,FALSE),3))=FALSE,RIGHT(VLOOKUP(Worksheet!K326,Type!C$1:E$13,3,FALSE),3),\"\"))","v":""},{"$f":"IF(Worksheet!M326=\"\",\"\",Worksheet!M326)","v":""},{"$f":"IF(Worksheet!N326=\"\",\"\",Worksheet!N326)","v":""},{"$f":"IF(Worksheet!Y326=0,\"\",Worksheet!Y326)","v":""},"Watts",null,null,{"$f":"Worksheet!AA326","v":0},{"$f":"IF(ISBLANK(Worksheet!V326)=FALSE,Worksheet!V326,\"\")","v":0},{"$f":"Worksheet!AG326","v":0},{"$f":"Worksheet!AF326","v":0},0,{"$f":"IF(ISERROR(SEARCH(\"Gas\",Worksheet!$A$18))=TRUE,0,Worksheet!AH326)","v":0},0,null,null,{"$f":"IF(OR(Worksheet!F326=\"Incandescent\",Worksheet!F326=\"Halogen Incandescent\")=TRUE,118,IF(LEFT(Worksheet!F326,3)=\"HID\",117,IF(OR(RIGHT(Worksheet!F326,3)=\"T12\",RIGHT(Worksheet!F326,5)=\"T12HO\")=TRUE,115,IF(OR(RIGHT(Worksheet!F326,2)=\"T8\",RIGHT(Worksheet!F326,4)=\"RWT8\",RIGHT(Worksheet!F326,4)=\"T8HO\")=TRUE,115,\"\"))))","v":""},{"$f":"IF(ISBLANK(Worksheet!W326)=FALSE,Worksheet!W326,\"\")","v":0},{"$f":"IF(ISERROR(SEARCH(\"Oil\",Worksheet!$A$18))=TRUE,0,Worksheet!AH326)","v":0},0,{"$f":"IF(ISERROR(SEARCH(\"Propane\",Worksheet!$A$18))=TRUE,0,Worksheet!AH326)","v":0},0,{"$f":"IF(Worksheet!J326=0,\"\",Worksheet!J326)","v":""},{"$f":"IF(Worksheet!B326=0,\"\",Worksheet!B326)","v":""},{"$f":"IF(Worksheet!K326=0,\"\",Worksheet!K326)","v":""},{"$f":"IF(Worksheet!L326=0,\"\",Worksheet!L326)","v":""},{"$f":"IF(Worksheet!R326=0,\"\",Worksheet!R326)","v":""},{"$f":"IF(Worksheet!F326=0,\"\",Worksheet!F326)","v":""},{"$f":"IF(Worksheet!G326=0,\"\",Worksheet!G326)","v":""},{"$f":"IF(Worksheet!X326=0,\"\",Worksheet!X326)","v":""},{"$f":"IF(Worksheet!Q326=0,\"\",Worksheet!Q326)","v":""},{"$f":"IF(Worksheet!C326=0,\"\",Worksheet!C326)","v":""},{"$f":"IF(Worksheet!D326=0,\"\",Worksheet!D326)","v":""},{"$f":"IF(Worksheet!$A$11=TRUE,\"Y\",\"N\")","v":"N"},{"$f":"IF(Worksheet!$A$12=TRUE,\"Y\",\"N\")","v":"N"},{"$f":"IF(Worksheet!$B$11=TRUE,\"Y\",\"N\")","v":"N"},{"$f":"IF(Worksheet!$B$12=TRUE,\"Y\",\"N\")","v":"N"},{"$f":"IF(Worksheet!$C$11=TRUE,\"Y\",\"N\")","v":"N"},{"$f":"IFERROR(Worksheet!AB326,\"\")","v":0}]
[{"$f":"IF(IFERROR(SEARCH(\"Refrigerated\",Worksheet!L327,1),0)>0,122,IF(ISERROR(RIGHT(VLOOKUP(Worksheet!K327,Type!C$1:E$13,3,FALSE),3))=FALSE,RIGHT(VLOOKUP(Worksheet!K327,Type!C$1:E$13,3,FALSE),3),\"\"))","v":""},{"$f":"IF(Worksheet!M327=\"\",\"\",Worksheet!M327)","v":""},{"$f":"IF(Worksheet!N327=\"\",\"\",Worksheet!N327)","v":""},{"$f":"IF(Worksheet!Y327=0,\"\",Worksheet!Y327)","v":""},"Watts",null,null,{"$f":"Worksheet!AA327","v":0},{"$f":"IF(ISBLANK(Worksheet!V327)=FALSE,Worksheet!V327,\"\")","v":0},{"$f":"Worksheet!AG327","v":0},{"$f":"Worksheet!AF327","v":0},0,{"$f":"IF(ISERROR(SEARCH(\"Gas\",Worksheet!$A$18))=TRUE,0,Worksheet!AH327)","v":0},0,null,null,{"$f":"IF(OR(Worksheet!F327=\"Incandescent\",Worksheet!F327=\"Halogen Incandescent\")=TRUE,118,IF(LEFT(Worksheet!F327,3)=\"HID\",117,IF(OR(RIGHT(Worksheet!F327,3)=\"T12\",RIGHT(Worksheet!F327,5)=\"T12HO\")=TRUE,115,IF(OR(RIGHT(Worksheet!F327,2)=\"T8\",RIGHT(Worksheet!F327,4)=\"RWT8\",RIGHT(Worksheet!F327,4)=\"T8HO\")=TRUE,115,\"\"))))","v":""},{"$f":"IF(ISBLANK(Worksheet!W327)=FALSE,Worksheet!W327,\"\")","v":0},{"$f":"IF(ISERROR(SEARCH(\"Oil\",Worksheet!$A$18))=TRUE,0,Worksheet!AH327)","v":0},0,{"$f":"IF(ISERROR(SEARCH(\"Propane\",Worksheet!$A$18))=TRUE,0,Worksheet!AH327)","v":0},0,{"$f":"IF(Worksheet!J327=0,\"\",Worksheet!J327)","v":""},{"$f":"IF(Worksheet!B327=0,\"\",Worksheet!B327)","v":""},{"$f":"IF(Worksheet!K327=0,\"\",Worksheet!K327)","v":""},{"$f":"IF(Worksheet!L327=0,\"\",Worksheet!L327)","v":""},{"$f":"IF(Worksheet!R327=0,\"\",Worksheet!R327)","v":""},{"$f":"IF(Worksheet!F327=0,\"\",Worksheet!F327)","v":""},{"$f":"IF(Worksheet!G327=0,\"\",Worksheet!G327)","v":""},{"$f":"IF(Worksheet!X327=0,\"\",Worksheet!X327)","v":""},{"$f":"IF(Worksheet!Q327=0,\"\",Worksheet!Q327)","v":""},{"$f":"IF(Worksheet!C327=0,\"\",Worksheet!C327)","v":""},{"$f":"IF(Worksheet!D327=0,\"\",Worksheet!D327)","v":""},{"$f":"IF(Worksheet!$A$11=TRUE,\"Y\",\"N\")","v":"N"},{"$f":"IF(Worksheet!$A$12=TRUE,\"Y\",\"N\")","v":"N"},{"$f":"IF(Worksheet!$B$11=TRUE,\"Y\",\"N\")","v":"N"},{"$f":"IF(Worksheet!$B$12=TRUE,\"Y\",\"N\")","v":"N"},{"$f":"IF(Worksheet!$C$11=TRUE,\"Y\",\"N\")","v":"N"},{"$f":"IFERROR(Worksheet!AB327,\"\")","v":0}]
[{"$f":"IF(IFERROR(SEARCH(\"Refrigerated\",Worksheet!L328,1),0)>0,122,IF(ISERROR(RIGHT(VLOOKUP(Worksheet!K328,Type!C$1:E$13,3,FALSE),3))=FALSE,RIGHT(VLOOKUP(Worksheet!K328,Type!C$1:E$13,3,FALSE),3),\"\"))","v":""},{"$f":"IF(Worksheet!M328=\"\",\"\",Worksheet!M328)","v":""},{"$f":"IF(Worksheet!N328=\"\",\"\",Worksheet!N328)","v":""},{"$f":"IF(Worksheet!Y328=0,\"\",Worksheet!Y328)","v":""},"Watts",null,null,{"$f":"Worksheet!AA328","v":0},{"$f":"IF(ISBLANK(Worksheet!V328)=FALSE,Worksheet!V328,\"\")","v":0},{"$f":"Worksheet!AG328","v":0},{"$f":"Worksheet!AF328","v":0},0,{"$f":"IF(ISERROR(SEARCH(\"Gas\",Worksheet!$A$18))=TRUE,0,Worksheet!AH328)","v":0},0,null,null,{"$f":"IF(OR(Worksheet!F328=\"Incandescent\",Worksheet!F328=\"Halogen Incandescent\")=TRUE,118,IF(LEFT(Worksheet!F328,3)=\"HID\",117,IF(OR(RIGHT(Worksheet!F328,3)=\"T12\",RIGHT(Worksheet!F328,5)=\"T12HO\")=TRUE,115,IF(OR(RIGHT(Worksheet!F328,2)=\"T8\",RIGHT(Worksheet!F328,4)=\"RWT8\",RIGHT(Worksheet!F328,4)=\"T8HO\")=TRUE,115,\"\"))))","v":""},{"$f":"IF(ISBLANK(Worksheet!W328)=FALSE,Worksheet!W328,\"\")","v":0},{"$f":"IF(ISERROR(SEARCH(\"Oil\",Worksheet!$A$18))=TRUE,0,Worksheet!AH328)","v":0},0,{"$f":"IF(ISERROR(SEARCH(\"Propane\",Worksheet!$A$18))=TRUE,0,Worksheet!AH328)","v":0},0,{"$f":"IF(Worksheet!J328=0,\"\",Worksheet!J328)","v":""},{"$f":"IF(Worksheet!B328=0,\"\",Worksheet!B328)","v":""},{"$f":"IF(Worksheet!K328=0,\"\",Worksheet!K328)","v":""},{"$f":"IF(Worksheet!L328=0,\"\",Worksheet!L328)","v":""},{"$f":"IF(Worksheet!R328=0,\"\",Worksheet!R328)","v":""},{"$f":"IF(Worksheet!F328=0,\"\",Worksheet!F328)","v":""},{"$f":"IF(Worksheet!G328=0,\"\",Worksheet!G328)","v":""},{"$f":"IF(Worksheet!X328=0,\"\",Worksheet!X328)","v":""},{"$f":"IF(Worksheet!Q328=0,\"\",Worksheet!Q328)","v":""},{"$f":"IF(Worksheet!C328=0,\"\",Worksheet!C328)","v":""},{"$f":"IF(Worksheet!D328=0,\"\",Worksheet!D328)","v":""},{"$f":"IF(Worksheet!$A$11=TRUE,\"Y\",\"N\")","v":"N"},{"$f":"IF(Worksheet!$A$12=TRUE,\"Y\",\"N\")","v":"N"},{"$f":"IF(Worksheet!$B$11=TRUE,\"Y\",\"N\")","v":"N"},{"$f":"IF(Worksheet!$B$12=TRUE,\"Y\",\"N\")","v":"N"},{"$f":"IF(Worksheet!$C$11=TRUE,\"Y\",\"N\")","v":"N"},{"$f":"IFERROR(Worksheet!AB328,\"\")","v":0}]
[{"$f":"IF(IFERROR(SEARCH(\"Refrigerated\",Worksheet!L329,1),0)>0,122,IF(ISERROR(RIGHT(VLOOKUP(Worksheet!K329,Type!C$1:E$13,3,FALSE),3))=FALSE,RIGHT(VLOOKUP(Worksheet!K329,Type!C$1:E$13,3,FALSE),3),\"\"))","v":""},{"$f":"IF(Worksheet!M329=\"\",\"\",Worksheet!M329)","v":""},{"$f":"IF(Worksheet!N329=\"\",\"\",Worksheet!N329)","v":""},{"$f":"IF(Worksheet!Y329=0,\"\",Worksheet!Y329)","v":""},"Watts",null,null,{"$f":"Worksheet!AA329","v":0},{"$f":"IF(ISBLANK(Worksheet!V329)=FALSE,Worksheet!V329,\"\")","v":0},{"$f":"Worksheet!AG329","v":0},{"$f":"Worksheet!AF329","v":0},0,{"$f":"IF(ISERROR(SEARCH(\"Gas\",Worksheet!$A$18))=TRUE,0,Worksheet!AH329)","v":0},0,null,null,{"$f":"IF(OR(Worksheet!F329=\"Incandescent\",Worksheet!F329=\"Halogen Incandescent\")=TRUE,118,IF(LEFT(Worksheet!F329,3)=\"HID\",117,IF(OR(RIGHT(Worksheet!F329,3)=\"T12\",RIGHT(Worksheet!F329,5)=\"T12HO\")=TRUE,115,IF(OR(RIGHT(Worksheet!F329,2)=\"T8\",RIGHT(Worksheet!F329,4)=\"RWT8\",RIGHT(Worksheet!F329,4)=\"T8HO\")=TRUE,115,\"\"))))","v":""},{"$f":"IF(ISBLANK(Worksheet!W329)=FALSE,Worksheet!W329,\"\")","v":0},{"$f":"IF(ISERROR(SEARCH(\"Oil\",Worksheet!$A$18))=TRUE,0,Worksheet!AH329)","v":0},0,{"$f":"IF(ISERROR(SEARCH(\"Propane\",Worksheet!$A$18))=TRUE,0,Worksheet!AH329)","v":0},0,{"$f":"IF(Worksheet!J329=0,\"\",Worksheet!J329)","v":""},{"$f":"IF(Worksheet!B329=0,\"\",Worksheet!B329)","v":""},{"$f":"IF(Worksheet!K329=0,\"\",Worksheet!K329)","v":""},{"$f":"IF(Worksheet!L329=0,\"\",Worksheet!L329)","v":""},{"$f":"IF(Worksheet!R329=0,\"\",Worksheet!R329)","v":""},{"$f":"IF(Worksheet!F329=0,\"\",Worksheet!F329)","v":""},{"$f":"IF(Worksheet!G329=0,\"\",Worksheet!G329)","v":""},{"$f":"IF(Worksheet!X329=0,\"\",Worksheet!X329)","v":""},{"$f":"IF(Worksheet!Q329=0,\"\",Worksheet!Q329)","v":""},{"$f":"IF(Worksheet!C329=0,\"\",Worksheet!C329)","v":""},{"$f":"IF(Worksheet!D329=0,\"\",Worksheet!D329)","v":""},{"$f":"IF(Worksheet!$A$11=TRUE,\"Y\",\"N\")","v":"N"},{"$f":"IF(Worksheet!$A$12=TRUE,\"Y\",\"N\")","v":"N"},{"$f":"IF(Worksheet!$B$11=TRUE,\"Y\",\"N\")","v":"N"},{"$f":"IF(Worksheet!$B$12=TRUE,\"Y\",\"N\")","v":"N"},{"$f":"IF(Worksheet!$C$11=TRUE,\"Y\",\"N\")","v":"N"},{"$f":"IFERROR(Worksheet!AB329,\"\")","v":0}]
[{"$f":"IF(IFERROR(SEARCH(\"Refrigerated\",Worksheet!L330,1),0)>0,122,IF(ISERROR(RIGHT(VLOOKUP(Worksheet!K330,Type!C$1:E$13,3,FALSE),3))=FALSE,RIGHT(VLOOKUP(Worksheet!K330,Type!C$1:E$13,3,FALSE),3),\"\"))","v":""},{"$f":"IF(Worksheet!M330=\"\",\"\",Worksheet!M330)","v":""},{"$f":"IF(Worksheet!N330=\"\",\"\",Worksheet!N330)","v":""},{"$f":"IF(Worksheet!Y330=0,\"\",Worksheet!Y330)","v":""},"Watts",null,null,{"$f":"Worksheet!AA330","v":0},{"$f":"IF(ISBLANK(Worksheet!V330)=FALSE,Worksheet!V330,\"\")","v":0},{"$f":"Worksheet!AG330","v":0},{"$f":"Worksheet!AF330","v":0},0,{"$f":"IF(ISERROR(SEARCH(\"Gas\",Worksheet!$A$18))=TRUE,0,Worksheet!AH330)","v":0},0,null,null,{"$f":"IF(OR(Worksheet!F330=\"Incandescent\",Worksheet!F330=\"Halogen Incandescent\")=TRUE,118,IF(LEFT(Worksheet!F330,3)=\"HID\",117,IF(OR(RIGHT(Worksheet!F330,3)=\"T12\",RIGHT(Worksheet!F330,5)=\"T12HO\")=TRUE,115,IF(OR(RIGHT(Worksheet!F330,2)=\"T8\",RIGHT(Worksheet!F330,4)=\"RWT8\",RIGHT(Worksheet!F330,4)=\"T8HO\")=TRUE,115,\"\"))))","v":""},{"$f":"IF(ISBLANK(Worksheet!W330)=FALSE,Worksheet!W330,\"\")","v":0},{"$f":"IF(ISERROR(SEARCH(\"Oil\",Worksheet!$A$18))=TRUE,0,Worksheet!AH330)","v":0},0,{"$f":"IF(ISERROR(SEARCH(\"Propane\",Worksheet!$A$18))=TRUE,0,Worksheet!AH330)","v":0},0,{"$f":"IF(Worksheet!J330=0,\"\",Worksheet!J330)","v":""},{"$f":"IF(Worksheet!B330=0,\"\",Worksheet!B330)","v":""},{"$f":"IF(Worksheet!K330=0,\"\",Worksheet!K330)","v":""},{"$f":"IF(Worksheet!L330=0,\"\",Worksheet!L330)","v":""},{"$f":"IF(Worksheet!R330=0,\"\",Worksheet!R330)","v":""},{"$f":"IF(Worksheet!F330=0,\"\",Worksheet!F330)","v":""},{"$f":"IF(Worksheet!G330=0,\"\",Worksheet!G330)","v":""},{"$f":"IF(Worksheet!X330=0,\"\",Worksheet!X330)","v":""},{"$f":"IF(Worksheet!Q330=0,\"\",Worksheet!Q330)","v":""},{"$f":"IF(Worksheet!C330=0,\"\",Worksheet!C330)","v":""},{"$f":"IF(Worksheet!D330=0,\"\",Worksheet!D330)","v":""},{"$f":"IF(Worksheet!$A$11=TRUE,\"Y\",\"N\")","v":"N"},{"$f":"IF(Worksheet!$A$12=TRUE,\"Y\",\"N\")","v":"N"},{"$f":"IF(Worksheet!$B$11=TRUE,\"Y\",\"N\")","v":"N"},{"$f":"IF(Worksheet!$B$12=TRUE,\"Y\",\"N\")","v":"N"},{"$f":"IF(Worksheet!$C$11=TRUE,\"Y\",\"N\")","v":"N"},{"$f":"IFERROR(Worksheet!AB330,\"\")","v":0}]
[{"$f":"IF(IFERROR(SEARCH(\"Refrigerated\",Worksheet!L331,1),0)>0,122,IF(ISERROR(RIGHT(VLOOKUP(Worksheet!K331,Type!C$1:E$13,3,FALSE),3))=FALSE,RIGHT(VLOOKUP(Worksheet!K331,Type!C$1:E$13,3,FALSE),3),\"\"))","v":""},{"$f":"IF(Worksheet!M331=\"\",\"\",Worksheet!M331)","v":""},{"$f":"IF(Worksheet!N331=\"\",\"\",Worksheet!N331)","v":""},{"$f":"IF(Worksheet!Y331=0,\"\",Worksheet!Y331)","v":""},"Watts",null,null,{"$f":"Worksheet!AA331","v":0},{"$f":"IF(ISBLANK(Worksheet!V331)=FALSE,Worksheet!V331,\"\")","v":0},{"$f":"Worksheet!AG331","v":0},{"$f":"Worksheet!AF331","v":0},0,{"$f":"IF(ISERROR(SEARCH(\"Gas\",Worksheet!$A$18))=TRUE,0,Worksheet!AH331)","v":0},0,null,null,{"$f":"IF(OR(Worksheet!F331=\"Incandescent\",Worksheet!F331=\"Halogen Incandescent\")=TRUE,118,IF(LEFT(Worksheet!F331,3)=\"HID\",117,IF(OR(RIGHT(Worksheet!F331,3)=\"T12\",RIGHT(Worksheet!F331,5)=\"T12HO\")=TRUE,115,IF(OR(RIGHT(Worksheet!F331,2)=\"T8\",RIGHT(Worksheet!F331,4)=\"RWT8\",RIGHT(Worksheet!F331,4)=\"T8HO\")=TRUE,115,\"\"))))","v":""},{"$f":"IF(ISBLANK(Worksheet!W331)=FALSE,Worksheet!W331,\"\")","v":0},{"$f":"IF(ISERROR(SEARCH(\"Oil\",Worksheet!$A$18))=TRUE,0,Worksheet!AH331)","v":0},0,{"$f":"IF(ISERROR(SEARCH(\"Propane\",Worksheet!$A$18))=TRUE,0,Worksheet!AH331)","v":0},0,{"$f":"IF(Worksheet!J331=0,\"\",Worksheet!J331)","v":""},{"$f":"IF(Worksheet!B331=0,\"\",Worksheet!B331)","v":""},{"$f":"IF(Worksheet!K331=0,\"\",Worksheet!K331)","v":""},{"$f":"IF(Worksheet!L331=0,\"\",Worksheet!L331)","v":""},{"$f":"IF(Worksheet!R331=0,\"\",Worksheet!R331)","v":""},{"$f":"IF(Worksheet!F331=0,\"\",Worksheet!F331)","v":""},{"$f":"IF(Worksheet!G331=0,\"\",Worksheet!G331)","v":""},{"$f":"IF(Worksheet!X331=0,\"\",Worksheet!X331)","v":""},{"$f":"IF(Worksheet!Q331=0,\"\",Worksheet!Q331)","v":""},{"$f":"IF(Worksheet!C331=0,\"\",Worksheet!C331)","v":""},{"$f":"IF(Worksheet!D331=0,\"\",Worksheet!D331)","v":""},{"$f":"IF(Worksheet!$A$11=TRUE,\"Y\",\"N\")","v":"N"},{"$f":"IF(Worksheet!$A$12=TRUE,\"Y\",\"N\")","v":"N"},{"$f":"IF(Worksheet!$B$11=TRUE,\"Y\",\"N\")","v":"N"},{"$f":"IF(Worksheet!$B$12=TRUE,\"Y\",\"N\")","v":"N"},{"$f":"IF(Worksheet!$C$11=TRUE,\"Y\",\"N\")","v":"N"},{"$f":"IFERROR(Worksheet!AB331,\"\")","v":0}]
[{"$f":"IF(IFERROR(SEARCH(\"Refrigerated\",Worksheet!L332,1),0)>0,122,IF(ISERROR(RIGHT(VLOOKUP(Worksheet!K332,Type!C$1:E$13,3,FALSE),3))=FALSE,RIGHT(VLOOKUP(Worksheet!K332,Type!C$1:E$13,3,FALSE),3),\"\"))","v":""},{"$f":"IF(Worksheet!M332=\"\",\"\",Worksheet!M332)","v":""},{"$f":"IF(Worksheet!N332=\"\",\"\",Worksheet!N332)","v":""},{"$f":"IF(Worksheet!Y332=0,\"\",Worksheet!Y332)","v":""},"Watts",null,null,{"$f":"Worksheet!AA332","v":0},{"$f":"IF(ISBLANK(Worksheet!V332)=FALSE,Worksheet!V332,\"\")","v":0},{"$f":"Worksheet!AG332","v":0},{"$f":"Worksheet!AF332","v":0},0,{"$f":"IF(ISERROR(SEARCH(\"Gas\",Worksheet!$A$18))=TRUE,0,Worksheet!AH332)","v":0},0,null,null,{"$f":"IF(OR(Worksheet!F332=\"Incandescent\",Worksheet!F332=\"Halogen Incandescent\")=TRUE,118,IF(LEFT(Worksheet!F332,3)=\"HID\",117,IF(OR(RIGHT(Worksheet!F332,3)=\"T12\",RIGHT(Worksheet!F332,5)=\"T12HO\")=TRUE,115,IF(OR(RIGHT(Worksheet!F332,2)=\"T8\",RIGHT(Worksheet!F332,4)=\"RWT8\",RIGHT(Worksheet!F332,4)=\"T8HO\")=TRUE,115,\"\"))))","v":""},{"$f":"IF(ISBLANK(Worksheet!W332)=FALSE,Worksheet!W332,\"\")","v":0},{"$f":"IF(ISERROR(SEARCH(\"Oil\",Worksheet!$A$18))=TRUE,0,Worksheet!AH332)","v":0},0,{"$f":"IF(ISERROR(SEARCH(\"Propane\",Worksheet!$A$18))=TRUE,0,Worksheet!AH332)","v":0},0,{"$f":"IF(Worksheet!J332=0,\"\",Worksheet!J332)","v":""},{"$f":"IF(Worksheet!B332=0,\"\",Worksheet!B332)","v":""},{"$f":"IF(Worksheet!K332=0,\"\",Worksheet!K332)","v":""},{"$f":"IF(Worksheet!L332=0,\"\",Worksheet!L332)","v":""},{"$f":"IF(Worksheet!R332=0,\"\",Worksheet!R332)","v":""},{"$f":"IF(Worksheet!F332=0,\"\",Worksheet!F332)","v":""},{"$f":"IF(Worksheet!G332=0,\"\",Worksheet!G332)","v":""},{"$f":"IF(Worksheet!X332=0,\"\",Worksheet!X332)","v":""},{"$f":"IF(Worksheet!Q332=0,\"\",Worksheet!Q332)","v":""},{"$f":"IF(Worksheet!C332=0,\"\",Worksheet!C332)","v":""},{"$f":"IF(Worksheet!D332=0,\"\",Worksheet!D332)","v":""},{"$f":"IF(Worksheet!$A$11=TRUE,\"Y\",\"N\")","v":"N"},{"$f":"IF(Worksheet!$A$12=TRUE,\"Y\",\"N\")","v":"N"},{"$f":"IF(Worksheet!$B$11=TRUE,\"Y\",\"N\")","v":"N"},{"$f":"IF(Worksheet!$B$12=TRUE,\"Y\",\"N\")","v":"N"},{"$f":"IF(Worksheet!$C$11=TRUE,\"Y\",\"N\")","v":"N"},{"$f":"IFERROR(Worksheet!AB332,\"\")","v":0}]
[{"$f":"IF(IFERROR(SEARCH(\"Refrigerated\",Worksheet!L333,1),0)>0,122,IF(ISERROR(RIGHT(VLOOKUP(Worksheet!K333,Type!C$1:E$13,3,FALSE),3))=FALSE,RIGHT(VLOOKUP(Worksheet!K333,Type!C$1:E$13,3,FALSE),3),\"\"))","v":""},{"$f":"IF(Worksheet!M333=\"\",\"\",Worksheet!M333)","v":""},{"$f":"IF(Worksheet!N333=\"\",\"\",Worksheet!N333)","v":""},{"$f":"IF(Worksheet!Y333=0,\"\",Worksheet!Y333)","v":""},"Watts",null,null,{"$f":"Worksheet!AA333","v":0},{"$f":"IF(ISBLANK(Worksheet!V333)=FALSE,Worksheet!V333,\"\")","v":0},{"$f":"Worksheet!AG333","v":0},{"$f":"Worksheet!AF333","v":0},0,{"$f":"IF(ISERROR(SEARCH(\"Gas\",Worksheet!$A$18))=TRUE,0,Worksheet!AH333)","v":0},0,null,null,{"$f":"IF(OR(Worksheet!F333=\"Incandescent\",Worksheet!F333=\"Halogen Incandescent\")=TRUE,118,IF(LEFT(Worksheet!F333,3)=\"HID\",117,IF(OR(RIGHT(Worksheet!F333,3)=\"T12\",RIGHT(Worksheet!F333,5)=\"T12HO\")=TRUE,115,IF(OR(RIGHT(Worksheet!F333,2)=\"T8\",RIGHT(Worksheet!F333,4)=\"RWT8\",RIGHT(Worksheet!F333,4)=\"T8HO\")=TRUE,115,\"\"))))","v":""},{"$f":"IF(ISBLANK(Worksheet!W333)=FALSE,Worksheet!W333,\"\")","v":0},{"$f":"IF(ISERROR(SEARCH(\"Oil\",Worksheet!$A$18))=TRUE,0,Worksheet!AH333)","v":0},0,{"$f":"IF(ISERROR(SEARCH(\"Propane\",Worksheet!$A$18))=TRUE,0,Worksheet!AH333)","v":0},0,{"$f":"IF(Worksheet!J333=0,\"\",Worksheet!J333)","v":""},{"$f":"IF(Worksheet!B333=0,\"\",Worksheet!B333)","v":""},{"$f":"IF(Worksheet!K333=0,\"\",Worksheet!K333)","v":""},{"$f":"IF(Worksheet!L333=0,\"\",Worksheet!L333)","v":""},{"$f":"IF(Worksheet!R333=0,\"\",Worksheet!R333)","v":""},{"$f":"IF(Worksheet!F333=0,\"\",Worksheet!F333)","v":""},{"$f":"IF(Worksheet!G333=0,\"\",Worksheet!G333)","v":""},{"$f":"IF(Worksheet!X333=0,\"\",Worksheet!X333)","v":""},{"$f":"IF(Worksheet!Q333=0,\"\",Worksheet!Q333)","v":""},{"$f":"IF(Worksheet!C333=0,\"\",Worksheet!C333)","v":""},{"$f":"IF(Worksheet!D333=0,\"\",Worksheet!D333)","v":""},{"$f":"IF(Worksheet!$A$11=TRUE,\"Y\",\"N\")","v":"N"},{"$f":"IF(Worksheet!$A$12=TRUE,\"Y\",\"N\")","v":"N"},{"$f":"IF(Worksheet!$B$11=TRUE,\"Y\",\"N\")","v":"N"},{"$f":"IF(Worksheet!$B$12=TRUE,\"Y\",\"N\")","v":"N"},{"$f":"IF(Worksheet!$C$11=TRUE,\"Y\",\"N\")","v":"N"},{"$f":"IFERROR(Worksheet!AB333,\"\")","v":0}]
[{"$f":"IF(IFERROR(SEARCH(\"Refrigerated\",Worksheet!L334,1),0)>0,122,IF(ISERROR(RIGHT(VLOOKUP(Worksheet!K334,Type!C$1:E$13,3,FALSE),3))=FALSE,RIGHT(VLOOKUP(Worksheet!K334,Type!C$1:E$13,3,FALSE),3),\"\"))","v":""},{"$f":"IF(Worksheet!M334=\"\",\"\",Worksheet!M334)","v":""},{"$f":"IF(Worksheet!N334=\"\",\"\",Worksheet!N334)","v":""},{"$f":"IF(Worksheet!Y334=0,\"\",Worksheet!Y334)","v":""},"Watts",null,null,{"$f":"Worksheet!AA334","v":0},{"$f":"IF(ISBLANK(Worksheet!V334)=FALSE,Worksheet!V334,\"\")","v":0},{"$f":"Worksheet!AG334","v":0},{"$f":"Worksheet!AF334","v":0},0,{"$f":"IF(ISERROR(SEARCH(\"Gas\",Worksheet!$A$18))=TRUE,0,Worksheet!AH334)","v":0},0,null,null,{"$f":"IF(OR(Worksheet!F334=\"Incandescent\",Worksheet!F334=\"Halogen Incandescent\")=TRUE,118,IF(LEFT(Worksheet!F334,3)=\"HID\",117,IF(OR(RIGHT(Worksheet!F334,3)=\"T12\",RIGHT(Worksheet!F334,5)=\"T12HO\")=TRUE,115,IF(OR(RIGHT(Worksheet!F334,2)=\"T8\",RIGHT(Worksheet!F334,4)=\"RWT8\",RIGHT(Worksheet!F334,4)=\"T8HO\")=TRUE,115,\"\"))))","v":""},{"$f":"IF(ISBLANK(Worksheet!W334)=FALSE,Worksheet!W334,\"\")","v":0},{"$f":"IF(ISERROR(SEARCH(\"Oil\",Worksheet!$A$18))=TRUE,0,Worksheet!AH334)","v":0},0,{"$f":"IF(ISERROR(SEARCH(\"Propane\",Worksheet!$A$18))=TRUE,0,Worksheet!AH334)","v":0},0,{"$f":"IF(Worksheet!J334=0,\"\",Worksheet!J334)","v":""},{"$f":"IF(Worksheet!B334=0,\"\",Worksheet!B334)","v":""},{"$f":"IF(Worksheet!K334=0,\"\",Worksheet!K334)","v":""},{"$f":"IF(Worksheet!L334=0,\"\",Worksheet!L334)","v":""},{"$f":"IF(Worksheet!R334=0,\"\",Worksheet!R334)","v":""},{"$f":"IF(Worksheet!F334=0,\"\",Worksheet!F334)","v":""},{"$f":"IF(Worksheet!G334=0,\"\",Worksheet!G334)","v":""},{"$f":"IF(Worksheet!X334=0,\"\",Worksheet!X334)","v":""},{"$f":"IF(Worksheet!Q334=0,\"\",Worksheet!Q334)","v":""},{"$f":"IF(Worksheet!C334=0,\"\",Worksheet!C334)","v":""},{"$f":"IF(Worksheet!D334=0,\"\",Worksheet!D334)","v":""},{"$f":"IF(Worksheet!$A$11=TRUE,\"Y\",\"N\")","v":"N"},{"$f":"IF(Worksheet!$A$12=TRUE,\"Y\",\"N\")","v":"N"},{"$f":"IF(Worksheet!$B$11=TRUE,\"Y\",\"N\")","v":"N"},{"$f":"IF(Worksheet!$B$12=TRUE,\"Y\",\"N\")","v":"N"},{"$f":"IF(Worksheet!$C$11=TRUE,\"Y\",\"N\")","v":"N"},{"$f":"IFERROR(Worksheet!AB334,\"\")","v":0}]
[{"$f":"IF(IFERROR(SEARCH(\"Refrigerated\",Worksheet!L335,1),0)>0,122,IF(ISERROR(RIGHT(VLOOKUP(Worksheet!K335,Type!C$1:E$13,3,FALSE),3))=FALSE,RIGHT(VLOOKUP(Worksheet!K335,Type!C$1:E$13,3,FALSE),3),\"\"))","v":""},{"$f":"IF(Worksheet!M335=\"\",\"\",Worksheet!M335)","v":""},{"$f":"IF(Worksheet!N335=\"\",\"\",Worksheet!N335)","v":""},{"$f":"IF(Worksheet!Y335=0,\"\",Worksheet!Y335)","v":""},"Watts",null,null,{"$f":"Worksheet!AA335","v":0},{"$f":"IF(ISBLANK(Worksheet!V335)=FALSE,Worksheet!V335,\"\")","v":0},{"$f":"Worksheet!AG335","v":0},{"$f":"Worksheet!AF335","v":0},0,{"$f":"IF(ISERROR(SEARCH(\"Gas\",Worksheet!$A$18))=TRUE,0,Worksheet!AH335)","v":0},0,null,null,{"$f":"IF(OR(Worksheet!F335=\"Incandescent\",Worksheet!F335=\"Halogen Incandescent\")=TRUE,118,IF(LEFT(Worksheet!F335,3)=\"HID\",117,IF(OR(RIGHT(Worksheet!F335,3)=\"T12\",RIGHT(Worksheet!F335,5)=\"T12HO\")=TRUE,115,IF(OR(RIGHT(Worksheet!F335,2)=\"T8\",RIGHT(Worksheet!F335,4)=\"RWT8\",RIGHT(Worksheet!F335,4)=\"T8HO\")=TRUE,115,\"\"))))","v":""},{"$f":"IF(ISBLANK(Worksheet!W335)=FALSE,Worksheet!W335,\"\")","v":0},{"$f":"IF(ISERROR(SEARCH(\"Oil\",Worksheet!$A$18))=TRUE,0,Worksheet!AH335)","v":0},0,{"$f":"IF(ISERROR(SEARCH(\"Propane\",Worksheet!$A$18))=TRUE,0,Worksheet!AH335)","v":0},0,{"$f":"IF(Worksheet!J335=0,\"\",Worksheet!J335)","v":""},{"$f":"IF(Worksheet!B335=0,\"\",Worksheet!B335)","v":""},{"$f":"IF(Worksheet!K335=0,\"\",Worksheet!K335)","v":""},{"$f":"IF(Worksheet!L335=0,\"\",Worksheet!L335)","v":""},{"$f":"IF(Worksheet!R335=0,\"\",Worksheet!R335)","v":""},{"$f":"IF(Worksheet!F335=0,\"\",Worksheet!F335)","v":""},{"$f":"IF(Worksheet!G335=0,\"\",Worksheet!G335)","v":""},{"$f":"IF(Worksheet!X335=0,\"\",Worksheet!X335)","v":""},{"$f":"IF(Worksheet!Q335=0,\"\",Worksheet!Q335)","v":""},{"$f":"IF(Worksheet!C335=0,\"\",Worksheet!C335)","v":""},{"$f":"IF(Worksheet!D335=0,\"\",Worksheet!D335)","v":""},{"$f":"IF(Worksheet!$A$11=TRUE,\"Y\",\"N\")","v":"N"},{"$f":"IF(Worksheet!$A$12=TRUE,\"Y\",\"N\")","v":"N"},{"$f":"IF(Worksheet!$B$11=TRUE,\"Y\",\"N\")","v":"N"},{"$f":"IF(Worksheet!$B$12=TRUE,\"Y\",\"N\")","v":"N"},{"$f":"IF(Worksheet!$C$11=TRUE,\"Y\",\"N\")","v":"N"},{"$f":"IFERROR(Worksheet!AB335,\"\")","v":0}]
[{"$f":"IF(IFERROR(SEARCH(\"Refrigerated\",Worksheet!L336,1),0)>0,122,IF(ISERROR(RIGHT(VLOOKUP(Worksheet!K336,Type!C$1:E$13,3,FALSE),3))=FALSE,RIGHT(VLOOKUP(Worksheet!K336,Type!C$1:E$13,3,FALSE),3),\"\"))","v":""},{"$f":"IF(Worksheet!M336=\"\",\"\",Worksheet!M336)","v":""},{"$f":"IF(Worksheet!N336=\"\",\"\",Worksheet!N336)","v":""},{"$f":"IF(Worksheet!Y336=0,\"\",Worksheet!Y336)","v":""},"Watts",null,null,{"$f":"Worksheet!AA336","v":0},{"$f":"IF(ISBLANK(Worksheet!V336)=FALSE,Worksheet!V336,\"\")","v":0},{"$f":"Worksheet!AG336","v":0},{"$f":"Worksheet!AF336","v":0},0,{"$f":"IF(ISERROR(SEARCH(\"Gas\",Worksheet!$A$18))=TRUE,0,Worksheet!AH336)","v":0},0,null,null,{"$f":"IF(OR(Worksheet!F336=\"Incandescent\",Worksheet!F336=\"Halogen Incandescent\")=TRUE,118,IF(LEFT(Worksheet!F336,3)=\"HID\",117,IF(OR(RIGHT(Worksheet!F336,3)=\"T12\",RIGHT(Worksheet!F336,5)=\"T12HO\")=TRUE,115,IF(OR(RIGHT(Worksheet!F336,2)=\"T8\",RIGHT(Worksheet!F336,4)=\"RWT8\",RIGHT(Worksheet!F336,4)=\"T8HO\")=TRUE,115,\"\"))))","v":""},{"$f":"IF(ISBLANK(Worksheet!W336)=FALSE,Worksheet!W336,\"\")","v":0},{"$f":"IF(ISERROR(SEARCH(\"Oil\",Worksheet!$A$18))=TRUE,0,Worksheet!AH336)","v":0},0,{"$f":"IF(ISERROR(SEARCH(\"Propane\",Worksheet!$A$18))=TRUE,0,Worksheet!AH336)","v":0},0,{"$f":"IF(Worksheet!J336=0,\"\",Worksheet!J336)","v":""},{"$f":"IF(Worksheet!B336=0,\"\",Worksheet!B336)","v":""},{"$f":"IF(Worksheet!K336=0,\"\",Worksheet!K336)","v":""},{"$f":"IF(Worksheet!L336=0,\"\",Worksheet!L336)","v":""},{"$f":"IF(Worksheet!R336=0,\"\",Worksheet!R336)","v":""},{"$f":"IF(Worksheet!F336=0,\"\",Worksheet!F336)","v":""},{"$f":"IF(Worksheet!G336=0,\"\",Worksheet!G336)","v":""},{"$f":"IF(Worksheet!X336=0,\"\",Worksheet!X336)","v":""},{"$f":"IF(Worksheet!Q336=0,\"\",Worksheet!Q336)","v":""},{"$f":"IF(Worksheet!C336=0,\"\",Worksheet!C336)","v":""},{"$f":"IF(Worksheet!D336=0,\"\",Worksheet!D336)","v":""},{"$f":"IF(Worksheet!$A$11=TRUE,\"Y\",\"N\")","v":"N"},{"$f":"IF(Worksheet!$A$12=TRUE,\"Y\",\"N\")","v":"N"},{"$f":"IF(Worksheet!$B$11=TRUE,\"Y\",\"N\")","v":"N"},{"$f":"IF(Worksheet!$B$12=TRUE,\"Y\",\"N\")","v":"N"},{"$f":"IF(Worksheet!$C$11=TRUE,\"Y\",\"N\")","v":"N"},{"$f":"IFERROR(Worksheet!AB336,\"\")","v":0}]
[{"$f":"IF(IFERROR(SEARCH(\"Refrigerated\",Worksheet!L337,1),0)>0,122,IF(ISERROR(RIGHT(VLOOKUP(Worksheet!K337,Type!C$1:E$13,3,FALSE),3))=FALSE,RIGHT(VLOOKUP(Worksheet!K337,Type!C$1:E$13,3,FALSE),3),\"\"))","v":""},{"$f":"IF(Worksheet!M337=\"\",\"\",Worksheet!M337)","v":""},{"$f":"IF(Worksheet!N337=\"\",\"\",Worksheet!N337)","v":""},{"$f":"IF(Worksheet!Y337=0,\"\",Worksheet!Y337)","v":""},"Watts",null,null,{"$f":"Worksheet!AA337","v":0},{"$f":"IF(ISBLANK(Worksheet!V337)=FALSE,Worksheet!V337,\"\")","v":0},{"$f":"Worksheet!AG337","v":0},{"$f":"Worksheet!AF337","v":0},0,{"$f":"IF(ISERROR(SEARCH(\"Gas\",Worksheet!$A$18))=TRUE,0,Worksheet!AH337)","v":0},0,null,null,{"$f":"IF(OR(Worksheet!F337=\"Incandescent\",Worksheet!F337=\"Halogen Incandescent\")=TRUE,118,IF(LEFT(Worksheet!F337,3)=\"HID\",117,IF(OR(RIGHT(Worksheet!F337,3)=\"T12\",RIGHT(Worksheet!F337,5)=\"T12HO\")=TRUE,115,IF(OR(RIGHT(Worksheet!F337,2)=\"T8\",RIGHT(Worksheet!F337,4)=\"RWT8\",RIGHT(Worksheet!F337,4)=\"T8HO\")=TRUE,115,\"\"))))","v":""},{"$f":"IF(ISBLANK(Worksheet!W337)=FALSE,Worksheet!W337,\"\")","v":0},{"$f":"IF(ISERROR(SEARCH(\"Oil\",Worksheet!$A$18))=TRUE,0,Worksheet!AH337)","v":0},0,{"$f":"IF(ISERROR(SEARCH(\"Propane\",Worksheet!$A$18))=TRUE,0,Worksheet!AH337)","v":0},0,{"$f":"IF(Worksheet!J337=0,\"\",Worksheet!J337)","v":""},{"$f":"IF(Worksheet!B337=0,\"\",Worksheet!B337)","v":""},{"$f":"IF(Worksheet!K337=0,\"\",Worksheet!K337)","v":""},{"$f":"IF(Worksheet!L337=0,\"\",Worksheet!L337)","v":""},{"$f":"IF(Worksheet!R337=0,\"\",Worksheet!R337)","v":""},{"$f":"IF(Worksheet!F337=0,\"\",Worksheet!F337)","v":""},{"$f":"IF(Worksheet!G337=0,\"\",Worksheet!G337)","v":""},{"$f":"IF(Worksheet!X337=0,\"\",Worksheet!X337)","v":""},{"$f":"IF(Worksheet!Q337=0,\"\",Worksheet!Q337)","v":""},{"$f":"IF(Worksheet!C337=0,\"\",Worksheet!C337)","v":""},{"$f":"IF(Worksheet!D337=0,\"\",Worksheet!D337)","v":""},{"$f":"IF(Worksheet!$A$11=TRUE,\"Y\",\"N\")","v":"N"},{"$f":"IF(Worksheet!$A$12=TRUE,\"Y\",\"N\")","v":"N"},{"$f":"IF(Worksheet!$B$11=TRUE,\"Y\",\"N\")","v":"N"},{"$f":"IF(Worksheet!$B$12=TRUE,\"Y\",\"N\")","v":"N"},{"$f":"IF(Worksheet!$C$11=TRUE,\"Y\",\"N\")","v":"N"},{"$f":"IFERROR(Worksheet!AB337,\"\")","v":0}]
[{"$f":"IF(IFERROR(SEARCH(\"Refrigerated\",Worksheet!L338,1),0)>0,122,IF(ISERROR(RIGHT(VLOOKUP(Worksheet!K338,Type!C$1:E$13,3,FALSE),3))=FALSE,RIGHT(VLOOKUP(Worksheet!K338,Type!C$1:E$13,3,FALSE),3),\"\"))","v":""},{"$f":"IF(Worksheet!M338=\"\",\"\",Worksheet!M338)","v":""},{"$f":"IF(Worksheet!N338=\"\",\"\",Worksheet!N338)","v":""},{"$f":"IF(Worksheet!Y338=0,\"\",Worksheet!Y338)","v":""},"Watts",null,null,{"$f":"Worksheet!AA338","v":0},{"$f":"IF(ISBLANK(Worksheet!V338)=FALSE,Worksheet!V338,\"\")","v":0},{"$f":"Worksheet!AG338","v":0},{"$f":"Worksheet!AF338","v":0},0,{"$f":"IF(ISERROR(SEARCH(\"Gas\",Worksheet!$A$18))=TRUE,0,Worksheet!AH338)","v":0},0,null,null,{"$f":"IF(OR(Worksheet!F338=\"Incandescent\",Worksheet!F338=\"Halogen Incandescent\")=TRUE,118,IF(LEFT(Worksheet!F338,3)=\"HID\",117,IF(OR(RIGHT(Worksheet!F338,3)=\"T12\",RIGHT(Worksheet!F338,5)=\"T12HO\")=TRUE,115,IF(OR(RIGHT(Worksheet!F338,2)=\"T8\",RIGHT(Worksheet!F338,4)=\"RWT8\",RIGHT(Worksheet!F338,4)=\"T8HO\")=TRUE,115,\"\"))))","v":""},{"$f":"IF(ISBLANK(Worksheet!W338)=FALSE,Worksheet!W338,\"\")","v":0},{"$f":"IF(ISERROR(SEARCH(\"Oil\",Worksheet!$A$18))=TRUE,0,Worksheet!AH338)","v":0},0,{"$f":"IF(ISERROR(SEARCH(\"Propane\",Worksheet!$A$18))=TRUE,0,Worksheet!AH338)","v":0},0,{"$f":"IF(Worksheet!J338=0,\"\",Worksheet!J338)","v":""},{"$f":"IF(Worksheet!B338=0,\"\",Worksheet!B338)","v":""},{"$f":"IF(Worksheet!K338=0,\"\",Worksheet!K338)","v":""},{"$f":"IF(Worksheet!L338=0,\"\",Worksheet!L338)","v":""},{"$f":"IF(Worksheet!R338=0,\"\",Worksheet!R338)","v":""},{"$f":"IF(Worksheet!F338=0,\"\",Worksheet!F338)","v":""},{"$f":"IF(Worksheet!G338=0,\"\",Worksheet!G338)","v":""},{"$f":"IF(Worksheet!X338=0,\"\",Worksheet!X338)","v":""},{"$f":"IF(Worksheet!Q338=0,\"\",Worksheet!Q338)","v":""},{"$f":"IF(Worksheet!C338=0,\"\",Worksheet!C338)","v":""},{"$f":"IF(Worksheet!D338=0,\"\",Worksheet!D338)","v":""},{"$f":"IF(Worksheet!$A$11=TRUE,\"Y\",\"N\")","v":"N"},{"$f":"IF(Worksheet!$A$12=TRUE,\"Y\",\"N\")","v":"N"},{"$f":"IF(Worksheet!$B$11=TRUE,\"Y\",\"N\")","v":"N"},{"$f":"IF(Worksheet!$B$12=TRUE,\"Y\",\"N\")","v":"N"},{"$f":"IF(Worksheet!$C$11=TRUE,\"Y\",\"N\")","v":"N"},{"$f":"IFERROR(Worksheet!AB338,\"\")","v":0}]
[{"$f":"IF(IFERROR(SEARCH(\"Refrigerated\",Worksheet!L339,1),0)>0,122,IF(ISERROR(RIGHT(VLOOKUP(Worksheet!K339,Type!C$1:E$13,3,FALSE),3))=FALSE,RIGHT(VLOOKUP(Worksheet!K339,Type!C$1:E$13,3,FALSE),3),\"\"))","v":""},{"$f":"IF(Worksheet!M339=\"\",\"\",Worksheet!M339)","v":""},{"$f":"IF(Worksheet!N339=\"\",\"\",Worksheet!N339)","v":""},{"$f":"IF(Worksheet!Y339=0,\"\",Worksheet!Y339)","v":""},"Watts",null,null,{"$f":"Worksheet!AA339","v":0},{"$f":"IF(ISBLANK(Worksheet!V339)=FALSE,Worksheet!V339,\"\")","v":0},{"$f":"Worksheet!AG339","v":0},{"$f":"Worksheet!AF339","v":0},0,{"$f":"IF(ISERROR(SEARCH(\"Gas\",Worksheet!$A$18))=TRUE,0,Worksheet!AH339)","v":0},0,null,null,{"$f":"IF(OR(Worksheet!F339=\"Incandescent\",Worksheet!F339=\"Halogen Incandescent\")=TRUE,118,IF(LEFT(Worksheet!F339,3)=\"HID\",117,IF(OR(RIGHT(Worksheet!F339,3)=\"T12\",RIGHT(Worksheet!F339,5)=\"T12HO\")=TRUE,115,IF(OR(RIGHT(Worksheet!F339,2)=\"T8\",RIGHT(Worksheet!F339,4)=\"RWT8\",RIGHT(Worksheet!F339,4)=\"T8HO\")=TRUE,115,\"\"))))","v":""},{"$f":"IF(ISBLANK(Worksheet!W339)=FALSE,Worksheet!W339,\"\")","v":0},{"$f":"IF(ISERROR(SEARCH(\"Oil\",Worksheet!$A$18))=TRUE,0,Worksheet!AH339)","v":0},0,{"$f":"IF(ISERROR(SEARCH(\"Propane\",Worksheet!$A$18))=TRUE,0,Worksheet!AH339)","v":0},0,{"$f":"IF(Worksheet!J339=0,\"\",Worksheet!J339)","v":""},{"$f":"IF(Worksheet!B339=0,\"\",Worksheet!B339)","v":""},{"$f":"IF(Worksheet!K339=0,\"\",Worksheet!K339)","v":""},{"$f":"IF(Worksheet!L339=0,\"\",Worksheet!L339)","v":""},{"$f":"IF(Worksheet!R339=0,\"\",Worksheet!R339)","v":""},{"$f":"IF(Worksheet!F339=0,\"\",Worksheet!F339)","v":""},{"$f":"IF(Worksheet!G339=0,\"\",Worksheet!G339)","v":""},{"$f":"IF(Worksheet!X339=0,\"\",Worksheet!X339)","v":""},{"$f":"IF(Worksheet!Q339=0,\"\",Worksheet!Q339)","v":""},{"$f":"IF(Worksheet!C339=0,\"\",Worksheet!C339)","v":""},{"$f":"IF(Worksheet!D339=0,\"\",Worksheet!D339)","v":""},{"$f":"IF(Worksheet!$A$11=TRUE,\"Y\",\"N\")","v":"N"},{"$f":"IF(Worksheet!$A$12=TRUE,\"Y\",\"N\")","v":"N"},{"$f":"IF(Worksheet!$B$11=TRUE,\"Y\",\"N\")","v":"N"},{"$f":"IF(Worksheet!$B$12=TRUE,\"Y\",\"N\")","v":"N"},{"$f":"IF(Worksheet!$C$11=TRUE,\"Y\",\"N\")","v":"N"},{"$f":"IFERROR(Worksheet!AB339,\"\")","v":0}]
[{"$f":"IF(IFERROR(SEARCH(\"Refrigerated\",Worksheet!L340,1),0)>0,122,IF(ISERROR(RIGHT(VLOOKUP(Worksheet!K340,Type!C$1:E$13,3,FALSE),3))=FALSE,RIGHT(VLOOKUP(Worksheet!K340,Type!C$1:E$13,3,FALSE),3),\"\"))","v":""},{"$f":"IF(Worksheet!M340=\"\",\"\",Worksheet!M340)","v":""},{"$f":"IF(Worksheet!N340=\"\",\"\",Worksheet!N340)","v":""},{"$f":"IF(Worksheet!Y340=0,\"\",Worksheet!Y340)","v":""},"Watts",null,null,{"$f":"Worksheet!AA340","v":0},{"$f":"IF(ISBLANK(Worksheet!V340)=FALSE,Worksheet!V340,\"\")","v":0},{"$f":"Worksheet!AG340","v":0},{"$f":"Worksheet!AF340","v":0},0,{"$f":"IF(ISERROR(SEARCH(\"Gas\",Worksheet!$A$18))=TRUE,0,Worksheet!AH340)","v":0},0,null,null,{"$f":"IF(OR(Worksheet!F340=\"Incandescent\",Worksheet!F340=\"Halogen Incandescent\")=TRUE,118,IF(LEFT(Worksheet!F340,3)=\"HID\",117,IF(OR(RIGHT(Worksheet!F340,3)=\"T12\",RIGHT(Worksheet!F340,5)=\"T12HO\")=TRUE,115,IF(OR(RIGHT(Worksheet!F340,2)=\"T8\",RIGHT(Worksheet!F340,4)=\"RWT8\",RIGHT(Worksheet!F340,4)=\"T8HO\")=TRUE,115,\"\"))))","v":""},{"$f":"IF(ISBLANK(Worksheet!W340)=FALSE,Worksheet!W340,\"\")","v":0},{"$f":"IF(ISERROR(SEARCH(\"Oil\",Worksheet!$A$18))=TRUE,0,Worksheet!AH340)","v":0},0,{"$f":"IF(ISERROR(SEARCH(\"Propane\",Worksheet!$A$18))=TRUE,0,Worksheet!AH340)","v":0},0,{"$f":"IF(Worksheet!J340=0,\"\",Worksheet!J340)","v":""},{"$f":"IF(Worksheet!B340=0,\"\",Worksheet!B340)","v":""},{"$f":"IF(Worksheet!K340=0,\"\",Worksheet!K340)","v":""},{"$f":"IF(Worksheet!L340=0,\"\",Worksheet!L340)","v":""},{"$f":"IF(Worksheet!R340=0,\"\",Worksheet!R340)","v":""},{"$f":"IF(Worksheet!F340=0,\"\",Worksheet!F340)","v":""},{"$f":"IF(Worksheet!G340=0,\"\",Worksheet!G340)","v":""},{"$f":"IF(Worksheet!X340=0,\"\",Worksheet!X340)","v":""},{"$f":"IF(Worksheet!Q340=0,\"\",Worksheet!Q340)","v":""},{"$f":"IF(Worksheet!C340=0,\"\",Worksheet!C340)","v":""},{"$f":"IF(Worksheet!D340=0,\"\",Worksheet!D340)","v":""},{"$f":"IF(Worksheet!$A$11=TRUE,\"Y\",\"N\")","v":"N"},{"$f":"IF(Worksheet!$A$12=TRUE,\"Y\",\"N\")","v":"N"},{"$f":"IF(Worksheet!$B$11=TRUE,\"Y\",\"N\")","v":"N"},{"$f":"IF(Worksheet!$B$12=TRUE,\"Y\",\"N\")","v":"N"},{"$f":"IF(Worksheet!$C$11=TRUE,\"Y\",\"N\")","v":"N"},{"$f":"IFERROR(Worksheet!AB340,\"\")","v":0}]
[{"$f":"IF(IFERROR(SEARCH(\"Refrigerated\",Worksheet!L341,1),0)>0,122,IF(ISERROR(RIGHT(VLOOKUP(Worksheet!K341,Type!C$1:E$13,3,FALSE),3))=FALSE,RIGHT(VLOOKUP(Worksheet!K341,Type!C$1:E$13,3,FALSE),3),\"\"))","v":""},{"$f":"IF(Worksheet!M341=\"\",\"\",Worksheet!M341)","v":""},{"$f":"IF(Worksheet!N341=\"\",\"\",Worksheet!N341)","v":""},{"$f":"IF(Worksheet!Y341=0,\"\",Worksheet!Y341)","v":""},"Watts",null,null,{"$f":"Worksheet!AA341","v":0},{"$f":"IF(ISBLANK(Worksheet!V341)=FALSE,Worksheet!V341,\"\")","v":0},{"$f":"Worksheet!AG341","v":0},{"$f":"Worksheet!AF341","v":0},0,{"$f":"IF(ISERROR(SEARCH(\"Gas\",Worksheet!$A$18))=TRUE,0,Worksheet!AH341)","v":0},0,null,null,{"$f":"IF(OR(Worksheet!F341=\"Incandescent\",Worksheet!F341=\"Halogen Incandescent\")=TRUE,118,IF(LEFT(Worksheet!F341,3)=\"HID\",117,IF(OR(RIGHT(Worksheet!F341,3)=\"T12\",RIGHT(Worksheet!F341,5)=\"T12HO\")=TRUE,115,IF(OR(RIGHT(Worksheet!F341,2)=\"T8\",RIGHT(Worksheet!F341,4)=\"RWT8\",RIGHT(Worksheet!F341,4)=\"T8HO\")=TRUE,115,\"\"))))","v":""},{"$f":"IF(ISBLANK(Worksheet!W341)=FALSE,Worksheet!W341,\"\")","v":0},{"$f":"IF(ISERROR(SEARCH(\"Oil\",Worksheet!$A$18))=TRUE,0,Worksheet!AH341)","v":0},0,{"$f":"IF(ISERROR(SEARCH(\"Propane\",Worksheet!$A$18))=TRUE,0,Worksheet!AH341)","v":0},0,{"$f":"IF(Worksheet!J341=0,\"\",Worksheet!J341)","v":""},{"$f":"IF(Worksheet!B341=0,\"\",Worksheet!B341)","v":""},{"$f":"IF(Worksheet!K341=0,\"\",Worksheet!K341)","v":""},{"$f":"IF(Worksheet!L341=0,\"\",Worksheet!L341)","v":""},{"$f":"IF(Worksheet!R341=0,\"\",Worksheet!R341)","v":""},{"$f":"IF(Worksheet!F341=0,\"\",Worksheet!F341)","v":""},{"$f":"IF(Worksheet!G341=0,\"\",Worksheet!G341)","v":""},{"$f":"IF(Worksheet!X341=0,\"\",Worksheet!X341)","v":""},{"$f":"IF(Worksheet!Q341=0,\"\",Worksheet!Q341)","v":""},{"$f":"IF(Worksheet!C341=0,\"\",Worksheet!C341)","v":""},{"$f":"IF(Worksheet!D341=0,\"\",Worksheet!D341)","v":""},{"$f":"IF(Worksheet!$A$11=TRUE,\"Y\",\"N\")","v":"N"},{"$f":"IF(Worksheet!$A$12=TRUE,\"Y\",\"N\")","v":"N"},{"$f":"IF(Worksheet!$B$11=TRUE,\"Y\",\"N\")","v":"N"},{"$f":"IF(Worksheet!$B$12=TRUE,\"Y\",\"N\")","v":"N"},{"$f":"IF(Worksheet!$C$11=TRUE,\"Y\",\"N\")","v":"N"},{"$f":"IFERROR(Worksheet!AB341,\"\")","v":0}]
[{"$f":"IF(IFERROR(SEARCH(\"Refrigerated\",Worksheet!L342,1),0)>0,122,IF(ISERROR(RIGHT(VLOOKUP(Worksheet!K342,Type!C$1:E$13,3,FALSE),3))=FALSE,RIGHT(VLOOKUP(Worksheet!K342,Type!C$1:E$13,3,FALSE),3),\"\"))","v":""},{"$f":"IF(Worksheet!M342=\"\",\"\",Worksheet!M342)","v":""},{"$f":"IF(Worksheet!N342=\"\",\"\",Worksheet!N342)","v":""},{"$f":"IF(Worksheet!Y342=0,\"\",Worksheet!Y342)","v":""},"Watts",null,null,{"$f":"Worksheet!AA342","v":0},{"$f":"IF(ISBLANK(Worksheet!V342)=FALSE,Worksheet!V342,\"\")","v":0},{"$f":"Worksheet!AG342","v":0},{"$f":"Worksheet!AF342","v":0},0,{"$f":"IF(ISERROR(SEARCH(\"Gas\",Worksheet!$A$18))=TRUE,0,Worksheet!AH342)","v":0},0,null,null,{"$f":"IF(OR(Worksheet!F342=\"Incandescent\",Worksheet!F342=\"Halogen Incandescent\")=TRUE,118,IF(LEFT(Worksheet!F342,3)=\"HID\",117,IF(OR(RIGHT(Worksheet!F342,3)=\"T12\",RIGHT(Worksheet!F342,5)=\"T12HO\")=TRUE,115,IF(OR(RIGHT(Worksheet!F342,2)=\"T8\",RIGHT(Worksheet!F342,4)=\"RWT8\",RIGHT(Worksheet!F342,4)=\"T8HO\")=TRUE,115,\"\"))))","v":""},{"$f":"IF(ISBLANK(Worksheet!W342)=FALSE,Worksheet!W342,\"\")","v":0},{"$f":"IF(ISERROR(SEARCH(\"Oil\",Worksheet!$A$18))=TRUE,0,Worksheet!AH342)","v":0},0,{"$f":"IF(ISERROR(SEARCH(\"Propane\",Worksheet!$A$18))=TRUE,0,Worksheet!AH342)","v":0},0,{"$f":"IF(Worksheet!J342=0,\"\",Worksheet!J342)","v":""},{"$f":"IF(Worksheet!B342=0,\"\",Worksheet!B342)","v":""},{"$f":"IF(Worksheet!K342=0,\"\",Worksheet!K342)","v":""},{"$f":"IF(Worksheet!L342=0,\"\",Worksheet!L342)","v":""},{"$f":"IF(Worksheet!R342=0,\"\",Worksheet!R342)","v":""},{"$f":"IF(Worksheet!F342=0,\"\",Worksheet!F342)","v":""},{"$f":"IF(Worksheet!G342=0,\"\",Worksheet!G342)","v":""},{"$f":"IF(Worksheet!X342=0,\"\",Worksheet!X342)","v":""},{"$f":"IF(Worksheet!Q342=0,\"\",Worksheet!Q342)","v":""},{"$f":"IF(Worksheet!C342=0,\"\",Worksheet!C342)","v":""},{"$f":"IF(Worksheet!D342=0,\"\",Worksheet!D342)","v":""},{"$f":"IF(Worksheet!$A$11=TRUE,\"Y\",\"N\")","v":"N"},{"$f":"IF(Worksheet!$A$12=TRUE,\"Y\",\"N\")","v":"N"},{"$f":"IF(Worksheet!$B$11=TRUE,\"Y\",\"N\")","v":"N"},{"$f":"IF(Worksheet!$B$12=TRUE,\"Y\",\"N\")","v":"N"},{"$f":"IF(Worksheet!$C$11=TRUE,\"Y\",\"N\")","v":"N"},{"$f":"IFERROR(Worksheet!AB342,\"\")","v":0}]
[{"$f":"IF(IFERROR(SEARCH(\"Refrigerated\",Worksheet!L343,1),0)>0,122,IF(ISERROR(RIGHT(VLOOKUP(Worksheet!K343,Type!C$1:E$13,3,FALSE),3))=FALSE,RIGHT(VLOOKUP(Worksheet!K343,Type!C$1:E$13,3,FALSE),3),\"\"))","v":""},{"$f":"IF(Worksheet!M343=\"\",\"\",Worksheet!M343)","v":""},{"$f":"IF(Worksheet!N343=\"\",\"\",Worksheet!N343)","v":""},{"$f":"IF(Worksheet!Y343=0,\"\",Worksheet!Y343)","v":""},"Watts",null,null,{"$f":"Worksheet!AA343","v":0},{"$f":"IF(ISBLANK(Worksheet!V343)=FALSE,Worksheet!V343,\"\")","v":0},{"$f":"Worksheet!AG343","v":0},{"$f":"Worksheet!AF343","v":0},0,{"$f":"IF(ISERROR(SEARCH(\"Gas\",Worksheet!$A$18))=TRUE,0,Worksheet!AH343)","v":0},0,null,null,{"$f":"IF(OR(Worksheet!F343=\"Incandescent\",Worksheet!F343=\"Halogen Incandescent\")=TRUE,118,IF(LEFT(Worksheet!F343,3)=\"HID\",117,IF(OR(RIGHT(Worksheet!F343,3)=\"T12\",RIGHT(Worksheet!F343,5)=\"T12HO\")=TRUE,115,IF(OR(RIGHT(Worksheet!F343,2)=\"T8\",RIGHT(Worksheet!F343,4)=\"RWT8\",RIGHT(Worksheet!F343,4)=\"T8HO\")=TRUE,115,\"\"))))","v":""},{"$f":"IF(ISBLANK(Worksheet!W343)=FALSE,Worksheet!W343,\"\")","v":0},{"$f":"IF(ISERROR(SEARCH(\"Oil\",Worksheet!$A$18))=TRUE,0,Worksheet!AH343)","v":0},0,{"$f":"IF(ISERROR(SEARCH(\"Propane\",Worksheet!$A$18))=TRUE,0,Worksheet!AH343)","v":0},0,{"$f":"IF(Worksheet!J343=0,\"\",Worksheet!J343)","v":""},{"$f":"IF(Worksheet!B343=0,\"\",Worksheet!B343)","v":""},{"$f":"IF(Worksheet!K343=0,\"\",Worksheet!K343)","v":""},{"$f":"IF(Worksheet!L343=0,\"\",Worksheet!L343)","v":""},{"$f":"IF(Worksheet!R343=0,\"\",Worksheet!R343)","v":""},{"$f":"IF(Worksheet!F343=0,\"\",Worksheet!F343)","v":""},{"$f":"IF(Worksheet!G343=0,\"\",Worksheet!G343)","v":""},{"$f":"IF(Worksheet!X343=0,\"\",Worksheet!X343)","v":""},{"$f":"IF(Worksheet!Q343=0,\"\",Worksheet!Q343)","v":""},{"$f":"IF(Worksheet!C343=0,\"\",Worksheet!C343)","v":""},{"$f":"IF(Worksheet!D343=0,\"\",Worksheet!D343)","v":""},{"$f":"IF(Worksheet!$A$11=TRUE,\"Y\",\"N\")","v":"N"},{"$f":"IF(Worksheet!$A$12=TRUE,\"Y\",\"N\")","v":"N"},{"$f":"IF(Worksheet!$B$11=TRUE,\"Y\",\"N\")","v":"N"},{"$f":"IF(Worksheet!$B$12=TRUE,\"Y\",\"N\")","v":"N"},{"$f":"IF(Worksheet!$C$11=TRUE,\"Y\",\"N\")","v":"N"},{"$f":"IFERROR(Worksheet!AB343,\"\")","v":0}]
[{"$f":"IF(IFERROR(SEARCH(\"Refrigerated\",Worksheet!L344,1),0)>0,122,IF(ISERROR(RIGHT(VLOOKUP(Worksheet!K344,Type!C$1:E$13,3,FALSE),3))=FALSE,RIGHT(VLOOKUP(Worksheet!K344,Type!C$1:E$13,3,FALSE),3),\"\"))","v":""},{"$f":"IF(Worksheet!M344=\"\",\"\",Worksheet!M344)","v":""},{"$f":"IF(Worksheet!N344=\"\",\"\",Worksheet!N344)","v":""},{"$f":"IF(Worksheet!Y344=0,\"\",Worksheet!Y344)","v":""},"Watts",null,null,{"$f":"Worksheet!AA344","v":0},{"$f":"IF(ISBLANK(Worksheet!V344)=FALSE,Worksheet!V344,\"\")","v":0},{"$f":"Worksheet!AG344","v":0},{"$f":"Worksheet!AF344","v":0},0,{"$f":"IF(ISERROR(SEARCH(\"Gas\",Worksheet!$A$18))=TRUE,0,Worksheet!AH344)","v":0},0,null,null,{"$f":"IF(OR(Worksheet!F344=\"Incandescent\",Worksheet!F344=\"Halogen Incandescent\")=TRUE,118,IF(LEFT(Worksheet!F344,3)=\"HID\",117,IF(OR(RIGHT(Worksheet!F344,3)=\"T12\",RIGHT(Worksheet!F344,5)=\"T12HO\")=TRUE,115,IF(OR(RIGHT(Worksheet!F344,2)=\"T8\",RIGHT(Worksheet!F344,4)=\"RWT8\",RIGHT(Worksheet!F344,4)=\"T8HO\")=TRUE,115,\"\"))))","v":""},{"$f":"IF(ISBLANK(Worksheet!W344)=FALSE,Worksheet!W344,\"\")","v":0},{"$f":"IF(ISERROR(SEARCH(\"Oil\",Worksheet!$A$18))=TRUE,0,Worksheet!AH344)","v":0},0,{"$f":"IF(ISERROR(SEARCH(\"Propane\",Worksheet!$A$18))=TRUE,0,Worksheet!AH344)","v":0},0,{"$f":"IF(Worksheet!J344=0,\"\",Worksheet!J344)","v":""},{"$f":"IF(Worksheet!B344=0,\"\",Worksheet!B344)","v":""},{"$f":"IF(Worksheet!K344=0,\"\",Worksheet!K344)","v":""},{"$f":"IF(Worksheet!L344=0,\"\",Worksheet!L344)","v":""},{"$f":"IF(Worksheet!R344=0,\"\",Worksheet!R344)","v":""},{"$f":"IF(Worksheet!F344=0,\"\",Worksheet!F344)","v":""},{"$f":"IF(Worksheet!G344=0,\"\",Worksheet!G344)","v":""},{"$f":"IF(Worksheet!X344=0,\"\",Worksheet!X344)","v":""},{"$f":"IF(Worksheet!Q344=0,\"\",Worksheet!Q344)","v":""},{"$f":"IF(Worksheet!C344=0,\"\",Worksheet!C344)","v":""},{"$f":"IF(Worksheet!D344=0,\"\",Worksheet!D344)","v":""},{"$f":"IF(Worksheet!$A$11=TRUE,\"Y\",\"N\")","v":"N"},{"$f":"IF(Worksheet!$A$12=TRUE,\"Y\",\"N\")","v":"N"},{"$f":"IF(Worksheet!$B$11=TRUE,\"Y\",\"N\")","v":"N"},{"$f":"IF(Worksheet!$B$12=TRUE,\"Y\",\"N\")","v":"N"},{"$f":"IF(Worksheet!$C$11=TRUE,\"Y\",\"N\")","v":"N"},{"$f":"IFERROR(Worksheet!AB344,\"\")","v":0}]
[{"$f":"IF(IFERROR(SEARCH(\"Refrigerated\",Worksheet!L345,1),0)>0,122,IF(ISERROR(RIGHT(VLOOKUP(Worksheet!K345,Type!C$1:E$13,3,FALSE),3))=FALSE,RIGHT(VLOOKUP(Worksheet!K345,Type!C$1:E$13,3,FALSE),3),\"\"))","v":""},{"$f":"IF(Worksheet!M345=\"\",\"\",Worksheet!M345)","v":""},{"$f":"IF(Worksheet!N345=\"\",\"\",Worksheet!N345)","v":""},{"$f":"IF(Worksheet!Y345=0,\"\",Worksheet!Y345)","v":""},"Watts",null,null,{"$f":"Worksheet!AA345","v":0},{"$f":"IF(ISBLANK(Worksheet!V345)=FALSE,Worksheet!V345,\"\")","v":0},{"$f":"Worksheet!AG345","v":0},{"$f":"Worksheet!AF345","v":0},0,{"$f":"IF(ISERROR(SEARCH(\"Gas\",Worksheet!$A$18))=TRUE,0,Worksheet!AH345)","v":0},0,null,null,{"$f":"IF(OR(Worksheet!F345=\"Incandescent\",Worksheet!F345=\"Halogen Incandescent\")=TRUE,118,IF(LEFT(Worksheet!F345,3)=\"HID\",117,IF(OR(RIGHT(Worksheet!F345,3)=\"T12\",RIGHT(Worksheet!F345,5)=\"T12HO\")=TRUE,115,IF(OR(RIGHT(Worksheet!F345,2)=\"T8\",RIGHT(Worksheet!F345,4)=\"RWT8\",RIGHT(Worksheet!F345,4)=\"T8HO\")=TRUE,115,\"\"))))","v":""},{"$f":"IF(ISBLANK(Worksheet!W345)=FALSE,Worksheet!W345,\"\")","v":0},{"$f":"IF(ISERROR(SEARCH(\"Oil\",Worksheet!$A$18))=TRUE,0,Worksheet!AH345)","v":0},0,{"$f":"IF(ISERROR(SEARCH(\"Propane\",Worksheet!$A$18))=TRUE,0,Worksheet!AH345)","v":0},0,{"$f":"IF(Worksheet!J345=0,\"\",Worksheet!J345)","v":""},{"$f":"IF(Worksheet!B345=0,\"\",Worksheet!B345)","v":""},{"$f":"IF(Worksheet!K345=0,\"\",Worksheet!K345)","v":""},{"$f":"IF(Worksheet!L345=0,\"\",Worksheet!L345)","v":""},{"$f":"IF(Worksheet!R345=0,\"\",Worksheet!R345)","v":""},{"$f":"IF(Worksheet!F345=0,\"\",Worksheet!F345)","v":""},{"$f":"IF(Worksheet!G345=0,\"\",Worksheet!G345)","v":""},{"$f":"IF(Worksheet!X345=0,\"\",Worksheet!X345)","v":""},{"$f":"IF(Worksheet!Q345=0,\"\",Worksheet!Q345)","v":""},{"$f":"IF(Worksheet!C345=0,\"\",Worksheet!C345)","v":""},{"$f":"IF(Worksheet!D345=0,\"\",Worksheet!D345)","v":""},{"$f":"IF(Worksheet!$A$11=TRUE,\"Y\",\"N\")","v":"N"},{"$f":"IF(Worksheet!$A$12=TRUE,\"Y\",\"N\")","v":"N"},{"$f":"IF(Worksheet!$B$11=TRUE,\"Y\",\"N\")","v":"N"},{"$f":"IF(Worksheet!$B$12=TRUE,\"Y\",\"N\")","v":"N"},{"$f":"IF(Worksheet!$C$11=TRUE,\"Y\",\"N\")","v":"N"},{"$f":"IFERROR(Worksheet!AB345,\"\")","v":0}]
[{"$f":"IF(IFERROR(SEARCH(\"Refrigerated\",Worksheet!L346,1),0)>0,122,IF(ISERROR(RIGHT(VLOOKUP(Worksheet!K346,Type!C$1:E$13,3,FALSE),3))=FALSE,RIGHT(VLOOKUP(Worksheet!K346,Type!C$1:E$13,3,FALSE),3),\"\"))","v":""},{"$f":"IF(Worksheet!M346=\"\",\"\",Worksheet!M346)","v":""},{"$f":"IF(Worksheet!N346=\"\",\"\",Worksheet!N346)","v":""},{"$f":"IF(Worksheet!Y346=0,\"\",Worksheet!Y346)","v":""},"Watts",null,null,{"$f":"Worksheet!AA346","v":0},{"$f":"IF(ISBLANK(Worksheet!V346)=FALSE,Worksheet!V346,\"\")","v":0},{"$f":"Worksheet!AG346","v":0},{"$f":"Worksheet!AF346","v":0},0,{"$f":"IF(ISERROR(SEARCH(\"Gas\",Worksheet!$A$18))=TRUE,0,Worksheet!AH346)","v":0},0,null,null,{"$f":"IF(OR(Worksheet!F346=\"Incandescent\",Worksheet!F346=\"Halogen Incandescent\")=TRUE,118,IF(LEFT(Worksheet!F346,3)=\"HID\",117,IF(OR(RIGHT(Worksheet!F346,3)=\"T12\",RIGHT(Worksheet!F346,5)=\"T12HO\")=TRUE,115,IF(OR(RIGHT(Worksheet!F346,2)=\"T8\",RIGHT(Worksheet!F346,4)=\"RWT8\",RIGHT(Worksheet!F346,4)=\"T8HO\")=TRUE,115,\"\"))))","v":""},{"$f":"IF(ISBLANK(Worksheet!W346)=FALSE,Worksheet!W346,\"\")","v":0},{"$f":"IF(ISERROR(SEARCH(\"Oil\",Worksheet!$A$18))=TRUE,0,Worksheet!AH346)","v":0},0,{"$f":"IF(ISERROR(SEARCH(\"Propane\",Worksheet!$A$18))=TRUE,0,Worksheet!AH346)","v":0},0,{"$f":"IF(Worksheet!J346=0,\"\",Worksheet!J346)","v":""},{"$f":"IF(Worksheet!B346=0,\"\",Worksheet!B346)","v":""},{"$f":"IF(Worksheet!K346=0,\"\",Worksheet!K346)","v":""},{"$f":"IF(Worksheet!L346=0,\"\",Worksheet!L346)","v":""},{"$f":"IF(Worksheet!R346=0,\"\",Worksheet!R346)","v":""},{"$f":"IF(Worksheet!F346=0,\"\",Worksheet!F346)","v":""},{"$f":"IF(Worksheet!G346=0,\"\",Worksheet!G346)","v":""},{"$f":"IF(Worksheet!X346=0,\"\",Worksheet!X346)","v":""},{"$f":"IF(Worksheet!Q346=0,\"\",Worksheet!Q346)","v":""},{"$f":"IF(Worksheet!C346=0,\"\",Worksheet!C346)","v":""},{"$f":"IF(Worksheet!D346=0,\"\",Worksheet!D346)","v":""},{"$f":"IF(Worksheet!$A$11=TRUE,\"Y\",\"N\")","v":"N"},{"$f":"IF(Worksheet!$A$12=TRUE,\"Y\",\"N\")","v":"N"},{"$f":"IF(Worksheet!$B$11=TRUE,\"Y\",\"N\")","v":"N"},{"$f":"IF(Worksheet!$B$12=TRUE,\"Y\",\"N\")","v":"N"},{"$f":"IF(Worksheet!$C$11=TRUE,\"Y\",\"N\")","v":"N"},{"$f":"IFERROR(Worksheet!AB346,\"\")","v":0}]
[{"$f":"IF(IFERROR(SEARCH(\"Refrigerated\",Worksheet!L347,1),0)>0,122,IF(ISERROR(RIGHT(VLOOKUP(Worksheet!K347,Type!C$1:E$13,3,FALSE),3))=FALSE,RIGHT(VLOOKUP(Worksheet!K347,Type!C$1:E$13,3,FALSE),3),\"\"))","v":""},{"$f":"IF(Worksheet!M347=\"\",\"\",Worksheet!M347)","v":""},{"$f":"IF(Worksheet!N347=\"\",\"\",Worksheet!N347)","v":""},{"$f":"IF(Worksheet!Y347=0,\"\",Worksheet!Y347)","v":""},"Watts",null,null,{"$f":"Worksheet!AA347","v":0},{"$f":"IF(ISBLANK(Worksheet!V347)=FALSE,Worksheet!V347,\"\")","v":0},{"$f":"Worksheet!AG347","v":0},{"$f":"Worksheet!AF347","v":0},0,{"$f":"IF(ISERROR(SEARCH(\"Gas\",Worksheet!$A$18))=TRUE,0,Worksheet!AH347)","v":0},0,null,null,{"$f":"IF(OR(Worksheet!F347=\"Incandescent\",Worksheet!F347=\"Halogen Incandescent\")=TRUE,118,IF(LEFT(Worksheet!F347,3)=\"HID\",117,IF(OR(RIGHT(Worksheet!F347,3)=\"T12\",RIGHT(Worksheet!F347,5)=\"T12HO\")=TRUE,115,IF(OR(RIGHT(Worksheet!F347,2)=\"T8\",RIGHT(Worksheet!F347,4)=\"RWT8\",RIGHT(Worksheet!F347,4)=\"T8HO\")=TRUE,115,\"\"))))","v":""},{"$f":"IF(ISBLANK(Worksheet!W347)=FALSE,Worksheet!W347,\"\")","v":0},{"$f":"IF(ISERROR(SEARCH(\"Oil\",Worksheet!$A$18))=TRUE,0,Worksheet!AH347)","v":0},0,{"$f":"IF(ISERROR(SEARCH(\"Propane\",Worksheet!$A$18))=TRUE,0,Worksheet!AH347)","v":0},0,{"$f":"IF(Worksheet!J347=0,\"\",Worksheet!J347)","v":""},{"$f":"IF(Worksheet!B347=0,\"\",Worksheet!B347)","v":""},{"$f":"IF(Worksheet!K347=0,\"\",Worksheet!K347)","v":""},{"$f":"IF(Worksheet!L347=0,\"\",Worksheet!L347)","v":""},{"$f":"IF(Worksheet!R347=0,\"\",Worksheet!R347)","v":""},{"$f":"IF(Worksheet!F347=0,\"\",Worksheet!F347)","v":""},{"$f":"IF(Worksheet!G347=0,\"\",Worksheet!G347)","v":""},{"$f":"IF(Worksheet!X347=0,\"\",Worksheet!X347)","v":""},{"$f":"IF(Worksheet!Q347=0,\"\",Worksheet!Q347)","v":""},{"$f":"IF(Worksheet!C347=0,\"\",Worksheet!C347)","v":""},{"$f":"IF(Worksheet!D347=0,\"\",Worksheet!D347)","v":""},{"$f":"IF(Worksheet!$A$11=TRUE,\"Y\",\"N\")","v":"N"},{"$f":"IF(Worksheet!$A$12=TRUE,\"Y\",\"N\")","v":"N"},{"$f":"IF(Worksheet!$B$11=TRUE,\"Y\",\"N\")","v":"N"},{"$f":"IF(Worksheet!$B$12=TRUE,\"Y\",\"N\")","v":"N"},{"$f":"IF(Worksheet!$C$11=TRUE,\"Y\",\"N\")","v":"N"},{"$f":"IFERROR(Worksheet!AB347,\"\")","v":0}]
[{"$f":"IF(IFERROR(SEARCH(\"Refrigerated\",Worksheet!L348,1),0)>0,122,IF(ISERROR(RIGHT(VLOOKUP(Worksheet!K348,Type!C$1:E$13,3,FALSE),3))=FALSE,RIGHT(VLOOKUP(Worksheet!K348,Type!C$1:E$13,3,FALSE),3),\"\"))","v":""},{"$f":"IF(Worksheet!M348=\"\",\"\",Worksheet!M348)","v":""},{"$f":"IF(Worksheet!N348=\"\",\"\",Worksheet!N348)","v":""},{"$f":"IF(Worksheet!Y348=0,\"\",Worksheet!Y348)","v":""},"Watts",null,null,{"$f":"Worksheet!AA348","v":0},{"$f":"IF(ISBLANK(Worksheet!V348)=FALSE,Worksheet!V348,\"\")","v":0},{"$f":"Worksheet!AG348","v":0},{"$f":"Worksheet!AF348","v":0},0,{"$f":"IF(ISERROR(SEARCH(\"Gas\",Worksheet!$A$18))=TRUE,0,Worksheet!AH348)","v":0},0,null,null,{"$f":"IF(OR(Worksheet!F348=\"Incandescent\",Worksheet!F348=\"Halogen Incandescent\")=TRUE,118,IF(LEFT(Worksheet!F348,3)=\"HID\",117,IF(OR(RIGHT(Worksheet!F348,3)=\"T12\",RIGHT(Worksheet!F348,5)=\"T12HO\")=TRUE,115,IF(OR(RIGHT(Worksheet!F348,2)=\"T8\",RIGHT(Worksheet!F348,4)=\"RWT8\",RIGHT(Worksheet!F348,4)=\"T8HO\")=TRUE,115,\"\"))))","v":""},{"$f":"IF(ISBLANK(Worksheet!W348)=FALSE,Worksheet!W348,\"\")","v":0},{"$f":"IF(ISERROR(SEARCH(\"Oil\",Worksheet!$A$18))=TRUE,0,Worksheet!AH348)","v":0},0,{"$f":"IF(ISERROR(SEARCH(\"Propane\",Worksheet!$A$18))=TRUE,0,Worksheet!AH348)","v":0},0,{"$f":"IF(Worksheet!J348=0,\"\",Worksheet!J348)","v":""},{"$f":"IF(Worksheet!B348=0,\"\",Worksheet!B348)","v":""},{"$f":"IF(Worksheet!K348=0,\"\",Worksheet!K348)","v":""},{"$f":"IF(Worksheet!L348=0,\"\",Worksheet!L348)","v":""},{"$f":"IF(Worksheet!R348=0,\"\",Worksheet!R348)","v":""},{"$f":"IF(Worksheet!F348=0,\"\",Worksheet!F348)","v":""},{"$f":"IF(Worksheet!G348=0,\"\",Worksheet!G348)","v":""},{"$f":"IF(Worksheet!X348=0,\"\",Worksheet!X348)","v":""},{"$f":"IF(Worksheet!Q348=0,\"\",Worksheet!Q348)","v":""},{"$f":"IF(Worksheet!C348=0,\"\",Worksheet!C348)","v":""},{"$f":"IF(Worksheet!D348=0,\"\",Worksheet!D348)","v":""},{"$f":"IF(Worksheet!$A$11=TRUE,\"Y\",\"N\")","v":"N"},{"$f":"IF(Worksheet!$A$12=TRUE,\"Y\",\"N\")","v":"N"},{"$f":"IF(Worksheet!$B$11=TRUE,\"Y\",\"N\")","v":"N"},{"$f":"IF(Worksheet!$B$12=TRUE,\"Y\",\"N\")","v":"N"},{"$f":"IF(Worksheet!$C$11=TRUE,\"Y\",\"N\")","v":"N"},{"$f":"IFERROR(Worksheet!AB348,\"\")","v":0}]
[{"$f":"IF(IFERROR(SEARCH(\"Refrigerated\",Worksheet!L349,1),0)>0,122,IF(ISERROR(RIGHT(VLOOKUP(Worksheet!K349,Type!C$1:E$13,3,FALSE),3))=FALSE,RIGHT(VLOOKUP(Worksheet!K349,Type!C$1:E$13,3,FALSE),3),\"\"))","v":""},{"$f":"IF(Worksheet!M349=\"\",\"\",Worksheet!M349)","v":""},{"$f":"IF(Worksheet!N349=\"\",\"\",Worksheet!N349)","v":""},{"$f":"IF(Worksheet!Y349=0,\"\",Worksheet!Y349)","v":""},"Watts",null,null,{"$f":"Worksheet!AA349","v":0},{"$f":"IF(ISBLANK(Worksheet!V349)=FALSE,Worksheet!V349,\"\")","v":0},{"$f":"Worksheet!AG349","v":0},{"$f":"Worksheet!AF349","v":0},{"$f":"J323*IF(A323=122,16,15)","v":0},{"$f":"IF(ISERROR(SEARCH(\"Gas\",Worksheet!$A$18))=TRUE,0,Worksheet!AH349)","v":0},{"$f":"M323*IF(A323=122,16,15)","v":0},null,null,{"$f":"IF(OR(Worksheet!F349=\"Incandescent\",Worksheet!F349=\"Halogen Incandescent\")=TRUE,118,IF(LEFT(Worksheet!F349,3)=\"HID\",117,IF(OR(RIGHT(Worksheet!F349,3)=\"T12\",RIGHT(Worksheet!F349,5)=\"T12HO\")=TRUE,115,IF(OR(RIGHT(Worksheet!F349,2)=\"T8\",RIGHT(Worksheet!F349,4)=\"RWT8\",RIGHT(Worksheet!F349,4)=\"T8HO\")=TRUE,115,\"\"))))","v":""},{"$f":"IF(ISBLANK(Worksheet!W349)=FALSE,Worksheet!W349,\"\")","v":0},{"$f":"IF(ISERROR(SEARCH(\"Oil\",Worksheet!$A$18))=TRUE,0,Worksheet!AH349)","v":0},{"$f":"S323*IF(A323=122,16,15)","v":0},{"$f":"IF(ISERROR(SEARCH(\"Propane\",Worksheet!$A$18))=TRUE,0,Worksheet!AH349)","v":0},{"$f":"U323*IF(A323=122,16,15)","v":0},{"$f":"IF(Worksheet!J349=0,\"\",Worksheet!J349)","v":""},{"$f":"IF(Worksheet!B349=0,\"\",Worksheet!B349)","v":""},{"$f":"IF(Worksheet!K349=0,\"\",Worksheet!K349)","v":""},{"$f":"IF(Worksheet!L349=0,\"\",Worksheet!L349)","v":""},{"$f":"IF(Worksheet!R349=0,\"\",Worksheet!R349)","v":""},{"$f":"IF(Worksheet!F349=0,\"\",Worksheet!F349)","v":""},{"$f":"IF(Worksheet!G349=0,\"\",Worksheet!G349)","v":""},{"$f":"IF(Worksheet!X349=0,\"\",Worksheet!X349)","v":""},{"$f":"IF(Worksheet!Q349=0,\"\",Worksheet!Q349)","v":""},{"$f":"IF(Worksheet!C349=0,\"\",Worksheet!C349)","v":""},{"$f":"IF(Worksheet!D349=0,\"\",Worksheet!D349)","v":""},{"$f":"IF(Worksheet!$A$11=TRUE,\"Y\",\"N\")","v":"N"},{"$f":"IF(Worksheet!$A$12=TRUE,\"Y\",\"N\")","v":"N"},{"$f":"IF(Worksheet!$B$11=TRUE,\"Y\",\"N\")","v":"N"},{"$f":"IF(Worksheet!$B$12=TRUE,\"Y\",\"N\")","v":"N"},{"$f":"IF(Worksheet!$C$11=TRUE,\"Y\",\"N\")","v":"N"},{"$f":"IFERROR(Worksheet!AB349,\"\")","v":0}]
[{"$f":"IF(IFERROR(SEARCH(\"Refrigerated\",Worksheet!L350,1),0)>0,122,IF(ISERROR(RIGHT(VLOOKUP(Worksheet!K350,Type!C$1:E$13,3,FALSE),3))=FALSE,RIGHT(VLOOKUP(Worksheet!K350,Type!C$1:E$13,3,FALSE),3),\"\"))","v":""},{"$f":"IF(Worksheet!M350=\"\",\"\",Worksheet!M350)","v":""},{"$f":"IF(Worksheet!N350=\"\",\"\",Worksheet!N350)","v":""},{"$f":"IF(Worksheet!Y350=0,\"\",Worksheet!Y350)","v":""},"Watts",null,null,{"$f":"Worksheet!AA350","v":0},{"$f":"IF(ISBLANK(Worksheet!V350)=FALSE,Worksheet!V350,\"\")","v":0},{"$f":"Worksheet!AG350","v":0},{"$f":"Worksheet!AF350","v":0},0,{"$f":"IF(ISERROR(SEARCH(\"Gas\",Worksheet!$A$18))=TRUE,0,Worksheet!AH350)","v":0},0,null,null,{"$f":"IF(OR(Worksheet!F350=\"Incandescent\",Worksheet!F350=\"Halogen Incandescent\")=TRUE,118,IF(LEFT(Worksheet!F350,3)=\"HID\",117,IF(OR(RIGHT(Worksheet!F350,3)=\"T12\",RIGHT(Worksheet!F350,5)=\"T12HO\")=TRUE,115,IF(OR(RIGHT(Worksheet!F350,2)=\"T8\",RIGHT(Worksheet!F350,4)=\"RWT8\",RIGHT(Worksheet!F350,4)=\"T8HO\")=TRUE,115,\"\"))))","v":""},{"$f":"IF(ISBLANK(Worksheet!W350)=FALSE,Worksheet!W350,\"\")","v":0},{"$f":"IF(ISERROR(SEARCH(\"Oil\",Worksheet!$A$18))=TRUE,0,Worksheet!AH350)","v":0},0,{"$f":"IF(ISERROR(SEARCH(\"Propane\",Worksheet!$A$18))=TRUE,0,Worksheet!AH350)","v":0},0,{"$f":"IF(Worksheet!J350=0,\"\",Worksheet!J350)","v":""},{"$f":"IF(Worksheet!B350=0,\"\",Worksheet!B350)","v":""},{"$f":"IF(Worksheet!K350=0,\"\",Worksheet!K350)","v":""},{"$f":"IF(Worksheet!L350=0,\"\",Worksheet!L350)","v":""},{"$f":"IF(Worksheet!R350=0,\"\",Worksheet!R350)","v":""},{"$f":"IF(Worksheet!F350=0,\"\",Worksheet!F350)","v":""},{"$f":"IF(Worksheet!G350=0,\"\",Worksheet!G350)","v":""},{"$f":"IF(Worksheet!X350=0,\"\",Worksheet!X350)","v":""},{"$f":"IF(Worksheet!Q350=0,\"\",Worksheet!Q350)","v":""},{"$f":"IF(Worksheet!C350=0,\"\",Worksheet!C350)","v":""},{"$f":"IF(Worksheet!D350=0,\"\",Worksheet!D350)","v":""},{"$f":"IF(Worksheet!$A$11=TRUE,\"Y\",\"N\")","v":"N"},{"$f":"IF(Worksheet!$A$12=TRUE,\"Y\",\"N\")","v":"N"},{"$f":"IF(Worksheet!$B$11=TRUE,\"Y\",\"N\")","v":"N"},{"$f":"IF(Worksheet!$B$12=TRUE,\"Y\",\"N\")","v":"N"},{"$f":"IF(Worksheet!$C$11=TRUE,\"Y\",\"N\")","v":"N"},{"$f":"IFERROR(Worksheet!AB350,\"\")","v":0}]
[{"$f":"IF(IFERROR(SEARCH(\"Refrigerated\",Worksheet!L351,1),0)>0,122,IF(ISERROR(RIGHT(VLOOKUP(Worksheet!K351,Type!C$1:E$13,3,FALSE),3))=FALSE,RIGHT(VLOOKUP(Worksheet!K351,Type!C$1:E$13,3,FALSE),3),\"\"))","v":""},{"$f":"IF(Worksheet!M351=\"\",\"\",Worksheet!M351)","v":""},{"$f":"IF(Worksheet!N351=\"\",\"\",Worksheet!N351)","v":""},{"$f":"IF(Worksheet!Y351=0,\"\",Worksheet!Y351)","v":""},"Watts",null,null,{"$f":"Worksheet!AA351","v":0},{"$f":"IF(ISBLANK(Worksheet!V351)=FALSE,Worksheet!V351,\"\")","v":0},{"$f":"Worksheet!AG351","v":0},{"$f":"Worksheet!AF351","v":0},0,{"$f":"IF(ISERROR(SEARCH(\"Gas\",Worksheet!$A$18))=TRUE,0,Worksheet!AH351)","v":0},0,null,null,{"$f":"IF(OR(Worksheet!F351=\"Incandescent\",Worksheet!F351=\"Halogen Incandescent\")=TRUE,118,IF(LEFT(Worksheet!F351,3)=\"HID\",117,IF(OR(RIGHT(Worksheet!F351,3)=\"T12\",RIGHT(Worksheet!F351,5)=\"T12HO\")=TRUE,115,IF(OR(RIGHT(Worksheet!F351,2)=\"T8\",RIGHT(Worksheet!F351,4)=\"RWT8\",RIGHT(Worksheet!F351,4)=\"T8HO\")=TRUE,115,\"\"))))","v":""},{"$f":"IF(ISBLANK(Worksheet!W351)=FALSE,Worksheet!W351,\"\")","v":0},{"$f":"IF(ISERROR(SEARCH(\"Oil\",Worksheet!$A$18))=TRUE,0,Worksheet!AH351)","v":0},0,{"$f":"IF(ISERROR(SEARCH(\"Propane\",Worksheet!$A$18))=TRUE,0,Worksheet!AH351)","v":0},0,{"$f":"IF(Worksheet!J351=0,\"\",Worksheet!J351)","v":""},{"$f":"IF(Worksheet!B351=0,\"\",Worksheet!B351)","v":""},{"$f":"IF(Worksheet!K351=0,\"\",Worksheet!K351)","v":""},{"$f":"IF(Worksheet!L351=0,\"\",Worksheet!L351)","v":""},{"$f":"IF(Worksheet!R351=0,\"\",Worksheet!R351)","v":""},{"$f":"IF(Worksheet!F351=0,\"\",Worksheet!F351)","v":""},{"$f":"IF(Worksheet!G351=0,\"\",Worksheet!G351)","v":""},{"$f":"IF(Worksheet!X351=0,\"\",Worksheet!X351)","v":""},{"$f":"IF(Worksheet!Q351=0,\"\",Worksheet!Q351)","v":""},{"$f":"IF(Worksheet!C351=0,\"\",Worksheet!C351)","v":""},{"$f":"IF(Worksheet!D351=0,\"\",Worksheet!D351)","v":""},{"$f":"IF(Worksheet!$A$11=TRUE,\"Y\",\"N\")","v":"N"},{"$f":"IF(Worksheet!$A$12=TRUE,\"Y\",\"N\")","v":"N"},{"$f":"IF(Worksheet!$B$11=TRUE,\"Y\",\"N\")","v":"N"},{"$f":"IF(Worksheet!$B$12=TRUE,\"Y\",\"N\")","v":"N"},{"$f":"IF(Worksheet!$C$11=TRUE,\"Y\",\"N\")","v":"N"},{"$f":"IFERROR(Worksheet!AB351,\"\")","v":0}]
[{"$f":"IF(IFERROR(SEARCH(\"Refrigerated\",Worksheet!L352,1),0)>0,122,IF(ISERROR(RIGHT(VLOOKUP(Worksheet!K352,Type!C$1:E$13,3,FALSE),3))=FALSE,RIGHT(VLOOKUP(Worksheet!K352,Type!C$1:E$13,3,FALSE),3),\"\"))","v":""},{"$f":"IF(Worksheet!M352=\"\",\"\",Worksheet!M352)","v":""},{"$f":"IF(Worksheet!N352=\"\",\"\",Worksheet!N352)","v":""},{"$f":"IF(Worksheet!Y352=0,\"\",Worksheet!Y352)","v":""},"Watts",null,null,{"$f":"Worksheet!AA352","v":0},{"$f":"IF(ISBLANK(Worksheet!V352)=FALSE,Worksheet!V352,\"\")","v":0},{"$f":"Worksheet!AG352","v":0},{"$f":"Worksheet!AF352","v":0},0,{"$f":"IF(ISERROR(SEARCH(\"Gas\",Worksheet!$A$18))=TRUE,0,Worksheet!AH352)","v":0},0,null,null,{"$f":"IF(OR(Worksheet!F352=\"Incandescent\",Worksheet!F352=\"Halogen Incandescent\")=TRUE,118,IF(LEFT(Worksheet!F352,3)=\"HID\",117,IF(OR(RIGHT(Worksheet!F352,3)=\"T12\",RIGHT(Worksheet!F352,5)=\"T12HO\")=TRUE,115,IF(OR(RIGHT(Worksheet!F352,2)=\"T8\",RIGHT(Worksheet!F352,4)=\"RWT8\",RIGHT(Worksheet!F352,4)=\"T8HO\")=TRUE,115,\"\"))))","v":""},{"$f":"IF(ISBLANK(Worksheet!W352)=FALSE,Worksheet!W352,\"\")","v":0},{"$f":"IF(ISERROR(SEARCH(\"Oil\",Worksheet!$A$18))=TRUE,0,Worksheet!AH352)","v":0},0,{"$f":"IF(ISERROR(SEARCH(\"Propane\",Worksheet!$A$18))=TRUE,0,Worksheet!AH352)","v":0},0,{"$f":"IF(Worksheet!J352=0,\"\",Worksheet!J352)","v":""},{"$f":"IF(Worksheet!B352=0,\"\",Worksheet!B352)","v":""},{"$f":"IF(Worksheet!K352=0,\"\",Worksheet!K352)","v":""},{"$f":"IF(Worksheet!L352=0,\"\",Worksheet!L352)","v":""},{"$f":"IF(Worksheet!R352=0,\"\",Worksheet!R352)","v":""},{"$f":"IF(Worksheet!F352=0,\"\",Worksheet!F352)","v":""},{"$f":"IF(Worksheet!G352=0,\"\",Worksheet!G352)","v":""},{"$f":"IF(Worksheet!X352=0,\"\",Worksheet!X352)","v":""},{"$f":"IF(Worksheet!Q352=0,\"\",Worksheet!Q352)","v":""},{"$f":"IF(Worksheet!C352=0,\"\",Worksheet!C352)","v":""},{"$f":"IF(Worksheet!D352=0,\"\",Worksheet!D352)","v":""},{"$f":"IF(Worksheet!$A$11=TRUE,\"Y\",\"N\")","v":"N"},{"$f":"IF(Worksheet!$A$12=TRUE,\"Y\",\"N\")","v":"N"},{"$f":"IF(Worksheet!$B$11=TRUE,\"Y\",\"N\")","v":"N"},{"$f":"IF(Worksheet!$B$12=TRUE,\"Y\",\"N\")","v":"N"},{"$f":"IF(Worksheet!$C$11=TRUE,\"Y\",\"N\")","v":"N"},{"$f":"IFERROR(Worksheet!AB352,\"\")","v":0}]
[{"$f":"IF(IFERROR(SEARCH(\"Refrigerated\",Worksheet!L353,1),0)>0,122,IF(ISERROR(RIGHT(VLOOKUP(Worksheet!K353,Type!C$1:E$13,3,FALSE),3))=FALSE,RIGHT(VLOOKUP(Worksheet!K353,Type!C$1:E$13,3,FALSE),3),\"\"))","v":""},{"$f":"IF(Worksheet!M353=\"\",\"\",Worksheet!M353)","v":""},{"$f":"IF(Worksheet!N353=\"\",\"\",Worksheet!N353)","v":""},{"$f":"IF(Worksheet!Y353=0,\"\",Worksheet!Y353)","v":""},"Watts",null,null,{"$f":"Worksheet!AA353","v":0},{"$f":"IF(ISBLANK(Worksheet!V353)=FALSE,Worksheet!V353,\"\")","v":0},{"$f":"Worksheet!AG353","v":0},{"$f":"Worksheet!AF353","v":0},0,{"$f":"IF(ISERROR(SEARCH(\"Gas\",Worksheet!$A$18))=TRUE,0,Worksheet!AH353)","v":0},0,null,null,{"$f":"IF(OR(Worksheet!F353=\"Incandescent\",Worksheet!F353=\"Halogen Incandescent\")=TRUE,118,IF(LEFT(Worksheet!F353,3)=\"HID\",117,IF(OR(RIGHT(Worksheet!F353,3)=\"T12\",RIGHT(Worksheet!F353,5)=\"T12HO\")=TRUE,115,IF(OR(RIGHT(Worksheet!F353,2)=\"T8\",RIGHT(Worksheet!F353,4)=\"RWT8\",RIGHT(Worksheet!F353,4)=\"T8HO\")=TRUE,115,\"\"))))","v":""},{"$f":"IF(ISBLANK(Worksheet!W353)=FALSE,Worksheet!W353,\"\")","v":0},{"$f":"IF(ISERROR(SEARCH(\"Oil\",Worksheet!$A$18))=TRUE,0,Worksheet!AH353)","v":0},0,{"$f":"IF(ISERROR(SEARCH(\"Propane\",Worksheet!$A$18))=TRUE,0,Worksheet!AH353)","v":0},0,{"$f":"IF(Worksheet!J353=0,\"\",Worksheet!J353)","v":""},{"$f":"IF(Worksheet!B353=0,\"\",Worksheet!B353)","v":""},{"$f":"IF(Worksheet!K353=0,\"\",Worksheet!K353)","v":""},{"$f":"IF(Worksheet!L353=0,\"\",Worksheet!L353)","v":""},{"$f":"IF(Worksheet!R353=0,\"\",Worksheet!R353)","v":""},{"$f":"IF(Worksheet!F353=0,\"\",Worksheet!F353)","v":""},{"$f":"IF(Worksheet!G353=0,\"\",Worksheet!G353)","v":""},{"$f":"IF(Worksheet!X353=0,\"\",Worksheet!X353)","v":""},{"$f":"IF(Worksheet!Q353=0,\"\",Worksheet!Q353)","v":""},{"$f":"IF(Worksheet!C353=0,\"\",Worksheet!C353)","v":""},{"$f":"IF(Worksheet!D353=0,\"\",Worksheet!D353)","v":""},{"$f":"IF(Worksheet!$A$11=TRUE,\"Y\",\"N\")","v":"N"},{"$f":"IF(Worksheet!$A$12=TRUE,\"Y\",\"N\")","v":"N"},{"$f":"IF(Worksheet!$B$11=TRUE,\"Y\",\"N\")","v":"N"},{"$f":"IF(Worksheet!$B$12=TRUE,\"Y\",\"N\")","v":"N"},{"$f":"IF(Worksheet!$C$11=TRUE,\"Y\",\"N\")","v":"N"},{"$f":"IFERROR(Worksheet!AB353,\"\")","v":0}]
[{"$f":"IF(IFERROR(SEARCH(\"Refrigerated\",Worksheet!L354,1),0)>0,122,IF(ISERROR(RIGHT(VLOOKUP(Worksheet!K354,Type!C$1:E$13,3,FALSE),3))=FALSE,RIGHT(VLOOKUP(Worksheet!K354,Type!C$1:E$13,3,FALSE),3),\"\"))","v":""},{"$f":"IF(Worksheet!M354=\"\",\"\",Worksheet!M354)","v":""},{"$f":"IF(Worksheet!N354=\"\",\"\",Worksheet!N354)","v":""},{"$f":"IF(Worksheet!Y354=0,\"\",Worksheet!Y354)","v":""},"Watts",null,null,{"$f":"Worksheet!AA354","v":0},{"$f":"IF(ISBLANK(Worksheet!V354)=FALSE,Worksheet!V354,\"\")","v":0},{"$f":"Worksheet!AG354","v":0},{"$f":"Worksheet!AF354","v":0},0,{"$f":"IF(ISERROR(SEARCH(\"Gas\",Worksheet!$A$18))=TRUE,0,Worksheet!AH354)","v":0},0,null,null,{"$f":"IF(OR(Worksheet!F354=\"Incandescent\",Worksheet!F354=\"Halogen Incandescent\")=TRUE,118,IF(LEFT(Worksheet!F354,3)=\"HID\",117,IF(OR(RIGHT(Worksheet!F354,3)=\"T12\",RIGHT(Worksheet!F354,5)=\"T12HO\")=TRUE,115,IF(OR(RIGHT(Worksheet!F354,2)=\"T8\",RIGHT(Worksheet!F354,4)=\"RWT8\",RIGHT(Worksheet!F354,4)=\"T8HO\")=TRUE,115,\"\"))))","v":""},{"$f":"IF(ISBLANK(Worksheet!W354)=FALSE,Worksheet!W354,\"\")","v":0},{"$f":"IF(ISERROR(SEARCH(\"Oil\",Worksheet!$A$18))=TRUE,0,Worksheet!AH354)","v":0},0,{"$f":"IF(ISERROR(SEARCH(\"Propane\",Worksheet!$A$18))=TRUE,0,Worksheet!AH354)","v":0},0,{"$f":"IF(Worksheet!J354=0,\"\",Worksheet!J354)","v":""},{"$f":"IF(Worksheet!B354=0,\"\",Worksheet!B354)","v":""},{"$f":"IF(Worksheet!K354=0,\"\",Worksheet!K354)","v":""},{"$f":"IF(Worksheet!L354=0,\"\",Worksheet!L354)","v":""},{"$f":"IF(Worksheet!R354=0,\"\",Worksheet!R354)","v":""},{"$f":"IF(Worksheet!F354=0,\"\",Worksheet!F354)","v":""},{"$f":"IF(Worksheet!G354=0,\"\",Worksheet!G354)","v":""},{"$f":"IF(Worksheet!X354=0,\"\",Worksheet!X354)","v":""},{"$f":"IF(Worksheet!Q354=0,\"\",Worksheet!Q354)","v":""},{"$f":"IF(Worksheet!C354=0,\"\",Worksheet!C354)","v":""},{"$f":"IF(Worksheet!D354=0,\"\",Worksheet!D354)","v":""},{"$f":"IF(Worksheet!$A$11=TRUE,\"Y\",\"N\")","v":"N"},{"$f":"IF(Worksheet!$A$12=TRUE,\"Y\",\"N\")","v":"N"},{"$f":"IF(Worksheet!$B$11=TRUE,\"Y\",\"N\")","v":"N"},{"$f":"IF(Worksheet!$B$12=TRUE,\"Y\",\"N\")","v":"N"},{"$f":"IF(Worksheet!$C$11=TRUE,\"Y\",\"N\")","v":"N"},{"$f":"IFERROR(Worksheet!AB354,\"\")","v":0}]
[{"$f":"IF(IFERROR(SEARCH(\"Refrigerated\",Worksheet!L355,1),0)>0,122,IF(ISERROR(RIGHT(VLOOKUP(Worksheet!K355,Type!C$1:E$13,3,FALSE),3))=FALSE,RIGHT(VLOOKUP(Worksheet!K355,Type!C$1:E$13,3,FALSE),3),\"\"))","v":""},{"$f":"IF(Worksheet!M355=\"\",\"\",Worksheet!M355)","v":""},{"$f":"IF(Worksheet!N355=\"\",\"\",Worksheet!N355)","v":""},{"$f":"IF(Worksheet!Y355=0,\"\",Worksheet!Y355)","v":""},"Watts",null,null,{"$f":"Worksheet!AA355","v":0},{"$f":"IF(ISBLANK(Worksheet!V355)=FALSE,Worksheet!V355,\"\")","v":0},{"$f":"Worksheet!AG355","v":0},{"$f":"Worksheet!AF355","v":0},0,{"$f":"IF(ISERROR(SEARCH(\"Gas\",Worksheet!$A$18))=TRUE,0,Worksheet!AH355)","v":0},0,null,null,{"$f":"IF(OR(Worksheet!F355=\"Incandescent\",Worksheet!F355=\"Halogen Incandescent\")=TRUE,118,IF(LEFT(Worksheet!F355,3)=\"HID\",117,IF(OR(RIGHT(Worksheet!F355,3)=\"T12\",RIGHT(Worksheet!F355,5)=\"T12HO\")=TRUE,115,IF(OR(RIGHT(Worksheet!F355,2)=\"T8\",RIGHT(Worksheet!F355,4)=\"RWT8\",RIGHT(Worksheet!F355,4)=\"T8HO\")=TRUE,115,\"\"))))","v":""},{"$f":"IF(ISBLANK(Worksheet!W355)=FALSE,Worksheet!W355,\"\")","v":0},{"$f":"IF(ISERROR(SEARCH(\"Oil\",Worksheet!$A$18))=TRUE,0,Worksheet!AH355)","v":0},0,{"$f":"IF(ISERROR(SEARCH(\"Propane\",Worksheet!$A$18))=TRUE,0,Worksheet!AH355)","v":0},0,{"$f":"IF(Worksheet!J355=0,\"\",Worksheet!J355)","v":""},{"$f":"IF(Worksheet!B355=0,\"\",Worksheet!B355)","v":""},{"$f":"IF(Worksheet!K355=0,\"\",Worksheet!K355)","v":""},{"$f":"IF(Worksheet!L355=0,\"\",Worksheet!L355)","v":""},{"$f":"IF(Worksheet!R355=0,\"\",Worksheet!R355)","v":""},{"$f":"IF(Worksheet!F355=0,\"\",Worksheet!F355)","v":""},{"$f":"IF(Worksheet!G355=0,\"\",Worksheet!G355)","v":""},{"$f":"IF(Worksheet!X355=0,\"\",Worksheet!X355)","v":""},{"$f":"IF(Worksheet!Q355=0,\"\",Worksheet!Q355)","v":""},{"$f":"IF(Worksheet!C355=0,\"\",Worksheet!C355)","v":""},{"$f":"IF(Worksheet!D355=0,\"\",Worksheet!D355)","v":""},{"$f":"IF(Worksheet!$A$11=TRUE,\"Y\",\"N\")","v":"N"},{"$f":"IF(Worksheet!$A$12=TRUE,\"Y\",\"N\")","v":"N"},{"$f":"IF(Worksheet!$B$11=TRUE,\"Y\",\"N\")","v":"N"},{"$f":"IF(Worksheet!$B$12=TRUE,\"Y\",\"N\")","v":"N"},{"$f":"IF(Worksheet!$C$11=TRUE,\"Y\",\"N\")","v":"N"},{"$f":"IFERROR(Worksheet!AB355,\"\")","v":0}]
[{"$f":"IF(IFERROR(SEARCH(\"Refrigerated\",Worksheet!L356,1),0)>0,122,IF(ISERROR(RIGHT(VLOOKUP(Worksheet!K356,Type!C$1:E$13,3,FALSE),3))=FALSE,RIGHT(VLOOKUP(Worksheet!K356,Type!C$1:E$13,3,FALSE),3),\"\"))","v":""},{"$f":"IF(Worksheet!M356=\"\",\"\",Worksheet!M356)","v":""},{"$f":"IF(Worksheet!N356=\"\",\"\",Worksheet!N356)","v":""},{"$f":"IF(Worksheet!Y356=0,\"\",Worksheet!Y356)","v":""},"Watts",null,null,{"$f":"Worksheet!AA356","v":0},{"$f":"IF(ISBLANK(Worksheet!V356)=FALSE,Worksheet!V356,\"\")","v":0},{"$f":"Worksheet!AG356","v":0},{"$f":"Worksheet!AF356","v":0},0,{"$f":"IF(ISERROR(SEARCH(\"Gas\",Worksheet!$A$18))=TRUE,0,Worksheet!AH356)","v":0},0,null,null,{"$f":"IF(OR(Worksheet!F356=\"Incandescent\",Worksheet!F356=\"Halogen Incandescent\")=TRUE,118,IF(LEFT(Worksheet!F356,3)=\"HID\",117,IF(OR(RIGHT(Worksheet!F356,3)=\"T12\",RIGHT(Worksheet!F356,5)=\"T12HO\")=TRUE,115,IF(OR(RIGHT(Worksheet!F356,2)=\"T8\",RIGHT(Worksheet!F356,4)=\"RWT8\",RIGHT(Worksheet!F356,4)=\"T8HO\")=TRUE,115,\"\"))))","v":""},{"$f":"IF(ISBLANK(Worksheet!W356)=FALSE,Worksheet!W356,\"\")","v":0},{"$f":"IF(ISERROR(SEARCH(\"Oil\",Worksheet!$A$18))=TRUE,0,Worksheet!AH356)","v":0},0,{"$f":"IF(ISERROR(SEARCH(\"Propane\",Worksheet!$A$18))=TRUE,0,Worksheet!AH356)","v":0},0,{"$f":"IF(Worksheet!J356=0,\"\",Worksheet!J356)","v":""},{"$f":"IF(Worksheet!B356=0,\"\",Worksheet!B356)","v":""},{"$f":"IF(Worksheet!K356=0,\"\",Worksheet!K356)","v":""},{"$f":"IF(Worksheet!L356=0,\"\",Worksheet!L356)","v":""},{"$f":"IF(Worksheet!R356=0,\"\",Worksheet!R356)","v":""},{"$f":"IF(Worksheet!F356=0,\"\",Worksheet!F356)","v":""},{"$f":"IF(Worksheet!G356=0,\"\",Worksheet!G356)","v":""},{"$f":"IF(Worksheet!X356=0,\"\",Worksheet!X356)","v":""},{"$f":"IF(Worksheet!Q356=0,\"\",Worksheet!Q356)","v":""},{"$f":"IF(Worksheet!C356=0,\"\",Worksheet!C356)","v":""},{"$f":"IF(Worksheet!D356=0,\"\",Worksheet!D356)","v":""},{"$f":"IF(Worksheet!$A$11=TRUE,\"Y\",\"N\")","v":"N"},{"$f":"IF(Worksheet!$A$12=TRUE,\"Y\",\"N\")","v":"N"},{"$f":"IF(Worksheet!$B$11=TRUE,\"Y\",\"N\")","v":"N"},{"$f":"IF(Worksheet!$B$12=TRUE,\"Y\",\"N\")","v":"N"},{"$f":"IF(Worksheet!$C$11=TRUE,\"Y\",\"N\")","v":"N"},{"$f":"IFERROR(Worksheet!AB356,\"\")","v":0}]
[{"$f":"IF(IFERROR(SEARCH(\"Refrigerated\",Worksheet!L357,1),0)>0,122,IF(ISERROR(RIGHT(VLOOKUP(Worksheet!K357,Type!C$1:E$13,3,FALSE),3))=FALSE,RIGHT(VLOOKUP(Worksheet!K357,Type!C$1:E$13,3,FALSE),3),\"\"))","v":""},{"$f":"IF(Worksheet!M357=\"\",\"\",Worksheet!M357)","v":""},{"$f":"IF(Worksheet!N357=\"\",\"\",Worksheet!N357)","v":""},{"$f":"IF(Worksheet!Y357=0,\"\",Worksheet!Y357)","v":""},"Watts",null,null,{"$f":"Worksheet!AA357","v":0},{"$f":"IF(ISBLANK(Worksheet!V357)=FALSE,Worksheet!V357,\"\")","v":0},{"$f":"Worksheet!AG357","v":0},{"$f":"Worksheet!AF357","v":0},0,{"$f":"IF(ISERROR(SEARCH(\"Gas\",Worksheet!$A$18))=TRUE,0,Worksheet!AH357)","v":0},0,null,null,{"$f":"IF(OR(Worksheet!F357=\"Incandescent\",Worksheet!F357=\"Halogen Incandescent\")=TRUE,118,IF(LEFT(Worksheet!F357,3)=\"HID\",117,IF(OR(RIGHT(Worksheet!F357,3)=\"T12\",RIGHT(Worksheet!F357,5)=\"T12HO\")=TRUE,115,IF(OR(RIGHT(Worksheet!F357,2)=\"T8\",RIGHT(Worksheet!F357,4)=\"RWT8\",RIGHT(Worksheet!F357,4)=\"T8HO\")=TRUE,115,\"\"))))","v":""},{"$f":"IF(ISBLANK(Worksheet!W357)=FALSE,Worksheet!W357,\"\")","v":0},{"$f":"IF(ISERROR(SEARCH(\"Oil\",Worksheet!$A$18))=TRUE,0,Worksheet!AH357)","v":0},0,{"$f":"IF(ISERROR(SEARCH(\"Propane\",Worksheet!$A$18))=TRUE,0,Worksheet!AH357)","v":0},0,{"$f":"IF(Worksheet!J357=0,\"\",Worksheet!J357)","v":""},{"$f":"IF(Worksheet!B357=0,\"\",Worksheet!B357)","v":""},{"$f":"IF(Worksheet!K357=0,\"\",Worksheet!K357)","v":""},{"$f":"IF(Worksheet!L357=0,\"\",Worksheet!L357)","v":""},{"$f":"IF(Worksheet!R357=0,\"\",Worksheet!R357)","v":""},{"$f":"IF(Worksheet!F357=0,\"\",Worksheet!F357)","v":""},{"$f":"IF(Worksheet!G357=0,\"\",Worksheet!G357)","v":""},{"$f":"IF(Worksheet!X357=0,\"\",Worksheet!X357)","v":""},{"$f":"IF(Worksheet!Q357=0,\"\",Worksheet!Q357)","v":""},{"$f":"IF(Worksheet!C357=0,\"\",Worksheet!C357)","v":""},{"$f":"IF(Worksheet!D357=0,\"\",Worksheet!D357)","v":""},{"$f":"IF(Worksheet!$A$11=TRUE,\"Y\",\"N\")","v":"N"},{"$f":"IF(Worksheet!$A$12=TRUE,\"Y\",\"N\")","v":"N"},{"$f":"IF(Worksheet!$B$11=TRUE,\"Y\",\"N\")","v":"N"},{"$f":"IF(Worksheet!$B$12=TRUE,\"Y\",\"N\")","v":"N"},{"$f":"IF(Worksheet!$C$11=TRUE,\"Y\",\"N\")","v":"N"},{"$f":"IFERROR(Worksheet!AB357,\"\")","v":0}]
[{"$f":"IF(IFERROR(SEARCH(\"Refrigerated\",Worksheet!L358,1),0)>0,122,IF(ISERROR(RIGHT(VLOOKUP(Worksheet!K358,Type!C$1:E$13,3,FALSE),3))=FALSE,RIGHT(VLOOKUP(Worksheet!K358,Type!C$1:E$13,3,FALSE),3),\"\"))","v":""},{"$f":"IF(Worksheet!M358=\"\",\"\",Worksheet!M358)","v":""},{"$f":"IF(Worksheet!N358=\"\",\"\",Worksheet!N358)","v":""},{"$f":"IF(Worksheet!Y358=0,\"\",Worksheet!Y358)","v":""},"Watts",null,null,{"$f":"Worksheet!AA358","v":0},{"$f":"IF(ISBLANK(Worksheet!V358)=FALSE,Worksheet!V358,\"\")","v":0},{"$f":"Worksheet!AG358","v":0},{"$f":"Worksheet!AF358","v":0},0,{"$f":"IF(ISERROR(SEARCH(\"Gas\",Worksheet!$A$18))=TRUE,0,Worksheet!AH358)","v":0},0,null,null,{"$f":"IF(OR(Worksheet!F358=\"Incandescent\",Worksheet!F358=\"Halogen Incandescent\")=TRUE,118,IF(LEFT(Worksheet!F358,3)=\"HID\",117,IF(OR(RIGHT(Worksheet!F358,3)=\"T12\",RIGHT(Worksheet!F358,5)=\"T12HO\")=TRUE,115,IF(OR(RIGHT(Worksheet!F358,2)=\"T8\",RIGHT(Worksheet!F358,4)=\"RWT8\",RIGHT(Worksheet!F358,4)=\"T8HO\")=TRUE,115,\"\"))))","v":""},{"$f":"IF(ISBLANK(Worksheet!W358)=FALSE,Worksheet!W358,\"\")","v":0},{"$f":"IF(ISERROR(SEARCH(\"Oil\",Worksheet!$A$18))=TRUE,0,Worksheet!AH358)","v":0},0,{"$f":"IF(ISERROR(SEARCH(\"Propane\",Worksheet!$A$18))=TRUE,0,Worksheet!AH358)","v":0},0,{"$f":"IF(Worksheet!J358=0,\"\",Worksheet!J358)","v":""},{"$f":"IF(Worksheet!B358=0,\"\",Worksheet!B358)","v":""},{"$f":"IF(Worksheet!K358=0,\"\",Worksheet!K358)","v":""},{"$f":"IF(Worksheet!L358=0,\"\",Worksheet!L358)","v":""},{"$f":"IF(Worksheet!R358=0,\"\",Worksheet!R358)","v":""},{"$f":"IF(Worksheet!F358=0,\"\",Worksheet!F358)","v":""},{"$f":"IF(Worksheet!G358=0,\"\",Worksheet!G358)","v":""},{"$f":"IF(Worksheet!X358=0,\"\",Worksheet!X358)","v":""},{"$f":"IF(Worksheet!Q358=0,\"\",Worksheet!Q358)","v":""},{"$f":"IF(Worksheet!C358=0,\"\",Worksheet!C358)","v":""},{"$f":"IF(Worksheet!D358=0,\"\",Worksheet!D358)","v":""},{"$f":"IF(Worksheet!$A$11=TRUE,\"Y\",\"N\")","v":"N"},{"$f":"IF(Worksheet!$A$12=TRUE,\"Y\",\"N\")","v":"N"},{"$f":"IF(Worksheet!$B$11=TRUE,\"Y\",\"N\")","v":"N"},{"$f":"IF(Worksheet!$B$12=TRUE,\"Y\",\"N\")","v":"N"},{"$f":"IF(Worksheet!$C$11=TRUE,\"Y\",\"N\")","v":"N"},{"$f":"IFERROR(Worksheet!AB358,\"\")","v":0}]
[{"$f":"IF(IFERROR(SEARCH(\"Refrigerated\",Worksheet!L359,1),0)>0,122,IF(ISERROR(RIGHT(VLOOKUP(Worksheet!K359,Type!C$1:E$13,3,FALSE),3))=FALSE,RIGHT(VLOOKUP(Worksheet!K359,Type!C$1:E$13,3,FALSE),3),\"\"))","v":""},{"$f":"IF(Worksheet!M359=\"\",\"\",Worksheet!M359)","v":""},{"$f":"IF(Worksheet!N359=\"\",\"\",Worksheet!N359)","v":""},{"$f":"IF(Worksheet!Y359=0,\"\",Worksheet!Y359)","v":""},"Watts",null,null,{"$f":"Worksheet!AA359","v":0},{"$f":"IF(ISBLANK(Worksheet!V359)=FALSE,Worksheet!V359,\"\")","v":0},{"$f":"Worksheet!AG359","v":0},{"$f":"Worksheet!AF359","v":0},0,{"$f":"IF(ISERROR(SEARCH(\"Gas\",Worksheet!$A$18))=TRUE,0,Worksheet!AH359)","v":0},0,null,null,{"$f":"IF(OR(Worksheet!F359=\"Incandescent\",Worksheet!F359=\"Halogen Incandescent\")=TRUE,118,IF(LEFT(Worksheet!F359,3)=\"HID\",117,IF(OR(RIGHT(Worksheet!F359,3)=\"T12\",RIGHT(Worksheet!F359,5)=\"T12HO\")=TRUE,115,IF(OR(RIGHT(Worksheet!F359,2)=\"T8\",RIGHT(Worksheet!F359,4)=\"RWT8\",RIGHT(Worksheet!F359,4)=\"T8HO\")=TRUE,115,\"\"))))","v":""},{"$f":"IF(ISBLANK(Worksheet!W359)=FALSE,Worksheet!W359,\"\")","v":0},{"$f":"IF(ISERROR(SEARCH(\"Oil\",Worksheet!$A$18))=TRUE,0,Worksheet!AH359)","v":0},0,{"$f":"IF(ISERROR(SEARCH(\"Propane\",Worksheet!$A$18))=TRUE,0,Worksheet!AH359)","v":0},0,{"$f":"IF(Worksheet!J359=0,\"\",Worksheet!J359)","v":""},{"$f":"IF(Worksheet!B359=0,\"\",Worksheet!B359)","v":""},{"$f":"IF(Worksheet!K359=0,\"\",Worksheet!K359)","v":""},{"$f":"IF(Worksheet!L359=0,\"\",Worksheet!L359)","v":""},{"$f":"IF(Worksheet!R359=0,\"\",Worksheet!R359)","v":""},{"$f":"IF(Worksheet!F359=0,\"\",Worksheet!F359)","v":""},{"$f":"IF(Worksheet!G359=0,\"\",Worksheet!G359)","v":""},{"$f":"IF(Worksheet!X359=0,\"\",Worksheet!X359)","v":""},{"$f":"IF(Worksheet!Q359=0,\"\",Worksheet!Q359)","v":""},{"$f":"IF(Worksheet!C359=0,\"\",Worksheet!C359)","v":""},{"$f":"IF(Worksheet!D359=0,\"\",Worksheet!D359)","v":""},{"$f":"IF(Worksheet!$A$11=TRUE,\"Y\",\"N\")","v":"N"},{"$f":"IF(Worksheet!$A$12=TRUE,\"Y\",\"N\")","v":"N"},{"$f":"IF(Worksheet!$B$11=TRUE,\"Y\",\"N\")","v":"N"},{"$f":"IF(Worksheet!$B$12=TRUE,\"Y\",\"N\")","v":"N"},{"$f":"IF(Worksheet!$C$11=TRUE,\"Y\",\"N\")","v":"N"},{"$f":"IFERROR(Worksheet!AB359,\"\")","v":0}]
[{"$f":"IF(IFERROR(SEARCH(\"Refrigerated\",Worksheet!L360,1),0)>0,122,IF(ISERROR(RIGHT(VLOOKUP(Worksheet!K360,Type!C$1:E$13,3,FALSE),3))=FALSE,RIGHT(VLOOKUP(Worksheet!K360,Type!C$1:E$13,3,FALSE),3),\"\"))","v":""},{"$f":"IF(Worksheet!M360=\"\",\"\",Worksheet!M360)","v":""},{"$f":"IF(Worksheet!N360=\"\",\"\",Worksheet!N360)","v":""},{"$f":"IF(Worksheet!Y360=0,\"\",Worksheet!Y360)","v":""},"Watts",null,null,{"$f":"Worksheet!AA360","v":0},{"$f":"IF(ISBLANK(Worksheet!V360)=FALSE,Worksheet!V360,\"\")","v":0},{"$f":"Worksheet!AG360","v":0},{"$f":"Worksheet!AF360","v":0},0,{"$f":"IF(ISERROR(SEARCH(\"Gas\",Worksheet!$A$18))=TRUE,0,Worksheet!AH360)","v":0},0,null,null,{"$f":"IF(OR(Worksheet!F360=\"Incandescent\",Worksheet!F360=\"Halogen Incandescent\")=TRUE,118,IF(LEFT(Worksheet!F360,3)=\"HID\",117,IF(OR(RIGHT(Worksheet!F360,3)=\"T12\",RIGHT(Worksheet!F360,5)=\"T12HO\")=TRUE,115,IF(OR(RIGHT(Worksheet!F360,2)=\"T8\",RIGHT(Worksheet!F360,4)=\"RWT8\",RIGHT(Worksheet!F360,4)=\"T8HO\")=TRUE,115,\"\"))))","v":""},{"$f":"IF(ISBLANK(Worksheet!W360)=FALSE,Worksheet!W360,\"\")","v":0},{"$f":"IF(ISERROR(SEARCH(\"Oil\",Worksheet!$A$18))=TRUE,0,Worksheet!AH360)","v":0},0,{"$f":"IF(ISERROR(SEARCH(\"Propane\",Worksheet!$A$18))=TRUE,0,Worksheet!AH360)","v":0},0,{"$f":"IF(Worksheet!J360=0,\"\",Worksheet!J360)","v":""},{"$f":"IF(Worksheet!B360=0,\"\",Worksheet!B360)","v":""},{"$f":"IF(Worksheet!K360=0,\"\",Worksheet!K360)","v":""},{"$f":"IF(Worksheet!L360=0,\"\",Worksheet!L360)","v":""},{"$f":"IF(Worksheet!R360=0,\"\",Worksheet!R360)","v":""},{"$f":"IF(Worksheet!F360=0,\"\",Worksheet!F360)","v":""},{"$f":"IF(Worksheet!G360=0,\"\",Worksheet!G360)","v":""},{"$f":"IF(Worksheet!X360=0,\"\",Worksheet!X360)","v":""},{"$f":"IF(Worksheet!Q360=0,\"\",Worksheet!Q360)","v":""},{"$f":"IF(Worksheet!C360=0,\"\",Worksheet!C360)","v":""},{"$f":"IF(Worksheet!D360=0,\"\",Worksheet!D360)","v":""},{"$f":"IF(Worksheet!$A$11=TRUE,\"Y\",\"N\")","v":"N"},{"$f":"IF(Worksheet!$A$12=TRUE,\"Y\",\"N\")","v":"N"},{"$f":"IF(Worksheet!$B$11=TRUE,\"Y\",\"N\")","v":"N"},{"$f":"IF(Worksheet!$B$12=TRUE,\"Y\",\"N\")","v":"N"},{"$f":"IF(Worksheet!$C$11=TRUE,\"Y\",\"N\")","v":"N"},{"$f":"IFERROR(Worksheet!AB360,\"\")","v":0}]
[{"$f":"IF(IFERROR(SEARCH(\"Refrigerated\",Worksheet!L361,1),0)>0,122,IF(ISERROR(RIGHT(VLOOKUP(Worksheet!K361,Type!C$1:E$13,3,FALSE),3))=FALSE,RIGHT(VLOOKUP(Worksheet!K361,Type!C$1:E$13,3,FALSE),3),\"\"))","v":""},{"$f":"IF(Worksheet!M361=\"\",\"\",Worksheet!M361)","v":""},{"$f":"IF(Worksheet!N361=\"\",\"\",Worksheet!N361)","v":""},{"$f":"IF(Worksheet!Y361=0,\"\",Worksheet!Y361)","v":""},"Watts",null,null,{"$f":"Worksheet!AA361","v":0},{"$f":"IF(ISBLANK(Worksheet!V361)=FALSE,Worksheet!V361,\"\")","v":0},{"$f":"Worksheet!AG361","v":0},{"$f":"Worksheet!AF361","v":0},0,{"$f":"IF(ISERROR(SEARCH(\"Gas\",Worksheet!$A$18))=TRUE,0,Worksheet!AH361)","v":0},0,null,null,{"$f":"IF(OR(Worksheet!F361=\"Incandescent\",Worksheet!F361=\"Halogen Incandescent\")=TRUE,118,IF(LEFT(Worksheet!F361,3)=\"HID\",117,IF(OR(RIGHT(Worksheet!F361,3)=\"T12\",RIGHT(Worksheet!F361,5)=\"T12HO\")=TRUE,115,IF(OR(RIGHT(Worksheet!F361,2)=\"T8\",RIGHT(Worksheet!F361,4)=\"RWT8\",RIGHT(Worksheet!F361,4)=\"T8HO\")=TRUE,115,\"\"))))","v":""},{"$f":"IF(ISBLANK(Worksheet!W361)=FALSE,Worksheet!W361,\"\")","v":0},{"$f":"IF(ISERROR(SEARCH(\"Oil\",Worksheet!$A$18))=TRUE,0,Worksheet!AH361)","v":0},0,{"$f":"IF(ISERROR(SEARCH(\"Propane\",Worksheet!$A$18))=TRUE,0,Worksheet!AH361)","v":0},0,{"$f":"IF(Worksheet!J361=0,\"\",Worksheet!J361)","v":""},{"$f":"IF(Worksheet!B361=0,\"\",Worksheet!B361)","v":""},{"$f":"IF(Worksheet!K361=0,\"\",Worksheet!K361)","v":""},{"$f":"IF(Worksheet!L361=0,\"\",Worksheet!L361)","v":""},{"$f":"IF(Worksheet!R361=0,\"\",Worksheet!R361)","v":""},{"$f":"IF(Worksheet!F361=0,\"\",Worksheet!F361)","v":""},{"$f":"IF(Worksheet!G361=0,\"\",Worksheet!G361)","v":""},{"$f":"IF(Worksheet!X361=0,\"\",Worksheet!X361)","v":""},{"$f":"IF(Worksheet!Q361=0,\"\",Worksheet!Q361)","v":""},{"$f":"IF(Worksheet!C361=0,\"\",Worksheet!C361)","v":""},{"$f":"IF(Worksheet!D361=0,\"\",Worksheet!D361)","v":""},{"$f":"IF(Worksheet!$A$11=TRUE,\"Y\",\"N\")","v":"N"},{"$f":"IF(Worksheet!$A$12=TRUE,\"Y\",\"N\")","v":"N"},{"$f":"IF(Worksheet!$B$11=TRUE,\"Y\",\"N\")","v":"N"},{"$f":"IF(Worksheet!$B$12=TRUE,\"Y\",\"N\")","v":"N"},{"$f":"IF(Worksheet!$C$11=TRUE,\"Y\",\"N\")","v":"N"},{"$f":"IFERROR(Worksheet!AB361,\"\")","v":0}]
[{"$f":"IF(IFERROR(SEARCH(\"Refrigerated\",Worksheet!L362,1),0)>0,122,IF(ISERROR(RIGHT(VLOOKUP(Worksheet!K362,Type!C$1:E$13,3,FALSE),3))=FALSE,RIGHT(VLOOKUP(Worksheet!K362,Type!C$1:E$13,3,FALSE),3),\"\"))","v":""},{"$f":"IF(Worksheet!M362=\"\",\"\",Worksheet!M362)","v":""},{"$f":"IF(Worksheet!N362=\"\",\"\",Worksheet!N362)","v":""},{"$f":"IF(Worksheet!Y362=0,\"\",Worksheet!Y362)","v":""},"Watts",null,null,{"$f":"Worksheet!AA362","v":0},{"$f":"IF(ISBLANK(Worksheet!V362)=FALSE,Worksheet!V362,\"\")","v":0},{"$f":"Worksheet!AG362","v":0},{"$f":"Worksheet!AF362","v":0},0,{"$f":"IF(ISERROR(SEARCH(\"Gas\",Worksheet!$A$18))=TRUE,0,Worksheet!AH362)","v":0},0,null,null,{"$f":"IF(OR(Worksheet!F362=\"Incandescent\",Worksheet!F362=\"Halogen Incandescent\")=TRUE,118,IF(LEFT(Worksheet!F362,3)=\"HID\",117,IF(OR(RIGHT(Worksheet!F362,3)=\"T12\",RIGHT(Worksheet!F362,5)=\"T12HO\")=TRUE,115,IF(OR(RIGHT(Worksheet!F362,2)=\"T8\",RIGHT(Worksheet!F362,4)=\"RWT8\",RIGHT(Worksheet!F362,4)=\"T8HO\")=TRUE,115,\"\"))))","v":""},{"$f":"IF(ISBLANK(Worksheet!W362)=FALSE,Worksheet!W362,\"\")","v":0},{"$f":"IF(ISERROR(SEARCH(\"Oil\",Worksheet!$A$18))=TRUE,0,Worksheet!AH362)","v":0},0,{"$f":"IF(ISERROR(SEARCH(\"Propane\",Worksheet!$A$18))=TRUE,0,Worksheet!AH362)","v":0},0,{"$f":"IF(Worksheet!J362=0,\"\",Worksheet!J362)","v":""},{"$f":"IF(Worksheet!B362=0,\"\",Worksheet!B362)","v":""},{"$f":"IF(Worksheet!K362=0,\"\",Worksheet!K362)","v":""},{"$f":"IF(Worksheet!L362=0,\"\",Worksheet!L362)","v":""},{"$f":"IF(Worksheet!R362=0,\"\",Worksheet!R362)","v":""},{"$f":"IF(Worksheet!F362=0,\"\",Worksheet!F362)","v":""},{"$f":"IF(Worksheet!G362=0,\"\",Worksheet!G362)","v":""},{"$f":"IF(Worksheet!X362=0,\"\",Worksheet!X362)","v":""},{"$f":"IF(Worksheet!Q362=0,\"\",Worksheet!Q362)","v":""},{"$f":"IF(Worksheet!C362=0,\"\",Worksheet!C362)","v":""},{"$f":"IF(Worksheet!D362=0,\"\",Worksheet!D362)","v":""},{"$f":"IF(Worksheet!$A$11=TRUE,\"Y\",\"N\")","v":"N"},{"$f":"IF(Worksheet!$A$12=TRUE,\"Y\",\"N\")","v":"N"},{"$f":"IF(Worksheet!$B$11=TRUE,\"Y\",\"N\")","v":"N"},{"$f":"IF(Worksheet!$B$12=TRUE,\"Y\",\"N\")","v":"N"},{"$f":"IF(Worksheet!$C$11=TRUE,\"Y\",\"N\")","v":"N"},{"$f":"IFERROR(Worksheet!AB362,\"\")","v":0}]
[{"$f":"IF(IFERROR(SEARCH(\"Refrigerated\",Worksheet!L363,1),0)>0,122,IF(ISERROR(RIGHT(VLOOKUP(Worksheet!K363,Type!C$1:E$13,3,FALSE),3))=FALSE,RIGHT(VLOOKUP(Worksheet!K363,Type!C$1:E$13,3,FALSE),3),\"\"))","v":""},{"$f":"IF(Worksheet!M363=\"\",\"\",Worksheet!M363)","v":""},{"$f":"IF(Worksheet!N363=\"\",\"\",Worksheet!N363)","v":""},{"$f":"IF(Worksheet!Y363=0,\"\",Worksheet!Y363)","v":""},"Watts",null,null,{"$f":"Worksheet!AA363","v":0},{"$f":"IF(ISBLANK(Worksheet!V363)=FALSE,Worksheet!V363,\"\")","v":0},{"$f":"Worksheet!AG363","v":0},{"$f":"Worksheet!AF363","v":0},0,{"$f":"IF(ISERROR(SEARCH(\"Gas\",Worksheet!$A$18))=TRUE,0,Worksheet!AH363)","v":0},0,null,null,{"$f":"IF(OR(Worksheet!F363=\"Incandescent\",Worksheet!F363=\"Halogen Incandescent\")=TRUE,118,IF(LEFT(Worksheet!F363,3)=\"HID\",117,IF(OR(RIGHT(Worksheet!F363,3)=\"T12\",RIGHT(Worksheet!F363,5)=\"T12HO\")=TRUE,115,IF(OR(RIGHT(Worksheet!F363,2)=\"T8\",RIGHT(Worksheet!F363,4)=\"RWT8\",RIGHT(Worksheet!F363,4)=\"T8HO\")=TRUE,115,\"\"))))","v":""},{"$f":"IF(ISBLANK(Worksheet!W363)=FALSE,Worksheet!W363,\"\")","v":0},{"$f":"IF(ISERROR(SEARCH(\"Oil\",Worksheet!$A$18))=TRUE,0,Worksheet!AH363)","v":0},0,{"$f":"IF(ISERROR(SEARCH(\"Propane\",Worksheet!$A$18))=TRUE,0,Worksheet!AH363)","v":0},0,{"$f":"IF(Worksheet!J363=0,\"\",Worksheet!J363)","v":""},{"$f":"IF(Worksheet!B363=0,\"\",Worksheet!B363)","v":""},{"$f":"IF(Worksheet!K363=0,\"\",Worksheet!K363)","v":""},{"$f":"IF(Worksheet!L363=0,\"\",Worksheet!L363)","v":""},{"$f":"IF(Worksheet!R363=0,\"\",Worksheet!R363)","v":""},{"$f":"IF(Worksheet!F363=0,\"\",Worksheet!F363)","v":""},{"$f":"IF(Worksheet!G363=0,\"\",Worksheet!G363)","v":""},{"$f":"IF(Worksheet!X363=0,\"\",Worksheet!X363)","v":""},{"$f":"IF(Worksheet!Q363=0,\"\",Worksheet!Q363)","v":""},{"$f":"IF(Worksheet!C363=0,\"\",Worksheet!C363)","v":""},{"$f":"IF(Worksheet!D363=0,\"\",Worksheet!D363)","v":""},{"$f":"IF(Worksheet!$A$11=TRUE,\"Y\",\"N\")","v":"N"},{"$f":"IF(Worksheet!$A$12=TRUE,\"Y\",\"N\")","v":"N"},{"$f":"IF(Worksheet!$B$11=TRUE,\"Y\",\"N\")","v":"N"},{"$f":"IF(Worksheet!$B$12=TRUE,\"Y\",\"N\")","v":"N"},{"$f":"IF(Worksheet!$C$11=TRUE,\"Y\",\"N\")","v":"N"},{"$f":"IFERROR(Worksheet!AB363,\"\")","v":0}]
[{"$f":"IF(IFERROR(SEARCH(\"Refrigerated\",Worksheet!L364,1),0)>0,122,IF(ISERROR(RIGHT(VLOOKUP(Worksheet!K364,Type!C$1:E$13,3,FALSE),3))=FALSE,RIGHT(VLOOKUP(Worksheet!K364,Type!C$1:E$13,3,FALSE),3),\"\"))","v":""},{"$f":"IF(Worksheet!M364=\"\",\"\",Worksheet!M364)","v":""},{"$f":"IF(Worksheet!N364=\"\",\"\",Worksheet!N364)","v":""},{"$f":"IF(Worksheet!Y364=0,\"\",Worksheet!Y364)","v":""},"Watts",null,null,{"$f":"Worksheet!AA364","v":0},{"$f":"IF(ISBLANK(Worksheet!V364)=FALSE,Worksheet!V364,\"\")","v":0},{"$f":"Worksheet!AG364","v":0},{"$f":"Worksheet!AF364","v":0},0,{"$f":"IF(ISERROR(SEARCH(\"Gas\",Worksheet!$A$18))=TRUE,0,Worksheet!AH364)","v":0},0,null,null,{"$f":"IF(OR(Worksheet!F364=\"Incandescent\",Worksheet!F364=\"Halogen Incandescent\")=TRUE,118,IF(LEFT(Worksheet!F364,3)=\"HID\",117,IF(OR(RIGHT(Worksheet!F364,3)=\"T12\",RIGHT(Worksheet!F364,5)=\"T12HO\")=TRUE,115,IF(OR(RIGHT(Worksheet!F364,2)=\"T8\",RIGHT(Worksheet!F364,4)=\"RWT8\",RIGHT(Worksheet!F364,4)=\"T8HO\")=TRUE,115,\"\"))))","v":""},{"$f":"IF(ISBLANK(Worksheet!W364)=FALSE,Worksheet!W364,\"\")","v":0},{"$f":"IF(ISERROR(SEARCH(\"Oil\",Worksheet!$A$18))=TRUE,0,Worksheet!AH364)","v":0},0,{"$f":"IF(ISERROR(SEARCH(\"Propane\",Worksheet!$A$18))=TRUE,0,Worksheet!AH364)","v":0},0,{"$f":"IF(Worksheet!J364=0,\"\",Worksheet!J364)","v":""},{"$f":"IF(Worksheet!B364=0,\"\",Worksheet!B364)","v":""},{"$f":"IF(Worksheet!K364=0,\"\",Worksheet!K364)","v":""},{"$f":"IF(Worksheet!L364=0,\"\",Worksheet!L364)","v":""},{"$f":"IF(Worksheet!R364=0,\"\",Worksheet!R364)","v":""},{"$f":"IF(Worksheet!F364=0,\"\",Worksheet!F364)","v":""},{"$f":"IF(Worksheet!G364=0,\"\",Worksheet!G364)","v":""},{"$f":"IF(Worksheet!X364=0,\"\",Worksheet!X364)","v":""},{"$f":"IF(Worksheet!Q364=0,\"\",Worksheet!Q364)","v":""},{"$f":"IF(Worksheet!C364=0,\"\",Worksheet!C364)","v":""},{"$f":"IF(Worksheet!D364=0,\"\",Worksheet!D364)","v":""},{"$f":"IF(Worksheet!$A$11=TRUE,\"Y\",\"N\")","v":"N"},{"$f":"IF(Worksheet!$A$12=TRUE,\"Y\",\"N\")","v":"N"},{"$f":"IF(Worksheet!$B$11=TRUE,\"Y\",\"N\")","v":"N"},{"$f":"IF(Worksheet!$B$12=TRUE,\"Y\",\"N\")","v":"N"},{"$f":"IF(Worksheet!$C$11=TRUE,\"Y\",\"N\")","v":"N"},{"$f":"IFERROR(Worksheet!AB364,\"\")","v":0}]
[{"$f":"IF(IFERROR(SEARCH(\"Refrigerated\",Worksheet!L365,1),0)>0,122,IF(ISERROR(RIGHT(VLOOKUP(Worksheet!K365,Type!C$1:E$13,3,FALSE),3))=FALSE,RIGHT(VLOOKUP(Worksheet!K365,Type!C$1:E$13,3,FALSE),3),\"\"))","v":""},{"$f":"IF(Worksheet!M365=\"\",\"\",Worksheet!M365)","v":""},{"$f":"IF(Worksheet!N365=\"\",\"\",Worksheet!N365)","v":""},{"$f":"IF(Worksheet!Y365=0,\"\",Worksheet!Y365)","v":""},"Watts",null,null,{"$f":"Worksheet!AA365","v":0},{"$f":"IF(ISBLANK(Worksheet!V365)=FALSE,Worksheet!V365,\"\")","v":0},{"$f":"Worksheet!AG365","v":0},{"$f":"Worksheet!AF365","v":0},0,{"$f":"IF(ISERROR(SEARCH(\"Gas\",Worksheet!$A$18))=TRUE,0,Worksheet!AH365)","v":0},0,null,null,{"$f":"IF(OR(Worksheet!F365=\"Incandescent\",Worksheet!F365=\"Halogen Incandescent\")=TRUE,118,IF(LEFT(Worksheet!F365,3)=\"HID\",117,IF(OR(RIGHT(Worksheet!F365,3)=\"T12\",RIGHT(Worksheet!F365,5)=\"T12HO\")=TRUE,115,IF(OR(RIGHT(Worksheet!F365,2)=\"T8\",RIGHT(Worksheet!F365,4)=\"RWT8\",RIGHT(Worksheet!F365,4)=\"T8HO\")=TRUE,115,\"\"))))","v":""},{"$f":"IF(ISBLANK(Worksheet!W365)=FALSE,Worksheet!W365,\"\")","v":0},{"$f":"IF(ISERROR(SEARCH(\"Oil\",Worksheet!$A$18))=TRUE,0,Worksheet!AH365)","v":0},0,{"$f":"IF(ISERROR(SEARCH(\"Propane\",Worksheet!$A$18))=TRUE,0,Worksheet!AH365)","v":0},0,{"$f":"IF(Worksheet!J365=0,\"\",Worksheet!J365)","v":""},{"$f":"IF(Worksheet!B365=0,\"\",Worksheet!B365)","v":""},{"$f":"IF(Worksheet!K365=0,\"\",Worksheet!K365)","v":""},{"$f":"IF(Worksheet!L365=0,\"\",Worksheet!L365)","v":""},{"$f":"IF(Worksheet!R365=0,\"\",Worksheet!R365)","v":""},{"$f":"IF(Worksheet!F365=0,\"\",Worksheet!F365)","v":""},{"$f":"IF(Worksheet!G365=0,\"\",Worksheet!G365)","v":""},{"$f":"IF(Worksheet!X365=0,\"\",Worksheet!X365)","v":""},{"$f":"IF(Worksheet!Q365=0,\"\",Worksheet!Q365)","v":""},{"$f":"IF(Worksheet!C365=0,\"\",Worksheet!C365)","v":""},{"$f":"IF(Worksheet!D365=0,\"\",Worksheet!D365)","v":""},{"$f":"IF(Worksheet!$A$11=TRUE,\"Y\",\"N\")","v":"N"},{"$f":"IF(Worksheet!$A$12=TRUE,\"Y\",\"N\")","v":"N"},{"$f":"IF(Worksheet!$B$11=TRUE,\"Y\",\"N\")","v":"N"},{"$f":"IF(Worksheet!$B$12=TRUE,\"Y\",\"N\")","v":"N"},{"$f":"IF(Worksheet!$C$11=TRUE,\"Y\",\"N\")","v":"N"},{"$f":"IFERROR(Worksheet!AB365,\"\")","v":0}]
[{"$f":"IF(IFERROR(SEARCH(\"Refrigerated\",Worksheet!L366,1),0)>0,122,IF(ISERROR(RIGHT(VLOOKUP(Worksheet!K366,Type!C$1:E$13,3,FALSE),3))=FALSE,RIGHT(VLOOKUP(Worksheet!K366,Type!C$1:E$13,3,FALSE),3),\"\"))","v":""},{"$f":"IF(Worksheet!M366=\"\",\"\",Worksheet!M366)","v":""},{"$f":"IF(Worksheet!N366=\"\",\"\",Worksheet!N366)","v":""},{"$f":"IF(Worksheet!Y366=0,\"\",Worksheet!Y366)","v":""},"Watts",null,null,{"$f":"Worksheet!AA366","v":0},{"$f":"IF(ISBLANK(Worksheet!V366)=FALSE,Worksheet!V366,\"\")","v":0},{"$f":"Worksheet!AG366","v":0},{"$f":"Worksheet!AF366","v":0},0,{"$f":"IF(ISERROR(SEARCH(\"Gas\",Worksheet!$A$18))=TRUE,0,Worksheet!AH366)","v":0},0,null,null,{"$f":"IF(OR(Worksheet!F366=\"Incandescent\",Worksheet!F366=\"Halogen Incandescent\")=TRUE,118,IF(LEFT(Worksheet!F366,3)=\"HID\",117,IF(OR(RIGHT(Worksheet!F366,3)=\"T12\",RIGHT(Worksheet!F366,5)=\"T12HO\")=TRUE,115,IF(OR(RIGHT(Worksheet!F366,2)=\"T8\",RIGHT(Worksheet!F366,4)=\"RWT8\",RIGHT(Worksheet!F366,4)=\"T8HO\")=TRUE,115,\"\"))))","v":""},{"$f":"IF(ISBLANK(Worksheet!W366)=FALSE,Worksheet!W366,\"\")","v":0},{"$f":"IF(ISERROR(SEARCH(\"Oil\",Worksheet!$A$18))=TRUE,0,Worksheet!AH366)","v":0},0,{"$f":"IF(ISERROR(SEARCH(\"Propane\",Worksheet!$A$18))=TRUE,0,Worksheet!AH366)","v":0},0,{"$f":"IF(Worksheet!J366=0,\"\",Worksheet!J366)","v":""},{"$f":"IF(Worksheet!B366=0,\"\",Worksheet!B366)","v":""},{"$f":"IF(Worksheet!K366=0,\"\",Worksheet!K366)","v":""},{"$f":"IF(Worksheet!L366=0,\"\",Worksheet!L366)","v":""},{"$f":"IF(Worksheet!R366=0,\"\",Worksheet!R366)","v":""},{"$f":"IF(Worksheet!F366=0,\"\",Worksheet!F366)","v":""},{"$f":"IF(Worksheet!G366=0,\"\",Worksheet!G366)","v":""},{"$f":"IF(Worksheet!X366=0,\"\",Worksheet!X366)","v":""},{"$f":"IF(Worksheet!Q366=0,\"\",Worksheet!Q366)","v":""},{"$f":"IF(Worksheet!C366=0,\"\",Worksheet!C366)","v":""},{"$f":"IF(Worksheet!D366=0,\"\",Worksheet!D366)","v":""},{"$f":"IF(Worksheet!$A$11=TRUE,\"Y\",\"N\")","v":"N"},{"$f":"IF(Worksheet!$A$12=TRUE,\"Y\",\"N\")","v":"N"},{"$f":"IF(Worksheet!$B$11=TRUE,\"Y\",\"N\")","v":"N"},{"$f":"IF(Worksheet!$B$12=TRUE,\"Y\",\"N\")","v":"N"},{"$f":"IF(Worksheet!$C$11=TRUE,\"Y\",\"N\")","v":"N"},{"$f":"IFERROR(Worksheet!AB366,\"\")","v":0}]
[{"$f":"IF(IFERROR(SEARCH(\"Refrigerated\",Worksheet!L367,1),0)>0,122,IF(ISERROR(RIGHT(VLOOKUP(Worksheet!K367,Type!C$1:E$13,3,FALSE),3))=FALSE,RIGHT(VLOOKUP(Worksheet!K367,Type!C$1:E$13,3,FALSE),3),\"\"))","v":""},{"$f":"IF(Worksheet!M367=\"\",\"\",Worksheet!M367)","v":""},{"$f":"IF(Worksheet!N367=\"\",\"\",Worksheet!N367)","v":""},{"$f":"IF(Worksheet!Y367=0,\"\",Worksheet!Y367)","v":""},"Watts",null,null,{"$f":"Worksheet!AA367","v":0},{"$f":"IF(ISBLANK(Worksheet!V367)=FALSE,Worksheet!V367,\"\")","v":0},{"$f":"Worksheet!AG367","v":0},{"$f":"Worksheet!AF367","v":0},0,{"$f":"IF(ISERROR(SEARCH(\"Gas\",Worksheet!$A$18))=TRUE,0,Worksheet!AH367)","v":0},0,null,null,{"$f":"IF(OR(Worksheet!F367=\"Incandescent\",Worksheet!F367=\"Halogen Incandescent\")=TRUE,118,IF(LEFT(Worksheet!F367,3)=\"HID\",117,IF(OR(RIGHT(Worksheet!F367,3)=\"T12\",RIGHT(Worksheet!F367,5)=\"T12HO\")=TRUE,115,IF(OR(RIGHT(Worksheet!F367,2)=\"T8\",RIGHT(Worksheet!F367,4)=\"RWT8\",RIGHT(Worksheet!F367,4)=\"T8HO\")=TRUE,115,\"\"))))","v":""},{"$f":"IF(ISBLANK(Worksheet!W367)=FALSE,Worksheet!W367,\"\")","v":0},{"$f":"IF(ISERROR(SEARCH(\"Oil\",Worksheet!$A$18))=TRUE,0,Worksheet!AH367)","v":0},0,{"$f":"IF(ISERROR(SEARCH(\"Propane\",Worksheet!$A$18))=TRUE,0,Worksheet!AH367)","v":0},0,{"$f":"IF(Worksheet!J367=0,\"\",Worksheet!J367)","v":""},{"$f":"IF(Worksheet!B367=0,\"\",Worksheet!B367)","v":""},{"$f":"IF(Worksheet!K367=0,\"\",Worksheet!K367)","v":""},{"$f":"IF(Worksheet!L367=0,\"\",Worksheet!L367)","v":""},{"$f":"IF(Worksheet!R367=0,\"\",Worksheet!R367)","v":""},{"$f":"IF(Worksheet!F367=0,\"\",Worksheet!F367)","v":""},{"$f":"IF(Worksheet!G367=0,\"\",Worksheet!G367)","v":""},{"$f":"IF(Worksheet!X367=0,\"\",Worksheet!X367)","v":""},{"$f":"IF(Worksheet!Q367=0,\"\",Worksheet!Q367)","v":""},{"$f":"IF(Worksheet!C367=0,\"\",Worksheet!C367)","v":""},{"$f":"IF(Worksheet!D367=0,\"\",Worksheet!D367)","v":""},{"$f":"IF(Worksheet!$A$11=TRUE,\"Y\",\"N\")","v":"N"},{"$f":"IF(Worksheet!$A$12=TRUE,\"Y\",\"N\")","v":"N"},{"$f":"IF(Worksheet!$B$11=TRUE,\"Y\",\"N\")","v":"N"},{"$f":"IF(Worksheet!$B$12=TRUE,\"Y\",\"N\")","v":"N"},{"$f":"IF(Worksheet!$C$11=TRUE,\"Y\",\"N\")","v":"N"},{"$f":"IFERROR(Worksheet!AB367,\"\")","v":0}]
[{"$f":"IF(IFERROR(SEARCH(\"Refrigerated\",Worksheet!L368,1),0)>0,122,IF(ISERROR(RIGHT(VLOOKUP(Worksheet!K368,Type!C$1:E$13,3,FALSE),3))=FALSE,RIGHT(VLOOKUP(Worksheet!K368,Type!C$1:E$13,3,FALSE),3),\"\"))","v":""},{"$f":"IF(Worksheet!M368=\"\",\"\",Worksheet!M368)","v":""},{"$f":"IF(Worksheet!N368=\"\",\"\",Worksheet!N368)","v":""},{"$f":"IF(Worksheet!Y368=0,\"\",Worksheet!Y368)","v":""},"Watts",null,null,{"$f":"Worksheet!AA368","v":0},{"$f":"IF(ISBLANK(Worksheet!V368)=FALSE,Worksheet!V368,\"\")","v":0},{"$f":"Worksheet!AG368","v":0},{"$f":"Worksheet!AF368","v":0},0,{"$f":"IF(ISERROR(SEARCH(\"Gas\",Worksheet!$A$18))=TRUE,0,Worksheet!AH368)","v":0},0,null,null,{"$f":"IF(OR(Worksheet!F368=\"Incandescent\",Worksheet!F368=\"Halogen Incandescent\")=TRUE,118,IF(LEFT(Worksheet!F368,3)=\"HID\",117,IF(OR(RIGHT(Worksheet!F368,3)=\"T12\",RIGHT(Worksheet!F368,5)=\"T12HO\")=TRUE,115,IF(OR(RIGHT(Worksheet!F368,2)=\"T8\",RIGHT(Worksheet!F368,4)=\"RWT8\",RIGHT(Worksheet!F368,4)=\"T8HO\")=TRUE,115,\"\"))))","v":""},{"$f":"IF(ISBLANK(Worksheet!W368)=FALSE,Worksheet!W368,\"\")","v":0},{"$f":"IF(ISERROR(SEARCH(\"Oil\",Worksheet!$A$18))=TRUE,0,Worksheet!AH368)","v":0},0,{"$f":"IF(ISERROR(SEARCH(\"Propane\",Worksheet!$A$18))=TRUE,0,Worksheet!AH368)","v":0},0,{"$f":"IF(Worksheet!J368=0,\"\",Worksheet!J368)","v":""},{"$f":"IF(Worksheet!B368=0,\"\",Worksheet!B368)","v":""},{"$f":"IF(Worksheet!K368=0,\"\",Worksheet!K368)","v":""},{"$f":"IF(Worksheet!L368=0,\"\",Worksheet!L368)","v":""},{"$f":"IF(Worksheet!R368=0,\"\",Worksheet!R368)","v":""},{"$f":"IF(Worksheet!F368=0,\"\",Worksheet!F368)","v":""},{"$f":"IF(Worksheet!G368=0,\"\",Worksheet!G368)","v":""},{"$f":"IF(Worksheet!X368=0,\"\",Worksheet!X368)","v":""},{"$f":"IF(Worksheet!Q368=0,\"\",Worksheet!Q368)","v":""},{"$f":"IF(Worksheet!C368=0,\"\",Worksheet!C368)","v":""},{"$f":"IF(Worksheet!D368=0,\"\",Worksheet!D368)","v":""},{"$f":"IF(Worksheet!$A$11=TRUE,\"Y\",\"N\")","v":"N"},{"$f":"IF(Worksheet!$A$12=TRUE,\"Y\",\"N\")","v":"N"},{"$f":"IF(Worksheet!$B$11=TRUE,\"Y\",\"N\")","v":"N"},{"$f":"IF(Worksheet!$B$12=TRUE,\"Y\",\"N\")","v":"N"},{"$f":"IF(Worksheet!$C$11=TRUE,\"Y\",\"N\")","v":"N"},{"$f":"IFERROR(Worksheet!AB368,\"\")","v":0}]
[{"$f":"IF(IFERROR(SEARCH(\"Refrigerated\",Worksheet!L369,1),0)>0,122,IF(ISERROR(RIGHT(VLOOKUP(Worksheet!K369,Type!C$1:E$13,3,FALSE),3))=FALSE,RIGHT(VLOOKUP(Worksheet!K369,Type!C$1:E$13,3,FALSE),3),\"\"))","v":""},{"$f":"IF(Worksheet!M369=\"\",\"\",Worksheet!M369)","v":""},{"$f":"IF(Worksheet!N369=\"\",\"\",Worksheet!N369)","v":""},{"$f":"IF(Worksheet!Y369=0,\"\",Worksheet!Y369)","v":""},"Watts",null,null,{"$f":"Worksheet!AA369","v":0},{"$f":"IF(ISBLANK(Worksheet!V369)=FALSE,Worksheet!V369,\"\")","v":0},{"$f":"Worksheet!AG369","v":0},{"$f":"Worksheet!AF369","v":0},0,{"$f":"IF(ISERROR(SEARCH(\"Gas\",Worksheet!$A$18))=TRUE,0,Worksheet!AH369)","v":0},0,null,null,{"$f":"IF(OR(Worksheet!F369=\"Incandescent\",Worksheet!F369=\"Halogen Incandescent\")=TRUE,118,IF(LEFT(Worksheet!F369,3)=\"HID\",117,IF(OR(RIGHT(Worksheet!F369,3)=\"T12\",RIGHT(Worksheet!F369,5)=\"T12HO\")=TRUE,115,IF(OR(RIGHT(Worksheet!F369,2)=\"T8\",RIGHT(Worksheet!F369,4)=\"RWT8\",RIGHT(Worksheet!F369,4)=\"T8HO\")=TRUE,115,\"\"))))","v":""},{"$f":"IF(ISBLANK(Worksheet!W369)=FALSE,Worksheet!W369,\"\")","v":0},{"$f":"IF(ISERROR(SEARCH(\"Oil\",Worksheet!$A$18))=TRUE,0,Worksheet!AH369)","v":0},0,{"$f":"IF(ISERROR(SEARCH(\"Propane\",Worksheet!$A$18))=TRUE,0,Worksheet!AH369)","v":0},0,{"$f":"IF(Worksheet!J369=0,\"\",Worksheet!J369)","v":""},{"$f":"IF(Worksheet!B369=0,\"\",Worksheet!B369)","v":""},{"$f":"IF(Worksheet!K369=0,\"\",Worksheet!K369)","v":""},{"$f":"IF(Worksheet!L369=0,\"\",Worksheet!L369)","v":""},{"$f":"IF(Worksheet!R369=0,\"\",Worksheet!R369)","v":""},{"$f":"IF(Worksheet!F369=0,\"\",Worksheet!F369)","v":""},{"$f":"IF(Worksheet!G369=0,\"\",Worksheet!G369)","v":""},{"$f":"IF(Worksheet!X369=0,\"\",Worksheet!X369)","v":""},{"$f":"IF(Worksheet!Q369=0,\"\",Worksheet!Q369)","v":""},{"$f":"IF(Worksheet!C369=0,\"\",Worksheet!C369)","v":""},{"$f":"IF(Worksheet!D369=0,\"\",Worksheet!D369)","v":""},{"$f":"IF(Worksheet!$A$11=TRUE,\"Y\",\"N\")","v":"N"},{"$f":"IF(Worksheet!$A$12=TRUE,\"Y\",\"N\")","v":"N"},{"$f":"IF(Worksheet!$B$11=TRUE,\"Y\",\"N\")","v":"N"},{"$f":"IF(Worksheet!$B$12=TRUE,\"Y\",\"N\")","v":"N"},{"$f":"IF(Worksheet!$C$11=TRUE,\"Y\",\"N\")","v":"N"},{"$f":"IFERROR(Worksheet!AB369,\"\")","v":0}]
[{"$f":"IF(IFERROR(SEARCH(\"Refrigerated\",Worksheet!L370,1),0)>0,122,IF(ISERROR(RIGHT(VLOOKUP(Worksheet!K370,Type!C$1:E$13,3,FALSE),3))=FALSE,RIGHT(VLOOKUP(Worksheet!K370,Type!C$1:E$13,3,FALSE),3),\"\"))","v":""},{"$f":"IF(Worksheet!M370=\"\",\"\",Worksheet!M370)","v":""},{"$f":"IF(Worksheet!N370=\"\",\"\",Worksheet!N370)","v":""},{"$f":"IF(Worksheet!Y370=0,\"\",Worksheet!Y370)","v":""},"Watts",null,null,{"$f":"Worksheet!AA370","v":0},{"$f":"IF(ISBLANK(Worksheet!V370)=FALSE,Worksheet!V370,\"\")","v":0},{"$f":"Worksheet!AG370","v":0},{"$f":"Worksheet!AF370","v":0},0,{"$f":"IF(ISERROR(SEARCH(\"Gas\",Worksheet!$A$18))=TRUE,0,Worksheet!AH370)","v":0},0,null,null,{"$f":"IF(OR(Worksheet!F370=\"Incandescent\",Worksheet!F370=\"Halogen Incandescent\")=TRUE,118,IF(LEFT(Worksheet!F370,3)=\"HID\",117,IF(OR(RIGHT(Worksheet!F370,3)=\"T12\",RIGHT(Worksheet!F370,5)=\"T12HO\")=TRUE,115,IF(OR(RIGHT(Worksheet!F370,2)=\"T8\",RIGHT(Worksheet!F370,4)=\"RWT8\",RIGHT(Worksheet!F370,4)=\"T8HO\")=TRUE,115,\"\"))))","v":""},{"$f":"IF(ISBLANK(Worksheet!W370)=FALSE,Worksheet!W370,\"\")","v":0},{"$f":"IF(ISERROR(SEARCH(\"Oil\",Worksheet!$A$18))=TRUE,0,Worksheet!AH370)","v":0},0,{"$f":"IF(ISERROR(SEARCH(\"Propane\",Worksheet!$A$18))=TRUE,0,Worksheet!AH370)","v":0},0,{"$f":"IF(Worksheet!J370=0,\"\",Worksheet!J370)","v":""},{"$f":"IF(Worksheet!B370=0,\"\",Worksheet!B370)","v":""},{"$f":"IF(Worksheet!K370=0,\"\",Worksheet!K370)","v":""},{"$f":"IF(Worksheet!L370=0,\"\",Worksheet!L370)","v":""},{"$f":"IF(Worksheet!R370=0,\"\",Worksheet!R370)","v":""},{"$f":"IF(Worksheet!F370=0,\"\",Worksheet!F370)","v":""},{"$f":"IF(Worksheet!G370=0,\"\",Worksheet!G370)","v":""},{"$f":"IF(Worksheet!X370=0,\"\",Worksheet!X370)","v":""},{"$f":"IF(Worksheet!Q370=0,\"\",Worksheet!Q370)","v":""},{"$f":"IF(Worksheet!C370=0,\"\",Worksheet!C370)","v":""},{"$f":"IF(Worksheet!D370=0,\"\",Worksheet!D370)","v":""},{"$f":"IF(Worksheet!$A$11=TRUE,\"Y\",\"N\")","v":"N"},{"$f":"IF(Worksheet!$A$12=TRUE,\"Y\",\"N\")","v":"N"},{"$f":"IF(Worksheet!$B$11=TRUE,\"Y\",\"N\")","v":"N"},{"$f":"IF(Worksheet!$B$12=TRUE,\"Y\",\"N\")","v":"N"},{"$f":"IF(Worksheet!$C$11=TRUE,\"Y\",\"N\")","v":"N"},{"$f":"IFERROR(Worksheet!AB370,\"\")","v":0}]
[{"$f":"IF(IFERROR(SEARCH(\"Refrigerated\",Worksheet!L371,1),0)>0,122,IF(ISERROR(RIGHT(VLOOKUP(Worksheet!K371,Type!C$1:E$13,3,FALSE),3))=FALSE,RIGHT(VLOOKUP(Worksheet!K371,Type!C$1:E$13,3,FALSE),3),\"\"))","v":""},{"$f":"IF(Worksheet!M371=\"\",\"\",Worksheet!M371)","v":""},{"$f":"IF(Worksheet!N371=\"\",\"\",Worksheet!N371)","v":""},{"$f":"IF(Worksheet!Y371=0,\"\",Worksheet!Y371)","v":""},"Watts",null,null,{"$f":"Worksheet!AA371","v":0},{"$f":"IF(ISBLANK(Worksheet!V371)=FALSE,Worksheet!V371,\"\")","v":0},{"$f":"Worksheet!AG371","v":0},{"$f":"Worksheet!AF371","v":0},0,{"$f":"IF(ISERROR(SEARCH(\"Gas\",Worksheet!$A$18))=TRUE,0,Worksheet!AH371)","v":0},0,null,null,{"$f":"IF(OR(Worksheet!F371=\"Incandescent\",Worksheet!F371=\"Halogen Incandescent\")=TRUE,118,IF(LEFT(Worksheet!F371,3)=\"HID\",117,IF(OR(RIGHT(Worksheet!F371,3)=\"T12\",RIGHT(Worksheet!F371,5)=\"T12HO\")=TRUE,115,IF(OR(RIGHT(Worksheet!F371,2)=\"T8\",RIGHT(Worksheet!F371,4)=\"RWT8\",RIGHT(Worksheet!F371,4)=\"T8HO\")=TRUE,115,\"\"))))","v":""},{"$f":"IF(ISBLANK(Worksheet!W371)=FALSE,Worksheet!W371,\"\")","v":0},{"$f":"IF(ISERROR(SEARCH(\"Oil\",Worksheet!$A$18))=TRUE,0,Worksheet!AH371)","v":0},0,{"$f":"IF(ISERROR(SEARCH(\"Propane\",Worksheet!$A$18))=TRUE,0,Worksheet!AH371)","v":0},0,{"$f":"IF(Worksheet!J371=0,\"\",Worksheet!J371)","v":""},{"$f":"IF(Worksheet!B371=0,\"\",Worksheet!B371)","v":""},{"$f":"IF(Worksheet!K371=0,\"\",Worksheet!K371)","v":""},{"$f":"IF(Worksheet!L371=0,\"\",Worksheet!L371)","v":""},{"$f":"IF(Worksheet!R371=0,\"\",Worksheet!R371)","v":""},{"$f":"IF(Worksheet!F371=0,\"\",Worksheet!F371)","v":""},{"$f":"IF(Worksheet!G371=0,\"\",Worksheet!G371)","v":""},{"$f":"IF(Worksheet!X371=0,\"\",Worksheet!X371)","v":""},{"$f":"IF(Worksheet!Q371=0,\"\",Worksheet!Q371)","v":""},{"$f":"IF(Worksheet!C371=0,\"\",Worksheet!C371)","v":""},{"$f":"IF(Worksheet!D371=0,\"\",Worksheet!D371)","v":""},{"$f":"IF(Worksheet!$A$11=TRUE,\"Y\",\"N\")","v":"N"},{"$f":"IF(Worksheet!$A$12=TRUE,\"Y\",\"N\")","v":"N"},{"$f":"IF(Worksheet!$B$11=TRUE,\"Y\",\"N\")","v":"N"},{"$f":"IF(Worksheet!$B$12=TRUE,\"Y\",\"N\")","v":"N"},{"$f":"IF(Worksheet!$C$11=TRUE,\"Y\",\"N\")","v":"N"},{"$f":"IFERROR(Worksheet!AB371,\"\")","v":0}]
[{"$f":"IF(IFERROR(SEARCH(\"Refrigerated\",Worksheet!L372,1),0)>0,122,IF(ISERROR(RIGHT(VLOOKUP(Worksheet!K372,Type!C$1:E$13,3,FALSE),3))=FALSE,RIGHT(VLOOKUP(Worksheet!K372,Type!C$1:E$13,3,FALSE),3),\"\"))","v":""},{"$f":"IF(Worksheet!M372=\"\",\"\",Worksheet!M372)","v":""},{"$f":"IF(Worksheet!N372=\"\",\"\",Worksheet!N372)","v":""},{"$f":"IF(Worksheet!Y372=0,\"\",Worksheet!Y372)","v":""},"Watts",null,null,{"$f":"Worksheet!AA372","v":0},{"$f":"IF(ISBLANK(Worksheet!V372)=FALSE,Worksheet!V372,\"\")","v":0},{"$f":"Worksheet!AG372","v":0},{"$f":"Worksheet!AF372","v":0},0,{"$f":"IF(ISERROR(SEARCH(\"Gas\",Worksheet!$A$18))=TRUE,0,Worksheet!AH372)","v":0},0,null,null,{"$f":"IF(OR(Worksheet!F372=\"Incandescent\",Worksheet!F372=\"Halogen Incandescent\")=TRUE,118,IF(LEFT(Worksheet!F372,3)=\"HID\",117,IF(OR(RIGHT(Worksheet!F372,3)=\"T12\",RIGHT(Worksheet!F372,5)=\"T12HO\")=TRUE,115,IF(OR(RIGHT(Worksheet!F372,2)=\"T8\",RIGHT(Worksheet!F372,4)=\"RWT8\",RIGHT(Worksheet!F372,4)=\"T8HO\")=TRUE,115,\"\"))))","v":""},{"$f":"IF(ISBLANK(Worksheet!W372)=FALSE,Worksheet!W372,\"\")","v":0},{"$f":"IF(ISERROR(SEARCH(\"Oil\",Worksheet!$A$18))=TRUE,0,Worksheet!AH372)","v":0},0,{"$f":"IF(ISERROR(SEARCH(\"Propane\",Worksheet!$A$18))=TRUE,0,Worksheet!AH372)","v":0},0,{"$f":"IF(Worksheet!J372=0,\"\",Worksheet!J372)","v":""},{"$f":"IF(Worksheet!B372=0,\"\",Worksheet!B372)","v":""},{"$f":"IF(Worksheet!K372=0,\"\",Worksheet!K372)","v":""},{"$f":"IF(Worksheet!L372=0,\"\",Worksheet!L372)","v":""},{"$f":"IF(Worksheet!R372=0,\"\",Worksheet!R372)","v":""},{"$f":"IF(Worksheet!F372=0,\"\",Worksheet!F372)","v":""},{"$f":"IF(Worksheet!G372=0,\"\",Worksheet!G372)","v":""},{"$f":"IF(Worksheet!X372=0,\"\",Worksheet!X372)","v":""},{"$f":"IF(Worksheet!Q372=0,\"\",Worksheet!Q372)","v":""},{"$f":"IF(Worksheet!C372=0,\"\",Worksheet!C372)","v":""},{"$f":"IF(Worksheet!D372=0,\"\",Worksheet!D372)","v":""},{"$f":"IF(Worksheet!$A$11=TRUE,\"Y\",\"N\")","v":"N"},{"$f":"IF(Worksheet!$A$12=TRUE,\"Y\",\"N\")","v":"N"},{"$f":"IF(Worksheet!$B$11=TRUE,\"Y\",\"N\")","v":"N"},{"$f":"IF(Worksheet!$B$12=TRUE,\"Y\",\"N\")","v":"N"},{"$f":"IF(Worksheet!$C$11=TRUE,\"Y\",\"N\")","v":"N"},{"$f":"IFERROR(Worksheet!AB372,\"\")","v":0}]
[{"$f":"IF(IFERROR(SEARCH(\"Refrigerated\",Worksheet!L373,1),0)>0,122,IF(ISERROR(RIGHT(VLOOKUP(Worksheet!K373,Type!C$1:E$13,3,FALSE),3))=FALSE,RIGHT(VLOOKUP(Worksheet!K373,Type!C$1:E$13,3,FALSE),3),\"\"))","v":""},{"$f":"IF(Worksheet!M373=\"\",\"\",Worksheet!M373)","v":""},{"$f":"IF(Worksheet!N373=\"\",\"\",Worksheet!N373)","v":""},{"$f":"IF(Worksheet!Y373=0,\"\",Worksheet!Y373)","v":""},"Watts",null,null,{"$f":"Worksheet!AA373","v":0},{"$f":"IF(ISBLANK(Worksheet!V373)=FALSE,Worksheet!V373,\"\")","v":0},{"$f":"Worksheet!AG373","v":0},{"$f":"Worksheet!AF373","v":0},0,{"$f":"IF(ISERROR(SEARCH(\"Gas\",Worksheet!$A$18))=TRUE,0,Worksheet!AH373)","v":0},0,null,null,{"$f":"IF(OR(Worksheet!F373=\"Incandescent\",Worksheet!F373=\"Halogen Incandescent\")=TRUE,118,IF(LEFT(Worksheet!F373,3)=\"HID\",117,IF(OR(RIGHT(Worksheet!F373,3)=\"T12\",RIGHT(Worksheet!F373,5)=\"T12HO\")=TRUE,115,IF(OR(RIGHT(Worksheet!F373,2)=\"T8\",RIGHT(Worksheet!F373,4)=\"RWT8\",RIGHT(Worksheet!F373,4)=\"T8HO\")=TRUE,115,\"\"))))","v":""},{"$f":"IF(ISBLANK(Worksheet!W373)=FALSE,Worksheet!W373,\"\")","v":0},{"$f":"IF(ISERROR(SEARCH(\"Oil\",Worksheet!$A$18))=TRUE,0,Worksheet!AH373)","v":0},0,{"$f":"IF(ISERROR(SEARCH(\"Propane\",Worksheet!$A$18))=TRUE,0,Worksheet!AH373)","v":0},0,{"$f":"IF(Worksheet!J373=0,\"\",Worksheet!J373)","v":""},{"$f":"IF(Worksheet!B373=0,\"\",Worksheet!B373)","v":""},{"$f":"IF(Worksheet!K373=0,\"\",Worksheet!K373)","v":""},{"$f":"IF(Worksheet!L373=0,\"\",Worksheet!L373)","v":""},{"$f":"IF(Worksheet!R373=0,\"\",Worksheet!R373)","v":""},{"$f":"IF(Worksheet!F373=0,\"\",Worksheet!F373)","v":""},{"$f":"IF(Worksheet!G373=0,\"\",Worksheet!G373)","v":""},{"$f":"IF(Worksheet!X373=0,\"\",Worksheet!X373)","v":""},{"$f":"IF(Worksheet!Q373=0,\"\",Worksheet!Q373)","v":""},{"$f":"IF(Worksheet!C373=0,\"\",Worksheet!C373)","v":""},{"$f":"IF(Worksheet!D373=0,\"\",Worksheet!D373)","v":""},{"$f":"IF(Worksheet!$A$11=TRUE,\"Y\",\"N\")","v":"N"},{"$f":"IF(Worksheet!$A$12=TRUE,\"Y\",\"N\")","v":"N"},{"$f":"IF(Worksheet!$B$11=TRUE,\"Y\",\"N\")","v":"N"},{"$f":"IF(Worksheet!$B$12=TRUE,\"Y\",\"N\")","v":"N"},{"$f":"IF(Worksheet!$C$11=TRUE,\"Y\",\"N\")","v":"N"},{"$f":"IFERROR(Worksheet!AB373,\"\")","v":0}]
[{"$f":"IF(IFERROR(SEARCH(\"Refrigerated\",Worksheet!L374,1),0)>0,122,IF(ISERROR(RIGHT(VLOOKUP(Worksheet!K374,Type!C$1:E$13,3,FALSE),3))=FALSE,RIGHT(VLOOKUP(Worksheet!K374,Type!C$1:E$13,3,FALSE),3),\"\"))","v":""},{"$f":"IF(Worksheet!M374=\"\",\"\",Worksheet!M374)","v":""},{"$f":"IF(Worksheet!N374=\"\",\"\",Worksheet!N374)","v":""},{"$f":"IF(Worksheet!Y374=0,\"\",Worksheet!Y374)","v":""},"Watts",null,null,{"$f":"Worksheet!AA374","v":0},{"$f":"IF(ISBLANK(Worksheet!V374)=FALSE,Worksheet!V374,\"\")","v":0},{"$f":"Worksheet!AG374","v":0},{"$f":"Worksheet!AF374","v":0},0,{"$f":"IF(ISERROR(SEARCH(\"Gas\",Worksheet!$A$18))=TRUE,0,Worksheet!AH374)","v":0},0,null,null,{"$f":"IF(OR(Worksheet!F374=\"Incandescent\",Worksheet!F374=\"Halogen Incandescent\")=TRUE,118,IF(LEFT(Worksheet!F374,3)=\"HID\",117,IF(OR(RIGHT(Worksheet!F374,3)=\"T12\",RIGHT(Worksheet!F374,5)=\"T12HO\")=TRUE,115,IF(OR(RIGHT(Worksheet!F374,2)=\"T8\",RIGHT(Worksheet!F374,4)=\"RWT8\",RIGHT(Worksheet!F374,4)=\"T8HO\")=TRUE,115,\"\"))))","v":""},{"$f":"IF(ISBLANK(Worksheet!W374)=FALSE,Worksheet!W374,\"\")","v":0},{"$f":"IF(ISERROR(SEARCH(\"Oil\",Worksheet!$A$18))=TRUE,0,Worksheet!AH374)","v":0},0,{"$f":"IF(ISERROR(SEARCH(\"Propane\",Worksheet!$A$18))=TRUE,0,Worksheet!AH374)","v":0},0,{"$f":"IF(Worksheet!J374=0,\"\",Worksheet!J374)","v":""},{"$f":"IF(Worksheet!B374=0,\"\",Worksheet!B374)","v":""},{"$f":"IF(Worksheet!K374=0,\"\",Worksheet!K374)","v":""},{"$f":"IF(Worksheet!L374=0,\"\",Worksheet!L374)","v":""},{"$f":"IF(Worksheet!R374=0,\"\",Worksheet!R374)","v":""},{"$f":"IF(Worksheet!F374=0,\"\",Worksheet!F374)","v":""},{"$f":"IF(Worksheet!G374=0,\"\",Worksheet!G374)","v":""},{"$f":"IF(Worksheet!X374=0,\"\",Worksheet!X374)","v":""},{"$f":"IF(Worksheet!Q374=0,\"\",Worksheet!Q374)","v":""},{"$f":"IF(Worksheet!C374=0,\"\",Worksheet!C374)","v":""},{"$f":"IF(Worksheet!D374=0,\"\",Worksheet!D374)","v":""},{"$f":"IF(Worksheet!$A$11=TRUE,\"Y\",\"N\")","v":"N"},{"$f":"IF(Worksheet!$A$12=TRUE,\"Y\",\"N\")","v":"N"},{"$f":"IF(Worksheet!$B$11=TRUE,\"Y\",\"N\")","v":"N"},{"$f":"IF(Worksheet!$B$12=TRUE,\"Y\",\"N\")","v":"N"},{"$f":"IF(Worksheet!$C$11=TRUE,\"Y\",\"N\")","v":"N"},{"$f":"IFERROR(Worksheet!AB374,\"\")","v":0}]
[{"$f":"IF(IFERROR(SEARCH(\"Refrigerated\",Worksheet!L375,1),0)>0,122,IF(ISERROR(RIGHT(VLOOKUP(Worksheet!K375,Type!C$1:E$13,3,FALSE),3))=FALSE,RIGHT(VLOOKUP(Worksheet!K375,Type!C$1:E$13,3,FALSE),3),\"\"))","v":""},{"$f":"IF(Worksheet!M375=\"\",\"\",Worksheet!M375)","v":""},{"$f":"IF(Worksheet!N375=\"\",\"\",Worksheet!N375)","v":""},{"$f":"IF(Worksheet!Y375=0,\"\",Worksheet!Y375)","v":""},"Watts",null,null,{"$f":"Worksheet!AA375","v":0},{"$f":"IF(ISBLANK(Worksheet!V375)=FALSE,Worksheet!V375,\"\")","v":0},{"$f":"Worksheet!AG375","v":0},{"$f":"Worksheet!AF375","v":0},0,{"$f":"IF(ISERROR(SEARCH(\"Gas\",Worksheet!$A$18))=TRUE,0,Worksheet!AH375)","v":0},0,null,null,{"$f":"IF(OR(Worksheet!F375=\"Incandescent\",Worksheet!F375=\"Halogen Incandescent\")=TRUE,118,IF(LEFT(Worksheet!F375,3)=\"HID\",117,IF(OR(RIGHT(Worksheet!F375,3)=\"T12\",RIGHT(Worksheet!F375,5)=\"T12HO\")=TRUE,115,IF(OR(RIGHT(Worksheet!F375,2)=\"T8\",RIGHT(Worksheet!F375,4)=\"RWT8\",RIGHT(Worksheet!F375,4)=\"T8HO\")=TRUE,115,\"\"))))","v":""},{"$f":"IF(ISBLANK(Worksheet!W375)=FALSE,Worksheet!W375,\"\")","v":0},{"$f":"IF(ISERROR(SEARCH(\"Oil\",Worksheet!$A$18))=TRUE,0,Worksheet!AH375)","v":0},0,{"$f":"IF(ISERROR(SEARCH(\"Propane\",Worksheet!$A$18))=TRUE,0,Worksheet!AH375)","v":0},0,{"$f":"IF(Worksheet!J375=0,\"\",Worksheet!J375)","v":""},{"$f":"IF(Worksheet!B375=0,\"\",Worksheet!B375)","v":""},{"$f":"IF(Worksheet!K375=0,\"\",Worksheet!K375)","v":""},{"$f":"IF(Worksheet!L375=0,\"\",Worksheet!L375)","v":""},{"$f":"IF(Worksheet!R375=0,\"\",Worksheet!R375)","v":""},{"$f":"IF(Worksheet!F375=0,\"\",Worksheet!F375)","v":""},{"$f":"IF(Worksheet!G375=0,\"\",Worksheet!G375)","v":""},{"$f":"IF(Worksheet!X375=0,\"\",Worksheet!X375)","v":""},{"$f":"IF(Worksheet!Q375=0,\"\",Worksheet!Q375)","v":""},{"$f":"IF(Worksheet!C375=0,\"\",Worksheet!C375)","v":""},{"$f":"IF(Worksheet!D375=0,\"\",Worksheet!D375)","v":""},{"$f":"IF(Worksheet!$A$11=TRUE,\"Y\",\"N\")","v":"N"},{"$f":"IF(Worksheet!$A$12=TRUE,\"Y\",\"N\")","v":"N"},{"$f":"IF(Worksheet!$B$11=TRUE,\"Y\",\"N\")","v":"N"},{"$f":"IF(Worksheet!$B$12=TRUE,\"Y\",\"N\")","v":"N"},{"$f":"IF(Worksheet!$C$11=TRUE,\"Y\",\"N\")","v":"N"},{"$f":"IFERROR(Worksheet!AB375,\"\")","v":0}]
[{"$f":"IF(IFERROR(SEARCH(\"Refrigerated\",Worksheet!L376,1),0)>0,122,IF(ISERROR(RIGHT(VLOOKUP(Worksheet!K376,Type!C$1:E$13,3,FALSE),3))=FALSE,RIGHT(VLOOKUP(Worksheet!K376,Type!C$1:E$13,3,FALSE),3),\"\"))","v":""},{"$f":"IF(Worksheet!M376=\"\",\"\",Worksheet!M376)","v":""},{"$f":"IF(Worksheet!N376=\"\",\"\",Worksheet!N376)","v":""},{"$f":"IF(Worksheet!Y376=0,\"\",Worksheet!Y376)","v":""},"Watts",null,null,{"$f":"Worksheet!AA376","v":0},{"$f":"IF(ISBLANK(Worksheet!V376)=FALSE,Worksheet!V376,\"\")","v":0},{"$f":"Worksheet!AG376","v":0},{"$f":"Worksheet!AF376","v":0},0,{"$f":"IF(ISERROR(SEARCH(\"Gas\",Worksheet!$A$18))=TRUE,0,Worksheet!AH376)","v":0},0,null,null,{"$f":"IF(OR(Worksheet!F376=\"Incandescent\",Worksheet!F376=\"Halogen Incandescent\")=TRUE,118,IF(LEFT(Worksheet!F376,3)=\"HID\",117,IF(OR(RIGHT(Worksheet!F376,3)=\"T12\",RIGHT(Worksheet!F376,5)=\"T12HO\")=TRUE,115,IF(OR(RIGHT(Worksheet!F376,2)=\"T8\",RIGHT(Worksheet!F376,4)=\"RWT8\",RIGHT(Worksheet!F376,4)=\"T8HO\")=TRUE,115,\"\"))))","v":""},{"$f":"IF(ISBLANK(Worksheet!W376)=FALSE,Worksheet!W376,\"\")","v":0},{"$f":"IF(ISERROR(SEARCH(\"Oil\",Worksheet!$A$18))=TRUE,0,Worksheet!AH376)","v":0},0,{"$f":"IF(ISERROR(SEARCH(\"Propane\",Worksheet!$A$18))=TRUE,0,Worksheet!AH376)","v":0},0,{"$f":"IF(Worksheet!J376=0,\"\",Worksheet!J376)","v":""},{"$f":"IF(Worksheet!B376=0,\"\",Worksheet!B376)","v":""},{"$f":"IF(Worksheet!K376=0,\"\",Worksheet!K376)","v":""},{"$f":"IF(Worksheet!L376=0,\"\",Worksheet!L376)","v":""},{"$f":"IF(Worksheet!R376=0,\"\",Worksheet!R376)","v":""},{"$f":"IF(Worksheet!F376=0,\"\",Worksheet!F376)","v":""},{"$f":"IF(Worksheet!G376=0,\"\",Worksheet!G376)","v":""},{"$f":"IF(Worksheet!X376=0,\"\",Worksheet!X376)","v":""},{"$f":"IF(Worksheet!Q376=0,\"\",Worksheet!Q376)","v":""},{"$f":"IF(Worksheet!C376=0,\"\",Worksheet!C376)","v":""},{"$f":"IF(Worksheet!D376=0,\"\",Worksheet!D376)","v":""},{"$f":"IF(Worksheet!$A$11=TRUE,\"Y\",\"N\")","v":"N"},{"$f":"IF(Worksheet!$A$12=TRUE,\"Y\",\"N\")","v":"N"},{"$f":"IF(Worksheet!$B$11=TRUE,\"Y\",\"N\")","v":"N"},{"$f":"IF(Worksheet!$B$12=TRUE,\"Y\",\"N\")","v":"N"},{"$f":"IF(Worksheet!$C$11=TRUE,\"Y\",\"N\")","v":"N"},{"$f":"IFERROR(Worksheet!AB376,\"\")","v":0}]
[{"$f":"IF(IFERROR(SEARCH(\"Refrigerated\",Worksheet!L377,1),0)>0,122,IF(ISERROR(RIGHT(VLOOKUP(Worksheet!K377,Type!C$1:E$13,3,FALSE),3))=FALSE,RIGHT(VLOOKUP(Worksheet!K377,Type!C$1:E$13,3,FALSE),3),\"\"))","v":""},{"$f":"IF(Worksheet!M377=\"\",\"\",Worksheet!M377)","v":""},{"$f":"IF(Worksheet!N377=\"\",\"\",Worksheet!N377)","v":""},{"$f":"IF(Worksheet!Y377=0,\"\",Worksheet!Y377)","v":""},"Watts",null,null,{"$f":"Worksheet!AA377","v":0},{"$f":"IF(ISBLANK(Worksheet!V377)=FALSE,Worksheet!V377,\"\")","v":0},{"$f":"Worksheet!AG377","v":0},{"$f":"Worksheet!AF377","v":0},0,{"$f":"IF(ISERROR(SEARCH(\"Gas\",Worksheet!$A$18))=TRUE,0,Worksheet!AH377)","v":0},0,null,null,{"$f":"IF(OR(Worksheet!F377=\"Incandescent\",Worksheet!F377=\"Halogen Incandescent\")=TRUE,118,IF(LEFT(Worksheet!F377,3)=\"HID\",117,IF(OR(RIGHT(Worksheet!F377,3)=\"T12\",RIGHT(Worksheet!F377,5)=\"T12HO\")=TRUE,115,IF(OR(RIGHT(Worksheet!F377,2)=\"T8\",RIGHT(Worksheet!F377,4)=\"RWT8\",RIGHT(Worksheet!F377,4)=\"T8HO\")=TRUE,115,\"\"))))","v":""},{"$f":"IF(ISBLANK(Worksheet!W377)=FALSE,Worksheet!W377,\"\")","v":0},{"$f":"IF(ISERROR(SEARCH(\"Oil\",Worksheet!$A$18))=TRUE,0,Worksheet!AH377)","v":0},0,{"$f":"IF(ISERROR(SEARCH(\"Propane\",Worksheet!$A$18))=TRUE,0,Worksheet!AH377)","v":0},0,{"$f":"IF(Worksheet!J377=0,\"\",Worksheet!J377)","v":""},{"$f":"IF(Worksheet!B377=0,\"\",Worksheet!B377)","v":""},{"$f":"IF(Worksheet!K377=0,\"\",Worksheet!K377)","v":""},{"$f":"IF(Worksheet!L377=0,\"\",Worksheet!L377)","v":""},{"$f":"IF(Worksheet!R377=0,\"\",Worksheet!R377)","v":""},{"$f":"IF(Worksheet!F377=0,\"\",Worksheet!F377)","v":""},{"$f":"IF(Worksheet!G377=0,\"\",Worksheet!G377)","v":""},{"$f":"IF(Worksheet!X377=0,\"\",Worksheet!X377)","v":""},{"$f":"IF(Worksheet!Q377=0,\"\",Worksheet!Q377)","v":""},{"$f":"IF(Worksheet!C377=0,\"\",Worksheet!C377)","v":""},{"$f":"IF(Worksheet!D377=0,\"\",Worksheet!D377)","v":""},{"$f":"IF(Worksheet!$A$11=TRUE,\"Y\",\"N\")","v":"N"},{"$f":"IF(Worksheet!$A$12=TRUE,\"Y\",\"N\")","v":"N"},{"$f":"IF(Worksheet!$B$11=TRUE,\"Y\",\"N\")","v":"N"},{"$f":"IF(Worksheet!$B$12=TRUE,\"Y\",\"N\")","v":"N"},{"$f":"IF(Worksheet!$C$11=TRUE,\"Y\",\"N\")","v":"N"},{"$f":"IFERROR(Worksheet!AB377,\"\")","v":0}]
[{"$f":"IF(IFERROR(SEARCH(\"Refrigerated\",Worksheet!L378,1),0)>0,122,IF(ISERROR(RIGHT(VLOOKUP(Worksheet!K378,Type!C$1:E$13,3,FALSE),3))=FALSE,RIGHT(VLOOKUP(Worksheet!K378,Type!C$1:E$13,3,FALSE),3),\"\"))","v":""},{"$f":"IF(Worksheet!M378=\"\",\"\",Worksheet!M378)","v":""},{"$f":"IF(Worksheet!N378=\"\",\"\",Worksheet!N378)","v":""},{"$f":"IF(Worksheet!Y378=0,\"\",Worksheet!Y378)","v":""},"Watts",null,null,{"$f":"Worksheet!AA378","v":0},{"$f":"IF(ISBLANK(Worksheet!V378)=FALSE,Worksheet!V378,\"\")","v":0},{"$f":"Worksheet!AG378","v":0},{"$f":"Worksheet!AF378","v":0},0,{"$f":"IF(ISERROR(SEARCH(\"Gas\",Worksheet!$A$18))=TRUE,0,Worksheet!AH378)","v":0},0,null,null,{"$f":"IF(OR(Worksheet!F378=\"Incandescent\",Worksheet!F378=\"Halogen Incandescent\")=TRUE,118,IF(LEFT(Worksheet!F378,3)=\"HID\",117,IF(OR(RIGHT(Worksheet!F378,3)=\"T12\",RIGHT(Worksheet!F378,5)=\"T12HO\")=TRUE,115,IF(OR(RIGHT(Worksheet!F378,2)=\"T8\",RIGHT(Worksheet!F378,4)=\"RWT8\",RIGHT(Worksheet!F378,4)=\"T8HO\")=TRUE,115,\"\"))))","v":""},{"$f":"IF(ISBLANK(Worksheet!W378)=FALSE,Worksheet!W378,\"\")","v":0},{"$f":"IF(ISERROR(SEARCH(\"Oil\",Worksheet!$A$18))=TRUE,0,Worksheet!AH378)","v":0},0,{"$f":"IF(ISERROR(SEARCH(\"Propane\",Worksheet!$A$18))=TRUE,0,Worksheet!AH378)","v":0},0,{"$f":"IF(Worksheet!J378=0,\"\",Worksheet!J378)","v":""},{"$f":"IF(Worksheet!B378=0,\"\",Worksheet!B378)","v":""},{"$f":"IF(Worksheet!K378=0,\"\",Worksheet!K378)","v":""},{"$f":"IF(Worksheet!L378=0,\"\",Worksheet!L378)","v":""},{"$f":"IF(Worksheet!R378=0,\"\",Worksheet!R378)","v":""},{"$f":"IF(Worksheet!F378=0,\"\",Worksheet!F378)","v":""},{"$f":"IF(Worksheet!G378=0,\"\",Worksheet!G378)","v":""},{"$f":"IF(Worksheet!X378=0,\"\",Worksheet!X378)","v":""},{"$f":"IF(Worksheet!Q378=0,\"\",Worksheet!Q378)","v":""},{"$f":"IF(Worksheet!C378=0,\"\",Worksheet!C378)","v":""},{"$f":"IF(Worksheet!D378=0,\"\",Worksheet!D378)","v":""},{"$f":"IF(Worksheet!$A$11=TRUE,\"Y\",\"N\")","v":"N"},{"$f":"IF(Worksheet!$A$12=TRUE,\"Y\",\"N\")","v":"N"},{"$f":"IF(Worksheet!$B$11=TRUE,\"Y\",\"N\")","v":"N"},{"$f":"IF(Worksheet!$B$12=TRUE,\"Y\",\"N\")","v":"N"},{"$f":"IF(Worksheet!$C$11=TRUE,\"Y\",\"N\")","v":"N"},{"$f":"IFERROR(Worksheet!AB378,\"\")","v":0}]
[{"$f":"IF(IFERROR(SEARCH(\"Refrigerated\",Worksheet!L379,1),0)>0,122,IF(ISERROR(RIGHT(VLOOKUP(Worksheet!K379,Type!C$1:E$13,3,FALSE),3))=FALSE,RIGHT(VLOOKUP(Worksheet!K379,Type!C$1:E$13,3,FALSE),3),\"\"))","v":""},{"$f":"IF(Worksheet!M379=\"\",\"\",Worksheet!M379)","v":""},{"$f":"IF(Worksheet!N379=\"\",\"\",Worksheet!N379)","v":""},{"$f":"IF(Worksheet!Y379=0,\"\",Worksheet!Y379)","v":""},"Watts",null,null,{"$f":"Worksheet!AA379","v":0},{"$f":"IF(ISBLANK(Worksheet!V379)=FALSE,Worksheet!V379,\"\")","v":0},{"$f":"Worksheet!AG379","v":0},{"$f":"Worksheet!AF379","v":0},0,{"$f":"IF(ISERROR(SEARCH(\"Gas\",Worksheet!$A$18))=TRUE,0,Worksheet!AH379)","v":0},0,null,null,{"$f":"IF(OR(Worksheet!F379=\"Incandescent\",Worksheet!F379=\"Halogen Incandescent\")=TRUE,118,IF(LEFT(Worksheet!F379,3)=\"HID\",117,IF(OR(RIGHT(Worksheet!F379,3)=\"T12\",RIGHT(Worksheet!F379,5)=\"T12HO\")=TRUE,115,IF(OR(RIGHT(Worksheet!F379,2)=\"T8\",RIGHT(Worksheet!F379,4)=\"RWT8\",RIGHT(Worksheet!F379,4)=\"T8HO\")=TRUE,115,\"\"))))","v":""},{"$f":"IF(ISBLANK(Worksheet!W379)=FALSE,Worksheet!W379,\"\")","v":0},{"$f":"IF(ISERROR(SEARCH(\"Oil\",Worksheet!$A$18))=TRUE,0,Worksheet!AH379)","v":0},0,{"$f":"IF(ISERROR(SEARCH(\"Propane\",Worksheet!$A$18))=TRUE,0,Worksheet!AH379)","v":0},0,{"$f":"IF(Worksheet!J379=0,\"\",Worksheet!J379)","v":""},{"$f":"IF(Worksheet!B379=0,\"\",Worksheet!B379)","v":""},{"$f":"IF(Worksheet!K379=0,\"\",Worksheet!K379)","v":""},{"$f":"IF(Worksheet!L379=0,\"\",Worksheet!L379)","v":""},{"$f":"IF(Worksheet!R379=0,\"\",Worksheet!R379)","v":""},{"$f":"IF(Worksheet!F379=0,\"\",Worksheet!F379)","v":""},{"$f":"IF(Worksheet!G379=0,\"\",Worksheet!G379)","v":""},{"$f":"IF(Worksheet!X379=0,\"\",Worksheet!X379)","v":""},{"$f":"IF(Worksheet!Q379=0,\"\",Worksheet!Q379)","v":""},{"$f":"IF(Worksheet!C379=0,\"\",Worksheet!C379)","v":""},{"$f":"IF(Worksheet!D379=0,\"\",Worksheet!D379)","v":""},{"$f":"IF(Worksheet!$A$11=TRUE,\"Y\",\"N\")","v":"N"},{"$f":"IF(Worksheet!$A$12=TRUE,\"Y\",\"N\")","v":"N"},{"$f":"IF(Worksheet!$B$11=TRUE,\"Y\",\"N\")","v":"N"},{"$f":"IF(Worksheet!$B$12=TRUE,\"Y\",\"N\")","v":"N"},{"$f":"IF(Worksheet!$C$11=TRUE,\"Y\",\"N\")","v":"N"},{"$f":"IFERROR(Worksheet!AB379,\"\")","v":0}]
[{"$f":"IF(IFERROR(SEARCH(\"Refrigerated\",Worksheet!L380,1),0)>0,122,IF(ISERROR(RIGHT(VLOOKUP(Worksheet!K380,Type!C$1:E$13,3,FALSE),3))=FALSE,RIGHT(VLOOKUP(Worksheet!K380,Type!C$1:E$13,3,FALSE),3),\"\"))","v":""},{"$f":"IF(Worksheet!M380=\"\",\"\",Worksheet!M380)","v":""},{"$f":"IF(Worksheet!N380=\"\",\"\",Worksheet!N380)","v":""},{"$f":"IF(Worksheet!Y380=0,\"\",Worksheet!Y380)","v":""},"Watts",null,null,{"$f":"Worksheet!AA380","v":0},{"$f":"IF(ISBLANK(Worksheet!V380)=FALSE,Worksheet!V380,\"\")","v":0},{"$f":"Worksheet!AG380","v":0},{"$f":"Worksheet!AF380","v":0},0,{"$f":"IF(ISERROR(SEARCH(\"Gas\",Worksheet!$A$18))=TRUE,0,Worksheet!AH380)","v":0},0,null,null,{"$f":"IF(OR(Worksheet!F380=\"Incandescent\",Worksheet!F380=\"Halogen Incandescent\")=TRUE,118,IF(LEFT(Worksheet!F380,3)=\"HID\",117,IF(OR(RIGHT(Worksheet!F380,3)=\"T12\",RIGHT(Worksheet!F380,5)=\"T12HO\")=TRUE,115,IF(OR(RIGHT(Worksheet!F380,2)=\"T8\",RIGHT(Worksheet!F380,4)=\"RWT8\",RIGHT(Worksheet!F380,4)=\"T8HO\")=TRUE,115,\"\"))))","v":""},{"$f":"IF(ISBLANK(Worksheet!W380)=FALSE,Worksheet!W380,\"\")","v":0},{"$f":"IF(ISERROR(SEARCH(\"Oil\",Worksheet!$A$18))=TRUE,0,Worksheet!AH380)","v":0},0,{"$f":"IF(ISERROR(SEARCH(\"Propane\",Worksheet!$A$18))=TRUE,0,Worksheet!AH380)","v":0},0,{"$f":"IF(Worksheet!J380=0,\"\",Worksheet!J380)","v":""},{"$f":"IF(Worksheet!B380=0,\"\",Worksheet!B380)","v":""},{"$f":"IF(Worksheet!K380=0,\"\",Worksheet!K380)","v":""},{"$f":"IF(Worksheet!L380=0,\"\",Worksheet!L380)","v":""},{"$f":"IF(Worksheet!R380=0,\"\",Worksheet!R380)","v":""},{"$f":"IF(Worksheet!F380=0,\"\",Worksheet!F380)","v":""},{"$f":"IF(Worksheet!G380=0,\"\",Worksheet!G380)","v":""},{"$f":"IF(Worksheet!X380=0,\"\",Worksheet!X380)","v":""},{"$f":"IF(Worksheet!Q380=0,\"\",Worksheet!Q380)","v":""},{"$f":"IF(Worksheet!C380=0,\"\",Worksheet!C380)","v":""},{"$f":"IF(Worksheet!D380=0,\"\",Worksheet!D380)","v":""},{"$f":"IF(Worksheet!$A$11=TRUE,\"Y\",\"N\")","v":"N"},{"$f":"IF(Worksheet!$A$12=TRUE,\"Y\",\"N\")","v":"N"},{"$f":"IF(Worksheet!$B$11=TRUE,\"Y\",\"N\")","v":"N"},{"$f":"IF(Worksheet!$B$12=TRUE,\"Y\",\"N\")","v":"N"},{"$f":"IF(Worksheet!$C$11=TRUE,\"Y\",\"N\")","v":"N"},{"$f":"IFERROR(Worksheet!AB380,\"\")","v":0}]
[{"$f":"IF(IFERROR(SEARCH(\"Refrigerated\",Worksheet!L381,1),0)>0,122,IF(ISERROR(RIGHT(VLOOKUP(Worksheet!K381,Type!C$1:E$13,3,FALSE),3))=FALSE,RIGHT(VLOOKUP(Worksheet!K381,Type!C$1:E$13,3,FALSE),3),\"\"))","v":""},{"$f":"IF(Worksheet!M381=\"\",\"\",Worksheet!M381)","v":""},{"$f":"IF(Worksheet!N381=\"\",\"\",Worksheet!N381)","v":""},{"$f":"IF(Worksheet!Y381=0,\"\",Worksheet!Y381)","v":""},"Watts",null,null,{"$f":"Worksheet!AA381","v":0},{"$f":"IF(ISBLANK(Worksheet!V381)=FALSE,Worksheet!V381,\"\")","v":0},{"$f":"Worksheet!AG381","v":0},{"$f":"Worksheet!AF381","v":0},0,{"$f":"IF(ISERROR(SEARCH(\"Gas\",Worksheet!$A$18))=TRUE,0,Worksheet!AH381)","v":0},0,null,null,{"$f":"IF(OR(Worksheet!F381=\"Incandescent\",Worksheet!F381=\"Halogen Incandescent\")=TRUE,118,IF(LEFT(Worksheet!F381,3)=\"HID\",117,IF(OR(RIGHT(Worksheet!F381,3)=\"T12\",RIGHT(Worksheet!F381,5)=\"T12HO\")=TRUE,115,IF(OR(RIGHT(Worksheet!F381,2)=\"T8\",RIGHT(Worksheet!F381,4)=\"RWT8\",RIGHT(Worksheet!F381,4)=\"T8HO\")=TRUE,115,\"\"))))","v":""},{"$f":"IF(ISBLANK(Worksheet!W381)=FALSE,Worksheet!W381,\"\")","v":0},{"$f":"IF(ISERROR(SEARCH(\"Oil\",Worksheet!$A$18))=TRUE,0,Worksheet!AH381)","v":0},0,{"$f":"IF(ISERROR(SEARCH(\"Propane\",Worksheet!$A$18))=TRUE,0,Worksheet!AH381)","v":0},0,{"$f":"IF(Worksheet!J381=0,\"\",Worksheet!J381)","v":""},{"$f":"IF(Worksheet!B381=0,\"\",Worksheet!B381)","v":""},{"$f":"IF(Worksheet!K381=0,\"\",Worksheet!K381)","v":""},{"$f":"IF(Worksheet!L381=0,\"\",Worksheet!L381)","v":""},{"$f":"IF(Worksheet!R381=0,\"\",Worksheet!R381)","v":""},{"$f":"IF(Worksheet!F381=0,\"\",Worksheet!F381)","v":""},{"$f":"IF(Worksheet!G381=0,\"\",Worksheet!G381)","v":""},{"$f":"IF(Worksheet!X381=0,\"\",Worksheet!X381)","v":""},{"$f":"IF(Worksheet!Q381=0,\"\",Worksheet!Q381)","v":""},{"$f":"IF(Worksheet!C381=0,\"\",Worksheet!C381)","v":""},{"$f":"IF(Worksheet!D381=0,\"\",Worksheet!D381)","v":""},{"$f":"IF(Worksheet!$A$11=TRUE,\"Y\",\"N\")","v":"N"},{"$f":"IF(Worksheet!$A$12=TRUE,\"Y\",\"N\")","v":"N"},{"$f":"IF(Worksheet!$B$11=TRUE,\"Y\",\"N\")","v":"N"},{"$f":"IF(Worksheet!$B$12=TRUE,\"Y\",\"N\")","v":"N"},{"$f":"IF(Worksheet!$C$11=TRUE,\"Y\",\"N\")","v":"N"},{"$f":"IFERROR(Worksheet!AB381,\"\")","v":0}]
[{"$f":"IF(IFERROR(SEARCH(\"Refrigerated\",Worksheet!L382,1),0)>0,122,IF(ISERROR(RIGHT(VLOOKUP(Worksheet!K382,Type!C$1:E$13,3,FALSE),3))=FALSE,RIGHT(VLOOKUP(Worksheet!K382,Type!C$1:E$13,3,FALSE),3),\"\"))","v":""},{"$f":"IF(Worksheet!M382=\"\",\"\",Worksheet!M382)","v":""},{"$f":"IF(Worksheet!N382=\"\",\"\",Worksheet!N382)","v":""},{"$f":"IF(Worksheet!Y382=0,\"\",Worksheet!Y382)","v":""},"Watts",null,null,{"$f":"Worksheet!AA382","v":0},{"$f":"IF(ISBLANK(Worksheet!V382)=FALSE,Worksheet!V382,\"\")","v":0},{"$f":"Worksheet!AG382","v":0},{"$f":"Worksheet!AF382","v":0},0,{"$f":"IF(ISERROR(SEARCH(\"Gas\",Worksheet!$A$18))=TRUE,0,Worksheet!AH382)","v":0},0,null,null,{"$f":"IF(OR(Worksheet!F382=\"Incandescent\",Worksheet!F382=\"Halogen Incandescent\")=TRUE,118,IF(LEFT(Worksheet!F382,3)=\"HID\",117,IF(OR(RIGHT(Worksheet!F382,3)=\"T12\",RIGHT(Worksheet!F382,5)=\"T12HO\")=TRUE,115,IF(OR(RIGHT(Worksheet!F382,2)=\"T8\",RIGHT(Worksheet!F382,4)=\"RWT8\",RIGHT(Worksheet!F382,4)=\"T8HO\")=TRUE,115,\"\"))))","v":""},{"$f":"IF(ISBLANK(Worksheet!W382)=FALSE,Worksheet!W382,\"\")","v":0},{"$f":"IF(ISERROR(SEARCH(\"Oil\",Worksheet!$A$18))=TRUE,0,Worksheet!AH382)","v":0},0,{"$f":"IF(ISERROR(SEARCH(\"Propane\",Worksheet!$A$18))=TRUE,0,Worksheet!AH382)","v":0},0,{"$f":"IF(Worksheet!J382=0,\"\",Worksheet!J382)","v":""},{"$f":"IF(Worksheet!B382=0,\"\",Worksheet!B382)","v":""},{"$f":"IF(Worksheet!K382=0,\"\",Worksheet!K382)","v":""},{"$f":"IF(Worksheet!L382=0,\"\",Worksheet!L382)","v":""},{"$f":"IF(Worksheet!R382=0,\"\",Worksheet!R382)","v":""},{"$f":"IF(Worksheet!F382=0,\"\",Worksheet!F382)","v":""},{"$f":"IF(Worksheet!G382=0,\"\",Worksheet!G382)","v":""},{"$f":"IF(Worksheet!X382=0,\"\",Worksheet!X382)","v":""},{"$f":"IF(Worksheet!Q382=0,\"\",Worksheet!Q382)","v":""},{"$f":"IF(Worksheet!C382=0,\"\",Worksheet!C382)","v":""},{"$f":"IF(Worksheet!D382=0,\"\",Worksheet!D382)","v":""},{"$f":"IF(Worksheet!$A$11=TRUE,\"Y\",\"N\")","v":"N"},{"$f":"IF(Worksheet!$A$12=TRUE,\"Y\",\"N\")","v":"N"},{"$f":"IF(Worksheet!$B$11=TRUE,\"Y\",\"N\")","v":"N"},{"$f":"IF(Worksheet!$B$12=TRUE,\"Y\",\"N\")","v":"N"},{"$f":"IF(Worksheet!$C$11=TRUE,\"Y\",\"N\")","v":"N"},{"$f":"IFERROR(Worksheet!AB382,\"\")","v":0}]
[{"$f":"IF(IFERROR(SEARCH(\"Refrigerated\",Worksheet!L383,1),0)>0,122,IF(ISERROR(RIGHT(VLOOKUP(Worksheet!K383,Type!C$1:E$13,3,FALSE),3))=FALSE,RIGHT(VLOOKUP(Worksheet!K383,Type!C$1:E$13,3,FALSE),3),\"\"))","v":""},{"$f":"IF(Worksheet!M383=\"\",\"\",Worksheet!M383)","v":""},{"$f":"IF(Worksheet!N383=\"\",\"\",Worksheet!N383)","v":""},{"$f":"IF(Worksheet!Y383=0,\"\",Worksheet!Y383)","v":""},"Watts",null,null,{"$f":"Worksheet!AA383","v":0},{"$f":"IF(ISBLANK(Worksheet!V383)=FALSE,Worksheet!V383,\"\")","v":0},{"$f":"Worksheet!AG383","v":0},{"$f":"Worksheet!AF383","v":0},0,{"$f":"IF(ISERROR(SEARCH(\"Gas\",Worksheet!$A$18))=TRUE,0,Worksheet!AH383)","v":0},0,null,null,{"$f":"IF(OR(Worksheet!F383=\"Incandescent\",Worksheet!F383=\"Halogen Incandescent\")=TRUE,118,IF(LEFT(Worksheet!F383,3)=\"HID\",117,IF(OR(RIGHT(Worksheet!F383,3)=\"T12\",RIGHT(Worksheet!F383,5)=\"T12HO\")=TRUE,115,IF(OR(RIGHT(Worksheet!F383,2)=\"T8\",RIGHT(Worksheet!F383,4)=\"RWT8\",RIGHT(Worksheet!F383,4)=\"T8HO\")=TRUE,115,\"\"))))","v":""},{"$f":"IF(ISBLANK(Worksheet!W383)=FALSE,Worksheet!W383,\"\")","v":0},{"$f":"IF(ISERROR(SEARCH(\"Oil\",Worksheet!$A$18))=TRUE,0,Worksheet!AH383)","v":0},0,{"$f":"IF(ISERROR(SEARCH(\"Propane\",Worksheet!$A$18))=TRUE,0,Worksheet!AH383)","v":0},0,{"$f":"IF(Worksheet!J383=0,\"\",Worksheet!J383)","v":""},{"$f":"IF(Worksheet!B383=0,\"\",Worksheet!B383)","v":""},{"$f":"IF(Worksheet!K383=0,\"\",Worksheet!K383)","v":""},{"$f":"IF(Worksheet!L383=0,\"\",Worksheet!L383)","v":""},{"$f":"IF(Worksheet!R383=0,\"\",Worksheet!R383)","v":""},{"$f":"IF(Worksheet!F383=0,\"\",Worksheet!F383)","v":""},{"$f":"IF(Worksheet!G383=0,\"\",Worksheet!G383)","v":""},{"$f":"IF(Worksheet!X383=0,\"\",Worksheet!X383)","v":""},{"$f":"IF(Worksheet!Q383=0,\"\",Worksheet!Q383)","v":""},{"$f":"IF(Worksheet!C383=0,\"\",Worksheet!C383)","v":""},{"$f":"IF(Worksheet!D383=0,\"\",Worksheet!D383)","v":""},{"$f":"IF(Worksheet!$A$11=TRUE,\"Y\",\"N\")","v":"N"},{"$f":"IF(Worksheet!$A$12=TRUE,\"Y\",\"N\")","v":"N"},{"$f":"IF(Worksheet!$B$11=TRUE,\"Y\",\"N\")","v":"N"},{"$f":"IF(Worksheet!$B$12=TRUE,\"Y\",\"N\")","v":"N"},{"$f":"IF(Worksheet!$C$11=TRUE,\"Y\",\"N\")","v":"N"},{"$f":"IFERROR(Worksheet!AB383,\"\")","v":0}]
[{"$f":"IF(IFERROR(SEARCH(\"Refrigerated\",Worksheet!L384,1),0)>0,122,IF(ISERROR(RIGHT(VLOOKUP(Worksheet!K384,Type!C$1:E$13,3,FALSE),3))=FALSE,RIGHT(VLOOKUP(Worksheet!K384,Type!C$1:E$13,3,FALSE),3),\"\"))","v":""},{"$f":"IF(Worksheet!M384=\"\",\"\",Worksheet!M384)","v":""},{"$f":"IF(Worksheet!N384=\"\",\"\",Worksheet!N384)","v":""},{"$f":"IF(Worksheet!Y384=0,\"\",Worksheet!Y384)","v":""},"Watts",null,null,{"$f":"Worksheet!AA384","v":0},{"$f":"IF(ISBLANK(Worksheet!V384)=FALSE,Worksheet!V384,\"\")","v":0},{"$f":"Worksheet!AG384","v":0},{"$f":"Worksheet!AF384","v":0},0,{"$f":"IF(ISERROR(SEARCH(\"Gas\",Worksheet!$A$18))=TRUE,0,Worksheet!AH384)","v":0},0,null,null,{"$f":"IF(OR(Worksheet!F384=\"Incandescent\",Worksheet!F384=\"Halogen Incandescent\")=TRUE,118,IF(LEFT(Worksheet!F384,3)=\"HID\",117,IF(OR(RIGHT(Worksheet!F384,3)=\"T12\",RIGHT(Worksheet!F384,5)=\"T12HO\")=TRUE,115,IF(OR(RIGHT(Worksheet!F384,2)=\"T8\",RIGHT(Worksheet!F384,4)=\"RWT8\",RIGHT(Worksheet!F384,4)=\"T8HO\")=TRUE,115,\"\"))))","v":""},{"$f":"IF(ISBLANK(Worksheet!W384)=FALSE,Worksheet!W384,\"\")","v":0},{"$f":"IF(ISERROR(SEARCH(\"Oil\",Worksheet!$A$18))=TRUE,0,Worksheet!AH384)","v":0},0,{"$f":"IF(ISERROR(SEARCH(\"Propane\",Worksheet!$A$18))=TRUE,0,Worksheet!AH384)","v":0},0,{"$f":"IF(Worksheet!J384=0,\"\",Worksheet!J384)","v":""},{"$f":"IF(Worksheet!B384=0,\"\",Worksheet!B384)","v":""},{"$f":"IF(Worksheet!K384=0,\"\",Worksheet!K384)","v":""},{"$f":"IF(Worksheet!L384=0,\"\",Worksheet!L384)","v":""},{"$f":"IF(Worksheet!R384=0,\"\",Worksheet!R384)","v":""},{"$f":"IF(Worksheet!F384=0,\"\",Worksheet!F384)","v":""},{"$f":"IF(Worksheet!G384=0,\"\",Worksheet!G384)","v":""},{"$f":"IF(Worksheet!X384=0,\"\",Worksheet!X384)","v":""},{"$f":"IF(Worksheet!Q384=0,\"\",Worksheet!Q384)","v":""},{"$f":"IF(Worksheet!C384=0,\"\",Worksheet!C384)","v":""},{"$f":"IF(Worksheet!D384=0,\"\",Worksheet!D384)","v":""},{"$f":"IF(Worksheet!$A$11=TRUE,\"Y\",\"N\")","v":"N"},{"$f":"IF(Worksheet!$A$12=TRUE,\"Y\",\"N\")","v":"N"},{"$f":"IF(Worksheet!$B$11=TRUE,\"Y\",\"N\")","v":"N"},{"$f":"IF(Worksheet!$B$12=TRUE,\"Y\",\"N\")","v":"N"},{"$f":"IF(Worksheet!$C$11=TRUE,\"Y\",\"N\")","v":"N"},{"$f":"IFERROR(Worksheet!AB384,\"\")","v":0}]
[{"$f":"IF(IFERROR(SEARCH(\"Refrigerated\",Worksheet!L385,1),0)>0,122,IF(ISERROR(RIGHT(VLOOKUP(Worksheet!K385,Type!C$1:E$13,3,FALSE),3))=FALSE,RIGHT(VLOOKUP(Worksheet!K385,Type!C$1:E$13,3,FALSE),3),\"\"))","v":""},{"$f":"IF(Worksheet!M385=\"\",\"\",Worksheet!M385)","v":""},{"$f":"IF(Worksheet!N385=\"\",\"\",Worksheet!N385)","v":""},{"$f":"IF(Worksheet!Y385=0,\"\",Worksheet!Y385)","v":""},"Watts",null,null,{"$f":"Worksheet!AA385","v":0},{"$f":"IF(ISBLANK(Worksheet!V385)=FALSE,Worksheet!V385,\"\")","v":0},{"$f":"Worksheet!AG385","v":0},{"$f":"Worksheet!AF385","v":0},0,{"$f":"IF(ISERROR(SEARCH(\"Gas\",Worksheet!$A$18))=TRUE,0,Worksheet!AH385)","v":0},0,null,null,{"$f":"IF(OR(Worksheet!F385=\"Incandescent\",Worksheet!F385=\"Halogen Incandescent\")=TRUE,118,IF(LEFT(Worksheet!F385,3)=\"HID\",117,IF(OR(RIGHT(Worksheet!F385,3)=\"T12\",RIGHT(Worksheet!F385,5)=\"T12HO\")=TRUE,115,IF(OR(RIGHT(Worksheet!F385,2)=\"T8\",RIGHT(Worksheet!F385,4)=\"RWT8\",RIGHT(Worksheet!F385,4)=\"T8HO\")=TRUE,115,\"\"))))","v":""},{"$f":"IF(ISBLANK(Worksheet!W385)=FALSE,Worksheet!W385,\"\")","v":0},{"$f":"IF(ISERROR(SEARCH(\"Oil\",Worksheet!$A$18))=TRUE,0,Worksheet!AH385)","v":0},0,{"$f":"IF(ISERROR(SEARCH(\"Propane\",Worksheet!$A$18))=TRUE,0,Worksheet!AH385)","v":0},0,{"$f":"IF(Worksheet!J385=0,\"\",Worksheet!J385)","v":""},{"$f":"IF(Worksheet!B385=0,\"\",Worksheet!B385)","v":""},{"$f":"IF(Worksheet!K385=0,\"\",Worksheet!K385)","v":""},{"$f":"IF(Worksheet!L385=0,\"\",Worksheet!L385)","v":""},{"$f":"IF(Worksheet!R385=0,\"\",Worksheet!R385)","v":""},{"$f":"IF(Worksheet!F385=0,\"\",Worksheet!F385)","v":""},{"$f":"IF(Worksheet!G385=0,\"\",Worksheet!G385)","v":""},{"$f":"IF(Worksheet!X385=0,\"\",Worksheet!X385)","v":""},{"$f":"IF(Worksheet!Q385=0,\"\",Worksheet!Q385)","v":""},{"$f":"IF(Worksheet!C385=0,\"\",Worksheet!C385)","v":""},{"$f":"IF(Worksheet!D385=0,\"\",Worksheet!D385)","v":""},{"$f":"IF(Worksheet!$A$11=TRUE,\"Y\",\"N\")","v":"N"},{"$f":"IF(Worksheet!$A$12=TRUE,\"Y\",\"N\")","v":"N"},{"$f":"IF(Worksheet!$B$11=TRUE,\"Y\",\"N\")","v":"N"},{"$f":"IF(Worksheet!$B$12=TRUE,\"Y\",\"N\")","v":"N"},{"$f":"IF(Worksheet!$C$11=TRUE,\"Y\",\"N\")","v":"N"},{"$f":"IFERROR(Worksheet!AB385,\"\")","v":0}]
[{"$f":"IF(IFERROR(SEARCH(\"Refrigerated\",Worksheet!L386,1),0)>0,122,IF(ISERROR(RIGHT(VLOOKUP(Worksheet!K386,Type!C$1:E$13,3,FALSE),3))=FALSE,RIGHT(VLOOKUP(Worksheet!K386,Type!C$1:E$13,3,FALSE),3),\"\"))","v":""},{"$f":"IF(Worksheet!M386=\"\",\"\",Worksheet!M386)","v":""},{"$f":"IF(Worksheet!N386=\"\",\"\",Worksheet!N386)","v":""},{"$f":"IF(Worksheet!Y386=0,\"\",Worksheet!Y386)","v":""},"Watts",null,null,{"$f":"Worksheet!AA386","v":0},{"$f":"IF(ISBLANK(Worksheet!V386)=FALSE,Worksheet!V386,\"\")","v":0},{"$f":"Worksheet!AG386","v":0},{"$f":"Worksheet!AF386","v":0},0,{"$f":"IF(ISERROR(SEARCH(\"Gas\",Worksheet!$A$18))=TRUE,0,Worksheet!AH386)","v":0},0,null,null,{"$f":"IF(OR(Worksheet!F386=\"Incandescent\",Worksheet!F386=\"Halogen Incandescent\")=TRUE,118,IF(LEFT(Worksheet!F386,3)=\"HID\",117,IF(OR(RIGHT(Worksheet!F386,3)=\"T12\",RIGHT(Worksheet!F386,5)=\"T12HO\")=TRUE,115,IF(OR(RIGHT(Worksheet!F386,2)=\"T8\",RIGHT(Worksheet!F386,4)=\"RWT8\",RIGHT(Worksheet!F386,4)=\"T8HO\")=TRUE,115,\"\"))))","v":""},{"$f":"IF(ISBLANK(Worksheet!W386)=FALSE,Worksheet!W386,\"\")","v":0},{"$f":"IF(ISERROR(SEARCH(\"Oil\",Worksheet!$A$18))=TRUE,0,Worksheet!AH386)","v":0},0,{"$f":"IF(ISERROR(SEARCH(\"Propane\",Worksheet!$A$18))=TRUE,0,Worksheet!AH386)","v":0},0,{"$f":"IF(Worksheet!J386=0,\"\",Worksheet!J386)","v":""},{"$f":"IF(Worksheet!B386=0,\"\",Worksheet!B386)","v":""},{"$f":"IF(Worksheet!K386=0,\"\",Worksheet!K386)","v":""},{"$f":"IF(Worksheet!L386=0,\"\",Worksheet!L386)","v":""},{"$f":"IF(Worksheet!R386=0,\"\",Worksheet!R386)","v":""},{"$f":"IF(Worksheet!F386=0,\"\",Worksheet!F386)","v":""},{"$f":"IF(Worksheet!G386=0,\"\",Worksheet!G386)","v":""},{"$f":"IF(Worksheet!X386=0,\"\",Worksheet!X386)","v":""},{"$f":"IF(Worksheet!Q386=0,\"\",Worksheet!Q386)","v":""},{"$f":"IF(Worksheet!C386=0,\"\",Worksheet!C386)","v":""},{"$f":"IF(Worksheet!D386=0,\"\",Worksheet!D386)","v":""},{"$f":"IF(Worksheet!$A$11=TRUE,\"Y\",\"N\")","v":"N"},{"$f":"IF(Worksheet!$A$12=TRUE,\"Y\",\"N\")","v":"N"},{"$f":"IF(Worksheet!$B$11=TRUE,\"Y\",\"N\")","v":"N"},{"$f":"IF(Worksheet!$B$12=TRUE,\"Y\",\"N\")","v":"N"},{"$f":"IF(Worksheet!$C$11=TRUE,\"Y\",\"N\")","v":"N"},{"$f":"IFERROR(Worksheet!AB386,\"\")","v":0}]
[{"$f":"IF(IFERROR(SEARCH(\"Refrigerated\",Worksheet!L387,1),0)>0,122,IF(ISERROR(RIGHT(VLOOKUP(Worksheet!K387,Type!C$1:E$13,3,FALSE),3))=FALSE,RIGHT(VLOOKUP(Worksheet!K387,Type!C$1:E$13,3,FALSE),3),\"\"))","v":""},{"$f":"IF(Worksheet!M387=\"\",\"\",Worksheet!M387)","v":""},{"$f":"IF(Worksheet!N387=\"\",\"\",Worksheet!N387)","v":""},{"$f":"IF(Worksheet!Y387=0,\"\",Worksheet!Y387)","v":""},"Watts",null,null,{"$f":"Worksheet!AA387","v":0},{"$f":"IF(ISBLANK(Worksheet!V387)=FALSE,Worksheet!V387,\"\")","v":0},{"$f":"Worksheet!AG387","v":0},{"$f":"Worksheet!AF387","v":0},0,{"$f":"IF(ISERROR(SEARCH(\"Gas\",Worksheet!$A$18))=TRUE,0,Worksheet!AH387)","v":0},0,null,null,{"$f":"IF(OR(Worksheet!F387=\"Incandescent\",Worksheet!F387=\"Halogen Incandescent\")=TRUE,118,IF(LEFT(Worksheet!F387,3)=\"HID\",117,IF(OR(RIGHT(Worksheet!F387,3)=\"T12\",RIGHT(Worksheet!F387,5)=\"T12HO\")=TRUE,115,IF(OR(RIGHT(Worksheet!F387,2)=\"T8\",RIGHT(Worksheet!F387,4)=\"RWT8\",RIGHT(Worksheet!F387,4)=\"T8HO\")=TRUE,115,\"\"))))","v":""},{"$f":"IF(ISBLANK(Worksheet!W387)=FALSE,Worksheet!W387,\"\")","v":0},{"$f":"IF(ISERROR(SEARCH(\"Oil\",Worksheet!$A$18))=TRUE,0,Worksheet!AH387)","v":0},0,{"$f":"IF(ISERROR(SEARCH(\"Propane\",Worksheet!$A$18))=TRUE,0,Worksheet!AH387)","v":0},0,{"$f":"IF(Worksheet!J387=0,\"\",Worksheet!J387)","v":""},{"$f":"IF(Worksheet!B387=0,\"\",Worksheet!B387)","v":""},{"$f":"IF(Worksheet!K387=0,\"\",Worksheet!K387)","v":""},{"$f":"IF(Worksheet!L387=0,\"\",Worksheet!L387)","v":""},{"$f":"IF(Worksheet!R387=0,\"\",Worksheet!R387)","v":""},{"$f":"IF(Worksheet!F387=0,\"\",Worksheet!F387)","v":""},{"$f":"IF(Worksheet!G387=0,\"\",Worksheet!G387)","v":""},{"$f":"IF(Worksheet!X387=0,\"\",Worksheet!X387)","v":""},{"$f":"IF(Worksheet!Q387=0,\"\",Worksheet!Q387)","v":""},{"$f":"IF(Worksheet!C387=0,\"\",Worksheet!C387)","v":""},{"$f":"IF(Worksheet!D387=0,\"\",Worksheet!D387)","v":""},{"$f":"IF(Worksheet!$A$11=TRUE,\"Y\",\"N\")","v":"N"},{"$f":"IF(Worksheet!$A$12=TRUE,\"Y\",\"N\")","v":"N"},{"$f":"IF(Worksheet!$B$11=TRUE,\"Y\",\"N\")","v":"N"},{"$f":"IF(Worksheet!$B$12=TRUE,\"Y\",\"N\")","v":"N"},{"$f":"IF(Worksheet!$C$11=TRUE,\"Y\",\"N\")","v":"N"},{"$f":"IFERROR(Worksheet!AB387,\"\")","v":0}]
[{"$f":"IF(IFERROR(SEARCH(\"Refrigerated\",Worksheet!L388,1),0)>0,122,IF(ISERROR(RIGHT(VLOOKUP(Worksheet!K388,Type!C$1:E$13,3,FALSE),3))=FALSE,RIGHT(VLOOKUP(Worksheet!K388,Type!C$1:E$13,3,FALSE),3),\"\"))","v":""},{"$f":"IF(Worksheet!M388=\"\",\"\",Worksheet!M388)","v":""},{"$f":"IF(Worksheet!N388=\"\",\"\",Worksheet!N388)","v":""},{"$f":"IF(Worksheet!Y388=0,\"\",Worksheet!Y388)","v":""},"Watts",null,null,{"$f":"Worksheet!AA388","v":0},{"$f":"IF(ISBLANK(Worksheet!V388)=FALSE,Worksheet!V388,\"\")","v":0},{"$f":"Worksheet!AG388","v":0},{"$f":"Worksheet!AF388","v":0},0,{"$f":"IF(ISERROR(SEARCH(\"Gas\",Worksheet!$A$18))=TRUE,0,Worksheet!AH388)","v":0},0,null,null,{"$f":"IF(OR(Worksheet!F388=\"Incandescent\",Worksheet!F388=\"Halogen Incandescent\")=TRUE,118,IF(LEFT(Worksheet!F388,3)=\"HID\",117,IF(OR(RIGHT(Worksheet!F388,3)=\"T12\",RIGHT(Worksheet!F388,5)=\"T12HO\")=TRUE,115,IF(OR(RIGHT(Worksheet!F388,2)=\"T8\",RIGHT(Worksheet!F388,4)=\"RWT8\",RIGHT(Worksheet!F388,4)=\"T8HO\")=TRUE,115,\"\"))))","v":""},{"$f":"IF(ISBLANK(Worksheet!W388)=FALSE,Worksheet!W388,\"\")","v":0},{"$f":"IF(ISERROR(SEARCH(\"Oil\",Worksheet!$A$18))=TRUE,0,Worksheet!AH388)","v":0},0,{"$f":"IF(ISERROR(SEARCH(\"Propane\",Worksheet!$A$18))=TRUE,0,Worksheet!AH388)","v":0},0,{"$f":"IF(Worksheet!J388=0,\"\",Worksheet!J388)","v":""},{"$f":"IF(Worksheet!B388=0,\"\",Worksheet!B388)","v":""},{"$f":"IF(Worksheet!K388=0,\"\",Worksheet!K388)","v":""},{"$f":"IF(Worksheet!L388=0,\"\",Worksheet!L388)","v":""},{"$f":"IF(Worksheet!R388=0,\"\",Worksheet!R388)","v":""},{"$f":"IF(Worksheet!F388=0,\"\",Worksheet!F388)","v":""},{"$f":"IF(Worksheet!G388=0,\"\",Worksheet!G388)","v":""},{"$f":"IF(Worksheet!X388=0,\"\",Worksheet!X388)","v":""},{"$f":"IF(Worksheet!Q388=0,\"\",Worksheet!Q388)","v":""},{"$f":"IF(Worksheet!C388=0,\"\",Worksheet!C388)","v":""},{"$f":"IF(Worksheet!D388=0,\"\",Worksheet!D388)","v":""},{"$f":"IF(Worksheet!$A$11=TRUE,\"Y\",\"N\")","v":"N"},{"$f":"IF(Worksheet!$A$12=TRUE,\"Y\",\"N\")","v":"N"},{"$f":"IF(Worksheet!$B$11=TRUE,\"Y\",\"N\")","v":"N"},{"$f":"IF(Worksheet!$B$12=TRUE,\"Y\",\"N\")","v":"N"},{"$f":"IF(Worksheet!$C$11=TRUE,\"Y\",\"N\")","v":"N"},{"$f":"IFERROR(Worksheet!AB388,\"\")","v":0}]
[{"$f":"IF(IFERROR(SEARCH(\"Refrigerated\",Worksheet!L389,1),0)>0,122,IF(ISERROR(RIGHT(VLOOKUP(Worksheet!K389,Type!C$1:E$13,3,FALSE),3))=FALSE,RIGHT(VLOOKUP(Worksheet!K389,Type!C$1:E$13,3,FALSE),3),\"\"))","v":""},{"$f":"IF(Worksheet!M389=\"\",\"\",Worksheet!M389)","v":""},{"$f":"IF(Worksheet!N389=\"\",\"\",Worksheet!N389)","v":""},{"$f":"IF(Worksheet!Y389=0,\"\",Worksheet!Y389)","v":""},"Watts",null,null,{"$f":"Worksheet!AA389","v":0},{"$f":"IF(ISBLANK(Worksheet!V389)=FALSE,Worksheet!V389,\"\")","v":0},{"$f":"Worksheet!AG389","v":0},{"$f":"Worksheet!AF389","v":0},0,{"$f":"IF(ISERROR(SEARCH(\"Gas\",Worksheet!$A$18))=TRUE,0,Worksheet!AH389)","v":0},0,null,null,{"$f":"IF(OR(Worksheet!F389=\"Incandescent\",Worksheet!F389=\"Halogen Incandescent\")=TRUE,118,IF(LEFT(Worksheet!F389,3)=\"HID\",117,IF(OR(RIGHT(Worksheet!F389,3)=\"T12\",RIGHT(Worksheet!F389,5)=\"T12HO\")=TRUE,115,IF(OR(RIGHT(Worksheet!F389,2)=\"T8\",RIGHT(Worksheet!F389,4)=\"RWT8\",RIGHT(Worksheet!F389,4)=\"T8HO\")=TRUE,115,\"\"))))","v":""},{"$f":"IF(ISBLANK(Worksheet!W389)=FALSE,Worksheet!W389,\"\")","v":0},{"$f":"IF(ISERROR(SEARCH(\"Oil\",Worksheet!$A$18))=TRUE,0,Worksheet!AH389)","v":0},0,{"$f":"IF(ISERROR(SEARCH(\"Propane\",Worksheet!$A$18))=TRUE,0,Worksheet!AH389)","v":0},0,{"$f":"IF(Worksheet!J389=0,\"\",Worksheet!J389)","v":""},{"$f":"IF(Worksheet!B389=0,\"\",Worksheet!B389)","v":""},{"$f":"IF(Worksheet!K389=0,\"\",Worksheet!K389)","v":""},{"$f":"IF(Worksheet!L389=0,\"\",Worksheet!L389)","v":""},{"$f":"IF(Worksheet!R389=0,\"\",Worksheet!R389)","v":""},{"$f":"IF(Worksheet!F389=0,\"\",Worksheet!F389)","v":""},{"$f":"IF(Worksheet!G389=0,\"\",Worksheet!G389)","v":""},{"$f":"IF(Worksheet!X389=0,\"\",Worksheet!X389)","v":""},{"$f":"IF(Worksheet!Q389=0,\"\",Worksheet!Q389)","v":""},{"$f":"IF(Worksheet!C389=0,\"\",Worksheet!C389)","v":""},{"$f":"IF(Worksheet!D389=0,\"\",Worksheet!D389)","v":""},{"$f":"IF(Worksheet!$A$11=TRUE,\"Y\",\"N\")","v":"N"},{"$f":"IF(Worksheet!$A$12=TRUE,\"Y\",\"N\")","v":"N"},{"$f":"IF(Worksheet!$B$11=TRUE,\"Y\",\"N\")","v":"N"},{"$f":"IF(Worksheet!$B$12=TRUE,\"Y\",\"N\")","v":"N"},{"$f":"IF(Worksheet!$C$11=TRUE,\"Y\",\"N\")","v":"N"},{"$f":"IFERROR(Worksheet!AB389,\"\")","v":0}]
[{"$f":"IF(IFERROR(SEARCH(\"Refrigerated\",Worksheet!L390,1),0)>0,122,IF(ISERROR(RIGHT(VLOOKUP(Worksheet!K390,Type!C$1:E$13,3,FALSE),3))=FALSE,RIGHT(VLOOKUP(Worksheet!K390,Type!C$1:E$13,3,FALSE),3),\"\"))","v":""},{"$f":"IF(Worksheet!M390=\"\",\"\",Worksheet!M390)","v":""},{"$f":"IF(Worksheet!N390=\"\",\"\",Worksheet!N390)","v":""},{"$f":"IF(Worksheet!Y390=0,\"\",Worksheet!Y390)","v":""},"Watts",null,null,{"$f":"Worksheet!AA390","v":0},{"$f":"IF(ISBLANK(Worksheet!V390)=FALSE,Worksheet!V390,\"\")","v":0},{"$f":"Worksheet!AG390","v":0},{"$f":"Worksheet!AF390","v":0},0,{"$f":"IF(ISERROR(SEARCH(\"Gas\",Worksheet!$A$18))=TRUE,0,Worksheet!AH390)","v":0},0,null,null,{"$f":"IF(OR(Worksheet!F390=\"Incandescent\",Worksheet!F390=\"Halogen Incandescent\")=TRUE,118,IF(LEFT(Worksheet!F390,3)=\"HID\",117,IF(OR(RIGHT(Worksheet!F390,3)=\"T12\",RIGHT(Worksheet!F390,5)=\"T12HO\")=TRUE,115,IF(OR(RIGHT(Worksheet!F390,2)=\"T8\",RIGHT(Worksheet!F390,4)=\"RWT8\",RIGHT(Worksheet!F390,4)=\"T8HO\")=TRUE,115,\"\"))))","v":""},{"$f":"IF(ISBLANK(Worksheet!W390)=FALSE,Worksheet!W390,\"\")","v":0},{"$f":"IF(ISERROR(SEARCH(\"Oil\",Worksheet!$A$18))=TRUE,0,Worksheet!AH390)","v":0},0,{"$f":"IF(ISERROR(SEARCH(\"Propane\",Worksheet!$A$18))=TRUE,0,Worksheet!AH390)","v":0},0,{"$f":"IF(Worksheet!J390=0,\"\",Worksheet!J390)","v":""},{"$f":"IF(Worksheet!B390=0,\"\",Worksheet!B390)","v":""},{"$f":"IF(Worksheet!K390=0,\"\",Worksheet!K390)","v":""},{"$f":"IF(Worksheet!L390=0,\"\",Worksheet!L390)","v":""},{"$f":"IF(Worksheet!R390=0,\"\",Worksheet!R390)","v":""},{"$f":"IF(Worksheet!F390=0,\"\",Worksheet!F390)","v":""},{"$f":"IF(Worksheet!G390=0,\"\",Worksheet!G390)","v":""},{"$f":"IF(Worksheet!X390=0,\"\",Worksheet!X390)","v":""},{"$f":"IF(Worksheet!Q390=0,\"\",Worksheet!Q390)","v":""},{"$f":"IF(Worksheet!C390=0,\"\",Worksheet!C390)","v":""},{"$f":"IF(Worksheet!D390=0,\"\",Worksheet!D390)","v":""},{"$f":"IF(Worksheet!$A$11=TRUE,\"Y\",\"N\")","v":"N"},{"$f":"IF(Worksheet!$A$12=TRUE,\"Y\",\"N\")","v":"N"},{"$f":"IF(Worksheet!$B$11=TRUE,\"Y\",\"N\")","v":"N"},{"$f":"IF(Worksheet!$B$12=TRUE,\"Y\",\"N\")","v":"N"},{"$f":"IF(Worksheet!$C$11=TRUE,\"Y\",\"N\")","v":"N"},{"$f":"IFERROR(Worksheet!AB390,\"\")","v":0}]
[{"$f":"IF(IFERROR(SEARCH(\"Refrigerated\",Worksheet!L391,1),0)>0,122,IF(ISERROR(RIGHT(VLOOKUP(Worksheet!K391,Type!C$1:E$13,3,FALSE),3))=FALSE,RIGHT(VLOOKUP(Worksheet!K391,Type!C$1:E$13,3,FALSE),3),\"\"))","v":""},{"$f":"IF(Worksheet!M391=\"\",\"\",Worksheet!M391)","v":""},{"$f":"IF(Worksheet!N391=\"\",\"\",Worksheet!N391)","v":""},{"$f":"IF(Worksheet!Y391=0,\"\",Worksheet!Y391)","v":""},"Watts",null,null,{"$f":"Worksheet!AA391","v":0},{"$f":"IF(ISBLANK(Worksheet!V391)=FALSE,Worksheet!V391,\"\")","v":0},{"$f":"Worksheet!AG391","v":0},{"$f":"Worksheet!AF391","v":0},0,{"$f":"IF(ISERROR(SEARCH(\"Gas\",Worksheet!$A$18))=TRUE,0,Worksheet!AH391)","v":0},0,null,null,{"$f":"IF(OR(Worksheet!F391=\"Incandescent\",Worksheet!F391=\"Halogen Incandescent\")=TRUE,118,IF(LEFT(Worksheet!F391,3)=\"HID\",117,IF(OR(RIGHT(Worksheet!F391,3)=\"T12\",RIGHT(Worksheet!F391,5)=\"T12HO\")=TRUE,115,IF(OR(RIGHT(Worksheet!F391,2)=\"T8\",RIGHT(Worksheet!F391,4)=\"RWT8\",RIGHT(Worksheet!F391,4)=\"T8HO\")=TRUE,115,\"\"))))","v":""},{"$f":"IF(ISBLANK(Worksheet!W391)=FALSE,Worksheet!W391,\"\")","v":0},{"$f":"IF(ISERROR(SEARCH(\"Oil\",Worksheet!$A$18))=TRUE,0,Worksheet!AH391)","v":0},0,{"$f":"IF(ISERROR(SEARCH(\"Propane\",Worksheet!$A$18))=TRUE,0,Worksheet!AH391)","v":0},0,{"$f":"IF(Worksheet!J391=0,\"\",Worksheet!J391)","v":""},{"$f":"IF(Worksheet!B391=0,\"\",Worksheet!B391)","v":""},{"$f":"IF(Worksheet!K391=0,\"\",Worksheet!K391)","v":""},{"$f":"IF(Worksheet!L391=0,\"\",Worksheet!L391)","v":""},{"$f":"IF(Worksheet!R391=0,\"\",Worksheet!R391)","v":""},{"$f":"IF(Worksheet!F391=0,\"\",Worksheet!F391)","v":""},{"$f":"IF(Worksheet!G391=0,\"\",Worksheet!G391)","v":""},{"$f":"IF(Worksheet!X391=0,\"\",Worksheet!X391)","v":""},{"$f":"IF(Worksheet!Q391=0,\"\",Worksheet!Q391)","v":""},{"$f":"IF(Worksheet!C391=0,\"\",Worksheet!C391)","v":""},{"$f":"IF(Worksheet!D391=0,\"\",Worksheet!D391)","v":""},{"$f":"IF(Worksheet!$A$11=TRUE,\"Y\",\"N\")","v":"N"},{"$f":"IF(Worksheet!$A$12=TRUE,\"Y\",\"N\")","v":"N"},{"$f":"IF(Worksheet!$B$11=TRUE,\"Y\",\"N\")","v":"N"},{"$f":"IF(Worksheet!$B$12=TRUE,\"Y\",\"N\")","v":"N"},{"$f":"IF(Worksheet!$C$11=TRUE,\"Y\",\"N\")","v":"N"},{"$f":"IFERROR(Worksheet!AB391,\"\")","v":0}]
[{"$f":"IF(IFERROR(SEARCH(\"Refrigerated\",Worksheet!L392,1),0)>0,122,IF(ISERROR(RIGHT(VLOOKUP(Worksheet!K392,Type!C$1:E$13,3,FALSE),3))=FALSE,RIGHT(VLOOKUP(Worksheet!K392,Type!C$1:E$13,3,FALSE),3),\"\"))","v":""},{"$f":"IF(Worksheet!M392=\"\",\"\",Worksheet!M392)","v":""},{"$f":"IF(Worksheet!N392=\"\",\"\",Worksheet!N392)","v":""},{"$f":"IF(Worksheet!Y392=0,\"\",Worksheet!Y392)","v":""},"Watts",null,null,{"$f":"Worksheet!AA392","v":0},{"$f":"IF(ISBLANK(Worksheet!V392)=FALSE,Worksheet!V392,\"\")","v":0},{"$f":"Worksheet!AG392","v":0},{"$f":"Worksheet!AF392","v":0},0,{"$f":"IF(ISERROR(SEARCH(\"Gas\",Worksheet!$A$18))=TRUE,0,Worksheet!AH392)","v":0},0,null,null,{"$f":"IF(OR(Worksheet!F392=\"Incandescent\",Worksheet!F392=\"Halogen Incandescent\")=TRUE,118,IF(LEFT(Worksheet!F392,3)=\"HID\",117,IF(OR(RIGHT(Worksheet!F392,3)=\"T12\",RIGHT(Worksheet!F392,5)=\"T12HO\")=TRUE,115,IF(OR(RIGHT(Worksheet!F392,2)=\"T8\",RIGHT(Worksheet!F392,4)=\"RWT8\",RIGHT(Worksheet!F392,4)=\"T8HO\")=TRUE,115,\"\"))))","v":""},{"$f":"IF(ISBLANK(Worksheet!W392)=FALSE,Worksheet!W392,\"\")","v":0},{"$f":"IF(ISERROR(SEARCH(\"Oil\",Worksheet!$A$18))=TRUE,0,Worksheet!AH392)","v":0},0,{"$f":"IF(ISERROR(SEARCH(\"Propane\",Worksheet!$A$18))=TRUE,0,Worksheet!AH392)","v":0},0,{"$f":"IF(Worksheet!J392=0,\"\",Worksheet!J392)","v":""},{"$f":"IF(Worksheet!B392=0,\"\",Worksheet!B392)","v":""},{"$f":"IF(Worksheet!K392=0,\"\",Worksheet!K392)","v":""},{"$f":"IF(Worksheet!L392=0,\"\",Worksheet!L392)","v":""},{"$f":"IF(Worksheet!R392=0,\"\",Worksheet!R392)","v":""},{"$f":"IF(Worksheet!F392=0,\"\",Worksheet!F392)","v":""},{"$f":"IF(Worksheet!G392=0,\"\",Worksheet!G392)","v":""},{"$f":"IF(Worksheet!X392=0,\"\",Worksheet!X392)","v":""},{"$f":"IF(Worksheet!Q392=0,\"\",Worksheet!Q392)","v":""},{"$f":"IF(Worksheet!C392=0,\"\",Worksheet!C392)","v":""},{"$f":"IF(Worksheet!D392=0,\"\",Worksheet!D392)","v":""},{"$f":"IF(Worksheet!$A$11=TRUE,\"Y\",\"N\")","v":"N"},{"$f":"IF(Worksheet!$A$12=TRUE,\"Y\",\"N\")","v":"N"},{"$f":"IF(Worksheet!$B$11=TRUE,\"Y\",\"N\")","v":"N"},{"$f":"IF(Worksheet!$B$12=TRUE,\"Y\",\"N\")","v":"N"},{"$f":"IF(Worksheet!$C$11=TRUE,\"Y\",\"N\")","v":"N"},{"$f":"IFERROR(Worksheet!AB392,\"\")","v":0}]
[{"$f":"IF(IFERROR(SEARCH(\"Refrigerated\",Worksheet!L393,1),0)>0,122,IF(ISERROR(RIGHT(VLOOKUP(Worksheet!K393,Type!C$1:E$13,3,FALSE),3))=FALSE,RIGHT(VLOOKUP(Worksheet!K393,Type!C$1:E$13,3,FALSE),3),\"\"))","v":""},{"$f":"IF(Worksheet!M393=\"\",\"\",Worksheet!M393)","v":""},{"$f":"IF(Worksheet!N393=\"\",\"\",Worksheet!N393)","v":""},{"$f":"IF(Worksheet!Y393=0,\"\",Worksheet!Y393)","v":""},"Watts",null,null,{"$f":"Worksheet!AA393","v":0},{"$f":"IF(ISBLANK(Worksheet!V393)=FALSE,Worksheet!V393,\"\")","v":0},{"$f":"Worksheet!AG393","v":0},{"$f":"Worksheet!AF393","v":0},0,{"$f":"IF(ISERROR(SEARCH(\"Gas\",Worksheet!$A$18))=TRUE,0,Worksheet!AH393)","v":0},0,null,null,{"$f":"IF(OR(Worksheet!F393=\"Incandescent\",Worksheet!F393=\"Halogen Incandescent\")=TRUE,118,IF(LEFT(Worksheet!F393,3)=\"HID\",117,IF(OR(RIGHT(Worksheet!F393,3)=\"T12\",RIGHT(Worksheet!F393,5)=\"T12HO\")=TRUE,115,IF(OR(RIGHT(Worksheet!F393,2)=\"T8\",RIGHT(Worksheet!F393,4)=\"RWT8\",RIGHT(Worksheet!F393,4)=\"T8HO\")=TRUE,115,\"\"))))","v":""},{"$f":"IF(ISBLANK(Worksheet!W393)=FALSE,Worksheet!W393,\"\")","v":0},{"$f":"IF(ISERROR(SEARCH(\"Oil\",Worksheet!$A$18))=TRUE,0,Worksheet!AH393)","v":0},0,{"$f":"IF(ISERROR(SEARCH(\"Propane\",Worksheet!$A$18))=TRUE,0,Worksheet!AH393)","v":0},0,{"$f":"IF(Worksheet!J393=0,\"\",Worksheet!J393)","v":""},{"$f":"IF(Worksheet!B393=0,\"\",Worksheet!B393)","v":""},{"$f":"IF(Worksheet!K393=0,\"\",Worksheet!K393)","v":""},{"$f":"IF(Worksheet!L393=0,\"\",Worksheet!L393)","v":""},{"$f":"IF(Worksheet!R393=0,\"\",Worksheet!R393)","v":""},{"$f":"IF(Worksheet!F393=0,\"\",Worksheet!F393)","v":""},{"$f":"IF(Worksheet!G393=0,\"\",Worksheet!G393)","v":""},{"$f":"IF(Worksheet!X393=0,\"\",Worksheet!X393)","v":""},{"$f":"IF(Worksheet!Q393=0,\"\",Worksheet!Q393)","v":""},{"$f":"IF(Worksheet!C393=0,\"\",Worksheet!C393)","v":""},{"$f":"IF(Worksheet!D393=0,\"\",Worksheet!D393)","v":""},{"$f":"IF(Worksheet!$A$11=TRUE,\"Y\",\"N\")","v":"N"},{"$f":"IF(Worksheet!$A$12=TRUE,\"Y\",\"N\")","v":"N"},{"$f":"IF(Worksheet!$B$11=TRUE,\"Y\",\"N\")","v":"N"},{"$f":"IF(Worksheet!$B$12=TRUE,\"Y\",\"N\")","v":"N"},{"$f":"IF(Worksheet!$C$11=TRUE,\"Y\",\"N\")","v":"N"},{"$f":"IFERROR(Worksheet!AB393,\"\")","v":0}]
[{"$f":"IF(IFERROR(SEARCH(\"Refrigerated\",Worksheet!L394,1),0)>0,122,IF(ISERROR(RIGHT(VLOOKUP(Worksheet!K394,Type!C$1:E$13,3,FALSE),3))=FALSE,RIGHT(VLOOKUP(Worksheet!K394,Type!C$1:E$13,3,FALSE),3),\"\"))","v":""},{"$f":"IF(Worksheet!M394=\"\",\"\",Worksheet!M394)","v":""},{"$f":"IF(Worksheet!N394=\"\",\"\",Worksheet!N394)","v":""},{"$f":"IF(Worksheet!Y394=0,\"\",Worksheet!Y394)","v":""},"Watts",null,null,{"$f":"Worksheet!AA394","v":0},{"$f":"IF(ISBLANK(Worksheet!V394)=FALSE,Worksheet!V394,\"\")","v":0},{"$f":"Worksheet!AG394","v":0},{"$f":"Worksheet!AF394","v":0},0,{"$f":"IF(ISERROR(SEARCH(\"Gas\",Worksheet!$A$18))=TRUE,0,Worksheet!AH394)","v":0},0,null,null,{"$f":"IF(OR(Worksheet!F394=\"Incandescent\",Worksheet!F394=\"Halogen Incandescent\")=TRUE,118,IF(LEFT(Worksheet!F394,3)=\"HID\",117,IF(OR(RIGHT(Worksheet!F394,3)=\"T12\",RIGHT(Worksheet!F394,5)=\"T12HO\")=TRUE,115,IF(OR(RIGHT(Worksheet!F394,2)=\"T8\",RIGHT(Worksheet!F394,4)=\"RWT8\",RIGHT(Worksheet!F394,4)=\"T8HO\")=TRUE,115,\"\"))))","v":""},{"$f":"IF(ISBLANK(Worksheet!W394)=FALSE,Worksheet!W394,\"\")","v":0},{"$f":"IF(ISERROR(SEARCH(\"Oil\",Worksheet!$A$18))=TRUE,0,Worksheet!AH394)","v":0},0,{"$f":"IF(ISERROR(SEARCH(\"Propane\",Worksheet!$A$18))=TRUE,0,Worksheet!AH394)","v":0},0,{"$f":"IF(Worksheet!J394=0,\"\",Worksheet!J394)","v":""},{"$f":"IF(Worksheet!B394=0,\"\",Worksheet!B394)","v":""},{"$f":"IF(Worksheet!K394=0,\"\",Worksheet!K394)","v":""},{"$f":"IF(Worksheet!L394=0,\"\",Worksheet!L394)","v":""},{"$f":"IF(Worksheet!R394=0,\"\",Worksheet!R394)","v":""},{"$f":"IF(Worksheet!F394=0,\"\",Worksheet!F394)","v":""},{"$f":"IF(Worksheet!G394=0,\"\",Worksheet!G394)","v":""},{"$f":"IF(Worksheet!X394=0,\"\",Worksheet!X394)","v":""},{"$f":"IF(Worksheet!Q394=0,\"\",Worksheet!Q394)","v":""},{"$f":"IF(Worksheet!C394=0,\"\",Worksheet!C394)","v":""},{"$f":"IF(Worksheet!D394=0,\"\",Worksheet!D394)","v":""},{"$f":"IF(Worksheet!$A$11=TRUE,\"Y\",\"N\")","v":"N"},{"$f":"IF(Worksheet!$A$12=TRUE,\"Y\",\"N\")","v":"N"},{"$f":"IF(Worksheet!$B$11=TRUE,\"Y\",\"N\")","v":"N"},{"$f":"IF(Worksheet!$B$12=TRUE,\"Y\",\"N\")","v":"N"},{"$f":"IF(Worksheet!$C$11=TRUE,\"Y\",\"N\")","v":"N"},{"$f":"IFERROR(Worksheet!AB394,\"\")","v":0}]
[{"$f":"IF(IFERROR(SEARCH(\"Refrigerated\",Worksheet!L395,1),0)>0,122,IF(ISERROR(RIGHT(VLOOKUP(Worksheet!K395,Type!C$1:E$13,3,FALSE),3))=FALSE,RIGHT(VLOOKUP(Worksheet!K395,Type!C$1:E$13,3,FALSE),3),\"\"))","v":""},{"$f":"IF(Worksheet!M395=\"\",\"\",Worksheet!M395)","v":""},{"$f":"IF(Worksheet!N395=\"\",\"\",Worksheet!N395)","v":""},{"$f":"IF(Worksheet!Y395=0,\"\",Worksheet!Y395)","v":""},"Watts",null,null,{"$f":"Worksheet!AA395","v":0},{"$f":"IF(ISBLANK(Worksheet!V395)=FALSE,Worksheet!V395,\"\")","v":0},{"$f":"Worksheet!AG395","v":0},{"$f":"Worksheet!AF395","v":0},0,{"$f":"IF(ISERROR(SEARCH(\"Gas\",Worksheet!$A$18))=TRUE,0,Worksheet!AH395)","v":0},0,null,null,{"$f":"IF(OR(Worksheet!F395=\"Incandescent\",Worksheet!F395=\"Halogen Incandescent\")=TRUE,118,IF(LEFT(Worksheet!F395,3)=\"HID\",117,IF(OR(RIGHT(Worksheet!F395,3)=\"T12\",RIGHT(Worksheet!F395,5)=\"T12HO\")=TRUE,115,IF(OR(RIGHT(Worksheet!F395,2)=\"T8\",RIGHT(Worksheet!F395,4)=\"RWT8\",RIGHT(Worksheet!F395,4)=\"T8HO\")=TRUE,115,\"\"))))","v":""},{"$f":"IF(ISBLANK(Worksheet!W395)=FALSE,Worksheet!W395,\"\")","v":0},{"$f":"IF(ISERROR(SEARCH(\"Oil\",Worksheet!$A$18))=TRUE,0,Worksheet!AH395)","v":0},0,{"$f":"IF(ISERROR(SEARCH(\"Propane\",Worksheet!$A$18))=TRUE,0,Worksheet!AH395)","v":0},0,{"$f":"IF(Worksheet!J395=0,\"\",Worksheet!J395)","v":""},{"$f":"IF(Worksheet!B395=0,\"\",Worksheet!B395)","v":""},{"$f":"IF(Worksheet!K395=0,\"\",Worksheet!K395)","v":""},{"$f":"IF(Worksheet!L395=0,\"\",Worksheet!L395)","v":""},{"$f":"IF(Worksheet!R395=0,\"\",Worksheet!R395)","v":""},{"$f":"IF(Worksheet!F395=0,\"\",Worksheet!F395)","v":""},{"$f":"IF(Worksheet!G395=0,\"\",Worksheet!G395)","v":""},{"$f":"IF(Worksheet!X395=0,\"\",Worksheet!X395)","v":""},{"$f":"IF(Worksheet!Q395=0,\"\",Worksheet!Q395)","v":""},{"$f":"IF(Worksheet!C395=0,\"\",Worksheet!C395)","v":""},{"$f":"IF(Worksheet!D395=0,\"\",Worksheet!D395)","v":""},{"$f":"IF(Worksheet!$A$11=TRUE,\"Y\",\"N\")","v":"N"},{"$f":"IF(Worksheet!$A$12=TRUE,\"Y\",\"N\")","v":"N"},{"$f":"IF(Worksheet!$B$11=TRUE,\"Y\",\"N\")","v":"N"},{"$f":"IF(Worksheet!$B$12=TRUE,\"Y\",\"N\")","v":"N"},{"$f":"IF(Worksheet!$C$11=TRUE,\"Y\",\"N\")","v":"N"},{"$f":"IFERROR(Worksheet!AB395,\"\")","v":0}]
[{"$f":"IF(IFERROR(SEARCH(\"Refrigerated\",Worksheet!L396,1),0)>0,122,IF(ISERROR(RIGHT(VLOOKUP(Worksheet!K396,Type!C$1:E$13,3,FALSE),3))=FALSE,RIGHT(VLOOKUP(Worksheet!K396,Type!C$1:E$13,3,FALSE),3),\"\"))","v":""},{"$f":"IF(Worksheet!M396=\"\",\"\",Worksheet!M396)","v":""},{"$f":"IF(Worksheet!N396=\"\",\"\",Worksheet!N396)","v":""},{"$f":"IF(Worksheet!Y396=0,\"\",Worksheet!Y396)","v":""},"Watts",null,null,{"$f":"Worksheet!AA396","v":0},{"$f":"IF(ISBLANK(Worksheet!V396)=FALSE,Worksheet!V396,\"\")","v":0},{"$f":"Worksheet!AG396","v":0},{"$f":"Worksheet!AF396","v":0},0,{"$f":"IF(ISERROR(SEARCH(\"Gas\",Worksheet!$A$18))=TRUE,0,Worksheet!AH396)","v":0},0,null,null,{"$f":"IF(OR(Worksheet!F396=\"Incandescent\",Worksheet!F396=\"Halogen Incandescent\")=TRUE,118,IF(LEFT(Worksheet!F396,3)=\"HID\",117,IF(OR(RIGHT(Worksheet!F396,3)=\"T12\",RIGHT(Worksheet!F396,5)=\"T12HO\")=TRUE,115,IF(OR(RIGHT(Worksheet!F396,2)=\"T8\",RIGHT(Worksheet!F396,4)=\"RWT8\",RIGHT(Worksheet!F396,4)=\"T8HO\")=TRUE,115,\"\"))))","v":""},{"$f":"IF(ISBLANK(Worksheet!W396)=FALSE,Worksheet!W396,\"\")","v":0},{"$f":"IF(ISERROR(SEARCH(\"Oil\",Worksheet!$A$18))=TRUE,0,Worksheet!AH396)","v":0},0,{"$f":"IF(ISERROR(SEARCH(\"Propane\",Worksheet!$A$18))=TRUE,0,Worksheet!AH396)","v":0},0,{"$f":"IF(Worksheet!J396=0,\"\",Worksheet!J396)","v":""},{"$f":"IF(Worksheet!B396=0,\"\",Worksheet!B396)","v":""},{"$f":"IF(Worksheet!K396=0,\"\",Worksheet!K396)","v":""},{"$f":"IF(Worksheet!L396=0,\"\",Worksheet!L396)","v":""},{"$f":"IF(Worksheet!R396=0,\"\",Worksheet!R396)","v":""},{"$f":"IF(Worksheet!F396=0,\"\",Worksheet!F396)","v":""},{"$f":"IF(Worksheet!G396=0,\"\",Worksheet!G396)","v":""},{"$f":"IF(Worksheet!X396=0,\"\",Worksheet!X396)","v":""},{"$f":"IF(Worksheet!Q396=0,\"\",Worksheet!Q396)","v":""},{"$f":"IF(Worksheet!C396=0,\"\",Worksheet!C396)","v":""},{"$f":"IF(Worksheet!D396=0,\"\",Worksheet!D396)","v":""},{"$f":"IF(Worksheet!$A$11=TRUE,\"Y\",\"N\")","v":"N"},{"$f":"IF(Worksheet!$A$12=TRUE,\"Y\",\"N\")","v":"N"},{"$f":"IF(Worksheet!$B$11=TRUE,\"Y\",\"N\")","v":"N"},{"$f":"IF(Worksheet!$B$12=TRUE,\"Y\",\"N\")","v":"N"},{"$f":"IF(Worksheet!$C$11=TRUE,\"Y\",\"N\")","v":"N"},{"$f":"IFERROR(Worksheet!AB396,\"\")","v":0}]
[{"$f":"IF(IFERROR(SEARCH(\"Refrigerated\",Worksheet!L397,1),0)>0,122,IF(ISERROR(RIGHT(VLOOKUP(Worksheet!K397,Type!C$1:E$13,3,FALSE),3))=FALSE,RIGHT(VLOOKUP(Worksheet!K397,Type!C$1:E$13,3,FALSE),3),\"\"))","v":""},{"$f":"IF(Worksheet!M397=\"\",\"\",Worksheet!M397)","v":""},{"$f":"IF(Worksheet!N397=\"\",\"\",Worksheet!N397)","v":""},{"$f":"IF(Worksheet!Y397=0,\"\",Worksheet!Y397)","v":""},"Watts",null,null,{"$f":"Worksheet!AA397","v":0},{"$f":"IF(ISBLANK(Worksheet!V397)=FALSE,Worksheet!V397,\"\")","v":0},{"$f":"Worksheet!AG397","v":0},{"$f":"Worksheet!AF397","v":0},0,{"$f":"IF(ISERROR(SEARCH(\"Gas\",Worksheet!$A$18))=TRUE,0,Worksheet!AH397)","v":0},0,null,null,{"$f":"IF(OR(Worksheet!F397=\"Incandescent\",Worksheet!F397=\"Halogen Incandescent\")=TRUE,118,IF(LEFT(Worksheet!F397,3)=\"HID\",117,IF(OR(RIGHT(Worksheet!F397,3)=\"T12\",RIGHT(Worksheet!F397,5)=\"T12HO\")=TRUE,115,IF(OR(RIGHT(Worksheet!F397,2)=\"T8\",RIGHT(Worksheet!F397,4)=\"RWT8\",RIGHT(Worksheet!F397,4)=\"T8HO\")=TRUE,115,\"\"))))","v":""},{"$f":"IF(ISBLANK(Worksheet!W397)=FALSE,Worksheet!W397,\"\")","v":0},{"$f":"IF(ISERROR(SEARCH(\"Oil\",Worksheet!$A$18))=TRUE,0,Worksheet!AH397)","v":0},0,{"$f":"IF(ISERROR(SEARCH(\"Propane\",Worksheet!$A$18))=TRUE,0,Worksheet!AH397)","v":0},0,{"$f":"IF(Worksheet!J397=0,\"\",Worksheet!J397)","v":""},{"$f":"IF(Worksheet!B397=0,\"\",Worksheet!B397)","v":""},{"$f":"IF(Worksheet!K397=0,\"\",Worksheet!K397)","v":""},{"$f":"IF(Worksheet!L397=0,\"\",Worksheet!L397)","v":""},{"$f":"IF(Worksheet!R397=0,\"\",Worksheet!R397)","v":""},{"$f":"IF(Worksheet!F397=0,\"\",Worksheet!F397)","v":""},{"$f":"IF(Worksheet!G397=0,\"\",Worksheet!G397)","v":""},{"$f":"IF(Worksheet!X397=0,\"\",Worksheet!X397)","v":""},{"$f":"IF(Worksheet!Q397=0,\"\",Worksheet!Q397)","v":""},{"$f":"IF(Worksheet!C397=0,\"\",Worksheet!C397)","v":""},{"$f":"IF(Worksheet!D397=0,\"\",Worksheet!D397)","v":""},{"$f":"IF(Worksheet!$A$11=TRUE,\"Y\",\"N\")","v":"N"},{"$f":"IF(Worksheet!$A$12=TRUE,\"Y\",\"N\")","v":"N"},{"$f":"IF(Worksheet!$B$11=TRUE,\"Y\",\"N\")","v":"N"},{"$f":"IF(Worksheet!$B$12=TRUE,\"Y\",\"N\")","v":"N"},{"$f":"IF(Worksheet!$C$11=TRUE,\"Y\",\"N\")","v":"N"},{"$f":"IFERROR(Worksheet!AB397,\"\")","v":0}]
[{"$f":"IF(IFERROR(SEARCH(\"Refrigerated\",Worksheet!L398,1),0)>0,122,IF(ISERROR(RIGHT(VLOOKUP(Worksheet!K398,Type!C$1:E$13,3,FALSE),3))=FALSE,RIGHT(VLOOKUP(Worksheet!K398,Type!C$1:E$13,3,FALSE),3),\"\"))","v":""},{"$f":"IF(Worksheet!M398=\"\",\"\",Worksheet!M398)","v":""},{"$f":"IF(Worksheet!N398=\"\",\"\",Worksheet!N398)","v":""},{"$f":"IF(Worksheet!Y398=0,\"\",Worksheet!Y398)","v":""},"Watts",null,null,{"$f":"Worksheet!AA398","v":0},{"$f":"IF(ISBLANK(Worksheet!V398)=FALSE,Worksheet!V398,\"\")","v":0},{"$f":"Worksheet!AG398","v":0},{"$f":"Worksheet!AF398","v":0},0,{"$f":"IF(ISERROR(SEARCH(\"Gas\",Worksheet!$A$18))=TRUE,0,Worksheet!AH398)","v":0},0,null,null,{"$f":"IF(OR(Worksheet!F398=\"Incandescent\",Worksheet!F398=\"Halogen Incandescent\")=TRUE,118,IF(LEFT(Worksheet!F398,3)=\"HID\",117,IF(OR(RIGHT(Worksheet!F398,3)=\"T12\",RIGHT(Worksheet!F398,5)=\"T12HO\")=TRUE,115,IF(OR(RIGHT(Worksheet!F398,2)=\"T8\",RIGHT(Worksheet!F398,4)=\"RWT8\",RIGHT(Worksheet!F398,4)=\"T8HO\")=TRUE,115,\"\"))))","v":""},{"$f":"IF(ISBLANK(Worksheet!W398)=FALSE,Worksheet!W398,\"\")","v":0},{"$f":"IF(ISERROR(SEARCH(\"Oil\",Worksheet!$A$18))=TRUE,0,Worksheet!AH398)","v":0},0,{"$f":"IF(ISERROR(SEARCH(\"Propane\",Worksheet!$A$18))=TRUE,0,Worksheet!AH398)","v":0},0,{"$f":"IF(Worksheet!J398=0,\"\",Worksheet!J398)","v":""},{"$f":"IF(Worksheet!B398=0,\"\",Worksheet!B398)","v":""},{"$f":"IF(Worksheet!K398=0,\"\",Worksheet!K398)","v":""},{"$f":"IF(Worksheet!L398=0,\"\",Worksheet!L398)","v":""},{"$f":"IF(Worksheet!R398=0,\"\",Worksheet!R398)","v":""},{"$f":"IF(Worksheet!F398=0,\"\",Worksheet!F398)","v":""},{"$f":"IF(Worksheet!G398=0,\"\",Worksheet!G398)","v":""},{"$f":"IF(Worksheet!X398=0,\"\",Worksheet!X398)","v":""},{"$f":"IF(Worksheet!Q398=0,\"\",Worksheet!Q398)","v":""},{"$f":"IF(Worksheet!C398=0,\"\",Worksheet!C398)","v":""},{"$f":"IF(Worksheet!D398=0,\"\",Worksheet!D398)","v":""},{"$f":"IF(Worksheet!$A$11=TRUE,\"Y\",\"N\")","v":"N"},{"$f":"IF(Worksheet!$A$12=TRUE,\"Y\",\"N\")","v":"N"},{"$f":"IF(Worksheet!$B$11=TRUE,\"Y\",\"N\")","v":"N"},{"$f":"IF(Worksheet!$B$12=TRUE,\"Y\",\"N\")","v":"N"},{"$f":"IF(Worksheet!$C$11=TRUE,\"Y\",\"N\")","v":"N"},{"$f":"IFERROR(Worksheet!AB398,\"\")","v":0}]
[{"$f":"IF(IFERROR(SEARCH(\"Refrigerated\",Worksheet!L399,1),0)>0,122,IF(ISERROR(RIGHT(VLOOKUP(Worksheet!K399,Type!C$1:E$13,3,FALSE),3))=FALSE,RIGHT(VLOOKUP(Worksheet!K399,Type!C$1:E$13,3,FALSE),3),\"\"))","v":""},{"$f":"IF(Worksheet!M399=\"\",\"\",Worksheet!M399)","v":""},{"$f":"IF(Worksheet!N399=\"\",\"\",Worksheet!N399)","v":""},{"$f":"IF(Worksheet!Y399=0,\"\",Worksheet!Y399)","v":""},"Watts",null,null,{"$f":"Worksheet!AA399","v":0},{"$f":"IF(ISBLANK(Worksheet!V399)=FALSE,Worksheet!V399,\"\")","v":0},{"$f":"Worksheet!AG399","v":0},{"$f":"Worksheet!AF399","v":0},0,{"$f":"IF(ISERROR(SEARCH(\"Gas\",Worksheet!$A$18))=TRUE,0,Worksheet!AH399)","v":0},0,null,null,{"$f":"IF(OR(Worksheet!F399=\"Incandescent\",Worksheet!F399=\"Halogen Incandescent\")=TRUE,118,IF(LEFT(Worksheet!F399,3)=\"HID\",117,IF(OR(RIGHT(Worksheet!F399,3)=\"T12\",RIGHT(Worksheet!F399,5)=\"T12HO\")=TRUE,115,IF(OR(RIGHT(Worksheet!F399,2)=\"T8\",RIGHT(Worksheet!F399,4)=\"RWT8\",RIGHT(Worksheet!F399,4)=\"T8HO\")=TRUE,115,\"\"))))","v":""},{"$f":"IF(ISBLANK(Worksheet!W399)=FALSE,Worksheet!W399,\"\")","v":0},{"$f":"IF(ISERROR(SEARCH(\"Oil\",Worksheet!$A$18))=TRUE,0,Worksheet!AH399)","v":0},0,{"$f":"IF(ISERROR(SEARCH(\"Propane\",Worksheet!$A$18))=TRUE,0,Worksheet!AH399)","v":0},0,{"$f":"IF(Worksheet!J399=0,\"\",Worksheet!J399)","v":""},{"$f":"IF(Worksheet!B399=0,\"\",Worksheet!B399)","v":""},{"$f":"IF(Worksheet!K399=0,\"\",Worksheet!K399)","v":""},{"$f":"IF(Worksheet!L399=0,\"\",Worksheet!L399)","v":""},{"$f":"IF(Worksheet!R399=0,\"\",Worksheet!R399)","v":""},{"$f":"IF(Worksheet!F399=0,\"\",Worksheet!F399)","v":""},{"$f":"IF(Worksheet!G399=0,\"\",Worksheet!G399)","v":""},{"$f":"IF(Worksheet!X399=0,\"\",Worksheet!X399)","v":""},{"$f":"IF(Worksheet!Q399=0,\"\",Worksheet!Q399)","v":""},{"$f":"IF(Worksheet!C399=0,\"\",Worksheet!C399)","v":""},{"$f":"IF(Worksheet!D399=0,\"\",Worksheet!D399)","v":""},{"$f":"IF(Worksheet!$A$11=TRUE,\"Y\",\"N\")","v":"N"},{"$f":"IF(Worksheet!$A$12=TRUE,\"Y\",\"N\")","v":"N"},{"$f":"IF(Worksheet!$B$11=TRUE,\"Y\",\"N\")","v":"N"},{"$f":"IF(Worksheet!$B$12=TRUE,\"Y\",\"N\")","v":"N"},{"$f":"IF(Worksheet!$C$11=TRUE,\"Y\",\"N\")","v":"N"},{"$f":"IFERROR(Worksheet!AB399,\"\")","v":0}]
[{"$f":"IF(IFERROR(SEARCH(\"Refrigerated\",Worksheet!L400,1),0)>0,122,IF(ISERROR(RIGHT(VLOOKUP(Worksheet!K400,Type!C$1:E$13,3,FALSE),3))=FALSE,RIGHT(VLOOKUP(Worksheet!K400,Type!C$1:E$13,3,FALSE),3),\"\"))","v":""},{"$f":"IF(Worksheet!M400=\"\",\"\",Worksheet!M400)","v":""},{"$f":"IF(Worksheet!N400=\"\",\"\",Worksheet!N400)","v":""},{"$f":"IF(Worksheet!Y400=0,\"\",Worksheet!Y400)","v":""},"Watts",null,null,{"$f":"Worksheet!AA400","v":0},{"$f":"IF(ISBLANK(Worksheet!V400)=FALSE,Worksheet!V400,\"\")","v":0},{"$f":"Worksheet!AG400","v":0},{"$f":"Worksheet!AF400","v":0},0,{"$f":"IF(ISERROR(SEARCH(\"Gas\",Worksheet!$A$18))=TRUE,0,Worksheet!AH400)","v":0},0,null,null,{"$f":"IF(OR(Worksheet!F400=\"Incandescent\",Worksheet!F400=\"Halogen Incandescent\")=TRUE,118,IF(LEFT(Worksheet!F400,3)=\"HID\",117,IF(OR(RIGHT(Worksheet!F400,3)=\"T12\",RIGHT(Worksheet!F400,5)=\"T12HO\")=TRUE,115,IF(OR(RIGHT(Worksheet!F400,2)=\"T8\",RIGHT(Worksheet!F400,4)=\"RWT8\",RIGHT(Worksheet!F400,4)=\"T8HO\")=TRUE,115,\"\"))))","v":""},{"$f":"IF(ISBLANK(Worksheet!W400)=FALSE,Worksheet!W400,\"\")","v":0},{"$f":"IF(ISERROR(SEARCH(\"Oil\",Worksheet!$A$18))=TRUE,0,Worksheet!AH400)","v":0},0,{"$f":"IF(ISERROR(SEARCH(\"Propane\",Worksheet!$A$18))=TRUE,0,Worksheet!AH400)","v":0},0,{"$f":"IF(Worksheet!J400=0,\"\",Worksheet!J400)","v":""},{"$f":"IF(Worksheet!B400=0,\"\",Worksheet!B400)","v":""},{"$f":"IF(Worksheet!K400=0,\"\",Worksheet!K400)","v":""},{"$f":"IF(Worksheet!L400=0,\"\",Worksheet!L400)","v":""},{"$f":"IF(Worksheet!R400=0,\"\",Worksheet!R400)","v":""},{"$f":"IF(Worksheet!F400=0,\"\",Worksheet!F400)","v":""},{"$f":"IF(Worksheet!G400=0,\"\",Worksheet!G400)","v":""},{"$f":"IF(Worksheet!X400=0,\"\",Worksheet!X400)","v":""},{"$f":"IF(Worksheet!Q400=0,\"\",Worksheet!Q400)","v":""},{"$f":"IF(Worksheet!C400=0,\"\",Worksheet!C400)","v":""},{"$f":"IF(Worksheet!D400=0,\"\",Worksheet!D400)","v":""},{"$f":"IF(Worksheet!$A$11=TRUE,\"Y\",\"N\")","v":"N"},{"$f":"IF(Worksheet!$A$12=TRUE,\"Y\",\"N\")","v":"N"},{"$f":"IF(Worksheet!$B$11=TRUE,\"Y\",\"N\")","v":"N"},{"$f":"IF(Worksheet!$B$12=TRUE,\"Y\",\"N\")","v":"N"},{"$f":"IF(Worksheet!$C$11=TRUE,\"Y\",\"N\")","v":"N"},{"$f":"IFERROR(Worksheet!AB400,\"\")","v":0}]
[{"$f":"IF(IFERROR(SEARCH(\"Refrigerated\",Worksheet!L401,1),0)>0,122,IF(ISERROR(RIGHT(VLOOKUP(Worksheet!K401,Type!C$1:E$13,3,FALSE),3))=FALSE,RIGHT(VLOOKUP(Worksheet!K401,Type!C$1:E$13,3,FALSE),3),\"\"))","v":""},{"$f":"IF(Worksheet!M401=\"\",\"\",Worksheet!M401)","v":""},{"$f":"IF(Worksheet!N401=\"\",\"\",Worksheet!N401)","v":""},{"$f":"IF(Worksheet!Y401=0,\"\",Worksheet!Y401)","v":""},"Watts",null,null,{"$f":"Worksheet!AA401","v":0},{"$f":"IF(ISBLANK(Worksheet!V401)=FALSE,Worksheet!V401,\"\")","v":0},{"$f":"Worksheet!AG401","v":0},{"$f":"Worksheet!AF401","v":0},0,{"$f":"IF(ISERROR(SEARCH(\"Gas\",Worksheet!$A$18))=TRUE,0,Worksheet!AH401)","v":0},0,null,null,{"$f":"IF(OR(Worksheet!F401=\"Incandescent\",Worksheet!F401=\"Halogen Incandescent\")=TRUE,118,IF(LEFT(Worksheet!F401,3)=\"HID\",117,IF(OR(RIGHT(Worksheet!F401,3)=\"T12\",RIGHT(Worksheet!F401,5)=\"T12HO\")=TRUE,115,IF(OR(RIGHT(Worksheet!F401,2)=\"T8\",RIGHT(Worksheet!F401,4)=\"RWT8\",RIGHT(Worksheet!F401,4)=\"T8HO\")=TRUE,115,\"\"))))","v":""},{"$f":"IF(ISBLANK(Worksheet!W401)=FALSE,Worksheet!W401,\"\")","v":0},{"$f":"IF(ISERROR(SEARCH(\"Oil\",Worksheet!$A$18))=TRUE,0,Worksheet!AH401)","v":0},0,{"$f":"IF(ISERROR(SEARCH(\"Propane\",Worksheet!$A$18))=TRUE,0,Worksheet!AH401)","v":0},0,{"$f":"IF(Worksheet!J401=0,\"\",Worksheet!J401)","v":""},{"$f":"IF(Worksheet!B401=0,\"\",Worksheet!B401)","v":""},{"$f":"IF(Worksheet!K401=0,\"\",Worksheet!K401)","v":""},{"$f":"IF(Worksheet!L401=0,\"\",Worksheet!L401)","v":""},{"$f":"IF(Worksheet!R401=0,\"\",Worksheet!R401)","v":""},{"$f":"IF(Worksheet!F401=0,\"\",Worksheet!F401)","v":""},{"$f":"IF(Worksheet!G401=0,\"\",Worksheet!G401)","v":""},{"$f":"IF(Worksheet!X401=0,\"\",Worksheet!X401)","v":""},{"$f":"IF(Worksheet!Q401=0,\"\",Worksheet!Q401)","v":""},{"$f":"IF(Worksheet!C401=0,\"\",Worksheet!C401)","v":""},{"$f":"IF(Worksheet!D401=0,\"\",Worksheet!D401)","v":""},{"$f":"IF(Worksheet!$A$11=TRUE,\"Y\",\"N\")","v":"N"},{"$f":"IF(Worksheet!$A$12=TRUE,\"Y\",\"N\")","v":"N"},{"$f":"IF(Worksheet!$B$11=TRUE,\"Y\",\"N\")","v":"N"},{"$f":"IF(Worksheet!$B$12=TRUE,\"Y\",\"N\")","v":"N"},{"$f":"IF(Worksheet!$C$11=TRUE,\"Y\",\"N\")","v":"N"},{"$f":"IFERROR(Worksheet!AB401,\"\")","v":0}]
[{"$f":"IF(IFERROR(SEARCH(\"Refrigerated\",Worksheet!L402,1),0)>0,122,IF(ISERROR(RIGHT(VLOOKUP(Worksheet!K402,Type!C$1:E$13,3,FALSE),3))=FALSE,RIGHT(VLOOKUP(Worksheet!K402,Type!C$1:E$13,3,FALSE),3),\"\"))","v":""},{"$f":"IF(Worksheet!M402=\"\",\"\",Worksheet!M402)","v":""},{"$f":"IF(Worksheet!N402=\"\",\"\",Worksheet!N402)","v":""},{"$f":"IF(Worksheet!Y402=0,\"\",Worksheet!Y402)","v":""},"Watts",null,null,{"$f":"Worksheet!AA402","v":0},{"$f":"IF(ISBLANK(Worksheet!V402)=FALSE,Worksheet!V402,\"\")","v":0},{"$f":"Worksheet!AG402","v":0},{"$f":"Worksheet!AF402","v":0},0,{"$f":"IF(ISERROR(SEARCH(\"Gas\",Worksheet!$A$18))=TRUE,0,Worksheet!AH402)","v":0},0,null,null,{"$f":"IF(OR(Worksheet!F402=\"Incandescent\",Worksheet!F402=\"Halogen Incandescent\")=TRUE,118,IF(LEFT(Worksheet!F402,3)=\"HID\",117,IF(OR(RIGHT(Worksheet!F402,3)=\"T12\",RIGHT(Worksheet!F402,5)=\"T12HO\")=TRUE,115,IF(OR(RIGHT(Worksheet!F402,2)=\"T8\",RIGHT(Worksheet!F402,4)=\"RWT8\",RIGHT(Worksheet!F402,4)=\"T8HO\")=TRUE,115,\"\"))))","v":""},{"$f":"IF(ISBLANK(Worksheet!W402)=FALSE,Worksheet!W402,\"\")","v":0},{"$f":"IF(ISERROR(SEARCH(\"Oil\",Worksheet!$A$18))=TRUE,0,Worksheet!AH402)","v":0},0,{"$f":"IF(ISERROR(SEARCH(\"Propane\",Worksheet!$A$18))=TRUE,0,Worksheet!AH402)","v":0},0,{"$f":"IF(Worksheet!J402=0,\"\",Worksheet!J402)","v":""},{"$f":"IF(Worksheet!B402=0,\"\",Worksheet!B402)","v":""},{"$f":"IF(Worksheet!K402=0,\"\",Worksheet!K402)","v":""},{"$f":"IF(Worksheet!L402=0,\"\",Worksheet!L402)","v":""},{"$f":"IF(Worksheet!R402=0,\"\",Worksheet!R402)","v":""},{"$f":"IF(Worksheet!F402=0,\"\",Worksheet!F402)","v":""},{"$f":"IF(Worksheet!G402=0,\"\",Worksheet!G402)","v":""},{"$f":"IF(Worksheet!X402=0,\"\",Worksheet!X402)","v":""},{"$f":"IF(Worksheet!Q402=0,\"\",Worksheet!Q402)","v":""},{"$f":"IF(Worksheet!C402=0,\"\",Worksheet!C402)","v":""},{"$f":"IF(Worksheet!D402=0,\"\",Worksheet!D402)","v":""},{"$f":"IF(Worksheet!$A$11=TRUE,\"Y\",\"N\")","v":"N"},{"$f":"IF(Worksheet!$A$12=TRUE,\"Y\",\"N\")","v":"N"},{"$f":"IF(Worksheet!$B$11=TRUE,\"Y\",\"N\")","v":"N"},{"$f":"IF(Worksheet!$B$12=TRUE,\"Y\",\"N\")","v":"N"},{"$f":"IF(Worksheet!$C$11=TRUE,\"Y\",\"N\")","v":"N"},{"$f":"IFERROR(Worksheet!AB402,\"\")","v":0}]
[{"$f":"IF(IFERROR(SEARCH(\"Refrigerated\",Worksheet!L403,1),0)>0,122,IF(ISERROR(RIGHT(VLOOKUP(Worksheet!K403,Type!C$1:E$13,3,FALSE),3))=FALSE,RIGHT(VLOOKUP(Worksheet!K403,Type!C$1:E$13,3,FALSE),3),\"\"))","v":""},{"$f":"IF(Worksheet!M403=\"\",\"\",Worksheet!M403)","v":""},{"$f":"IF(Worksheet!N403=\"\",\"\",Worksheet!N403)","v":""},{"$f":"IF(Worksheet!Y403=0,\"\",Worksheet!Y403)","v":""},"Watts",null,null,{"$f":"Worksheet!AA403","v":0},{"$f":"IF(ISBLANK(Worksheet!V403)=FALSE,Worksheet!V403,\"\")","v":0},{"$f":"Worksheet!AG403","v":0},{"$f":"Worksheet!AF403","v":0},0,{"$f":"IF(ISERROR(SEARCH(\"Gas\",Worksheet!$A$18))=TRUE,0,Worksheet!AH403)","v":0},0,null,null,{"$f":"IF(OR(Worksheet!F403=\"Incandescent\",Worksheet!F403=\"Halogen Incandescent\")=TRUE,118,IF(LEFT(Worksheet!F403,3)=\"HID\",117,IF(OR(RIGHT(Worksheet!F403,3)=\"T12\",RIGHT(Worksheet!F403,5)=\"T12HO\")=TRUE,115,IF(OR(RIGHT(Worksheet!F403,2)=\"T8\",RIGHT(Worksheet!F403,4)=\"RWT8\",RIGHT(Worksheet!F403,4)=\"T8HO\")=TRUE,115,\"\"))))","v":""},{"$f":"IF(ISBLANK(Worksheet!W403)=FALSE,Worksheet!W403,\"\")","v":0},{"$f":"IF(ISERROR(SEARCH(\"Oil\",Worksheet!$A$18))=TRUE,0,Worksheet!AH403)","v":0},0,{"$f":"IF(ISERROR(SEARCH(\"Propane\",Worksheet!$A$18))=TRUE,0,Worksheet!AH403)","v":0},0,{"$f":"IF(Worksheet!J403=0,\"\",Worksheet!J403)","v":""},{"$f":"IF(Worksheet!B403=0,\"\",Worksheet!B403)","v":""},{"$f":"IF(Worksheet!K403=0,\"\",Worksheet!K403)","v":""},{"$f":"IF(Worksheet!L403=0,\"\",Worksheet!L403)","v":""},{"$f":"IF(Worksheet!R403=0,\"\",Worksheet!R403)","v":""},{"$f":"IF(Worksheet!F403=0,\"\",Worksheet!F403)","v":""},{"$f":"IF(Worksheet!G403=0,\"\",Worksheet!G403)","v":""},{"$f":"IF(Worksheet!X403=0,\"\",Worksheet!X403)","v":""},{"$f":"IF(Worksheet!Q403=0,\"\",Worksheet!Q403)","v":""},{"$f":"IF(Worksheet!C403=0,\"\",Worksheet!C403)","v":""},{"$f":"IF(Worksheet!D403=0,\"\",Worksheet!D403)","v":""},{"$f":"IF(Worksheet!$A$11=TRUE,\"Y\",\"N\")","v":"N"},{"$f":"IF(Worksheet!$A$12=TRUE,\"Y\",\"N\")","v":"N"},{"$f":"IF(Worksheet!$B$11=TRUE,\"Y\",\"N\")","v":"N"},{"$f":"IF(Worksheet!$B$12=TRUE,\"Y\",\"N\")","v":"N"},{"$f":"IF(Worksheet!$C$11=TRUE,\"Y\",\"N\")","v":"N"},{"$f":"IFERROR(Worksheet!AB403,\"\")","v":0}]
[{"$f":"IF(IFERROR(SEARCH(\"Refrigerated\",Worksheet!L404,1),0)>0,122,IF(ISERROR(RIGHT(VLOOKUP(Worksheet!K404,Type!C$1:E$13,3,FALSE),3))=FALSE,RIGHT(VLOOKUP(Worksheet!K404,Type!C$1:E$13,3,FALSE),3),\"\"))","v":""},{"$f":"IF(Worksheet!M404=\"\",\"\",Worksheet!M404)","v":""},{"$f":"IF(Worksheet!N404=\"\",\"\",Worksheet!N404)","v":""},{"$f":"IF(Worksheet!Y404=0,\"\",Worksheet!Y404)","v":""},"Watts",null,null,{"$f":"Worksheet!AA404","v":0},{"$f":"IF(ISBLANK(Worksheet!V404)=FALSE,Worksheet!V404,\"\")","v":0},{"$f":"Worksheet!AG404","v":0},{"$f":"Worksheet!AF404","v":0},0,{"$f":"IF(ISERROR(SEARCH(\"Gas\",Worksheet!$A$18))=TRUE,0,Worksheet!AH404)","v":0},0,null,null,{"$f":"IF(OR(Worksheet!F404=\"Incandescent\",Worksheet!F404=\"Halogen Incandescent\")=TRUE,118,IF(LEFT(Worksheet!F404,3)=\"HID\",117,IF(OR(RIGHT(Worksheet!F404,3)=\"T12\",RIGHT(Worksheet!F404,5)=\"T12HO\")=TRUE,115,IF(OR(RIGHT(Worksheet!F404,2)=\"T8\",RIGHT(Worksheet!F404,4)=\"RWT8\",RIGHT(Worksheet!F404,4)=\"T8HO\")=TRUE,115,\"\"))))","v":""},{"$f":"IF(ISBLANK(Worksheet!W404)=FALSE,Worksheet!W404,\"\")","v":0},{"$f":"IF(ISERROR(SEARCH(\"Oil\",Worksheet!$A$18))=TRUE,0,Worksheet!AH404)","v":0},0,{"$f":"IF(ISERROR(SEARCH(\"Propane\",Worksheet!$A$18))=TRUE,0,Worksheet!AH404)","v":0},0,{"$f":"IF(Worksheet!J404=0,\"\",Worksheet!J404)","v":""},{"$f":"IF(Worksheet!B404=0,\"\",Worksheet!B404)","v":""},{"$f":"IF(Worksheet!K404=0,\"\",Worksheet!K404)","v":""},{"$f":"IF(Worksheet!L404=0,\"\",Worksheet!L404)","v":""},{"$f":"IF(Worksheet!R404=0,\"\",Worksheet!R404)","v":""},{"$f":"IF(Worksheet!F404=0,\"\",Worksheet!F404)","v":""},{"$f":"IF(Worksheet!G404=0,\"\",Worksheet!G404)","v":""},{"$f":"IF(Worksheet!X404=0,\"\",Worksheet!X404)","v":""},{"$f":"IF(Worksheet!Q404=0,\"\",Worksheet!Q404)","v":""},{"$f":"IF(Worksheet!C404=0,\"\",Worksheet!C404)","v":""},{"$f":"IF(Worksheet!D404=0,\"\",Worksheet!D404)","v":""},{"$f":"IF(Worksheet!$A$11=TRUE,\"Y\",\"N\")","v":"N"},{"$f":"IF(Worksheet!$A$12=TRUE,\"Y\",\"N\")","v":"N"},{"$f":"IF(Worksheet!$B$11=TRUE,\"Y\",\"N\")","v":"N"},{"$f":"IF(Worksheet!$B$12=TRUE,\"Y\",\"N\")","v":"N"},{"$f":"IF(Worksheet!$C$11=TRUE,\"Y\",\"N\")","v":"N"},{"$f":"IFERROR(Worksheet!AB404,\"\")","v":0}]
[{"$f":"IF(IFERROR(SEARCH(\"Refrigerated\",Worksheet!L405,1),0)>0,122,IF(ISERROR(RIGHT(VLOOKUP(Worksheet!K405,Type!C$1:E$13,3,FALSE),3))=FALSE,RIGHT(VLOOKUP(Worksheet!K405,Type!C$1:E$13,3,FALSE),3),\"\"))","v":""},{"$f":"IF(Worksheet!M405=\"\",\"\",Worksheet!M405)","v":""},{"$f":"IF(Worksheet!N405=\"\",\"\",Worksheet!N405)","v":""},{"$f":"IF(Worksheet!Y405=0,\"\",Worksheet!Y405)","v":""},"Watts",null,null,{"$f":"Worksheet!AA405","v":0},{"$f":"IF(ISBLANK(Worksheet!V405)=FALSE,Worksheet!V405,\"\")","v":0},{"$f":"Worksheet!AG405","v":0},{"$f":"Worksheet!AF405","v":0},0,{"$f":"IF(ISERROR(SEARCH(\"Gas\",Worksheet!$A$18))=TRUE,0,Worksheet!AH405)","v":0},0,null,null,{"$f":"IF(OR(Worksheet!F405=\"Incandescent\",Worksheet!F405=\"Halogen Incandescent\")=TRUE,118,IF(LEFT(Worksheet!F405,3)=\"HID\",117,IF(OR(RIGHT(Worksheet!F405,3)=\"T12\",RIGHT(Worksheet!F405,5)=\"T12HO\")=TRUE,115,IF(OR(RIGHT(Worksheet!F405,2)=\"T8\",RIGHT(Worksheet!F405,4)=\"RWT8\",RIGHT(Worksheet!F405,4)=\"T8HO\")=TRUE,115,\"\"))))","v":""},{"$f":"IF(ISBLANK(Worksheet!W405)=FALSE,Worksheet!W405,\"\")","v":0},{"$f":"IF(ISERROR(SEARCH(\"Oil\",Worksheet!$A$18))=TRUE,0,Worksheet!AH405)","v":0},0,{"$f":"IF(ISERROR(SEARCH(\"Propane\",Worksheet!$A$18))=TRUE,0,Worksheet!AH405)","v":0},0,{"$f":"IF(Worksheet!J405=0,\"\",Worksheet!J405)","v":""},{"$f":"IF(Worksheet!B405=0,\"\",Worksheet!B405)","v":""},{"$f":"IF(Worksheet!K405=0,\"\",Worksheet!K405)","v":""},{"$f":"IF(Worksheet!L405=0,\"\",Worksheet!L405)","v":""},{"$f":"IF(Worksheet!R405=0,\"\",Worksheet!R405)","v":""},{"$f":"IF(Worksheet!F405=0,\"\",Worksheet!F405)","v":""},{"$f":"IF(Worksheet!G405=0,\"\",Worksheet!G405)","v":""},{"$f":"IF(Worksheet!X405=0,\"\",Worksheet!X405)","v":""},{"$f":"IF(Worksheet!Q405=0,\"\",Worksheet!Q405)","v":""},{"$f":"IF(Worksheet!C405=0,\"\",Worksheet!C405)","v":""},{"$f":"IF(Worksheet!D405=0,\"\",Worksheet!D405)","v":""},{"$f":"IF(Worksheet!$A$11=TRUE,\"Y\",\"N\")","v":"N"},{"$f":"IF(Worksheet!$A$12=TRUE,\"Y\",\"N\")","v":"N"},{"$f":"IF(Worksheet!$B$11=TRUE,\"Y\",\"N\")","v":"N"},{"$f":"IF(Worksheet!$B$12=TRUE,\"Y\",\"N\")","v":"N"},{"$f":"IF(Worksheet!$C$11=TRUE,\"Y\",\"N\")","v":"N"},{"$f":"IFERROR(Worksheet!AB405,\"\")","v":0}]
[{"$f":"IF(IFERROR(SEARCH(\"Refrigerated\",Worksheet!L406,1),0)>0,122,IF(ISERROR(RIGHT(VLOOKUP(Worksheet!K406,Type!C$1:E$13,3,FALSE),3))=FALSE,RIGHT(VLOOKUP(Worksheet!K406,Type!C$1:E$13,3,FALSE),3),\"\"))","v":""},{"$f":"IF(Worksheet!M406=\"\",\"\",Worksheet!M406)","v":""},{"$f":"IF(Worksheet!N406=\"\",\"\",Worksheet!N406)","v":""},{"$f":"IF(Worksheet!Y406=0,\"\",Worksheet!Y406)","v":""},"Watts",null,null,{"$f":"Worksheet!AA406","v":0},{"$f":"IF(ISBLANK(Worksheet!V406)=FALSE,Worksheet!V406,\"\")","v":0},{"$f":"Worksheet!AG406","v":0},{"$f":"Worksheet!AF406","v":0},0,{"$f":"IF(ISERROR(SEARCH(\"Gas\",Worksheet!$A$18))=TRUE,0,Worksheet!AH406)","v":0},0,null,null,{"$f":"IF(OR(Worksheet!F406=\"Incandescent\",Worksheet!F406=\"Halogen Incandescent\")=TRUE,118,IF(LEFT(Worksheet!F406,3)=\"HID\",117,IF(OR(RIGHT(Worksheet!F406,3)=\"T12\",RIGHT(Worksheet!F406,5)=\"T12HO\")=TRUE,115,IF(OR(RIGHT(Worksheet!F406,2)=\"T8\",RIGHT(Worksheet!F406,4)=\"RWT8\",RIGHT(Worksheet!F406,4)=\"T8HO\")=TRUE,115,\"\"))))","v":""},{"$f":"IF(ISBLANK(Worksheet!W406)=FALSE,Worksheet!W406,\"\")","v":0},{"$f":"IF(ISERROR(SEARCH(\"Oil\",Worksheet!$A$18))=TRUE,0,Worksheet!AH406)","v":0},0,{"$f":"IF(ISERROR(SEARCH(\"Propane\",Worksheet!$A$18))=TRUE,0,Worksheet!AH406)","v":0},0,{"$f":"IF(Worksheet!J406=0,\"\",Worksheet!J406)","v":""},{"$f":"IF(Worksheet!B406=0,\"\",Worksheet!B406)","v":""},{"$f":"IF(Worksheet!K406=0,\"\",Worksheet!K406)","v":""},{"$f":"IF(Worksheet!L406=0,\"\",Worksheet!L406)","v":""},{"$f":"IF(Worksheet!R406=0,\"\",Worksheet!R406)","v":""},{"$f":"IF(Worksheet!F406=0,\"\",Worksheet!F406)","v":""},{"$f":"IF(Worksheet!G406=0,\"\",Worksheet!G406)","v":""},{"$f":"IF(Worksheet!X406=0,\"\",Worksheet!X406)","v":""},{"$f":"IF(Worksheet!Q406=0,\"\",Worksheet!Q406)","v":""},{"$f":"IF(Worksheet!C406=0,\"\",Worksheet!C406)","v":""},{"$f":"IF(Worksheet!D406=0,\"\",Worksheet!D406)","v":""},{"$f":"IF(Worksheet!$A$11=TRUE,\"Y\",\"N\")","v":"N"},{"$f":"IF(Worksheet!$A$12=TRUE,\"Y\",\"N\")","v":"N"},{"$f":"IF(Worksheet!$B$11=TRUE,\"Y\",\"N\")","v":"N"},{"$f":"IF(Worksheet!$B$12=TRUE,\"Y\",\"N\")","v":"N"},{"$f":"IF(Worksheet!$C$11=TRUE,\"Y\",\"N\")","v":"N"},{"$f":"IFERROR(Worksheet!AB406,\"\")","v":0}]
[{"$f":"IF(IFERROR(SEARCH(\"Refrigerated\",Worksheet!L407,1),0)>0,122,IF(ISERROR(RIGHT(VLOOKUP(Worksheet!K407,Type!C$1:E$13,3,FALSE),3))=FALSE,RIGHT(VLOOKUP(Worksheet!K407,Type!C$1:E$13,3,FALSE),3),\"\"))","v":""},{"$f":"IF(Worksheet!M407=\"\",\"\",Worksheet!M407)","v":""},{"$f":"IF(Worksheet!N407=\"\",\"\",Worksheet!N407)","v":""},{"$f":"IF(Worksheet!Y407=0,\"\",Worksheet!Y407)","v":""},"Watts",null,null,{"$f":"Worksheet!AA407","v":0},{"$f":"IF(ISBLANK(Worksheet!V407)=FALSE,Worksheet!V407,\"\")","v":0},{"$f":"Worksheet!AG407","v":0},{"$f":"Worksheet!AF407","v":0},0,{"$f":"IF(ISERROR(SEARCH(\"Gas\",Worksheet!$A$18))=TRUE,0,Worksheet!AH407)","v":0},0,null,null,{"$f":"IF(OR(Worksheet!F407=\"Incandescent\",Worksheet!F407=\"Halogen Incandescent\")=TRUE,118,IF(LEFT(Worksheet!F407,3)=\"HID\",117,IF(OR(RIGHT(Worksheet!F407,3)=\"T12\",RIGHT(Worksheet!F407,5)=\"T12HO\")=TRUE,115,IF(OR(RIGHT(Worksheet!F407,2)=\"T8\",RIGHT(Worksheet!F407,4)=\"RWT8\",RIGHT(Worksheet!F407,4)=\"T8HO\")=TRUE,115,\"\"))))","v":""},{"$f":"IF(ISBLANK(Worksheet!W407)=FALSE,Worksheet!W407,\"\")","v":0},{"$f":"IF(ISERROR(SEARCH(\"Oil\",Worksheet!$A$18))=TRUE,0,Worksheet!AH407)","v":0},0,{"$f":"IF(ISERROR(SEARCH(\"Propane\",Worksheet!$A$18))=TRUE,0,Worksheet!AH407)","v":0},0,{"$f":"IF(Worksheet!J407=0,\"\",Worksheet!J407)","v":""},{"$f":"IF(Worksheet!B407=0,\"\",Worksheet!B407)","v":""},{"$f":"IF(Worksheet!K407=0,\"\",Worksheet!K407)","v":""},{"$f":"IF(Worksheet!L407=0,\"\",Worksheet!L407)","v":""},{"$f":"IF(Worksheet!R407=0,\"\",Worksheet!R407)","v":""},{"$f":"IF(Worksheet!F407=0,\"\",Worksheet!F407)","v":""},{"$f":"IF(Worksheet!G407=0,\"\",Worksheet!G407)","v":""},{"$f":"IF(Worksheet!X407=0,\"\",Worksheet!X407)","v":""},{"$f":"IF(Worksheet!Q407=0,\"\",Worksheet!Q407)","v":""},{"$f":"IF(Worksheet!C407=0,\"\",Worksheet!C407)","v":""},{"$f":"IF(Worksheet!D407=0,\"\",Worksheet!D407)","v":""},{"$f":"IF(Worksheet!$A$11=TRUE,\"Y\",\"N\")","v":"N"},{"$f":"IF(Worksheet!$A$12=TRUE,\"Y\",\"N\")","v":"N"},{"$f":"IF(Worksheet!$B$11=TRUE,\"Y\",\"N\")","v":"N"},{"$f":"IF(Worksheet!$B$12=TRUE,\"Y\",\"N\")","v":"N"},{"$f":"IF(Worksheet!$C$11=TRUE,\"Y\",\"N\")","v":"N"},{"$f":"IFERROR(Worksheet!AB407,\"\")","v":0}]
[{"$f":"IF(IFERROR(SEARCH(\"Refrigerated\",Worksheet!L408,1),0)>0,122,IF(ISERROR(RIGHT(VLOOKUP(Worksheet!K408,Type!C$1:E$13,3,FALSE),3))=FALSE,RIGHT(VLOOKUP(Worksheet!K408,Type!C$1:E$13,3,FALSE),3),\"\"))","v":""},{"$f":"IF(Worksheet!M408=\"\",\"\",Worksheet!M408)","v":""},{"$f":"IF(Worksheet!N408=\"\",\"\",Worksheet!N408)","v":""},{"$f":"IF(Worksheet!Y408=0,\"\",Worksheet!Y408)","v":""},"Watts",null,null,{"$f":"Worksheet!AA408","v":0},{"$f":"IF(ISBLANK(Worksheet!V408)=FALSE,Worksheet!V408,\"\")","v":0},{"$f":"Worksheet!AG408","v":0},{"$f":"Worksheet!AF408","v":0},0,{"$f":"IF(ISERROR(SEARCH(\"Gas\",Worksheet!$A$18))=TRUE,0,Worksheet!AH408)","v":0},0,null,null,{"$f":"IF(OR(Worksheet!F408=\"Incandescent\",Worksheet!F408=\"Halogen Incandescent\")=TRUE,118,IF(LEFT(Worksheet!F408,3)=\"HID\",117,IF(OR(RIGHT(Worksheet!F408,3)=\"T12\",RIGHT(Worksheet!F408,5)=\"T12HO\")=TRUE,115,IF(OR(RIGHT(Worksheet!F408,2)=\"T8\",RIGHT(Worksheet!F408,4)=\"RWT8\",RIGHT(Worksheet!F408,4)=\"T8HO\")=TRUE,115,\"\"))))","v":""},{"$f":"IF(ISBLANK(Worksheet!W408)=FALSE,Worksheet!W408,\"\")","v":0},{"$f":"IF(ISERROR(SEARCH(\"Oil\",Worksheet!$A$18))=TRUE,0,Worksheet!AH408)","v":0},0,{"$f":"IF(ISERROR(SEARCH(\"Propane\",Worksheet!$A$18))=TRUE,0,Worksheet!AH408)","v":0},0,{"$f":"IF(Worksheet!J408=0,\"\",Worksheet!J408)","v":""},{"$f":"IF(Worksheet!B408=0,\"\",Worksheet!B408)","v":""},{"$f":"IF(Worksheet!K408=0,\"\",Worksheet!K408)","v":""},{"$f":"IF(Worksheet!L408=0,\"\",Worksheet!L408)","v":""},{"$f":"IF(Worksheet!R408=0,\"\",Worksheet!R408)","v":""},{"$f":"IF(Worksheet!F408=0,\"\",Worksheet!F408)","v":""},{"$f":"IF(Worksheet!G408=0,\"\",Worksheet!G408)","v":""},{"$f":"IF(Worksheet!X408=0,\"\",Worksheet!X408)","v":""},{"$f":"IF(Worksheet!Q408=0,\"\",Worksheet!Q408)","v":""},{"$f":"IF(Worksheet!C408=0,\"\",Worksheet!C408)","v":""},{"$f":"IF(Worksheet!D408=0,\"\",Worksheet!D408)","v":""},{"$f":"IF(Worksheet!$A$11=TRUE,\"Y\",\"N\")","v":"N"},{"$f":"IF(Worksheet!$A$12=TRUE,\"Y\",\"N\")","v":"N"},{"$f":"IF(Worksheet!$B$11=TRUE,\"Y\",\"N\")","v":"N"},{"$f":"IF(Worksheet!$B$12=TRUE,\"Y\",\"N\")","v":"N"},{"$f":"IF(Worksheet!$C$11=TRUE,\"Y\",\"N\")","v":"N"},{"$f":"IFERROR(Worksheet!AB408,\"\")","v":0}]
[{"$f":"IF(IFERROR(SEARCH(\"Refrigerated\",Worksheet!L409,1),0)>0,122,IF(ISERROR(RIGHT(VLOOKUP(Worksheet!K409,Type!C$1:E$13,3,FALSE),3))=FALSE,RIGHT(VLOOKUP(Worksheet!K409,Type!C$1:E$13,3,FALSE),3),\"\"))","v":""},{"$f":"IF(Worksheet!M409=\"\",\"\",Worksheet!M409)","v":""},{"$f":"IF(Worksheet!N409=\"\",\"\",Worksheet!N409)","v":""},{"$f":"IF(Worksheet!Y409=0,\"\",Worksheet!Y409)","v":""},"Watts",null,null,{"$f":"Worksheet!AA409","v":0},{"$f":"IF(ISBLANK(Worksheet!V409)=FALSE,Worksheet!V409,\"\")","v":0},{"$f":"Worksheet!AG409","v":0},{"$f":"Worksheet!AF409","v":0},0,{"$f":"IF(ISERROR(SEARCH(\"Gas\",Worksheet!$A$18))=TRUE,0,Worksheet!AH409)","v":0},0,null,null,{"$f":"IF(OR(Worksheet!F409=\"Incandescent\",Worksheet!F409=\"Halogen Incandescent\")=TRUE,118,IF(LEFT(Worksheet!F409,3)=\"HID\",117,IF(OR(RIGHT(Worksheet!F409,3)=\"T12\",RIGHT(Worksheet!F409,5)=\"T12HO\")=TRUE,115,IF(OR(RIGHT(Worksheet!F409,2)=\"T8\",RIGHT(Worksheet!F409,4)=\"RWT8\",RIGHT(Worksheet!F409,4)=\"T8HO\")=TRUE,115,\"\"))))","v":""},{"$f":"IF(ISBLANK(Worksheet!W409)=FALSE,Worksheet!W409,\"\")","v":0},{"$f":"IF(ISERROR(SEARCH(\"Oil\",Worksheet!$A$18))=TRUE,0,Worksheet!AH409)","v":0},0,{"$f":"IF(ISERROR(SEARCH(\"Propane\",Worksheet!$A$18))=TRUE,0,Worksheet!AH409)","v":0},0,{"$f":"IF(Worksheet!J409=0,\"\",Worksheet!J409)","v":""},{"$f":"IF(Worksheet!B409=0,\"\",Worksheet!B409)","v":""},{"$f":"IF(Worksheet!K409=0,\"\",Worksheet!K409)","v":""},{"$f":"IF(Worksheet!L409=0,\"\",Worksheet!L409)","v":""},{"$f":"IF(Worksheet!R409=0,\"\",Worksheet!R409)","v":""},{"$f":"IF(Worksheet!F409=0,\"\",Worksheet!F409)","v":""},{"$f":"IF(Worksheet!G409=0,\"\",Worksheet!G409)","v":""},{"$f":"IF(Worksheet!X409=0,\"\",Worksheet!X409)","v":""},{"$f":"IF(Worksheet!Q409=0,\"\",Worksheet!Q409)","v":""},{"$f":"IF(Worksheet!C409=0,\"\",Worksheet!C409)","v":""},{"$f":"IF(Worksheet!D409=0,\"\",Worksheet!D409)","v":""},{"$f":"IF(Worksheet!$A$11=TRUE,\"Y\",\"N\")","v":"N"},{"$f":"IF(Worksheet!$A$12=TRUE,\"Y\",\"N\")","v":"N"},{"$f":"IF(Worksheet!$B$11=TRUE,\"Y\",\"N\")","v":"N"},{"$f":"IF(Worksheet!$B$12=TRUE,\"Y\",\"N\")","v":"N"},{"$f":"IF(Worksheet!$C$11=TRUE,\"Y\",\"N\")","v":"N"},{"$f":"IFERROR(Worksheet!AB409,\"\")","v":0}]
[{"$f":"IF(IFERROR(SEARCH(\"Refrigerated\",Worksheet!L410,1),0)>0,122,IF(ISERROR(RIGHT(VLOOKUP(Worksheet!K410,Type!C$1:E$13,3,FALSE),3))=FALSE,RIGHT(VLOOKUP(Worksheet!K410,Type!C$1:E$13,3,FALSE),3),\"\"))","v":""},{"$f":"IF(Worksheet!M410=\"\",\"\",Worksheet!M410)","v":""},{"$f":"IF(Worksheet!N410=\"\",\"\",Worksheet!N410)","v":""},{"$f":"IF(Worksheet!Y410=0,\"\",Worksheet!Y410)","v":""},"Watts",null,null,{"$f":"Worksheet!AA410","v":0},{"$f":"IF(ISBLANK(Worksheet!V410)=FALSE,Worksheet!V410,\"\")","v":0},{"$f":"Worksheet!AG410","v":0},{"$f":"Worksheet!AF410","v":0},0,{"$f":"IF(ISERROR(SEARCH(\"Gas\",Worksheet!$A$18))=TRUE,0,Worksheet!AH410)","v":0},0,null,null,{"$f":"IF(OR(Worksheet!F410=\"Incandescent\",Worksheet!F410=\"Halogen Incandescent\")=TRUE,118,IF(LEFT(Worksheet!F410,3)=\"HID\",117,IF(OR(RIGHT(Worksheet!F410,3)=\"T12\",RIGHT(Worksheet!F410,5)=\"T12HO\")=TRUE,115,IF(OR(RIGHT(Worksheet!F410,2)=\"T8\",RIGHT(Worksheet!F410,4)=\"RWT8\",RIGHT(Worksheet!F410,4)=\"T8HO\")=TRUE,115,\"\"))))","v":""},{"$f":"IF(ISBLANK(Worksheet!W410)=FALSE,Worksheet!W410,\"\")","v":0},{"$f":"IF(ISERROR(SEARCH(\"Oil\",Worksheet!$A$18))=TRUE,0,Worksheet!AH410)","v":0},0,{"$f":"IF(ISERROR(SEARCH(\"Propane\",Worksheet!$A$18))=TRUE,0,Worksheet!AH410)","v":0},0,{"$f":"IF(Worksheet!J410=0,\"\",Worksheet!J410)","v":""},{"$f":"IF(Worksheet!B410=0,\"\",Worksheet!B410)","v":""},{"$f":"IF(Worksheet!K410=0,\"\",Worksheet!K410)","v":""},{"$f":"IF(Worksheet!L410=0,\"\",Worksheet!L410)","v":""},{"$f":"IF(Worksheet!R410=0,\"\",Worksheet!R410)","v":""},{"$f":"IF(Worksheet!F410=0,\"\",Worksheet!F410)","v":""},{"$f":"IF(Worksheet!G410=0,\"\",Worksheet!G410)","v":""},{"$f":"IF(Worksheet!X410=0,\"\",Worksheet!X410)","v":""},{"$f":"IF(Worksheet!Q410=0,\"\",Worksheet!Q410)","v":""},{"$f":"IF(Worksheet!C410=0,\"\",Worksheet!C410)","v":""},{"$f":"IF(Worksheet!D410=0,\"\",Worksheet!D410)","v":""},{"$f":"IF(Worksheet!$A$11=TRUE,\"Y\",\"N\")","v":"N"},{"$f":"IF(Worksheet!$A$12=TRUE,\"Y\",\"N\")","v":"N"},{"$f":"IF(Worksheet!$B$11=TRUE,\"Y\",\"N\")","v":"N"},{"$f":"IF(Worksheet!$B$12=TRUE,\"Y\",\"N\")","v":"N"},{"$f":"IF(Worksheet!$C$11=TRUE,\"Y\",\"N\")","v":"N"},{"$f":"IFERROR(Worksheet!AB410,\"\")","v":0}]
[{"$f":"IF(IFERROR(SEARCH(\"Refrigerated\",Worksheet!L411,1),0)>0,122,IF(ISERROR(RIGHT(VLOOKUP(Worksheet!K411,Type!C$1:E$13,3,FALSE),3))=FALSE,RIGHT(VLOOKUP(Worksheet!K411,Type!C$1:E$13,3,FALSE),3),\"\"))","v":""},{"$f":"IF(Worksheet!M411=\"\",\"\",Worksheet!M411)","v":""},{"$f":"IF(Worksheet!N411=\"\",\"\",Worksheet!N411)","v":""},{"$f":"IF(Worksheet!Y411=0,\"\",Worksheet!Y411)","v":""},"Watts",null,null,{"$f":"Worksheet!AA411","v":0},{"$f":"IF(ISBLANK(Worksheet!V411)=FALSE,Worksheet!V411,\"\")","v":0},{"$f":"Worksheet!AG411","v":0},{"$f":"Worksheet!AF411","v":0},0,{"$f":"IF(ISERROR(SEARCH(\"Gas\",Worksheet!$A$18))=TRUE,0,Worksheet!AH411)","v":0},0,null,null,{"$f":"IF(OR(Worksheet!F411=\"Incandescent\",Worksheet!F411=\"Halogen Incandescent\")=TRUE,118,IF(LEFT(Worksheet!F411,3)=\"HID\",117,IF(OR(RIGHT(Worksheet!F411,3)=\"T12\",RIGHT(Worksheet!F411,5)=\"T12HO\")=TRUE,115,IF(OR(RIGHT(Worksheet!F411,2)=\"T8\",RIGHT(Worksheet!F411,4)=\"RWT8\",RIGHT(Worksheet!F411,4)=\"T8HO\")=TRUE,115,\"\"))))","v":""},{"$f":"IF(ISBLANK(Worksheet!W411)=FALSE,Worksheet!W411,\"\")","v":0},{"$f":"IF(ISERROR(SEARCH(\"Oil\",Worksheet!$A$18))=TRUE,0,Worksheet!AH411)","v":0},0,{"$f":"IF(ISERROR(SEARCH(\"Propane\",Worksheet!$A$18))=TRUE,0,Worksheet!AH411)","v":0},0,{"$f":"IF(Worksheet!J411=0,\"\",Worksheet!J411)","v":""},{"$f":"IF(Worksheet!B411=0,\"\",Worksheet!B411)","v":""},{"$f":"IF(Worksheet!K411=0,\"\",Worksheet!K411)","v":""},{"$f":"IF(Worksheet!L411=0,\"\",Worksheet!L411)","v":""},{"$f":"IF(Worksheet!R411=0,\"\",Worksheet!R411)","v":""},{"$f":"IF(Worksheet!F411=0,\"\",Worksheet!F411)","v":""},{"$f":"IF(Worksheet!G411=0,\"\",Worksheet!G411)","v":""},{"$f":"IF(Worksheet!X411=0,\"\",Worksheet!X411)","v":""},{"$f":"IF(Worksheet!Q411=0,\"\",Worksheet!Q411)","v":""},{"$f":"IF(Worksheet!C411=0,\"\",Worksheet!C411)","v":""},{"$f":"IF(Worksheet!D411=0,\"\",Worksheet!D411)","v":""},{"$f":"IF(Worksheet!$A$11=TRUE,\"Y\",\"N\")","v":"N"},{"$f":"IF(Worksheet!$A$12=TRUE,\"Y\",\"N\")","v":"N"},{"$f":"IF(Worksheet!$B$11=TRUE,\"Y\",\"N\")","v":"N"},{"$f":"IF(Worksheet!$B$12=TRUE,\"Y\",\"N\")","v":"N"},{"$f":"IF(Worksheet!$C$11=TRUE,\"Y\",\"N\")","v":"N"},{"$f":"IFERROR(Worksheet!AB411,\"\")","v":0}]
[{"$f":"IF(IFERROR(SEARCH(\"Refrigerated\",Worksheet!L412,1),0)>0,122,IF(ISERROR(RIGHT(VLOOKUP(Worksheet!K412,Type!C$1:E$13,3,FALSE),3))=FALSE,RIGHT(VLOOKUP(Worksheet!K412,Type!C$1:E$13,3,FALSE),3),\"\"))","v":""},{"$f":"IF(Worksheet!M412=\"\",\"\",Worksheet!M412)","v":""},{"$f":"IF(Worksheet!N412=\"\",\"\",Worksheet!N412)","v":""},{"$f":"IF(Worksheet!Y412=0,\"\",Worksheet!Y412)","v":""},"Watts",null,null,{"$f":"Worksheet!AA412","v":0},{"$f":"IF(ISBLANK(Worksheet!V412)=FALSE,Worksheet!V412,\"\")","v":0},{"$f":"Worksheet!AG412","v":0},{"$f":"Worksheet!AF412","v":0},0,{"$f":"IF(ISERROR(SEARCH(\"Gas\",Worksheet!$A$18))=TRUE,0,Worksheet!AH412)","v":0},0,null,null,{"$f":"IF(OR(Worksheet!F412=\"Incandescent\",Worksheet!F412=\"Halogen Incandescent\")=TRUE,118,IF(LEFT(Worksheet!F412,3)=\"HID\",117,IF(OR(RIGHT(Worksheet!F412,3)=\"T12\",RIGHT(Worksheet!F412,5)=\"T12HO\")=TRUE,115,IF(OR(RIGHT(Worksheet!F412,2)=\"T8\",RIGHT(Worksheet!F412,4)=\"RWT8\",RIGHT(Worksheet!F412,4)=\"T8HO\")=TRUE,115,\"\"))))","v":""},{"$f":"IF(ISBLANK(Worksheet!W412)=FALSE,Worksheet!W412,\"\")","v":0},{"$f":"IF(ISERROR(SEARCH(\"Oil\",Worksheet!$A$18))=TRUE,0,Worksheet!AH412)","v":0},0,{"$f":"IF(ISERROR(SEARCH(\"Propane\",Worksheet!$A$18))=TRUE,0,Worksheet!AH412)","v":0},0,{"$f":"IF(Worksheet!J412=0,\"\",Worksheet!J412)","v":""},{"$f":"IF(Worksheet!B412=0,\"\",Worksheet!B412)","v":""},{"$f":"IF(Worksheet!K412=0,\"\",Worksheet!K412)","v":""},{"$f":"IF(Worksheet!L412=0,\"\",Worksheet!L412)","v":""},{"$f":"IF(Worksheet!R412=0,\"\",Worksheet!R412)","v":""},{"$f":"IF(Worksheet!F412=0,\"\",Worksheet!F412)","v":""},{"$f":"IF(Worksheet!G412=0,\"\",Worksheet!G412)","v":""},{"$f":"IF(Worksheet!X412=0,\"\",Worksheet!X412)","v":""},{"$f":"IF(Worksheet!Q412=0,\"\",Worksheet!Q412)","v":""},{"$f":"IF(Worksheet!C412=0,\"\",Worksheet!C412)","v":""},{"$f":"IF(Worksheet!D412=0,\"\",Worksheet!D412)","v":""},{"$f":"IF(Worksheet!$A$11=TRUE,\"Y\",\"N\")","v":"N"},{"$f":"IF(Worksheet!$A$12=TRUE,\"Y\",\"N\")","v":"N"},{"$f":"IF(Worksheet!$B$11=TRUE,\"Y\",\"N\")","v":"N"},{"$f":"IF(Worksheet!$B$12=TRUE,\"Y\",\"N\")","v":"N"},{"$f":"IF(Worksheet!$C$11=TRUE,\"Y\",\"N\")","v":"N"},{"$f":"IFERROR(Worksheet!AB412,\"\")","v":0}]
[{"$f":"IF(IFERROR(SEARCH(\"Refrigerated\",Worksheet!L413,1),0)>0,122,IF(ISERROR(RIGHT(VLOOKUP(Worksheet!K413,Type!C$1:E$13,3,FALSE),3))=FALSE,RIGHT(VLOOKUP(Worksheet!K413,Type!C$1:E$13,3,FALSE),3),\"\"))","v":""},{"$f":"IF(Worksheet!M413=\"\",\"\",Worksheet!M413)","v":""},{"$f":"IF(Worksheet!N413=\"\",\"\",Worksheet!N413)","v":""},{"$f":"IF(Worksheet!Y413=0,\"\",Worksheet!Y413)","v":""},"Watts",null,null,{"$f":"Worksheet!AA413","v":0},{"$f":"IF(ISBLANK(Worksheet!V413)=FALSE,Worksheet!V413,\"\")","v":0},{"$f":"Worksheet!AG413","v":0},{"$f":"Worksheet!AF413","v":0},{"$f":"J387*IF(A387=122,16,15)","v":0},{"$f":"IF(ISERROR(SEARCH(\"Gas\",Worksheet!$A$18))=TRUE,0,Worksheet!AH413)","v":0},{"$f":"M387*IF(A387=122,16,15)","v":0},null,null,{"$f":"IF(OR(Worksheet!F413=\"Incandescent\",Worksheet!F413=\"Halogen Incandescent\")=TRUE,118,IF(LEFT(Worksheet!F413,3)=\"HID\",117,IF(OR(RIGHT(Worksheet!F413,3)=\"T12\",RIGHT(Worksheet!F413,5)=\"T12HO\")=TRUE,115,IF(OR(RIGHT(Worksheet!F413,2)=\"T8\",RIGHT(Worksheet!F413,4)=\"RWT8\",RIGHT(Worksheet!F413,4)=\"T8HO\")=TRUE,115,\"\"))))","v":""},{"$f":"IF(ISBLANK(Worksheet!W413)=FALSE,Worksheet!W413,\"\")","v":0},{"$f":"IF(ISERROR(SEARCH(\"Oil\",Worksheet!$A$18))=TRUE,0,Worksheet!AH413)","v":0},{"$f":"S387*IF(A387=122,16,15)","v":0},{"$f":"IF(ISERROR(SEARCH(\"Propane\",Worksheet!$A$18))=TRUE,0,Worksheet!AH413)","v":0},{"$f":"U387*IF(A387=122,16,15)","v":0},{"$f":"IF(Worksheet!J413=0,\"\",Worksheet!J413)","v":""},{"$f":"IF(Worksheet!B413=0,\"\",Worksheet!B413)","v":""},{"$f":"IF(Worksheet!K413=0,\"\",Worksheet!K413)","v":""},{"$f":"IF(Worksheet!L413=0,\"\",Worksheet!L413)","v":""},{"$f":"IF(Worksheet!R413=0,\"\",Worksheet!R413)","v":""},{"$f":"IF(Worksheet!F413=0,\"\",Worksheet!F413)","v":""},{"$f":"IF(Worksheet!G413=0,\"\",Worksheet!G413)","v":""},{"$f":"IF(Worksheet!X413=0,\"\",Worksheet!X413)","v":""},{"$f":"IF(Worksheet!Q413=0,\"\",Worksheet!Q413)","v":""},{"$f":"IF(Worksheet!C413=0,\"\",Worksheet!C413)","v":""},{"$f":"IF(Worksheet!D413=0,\"\",Worksheet!D413)","v":""},{"$f":"IF(Worksheet!$A$11=TRUE,\"Y\",\"N\")","v":"N"},{"$f":"IF(Worksheet!$A$12=TRUE,\"Y\",\"N\")","v":"N"},{"$f":"IF(Worksheet!$B$11=TRUE,\"Y\",\"N\")","v":"N"},{"$f":"IF(Worksheet!$B$12=TRUE,\"Y\",\"N\")","v":"N"},{"$f":"IF(Worksheet!$C$11=TRUE,\"Y\",\"N\")","v":"N"},{"$f":"IFERROR(Worksheet!AB413,\"\")","v":0}]
[{"$f":"IF(IFERROR(SEARCH(\"Refrigerated\",Worksheet!L414,1),0)>0,122,IF(ISERROR(RIGHT(VLOOKUP(Worksheet!K414,Type!C$1:E$13,3,FALSE),3))=FALSE,RIGHT(VLOOKUP(Worksheet!K414,Type!C$1:E$13,3,FALSE),3),\"\"))","v":""},{"$f":"IF(Worksheet!M414=\"\",\"\",Worksheet!M414)","v":""},{"$f":"IF(Worksheet!N414=\"\",\"\",Worksheet!N414)","v":""},{"$f":"IF(Worksheet!Y414=0,\"\",Worksheet!Y414)","v":""},"Watts",null,null,{"$f":"Worksheet!AA414","v":0},{"$f":"IF(ISBLANK(Worksheet!V414)=FALSE,Worksheet!V414,\"\")","v":0},{"$f":"Worksheet!AG414","v":0},{"$f":"Worksheet!AF414","v":0},0,{"$f":"IF(ISERROR(SEARCH(\"Gas\",Worksheet!$A$18))=TRUE,0,Worksheet!AH414)","v":0},0,null,null,{"$f":"IF(OR(Worksheet!F414=\"Incandescent\",Worksheet!F414=\"Halogen Incandescent\")=TRUE,118,IF(LEFT(Worksheet!F414,3)=\"HID\",117,IF(OR(RIGHT(Worksheet!F414,3)=\"T12\",RIGHT(Worksheet!F414,5)=\"T12HO\")=TRUE,115,IF(OR(RIGHT(Worksheet!F414,2)=\"T8\",RIGHT(Worksheet!F414,4)=\"RWT8\",RIGHT(Worksheet!F414,4)=\"T8HO\")=TRUE,115,\"\"))))","v":""},{"$f":"IF(ISBLANK(Worksheet!W414)=FALSE,Worksheet!W414,\"\")","v":0},{"$f":"IF(ISERROR(SEARCH(\"Oil\",Worksheet!$A$18))=TRUE,0,Worksheet!AH414)","v":0},0,{"$f":"IF(ISERROR(SEARCH(\"Propane\",Worksheet!$A$18))=TRUE,0,Worksheet!AH414)","v":0},0,{"$f":"IF(Worksheet!J414=0,\"\",Worksheet!J414)","v":""},{"$f":"IF(Worksheet!B414=0,\"\",Worksheet!B414)","v":""},{"$f":"IF(Worksheet!K414=0,\"\",Worksheet!K414)","v":""},{"$f":"IF(Worksheet!L414=0,\"\",Worksheet!L414)","v":""},{"$f":"IF(Worksheet!R414=0,\"\",Worksheet!R414)","v":""},{"$f":"IF(Worksheet!F414=0,\"\",Worksheet!F414)","v":""},{"$f":"IF(Worksheet!G414=0,\"\",Worksheet!G414)","v":""},{"$f":"IF(Worksheet!X414=0,\"\",Worksheet!X414)","v":""},{"$f":"IF(Worksheet!Q414=0,\"\",Worksheet!Q414)","v":""},{"$f":"IF(Worksheet!C414=0,\"\",Worksheet!C414)","v":""},{"$f":"IF(Worksheet!D414=0,\"\",Worksheet!D414)","v":""},{"$f":"IF(Worksheet!$A$11=TRUE,\"Y\",\"N\")","v":"N"},{"$f":"IF(Worksheet!$A$12=TRUE,\"Y\",\"N\")","v":"N"},{"$f":"IF(Worksheet!$B$11=TRUE,\"Y\",\"N\")","v":"N"},{"$f":"IF(Worksheet!$B$12=TRUE,\"Y\",\"N\")","v":"N"},{"$f":"IF(Worksheet!$C$11=TRUE,\"Y\",\"N\")","v":"N"},{"$f":"IFERROR(Worksheet!AB414,\"\")","v":0}]
[{"$f":"IF(IFERROR(SEARCH(\"Refrigerated\",Worksheet!L415,1),0)>0,122,IF(ISERROR(RIGHT(VLOOKUP(Worksheet!K415,Type!C$1:E$13,3,FALSE),3))=FALSE,RIGHT(VLOOKUP(Worksheet!K415,Type!C$1:E$13,3,FALSE),3),\"\"))","v":""},{"$f":"IF(Worksheet!M415=\"\",\"\",Worksheet!M415)","v":""},{"$f":"IF(Worksheet!N415=\"\",\"\",Worksheet!N415)","v":""},{"$f":"IF(Worksheet!Y415=0,\"\",Worksheet!Y415)","v":""},"Watts",null,null,{"$f":"Worksheet!AA415","v":0},{"$f":"IF(ISBLANK(Worksheet!V415)=FALSE,Worksheet!V415,\"\")","v":0},{"$f":"Worksheet!AG415","v":0},{"$f":"Worksheet!AF415","v":0},0,{"$f":"IF(ISERROR(SEARCH(\"Gas\",Worksheet!$A$18))=TRUE,0,Worksheet!AH415)","v":0},0,null,null,{"$f":"IF(OR(Worksheet!F415=\"Incandescent\",Worksheet!F415=\"Halogen Incandescent\")=TRUE,118,IF(LEFT(Worksheet!F415,3)=\"HID\",117,IF(OR(RIGHT(Worksheet!F415,3)=\"T12\",RIGHT(Worksheet!F415,5)=\"T12HO\")=TRUE,115,IF(OR(RIGHT(Worksheet!F415,2)=\"T8\",RIGHT(Worksheet!F415,4)=\"RWT8\",RIGHT(Worksheet!F415,4)=\"T8HO\")=TRUE,115,\"\"))))","v":""},{"$f":"IF(ISBLANK(Worksheet!W415)=FALSE,Worksheet!W415,\"\")","v":0},{"$f":"IF(ISERROR(SEARCH(\"Oil\",Worksheet!$A$18))=TRUE,0,Worksheet!AH415)","v":0},0,{"$f":"IF(ISERROR(SEARCH(\"Propane\",Worksheet!$A$18))=TRUE,0,Worksheet!AH415)","v":0},0,{"$f":"IF(Worksheet!J415=0,\"\",Worksheet!J415)","v":""},{"$f":"IF(Worksheet!B415=0,\"\",Worksheet!B415)","v":""},{"$f":"IF(Worksheet!K415=0,\"\",Worksheet!K415)","v":""},{"$f":"IF(Worksheet!L415=0,\"\",Worksheet!L415)","v":""},{"$f":"IF(Worksheet!R415=0,\"\",Worksheet!R415)","v":""},{"$f":"IF(Worksheet!F415=0,\"\",Worksheet!F415)","v":""},{"$f":"IF(Worksheet!G415=0,\"\",Worksheet!G415)","v":""},{"$f":"IF(Worksheet!X415=0,\"\",Worksheet!X415)","v":""},{"$f":"IF(Worksheet!Q415=0,\"\",Worksheet!Q415)","v":""},{"$f":"IF(Worksheet!C415=0,\"\",Worksheet!C415)","v":""},{"$f":"IF(Worksheet!D415=0,\"\",Worksheet!D415)","v":""},{"$f":"IF(Worksheet!$A$11=TRUE,\"Y\",\"N\")","v":"N"},{"$f":"IF(Worksheet!$A$12=TRUE,\"Y\",\"N\")","v":"N"},{"$f":"IF(Worksheet!$B$11=TRUE,\"Y\",\"N\")","v":"N"},{"$f":"IF(Worksheet!$B$12=TRUE,\"Y\",\"N\")","v":"N"},{"$f":"IF(Worksheet!$C$11=TRUE,\"Y\",\"N\")","v":"N"},{"$f":"IFERROR(Worksheet!AB415,\"\")","v":0}]
[{"$f":"IF(IFERROR(SEARCH(\"Refrigerated\",Worksheet!L416,1),0)>0,122,IF(ISERROR(RIGHT(VLOOKUP(Worksheet!K416,Type!C$1:E$13,3,FALSE),3))=FALSE,RIGHT(VLOOKUP(Worksheet!K416,Type!C$1:E$13,3,FALSE),3),\"\"))","v":""},{"$f":"IF(Worksheet!M416=\"\",\"\",Worksheet!M416)","v":""},{"$f":"IF(Worksheet!N416=\"\",\"\",Worksheet!N416)","v":""},{"$f":"IF(Worksheet!Y416=0,\"\",Worksheet!Y416)","v":""},"Watts",null,null,{"$f":"Worksheet!AA416","v":0},{"$f":"IF(ISBLANK(Worksheet!V416)=FALSE,Worksheet!V416,\"\")","v":0},{"$f":"Worksheet!AG416","v":0},{"$f":"Worksheet!AF416","v":0},0,{"$f":"IF(ISERROR(SEARCH(\"Gas\",Worksheet!$A$18))=TRUE,0,Worksheet!AH416)","v":0},0,null,null,{"$f":"IF(OR(Worksheet!F416=\"Incandescent\",Worksheet!F416=\"Halogen Incandescent\")=TRUE,118,IF(LEFT(Worksheet!F416,3)=\"HID\",117,IF(OR(RIGHT(Worksheet!F416,3)=\"T12\",RIGHT(Worksheet!F416,5)=\"T12HO\")=TRUE,115,IF(OR(RIGHT(Worksheet!F416,2)=\"T8\",RIGHT(Worksheet!F416,4)=\"RWT8\",RIGHT(Worksheet!F416,4)=\"T8HO\")=TRUE,115,\"\"))))","v":""},{"$f":"IF(ISBLANK(Worksheet!W416)=FALSE,Worksheet!W416,\"\")","v":0},{"$f":"IF(ISERROR(SEARCH(\"Oil\",Worksheet!$A$18))=TRUE,0,Worksheet!AH416)","v":0},0,{"$f":"IF(ISERROR(SEARCH(\"Propane\",Worksheet!$A$18))=TRUE,0,Worksheet!AH416)","v":0},0,{"$f":"IF(Worksheet!J416=0,\"\",Worksheet!J416)","v":""},{"$f":"IF(Worksheet!B416=0,\"\",Worksheet!B416)","v":""},{"$f":"IF(Worksheet!K416=0,\"\",Worksheet!K416)","v":""},{"$f":"IF(Worksheet!L416=0,\"\",Worksheet!L416)","v":""},{"$f":"IF(Worksheet!R416=0,\"\",Worksheet!R416)","v":""},{"$f":"IF(Worksheet!F416=0,\"\",Worksheet!F416)","v":""},{"$f":"IF(Worksheet!G416=0,\"\",Worksheet!G416)","v":""},{"$f":"IF(Worksheet!X416=0,\"\",Worksheet!X416)","v":""},{"$f":"IF(Worksheet!Q416=0,\"\",Worksheet!Q416)","v":""},{"$f":"IF(Worksheet!C416=0,\"\",Worksheet!C416)","v":""},{"$f":"IF(Worksheet!D416=0,\"\",Worksheet!D416)","v":""},{"$f":"IF(Worksheet!$A$11=TRUE,\"Y\",\"N\")","v":"N"},{"$f":"IF(Worksheet!$A$12=TRUE,\"Y\",\"N\")","v":"N"},{"$f":"IF(Worksheet!$B$11=TRUE,\"Y\",\"N\")","v":"N"},{"$f":"IF(Worksheet!$B$12=TRUE,\"Y\",\"N\")","v":"N"},{"$f":"IF(Worksheet!$C$11=TRUE,\"Y\",\"N\")","v":"N"},{"$f":"IFERROR(Worksheet!AB416,\"\")","v":0}]
[{"$f":"IF(IFERROR(SEARCH(\"Refrigerated\",Worksheet!L417,1),0)>0,122,IF(ISERROR(RIGHT(VLOOKUP(Worksheet!K417,Type!C$1:E$13,3,FALSE),3))=FALSE,RIGHT(VLOOKUP(Worksheet!K417,Type!C$1:E$13,3,FALSE),3),\"\"))","v":""},{"$f":"IF(Worksheet!M417=\"\",\"\",Worksheet!M417)","v":""},{"$f":"IF(Worksheet!N417=\"\",\"\",Worksheet!N417)","v":""},{"$f":"IF(Worksheet!Y417=0,\"\",Worksheet!Y417)","v":""},"Watts",null,null,{"$f":"Worksheet!AA417","v":0},{"$f":"IF(ISBLANK(Worksheet!V417)=FALSE,Worksheet!V417,\"\")","v":0},{"$f":"Worksheet!AG417","v":0},{"$f":"Worksheet!AF417","v":0},0,{"$f":"IF(ISERROR(SEARCH(\"Gas\",Worksheet!$A$18))=TRUE,0,Worksheet!AH417)","v":0},0,null,null,{"$f":"IF(OR(Worksheet!F417=\"Incandescent\",Worksheet!F417=\"Halogen Incandescent\")=TRUE,118,IF(LEFT(Worksheet!F417,3)=\"HID\",117,IF(OR(RIGHT(Worksheet!F417,3)=\"T12\",RIGHT(Worksheet!F417,5)=\"T12HO\")=TRUE,115,IF(OR(RIGHT(Worksheet!F417,2)=\"T8\",RIGHT(Worksheet!F417,4)=\"RWT8\",RIGHT(Worksheet!F417,4)=\"T8HO\")=TRUE,115,\"\"))))","v":""},{"$f":"IF(ISBLANK(Worksheet!W417)=FALSE,Worksheet!W417,\"\")","v":0},{"$f":"IF(ISERROR(SEARCH(\"Oil\",Worksheet!$A$18))=TRUE,0,Worksheet!AH417)","v":0},0,{"$f":"IF(ISERROR(SEARCH(\"Propane\",Worksheet!$A$18))=TRUE,0,Worksheet!AH417)","v":0},0,{"$f":"IF(Worksheet!J417=0,\"\",Worksheet!J417)","v":""},{"$f":"IF(Worksheet!B417=0,\"\",Worksheet!B417)","v":""},{"$f":"IF(Worksheet!K417=0,\"\",Worksheet!K417)","v":""},{"$f":"IF(Worksheet!L417=0,\"\",Worksheet!L417)","v":""},{"$f":"IF(Worksheet!R417=0,\"\",Worksheet!R417)","v":""},{"$f":"IF(Worksheet!F417=0,\"\",Worksheet!F417)","v":""},{"$f":"IF(Worksheet!G417=0,\"\",Worksheet!G417)","v":""},{"$f":"IF(Worksheet!X417=0,\"\",Worksheet!X417)","v":""},{"$f":"IF(Worksheet!Q417=0,\"\",Worksheet!Q417)","v":""},{"$f":"IF(Worksheet!C417=0,\"\",Worksheet!C417)","v":""},{"$f":"IF(Worksheet!D417=0,\"\",Worksheet!D417)","v":""},{"$f":"IF(Worksheet!$A$11=TRUE,\"Y\",\"N\")","v":"N"},{"$f":"IF(Worksheet!$A$12=TRUE,\"Y\",\"N\")","v":"N"},{"$f":"IF(Worksheet!$B$11=TRUE,\"Y\",\"N\")","v":"N"},{"$f":"IF(Worksheet!$B$12=TRUE,\"Y\",\"N\")","v":"N"},{"$f":"IF(Worksheet!$C$11=TRUE,\"Y\",\"N\")","v":"N"},{"$f":"IFERROR(Worksheet!AB417,\"\")","v":0}]
[{"$f":"IF(IFERROR(SEARCH(\"Refrigerated\",Worksheet!L418,1),0)>0,122,IF(ISERROR(RIGHT(VLOOKUP(Worksheet!K418,Type!C$1:E$13,3,FALSE),3))=FALSE,RIGHT(VLOOKUP(Worksheet!K418,Type!C$1:E$13,3,FALSE),3),\"\"))","v":""},{"$f":"IF(Worksheet!M418=\"\",\"\",Worksheet!M418)","v":""},{"$f":"IF(Worksheet!N418=\"\",\"\",Worksheet!N418)","v":""},{"$f":"IF(Worksheet!Y418=0,\"\",Worksheet!Y418)","v":""},"Watts",null,null,{"$f":"Worksheet!AA418","v":0},{"$f":"IF(ISBLANK(Worksheet!V418)=FALSE,Worksheet!V418,\"\")","v":0},{"$f":"Worksheet!AG418","v":0},{"$f":"Worksheet!AF418","v":0},0,{"$f":"IF(ISERROR(SEARCH(\"Gas\",Worksheet!$A$18))=TRUE,0,Worksheet!AH418)","v":0},0,null,null,{"$f":"IF(OR(Worksheet!F418=\"Incandescent\",Worksheet!F418=\"Halogen Incandescent\")=TRUE,118,IF(LEFT(Worksheet!F418,3)=\"HID\",117,IF(OR(RIGHT(Worksheet!F418,3)=\"T12\",RIGHT(Worksheet!F418,5)=\"T12HO\")=TRUE,115,IF(OR(RIGHT(Worksheet!F418,2)=\"T8\",RIGHT(Worksheet!F418,4)=\"RWT8\",RIGHT(Worksheet!F418,4)=\"T8HO\")=TRUE,115,\"\"))))","v":""},{"$f":"IF(ISBLANK(Worksheet!W418)=FALSE,Worksheet!W418,\"\")","v":0},{"$f":"IF(ISERROR(SEARCH(\"Oil\",Worksheet!$A$18))=TRUE,0,Worksheet!AH418)","v":0},0,{"$f":"IF(ISERROR(SEARCH(\"Propane\",Worksheet!$A$18))=TRUE,0,Worksheet!AH418)","v":0},0,{"$f":"IF(Worksheet!J418=0,\"\",Worksheet!J418)","v":""},{"$f":"IF(Worksheet!B418=0,\"\",Worksheet!B418)","v":""},{"$f":"IF(Worksheet!K418=0,\"\",Worksheet!K418)","v":""},{"$f":"IF(Worksheet!L418=0,\"\",Worksheet!L418)","v":""},{"$f":"IF(Worksheet!R418=0,\"\",Worksheet!R418)","v":""},{"$f":"IF(Worksheet!F418=0,\"\",Worksheet!F418)","v":""},{"$f":"IF(Worksheet!G418=0,\"\",Worksheet!G418)","v":""},{"$f":"IF(Worksheet!X418=0,\"\",Worksheet!X418)","v":""},{"$f":"IF(Worksheet!Q418=0,\"\",Worksheet!Q418)","v":""},{"$f":"IF(Worksheet!C418=0,\"\",Worksheet!C418)","v":""},{"$f":"IF(Worksheet!D418=0,\"\",Worksheet!D418)","v":""},{"$f":"IF(Worksheet!$A$11=TRUE,\"Y\",\"N\")","v":"N"},{"$f":"IF(Worksheet!$A$12=TRUE,\"Y\",\"N\")","v":"N"},{"$f":"IF(Worksheet!$B$11=TRUE,\"Y\",\"N\")","v":"N"},{"$f":"IF(Worksheet!$B$12=TRUE,\"Y\",\"N\")","v":"N"},{"$f":"IF(Worksheet!$C$11=TRUE,\"Y\",\"N\")","v":"N"},{"$f":"IFERROR(Worksheet!AB418,\"\")","v":0}]
[{"$f":"IF(IFERROR(SEARCH(\"Refrigerated\",Worksheet!L419,1),0)>0,122,IF(ISERROR(RIGHT(VLOOKUP(Worksheet!K419,Type!C$1:E$13,3,FALSE),3))=FALSE,RIGHT(VLOOKUP(Worksheet!K419,Type!C$1:E$13,3,FALSE),3),\"\"))","v":""},{"$f":"IF(Worksheet!M419=\"\",\"\",Worksheet!M419)","v":""},{"$f":"IF(Worksheet!N419=\"\",\"\",Worksheet!N419)","v":""},{"$f":"IF(Worksheet!Y419=0,\"\",Worksheet!Y419)","v":""},"Watts",null,null,{"$f":"Worksheet!AA419","v":0},{"$f":"IF(ISBLANK(Worksheet!V419)=FALSE,Worksheet!V419,\"\")","v":0},{"$f":"Worksheet!AG419","v":0},{"$f":"Worksheet!AF419","v":0},0,{"$f":"IF(ISERROR(SEARCH(\"Gas\",Worksheet!$A$18))=TRUE,0,Worksheet!AH419)","v":0},0,null,null,{"$f":"IF(OR(Worksheet!F419=\"Incandescent\",Worksheet!F419=\"Halogen Incandescent\")=TRUE,118,IF(LEFT(Worksheet!F419,3)=\"HID\",117,IF(OR(RIGHT(Worksheet!F419,3)=\"T12\",RIGHT(Worksheet!F419,5)=\"T12HO\")=TRUE,115,IF(OR(RIGHT(Worksheet!F419,2)=\"T8\",RIGHT(Worksheet!F419,4)=\"RWT8\",RIGHT(Worksheet!F419,4)=\"T8HO\")=TRUE,115,\"\"))))","v":""},{"$f":"IF(ISBLANK(Worksheet!W419)=FALSE,Worksheet!W419,\"\")","v":0},{"$f":"IF(ISERROR(SEARCH(\"Oil\",Worksheet!$A$18))=TRUE,0,Worksheet!AH419)","v":0},0,{"$f":"IF(ISERROR(SEARCH(\"Propane\",Worksheet!$A$18))=TRUE,0,Worksheet!AH419)","v":0},0,{"$f":"IF(Worksheet!J419=0,\"\",Worksheet!J419)","v":""},{"$f":"IF(Worksheet!B419=0,\"\",Worksheet!B419)","v":""},{"$f":"IF(Worksheet!K419=0,\"\",Worksheet!K419)","v":""},{"$f":"IF(Worksheet!L419=0,\"\",Worksheet!L419)","v":""},{"$f":"IF(Worksheet!R419=0,\"\",Worksheet!R419)","v":""},{"$f":"IF(Worksheet!F419=0,\"\",Worksheet!F419)","v":""},{"$f":"IF(Worksheet!G419=0,\"\",Worksheet!G419)","v":""},{"$f":"IF(Worksheet!X419=0,\"\",Worksheet!X419)","v":""},{"$f":"IF(Worksheet!Q419=0,\"\",Worksheet!Q419)","v":""},{"$f":"IF(Worksheet!C419=0,\"\",Worksheet!C419)","v":""},{"$f":"IF(Worksheet!D419=0,\"\",Worksheet!D419)","v":""},{"$f":"IF(Worksheet!$A$11=TRUE,\"Y\",\"N\")","v":"N"},{"$f":"IF(Worksheet!$A$12=TRUE,\"Y\",\"N\")","v":"N"},{"$f":"IF(Worksheet!$B$11=TRUE,\"Y\",\"N\")","v":"N"},{"$f":"IF(Worksheet!$B$12=TRUE,\"Y\",\"N\")","v":"N"},{"$f":"IF(Worksheet!$C$11=TRUE,\"Y\",\"N\")","v":"N"},{"$f":"IFERROR(Worksheet!AB419,\"\")","v":0}]
[{"$f":"IF(IFERROR(SEARCH(\"Refrigerated\",Worksheet!L420,1),0)>0,122,IF(ISERROR(RIGHT(VLOOKUP(Worksheet!K420,Type!C$1:E$13,3,FALSE),3))=FALSE,RIGHT(VLOOKUP(Worksheet!K420,Type!C$1:E$13,3,FALSE),3),\"\"))","v":""},{"$f":"IF(Worksheet!M420=\"\",\"\",Worksheet!M420)","v":""},{"$f":"IF(Worksheet!N420=\"\",\"\",Worksheet!N420)","v":""},{"$f":"IF(Worksheet!Y420=0,\"\",Worksheet!Y420)","v":""},"Watts",null,null,{"$f":"Worksheet!AA420","v":0},{"$f":"IF(ISBLANK(Worksheet!V420)=FALSE,Worksheet!V420,\"\")","v":0},{"$f":"Worksheet!AG420","v":0},{"$f":"Worksheet!AF420","v":0},0,{"$f":"IF(ISERROR(SEARCH(\"Gas\",Worksheet!$A$18))=TRUE,0,Worksheet!AH420)","v":0},0,null,null,{"$f":"IF(OR(Worksheet!F420=\"Incandescent\",Worksheet!F420=\"Halogen Incandescent\")=TRUE,118,IF(LEFT(Worksheet!F420,3)=\"HID\",117,IF(OR(RIGHT(Worksheet!F420,3)=\"T12\",RIGHT(Worksheet!F420,5)=\"T12HO\")=TRUE,115,IF(OR(RIGHT(Worksheet!F420,2)=\"T8\",RIGHT(Worksheet!F420,4)=\"RWT8\",RIGHT(Worksheet!F420,4)=\"T8HO\")=TRUE,115,\"\"))))","v":""},{"$f":"IF(ISBLANK(Worksheet!W420)=FALSE,Worksheet!W420,\"\")","v":0},{"$f":"IF(ISERROR(SEARCH(\"Oil\",Worksheet!$A$18))=TRUE,0,Worksheet!AH420)","v":0},0,{"$f":"IF(ISERROR(SEARCH(\"Propane\",Worksheet!$A$18))=TRUE,0,Worksheet!AH420)","v":0},0,{"$f":"IF(Worksheet!J420=0,\"\",Worksheet!J420)","v":""},{"$f":"IF(Worksheet!B420=0,\"\",Worksheet!B420)","v":""},{"$f":"IF(Worksheet!K420=0,\"\",Worksheet!K420)","v":""},{"$f":"IF(Worksheet!L420=0,\"\",Worksheet!L420)","v":""},{"$f":"IF(Worksheet!R420=0,\"\",Worksheet!R420)","v":""},{"$f":"IF(Worksheet!F420=0,\"\",Worksheet!F420)","v":""},{"$f":"IF(Worksheet!G420=0,\"\",Worksheet!G420)","v":""},{"$f":"IF(Worksheet!X420=0,\"\",Worksheet!X420)","v":""},{"$f":"IF(Worksheet!Q420=0,\"\",Worksheet!Q420)","v":""},{"$f":"IF(Worksheet!C420=0,\"\",Worksheet!C420)","v":""},{"$f":"IF(Worksheet!D420=0,\"\",Worksheet!D420)","v":""},{"$f":"IF(Worksheet!$A$11=TRUE,\"Y\",\"N\")","v":"N"},{"$f":"IF(Worksheet!$A$12=TRUE,\"Y\",\"N\")","v":"N"},{"$f":"IF(Worksheet!$B$11=TRUE,\"Y\",\"N\")","v":"N"},{"$f":"IF(Worksheet!$B$12=TRUE,\"Y\",\"N\")","v":"N"},{"$f":"IF(Worksheet!$C$11=TRUE,\"Y\",\"N\")","v":"N"},{"$f":"IFERROR(Worksheet!AB420,\"\")","v":0}]
[{"$f":"IF(IFERROR(SEARCH(\"Refrigerated\",Worksheet!L421,1),0)>0,122,IF(ISERROR(RIGHT(VLOOKUP(Worksheet!K421,Type!C$1:E$13,3,FALSE),3))=FALSE,RIGHT(VLOOKUP(Worksheet!K421,Type!C$1:E$13,3,FALSE),3),\"\"))","v":""},{"$f":"IF(Worksheet!M421=\"\",\"\",Worksheet!M421)","v":""},{"$f":"IF(Worksheet!N421=\"\",\"\",Worksheet!N421)","v":""},{"$f":"IF(Worksheet!Y421=0,\"\",Worksheet!Y421)","v":""},"Watts",null,null,{"$f":"Worksheet!AA421","v":0},{"$f":"IF(ISBLANK(Worksheet!V421)=FALSE,Worksheet!V421,\"\")","v":0},{"$f":"Worksheet!AG421","v":0},{"$f":"Worksheet!AF421","v":0},0,{"$f":"IF(ISERROR(SEARCH(\"Gas\",Worksheet!$A$18))=TRUE,0,Worksheet!AH421)","v":0},0,null,null,{"$f":"IF(OR(Worksheet!F421=\"Incandescent\",Worksheet!F421=\"Halogen Incandescent\")=TRUE,118,IF(LEFT(Worksheet!F421,3)=\"HID\",117,IF(OR(RIGHT(Worksheet!F421,3)=\"T12\",RIGHT(Worksheet!F421,5)=\"T12HO\")=TRUE,115,IF(OR(RIGHT(Worksheet!F421,2)=\"T8\",RIGHT(Worksheet!F421,4)=\"RWT8\",RIGHT(Worksheet!F421,4)=\"T8HO\")=TRUE,115,\"\"))))","v":""},{"$f":"IF(ISBLANK(Worksheet!W421)=FALSE,Worksheet!W421,\"\")","v":0},{"$f":"IF(ISERROR(SEARCH(\"Oil\",Worksheet!$A$18))=TRUE,0,Worksheet!AH421)","v":0},0,{"$f":"IF(ISERROR(SEARCH(\"Propane\",Worksheet!$A$18))=TRUE,0,Worksheet!AH421)","v":0},0,{"$f":"IF(Worksheet!J421=0,\"\",Worksheet!J421)","v":""},{"$f":"IF(Worksheet!B421=0,\"\",Worksheet!B421)","v":""},{"$f":"IF(Worksheet!K421=0,\"\",Worksheet!K421)","v":""},{"$f":"IF(Worksheet!L421=0,\"\",Worksheet!L421)","v":""},{"$f":"IF(Worksheet!R421=0,\"\",Worksheet!R421)","v":""},{"$f":"IF(Worksheet!F421=0,\"\",Worksheet!F421)","v":""},{"$f":"IF(Worksheet!G421=0,\"\",Worksheet!G421)","v":""},{"$f":"IF(Worksheet!X421=0,\"\",Worksheet!X421)","v":""},{"$f":"IF(Worksheet!Q421=0,\"\",Worksheet!Q421)","v":""},{"$f":"IF(Worksheet!C421=0,\"\",Worksheet!C421)","v":""},{"$f":"IF(Worksheet!D421=0,\"\",Worksheet!D421)","v":""},{"$f":"IF(Worksheet!$A$11=TRUE,\"Y\",\"N\")","v":"N"},{"$f":"IF(Worksheet!$A$12=TRUE,\"Y\",\"N\")","v":"N"},{"$f":"IF(Worksheet!$B$11=TRUE,\"Y\",\"N\")","v":"N"},{"$f":"IF(Worksheet!$B$12=TRUE,\"Y\",\"N\")","v":"N"},{"$f":"IF(Worksheet!$C$11=TRUE,\"Y\",\"N\")","v":"N"},{"$f":"IFERROR(Worksheet!AB421,\"\")","v":0}]
[{"$f":"IF(IFERROR(SEARCH(\"Refrigerated\",Worksheet!L422,1),0)>0,122,IF(ISERROR(RIGHT(VLOOKUP(Worksheet!K422,Type!C$1:E$13,3,FALSE),3))=FALSE,RIGHT(VLOOKUP(Worksheet!K422,Type!C$1:E$13,3,FALSE),3),\"\"))","v":""},{"$f":"IF(Worksheet!M422=\"\",\"\",Worksheet!M422)","v":""},{"$f":"IF(Worksheet!N422=\"\",\"\",Worksheet!N422)","v":""},{"$f":"IF(Worksheet!Y422=0,\"\",Worksheet!Y422)","v":""},"Watts",null,null,{"$f":"Worksheet!AA422","v":0},{"$f":"IF(ISBLANK(Worksheet!V422)=FALSE,Worksheet!V422,\"\")","v":0},{"$f":"Worksheet!AG422","v":0},{"$f":"Worksheet!AF422","v":0},0,{"$f":"IF(ISERROR(SEARCH(\"Gas\",Worksheet!$A$18))=TRUE,0,Worksheet!AH422)","v":0},0,null,null,{"$f":"IF(OR(Worksheet!F422=\"Incandescent\",Worksheet!F422=\"Halogen Incandescent\")=TRUE,118,IF(LEFT(Worksheet!F422,3)=\"HID\",117,IF(OR(RIGHT(Worksheet!F422,3)=\"T12\",RIGHT(Worksheet!F422,5)=\"T12HO\")=TRUE,115,IF(OR(RIGHT(Worksheet!F422,2)=\"T8\",RIGHT(Worksheet!F422,4)=\"RWT8\",RIGHT(Worksheet!F422,4)=\"T8HO\")=TRUE,115,\"\"))))","v":""},{"$f":"IF(ISBLANK(Worksheet!W422)=FALSE,Worksheet!W422,\"\")","v":0},{"$f":"IF(ISERROR(SEARCH(\"Oil\",Worksheet!$A$18))=TRUE,0,Worksheet!AH422)","v":0},0,{"$f":"IF(ISERROR(SEARCH(\"Propane\",Worksheet!$A$18))=TRUE,0,Worksheet!AH422)","v":0},0,{"$f":"IF(Worksheet!J422=0,\"\",Worksheet!J422)","v":""},{"$f":"IF(Worksheet!B422=0,\"\",Worksheet!B422)","v":""},{"$f":"IF(Worksheet!K422=0,\"\",Worksheet!K422)","v":""},{"$f":"IF(Worksheet!L422=0,\"\",Worksheet!L422)","v":""},{"$f":"IF(Worksheet!R422=0,\"\",Worksheet!R422)","v":""},{"$f":"IF(Worksheet!F422=0,\"\",Worksheet!F422)","v":""},{"$f":"IF(Worksheet!G422=0,\"\",Worksheet!G422)","v":""},{"$f":"IF(Worksheet!X422=0,\"\",Worksheet!X422)","v":""},{"$f":"IF(Worksheet!Q422=0,\"\",Worksheet!Q422)","v":""},{"$f":"IF(Worksheet!C422=0,\"\",Worksheet!C422)","v":""},{"$f":"IF(Worksheet!D422=0,\"\",Worksheet!D422)","v":""},{"$f":"IF(Worksheet!$A$11=TRUE,\"Y\",\"N\")","v":"N"},{"$f":"IF(Worksheet!$A$12=TRUE,\"Y\",\"N\")","v":"N"},{"$f":"IF(Worksheet!$B$11=TRUE,\"Y\",\"N\")","v":"N"},{"$f":"IF(Worksheet!$B$12=TRUE,\"Y\",\"N\")","v":"N"},{"$f":"IF(Worksheet!$C$11=TRUE,\"Y\",\"N\")","v":"N"},{"$f":"IFERROR(Worksheet!AB422,\"\")","v":0}]
[{"$f":"IF(IFERROR(SEARCH(\"Refrigerated\",Worksheet!L423,1),0)>0,122,IF(ISERROR(RIGHT(VLOOKUP(Worksheet!K423,Type!C$1:E$13,3,FALSE),3))=FALSE,RIGHT(VLOOKUP(Worksheet!K423,Type!C$1:E$13,3,FALSE),3),\"\"))","v":""},{"$f":"IF(Worksheet!M423=\"\",\"\",Worksheet!M423)","v":""},{"$f":"IF(Worksheet!N423=\"\",\"\",Worksheet!N423)","v":""},{"$f":"IF(Worksheet!Y423=0,\"\",Worksheet!Y423)","v":""},"Watts",null,null,{"$f":"Worksheet!AA423","v":0},{"$f":"IF(ISBLANK(Worksheet!V423)=FALSE,Worksheet!V423,\"\")","v":0},{"$f":"Worksheet!AG423","v":0},{"$f":"Worksheet!AF423","v":0},0,{"$f":"IF(ISERROR(SEARCH(\"Gas\",Worksheet!$A$18))=TRUE,0,Worksheet!AH423)","v":0},0,null,null,{"$f":"IF(OR(Worksheet!F423=\"Incandescent\",Worksheet!F423=\"Halogen Incandescent\")=TRUE,118,IF(LEFT(Worksheet!F423,3)=\"HID\",117,IF(OR(RIGHT(Worksheet!F423,3)=\"T12\",RIGHT(Worksheet!F423,5)=\"T12HO\")=TRUE,115,IF(OR(RIGHT(Worksheet!F423,2)=\"T8\",RIGHT(Worksheet!F423,4)=\"RWT8\",RIGHT(Worksheet!F423,4)=\"T8HO\")=TRUE,115,\"\"))))","v":""},{"$f":"IF(ISBLANK(Worksheet!W423)=FALSE,Worksheet!W423,\"\")","v":0},{"$f":"IF(ISERROR(SEARCH(\"Oil\",Worksheet!$A$18))=TRUE,0,Worksheet!AH423)","v":0},0,{"$f":"IF(ISERROR(SEARCH(\"Propane\",Worksheet!$A$18))=TRUE,0,Worksheet!AH423)","v":0},0,{"$f":"IF(Worksheet!J423=0,\"\",Worksheet!J423)","v":""},{"$f":"IF(Worksheet!B423=0,\"\",Worksheet!B423)","v":""},{"$f":"IF(Worksheet!K423=0,\"\",Worksheet!K423)","v":""},{"$f":"IF(Worksheet!L423=0,\"\",Worksheet!L423)","v":""},{"$f":"IF(Worksheet!R423=0,\"\",Worksheet!R423)","v":""},{"$f":"IF(Worksheet!F423=0,\"\",Worksheet!F423)","v":""},{"$f":"IF(Worksheet!G423=0,\"\",Worksheet!G423)","v":""},{"$f":"IF(Worksheet!X423=0,\"\",Worksheet!X423)","v":""},{"$f":"IF(Worksheet!Q423=0,\"\",Worksheet!Q423)","v":""},{"$f":"IF(Worksheet!C423=0,\"\",Worksheet!C423)","v":""},{"$f":"IF(Worksheet!D423=0,\"\",Worksheet!D423)","v":""},{"$f":"IF(Worksheet!$A$11=TRUE,\"Y\",\"N\")","v":"N"},{"$f":"IF(Worksheet!$A$12=TRUE,\"Y\",\"N\")","v":"N"},{"$f":"IF(Worksheet!$B$11=TRUE,\"Y\",\"N\")","v":"N"},{"$f":"IF(Worksheet!$B$12=TRUE,\"Y\",\"N\")","v":"N"},{"$f":"IF(Worksheet!$C$11=TRUE,\"Y\",\"N\")","v":"N"},{"$f":"IFERROR(Worksheet!AB423,\"\")","v":0}]
[{"$f":"IF(IFERROR(SEARCH(\"Refrigerated\",Worksheet!L424,1),0)>0,122,IF(ISERROR(RIGHT(VLOOKUP(Worksheet!K424,Type!C$1:E$13,3,FALSE),3))=FALSE,RIGHT(VLOOKUP(Worksheet!K424,Type!C$1:E$13,3,FALSE),3),\"\"))","v":""},{"$f":"IF(Worksheet!M424=\"\",\"\",Worksheet!M424)","v":""},{"$f":"IF(Worksheet!N424=\"\",\"\",Worksheet!N424)","v":""},{"$f":"IF(Worksheet!Y424=0,\"\",Worksheet!Y424)","v":""},"Watts",null,null,{"$f":"Worksheet!AA424","v":0},{"$f":"IF(ISBLANK(Worksheet!V424)=FALSE,Worksheet!V424,\"\")","v":0},{"$f":"Worksheet!AG424","v":0},{"$f":"Worksheet!AF424","v":0},0,{"$f":"IF(ISERROR(SEARCH(\"Gas\",Worksheet!$A$18))=TRUE,0,Worksheet!AH424)","v":0},0,null,null,{"$f":"IF(OR(Worksheet!F424=\"Incandescent\",Worksheet!F424=\"Halogen Incandescent\")=TRUE,118,IF(LEFT(Worksheet!F424,3)=\"HID\",117,IF(OR(RIGHT(Worksheet!F424,3)=\"T12\",RIGHT(Worksheet!F424,5)=\"T12HO\")=TRUE,115,IF(OR(RIGHT(Worksheet!F424,2)=\"T8\",RIGHT(Worksheet!F424,4)=\"RWT8\",RIGHT(Worksheet!F424,4)=\"T8HO\")=TRUE,115,\"\"))))","v":""},{"$f":"IF(ISBLANK(Worksheet!W424)=FALSE,Worksheet!W424,\"\")","v":0},{"$f":"IF(ISERROR(SEARCH(\"Oil\",Worksheet!$A$18))=TRUE,0,Worksheet!AH424)","v":0},0,{"$f":"IF(ISERROR(SEARCH(\"Propane\",Worksheet!$A$18))=TRUE,0,Worksheet!AH424)","v":0},0,{"$f":"IF(Worksheet!J424=0,\"\",Worksheet!J424)","v":""},{"$f":"IF(Worksheet!B424=0,\"\",Worksheet!B424)","v":""},{"$f":"IF(Worksheet!K424=0,\"\",Worksheet!K424)","v":""},{"$f":"IF(Worksheet!L424=0,\"\",Worksheet!L424)","v":""},{"$f":"IF(Worksheet!R424=0,\"\",Worksheet!R424)","v":""},{"$f":"IF(Worksheet!F424=0,\"\",Worksheet!F424)","v":""},{"$f":"IF(Worksheet!G424=0,\"\",Worksheet!G424)","v":""},{"$f":"IF(Worksheet!X424=0,\"\",Worksheet!X424)","v":""},{"$f":"IF(Worksheet!Q424=0,\"\",Worksheet!Q424)","v":""},{"$f":"IF(Worksheet!C424=0,\"\",Worksheet!C424)","v":""},{"$f":"IF(Worksheet!D424=0,\"\",Worksheet!D424)","v":""},{"$f":"IF(Worksheet!$A$11=TRUE,\"Y\",\"N\")","v":"N"},{"$f":"IF(Worksheet!$A$12=TRUE,\"Y\",\"N\")","v":"N"},{"$f":"IF(Worksheet!$B$11=TRUE,\"Y\",\"N\")","v":"N"},{"$f":"IF(Worksheet!$B$12=TRUE,\"Y\",\"N\")","v":"N"},{"$f":"IF(Worksheet!$C$11=TRUE,\"Y\",\"N\")","v":"N"},{"$f":"IFERROR(Worksheet!AB424,\"\")","v":0}]
[{"$f":"IF(IFERROR(SEARCH(\"Refrigerated\",Worksheet!L425,1),0)>0,122,IF(ISERROR(RIGHT(VLOOKUP(Worksheet!K425,Type!C$1:E$13,3,FALSE),3))=FALSE,RIGHT(VLOOKUP(Worksheet!K425,Type!C$1:E$13,3,FALSE),3),\"\"))","v":""},{"$f":"IF(Worksheet!M425=\"\",\"\",Worksheet!M425)","v":""},{"$f":"IF(Worksheet!N425=\"\",\"\",Worksheet!N425)","v":""},{"$f":"IF(Worksheet!Y425=0,\"\",Worksheet!Y425)","v":""},"Watts",null,null,{"$f":"Worksheet!AA425","v":0},{"$f":"IF(ISBLANK(Worksheet!V425)=FALSE,Worksheet!V425,\"\")","v":0},{"$f":"Worksheet!AG425","v":0},{"$f":"Worksheet!AF425","v":0},0,{"$f":"IF(ISERROR(SEARCH(\"Gas\",Worksheet!$A$18))=TRUE,0,Worksheet!AH425)","v":0},0,null,null,{"$f":"IF(OR(Worksheet!F425=\"Incandescent\",Worksheet!F425=\"Halogen Incandescent\")=TRUE,118,IF(LEFT(Worksheet!F425,3)=\"HID\",117,IF(OR(RIGHT(Worksheet!F425,3)=\"T12\",RIGHT(Worksheet!F425,5)=\"T12HO\")=TRUE,115,IF(OR(RIGHT(Worksheet!F425,2)=\"T8\",RIGHT(Worksheet!F425,4)=\"RWT8\",RIGHT(Worksheet!F425,4)=\"T8HO\")=TRUE,115,\"\"))))","v":""},{"$f":"IF(ISBLANK(Worksheet!W425)=FALSE,Worksheet!W425,\"\")","v":0},{"$f":"IF(ISERROR(SEARCH(\"Oil\",Worksheet!$A$18))=TRUE,0,Worksheet!AH425)","v":0},0,{"$f":"IF(ISERROR(SEARCH(\"Propane\",Worksheet!$A$18))=TRUE,0,Worksheet!AH425)","v":0},0,{"$f":"IF(Worksheet!J425=0,\"\",Worksheet!J425)","v":""},{"$f":"IF(Worksheet!B425=0,\"\",Worksheet!B425)","v":""},{"$f":"IF(Worksheet!K425=0,\"\",Worksheet!K425)","v":""},{"$f":"IF(Worksheet!L425=0,\"\",Worksheet!L425)","v":""},{"$f":"IF(Worksheet!R425=0,\"\",Worksheet!R425)","v":""},{"$f":"IF(Worksheet!F425=0,\"\",Worksheet!F425)","v":""},{"$f":"IF(Worksheet!G425=0,\"\",Worksheet!G425)","v":""},{"$f":"IF(Worksheet!X425=0,\"\",Worksheet!X425)","v":""},{"$f":"IF(Worksheet!Q425=0,\"\",Worksheet!Q425)","v":""},{"$f":"IF(Worksheet!C425=0,\"\",Worksheet!C425)","v":""},{"$f":"IF(Worksheet!D425=0,\"\",Worksheet!D425)","v":""},{"$f":"IF(Worksheet!$A$11=TRUE,\"Y\",\"N\")","v":"N"},{"$f":"IF(Worksheet!$A$12=TRUE,\"Y\",\"N\")","v":"N"},{"$f":"IF(Worksheet!$B$11=TRUE,\"Y\",\"N\")","v":"N"},{"$f":"IF(Worksheet!$B$12=TRUE,\"Y\",\"N\")","v":"N"},{"$f":"IF(Worksheet!$C$11=TRUE,\"Y\",\"N\")","v":"N"},{"$f":"IFERROR(Worksheet!AB425,\"\")","v":0}]
[{"$f":"IF(IFERROR(SEARCH(\"Refrigerated\",Worksheet!L426,1),0)>0,122,IF(ISERROR(RIGHT(VLOOKUP(Worksheet!K426,Type!C$1:E$13,3,FALSE),3))=FALSE,RIGHT(VLOOKUP(Worksheet!K426,Type!C$1:E$13,3,FALSE),3),\"\"))","v":""},{"$f":"IF(Worksheet!M426=\"\",\"\",Worksheet!M426)","v":""},{"$f":"IF(Worksheet!N426=\"\",\"\",Worksheet!N426)","v":""},{"$f":"IF(Worksheet!Y426=0,\"\",Worksheet!Y426)","v":""},"Watts",null,null,{"$f":"Worksheet!AA426","v":0},{"$f":"IF(ISBLANK(Worksheet!V426)=FALSE,Worksheet!V426,\"\")","v":0},{"$f":"Worksheet!AG426","v":0},{"$f":"Worksheet!AF426","v":0},0,{"$f":"IF(ISERROR(SEARCH(\"Gas\",Worksheet!$A$18))=TRUE,0,Worksheet!AH426)","v":0},0,null,null,{"$f":"IF(OR(Worksheet!F426=\"Incandescent\",Worksheet!F426=\"Halogen Incandescent\")=TRUE,118,IF(LEFT(Worksheet!F426,3)=\"HID\",117,IF(OR(RIGHT(Worksheet!F426,3)=\"T12\",RIGHT(Worksheet!F426,5)=\"T12HO\")=TRUE,115,IF(OR(RIGHT(Worksheet!F426,2)=\"T8\",RIGHT(Worksheet!F426,4)=\"RWT8\",RIGHT(Worksheet!F426,4)=\"T8HO\")=TRUE,115,\"\"))))","v":""},{"$f":"IF(ISBLANK(Worksheet!W426)=FALSE,Worksheet!W426,\"\")","v":0},{"$f":"IF(ISERROR(SEARCH(\"Oil\",Worksheet!$A$18))=TRUE,0,Worksheet!AH426)","v":0},0,{"$f":"IF(ISERROR(SEARCH(\"Propane\",Worksheet!$A$18))=TRUE,0,Worksheet!AH426)","v":0},0,{"$f":"IF(Worksheet!J426=0,\"\",Worksheet!J426)","v":""},{"$f":"IF(Worksheet!B426=0,\"\",Worksheet!B426)","v":""},{"$f":"IF(Worksheet!K426=0,\"\",Worksheet!K426)","v":""},{"$f":"IF(Worksheet!L426=0,\"\",Worksheet!L426)","v":""},{"$f":"IF(Worksheet!R426=0,\"\",Worksheet!R426)","v":""},{"$f":"IF(Worksheet!F426=0,\"\",Worksheet!F426)","v":""},{"$f":"IF(Worksheet!G426=0,\"\",Worksheet!G426)","v":""},{"$f":"IF(Worksheet!X426=0,\"\",Worksheet!X426)","v":""},{"$f":"IF(Worksheet!Q426=0,\"\",Worksheet!Q426)","v":""},{"$f":"IF(Worksheet!C426=0,\"\",Worksheet!C426)","v":""},{"$f":"IF(Worksheet!D426=0,\"\",Worksheet!D426)","v":""},{"$f":"IF(Worksheet!$A$11=TRUE,\"Y\",\"N\")","v":"N"},{"$f":"IF(Worksheet!$A$12=TRUE,\"Y\",\"N\")","v":"N"},{"$f":"IF(Worksheet!$B$11=TRUE,\"Y\",\"N\")","v":"N"},{"$f":"IF(Worksheet!$B$12=TRUE,\"Y\",\"N\")","v":"N"},{"$f":"IF(Worksheet!$C$11=TRUE,\"Y\",\"N\")","v":"N"},{"$f":"IFERROR(Worksheet!AB426,\"\")","v":0}]
[{"$f":"IF(IFERROR(SEARCH(\"Refrigerated\",Worksheet!L427,1),0)>0,122,IF(ISERROR(RIGHT(VLOOKUP(Worksheet!K427,Type!C$1:E$13,3,FALSE),3))=FALSE,RIGHT(VLOOKUP(Worksheet!K427,Type!C$1:E$13,3,FALSE),3),\"\"))","v":""},{"$f":"IF(Worksheet!M427=\"\",\"\",Worksheet!M427)","v":""},{"$f":"IF(Worksheet!N427=\"\",\"\",Worksheet!N427)","v":""},{"$f":"IF(Worksheet!Y427=0,\"\",Worksheet!Y427)","v":""},"Watts",null,null,{"$f":"Worksheet!AA427","v":0},{"$f":"IF(ISBLANK(Worksheet!V427)=FALSE,Worksheet!V427,\"\")","v":0},{"$f":"Worksheet!AG427","v":0},{"$f":"Worksheet!AF427","v":0},0,{"$f":"IF(ISERROR(SEARCH(\"Gas\",Worksheet!$A$18))=TRUE,0,Worksheet!AH427)","v":0},0,null,null,{"$f":"IF(OR(Worksheet!F427=\"Incandescent\",Worksheet!F427=\"Halogen Incandescent\")=TRUE,118,IF(LEFT(Worksheet!F427,3)=\"HID\",117,IF(OR(RIGHT(Worksheet!F427,3)=\"T12\",RIGHT(Worksheet!F427,5)=\"T12HO\")=TRUE,115,IF(OR(RIGHT(Worksheet!F427,2)=\"T8\",RIGHT(Worksheet!F427,4)=\"RWT8\",RIGHT(Worksheet!F427,4)=\"T8HO\")=TRUE,115,\"\"))))","v":""},{"$f":"IF(ISBLANK(Worksheet!W427)=FALSE,Worksheet!W427,\"\")","v":0},{"$f":"IF(ISERROR(SEARCH(\"Oil\",Worksheet!$A$18))=TRUE,0,Worksheet!AH427)","v":0},0,{"$f":"IF(ISERROR(SEARCH(\"Propane\",Worksheet!$A$18))=TRUE,0,Worksheet!AH427)","v":0},0,{"$f":"IF(Worksheet!J427=0,\"\",Worksheet!J427)","v":""},{"$f":"IF(Worksheet!B427=0,\"\",Worksheet!B427)","v":""},{"$f":"IF(Worksheet!K427=0,\"\",Worksheet!K427)","v":""},{"$f":"IF(Worksheet!L427=0,\"\",Worksheet!L427)","v":""},{"$f":"IF(Worksheet!R427=0,\"\",Worksheet!R427)","v":""},{"$f":"IF(Worksheet!F427=0,\"\",Worksheet!F427)","v":""},{"$f":"IF(Worksheet!G427=0,\"\",Worksheet!G427)","v":""},{"$f":"IF(Worksheet!X427=0,\"\",Worksheet!X427)","v":""},{"$f":"IF(Worksheet!Q427=0,\"\",Worksheet!Q427)","v":""},{"$f":"IF(Worksheet!C427=0,\"\",Worksheet!C427)","v":""},{"$f":"IF(Worksheet!D427=0,\"\",Worksheet!D427)","v":""},{"$f":"IF(Worksheet!$A$11=TRUE,\"Y\",\"N\")","v":"N"},{"$f":"IF(Worksheet!$A$12=TRUE,\"Y\",\"N\")","v":"N"},{"$f":"IF(Worksheet!$B$11=TRUE,\"Y\",\"N\")","v":"N"},{"$f":"IF(Worksheet!$B$12=TRUE,\"Y\",\"N\")","v":"N"},{"$f":"IF(Worksheet!$C$11=TRUE,\"Y\",\"N\")","v":"N"},{"$f":"IFERROR(Worksheet!AB427,\"\")","v":0}]
[{"$f":"IF(IFERROR(SEARCH(\"Refrigerated\",Worksheet!L428,1),0)>0,122,IF(ISERROR(RIGHT(VLOOKUP(Worksheet!K428,Type!C$1:E$13,3,FALSE),3))=FALSE,RIGHT(VLOOKUP(Worksheet!K428,Type!C$1:E$13,3,FALSE),3),\"\"))","v":""},{"$f":"IF(Worksheet!M428=\"\",\"\",Worksheet!M428)","v":""},{"$f":"IF(Worksheet!N428=\"\",\"\",Worksheet!N428)","v":""},{"$f":"IF(Worksheet!Y428=0,\"\",Worksheet!Y428)","v":""},"Watts",null,null,{"$f":"Worksheet!AA428","v":0},{"$f":"IF(ISBLANK(Worksheet!V428)=FALSE,Worksheet!V428,\"\")","v":0},{"$f":"Worksheet!AG428","v":0},{"$f":"Worksheet!AF428","v":0},0,{"$f":"IF(ISERROR(SEARCH(\"Gas\",Worksheet!$A$18))=TRUE,0,Worksheet!AH428)","v":0},0,null,null,{"$f":"IF(OR(Worksheet!F428=\"Incandescent\",Worksheet!F428=\"Halogen Incandescent\")=TRUE,118,IF(LEFT(Worksheet!F428,3)=\"HID\",117,IF(OR(RIGHT(Worksheet!F428,3)=\"T12\",RIGHT(Worksheet!F428,5)=\"T12HO\")=TRUE,115,IF(OR(RIGHT(Worksheet!F428,2)=\"T8\",RIGHT(Worksheet!F428,4)=\"RWT8\",RIGHT(Worksheet!F428,4)=\"T8HO\")=TRUE,115,\"\"))))","v":""},{"$f":"IF(ISBLANK(Worksheet!W428)=FALSE,Worksheet!W428,\"\")","v":0},{"$f":"IF(ISERROR(SEARCH(\"Oil\",Worksheet!$A$18))=TRUE,0,Worksheet!AH428)","v":0},0,{"$f":"IF(ISERROR(SEARCH(\"Propane\",Worksheet!$A$18))=TRUE,0,Worksheet!AH428)","v":0},0,{"$f":"IF(Worksheet!J428=0,\"\",Worksheet!J428)","v":""},{"$f":"IF(Worksheet!B428=0,\"\",Worksheet!B428)","v":""},{"$f":"IF(Worksheet!K428=0,\"\",Worksheet!K428)","v":""},{"$f":"IF(Worksheet!L428=0,\"\",Worksheet!L428)","v":""},{"$f":"IF(Worksheet!R428=0,\"\",Worksheet!R428)","v":""},{"$f":"IF(Worksheet!F428=0,\"\",Worksheet!F428)","v":""},{"$f":"IF(Worksheet!G428=0,\"\",Worksheet!G428)","v":""},{"$f":"IF(Worksheet!X428=0,\"\",Worksheet!X428)","v":""},{"$f":"IF(Worksheet!Q428=0,\"\",Worksheet!Q428)","v":""},{"$f":"IF(Worksheet!C428=0,\"\",Worksheet!C428)","v":""},{"$f":"IF(Worksheet!D428=0,\"\",Worksheet!D428)","v":""},{"$f":"IF(Worksheet!$A$11=TRUE,\"Y\",\"N\")","v":"N"},{"$f":"IF(Worksheet!$A$12=TRUE,\"Y\",\"N\")","v":"N"},{"$f":"IF(Worksheet!$B$11=TRUE,\"Y\",\"N\")","v":"N"},{"$f":"IF(Worksheet!$B$12=TRUE,\"Y\",\"N\")","v":"N"},{"$f":"IF(Worksheet!$C$11=TRUE,\"Y\",\"N\")","v":"N"},{"$f":"IFERROR(Worksheet!AB428,\"\")","v":0}]
[{"$f":"IF(IFERROR(SEARCH(\"Refrigerated\",Worksheet!L429,1),0)>0,122,IF(ISERROR(RIGHT(VLOOKUP(Worksheet!K429,Type!C$1:E$13,3,FALSE),3))=FALSE,RIGHT(VLOOKUP(Worksheet!K429,Type!C$1:E$13,3,FALSE),3),\"\"))","v":""},{"$f":"IF(Worksheet!M429=\"\",\"\",Worksheet!M429)","v":""},{"$f":"IF(Worksheet!N429=\"\",\"\",Worksheet!N429)","v":""},{"$f":"IF(Worksheet!Y429=0,\"\",Worksheet!Y429)","v":""},"Watts",null,null,{"$f":"Worksheet!AA429","v":0},{"$f":"IF(ISBLANK(Worksheet!V429)=FALSE,Worksheet!V429,\"\")","v":0},{"$f":"Worksheet!AG429","v":0},{"$f":"Worksheet!AF429","v":0},0,{"$f":"IF(ISERROR(SEARCH(\"Gas\",Worksheet!$A$18))=TRUE,0,Worksheet!AH429)","v":0},0,null,null,{"$f":"IF(OR(Worksheet!F429=\"Incandescent\",Worksheet!F429=\"Halogen Incandescent\")=TRUE,118,IF(LEFT(Worksheet!F429,3)=\"HID\",117,IF(OR(RIGHT(Worksheet!F429,3)=\"T12\",RIGHT(Worksheet!F429,5)=\"T12HO\")=TRUE,115,IF(OR(RIGHT(Worksheet!F429,2)=\"T8\",RIGHT(Worksheet!F429,4)=\"RWT8\",RIGHT(Worksheet!F429,4)=\"T8HO\")=TRUE,115,\"\"))))","v":""},{"$f":"IF(ISBLANK(Worksheet!W429)=FALSE,Worksheet!W429,\"\")","v":0},{"$f":"IF(ISERROR(SEARCH(\"Oil\",Worksheet!$A$18))=TRUE,0,Worksheet!AH429)","v":0},0,{"$f":"IF(ISERROR(SEARCH(\"Propane\",Worksheet!$A$18))=TRUE,0,Worksheet!AH429)","v":0},0,{"$f":"IF(Worksheet!J429=0,\"\",Worksheet!J429)","v":""},{"$f":"IF(Worksheet!B429=0,\"\",Worksheet!B429)","v":""},{"$f":"IF(Worksheet!K429=0,\"\",Worksheet!K429)","v":""},{"$f":"IF(Worksheet!L429=0,\"\",Worksheet!L429)","v":""},{"$f":"IF(Worksheet!R429=0,\"\",Worksheet!R429)","v":""},{"$f":"IF(Worksheet!F429=0,\"\",Worksheet!F429)","v":""},{"$f":"IF(Worksheet!G429=0,\"\",Worksheet!G429)","v":""},{"$f":"IF(Worksheet!X429=0,\"\",Worksheet!X429)","v":""},{"$f":"IF(Worksheet!Q429=0,\"\",Worksheet!Q429)","v":""},{"$f":"IF(Worksheet!C429=0,\"\",Worksheet!C429)","v":""},{"$f":"IF(Worksheet!D429=0,\"\",Worksheet!D429)","v":""},{"$f":"IF(Worksheet!$A$11=TRUE,\"Y\",\"N\")","v":"N"},{"$f":"IF(Worksheet!$A$12=TRUE,\"Y\",\"N\")","v":"N"},{"$f":"IF(Worksheet!$B$11=TRUE,\"Y\",\"N\")","v":"N"},{"$f":"IF(Worksheet!$B$12=TRUE,\"Y\",\"N\")","v":"N"},{"$f":"IF(Worksheet!$C$11=TRUE,\"Y\",\"N\")","v":"N"},{"$f":"IFERROR(Worksheet!AB429,\"\")","v":0}]
[{"$f":"IF(IFERROR(SEARCH(\"Refrigerated\",Worksheet!L430,1),0)>0,122,IF(ISERROR(RIGHT(VLOOKUP(Worksheet!K430,Type!C$1:E$13,3,FALSE),3))=FALSE,RIGHT(VLOOKUP(Worksheet!K430,Type!C$1:E$13,3,FALSE),3),\"\"))","v":""},{"$f":"IF(Worksheet!M430=\"\",\"\",Worksheet!M430)","v":""},{"$f":"IF(Worksheet!N430=\"\",\"\",Worksheet!N430)","v":""},{"$f":"IF(Worksheet!Y430=0,\"\",Worksheet!Y430)","v":""},"Watts",null,null,{"$f":"Worksheet!AA430","v":0},{"$f":"IF(ISBLANK(Worksheet!V430)=FALSE,Worksheet!V430,\"\")","v":0},{"$f":"Worksheet!AG430","v":0},{"$f":"Worksheet!AF430","v":0},0,{"$f":"IF(ISERROR(SEARCH(\"Gas\",Worksheet!$A$18))=TRUE,0,Worksheet!AH430)","v":0},0,null,null,{"$f":"IF(OR(Worksheet!F430=\"Incandescent\",Worksheet!F430=\"Halogen Incandescent\")=TRUE,118,IF(LEFT(Worksheet!F430,3)=\"HID\",117,IF(OR(RIGHT(Worksheet!F430,3)=\"T12\",RIGHT(Worksheet!F430,5)=\"T12HO\")=TRUE,115,IF(OR(RIGHT(Worksheet!F430,2)=\"T8\",RIGHT(Worksheet!F430,4)=\"RWT8\",RIGHT(Worksheet!F430,4)=\"T8HO\")=TRUE,115,\"\"))))","v":""},{"$f":"IF(ISBLANK(Worksheet!W430)=FALSE,Worksheet!W430,\"\")","v":0},{"$f":"IF(ISERROR(SEARCH(\"Oil\",Worksheet!$A$18))=TRUE,0,Worksheet!AH430)","v":0},0,{"$f":"IF(ISERROR(SEARCH(\"Propane\",Worksheet!$A$18))=TRUE,0,Worksheet!AH430)","v":0},0,{"$f":"IF(Worksheet!J430=0,\"\",Worksheet!J430)","v":""},{"$f":"IF(Worksheet!B430=0,\"\",Worksheet!B430)","v":""},{"$f":"IF(Worksheet!K430=0,\"\",Worksheet!K430)","v":""},{"$f":"IF(Worksheet!L430=0,\"\",Worksheet!L430)","v":""},{"$f":"IF(Worksheet!R430=0,\"\",Worksheet!R430)","v":""},{"$f":"IF(Worksheet!F430=0,\"\",Worksheet!F430)","v":""},{"$f":"IF(Worksheet!G430=0,\"\",Worksheet!G430)","v":""},{"$f":"IF(Worksheet!X430=0,\"\",Worksheet!X430)","v":""},{"$f":"IF(Worksheet!Q430=0,\"\",Worksheet!Q430)","v":""},{"$f":"IF(Worksheet!C430=0,\"\",Worksheet!C430)","v":""},{"$f":"IF(Worksheet!D430=0,\"\",Worksheet!D430)","v":""},{"$f":"IF(Worksheet!$A$11=TRUE,\"Y\",\"N\")","v":"N"},{"$f":"IF(Worksheet!$A$12=TRUE,\"Y\",\"N\")","v":"N"},{"$f":"IF(Worksheet!$B$11=TRUE,\"Y\",\"N\")","v":"N"},{"$f":"IF(Worksheet!$B$12=TRUE,\"Y\",\"N\")","v":"N"},{"$f":"IF(Worksheet!$C$11=TRUE,\"Y\",\"N\")","v":"N"},{"$f":"IFERROR(Worksheet!AB430,\"\")","v":0}]
[{"$f":"IF(IFERROR(SEARCH(\"Refrigerated\",Worksheet!L431,1),0)>0,122,IF(ISERROR(RIGHT(VLOOKUP(Worksheet!K431,Type!C$1:E$13,3,FALSE),3))=FALSE,RIGHT(VLOOKUP(Worksheet!K431,Type!C$1:E$13,3,FALSE),3),\"\"))","v":""},{"$f":"IF(Worksheet!M431=\"\",\"\",Worksheet!M431)","v":""},{"$f":"IF(Worksheet!N431=\"\",\"\",Worksheet!N431)","v":""},{"$f":"IF(Worksheet!Y431=0,\"\",Worksheet!Y431)","v":""},"Watts",null,null,{"$f":"Worksheet!AA431","v":0},{"$f":"IF(ISBLANK(Worksheet!V431)=FALSE,Worksheet!V431,\"\")","v":0},{"$f":"Worksheet!AG431","v":0},{"$f":"Worksheet!AF431","v":0},0,{"$f":"IF(ISERROR(SEARCH(\"Gas\",Worksheet!$A$18))=TRUE,0,Worksheet!AH431)","v":0},0,null,null,{"$f":"IF(OR(Worksheet!F431=\"Incandescent\",Worksheet!F431=\"Halogen Incandescent\")=TRUE,118,IF(LEFT(Worksheet!F431,3)=\"HID\",117,IF(OR(RIGHT(Worksheet!F431,3)=\"T12\",RIGHT(Worksheet!F431,5)=\"T12HO\")=TRUE,115,IF(OR(RIGHT(Worksheet!F431,2)=\"T8\",RIGHT(Worksheet!F431,4)=\"RWT8\",RIGHT(Worksheet!F431,4)=\"T8HO\")=TRUE,115,\"\"))))","v":""},{"$f":"IF(ISBLANK(Worksheet!W431)=FALSE,Worksheet!W431,\"\")","v":0},{"$f":"IF(ISERROR(SEARCH(\"Oil\",Worksheet!$A$18))=TRUE,0,Worksheet!AH431)","v":0},0,{"$f":"IF(ISERROR(SEARCH(\"Propane\",Worksheet!$A$18))=TRUE,0,Worksheet!AH431)","v":0},0,{"$f":"IF(Worksheet!J431=0,\"\",Worksheet!J431)","v":""},{"$f":"IF(Worksheet!B431=0,\"\",Worksheet!B431)","v":""},{"$f":"IF(Worksheet!K431=0,\"\",Worksheet!K431)","v":""},{"$f":"IF(Worksheet!L431=0,\"\",Worksheet!L431)","v":""},{"$f":"IF(Worksheet!R431=0,\"\",Worksheet!R431)","v":""},{"$f":"IF(Worksheet!F431=0,\"\",Worksheet!F431)","v":""},{"$f":"IF(Worksheet!G431=0,\"\",Worksheet!G431)","v":""},{"$f":"IF(Worksheet!X431=0,\"\",Worksheet!X431)","v":""},{"$f":"IF(Worksheet!Q431=0,\"\",Worksheet!Q431)","v":""},{"$f":"IF(Worksheet!C431=0,\"\",Worksheet!C431)","v":""},{"$f":"IF(Worksheet!D431=0,\"\",Worksheet!D431)","v":""},{"$f":"IF(Worksheet!$A$11=TRUE,\"Y\",\"N\")","v":"N"},{"$f":"IF(Worksheet!$A$12=TRUE,\"Y\",\"N\")","v":"N"},{"$f":"IF(Worksheet!$B$11=TRUE,\"Y\",\"N\")","v":"N"},{"$f":"IF(Worksheet!$B$12=TRUE,\"Y\",\"N\")","v":"N"},{"$f":"IF(Worksheet!$C$11=TRUE,\"Y\",\"N\")","v":"N"},{"$f":"IFERROR(Worksheet!AB431,\"\")","v":0}]
[{"$f":"IF(IFERROR(SEARCH(\"Refrigerated\",Worksheet!L432,1),0)>0,122,IF(ISERROR(RIGHT(VLOOKUP(Worksheet!K432,Type!C$1:E$13,3,FALSE),3))=FALSE,RIGHT(VLOOKUP(Worksheet!K432,Type!C$1:E$13,3,FALSE),3),\"\"))","v":""},{"$f":"IF(Worksheet!M432=\"\",\"\",Worksheet!M432)","v":""},{"$f":"IF(Worksheet!N432=\"\",\"\",Worksheet!N432)","v":""},{"$f":"IF(Worksheet!Y432=0,\"\",Worksheet!Y432)","v":""},"Watts",null,null,{"$f":"Worksheet!AA432","v":0},{"$f":"IF(ISBLANK(Worksheet!V432)=FALSE,Worksheet!V432,\"\")","v":0},{"$f":"Worksheet!AG432","v":0},{"$f":"Worksheet!AF432","v":0},0,{"$f":"IF(ISERROR(SEARCH(\"Gas\",Worksheet!$A$18))=TRUE,0,Worksheet!AH432)","v":0},0,null,null,{"$f":"IF(OR(Worksheet!F432=\"Incandescent\",Worksheet!F432=\"Halogen Incandescent\")=TRUE,118,IF(LEFT(Worksheet!F432,3)=\"HID\",117,IF(OR(RIGHT(Worksheet!F432,3)=\"T12\",RIGHT(Worksheet!F432,5)=\"T12HO\")=TRUE,115,IF(OR(RIGHT(Worksheet!F432,2)=\"T8\",RIGHT(Worksheet!F432,4)=\"RWT8\",RIGHT(Worksheet!F432,4)=\"T8HO\")=TRUE,115,\"\"))))","v":""},{"$f":"IF(ISBLANK(Worksheet!W432)=FALSE,Worksheet!W432,\"\")","v":0},{"$f":"IF(ISERROR(SEARCH(\"Oil\",Worksheet!$A$18))=TRUE,0,Worksheet!AH432)","v":0},0,{"$f":"IF(ISERROR(SEARCH(\"Propane\",Worksheet!$A$18))=TRUE,0,Worksheet!AH432)","v":0},0,{"$f":"IF(Worksheet!J432=0,\"\",Worksheet!J432)","v":""},{"$f":"IF(Worksheet!B432=0,\"\",Worksheet!B432)","v":""},{"$f":"IF(Worksheet!K432=0,\"\",Worksheet!K432)","v":""},{"$f":"IF(Worksheet!L432=0,\"\",Worksheet!L432)","v":""},{"$f":"IF(Worksheet!R432=0,\"\",Worksheet!R432)","v":""},{"$f":"IF(Worksheet!F432=0,\"\",Worksheet!F432)","v":""},{"$f":"IF(Worksheet!G432=0,\"\",Worksheet!G432)","v":""},{"$f":"IF(Worksheet!X432=0,\"\",Worksheet!X432)","v":""},{"$f":"IF(Worksheet!Q432=0,\"\",Worksheet!Q432)","v":""},{"$f":"IF(Worksheet!C432=0,\"\",Worksheet!C432)","v":""},{"$f":"IF(Worksheet!D432=0,\"\",Worksheet!D432)","v":""},{"$f":"IF(Worksheet!$A$11=TRUE,\"Y\",\"N\")","v":"N"},{"$f":"IF(Worksheet!$A$12=TRUE,\"Y\",\"N\")","v":"N"},{"$f":"IF(Worksheet!$B$11=TRUE,\"Y\",\"N\")","v":"N"},{"$f":"IF(Worksheet!$B$12=TRUE,\"Y\",\"N\")","v":"N"},{"$f":"IF(Worksheet!$C$11=TRUE,\"Y\",\"N\")","v":"N"},{"$f":"IFERROR(Worksheet!AB432,\"\")","v":0}]
[{"$f":"IF(IFERROR(SEARCH(\"Refrigerated\",Worksheet!L433,1),0)>0,122,IF(ISERROR(RIGHT(VLOOKUP(Worksheet!K433,Type!C$1:E$13,3,FALSE),3))=FALSE,RIGHT(VLOOKUP(Worksheet!K433,Type!C$1:E$13,3,FALSE),3),\"\"))","v":""},{"$f":"IF(Worksheet!M433=\"\",\"\",Worksheet!M433)","v":""},{"$f":"IF(Worksheet!N433=\"\",\"\",Worksheet!N433)","v":""},{"$f":"IF(Worksheet!Y433=0,\"\",Worksheet!Y433)","v":""},"Watts",null,null,{"$f":"Worksheet!AA433","v":0},{"$f":"IF(ISBLANK(Worksheet!V433)=FALSE,Worksheet!V433,\"\")","v":0},{"$f":"Worksheet!AG433","v":0},{"$f":"Worksheet!AF433","v":0},0,{"$f":"IF(ISERROR(SEARCH(\"Gas\",Worksheet!$A$18))=TRUE,0,Worksheet!AH433)","v":0},0,null,null,{"$f":"IF(OR(Worksheet!F433=\"Incandescent\",Worksheet!F433=\"Halogen Incandescent\")=TRUE,118,IF(LEFT(Worksheet!F433,3)=\"HID\",117,IF(OR(RIGHT(Worksheet!F433,3)=\"T12\",RIGHT(Worksheet!F433,5)=\"T12HO\")=TRUE,115,IF(OR(RIGHT(Worksheet!F433,2)=\"T8\",RIGHT(Worksheet!F433,4)=\"RWT8\",RIGHT(Worksheet!F433,4)=\"T8HO\")=TRUE,115,\"\"))))","v":""},{"$f":"IF(ISBLANK(Worksheet!W433)=FALSE,Worksheet!W433,\"\")","v":0},{"$f":"IF(ISERROR(SEARCH(\"Oil\",Worksheet!$A$18))=TRUE,0,Worksheet!AH433)","v":0},0,{"$f":"IF(ISERROR(SEARCH(\"Propane\",Worksheet!$A$18))=TRUE,0,Worksheet!AH433)","v":0},0,{"$f":"IF(Worksheet!J433=0,\"\",Worksheet!J433)","v":""},{"$f":"IF(Worksheet!B433=0,\"\",Worksheet!B433)","v":""},{"$f":"IF(Worksheet!K433=0,\"\",Worksheet!K433)","v":""},{"$f":"IF(Worksheet!L433=0,\"\",Worksheet!L433)","v":""},{"$f":"IF(Worksheet!R433=0,\"\",Worksheet!R433)","v":""},{"$f":"IF(Worksheet!F433=0,\"\",Worksheet!F433)","v":""},{"$f":"IF(Worksheet!G433=0,\"\",Worksheet!G433)","v":""},{"$f":"IF(Worksheet!X433=0,\"\",Worksheet!X433)","v":""},{"$f":"IF(Worksheet!Q433=0,\"\",Worksheet!Q433)","v":""},{"$f":"IF(Worksheet!C433=0,\"\",Worksheet!C433)","v":""},{"$f":"IF(Worksheet!D433=0,\"\",Worksheet!D433)","v":""},{"$f":"IF(Worksheet!$A$11=TRUE,\"Y\",\"N\")","v":"N"},{"$f":"IF(Worksheet!$A$12=TRUE,\"Y\",\"N\")","v":"N"},{"$f":"IF(Worksheet!$B$11=TRUE,\"Y\",\"N\")","v":"N"},{"$f":"IF(Worksheet!$B$12=TRUE,\"Y\",\"N\")","v":"N"},{"$f":"IF(Worksheet!$C$11=TRUE,\"Y\",\"N\")","v":"N"},{"$f":"IFERROR(Worksheet!AB433,\"\")","v":0}]
[{"$f":"IF(IFERROR(SEARCH(\"Refrigerated\",Worksheet!L434,1),0)>0,122,IF(ISERROR(RIGHT(VLOOKUP(Worksheet!K434,Type!C$1:E$13,3,FALSE),3))=FALSE,RIGHT(VLOOKUP(Worksheet!K434,Type!C$1:E$13,3,FALSE),3),\"\"))","v":""},{"$f":"IF(Worksheet!M434=\"\",\"\",Worksheet!M434)","v":""},{"$f":"IF(Worksheet!N434=\"\",\"\",Worksheet!N434)","v":""},{"$f":"IF(Worksheet!Y434=0,\"\",Worksheet!Y434)","v":""},"Watts",null,null,{"$f":"Worksheet!AA434","v":0},{"$f":"IF(ISBLANK(Worksheet!V434)=FALSE,Worksheet!V434,\"\")","v":0},{"$f":"Worksheet!AG434","v":0},{"$f":"Worksheet!AF434","v":0},0,{"$f":"IF(ISERROR(SEARCH(\"Gas\",Worksheet!$A$18))=TRUE,0,Worksheet!AH434)","v":0},0,null,null,{"$f":"IF(OR(Worksheet!F434=\"Incandescent\",Worksheet!F434=\"Halogen Incandescent\")=TRUE,118,IF(LEFT(Worksheet!F434,3)=\"HID\",117,IF(OR(RIGHT(Worksheet!F434,3)=\"T12\",RIGHT(Worksheet!F434,5)=\"T12HO\")=TRUE,115,IF(OR(RIGHT(Worksheet!F434,2)=\"T8\",RIGHT(Worksheet!F434,4)=\"RWT8\",RIGHT(Worksheet!F434,4)=\"T8HO\")=TRUE,115,\"\"))))","v":""},{"$f":"IF(ISBLANK(Worksheet!W434)=FALSE,Worksheet!W434,\"\")","v":0},{"$f":"IF(ISERROR(SEARCH(\"Oil\",Worksheet!$A$18))=TRUE,0,Worksheet!AH434)","v":0},0,{"$f":"IF(ISERROR(SEARCH(\"Propane\",Worksheet!$A$18))=TRUE,0,Worksheet!AH434)","v":0},0,{"$f":"IF(Worksheet!J434=0,\"\",Worksheet!J434)","v":""},{"$f":"IF(Worksheet!B434=0,\"\",Worksheet!B434)","v":""},{"$f":"IF(Worksheet!K434=0,\"\",Worksheet!K434)","v":""},{"$f":"IF(Worksheet!L434=0,\"\",Worksheet!L434)","v":""},{"$f":"IF(Worksheet!R434=0,\"\",Worksheet!R434)","v":""},{"$f":"IF(Worksheet!F434=0,\"\",Worksheet!F434)","v":""},{"$f":"IF(Worksheet!G434=0,\"\",Worksheet!G434)","v":""},{"$f":"IF(Worksheet!X434=0,\"\",Worksheet!X434)","v":""},{"$f":"IF(Worksheet!Q434=0,\"\",Worksheet!Q434)","v":""},{"$f":"IF(Worksheet!C434=0,\"\",Worksheet!C434)","v":""},{"$f":"IF(Worksheet!D434=0,\"\",Worksheet!D434)","v":""},{"$f":"IF(Worksheet!$A$11=TRUE,\"Y\",\"N\")","v":"N"},{"$f":"IF(Worksheet!$A$12=TRUE,\"Y\",\"N\")","v":"N"},{"$f":"IF(Worksheet!$B$11=TRUE,\"Y\",\"N\")","v":"N"},{"$f":"IF(Worksheet!$B$12=TRUE,\"Y\",\"N\")","v":"N"},{"$f":"IF(Worksheet!$C$11=TRUE,\"Y\",\"N\")","v":"N"},{"$f":"IFERROR(Worksheet!AB434,\"\")","v":0}]
[{"$f":"IF(IFERROR(SEARCH(\"Refrigerated\",Worksheet!L435,1),0)>0,122,IF(ISERROR(RIGHT(VLOOKUP(Worksheet!K435,Type!C$1:E$13,3,FALSE),3))=FALSE,RIGHT(VLOOKUP(Worksheet!K435,Type!C$1:E$13,3,FALSE),3),\"\"))","v":""},{"$f":"IF(Worksheet!M435=\"\",\"\",Worksheet!M435)","v":""},{"$f":"IF(Worksheet!N435=\"\",\"\",Worksheet!N435)","v":""},{"$f":"IF(Worksheet!Y435=0,\"\",Worksheet!Y435)","v":""},"Watts",null,null,{"$f":"Worksheet!AA435","v":0},{"$f":"IF(ISBLANK(Worksheet!V435)=FALSE,Worksheet!V435,\"\")","v":0},{"$f":"Worksheet!AG435","v":0},{"$f":"Worksheet!AF435","v":0},0,{"$f":"IF(ISERROR(SEARCH(\"Gas\",Worksheet!$A$18))=TRUE,0,Worksheet!AH435)","v":0},0,null,null,{"$f":"IF(OR(Worksheet!F435=\"Incandescent\",Worksheet!F435=\"Halogen Incandescent\")=TRUE,118,IF(LEFT(Worksheet!F435,3)=\"HID\",117,IF(OR(RIGHT(Worksheet!F435,3)=\"T12\",RIGHT(Worksheet!F435,5)=\"T12HO\")=TRUE,115,IF(OR(RIGHT(Worksheet!F435,2)=\"T8\",RIGHT(Worksheet!F435,4)=\"RWT8\",RIGHT(Worksheet!F435,4)=\"T8HO\")=TRUE,115,\"\"))))","v":""},{"$f":"IF(ISBLANK(Worksheet!W435)=FALSE,Worksheet!W435,\"\")","v":0},{"$f":"IF(ISERROR(SEARCH(\"Oil\",Worksheet!$A$18))=TRUE,0,Worksheet!AH435)","v":0},0,{"$f":"IF(ISERROR(SEARCH(\"Propane\",Worksheet!$A$18))=TRUE,0,Worksheet!AH435)","v":0},0,{"$f":"IF(Worksheet!J435=0,\"\",Worksheet!J435)","v":""},{"$f":"IF(Worksheet!B435=0,\"\",Worksheet!B435)","v":""},{"$f":"IF(Worksheet!K435=0,\"\",Worksheet!K435)","v":""},{"$f":"IF(Worksheet!L435=0,\"\",Worksheet!L435)","v":""},{"$f":"IF(Worksheet!R435=0,\"\",Worksheet!R435)","v":""},{"$f":"IF(Worksheet!F435=0,\"\",Worksheet!F435)","v":""},{"$f":"IF(Worksheet!G435=0,\"\",Worksheet!G435)","v":""},{"$f":"IF(Worksheet!X435=0,\"\",Worksheet!X435)","v":""},{"$f":"IF(Worksheet!Q435=0,\"\",Worksheet!Q435)","v":""},{"$f":"IF(Worksheet!C435=0,\"\",Worksheet!C435)","v":""},{"$f":"IF(Worksheet!D435=0,\"\",Worksheet!D435)","v":""},{"$f":"IF(Worksheet!$A$11=TRUE,\"Y\",\"N\")","v":"N"},{"$f":"IF(Worksheet!$A$12=TRUE,\"Y\",\"N\")","v":"N"},{"$f":"IF(Worksheet!$B$11=TRUE,\"Y\",\"N\")","v":"N"},{"$f":"IF(Worksheet!$B$12=TRUE,\"Y\",\"N\")","v":"N"},{"$f":"IF(Worksheet!$C$11=TRUE,\"Y\",\"N\")","v":"N"},{"$f":"IFERROR(Worksheet!AB435,\"\")","v":0}]
[{"$f":"IF(IFERROR(SEARCH(\"Refrigerated\",Worksheet!L436,1),0)>0,122,IF(ISERROR(RIGHT(VLOOKUP(Worksheet!K436,Type!C$1:E$13,3,FALSE),3))=FALSE,RIGHT(VLOOKUP(Worksheet!K436,Type!C$1:E$13,3,FALSE),3),\"\"))","v":""},{"$f":"IF(Worksheet!M436=\"\",\"\",Worksheet!M436)","v":""},{"$f":"IF(Worksheet!N436=\"\",\"\",Worksheet!N436)","v":""},{"$f":"IF(Worksheet!Y436=0,\"\",Worksheet!Y436)","v":""},"Watts",null,null,{"$f":"Worksheet!AA436","v":0},{"$f":"IF(ISBLANK(Worksheet!V436)=FALSE,Worksheet!V436,\"\")","v":0},{"$f":"Worksheet!AG436","v":0},{"$f":"Worksheet!AF436","v":0},0,{"$f":"IF(ISERROR(SEARCH(\"Gas\",Worksheet!$A$18))=TRUE,0,Worksheet!AH436)","v":0},0,null,null,{"$f":"IF(OR(Worksheet!F436=\"Incandescent\",Worksheet!F436=\"Halogen Incandescent\")=TRUE,118,IF(LEFT(Worksheet!F436,3)=\"HID\",117,IF(OR(RIGHT(Worksheet!F436,3)=\"T12\",RIGHT(Worksheet!F436,5)=\"T12HO\")=TRUE,115,IF(OR(RIGHT(Worksheet!F436,2)=\"T8\",RIGHT(Worksheet!F436,4)=\"RWT8\",RIGHT(Worksheet!F436,4)=\"T8HO\")=TRUE,115,\"\"))))","v":""},{"$f":"IF(ISBLANK(Worksheet!W436)=FALSE,Worksheet!W436,\"\")","v":0},{"$f":"IF(ISERROR(SEARCH(\"Oil\",Worksheet!$A$18))=TRUE,0,Worksheet!AH436)","v":0},0,{"$f":"IF(ISERROR(SEARCH(\"Propane\",Worksheet!$A$18))=TRUE,0,Worksheet!AH436)","v":0},0,{"$f":"IF(Worksheet!J436=0,\"\",Worksheet!J436)","v":""},{"$f":"IF(Worksheet!B436=0,\"\",Worksheet!B436)","v":""},{"$f":"IF(Worksheet!K436=0,\"\",Worksheet!K436)","v":""},{"$f":"IF(Worksheet!L436=0,\"\",Worksheet!L436)","v":""},{"$f":"IF(Worksheet!R436=0,\"\",Worksheet!R436)","v":""},{"$f":"IF(Worksheet!F436=0,\"\",Worksheet!F436)","v":""},{"$f":"IF(Worksheet!G436=0,\"\",Worksheet!G436)","v":""},{"$f":"IF(Worksheet!X436=0,\"\",Worksheet!X436)","v":""},{"$f":"IF(Worksheet!Q436=0,\"\",Worksheet!Q436)","v":""},{"$f":"IF(Worksheet!C436=0,\"\",Worksheet!C436)","v":""},{"$f":"IF(Worksheet!D436=0,\"\",Worksheet!D436)","v":""},{"$f":"IF(Worksheet!$A$11=TRUE,\"Y\",\"N\")","v":"N"},{"$f":"IF(Worksheet!$A$12=TRUE,\"Y\",\"N\")","v":"N"},{"$f":"IF(Worksheet!$B$11=TRUE,\"Y\",\"N\")","v":"N"},{"$f":"IF(Worksheet!$B$12=TRUE,\"Y\",\"N\")","v":"N"},{"$f":"IF(Worksheet!$C$11=TRUE,\"Y\",\"N\")","v":"N"},{"$f":"IFERROR(Worksheet!AB436,\"\")","v":0}]
[{"$f":"IF(IFERROR(SEARCH(\"Refrigerated\",Worksheet!L437,1),0)>0,122,IF(ISERROR(RIGHT(VLOOKUP(Worksheet!K437,Type!C$1:E$13,3,FALSE),3))=FALSE,RIGHT(VLOOKUP(Worksheet!K437,Type!C$1:E$13,3,FALSE),3),\"\"))","v":""},{"$f":"IF(Worksheet!M437=\"\",\"\",Worksheet!M437)","v":""},{"$f":"IF(Worksheet!N437=\"\",\"\",Worksheet!N437)","v":""},{"$f":"IF(Worksheet!Y437=0,\"\",Worksheet!Y437)","v":""},"Watts",null,null,{"$f":"Worksheet!AA437","v":0},{"$f":"IF(ISBLANK(Worksheet!V437)=FALSE,Worksheet!V437,\"\")","v":0},{"$f":"Worksheet!AG437","v":0},{"$f":"Worksheet!AF437","v":0},0,{"$f":"IF(ISERROR(SEARCH(\"Gas\",Worksheet!$A$18))=TRUE,0,Worksheet!AH437)","v":0},0,null,null,{"$f":"IF(OR(Worksheet!F437=\"Incandescent\",Worksheet!F437=\"Halogen Incandescent\")=TRUE,118,IF(LEFT(Worksheet!F437,3)=\"HID\",117,IF(OR(RIGHT(Worksheet!F437,3)=\"T12\",RIGHT(Worksheet!F437,5)=\"T12HO\")=TRUE,115,IF(OR(RIGHT(Worksheet!F437,2)=\"T8\",RIGHT(Worksheet!F437,4)=\"RWT8\",RIGHT(Worksheet!F437,4)=\"T8HO\")=TRUE,115,\"\"))))","v":""},{"$f":"IF(ISBLANK(Worksheet!W437)=FALSE,Worksheet!W437,\"\")","v":0},{"$f":"IF(ISERROR(SEARCH(\"Oil\",Worksheet!$A$18))=TRUE,0,Worksheet!AH437)","v":0},0,{"$f":"IF(ISERROR(SEARCH(\"Propane\",Worksheet!$A$18))=TRUE,0,Worksheet!AH437)","v":0},0,{"$f":"IF(Worksheet!J437=0,\"\",Worksheet!J437)","v":""},{"$f":"IF(Worksheet!B437=0,\"\",Worksheet!B437)","v":""},{"$f":"IF(Worksheet!K437=0,\"\",Worksheet!K437)","v":""},{"$f":"IF(Worksheet!L437=0,\"\",Worksheet!L437)","v":""},{"$f":"IF(Worksheet!R437=0,\"\",Worksheet!R437)","v":""},{"$f":"IF(Worksheet!F437=0,\"\",Worksheet!F437)","v":""},{"$f":"IF(Worksheet!G437=0,\"\",Worksheet!G437)","v":""},{"$f":"IF(Worksheet!X437=0,\"\",Worksheet!X437)","v":""},{"$f":"IF(Worksheet!Q437=0,\"\",Worksheet!Q437)","v":""},{"$f":"IF(Worksheet!C437=0,\"\",Worksheet!C437)","v":""},{"$f":"IF(Worksheet!D437=0,\"\",Worksheet!D437)","v":""},{"$f":"IF(Worksheet!$A$11=TRUE,\"Y\",\"N\")","v":"N"},{"$f":"IF(Worksheet!$A$12=TRUE,\"Y\",\"N\")","v":"N"},{"$f":"IF(Worksheet!$B$11=TRUE,\"Y\",\"N\")","v":"N"},{"$f":"IF(Worksheet!$B$12=TRUE,\"Y\",\"N\")","v":"N"},{"$f":"IF(Worksheet!$C$11=TRUE,\"Y\",\"N\")","v":"N"},{"$f":"IFERROR(Worksheet!AB437,\"\")","v":0}]
[{"$f":"IF(IFERROR(SEARCH(\"Refrigerated\",Worksheet!L438,1),0)>0,122,IF(ISERROR(RIGHT(VLOOKUP(Worksheet!K438,Type!C$1:E$13,3,FALSE),3))=FALSE,RIGHT(VLOOKUP(Worksheet!K438,Type!C$1:E$13,3,FALSE),3),\"\"))","v":""},{"$f":"IF(Worksheet!M438=\"\",\"\",Worksheet!M438)","v":""},{"$f":"IF(Worksheet!N438=\"\",\"\",Worksheet!N438)","v":""},{"$f":"IF(Worksheet!Y438=0,\"\",Worksheet!Y438)","v":""},"Watts",null,null,{"$f":"Worksheet!AA438","v":0},{"$f":"IF(ISBLANK(Worksheet!V438)=FALSE,Worksheet!V438,\"\")","v":0},{"$f":"Worksheet!AG438","v":0},{"$f":"Worksheet!AF438","v":0},0,{"$f":"IF(ISERROR(SEARCH(\"Gas\",Worksheet!$A$18))=TRUE,0,Worksheet!AH438)","v":0},0,null,null,{"$f":"IF(OR(Worksheet!F438=\"Incandescent\",Worksheet!F438=\"Halogen Incandescent\")=TRUE,118,IF(LEFT(Worksheet!F438,3)=\"HID\",117,IF(OR(RIGHT(Worksheet!F438,3)=\"T12\",RIGHT(Worksheet!F438,5)=\"T12HO\")=TRUE,115,IF(OR(RIGHT(Worksheet!F438,2)=\"T8\",RIGHT(Worksheet!F438,4)=\"RWT8\",RIGHT(Worksheet!F438,4)=\"T8HO\")=TRUE,115,\"\"))))","v":""},{"$f":"IF(ISBLANK(Worksheet!W438)=FALSE,Worksheet!W438,\"\")","v":0},{"$f":"IF(ISERROR(SEARCH(\"Oil\",Worksheet!$A$18))=TRUE,0,Worksheet!AH438)","v":0},0,{"$f":"IF(ISERROR(SEARCH(\"Propane\",Worksheet!$A$18))=TRUE,0,Worksheet!AH438)","v":0},0,{"$f":"IF(Worksheet!J438=0,\"\",Worksheet!J438)","v":""},{"$f":"IF(Worksheet!B438=0,\"\",Worksheet!B438)","v":""},{"$f":"IF(Worksheet!K438=0,\"\",Worksheet!K438)","v":""},{"$f":"IF(Worksheet!L438=0,\"\",Worksheet!L438)","v":""},{"$f":"IF(Worksheet!R438=0,\"\",Worksheet!R438)","v":""},{"$f":"IF(Worksheet!F438=0,\"\",Worksheet!F438)","v":""},{"$f":"IF(Worksheet!G438=0,\"\",Worksheet!G438)","v":""},{"$f":"IF(Worksheet!X438=0,\"\",Worksheet!X438)","v":""},{"$f":"IF(Worksheet!Q438=0,\"\",Worksheet!Q438)","v":""},{"$f":"IF(Worksheet!C438=0,\"\",Worksheet!C438)","v":""},{"$f":"IF(Worksheet!D438=0,\"\",Worksheet!D438)","v":""},{"$f":"IF(Worksheet!$A$11=TRUE,\"Y\",\"N\")","v":"N"},{"$f":"IF(Worksheet!$A$12=TRUE,\"Y\",\"N\")","v":"N"},{"$f":"IF(Worksheet!$B$11=TRUE,\"Y\",\"N\")","v":"N"},{"$f":"IF(Worksheet!$B$12=TRUE,\"Y\",\"N\")","v":"N"},{"$f":"IF(Worksheet!$C$11=TRUE,\"Y\",\"N\")","v":"N"},{"$f":"IFERROR(Worksheet!AB438,\"\")","v":0}]
[{"$f":"IF(IFERROR(SEARCH(\"Refrigerated\",Worksheet!L439,1),0)>0,122,IF(ISERROR(RIGHT(VLOOKUP(Worksheet!K439,Type!C$1:E$13,3,FALSE),3))=FALSE,RIGHT(VLOOKUP(Worksheet!K439,Type!C$1:E$13,3,FALSE),3),\"\"))","v":""},{"$f":"IF(Worksheet!M439=\"\",\"\",Worksheet!M439)","v":""},{"$f":"IF(Worksheet!N439=\"\",\"\",Worksheet!N439)","v":""},{"$f":"IF(Worksheet!Y439=0,\"\",Worksheet!Y439)","v":""},"Watts",null,null,{"$f":"Worksheet!AA439","v":0},{"$f":"IF(ISBLANK(Worksheet!V439)=FALSE,Worksheet!V439,\"\")","v":0},{"$f":"Worksheet!AG439","v":0},{"$f":"Worksheet!AF439","v":0},0,{"$f":"IF(ISERROR(SEARCH(\"Gas\",Worksheet!$A$18))=TRUE,0,Worksheet!AH439)","v":0},0,null,null,{"$f":"IF(OR(Worksheet!F439=\"Incandescent\",Worksheet!F439=\"Halogen Incandescent\")=TRUE,118,IF(LEFT(Worksheet!F439,3)=\"HID\",117,IF(OR(RIGHT(Worksheet!F439,3)=\"T12\",RIGHT(Worksheet!F439,5)=\"T12HO\")=TRUE,115,IF(OR(RIGHT(Worksheet!F439,2)=\"T8\",RIGHT(Worksheet!F439,4)=\"RWT8\",RIGHT(Worksheet!F439,4)=\"T8HO\")=TRUE,115,\"\"))))","v":""},{"$f":"IF(ISBLANK(Worksheet!W439)=FALSE,Worksheet!W439,\"\")","v":0},{"$f":"IF(ISERROR(SEARCH(\"Oil\",Worksheet!$A$18))=TRUE,0,Worksheet!AH439)","v":0},0,{"$f":"IF(ISERROR(SEARCH(\"Propane\",Worksheet!$A$18))=TRUE,0,Worksheet!AH439)","v":0},0,{"$f":"IF(Worksheet!J439=0,\"\",Worksheet!J439)","v":""},{"$f":"IF(Worksheet!B439=0,\"\",Worksheet!B439)","v":""},{"$f":"IF(Worksheet!K439=0,\"\",Worksheet!K439)","v":""},{"$f":"IF(Worksheet!L439=0,\"\",Worksheet!L439)","v":""},{"$f":"IF(Worksheet!R439=0,\"\",Worksheet!R439)","v":""},{"$f":"IF(Worksheet!F439=0,\"\",Worksheet!F439)","v":""},{"$f":"IF(Worksheet!G439=0,\"\",Worksheet!G439)","v":""},{"$f":"IF(Worksheet!X439=0,\"\",Worksheet!X439)","v":""},{"$f":"IF(Worksheet!Q439=0,\"\",Worksheet!Q439)","v":""},{"$f":"IF(Worksheet!C439=0,\"\",Worksheet!C439)","v":""},{"$f":"IF(Worksheet!D439=0,\"\",Worksheet!D439)","v":""},{"$f":"IF(Worksheet!$A$11=TRUE,\"Y\",\"N\")","v":"N"},{"$f":"IF(Worksheet!$A$12=TRUE,\"Y\",\"N\")","v":"N"},{"$f":"IF(Worksheet!$B$11=TRUE,\"Y\",\"N\")","v":"N"},{"$f":"IF(Worksheet!$B$12=TRUE,\"Y\",\"N\")","v":"N"},{"$f":"IF(Worksheet!$C$11=TRUE,\"Y\",\"N\")","v":"N"},{"$f":"IFERROR(Worksheet!AB439,\"\")","v":0}]
[{"$f":"IF(IFERROR(SEARCH(\"Refrigerated\",Worksheet!L440,1),0)>0,122,IF(ISERROR(RIGHT(VLOOKUP(Worksheet!K440,Type!C$1:E$13,3,FALSE),3))=FALSE,RIGHT(VLOOKUP(Worksheet!K440,Type!C$1:E$13,3,FALSE),3),\"\"))","v":""},{"$f":"IF(Worksheet!M440=\"\",\"\",Worksheet!M440)","v":""},{"$f":"IF(Worksheet!N440=\"\",\"\",Worksheet!N440)","v":""},{"$f":"IF(Worksheet!Y440=0,\"\",Worksheet!Y440)","v":""},"Watts",null,null,{"$f":"Worksheet!AA440","v":0},{"$f":"IF(ISBLANK(Worksheet!V440)=FALSE,Worksheet!V440,\"\")","v":0},{"$f":"Worksheet!AG440","v":0},{"$f":"Worksheet!AF440","v":0},0,{"$f":"IF(ISERROR(SEARCH(\"Gas\",Worksheet!$A$18))=TRUE,0,Worksheet!AH440)","v":0},0,null,null,{"$f":"IF(OR(Worksheet!F440=\"Incandescent\",Worksheet!F440=\"Halogen Incandescent\")=TRUE,118,IF(LEFT(Worksheet!F440,3)=\"HID\",117,IF(OR(RIGHT(Worksheet!F440,3)=\"T12\",RIGHT(Worksheet!F440,5)=\"T12HO\")=TRUE,115,IF(OR(RIGHT(Worksheet!F440,2)=\"T8\",RIGHT(Worksheet!F440,4)=\"RWT8\",RIGHT(Worksheet!F440,4)=\"T8HO\")=TRUE,115,\"\"))))","v":""},{"$f":"IF(ISBLANK(Worksheet!W440)=FALSE,Worksheet!W440,\"\")","v":0},{"$f":"IF(ISERROR(SEARCH(\"Oil\",Worksheet!$A$18))=TRUE,0,Worksheet!AH440)","v":0},0,{"$f":"IF(ISERROR(SEARCH(\"Propane\",Worksheet!$A$18))=TRUE,0,Worksheet!AH440)","v":0},0,{"$f":"IF(Worksheet!J440=0,\"\",Worksheet!J440)","v":""},{"$f":"IF(Worksheet!B440=0,\"\",Worksheet!B440)","v":""},{"$f":"IF(Worksheet!K440=0,\"\",Worksheet!K440)","v":""},{"$f":"IF(Worksheet!L440=0,\"\",Worksheet!L440)","v":""},{"$f":"IF(Worksheet!R440=0,\"\",Worksheet!R440)","v":""},{"$f":"IF(Worksheet!F440=0,\"\",Worksheet!F440)","v":""},{"$f":"IF(Worksheet!G440=0,\"\",Worksheet!G440)","v":""},{"$f":"IF(Worksheet!X440=0,\"\",Worksheet!X440)","v":""},{"$f":"IF(Worksheet!Q440=0,\"\",Worksheet!Q440)","v":""},{"$f":"IF(Worksheet!C440=0,\"\",Worksheet!C440)","v":""},{"$f":"IF(Worksheet!D440=0,\"\",Worksheet!D440)","v":""},{"$f":"IF(Worksheet!$A$11=TRUE,\"Y\",\"N\")","v":"N"},{"$f":"IF(Worksheet!$A$12=TRUE,\"Y\",\"N\")","v":"N"},{"$f":"IF(Worksheet!$B$11=TRUE,\"Y\",\"N\")","v":"N"},{"$f":"IF(Worksheet!$B$12=TRUE,\"Y\",\"N\")","v":"N"},{"$f":"IF(Worksheet!$C$11=TRUE,\"Y\",\"N\")","v":"N"},{"$f":"IFERROR(Worksheet!AB440,\"\")","v":0}]
[{"$f":"IF(IFERROR(SEARCH(\"Refrigerated\",Worksheet!L441,1),0)>0,122,IF(ISERROR(RIGHT(VLOOKUP(Worksheet!K441,Type!C$1:E$13,3,FALSE),3))=FALSE,RIGHT(VLOOKUP(Worksheet!K441,Type!C$1:E$13,3,FALSE),3),\"\"))","v":""},{"$f":"IF(Worksheet!M441=\"\",\"\",Worksheet!M441)","v":""},{"$f":"IF(Worksheet!N441=\"\",\"\",Worksheet!N441)","v":""},{"$f":"IF(Worksheet!Y441=0,\"\",Worksheet!Y441)","v":""},"Watts",null,null,{"$f":"Worksheet!AA441","v":0},{"$f":"IF(ISBLANK(Worksheet!V441)=FALSE,Worksheet!V441,\"\")","v":0},{"$f":"Worksheet!AG441","v":0},{"$f":"Worksheet!AF441","v":0},0,{"$f":"IF(ISERROR(SEARCH(\"Gas\",Worksheet!$A$18))=TRUE,0,Worksheet!AH441)","v":0},0,null,null,{"$f":"IF(OR(Worksheet!F441=\"Incandescent\",Worksheet!F441=\"Halogen Incandescent\")=TRUE,118,IF(LEFT(Worksheet!F441,3)=\"HID\",117,IF(OR(RIGHT(Worksheet!F441,3)=\"T12\",RIGHT(Worksheet!F441,5)=\"T12HO\")=TRUE,115,IF(OR(RIGHT(Worksheet!F441,2)=\"T8\",RIGHT(Worksheet!F441,4)=\"RWT8\",RIGHT(Worksheet!F441,4)=\"T8HO\")=TRUE,115,\"\"))))","v":""},{"$f":"IF(ISBLANK(Worksheet!W441)=FALSE,Worksheet!W441,\"\")","v":0},{"$f":"IF(ISERROR(SEARCH(\"Oil\",Worksheet!$A$18))=TRUE,0,Worksheet!AH441)","v":0},0,{"$f":"IF(ISERROR(SEARCH(\"Propane\",Worksheet!$A$18))=TRUE,0,Worksheet!AH441)","v":0},0,{"$f":"IF(Worksheet!J441=0,\"\",Worksheet!J441)","v":""},{"$f":"IF(Worksheet!B441=0,\"\",Worksheet!B441)","v":""},{"$f":"IF(Worksheet!K441=0,\"\",Worksheet!K441)","v":""},{"$f":"IF(Worksheet!L441=0,\"\",Worksheet!L441)","v":""},{"$f":"IF(Worksheet!R441=0,\"\",Worksheet!R441)","v":""},{"$f":"IF(Worksheet!F441=0,\"\",Worksheet!F441)","v":""},{"$f":"IF(Worksheet!G441=0,\"\",Worksheet!G441)","v":""},{"$f":"IF(Worksheet!X441=0,\"\",Worksheet!X441)","v":""},{"$f":"IF(Worksheet!Q441=0,\"\",Worksheet!Q441)","v":""},{"$f":"IF(Worksheet!C441=0,\"\",Worksheet!C441)","v":""},{"$f":"IF(Worksheet!D441=0,\"\",Worksheet!D441)","v":""},{"$f":"IF(Worksheet!$A$11=TRUE,\"Y\",\"N\")","v":"N"},{"$f":"IF(Worksheet!$A$12=TRUE,\"Y\",\"N\")","v":"N"},{"$f":"IF(Worksheet!$B$11=TRUE,\"Y\",\"N\")","v":"N"},{"$f":"IF(Worksheet!$B$12=TRUE,\"Y\",\"N\")","v":"N"},{"$f":"IF(Worksheet!$C$11=TRUE,\"Y\",\"N\")","v":"N"},{"$f":"IFERROR(Worksheet!AB441,\"\")","v":0}]
[{"$f":"IF(IFERROR(SEARCH(\"Refrigerated\",Worksheet!L442,1),0)>0,122,IF(ISERROR(RIGHT(VLOOKUP(Worksheet!K442,Type!C$1:E$13,3,FALSE),3))=FALSE,RIGHT(VLOOKUP(Worksheet!K442,Type!C$1:E$13,3,FALSE),3),\"\"))","v":""},{"$f":"IF(Worksheet!M442=\"\",\"\",Worksheet!M442)","v":""},{"$f":"IF(Worksheet!N442=\"\",\"\",Worksheet!N442)","v":""},{"$f":"IF(Worksheet!Y442=0,\"\",Worksheet!Y442)","v":""},"Watts",null,null,{"$f":"Worksheet!AA442","v":0},{"$f":"IF(ISBLANK(Worksheet!V442)=FALSE,Worksheet!V442,\"\")","v":0},{"$f":"Worksheet!AG442","v":0},{"$f":"Worksheet!AF442","v":0},0,{"$f":"IF(ISERROR(SEARCH(\"Gas\",Worksheet!$A$18))=TRUE,0,Worksheet!AH442)","v":0},0,null,null,{"$f":"IF(OR(Worksheet!F442=\"Incandescent\",Worksheet!F442=\"Halogen Incandescent\")=TRUE,118,IF(LEFT(Worksheet!F442,3)=\"HID\",117,IF(OR(RIGHT(Worksheet!F442,3)=\"T12\",RIGHT(Worksheet!F442,5)=\"T12HO\")=TRUE,115,IF(OR(RIGHT(Worksheet!F442,2)=\"T8\",RIGHT(Worksheet!F442,4)=\"RWT8\",RIGHT(Worksheet!F442,4)=\"T8HO\")=TRUE,115,\"\"))))","v":""},{"$f":"IF(ISBLANK(Worksheet!W442)=FALSE,Worksheet!W442,\"\")","v":0},{"$f":"IF(ISERROR(SEARCH(\"Oil\",Worksheet!$A$18))=TRUE,0,Worksheet!AH442)","v":0},0,{"$f":"IF(ISERROR(SEARCH(\"Propane\",Worksheet!$A$18))=TRUE,0,Worksheet!AH442)","v":0},0,{"$f":"IF(Worksheet!J442=0,\"\",Worksheet!J442)","v":""},{"$f":"IF(Worksheet!B442=0,\"\",Worksheet!B442)","v":""},{"$f":"IF(Worksheet!K442=0,\"\",Worksheet!K442)","v":""},{"$f":"IF(Worksheet!L442=0,\"\",Worksheet!L442)","v":""},{"$f":"IF(Worksheet!R442=0,\"\",Worksheet!R442)","v":""},{"$f":"IF(Worksheet!F442=0,\"\",Worksheet!F442)","v":""},{"$f":"IF(Worksheet!G442=0,\"\",Worksheet!G442)","v":""},{"$f":"IF(Worksheet!X442=0,\"\",Worksheet!X442)","v":""},{"$f":"IF(Worksheet!Q442=0,\"\",Worksheet!Q442)","v":""},{"$f":"IF(Worksheet!C442=0,\"\",Worksheet!C442)","v":""},{"$f":"IF(Worksheet!D442=0,\"\",Worksheet!D442)","v":""},{"$f":"IF(Worksheet!$A$11=TRUE,\"Y\",\"N\")","v":"N"},{"$f":"IF(Worksheet!$A$12=TRUE,\"Y\",\"N\")","v":"N"},{"$f":"IF(Worksheet!$B$11=TRUE,\"Y\",\"N\")","v":"N"},{"$f":"IF(Worksheet!$B$12=TRUE,\"Y\",\"N\")","v":"N"},{"$f":"IF(Worksheet!$C$11=TRUE,\"Y\",\"N\")","v":"N"},{"$f":"IFERROR(Worksheet!AB442,\"\")","v":0}]
[{"$f":"IF(IFERROR(SEARCH(\"Refrigerated\",Worksheet!L443,1),0)>0,122,IF(ISERROR(RIGHT(VLOOKUP(Worksheet!K443,Type!C$1:E$13,3,FALSE),3))=FALSE,RIGHT(VLOOKUP(Worksheet!K443,Type!C$1:E$13,3,FALSE),3),\"\"))","v":""},{"$f":"IF(Worksheet!M443=\"\",\"\",Worksheet!M443)","v":""},{"$f":"IF(Worksheet!N443=\"\",\"\",Worksheet!N443)","v":""},{"$f":"IF(Worksheet!Y443=0,\"\",Worksheet!Y443)","v":""},"Watts",null,null,{"$f":"Worksheet!AA443","v":0},{"$f":"IF(ISBLANK(Worksheet!V443)=FALSE,Worksheet!V443,\"\")","v":0},{"$f":"Worksheet!AG443","v":0},{"$f":"Worksheet!AF443","v":0},0,{"$f":"IF(ISERROR(SEARCH(\"Gas\",Worksheet!$A$18))=TRUE,0,Worksheet!AH443)","v":0},0,null,null,{"$f":"IF(OR(Worksheet!F443=\"Incandescent\",Worksheet!F443=\"Halogen Incandescent\")=TRUE,118,IF(LEFT(Worksheet!F443,3)=\"HID\",117,IF(OR(RIGHT(Worksheet!F443,3)=\"T12\",RIGHT(Worksheet!F443,5)=\"T12HO\")=TRUE,115,IF(OR(RIGHT(Worksheet!F443,2)=\"T8\",RIGHT(Worksheet!F443,4)=\"RWT8\",RIGHT(Worksheet!F443,4)=\"T8HO\")=TRUE,115,\"\"))))","v":""},{"$f":"IF(ISBLANK(Worksheet!W443)=FALSE,Worksheet!W443,\"\")","v":0},{"$f":"IF(ISERROR(SEARCH(\"Oil\",Worksheet!$A$18))=TRUE,0,Worksheet!AH443)","v":0},0,{"$f":"IF(ISERROR(SEARCH(\"Propane\",Worksheet!$A$18))=TRUE,0,Worksheet!AH443)","v":0},0,{"$f":"IF(Worksheet!J443=0,\"\",Worksheet!J443)","v":""},{"$f":"IF(Worksheet!B443=0,\"\",Worksheet!B443)","v":""},{"$f":"IF(Worksheet!K443=0,\"\",Worksheet!K443)","v":""},{"$f":"IF(Worksheet!L443=0,\"\",Worksheet!L443)","v":""},{"$f":"IF(Worksheet!R443=0,\"\",Worksheet!R443)","v":""},{"$f":"IF(Worksheet!F443=0,\"\",Worksheet!F443)","v":""},{"$f":"IF(Worksheet!G443=0,\"\",Worksheet!G443)","v":""},{"$f":"IF(Worksheet!X443=0,\"\",Worksheet!X443)","v":""},{"$f":"IF(Worksheet!Q443=0,\"\",Worksheet!Q443)","v":""},{"$f":"IF(Worksheet!C443=0,\"\",Worksheet!C443)","v":""},{"$f":"IF(Worksheet!D443=0,\"\",Worksheet!D443)","v":""},{"$f":"IF(Worksheet!$A$11=TRUE,\"Y\",\"N\")","v":"N"},{"$f":"IF(Worksheet!$A$12=TRUE,\"Y\",\"N\")","v":"N"},{"$f":"IF(Worksheet!$B$11=TRUE,\"Y\",\"N\")","v":"N"},{"$f":"IF(Worksheet!$B$12=TRUE,\"Y\",\"N\")","v":"N"},{"$f":"IF(Worksheet!$C$11=TRUE,\"Y\",\"N\")","v":"N"},{"$f":"IFERROR(Worksheet!AB443,\"\")","v":0}]
[{"$f":"IF(IFERROR(SEARCH(\"Refrigerated\",Worksheet!L444,1),0)>0,122,IF(ISERROR(RIGHT(VLOOKUP(Worksheet!K444,Type!C$1:E$13,3,FALSE),3))=FALSE,RIGHT(VLOOKUP(Worksheet!K444,Type!C$1:E$13,3,FALSE),3),\"\"))","v":""},{"$f":"IF(Worksheet!M444=\"\",\"\",Worksheet!M444)","v":""},{"$f":"IF(Worksheet!N444=\"\",\"\",Worksheet!N444)","v":""},{"$f":"IF(Worksheet!Y444=0,\"\",Worksheet!Y444)","v":""},"Watts",null,null,{"$f":"Worksheet!AA444","v":0},{"$f":"IF(ISBLANK(Worksheet!V444)=FALSE,Worksheet!V444,\"\")","v":0},{"$f":"Worksheet!AG444","v":0},{"$f":"Worksheet!AF444","v":0},0,{"$f":"IF(ISERROR(SEARCH(\"Gas\",Worksheet!$A$18))=TRUE,0,Worksheet!AH444)","v":0},0,null,null,{"$f":"IF(OR(Worksheet!F444=\"Incandescent\",Worksheet!F444=\"Halogen Incandescent\")=TRUE,118,IF(LEFT(Worksheet!F444,3)=\"HID\",117,IF(OR(RIGHT(Worksheet!F444,3)=\"T12\",RIGHT(Worksheet!F444,5)=\"T12HO\")=TRUE,115,IF(OR(RIGHT(Worksheet!F444,2)=\"T8\",RIGHT(Worksheet!F444,4)=\"RWT8\",RIGHT(Worksheet!F444,4)=\"T8HO\")=TRUE,115,\"\"))))","v":""},{"$f":"IF(ISBLANK(Worksheet!W444)=FALSE,Worksheet!W444,\"\")","v":0},{"$f":"IF(ISERROR(SEARCH(\"Oil\",Worksheet!$A$18))=TRUE,0,Worksheet!AH444)","v":0},0,{"$f":"IF(ISERROR(SEARCH(\"Propane\",Worksheet!$A$18))=TRUE,0,Worksheet!AH444)","v":0},0,{"$f":"IF(Worksheet!J444=0,\"\",Worksheet!J444)","v":""},{"$f":"IF(Worksheet!B444=0,\"\",Worksheet!B444)","v":""},{"$f":"IF(Worksheet!K444=0,\"\",Worksheet!K444)","v":""},{"$f":"IF(Worksheet!L444=0,\"\",Worksheet!L444)","v":""},{"$f":"IF(Worksheet!R444=0,\"\",Worksheet!R444)","v":""},{"$f":"IF(Worksheet!F444=0,\"\",Worksheet!F444)","v":""},{"$f":"IF(Worksheet!G444=0,\"\",Worksheet!G444)","v":""},{"$f":"IF(Worksheet!X444=0,\"\",Worksheet!X444)","v":""},{"$f":"IF(Worksheet!Q444=0,\"\",Worksheet!Q444)","v":""},{"$f":"IF(Worksheet!C444=0,\"\",Worksheet!C444)","v":""},{"$f":"IF(Worksheet!D444=0,\"\",Worksheet!D444)","v":""},{"$f":"IF(Worksheet!$A$11=TRUE,\"Y\",\"N\")","v":"N"},{"$f":"IF(Worksheet!$A$12=TRUE,\"Y\",\"N\")","v":"N"},{"$f":"IF(Worksheet!$B$11=TRUE,\"Y\",\"N\")","v":"N"},{"$f":"IF(Worksheet!$B$12=TRUE,\"Y\",\"N\")","v":"N"},{"$f":"IF(Worksheet!$C$11=TRUE,\"Y\",\"N\")","v":"N"},{"$f":"IFERROR(Worksheet!AB444,\"\")","v":0}]
[{"$f":"IF(IFERROR(SEARCH(\"Refrigerated\",Worksheet!L445,1),0)>0,122,IF(ISERROR(RIGHT(VLOOKUP(Worksheet!K445,Type!C$1:E$13,3,FALSE),3))=FALSE,RIGHT(VLOOKUP(Worksheet!K445,Type!C$1:E$13,3,FALSE),3),\"\"))","v":""},{"$f":"IF(Worksheet!M445=\"\",\"\",Worksheet!M445)","v":""},{"$f":"IF(Worksheet!N445=\"\",\"\",Worksheet!N445)","v":""},{"$f":"IF(Worksheet!Y445=0,\"\",Worksheet!Y445)","v":""},"Watts",null,null,{"$f":"Worksheet!AA445","v":0},{"$f":"IF(ISBLANK(Worksheet!V445)=FALSE,Worksheet!V445,\"\")","v":0},{"$f":"Worksheet!AG445","v":0},{"$f":"Worksheet!AF445","v":0},0,{"$f":"IF(ISERROR(SEARCH(\"Gas\",Worksheet!$A$18))=TRUE,0,Worksheet!AH445)","v":0},0,null,null,{"$f":"IF(OR(Worksheet!F445=\"Incandescent\",Worksheet!F445=\"Halogen Incandescent\")=TRUE,118,IF(LEFT(Worksheet!F445,3)=\"HID\",117,IF(OR(RIGHT(Worksheet!F445,3)=\"T12\",RIGHT(Worksheet!F445,5)=\"T12HO\")=TRUE,115,IF(OR(RIGHT(Worksheet!F445,2)=\"T8\",RIGHT(Worksheet!F445,4)=\"RWT8\",RIGHT(Worksheet!F445,4)=\"T8HO\")=TRUE,115,\"\"))))","v":""},{"$f":"IF(ISBLANK(Worksheet!W445)=FALSE,Worksheet!W445,\"\")","v":0},{"$f":"IF(ISERROR(SEARCH(\"Oil\",Worksheet!$A$18))=TRUE,0,Worksheet!AH445)","v":0},0,{"$f":"IF(ISERROR(SEARCH(\"Propane\",Worksheet!$A$18))=TRUE,0,Worksheet!AH445)","v":0},0,{"$f":"IF(Worksheet!J445=0,\"\",Worksheet!J445)","v":""},{"$f":"IF(Worksheet!B445=0,\"\",Worksheet!B445)","v":""},{"$f":"IF(Worksheet!K445=0,\"\",Worksheet!K445)","v":""},{"$f":"IF(Worksheet!L445=0,\"\",Worksheet!L445)","v":""},{"$f":"IF(Worksheet!R445=0,\"\",Worksheet!R445)","v":""},{"$f":"IF(Worksheet!F445=0,\"\",Worksheet!F445)","v":""},{"$f":"IF(Worksheet!G445=0,\"\",Worksheet!G445)","v":""},{"$f":"IF(Worksheet!X445=0,\"\",Worksheet!X445)","v":""},{"$f":"IF(Worksheet!Q445=0,\"\",Worksheet!Q445)","v":""},{"$f":"IF(Worksheet!C445=0,\"\",Worksheet!C445)","v":""},{"$f":"IF(Worksheet!D445=0,\"\",Worksheet!D445)","v":""},{"$f":"IF(Worksheet!$A$11=TRUE,\"Y\",\"N\")","v":"N"},{"$f":"IF(Worksheet!$A$12=TRUE,\"Y\",\"N\")","v":"N"},{"$f":"IF(Worksheet!$B$11=TRUE,\"Y\",\"N\")","v":"N"},{"$f":"IF(Worksheet!$B$12=TRUE,\"Y\",\"N\")","v":"N"},{"$f":"IF(Worksheet!$C$11=TRUE,\"Y\",\"N\")","v":"N"},{"$f":"IFERROR(Worksheet!AB445,\"\")","v":0}]
[{"$f":"IF(IFERROR(SEARCH(\"Refrigerated\",Worksheet!L446,1),0)>0,122,IF(ISERROR(RIGHT(VLOOKUP(Worksheet!K446,Type!C$1:E$13,3,FALSE),3))=FALSE,RIGHT(VLOOKUP(Worksheet!K446,Type!C$1:E$13,3,FALSE),3),\"\"))","v":""},{"$f":"IF(Worksheet!M446=\"\",\"\",Worksheet!M446)","v":""},{"$f":"IF(Worksheet!N446=\"\",\"\",Worksheet!N446)","v":""},{"$f":"IF(Worksheet!Y446=0,\"\",Worksheet!Y446)","v":""},"Watts",null,null,{"$f":"Worksheet!AA446","v":0},{"$f":"IF(ISBLANK(Worksheet!V446)=FALSE,Worksheet!V446,\"\")","v":0},{"$f":"Worksheet!AG446","v":0},{"$f":"Worksheet!AF446","v":0},0,{"$f":"IF(ISERROR(SEARCH(\"Gas\",Worksheet!$A$18))=TRUE,0,Worksheet!AH446)","v":0},0,null,null,{"$f":"IF(OR(Worksheet!F446=\"Incandescent\",Worksheet!F446=\"Halogen Incandescent\")=TRUE,118,IF(LEFT(Worksheet!F446,3)=\"HID\",117,IF(OR(RIGHT(Worksheet!F446,3)=\"T12\",RIGHT(Worksheet!F446,5)=\"T12HO\")=TRUE,115,IF(OR(RIGHT(Worksheet!F446,2)=\"T8\",RIGHT(Worksheet!F446,4)=\"RWT8\",RIGHT(Worksheet!F446,4)=\"T8HO\")=TRUE,115,\"\"))))","v":""},{"$f":"IF(ISBLANK(Worksheet!W446)=FALSE,Worksheet!W446,\"\")","v":0},{"$f":"IF(ISERROR(SEARCH(\"Oil\",Worksheet!$A$18))=TRUE,0,Worksheet!AH446)","v":0},0,{"$f":"IF(ISERROR(SEARCH(\"Propane\",Worksheet!$A$18))=TRUE,0,Worksheet!AH446)","v":0},0,{"$f":"IF(Worksheet!J446=0,\"\",Worksheet!J446)","v":""},{"$f":"IF(Worksheet!B446=0,\"\",Worksheet!B446)","v":""},{"$f":"IF(Worksheet!K446=0,\"\",Worksheet!K446)","v":""},{"$f":"IF(Worksheet!L446=0,\"\",Worksheet!L446)","v":""},{"$f":"IF(Worksheet!R446=0,\"\",Worksheet!R446)","v":""},{"$f":"IF(Worksheet!F446=0,\"\",Worksheet!F446)","v":""},{"$f":"IF(Worksheet!G446=0,\"\",Worksheet!G446)","v":""},{"$f":"IF(Worksheet!X446=0,\"\",Worksheet!X446)","v":""},{"$f":"IF(Worksheet!Q446=0,\"\",Worksheet!Q446)","v":""},{"$f":"IF(Worksheet!C446=0,\"\",Worksheet!C446)","v":""},{"$f":"IF(Worksheet!D446=0,\"\",Worksheet!D446)","v":""},{"$f":"IF(Worksheet!$A$11=TRUE,\"Y\",\"N\")","v":"N"},{"$f":"IF(Worksheet!$A$12=TRUE,\"Y\",\"N\")","v":"N"},{"$f":"IF(Worksheet!$B$11=TRUE,\"Y\",\"N\")","v":"N"},{"$f":"IF(Worksheet!$B$12=TRUE,\"Y\",\"N\")","v":"N"},{"$f":"IF(Worksheet!$C$11=TRUE,\"Y\",\"N\")","v":"N"},{"$f":"IFERROR(Worksheet!AB446,\"\")","v":0}]
[{"$f":"IF(IFERROR(SEARCH(\"Refrigerated\",Worksheet!L447,1),0)>0,122,IF(ISERROR(RIGHT(VLOOKUP(Worksheet!K447,Type!C$1:E$13,3,FALSE),3))=FALSE,RIGHT(VLOOKUP(Worksheet!K447,Type!C$1:E$13,3,FALSE),3),\"\"))","v":""},{"$f":"IF(Worksheet!M447=\"\",\"\",Worksheet!M447)","v":""},{"$f":"IF(Worksheet!N447=\"\",\"\",Worksheet!N447)","v":""},{"$f":"IF(Worksheet!Y447=0,\"\",Worksheet!Y447)","v":""},"Watts",null,null,{"$f":"Worksheet!AA447","v":0},{"$f":"IF(ISBLANK(Worksheet!V447)=FALSE,Worksheet!V447,\"\")","v":0},{"$f":"Worksheet!AG447","v":0},{"$f":"Worksheet!AF447","v":0},0,{"$f":"IF(ISERROR(SEARCH(\"Gas\",Worksheet!$A$18))=TRUE,0,Worksheet!AH447)","v":0},0,null,null,{"$f":"IF(OR(Worksheet!F447=\"Incandescent\",Worksheet!F447=\"Halogen Incandescent\")=TRUE,118,IF(LEFT(Worksheet!F447,3)=\"HID\",117,IF(OR(RIGHT(Worksheet!F447,3)=\"T12\",RIGHT(Worksheet!F447,5)=\"T12HO\")=TRUE,115,IF(OR(RIGHT(Worksheet!F447,2)=\"T8\",RIGHT(Worksheet!F447,4)=\"RWT8\",RIGHT(Worksheet!F447,4)=\"T8HO\")=TRUE,115,\"\"))))","v":""},{"$f":"IF(ISBLANK(Worksheet!W447)=FALSE,Worksheet!W447,\"\")","v":0},{"$f":"IF(ISERROR(SEARCH(\"Oil\",Worksheet!$A$18))=TRUE,0,Worksheet!AH447)","v":0},0,{"$f":"IF(ISERROR(SEARCH(\"Propane\",Worksheet!$A$18))=TRUE,0,Worksheet!AH447)","v":0},0,{"$f":"IF(Worksheet!J447=0,\"\",Worksheet!J447)","v":""},{"$f":"IF(Worksheet!B447=0,\"\",Worksheet!B447)","v":""},{"$f":"IF(Worksheet!K447=0,\"\",Worksheet!K447)","v":""},{"$f":"IF(Worksheet!L447=0,\"\",Worksheet!L447)","v":""},{"$f":"IF(Worksheet!R447=0,\"\",Worksheet!R447)","v":""},{"$f":"IF(Worksheet!F447=0,\"\",Worksheet!F447)","v":""},{"$f":"IF(Worksheet!G447=0,\"\",Worksheet!G447)","v":""},{"$f":"IF(Worksheet!X447=0,\"\",Worksheet!X447)","v":""},{"$f":"IF(Worksheet!Q447=0,\"\",Worksheet!Q447)","v":""},{"$f":"IF(Worksheet!C447=0,\"\",Worksheet!C447)","v":""},{"$f":"IF(Worksheet!D447=0,\"\",Worksheet!D447)","v":""},{"$f":"IF(Worksheet!$A$11=TRUE,\"Y\",\"N\")","v":"N"},{"$f":"IF(Worksheet!$A$12=TRUE,\"Y\",\"N\")","v":"N"},{"$f":"IF(Worksheet!$B$11=TRUE,\"Y\",\"N\")","v":"N"},{"$f":"IF(Worksheet!$B$12=TRUE,\"Y\",\"N\")","v":"N"},{"$f":"IF(Worksheet!$C$11=TRUE,\"Y\",\"N\")","v":"N"},{"$f":"IFERROR(Worksheet!AB447,\"\")","v":0}]
[{"$f":"IF(IFERROR(SEARCH(\"Refrigerated\",Worksheet!L448,1),0)>0,122,IF(ISERROR(RIGHT(VLOOKUP(Worksheet!K448,Type!C$1:E$13,3,FALSE),3))=FALSE,RIGHT(VLOOKUP(Worksheet!K448,Type!C$1:E$13,3,FALSE),3),\"\"))","v":""},{"$f":"IF(Worksheet!M448=\"\",\"\",Worksheet!M448)","v":""},{"$f":"IF(Worksheet!N448=\"\",\"\",Worksheet!N448)","v":""},{"$f":"IF(Worksheet!Y448=0,\"\",Worksheet!Y448)","v":""},"Watts",null,null,{"$f":"Worksheet!AA448","v":0},{"$f":"IF(ISBLANK(Worksheet!V448)=FALSE,Worksheet!V448,\"\")","v":0},{"$f":"Worksheet!AG448","v":0},{"$f":"Worksheet!AF448","v":0},0,{"$f":"IF(ISERROR(SEARCH(\"Gas\",Worksheet!$A$18))=TRUE,0,Worksheet!AH448)","v":0},0,null,null,{"$f":"IF(OR(Worksheet!F448=\"Incandescent\",Worksheet!F448=\"Halogen Incandescent\")=TRUE,118,IF(LEFT(Worksheet!F448,3)=\"HID\",117,IF(OR(RIGHT(Worksheet!F448,3)=\"T12\",RIGHT(Worksheet!F448,5)=\"T12HO\")=TRUE,115,IF(OR(RIGHT(Worksheet!F448,2)=\"T8\",RIGHT(Worksheet!F448,4)=\"RWT8\",RIGHT(Worksheet!F448,4)=\"T8HO\")=TRUE,115,\"\"))))","v":""},{"$f":"IF(ISBLANK(Worksheet!W448)=FALSE,Worksheet!W448,\"\")","v":0},{"$f":"IF(ISERROR(SEARCH(\"Oil\",Worksheet!$A$18))=TRUE,0,Worksheet!AH448)","v":0},0,{"$f":"IF(ISERROR(SEARCH(\"Propane\",Worksheet!$A$18))=TRUE,0,Worksheet!AH448)","v":0},0,{"$f":"IF(Worksheet!J448=0,\"\",Worksheet!J448)","v":""},{"$f":"IF(Worksheet!B448=0,\"\",Worksheet!B448)","v":""},{"$f":"IF(Worksheet!K448=0,\"\",Worksheet!K448)","v":""},{"$f":"IF(Worksheet!L448=0,\"\",Worksheet!L448)","v":""},{"$f":"IF(Worksheet!R448=0,\"\",Worksheet!R448)","v":""},{"$f":"IF(Worksheet!F448=0,\"\",Worksheet!F448)","v":""},{"$f":"IF(Worksheet!G448=0,\"\",Worksheet!G448)","v":""},{"$f":"IF(Worksheet!X448=0,\"\",Worksheet!X448)","v":""},{"$f":"IF(Worksheet!Q448=0,\"\",Worksheet!Q448)","v":""},{"$f":"IF(Worksheet!C448=0,\"\",Worksheet!C448)","v":""},{"$f":"IF(Worksheet!D448=0,\"\",Worksheet!D448)","v":""},{"$f":"IF(Worksheet!$A$11=TRUE,\"Y\",\"N\")","v":"N"},{"$f":"IF(Worksheet!$A$12=TRUE,\"Y\",\"N\")","v":"N"},{"$f":"IF(Worksheet!$B$11=TRUE,\"Y\",\"N\")","v":"N"},{"$f":"IF(Worksheet!$B$12=TRUE,\"Y\",\"N\")","v":"N"},{"$f":"IF(Worksheet!$C$11=TRUE,\"Y\",\"N\")","v":"N"},{"$f":"IFERROR(Worksheet!AB448,\"\")","v":0}]
[{"$f":"IF(IFERROR(SEARCH(\"Refrigerated\",Worksheet!L449,1),0)>0,122,IF(ISERROR(RIGHT(VLOOKUP(Worksheet!K449,Type!C$1:E$13,3,FALSE),3))=FALSE,RIGHT(VLOOKUP(Worksheet!K449,Type!C$1:E$13,3,FALSE),3),\"\"))","v":""},{"$f":"IF(Worksheet!M449=\"\",\"\",Worksheet!M449)","v":""},{"$f":"IF(Worksheet!N449=\"\",\"\",Worksheet!N449)","v":""},{"$f":"IF(Worksheet!Y449=0,\"\",Worksheet!Y449)","v":""},"Watts",null,null,{"$f":"Worksheet!AA449","v":0},{"$f":"IF(ISBLANK(Worksheet!V449)=FALSE,Worksheet!V449,\"\")","v":0},{"$f":"Worksheet!AG449","v":0},{"$f":"Worksheet!AF449","v":0},0,{"$f":"IF(ISERROR(SEARCH(\"Gas\",Worksheet!$A$18))=TRUE,0,Worksheet!AH449)","v":0},0,null,null,{"$f":"IF(OR(Worksheet!F449=\"Incandescent\",Worksheet!F449=\"Halogen Incandescent\")=TRUE,118,IF(LEFT(Worksheet!F449,3)=\"HID\",117,IF(OR(RIGHT(Worksheet!F449,3)=\"T12\",RIGHT(Worksheet!F449,5)=\"T12HO\")=TRUE,115,IF(OR(RIGHT(Worksheet!F449,2)=\"T8\",RIGHT(Worksheet!F449,4)=\"RWT8\",RIGHT(Worksheet!F449,4)=\"T8HO\")=TRUE,115,\"\"))))","v":""},{"$f":"IF(ISBLANK(Worksheet!W449)=FALSE,Worksheet!W449,\"\")","v":0},{"$f":"IF(ISERROR(SEARCH(\"Oil\",Worksheet!$A$18))=TRUE,0,Worksheet!AH449)","v":0},0,{"$f":"IF(ISERROR(SEARCH(\"Propane\",Worksheet!$A$18))=TRUE,0,Worksheet!AH449)","v":0},0,{"$f":"IF(Worksheet!J449=0,\"\",Worksheet!J449)","v":""},{"$f":"IF(Worksheet!B449=0,\"\",Worksheet!B449)","v":""},{"$f":"IF(Worksheet!K449=0,\"\",Worksheet!K449)","v":""},{"$f":"IF(Worksheet!L449=0,\"\",Worksheet!L449)","v":""},{"$f":"IF(Worksheet!R449=0,\"\",Worksheet!R449)","v":""},{"$f":"IF(Worksheet!F449=0,\"\",Worksheet!F449)","v":""},{"$f":"IF(Worksheet!G449=0,\"\",Worksheet!G449)","v":""},{"$f":"IF(Worksheet!X449=0,\"\",Worksheet!X449)","v":""},{"$f":"IF(Worksheet!Q449=0,\"\",Worksheet!Q449)","v":""},{"$f":"IF(Worksheet!C449=0,\"\",Worksheet!C449)","v":""},{"$f":"IF(Worksheet!D449=0,\"\",Worksheet!D449)","v":""},{"$f":"IF(Worksheet!$A$11=TRUE,\"Y\",\"N\")","v":"N"},{"$f":"IF(Worksheet!$A$12=TRUE,\"Y\",\"N\")","v":"N"},{"$f":"IF(Worksheet!$B$11=TRUE,\"Y\",\"N\")","v":"N"},{"$f":"IF(Worksheet!$B$12=TRUE,\"Y\",\"N\")","v":"N"},{"$f":"IF(Worksheet!$C$11=TRUE,\"Y\",\"N\")","v":"N"},{"$f":"IFERROR(Worksheet!AB449,\"\")","v":0}]
[{"$f":"IF(IFERROR(SEARCH(\"Refrigerated\",Worksheet!L450,1),0)>0,122,IF(ISERROR(RIGHT(VLOOKUP(Worksheet!K450,Type!C$1:E$13,3,FALSE),3))=FALSE,RIGHT(VLOOKUP(Worksheet!K450,Type!C$1:E$13,3,FALSE),3),\"\"))","v":""},{"$f":"IF(Worksheet!M450=\"\",\"\",Worksheet!M450)","v":""},{"$f":"IF(Worksheet!N450=\"\",\"\",Worksheet!N450)","v":""},{"$f":"IF(Worksheet!Y450=0,\"\",Worksheet!Y450)","v":""},"Watts",null,null,{"$f":"Worksheet!AA450","v":0},{"$f":"IF(ISBLANK(Worksheet!V450)=FALSE,Worksheet!V450,\"\")","v":0},{"$f":"Worksheet!AG450","v":0},{"$f":"Worksheet!AF450","v":0},0,{"$f":"IF(ISERROR(SEARCH(\"Gas\",Worksheet!$A$18))=TRUE,0,Worksheet!AH450)","v":0},0,null,null,{"$f":"IF(OR(Worksheet!F450=\"Incandescent\",Worksheet!F450=\"Halogen Incandescent\")=TRUE,118,IF(LEFT(Worksheet!F450,3)=\"HID\",117,IF(OR(RIGHT(Worksheet!F450,3)=\"T12\",RIGHT(Worksheet!F450,5)=\"T12HO\")=TRUE,115,IF(OR(RIGHT(Worksheet!F450,2)=\"T8\",RIGHT(Worksheet!F450,4)=\"RWT8\",RIGHT(Worksheet!F450,4)=\"T8HO\")=TRUE,115,\"\"))))","v":""},{"$f":"IF(ISBLANK(Worksheet!W450)=FALSE,Worksheet!W450,\"\")","v":0},{"$f":"IF(ISERROR(SEARCH(\"Oil\",Worksheet!$A$18))=TRUE,0,Worksheet!AH450)","v":0},0,{"$f":"IF(ISERROR(SEARCH(\"Propane\",Worksheet!$A$18))=TRUE,0,Worksheet!AH450)","v":0},0,{"$f":"IF(Worksheet!J450=0,\"\",Worksheet!J450)","v":""},{"$f":"IF(Worksheet!B450=0,\"\",Worksheet!B450)","v":""},{"$f":"IF(Worksheet!K450=0,\"\",Worksheet!K450)","v":""},{"$f":"IF(Worksheet!L450=0,\"\",Worksheet!L450)","v":""},{"$f":"IF(Worksheet!R450=0,\"\",Worksheet!R450)","v":""},{"$f":"IF(Worksheet!F450=0,\"\",Worksheet!F450)","v":""},{"$f":"IF(Worksheet!G450=0,\"\",Worksheet!G450)","v":""},{"$f":"IF(Worksheet!X450=0,\"\",Worksheet!X450)","v":""},{"$f":"IF(Worksheet!Q450=0,\"\",Worksheet!Q450)","v":""},{"$f":"IF(Worksheet!C450=0,\"\",Worksheet!C450)","v":""},{"$f":"IF(Worksheet!D450=0,\"\",Worksheet!D450)","v":""},{"$f":"IF(Worksheet!$A$11=TRUE,\"Y\",\"N\")","v":"N"},{"$f":"IF(Worksheet!$A$12=TRUE,\"Y\",\"N\")","v":"N"},{"$f":"IF(Worksheet!$B$11=TRUE,\"Y\",\"N\")","v":"N"},{"$f":"IF(Worksheet!$B$12=TRUE,\"Y\",\"N\")","v":"N"},{"$f":"IF(Worksheet!$C$11=TRUE,\"Y\",\"N\")","v":"N"},{"$f":"IFERROR(Worksheet!AB450,\"\")","v":0}]
[{"$f":"IF(IFERROR(SEARCH(\"Refrigerated\",Worksheet!L451,1),0)>0,122,IF(ISERROR(RIGHT(VLOOKUP(Worksheet!K451,Type!C$1:E$13,3,FALSE),3))=FALSE,RIGHT(VLOOKUP(Worksheet!K451,Type!C$1:E$13,3,FALSE),3),\"\"))","v":""},{"$f":"IF(Worksheet!M451=\"\",\"\",Worksheet!M451)","v":""},{"$f":"IF(Worksheet!N451=\"\",\"\",Worksheet!N451)","v":""},{"$f":"IF(Worksheet!Y451=0,\"\",Worksheet!Y451)","v":""},"Watts",null,null,{"$f":"Worksheet!AA451","v":0},{"$f":"IF(ISBLANK(Worksheet!V451)=FALSE,Worksheet!V451,\"\")","v":0},{"$f":"Worksheet!AG451","v":0},{"$f":"Worksheet!AF451","v":0},0,{"$f":"IF(ISERROR(SEARCH(\"Gas\",Worksheet!$A$18))=TRUE,0,Worksheet!AH451)","v":0},0,null,null,{"$f":"IF(OR(Worksheet!F451=\"Incandescent\",Worksheet!F451=\"Halogen Incandescent\")=TRUE,118,IF(LEFT(Worksheet!F451,3)=\"HID\",117,IF(OR(RIGHT(Worksheet!F451,3)=\"T12\",RIGHT(Worksheet!F451,5)=\"T12HO\")=TRUE,115,IF(OR(RIGHT(Worksheet!F451,2)=\"T8\",RIGHT(Worksheet!F451,4)=\"RWT8\",RIGHT(Worksheet!F451,4)=\"T8HO\")=TRUE,115,\"\"))))","v":""},{"$f":"IF(ISBLANK(Worksheet!W451)=FALSE,Worksheet!W451,\"\")","v":0},{"$f":"IF(ISERROR(SEARCH(\"Oil\",Worksheet!$A$18))=TRUE,0,Worksheet!AH451)","v":0},0,{"$f":"IF(ISERROR(SEARCH(\"Propane\",Worksheet!$A$18))=TRUE,0,Worksheet!AH451)","v":0},0,{"$f":"IF(Worksheet!J451=0,\"\",Worksheet!J451)","v":""},{"$f":"IF(Worksheet!B451=0,\"\",Worksheet!B451)","v":""},{"$f":"IF(Worksheet!K451=0,\"\",Worksheet!K451)","v":""},{"$f":"IF(Worksheet!L451=0,\"\",Worksheet!L451)","v":""},{"$f":"IF(Worksheet!R451=0,\"\",Worksheet!R451)","v":""},{"$f":"IF(Worksheet!F451=0,\"\",Worksheet!F451)","v":""},{"$f":"IF(Worksheet!G451=0,\"\",Worksheet!G451)","v":""},{"$f":"IF(Worksheet!X451=0,\"\",Worksheet!X451)","v":""},{"$f":"IF(Worksheet!Q451=0,\"\",Worksheet!Q451)","v":""},{"$f":"IF(Worksheet!C451=0,\"\",Worksheet!C451)","v":""},{"$f":"IF(Worksheet!D451=0,\"\",Worksheet!D451)","v":""},{"$f":"IF(Worksheet!$A$11=TRUE,\"Y\",\"N\")","v":"N"},{"$f":"IF(Worksheet!$A$12=TRUE,\"Y\",\"N\")","v":"N"},{"$f":"IF(Worksheet!$B$11=TRUE,\"Y\",\"N\")","v":"N"},{"$f":"IF(Worksheet!$B$12=TRUE,\"Y\",\"N\")","v":"N"},{"$f":"IF(Worksheet!$C$11=TRUE,\"Y\",\"N\")","v":"N"},{"$f":"IFERROR(Worksheet!AB451,\"\")","v":0}]
[{"$f":"IF(IFERROR(SEARCH(\"Refrigerated\",Worksheet!L452,1),0)>0,122,IF(ISERROR(RIGHT(VLOOKUP(Worksheet!K452,Type!C$1:E$13,3,FALSE),3))=FALSE,RIGHT(VLOOKUP(Worksheet!K452,Type!C$1:E$13,3,FALSE),3),\"\"))","v":""},{"$f":"IF(Worksheet!M452=\"\",\"\",Worksheet!M452)","v":""},{"$f":"IF(Worksheet!N452=\"\",\"\",Worksheet!N452)","v":""},{"$f":"IF(Worksheet!Y452=0,\"\",Worksheet!Y452)","v":""},"Watts",null,null,{"$f":"Worksheet!AA452","v":0},{"$f":"IF(ISBLANK(Worksheet!V452)=FALSE,Worksheet!V452,\"\")","v":0},{"$f":"Worksheet!AG452","v":0},{"$f":"Worksheet!AF452","v":0},0,{"$f":"IF(ISERROR(SEARCH(\"Gas\",Worksheet!$A$18))=TRUE,0,Worksheet!AH452)","v":0},0,null,null,{"$f":"IF(OR(Worksheet!F452=\"Incandescent\",Worksheet!F452=\"Halogen Incandescent\")=TRUE,118,IF(LEFT(Worksheet!F452,3)=\"HID\",117,IF(OR(RIGHT(Worksheet!F452,3)=\"T12\",RIGHT(Worksheet!F452,5)=\"T12HO\")=TRUE,115,IF(OR(RIGHT(Worksheet!F452,2)=\"T8\",RIGHT(Worksheet!F452,4)=\"RWT8\",RIGHT(Worksheet!F452,4)=\"T8HO\")=TRUE,115,\"\"))))","v":""},{"$f":"IF(ISBLANK(Worksheet!W452)=FALSE,Worksheet!W452,\"\")","v":0},{"$f":"IF(ISERROR(SEARCH(\"Oil\",Worksheet!$A$18))=TRUE,0,Worksheet!AH452)","v":0},0,{"$f":"IF(ISERROR(SEARCH(\"Propane\",Worksheet!$A$18))=TRUE,0,Worksheet!AH452)","v":0},0,{"$f":"IF(Worksheet!J452=0,\"\",Worksheet!J452)","v":""},{"$f":"IF(Worksheet!B452=0,\"\",Worksheet!B452)","v":""},{"$f":"IF(Worksheet!K452=0,\"\",Worksheet!K452)","v":""},{"$f":"IF(Worksheet!L452=0,\"\",Worksheet!L452)","v":""},{"$f":"IF(Worksheet!R452=0,\"\",Worksheet!R452)","v":""},{"$f":"IF(Worksheet!F452=0,\"\",Worksheet!F452)","v":""},{"$f":"IF(Worksheet!G452=0,\"\",Worksheet!G452)","v":""},{"$f":"IF(Worksheet!X452=0,\"\",Worksheet!X452)","v":""},{"$f":"IF(Worksheet!Q452=0,\"\",Worksheet!Q452)","v":""},{"$f":"IF(Worksheet!C452=0,\"\",Worksheet!C452)","v":""},{"$f":"IF(Worksheet!D452=0,\"\",Worksheet!D452)","v":""},{"$f":"IF(Worksheet!$A$11=TRUE,\"Y\",\"N\")","v":"N"},{"$f":"IF(Worksheet!$A$12=TRUE,\"Y\",\"N\")","v":"N"},{"$f":"IF(Worksheet!$B$11=TRUE,\"Y\",\"N\")","v":"N"},{"$f":"IF(Worksheet!$B$12=TRUE,\"Y\",\"N\")","v":"N"},{"$f":"IF(Worksheet!$C$11=TRUE,\"Y\",\"N\")","v":"N"},{"$f":"IFERROR(Worksheet!AB452,\"\")","v":0}]
[{"$f":"IF(IFERROR(SEARCH(\"Refrigerated\",Worksheet!L453,1),0)>0,122,IF(ISERROR(RIGHT(VLOOKUP(Worksheet!K453,Type!C$1:E$13,3,FALSE),3))=FALSE,RIGHT(VLOOKUP(Worksheet!K453,Type!C$1:E$13,3,FALSE),3),\"\"))","v":""},{"$f":"IF(Worksheet!M453=\"\",\"\",Worksheet!M453)","v":""},{"$f":"IF(Worksheet!N453=\"\",\"\",Worksheet!N453)","v":""},{"$f":"IF(Worksheet!Y453=0,\"\",Worksheet!Y453)","v":""},"Watts",null,null,{"$f":"Worksheet!AA453","v":0},{"$f":"IF(ISBLANK(Worksheet!V453)=FALSE,Worksheet!V453,\"\")","v":0},{"$f":"Worksheet!AG453","v":0},{"$f":"Worksheet!AF453","v":0},0,{"$f":"IF(ISERROR(SEARCH(\"Gas\",Worksheet!$A$18))=TRUE,0,Worksheet!AH453)","v":0},0,null,null,{"$f":"IF(OR(Worksheet!F453=\"Incandescent\",Worksheet!F453=\"Halogen Incandescent\")=TRUE,118,IF(LEFT(Worksheet!F453,3)=\"HID\",117,IF(OR(RIGHT(Worksheet!F453,3)=\"T12\",RIGHT(Worksheet!F453,5)=\"T12HO\")=TRUE,115,IF(OR(RIGHT(Worksheet!F453,2)=\"T8\",RIGHT(Worksheet!F453,4)=\"RWT8\",RIGHT(Worksheet!F453,4)=\"T8HO\")=TRUE,115,\"\"))))","v":""},{"$f":"IF(ISBLANK(Worksheet!W453)=FALSE,Worksheet!W453,\"\")","v":0},{"$f":"IF(ISERROR(SEARCH(\"Oil\",Worksheet!$A$18))=TRUE,0,Worksheet!AH453)","v":0},0,{"$f":"IF(ISERROR(SEARCH(\"Propane\",Worksheet!$A$18))=TRUE,0,Worksheet!AH453)","v":0},0,{"$f":"IF(Worksheet!J453=0,\"\",Worksheet!J453)","v":""},{"$f":"IF(Worksheet!B453=0,\"\",Worksheet!B453)","v":""},{"$f":"IF(Worksheet!K453=0,\"\",Worksheet!K453)","v":""},{"$f":"IF(Worksheet!L453=0,\"\",Worksheet!L453)","v":""},{"$f":"IF(Worksheet!R453=0,\"\",Worksheet!R453)","v":""},{"$f":"IF(Worksheet!F453=0,\"\",Worksheet!F453)","v":""},{"$f":"IF(Worksheet!G453=0,\"\",Worksheet!G453)","v":""},{"$f":"IF(Worksheet!X453=0,\"\",Worksheet!X453)","v":""},{"$f":"IF(Worksheet!Q453=0,\"\",Worksheet!Q453)","v":""},{"$f":"IF(Worksheet!C453=0,\"\",Worksheet!C453)","v":""},{"$f":"IF(Worksheet!D453=0,\"\",Worksheet!D453)","v":""},{"$f":"IF(Worksheet!$A$11=TRUE,\"Y\",\"N\")","v":"N"},{"$f":"IF(Worksheet!$A$12=TRUE,\"Y\",\"N\")","v":"N"},{"$f":"IF(Worksheet!$B$11=TRUE,\"Y\",\"N\")","v":"N"},{"$f":"IF(Worksheet!$B$12=TRUE,\"Y\",\"N\")","v":"N"},{"$f":"IF(Worksheet!$C$11=TRUE,\"Y\",\"N\")","v":"N"},{"$f":"IFERROR(Worksheet!AB453,\"\")","v":0}]
[{"$f":"IF(IFERROR(SEARCH(\"Refrigerated\",Worksheet!L454,1),0)>0,122,IF(ISERROR(RIGHT(VLOOKUP(Worksheet!K454,Type!C$1:E$13,3,FALSE),3))=FALSE,RIGHT(VLOOKUP(Worksheet!K454,Type!C$1:E$13,3,FALSE),3),\"\"))","v":""},{"$f":"IF(Worksheet!M454=\"\",\"\",Worksheet!M454)","v":""},{"$f":"IF(Worksheet!N454=\"\",\"\",Worksheet!N454)","v":""},{"$f":"IF(Worksheet!Y454=0,\"\",Worksheet!Y454)","v":""},"Watts",null,null,{"$f":"Worksheet!AA454","v":0},{"$f":"IF(ISBLANK(Worksheet!V454)=FALSE,Worksheet!V454,\"\")","v":0},{"$f":"Worksheet!AG454","v":0},{"$f":"Worksheet!AF454","v":0},0,{"$f":"IF(ISERROR(SEARCH(\"Gas\",Worksheet!$A$18))=TRUE,0,Worksheet!AH454)","v":0},0,null,null,{"$f":"IF(OR(Worksheet!F454=\"Incandescent\",Worksheet!F454=\"Halogen Incandescent\")=TRUE,118,IF(LEFT(Worksheet!F454,3)=\"HID\",117,IF(OR(RIGHT(Worksheet!F454,3)=\"T12\",RIGHT(Worksheet!F454,5)=\"T12HO\")=TRUE,115,IF(OR(RIGHT(Worksheet!F454,2)=\"T8\",RIGHT(Worksheet!F454,4)=\"RWT8\",RIGHT(Worksheet!F454,4)=\"T8HO\")=TRUE,115,\"\"))))","v":""},{"$f":"IF(ISBLANK(Worksheet!W454)=FALSE,Worksheet!W454,\"\")","v":0},{"$f":"IF(ISERROR(SEARCH(\"Oil\",Worksheet!$A$18))=TRUE,0,Worksheet!AH454)","v":0},0,{"$f":"IF(ISERROR(SEARCH(\"Propane\",Worksheet!$A$18))=TRUE,0,Worksheet!AH454)","v":0},0,{"$f":"IF(Worksheet!J454=0,\"\",Worksheet!J454)","v":""},{"$f":"IF(Worksheet!B454=0,\"\",Worksheet!B454)","v":""},{"$f":"IF(Worksheet!K454=0,\"\",Worksheet!K454)","v":""},{"$f":"IF(Worksheet!L454=0,\"\",Worksheet!L454)","v":""},{"$f":"IF(Worksheet!R454=0,\"\",Worksheet!R454)","v":""},{"$f":"IF(Worksheet!F454=0,\"\",Worksheet!F454)","v":""},{"$f":"IF(Worksheet!G454=0,\"\",Worksheet!G454)","v":""},{"$f":"IF(Worksheet!X454=0,\"\",Worksheet!X454)","v":""},{"$f":"IF(Worksheet!Q454=0,\"\",Worksheet!Q454)","v":""},{"$f":"IF(Worksheet!C454=0,\"\",Worksheet!C454)","v":""},{"$f":"IF(Worksheet!D454=0,\"\",Worksheet!D454)","v":""},{"$f":"IF(Worksheet!$A$11=TRUE,\"Y\",\"N\")","v":"N"},{"$f":"IF(Worksheet!$A$12=TRUE,\"Y\",\"N\")","v":"N"},{"$f":"IF(Worksheet!$B$11=TRUE,\"Y\",\"N\")","v":"N"},{"$f":"IF(Worksheet!$B$12=TRUE,\"Y\",\"N\")","v":"N"},{"$f":"IF(Worksheet!$C$11=TRUE,\"Y\",\"N\")","v":"N"},{"$f":"IFERROR(Worksheet!AB454,\"\")","v":0}]
[{"$f":"IF(IFERROR(SEARCH(\"Refrigerated\",Worksheet!L455,1),0)>0,122,IF(ISERROR(RIGHT(VLOOKUP(Worksheet!K455,Type!C$1:E$13,3,FALSE),3))=FALSE,RIGHT(VLOOKUP(Worksheet!K455,Type!C$1:E$13,3,FALSE),3),\"\"))","v":""},{"$f":"IF(Worksheet!M455=\"\",\"\",Worksheet!M455)","v":""},{"$f":"IF(Worksheet!N455=\"\",\"\",Worksheet!N455)","v":""},{"$f":"IF(Worksheet!Y455=0,\"\",Worksheet!Y455)","v":""},"Watts",null,null,{"$f":"Worksheet!AA455","v":0},{"$f":"IF(ISBLANK(Worksheet!V455)=FALSE,Worksheet!V455,\"\")","v":0},{"$f":"Worksheet!AG455","v":0},{"$f":"Worksheet!AF455","v":0},0,{"$f":"IF(ISERROR(SEARCH(\"Gas\",Worksheet!$A$18))=TRUE,0,Worksheet!AH455)","v":0},0,null,null,{"$f":"IF(OR(Worksheet!F455=\"Incandescent\",Worksheet!F455=\"Halogen Incandescent\")=TRUE,118,IF(LEFT(Worksheet!F455,3)=\"HID\",117,IF(OR(RIGHT(Worksheet!F455,3)=\"T12\",RIGHT(Worksheet!F455,5)=\"T12HO\")=TRUE,115,IF(OR(RIGHT(Worksheet!F455,2)=\"T8\",RIGHT(Worksheet!F455,4)=\"RWT8\",RIGHT(Worksheet!F455,4)=\"T8HO\")=TRUE,115,\"\"))))","v":""},{"$f":"IF(ISBLANK(Worksheet!W455)=FALSE,Worksheet!W455,\"\")","v":0},{"$f":"IF(ISERROR(SEARCH(\"Oil\",Worksheet!$A$18))=TRUE,0,Worksheet!AH455)","v":0},0,{"$f":"IF(ISERROR(SEARCH(\"Propane\",Worksheet!$A$18))=TRUE,0,Worksheet!AH455)","v":0},0,{"$f":"IF(Worksheet!J455=0,\"\",Worksheet!J455)","v":""},{"$f":"IF(Worksheet!B455=0,\"\",Worksheet!B455)","v":""},{"$f":"IF(Worksheet!K455=0,\"\",Worksheet!K455)","v":""},{"$f":"IF(Worksheet!L455=0,\"\",Worksheet!L455)","v":""},{"$f":"IF(Worksheet!R455=0,\"\",Worksheet!R455)","v":""},{"$f":"IF(Worksheet!F455=0,\"\",Worksheet!F455)","v":""},{"$f":"IF(Worksheet!G455=0,\"\",Worksheet!G455)","v":""},{"$f":"IF(Worksheet!X455=0,\"\",Worksheet!X455)","v":""},{"$f":"IF(Worksheet!Q455=0,\"\",Worksheet!Q455)","v":""},{"$f":"IF(Worksheet!C455=0,\"\",Worksheet!C455)","v":""},{"$f":"IF(Worksheet!D455=0,\"\",Worksheet!D455)","v":""},{"$f":"IF(Worksheet!$A$11=TRUE,\"Y\",\"N\")","v":"N"},{"$f":"IF(Worksheet!$A$12=TRUE,\"Y\",\"N\")","v":"N"},{"$f":"IF(Worksheet!$B$11=TRUE,\"Y\",\"N\")","v":"N"},{"$f":"IF(Worksheet!$B$12=TRUE,\"Y\",\"N\")","v":"N"},{"$f":"IF(Worksheet!$C$11=TRUE,\"Y\",\"N\")","v":"N"},{"$f":"IFERROR(Worksheet!AB455,\"\")","v":0}]
[{"$f":"IF(IFERROR(SEARCH(\"Refrigerated\",Worksheet!L456,1),0)>0,122,IF(ISERROR(RIGHT(VLOOKUP(Worksheet!K456,Type!C$1:E$13,3,FALSE),3))=FALSE,RIGHT(VLOOKUP(Worksheet!K456,Type!C$1:E$13,3,FALSE),3),\"\"))","v":""},{"$f":"IF(Worksheet!M456=\"\",\"\",Worksheet!M456)","v":""},{"$f":"IF(Worksheet!N456=\"\",\"\",Worksheet!N456)","v":""},{"$f":"IF(Worksheet!Y456=0,\"\",Worksheet!Y456)","v":""},"Watts",null,null,{"$f":"Worksheet!AA456","v":0},{"$f":"IF(ISBLANK(Worksheet!V456)=FALSE,Worksheet!V456,\"\")","v":0},{"$f":"Worksheet!AG456","v":0},{"$f":"Worksheet!AF456","v":0},0,{"$f":"IF(ISERROR(SEARCH(\"Gas\",Worksheet!$A$18))=TRUE,0,Worksheet!AH456)","v":0},0,null,null,{"$f":"IF(OR(Worksheet!F456=\"Incandescent\",Worksheet!F456=\"Halogen Incandescent\")=TRUE,118,IF(LEFT(Worksheet!F456,3)=\"HID\",117,IF(OR(RIGHT(Worksheet!F456,3)=\"T12\",RIGHT(Worksheet!F456,5)=\"T12HO\")=TRUE,115,IF(OR(RIGHT(Worksheet!F456,2)=\"T8\",RIGHT(Worksheet!F456,4)=\"RWT8\",RIGHT(Worksheet!F456,4)=\"T8HO\")=TRUE,115,\"\"))))","v":""},{"$f":"IF(ISBLANK(Worksheet!W456)=FALSE,Worksheet!W456,\"\")","v":0},{"$f":"IF(ISERROR(SEARCH(\"Oil\",Worksheet!$A$18))=TRUE,0,Worksheet!AH456)","v":0},0,{"$f":"IF(ISERROR(SEARCH(\"Propane\",Worksheet!$A$18))=TRUE,0,Worksheet!AH456)","v":0},0,{"$f":"IF(Worksheet!J456=0,\"\",Worksheet!J456)","v":""},{"$f":"IF(Worksheet!B456=0,\"\",Worksheet!B456)","v":""},{"$f":"IF(Worksheet!K456=0,\"\",Worksheet!K456)","v":""},{"$f":"IF(Worksheet!L456=0,\"\",Worksheet!L456)","v":""},{"$f":"IF(Worksheet!R456=0,\"\",Worksheet!R456)","v":""},{"$f":"IF(Worksheet!F456=0,\"\",Worksheet!F456)","v":""},{"$f":"IF(Worksheet!G456=0,\"\",Worksheet!G456)","v":""},{"$f":"IF(Worksheet!X456=0,\"\",Worksheet!X456)","v":""},{"$f":"IF(Worksheet!Q456=0,\"\",Worksheet!Q456)","v":""},{"$f":"IF(Worksheet!C456=0,\"\",Worksheet!C456)","v":""},{"$f":"IF(Worksheet!D456=0,\"\",Worksheet!D456)","v":""},{"$f":"IF(Worksheet!$A$11=TRUE,\"Y\",\"N\")","v":"N"},{"$f":"IF(Worksheet!$A$12=TRUE,\"Y\",\"N\")","v":"N"},{"$f":"IF(Worksheet!$B$11=TRUE,\"Y\",\"N\")","v":"N"},{"$f":"IF(Worksheet!$B$12=TRUE,\"Y\",\"N\")","v":"N"},{"$f":"IF(Worksheet!$C$11=TRUE,\"Y\",\"N\")","v":"N"},{"$f":"IFERROR(Worksheet!AB456,\"\")","v":0}]
[{"$f":"IF(IFERROR(SEARCH(\"Refrigerated\",Worksheet!L457,1),0)>0,122,IF(ISERROR(RIGHT(VLOOKUP(Worksheet!K457,Type!C$1:E$13,3,FALSE),3))=FALSE,RIGHT(VLOOKUP(Worksheet!K457,Type!C$1:E$13,3,FALSE),3),\"\"))","v":""},{"$f":"IF(Worksheet!M457=\"\",\"\",Worksheet!M457)","v":""},{"$f":"IF(Worksheet!N457=\"\",\"\",Worksheet!N457)","v":""},{"$f":"IF(Worksheet!Y457=0,\"\",Worksheet!Y457)","v":""},"Watts",null,null,{"$f":"Worksheet!AA457","v":0},{"$f":"IF(ISBLANK(Worksheet!V457)=FALSE,Worksheet!V457,\"\")","v":0},{"$f":"Worksheet!AG457","v":0},{"$f":"Worksheet!AF457","v":0},0,{"$f":"IF(ISERROR(SEARCH(\"Gas\",Worksheet!$A$18))=TRUE,0,Worksheet!AH457)","v":0},0,null,null,{"$f":"IF(OR(Worksheet!F457=\"Incandescent\",Worksheet!F457=\"Halogen Incandescent\")=TRUE,118,IF(LEFT(Worksheet!F457,3)=\"HID\",117,IF(OR(RIGHT(Worksheet!F457,3)=\"T12\",RIGHT(Worksheet!F457,5)=\"T12HO\")=TRUE,115,IF(OR(RIGHT(Worksheet!F457,2)=\"T8\",RIGHT(Worksheet!F457,4)=\"RWT8\",RIGHT(Worksheet!F457,4)=\"T8HO\")=TRUE,115,\"\"))))","v":""},{"$f":"IF(ISBLANK(Worksheet!W457)=FALSE,Worksheet!W457,\"\")","v":0},{"$f":"IF(ISERROR(SEARCH(\"Oil\",Worksheet!$A$18))=TRUE,0,Worksheet!AH457)","v":0},0,{"$f":"IF(ISERROR(SEARCH(\"Propane\",Worksheet!$A$18))=TRUE,0,Worksheet!AH457)","v":0},0,{"$f":"IF(Worksheet!J457=0,\"\",Worksheet!J457)","v":""},{"$f":"IF(Worksheet!B457=0,\"\",Worksheet!B457)","v":""},{"$f":"IF(Worksheet!K457=0,\"\",Worksheet!K457)","v":""},{"$f":"IF(Worksheet!L457=0,\"\",Worksheet!L457)","v":""},{"$f":"IF(Worksheet!R457=0,\"\",Worksheet!R457)","v":""},{"$f":"IF(Worksheet!F457=0,\"\",Worksheet!F457)","v":""},{"$f":"IF(Worksheet!G457=0,\"\",Worksheet!G457)","v":""},{"$f":"IF(Worksheet!X457=0,\"\",Worksheet!X457)","v":""},{"$f":"IF(Worksheet!Q457=0,\"\",Worksheet!Q457)","v":""},{"$f":"IF(Worksheet!C457=0,\"\",Worksheet!C457)","v":""},{"$f":"IF(Worksheet!D457=0,\"\",Worksheet!D457)","v":""},{"$f":"IF(Worksheet!$A$11=TRUE,\"Y\",\"N\")","v":"N"},{"$f":"IF(Worksheet!$A$12=TRUE,\"Y\",\"N\")","v":"N"},{"$f":"IF(Worksheet!$B$11=TRUE,\"Y\",\"N\")","v":"N"},{"$f":"IF(Worksheet!$B$12=TRUE,\"Y\",\"N\")","v":"N"},{"$f":"IF(Worksheet!$C$11=TRUE,\"Y\",\"N\")","v":"N"},{"$f":"IFERROR(Worksheet!AB457,\"\")","v":0}]
[{"$f":"IF(IFERROR(SEARCH(\"Refrigerated\",Worksheet!L458,1),0)>0,122,IF(ISERROR(RIGHT(VLOOKUP(Worksheet!K458,Type!C$1:E$13,3,FALSE),3))=FALSE,RIGHT(VLOOKUP(Worksheet!K458,Type!C$1:E$13,3,FALSE),3),\"\"))","v":""},{"$f":"IF(Worksheet!M458=\"\",\"\",Worksheet!M458)","v":""},{"$f":"IF(Worksheet!N458=\"\",\"\",Worksheet!N458)","v":""},{"$f":"IF(Worksheet!Y458=0,\"\",Worksheet!Y458)","v":""},"Watts",null,null,{"$f":"Worksheet!AA458","v":0},{"$f":"IF(ISBLANK(Worksheet!V458)=FALSE,Worksheet!V458,\"\")","v":0},{"$f":"Worksheet!AG458","v":0},{"$f":"Worksheet!AF458","v":0},0,{"$f":"IF(ISERROR(SEARCH(\"Gas\",Worksheet!$A$18))=TRUE,0,Worksheet!AH458)","v":0},0,null,null,{"$f":"IF(OR(Worksheet!F458=\"Incandescent\",Worksheet!F458=\"Halogen Incandescent\")=TRUE,118,IF(LEFT(Worksheet!F458,3)=\"HID\",117,IF(OR(RIGHT(Worksheet!F458,3)=\"T12\",RIGHT(Worksheet!F458,5)=\"T12HO\")=TRUE,115,IF(OR(RIGHT(Worksheet!F458,2)=\"T8\",RIGHT(Worksheet!F458,4)=\"RWT8\",RIGHT(Worksheet!F458,4)=\"T8HO\")=TRUE,115,\"\"))))","v":""},{"$f":"IF(ISBLANK(Worksheet!W458)=FALSE,Worksheet!W458,\"\")","v":0},{"$f":"IF(ISERROR(SEARCH(\"Oil\",Worksheet!$A$18))=TRUE,0,Worksheet!AH458)","v":0},0,{"$f":"IF(ISERROR(SEARCH(\"Propane\",Worksheet!$A$18))=TRUE,0,Worksheet!AH458)","v":0},0,{"$f":"IF(Worksheet!J458=0,\"\",Worksheet!J458)","v":""},{"$f":"IF(Worksheet!B458=0,\"\",Worksheet!B458)","v":""},{"$f":"IF(Worksheet!K458=0,\"\",Worksheet!K458)","v":""},{"$f":"IF(Worksheet!L458=0,\"\",Worksheet!L458)","v":""},{"$f":"IF(Worksheet!R458=0,\"\",Worksheet!R458)","v":""},{"$f":"IF(Worksheet!F458=0,\"\",Worksheet!F458)","v":""},{"$f":"IF(Worksheet!G458=0,\"\",Worksheet!G458)","v":""},{"$f":"IF(Worksheet!X458=0,\"\",Worksheet!X458)","v":""},{"$f":"IF(Worksheet!Q458=0,\"\",Worksheet!Q458)","v":""},{"$f":"IF(Worksheet!C458=0,\"\",Worksheet!C458)","v":""},{"$f":"IF(Worksheet!D458=0,\"\",Worksheet!D458)","v":""},{"$f":"IF(Worksheet!$A$11=TRUE,\"Y\",\"N\")","v":"N"},{"$f":"IF(Worksheet!$A$12=TRUE,\"Y\",\"N\")","v":"N"},{"$f":"IF(Worksheet!$B$11=TRUE,\"Y\",\"N\")","v":"N"},{"$f":"IF(Worksheet!$B$12=TRUE,\"Y\",\"N\")","v":"N"},{"$f":"IF(Worksheet!$C$11=TRUE,\"Y\",\"N\")","v":"N"},{"$f":"IFERROR(Worksheet!AB458,\"\")","v":0}]
[{"$f":"IF(IFERROR(SEARCH(\"Refrigerated\",Worksheet!L459,1),0)>0,122,IF(ISERROR(RIGHT(VLOOKUP(Worksheet!K459,Type!C$1:E$13,3,FALSE),3))=FALSE,RIGHT(VLOOKUP(Worksheet!K459,Type!C$1:E$13,3,FALSE),3),\"\"))","v":""},{"$f":"IF(Worksheet!M459=\"\",\"\",Worksheet!M459)","v":""},{"$f":"IF(Worksheet!N459=\"\",\"\",Worksheet!N459)","v":""},{"$f":"IF(Worksheet!Y459=0,\"\",Worksheet!Y459)","v":""},"Watts",null,null,{"$f":"Worksheet!AA459","v":0},{"$f":"IF(ISBLANK(Worksheet!V459)=FALSE,Worksheet!V459,\"\")","v":0},{"$f":"Worksheet!AG459","v":0},{"$f":"Worksheet!AF459","v":0},0,{"$f":"IF(ISERROR(SEARCH(\"Gas\",Worksheet!$A$18))=TRUE,0,Worksheet!AH459)","v":0},0,null,null,{"$f":"IF(OR(Worksheet!F459=\"Incandescent\",Worksheet!F459=\"Halogen Incandescent\")=TRUE,118,IF(LEFT(Worksheet!F459,3)=\"HID\",117,IF(OR(RIGHT(Worksheet!F459,3)=\"T12\",RIGHT(Worksheet!F459,5)=\"T12HO\")=TRUE,115,IF(OR(RIGHT(Worksheet!F459,2)=\"T8\",RIGHT(Worksheet!F459,4)=\"RWT8\",RIGHT(Worksheet!F459,4)=\"T8HO\")=TRUE,115,\"\"))))","v":""},{"$f":"IF(ISBLANK(Worksheet!W459)=FALSE,Worksheet!W459,\"\")","v":0},{"$f":"IF(ISERROR(SEARCH(\"Oil\",Worksheet!$A$18))=TRUE,0,Worksheet!AH459)","v":0},0,{"$f":"IF(ISERROR(SEARCH(\"Propane\",Worksheet!$A$18))=TRUE,0,Worksheet!AH459)","v":0},0,{"$f":"IF(Worksheet!J459=0,\"\",Worksheet!J459)","v":""},{"$f":"IF(Worksheet!B459=0,\"\",Worksheet!B459)","v":""},{"$f":"IF(Worksheet!K459=0,\"\",Worksheet!K459)","v":""},{"$f":"IF(Worksheet!L459=0,\"\",Worksheet!L459)","v":""},{"$f":"IF(Worksheet!R459=0,\"\",Worksheet!R459)","v":""},{"$f":"IF(Worksheet!F459=0,\"\",Worksheet!F459)","v":""},{"$f":"IF(Worksheet!G459=0,\"\",Worksheet!G459)","v":""},{"$f":"IF(Worksheet!X459=0,\"\",Worksheet!X459)","v":""},{"$f":"IF(Worksheet!Q459=0,\"\",Worksheet!Q459)","v":""},{"$f":"IF(Worksheet!C459=0,\"\",Worksheet!C459)","v":""},{"$f":"IF(Worksheet!D459=0,\"\",Worksheet!D459)","v":""},{"$f":"IF(Worksheet!$A$11=TRUE,\"Y\",\"N\")","v":"N"},{"$f":"IF(Worksheet!$A$12=TRUE,\"Y\",\"N\")","v":"N"},{"$f":"IF(Worksheet!$B$11=TRUE,\"Y\",\"N\")","v":"N"},{"$f":"IF(Worksheet!$B$12=TRUE,\"Y\",\"N\")","v":"N"},{"$f":"IF(Worksheet!$C$11=TRUE,\"Y\",\"N\")","v":"N"},{"$f":"IFERROR(Worksheet!AB459,\"\")","v":0}]
[{"$f":"IF(IFERROR(SEARCH(\"Refrigerated\",Worksheet!L460,1),0)>0,122,IF(ISERROR(RIGHT(VLOOKUP(Worksheet!K460,Type!C$1:E$13,3,FALSE),3))=FALSE,RIGHT(VLOOKUP(Worksheet!K460,Type!C$1:E$13,3,FALSE),3),\"\"))","v":""},{"$f":"IF(Worksheet!M460=\"\",\"\",Worksheet!M460)","v":""},{"$f":"IF(Worksheet!N460=\"\",\"\",Worksheet!N460)","v":""},{"$f":"IF(Worksheet!Y460=0,\"\",Worksheet!Y460)","v":""},"Watts",null,null,{"$f":"Worksheet!AA460","v":0},{"$f":"IF(ISBLANK(Worksheet!V460)=FALSE,Worksheet!V460,\"\")","v":0},{"$f":"Worksheet!AG460","v":0},{"$f":"Worksheet!AF460","v":0},0,{"$f":"IF(ISERROR(SEARCH(\"Gas\",Worksheet!$A$18))=TRUE,0,Worksheet!AH460)","v":0},0,null,null,{"$f":"IF(OR(Worksheet!F460=\"Incandescent\",Worksheet!F460=\"Halogen Incandescent\")=TRUE,118,IF(LEFT(Worksheet!F460,3)=\"HID\",117,IF(OR(RIGHT(Worksheet!F460,3)=\"T12\",RIGHT(Worksheet!F460,5)=\"T12HO\")=TRUE,115,IF(OR(RIGHT(Worksheet!F460,2)=\"T8\",RIGHT(Worksheet!F460,4)=\"RWT8\",RIGHT(Worksheet!F460,4)=\"T8HO\")=TRUE,115,\"\"))))","v":""},{"$f":"IF(ISBLANK(Worksheet!W460)=FALSE,Worksheet!W460,\"\")","v":0},{"$f":"IF(ISERROR(SEARCH(\"Oil\",Worksheet!$A$18))=TRUE,0,Worksheet!AH460)","v":0},0,{"$f":"IF(ISERROR(SEARCH(\"Propane\",Worksheet!$A$18))=TRUE,0,Worksheet!AH460)","v":0},0,{"$f":"IF(Worksheet!J460=0,\"\",Worksheet!J460)","v":""},{"$f":"IF(Worksheet!B460=0,\"\",Worksheet!B460)","v":""},{"$f":"IF(Worksheet!K460=0,\"\",Worksheet!K460)","v":""},{"$f":"IF(Worksheet!L460=0,\"\",Worksheet!L460)","v":""},{"$f":"IF(Worksheet!R460=0,\"\",Worksheet!R460)","v":""},{"$f":"IF(Worksheet!F460=0,\"\",Worksheet!F460)","v":""},{"$f":"IF(Worksheet!G460=0,\"\",Worksheet!G460)","v":""},{"$f":"IF(Worksheet!X460=0,\"\",Worksheet!X460)","v":""},{"$f":"IF(Worksheet!Q460=0,\"\",Worksheet!Q460)","v":""},{"$f":"IF(Worksheet!C460=0,\"\",Worksheet!C460)","v":""},{"$f":"IF(Worksheet!D460=0,\"\",Worksheet!D460)","v":""},{"$f":"IF(Worksheet!$A$11=TRUE,\"Y\",\"N\")","v":"N"},{"$f":"IF(Worksheet!$A$12=TRUE,\"Y\",\"N\")","v":"N"},{"$f":"IF(Worksheet!$B$11=TRUE,\"Y\",\"N\")","v":"N"},{"$f":"IF(Worksheet!$B$12=TRUE,\"Y\",\"N\")","v":"N"},{"$f":"IF(Worksheet!$C$11=TRUE,\"Y\",\"N\")","v":"N"},{"$f":"IFERROR(Worksheet!AB460,\"\")","v":0}]
[{"$f":"IF(IFERROR(SEARCH(\"Refrigerated\",Worksheet!L461,1),0)>0,122,IF(ISERROR(RIGHT(VLOOKUP(Worksheet!K461,Type!C$1:E$13,3,FALSE),3))=FALSE,RIGHT(VLOOKUP(Worksheet!K461,Type!C$1:E$13,3,FALSE),3),\"\"))","v":""},{"$f":"IF(Worksheet!M461=\"\",\"\",Worksheet!M461)","v":""},{"$f":"IF(Worksheet!N461=\"\",\"\",Worksheet!N461)","v":""},{"$f":"IF(Worksheet!Y461=0,\"\",Worksheet!Y461)","v":""},"Watts",null,null,{"$f":"Worksheet!AA461","v":0},{"$f":"IF(ISBLANK(Worksheet!V461)=FALSE,Worksheet!V461,\"\")","v":0},{"$f":"Worksheet!AG461","v":0},{"$f":"Worksheet!AF461","v":0},0,{"$f":"IF(ISERROR(SEARCH(\"Gas\",Worksheet!$A$18))=TRUE,0,Worksheet!AH461)","v":0},0,null,null,{"$f":"IF(OR(Worksheet!F461=\"Incandescent\",Worksheet!F461=\"Halogen Incandescent\")=TRUE,118,IF(LEFT(Worksheet!F461,3)=\"HID\",117,IF(OR(RIGHT(Worksheet!F461,3)=\"T12\",RIGHT(Worksheet!F461,5)=\"T12HO\")=TRUE,115,IF(OR(RIGHT(Worksheet!F461,2)=\"T8\",RIGHT(Worksheet!F461,4)=\"RWT8\",RIGHT(Worksheet!F461,4)=\"T8HO\")=TRUE,115,\"\"))))","v":""},{"$f":"IF(ISBLANK(Worksheet!W461)=FALSE,Worksheet!W461,\"\")","v":0},{"$f":"IF(ISERROR(SEARCH(\"Oil\",Worksheet!$A$18))=TRUE,0,Worksheet!AH461)","v":0},0,{"$f":"IF(ISERROR(SEARCH(\"Propane\",Worksheet!$A$18))=TRUE,0,Worksheet!AH461)","v":0},0,{"$f":"IF(Worksheet!J461=0,\"\",Worksheet!J461)","v":""},{"$f":"IF(Worksheet!B461=0,\"\",Worksheet!B461)","v":""},{"$f":"IF(Worksheet!K461=0,\"\",Worksheet!K461)","v":""},{"$f":"IF(Worksheet!L461=0,\"\",Worksheet!L461)","v":""},{"$f":"IF(Worksheet!R461=0,\"\",Worksheet!R461)","v":""},{"$f":"IF(Worksheet!F461=0,\"\",Worksheet!F461)","v":""},{"$f":"IF(Worksheet!G461=0,\"\",Worksheet!G461)","v":""},{"$f":"IF(Worksheet!X461=0,\"\",Worksheet!X461)","v":""},{"$f":"IF(Worksheet!Q461=0,\"\",Worksheet!Q461)","v":""},{"$f":"IF(Worksheet!C461=0,\"\",Worksheet!C461)","v":""},{"$f":"IF(Worksheet!D461=0,\"\",Worksheet!D461)","v":""},{"$f":"IF(Worksheet!$A$11=TRUE,\"Y\",\"N\")","v":"N"},{"$f":"IF(Worksheet!$A$12=TRUE,\"Y\",\"N\")","v":"N"},{"$f":"IF(Worksheet!$B$11=TRUE,\"Y\",\"N\")","v":"N"},{"$f":"IF(Worksheet!$B$12=TRUE,\"Y\",\"N\")","v":"N"},{"$f":"IF(Worksheet!$C$11=TRUE,\"Y\",\"N\")","v":"N"},{"$f":"IFERROR(Worksheet!AB461,\"\")","v":0}]
[{"$f":"IF(IFERROR(SEARCH(\"Refrigerated\",Worksheet!L462,1),0)>0,122,IF(ISERROR(RIGHT(VLOOKUP(Worksheet!K462,Type!C$1:E$13,3,FALSE),3))=FALSE,RIGHT(VLOOKUP(Worksheet!K462,Type!C$1:E$13,3,FALSE),3),\"\"))","v":""},{"$f":"IF(Worksheet!M462=\"\",\"\",Worksheet!M462)","v":""},{"$f":"IF(Worksheet!N462=\"\",\"\",Worksheet!N462)","v":""},{"$f":"IF(Worksheet!Y462=0,\"\",Worksheet!Y462)","v":""},"Watts",null,null,{"$f":"Worksheet!AA462","v":0},{"$f":"IF(ISBLANK(Worksheet!V462)=FALSE,Worksheet!V462,\"\")","v":0},{"$f":"Worksheet!AG462","v":0},{"$f":"Worksheet!AF462","v":0},0,{"$f":"IF(ISERROR(SEARCH(\"Gas\",Worksheet!$A$18))=TRUE,0,Worksheet!AH462)","v":0},0,null,null,{"$f":"IF(OR(Worksheet!F462=\"Incandescent\",Worksheet!F462=\"Halogen Incandescent\")=TRUE,118,IF(LEFT(Worksheet!F462,3)=\"HID\",117,IF(OR(RIGHT(Worksheet!F462,3)=\"T12\",RIGHT(Worksheet!F462,5)=\"T12HO\")=TRUE,115,IF(OR(RIGHT(Worksheet!F462,2)=\"T8\",RIGHT(Worksheet!F462,4)=\"RWT8\",RIGHT(Worksheet!F462,4)=\"T8HO\")=TRUE,115,\"\"))))","v":""},{"$f":"IF(ISBLANK(Worksheet!W462)=FALSE,Worksheet!W462,\"\")","v":0},{"$f":"IF(ISERROR(SEARCH(\"Oil\",Worksheet!$A$18))=TRUE,0,Worksheet!AH462)","v":0},0,{"$f":"IF(ISERROR(SEARCH(\"Propane\",Worksheet!$A$18))=TRUE,0,Worksheet!AH462)","v":0},0,{"$f":"IF(Worksheet!J462=0,\"\",Worksheet!J462)","v":""},{"$f":"IF(Worksheet!B462=0,\"\",Worksheet!B462)","v":""},{"$f":"IF(Worksheet!K462=0,\"\",Worksheet!K462)","v":""},{"$f":"IF(Worksheet!L462=0,\"\",Worksheet!L462)","v":""},{"$f":"IF(Worksheet!R462=0,\"\",Worksheet!R462)","v":""},{"$f":"IF(Worksheet!F462=0,\"\",Worksheet!F462)","v":""},{"$f":"IF(Worksheet!G462=0,\"\",Worksheet!G462)","v":""},{"$f":"IF(Worksheet!X462=0,\"\",Worksheet!X462)","v":""},{"$f":"IF(Worksheet!Q462=0,\"\",Worksheet!Q462)","v":""},{"$f":"IF(Worksheet!C462=0,\"\",Worksheet!C462)","v":""},{"$f":"IF(Worksheet!D462=0,\"\",Worksheet!D462)","v":""},{"$f":"IF(Worksheet!$A$11=TRUE,\"Y\",\"N\")","v":"N"},{"$f":"IF(Worksheet!$A$12=TRUE,\"Y\",\"N\")","v":"N"},{"$f":"IF(Worksheet!$B$11=TRUE,\"Y\",\"N\")","v":"N"},{"$f":"IF(Worksheet!$B$12=TRUE,\"Y\",\"N\")","v":"N"},{"$f":"IF(Worksheet!$C$11=TRUE,\"Y\",\"N\")","v":"N"},{"$f":"IFERROR(Worksheet!AB462,\"\")","v":0}]
[{"$f":"IF(IFERROR(SEARCH(\"Refrigerated\",Worksheet!L463,1),0)>0,122,IF(ISERROR(RIGHT(VLOOKUP(Worksheet!K463,Type!C$1:E$13,3,FALSE),3))=FALSE,RIGHT(VLOOKUP(Worksheet!K463,Type!C$1:E$13,3,FALSE),3),\"\"))","v":""},{"$f":"IF(Worksheet!M463=\"\",\"\",Worksheet!M463)","v":""},{"$f":"IF(Worksheet!N463=\"\",\"\",Worksheet!N463)","v":""},{"$f":"IF(Worksheet!Y463=0,\"\",Worksheet!Y463)","v":""},"Watts",null,null,{"$f":"Worksheet!AA463","v":0},{"$f":"IF(ISBLANK(Worksheet!V463)=FALSE,Worksheet!V463,\"\")","v":0},{"$f":"Worksheet!AG463","v":0},{"$f":"Worksheet!AF463","v":0},0,{"$f":"IF(ISERROR(SEARCH(\"Gas\",Worksheet!$A$18))=TRUE,0,Worksheet!AH463)","v":0},0,null,null,{"$f":"IF(OR(Worksheet!F463=\"Incandescent\",Worksheet!F463=\"Halogen Incandescent\")=TRUE,118,IF(LEFT(Worksheet!F463,3)=\"HID\",117,IF(OR(RIGHT(Worksheet!F463,3)=\"T12\",RIGHT(Worksheet!F463,5)=\"T12HO\")=TRUE,115,IF(OR(RIGHT(Worksheet!F463,2)=\"T8\",RIGHT(Worksheet!F463,4)=\"RWT8\",RIGHT(Worksheet!F463,4)=\"T8HO\")=TRUE,115,\"\"))))","v":""},{"$f":"IF(ISBLANK(Worksheet!W463)=FALSE,Worksheet!W463,\"\")","v":0},{"$f":"IF(ISERROR(SEARCH(\"Oil\",Worksheet!$A$18))=TRUE,0,Worksheet!AH463)","v":0},0,{"$f":"IF(ISERROR(SEARCH(\"Propane\",Worksheet!$A$18))=TRUE,0,Worksheet!AH463)","v":0},0,{"$f":"IF(Worksheet!J463=0,\"\",Worksheet!J463)","v":""},{"$f":"IF(Worksheet!B463=0,\"\",Worksheet!B463)","v":""},{"$f":"IF(Worksheet!K463=0,\"\",Worksheet!K463)","v":""},{"$f":"IF(Worksheet!L463=0,\"\",Worksheet!L463)","v":""},{"$f":"IF(Worksheet!R463=0,\"\",Worksheet!R463)","v":""},{"$f":"IF(Worksheet!F463=0,\"\",Worksheet!F463)","v":""},{"$f":"IF(Worksheet!G463=0,\"\",Worksheet!G463)","v":""},{"$f":"IF(Worksheet!X463=0,\"\",Worksheet!X463)","v":""},{"$f":"IF(Worksheet!Q463=0,\"\",Worksheet!Q463)","v":""},{"$f":"IF(Worksheet!C463=0,\"\",Worksheet!C463)","v":""},{"$f":"IF(Worksheet!D463=0,\"\",Worksheet!D463)","v":""},{"$f":"IF(Worksheet!$A$11=TRUE,\"Y\",\"N\")","v":"N"},{"$f":"IF(Worksheet!$A$12=TRUE,\"Y\",\"N\")","v":"N"},{"$f":"IF(Worksheet!$B$11=TRUE,\"Y\",\"N\")","v":"N"},{"$f":"IF(Worksheet!$B$12=TRUE,\"Y\",\"N\")","v":"N"},{"$f":"IF(Worksheet!$C$11=TRUE,\"Y\",\"N\")","v":"N"},{"$f":"IFERROR(Worksheet!AB463,\"\")","v":0}]
[{"$f":"IF(IFERROR(SEARCH(\"Refrigerated\",Worksheet!L464,1),0)>0,122,IF(ISERROR(RIGHT(VLOOKUP(Worksheet!K464,Type!C$1:E$13,3,FALSE),3))=FALSE,RIGHT(VLOOKUP(Worksheet!K464,Type!C$1:E$13,3,FALSE),3),\"\"))","v":""},{"$f":"IF(Worksheet!M464=\"\",\"\",Worksheet!M464)","v":""},{"$f":"IF(Worksheet!N464=\"\",\"\",Worksheet!N464)","v":""},{"$f":"IF(Worksheet!Y464=0,\"\",Worksheet!Y464)","v":""},"Watts",null,null,{"$f":"Worksheet!AA464","v":0},{"$f":"IF(ISBLANK(Worksheet!V464)=FALSE,Worksheet!V464,\"\")","v":0},{"$f":"Worksheet!AG464","v":0},{"$f":"Worksheet!AF464","v":0},0,{"$f":"IF(ISERROR(SEARCH(\"Gas\",Worksheet!$A$18))=TRUE,0,Worksheet!AH464)","v":0},0,null,null,{"$f":"IF(OR(Worksheet!F464=\"Incandescent\",Worksheet!F464=\"Halogen Incandescent\")=TRUE,118,IF(LEFT(Worksheet!F464,3)=\"HID\",117,IF(OR(RIGHT(Worksheet!F464,3)=\"T12\",RIGHT(Worksheet!F464,5)=\"T12HO\")=TRUE,115,IF(OR(RIGHT(Worksheet!F464,2)=\"T8\",RIGHT(Worksheet!F464,4)=\"RWT8\",RIGHT(Worksheet!F464,4)=\"T8HO\")=TRUE,115,\"\"))))","v":""},{"$f":"IF(ISBLANK(Worksheet!W464)=FALSE,Worksheet!W464,\"\")","v":0},{"$f":"IF(ISERROR(SEARCH(\"Oil\",Worksheet!$A$18))=TRUE,0,Worksheet!AH464)","v":0},0,{"$f":"IF(ISERROR(SEARCH(\"Propane\",Worksheet!$A$18))=TRUE,0,Worksheet!AH464)","v":0},0,{"$f":"IF(Worksheet!J464=0,\"\",Worksheet!J464)","v":""},{"$f":"IF(Worksheet!B464=0,\"\",Worksheet!B464)","v":""},{"$f":"IF(Worksheet!K464=0,\"\",Worksheet!K464)","v":""},{"$f":"IF(Worksheet!L464=0,\"\",Worksheet!L464)","v":""},{"$f":"IF(Worksheet!R464=0,\"\",Worksheet!R464)","v":""},{"$f":"IF(Worksheet!F464=0,\"\",Worksheet!F464)","v":""},{"$f":"IF(Worksheet!G464=0,\"\",Worksheet!G464)","v":""},{"$f":"IF(Worksheet!X464=0,\"\",Worksheet!X464)","v":""},{"$f":"IF(Worksheet!Q464=0,\"\",Worksheet!Q464)","v":""},{"$f":"IF(Worksheet!C464=0,\"\",Worksheet!C464)","v":""},{"$f":"IF(Worksheet!D464=0,\"\",Worksheet!D464)","v":""},{"$f":"IF(Worksheet!$A$11=TRUE,\"Y\",\"N\")","v":"N"},{"$f":"IF(Worksheet!$A$12=TRUE,\"Y\",\"N\")","v":"N"},{"$f":"IF(Worksheet!$B$11=TRUE,\"Y\",\"N\")","v":"N"},{"$f":"IF(Worksheet!$B$12=TRUE,\"Y\",\"N\")","v":"N"},{"$f":"IF(Worksheet!$C$11=TRUE,\"Y\",\"N\")","v":"N"},{"$f":"IFERROR(Worksheet!AB464,\"\")","v":0}]
[{"$f":"IF(IFERROR(SEARCH(\"Refrigerated\",Worksheet!L465,1),0)>0,122,IF(ISERROR(RIGHT(VLOOKUP(Worksheet!K465,Type!C$1:E$13,3,FALSE),3))=FALSE,RIGHT(VLOOKUP(Worksheet!K465,Type!C$1:E$13,3,FALSE),3),\"\"))","v":""},{"$f":"IF(Worksheet!M465=\"\",\"\",Worksheet!M465)","v":""},{"$f":"IF(Worksheet!N465=\"\",\"\",Worksheet!N465)","v":""},{"$f":"IF(Worksheet!Y465=0,\"\",Worksheet!Y465)","v":""},"Watts",null,null,{"$f":"Worksheet!AA465","v":0},{"$f":"IF(ISBLANK(Worksheet!V465)=FALSE,Worksheet!V465,\"\")","v":0},{"$f":"Worksheet!AG465","v":0},{"$f":"Worksheet!AF465","v":0},0,{"$f":"IF(ISERROR(SEARCH(\"Gas\",Worksheet!$A$18))=TRUE,0,Worksheet!AH465)","v":0},0,null,null,{"$f":"IF(OR(Worksheet!F465=\"Incandescent\",Worksheet!F465=\"Halogen Incandescent\")=TRUE,118,IF(LEFT(Worksheet!F465,3)=\"HID\",117,IF(OR(RIGHT(Worksheet!F465,3)=\"T12\",RIGHT(Worksheet!F465,5)=\"T12HO\")=TRUE,115,IF(OR(RIGHT(Worksheet!F465,2)=\"T8\",RIGHT(Worksheet!F465,4)=\"RWT8\",RIGHT(Worksheet!F465,4)=\"T8HO\")=TRUE,115,\"\"))))","v":""},{"$f":"IF(ISBLANK(Worksheet!W465)=FALSE,Worksheet!W465,\"\")","v":0},{"$f":"IF(ISERROR(SEARCH(\"Oil\",Worksheet!$A$18))=TRUE,0,Worksheet!AH465)","v":0},0,{"$f":"IF(ISERROR(SEARCH(\"Propane\",Worksheet!$A$18))=TRUE,0,Worksheet!AH465)","v":0},0,{"$f":"IF(Worksheet!J465=0,\"\",Worksheet!J465)","v":""},{"$f":"IF(Worksheet!B465=0,\"\",Worksheet!B465)","v":""},{"$f":"IF(Worksheet!K465=0,\"\",Worksheet!K465)","v":""},{"$f":"IF(Worksheet!L465=0,\"\",Worksheet!L465)","v":""},{"$f":"IF(Worksheet!R465=0,\"\",Worksheet!R465)","v":""},{"$f":"IF(Worksheet!F465=0,\"\",Worksheet!F465)","v":""},{"$f":"IF(Worksheet!G465=0,\"\",Worksheet!G465)","v":""},{"$f":"IF(Worksheet!X465=0,\"\",Worksheet!X465)","v":""},{"$f":"IF(Worksheet!Q465=0,\"\",Worksheet!Q465)","v":""},{"$f":"IF(Worksheet!C465=0,\"\",Worksheet!C465)","v":""},{"$f":"IF(Worksheet!D465=0,\"\",Worksheet!D465)","v":""},{"$f":"IF(Worksheet!$A$11=TRUE,\"Y\",\"N\")","v":"N"},{"$f":"IF(Worksheet!$A$12=TRUE,\"Y\",\"N\")","v":"N"},{"$f":"IF(Worksheet!$B$11=TRUE,\"Y\",\"N\")","v":"N"},{"$f":"IF(Worksheet!$B$12=TRUE,\"Y\",\"N\")","v":"N"},{"$f":"IF(Worksheet!$C$11=TRUE,\"Y\",\"N\")","v":"N"},{"$f":"IFERROR(Worksheet!AB465,\"\")","v":0}]
[{"$f":"IF(IFERROR(SEARCH(\"Refrigerated\",Worksheet!L466,1),0)>0,122,IF(ISERROR(RIGHT(VLOOKUP(Worksheet!K466,Type!C$1:E$13,3,FALSE),3))=FALSE,RIGHT(VLOOKUP(Worksheet!K466,Type!C$1:E$13,3,FALSE),3),\"\"))","v":""},{"$f":"IF(Worksheet!M466=\"\",\"\",Worksheet!M466)","v":""},{"$f":"IF(Worksheet!N466=\"\",\"\",Worksheet!N466)","v":""},{"$f":"IF(Worksheet!Y466=0,\"\",Worksheet!Y466)","v":""},"Watts",null,null,{"$f":"Worksheet!AA466","v":0},{"$f":"IF(ISBLANK(Worksheet!V466)=FALSE,Worksheet!V466,\"\")","v":0},{"$f":"Worksheet!AG466","v":0},{"$f":"Worksheet!AF466","v":0},0,{"$f":"IF(ISERROR(SEARCH(\"Gas\",Worksheet!$A$18))=TRUE,0,Worksheet!AH466)","v":0},0,null,null,{"$f":"IF(OR(Worksheet!F466=\"Incandescent\",Worksheet!F466=\"Halogen Incandescent\")=TRUE,118,IF(LEFT(Worksheet!F466,3)=\"HID\",117,IF(OR(RIGHT(Worksheet!F466,3)=\"T12\",RIGHT(Worksheet!F466,5)=\"T12HO\")=TRUE,115,IF(OR(RIGHT(Worksheet!F466,2)=\"T8\",RIGHT(Worksheet!F466,4)=\"RWT8\",RIGHT(Worksheet!F466,4)=\"T8HO\")=TRUE,115,\"\"))))","v":""},{"$f":"IF(ISBLANK(Worksheet!W466)=FALSE,Worksheet!W466,\"\")","v":0},{"$f":"IF(ISERROR(SEARCH(\"Oil\",Worksheet!$A$18))=TRUE,0,Worksheet!AH466)","v":0},0,{"$f":"IF(ISERROR(SEARCH(\"Propane\",Worksheet!$A$18))=TRUE,0,Worksheet!AH466)","v":0},0,{"$f":"IF(Worksheet!J466=0,\"\",Worksheet!J466)","v":""},{"$f":"IF(Worksheet!B466=0,\"\",Worksheet!B466)","v":""},{"$f":"IF(Worksheet!K466=0,\"\",Worksheet!K466)","v":""},{"$f":"IF(Worksheet!L466=0,\"\",Worksheet!L466)","v":""},{"$f":"IF(Worksheet!R466=0,\"\",Worksheet!R466)","v":""},{"$f":"IF(Worksheet!F466=0,\"\",Worksheet!F466)","v":""},{"$f":"IF(Worksheet!G466=0,\"\",Worksheet!G466)","v":""},{"$f":"IF(Worksheet!X466=0,\"\",Worksheet!X466)","v":""},{"$f":"IF(Worksheet!Q466=0,\"\",Worksheet!Q466)","v":""},{"$f":"IF(Worksheet!C466=0,\"\",Worksheet!C466)","v":""},{"$f":"IF(Worksheet!D466=0,\"\",Worksheet!D466)","v":""},{"$f":"IF(Worksheet!$A$11=TRUE,\"Y\",\"N\")","v":"N"},{"$f":"IF(Worksheet!$A$12=TRUE,\"Y\",\"N\")","v":"N"},{"$f":"IF(Worksheet!$B$11=TRUE,\"Y\",\"N\")","v":"N"},{"$f":"IF(Worksheet!$B$12=TRUE,\"Y\",\"N\")","v":"N"},{"$f":"IF(Worksheet!$C$11=TRUE,\"Y\",\"N\")","v":"N"},{"$f":"IFERROR(Worksheet!AB466,\"\")","v":0}]
[{"$f":"IF(IFERROR(SEARCH(\"Refrigerated\",Worksheet!L467,1),0)>0,122,IF(ISERROR(RIGHT(VLOOKUP(Worksheet!K467,Type!C$1:E$13,3,FALSE),3))=FALSE,RIGHT(VLOOKUP(Worksheet!K467,Type!C$1:E$13,3,FALSE),3),\"\"))","v":""},{"$f":"IF(Worksheet!M467=\"\",\"\",Worksheet!M467)","v":""},{"$f":"IF(Worksheet!N467=\"\",\"\",Worksheet!N467)","v":""},{"$f":"IF(Worksheet!Y467=0,\"\",Worksheet!Y467)","v":""},"Watts",null,null,{"$f":"Worksheet!AA467","v":0},{"$f":"IF(ISBLANK(Worksheet!V467)=FALSE,Worksheet!V467,\"\")","v":0},{"$f":"Worksheet!AG467","v":0},{"$f":"Worksheet!AF467","v":0},0,{"$f":"IF(ISERROR(SEARCH(\"Gas\",Worksheet!$A$18))=TRUE,0,Worksheet!AH467)","v":0},0,null,null,{"$f":"IF(OR(Worksheet!F467=\"Incandescent\",Worksheet!F467=\"Halogen Incandescent\")=TRUE,118,IF(LEFT(Worksheet!F467,3)=\"HID\",117,IF(OR(RIGHT(Worksheet!F467,3)=\"T12\",RIGHT(Worksheet!F467,5)=\"T12HO\")=TRUE,115,IF(OR(RIGHT(Worksheet!F467,2)=\"T8\",RIGHT(Worksheet!F467,4)=\"RWT8\",RIGHT(Worksheet!F467,4)=\"T8HO\")=TRUE,115,\"\"))))","v":""},{"$f":"IF(ISBLANK(Worksheet!W467)=FALSE,Worksheet!W467,\"\")","v":0},{"$f":"IF(ISERROR(SEARCH(\"Oil\",Worksheet!$A$18))=TRUE,0,Worksheet!AH467)","v":0},0,{"$f":"IF(ISERROR(SEARCH(\"Propane\",Worksheet!$A$18))=TRUE,0,Worksheet!AH467)","v":0},0,{"$f":"IF(Worksheet!J467=0,\"\",Worksheet!J467)","v":""},{"$f":"IF(Worksheet!B467=0,\"\",Worksheet!B467)","v":""},{"$f":"IF(Worksheet!K467=0,\"\",Worksheet!K467)","v":""},{"$f":"IF(Worksheet!L467=0,\"\",Worksheet!L467)","v":""},{"$f":"IF(Worksheet!R467=0,\"\",Worksheet!R467)","v":""},{"$f":"IF(Worksheet!F467=0,\"\",Worksheet!F467)","v":""},{"$f":"IF(Worksheet!G467=0,\"\",Worksheet!G467)","v":""},{"$f":"IF(Worksheet!X467=0,\"\",Worksheet!X467)","v":""},{"$f":"IF(Worksheet!Q467=0,\"\",Worksheet!Q467)","v":""},{"$f":"IF(Worksheet!C467=0,\"\",Worksheet!C467)","v":""},{"$f":"IF(Worksheet!D467=0,\"\",Worksheet!D467)","v":""},{"$f":"IF(Worksheet!$A$11=TRUE,\"Y\",\"N\")","v":"N"},{"$f":"IF(Worksheet!$A$12=TRUE,\"Y\",\"N\")","v":"N"},{"$f":"IF(Worksheet!$B$11=TRUE,\"Y\",\"N\")","v":"N"},{"$f":"IF(Worksheet!$B$12=TRUE,\"Y\",\"N\")","v":"N"},{"$f":"IF(Worksheet!$C$11=TRUE,\"Y\",\"N\")","v":"N"},{"$f":"IFERROR(Worksheet!AB467,\"\")","v":0}]
[{"$f":"IF(IFERROR(SEARCH(\"Refrigerated\",Worksheet!L468,1),0)>0,122,IF(ISERROR(RIGHT(VLOOKUP(Worksheet!K468,Type!C$1:E$13,3,FALSE),3))=FALSE,RIGHT(VLOOKUP(Worksheet!K468,Type!C$1:E$13,3,FALSE),3),\"\"))","v":""},{"$f":"IF(Worksheet!M468=\"\",\"\",Worksheet!M468)","v":""},{"$f":"IF(Worksheet!N468=\"\",\"\",Worksheet!N468)","v":""},{"$f":"IF(Worksheet!Y468=0,\"\",Worksheet!Y468)","v":""},"Watts",null,null,{"$f":"Worksheet!AA468","v":0},{"$f":"IF(ISBLANK(Worksheet!V468)=FALSE,Worksheet!V468,\"\")","v":0},{"$f":"Worksheet!AG468","v":0},{"$f":"Worksheet!AF468","v":0},0,{"$f":"IF(ISERROR(SEARCH(\"Gas\",Worksheet!$A$18))=TRUE,0,Worksheet!AH468)","v":0},0,null,null,{"$f":"IF(OR(Worksheet!F468=\"Incandescent\",Worksheet!F468=\"Halogen Incandescent\")=TRUE,118,IF(LEFT(Worksheet!F468,3)=\"HID\",117,IF(OR(RIGHT(Worksheet!F468,3)=\"T12\",RIGHT(Worksheet!F468,5)=\"T12HO\")=TRUE,115,IF(OR(RIGHT(Worksheet!F468,2)=\"T8\",RIGHT(Worksheet!F468,4)=\"RWT8\",RIGHT(Worksheet!F468,4)=\"T8HO\")=TRUE,115,\"\"))))","v":""},{"$f":"IF(ISBLANK(Worksheet!W468)=FALSE,Worksheet!W468,\"\")","v":0},{"$f":"IF(ISERROR(SEARCH(\"Oil\",Worksheet!$A$18))=TRUE,0,Worksheet!AH468)","v":0},0,{"$f":"IF(ISERROR(SEARCH(\"Propane\",Worksheet!$A$18))=TRUE,0,Worksheet!AH468)","v":0},0,{"$f":"IF(Worksheet!J468=0,\"\",Worksheet!J468)","v":""},{"$f":"IF(Worksheet!B468=0,\"\",Worksheet!B468)","v":""},{"$f":"IF(Worksheet!K468=0,\"\",Worksheet!K468)","v":""},{"$f":"IF(Worksheet!L468=0,\"\",Worksheet!L468)","v":""},{"$f":"IF(Worksheet!R468=0,\"\",Worksheet!R468)","v":""},{"$f":"IF(Worksheet!F468=0,\"\",Worksheet!F468)","v":""},{"$f":"IF(Worksheet!G468=0,\"\",Worksheet!G468)","v":""},{"$f":"IF(Worksheet!X468=0,\"\",Worksheet!X468)","v":""},{"$f":"IF(Worksheet!Q468=0,\"\",Worksheet!Q468)","v":""},{"$f":"IF(Worksheet!C468=0,\"\",Worksheet!C468)","v":""},{"$f":"IF(Worksheet!D468=0,\"\",Worksheet!D468)","v":""},{"$f":"IF(Worksheet!$A$11=TRUE,\"Y\",\"N\")","v":"N"},{"$f":"IF(Worksheet!$A$12=TRUE,\"Y\",\"N\")","v":"N"},{"$f":"IF(Worksheet!$B$11=TRUE,\"Y\",\"N\")","v":"N"},{"$f":"IF(Worksheet!$B$12=TRUE,\"Y\",\"N\")","v":"N"},{"$f":"IF(Worksheet!$C$11=TRUE,\"Y\",\"N\")","v":"N"},{"$f":"IFERROR(Worksheet!AB468,\"\")","v":0}]
[{"$f":"IF(IFERROR(SEARCH(\"Refrigerated\",Worksheet!L469,1),0)>0,122,IF(ISERROR(RIGHT(VLOOKUP(Worksheet!K469,Type!C$1:E$13,3,FALSE),3))=FALSE,RIGHT(VLOOKUP(Worksheet!K469,Type!C$1:E$13,3,FALSE),3),\"\"))","v":""},{"$f":"IF(Worksheet!M469=\"\",\"\",Worksheet!M469)","v":""},{"$f":"IF(Worksheet!N469=\"\",\"\",Worksheet!N469)","v":""},{"$f":"IF(Worksheet!Y469=0,\"\",Worksheet!Y469)","v":""},"Watts",null,null,{"$f":"Worksheet!AA469","v":0},{"$f":"IF(ISBLANK(Worksheet!V469)=FALSE,Worksheet!V469,\"\")","v":0},{"$f":"Worksheet!AG469","v":0},{"$f":"Worksheet!AF469","v":0},0,{"$f":"IF(ISERROR(SEARCH(\"Gas\",Worksheet!$A$18))=TRUE,0,Worksheet!AH469)","v":0},0,null,null,{"$f":"IF(OR(Worksheet!F469=\"Incandescent\",Worksheet!F469=\"Halogen Incandescent\")=TRUE,118,IF(LEFT(Worksheet!F469,3)=\"HID\",117,IF(OR(RIGHT(Worksheet!F469,3)=\"T12\",RIGHT(Worksheet!F469,5)=\"T12HO\")=TRUE,115,IF(OR(RIGHT(Worksheet!F469,2)=\"T8\",RIGHT(Worksheet!F469,4)=\"RWT8\",RIGHT(Worksheet!F469,4)=\"T8HO\")=TRUE,115,\"\"))))","v":""},{"$f":"IF(ISBLANK(Worksheet!W469)=FALSE,Worksheet!W469,\"\")","v":0},{"$f":"IF(ISERROR(SEARCH(\"Oil\",Worksheet!$A$18))=TRUE,0,Worksheet!AH469)","v":0},0,{"$f":"IF(ISERROR(SEARCH(\"Propane\",Worksheet!$A$18))=TRUE,0,Worksheet!AH469)","v":0},0,{"$f":"IF(Worksheet!J469=0,\"\",Worksheet!J469)","v":""},{"$f":"IF(Worksheet!B469=0,\"\",Worksheet!B469)","v":""},{"$f":"IF(Worksheet!K469=0,\"\",Worksheet!K469)","v":""},{"$f":"IF(Worksheet!L469=0,\"\",Worksheet!L469)","v":""},{"$f":"IF(Worksheet!R469=0,\"\",Worksheet!R469)","v":""},{"$f":"IF(Worksheet!F469=0,\"\",Worksheet!F469)","v":""},{"$f":"IF(Worksheet!G469=0,\"\",Worksheet!G469)","v":""},{"$f":"IF(Worksheet!X469=0,\"\",Worksheet!X469)","v":""},{"$f":"IF(Worksheet!Q469=0,\"\",Worksheet!Q469)","v":""},{"$f":"IF(Worksheet!C469=0,\"\",Worksheet!C469)","v":""},{"$f":"IF(Worksheet!D469=0,\"\",Worksheet!D469)","v":""},{"$f":"IF(Worksheet!$A$11=TRUE,\"Y\",\"N\")","v":"N"},{"$f":"IF(Worksheet!$A$12=TRUE,\"Y\",\"N\")","v":"N"},{"$f":"IF(Worksheet!$B$11=TRUE,\"Y\",\"N\")","v":"N"},{"$f":"IF(Worksheet!$B$12=TRUE,\"Y\",\"N\")","v":"N"},{"$f":"IF(Worksheet!$C$11=TRUE,\"Y\",\"N\")","v":"N"},{"$f":"IFERROR(Worksheet!AB469,\"\")","v":0}]
[{"$f":"IF(IFERROR(SEARCH(\"Refrigerated\",Worksheet!L470,1),0)>0,122,IF(ISERROR(RIGHT(VLOOKUP(Worksheet!K470,Type!C$1:E$13,3,FALSE),3))=FALSE,RIGHT(VLOOKUP(Worksheet!K470,Type!C$1:E$13,3,FALSE),3),\"\"))","v":""},{"$f":"IF(Worksheet!M470=\"\",\"\",Worksheet!M470)","v":""},{"$f":"IF(Worksheet!N470=\"\",\"\",Worksheet!N470)","v":""},{"$f":"IF(Worksheet!Y470=0,\"\",Worksheet!Y470)","v":""},"Watts",null,null,{"$f":"Worksheet!AA470","v":0},{"$f":"IF(ISBLANK(Worksheet!V470)=FALSE,Worksheet!V470,\"\")","v":0},{"$f":"Worksheet!AG470","v":0},{"$f":"Worksheet!AF470","v":0},0,{"$f":"IF(ISERROR(SEARCH(\"Gas\",Worksheet!$A$18))=TRUE,0,Worksheet!AH470)","v":0},0,null,null,{"$f":"IF(OR(Worksheet!F470=\"Incandescent\",Worksheet!F470=\"Halogen Incandescent\")=TRUE,118,IF(LEFT(Worksheet!F470,3)=\"HID\",117,IF(OR(RIGHT(Worksheet!F470,3)=\"T12\",RIGHT(Worksheet!F470,5)=\"T12HO\")=TRUE,115,IF(OR(RIGHT(Worksheet!F470,2)=\"T8\",RIGHT(Worksheet!F470,4)=\"RWT8\",RIGHT(Worksheet!F470,4)=\"T8HO\")=TRUE,115,\"\"))))","v":""},{"$f":"IF(ISBLANK(Worksheet!W470)=FALSE,Worksheet!W470,\"\")","v":0},{"$f":"IF(ISERROR(SEARCH(\"Oil\",Worksheet!$A$18))=TRUE,0,Worksheet!AH470)","v":0},0,{"$f":"IF(ISERROR(SEARCH(\"Propane\",Worksheet!$A$18))=TRUE,0,Worksheet!AH470)","v":0},0,{"$f":"IF(Worksheet!J470=0,\"\",Worksheet!J470)","v":""},{"$f":"IF(Worksheet!B470=0,\"\",Worksheet!B470)","v":""},{"$f":"IF(Worksheet!K470=0,\"\",Worksheet!K470)","v":""},{"$f":"IF(Worksheet!L470=0,\"\",Worksheet!L470)","v":""},{"$f":"IF(Worksheet!R470=0,\"\",Worksheet!R470)","v":""},{"$f":"IF(Worksheet!F470=0,\"\",Worksheet!F470)","v":""},{"$f":"IF(Worksheet!G470=0,\"\",Worksheet!G470)","v":""},{"$f":"IF(Worksheet!X470=0,\"\",Worksheet!X470)","v":""},{"$f":"IF(Worksheet!Q470=0,\"\",Worksheet!Q470)","v":""},{"$f":"IF(Worksheet!C470=0,\"\",Worksheet!C470)","v":""},{"$f":"IF(Worksheet!D470=0,\"\",Worksheet!D470)","v":""},{"$f":"IF(Worksheet!$A$11=TRUE,\"Y\",\"N\")","v":"N"},{"$f":"IF(Worksheet!$A$12=TRUE,\"Y\",\"N\")","v":"N"},{"$f":"IF(Worksheet!$B$11=TRUE,\"Y\",\"N\")","v":"N"},{"$f":"IF(Worksheet!$B$12=TRUE,\"Y\",\"N\")","v":"N"},{"$f":"IF(Worksheet!$C$11=TRUE,\"Y\",\"N\")","v":"N"},{"$f":"IFERROR(Worksheet!AB470,\"\")","v":0}]
[{"$f":"IF(IFERROR(SEARCH(\"Refrigerated\",Worksheet!L471,1),0)>0,122,IF(ISERROR(RIGHT(VLOOKUP(Worksheet!K471,Type!C$1:E$13,3,FALSE),3))=FALSE,RIGHT(VLOOKUP(Worksheet!K471,Type!C$1:E$13,3,FALSE),3),\"\"))","v":""},{"$f":"IF(Worksheet!M471=\"\",\"\",Worksheet!M471)","v":""},{"$f":"IF(Worksheet!N471=\"\",\"\",Worksheet!N471)","v":""},{"$f":"IF(Worksheet!Y471=0,\"\",Worksheet!Y471)","v":""},"Watts",null,null,{"$f":"Worksheet!AA471","v":0},{"$f":"IF(ISBLANK(Worksheet!V471)=FALSE,Worksheet!V471,\"\")","v":0},{"$f":"Worksheet!AG471","v":0},{"$f":"Worksheet!AF471","v":0},0,{"$f":"IF(ISERROR(SEARCH(\"Gas\",Worksheet!$A$18))=TRUE,0,Worksheet!AH471)","v":0},0,null,null,{"$f":"IF(OR(Worksheet!F471=\"Incandescent\",Worksheet!F471=\"Halogen Incandescent\")=TRUE,118,IF(LEFT(Worksheet!F471,3)=\"HID\",117,IF(OR(RIGHT(Worksheet!F471,3)=\"T12\",RIGHT(Worksheet!F471,5)=\"T12HO\")=TRUE,115,IF(OR(RIGHT(Worksheet!F471,2)=\"T8\",RIGHT(Worksheet!F471,4)=\"RWT8\",RIGHT(Worksheet!F471,4)=\"T8HO\")=TRUE,115,\"\"))))","v":""},{"$f":"IF(ISBLANK(Worksheet!W471)=FALSE,Worksheet!W471,\"\")","v":0},{"$f":"IF(ISERROR(SEARCH(\"Oil\",Worksheet!$A$18))=TRUE,0,Worksheet!AH471)","v":0},0,{"$f":"IF(ISERROR(SEARCH(\"Propane\",Worksheet!$A$18))=TRUE,0,Worksheet!AH471)","v":0},0,{"$f":"IF(Worksheet!J471=0,\"\",Worksheet!J471)","v":""},{"$f":"IF(Worksheet!B471=0,\"\",Worksheet!B471)","v":""},{"$f":"IF(Worksheet!K471=0,\"\",Worksheet!K471)","v":""},{"$f":"IF(Worksheet!L471=0,\"\",Worksheet!L471)","v":""},{"$f":"IF(Worksheet!R471=0,\"\",Worksheet!R471)","v":""},{"$f":"IF(Worksheet!F471=0,\"\",Worksheet!F471)","v":""},{"$f":"IF(Worksheet!G471=0,\"\",Worksheet!G471)","v":""},{"$f":"IF(Worksheet!X471=0,\"\",Worksheet!X471)","v":""},{"$f":"IF(Worksheet!Q471=0,\"\",Worksheet!Q471)","v":""},{"$f":"IF(Worksheet!C471=0,\"\",Worksheet!C471)","v":""},{"$f":"IF(Worksheet!D471=0,\"\",Worksheet!D471)","v":""},{"$f":"IF(Worksheet!$A$11=TRUE,\"Y\",\"N\")","v":"N"},{"$f":"IF(Worksheet!$A$12=TRUE,\"Y\",\"N\")","v":"N"},{"$f":"IF(Worksheet!$B$11=TRUE,\"Y\",\"N\")","v":"N"},{"$f":"IF(Worksheet!$B$12=TRUE,\"Y\",\"N\")","v":"N"},{"$f":"IF(Worksheet!$C$11=TRUE,\"Y\",\"N\")","v":"N"},{"$f":"IFERROR(Worksheet!AB471,\"\")","v":0}]
[{"$f":"IF(IFERROR(SEARCH(\"Refrigerated\",Worksheet!L472,1),0)>0,122,IF(ISERROR(RIGHT(VLOOKUP(Worksheet!K472,Type!C$1:E$13,3,FALSE),3))=FALSE,RIGHT(VLOOKUP(Worksheet!K472,Type!C$1:E$13,3,FALSE),3),\"\"))","v":""},{"$f":"IF(Worksheet!M472=\"\",\"\",Worksheet!M472)","v":""},{"$f":"IF(Worksheet!N472=\"\",\"\",Worksheet!N472)","v":""},{"$f":"IF(Worksheet!Y472=0,\"\",Worksheet!Y472)","v":""},"Watts",null,null,{"$f":"Worksheet!AA472","v":0},{"$f":"IF(ISBLANK(Worksheet!V472)=FALSE,Worksheet!V472,\"\")","v":0},{"$f":"Worksheet!AG472","v":0},{"$f":"Worksheet!AF472","v":0},0,{"$f":"IF(ISERROR(SEARCH(\"Gas\",Worksheet!$A$18))=TRUE,0,Worksheet!AH472)","v":0},0,null,null,{"$f":"IF(OR(Worksheet!F472=\"Incandescent\",Worksheet!F472=\"Halogen Incandescent\")=TRUE,118,IF(LEFT(Worksheet!F472,3)=\"HID\",117,IF(OR(RIGHT(Worksheet!F472,3)=\"T12\",RIGHT(Worksheet!F472,5)=\"T12HO\")=TRUE,115,IF(OR(RIGHT(Worksheet!F472,2)=\"T8\",RIGHT(Worksheet!F472,4)=\"RWT8\",RIGHT(Worksheet!F472,4)=\"T8HO\")=TRUE,115,\"\"))))","v":""},{"$f":"IF(ISBLANK(Worksheet!W472)=FALSE,Worksheet!W472,\"\")","v":0},{"$f":"IF(ISERROR(SEARCH(\"Oil\",Worksheet!$A$18))=TRUE,0,Worksheet!AH472)","v":0},0,{"$f":"IF(ISERROR(SEARCH(\"Propane\",Worksheet!$A$18))=TRUE,0,Worksheet!AH472)","v":0},0,{"$f":"IF(Worksheet!J472=0,\"\",Worksheet!J472)","v":""},{"$f":"IF(Worksheet!B472=0,\"\",Worksheet!B472)","v":""},{"$f":"IF(Worksheet!K472=0,\"\",Worksheet!K472)","v":""},{"$f":"IF(Worksheet!L472=0,\"\",Worksheet!L472)","v":""},{"$f":"IF(Worksheet!R472=0,\"\",Worksheet!R472)","v":""},{"$f":"IF(Worksheet!F472=0,\"\",Worksheet!F472)","v":""},{"$f":"IF(Worksheet!G472=0,\"\",Worksheet!G472)","v":""},{"$f":"IF(Worksheet!X472=0,\"\",Worksheet!X472)","v":""},{"$f":"IF(Worksheet!Q472=0,\"\",Worksheet!Q472)","v":""},{"$f":"IF(Worksheet!C472=0,\"\",Worksheet!C472)","v":""},{"$f":"IF(Worksheet!D472=0,\"\",Worksheet!D472)","v":""},{"$f":"IF(Worksheet!$A$11=TRUE,\"Y\",\"N\")","v":"N"},{"$f":"IF(Worksheet!$A$12=TRUE,\"Y\",\"N\")","v":"N"},{"$f":"IF(Worksheet!$B$11=TRUE,\"Y\",\"N\")","v":"N"},{"$f":"IF(Worksheet!$B$12=TRUE,\"Y\",\"N\")","v":"N"},{"$f":"IF(Worksheet!$C$11=TRUE,\"Y\",\"N\")","v":"N"},{"$f":"IFERROR(Worksheet!AB472,\"\")","v":0}]
[{"$f":"IF(IFERROR(SEARCH(\"Refrigerated\",Worksheet!L473,1),0)>0,122,IF(ISERROR(RIGHT(VLOOKUP(Worksheet!K473,Type!C$1:E$13,3,FALSE),3))=FALSE,RIGHT(VLOOKUP(Worksheet!K473,Type!C$1:E$13,3,FALSE),3),\"\"))","v":""},{"$f":"IF(Worksheet!M473=\"\",\"\",Worksheet!M473)","v":""},{"$f":"IF(Worksheet!N473=\"\",\"\",Worksheet!N473)","v":""},{"$f":"IF(Worksheet!Y473=0,\"\",Worksheet!Y473)","v":""},"Watts",null,null,{"$f":"Worksheet!AA473","v":0},{"$f":"IF(ISBLANK(Worksheet!V473)=FALSE,Worksheet!V473,\"\")","v":0},{"$f":"Worksheet!AG473","v":0},{"$f":"Worksheet!AF473","v":0},0,{"$f":"IF(ISERROR(SEARCH(\"Gas\",Worksheet!$A$18))=TRUE,0,Worksheet!AH473)","v":0},0,null,null,{"$f":"IF(OR(Worksheet!F473=\"Incandescent\",Worksheet!F473=\"Halogen Incandescent\")=TRUE,118,IF(LEFT(Worksheet!F473,3)=\"HID\",117,IF(OR(RIGHT(Worksheet!F473,3)=\"T12\",RIGHT(Worksheet!F473,5)=\"T12HO\")=TRUE,115,IF(OR(RIGHT(Worksheet!F473,2)=\"T8\",RIGHT(Worksheet!F473,4)=\"RWT8\",RIGHT(Worksheet!F473,4)=\"T8HO\")=TRUE,115,\"\"))))","v":""},{"$f":"IF(ISBLANK(Worksheet!W473)=FALSE,Worksheet!W473,\"\")","v":0},{"$f":"IF(ISERROR(SEARCH(\"Oil\",Worksheet!$A$18))=TRUE,0,Worksheet!AH473)","v":0},0,{"$f":"IF(ISERROR(SEARCH(\"Propane\",Worksheet!$A$18))=TRUE,0,Worksheet!AH473)","v":0},0,{"$f":"IF(Worksheet!J473=0,\"\",Worksheet!J473)","v":""},{"$f":"IF(Worksheet!B473=0,\"\",Worksheet!B473)","v":""},{"$f":"IF(Worksheet!K473=0,\"\",Worksheet!K473)","v":""},{"$f":"IF(Worksheet!L473=0,\"\",Worksheet!L473)","v":""},{"$f":"IF(Worksheet!R473=0,\"\",Worksheet!R473)","v":""},{"$f":"IF(Worksheet!F473=0,\"\",Worksheet!F473)","v":""},{"$f":"IF(Worksheet!G473=0,\"\",Worksheet!G473)","v":""},{"$f":"IF(Worksheet!X473=0,\"\",Worksheet!X473)","v":""},{"$f":"IF(Worksheet!Q473=0,\"\",Worksheet!Q473)","v":""},{"$f":"IF(Worksheet!C473=0,\"\",Worksheet!C473)","v":""},{"$f":"IF(Worksheet!D473=0,\"\",Worksheet!D473)","v":""},{"$f":"IF(Worksheet!$A$11=TRUE,\"Y\",\"N\")","v":"N"},{"$f":"IF(Worksheet!$A$12=TRUE,\"Y\",\"N\")","v":"N"},{"$f":"IF(Worksheet!$B$11=TRUE,\"Y\",\"N\")","v":"N"},{"$f":"IF(Worksheet!$B$12=TRUE,\"Y\",\"N\")","v":"N"},{"$f":"IF(Worksheet!$C$11=TRUE,\"Y\",\"N\")","v":"N"},{"$f":"IFERROR(Worksheet!AB473,\"\")","v":0}]
[{"$f":"IF(IFERROR(SEARCH(\"Refrigerated\",Worksheet!L474,1),0)>0,122,IF(ISERROR(RIGHT(VLOOKUP(Worksheet!K474,Type!C$1:E$13,3,FALSE),3))=FALSE,RIGHT(VLOOKUP(Worksheet!K474,Type!C$1:E$13,3,FALSE),3),\"\"))","v":""},{"$f":"IF(Worksheet!M474=\"\",\"\",Worksheet!M474)","v":""},{"$f":"IF(Worksheet!N474=\"\",\"\",Worksheet!N474)","v":""},{"$f":"IF(Worksheet!Y474=0,\"\",Worksheet!Y474)","v":""},"Watts",null,null,{"$f":"Worksheet!AA474","v":0},{"$f":"IF(ISBLANK(Worksheet!V474)=FALSE,Worksheet!V474,\"\")","v":0},{"$f":"Worksheet!AG474","v":0},{"$f":"Worksheet!AF474","v":0},0,{"$f":"IF(ISERROR(SEARCH(\"Gas\",Worksheet!$A$18))=TRUE,0,Worksheet!AH474)","v":0},0,null,null,{"$f":"IF(OR(Worksheet!F474=\"Incandescent\",Worksheet!F474=\"Halogen Incandescent\")=TRUE,118,IF(LEFT(Worksheet!F474,3)=\"HID\",117,IF(OR(RIGHT(Worksheet!F474,3)=\"T12\",RIGHT(Worksheet!F474,5)=\"T12HO\")=TRUE,115,IF(OR(RIGHT(Worksheet!F474,2)=\"T8\",RIGHT(Worksheet!F474,4)=\"RWT8\",RIGHT(Worksheet!F474,4)=\"T8HO\")=TRUE,115,\"\"))))","v":""},{"$f":"IF(ISBLANK(Worksheet!W474)=FALSE,Worksheet!W474,\"\")","v":0},{"$f":"IF(ISERROR(SEARCH(\"Oil\",Worksheet!$A$18))=TRUE,0,Worksheet!AH474)","v":0},0,{"$f":"IF(ISERROR(SEARCH(\"Propane\",Worksheet!$A$18))=TRUE,0,Worksheet!AH474)","v":0},0,{"$f":"IF(Worksheet!J474=0,\"\",Worksheet!J474)","v":""},{"$f":"IF(Worksheet!B474=0,\"\",Worksheet!B474)","v":""},{"$f":"IF(Worksheet!K474=0,\"\",Worksheet!K474)","v":""},{"$f":"IF(Worksheet!L474=0,\"\",Worksheet!L474)","v":""},{"$f":"IF(Worksheet!R474=0,\"\",Worksheet!R474)","v":""},{"$f":"IF(Worksheet!F474=0,\"\",Worksheet!F474)","v":""},{"$f":"IF(Worksheet!G474=0,\"\",Worksheet!G474)","v":""},{"$f":"IF(Worksheet!X474=0,\"\",Worksheet!X474)","v":""},{"$f":"IF(Worksheet!Q474=0,\"\",Worksheet!Q474)","v":""},{"$f":"IF(Worksheet!C474=0,\"\",Worksheet!C474)","v":""},{"$f":"IF(Worksheet!D474=0,\"\",Worksheet!D474)","v":""},{"$f":"IF(Worksheet!$A$11=TRUE,\"Y\",\"N\")","v":"N"},{"$f":"IF(Worksheet!$A$12=TRUE,\"Y\",\"N\")","v":"N"},{"$f":"IF(Worksheet!$B$11=TRUE,\"Y\",\"N\")","v":"N"},{"$f":"IF(Worksheet!$B$12=TRUE,\"Y\",\"N\")","v":"N"},{"$f":"IF(Worksheet!$C$11=TRUE,\"Y\",\"N\")","v":"N"},{"$f":"IFERROR(Worksheet!AB474,\"\")","v":0}]
[{"$f":"IF(IFERROR(SEARCH(\"Refrigerated\",Worksheet!L475,1),0)>0,122,IF(ISERROR(RIGHT(VLOOKUP(Worksheet!K475,Type!C$1:E$13,3,FALSE),3))=FALSE,RIGHT(VLOOKUP(Worksheet!K475,Type!C$1:E$13,3,FALSE),3),\"\"))","v":""},{"$f":"IF(Worksheet!M475=\"\",\"\",Worksheet!M475)","v":""},{"$f":"IF(Worksheet!N475=\"\",\"\",Worksheet!N475)","v":""},{"$f":"IF(Worksheet!Y475=0,\"\",Worksheet!Y475)","v":""},"Watts",null,null,{"$f":"Worksheet!AA475","v":0},{"$f":"IF(ISBLANK(Worksheet!V475)=FALSE,Worksheet!V475,\"\")","v":0},{"$f":"Worksheet!AG475","v":0},{"$f":"Worksheet!AF475","v":0},0,{"$f":"IF(ISERROR(SEARCH(\"Gas\",Worksheet!$A$18))=TRUE,0,Worksheet!AH475)","v":0},0,null,null,{"$f":"IF(OR(Worksheet!F475=\"Incandescent\",Worksheet!F475=\"Halogen Incandescent\")=TRUE,118,IF(LEFT(Worksheet!F475,3)=\"HID\",117,IF(OR(RIGHT(Worksheet!F475,3)=\"T12\",RIGHT(Worksheet!F475,5)=\"T12HO\")=TRUE,115,IF(OR(RIGHT(Worksheet!F475,2)=\"T8\",RIGHT(Worksheet!F475,4)=\"RWT8\",RIGHT(Worksheet!F475,4)=\"T8HO\")=TRUE,115,\"\"))))","v":""},{"$f":"IF(ISBLANK(Worksheet!W475)=FALSE,Worksheet!W475,\"\")","v":0},{"$f":"IF(ISERROR(SEARCH(\"Oil\",Worksheet!$A$18))=TRUE,0,Worksheet!AH475)","v":0},0,{"$f":"IF(ISERROR(SEARCH(\"Propane\",Worksheet!$A$18))=TRUE,0,Worksheet!AH475)","v":0},0,{"$f":"IF(Worksheet!J475=0,\"\",Worksheet!J475)","v":""},{"$f":"IF(Worksheet!B475=0,\"\",Worksheet!B475)","v":""},{"$f":"IF(Worksheet!K475=0,\"\",Worksheet!K475)","v":""},{"$f":"IF(Worksheet!L475=0,\"\",Worksheet!L475)","v":""},{"$f":"IF(Worksheet!R475=0,\"\",Worksheet!R475)","v":""},{"$f":"IF(Worksheet!F475=0,\"\",Worksheet!F475)","v":""},{"$f":"IF(Worksheet!G475=0,\"\",Worksheet!G475)","v":""},{"$f":"IF(Worksheet!X475=0,\"\",Worksheet!X475)","v":""},{"$f":"IF(Worksheet!Q475=0,\"\",Worksheet!Q475)","v":""},{"$f":"IF(Worksheet!C475=0,\"\",Worksheet!C475)","v":""},{"$f":"IF(Worksheet!D475=0,\"\",Worksheet!D475)","v":""},{"$f":"IF(Worksheet!$A$11=TRUE,\"Y\",\"N\")","v":"N"},{"$f":"IF(Worksheet!$A$12=TRUE,\"Y\",\"N\")","v":"N"},{"$f":"IF(Worksheet!$B$11=TRUE,\"Y\",\"N\")","v":"N"},{"$f":"IF(Worksheet!$B$12=TRUE,\"Y\",\"N\")","v":"N"},{"$f":"IF(Worksheet!$C$11=TRUE,\"Y\",\"N\")","v":"N"},{"$f":"IFERROR(Worksheet!AB475,\"\")","v":0}]
[{"$f":"IF(IFERROR(SEARCH(\"Refrigerated\",Worksheet!L476,1),0)>0,122,IF(ISERROR(RIGHT(VLOOKUP(Worksheet!K476,Type!C$1:E$13,3,FALSE),3))=FALSE,RIGHT(VLOOKUP(Worksheet!K476,Type!C$1:E$13,3,FALSE),3),\"\"))","v":""},{"$f":"IF(Worksheet!M476=\"\",\"\",Worksheet!M476)","v":""},{"$f":"IF(Worksheet!N476=\"\",\"\",Worksheet!N476)","v":""},{"$f":"IF(Worksheet!Y476=0,\"\",Worksheet!Y476)","v":""},"Watts",null,null,{"$f":"Worksheet!AA476","v":0},{"$f":"IF(ISBLANK(Worksheet!V476)=FALSE,Worksheet!V476,\"\")","v":0},{"$f":"Worksheet!AG476","v":0},{"$f":"Worksheet!AF476","v":0},0,{"$f":"IF(ISERROR(SEARCH(\"Gas\",Worksheet!$A$18))=TRUE,0,Worksheet!AH476)","v":0},0,null,null,{"$f":"IF(OR(Worksheet!F476=\"Incandescent\",Worksheet!F476=\"Halogen Incandescent\")=TRUE,118,IF(LEFT(Worksheet!F476,3)=\"HID\",117,IF(OR(RIGHT(Worksheet!F476,3)=\"T12\",RIGHT(Worksheet!F476,5)=\"T12HO\")=TRUE,115,IF(OR(RIGHT(Worksheet!F476,2)=\"T8\",RIGHT(Worksheet!F476,4)=\"RWT8\",RIGHT(Worksheet!F476,4)=\"T8HO\")=TRUE,115,\"\"))))","v":""},{"$f":"IF(ISBLANK(Worksheet!W476)=FALSE,Worksheet!W476,\"\")","v":0},{"$f":"IF(ISERROR(SEARCH(\"Oil\",Worksheet!$A$18))=TRUE,0,Worksheet!AH476)","v":0},0,{"$f":"IF(ISERROR(SEARCH(\"Propane\",Worksheet!$A$18))=TRUE,0,Worksheet!AH476)","v":0},0,{"$f":"IF(Worksheet!J476=0,\"\",Worksheet!J476)","v":""},{"$f":"IF(Worksheet!B476=0,\"\",Worksheet!B476)","v":""},{"$f":"IF(Worksheet!K476=0,\"\",Worksheet!K476)","v":""},{"$f":"IF(Worksheet!L476=0,\"\",Worksheet!L476)","v":""},{"$f":"IF(Worksheet!R476=0,\"\",Worksheet!R476)","v":""},{"$f":"IF(Worksheet!F476=0,\"\",Worksheet!F476)","v":""},{"$f":"IF(Worksheet!G476=0,\"\",Worksheet!G476)","v":""},{"$f":"IF(Worksheet!X476=0,\"\",Worksheet!X476)","v":""},{"$f":"IF(Worksheet!Q476=0,\"\",Worksheet!Q476)","v":""},{"$f":"IF(Worksheet!C476=0,\"\",Worksheet!C476)","v":""},{"$f":"IF(Worksheet!D476=0,\"\",Worksheet!D476)","v":""},{"$f":"IF(Worksheet!$A$11=TRUE,\"Y\",\"N\")","v":"N"},{"$f":"IF(Worksheet!$A$12=TRUE,\"Y\",\"N\")","v":"N"},{"$f":"IF(Worksheet!$B$11=TRUE,\"Y\",\"N\")","v":"N"},{"$f":"IF(Worksheet!$B$12=TRUE,\"Y\",\"N\")","v":"N"},{"$f":"IF(Worksheet!$C$11=TRUE,\"Y\",\"N\")","v":"N"},{"$f":"IFERROR(Worksheet!AB476,\"\")","v":0}]
[{"$f":"IF(IFERROR(SEARCH(\"Refrigerated\",Worksheet!L477,1),0)>0,122,IF(ISERROR(RIGHT(VLOOKUP(Worksheet!K477,Type!C$1:E$13,3,FALSE),3))=FALSE,RIGHT(VLOOKUP(Worksheet!K477,Type!C$1:E$13,3,FALSE),3),\"\"))","v":""},{"$f":"IF(Worksheet!M477=\"\",\"\",Worksheet!M477)","v":""},{"$f":"IF(Worksheet!N477=\"\",\"\",Worksheet!N477)","v":""},{"$f":"IF(Worksheet!Y477=0,\"\",Worksheet!Y477)","v":""},"Watts",null,null,{"$f":"Worksheet!AA477","v":0},{"$f":"IF(ISBLANK(Worksheet!V477)=FALSE,Worksheet!V477,\"\")","v":0},{"$f":"Worksheet!AG477","v":0},{"$f":"Worksheet!AF477","v":0},{"$f":"J451*IF(A451=122,16,15)","v":0},{"$f":"IF(ISERROR(SEARCH(\"Gas\",Worksheet!$A$18))=TRUE,0,Worksheet!AH477)","v":0},{"$f":"M451*IF(A451=122,16,15)","v":0},null,null,{"$f":"IF(OR(Worksheet!F477=\"Incandescent\",Worksheet!F477=\"Halogen Incandescent\")=TRUE,118,IF(LEFT(Worksheet!F477,3)=\"HID\",117,IF(OR(RIGHT(Worksheet!F477,3)=\"T12\",RIGHT(Worksheet!F477,5)=\"T12HO\")=TRUE,115,IF(OR(RIGHT(Worksheet!F477,2)=\"T8\",RIGHT(Worksheet!F477,4)=\"RWT8\",RIGHT(Worksheet!F477,4)=\"T8HO\")=TRUE,115,\"\"))))","v":""},{"$f":"IF(ISBLANK(Worksheet!W477)=FALSE,Worksheet!W477,\"\")","v":0},{"$f":"IF(ISERROR(SEARCH(\"Oil\",Worksheet!$A$18))=TRUE,0,Worksheet!AH477)","v":0},{"$f":"S451*IF(A451=122,16,15)","v":0},{"$f":"IF(ISERROR(SEARCH(\"Propane\",Worksheet!$A$18))=TRUE,0,Worksheet!AH477)","v":0},{"$f":"U451*IF(A451=122,16,15)","v":0},{"$f":"IF(Worksheet!J477=0,\"\",Worksheet!J477)","v":""},{"$f":"IF(Worksheet!B477=0,\"\",Worksheet!B477)","v":""},{"$f":"IF(Worksheet!K477=0,\"\",Worksheet!K477)","v":""},{"$f":"IF(Worksheet!L477=0,\"\",Worksheet!L477)","v":""},{"$f":"IF(Worksheet!R477=0,\"\",Worksheet!R477)","v":""},{"$f":"IF(Worksheet!F477=0,\"\",Worksheet!F477)","v":""},{"$f":"IF(Worksheet!G477=0,\"\",Worksheet!G477)","v":""},{"$f":"IF(Worksheet!X477=0,\"\",Worksheet!X477)","v":""},{"$f":"IF(Worksheet!Q477=0,\"\",Worksheet!Q477)","v":""},{"$f":"IF(Worksheet!C477=0,\"\",Worksheet!C477)","v":""},{"$f":"IF(Worksheet!D477=0,\"\",Worksheet!D477)","v":""},{"$f":"IF(Worksheet!$A$11=TRUE,\"Y\",\"N\")","v":"N"},{"$f":"IF(Worksheet!$A$12=TRUE,\"Y\",\"N\")","v":"N"},{"$f":"IF(Worksheet!$B$11=TRUE,\"Y\",\"N\")","v":"N"},{"$f":"IF(Worksheet!$B$12=TRUE,\"Y\",\"N\")","v":"N"},{"$f":"IF(Worksheet!$C$11=TRUE,\"Y\",\"N\")","v":"N"},{"$f":"IFERROR(Worksheet!AB477,\"\")","v":0}]
[{"$f":"IF(IFERROR(SEARCH(\"Refrigerated\",Worksheet!L478,1),0)>0,122,IF(ISERROR(RIGHT(VLOOKUP(Worksheet!K478,Type!C$1:E$13,3,FALSE),3))=FALSE,RIGHT(VLOOKUP(Worksheet!K478,Type!C$1:E$13,3,FALSE),3),\"\"))","v":""},{"$f":"IF(Worksheet!M478=\"\",\"\",Worksheet!M478)","v":""},{"$f":"IF(Worksheet!N478=\"\",\"\",Worksheet!N478)","v":""},{"$f":"IF(Worksheet!Y478=0,\"\",Worksheet!Y478)","v":""},"Watts",null,null,{"$f":"Worksheet!AA478","v":0},{"$f":"IF(ISBLANK(Worksheet!V478)=FALSE,Worksheet!V478,\"\")","v":0},{"$f":"Worksheet!AG478","v":0},{"$f":"Worksheet!AF478","v":0},0,{"$f":"IF(ISERROR(SEARCH(\"Gas\",Worksheet!$A$18))=TRUE,0,Worksheet!AH478)","v":0},0,null,null,{"$f":"IF(OR(Worksheet!F478=\"Incandescent\",Worksheet!F478=\"Halogen Incandescent\")=TRUE,118,IF(LEFT(Worksheet!F478,3)=\"HID\",117,IF(OR(RIGHT(Worksheet!F478,3)=\"T12\",RIGHT(Worksheet!F478,5)=\"T12HO\")=TRUE,115,IF(OR(RIGHT(Worksheet!F478,2)=\"T8\",RIGHT(Worksheet!F478,4)=\"RWT8\",RIGHT(Worksheet!F478,4)=\"T8HO\")=TRUE,115,\"\"))))","v":""},{"$f":"IF(ISBLANK(Worksheet!W478)=FALSE,Worksheet!W478,\"\")","v":0},{"$f":"IF(ISERROR(SEARCH(\"Oil\",Worksheet!$A$18))=TRUE,0,Worksheet!AH478)","v":0},0,{"$f":"IF(ISERROR(SEARCH(\"Propane\",Worksheet!$A$18))=TRUE,0,Worksheet!AH478)","v":0},0,{"$f":"IF(Worksheet!J478=0,\"\",Worksheet!J478)","v":""},{"$f":"IF(Worksheet!B478=0,\"\",Worksheet!B478)","v":""},{"$f":"IF(Worksheet!K478=0,\"\",Worksheet!K478)","v":""},{"$f":"IF(Worksheet!L478=0,\"\",Worksheet!L478)","v":""},{"$f":"IF(Worksheet!R478=0,\"\",Worksheet!R478)","v":""},{"$f":"IF(Worksheet!F478=0,\"\",Worksheet!F478)","v":""},{"$f":"IF(Worksheet!G478=0,\"\",Worksheet!G478)","v":""},{"$f":"IF(Worksheet!X478=0,\"\",Worksheet!X478)","v":""},{"$f":"IF(Worksheet!Q478=0,\"\",Worksheet!Q478)","v":""},{"$f":"IF(Worksheet!C478=0,\"\",Worksheet!C478)","v":""},{"$f":"IF(Worksheet!D478=0,\"\",Worksheet!D478)","v":""},{"$f":"IF(Worksheet!$A$11=TRUE,\"Y\",\"N\")","v":"N"},{"$f":"IF(Worksheet!$A$12=TRUE,\"Y\",\"N\")","v":"N"},{"$f":"IF(Worksheet!$B$11=TRUE,\"Y\",\"N\")","v":"N"},{"$f":"IF(Worksheet!$B$12=TRUE,\"Y\",\"N\")","v":"N"},{"$f":"IF(Worksheet!$C$11=TRUE,\"Y\",\"N\")","v":"N"},{"$f":"IFERROR(Worksheet!AB478,\"\")","v":0}]
[{"$f":"IF(IFERROR(SEARCH(\"Refrigerated\",Worksheet!L479,1),0)>0,122,IF(ISERROR(RIGHT(VLOOKUP(Worksheet!K479,Type!C$1:E$13,3,FALSE),3))=FALSE,RIGHT(VLOOKUP(Worksheet!K479,Type!C$1:E$13,3,FALSE),3),\"\"))","v":""},{"$f":"IF(Worksheet!M479=\"\",\"\",Worksheet!M479)","v":""},{"$f":"IF(Worksheet!N479=\"\",\"\",Worksheet!N479)","v":""},{"$f":"IF(Worksheet!Y479=0,\"\",Worksheet!Y479)","v":""},"Watts",null,null,{"$f":"Worksheet!AA479","v":0},{"$f":"IF(ISBLANK(Worksheet!V479)=FALSE,Worksheet!V479,\"\")","v":0},{"$f":"Worksheet!AG479","v":0},{"$f":"Worksheet!AF479","v":0},0,{"$f":"IF(ISERROR(SEARCH(\"Gas\",Worksheet!$A$18))=TRUE,0,Worksheet!AH479)","v":0},0,null,null,{"$f":"IF(OR(Worksheet!F479=\"Incandescent\",Worksheet!F479=\"Halogen Incandescent\")=TRUE,118,IF(LEFT(Worksheet!F479,3)=\"HID\",117,IF(OR(RIGHT(Worksheet!F479,3)=\"T12\",RIGHT(Worksheet!F479,5)=\"T12HO\")=TRUE,115,IF(OR(RIGHT(Worksheet!F479,2)=\"T8\",RIGHT(Worksheet!F479,4)=\"RWT8\",RIGHT(Worksheet!F479,4)=\"T8HO\")=TRUE,115,\"\"))))","v":""},{"$f":"IF(ISBLANK(Worksheet!W479)=FALSE,Worksheet!W479,\"\")","v":0},{"$f":"IF(ISERROR(SEARCH(\"Oil\",Worksheet!$A$18))=TRUE,0,Worksheet!AH479)","v":0},0,{"$f":"IF(ISERROR(SEARCH(\"Propane\",Worksheet!$A$18))=TRUE,0,Worksheet!AH479)","v":0},0,{"$f":"IF(Worksheet!J479=0,\"\",Worksheet!J479)","v":""},{"$f":"IF(Worksheet!B479=0,\"\",Worksheet!B479)","v":""},{"$f":"IF(Worksheet!K479=0,\"\",Worksheet!K479)","v":""},{"$f":"IF(Worksheet!L479=0,\"\",Worksheet!L479)","v":""},{"$f":"IF(Worksheet!R479=0,\"\",Worksheet!R479)","v":""},{"$f":"IF(Worksheet!F479=0,\"\",Worksheet!F479)","v":""},{"$f":"IF(Worksheet!G479=0,\"\",Worksheet!G479)","v":""},{"$f":"IF(Worksheet!X479=0,\"\",Worksheet!X479)","v":""},{"$f":"IF(Worksheet!Q479=0,\"\",Worksheet!Q479)","v":""},{"$f":"IF(Worksheet!C479=0,\"\",Worksheet!C479)","v":""},{"$f":"IF(Worksheet!D479=0,\"\",Worksheet!D479)","v":""},{"$f":"IF(Worksheet!$A$11=TRUE,\"Y\",\"N\")","v":"N"},{"$f":"IF(Worksheet!$A$12=TRUE,\"Y\",\"N\")","v":"N"},{"$f":"IF(Worksheet!$B$11=TRUE,\"Y\",\"N\")","v":"N"},{"$f":"IF(Worksheet!$B$12=TRUE,\"Y\",\"N\")","v":"N"},{"$f":"IF(Worksheet!$C$11=TRUE,\"Y\",\"N\")","v":"N"},{"$f":"IFERROR(Worksheet!AB479,\"\")","v":0}]
[{"$f":"IF(IFERROR(SEARCH(\"Refrigerated\",Worksheet!L480,1),0)>0,122,IF(ISERROR(RIGHT(VLOOKUP(Worksheet!K480,Type!C$1:E$13,3,FALSE),3))=FALSE,RIGHT(VLOOKUP(Worksheet!K480,Type!C$1:E$13,3,FALSE),3),\"\"))","v":""},{"$f":"IF(Worksheet!M480=\"\",\"\",Worksheet!M480)","v":""},{"$f":"IF(Worksheet!N480=\"\",\"\",Worksheet!N480)","v":""},{"$f":"IF(Worksheet!Y480=0,\"\",Worksheet!Y480)","v":""},"Watts",null,null,{"$f":"Worksheet!AA480","v":0},{"$f":"IF(ISBLANK(Worksheet!V480)=FALSE,Worksheet!V480,\"\")","v":0},{"$f":"Worksheet!AG480","v":0},{"$f":"Worksheet!AF480","v":0},0,{"$f":"IF(ISERROR(SEARCH(\"Gas\",Worksheet!$A$18))=TRUE,0,Worksheet!AH480)","v":0},0,null,null,{"$f":"IF(OR(Worksheet!F480=\"Incandescent\",Worksheet!F480=\"Halogen Incandescent\")=TRUE,118,IF(LEFT(Worksheet!F480,3)=\"HID\",117,IF(OR(RIGHT(Worksheet!F480,3)=\"T12\",RIGHT(Worksheet!F480,5)=\"T12HO\")=TRUE,115,IF(OR(RIGHT(Worksheet!F480,2)=\"T8\",RIGHT(Worksheet!F480,4)=\"RWT8\",RIGHT(Worksheet!F480,4)=\"T8HO\")=TRUE,115,\"\"))))","v":""},{"$f":"IF(ISBLANK(Worksheet!W480)=FALSE,Worksheet!W480,\"\")","v":0},{"$f":"IF(ISERROR(SEARCH(\"Oil\",Worksheet!$A$18))=TRUE,0,Worksheet!AH480)","v":0},0,{"$f":"IF(ISERROR(SEARCH(\"Propane\",Worksheet!$A$18))=TRUE,0,Worksheet!AH480)","v":0},0,{"$f":"IF(Worksheet!J480=0,\"\",Worksheet!J480)","v":""},{"$f":"IF(Worksheet!B480=0,\"\",Worksheet!B480)","v":""},{"$f":"IF(Worksheet!K480=0,\"\",Worksheet!K480)","v":""},{"$f":"IF(Worksheet!L480=0,\"\",Worksheet!L480)","v":""},{"$f":"IF(Worksheet!R480=0,\"\",Worksheet!R480)","v":""},{"$f":"IF(Worksheet!F480=0,\"\",Worksheet!F480)","v":""},{"$f":"IF(Worksheet!G480=0,\"\",Worksheet!G480)","v":""},{"$f":"IF(Worksheet!X480=0,\"\",Worksheet!X480)","v":""},{"$f":"IF(Worksheet!Q480=0,\"\",Worksheet!Q480)","v":""},{"$f":"IF(Worksheet!C480=0,\"\",Worksheet!C480)","v":""},{"$f":"IF(Worksheet!D480=0,\"\",Worksheet!D480)","v":""},{"$f":"IF(Worksheet!$A$11=TRUE,\"Y\",\"N\")","v":"N"},{"$f":"IF(Worksheet!$A$12=TRUE,\"Y\",\"N\")","v":"N"},{"$f":"IF(Worksheet!$B$11=TRUE,\"Y\",\"N\")","v":"N"},{"$f":"IF(Worksheet!$B$12=TRUE,\"Y\",\"N\")","v":"N"},{"$f":"IF(Worksheet!$C$11=TRUE,\"Y\",\"N\")","v":"N"},{"$f":"IFERROR(Worksheet!AB480,\"\")","v":0}]
[{"$f":"IF(IFERROR(SEARCH(\"Refrigerated\",Worksheet!L481,1),0)>0,122,IF(ISERROR(RIGHT(VLOOKUP(Worksheet!K481,Type!C$1:E$13,3,FALSE),3))=FALSE,RIGHT(VLOOKUP(Worksheet!K481,Type!C$1:E$13,3,FALSE),3),\"\"))","v":""},{"$f":"IF(Worksheet!M481=\"\",\"\",Worksheet!M481)","v":""},{"$f":"IF(Worksheet!N481=\"\",\"\",Worksheet!N481)","v":""},{"$f":"IF(Worksheet!Y481=0,\"\",Worksheet!Y481)","v":""},"Watts",null,null,{"$f":"Worksheet!AA481","v":0},{"$f":"IF(ISBLANK(Worksheet!V481)=FALSE,Worksheet!V481,\"\")","v":0},{"$f":"Worksheet!AG481","v":0},{"$f":"Worksheet!AF481","v":0},0,{"$f":"IF(ISERROR(SEARCH(\"Gas\",Worksheet!$A$18))=TRUE,0,Worksheet!AH481)","v":0},0,null,null,{"$f":"IF(OR(Worksheet!F481=\"Incandescent\",Worksheet!F481=\"Halogen Incandescent\")=TRUE,118,IF(LEFT(Worksheet!F481,3)=\"HID\",117,IF(OR(RIGHT(Worksheet!F481,3)=\"T12\",RIGHT(Worksheet!F481,5)=\"T12HO\")=TRUE,115,IF(OR(RIGHT(Worksheet!F481,2)=\"T8\",RIGHT(Worksheet!F481,4)=\"RWT8\",RIGHT(Worksheet!F481,4)=\"T8HO\")=TRUE,115,\"\"))))","v":""},{"$f":"IF(ISBLANK(Worksheet!W481)=FALSE,Worksheet!W481,\"\")","v":0},{"$f":"IF(ISERROR(SEARCH(\"Oil\",Worksheet!$A$18))=TRUE,0,Worksheet!AH481)","v":0},0,{"$f":"IF(ISERROR(SEARCH(\"Propane\",Worksheet!$A$18))=TRUE,0,Worksheet!AH481)","v":0},0,{"$f":"IF(Worksheet!J481=0,\"\",Worksheet!J481)","v":""},{"$f":"IF(Worksheet!B481=0,\"\",Worksheet!B481)","v":""},{"$f":"IF(Worksheet!K481=0,\"\",Worksheet!K481)","v":""},{"$f":"IF(Worksheet!L481=0,\"\",Worksheet!L481)","v":""},{"$f":"IF(Worksheet!R481=0,\"\",Worksheet!R481)","v":""},{"$f":"IF(Worksheet!F481=0,\"\",Worksheet!F481)","v":""},{"$f":"IF(Worksheet!G481=0,\"\",Worksheet!G481)","v":""},{"$f":"IF(Worksheet!X481=0,\"\",Worksheet!X481)","v":""},{"$f":"IF(Worksheet!Q481=0,\"\",Worksheet!Q481)","v":""},{"$f":"IF(Worksheet!C481=0,\"\",Worksheet!C481)","v":""},{"$f":"IF(Worksheet!D481=0,\"\",Worksheet!D481)","v":""},{"$f":"IF(Worksheet!$A$11=TRUE,\"Y\",\"N\")","v":"N"},{"$f":"IF(Worksheet!$A$12=TRUE,\"Y\",\"N\")","v":"N"},{"$f":"IF(Worksheet!$B$11=TRUE,\"Y\",\"N\")","v":"N"},{"$f":"IF(Worksheet!$B$12=TRUE,\"Y\",\"N\")","v":"N"},{"$f":"IF(Worksheet!$C$11=TRUE,\"Y\",\"N\")","v":"N"},{"$f":"IFERROR(Worksheet!AB481,\"\")","v":0}]
[{"$f":"IF(IFERROR(SEARCH(\"Refrigerated\",Worksheet!L482,1),0)>0,122,IF(ISERROR(RIGHT(VLOOKUP(Worksheet!K482,Type!C$1:E$13,3,FALSE),3))=FALSE,RIGHT(VLOOKUP(Worksheet!K482,Type!C$1:E$13,3,FALSE),3),\"\"))","v":""},{"$f":"IF(Worksheet!M482=\"\",\"\",Worksheet!M482)","v":""},{"$f":"IF(Worksheet!N482=\"\",\"\",Worksheet!N482)","v":""},{"$f":"IF(Worksheet!Y482=0,\"\",Worksheet!Y482)","v":""},"Watts",null,null,{"$f":"Worksheet!AA482","v":0},{"$f":"IF(ISBLANK(Worksheet!V482)=FALSE,Worksheet!V482,\"\")","v":0},{"$f":"Worksheet!AG482","v":0},{"$f":"Worksheet!AF482","v":0},0,{"$f":"IF(ISERROR(SEARCH(\"Gas\",Worksheet!$A$18))=TRUE,0,Worksheet!AH482)","v":0},0,null,null,{"$f":"IF(OR(Worksheet!F482=\"Incandescent\",Worksheet!F482=\"Halogen Incandescent\")=TRUE,118,IF(LEFT(Worksheet!F482,3)=\"HID\",117,IF(OR(RIGHT(Worksheet!F482,3)=\"T12\",RIGHT(Worksheet!F482,5)=\"T12HO\")=TRUE,115,IF(OR(RIGHT(Worksheet!F482,2)=\"T8\",RIGHT(Worksheet!F482,4)=\"RWT8\",RIGHT(Worksheet!F482,4)=\"T8HO\")=TRUE,115,\"\"))))","v":""},{"$f":"IF(ISBLANK(Worksheet!W482)=FALSE,Worksheet!W482,\"\")","v":0},{"$f":"IF(ISERROR(SEARCH(\"Oil\",Worksheet!$A$18))=TRUE,0,Worksheet!AH482)","v":0},0,{"$f":"IF(ISERROR(SEARCH(\"Propane\",Worksheet!$A$18))=TRUE,0,Worksheet!AH482)","v":0},0,{"$f":"IF(Worksheet!J482=0,\"\",Worksheet!J482)","v":""},{"$f":"IF(Worksheet!B482=0,\"\",Worksheet!B482)","v":""},{"$f":"IF(Worksheet!K482=0,\"\",Worksheet!K482)","v":""},{"$f":"IF(Worksheet!L482=0,\"\",Worksheet!L482)","v":""},{"$f":"IF(Worksheet!R482=0,\"\",Worksheet!R482)","v":""},{"$f":"IF(Worksheet!F482=0,\"\",Worksheet!F482)","v":""},{"$f":"IF(Worksheet!G482=0,\"\",Worksheet!G482)","v":""},{"$f":"IF(Worksheet!X482=0,\"\",Worksheet!X482)","v":""},{"$f":"IF(Worksheet!Q482=0,\"\",Worksheet!Q482)","v":""},{"$f":"IF(Worksheet!C482=0,\"\",Worksheet!C482)","v":""},{"$f":"IF(Worksheet!D482=0,\"\",Worksheet!D482)","v":""},{"$f":"IF(Worksheet!$A$11=TRUE,\"Y\",\"N\")","v":"N"},{"$f":"IF(Worksheet!$A$12=TRUE,\"Y\",\"N\")","v":"N"},{"$f":"IF(Worksheet!$B$11=TRUE,\"Y\",\"N\")","v":"N"},{"$f":"IF(Worksheet!$B$12=TRUE,\"Y\",\"N\")","v":"N"},{"$f":"IF(Worksheet!$C$11=TRUE,\"Y\",\"N\")","v":"N"},{"$f":"IFERROR(Worksheet!AB482,\"\")","v":0}]
[{"$f":"IF(IFERROR(SEARCH(\"Refrigerated\",Worksheet!L483,1),0)>0,122,IF(ISERROR(RIGHT(VLOOKUP(Worksheet!K483,Type!C$1:E$13,3,FALSE),3))=FALSE,RIGHT(VLOOKUP(Worksheet!K483,Type!C$1:E$13,3,FALSE),3),\"\"))","v":""},{"$f":"IF(Worksheet!M483=\"\",\"\",Worksheet!M483)","v":""},{"$f":"IF(Worksheet!N483=\"\",\"\",Worksheet!N483)","v":""},{"$f":"IF(Worksheet!Y483=0,\"\",Worksheet!Y483)","v":""},"Watts",null,null,{"$f":"Worksheet!AA483","v":0},{"$f":"IF(ISBLANK(Worksheet!V483)=FALSE,Worksheet!V483,\"\")","v":0},{"$f":"Worksheet!AG483","v":0},{"$f":"Worksheet!AF483","v":0},0,{"$f":"IF(ISERROR(SEARCH(\"Gas\",Worksheet!$A$18))=TRUE,0,Worksheet!AH483)","v":0},0,null,null,{"$f":"IF(OR(Worksheet!F483=\"Incandescent\",Worksheet!F483=\"Halogen Incandescent\")=TRUE,118,IF(LEFT(Worksheet!F483,3)=\"HID\",117,IF(OR(RIGHT(Worksheet!F483,3)=\"T12\",RIGHT(Worksheet!F483,5)=\"T12HO\")=TRUE,115,IF(OR(RIGHT(Worksheet!F483,2)=\"T8\",RIGHT(Worksheet!F483,4)=\"RWT8\",RIGHT(Worksheet!F483,4)=\"T8HO\")=TRUE,115,\"\"))))","v":""},{"$f":"IF(ISBLANK(Worksheet!W483)=FALSE,Worksheet!W483,\"\")","v":0},{"$f":"IF(ISERROR(SEARCH(\"Oil\",Worksheet!$A$18))=TRUE,0,Worksheet!AH483)","v":0},0,{"$f":"IF(ISERROR(SEARCH(\"Propane\",Worksheet!$A$18))=TRUE,0,Worksheet!AH483)","v":0},0,{"$f":"IF(Worksheet!J483=0,\"\",Worksheet!J483)","v":""},{"$f":"IF(Worksheet!B483=0,\"\",Worksheet!B483)","v":""},{"$f":"IF(Worksheet!K483=0,\"\",Worksheet!K483)","v":""},{"$f":"IF(Worksheet!L483=0,\"\",Worksheet!L483)","v":""},{"$f":"IF(Worksheet!R483=0,\"\",Worksheet!R483)","v":""},{"$f":"IF(Worksheet!F483=0,\"\",Worksheet!F483)","v":""},{"$f":"IF(Worksheet!G483=0,\"\",Worksheet!G483)","v":""},{"$f":"IF(Worksheet!X483=0,\"\",Worksheet!X483)","v":""},{"$f":"IF(Worksheet!Q483=0,\"\",Worksheet!Q483)","v":""},{"$f":"IF(Worksheet!C483=0,\"\",Worksheet!C483)","v":""},{"$f":"IF(Worksheet!D483=0,\"\",Worksheet!D483)","v":""},{"$f":"IF(Worksheet!$A$11=TRUE,\"Y\",\"N\")","v":"N"},{"$f":"IF(Worksheet!$A$12=TRUE,\"Y\",\"N\")","v":"N"},{"$f":"IF(Worksheet!$B$11=TRUE,\"Y\",\"N\")","v":"N"},{"$f":"IF(Worksheet!$B$12=TRUE,\"Y\",\"N\")","v":"N"},{"$f":"IF(Worksheet!$C$11=TRUE,\"Y\",\"N\")","v":"N"},{"$f":"IFERROR(Worksheet!AB483,\"\")","v":0}]
[{"$f":"IF(IFERROR(SEARCH(\"Refrigerated\",Worksheet!L484,1),0)>0,122,IF(ISERROR(RIGHT(VLOOKUP(Worksheet!K484,Type!C$1:E$13,3,FALSE),3))=FALSE,RIGHT(VLOOKUP(Worksheet!K484,Type!C$1:E$13,3,FALSE),3),\"\"))","v":""},{"$f":"IF(Worksheet!M484=\"\",\"\",Worksheet!M484)","v":""},{"$f":"IF(Worksheet!N484=\"\",\"\",Worksheet!N484)","v":""},{"$f":"IF(Worksheet!Y484=0,\"\",Worksheet!Y484)","v":""},"Watts",null,null,{"$f":"Worksheet!AA484","v":0},{"$f":"IF(ISBLANK(Worksheet!V484)=FALSE,Worksheet!V484,\"\")","v":0},{"$f":"Worksheet!AG484","v":0},{"$f":"Worksheet!AF484","v":0},0,{"$f":"IF(ISERROR(SEARCH(\"Gas\",Worksheet!$A$18))=TRUE,0,Worksheet!AH484)","v":0},0,null,null,{"$f":"IF(OR(Worksheet!F484=\"Incandescent\",Worksheet!F484=\"Halogen Incandescent\")=TRUE,118,IF(LEFT(Worksheet!F484,3)=\"HID\",117,IF(OR(RIGHT(Worksheet!F484,3)=\"T12\",RIGHT(Worksheet!F484,5)=\"T12HO\")=TRUE,115,IF(OR(RIGHT(Worksheet!F484,2)=\"T8\",RIGHT(Worksheet!F484,4)=\"RWT8\",RIGHT(Worksheet!F484,4)=\"T8HO\")=TRUE,115,\"\"))))","v":""},{"$f":"IF(ISBLANK(Worksheet!W484)=FALSE,Worksheet!W484,\"\")","v":0},{"$f":"IF(ISERROR(SEARCH(\"Oil\",Worksheet!$A$18))=TRUE,0,Worksheet!AH484)","v":0},0,{"$f":"IF(ISERROR(SEARCH(\"Propane\",Worksheet!$A$18))=TRUE,0,Worksheet!AH484)","v":0},0,{"$f":"IF(Worksheet!J484=0,\"\",Worksheet!J484)","v":""},{"$f":"IF(Worksheet!B484=0,\"\",Worksheet!B484)","v":""},{"$f":"IF(Worksheet!K484=0,\"\",Worksheet!K484)","v":""},{"$f":"IF(Worksheet!L484=0,\"\",Worksheet!L484)","v":""},{"$f":"IF(Worksheet!R484=0,\"\",Worksheet!R484)","v":""},{"$f":"IF(Worksheet!F484=0,\"\",Worksheet!F484)","v":""},{"$f":"IF(Worksheet!G484=0,\"\",Worksheet!G484)","v":""},{"$f":"IF(Worksheet!X484=0,\"\",Worksheet!X484)","v":""},{"$f":"IF(Worksheet!Q484=0,\"\",Worksheet!Q484)","v":""},{"$f":"IF(Worksheet!C484=0,\"\",Worksheet!C484)","v":""},{"$f":"IF(Worksheet!D484=0,\"\",Worksheet!D484)","v":""},{"$f":"IF(Worksheet!$A$11=TRUE,\"Y\",\"N\")","v":"N"},{"$f":"IF(Worksheet!$A$12=TRUE,\"Y\",\"N\")","v":"N"},{"$f":"IF(Worksheet!$B$11=TRUE,\"Y\",\"N\")","v":"N"},{"$f":"IF(Worksheet!$B$12=TRUE,\"Y\",\"N\")","v":"N"},{"$f":"IF(Worksheet!$C$11=TRUE,\"Y\",\"N\")","v":"N"},{"$f":"IFERROR(Worksheet!AB484,\"\")","v":0}]
[{"$f":"IF(IFERROR(SEARCH(\"Refrigerated\",Worksheet!L485,1),0)>0,122,IF(ISERROR(RIGHT(VLOOKUP(Worksheet!K485,Type!C$1:E$13,3,FALSE),3))=FALSE,RIGHT(VLOOKUP(Worksheet!K485,Type!C$1:E$13,3,FALSE),3),\"\"))","v":""},{"$f":"IF(Worksheet!M485=\"\",\"\",Worksheet!M485)","v":""},{"$f":"IF(Worksheet!N485=\"\",\"\",Worksheet!N485)","v":""},{"$f":"IF(Worksheet!Y485=0,\"\",Worksheet!Y485)","v":""},"Watts",null,null,{"$f":"Worksheet!AA485","v":0},{"$f":"IF(ISBLANK(Worksheet!V485)=FALSE,Worksheet!V485,\"\")","v":0},{"$f":"Worksheet!AG485","v":0},{"$f":"Worksheet!AF485","v":0},0,{"$f":"IF(ISERROR(SEARCH(\"Gas\",Worksheet!$A$18))=TRUE,0,Worksheet!AH485)","v":0},0,null,null,{"$f":"IF(OR(Worksheet!F485=\"Incandescent\",Worksheet!F485=\"Halogen Incandescent\")=TRUE,118,IF(LEFT(Worksheet!F485,3)=\"HID\",117,IF(OR(RIGHT(Worksheet!F485,3)=\"T12\",RIGHT(Worksheet!F485,5)=\"T12HO\")=TRUE,115,IF(OR(RIGHT(Worksheet!F485,2)=\"T8\",RIGHT(Worksheet!F485,4)=\"RWT8\",RIGHT(Worksheet!F485,4)=\"T8HO\")=TRUE,115,\"\"))))","v":""},{"$f":"IF(ISBLANK(Worksheet!W485)=FALSE,Worksheet!W485,\"\")","v":0},{"$f":"IF(ISERROR(SEARCH(\"Oil\",Worksheet!$A$18))=TRUE,0,Worksheet!AH485)","v":0},0,{"$f":"IF(ISERROR(SEARCH(\"Propane\",Worksheet!$A$18))=TRUE,0,Worksheet!AH485)","v":0},0,{"$f":"IF(Worksheet!J485=0,\"\",Worksheet!J485)","v":""},{"$f":"IF(Worksheet!B485=0,\"\",Worksheet!B485)","v":""},{"$f":"IF(Worksheet!K485=0,\"\",Worksheet!K485)","v":""},{"$f":"IF(Worksheet!L485=0,\"\",Worksheet!L485)","v":""},{"$f":"IF(Worksheet!R485=0,\"\",Worksheet!R485)","v":""},{"$f":"IF(Worksheet!F485=0,\"\",Worksheet!F485)","v":""},{"$f":"IF(Worksheet!G485=0,\"\",Worksheet!G485)","v":""},{"$f":"IF(Worksheet!X485=0,\"\",Worksheet!X485)","v":""},{"$f":"IF(Worksheet!Q485=0,\"\",Worksheet!Q485)","v":""},{"$f":"IF(Worksheet!C485=0,\"\",Worksheet!C485)","v":""},{"$f":"IF(Worksheet!D485=0,\"\",Worksheet!D485)","v":""},{"$f":"IF(Worksheet!$A$11=TRUE,\"Y\",\"N\")","v":"N"},{"$f":"IF(Worksheet!$A$12=TRUE,\"Y\",\"N\")","v":"N"},{"$f":"IF(Worksheet!$B$11=TRUE,\"Y\",\"N\")","v":"N"},{"$f":"IF(Worksheet!$B$12=TRUE,\"Y\",\"N\")","v":"N"},{"$f":"IF(Worksheet!$C$11=TRUE,\"Y\",\"N\")","v":"N"},{"$f":"IFERROR(Worksheet!AB485,\"\")","v":0}]
[{"$f":"IF(IFERROR(SEARCH(\"Refrigerated\",Worksheet!L486,1),0)>0,122,IF(ISERROR(RIGHT(VLOOKUP(Worksheet!K486,Type!C$1:E$13,3,FALSE),3))=FALSE,RIGHT(VLOOKUP(Worksheet!K486,Type!C$1:E$13,3,FALSE),3),\"\"))","v":""},{"$f":"IF(Worksheet!M486=\"\",\"\",Worksheet!M486)","v":""},{"$f":"IF(Worksheet!N486=\"\",\"\",Worksheet!N486)","v":""},{"$f":"IF(Worksheet!Y486=0,\"\",Worksheet!Y486)","v":""},"Watts",null,null,{"$f":"Worksheet!AA486","v":0},{"$f":"IF(ISBLANK(Worksheet!V486)=FALSE,Worksheet!V486,\"\")","v":0},{"$f":"Worksheet!AG486","v":0},{"$f":"Worksheet!AF486","v":0},0,{"$f":"IF(ISERROR(SEARCH(\"Gas\",Worksheet!$A$18))=TRUE,0,Worksheet!AH486)","v":0},0,null,null,{"$f":"IF(OR(Worksheet!F486=\"Incandescent\",Worksheet!F486=\"Halogen Incandescent\")=TRUE,118,IF(LEFT(Worksheet!F486,3)=\"HID\",117,IF(OR(RIGHT(Worksheet!F486,3)=\"T12\",RIGHT(Worksheet!F486,5)=\"T12HO\")=TRUE,115,IF(OR(RIGHT(Worksheet!F486,2)=\"T8\",RIGHT(Worksheet!F486,4)=\"RWT8\",RIGHT(Worksheet!F486,4)=\"T8HO\")=TRUE,115,\"\"))))","v":""},{"$f":"IF(ISBLANK(Worksheet!W486)=FALSE,Worksheet!W486,\"\")","v":0},{"$f":"IF(ISERROR(SEARCH(\"Oil\",Worksheet!$A$18))=TRUE,0,Worksheet!AH486)","v":0},0,{"$f":"IF(ISERROR(SEARCH(\"Propane\",Worksheet!$A$18))=TRUE,0,Worksheet!AH486)","v":0},0,{"$f":"IF(Worksheet!J486=0,\"\",Worksheet!J486)","v":""},{"$f":"IF(Worksheet!B486=0,\"\",Worksheet!B486)","v":""},{"$f":"IF(Worksheet!K486=0,\"\",Worksheet!K486)","v":""},{"$f":"IF(Worksheet!L486=0,\"\",Worksheet!L486)","v":""},{"$f":"IF(Worksheet!R486=0,\"\",Worksheet!R486)","v":""},{"$f":"IF(Worksheet!F486=0,\"\",Worksheet!F486)","v":""},{"$f":"IF(Worksheet!G486=0,\"\",Worksheet!G486)","v":""},{"$f":"IF(Worksheet!X486=0,\"\",Worksheet!X486)","v":""},{"$f":"IF(Worksheet!Q486=0,\"\",Worksheet!Q486)","v":""},{"$f":"IF(Worksheet!C486=0,\"\",Worksheet!C486)","v":""},{"$f":"IF(Worksheet!D486=0,\"\",Worksheet!D486)","v":""},{"$f":"IF(Worksheet!$A$11=TRUE,\"Y\",\"N\")","v":"N"},{"$f":"IF(Worksheet!$A$12=TRUE,\"Y\",\"N\")","v":"N"},{"$f":"IF(Worksheet!$B$11=TRUE,\"Y\",\"N\")","v":"N"},{"$f":"IF(Worksheet!$B$12=TRUE,\"Y\",\"N\")","v":"N"},{"$f":"IF(Worksheet!$C$11=TRUE,\"Y\",\"N\")","v":"N"},{"$f":"IFERROR(Worksheet!AB486,\"\")","v":0}]
[{"$f":"IF(IFERROR(SEARCH(\"Refrigerated\",Worksheet!L487,1),0)>0,122,IF(ISERROR(RIGHT(VLOOKUP(Worksheet!K487,Type!C$1:E$13,3,FALSE),3))=FALSE,RIGHT(VLOOKUP(Worksheet!K487,Type!C$1:E$13,3,FALSE),3),\"\"))","v":""},{"$f":"IF(Worksheet!M487=\"\",\"\",Worksheet!M487)","v":""},{"$f":"IF(Worksheet!N487=\"\",\"\",Worksheet!N487)","v":""},{"$f":"IF(Worksheet!Y487=0,\"\",Worksheet!Y487)","v":""},"Watts",null,null,{"$f":"Worksheet!AA487","v":0},{"$f":"IF(ISBLANK(Worksheet!V487)=FALSE,Worksheet!V487,\"\")","v":0},{"$f":"Worksheet!AG487","v":0},{"$f":"Worksheet!AF487","v":0},0,{"$f":"IF(ISERROR(SEARCH(\"Gas\",Worksheet!$A$18))=TRUE,0,Worksheet!AH487)","v":0},0,null,null,{"$f":"IF(OR(Worksheet!F487=\"Incandescent\",Worksheet!F487=\"Halogen Incandescent\")=TRUE,118,IF(LEFT(Worksheet!F487,3)=\"HID\",117,IF(OR(RIGHT(Worksheet!F487,3)=\"T12\",RIGHT(Worksheet!F487,5)=\"T12HO\")=TRUE,115,IF(OR(RIGHT(Worksheet!F487,2)=\"T8\",RIGHT(Worksheet!F487,4)=\"RWT8\",RIGHT(Worksheet!F487,4)=\"T8HO\")=TRUE,115,\"\"))))","v":""},{"$f":"IF(ISBLANK(Worksheet!W487)=FALSE,Worksheet!W487,\"\")","v":0},{"$f":"IF(ISERROR(SEARCH(\"Oil\",Worksheet!$A$18))=TRUE,0,Worksheet!AH487)","v":0},0,{"$f":"IF(ISERROR(SEARCH(\"Propane\",Worksheet!$A$18))=TRUE,0,Worksheet!AH487)","v":0},0,{"$f":"IF(Worksheet!J487=0,\"\",Worksheet!J487)","v":""},{"$f":"IF(Worksheet!B487=0,\"\",Worksheet!B487)","v":""},{"$f":"IF(Worksheet!K487=0,\"\",Worksheet!K487)","v":""},{"$f":"IF(Worksheet!L487=0,\"\",Worksheet!L487)","v":""},{"$f":"IF(Worksheet!R487=0,\"\",Worksheet!R487)","v":""},{"$f":"IF(Worksheet!F487=0,\"\",Worksheet!F487)","v":""},{"$f":"IF(Worksheet!G487=0,\"\",Worksheet!G487)","v":""},{"$f":"IF(Worksheet!X487=0,\"\",Worksheet!X487)","v":""},{"$f":"IF(Worksheet!Q487=0,\"\",Worksheet!Q487)","v":""},{"$f":"IF(Worksheet!C487=0,\"\",Worksheet!C487)","v":""},{"$f":"IF(Worksheet!D487=0,\"\",Worksheet!D487)","v":""},{"$f":"IF(Worksheet!$A$11=TRUE,\"Y\",\"N\")","v":"N"},{"$f":"IF(Worksheet!$A$12=TRUE,\"Y\",\"N\")","v":"N"},{"$f":"IF(Worksheet!$B$11=TRUE,\"Y\",\"N\")","v":"N"},{"$f":"IF(Worksheet!$B$12=TRUE,\"Y\",\"N\")","v":"N"},{"$f":"IF(Worksheet!$C$11=TRUE,\"Y\",\"N\")","v":"N"},{"$f":"IFERROR(Worksheet!AB487,\"\")","v":0}]
[{"$f":"IF(IFERROR(SEARCH(\"Refrigerated\",Worksheet!L488,1),0)>0,122,IF(ISERROR(RIGHT(VLOOKUP(Worksheet!K488,Type!C$1:E$13,3,FALSE),3))=FALSE,RIGHT(VLOOKUP(Worksheet!K488,Type!C$1:E$13,3,FALSE),3),\"\"))","v":""},{"$f":"IF(Worksheet!M488=\"\",\"\",Worksheet!M488)","v":""},{"$f":"IF(Worksheet!N488=\"\",\"\",Worksheet!N488)","v":""},{"$f":"IF(Worksheet!Y488=0,\"\",Worksheet!Y488)","v":""},"Watts",null,null,{"$f":"Worksheet!AA488","v":0},{"$f":"IF(ISBLANK(Worksheet!V488)=FALSE,Worksheet!V488,\"\")","v":0},{"$f":"Worksheet!AG488","v":0},{"$f":"Worksheet!AF488","v":0},0,{"$f":"IF(ISERROR(SEARCH(\"Gas\",Worksheet!$A$18))=TRUE,0,Worksheet!AH488)","v":0},0,null,null,{"$f":"IF(OR(Worksheet!F488=\"Incandescent\",Worksheet!F488=\"Halogen Incandescent\")=TRUE,118,IF(LEFT(Worksheet!F488,3)=\"HID\",117,IF(OR(RIGHT(Worksheet!F488,3)=\"T12\",RIGHT(Worksheet!F488,5)=\"T12HO\")=TRUE,115,IF(OR(RIGHT(Worksheet!F488,2)=\"T8\",RIGHT(Worksheet!F488,4)=\"RWT8\",RIGHT(Worksheet!F488,4)=\"T8HO\")=TRUE,115,\"\"))))","v":""},{"$f":"IF(ISBLANK(Worksheet!W488)=FALSE,Worksheet!W488,\"\")","v":0},{"$f":"IF(ISERROR(SEARCH(\"Oil\",Worksheet!$A$18))=TRUE,0,Worksheet!AH488)","v":0},0,{"$f":"IF(ISERROR(SEARCH(\"Propane\",Worksheet!$A$18))=TRUE,0,Worksheet!AH488)","v":0},0,{"$f":"IF(Worksheet!J488=0,\"\",Worksheet!J488)","v":""},{"$f":"IF(Worksheet!B488=0,\"\",Worksheet!B488)","v":""},{"$f":"IF(Worksheet!K488=0,\"\",Worksheet!K488)","v":""},{"$f":"IF(Worksheet!L488=0,\"\",Worksheet!L488)","v":""},{"$f":"IF(Worksheet!R488=0,\"\",Worksheet!R488)","v":""},{"$f":"IF(Worksheet!F488=0,\"\",Worksheet!F488)","v":""},{"$f":"IF(Worksheet!G488=0,\"\",Worksheet!G488)","v":""},{"$f":"IF(Worksheet!X488=0,\"\",Worksheet!X488)","v":""},{"$f":"IF(Worksheet!Q488=0,\"\",Worksheet!Q488)","v":""},{"$f":"IF(Worksheet!C488=0,\"\",Worksheet!C488)","v":""},{"$f":"IF(Worksheet!D488=0,\"\",Worksheet!D488)","v":""},{"$f":"IF(Worksheet!$A$11=TRUE,\"Y\",\"N\")","v":"N"},{"$f":"IF(Worksheet!$A$12=TRUE,\"Y\",\"N\")","v":"N"},{"$f":"IF(Worksheet!$B$11=TRUE,\"Y\",\"N\")","v":"N"},{"$f":"IF(Worksheet!$B$12=TRUE,\"Y\",\"N\")","v":"N"},{"$f":"IF(Worksheet!$C$11=TRUE,\"Y\",\"N\")","v":"N"},{"$f":"IFERROR(Worksheet!AB488,\"\")","v":0}]
[{"$f":"IF(IFERROR(SEARCH(\"Refrigerated\",Worksheet!L489,1),0)>0,122,IF(ISERROR(RIGHT(VLOOKUP(Worksheet!K489,Type!C$1:E$13,3,FALSE),3))=FALSE,RIGHT(VLOOKUP(Worksheet!K489,Type!C$1:E$13,3,FALSE),3),\"\"))","v":""},{"$f":"IF(Worksheet!M489=\"\",\"\",Worksheet!M489)","v":""},{"$f":"IF(Worksheet!N489=\"\",\"\",Worksheet!N489)","v":""},{"$f":"IF(Worksheet!Y489=0,\"\",Worksheet!Y489)","v":""},"Watts",null,null,{"$f":"Worksheet!AA489","v":0},{"$f":"IF(ISBLANK(Worksheet!V489)=FALSE,Worksheet!V489,\"\")","v":0},{"$f":"Worksheet!AG489","v":0},{"$f":"Worksheet!AF489","v":0},0,{"$f":"IF(ISERROR(SEARCH(\"Gas\",Worksheet!$A$18))=TRUE,0,Worksheet!AH489)","v":0},0,null,null,{"$f":"IF(OR(Worksheet!F489=\"Incandescent\",Worksheet!F489=\"Halogen Incandescent\")=TRUE,118,IF(LEFT(Worksheet!F489,3)=\"HID\",117,IF(OR(RIGHT(Worksheet!F489,3)=\"T12\",RIGHT(Worksheet!F489,5)=\"T12HO\")=TRUE,115,IF(OR(RIGHT(Worksheet!F489,2)=\"T8\",RIGHT(Worksheet!F489,4)=\"RWT8\",RIGHT(Worksheet!F489,4)=\"T8HO\")=TRUE,115,\"\"))))","v":""},{"$f":"IF(ISBLANK(Worksheet!W489)=FALSE,Worksheet!W489,\"\")","v":0},{"$f":"IF(ISERROR(SEARCH(\"Oil\",Worksheet!$A$18))=TRUE,0,Worksheet!AH489)","v":0},0,{"$f":"IF(ISERROR(SEARCH(\"Propane\",Worksheet!$A$18))=TRUE,0,Worksheet!AH489)","v":0},0,{"$f":"IF(Worksheet!J489=0,\"\",Worksheet!J489)","v":""},{"$f":"IF(Worksheet!B489=0,\"\",Worksheet!B489)","v":""},{"$f":"IF(Worksheet!K489=0,\"\",Worksheet!K489)","v":""},{"$f":"IF(Worksheet!L489=0,\"\",Worksheet!L489)","v":""},{"$f":"IF(Worksheet!R489=0,\"\",Worksheet!R489)","v":""},{"$f":"IF(Worksheet!F489=0,\"\",Worksheet!F489)","v":""},{"$f":"IF(Worksheet!G489=0,\"\",Worksheet!G489)","v":""},{"$f":"IF(Worksheet!X489=0,\"\",Worksheet!X489)","v":""},{"$f":"IF(Worksheet!Q489=0,\"\",Worksheet!Q489)","v":""},{"$f":"IF(Worksheet!C489=0,\"\",Worksheet!C489)","v":""},{"$f":"IF(Worksheet!D489=0,\"\",Worksheet!D489)","v":""},{"$f":"IF(Worksheet!$A$11=TRUE,\"Y\",\"N\")","v":"N"},{"$f":"IF(Worksheet!$A$12=TRUE,\"Y\",\"N\")","v":"N"},{"$f":"IF(Worksheet!$B$11=TRUE,\"Y\",\"N\")","v":"N"},{"$f":"IF(Worksheet!$B$12=TRUE,\"Y\",\"N\")","v":"N"},{"$f":"IF(Worksheet!$C$11=TRUE,\"Y\",\"N\")","v":"N"},{"$f":"IFERROR(Worksheet!AB489,\"\")","v":0}]
[{"$f":"IF(IFERROR(SEARCH(\"Refrigerated\",Worksheet!L490,1),0)>0,122,IF(ISERROR(RIGHT(VLOOKUP(Worksheet!K490,Type!C$1:E$13,3,FALSE),3))=FALSE,RIGHT(VLOOKUP(Worksheet!K490,Type!C$1:E$13,3,FALSE),3),\"\"))","v":""},{"$f":"IF(Worksheet!M490=\"\",\"\",Worksheet!M490)","v":""},{"$f":"IF(Worksheet!N490=\"\",\"\",Worksheet!N490)","v":""},{"$f":"IF(Worksheet!Y490=0,\"\",Worksheet!Y490)","v":""},"Watts",null,null,{"$f":"Worksheet!AA490","v":0},{"$f":"IF(ISBLANK(Worksheet!V490)=FALSE,Worksheet!V490,\"\")","v":0},{"$f":"Worksheet!AG490","v":0},{"$f":"Worksheet!AF490","v":0},0,{"$f":"IF(ISERROR(SEARCH(\"Gas\",Worksheet!$A$18))=TRUE,0,Worksheet!AH490)","v":0},0,null,null,{"$f":"IF(OR(Worksheet!F490=\"Incandescent\",Worksheet!F490=\"Halogen Incandescent\")=TRUE,118,IF(LEFT(Worksheet!F490,3)=\"HID\",117,IF(OR(RIGHT(Worksheet!F490,3)=\"T12\",RIGHT(Worksheet!F490,5)=\"T12HO\")=TRUE,115,IF(OR(RIGHT(Worksheet!F490,2)=\"T8\",RIGHT(Worksheet!F490,4)=\"RWT8\",RIGHT(Worksheet!F490,4)=\"T8HO\")=TRUE,115,\"\"))))","v":""},{"$f":"IF(ISBLANK(Worksheet!W490)=FALSE,Worksheet!W490,\"\")","v":0},{"$f":"IF(ISERROR(SEARCH(\"Oil\",Worksheet!$A$18))=TRUE,0,Worksheet!AH490)","v":0},0,{"$f":"IF(ISERROR(SEARCH(\"Propane\",Worksheet!$A$18))=TRUE,0,Worksheet!AH490)","v":0},0,{"$f":"IF(Worksheet!J490=0,\"\",Worksheet!J490)","v":""},{"$f":"IF(Worksheet!B490=0,\"\",Worksheet!B490)","v":""},{"$f":"IF(Worksheet!K490=0,\"\",Worksheet!K490)","v":""},{"$f":"IF(Worksheet!L490=0,\"\",Worksheet!L490)","v":""},{"$f":"IF(Worksheet!R490=0,\"\",Worksheet!R490)","v":""},{"$f":"IF(Worksheet!F490=0,\"\",Worksheet!F490)","v":""},{"$f":"IF(Worksheet!G490=0,\"\",Worksheet!G490)","v":""},{"$f":"IF(Worksheet!X490=0,\"\",Worksheet!X490)","v":""},{"$f":"IF(Worksheet!Q490=0,\"\",Worksheet!Q490)","v":""},{"$f":"IF(Worksheet!C490=0,\"\",Worksheet!C490)","v":""},{"$f":"IF(Worksheet!D490=0,\"\",Worksheet!D490)","v":""},{"$f":"IF(Worksheet!$A$11=TRUE,\"Y\",\"N\")","v":"N"},{"$f":"IF(Worksheet!$A$12=TRUE,\"Y\",\"N\")","v":"N"},{"$f":"IF(Worksheet!$B$11=TRUE,\"Y\",\"N\")","v":"N"},{"$f":"IF(Worksheet!$B$12=TRUE,\"Y\",\"N\")","v":"N"},{"$f":"IF(Worksheet!$C$11=TRUE,\"Y\",\"N\")","v":"N"},{"$f":"IFERROR(Worksheet!AB490,\"\")","v":0}]
[{"$f":"IF(IFERROR(SEARCH(\"Refrigerated\",Worksheet!L491,1),0)>0,122,IF(ISERROR(RIGHT(VLOOKUP(Worksheet!K491,Type!C$1:E$13,3,FALSE),3))=FALSE,RIGHT(VLOOKUP(Worksheet!K491,Type!C$1:E$13,3,FALSE),3),\"\"))","v":""},{"$f":"IF(Worksheet!M491=\"\",\"\",Worksheet!M491)","v":""},{"$f":"IF(Worksheet!N491=\"\",\"\",Worksheet!N491)","v":""},{"$f":"IF(Worksheet!Y491=0,\"\",Worksheet!Y491)","v":""},"Watts",null,null,{"$f":"Worksheet!AA491","v":0},{"$f":"IF(ISBLANK(Worksheet!V491)=FALSE,Worksheet!V491,\"\")","v":0},{"$f":"Worksheet!AG491","v":0},{"$f":"Worksheet!AF491","v":0},0,{"$f":"IF(ISERROR(SEARCH(\"Gas\",Worksheet!$A$18))=TRUE,0,Worksheet!AH491)","v":0},0,null,null,{"$f":"IF(OR(Worksheet!F491=\"Incandescent\",Worksheet!F491=\"Halogen Incandescent\")=TRUE,118,IF(LEFT(Worksheet!F491,3)=\"HID\",117,IF(OR(RIGHT(Worksheet!F491,3)=\"T12\",RIGHT(Worksheet!F491,5)=\"T12HO\")=TRUE,115,IF(OR(RIGHT(Worksheet!F491,2)=\"T8\",RIGHT(Worksheet!F491,4)=\"RWT8\",RIGHT(Worksheet!F491,4)=\"T8HO\")=TRUE,115,\"\"))))","v":""},{"$f":"IF(ISBLANK(Worksheet!W491)=FALSE,Worksheet!W491,\"\")","v":0},{"$f":"IF(ISERROR(SEARCH(\"Oil\",Worksheet!$A$18))=TRUE,0,Worksheet!AH491)","v":0},0,{"$f":"IF(ISERROR(SEARCH(\"Propane\",Worksheet!$A$18))=TRUE,0,Worksheet!AH491)","v":0},0,{"$f":"IF(Worksheet!J491=0,\"\",Worksheet!J491)","v":""},{"$f":"IF(Worksheet!B491=0,\"\",Worksheet!B491)","v":""},{"$f":"IF(Worksheet!K491=0,\"\",Worksheet!K491)","v":""},{"$f":"IF(Worksheet!L491=0,\"\",Worksheet!L491)","v":""},{"$f":"IF(Worksheet!R491=0,\"\",Worksheet!R491)","v":""},{"$f":"IF(Worksheet!F491=0,\"\",Worksheet!F491)","v":""},{"$f":"IF(Worksheet!G491=0,\"\",Worksheet!G491)","v":""},{"$f":"IF(Worksheet!X491=0,\"\",Worksheet!X491)","v":""},{"$f":"IF(Worksheet!Q491=0,\"\",Worksheet!Q491)","v":""},{"$f":"IF(Worksheet!C491=0,\"\",Worksheet!C491)","v":""},{"$f":"IF(Worksheet!D491=0,\"\",Worksheet!D491)","v":""},{"$f":"IF(Worksheet!$A$11=TRUE,\"Y\",\"N\")","v":"N"},{"$f":"IF(Worksheet!$A$12=TRUE,\"Y\",\"N\")","v":"N"},{"$f":"IF(Worksheet!$B$11=TRUE,\"Y\",\"N\")","v":"N"},{"$f":"IF(Worksheet!$B$12=TRUE,\"Y\",\"N\")","v":"N"},{"$f":"IF(Worksheet!$C$11=TRUE,\"Y\",\"N\")","v":"N"},{"$f":"IFERROR(Worksheet!AB491,\"\")","v":0}]
[{"$f":"IF(IFERROR(SEARCH(\"Refrigerated\",Worksheet!L492,1),0)>0,122,IF(ISERROR(RIGHT(VLOOKUP(Worksheet!K492,Type!C$1:E$13,3,FALSE),3))=FALSE,RIGHT(VLOOKUP(Worksheet!K492,Type!C$1:E$13,3,FALSE),3),\"\"))","v":""},{"$f":"IF(Worksheet!M492=\"\",\"\",Worksheet!M492)","v":""},{"$f":"IF(Worksheet!N492=\"\",\"\",Worksheet!N492)","v":""},{"$f":"IF(Worksheet!Y492=0,\"\",Worksheet!Y492)","v":""},"Watts",null,null,{"$f":"Worksheet!AA492","v":0},{"$f":"IF(ISBLANK(Worksheet!V492)=FALSE,Worksheet!V492,\"\")","v":0},{"$f":"Worksheet!AG492","v":0},{"$f":"Worksheet!AF492","v":0},0,{"$f":"IF(ISERROR(SEARCH(\"Gas\",Worksheet!$A$18))=TRUE,0,Worksheet!AH492)","v":0},0,null,null,{"$f":"IF(OR(Worksheet!F492=\"Incandescent\",Worksheet!F492=\"Halogen Incandescent\")=TRUE,118,IF(LEFT(Worksheet!F492,3)=\"HID\",117,IF(OR(RIGHT(Worksheet!F492,3)=\"T12\",RIGHT(Worksheet!F492,5)=\"T12HO\")=TRUE,115,IF(OR(RIGHT(Worksheet!F492,2)=\"T8\",RIGHT(Worksheet!F492,4)=\"RWT8\",RIGHT(Worksheet!F492,4)=\"T8HO\")=TRUE,115,\"\"))))","v":""},{"$f":"IF(ISBLANK(Worksheet!W492)=FALSE,Worksheet!W492,\"\")","v":0},{"$f":"IF(ISERROR(SEARCH(\"Oil\",Worksheet!$A$18))=TRUE,0,Worksheet!AH492)","v":0},0,{"$f":"IF(ISERROR(SEARCH(\"Propane\",Worksheet!$A$18))=TRUE,0,Worksheet!AH492)","v":0},0,{"$f":"IF(Worksheet!J492=0,\"\",Worksheet!J492)","v":""},{"$f":"IF(Worksheet!B492=0,\"\",Worksheet!B492)","v":""},{"$f":"IF(Worksheet!K492=0,\"\",Worksheet!K492)","v":""},{"$f":"IF(Worksheet!L492=0,\"\",Worksheet!L492)","v":""},{"$f":"IF(Worksheet!R492=0,\"\",Worksheet!R492)","v":""},{"$f":"IF(Worksheet!F492=0,\"\",Worksheet!F492)","v":""},{"$f":"IF(Worksheet!G492=0,\"\",Worksheet!G492)","v":""},{"$f":"IF(Worksheet!X492=0,\"\",Worksheet!X492)","v":""},{"$f":"IF(Worksheet!Q492=0,\"\",Worksheet!Q492)","v":""},{"$f":"IF(Worksheet!C492=0,\"\",Worksheet!C492)","v":""},{"$f":"IF(Worksheet!D492=0,\"\",Worksheet!D492)","v":""},{"$f":"IF(Worksheet!$A$11=TRUE,\"Y\",\"N\")","v":"N"},{"$f":"IF(Worksheet!$A$12=TRUE,\"Y\",\"N\")","v":"N"},{"$f":"IF(Worksheet!$B$11=TRUE,\"Y\",\"N\")","v":"N"},{"$f":"IF(Worksheet!$B$12=TRUE,\"Y\",\"N\")","v":"N"},{"$f":"IF(Worksheet!$C$11=TRUE,\"Y\",\"N\")","v":"N"},{"$f":"IFERROR(Worksheet!AB492,\"\")","v":0}]
[{"$f":"IF(IFERROR(SEARCH(\"Refrigerated\",Worksheet!L493,1),0)>0,122,IF(ISERROR(RIGHT(VLOOKUP(Worksheet!K493,Type!C$1:E$13,3,FALSE),3))=FALSE,RIGHT(VLOOKUP(Worksheet!K493,Type!C$1:E$13,3,FALSE),3),\"\"))","v":""},{"$f":"IF(Worksheet!M493=\"\",\"\",Worksheet!M493)","v":""},{"$f":"IF(Worksheet!N493=\"\",\"\",Worksheet!N493)","v":""},{"$f":"IF(Worksheet!Y493=0,\"\",Worksheet!Y493)","v":""},"Watts",null,null,{"$f":"Worksheet!AA493","v":0},{"$f":"IF(ISBLANK(Worksheet!V493)=FALSE,Worksheet!V493,\"\")","v":0},{"$f":"Worksheet!AG493","v":0},{"$f":"Worksheet!AF493","v":0},0,{"$f":"IF(ISERROR(SEARCH(\"Gas\",Worksheet!$A$18))=TRUE,0,Worksheet!AH493)","v":0},0,null,null,{"$f":"IF(OR(Worksheet!F493=\"Incandescent\",Worksheet!F493=\"Halogen Incandescent\")=TRUE,118,IF(LEFT(Worksheet!F493,3)=\"HID\",117,IF(OR(RIGHT(Worksheet!F493,3)=\"T12\",RIGHT(Worksheet!F493,5)=\"T12HO\")=TRUE,115,IF(OR(RIGHT(Worksheet!F493,2)=\"T8\",RIGHT(Worksheet!F493,4)=\"RWT8\",RIGHT(Worksheet!F493,4)=\"T8HO\")=TRUE,115,\"\"))))","v":""},{"$f":"IF(ISBLANK(Worksheet!W493)=FALSE,Worksheet!W493,\"\")","v":0},{"$f":"IF(ISERROR(SEARCH(\"Oil\",Worksheet!$A$18))=TRUE,0,Worksheet!AH493)","v":0},0,{"$f":"IF(ISERROR(SEARCH(\"Propane\",Worksheet!$A$18))=TRUE,0,Worksheet!AH493)","v":0},0,{"$f":"IF(Worksheet!J493=0,\"\",Worksheet!J493)","v":""},{"$f":"IF(Worksheet!B493=0,\"\",Worksheet!B493)","v":""},{"$f":"IF(Worksheet!K493=0,\"\",Worksheet!K493)","v":""},{"$f":"IF(Worksheet!L493=0,\"\",Worksheet!L493)","v":""},{"$f":"IF(Worksheet!R493=0,\"\",Worksheet!R493)","v":""},{"$f":"IF(Worksheet!F493=0,\"\",Worksheet!F493)","v":""},{"$f":"IF(Worksheet!G493=0,\"\",Worksheet!G493)","v":""},{"$f":"IF(Worksheet!X493=0,\"\",Worksheet!X493)","v":""},{"$f":"IF(Worksheet!Q493=0,\"\",Worksheet!Q493)","v":""},{"$f":"IF(Worksheet!C493=0,\"\",Worksheet!C493)","v":""},{"$f":"IF(Worksheet!D493=0,\"\",Worksheet!D493)","v":""},{"$f":"IF(Worksheet!$A$11=TRUE,\"Y\",\"N\")","v":"N"},{"$f":"IF(Worksheet!$A$12=TRUE,\"Y\",\"N\")","v":"N"},{"$f":"IF(Worksheet!$B$11=TRUE,\"Y\",\"N\")","v":"N"},{"$f":"IF(Worksheet!$B$12=TRUE,\"Y\",\"N\")","v":"N"},{"$f":"IF(Worksheet!$C$11=TRUE,\"Y\",\"N\")","v":"N"},{"$f":"IFERROR(Worksheet!AB493,\"\")","v":0}]
[{"$f":"IF(IFERROR(SEARCH(\"Refrigerated\",Worksheet!L494,1),0)>0,122,IF(ISERROR(RIGHT(VLOOKUP(Worksheet!K494,Type!C$1:E$13,3,FALSE),3))=FALSE,RIGHT(VLOOKUP(Worksheet!K494,Type!C$1:E$13,3,FALSE),3),\"\"))","v":""},{"$f":"IF(Worksheet!M494=\"\",\"\",Worksheet!M494)","v":""},{"$f":"IF(Worksheet!N494=\"\",\"\",Worksheet!N494)","v":""},{"$f":"IF(Worksheet!Y494=0,\"\",Worksheet!Y494)","v":""},"Watts",null,null,{"$f":"Worksheet!AA494","v":0},{"$f":"IF(ISBLANK(Worksheet!V494)=FALSE,Worksheet!V494,\"\")","v":0},{"$f":"Worksheet!AG494","v":0},{"$f":"Worksheet!AF494","v":0},0,{"$f":"IF(ISERROR(SEARCH(\"Gas\",Worksheet!$A$18))=TRUE,0,Worksheet!AH494)","v":0},0,null,null,{"$f":"IF(OR(Worksheet!F494=\"Incandescent\",Worksheet!F494=\"Halogen Incandescent\")=TRUE,118,IF(LEFT(Worksheet!F494,3)=\"HID\",117,IF(OR(RIGHT(Worksheet!F494,3)=\"T12\",RIGHT(Worksheet!F494,5)=\"T12HO\")=TRUE,115,IF(OR(RIGHT(Worksheet!F494,2)=\"T8\",RIGHT(Worksheet!F494,4)=\"RWT8\",RIGHT(Worksheet!F494,4)=\"T8HO\")=TRUE,115,\"\"))))","v":""},{"$f":"IF(ISBLANK(Worksheet!W494)=FALSE,Worksheet!W494,\"\")","v":0},{"$f":"IF(ISERROR(SEARCH(\"Oil\",Worksheet!$A$18))=TRUE,0,Worksheet!AH494)","v":0},0,{"$f":"IF(ISERROR(SEARCH(\"Propane\",Worksheet!$A$18))=TRUE,0,Worksheet!AH494)","v":0},0,{"$f":"IF(Worksheet!J494=0,\"\",Worksheet!J494)","v":""},{"$f":"IF(Worksheet!B494=0,\"\",Worksheet!B494)","v":""},{"$f":"IF(Worksheet!K494=0,\"\",Worksheet!K494)","v":""},{"$f":"IF(Worksheet!L494=0,\"\",Worksheet!L494)","v":""},{"$f":"IF(Worksheet!R494=0,\"\",Worksheet!R494)","v":""},{"$f":"IF(Worksheet!F494=0,\"\",Worksheet!F494)","v":""},{"$f":"IF(Worksheet!G494=0,\"\",Worksheet!G494)","v":""},{"$f":"IF(Worksheet!X494=0,\"\",Worksheet!X494)","v":""},{"$f":"IF(Worksheet!Q494=0,\"\",Worksheet!Q494)","v":""},{"$f":"IF(Worksheet!C494=0,\"\",Worksheet!C494)","v":""},{"$f":"IF(Worksheet!D494=0,\"\",Worksheet!D494)","v":""},{"$f":"IF(Worksheet!$A$11=TRUE,\"Y\",\"N\")","v":"N"},{"$f":"IF(Worksheet!$A$12=TRUE,\"Y\",\"N\")","v":"N"},{"$f":"IF(Worksheet!$B$11=TRUE,\"Y\",\"N\")","v":"N"},{"$f":"IF(Worksheet!$B$12=TRUE,\"Y\",\"N\")","v":"N"},{"$f":"IF(Worksheet!$C$11=TRUE,\"Y\",\"N\")","v":"N"},{"$f":"IFERROR(Worksheet!AB494,\"\")","v":0}]
[{"$f":"IF(IFERROR(SEARCH(\"Refrigerated\",Worksheet!L495,1),0)>0,122,IF(ISERROR(RIGHT(VLOOKUP(Worksheet!K495,Type!C$1:E$13,3,FALSE),3))=FALSE,RIGHT(VLOOKUP(Worksheet!K495,Type!C$1:E$13,3,FALSE),3),\"\"))","v":""},{"$f":"IF(Worksheet!M495=\"\",\"\",Worksheet!M495)","v":""},{"$f":"IF(Worksheet!N495=\"\",\"\",Worksheet!N495)","v":""},{"$f":"IF(Worksheet!Y495=0,\"\",Worksheet!Y495)","v":""},"Watts",null,null,{"$f":"Worksheet!AA495","v":0},{"$f":"IF(ISBLANK(Worksheet!V495)=FALSE,Worksheet!V495,\"\")","v":0},{"$f":"Worksheet!AG495","v":0},{"$f":"Worksheet!AF495","v":0},0,{"$f":"IF(ISERROR(SEARCH(\"Gas\",Worksheet!$A$18))=TRUE,0,Worksheet!AH495)","v":0},0,null,null,{"$f":"IF(OR(Worksheet!F495=\"Incandescent\",Worksheet!F495=\"Halogen Incandescent\")=TRUE,118,IF(LEFT(Worksheet!F495,3)=\"HID\",117,IF(OR(RIGHT(Worksheet!F495,3)=\"T12\",RIGHT(Worksheet!F495,5)=\"T12HO\")=TRUE,115,IF(OR(RIGHT(Worksheet!F495,2)=\"T8\",RIGHT(Worksheet!F495,4)=\"RWT8\",RIGHT(Worksheet!F495,4)=\"T8HO\")=TRUE,115,\"\"))))","v":""},{"$f":"IF(ISBLANK(Worksheet!W495)=FALSE,Worksheet!W495,\"\")","v":0},{"$f":"IF(ISERROR(SEARCH(\"Oil\",Worksheet!$A$18))=TRUE,0,Worksheet!AH495)","v":0},0,{"$f":"IF(ISERROR(SEARCH(\"Propane\",Worksheet!$A$18))=TRUE,0,Worksheet!AH495)","v":0},0,{"$f":"IF(Worksheet!J495=0,\"\",Worksheet!J495)","v":""},{"$f":"IF(Worksheet!B495=0,\"\",Worksheet!B495)","v":""},{"$f":"IF(Worksheet!K495=0,\"\",Worksheet!K495)","v":""},{"$f":"IF(Worksheet!L495=0,\"\",Worksheet!L495)","v":""},{"$f":"IF(Worksheet!R495=0,\"\",Worksheet!R495)","v":""},{"$f":"IF(Worksheet!F495=0,\"\",Worksheet!F495)","v":""},{"$f":"IF(Worksheet!G495=0,\"\",Worksheet!G495)","v":""},{"$f":"IF(Worksheet!X495=0,\"\",Worksheet!X495)","v":""},{"$f":"IF(Worksheet!Q495=0,\"\",Worksheet!Q495)","v":""},{"$f":"IF(Worksheet!C495=0,\"\",Worksheet!C495)","v":""},{"$f":"IF(Worksheet!D495=0,\"\",Worksheet!D495)","v":""},{"$f":"IF(Worksheet!$A$11=TRUE,\"Y\",\"N\")","v":"N"},{"$f":"IF(Worksheet!$A$12=TRUE,\"Y\",\"N\")","v":"N"},{"$f":"IF(Worksheet!$B$11=TRUE,\"Y\",\"N\")","v":"N"},{"$f":"IF(Worksheet!$B$12=TRUE,\"Y\",\"N\")","v":"N"},{"$f":"IF(Worksheet!$C$11=TRUE,\"Y\",\"N\")","v":"N"},{"$f":"IFERROR(Worksheet!AB495,\"\")","v":0}]
[{"$f":"IF(IFERROR(SEARCH(\"Refrigerated\",Worksheet!L496,1),0)>0,122,IF(ISERROR(RIGHT(VLOOKUP(Worksheet!K496,Type!C$1:E$13,3,FALSE),3))=FALSE,RIGHT(VLOOKUP(Worksheet!K496,Type!C$1:E$13,3,FALSE),3),\"\"))","v":""},{"$f":"IF(Worksheet!M496=\"\",\"\",Worksheet!M496)","v":""},{"$f":"IF(Worksheet!N496=\"\",\"\",Worksheet!N496)","v":""},{"$f":"IF(Worksheet!Y496=0,\"\",Worksheet!Y496)","v":""},"Watts",null,null,{"$f":"Worksheet!AA496","v":0},{"$f":"IF(ISBLANK(Worksheet!V496)=FALSE,Worksheet!V496,\"\")","v":0},{"$f":"Worksheet!AG496","v":0},{"$f":"Worksheet!AF496","v":0},0,{"$f":"IF(ISERROR(SEARCH(\"Gas\",Worksheet!$A$18))=TRUE,0,Worksheet!AH496)","v":0},0,null,null,{"$f":"IF(OR(Worksheet!F496=\"Incandescent\",Worksheet!F496=\"Halogen Incandescent\")=TRUE,118,IF(LEFT(Worksheet!F496,3)=\"HID\",117,IF(OR(RIGHT(Worksheet!F496,3)=\"T12\",RIGHT(Worksheet!F496,5)=\"T12HO\")=TRUE,115,IF(OR(RIGHT(Worksheet!F496,2)=\"T8\",RIGHT(Worksheet!F496,4)=\"RWT8\",RIGHT(Worksheet!F496,4)=\"T8HO\")=TRUE,115,\"\"))))","v":""},{"$f":"IF(ISBLANK(Worksheet!W496)=FALSE,Worksheet!W496,\"\")","v":0},{"$f":"IF(ISERROR(SEARCH(\"Oil\",Worksheet!$A$18))=TRUE,0,Worksheet!AH496)","v":0},0,{"$f":"IF(ISERROR(SEARCH(\"Propane\",Worksheet!$A$18))=TRUE,0,Worksheet!AH496)","v":0},0,{"$f":"IF(Worksheet!J496=0,\"\",Worksheet!J496)","v":""},{"$f":"IF(Worksheet!B496=0,\"\",Worksheet!B496)","v":""},{"$f":"IF(Worksheet!K496=0,\"\",Worksheet!K496)","v":""},{"$f":"IF(Worksheet!L496=0,\"\",Worksheet!L496)","v":""},{"$f":"IF(Worksheet!R496=0,\"\",Worksheet!R496)","v":""},{"$f":"IF(Worksheet!F496=0,\"\",Worksheet!F496)","v":""},{"$f":"IF(Worksheet!G496=0,\"\",Worksheet!G496)","v":""},{"$f":"IF(Worksheet!X496=0,\"\",Worksheet!X496)","v":""},{"$f":"IF(Worksheet!Q496=0,\"\",Worksheet!Q496)","v":""},{"$f":"IF(Worksheet!C496=0,\"\",Worksheet!C496)","v":""},{"$f":"IF(Worksheet!D496=0,\"\",Worksheet!D496)","v":""},{"$f":"IF(Worksheet!$A$11=TRUE,\"Y\",\"N\")","v":"N"},{"$f":"IF(Worksheet!$A$12=TRUE,\"Y\",\"N\")","v":"N"},{"$f":"IF(Worksheet!$B$11=TRUE,\"Y\",\"N\")","v":"N"},{"$f":"IF(Worksheet!$B$12=TRUE,\"Y\",\"N\")","v":"N"},{"$f":"IF(Worksheet!$C$11=TRUE,\"Y\",\"N\")","v":"N"},{"$f":"IFERROR(Worksheet!AB496,\"\")","v":0}]
[{"$f":"IF(IFERROR(SEARCH(\"Refrigerated\",Worksheet!L497,1),0)>0,122,IF(ISERROR(RIGHT(VLOOKUP(Worksheet!K497,Type!C$1:E$13,3,FALSE),3))=FALSE,RIGHT(VLOOKUP(Worksheet!K497,Type!C$1:E$13,3,FALSE),3),\"\"))","v":""},{"$f":"IF(Worksheet!M497=\"\",\"\",Worksheet!M497)","v":""},{"$f":"IF(Worksheet!N497=\"\",\"\",Worksheet!N497)","v":""},{"$f":"IF(Worksheet!Y497=0,\"\",Worksheet!Y497)","v":""},"Watts",null,null,{"$f":"Worksheet!AA497","v":0},{"$f":"IF(ISBLANK(Worksheet!V497)=FALSE,Worksheet!V497,\"\")","v":0},{"$f":"Worksheet!AG497","v":0},{"$f":"Worksheet!AF497","v":0},0,{"$f":"IF(ISERROR(SEARCH(\"Gas\",Worksheet!$A$18))=TRUE,0,Worksheet!AH497)","v":0},0,null,null,{"$f":"IF(OR(Worksheet!F497=\"Incandescent\",Worksheet!F497=\"Halogen Incandescent\")=TRUE,118,IF(LEFT(Worksheet!F497,3)=\"HID\",117,IF(OR(RIGHT(Worksheet!F497,3)=\"T12\",RIGHT(Worksheet!F497,5)=\"T12HO\")=TRUE,115,IF(OR(RIGHT(Worksheet!F497,2)=\"T8\",RIGHT(Worksheet!F497,4)=\"RWT8\",RIGHT(Worksheet!F497,4)=\"T8HO\")=TRUE,115,\"\"))))","v":""},{"$f":"IF(ISBLANK(Worksheet!W497)=FALSE,Worksheet!W497,\"\")","v":0},{"$f":"IF(ISERROR(SEARCH(\"Oil\",Worksheet!$A$18))=TRUE,0,Worksheet!AH497)","v":0},0,{"$f":"IF(ISERROR(SEARCH(\"Propane\",Worksheet!$A$18))=TRUE,0,Worksheet!AH497)","v":0},0,{"$f":"IF(Worksheet!J497=0,\"\",Worksheet!J497)","v":""},{"$f":"IF(Worksheet!B497=0,\"\",Worksheet!B497)","v":""},{"$f":"IF(Worksheet!K497=0,\"\",Worksheet!K497)","v":""},{"$f":"IF(Worksheet!L497=0,\"\",Worksheet!L497)","v":""},{"$f":"IF(Worksheet!R497=0,\"\",Worksheet!R497)","v":""},{"$f":"IF(Worksheet!F497=0,\"\",Worksheet!F497)","v":""},{"$f":"IF(Worksheet!G497=0,\"\",Worksheet!G497)","v":""},{"$f":"IF(Worksheet!X497=0,\"\",Worksheet!X497)","v":""},{"$f":"IF(Worksheet!Q497=0,\"\",Worksheet!Q497)","v":""},{"$f":"IF(Worksheet!C497=0,\"\",Worksheet!C497)","v":""},{"$f":"IF(Worksheet!D497=0,\"\",Worksheet!D497)","v":""},{"$f":"IF(Worksheet!$A$11=TRUE,\"Y\",\"N\")","v":"N"},{"$f":"IF(Worksheet!$A$12=TRUE,\"Y\",\"N\")","v":"N"},{"$f":"IF(Worksheet!$B$11=TRUE,\"Y\",\"N\")","v":"N"},{"$f":"IF(Worksheet!$B$12=TRUE,\"Y\",\"N\")","v":"N"},{"$f":"IF(Worksheet!$C$11=TRUE,\"Y\",\"N\")","v":"N"},{"$f":"IFERROR(Worksheet!AB497,\"\")","v":0}]
[{"$f":"IF(IFERROR(SEARCH(\"Refrigerated\",Worksheet!L498,1),0)>0,122,IF(ISERROR(RIGHT(VLOOKUP(Worksheet!K498,Type!C$1:E$13,3,FALSE),3))=FALSE,RIGHT(VLOOKUP(Worksheet!K498,Type!C$1:E$13,3,FALSE),3),\"\"))","v":""},{"$f":"IF(Worksheet!M498=\"\",\"\",Worksheet!M498)","v":""},{"$f":"IF(Worksheet!N498=\"\",\"\",Worksheet!N498)","v":""},{"$f":"IF(Worksheet!Y498=0,\"\",Worksheet!Y498)","v":""},"Watts",null,null,{"$f":"Worksheet!AA498","v":0},{"$f":"IF(ISBLANK(Worksheet!V498)=FALSE,Worksheet!V498,\"\")","v":0},{"$f":"Worksheet!AG498","v":0},{"$f":"Worksheet!AF498","v":0},0,{"$f":"IF(ISERROR(SEARCH(\"Gas\",Worksheet!$A$18))=TRUE,0,Worksheet!AH498)","v":0},0,null,null,{"$f":"IF(OR(Worksheet!F498=\"Incandescent\",Worksheet!F498=\"Halogen Incandescent\")=TRUE,118,IF(LEFT(Worksheet!F498,3)=\"HID\",117,IF(OR(RIGHT(Worksheet!F498,3)=\"T12\",RIGHT(Worksheet!F498,5)=\"T12HO\")=TRUE,115,IF(OR(RIGHT(Worksheet!F498,2)=\"T8\",RIGHT(Worksheet!F498,4)=\"RWT8\",RIGHT(Worksheet!F498,4)=\"T8HO\")=TRUE,115,\"\"))))","v":""},{"$f":"IF(ISBLANK(Worksheet!W498)=FALSE,Worksheet!W498,\"\")","v":0},{"$f":"IF(ISERROR(SEARCH(\"Oil\",Worksheet!$A$18))=TRUE,0,Worksheet!AH498)","v":0},0,{"$f":"IF(ISERROR(SEARCH(\"Propane\",Worksheet!$A$18))=TRUE,0,Worksheet!AH498)","v":0},0,{"$f":"IF(Worksheet!J498=0,\"\",Worksheet!J498)","v":""},{"$f":"IF(Worksheet!B498=0,\"\",Worksheet!B498)","v":""},{"$f":"IF(Worksheet!K498=0,\"\",Worksheet!K498)","v":""},{"$f":"IF(Worksheet!L498=0,\"\",Worksheet!L498)","v":""},{"$f":"IF(Worksheet!R498=0,\"\",Worksheet!R498)","v":""},{"$f":"IF(Worksheet!F498=0,\"\",Worksheet!F498)","v":""},{"$f":"IF(Worksheet!G498=0,\"\",Worksheet!G498)","v":""},{"$f":"IF(Worksheet!X498=0,\"\",Worksheet!X498)","v":""},{"$f":"IF(Worksheet!Q498=0,\"\",Worksheet!Q498)","v":""},{"$f":"IF(Worksheet!C498=0,\"\",Worksheet!C498)","v":""},{"$f":"IF(Worksheet!D498=0,\"\",Worksheet!D498)","v":""},{"$f":"IF(Worksheet!$A$11=TRUE,\"Y\",\"N\")","v":"N"},{"$f":"IF(Worksheet!$A$12=TRUE,\"Y\",\"N\")","v":"N"},{"$f":"IF(Worksheet!$B$11=TRUE,\"Y\",\"N\")","v":"N"},{"$f":"IF(Worksheet!$B$12=TRUE,\"Y\",\"N\")","v":"N"},{"$f":"IF(Worksheet!$C$11=TRUE,\"Y\",\"N\")","v":"N"},{"$f":"IFERROR(Worksheet!AB498,\"\")","v":0}]
[{"$f":"IF(IFERROR(SEARCH(\"Refrigerated\",Worksheet!L499,1),0)>0,122,IF(ISERROR(RIGHT(VLOOKUP(Worksheet!K499,Type!C$1:E$13,3,FALSE),3))=FALSE,RIGHT(VLOOKUP(Worksheet!K499,Type!C$1:E$13,3,FALSE),3),\"\"))","v":""},{"$f":"IF(Worksheet!M499=\"\",\"\",Worksheet!M499)","v":""},{"$f":"IF(Worksheet!N499=\"\",\"\",Worksheet!N499)","v":""},{"$f":"IF(Worksheet!Y499=0,\"\",Worksheet!Y499)","v":""},"Watts",null,null,{"$f":"Worksheet!AA499","v":0},{"$f":"IF(ISBLANK(Worksheet!V499)=FALSE,Worksheet!V499,\"\")","v":0},{"$f":"Worksheet!AG499","v":0},{"$f":"Worksheet!AF499","v":0},0,{"$f":"IF(ISERROR(SEARCH(\"Gas\",Worksheet!$A$18))=TRUE,0,Worksheet!AH499)","v":0},0,null,null,{"$f":"IF(OR(Worksheet!F499=\"Incandescent\",Worksheet!F499=\"Halogen Incandescent\")=TRUE,118,IF(LEFT(Worksheet!F499,3)=\"HID\",117,IF(OR(RIGHT(Worksheet!F499,3)=\"T12\",RIGHT(Worksheet!F499,5)=\"T12HO\")=TRUE,115,IF(OR(RIGHT(Worksheet!F499,2)=\"T8\",RIGHT(Worksheet!F499,4)=\"RWT8\",RIGHT(Worksheet!F499,4)=\"T8HO\")=TRUE,115,\"\"))))","v":""},{"$f":"IF(ISBLANK(Worksheet!W499)=FALSE,Worksheet!W499,\"\")","v":0},{"$f":"IF(ISERROR(SEARCH(\"Oil\",Worksheet!$A$18))=TRUE,0,Worksheet!AH499)","v":0},0,{"$f":"IF(ISERROR(SEARCH(\"Propane\",Worksheet!$A$18))=TRUE,0,Worksheet!AH499)","v":0},0,{"$f":"IF(Worksheet!J499=0,\"\",Worksheet!J499)","v":""},{"$f":"IF(Worksheet!B499=0,\"\",Worksheet!B499)","v":""},{"$f":"IF(Worksheet!K499=0,\"\",Worksheet!K499)","v":""},{"$f":"IF(Worksheet!L499=0,\"\",Worksheet!L499)","v":""},{"$f":"IF(Worksheet!R499=0,\"\",Worksheet!R499)","v":""},{"$f":"IF(Worksheet!F499=0,\"\",Worksheet!F499)","v":""},{"$f":"IF(Worksheet!G499=0,\"\",Worksheet!G499)","v":""},{"$f":"IF(Worksheet!X499=0,\"\",Worksheet!X499)","v":""},{"$f":"IF(Worksheet!Q499=0,\"\",Worksheet!Q499)","v":""},{"$f":"IF(Worksheet!C499=0,\"\",Worksheet!C499)","v":""},{"$f":"IF(Worksheet!D499=0,\"\",Worksheet!D499)","v":""},{"$f":"IF(Worksheet!$A$11=TRUE,\"Y\",\"N\")","v":"N"},{"$f":"IF(Worksheet!$A$12=TRUE,\"Y\",\"N\")","v":"N"},{"$f":"IF(Worksheet!$B$11=TRUE,\"Y\",\"N\")","v":"N"},{"$f":"IF(Worksheet!$B$12=TRUE,\"Y\",\"N\")","v":"N"},{"$f":"IF(Worksheet!$C$11=TRUE,\"Y\",\"N\")","v":"N"},{"$f":"IFERROR(Worksheet!AB499,\"\")","v":0}]
[{"$f":"IF(IFERROR(SEARCH(\"Refrigerated\",Worksheet!L500,1),0)>0,122,IF(ISERROR(RIGHT(VLOOKUP(Worksheet!K500,Type!C$1:E$13,3,FALSE),3))=FALSE,RIGHT(VLOOKUP(Worksheet!K500,Type!C$1:E$13,3,FALSE),3),\"\"))","v":""},{"$f":"IF(Worksheet!M500=\"\",\"\",Worksheet!M500)","v":""},{"$f":"IF(Worksheet!N500=\"\",\"\",Worksheet!N500)","v":""},{"$f":"IF(Worksheet!Y500=0,\"\",Worksheet!Y500)","v":""},"Watts",null,null,{"$f":"Worksheet!AA500","v":0},{"$f":"IF(ISBLANK(Worksheet!V500)=FALSE,Worksheet!V500,\"\")","v":0},{"$f":"Worksheet!AG500","v":0},{"$f":"Worksheet!AF500","v":0},0,{"$f":"IF(ISERROR(SEARCH(\"Gas\",Worksheet!$A$18))=TRUE,0,Worksheet!AH500)","v":0},0,null,null,{"$f":"IF(OR(Worksheet!F500=\"Incandescent\",Worksheet!F500=\"Halogen Incandescent\")=TRUE,118,IF(LEFT(Worksheet!F500,3)=\"HID\",117,IF(OR(RIGHT(Worksheet!F500,3)=\"T12\",RIGHT(Worksheet!F500,5)=\"T12HO\")=TRUE,115,IF(OR(RIGHT(Worksheet!F500,2)=\"T8\",RIGHT(Worksheet!F500,4)=\"RWT8\",RIGHT(Worksheet!F500,4)=\"T8HO\")=TRUE,115,\"\"))))","v":""},{"$f":"IF(ISBLANK(Worksheet!W500)=FALSE,Worksheet!W500,\"\")","v":0},{"$f":"IF(ISERROR(SEARCH(\"Oil\",Worksheet!$A$18))=TRUE,0,Worksheet!AH500)","v":0},0,{"$f":"IF(ISERROR(SEARCH(\"Propane\",Worksheet!$A$18))=TRUE,0,Worksheet!AH500)","v":0},0,{"$f":"IF(Worksheet!J500=0,\"\",Worksheet!J500)","v":""},{"$f":"IF(Worksheet!B500=0,\"\",Worksheet!B500)","v":""},{"$f":"IF(Worksheet!K500=0,\"\",Worksheet!K500)","v":""},{"$f":"IF(Worksheet!L500=0,\"\",Worksheet!L500)","v":""},{"$f":"IF(Worksheet!R500=0,\"\",Worksheet!R500)","v":""},{"$f":"IF(Worksheet!F500=0,\"\",Worksheet!F500)","v":""},{"$f":"IF(Worksheet!G500=0,\"\",Worksheet!G500)","v":""},{"$f":"IF(Worksheet!X500=0,\"\",Worksheet!X500)","v":""},{"$f":"IF(Worksheet!Q500=0,\"\",Worksheet!Q500)","v":""},{"$f":"IF(Worksheet!C500=0,\"\",Worksheet!C500)","v":""},{"$f":"IF(Worksheet!D500=0,\"\",Worksheet!D500)","v":""},{"$f":"IF(Worksheet!$A$11=TRUE,\"Y\",\"N\")","v":"N"},{"$f":"IF(Worksheet!$A$12=TRUE,\"Y\",\"N\")","v":"N"},{"$f":"IF(Worksheet!$B$11=TRUE,\"Y\",\"N\")","v":"N"},{"$f":"IF(Worksheet!$B$12=TRUE,\"Y\",\"N\")","v":"N"},{"$f":"IF(Worksheet!$C$11=TRUE,\"Y\",\"N\")","v":"N"},{"$f":"IFERROR(Worksheet!AB500,\"\")","v":0}]
[{"$f":"IF(IFERROR(SEARCH(\"Refrigerated\",Worksheet!L501,1),0)>0,122,IF(ISERROR(RIGHT(VLOOKUP(Worksheet!K501,Type!C$1:E$13,3,FALSE),3))=FALSE,RIGHT(VLOOKUP(Worksheet!K501,Type!C$1:E$13,3,FALSE),3),\"\"))","v":""},{"$f":"IF(Worksheet!M501=\"\",\"\",Worksheet!M501)","v":""},{"$f":"IF(Worksheet!N501=\"\",\"\",Worksheet!N501)","v":""},{"$f":"IF(Worksheet!Y501=0,\"\",Worksheet!Y501)","v":""},"Watts",null,null,{"$f":"Worksheet!AA501","v":0},{"$f":"IF(ISBLANK(Worksheet!V501)=FALSE,Worksheet!V501,\"\")","v":0},{"$f":"Worksheet!AG501","v":0},{"$f":"Worksheet!AF501","v":0},0,{"$f":"IF(ISERROR(SEARCH(\"Gas\",Worksheet!$A$18))=TRUE,0,Worksheet!AH501)","v":0},0,null,null,{"$f":"IF(OR(Worksheet!F501=\"Incandescent\",Worksheet!F501=\"Halogen Incandescent\")=TRUE,118,IF(LEFT(Worksheet!F501,3)=\"HID\",117,IF(OR(RIGHT(Worksheet!F501,3)=\"T12\",RIGHT(Worksheet!F501,5)=\"T12HO\")=TRUE,115,IF(OR(RIGHT(Worksheet!F501,2)=\"T8\",RIGHT(Worksheet!F501,4)=\"RWT8\",RIGHT(Worksheet!F501,4)=\"T8HO\")=TRUE,115,\"\"))))","v":""},{"$f":"IF(ISBLANK(Worksheet!W501)=FALSE,Worksheet!W501,\"\")","v":0},{"$f":"IF(ISERROR(SEARCH(\"Oil\",Worksheet!$A$18))=TRUE,0,Worksheet!AH501)","v":0},0,{"$f":"IF(ISERROR(SEARCH(\"Propane\",Worksheet!$A$18))=TRUE,0,Worksheet!AH501)","v":0},0,{"$f":"IF(Worksheet!J501=0,\"\",Worksheet!J501)","v":""},{"$f":"IF(Worksheet!B501=0,\"\",Worksheet!B501)","v":""},{"$f":"IF(Worksheet!K501=0,\"\",Worksheet!K501)","v":""},{"$f":"IF(Worksheet!L501=0,\"\",Worksheet!L501)","v":""},{"$f":"IF(Worksheet!R501=0,\"\",Worksheet!R501)","v":""},{"$f":"IF(Worksheet!F501=0,\"\",Worksheet!F501)","v":""},{"$f":"IF(Worksheet!G501=0,\"\",Worksheet!G501)","v":""},{"$f":"IF(Worksheet!X501=0,\"\",Worksheet!X501)","v":""},{"$f":"IF(Worksheet!Q501=0,\"\",Worksheet!Q501)","v":""},{"$f":"IF(Worksheet!C501=0,\"\",Worksheet!C501)","v":""},{"$f":"IF(Worksheet!D501=0,\"\",Worksheet!D501)","v":""},{"$f":"IF(Worksheet!$A$11=TRUE,\"Y\",\"N\")","v":"N"},{"$f":"IF(Worksheet!$A$12=TRUE,\"Y\",\"N\")","v":"N"},{"$f":"IF(Worksheet!$B$11=TRUE,\"Y\",\"N\")","v":"N"},{"$f":"IF(Worksheet!$B$12=TRUE,\"Y\",\"N\")","v":"N"},{"$f":"IF(Worksheet!$C$11=TRUE,\"Y\",\"N\")","v":"N"},{"$f":"IFERROR(Worksheet!AB501,\"\")","v":0}]
[{"$f":"IF(IFERROR(SEARCH(\"Refrigerated\",Worksheet!L502,1),0)>0,122,IF(ISERROR(RIGHT(VLOOKUP(Worksheet!K502,Type!C$1:E$13,3,FALSE),3))=FALSE,RIGHT(VLOOKUP(Worksheet!K502,Type!C$1:E$13,3,FALSE),3),\"\"))","v":""},{"$f":"IF(Worksheet!M502=\"\",\"\",Worksheet!M502)","v":""},{"$f":"IF(Worksheet!N502=\"\",\"\",Worksheet!N502)","v":""},{"$f":"IF(Worksheet!Y502=0,\"\",Worksheet!Y502)","v":""},"Watts",null,null,{"$f":"Worksheet!AA502","v":0},{"$f":"IF(ISBLANK(Worksheet!V502)=FALSE,Worksheet!V502,\"\")","v":0},{"$f":"Worksheet!AG502","v":0},{"$f":"Worksheet!AF502","v":0},0,{"$f":"IF(ISERROR(SEARCH(\"Gas\",Worksheet!$A$18))=TRUE,0,Worksheet!AH502)","v":0},0,null,null,{"$f":"IF(OR(Worksheet!F502=\"Incandescent\",Worksheet!F502=\"Halogen Incandescent\")=TRUE,118,IF(LEFT(Worksheet!F502,3)=\"HID\",117,IF(OR(RIGHT(Worksheet!F502,3)=\"T12\",RIGHT(Worksheet!F502,5)=\"T12HO\")=TRUE,115,IF(OR(RIGHT(Worksheet!F502,2)=\"T8\",RIGHT(Worksheet!F502,4)=\"RWT8\",RIGHT(Worksheet!F502,4)=\"T8HO\")=TRUE,115,\"\"))))","v":""},{"$f":"IF(ISBLANK(Worksheet!W502)=FALSE,Worksheet!W502,\"\")","v":0},{"$f":"IF(ISERROR(SEARCH(\"Oil\",Worksheet!$A$18))=TRUE,0,Worksheet!AH502)","v":0},0,{"$f":"IF(ISERROR(SEARCH(\"Propane\",Worksheet!$A$18))=TRUE,0,Worksheet!AH502)","v":0},0,{"$f":"IF(Worksheet!J502=0,\"\",Worksheet!J502)","v":""},{"$f":"IF(Worksheet!B502=0,\"\",Worksheet!B502)","v":""},{"$f":"IF(Worksheet!K502=0,\"\",Worksheet!K502)","v":""},{"$f":"IF(Worksheet!L502=0,\"\",Worksheet!L502)","v":""},{"$f":"IF(Worksheet!R502=0,\"\",Worksheet!R502)","v":""},{"$f":"IF(Worksheet!F502=0,\"\",Worksheet!F502)","v":""},{"$f":"IF(Worksheet!G502=0,\"\",Worksheet!G502)","v":""},{"$f":"IF(Worksheet!X502=0,\"\",Worksheet!X502)","v":""},{"$f":"IF(Worksheet!Q502=0,\"\",Worksheet!Q502)","v":""},{"$f":"IF(Worksheet!C502=0,\"\",Worksheet!C502)","v":""},{"$f":"IF(Worksheet!D502=0,\"\",Worksheet!D502)","v":""},{"$f":"IF(Worksheet!$A$11=TRUE,\"Y\",\"N\")","v":"N"},{"$f":"IF(Worksheet!$A$12=TRUE,\"Y\",\"N\")","v":"N"},{"$f":"IF(Worksheet!$B$11=TRUE,\"Y\",\"N\")","v":"N"},{"$f":"IF(Worksheet!$B$12=TRUE,\"Y\",\"N\")","v":"N"},{"$f":"IF(Worksheet!$C$11=TRUE,\"Y\",\"N\")","v":"N"},{"$f":"IFERROR(Worksheet!AB502,\"\")","v":0}]
[{"$f":"IF(IFERROR(SEARCH(\"Refrigerated\",Worksheet!L503,1),0)>0,122,IF(ISERROR(RIGHT(VLOOKUP(Worksheet!K503,Type!C$1:E$13,3,FALSE),3))=FALSE,RIGHT(VLOOKUP(Worksheet!K503,Type!C$1:E$13,3,FALSE),3),\"\"))","v":""},{"$f":"IF(Worksheet!M503=\"\",\"\",Worksheet!M503)","v":""},{"$f":"IF(Worksheet!N503=\"\",\"\",Worksheet!N503)","v":""},{"$f":"IF(Worksheet!Y503=0,\"\",Worksheet!Y503)","v":""},"Watts",null,null,{"$f":"Worksheet!AA503","v":0},{"$f":"IF(ISBLANK(Worksheet!V503)=FALSE,Worksheet!V503,\"\")","v":0},{"$f":"Worksheet!AG503","v":0},{"$f":"Worksheet!AF503","v":0},0,{"$f":"IF(ISERROR(SEARCH(\"Gas\",Worksheet!$A$18))=TRUE,0,Worksheet!AH503)","v":0},0,null,null,{"$f":"IF(OR(Worksheet!F503=\"Incandescent\",Worksheet!F503=\"Halogen Incandescent\")=TRUE,118,IF(LEFT(Worksheet!F503,3)=\"HID\",117,IF(OR(RIGHT(Worksheet!F503,3)=\"T12\",RIGHT(Worksheet!F503,5)=\"T12HO\")=TRUE,115,IF(OR(RIGHT(Worksheet!F503,2)=\"T8\",RIGHT(Worksheet!F503,4)=\"RWT8\",RIGHT(Worksheet!F503,4)=\"T8HO\")=TRUE,115,\"\"))))","v":""},{"$f":"IF(ISBLANK(Worksheet!W503)=FALSE,Worksheet!W503,\"\")","v":0},{"$f":"IF(ISERROR(SEARCH(\"Oil\",Worksheet!$A$18))=TRUE,0,Worksheet!AH503)","v":0},0,{"$f":"IF(ISERROR(SEARCH(\"Propane\",Worksheet!$A$18))=TRUE,0,Worksheet!AH503)","v":0},0,{"$f":"IF(Worksheet!J503=0,\"\",Worksheet!J503)","v":""},{"$f":"IF(Worksheet!B503=0,\"\",Worksheet!B503)","v":""},{"$f":"IF(Worksheet!K503=0,\"\",Worksheet!K503)","v":""},{"$f":"IF(Worksheet!L503=0,\"\",Worksheet!L503)","v":""},{"$f":"IF(Worksheet!R503=0,\"\",Worksheet!R503)","v":""},{"$f":"IF(Worksheet!F503=0,\"\",Worksheet!F503)","v":""},{"$f":"IF(Worksheet!G503=0,\"\",Worksheet!G503)","v":""},{"$f":"IF(Worksheet!X503=0,\"\",Worksheet!X503)","v":""},{"$f":"IF(Worksheet!Q503=0,\"\",Worksheet!Q503)","v":""},{"$f":"IF(Worksheet!C503=0,\"\",Worksheet!C503)","v":""},{"$f":"IF(Worksheet!D503=0,\"\",Worksheet!D503)","v":""},{"$f":"IF(Worksheet!$A$11=TRUE,\"Y\",\"N\")","v":"N"},{"$f":"IF(Worksheet!$A$12=TRUE,\"Y\",\"N\")","v":"N"},{"$f":"IF(Worksheet!$B$11=TRUE,\"Y\",\"N\")","v":"N"},{"$f":"IF(Worksheet!$B$12=TRUE,\"Y\",\"N\")","v":"N"},{"$f":"IF(Worksheet!$C$11=TRUE,\"Y\",\"N\")","v":"N"},{"$f":"IFERROR(Worksheet!AB503,\"\")","v":0}]
[{"$f":"IF(IFERROR(SEARCH(\"Refrigerated\",Worksheet!L504,1),0)>0,122,IF(ISERROR(RIGHT(VLOOKUP(Worksheet!K504,Type!C$1:E$13,3,FALSE),3))=FALSE,RIGHT(VLOOKUP(Worksheet!K504,Type!C$1:E$13,3,FALSE),3),\"\"))","v":""},{"$f":"IF(Worksheet!M504=\"\",\"\",Worksheet!M504)","v":""},{"$f":"IF(Worksheet!N504=\"\",\"\",Worksheet!N504)","v":""},{"$f":"IF(Worksheet!Y504=0,\"\",Worksheet!Y504)","v":""},"Watts",null,null,{"$f":"Worksheet!AA504","v":0},{"$f":"IF(ISBLANK(Worksheet!V504)=FALSE,Worksheet!V504,\"\")","v":0},{"$f":"Worksheet!AG504","v":0},{"$f":"Worksheet!AF504","v":0},0,{"$f":"IF(ISERROR(SEARCH(\"Gas\",Worksheet!$A$18))=TRUE,0,Worksheet!AH504)","v":0},0,null,null,{"$f":"IF(OR(Worksheet!F504=\"Incandescent\",Worksheet!F504=\"Halogen Incandescent\")=TRUE,118,IF(LEFT(Worksheet!F504,3)=\"HID\",117,IF(OR(RIGHT(Worksheet!F504,3)=\"T12\",RIGHT(Worksheet!F504,5)=\"T12HO\")=TRUE,115,IF(OR(RIGHT(Worksheet!F504,2)=\"T8\",RIGHT(Worksheet!F504,4)=\"RWT8\",RIGHT(Worksheet!F504,4)=\"T8HO\")=TRUE,115,\"\"))))","v":""},{"$f":"IF(ISBLANK(Worksheet!W504)=FALSE,Worksheet!W504,\"\")","v":0},{"$f":"IF(ISERROR(SEARCH(\"Oil\",Worksheet!$A$18))=TRUE,0,Worksheet!AH504)","v":0},0,{"$f":"IF(ISERROR(SEARCH(\"Propane\",Worksheet!$A$18))=TRUE,0,Worksheet!AH504)","v":0},0,{"$f":"IF(Worksheet!J504=0,\"\",Worksheet!J504)","v":""},{"$f":"IF(Worksheet!B504=0,\"\",Worksheet!B504)","v":""},{"$f":"IF(Worksheet!K504=0,\"\",Worksheet!K504)","v":""},{"$f":"IF(Worksheet!L504=0,\"\",Worksheet!L504)","v":""},{"$f":"IF(Worksheet!R504=0,\"\",Worksheet!R504)","v":""},{"$f":"IF(Worksheet!F504=0,\"\",Worksheet!F504)","v":""},{"$f":"IF(Worksheet!G504=0,\"\",Worksheet!G504)","v":""},{"$f":"IF(Worksheet!X504=0,\"\",Worksheet!X504)","v":""},{"$f":"IF(Worksheet!Q504=0,\"\",Worksheet!Q504)","v":""},{"$f":"IF(Worksheet!C504=0,\"\",Worksheet!C504)","v":""},{"$f":"IF(Worksheet!D504=0,\"\",Worksheet!D504)","v":""},{"$f":"IF(Worksheet!$A$11=TRUE,\"Y\",\"N\")","v":"N"},{"$f":"IF(Worksheet!$A$12=TRUE,\"Y\",\"N\")","v":"N"},{"$f":"IF(Worksheet!$B$11=TRUE,\"Y\",\"N\")","v":"N"},{"$f":"IF(Worksheet!$B$12=TRUE,\"Y\",\"N\")","v":"N"},{"$f":"IF(Worksheet!$C$11=TRUE,\"Y\",\"N\")","v":"N"},{"$f":"IFERROR(Worksheet!AB504,\"\")","v":0}]
[{"$f":"IF(IFERROR(SEARCH(\"Refrigerated\",Worksheet!L505,1),0)>0,122,IF(ISERROR(RIGHT(VLOOKUP(Worksheet!K505,Type!C$1:E$13,3,FALSE),3))=FALSE,RIGHT(VLOOKUP(Worksheet!K505,Type!C$1:E$13,3,FALSE),3),\"\"))","v":""},{"$f":"IF(Worksheet!M505=\"\",\"\",Worksheet!M505)","v":""},{"$f":"IF(Worksheet!N505=\"\",\"\",Worksheet!N505)","v":""},{"$f":"IF(Worksheet!Y505=0,\"\",Worksheet!Y505)","v":""},"Watts",null,null,{"$f":"Worksheet!AA505","v":0},{"$f":"IF(ISBLANK(Worksheet!V505)=FALSE,Worksheet!V505,\"\")","v":0},{"$f":"Worksheet!AG505","v":0},{"$f":"Worksheet!AF505","v":0},0,{"$f":"IF(ISERROR(SEARCH(\"Gas\",Worksheet!$A$18))=TRUE,0,Worksheet!AH505)","v":0},0,null,null,{"$f":"IF(OR(Worksheet!F505=\"Incandescent\",Worksheet!F505=\"Halogen Incandescent\")=TRUE,118,IF(LEFT(Worksheet!F505,3)=\"HID\",117,IF(OR(RIGHT(Worksheet!F505,3)=\"T12\",RIGHT(Worksheet!F505,5)=\"T12HO\")=TRUE,115,IF(OR(RIGHT(Worksheet!F505,2)=\"T8\",RIGHT(Worksheet!F505,4)=\"RWT8\",RIGHT(Worksheet!F505,4)=\"T8HO\")=TRUE,115,\"\"))))","v":""},{"$f":"IF(ISBLANK(Worksheet!W505)=FALSE,Worksheet!W505,\"\")","v":0},{"$f":"IF(ISERROR(SEARCH(\"Oil\",Worksheet!$A$18))=TRUE,0,Worksheet!AH505)","v":0},0,{"$f":"IF(ISERROR(SEARCH(\"Propane\",Worksheet!$A$18))=TRUE,0,Worksheet!AH505)","v":0},0,{"$f":"IF(Worksheet!J505=0,\"\",Worksheet!J505)","v":""},{"$f":"IF(Worksheet!B505=0,\"\",Worksheet!B505)","v":""},{"$f":"IF(Worksheet!K505=0,\"\",Worksheet!K505)","v":""},{"$f":"IF(Worksheet!L505=0,\"\",Worksheet!L505)","v":""},{"$f":"IF(Worksheet!R505=0,\"\",Worksheet!R505)","v":""},{"$f":"IF(Worksheet!F505=0,\"\",Worksheet!F505)","v":""},{"$f":"IF(Worksheet!G505=0,\"\",Worksheet!G505)","v":""},{"$f":"IF(Worksheet!X505=0,\"\",Worksheet!X505)","v":""},{"$f":"IF(Worksheet!Q505=0,\"\",Worksheet!Q505)","v":""},{"$f":"IF(Worksheet!C505=0,\"\",Worksheet!C505)","v":""},{"$f":"IF(Worksheet!D505=0,\"\",Worksheet!D505)","v":""},{"$f":"IF(Worksheet!$A$11=TRUE,\"Y\",\"N\")","v":"N"},{"$f":"IF(Worksheet!$A$12=TRUE,\"Y\",\"N\")","v":"N"},{"$f":"IF(Worksheet!$B$11=TRUE,\"Y\",\"N\")","v":"N"},{"$f":"IF(Worksheet!$B$12=TRUE,\"Y\",\"N\")","v":"N"},{"$f":"IF(Worksheet!$C$11=TRUE,\"Y\",\"N\")","v":"N"},{"$f":"IFERROR(Worksheet!AB505,\"\")","v":0}]
[{"$f":"IF(IFERROR(SEARCH(\"Refrigerated\",Worksheet!L506,1),0)>0,122,IF(ISERROR(RIGHT(VLOOKUP(Worksheet!K506,Type!C$1:E$13,3,FALSE),3))=FALSE,RIGHT(VLOOKUP(Worksheet!K506,Type!C$1:E$13,3,FALSE),3),\"\"))","v":""},{"$f":"IF(Worksheet!M506=\"\",\"\",Worksheet!M506)","v":""},{"$f":"IF(Worksheet!N506=\"\",\"\",Worksheet!N506)","v":""},{"$f":"IF(Worksheet!Y506=0,\"\",Worksheet!Y506)","v":""},"Watts",null,null,{"$f":"Worksheet!AA506","v":0},{"$f":"IF(ISBLANK(Worksheet!V506)=FALSE,Worksheet!V506,\"\")","v":0},{"$f":"Worksheet!AG506","v":0},{"$f":"Worksheet!AF506","v":0},0,{"$f":"IF(ISERROR(SEARCH(\"Gas\",Worksheet!$A$18))=TRUE,0,Worksheet!AH506)","v":0},0,null,null,{"$f":"IF(OR(Worksheet!F506=\"Incandescent\",Worksheet!F506=\"Halogen Incandescent\")=TRUE,118,IF(LEFT(Worksheet!F506,3)=\"HID\",117,IF(OR(RIGHT(Worksheet!F506,3)=\"T12\",RIGHT(Worksheet!F506,5)=\"T12HO\")=TRUE,115,IF(OR(RIGHT(Worksheet!F506,2)=\"T8\",RIGHT(Worksheet!F506,4)=\"RWT8\",RIGHT(Worksheet!F506,4)=\"T8HO\")=TRUE,115,\"\"))))","v":""},{"$f":"IF(ISBLANK(Worksheet!W506)=FALSE,Worksheet!W506,\"\")","v":0},{"$f":"IF(ISERROR(SEARCH(\"Oil\",Worksheet!$A$18))=TRUE,0,Worksheet!AH506)","v":0},0,{"$f":"IF(ISERROR(SEARCH(\"Propane\",Worksheet!$A$18))=TRUE,0,Worksheet!AH506)","v":0},0,{"$f":"IF(Worksheet!J506=0,\"\",Worksheet!J506)","v":""},{"$f":"IF(Worksheet!B506=0,\"\",Worksheet!B506)","v":""},{"$f":"IF(Worksheet!K506=0,\"\",Worksheet!K506)","v":""},{"$f":"IF(Worksheet!L506=0,\"\",Worksheet!L506)","v":""},{"$f":"IF(Worksheet!R506=0,\"\",Worksheet!R506)","v":""},{"$f":"IF(Worksheet!F506=0,\"\",Worksheet!F506)","v":""},{"$f":"IF(Worksheet!G506=0,\"\",Worksheet!G506)","v":""},{"$f":"IF(Worksheet!X506=0,\"\",Worksheet!X506)","v":""},{"$f":"IF(Worksheet!Q506=0,\"\",Worksheet!Q506)","v":""},{"$f":"IF(Worksheet!C506=0,\"\",Worksheet!C506)","v":""},{"$f":"IF(Worksheet!D506=0,\"\",Worksheet!D506)","v":""},{"$f":"IF(Worksheet!$A$11=TRUE,\"Y\",\"N\")","v":"N"},{"$f":"IF(Worksheet!$A$12=TRUE,\"Y\",\"N\")","v":"N"},{"$f":"IF(Worksheet!$B$11=TRUE,\"Y\",\"N\")","v":"N"},{"$f":"IF(Worksheet!$B$12=TRUE,\"Y\",\"N\")","v":"N"},{"$f":"IF(Worksheet!$C$11=TRUE,\"Y\",\"N\")","v":"N"},{"$f":"IFERROR(Worksheet!AB506,\"\")","v":0}]
[{"$f":"IF(IFERROR(SEARCH(\"Refrigerated\",Worksheet!L507,1),0)>0,122,IF(ISERROR(RIGHT(VLOOKUP(Worksheet!K507,Type!C$1:E$13,3,FALSE),3))=FALSE,RIGHT(VLOOKUP(Worksheet!K507,Type!C$1:E$13,3,FALSE),3),\"\"))","v":""},{"$f":"IF(Worksheet!M507=\"\",\"\",Worksheet!M507)","v":""},{"$f":"IF(Worksheet!N507=\"\",\"\",Worksheet!N507)","v":""},{"$f":"IF(Worksheet!Y507=0,\"\",Worksheet!Y507)","v":""},"Watts",null,null,{"$f":"Worksheet!AA507","v":0},{"$f":"IF(ISBLANK(Worksheet!V507)=FALSE,Worksheet!V507,\"\")","v":0},{"$f":"Worksheet!AG507","v":0},{"$f":"Worksheet!AF507","v":0},0,{"$f":"IF(ISERROR(SEARCH(\"Gas\",Worksheet!$A$18))=TRUE,0,Worksheet!AH507)","v":0},0,null,null,{"$f":"IF(OR(Worksheet!F507=\"Incandescent\",Worksheet!F507=\"Halogen Incandescent\")=TRUE,118,IF(LEFT(Worksheet!F507,3)=\"HID\",117,IF(OR(RIGHT(Worksheet!F507,3)=\"T12\",RIGHT(Worksheet!F507,5)=\"T12HO\")=TRUE,115,IF(OR(RIGHT(Worksheet!F507,2)=\"T8\",RIGHT(Worksheet!F507,4)=\"RWT8\",RIGHT(Worksheet!F507,4)=\"T8HO\")=TRUE,115,\"\"))))","v":""},{"$f":"IF(ISBLANK(Worksheet!W507)=FALSE,Worksheet!W507,\"\")","v":0},{"$f":"IF(ISERROR(SEARCH(\"Oil\",Worksheet!$A$18))=TRUE,0,Worksheet!AH507)","v":0},0,{"$f":"IF(ISERROR(SEARCH(\"Propane\",Worksheet!$A$18))=TRUE,0,Worksheet!AH507)","v":0},0,{"$f":"IF(Worksheet!J507=0,\"\",Worksheet!J507)","v":""},{"$f":"IF(Worksheet!B507=0,\"\",Worksheet!B507)","v":""},{"$f":"IF(Worksheet!K507=0,\"\",Worksheet!K507)","v":""},{"$f":"IF(Worksheet!L507=0,\"\",Worksheet!L507)","v":""},{"$f":"IF(Worksheet!R507=0,\"\",Worksheet!R507)","v":""},{"$f":"IF(Worksheet!F507=0,\"\",Worksheet!F507)","v":""},{"$f":"IF(Worksheet!G507=0,\"\",Worksheet!G507)","v":""},{"$f":"IF(Worksheet!X507=0,\"\",Worksheet!X507)","v":""},{"$f":"IF(Worksheet!Q507=0,\"\",Worksheet!Q507)","v":""},{"$f":"IF(Worksheet!C507=0,\"\",Worksheet!C507)","v":""},{"$f":"IF(Worksheet!D507=0,\"\",Worksheet!D507)","v":""},{"$f":"IF(Worksheet!$A$11=TRUE,\"Y\",\"N\")","v":"N"},{"$f":"IF(Worksheet!$A$12=TRUE,\"Y\",\"N\")","v":"N"},{"$f":"IF(Worksheet!$B$11=TRUE,\"Y\",\"N\")","v":"N"},{"$f":"IF(Worksheet!$B$12=TRUE,\"Y\",\"N\")","v":"N"},{"$f":"IF(Worksheet!$C$11=TRUE,\"Y\",\"N\")","v":"N"},{"$f":"IFERROR(Worksheet!AB507,\"\")","v":0}]
[{"$f":"IF(IFERROR(SEARCH(\"Refrigerated\",Worksheet!L508,1),0)>0,122,IF(ISERROR(RIGHT(VLOOKUP(Worksheet!K508,Type!C$1:E$13,3,FALSE),3))=FALSE,RIGHT(VLOOKUP(Worksheet!K508,Type!C$1:E$13,3,FALSE),3),\"\"))","v":""},{"$f":"IF(Worksheet!M508=\"\",\"\",Worksheet!M508)","v":""},{"$f":"IF(Worksheet!N508=\"\",\"\",Worksheet!N508)","v":""},{"$f":"IF(Worksheet!Y508=0,\"\",Worksheet!Y508)","v":""},"Watts",null,null,{"$f":"Worksheet!AA508","v":0},{"$f":"IF(ISBLANK(Worksheet!V508)=FALSE,Worksheet!V508,\"\")","v":0},{"$f":"Worksheet!AG508","v":0},{"$f":"Worksheet!AF508","v":0},0,{"$f":"IF(ISERROR(SEARCH(\"Gas\",Worksheet!$A$18))=TRUE,0,Worksheet!AH508)","v":0},0,null,null,{"$f":"IF(OR(Worksheet!F508=\"Incandescent\",Worksheet!F508=\"Halogen Incandescent\")=TRUE,118,IF(LEFT(Worksheet!F508,3)=\"HID\",117,IF(OR(RIGHT(Worksheet!F508,3)=\"T12\",RIGHT(Worksheet!F508,5)=\"T12HO\")=TRUE,115,IF(OR(RIGHT(Worksheet!F508,2)=\"T8\",RIGHT(Worksheet!F508,4)=\"RWT8\",RIGHT(Worksheet!F508,4)=\"T8HO\")=TRUE,115,\"\"))))","v":""},{"$f":"IF(ISBLANK(Worksheet!W508)=FALSE,Worksheet!W508,\"\")","v":0},{"$f":"IF(ISERROR(SEARCH(\"Oil\",Worksheet!$A$18))=TRUE,0,Worksheet!AH508)","v":0},0,{"$f":"IF(ISERROR(SEARCH(\"Propane\",Worksheet!$A$18))=TRUE,0,Worksheet!AH508)","v":0},0,{"$f":"IF(Worksheet!J508=0,\"\",Worksheet!J508)","v":""},{"$f":"IF(Worksheet!B508=0,\"\",Worksheet!B508)","v":""},{"$f":"IF(Worksheet!K508=0,\"\",Worksheet!K508)","v":""},{"$f":"IF(Worksheet!L508=0,\"\",Worksheet!L508)","v":""},{"$f":"IF(Worksheet!R508=0,\"\",Worksheet!R508)","v":""},{"$f":"IF(Worksheet!F508=0,\"\",Worksheet!F508)","v":""},{"$f":"IF(Worksheet!G508=0,\"\",Worksheet!G508)","v":""},{"$f":"IF(Worksheet!X508=0,\"\",Worksheet!X508)","v":""},{"$f":"IF(Worksheet!Q508=0,\"\",Worksheet!Q508)","v":""},{"$f":"IF(Worksheet!C508=0,\"\",Worksheet!C508)","v":""},{"$f":"IF(Worksheet!D508=0,\"\",Worksheet!D508)","v":""},{"$f":"IF(Worksheet!$A$11=TRUE,\"Y\",\"N\")","v":"N"},{"$f":"IF(Worksheet!$A$12=TRUE,\"Y\",\"N\")","v":"N"},{"$f":"IF(Worksheet!$B$11=TRUE,\"Y\",\"N\")","v":"N"},{"$f":"IF(Worksheet!$B$12=TRUE,\"Y\",\"N\")","v":"N"},{"$f":"IF(Worksheet!$C$11=TRUE,\"Y\",\"N\")","v":"N"},{"$f":"IFERROR(Worksheet!AB508,\"\")","v":0}]
[{"$f":"IF(IFERROR(SEARCH(\"Refrigerated\",Worksheet!L509,1),0)>0,122,IF(ISERROR(RIGHT(VLOOKUP(Worksheet!K509,Type!C$1:E$13,3,FALSE),3))=FALSE,RIGHT(VLOOKUP(Worksheet!K509,Type!C$1:E$13,3,FALSE),3),\"\"))","v":""},{"$f":"IF(Worksheet!M509=\"\",\"\",Worksheet!M509)","v":""},{"$f":"IF(Worksheet!N509=\"\",\"\",Worksheet!N509)","v":""},{"$f":"IF(Worksheet!Y509=0,\"\",Worksheet!Y509)","v":""},"Watts",null,null,{"$f":"Worksheet!AA509","v":0},{"$f":"IF(ISBLANK(Worksheet!V509)=FALSE,Worksheet!V509,\"\")","v":0},{"$f":"Worksheet!AG509","v":0},{"$f":"Worksheet!AF509","v":0},0,{"$f":"IF(ISERROR(SEARCH(\"Gas\",Worksheet!$A$18))=TRUE,0,Worksheet!AH509)","v":0},0,null,null,{"$f":"IF(OR(Worksheet!F509=\"Incandescent\",Worksheet!F509=\"Halogen Incandescent\")=TRUE,118,IF(LEFT(Worksheet!F509,3)=\"HID\",117,IF(OR(RIGHT(Worksheet!F509,3)=\"T12\",RIGHT(Worksheet!F509,5)=\"T12HO\")=TRUE,115,IF(OR(RIGHT(Worksheet!F509,2)=\"T8\",RIGHT(Worksheet!F509,4)=\"RWT8\",RIGHT(Worksheet!F509,4)=\"T8HO\")=TRUE,115,\"\"))))","v":""},{"$f":"IF(ISBLANK(Worksheet!W509)=FALSE,Worksheet!W509,\"\")","v":0},{"$f":"IF(ISERROR(SEARCH(\"Oil\",Worksheet!$A$18))=TRUE,0,Worksheet!AH509)","v":0},0,{"$f":"IF(ISERROR(SEARCH(\"Propane\",Worksheet!$A$18))=TRUE,0,Worksheet!AH509)","v":0},0,{"$f":"IF(Worksheet!J509=0,\"\",Worksheet!J509)","v":""},{"$f":"IF(Worksheet!B509=0,\"\",Worksheet!B509)","v":""},{"$f":"IF(Worksheet!K509=0,\"\",Worksheet!K509)","v":""},{"$f":"IF(Worksheet!L509=0,\"\",Worksheet!L509)","v":""},{"$f":"IF(Worksheet!R509=0,\"\",Worksheet!R509)","v":""},{"$f":"IF(Worksheet!F509=0,\"\",Worksheet!F509)","v":""},{"$f":"IF(Worksheet!G509=0,\"\",Worksheet!G509)","v":""},{"$f":"IF(Worksheet!X509=0,\"\",Worksheet!X509)","v":""},{"$f":"IF(Worksheet!Q509=0,\"\",Worksheet!Q509)","v":""},{"$f":"IF(Worksheet!C509=0,\"\",Worksheet!C509)","v":""},{"$f":"IF(Worksheet!D509=0,\"\",Worksheet!D509)","v":""},{"$f":"IF(Worksheet!$A$11=TRUE,\"Y\",\"N\")","v":"N"},{"$f":"IF(Worksheet!$A$12=TRUE,\"Y\",\"N\")","v":"N"},{"$f":"IF(Worksheet!$B$11=TRUE,\"Y\",\"N\")","v":"N"},{"$f":"IF(Worksheet!$B$12=TRUE,\"Y\",\"N\")","v":"N"},{"$f":"IF(Worksheet!$C$11=TRUE,\"Y\",\"N\")","v":"N"},{"$f":"IFERROR(Worksheet!AB509,\"\")","v":0}]
[{"$f":"IF(IFERROR(SEARCH(\"Refrigerated\",Worksheet!L510,1),0)>0,122,IF(ISERROR(RIGHT(VLOOKUP(Worksheet!K510,Type!C$1:E$13,3,FALSE),3))=FALSE,RIGHT(VLOOKUP(Worksheet!K510,Type!C$1:E$13,3,FALSE),3),\"\"))","v":""},{"$f":"IF(Worksheet!M510=\"\",\"\",Worksheet!M510)","v":""},{"$f":"IF(Worksheet!N510=\"\",\"\",Worksheet!N510)","v":""},{"$f":"IF(Worksheet!Y510=0,\"\",Worksheet!Y510)","v":""},"Watts",null,null,{"$f":"Worksheet!AA510","v":0},{"$f":"IF(ISBLANK(Worksheet!V510)=FALSE,Worksheet!V510,\"\")","v":0},{"$f":"Worksheet!AG510","v":0},{"$f":"Worksheet!AF510","v":0},0,{"$f":"IF(ISERROR(SEARCH(\"Gas\",Worksheet!$A$18))=TRUE,0,Worksheet!AH510)","v":0},0,null,null,{"$f":"IF(OR(Worksheet!F510=\"Incandescent\",Worksheet!F510=\"Halogen Incandescent\")=TRUE,118,IF(LEFT(Worksheet!F510,3)=\"HID\",117,IF(OR(RIGHT(Worksheet!F510,3)=\"T12\",RIGHT(Worksheet!F510,5)=\"T12HO\")=TRUE,115,IF(OR(RIGHT(Worksheet!F510,2)=\"T8\",RIGHT(Worksheet!F510,4)=\"RWT8\",RIGHT(Worksheet!F510,4)=\"T8HO\")=TRUE,115,\"\"))))","v":""},{"$f":"IF(ISBLANK(Worksheet!W510)=FALSE,Worksheet!W510,\"\")","v":0},{"$f":"IF(ISERROR(SEARCH(\"Oil\",Worksheet!$A$18))=TRUE,0,Worksheet!AH510)","v":0},0,{"$f":"IF(ISERROR(SEARCH(\"Propane\",Worksheet!$A$18))=TRUE,0,Worksheet!AH510)","v":0},0,{"$f":"IF(Worksheet!J510=0,\"\",Worksheet!J510)","v":""},{"$f":"IF(Worksheet!B510=0,\"\",Worksheet!B510)","v":""},{"$f":"IF(Worksheet!K510=0,\"\",Worksheet!K510)","v":""},{"$f":"IF(Worksheet!L510=0,\"\",Worksheet!L510)","v":""},{"$f":"IF(Worksheet!R510=0,\"\",Worksheet!R510)","v":""},{"$f":"IF(Worksheet!F510=0,\"\",Worksheet!F510)","v":""},{"$f":"IF(Worksheet!G510=0,\"\",Worksheet!G510)","v":""},{"$f":"IF(Worksheet!X510=0,\"\",Worksheet!X510)","v":""},{"$f":"IF(Worksheet!Q510=0,\"\",Worksheet!Q510)","v":""},{"$f":"IF(Worksheet!C510=0,\"\",Worksheet!C510)","v":""},{"$f":"IF(Worksheet!D510=0,\"\",Worksheet!D510)","v":""},{"$f":"IF(Worksheet!$A$11=TRUE,\"Y\",\"N\")","v":"N"},{"$f":"IF(Worksheet!$A$12=TRUE,\"Y\",\"N\")","v":"N"},{"$f":"IF(Worksheet!$B$11=TRUE,\"Y\",\"N\")","v":"N"},{"$f":"IF(Worksheet!$B$12=TRUE,\"Y\",\"N\")","v":"N"},{"$f":"IF(Worksheet!$C$11=TRUE,\"Y\",\"N\")","v":"N"},{"$f":"IFERROR(Worksheet!AB510,\"\")","v":0}]
[{"$f":"IF(IFERROR(SEARCH(\"Refrigerated\",Worksheet!L511,1),0)>0,122,IF(ISERROR(RIGHT(VLOOKUP(Worksheet!K511,Type!C$1:E$13,3,FALSE),3))=FALSE,RIGHT(VLOOKUP(Worksheet!K511,Type!C$1:E$13,3,FALSE),3),\"\"))","v":""},{"$f":"IF(Worksheet!M511=\"\",\"\",Worksheet!M511)","v":""},{"$f":"IF(Worksheet!N511=\"\",\"\",Worksheet!N511)","v":""},{"$f":"IF(Worksheet!Y511=0,\"\",Worksheet!Y511)","v":""},"Watts",null,null,{"$f":"Worksheet!AA511","v":0},{"$f":"IF(ISBLANK(Worksheet!V511)=FALSE,Worksheet!V511,\"\")","v":0},{"$f":"Worksheet!AG511","v":0},{"$f":"Worksheet!AF511","v":0},0,{"$f":"IF(ISERROR(SEARCH(\"Gas\",Worksheet!$A$18))=TRUE,0,Worksheet!AH511)","v":0},0,null,null,{"$f":"IF(OR(Worksheet!F511=\"Incandescent\",Worksheet!F511=\"Halogen Incandescent\")=TRUE,118,IF(LEFT(Worksheet!F511,3)=\"HID\",117,IF(OR(RIGHT(Worksheet!F511,3)=\"T12\",RIGHT(Worksheet!F511,5)=\"T12HO\")=TRUE,115,IF(OR(RIGHT(Worksheet!F511,2)=\"T8\",RIGHT(Worksheet!F511,4)=\"RWT8\",RIGHT(Worksheet!F511,4)=\"T8HO\")=TRUE,115,\"\"))))","v":""},{"$f":"IF(ISBLANK(Worksheet!W511)=FALSE,Worksheet!W511,\"\")","v":0},{"$f":"IF(ISERROR(SEARCH(\"Oil\",Worksheet!$A$18))=TRUE,0,Worksheet!AH511)","v":0},0,{"$f":"IF(ISERROR(SEARCH(\"Propane\",Worksheet!$A$18))=TRUE,0,Worksheet!AH511)","v":0},0,{"$f":"IF(Worksheet!J511=0,\"\",Worksheet!J511)","v":""},{"$f":"IF(Worksheet!B511=0,\"\",Worksheet!B511)","v":""},{"$f":"IF(Worksheet!K511=0,\"\",Worksheet!K511)","v":""},{"$f":"IF(Worksheet!L511=0,\"\",Worksheet!L511)","v":""},{"$f":"IF(Worksheet!R511=0,\"\",Worksheet!R511)","v":""},{"$f":"IF(Worksheet!F511=0,\"\",Worksheet!F511)","v":""},{"$f":"IF(Worksheet!G511=0,\"\",Worksheet!G511)","v":""},{"$f":"IF(Worksheet!X511=0,\"\",Worksheet!X511)","v":""},{"$f":"IF(Worksheet!Q511=0,\"\",Worksheet!Q511)","v":""},{"$f":"IF(Worksheet!C511=0,\"\",Worksheet!C511)","v":""},{"$f":"IF(Worksheet!D511=0,\"\",Worksheet!D511)","v":""},{"$f":"IF(Worksheet!$A$11=TRUE,\"Y\",\"N\")","v":"N"},{"$f":"IF(Worksheet!$A$12=TRUE,\"Y\",\"N\")","v":"N"},{"$f":"IF(Worksheet!$B$11=TRUE,\"Y\",\"N\")","v":"N"},{"$f":"IF(Worksheet!$B$12=TRUE,\"Y\",\"N\")","v":"N"},{"$f":"IF(Worksheet!$C$11=TRUE,\"Y\",\"N\")","v":"N"},{"$f":"IFERROR(Worksheet!AB511,\"\")","v":0}]
[{"$f":"IF(IFERROR(SEARCH(\"Refrigerated\",Worksheet!L512,1),0)>0,122,IF(ISERROR(RIGHT(VLOOKUP(Worksheet!K512,Type!C$1:E$13,3,FALSE),3))=FALSE,RIGHT(VLOOKUP(Worksheet!K512,Type!C$1:E$13,3,FALSE),3),\"\"))","v":""},{"$f":"IF(Worksheet!M512=\"\",\"\",Worksheet!M512)","v":""},{"$f":"IF(Worksheet!N512=\"\",\"\",Worksheet!N512)","v":""},{"$f":"IF(Worksheet!Y512=0,\"\",Worksheet!Y512)","v":""},"Watts",null,null,{"$f":"Worksheet!AA512","v":0},{"$f":"IF(ISBLANK(Worksheet!V512)=FALSE,Worksheet!V512,\"\")","v":0},{"$f":"Worksheet!AG512","v":0},{"$f":"Worksheet!AF512","v":0},0,{"$f":"IF(ISERROR(SEARCH(\"Gas\",Worksheet!$A$18))=TRUE,0,Worksheet!AH512)","v":0},0,null,null,{"$f":"IF(OR(Worksheet!F512=\"Incandescent\",Worksheet!F512=\"Halogen Incandescent\")=TRUE,118,IF(LEFT(Worksheet!F512,3)=\"HID\",117,IF(OR(RIGHT(Worksheet!F512,3)=\"T12\",RIGHT(Worksheet!F512,5)=\"T12HO\")=TRUE,115,IF(OR(RIGHT(Worksheet!F512,2)=\"T8\",RIGHT(Worksheet!F512,4)=\"RWT8\",RIGHT(Worksheet!F512,4)=\"T8HO\")=TRUE,115,\"\"))))","v":""},{"$f":"IF(ISBLANK(Worksheet!W512)=FALSE,Worksheet!W512,\"\")","v":0},{"$f":"IF(ISERROR(SEARCH(\"Oil\",Worksheet!$A$18))=TRUE,0,Worksheet!AH512)","v":0},0,{"$f":"IF(ISERROR(SEARCH(\"Propane\",Worksheet!$A$18))=TRUE,0,Worksheet!AH512)","v":0},0,{"$f":"IF(Worksheet!J512=0,\"\",Worksheet!J512)","v":""},{"$f":"IF(Worksheet!B512=0,\"\",Worksheet!B512)","v":""},{"$f":"IF(Worksheet!K512=0,\"\",Worksheet!K512)","v":""},{"$f":"IF(Worksheet!L512=0,\"\",Worksheet!L512)","v":""},{"$f":"IF(Worksheet!R512=0,\"\",Worksheet!R512)","v":""},{"$f":"IF(Worksheet!F512=0,\"\",Worksheet!F512)","v":""},{"$f":"IF(Worksheet!G512=0,\"\",Worksheet!G512)","v":""},{"$f":"IF(Worksheet!X512=0,\"\",Worksheet!X512)","v":""},{"$f":"IF(Worksheet!Q512=0,\"\",Worksheet!Q512)","v":""},{"$f":"IF(Worksheet!C512=0,\"\",Worksheet!C512)","v":""},{"$f":"IF(Worksheet!D512=0,\"\",Worksheet!D512)","v":""},{"$f":"IF(Worksheet!$A$11=TRUE,\"Y\",\"N\")","v":"N"},{"$f":"IF(Worksheet!$A$12=TRUE,\"Y\",\"N\")","v":"N"},{"$f":"IF(Worksheet!$B$11=TRUE,\"Y\",\"N\")","v":"N"},{"$f":"IF(Worksheet!$B$12=TRUE,\"Y\",\"N\")","v":"N"},{"$f":"IF(Worksheet!$C$11=TRUE,\"Y\",\"N\")","v":"N"},{"$f":"IFERROR(Worksheet!AB512,\"\")","v":0}]
[{"$f":"IF(IFERROR(SEARCH(\"Refrigerated\",Worksheet!L513,1),0)>0,122,IF(ISERROR(RIGHT(VLOOKUP(Worksheet!K513,Type!C$1:E$13,3,FALSE),3))=FALSE,RIGHT(VLOOKUP(Worksheet!K513,Type!C$1:E$13,3,FALSE),3),\"\"))","v":""},{"$f":"IF(Worksheet!M513=\"\",\"\",Worksheet!M513)","v":""},{"$f":"IF(Worksheet!N513=\"\",\"\",Worksheet!N513)","v":""},{"$f":"IF(Worksheet!Y513=0,\"\",Worksheet!Y513)","v":""},"Watts",null,null,{"$f":"Worksheet!AA513","v":0},{"$f":"IF(ISBLANK(Worksheet!V513)=FALSE,Worksheet!V513,\"\")","v":0},{"$f":"Worksheet!AG513","v":0},{"$f":"Worksheet!AF513","v":0},0,{"$f":"IF(ISERROR(SEARCH(\"Gas\",Worksheet!$A$18))=TRUE,0,Worksheet!AH513)","v":0},0,null,null,{"$f":"IF(OR(Worksheet!F513=\"Incandescent\",Worksheet!F513=\"Halogen Incandescent\")=TRUE,118,IF(LEFT(Worksheet!F513,3)=\"HID\",117,IF(OR(RIGHT(Worksheet!F513,3)=\"T12\",RIGHT(Worksheet!F513,5)=\"T12HO\")=TRUE,115,IF(OR(RIGHT(Worksheet!F513,2)=\"T8\",RIGHT(Worksheet!F513,4)=\"RWT8\",RIGHT(Worksheet!F513,4)=\"T8HO\")=TRUE,115,\"\"))))","v":""},{"$f":"IF(ISBLANK(Worksheet!W513)=FALSE,Worksheet!W513,\"\")","v":0},{"$f":"IF(ISERROR(SEARCH(\"Oil\",Worksheet!$A$18))=TRUE,0,Worksheet!AH513)","v":0},0,{"$f":"IF(ISERROR(SEARCH(\"Propane\",Worksheet!$A$18))=TRUE,0,Worksheet!AH513)","v":0},0,{"$f":"IF(Worksheet!J513=0,\"\",Worksheet!J513)","v":""},{"$f":"IF(Worksheet!B513=0,\"\",Worksheet!B513)","v":""},{"$f":"IF(Worksheet!K513=0,\"\",Worksheet!K513)","v":""},{"$f":"IF(Worksheet!L513=0,\"\",Worksheet!L513)","v":""},{"$f":"IF(Worksheet!R513=0,\"\",Worksheet!R513)","v":""},{"$f":"IF(Worksheet!F513=0,\"\",Worksheet!F513)","v":""},{"$f":"IF(Worksheet!G513=0,\"\",Worksheet!G513)","v":""},{"$f":"IF(Worksheet!X513=0,\"\",Worksheet!X513)","v":""},{"$f":"IF(Worksheet!Q513=0,\"\",Worksheet!Q513)","v":""},{"$f":"IF(Worksheet!C513=0,\"\",Worksheet!C513)","v":""},{"$f":"IF(Worksheet!D513=0,\"\",Worksheet!D513)","v":""},{"$f":"IF(Worksheet!$A$11=TRUE,\"Y\",\"N\")","v":"N"},{"$f":"IF(Worksheet!$A$12=TRUE,\"Y\",\"N\")","v":"N"},{"$f":"IF(Worksheet!$B$11=TRUE,\"Y\",\"N\")","v":"N"},{"$f":"IF(Worksheet!$B$12=TRUE,\"Y\",\"N\")","v":"N"},{"$f":"IF(Worksheet!$C$11=TRUE,\"Y\",\"N\")","v":"N"},{"$f":"IFERROR(Worksheet!AB513,\"\")","v":0}]
[{"$f":"IF(IFERROR(SEARCH(\"Refrigerated\",Worksheet!L514,1),0)>0,122,IF(ISERROR(RIGHT(VLOOKUP(Worksheet!K514,Type!C$1:E$13,3,FALSE),3))=FALSE,RIGHT(VLOOKUP(Worksheet!K514,Type!C$1:E$13,3,FALSE),3),\"\"))","v":""},{"$f":"IF(Worksheet!M514=\"\",\"\",Worksheet!M514)","v":""},{"$f":"IF(Worksheet!N514=\"\",\"\",Worksheet!N514)","v":""},{"$f":"IF(Worksheet!Y514=0,\"\",Worksheet!Y514)","v":""},"Watts",null,null,{"$f":"Worksheet!AA514","v":0},{"$f":"IF(ISBLANK(Worksheet!V514)=FALSE,Worksheet!V514,\"\")","v":0},{"$f":"Worksheet!AG514","v":0},{"$f":"Worksheet!AF514","v":0},0,{"$f":"IF(ISERROR(SEARCH(\"Gas\",Worksheet!$A$18))=TRUE,0,Worksheet!AH514)","v":0},0,null,null,{"$f":"IF(OR(Worksheet!F514=\"Incandescent\",Worksheet!F514=\"Halogen Incandescent\")=TRUE,118,IF(LEFT(Worksheet!F514,3)=\"HID\",117,IF(OR(RIGHT(Worksheet!F514,3)=\"T12\",RIGHT(Worksheet!F514,5)=\"T12HO\")=TRUE,115,IF(OR(RIGHT(Worksheet!F514,2)=\"T8\",RIGHT(Worksheet!F514,4)=\"RWT8\",RIGHT(Worksheet!F514,4)=\"T8HO\")=TRUE,115,\"\"))))","v":""},{"$f":"IF(ISBLANK(Worksheet!W514)=FALSE,Worksheet!W514,\"\")","v":0},{"$f":"IF(ISERROR(SEARCH(\"Oil\",Worksheet!$A$18))=TRUE,0,Worksheet!AH514)","v":0},0,{"$f":"IF(ISERROR(SEARCH(\"Propane\",Worksheet!$A$18))=TRUE,0,Worksheet!AH514)","v":0},0,{"$f":"IF(Worksheet!J514=0,\"\",Worksheet!J514)","v":""},{"$f":"IF(Worksheet!B514=0,\"\",Worksheet!B514)","v":""},{"$f":"IF(Worksheet!K514=0,\"\",Worksheet!K514)","v":""},{"$f":"IF(Worksheet!L514=0,\"\",Worksheet!L514)","v":""},{"$f":"IF(Worksheet!R514=0,\"\",Worksheet!R514)","v":""},{"$f":"IF(Worksheet!F514=0,\"\",Worksheet!F514)","v":""},{"$f":"IF(Worksheet!G514=0,\"\",Worksheet!G514)","v":""},{"$f":"IF(Worksheet!X514=0,\"\",Worksheet!X514)","v":""},{"$f":"IF(Worksheet!Q514=0,\"\",Worksheet!Q514)","v":""},{"$f":"IF(Worksheet!C514=0,\"\",Worksheet!C514)","v":""},{"$f":"IF(Worksheet!D514=0,\"\",Worksheet!D514)","v":""},{"$f":"IF(Worksheet!$A$11=TRUE,\"Y\",\"N\")","v":"N"},{"$f":"IF(Worksheet!$A$12=TRUE,\"Y\",\"N\")","v":"N"},{"$f":"IF(Worksheet!$B$11=TRUE,\"Y\",\"N\")","v":"N"},{"$f":"IF(Worksheet!$B$12=TRUE,\"Y\",\"N\")","v":"N"},{"$f":"IF(Worksheet!$C$11=TRUE,\"Y\",\"N\")","v":"N"},{"$f":"IFERROR(Worksheet!AB514,\"\")","v":0}]
[{"$f":"IF(IFERROR(SEARCH(\"Refrigerated\",Worksheet!L515,1),0)>0,122,IF(ISERROR(RIGHT(VLOOKUP(Worksheet!K515,Type!C$1:E$13,3,FALSE),3))=FALSE,RIGHT(VLOOKUP(Worksheet!K515,Type!C$1:E$13,3,FALSE),3),\"\"))","v":""},{"$f":"IF(Worksheet!M515=\"\",\"\",Worksheet!M515)","v":""},{"$f":"IF(Worksheet!N515=\"\",\"\",Worksheet!N515)","v":""},{"$f":"IF(Worksheet!Y515=0,\"\",Worksheet!Y515)","v":""},"Watts",null,null,{"$f":"Worksheet!AA515","v":0},{"$f":"IF(ISBLANK(Worksheet!V515)=FALSE,Worksheet!V515,\"\")","v":0},{"$f":"Worksheet!AG515","v":0},{"$f":"Worksheet!AF515","v":0},0,{"$f":"IF(ISERROR(SEARCH(\"Gas\",Worksheet!$A$18))=TRUE,0,Worksheet!AH515)","v":0},0,null,null,{"$f":"IF(OR(Worksheet!F515=\"Incandescent\",Worksheet!F515=\"Halogen Incandescent\")=TRUE,118,IF(LEFT(Worksheet!F515,3)=\"HID\",117,IF(OR(RIGHT(Worksheet!F515,3)=\"T12\",RIGHT(Worksheet!F515,5)=\"T12HO\")=TRUE,115,IF(OR(RIGHT(Worksheet!F515,2)=\"T8\",RIGHT(Worksheet!F515,4)=\"RWT8\",RIGHT(Worksheet!F515,4)=\"T8HO\")=TRUE,115,\"\"))))","v":""},{"$f":"IF(ISBLANK(Worksheet!W515)=FALSE,Worksheet!W515,\"\")","v":0},{"$f":"IF(ISERROR(SEARCH(\"Oil\",Worksheet!$A$18))=TRUE,0,Worksheet!AH515)","v":0},0,{"$f":"IF(ISERROR(SEARCH(\"Propane\",Worksheet!$A$18))=TRUE,0,Worksheet!AH515)","v":0},0,{"$f":"IF(Worksheet!J515=0,\"\",Worksheet!J515)","v":""},{"$f":"IF(Worksheet!B515=0,\"\",Worksheet!B515)","v":""},{"$f":"IF(Worksheet!K515=0,\"\",Worksheet!K515)","v":""},{"$f":"IF(Worksheet!L515=0,\"\",Worksheet!L515)","v":""},{"$f":"IF(Worksheet!R515=0,\"\",Worksheet!R515)","v":""},{"$f":"IF(Worksheet!F515=0,\"\",Worksheet!F515)","v":""},{"$f":"IF(Worksheet!G515=0,\"\",Worksheet!G515)","v":""},{"$f":"IF(Worksheet!X515=0,\"\",Worksheet!X515)","v":""},{"$f":"IF(Worksheet!Q515=0,\"\",Worksheet!Q515)","v":""},{"$f":"IF(Worksheet!C515=0,\"\",Worksheet!C515)","v":""},{"$f":"IF(Worksheet!D515=0,\"\",Worksheet!D515)","v":""},{"$f":"IF(Worksheet!$A$11=TRUE,\"Y\",\"N\")","v":"N"},{"$f":"IF(Worksheet!$A$12=TRUE,\"Y\",\"N\")","v":"N"},{"$f":"IF(Worksheet!$B$11=TRUE,\"Y\",\"N\")","v":"N"},{"$f":"IF(Worksheet!$B$12=TRUE,\"Y\",\"N\")","v":"N"},{"$f":"IF(Worksheet!$C$11=TRUE,\"Y\",\"N\")","v":"N"},{"$f":"IFERROR(Worksheet!AB515,\"\")","v":0}]
[{"$f":"IF(IFERROR(SEARCH(\"Refrigerated\",Worksheet!L516,1),0)>0,122,IF(ISERROR(RIGHT(VLOOKUP(Worksheet!K516,Type!C$1:E$13,3,FALSE),3))=FALSE,RIGHT(VLOOKUP(Worksheet!K516,Type!C$1:E$13,3,FALSE),3),\"\"))","v":""},{"$f":"IF(Worksheet!M516=\"\",\"\",Worksheet!M516)","v":""},{"$f":"IF(Worksheet!N516=\"\",\"\",Worksheet!N516)","v":""},{"$f":"IF(Worksheet!Y516=0,\"\",Worksheet!Y516)","v":""},"Watts",null,null,{"$f":"Worksheet!AA516","v":0},{"$f":"IF(ISBLANK(Worksheet!V516)=FALSE,Worksheet!V516,\"\")","v":0},{"$f":"Worksheet!AG516","v":0},{"$f":"Worksheet!AF516","v":0},0,{"$f":"IF(ISERROR(SEARCH(\"Gas\",Worksheet!$A$18))=TRUE,0,Worksheet!AH516)","v":0},0,null,null,{"$f":"IF(OR(Worksheet!F516=\"Incandescent\",Worksheet!F516=\"Halogen Incandescent\")=TRUE,118,IF(LEFT(Worksheet!F516,3)=\"HID\",117,IF(OR(RIGHT(Worksheet!F516,3)=\"T12\",RIGHT(Worksheet!F516,5)=\"T12HO\")=TRUE,115,IF(OR(RIGHT(Worksheet!F516,2)=\"T8\",RIGHT(Worksheet!F516,4)=\"RWT8\",RIGHT(Worksheet!F516,4)=\"T8HO\")=TRUE,115,\"\"))))","v":""},{"$f":"IF(ISBLANK(Worksheet!W516)=FALSE,Worksheet!W516,\"\")","v":0},{"$f":"IF(ISERROR(SEARCH(\"Oil\",Worksheet!$A$18))=TRUE,0,Worksheet!AH516)","v":0},0,{"$f":"IF(ISERROR(SEARCH(\"Propane\",Worksheet!$A$18))=TRUE,0,Worksheet!AH516)","v":0},0,{"$f":"IF(Worksheet!J516=0,\"\",Worksheet!J516)","v":""},{"$f":"IF(Worksheet!B516=0,\"\",Worksheet!B516)","v":""},{"$f":"IF(Worksheet!K516=0,\"\",Worksheet!K516)","v":""},{"$f":"IF(Worksheet!L516=0,\"\",Worksheet!L516)","v":""},{"$f":"IF(Worksheet!R516=0,\"\",Worksheet!R516)","v":""},{"$f":"IF(Worksheet!F516=0,\"\",Worksheet!F516)","v":""},{"$f":"IF(Worksheet!G516=0,\"\",Worksheet!G516)","v":""},{"$f":"IF(Worksheet!X516=0,\"\",Worksheet!X516)","v":""},{"$f":"IF(Worksheet!Q516=0,\"\",Worksheet!Q516)","v":""},{"$f":"IF(Worksheet!C516=0,\"\",Worksheet!C516)","v":""},{"$f":"IF(Worksheet!D516=0,\"\",Worksheet!D516)","v":""},{"$f":"IF(Worksheet!$A$11=TRUE,\"Y\",\"N\")","v":"N"},{"$f":"IF(Worksheet!$A$12=TRUE,\"Y\",\"N\")","v":"N"},{"$f":"IF(Worksheet!$B$11=TRUE,\"Y\",\"N\")","v":"N"},{"$f":"IF(Worksheet!$B$12=TRUE,\"Y\",\"N\")","v":"N"},{"$f":"IF(Worksheet!$C$11=TRUE,\"Y\",\"N\")","v":"N"},{"$f":"IFERROR(Worksheet!AB516,\"\")","v":0}]
[{"$f":"IF(IFERROR(SEARCH(\"Refrigerated\",Worksheet!L517,1),0)>0,122,IF(ISERROR(RIGHT(VLOOKUP(Worksheet!K517,Type!C$1:E$13,3,FALSE),3))=FALSE,RIGHT(VLOOKUP(Worksheet!K517,Type!C$1:E$13,3,FALSE),3),\"\"))","v":""},{"$f":"IF(Worksheet!M517=\"\",\"\",Worksheet!M517)","v":""},{"$f":"IF(Worksheet!N517=\"\",\"\",Worksheet!N517)","v":""},{"$f":"IF(Worksheet!Y517=0,\"\",Worksheet!Y517)","v":""},"Watts",null,null,{"$f":"Worksheet!AA517","v":0},{"$f":"IF(ISBLANK(Worksheet!V517)=FALSE,Worksheet!V517,\"\")","v":0},{"$f":"Worksheet!AG517","v":0},{"$f":"Worksheet!AF517","v":0},0,{"$f":"IF(ISERROR(SEARCH(\"Gas\",Worksheet!$A$18))=TRUE,0,Worksheet!AH517)","v":0},0,null,null,{"$f":"IF(OR(Worksheet!F517=\"Incandescent\",Worksheet!F517=\"Halogen Incandescent\")=TRUE,118,IF(LEFT(Worksheet!F517,3)=\"HID\",117,IF(OR(RIGHT(Worksheet!F517,3)=\"T12\",RIGHT(Worksheet!F517,5)=\"T12HO\")=TRUE,115,IF(OR(RIGHT(Worksheet!F517,2)=\"T8\",RIGHT(Worksheet!F517,4)=\"RWT8\",RIGHT(Worksheet!F517,4)=\"T8HO\")=TRUE,115,\"\"))))","v":""},{"$f":"IF(ISBLANK(Worksheet!W517)=FALSE,Worksheet!W517,\"\")","v":0},{"$f":"IF(ISERROR(SEARCH(\"Oil\",Worksheet!$A$18))=TRUE,0,Worksheet!AH517)","v":0},0,{"$f":"IF(ISERROR(SEARCH(\"Propane\",Worksheet!$A$18))=TRUE,0,Worksheet!AH517)","v":0},0,{"$f":"IF(Worksheet!J517=0,\"\",Worksheet!J517)","v":""},{"$f":"IF(Worksheet!B517=0,\"\",Worksheet!B517)","v":""},{"$f":"IF(Worksheet!K517=0,\"\",Worksheet!K517)","v":""},{"$f":"IF(Worksheet!L517=0,\"\",Worksheet!L517)","v":""},{"$f":"IF(Worksheet!R517=0,\"\",Worksheet!R517)","v":""},{"$f":"IF(Worksheet!F517=0,\"\",Worksheet!F517)","v":""},{"$f":"IF(Worksheet!G517=0,\"\",Worksheet!G517)","v":""},{"$f":"IF(Worksheet!X517=0,\"\",Worksheet!X517)","v":""},{"$f":"IF(Worksheet!Q517=0,\"\",Worksheet!Q517)","v":""},{"$f":"IF(Worksheet!C517=0,\"\",Worksheet!C517)","v":""},{"$f":"IF(Worksheet!D517=0,\"\",Worksheet!D517)","v":""},{"$f":"IF(Worksheet!$A$11=TRUE,\"Y\",\"N\")","v":"N"},{"$f":"IF(Worksheet!$A$12=TRUE,\"Y\",\"N\")","v":"N"},{"$f":"IF(Worksheet!$B$11=TRUE,\"Y\",\"N\")","v":"N"},{"$f":"IF(Worksheet!$B$12=TRUE,\"Y\",\"N\")","v":"N"},{"$f":"IF(Worksheet!$C$11=TRUE,\"Y\",\"N\")","v":"N"},{"$f":"IFERROR(Worksheet!AB517,\"\")","v":0}]
[{"$f":"IF(IFERROR(SEARCH(\"Refrigerated\",Worksheet!L518,1),0)>0,122,IF(ISERROR(RIGHT(VLOOKUP(Worksheet!K518,Type!C$1:E$13,3,FALSE),3))=FALSE,RIGHT(VLOOKUP(Worksheet!K518,Type!C$1:E$13,3,FALSE),3),\"\"))","v":""},{"$f":"IF(Worksheet!M518=\"\",\"\",Worksheet!M518)","v":""},{"$f":"IF(Worksheet!N518=\"\",\"\",Worksheet!N518)","v":""},{"$f":"IF(Worksheet!Y518=0,\"\",Worksheet!Y518)","v":""},"Watts",null,null,{"$f":"Worksheet!AA518","v":0},{"$f":"IF(ISBLANK(Worksheet!V518)=FALSE,Worksheet!V518,\"\")","v":0},{"$f":"Worksheet!AG518","v":0},{"$f":"Worksheet!AF518","v":0},0,{"$f":"IF(ISERROR(SEARCH(\"Gas\",Worksheet!$A$18))=TRUE,0,Worksheet!AH518)","v":0},0,null,null,{"$f":"IF(OR(Worksheet!F518=\"Incandescent\",Worksheet!F518=\"Halogen Incandescent\")=TRUE,118,IF(LEFT(Worksheet!F518,3)=\"HID\",117,IF(OR(RIGHT(Worksheet!F518,3)=\"T12\",RIGHT(Worksheet!F518,5)=\"T12HO\")=TRUE,115,IF(OR(RIGHT(Worksheet!F518,2)=\"T8\",RIGHT(Worksheet!F518,4)=\"RWT8\",RIGHT(Worksheet!F518,4)=\"T8HO\")=TRUE,115,\"\"))))","v":""},{"$f":"IF(ISBLANK(Worksheet!W518)=FALSE,Worksheet!W518,\"\")","v":0},{"$f":"IF(ISERROR(SEARCH(\"Oil\",Worksheet!$A$18))=TRUE,0,Worksheet!AH518)","v":0},0,{"$f":"IF(ISERROR(SEARCH(\"Propane\",Worksheet!$A$18))=TRUE,0,Worksheet!AH518)","v":0},0,{"$f":"IF(Worksheet!J518=0,\"\",Worksheet!J518)","v":""},{"$f":"IF(Worksheet!B518=0,\"\",Worksheet!B518)","v":""},{"$f":"IF(Worksheet!K518=0,\"\",Worksheet!K518)","v":""},{"$f":"IF(Worksheet!L518=0,\"\",Worksheet!L518)","v":""},{"$f":"IF(Worksheet!R518=0,\"\",Worksheet!R518)","v":""},{"$f":"IF(Worksheet!F518=0,\"\",Worksheet!F518)","v":""},{"$f":"IF(Worksheet!G518=0,\"\",Worksheet!G518)","v":""},{"$f":"IF(Worksheet!X518=0,\"\",Worksheet!X518)","v":""},{"$f":"IF(Worksheet!Q518=0,\"\",Worksheet!Q518)","v":""},{"$f":"IF(Worksheet!C518=0,\"\",Worksheet!C518)","v":""},{"$f":"IF(Worksheet!D518=0,\"\",Worksheet!D518)","v":""},{"$f":"IF(Worksheet!$A$11=TRUE,\"Y\",\"N\")","v":"N"},{"$f":"IF(Worksheet!$A$12=TRUE,\"Y\",\"N\")","v":"N"},{"$f":"IF(Worksheet!$B$11=TRUE,\"Y\",\"N\")","v":"N"},{"$f":"IF(Worksheet!$B$12=TRUE,\"Y\",\"N\")","v":"N"},{"$f":"IF(Worksheet!$C$11=TRUE,\"Y\",\"N\")","v":"N"},{"$f":"IFERROR(Worksheet!AB518,\"\")","v":0}]
[{"$f":"IF(IFERROR(SEARCH(\"Refrigerated\",Worksheet!L519,1),0)>0,122,IF(ISERROR(RIGHT(VLOOKUP(Worksheet!K519,Type!C$1:E$13,3,FALSE),3))=FALSE,RIGHT(VLOOKUP(Worksheet!K519,Type!C$1:E$13,3,FALSE),3),\"\"))","v":""},{"$f":"IF(Worksheet!M519=\"\",\"\",Worksheet!M519)","v":""},{"$f":"IF(Worksheet!N519=\"\",\"\",Worksheet!N519)","v":""},{"$f":"IF(Worksheet!Y519=0,\"\",Worksheet!Y519)","v":""},"Watts",null,null,{"$f":"Worksheet!AA519","v":0},{"$f":"IF(ISBLANK(Worksheet!V519)=FALSE,Worksheet!V519,\"\")","v":0},{"$f":"Worksheet!AG519","v":0},{"$f":"Worksheet!AF519","v":0},0,{"$f":"IF(ISERROR(SEARCH(\"Gas\",Worksheet!$A$18))=TRUE,0,Worksheet!AH519)","v":0},0,null,null,{"$f":"IF(OR(Worksheet!F519=\"Incandescent\",Worksheet!F519=\"Halogen Incandescent\")=TRUE,118,IF(LEFT(Worksheet!F519,3)=\"HID\",117,IF(OR(RIGHT(Worksheet!F519,3)=\"T12\",RIGHT(Worksheet!F519,5)=\"T12HO\")=TRUE,115,IF(OR(RIGHT(Worksheet!F519,2)=\"T8\",RIGHT(Worksheet!F519,4)=\"RWT8\",RIGHT(Worksheet!F519,4)=\"T8HO\")=TRUE,115,\"\"))))","v":""},{"$f":"IF(ISBLANK(Worksheet!W519)=FALSE,Worksheet!W519,\"\")","v":0},{"$f":"IF(ISERROR(SEARCH(\"Oil\",Worksheet!$A$18))=TRUE,0,Worksheet!AH519)","v":0},0,{"$f":"IF(ISERROR(SEARCH(\"Propane\",Worksheet!$A$18))=TRUE,0,Worksheet!AH519)","v":0},0,{"$f":"IF(Worksheet!J519=0,\"\",Worksheet!J519)","v":""},{"$f":"IF(Worksheet!B519=0,\"\",Worksheet!B519)","v":""},{"$f":"IF(Worksheet!K519=0,\"\",Worksheet!K519)","v":""},{"$f":"IF(Worksheet!L519=0,\"\",Worksheet!L519)","v":""},{"$f":"IF(Worksheet!R519=0,\"\",Worksheet!R519)","v":""},{"$f":"IF(Worksheet!F519=0,\"\",Worksheet!F519)","v":""},{"$f":"IF(Worksheet!G519=0,\"\",Worksheet!G519)","v":""},{"$f":"IF(Worksheet!X519=0,\"\",Worksheet!X519)","v":""},{"$f":"IF(Worksheet!Q519=0,\"\",Worksheet!Q519)","v":""},{"$f":"IF(Worksheet!C519=0,\"\",Worksheet!C519)","v":""},{"$f":"IF(Worksheet!D519=0,\"\",Worksheet!D519)","v":""},{"$f":"IF(Worksheet!$A$11=TRUE,\"Y\",\"N\")","v":"N"},{"$f":"IF(Worksheet!$A$12=TRUE,\"Y\",\"N\")","v":"N"},{"$f":"IF(Worksheet!$B$11=TRUE,\"Y\",\"N\")","v":"N"},{"$f":"IF(Worksheet!$B$12=TRUE,\"Y\",\"N\")","v":"N"},{"$f":"IF(Worksheet!$C$11=TRUE,\"Y\",\"N\")","v":"N"},{"$f":"IFERROR(Worksheet!AB519,\"\")","v":0}]
[{"$f":"IF(IFERROR(SEARCH(\"Refrigerated\",Worksheet!L520,1),0)>0,122,IF(ISERROR(RIGHT(VLOOKUP(Worksheet!K520,Type!C$1:E$13,3,FALSE),3))=FALSE,RIGHT(VLOOKUP(Worksheet!K520,Type!C$1:E$13,3,FALSE),3),\"\"))","v":""},{"$f":"IF(Worksheet!M520=\"\",\"\",Worksheet!M520)","v":""},{"$f":"IF(Worksheet!N520=\"\",\"\",Worksheet!N520)","v":""},{"$f":"IF(Worksheet!Y520=0,\"\",Worksheet!Y520)","v":""},"Watts",null,null,{"$f":"Worksheet!AA520","v":0},{"$f":"IF(ISBLANK(Worksheet!V520)=FALSE,Worksheet!V520,\"\")","v":0},{"$f":"Worksheet!AG520","v":0},{"$f":"Worksheet!AF520","v":0},0,{"$f":"IF(ISERROR(SEARCH(\"Gas\",Worksheet!$A$18))=TRUE,0,Worksheet!AH520)","v":0},0,null,null,{"$f":"IF(OR(Worksheet!F520=\"Incandescent\",Worksheet!F520=\"Halogen Incandescent\")=TRUE,118,IF(LEFT(Worksheet!F520,3)=\"HID\",117,IF(OR(RIGHT(Worksheet!F520,3)=\"T12\",RIGHT(Worksheet!F520,5)=\"T12HO\")=TRUE,115,IF(OR(RIGHT(Worksheet!F520,2)=\"T8\",RIGHT(Worksheet!F520,4)=\"RWT8\",RIGHT(Worksheet!F520,4)=\"T8HO\")=TRUE,115,\"\"))))","v":""},{"$f":"IF(ISBLANK(Worksheet!W520)=FALSE,Worksheet!W520,\"\")","v":0},{"$f":"IF(ISERROR(SEARCH(\"Oil\",Worksheet!$A$18))=TRUE,0,Worksheet!AH520)","v":0},0,{"$f":"IF(ISERROR(SEARCH(\"Propane\",Worksheet!$A$18))=TRUE,0,Worksheet!AH520)","v":0},0,{"$f":"IF(Worksheet!J520=0,\"\",Worksheet!J520)","v":""},{"$f":"IF(Worksheet!B520=0,\"\",Worksheet!B520)","v":""},{"$f":"IF(Worksheet!K520=0,\"\",Worksheet!K520)","v":""},{"$f":"IF(Worksheet!L520=0,\"\",Worksheet!L520)","v":""},{"$f":"IF(Worksheet!R520=0,\"\",Worksheet!R520)","v":""},{"$f":"IF(Worksheet!F520=0,\"\",Worksheet!F520)","v":""},{"$f":"IF(Worksheet!G520=0,\"\",Worksheet!G520)","v":""},{"$f":"IF(Worksheet!X520=0,\"\",Worksheet!X520)","v":""},{"$f":"IF(Worksheet!Q520=0,\"\",Worksheet!Q520)","v":""},{"$f":"IF(Worksheet!C520=0,\"\",Worksheet!C520)","v":""},{"$f":"IF(Worksheet!D520=0,\"\",Worksheet!D520)","v":""},{"$f":"IF(Worksheet!$A$11=TRUE,\"Y\",\"N\")","v":"N"},{"$f":"IF(Worksheet!$A$12=TRUE,\"Y\",\"N\")","v":"N"},{"$f":"IF(Worksheet!$B$11=TRUE,\"Y\",\"N\")","v":"N"},{"$f":"IF(Worksheet!$B$12=TRUE,\"Y\",\"N\")","v":"N"},{"$f":"IF(Worksheet!$C$11=TRUE,\"Y\",\"N\")","v":"N"},{"$f":"IFERROR(Worksheet!AB520,\"\")","v":0}]
[{"$f":"IF(IFERROR(SEARCH(\"Refrigerated\",Worksheet!L521,1),0)>0,122,IF(ISERROR(RIGHT(VLOOKUP(Worksheet!K521,Type!C$1:E$13,3,FALSE),3))=FALSE,RIGHT(VLOOKUP(Worksheet!K521,Type!C$1:E$13,3,FALSE),3),\"\"))","v":""},{"$f":"IF(Worksheet!M521=\"\",\"\",Worksheet!M521)","v":""},{"$f":"IF(Worksheet!N521=\"\",\"\",Worksheet!N521)","v":""},{"$f":"IF(Worksheet!Y521=0,\"\",Worksheet!Y521)","v":""},"Watts",null,null,{"$f":"Worksheet!AA521","v":0},{"$f":"IF(ISBLANK(Worksheet!V521)=FALSE,Worksheet!V521,\"\")","v":0},{"$f":"Worksheet!AG521","v":0},{"$f":"Worksheet!AF521","v":0},0,{"$f":"IF(ISERROR(SEARCH(\"Gas\",Worksheet!$A$18))=TRUE,0,Worksheet!AH521)","v":0},0,null,null,{"$f":"IF(OR(Worksheet!F521=\"Incandescent\",Worksheet!F521=\"Halogen Incandescent\")=TRUE,118,IF(LEFT(Worksheet!F521,3)=\"HID\",117,IF(OR(RIGHT(Worksheet!F521,3)=\"T12\",RIGHT(Worksheet!F521,5)=\"T12HO\")=TRUE,115,IF(OR(RIGHT(Worksheet!F521,2)=\"T8\",RIGHT(Worksheet!F521,4)=\"RWT8\",RIGHT(Worksheet!F521,4)=\"T8HO\")=TRUE,115,\"\"))))","v":""},{"$f":"IF(ISBLANK(Worksheet!W521)=FALSE,Worksheet!W521,\"\")","v":0},{"$f":"IF(ISERROR(SEARCH(\"Oil\",Worksheet!$A$18))=TRUE,0,Worksheet!AH521)","v":0},0,{"$f":"IF(ISERROR(SEARCH(\"Propane\",Worksheet!$A$18))=TRUE,0,Worksheet!AH521)","v":0},0,{"$f":"IF(Worksheet!J521=0,\"\",Worksheet!J521)","v":""},{"$f":"IF(Worksheet!B521=0,\"\",Worksheet!B521)","v":""},{"$f":"IF(Worksheet!K521=0,\"\",Worksheet!K521)","v":""},{"$f":"IF(Worksheet!L521=0,\"\",Worksheet!L521)","v":""},{"$f":"IF(Worksheet!R521=0,\"\",Worksheet!R521)","v":""},{"$f":"IF(Worksheet!F521=0,\"\",Worksheet!F521)","v":""},{"$f":"IF(Worksheet!G521=0,\"\",Worksheet!G521)","v":""},{"$f":"IF(Worksheet!X521=0,\"\",Worksheet!X521)","v":""},{"$f":"IF(Worksheet!Q521=0,\"\",Worksheet!Q521)","v":""},{"$f":"IF(Worksheet!C521=0,\"\",Worksheet!C521)","v":""},{"$f":"IF(Worksheet!D521=0,\"\",Worksheet!D521)","v":""},{"$f":"IF(Worksheet!$A$11=TRUE,\"Y\",\"N\")","v":"N"},{"$f":"IF(Worksheet!$A$12=TRUE,\"Y\",\"N\")","v":"N"},{"$f":"IF(Worksheet!$B$11=TRUE,\"Y\",\"N\")","v":"N"},{"$f":"IF(Worksheet!$B$12=TRUE,\"Y\",\"N\")","v":"N"},{"$f":"IF(Worksheet!$C$11=TRUE,\"Y\",\"N\")","v":"N"},{"$f":"IFERROR(Worksheet!AB521,\"\")","v":0}]
[{"$f":"IF(IFERROR(SEARCH(\"Refrigerated\",Worksheet!L522,1),0)>0,122,IF(ISERROR(RIGHT(VLOOKUP(Worksheet!K522,Type!C$1:E$13,3,FALSE),3))=FALSE,RIGHT(VLOOKUP(Worksheet!K522,Type!C$1:E$13,3,FALSE),3),\"\"))","v":""},{"$f":"IF(Worksheet!M522=\"\",\"\",Worksheet!M522)","v":""},{"$f":"IF(Worksheet!N522=\"\",\"\",Worksheet!N522)","v":""},{"$f":"IF(Worksheet!Y522=0,\"\",Worksheet!Y522)","v":""},"Watts",null,null,{"$f":"Worksheet!AA522","v":0},{"$f":"IF(ISBLANK(Worksheet!V522)=FALSE,Worksheet!V522,\"\")","v":0},{"$f":"Worksheet!AG522","v":0},{"$f":"Worksheet!AF522","v":0},0,{"$f":"IF(ISERROR(SEARCH(\"Gas\",Worksheet!$A$18))=TRUE,0,Worksheet!AH522)","v":0},0,null,null,{"$f":"IF(OR(Worksheet!F522=\"Incandescent\",Worksheet!F522=\"Halogen Incandescent\")=TRUE,118,IF(LEFT(Worksheet!F522,3)=\"HID\",117,IF(OR(RIGHT(Worksheet!F522,3)=\"T12\",RIGHT(Worksheet!F522,5)=\"T12HO\")=TRUE,115,IF(OR(RIGHT(Worksheet!F522,2)=\"T8\",RIGHT(Worksheet!F522,4)=\"RWT8\",RIGHT(Worksheet!F522,4)=\"T8HO\")=TRUE,115,\"\"))))","v":""},{"$f":"IF(ISBLANK(Worksheet!W522)=FALSE,Worksheet!W522,\"\")","v":0},{"$f":"IF(ISERROR(SEARCH(\"Oil\",Worksheet!$A$18))=TRUE,0,Worksheet!AH522)","v":0},0,{"$f":"IF(ISERROR(SEARCH(\"Propane\",Worksheet!$A$18))=TRUE,0,Worksheet!AH522)","v":0},0,{"$f":"IF(Worksheet!J522=0,\"\",Worksheet!J522)","v":""},{"$f":"IF(Worksheet!B522=0,\"\",Worksheet!B522)","v":""},{"$f":"IF(Worksheet!K522=0,\"\",Worksheet!K522)","v":""},{"$f":"IF(Worksheet!L522=0,\"\",Worksheet!L522)","v":""},{"$f":"IF(Worksheet!R522=0,\"\",Worksheet!R522)","v":""},{"$f":"IF(Worksheet!F522=0,\"\",Worksheet!F522)","v":""},{"$f":"IF(Worksheet!G522=0,\"\",Worksheet!G522)","v":""},{"$f":"IF(Worksheet!X522=0,\"\",Worksheet!X522)","v":""},{"$f":"IF(Worksheet!Q522=0,\"\",Worksheet!Q522)","v":""},{"$f":"IF(Worksheet!C522=0,\"\",Worksheet!C522)","v":""},{"$f":"IF(Worksheet!D522=0,\"\",Worksheet!D522)","v":""},{"$f":"IF(Worksheet!$A$11=TRUE,\"Y\",\"N\")","v":"N"},{"$f":"IF(Worksheet!$A$12=TRUE,\"Y\",\"N\")","v":"N"},{"$f":"IF(Worksheet!$B$11=TRUE,\"Y\",\"N\")","v":"N"},{"$f":"IF(Worksheet!$B$12=TRUE,\"Y\",\"N\")","v":"N"},{"$f":"IF(Worksheet!$C$11=TRUE,\"Y\",\"N\")","v":"N"},{"$f":"IFERROR(Worksheet!AB522,\"\")","v":0}]
[{"$f":"IF(IFERROR(SEARCH(\"Refrigerated\",Worksheet!L523,1),0)>0,122,IF(ISERROR(RIGHT(VLOOKUP(Worksheet!K523,Type!C$1:E$13,3,FALSE),3))=FALSE,RIGHT(VLOOKUP(Worksheet!K523,Type!C$1:E$13,3,FALSE),3),\"\"))","v":""},{"$f":"IF(Worksheet!M523=\"\",\"\",Worksheet!M523)","v":""},{"$f":"IF(Worksheet!N523=\"\",\"\",Worksheet!N523)","v":""},{"$f":"IF(Worksheet!Y523=0,\"\",Worksheet!Y523)","v":""},"Watts",null,null,{"$f":"Worksheet!AA523","v":0},{"$f":"IF(ISBLANK(Worksheet!V523)=FALSE,Worksheet!V523,\"\")","v":0},{"$f":"Worksheet!AG523","v":0},{"$f":"Worksheet!AF523","v":0},0,{"$f":"IF(ISERROR(SEARCH(\"Gas\",Worksheet!$A$18))=TRUE,0,Worksheet!AH523)","v":0},0,null,null,{"$f":"IF(OR(Worksheet!F523=\"Incandescent\",Worksheet!F523=\"Halogen Incandescent\")=TRUE,118,IF(LEFT(Worksheet!F523,3)=\"HID\",117,IF(OR(RIGHT(Worksheet!F523,3)=\"T12\",RIGHT(Worksheet!F523,5)=\"T12HO\")=TRUE,115,IF(OR(RIGHT(Worksheet!F523,2)=\"T8\",RIGHT(Worksheet!F523,4)=\"RWT8\",RIGHT(Worksheet!F523,4)=\"T8HO\")=TRUE,115,\"\"))))","v":""},{"$f":"IF(ISBLANK(Worksheet!W523)=FALSE,Worksheet!W523,\"\")","v":0},{"$f":"IF(ISERROR(SEARCH(\"Oil\",Worksheet!$A$18))=TRUE,0,Worksheet!AH523)","v":0},0,{"$f":"IF(ISERROR(SEARCH(\"Propane\",Worksheet!$A$18))=TRUE,0,Worksheet!AH523)","v":0},0,{"$f":"IF(Worksheet!J523=0,\"\",Worksheet!J523)","v":""},{"$f":"IF(Worksheet!B523=0,\"\",Worksheet!B523)","v":""},{"$f":"IF(Worksheet!K523=0,\"\",Worksheet!K523)","v":""},{"$f":"IF(Worksheet!L523=0,\"\",Worksheet!L523)","v":""},{"$f":"IF(Worksheet!R523=0,\"\",Worksheet!R523)","v":""},{"$f":"IF(Worksheet!F523=0,\"\",Worksheet!F523)","v":""},{"$f":"IF(Worksheet!G523=0,\"\",Worksheet!G523)","v":""},{"$f":"IF(Worksheet!X523=0,\"\",Worksheet!X523)","v":""},{"$f":"IF(Worksheet!Q523=0,\"\",Worksheet!Q523)","v":""},{"$f":"IF(Worksheet!C523=0,\"\",Worksheet!C523)","v":""},{"$f":"IF(Worksheet!D523=0,\"\",Worksheet!D523)","v":""},{"$f":"IF(Worksheet!$A$11=TRUE,\"Y\",\"N\")","v":"N"},{"$f":"IF(Worksheet!$A$12=TRUE,\"Y\",\"N\")","v":"N"},{"$f":"IF(Worksheet!$B$11=TRUE,\"Y\",\"N\")","v":"N"},{"$f":"IF(Worksheet!$B$12=TRUE,\"Y\",\"N\")","v":"N"},{"$f":"IF(Worksheet!$C$11=TRUE,\"Y\",\"N\")","v":"N"},{"$f":"IFERROR(Worksheet!AB523,\"\")","v":0}]
[{"$f":"IF(IFERROR(SEARCH(\"Refrigerated\",Worksheet!L524,1),0)>0,122,IF(ISERROR(RIGHT(VLOOKUP(Worksheet!K524,Type!C$1:E$13,3,FALSE),3))=FALSE,RIGHT(VLOOKUP(Worksheet!K524,Type!C$1:E$13,3,FALSE),3),\"\"))","v":""},{"$f":"IF(Worksheet!M524=\"\",\"\",Worksheet!M524)","v":""},{"$f":"IF(Worksheet!N524=\"\",\"\",Worksheet!N524)","v":""},{"$f":"IF(Worksheet!Y524=0,\"\",Worksheet!Y524)","v":""},"Watts",null,null,{"$f":"Worksheet!AA524","v":0},{"$f":"IF(ISBLANK(Worksheet!V524)=FALSE,Worksheet!V524,\"\")","v":0},{"$f":"Worksheet!AG524","v":0},{"$f":"Worksheet!AF524","v":0},0,{"$f":"IF(ISERROR(SEARCH(\"Gas\",Worksheet!$A$18))=TRUE,0,Worksheet!AH524)","v":0},0,null,null,{"$f":"IF(OR(Worksheet!F524=\"Incandescent\",Worksheet!F524=\"Halogen Incandescent\")=TRUE,118,IF(LEFT(Worksheet!F524,3)=\"HID\",117,IF(OR(RIGHT(Worksheet!F524,3)=\"T12\",RIGHT(Worksheet!F524,5)=\"T12HO\")=TRUE,115,IF(OR(RIGHT(Worksheet!F524,2)=\"T8\",RIGHT(Worksheet!F524,4)=\"RWT8\",RIGHT(Worksheet!F524,4)=\"T8HO\")=TRUE,115,\"\"))))","v":""},{"$f":"IF(ISBLANK(Worksheet!W524)=FALSE,Worksheet!W524,\"\")","v":0},{"$f":"IF(ISERROR(SEARCH(\"Oil\",Worksheet!$A$18))=TRUE,0,Worksheet!AH524)","v":0},0,{"$f":"IF(ISERROR(SEARCH(\"Propane\",Worksheet!$A$18))=TRUE,0,Worksheet!AH524)","v":0},0,{"$f":"IF(Worksheet!J524=0,\"\",Worksheet!J524)","v":""},{"$f":"IF(Worksheet!B524=0,\"\",Worksheet!B524)","v":""},{"$f":"IF(Worksheet!K524=0,\"\",Worksheet!K524)","v":""},{"$f":"IF(Worksheet!L524=0,\"\",Worksheet!L524)","v":""},{"$f":"IF(Worksheet!R524=0,\"\",Worksheet!R524)","v":""},{"$f":"IF(Worksheet!F524=0,\"\",Worksheet!F524)","v":""},{"$f":"IF(Worksheet!G524=0,\"\",Worksheet!G524)","v":""},{"$f":"IF(Worksheet!X524=0,\"\",Worksheet!X524)","v":""},{"$f":"IF(Worksheet!Q524=0,\"\",Worksheet!Q524)","v":""},{"$f":"IF(Worksheet!C524=0,\"\",Worksheet!C524)","v":""},{"$f":"IF(Worksheet!D524=0,\"\",Worksheet!D524)","v":""},{"$f":"IF(Worksheet!$A$11=TRUE,\"Y\",\"N\")","v":"N"},{"$f":"IF(Worksheet!$A$12=TRUE,\"Y\",\"N\")","v":"N"},{"$f":"IF(Worksheet!$B$11=TRUE,\"Y\",\"N\")","v":"N"},{"$f":"IF(Worksheet!$B$12=TRUE,\"Y\",\"N\")","v":"N"},{"$f":"IF(Worksheet!$C$11=TRUE,\"Y\",\"N\")","v":"N"},{"$f":"IFERROR(Worksheet!AB524,\"\")","v":0}]
[{"$f":"IF(IFERROR(SEARCH(\"Refrigerated\",Worksheet!L525,1),0)>0,122,IF(ISERROR(RIGHT(VLOOKUP(Worksheet!K525,Type!C$1:E$13,3,FALSE),3))=FALSE,RIGHT(VLOOKUP(Worksheet!K525,Type!C$1:E$13,3,FALSE),3),\"\"))","v":""},{"$f":"IF(Worksheet!M525=\"\",\"\",Worksheet!M525)","v":""},{"$f":"IF(Worksheet!N525=\"\",\"\",Worksheet!N525)","v":""},{"$f":"IF(Worksheet!Y525=0,\"\",Worksheet!Y525)","v":""},"Watts",null,null,{"$f":"Worksheet!AA525","v":0},{"$f":"IF(ISBLANK(Worksheet!V525)=FALSE,Worksheet!V525,\"\")","v":0},{"$f":"Worksheet!AG525","v":0},{"$f":"Worksheet!AF525","v":0},0,{"$f":"IF(ISERROR(SEARCH(\"Gas\",Worksheet!$A$18))=TRUE,0,Worksheet!AH525)","v":0},0,null,null,{"$f":"IF(OR(Worksheet!F525=\"Incandescent\",Worksheet!F525=\"Halogen Incandescent\")=TRUE,118,IF(LEFT(Worksheet!F525,3)=\"HID\",117,IF(OR(RIGHT(Worksheet!F525,3)=\"T12\",RIGHT(Worksheet!F525,5)=\"T12HO\")=TRUE,115,IF(OR(RIGHT(Worksheet!F525,2)=\"T8\",RIGHT(Worksheet!F525,4)=\"RWT8\",RIGHT(Worksheet!F525,4)=\"T8HO\")=TRUE,115,\"\"))))","v":""},{"$f":"IF(ISBLANK(Worksheet!W525)=FALSE,Worksheet!W525,\"\")","v":0},{"$f":"IF(ISERROR(SEARCH(\"Oil\",Worksheet!$A$18))=TRUE,0,Worksheet!AH525)","v":0},0,{"$f":"IF(ISERROR(SEARCH(\"Propane\",Worksheet!$A$18))=TRUE,0,Worksheet!AH525)","v":0},0,{"$f":"IF(Worksheet!J525=0,\"\",Worksheet!J525)","v":""},{"$f":"IF(Worksheet!B525=0,\"\",Worksheet!B525)","v":""},{"$f":"IF(Worksheet!K525=0,\"\",Worksheet!K525)","v":""},{"$f":"IF(Worksheet!L525=0,\"\",Worksheet!L525)","v":""},{"$f":"IF(Worksheet!R525=0,\"\",Worksheet!R525)","v":""},{"$f":"IF(Worksheet!F525=0,\"\",Worksheet!F525)","v":""},{"$f":"IF(Worksheet!G525=0,\"\",Worksheet!G525)","v":""},{"$f":"IF(Worksheet!X525=0,\"\",Worksheet!X525)","v":""},{"$f":"IF(Worksheet!Q525=0,\"\",Worksheet!Q525)","v":""},{"$f":"IF(Worksheet!C525=0,\"\",Worksheet!C525)","v":""},{"$f":"IF(Worksheet!D525=0,\"\",Worksheet!D525)","v":""},{"$f":"IF(Worksheet!$A$11=TRUE,\"Y\",\"N\")","v":"N"},{"$f":"IF(Worksheet!$A$12=TRUE,\"Y\",\"N\")","v":"N"},{"$f":"IF(Worksheet!$B$11=TRUE,\"Y\",\"N\")","v":"N"},{"$f":"IF(Worksheet!$B$12=TRUE,\"Y\",\"N\")","v":"N"},{"$f":"IF(Worksheet!$C$11=TRUE,\"Y\",\"N\")","v":"N"},{"$f":"IFERROR(Worksheet!AB525,\"\")","v":0}]
[{"$f":"IF(IFERROR(SEARCH(\"Refrigerated\",Worksheet!L526,1),0)>0,122,IF(ISERROR(RIGHT(VLOOKUP(Worksheet!K526,Type!C$1:E$13,3,FALSE),3))=FALSE,RIGHT(VLOOKUP(Worksheet!K526,Type!C$1:E$13,3,FALSE),3),\"\"))","v":""},{"$f":"IF(Worksheet!M526=\"\",\"\",Worksheet!M526)","v":""},{"$f":"IF(Worksheet!N526=\"\",\"\",Worksheet!N526)","v":""},{"$f":"IF(Worksheet!Y526=0,\"\",Worksheet!Y526)","v":""},"Watts",null,null,{"$f":"Worksheet!AA526","v":0},{"$f":"IF(ISBLANK(Worksheet!V526)=FALSE,Worksheet!V526,\"\")","v":0},{"$f":"Worksheet!AG526","v":0},{"$f":"Worksheet!AF526","v":0},0,{"$f":"IF(ISERROR(SEARCH(\"Gas\",Worksheet!$A$18))=TRUE,0,Worksheet!AH526)","v":0},0,null,null,{"$f":"IF(OR(Worksheet!F526=\"Incandescent\",Worksheet!F526=\"Halogen Incandescent\")=TRUE,118,IF(LEFT(Worksheet!F526,3)=\"HID\",117,IF(OR(RIGHT(Worksheet!F526,3)=\"T12\",RIGHT(Worksheet!F526,5)=\"T12HO\")=TRUE,115,IF(OR(RIGHT(Worksheet!F526,2)=\"T8\",RIGHT(Worksheet!F526,4)=\"RWT8\",RIGHT(Worksheet!F526,4)=\"T8HO\")=TRUE,115,\"\"))))","v":""},{"$f":"IF(ISBLANK(Worksheet!W526)=FALSE,Worksheet!W526,\"\")","v":0},{"$f":"IF(ISERROR(SEARCH(\"Oil\",Worksheet!$A$18))=TRUE,0,Worksheet!AH526)","v":0},0,{"$f":"IF(ISERROR(SEARCH(\"Propane\",Worksheet!$A$18))=TRUE,0,Worksheet!AH526)","v":0},0,{"$f":"IF(Worksheet!J526=0,\"\",Worksheet!J526)","v":""},{"$f":"IF(Worksheet!B526=0,\"\",Worksheet!B526)","v":""},{"$f":"IF(Worksheet!K526=0,\"\",Worksheet!K526)","v":""},{"$f":"IF(Worksheet!L526=0,\"\",Worksheet!L526)","v":""},{"$f":"IF(Worksheet!R526=0,\"\",Worksheet!R526)","v":""},{"$f":"IF(Worksheet!F526=0,\"\",Worksheet!F526)","v":""},{"$f":"IF(Worksheet!G526=0,\"\",Worksheet!G526)","v":""},{"$f":"IF(Worksheet!X526=0,\"\",Worksheet!X526)","v":""},{"$f":"IF(Worksheet!Q526=0,\"\",Worksheet!Q526)","v":""},{"$f":"IF(Worksheet!C526=0,\"\",Worksheet!C526)","v":""},{"$f":"IF(Worksheet!D526=0,\"\",Worksheet!D526)","v":""},{"$f":"IF(Worksheet!$A$11=TRUE,\"Y\",\"N\")","v":"N"},{"$f":"IF(Worksheet!$A$12=TRUE,\"Y\",\"N\")","v":"N"},{"$f":"IF(Worksheet!$B$11=TRUE,\"Y\",\"N\")","v":"N"},{"$f":"IF(Worksheet!$B$12=TRUE,\"Y\",\"N\")","v":"N"},{"$f":"IF(Worksheet!$C$11=TRUE,\"Y\",\"N\")","v":"N"},{"$f":"IFERROR(Worksheet!AB526,\"\")","v":0}]
[{"$f":"IF(IFERROR(SEARCH(\"Refrigerated\",Worksheet!L527,1),0)>0,122,IF(ISERROR(RIGHT(VLOOKUP(Worksheet!K527,Type!C$1:E$13,3,FALSE),3))=FALSE,RIGHT(VLOOKUP(Worksheet!K527,Type!C$1:E$13,3,FALSE),3),\"\"))","v":""},{"$f":"IF(Worksheet!M527=\"\",\"\",Worksheet!M527)","v":""},{"$f":"IF(Worksheet!N527=\"\",\"\",Worksheet!N527)","v":""},{"$f":"IF(Worksheet!Y527=0,\"\",Worksheet!Y527)","v":""},"Watts",null,null,{"$f":"Worksheet!AA527","v":0},{"$f":"IF(ISBLANK(Worksheet!V527)=FALSE,Worksheet!V527,\"\")","v":0},{"$f":"Worksheet!AG527","v":0},{"$f":"Worksheet!AF527","v":0},0,{"$f":"IF(ISERROR(SEARCH(\"Gas\",Worksheet!$A$18))=TRUE,0,Worksheet!AH527)","v":0},0,null,null,{"$f":"IF(OR(Worksheet!F527=\"Incandescent\",Worksheet!F527=\"Halogen Incandescent\")=TRUE,118,IF(LEFT(Worksheet!F527,3)=\"HID\",117,IF(OR(RIGHT(Worksheet!F527,3)=\"T12\",RIGHT(Worksheet!F527,5)=\"T12HO\")=TRUE,115,IF(OR(RIGHT(Worksheet!F527,2)=\"T8\",RIGHT(Worksheet!F527,4)=\"RWT8\",RIGHT(Worksheet!F527,4)=\"T8HO\")=TRUE,115,\"\"))))","v":""},{"$f":"IF(ISBLANK(Worksheet!W527)=FALSE,Worksheet!W527,\"\")","v":0},{"$f":"IF(ISERROR(SEARCH(\"Oil\",Worksheet!$A$18))=TRUE,0,Worksheet!AH527)","v":0},0,{"$f":"IF(ISERROR(SEARCH(\"Propane\",Worksheet!$A$18))=TRUE,0,Worksheet!AH527)","v":0},0,{"$f":"IF(Worksheet!J527=0,\"\",Worksheet!J527)","v":""},{"$f":"IF(Worksheet!B527=0,\"\",Worksheet!B527)","v":""},{"$f":"IF(Worksheet!K527=0,\"\",Worksheet!K527)","v":""},{"$f":"IF(Worksheet!L527=0,\"\",Worksheet!L527)","v":""},{"$f":"IF(Worksheet!R527=0,\"\",Worksheet!R527)","v":""},{"$f":"IF(Worksheet!F527=0,\"\",Worksheet!F527)","v":""},{"$f":"IF(Worksheet!G527=0,\"\",Worksheet!G527)","v":""},{"$f":"IF(Worksheet!X527=0,\"\",Worksheet!X527)","v":""},{"$f":"IF(Worksheet!Q527=0,\"\",Worksheet!Q527)","v":""},{"$f":"IF(Worksheet!C527=0,\"\",Worksheet!C527)","v":""},{"$f":"IF(Worksheet!D527=0,\"\",Worksheet!D527)","v":""},{"$f":"IF(Worksheet!$A$11=TRUE,\"Y\",\"N\")","v":"N"},{"$f":"IF(Worksheet!$A$12=TRUE,\"Y\",\"N\")","v":"N"},{"$f":"IF(Worksheet!$B$11=TRUE,\"Y\",\"N\")","v":"N"},{"$f":"IF(Worksheet!$B$12=TRUE,\"Y\",\"N\")","v":"N"},{"$f":"IF(Worksheet!$C$11=TRUE,\"Y\",\"N\")","v":"N"},{"$f":"IFERROR(Worksheet!AB527,\"\")","v":0}]
[{"$f":"IF(IFERROR(SEARCH(\"Refrigerated\",Worksheet!L528,1),0)>0,122,IF(ISERROR(RIGHT(VLOOKUP(Worksheet!K528,Type!C$1:E$13,3,FALSE),3))=FALSE,RIGHT(VLOOKUP(Worksheet!K528,Type!C$1:E$13,3,FALSE),3),\"\"))","v":""},{"$f":"IF(Worksheet!M528=\"\",\"\",Worksheet!M528)","v":""},{"$f":"IF(Worksheet!N528=\"\",\"\",Worksheet!N528)","v":""},{"$f":"IF(Worksheet!Y528=0,\"\",Worksheet!Y528)","v":""},"Watts",null,null,{"$f":"Worksheet!AA528","v":0},{"$f":"IF(ISBLANK(Worksheet!V528)=FALSE,Worksheet!V528,\"\")","v":0},{"$f":"Worksheet!AG528","v":0},{"$f":"Worksheet!AF528","v":0},0,{"$f":"IF(ISERROR(SEARCH(\"Gas\",Worksheet!$A$18))=TRUE,0,Worksheet!AH528)","v":0},0,null,null,{"$f":"IF(OR(Worksheet!F528=\"Incandescent\",Worksheet!F528=\"Halogen Incandescent\")=TRUE,118,IF(LEFT(Worksheet!F528,3)=\"HID\",117,IF(OR(RIGHT(Worksheet!F528,3)=\"T12\",RIGHT(Worksheet!F528,5)=\"T12HO\")=TRUE,115,IF(OR(RIGHT(Worksheet!F528,2)=\"T8\",RIGHT(Worksheet!F528,4)=\"RWT8\",RIGHT(Worksheet!F528,4)=\"T8HO\")=TRUE,115,\"\"))))","v":""},{"$f":"IF(ISBLANK(Worksheet!W528)=FALSE,Worksheet!W528,\"\")","v":0},{"$f":"IF(ISERROR(SEARCH(\"Oil\",Worksheet!$A$18))=TRUE,0,Worksheet!AH528)","v":0},0,{"$f":"IF(ISERROR(SEARCH(\"Propane\",Worksheet!$A$18))=TRUE,0,Worksheet!AH528)","v":0},0,{"$f":"IF(Worksheet!J528=0,\"\",Worksheet!J528)","v":""},{"$f":"IF(Worksheet!B528=0,\"\",Worksheet!B528)","v":""},{"$f":"IF(Worksheet!K528=0,\"\",Worksheet!K528)","v":""},{"$f":"IF(Worksheet!L528=0,\"\",Worksheet!L528)","v":""},{"$f":"IF(Worksheet!R528=0,\"\",Worksheet!R528)","v":""},{"$f":"IF(Worksheet!F528=0,\"\",Worksheet!F528)","v":""},{"$f":"IF(Worksheet!G528=0,\"\",Worksheet!G528)","v":""},{"$f":"IF(Worksheet!X528=0,\"\",Worksheet!X528)","v":""},{"$f":"IF(Worksheet!Q528=0,\"\",Worksheet!Q528)","v":""},{"$f":"IF(Worksheet!C528=0,\"\",Worksheet!C528)","v":""},{"$f":"IF(Worksheet!D528=0,\"\",Worksheet!D528)","v":""},{"$f":"IF(Worksheet!$A$11=TRUE,\"Y\",\"N\")","v":"N"},{"$f":"IF(Worksheet!$A$12=TRUE,\"Y\",\"N\")","v":"N"},{"$f":"IF(Worksheet!$B$11=TRUE,\"Y\",\"N\")","v":"N"},{"$f":"IF(Worksheet!$B$12=TRUE,\"Y\",\"N\")","v":"N"},{"$f":"IF(Worksheet!$C$11=TRUE,\"Y\",\"N\")","v":"N"},{"$f":"IFERROR(Worksheet!AB528,\"\")","v":0}]
[{"$f":"IF(IFERROR(SEARCH(\"Refrigerated\",Worksheet!L529,1),0)>0,122,IF(ISERROR(RIGHT(VLOOKUP(Worksheet!K529,Type!C$1:E$13,3,FALSE),3))=FALSE,RIGHT(VLOOKUP(Worksheet!K529,Type!C$1:E$13,3,FALSE),3),\"\"))","v":""},{"$f":"IF(Worksheet!M529=\"\",\"\",Worksheet!M529)","v":""},{"$f":"IF(Worksheet!N529=\"\",\"\",Worksheet!N529)","v":""},{"$f":"IF(Worksheet!Y529=0,\"\",Worksheet!Y529)","v":""},"Watts",null,null,{"$f":"Worksheet!AA529","v":0},{"$f":"IF(ISBLANK(Worksheet!V529)=FALSE,Worksheet!V529,\"\")","v":0},{"$f":"Worksheet!AG529","v":0},{"$f":"Worksheet!AF529","v":0},0,{"$f":"IF(ISERROR(SEARCH(\"Gas\",Worksheet!$A$18))=TRUE,0,Worksheet!AH529)","v":0},0,null,null,{"$f":"IF(OR(Worksheet!F529=\"Incandescent\",Worksheet!F529=\"Halogen Incandescent\")=TRUE,118,IF(LEFT(Worksheet!F529,3)=\"HID\",117,IF(OR(RIGHT(Worksheet!F529,3)=\"T12\",RIGHT(Worksheet!F529,5)=\"T12HO\")=TRUE,115,IF(OR(RIGHT(Worksheet!F529,2)=\"T8\",RIGHT(Worksheet!F529,4)=\"RWT8\",RIGHT(Worksheet!F529,4)=\"T8HO\")=TRUE,115,\"\"))))","v":""},{"$f":"IF(ISBLANK(Worksheet!W529)=FALSE,Worksheet!W529,\"\")","v":0},{"$f":"IF(ISERROR(SEARCH(\"Oil\",Worksheet!$A$18))=TRUE,0,Worksheet!AH529)","v":0},0,{"$f":"IF(ISERROR(SEARCH(\"Propane\",Worksheet!$A$18))=TRUE,0,Worksheet!AH529)","v":0},0,{"$f":"IF(Worksheet!J529=0,\"\",Worksheet!J529)","v":""},{"$f":"IF(Worksheet!B529=0,\"\",Worksheet!B529)","v":""},{"$f":"IF(Worksheet!K529=0,\"\",Worksheet!K529)","v":""},{"$f":"IF(Worksheet!L529=0,\"\",Worksheet!L529)","v":""},{"$f":"IF(Worksheet!R529=0,\"\",Worksheet!R529)","v":""},{"$f":"IF(Worksheet!F529=0,\"\",Worksheet!F529)","v":""},{"$f":"IF(Worksheet!G529=0,\"\",Worksheet!G529)","v":""},{"$f":"IF(Worksheet!X529=0,\"\",Worksheet!X529)","v":""},{"$f":"IF(Worksheet!Q529=0,\"\",Worksheet!Q529)","v":""},{"$f":"IF(Worksheet!C529=0,\"\",Worksheet!C529)","v":""},{"$f":"IF(Worksheet!D529=0,\"\",Worksheet!D529)","v":""},{"$f":"IF(Worksheet!$A$11=TRUE,\"Y\",\"N\")","v":"N"},{"$f":"IF(Worksheet!$A$12=TRUE,\"Y\",\"N\")","v":"N"},{"$f":"IF(Worksheet!$B$11=TRUE,\"Y\",\"N\")","v":"N"},{"$f":"IF(Worksheet!$B$12=TRUE,\"Y\",\"N\")","v":"N"},{"$f":"IF(Worksheet!$C$11=TRUE,\"Y\",\"N\")","v":"N"},{"$f":"IFERROR(Worksheet!AB529,\"\")","v":0}]
[{"$f":"IF(IFERROR(SEARCH(\"Refrigerated\",Worksheet!L530,1),0)>0,122,IF(ISERROR(RIGHT(VLOOKUP(Worksheet!K530,Type!C$1:E$13,3,FALSE),3))=FALSE,RIGHT(VLOOKUP(Worksheet!K530,Type!C$1:E$13,3,FALSE),3),\"\"))","v":""},{"$f":"IF(Worksheet!M530=\"\",\"\",Worksheet!M530)","v":""},{"$f":"IF(Worksheet!N530=\"\",\"\",Worksheet!N530)","v":""},{"$f":"IF(Worksheet!Y530=0,\"\",Worksheet!Y530)","v":""},"Watts",null,null,{"$f":"Worksheet!AA530","v":0},{"$f":"IF(ISBLANK(Worksheet!V530)=FALSE,Worksheet!V530,\"\")","v":0},{"$f":"Worksheet!AG530","v":0},{"$f":"Worksheet!AF530","v":0},0,{"$f":"IF(ISERROR(SEARCH(\"Gas\",Worksheet!$A$18))=TRUE,0,Worksheet!AH530)","v":0},0,null,null,{"$f":"IF(OR(Worksheet!F530=\"Incandescent\",Worksheet!F530=\"Halogen Incandescent\")=TRUE,118,IF(LEFT(Worksheet!F530,3)=\"HID\",117,IF(OR(RIGHT(Worksheet!F530,3)=\"T12\",RIGHT(Worksheet!F530,5)=\"T12HO\")=TRUE,115,IF(OR(RIGHT(Worksheet!F530,2)=\"T8\",RIGHT(Worksheet!F530,4)=\"RWT8\",RIGHT(Worksheet!F530,4)=\"T8HO\")=TRUE,115,\"\"))))","v":""},{"$f":"IF(ISBLANK(Worksheet!W530)=FALSE,Worksheet!W530,\"\")","v":0},{"$f":"IF(ISERROR(SEARCH(\"Oil\",Worksheet!$A$18))=TRUE,0,Worksheet!AH530)","v":0},0,{"$f":"IF(ISERROR(SEARCH(\"Propane\",Worksheet!$A$18))=TRUE,0,Worksheet!AH530)","v":0},0,{"$f":"IF(Worksheet!J530=0,\"\",Worksheet!J530)","v":""},{"$f":"IF(Worksheet!B530=0,\"\",Worksheet!B530)","v":""},{"$f":"IF(Worksheet!K530=0,\"\",Worksheet!K530)","v":""},{"$f":"IF(Worksheet!L530=0,\"\",Worksheet!L530)","v":""},{"$f":"IF(Worksheet!R530=0,\"\",Worksheet!R530)","v":""},{"$f":"IF(Worksheet!F530=0,\"\",Worksheet!F530)","v":""},{"$f":"IF(Worksheet!G530=0,\"\",Worksheet!G530)","v":""},{"$f":"IF(Worksheet!X530=0,\"\",Worksheet!X530)","v":""},{"$f":"IF(Worksheet!Q530=0,\"\",Worksheet!Q530)","v":""},{"$f":"IF(Worksheet!C530=0,\"\",Worksheet!C530)","v":""},{"$f":"IF(Worksheet!D530=0,\"\",Worksheet!D530)","v":""},{"$f":"IF(Worksheet!$A$11=TRUE,\"Y\",\"N\")","v":"N"},{"$f":"IF(Worksheet!$A$12=TRUE,\"Y\",\"N\")","v":"N"},{"$f":"IF(Worksheet!$B$11=TRUE,\"Y\",\"N\")","v":"N"},{"$f":"IF(Worksheet!$B$12=TRUE,\"Y\",\"N\")","v":"N"},{"$f":"IF(Worksheet!$C$11=TRUE,\"Y\",\"N\")","v":"N"},{"$f":"IFERROR(Worksheet!AB530,\"\")","v":0}]
[{"$f":"IF(IFERROR(SEARCH(\"Refrigerated\",Worksheet!L531,1),0)>0,122,IF(ISERROR(RIGHT(VLOOKUP(Worksheet!K531,Type!C$1:E$13,3,FALSE),3))=FALSE,RIGHT(VLOOKUP(Worksheet!K531,Type!C$1:E$13,3,FALSE),3),\"\"))","v":""},{"$f":"IF(Worksheet!M531=\"\",\"\",Worksheet!M531)","v":""},{"$f":"IF(Worksheet!N531=\"\",\"\",Worksheet!N531)","v":""},{"$f":"IF(Worksheet!Y531=0,\"\",Worksheet!Y531)","v":""},"Watts",null,null,{"$f":"Worksheet!AA531","v":0},{"$f":"IF(ISBLANK(Worksheet!V531)=FALSE,Worksheet!V531,\"\")","v":0},{"$f":"Worksheet!AG531","v":0},{"$f":"Worksheet!AF531","v":0},0,{"$f":"IF(ISERROR(SEARCH(\"Gas\",Worksheet!$A$18))=TRUE,0,Worksheet!AH531)","v":0},0,null,null,{"$f":"IF(OR(Worksheet!F531=\"Incandescent\",Worksheet!F531=\"Halogen Incandescent\")=TRUE,118,IF(LEFT(Worksheet!F531,3)=\"HID\",117,IF(OR(RIGHT(Worksheet!F531,3)=\"T12\",RIGHT(Worksheet!F531,5)=\"T12HO\")=TRUE,115,IF(OR(RIGHT(Worksheet!F531,2)=\"T8\",RIGHT(Worksheet!F531,4)=\"RWT8\",RIGHT(Worksheet!F531,4)=\"T8HO\")=TRUE,115,\"\"))))","v":""},{"$f":"IF(ISBLANK(Worksheet!W531)=FALSE,Worksheet!W531,\"\")","v":0},{"$f":"IF(ISERROR(SEARCH(\"Oil\",Worksheet!$A$18))=TRUE,0,Worksheet!AH531)","v":0},0,{"$f":"IF(ISERROR(SEARCH(\"Propane\",Worksheet!$A$18))=TRUE,0,Worksheet!AH531)","v":0},0,{"$f":"IF(Worksheet!J531=0,\"\",Worksheet!J531)","v":""},{"$f":"IF(Worksheet!B531=0,\"\",Worksheet!B531)","v":""},{"$f":"IF(Worksheet!K531=0,\"\",Worksheet!K531)","v":""},{"$f":"IF(Worksheet!L531=0,\"\",Worksheet!L531)","v":""},{"$f":"IF(Worksheet!R531=0,\"\",Worksheet!R531)","v":""},{"$f":"IF(Worksheet!F531=0,\"\",Worksheet!F531)","v":""},{"$f":"IF(Worksheet!G531=0,\"\",Worksheet!G531)","v":""},{"$f":"IF(Worksheet!X531=0,\"\",Worksheet!X531)","v":""},{"$f":"IF(Worksheet!Q531=0,\"\",Worksheet!Q531)","v":""},{"$f":"IF(Worksheet!C531=0,\"\",Worksheet!C531)","v":""},{"$f":"IF(Worksheet!D531=0,\"\",Worksheet!D531)","v":""},{"$f":"IF(Worksheet!$A$11=TRUE,\"Y\",\"N\")","v":"N"},{"$f":"IF(Worksheet!$A$12=TRUE,\"Y\",\"N\")","v":"N"},{"$f":"IF(Worksheet!$B$11=TRUE,\"Y\",\"N\")","v":"N"},{"$f":"IF(Worksheet!$B$12=TRUE,\"Y\",\"N\")","v":"N"},{"$f":"IF(Worksheet!$C$11=TRUE,\"Y\",\"N\")","v":"N"},{"$f":"IFERROR(Worksheet!AB531,\"\")","v":0}]
[{"$f":"IF(IFERROR(SEARCH(\"Refrigerated\",Worksheet!L532,1),0)>0,122,IF(ISERROR(RIGHT(VLOOKUP(Worksheet!K532,Type!C$1:E$13,3,FALSE),3))=FALSE,RIGHT(VLOOKUP(Worksheet!K532,Type!C$1:E$13,3,FALSE),3),\"\"))","v":""},{"$f":"IF(Worksheet!M532=\"\",\"\",Worksheet!M532)","v":""},{"$f":"IF(Worksheet!N532=\"\",\"\",Worksheet!N532)","v":""},{"$f":"IF(Worksheet!Y532=0,\"\",Worksheet!Y532)","v":""},"Watts",null,null,{"$f":"Worksheet!AA532","v":0},{"$f":"IF(ISBLANK(Worksheet!V532)=FALSE,Worksheet!V532,\"\")","v":0},{"$f":"Worksheet!AG532","v":0},{"$f":"Worksheet!AF532","v":0},0,{"$f":"IF(ISERROR(SEARCH(\"Gas\",Worksheet!$A$18))=TRUE,0,Worksheet!AH532)","v":0},0,null,null,{"$f":"IF(OR(Worksheet!F532=\"Incandescent\",Worksheet!F532=\"Halogen Incandescent\")=TRUE,118,IF(LEFT(Worksheet!F532,3)=\"HID\",117,IF(OR(RIGHT(Worksheet!F532,3)=\"T12\",RIGHT(Worksheet!F532,5)=\"T12HO\")=TRUE,115,IF(OR(RIGHT(Worksheet!F532,2)=\"T8\",RIGHT(Worksheet!F532,4)=\"RWT8\",RIGHT(Worksheet!F532,4)=\"T8HO\")=TRUE,115,\"\"))))","v":""},{"$f":"IF(ISBLANK(Worksheet!W532)=FALSE,Worksheet!W532,\"\")","v":0},{"$f":"IF(ISERROR(SEARCH(\"Oil\",Worksheet!$A$18))=TRUE,0,Worksheet!AH532)","v":0},0,{"$f":"IF(ISERROR(SEARCH(\"Propane\",Worksheet!$A$18))=TRUE,0,Worksheet!AH532)","v":0},0,{"$f":"IF(Worksheet!J532=0,\"\",Worksheet!J532)","v":""},{"$f":"IF(Worksheet!B532=0,\"\",Worksheet!B532)","v":""},{"$f":"IF(Worksheet!K532=0,\"\",Worksheet!K532)","v":""},{"$f":"IF(Worksheet!L532=0,\"\",Worksheet!L532)","v":""},{"$f":"IF(Worksheet!R532=0,\"\",Worksheet!R532)","v":""},{"$f":"IF(Worksheet!F532=0,\"\",Worksheet!F532)","v":""},{"$f":"IF(Worksheet!G532=0,\"\",Worksheet!G532)","v":""},{"$f":"IF(Worksheet!X532=0,\"\",Worksheet!X532)","v":""},{"$f":"IF(Worksheet!Q532=0,\"\",Worksheet!Q532)","v":""},{"$f":"IF(Worksheet!C532=0,\"\",Worksheet!C532)","v":""},{"$f":"IF(Worksheet!D532=0,\"\",Worksheet!D532)","v":""},{"$f":"IF(Worksheet!$A$11=TRUE,\"Y\",\"N\")","v":"N"},{"$f":"IF(Worksheet!$A$12=TRUE,\"Y\",\"N\")","v":"N"},{"$f":"IF(Worksheet!$B$11=TRUE,\"Y\",\"N\")","v":"N"},{"$f":"IF(Worksheet!$B$12=TRUE,\"Y\",\"N\")","v":"N"},{"$f":"IF(Worksheet!$C$11=TRUE,\"Y\",\"N\")","v":"N"},{"$f":"IFERROR(Worksheet!AB532,\"\")","v":0}]
[{"$f":"IF(IFERROR(SEARCH(\"Refrigerated\",Worksheet!L533,1),0)>0,122,IF(ISERROR(RIGHT(VLOOKUP(Worksheet!K533,Type!C$1:E$13,3,FALSE),3))=FALSE,RIGHT(VLOOKUP(Worksheet!K533,Type!C$1:E$13,3,FALSE),3),\"\"))","v":""},{"$f":"IF(Worksheet!M533=\"\",\"\",Worksheet!M533)","v":""},{"$f":"IF(Worksheet!N533=\"\",\"\",Worksheet!N533)","v":""},{"$f":"IF(Worksheet!Y533=0,\"\",Worksheet!Y533)","v":""},"Watts",null,null,{"$f":"Worksheet!AA533","v":0},{"$f":"IF(ISBLANK(Worksheet!V533)=FALSE,Worksheet!V533,\"\")","v":0},{"$f":"Worksheet!AG533","v":0},{"$f":"Worksheet!AF533","v":0},0,{"$f":"IF(ISERROR(SEARCH(\"Gas\",Worksheet!$A$18))=TRUE,0,Worksheet!AH533)","v":0},0,null,null,{"$f":"IF(OR(Worksheet!F533=\"Incandescent\",Worksheet!F533=\"Halogen Incandescent\")=TRUE,118,IF(LEFT(Worksheet!F533,3)=\"HID\",117,IF(OR(RIGHT(Worksheet!F533,3)=\"T12\",RIGHT(Worksheet!F533,5)=\"T12HO\")=TRUE,115,IF(OR(RIGHT(Worksheet!F533,2)=\"T8\",RIGHT(Worksheet!F533,4)=\"RWT8\",RIGHT(Worksheet!F533,4)=\"T8HO\")=TRUE,115,\"\"))))","v":""},{"$f":"IF(ISBLANK(Worksheet!W533)=FALSE,Worksheet!W533,\"\")","v":0},{"$f":"IF(ISERROR(SEARCH(\"Oil\",Worksheet!$A$18))=TRUE,0,Worksheet!AH533)","v":0},0,{"$f":"IF(ISERROR(SEARCH(\"Propane\",Worksheet!$A$18))=TRUE,0,Worksheet!AH533)","v":0},0,{"$f":"IF(Worksheet!J533=0,\"\",Worksheet!J533)","v":""},{"$f":"IF(Worksheet!B533=0,\"\",Worksheet!B533)","v":""},{"$f":"IF(Worksheet!K533=0,\"\",Worksheet!K533)","v":""},{"$f":"IF(Worksheet!L533=0,\"\",Worksheet!L533)","v":""},{"$f":"IF(Worksheet!R533=0,\"\",Worksheet!R533)","v":""},{"$f":"IF(Worksheet!F533=0,\"\",Worksheet!F533)","v":""},{"$f":"IF(Worksheet!G533=0,\"\",Worksheet!G533)","v":""},{"$f":"IF(Worksheet!X533=0,\"\",Worksheet!X533)","v":""},{"$f":"IF(Worksheet!Q533=0,\"\",Worksheet!Q533)","v":""},{"$f":"IF(Worksheet!C533=0,\"\",Worksheet!C533)","v":""},{"$f":"IF(Worksheet!D533=0,\"\",Worksheet!D533)","v":""},{"$f":"IF(Worksheet!$A$11=TRUE,\"Y\",\"N\")","v":"N"},{"$f":"IF(Worksheet!$A$12=TRUE,\"Y\",\"N\")","v":"N"},{"$f":"IF(Worksheet!$B$11=TRUE,\"Y\",\"N\")","v":"N"},{"$f":"IF(Worksheet!$B$12=TRUE,\"Y\",\"N\")","v":"N"},{"$f":"IF(Worksheet!$C$11=TRUE,\"Y\",\"N\")","v":"N"},{"$f":"IFERROR(Worksheet!AB533,\"\")","v":0}]
[{"$f":"IF(IFERROR(SEARCH(\"Refrigerated\",Worksheet!L534,1),0)>0,122,IF(ISERROR(RIGHT(VLOOKUP(Worksheet!K534,Type!C$1:E$13,3,FALSE),3))=FALSE,RIGHT(VLOOKUP(Worksheet!K534,Type!C$1:E$13,3,FALSE),3),\"\"))","v":""},{"$f":"IF(Worksheet!M534=\"\",\"\",Worksheet!M534)","v":""},{"$f":"IF(Worksheet!N534=\"\",\"\",Worksheet!N534)","v":""},{"$f":"IF(Worksheet!Y534=0,\"\",Worksheet!Y534)","v":""},"Watts",null,null,{"$f":"Worksheet!AA534","v":0},{"$f":"IF(ISBLANK(Worksheet!V534)=FALSE,Worksheet!V534,\"\")","v":0},{"$f":"Worksheet!AG534","v":0},{"$f":"Worksheet!AF534","v":0},0,{"$f":"IF(ISERROR(SEARCH(\"Gas\",Worksheet!$A$18))=TRUE,0,Worksheet!AH534)","v":0},0,null,null,{"$f":"IF(OR(Worksheet!F534=\"Incandescent\",Worksheet!F534=\"Halogen Incandescent\")=TRUE,118,IF(LEFT(Worksheet!F534,3)=\"HID\",117,IF(OR(RIGHT(Worksheet!F534,3)=\"T12\",RIGHT(Worksheet!F534,5)=\"T12HO\")=TRUE,115,IF(OR(RIGHT(Worksheet!F534,2)=\"T8\",RIGHT(Worksheet!F534,4)=\"RWT8\",RIGHT(Worksheet!F534,4)=\"T8HO\")=TRUE,115,\"\"))))","v":""},{"$f":"IF(ISBLANK(Worksheet!W534)=FALSE,Worksheet!W534,\"\")","v":0},{"$f":"IF(ISERROR(SEARCH(\"Oil\",Worksheet!$A$18))=TRUE,0,Worksheet!AH534)","v":0},0,{"$f":"IF(ISERROR(SEARCH(\"Propane\",Worksheet!$A$18))=TRUE,0,Worksheet!AH534)","v":0},0,{"$f":"IF(Worksheet!J534=0,\"\",Worksheet!J534)","v":""},{"$f":"IF(Worksheet!B534=0,\"\",Worksheet!B534)","v":""},{"$f":"IF(Worksheet!K534=0,\"\",Worksheet!K534)","v":""},{"$f":"IF(Worksheet!L534=0,\"\",Worksheet!L534)","v":""},{"$f":"IF(Worksheet!R534=0,\"\",Worksheet!R534)","v":""},{"$f":"IF(Worksheet!F534=0,\"\",Worksheet!F534)","v":""},{"$f":"IF(Worksheet!G534=0,\"\",Worksheet!G534)","v":""},{"$f":"IF(Worksheet!X534=0,\"\",Worksheet!X534)","v":""},{"$f":"IF(Worksheet!Q534=0,\"\",Worksheet!Q534)","v":""},{"$f":"IF(Worksheet!C534=0,\"\",Worksheet!C534)","v":""},{"$f":"IF(Worksheet!D534=0,\"\",Worksheet!D534)","v":""},{"$f":"IF(Worksheet!$A$11=TRUE,\"Y\",\"N\")","v":"N"},{"$f":"IF(Worksheet!$A$12=TRUE,\"Y\",\"N\")","v":"N"},{"$f":"IF(Worksheet!$B$11=TRUE,\"Y\",\"N\")","v":"N"},{"$f":"IF(Worksheet!$B$12=TRUE,\"Y\",\"N\")","v":"N"},{"$f":"IF(Worksheet!$C$11=TRUE,\"Y\",\"N\")","v":"N"},{"$f":"IFERROR(Worksheet!AB534,\"\")","v":0}]
[{"$f":"IF(IFERROR(SEARCH(\"Refrigerated\",Worksheet!L535,1),0)>0,122,IF(ISERROR(RIGHT(VLOOKUP(Worksheet!K535,Type!C$1:E$13,3,FALSE),3))=FALSE,RIGHT(VLOOKUP(Worksheet!K535,Type!C$1:E$13,3,FALSE),3),\"\"))","v":""},{"$f":"IF(Worksheet!M535=\"\",\"\",Worksheet!M535)","v":""},{"$f":"IF(Worksheet!N535=\"\",\"\",Worksheet!N535)","v":""},{"$f":"IF(Worksheet!Y535=0,\"\",Worksheet!Y535)","v":""},"Watts",null,null,{"$f":"Worksheet!AA535","v":0},{"$f":"IF(ISBLANK(Worksheet!V535)=FALSE,Worksheet!V535,\"\")","v":0},{"$f":"Worksheet!AG535","v":0},{"$f":"Worksheet!AF535","v":0},0,{"$f":"IF(ISERROR(SEARCH(\"Gas\",Worksheet!$A$18))=TRUE,0,Worksheet!AH535)","v":0},0,null,null,{"$f":"IF(OR(Worksheet!F535=\"Incandescent\",Worksheet!F535=\"Halogen Incandescent\")=TRUE,118,IF(LEFT(Worksheet!F535,3)=\"HID\",117,IF(OR(RIGHT(Worksheet!F535,3)=\"T12\",RIGHT(Worksheet!F535,5)=\"T12HO\")=TRUE,115,IF(OR(RIGHT(Worksheet!F535,2)=\"T8\",RIGHT(Worksheet!F535,4)=\"RWT8\",RIGHT(Worksheet!F535,4)=\"T8HO\")=TRUE,115,\"\"))))","v":""},{"$f":"IF(ISBLANK(Worksheet!W535)=FALSE,Worksheet!W535,\"\")","v":0},{"$f":"IF(ISERROR(SEARCH(\"Oil\",Worksheet!$A$18))=TRUE,0,Worksheet!AH535)","v":0},0,{"$f":"IF(ISERROR(SEARCH(\"Propane\",Worksheet!$A$18))=TRUE,0,Worksheet!AH535)","v":0},0,{"$f":"IF(Worksheet!J535=0,\"\",Worksheet!J535)","v":""},{"$f":"IF(Worksheet!B535=0,\"\",Worksheet!B535)","v":""},{"$f":"IF(Worksheet!K535=0,\"\",Worksheet!K535)","v":""},{"$f":"IF(Worksheet!L535=0,\"\",Worksheet!L535)","v":""},{"$f":"IF(Worksheet!R535=0,\"\",Worksheet!R535)","v":""},{"$f":"IF(Worksheet!F535=0,\"\",Worksheet!F535)","v":""},{"$f":"IF(Worksheet!G535=0,\"\",Worksheet!G535)","v":""},{"$f":"IF(Worksheet!X535=0,\"\",Worksheet!X535)","v":""},{"$f":"IF(Worksheet!Q535=0,\"\",Worksheet!Q535)","v":""},{"$f":"IF(Worksheet!C535=0,\"\",Worksheet!C535)","v":""},{"$f":"IF(Worksheet!D535=0,\"\",Worksheet!D535)","v":""},{"$f":"IF(Worksheet!$A$11=TRUE,\"Y\",\"N\")","v":"N"},{"$f":"IF(Worksheet!$A$12=TRUE,\"Y\",\"N\")","v":"N"},{"$f":"IF(Worksheet!$B$11=TRUE,\"Y\",\"N\")","v":"N"},{"$f":"IF(Worksheet!$B$12=TRUE,\"Y\",\"N\")","v":"N"},{"$f":"IF(Worksheet!$C$11=TRUE,\"Y\",\"N\")","v":"N"},{"$f":"IFERROR(Worksheet!AB535,\"\")","v":0}]
[{"$f":"IF(IFERROR(SEARCH(\"Refrigerated\",Worksheet!L536,1),0)>0,122,IF(ISERROR(RIGHT(VLOOKUP(Worksheet!K536,Type!C$1:E$13,3,FALSE),3))=FALSE,RIGHT(VLOOKUP(Worksheet!K536,Type!C$1:E$13,3,FALSE),3),\"\"))","v":""},{"$f":"IF(Worksheet!M536=\"\",\"\",Worksheet!M536)","v":""},{"$f":"IF(Worksheet!N536=\"\",\"\",Worksheet!N536)","v":""},{"$f":"IF(Worksheet!Y536=0,\"\",Worksheet!Y536)","v":""},"Watts",null,null,{"$f":"Worksheet!AA536","v":0},{"$f":"IF(ISBLANK(Worksheet!V536)=FALSE,Worksheet!V536,\"\")","v":0},{"$f":"Worksheet!AG536","v":0},{"$f":"Worksheet!AF536","v":0},0,{"$f":"IF(ISERROR(SEARCH(\"Gas\",Worksheet!$A$18))=TRUE,0,Worksheet!AH536)","v":0},0,null,null,{"$f":"IF(OR(Worksheet!F536=\"Incandescent\",Worksheet!F536=\"Halogen Incandescent\")=TRUE,118,IF(LEFT(Worksheet!F536,3)=\"HID\",117,IF(OR(RIGHT(Worksheet!F536,3)=\"T12\",RIGHT(Worksheet!F536,5)=\"T12HO\")=TRUE,115,IF(OR(RIGHT(Worksheet!F536,2)=\"T8\",RIGHT(Worksheet!F536,4)=\"RWT8\",RIGHT(Worksheet!F536,4)=\"T8HO\")=TRUE,115,\"\"))))","v":""},{"$f":"IF(ISBLANK(Worksheet!W536)=FALSE,Worksheet!W536,\"\")","v":0},{"$f":"IF(ISERROR(SEARCH(\"Oil\",Worksheet!$A$18))=TRUE,0,Worksheet!AH536)","v":0},0,{"$f":"IF(ISERROR(SEARCH(\"Propane\",Worksheet!$A$18))=TRUE,0,Worksheet!AH536)","v":0},0,{"$f":"IF(Worksheet!J536=0,\"\",Worksheet!J536)","v":""},{"$f":"IF(Worksheet!B536=0,\"\",Worksheet!B536)","v":""},{"$f":"IF(Worksheet!K536=0,\"\",Worksheet!K536)","v":""},{"$f":"IF(Worksheet!L536=0,\"\",Worksheet!L536)","v":""},{"$f":"IF(Worksheet!R536=0,\"\",Worksheet!R536)","v":""},{"$f":"IF(Worksheet!F536=0,\"\",Worksheet!F536)","v":""},{"$f":"IF(Worksheet!G536=0,\"\",Worksheet!G536)","v":""},{"$f":"IF(Worksheet!X536=0,\"\",Worksheet!X536)","v":""},{"$f":"IF(Worksheet!Q536=0,\"\",Worksheet!Q536)","v":""},{"$f":"IF(Worksheet!C536=0,\"\",Worksheet!C536)","v":""},{"$f":"IF(Worksheet!D536=0,\"\",Worksheet!D536)","v":""},{"$f":"IF(Worksheet!$A$11=TRUE,\"Y\",\"N\")","v":"N"},{"$f":"IF(Worksheet!$A$12=TRUE,\"Y\",\"N\")","v":"N"},{"$f":"IF(Worksheet!$B$11=TRUE,\"Y\",\"N\")","v":"N"},{"$f":"IF(Worksheet!$B$12=TRUE,\"Y\",\"N\")","v":"N"},{"$f":"IF(Worksheet!$C$11=TRUE,\"Y\",\"N\")","v":"N"},{"$f":"IFERROR(Worksheet!AB536,\"\")","v":0}]
[{"$f":"IF(IFERROR(SEARCH(\"Refrigerated\",Worksheet!L537,1),0)>0,122,IF(ISERROR(RIGHT(VLOOKUP(Worksheet!K537,Type!C$1:E$13,3,FALSE),3))=FALSE,RIGHT(VLOOKUP(Worksheet!K537,Type!C$1:E$13,3,FALSE),3),\"\"))","v":""},{"$f":"IF(Worksheet!M537=\"\",\"\",Worksheet!M537)","v":""},{"$f":"IF(Worksheet!N537=\"\",\"\",Worksheet!N537)","v":""},{"$f":"IF(Worksheet!Y537=0,\"\",Worksheet!Y537)","v":""},"Watts",null,null,{"$f":"Worksheet!AA537","v":0},{"$f":"IF(ISBLANK(Worksheet!V537)=FALSE,Worksheet!V537,\"\")","v":0},{"$f":"Worksheet!AG537","v":0},{"$f":"Worksheet!AF537","v":0},0,{"$f":"IF(ISERROR(SEARCH(\"Gas\",Worksheet!$A$18))=TRUE,0,Worksheet!AH537)","v":0},0,null,null,{"$f":"IF(OR(Worksheet!F537=\"Incandescent\",Worksheet!F537=\"Halogen Incandescent\")=TRUE,118,IF(LEFT(Worksheet!F537,3)=\"HID\",117,IF(OR(RIGHT(Worksheet!F537,3)=\"T12\",RIGHT(Worksheet!F537,5)=\"T12HO\")=TRUE,115,IF(OR(RIGHT(Worksheet!F537,2)=\"T8\",RIGHT(Worksheet!F537,4)=\"RWT8\",RIGHT(Worksheet!F537,4)=\"T8HO\")=TRUE,115,\"\"))))","v":""},{"$f":"IF(ISBLANK(Worksheet!W537)=FALSE,Worksheet!W537,\"\")","v":0},{"$f":"IF(ISERROR(SEARCH(\"Oil\",Worksheet!$A$18))=TRUE,0,Worksheet!AH537)","v":0},0,{"$f":"IF(ISERROR(SEARCH(\"Propane\",Worksheet!$A$18))=TRUE,0,Worksheet!AH537)","v":0},0,{"$f":"IF(Worksheet!J537=0,\"\",Worksheet!J537)","v":""},{"$f":"IF(Worksheet!B537=0,\"\",Worksheet!B537)","v":""},{"$f":"IF(Worksheet!K537=0,\"\",Worksheet!K537)","v":""},{"$f":"IF(Worksheet!L537=0,\"\",Worksheet!L537)","v":""},{"$f":"IF(Worksheet!R537=0,\"\",Worksheet!R537)","v":""},{"$f":"IF(Worksheet!F537=0,\"\",Worksheet!F537)","v":""},{"$f":"IF(Worksheet!G537=0,\"\",Worksheet!G537)","v":""},{"$f":"IF(Worksheet!X537=0,\"\",Worksheet!X537)","v":""},{"$f":"IF(Worksheet!Q537=0,\"\",Worksheet!Q537)","v":""},{"$f":"IF(Worksheet!C537=0,\"\",Worksheet!C537)","v":""},{"$f":"IF(Worksheet!D537=0,\"\",Worksheet!D537)","v":""},{"$f":"IF(Worksheet!$A$11=TRUE,\"Y\",\"N\")","v":"N"},{"$f":"IF(Worksheet!$A$12=TRUE,\"Y\",\"N\")","v":"N"},{"$f":"IF(Worksheet!$B$11=TRUE,\"Y\",\"N\")","v":"N"},{"$f":"IF(Worksheet!$B$12=TRUE,\"Y\",\"N\")","v":"N"},{"$f":"IF(Worksheet!$C$11=TRUE,\"Y\",\"N\")","v":"N"},{"$f":"IFERROR(Worksheet!AB537,\"\")","v":0}]
[{"$f":"IF(IFERROR(SEARCH(\"Refrigerated\",Worksheet!L538,1),0)>0,122,IF(ISERROR(RIGHT(VLOOKUP(Worksheet!K538,Type!C$1:E$13,3,FALSE),3))=FALSE,RIGHT(VLOOKUP(Worksheet!K538,Type!C$1:E$13,3,FALSE),3),\"\"))","v":""},{"$f":"IF(Worksheet!M538=\"\",\"\",Worksheet!M538)","v":""},{"$f":"IF(Worksheet!N538=\"\",\"\",Worksheet!N538)","v":""},{"$f":"IF(Worksheet!Y538=0,\"\",Worksheet!Y538)","v":""},"Watts",null,null,{"$f":"Worksheet!AA538","v":0},{"$f":"IF(ISBLANK(Worksheet!V538)=FALSE,Worksheet!V538,\"\")","v":0},{"$f":"Worksheet!AG538","v":0},{"$f":"Worksheet!AF538","v":0},0,{"$f":"IF(ISERROR(SEARCH(\"Gas\",Worksheet!$A$18))=TRUE,0,Worksheet!AH538)","v":0},0,null,null,{"$f":"IF(OR(Worksheet!F538=\"Incandescent\",Worksheet!F538=\"Halogen Incandescent\")=TRUE,118,IF(LEFT(Worksheet!F538,3)=\"HID\",117,IF(OR(RIGHT(Worksheet!F538,3)=\"T12\",RIGHT(Worksheet!F538,5)=\"T12HO\")=TRUE,115,IF(OR(RIGHT(Worksheet!F538,2)=\"T8\",RIGHT(Worksheet!F538,4)=\"RWT8\",RIGHT(Worksheet!F538,4)=\"T8HO\")=TRUE,115,\"\"))))","v":""},{"$f":"IF(ISBLANK(Worksheet!W538)=FALSE,Worksheet!W538,\"\")","v":0},{"$f":"IF(ISERROR(SEARCH(\"Oil\",Worksheet!$A$18))=TRUE,0,Worksheet!AH538)","v":0},0,{"$f":"IF(ISERROR(SEARCH(\"Propane\",Worksheet!$A$18))=TRUE,0,Worksheet!AH538)","v":0},0,{"$f":"IF(Worksheet!J538=0,\"\",Worksheet!J538)","v":""},{"$f":"IF(Worksheet!B538=0,\"\",Worksheet!B538)","v":""},{"$f":"IF(Worksheet!K538=0,\"\",Worksheet!K538)","v":""},{"$f":"IF(Worksheet!L538=0,\"\",Worksheet!L538)","v":""},{"$f":"IF(Worksheet!R538=0,\"\",Worksheet!R538)","v":""},{"$f":"IF(Worksheet!F538=0,\"\",Worksheet!F538)","v":""},{"$f":"IF(Worksheet!G538=0,\"\",Worksheet!G538)","v":""},{"$f":"IF(Worksheet!X538=0,\"\",Worksheet!X538)","v":""},{"$f":"IF(Worksheet!Q538=0,\"\",Worksheet!Q538)","v":""},{"$f":"IF(Worksheet!C538=0,\"\",Worksheet!C538)","v":""},{"$f":"IF(Worksheet!D538=0,\"\",Worksheet!D538)","v":""},{"$f":"IF(Worksheet!$A$11=TRUE,\"Y\",\"N\")","v":"N"},{"$f":"IF(Worksheet!$A$12=TRUE,\"Y\",\"N\")","v":"N"},{"$f":"IF(Worksheet!$B$11=TRUE,\"Y\",\"N\")","v":"N"},{"$f":"IF(Worksheet!$B$12=TRUE,\"Y\",\"N\")","v":"N"},{"$f":"IF(Worksheet!$C$11=TRUE,\"Y\",\"N\")","v":"N"},{"$f":"IFERROR(Worksheet!AB538,\"\")","v":0}]
[{"$f":"IF(IFERROR(SEARCH(\"Refrigerated\",Worksheet!L539,1),0)>0,122,IF(ISERROR(RIGHT(VLOOKUP(Worksheet!K539,Type!C$1:E$13,3,FALSE),3))=FALSE,RIGHT(VLOOKUP(Worksheet!K539,Type!C$1:E$13,3,FALSE),3),\"\"))","v":""},{"$f":"IF(Worksheet!M539=\"\",\"\",Worksheet!M539)","v":""},{"$f":"IF(Worksheet!N539=\"\",\"\",Worksheet!N539)","v":""},{"$f":"IF(Worksheet!Y539=0,\"\",Worksheet!Y539)","v":""},"Watts",null,null,{"$f":"Worksheet!AA539","v":0},{"$f":"IF(ISBLANK(Worksheet!V539)=FALSE,Worksheet!V539,\"\")","v":0},{"$f":"Worksheet!AG539","v":0},{"$f":"Worksheet!AF539","v":0},0,{"$f":"IF(ISERROR(SEARCH(\"Gas\",Worksheet!$A$18))=TRUE,0,Worksheet!AH539)","v":0},0,null,null,{"$f":"IF(OR(Worksheet!F539=\"Incandescent\",Worksheet!F539=\"Halogen Incandescent\")=TRUE,118,IF(LEFT(Worksheet!F539,3)=\"HID\",117,IF(OR(RIGHT(Worksheet!F539,3)=\"T12\",RIGHT(Worksheet!F539,5)=\"T12HO\")=TRUE,115,IF(OR(RIGHT(Worksheet!F539,2)=\"T8\",RIGHT(Worksheet!F539,4)=\"RWT8\",RIGHT(Worksheet!F539,4)=\"T8HO\")=TRUE,115,\"\"))))","v":""},{"$f":"IF(ISBLANK(Worksheet!W539)=FALSE,Worksheet!W539,\"\")","v":0},{"$f":"IF(ISERROR(SEARCH(\"Oil\",Worksheet!$A$18))=TRUE,0,Worksheet!AH539)","v":0},0,{"$f":"IF(ISERROR(SEARCH(\"Propane\",Worksheet!$A$18))=TRUE,0,Worksheet!AH539)","v":0},0,{"$f":"IF(Worksheet!J539=0,\"\",Worksheet!J539)","v":""},{"$f":"IF(Worksheet!B539=0,\"\",Worksheet!B539)","v":""},{"$f":"IF(Worksheet!K539=0,\"\",Worksheet!K539)","v":""},{"$f":"IF(Worksheet!L539=0,\"\",Worksheet!L539)","v":""},{"$f":"IF(Worksheet!R539=0,\"\",Worksheet!R539)","v":""},{"$f":"IF(Worksheet!F539=0,\"\",Worksheet!F539)","v":""},{"$f":"IF(Worksheet!G539=0,\"\",Worksheet!G539)","v":""},{"$f":"IF(Worksheet!X539=0,\"\",Worksheet!X539)","v":""},{"$f":"IF(Worksheet!Q539=0,\"\",Worksheet!Q539)","v":""},{"$f":"IF(Worksheet!C539=0,\"\",Worksheet!C539)","v":""},{"$f":"IF(Worksheet!D539=0,\"\",Worksheet!D539)","v":""},{"$f":"IF(Worksheet!$A$11=TRUE,\"Y\",\"N\")","v":"N"},{"$f":"IF(Worksheet!$A$12=TRUE,\"Y\",\"N\")","v":"N"},{"$f":"IF(Worksheet!$B$11=TRUE,\"Y\",\"N\")","v":"N"},{"$f":"IF(Worksheet!$B$12=TRUE,\"Y\",\"N\")","v":"N"},{"$f":"IF(Worksheet!$C$11=TRUE,\"Y\",\"N\")","v":"N"},{"$f":"IFERROR(Worksheet!AB539,\"\")","v":0}]
[{"$f":"IF(IFERROR(SEARCH(\"Refrigerated\",Worksheet!L540,1),0)>0,122,IF(ISERROR(RIGHT(VLOOKUP(Worksheet!K540,Type!C$1:E$13,3,FALSE),3))=FALSE,RIGHT(VLOOKUP(Worksheet!K540,Type!C$1:E$13,3,FALSE),3),\"\"))","v":""},{"$f":"IF(Worksheet!M540=\"\",\"\",Worksheet!M540)","v":""},{"$f":"IF(Worksheet!N540=\"\",\"\",Worksheet!N540)","v":""},{"$f":"IF(Worksheet!Y540=0,\"\",Worksheet!Y540)","v":""},"Watts",null,null,{"$f":"Worksheet!AA540","v":0},{"$f":"IF(ISBLANK(Worksheet!V540)=FALSE,Worksheet!V540,\"\")","v":0},{"$f":"Worksheet!AG540","v":0},{"$f":"Worksheet!AF540","v":0},0,{"$f":"IF(ISERROR(SEARCH(\"Gas\",Worksheet!$A$18))=TRUE,0,Worksheet!AH540)","v":0},0,null,null,{"$f":"IF(OR(Worksheet!F540=\"Incandescent\",Worksheet!F540=\"Halogen Incandescent\")=TRUE,118,IF(LEFT(Worksheet!F540,3)=\"HID\",117,IF(OR(RIGHT(Worksheet!F540,3)=\"T12\",RIGHT(Worksheet!F540,5)=\"T12HO\")=TRUE,115,IF(OR(RIGHT(Worksheet!F540,2)=\"T8\",RIGHT(Worksheet!F540,4)=\"RWT8\",RIGHT(Worksheet!F540,4)=\"T8HO\")=TRUE,115,\"\"))))","v":""},{"$f":"IF(ISBLANK(Worksheet!W540)=FALSE,Worksheet!W540,\"\")","v":0},{"$f":"IF(ISERROR(SEARCH(\"Oil\",Worksheet!$A$18))=TRUE,0,Worksheet!AH540)","v":0},0,{"$f":"IF(ISERROR(SEARCH(\"Propane\",Worksheet!$A$18))=TRUE,0,Worksheet!AH540)","v":0},0,{"$f":"IF(Worksheet!J540=0,\"\",Worksheet!J540)","v":""},{"$f":"IF(Worksheet!B540=0,\"\",Worksheet!B540)","v":""},{"$f":"IF(Worksheet!K540=0,\"\",Worksheet!K540)","v":""},{"$f":"IF(Worksheet!L540=0,\"\",Worksheet!L540)","v":""},{"$f":"IF(Worksheet!R540=0,\"\",Worksheet!R540)","v":""},{"$f":"IF(Worksheet!F540=0,\"\",Worksheet!F540)","v":""},{"$f":"IF(Worksheet!G540=0,\"\",Worksheet!G540)","v":""},{"$f":"IF(Worksheet!X540=0,\"\",Worksheet!X540)","v":""},{"$f":"IF(Worksheet!Q540=0,\"\",Worksheet!Q540)","v":""},{"$f":"IF(Worksheet!C540=0,\"\",Worksheet!C540)","v":""},{"$f":"IF(Worksheet!D540=0,\"\",Worksheet!D540)","v":""},{"$f":"IF(Worksheet!$A$11=TRUE,\"Y\",\"N\")","v":"N"},{"$f":"IF(Worksheet!$A$12=TRUE,\"Y\",\"N\")","v":"N"},{"$f":"IF(Worksheet!$B$11=TRUE,\"Y\",\"N\")","v":"N"},{"$f":"IF(Worksheet!$B$12=TRUE,\"Y\",\"N\")","v":"N"},{"$f":"IF(Worksheet!$C$11=TRUE,\"Y\",\"N\")","v":"N"},{"$f":"IFERROR(Worksheet!AB540,\"\")","v":0}]

{"sheet":"Version Log","index":10,"n_rows":4,"n_cols":2,"rows_kept":4,"cut":false,"hidden":true,"merged":[]}
["Version #","Notes"]
["V11.1","1. First combined customer/internal workbook."]
["V12","1. Updated to reflect FY19 Protocols and Program"]
["V13","1. Added Enhanced Incentive Eligibility Section and Updated for FY20 Program"]