{"text_format":"1","workbook":"xlsx","n_sheets":5,"sheets":["Worksheet","Measure Code","Other Support","Export","Version Log"],"not_rendered":{"charts":0,"images":2,"macros":1,"external_links":11,"defined_names":657,"comments":0,"pivot_tables":0},"unopened":[],"bounds":{"document_bytes":16777216,"sheet_cells":100000,"rows_first":2000,"rows_last":500,"rows_between":2000,"halvings":0,"cell_chars":16384,"cell_head_chars":4096},"cells_cut":0,"cells_raw":0,"read":"whole","date_system":"1900"}

{"sheet":"Worksheet","index":0,"n_rows":520,"n_cols":41,"rows_kept":520,"cut":false,"hidden":false,"merged":[[16,17,16,19],[17,17,18,19],[17,25,19,25],[17,4,19,4],[14,0,14,3],[17,20,19,20],[17,9,18,10],[17,11,17,14],[17,5,18,6],[18,14,19,14],[18,12,19,12],[18,11,19,11],[17,15,18,16],[17,7,19,7],[17,8,19,8],[18,13,19,13],[17,26,19,26],[17,27,19,27],[17,21,19,21],[17,22,19,22],[17,23,19,23],[17,24,19,24],[12,0,12,3],[17,0,19,0],[17,1,19,1],[17,2,19,2],[17,3,19,3],[4,29,4,32],[17,28,19,28],[17,29,19,29],[17,30,19,30],[17,31,19,31],[17,32,19,32],[5,29,10,32],[2,16,2,17],[3,1,3,5],[4,1,4,5],[5,1,5,2],[8,1,8,5],[17,39,18,40],[17,33,19,33],[17,34,19,34],[4,33,4,36],[5,33,10,36],[17,35,19,35],[17,36,19,36],[17,37,19,37],[17,38,19,38]]}
["FY21","Lighting Controls -01"]
[]
["Customer Information (NOTE: Name and Address fields must be completed at a minimum in order for any measures to be evaluated for eligibility)"]
["Company Name"]
["Facility Address",null,null,null,null,null,null,null,null,null,null,null,null,null,null,null,null,null,null,null,null,null,null,null,null,null,null,null,null,"Pre-Inspection Notes",null,null,null,"Post-Inspection Notes"]
["Application Number",null,null,"(OFFICE USE ONLY)"]
[]
["Contractor/Vendor Information"]
["Company Name"]
[]
["(NOTE: The following building and HVAC fields must be completed in order for any measures to be evaluated for eligibility)"]
["Building Type ",null,null,null,null,"Building Size"]
[]
["HVAC Type"]
[null,null,null,null,null,null,null,null,null,null,null,null,null,null,null,"NOTE: Applications with an incentive ≥$100,000 must receive pre-approval through the Program prior to installation. "]
[]
["NOTE: For proper functionality of this workbook, each line item (i.e. row) must be completed from left-to-right, beginning with the \"Measure Code\" input.",null,null,null,null,null,null,null,null,null,null,null,null,null,null,null,null,"Totals",null,null,{"$f":"SUM(U21:U520)","v":0},{"$f":"SUM(V21:V520)","v":0},null,null,null,null,null,{"$f":"SUM(AB21:AB520)","v":0},0,0,0,0,0,0,0,0,0,0,0]
["Measure Code\n\n(From Application)","New\nor\nReplaced","Device","Type of Control\n\n(Wired or Wireless)","Location\n\n(Building or Room Name)","# of Sensors",null,"Sensor Manufacturer","Sensor Model Number","# of Fixtures Controlled Per Sensor",null,"Controlled Fixture Information",null,null,null,"Total Wattage Controlled Per Sensor",null,"Incentive\n\n(DNQ - Does Not Qualify)",null,null,"Total Committed Incentives","Total Installed Incentives","Total Committed Watts Controlled","Total Installed Watts Controlled","Energy Savings Factor","Coincidence Factor","EFLH","kW Savings per Unit","kWh Savings per Unit","Peak kW Savings\nCommitted","Peak kW Savings\nInstalled","Annual Energy Savings\nCommitted\n(kWh)","Annual Energy Savings\nInstalled\n(kWh)","Lifetime Energy Savings\nCommitted\n(kWh)","Lifetime Energy Savings Installed (kWh)","Annual Fuel Savings\nCommitted\n(MMBtu)","Annual Fuel Savings\nInstalled\n(MMBtu)","Lifetime Fuel Savings\nCommitted\n(MMBtu)","Lifetime Fuel Savings Installed\n(MMBtu)","Incentive Eligibility Check"]
[null,null,null,null,null,null,null,null,null,null,null,"Controlled Fixture Manufacturer Name","Controlled Fixture Model Number","Dimming LED?","Controlled Fixture Wattage\n(of an individual fixture)"]
[null,null,null,null,null,"Proposed","Installed",null,null,"Proposed","Installed",null,null,null,null,"Proposed","Installed","Proposed","Installed",null,null,null,null,null,null,null,null,null,null,null,null,null,null,null,null,null,null,null,null,"Proposed","Installed"]
[null,null,{"$f":"IF(A21=\"\",\"\",VLOOKUP(A21,MeasureCode_Lookup,2,FALSE))","v":""},null,null,null,null,null,null,null,null,null,null,null,null,{"$f":"IF(OR(A21=\"\",F21=\"\",J21=\"\",O21=\"\")=TRUE,0,J21*O21)","v":0},{"$f":"IF(OR(A21=\"\",G21=\"\",K21=\"\",O21=\"\")=TRUE,0,K21*O21)","v":0},{"$f":"IF(AN21=\"\",0,IF(AN21=1,VLOOKUP(A21,MeasureCode_Lookup,3,FALSE),\"DNQ\"))","v":0},{"$f":"IF(AO21=\"\",0,IF(AO21=1,VLOOKUP(A21,MeasureCode_Lookup,3,FALSE),\"DNQ\"))","v":0},{"$f":"IF(A21=\"\",\"\",VLOOKUP(A21,MeasureCode_Lookup,4,FALSE))","v":""},{"$f":"IF(N(R21)=0,0,F21*R21*IF(T21=\"per Fixture Controlled\",J21,1))","v":0},{"$f":"IF(N(S21)=0,0,G21*S21*IF(T21=\"per Fixture Controlled\",K21,1))","v":0},{"$f":"IF(N(R21)=0,0,F21*P21)","v":0},{"$f":"IF(N(S21)=0,0,G21*Q21)","v":0},{"$f":"IF(A21=\"\",0,VLOOKUP(A21,MeasureCode_Lookup,5,FALSE))","v":0},{"$f":"IF($A$13=\"\",0,VLOOKUP($A$13,BuildingType_Lookup,3,FALSE))","v":0},{"$f":"IF($A$13=\"\",0,VLOOKUP($A$13,BuildingType_Lookup,2,FALSE))","v":0},{"$f":"IF(AND(OR(AN21=\"\",AN21=0)=TRUE,OR(AO21=\"\",AO21=0))=TRUE,0,IF(AO21=\"\",(IF(OR(C21=\"DDC\",C21=\"OHLC\")=TRUE,O21,P21)/1000)*Y21*Z21*(1+VLOOKUP($A$13,BuildingType_Lookup,4,FALSE)),IF(AO21=0,0,(IF(OR(C21=\"DDC\",C21=\"OHLC\")=TRUE,O21,Q21)/1000)*Y21*Z21*(1+VLOOKUP($A$13,BuildingType_Lookup,4,FALSE)))))","v":0},{"$f":"IF(AND(OR(AN21=\"\",AN21=0)=TRUE,OR(AO21=\"\",AO21=0))=TRUE,0,IF(AO21=\"\",(IF(OR(C21=\"DDC\",C21=\"OHLC\")=TRUE,O21,P21)/1000)*Y21*AA21*(1+VLOOKUP($A$13,BuildingType_Lookup,MATCH($A$15,HVAC,0)+4,FALSE)),IF(AO21=0,0,(IF(OR(C21=\"DDC\",C21=\"OHLC\")=TRUE,O21,Q21)/1000)*Y21*AA21*(1+VLOOKUP($A$13,BuildingType_Lookup,MATCH($A$15,HVAC,0)+4,FALSE)))))","v":0},{"$f":"IFERROR(IF(OR(C21=\"DDC\",C21=\"OHLC\")=TRUE,F21*J21*AB21,F21*AB21),0)","v":0},{"$f":"IFERROR(IF(OR(C21=\"DDC\",C21=\"OHLC\")=TRUE,G21*K21*AB21,G21*AB21),0)","v":0},{"$f":"IFERROR(IF(OR(C21=\"DDC\",C21=\"OHLC\")=TRUE,F21*J21*AC21,F21*AC21),0)","v":0},{"$f":"IFERROR(IF(OR(C21=\"DDC\",C21=\"OHLC\")=TRUE,G21*K21*AC21,G21*AC21),0)","v":0},{"$f":"AF21*8","v":0},{"$f":"AG21*8","v":0},{"$f":"W21/1000*Y21*AA21*IF(IFERROR(SEARCH(\"Gas\",$A$15),0)>0,VLOOKUP(\"Gas\",HVACg_Lookup,MATCH($F$13,BuildingSize,0)+1,FALSE),IF(IFERROR(SEARCH(\"Oil\",$A$15),0)>0,VLOOKUP(\"Oil\",HVACg_Lookup,MATCH($F$13,BuildingSize,0)+1,FALSE),IF(IFERROR(SEARCH(\"Propane\",$A$15),0)>0,VLOOKUP(\"Propane\",HVACg_Lookup,MATCH(Worksheet!$F$13,BuildingSize,0)+1,FALSE),0)))","v":0},{"$f":"X21/1000*Y21*AA21*IF(IFERROR(SEARCH(\"Gas\",$A$15),0)>0,VLOOKUP(\"Gas\",HVACg_Lookup,MATCH($F$13,BuildingSize,0)+1,FALSE),IF(IFERROR(SEARCH(\"Oil\",$A$15),0)>0,VLOOKUP(\"Oil\",HVACg_Lookup,MATCH($F$13,BuildingSize,0)+1,FALSE),IF(IFERROR(SEARCH(\"Propane\",$A$15),0)>0,VLOOKUP(\"Propane\",HVACg_Lookup,MATCH(Worksheet!$F$13,BuildingSize,0)+1,FALSE),0)))","v":0},{"$f":"AJ21*8","v":0},{"$f":"AK21*8","v":0},{"$f":"IF(OR($B$4=\"\",$B$5=\"\",$A$13=\"\",$F$13=\"\",$A$15=\"\",A21=\"\",F21=\"\",J21=\"\",O21=\"\",P21=\"\")=TRUE,\"\",IF(C21=\"OSW\",IF(J21>=2,1,0),IF(C21=\"OSR\",IF(AND(J21>=2,P21>60)=TRUE,1,0),IF(C21=\"OSRH\",IF(AND(J21>=1,P21>90)=TRUE,1,0),IF(C21=\"OHLC\",IF(AND(N21=\"Y\",P21>60)=TRUE,1,0),IF(C21=\"DDC\",IF(AND(J21>=4,N21=\"Y\",P21>120)=TRUE,1,0),0))))))","v":""},{"$f":"IF(OR($B$4=\"\",$B$5=\"\",$A$13=\"\",$F$13=\"\",$A$15=\"\",A21=\"\",F21=\"\",K21=\"\",O21=\"\",P21=\"\")=TRUE,\"\",IF(C21=\"OSW\",IF(K21>=2,1,0),IF(C21=\"OSR\",IF(AND(K21>=2,Q21>60)=TRUE,1,0),IF(C21=\"OSRH\",IF(AND(K21>=1,Q21>90)=TRUE,1,0),IF(C21=\"OHLC\",IF(AND(N21=\"Y\",Q21>60)=TRUE,1,0),IF(C21=\"DDC\",IF(AND(K21>=4,N21=\"Y\",Q21>120)=TRUE,1,0),0))))))","v":""}]
[null,null,{"$f":"IF(A22=\"\",\"\",VLOOKUP(A22,MeasureCode_Lookup,2,FALSE))","v":""},null,null,null,null,null,null,null,null,null,null,null,null,{"$f":"IF(OR(A22=\"\",F22=\"\",J22=\"\",O22=\"\")=TRUE,0,J22*O22)","v":0},{"$f":"IF(OR(A22=\"\",G22=\"\",K22=\"\",O22=\"\")=TRUE,0,K22*O22)","v":0},0,0,"",{"$f":"IF(N(R22)=0,0,F22*R22*IF(T22=\"per Fixture Controlled\",J22,1))","v":0},{"$f":"IF(N(S22)=0,0,G22*S22*IF(T22=\"per Fixture Controlled\",K22,1))","v":0},0,0,0,0,0,0,0,0,0,0,0,{"$f":"AF22*8","v":0},{"$f":"AG22*8","v":0},{"$f":"W22/1000*Y22*AA22*IF(IFERROR(SEARCH(\"Gas\",$A$15),0)>0,VLOOKUP(\"Gas\",HVACg_Lookup,MATCH($F$13,BuildingSize,0)+1,FALSE),IF(IFERROR(SEARCH(\"Oil\",$A$15),0)>0,VLOOKUP(\"Oil\",HVACg_Lookup,MATCH($F$13,BuildingSize,0)+1,FALSE),IF(IFERROR(SEARCH(\"Propane\",$A$15),0)>0,VLOOKUP(\"Propane\",HVACg_Lookup,MATCH(Worksheet!$F$13,BuildingSize,0)+1,FALSE),0)))","v":0},{"$f":"X22/1000*Y22*AA22*IF(IFERROR(SEARCH(\"Gas\",$A$15),0)>0,VLOOKUP(\"Gas\",HVACg_Lookup,MATCH($F$13,BuildingSize,0)+1,FALSE),IF(IFERROR(SEARCH(\"Oil\",$A$15),0)>0,VLOOKUP(\"Oil\",HVACg_Lookup,MATCH($F$13,BuildingSize,0)+1,FALSE),IF(IFERROR(SEARCH(\"Propane\",$A$15),0)>0,VLOOKUP(\"Propane\",HVACg_Lookup,MATCH(Worksheet!$F$13,BuildingSize,0)+1,FALSE),0)))","v":0},{"$f":"AJ22*8","v":0},{"$f":"AK22*8","v":0},"",""]
[null,null,"",null,null,null,null,null,null,null,null,null,null,null,null,0,0,0,0,"",0,0,0,0,0,0,0,0,0,0,0,0,0,0,0,{"$f":"W23/1000*Y23*AA23*IF(IFERROR(SEARCH(\"Gas\",$A$15),0)>0,VLOOKUP(\"Gas\",HVACg_Lookup,MATCH($F$13,BuildingSize,0)+1,FALSE),IF(IFERROR(SEARCH(\"Oil\",$A$15),0)>0,VLOOKUP(\"Oil\",HVACg_Lookup,MATCH($F$13,BuildingSize,0)+1,FALSE),IF(IFERROR(SEARCH(\"Propane\",$A$15),0)>0,VLOOKUP(\"Propane\",HVACg_Lookup,MATCH(Worksheet!$F$13,BuildingSize,0)+1,FALSE),0)))","v":0},{"$f":"X23/1000*Y23*AA23*IF(IFERROR(SEARCH(\"Gas\",$A$15),0)>0,VLOOKUP(\"Gas\",HVACg_Lookup,MATCH($F$13,BuildingSize,0)+1,FALSE),IF(IFERROR(SEARCH(\"Oil\",$A$15),0)>0,VLOOKUP(\"Oil\",HVACg_Lookup,MATCH($F$13,BuildingSize,0)+1,FALSE),IF(IFERROR(SEARCH(\"Propane\",$A$15),0)>0,VLOOKUP(\"Propane\",HVACg_Lookup,MATCH(Worksheet!$F$13,BuildingSize,0)+1,FALSE),0)))","v":0},0,0,"",""]
[null,null,"",null,null,null,null,null,null,null,null,null,null,null,null,0,0,0,0,"",0,0,0,0,0,0,0,0,0,0,0,0,0,0,0,{"$f":"W24/1000*Y24*AA24*IF(IFERROR(SEARCH(\"Gas\",$A$15),0)>0,VLOOKUP(\"Gas\",HVACg_Lookup,MATCH($F$13,BuildingSize,0)+1,FALSE),IF(IFERROR(SEARCH(\"Oil\",$A$15),0)>0,VLOOKUP(\"Oil\",HVACg_Lookup,MATCH($F$13,BuildingSize,0)+1,FALSE),IF(IFERROR(SEARCH(\"Propane\",$A$15),0)>0,VLOOKUP(\"Propane\",HVACg_Lookup,MATCH(Worksheet!$F$13,BuildingSize,0)+1,FALSE),0)))","v":0},{"$f":"X24/1000*Y24*AA24*IF(IFERROR(SEARCH(\"Gas\",$A$15),0)>0,VLOOKUP(\"Gas\",HVACg_Lookup,MATCH($F$13,BuildingSize,0)+1,FALSE),IF(IFERROR(SEARCH(\"Oil\",$A$15),0)>0,VLOOKUP(\"Oil\",HVACg_Lookup,MATCH($F$13,BuildingSize,0)+1,FALSE),IF(IFERROR(SEARCH(\"Propane\",$A$15),0)>0,VLOOKUP(\"Propane\",HVACg_Lookup,MATCH(Worksheet!$F$13,BuildingSize,0)+1,FALSE),0)))","v":0},0,0,"",""]
[null,null,"",null,null,null,null,null,null,null,null,null,null,null,null,0,0,0,0,"",0,0,0,0,0,0,0,0,0,0,0,0,0,0,0,{"$f":"W25/1000*Y25*AA25*IF(IFERROR(SEARCH(\"Gas\",$A$15),0)>0,VLOOKUP(\"Gas\",HVACg_Lookup,MATCH($F$13,BuildingSize,0)+1,FALSE),IF(IFERROR(SEARCH(\"Oil\",$A$15),0)>0,VLOOKUP(\"Oil\",HVACg_Lookup,MATCH($F$13,BuildingSize,0)+1,FALSE),IF(IFERROR(SEARCH(\"Propane\",$A$15),0)>0,VLOOKUP(\"Propane\",HVACg_Lookup,MATCH(Worksheet!$F$13,BuildingSize,0)+1,FALSE),0)))","v":0},{"$f":"X25/1000*Y25*AA25*IF(IFERROR(SEARCH(\"Gas\",$A$15),0)>0,VLOOKUP(\"Gas\",HVACg_Lookup,MATCH($F$13,BuildingSize,0)+1,FALSE),IF(IFERROR(SEARCH(\"Oil\",$A$15),0)>0,VLOOKUP(\"Oil\",HVACg_Lookup,MATCH($F$13,BuildingSize,0)+1,FALSE),IF(IFERROR(SEARCH(\"Propane\",$A$15),0)>0,VLOOKUP(\"Propane\",HVACg_Lookup,MATCH(Worksheet!$F$13,BuildingSize,0)+1,FALSE),0)))","v":0},0,0,"",""]
[null,null,"",null,null,null,null,null,null,null,null,null,null,null,null,0,0,0,0,"",0,0,0,0,0,0,0,0,0,0,0,0,0,0,0,{"$f":"W26/1000*Y26*AA26*IF(IFERROR(SEARCH(\"Gas\",$A$15),0)>0,VLOOKUP(\"Gas\",HVACg_Lookup,MATCH($F$13,BuildingSize,0)+1,FALSE),IF(IFERROR(SEARCH(\"Oil\",$A$15),0)>0,VLOOKUP(\"Oil\",HVACg_Lookup,MATCH($F$13,BuildingSize,0)+1,FALSE),IF(IFERROR(SEARCH(\"Propane\",$A$15),0)>0,VLOOKUP(\"Propane\",HVACg_Lookup,MATCH(Worksheet!$F$13,BuildingSize,0)+1,FALSE),0)))","v":0},{"$f":"X26/1000*Y26*AA26*IF(IFERROR(SEARCH(\"Gas\",$A$15),0)>0,VLOOKUP(\"Gas\",HVACg_Lookup,MATCH($F$13,BuildingSize,0)+1,FALSE),IF(IFERROR(SEARCH(\"Oil\",$A$15),0)>0,VLOOKUP(\"Oil\",HVACg_Lookup,MATCH($F$13,BuildingSize,0)+1,FALSE),IF(IFERROR(SEARCH(\"Propane\",$A$15),0)>0,VLOOKUP(\"Propane\",HVACg_Lookup,MATCH(Worksheet!$F$13,BuildingSize,0)+1,FALSE),0)))","v":0},0,0,"",""]
[null,null,"",null,null,null,null,null,null,null,null,null,null,null,null,0,0,0,0,"",0,0,0,0,0,0,0,0,0,0,0,0,0,0,0,{"$f":"W27/1000*Y27*AA27*IF(IFERROR(SEARCH(\"Gas\",$A$15),0)>0,VLOOKUP(\"Gas\",HVACg_Lookup,MATCH($F$13,BuildingSize,0)+1,FALSE),IF(IFERROR(SEARCH(\"Oil\",$A$15),0)>0,VLOOKUP(\"Oil\",HVACg_Lookup,MATCH($F$13,BuildingSize,0)+1,FALSE),IF(IFERROR(SEARCH(\"Propane\",$A$15),0)>0,VLOOKUP(\"Propane\",HVACg_Lookup,MATCH(Worksheet!$F$13,BuildingSize,0)+1,FALSE),0)))","v":0},{"$f":"X27/1000*Y27*AA27*IF(IFERROR(SEARCH(\"Gas\",$A$15),0)>0,VLOOKUP(\"Gas\",HVACg_Lookup,MATCH($F$13,BuildingSize,0)+1,FALSE),IF(IFERROR(SEARCH(\"Oil\",$A$15),0)>0,VLOOKUP(\"Oil\",HVACg_Lookup,MATCH($F$13,BuildingSize,0)+1,FALSE),IF(IFERROR(SEARCH(\"Propane\",$A$15),0)>0,VLOOKUP(\"Propane\",HVACg_Lookup,MATCH(Worksheet!$F$13,BuildingSize,0)+1,FALSE),0)))","v":0},0,0,"",""]
[null,null,"",null,null,null,null,null,null,null,null,null,null,null,null,0,0,0,0,"",0,0,0,0,0,0,0,0,0,0,0,0,0,0,0,{"$f":"W28/1000*Y28*AA28*IF(IFERROR(SEARCH(\"Gas\",$A$15),0)>0,VLOOKUP(\"Gas\",HVACg_Lookup,MATCH($F$13,BuildingSize,0)+1,FALSE),IF(IFERROR(SEARCH(\"Oil\",$A$15),0)>0,VLOOKUP(\"Oil\",HVACg_Lookup,MATCH($F$13,BuildingSize,0)+1,FALSE),IF(IFERROR(SEARCH(\"Propane\",$A$15),0)>0,VLOOKUP(\"Propane\",HVACg_Lookup,MATCH(Worksheet!$F$13,BuildingSize,0)+1,FALSE),0)))","v":0},{"$f":"X28/1000*Y28*AA28*IF(IFERROR(SEARCH(\"Gas\",$A$15),0)>0,VLOOKUP(\"Gas\",HVACg_Lookup,MATCH($F$13,BuildingSize,0)+1,FALSE),IF(IFERROR(SEARCH(\"Oil\",$A$15),0)>0,VLOOKUP(\"Oil\",HVACg_Lookup,MATCH($F$13,BuildingSize,0)+1,FALSE),IF(IFERROR(SEARCH(\"Propane\",$A$15),0)>0,VLOOKUP(\"Propane\",HVACg_Lookup,MATCH(Worksheet!$F$13,BuildingSize,0)+1,FALSE),0)))","v":0},0,0,"",""]
[null,null,"",null,null,null,null,null,null,null,null,null,null,null,null,0,0,0,0,"",0,0,0,0,0,0,0,0,0,0,0,0,0,0,0,{"$f":"W29/1000*Y29*AA29*IF(IFERROR(SEARCH(\"Gas\",$A$15),0)>0,VLOOKUP(\"Gas\",HVACg_Lookup,MATCH($F$13,BuildingSize,0)+1,FALSE),IF(IFERROR(SEARCH(\"Oil\",$A$15),0)>0,VLOOKUP(\"Oil\",HVACg_Lookup,MATCH($F$13,BuildingSize,0)+1,FALSE),IF(IFERROR(SEARCH(\"Propane\",$A$15),0)>0,VLOOKUP(\"Propane\",HVACg_Lookup,MATCH(Worksheet!$F$13,BuildingSize,0)+1,FALSE),0)))","v":0},{"$f":"X29/1000*Y29*AA29*IF(IFERROR(SEARCH(\"Gas\",$A$15),0)>0,VLOOKUP(\"Gas\",HVACg_Lookup,MATCH($F$13,BuildingSize,0)+1,FALSE),IF(IFERROR(SEARCH(\"Oil\",$A$15),0)>0,VLOOKUP(\"Oil\",HVACg_Lookup,MATCH($F$13,BuildingSize,0)+1,FALSE),IF(IFERROR(SEARCH(\"Propane\",$A$15),0)>0,VLOOKUP(\"Propane\",HVACg_Lookup,MATCH(Worksheet!$F$13,BuildingSize,0)+1,FALSE),0)))","v":0},0,0,"",""]
[null,null,"",null,null,null,null,null,null,null,null,null,null,null,null,0,0,0,0,"",0,0,0,0,0,0,0,0,0,0,0,0,0,0,0,{"$f":"W30/1000*Y30*AA30*IF(IFERROR(SEARCH(\"Gas\",$A$15),0)>0,VLOOKUP(\"Gas\",HVACg_Lookup,MATCH($F$13,BuildingSize,0)+1,FALSE),IF(IFERROR(SEARCH(\"Oil\",$A$15),0)>0,VLOOKUP(\"Oil\",HVACg_Lookup,MATCH($F$13,BuildingSize,0)+1,FALSE),IF(IFERROR(SEARCH(\"Propane\",$A$15),0)>0,VLOOKUP(\"Propane\",HVACg_Lookup,MATCH(Worksheet!$F$13,BuildingSize,0)+1,FALSE),0)))","v":0},{"$f":"X30/1000*Y30*AA30*IF(IFERROR(SEARCH(\"Gas\",$A$15),0)>0,VLOOKUP(\"Gas\",HVACg_Lookup,MATCH($F$13,BuildingSize,0)+1,FALSE),IF(IFERROR(SEARCH(\"Oil\",$A$15),0)>0,VLOOKUP(\"Oil\",HVACg_Lookup,MATCH($F$13,BuildingSize,0)+1,FALSE),IF(IFERROR(SEARCH(\"Propane\",$A$15),0)>0,VLOOKUP(\"Propane\",HVACg_Lookup,MATCH(Worksheet!$F$13,BuildingSize,0)+1,FALSE),0)))","v":0},0,0,"",""]
[null,null,"",null,null,null,null,null,null,null,null,null,null,null,null,0,0,0,0,"",0,0,0,0,0,0,0,0,0,0,0,0,0,0,0,{"$f":"W31/1000*Y31*AA31*IF(IFERROR(SEARCH(\"Gas\",$A$15),0)>0,VLOOKUP(\"Gas\",HVACg_Lookup,MATCH($F$13,BuildingSize,0)+1,FALSE),IF(IFERROR(SEARCH(\"Oil\",$A$15),0)>0,VLOOKUP(\"Oil\",HVACg_Lookup,MATCH($F$13,BuildingSize,0)+1,FALSE),IF(IFERROR(SEARCH(\"Propane\",$A$15),0)>0,VLOOKUP(\"Propane\",HVACg_Lookup,MATCH(Worksheet!$F$13,BuildingSize,0)+1,FALSE),0)))","v":0},{"$f":"X31/1000*Y31*AA31*IF(IFERROR(SEARCH(\"Gas\",$A$15),0)>0,VLOOKUP(\"Gas\",HVACg_Lookup,MATCH($F$13,BuildingSize,0)+1,FALSE),IF(IFERROR(SEARCH(\"Oil\",$A$15),0)>0,VLOOKUP(\"Oil\",HVACg_Lookup,MATCH($F$13,BuildingSize,0)+1,FALSE),IF(IFERROR(SEARCH(\"Propane\",$A$15),0)>0,VLOOKUP(\"Propane\",HVACg_Lookup,MATCH(Worksheet!$F$13,BuildingSize,0)+1,FALSE),0)))","v":0},0,0,"",""]
[null,null,"",null,null,null,null,null,null,null,null,null,null,null,null,0,0,0,0,"",0,0,0,0,0,0,0,0,0,0,0,0,0,0,0,{"$f":"W32/1000*Y32*AA32*IF(IFERROR(SEARCH(\"Gas\",$A$15),0)>0,VLOOKUP(\"Gas\",HVACg_Lookup,MATCH($F$13,BuildingSize,0)+1,FALSE),IF(IFERROR(SEARCH(\"Oil\",$A$15),0)>0,VLOOKUP(\"Oil\",HVACg_Lookup,MATCH($F$13,BuildingSize,0)+1,FALSE),IF(IFERROR(SEARCH(\"Propane\",$A$15),0)>0,VLOOKUP(\"Propane\",HVACg_Lookup,MATCH(Worksheet!$F$13,BuildingSize,0)+1,FALSE),0)))","v":0},{"$f":"X32/1000*Y32*AA32*IF(IFERROR(SEARCH(\"Gas\",$A$15),0)>0,VLOOKUP(\"Gas\",HVACg_Lookup,MATCH($F$13,BuildingSize,0)+1,FALSE),IF(IFERROR(SEARCH(\"Oil\",$A$15),0)>0,VLOOKUP(\"Oil\",HVACg_Lookup,MATCH($F$13,BuildingSize,0)+1,FALSE),IF(IFERROR(SEARCH(\"Propane\",$A$15),0)>0,VLOOKUP(\"Propane\",HVACg_Lookup,MATCH(Worksheet!$F$13,BuildingSize,0)+1,FALSE),0)))","v":0},0,0,"",""]
[null,null,"",null,null,null,null,null,null,null,null,null,null,null,null,0,0,0,0,"",0,0,0,0,0,0,0,0,0,0,0,0,0,0,0,{"$f":"W33/1000*Y33*AA33*IF(IFERROR(SEARCH(\"Gas\",$A$15),0)>0,VLOOKUP(\"Gas\",HVACg_Lookup,MATCH($F$13,BuildingSize,0)+1,FALSE),IF(IFERROR(SEARCH(\"Oil\",$A$15),0)>0,VLOOKUP(\"Oil\",HVACg_Lookup,MATCH($F$13,BuildingSize,0)+1,FALSE),IF(IFERROR(SEARCH(\"Propane\",$A$15),0)>0,VLOOKUP(\"Propane\",HVACg_Lookup,MATCH(Worksheet!$F$13,BuildingSize,0)+1,FALSE),0)))","v":0},{"$f":"X33/1000*Y33*AA33*IF(IFERROR(SEARCH(\"Gas\",$A$15),0)>0,VLOOKUP(\"Gas\",HVACg_Lookup,MATCH($F$13,BuildingSize,0)+1,FALSE),IF(IFERROR(SEARCH(\"Oil\",$A$15),0)>0,VLOOKUP(\"Oil\",HVACg_Lookup,MATCH($F$13,BuildingSize,0)+1,FALSE),IF(IFERROR(SEARCH(\"Propane\",$A$15),0)>0,VLOOKUP(\"Propane\",HVACg_Lookup,MATCH(Worksheet!$F$13,BuildingSize,0)+1,FALSE),0)))","v":0},0,0,"",""]
[null,null,"",null,null,null,null,null,null,null,null,null,null,null,null,0,0,0,0,"",0,0,0,0,0,0,0,0,0,0,0,0,0,0,0,{"$f":"W34/1000*Y34*AA34*IF(IFERROR(SEARCH(\"Gas\",$A$15),0)>0,VLOOKUP(\"Gas\",HVACg_Lookup,MATCH($F$13,BuildingSize,0)+1,FALSE),IF(IFERROR(SEARCH(\"Oil\",$A$15),0)>0,VLOOKUP(\"Oil\",HVACg_Lookup,MATCH($F$13,BuildingSize,0)+1,FALSE),IF(IFERROR(SEARCH(\"Propane\",$A$15),0)>0,VLOOKUP(\"Propane\",HVACg_Lookup,MATCH(Worksheet!$F$13,BuildingSize,0)+1,FALSE),0)))","v":0},{"$f":"X34/1000*Y34*AA34*IF(IFERROR(SEARCH(\"Gas\",$A$15),0)>0,VLOOKUP(\"Gas\",HVACg_Lookup,MATCH($F$13,BuildingSize,0)+1,FALSE),IF(IFERROR(SEARCH(\"Oil\",$A$15),0)>0,VLOOKUP(\"Oil\",HVACg_Lookup,MATCH($F$13,BuildingSize,0)+1,FALSE),IF(IFERROR(SEARCH(\"Propane\",$A$15),0)>0,VLOOKUP(\"Propane\",HVACg_Lookup,MATCH(Worksheet!$F$13,BuildingSize,0)+1,FALSE),0)))","v":0},0,0,"",""]
[null,null,"",null,null,null,null,null,null,null,null,null,null,null,null,0,0,0,0,"",0,0,0,0,0,0,0,0,0,0,0,0,0,0,0,{"$f":"W35/1000*Y35*AA35*IF(IFERROR(SEARCH(\"Gas\",$A$15),0)>0,VLOOKUP(\"Gas\",HVACg_Lookup,MATCH($F$13,BuildingSize,0)+1,FALSE),IF(IFERROR(SEARCH(\"Oil\",$A$15),0)>0,VLOOKUP(\"Oil\",HVACg_Lookup,MATCH($F$13,BuildingSize,0)+1,FALSE),IF(IFERROR(SEARCH(\"Propane\",$A$15),0)>0,VLOOKUP(\"Propane\",HVACg_Lookup,MATCH(Worksheet!$F$13,BuildingSize,0)+1,FALSE),0)))","v":0},{"$f":"X35/1000*Y35*AA35*IF(IFERROR(SEARCH(\"Gas\",$A$15),0)>0,VLOOKUP(\"Gas\",HVACg_Lookup,MATCH($F$13,BuildingSize,0)+1,FALSE),IF(IFERROR(SEARCH(\"Oil\",$A$15),0)>0,VLOOKUP(\"Oil\",HVACg_Lookup,MATCH($F$13,BuildingSize,0)+1,FALSE),IF(IFERROR(SEARCH(\"Propane\",$A$15),0)>0,VLOOKUP(\"Propane\",HVACg_Lookup,MATCH(Worksheet!$F$13,BuildingSize,0)+1,FALSE),0)))","v":0},0,0,"",""]
[null,null,"",null,null,null,null,null,null,null,null,null,null,null,null,0,0,0,0,"",0,0,0,0,0,0,0,0,0,0,0,0,0,0,0,{"$f":"W36/1000*Y36*AA36*IF(IFERROR(SEARCH(\"Gas\",$A$15),0)>0,VLOOKUP(\"Gas\",HVACg_Lookup,MATCH($F$13,BuildingSize,0)+1,FALSE),IF(IFERROR(SEARCH(\"Oil\",$A$15),0)>0,VLOOKUP(\"Oil\",HVACg_Lookup,MATCH($F$13,BuildingSize,0)+1,FALSE),IF(IFERROR(SEARCH(\"Propane\",$A$15),0)>0,VLOOKUP(\"Propane\",HVACg_Lookup,MATCH(Worksheet!$F$13,BuildingSize,0)+1,FALSE),0)))","v":0},{"$f":"X36/1000*Y36*AA36*IF(IFERROR(SEARCH(\"Gas\",$A$15),0)>0,VLOOKUP(\"Gas\",HVACg_Lookup,MATCH($F$13,BuildingSize,0)+1,FALSE),IF(IFERROR(SEARCH(\"Oil\",$A$15),0)>0,VLOOKUP(\"Oil\",HVACg_Lookup,MATCH($F$13,BuildingSize,0)+1,FALSE),IF(IFERROR(SEARCH(\"Propane\",$A$15),0)>0,VLOOKUP(\"Propane\",HVACg_Lookup,MATCH(Worksheet!$F$13,BuildingSize,0)+1,FALSE),0)))","v":0},0,0,"",""]
[null,null,"",null,null,null,null,null,null,null,null,null,null,null,null,0,0,0,0,"",0,0,0,0,0,0,0,0,0,0,0,0,0,0,0,{"$f":"W37/1000*Y37*AA37*IF(IFERROR(SEARCH(\"Gas\",$A$15),0)>0,VLOOKUP(\"Gas\",HVACg_Lookup,MATCH($F$13,BuildingSize,0)+1,FALSE),IF(IFERROR(SEARCH(\"Oil\",$A$15),0)>0,VLOOKUP(\"Oil\",HVACg_Lookup,MATCH($F$13,BuildingSize,0)+1,FALSE),IF(IFERROR(SEARCH(\"Propane\",$A$15),0)>0,VLOOKUP(\"Propane\",HVACg_Lookup,MATCH(Worksheet!$F$13,BuildingSize,0)+1,FALSE),0)))","v":0},{"$f":"X37/1000*Y37*AA37*IF(IFERROR(SEARCH(\"Gas\",$A$15),0)>0,VLOOKUP(\"Gas\",HVACg_Lookup,MATCH($F$13,BuildingSize,0)+1,FALSE),IF(IFERROR(SEARCH(\"Oil\",$A$15),0)>0,VLOOKUP(\"Oil\",HVACg_Lookup,MATCH($F$13,BuildingSize,0)+1,FALSE),IF(IFERROR(SEARCH(\"Propane\",$A$15),0)>0,VLOOKUP(\"Propane\",HVACg_Lookup,MATCH(Worksheet!$F$13,BuildingSize,0)+1,FALSE),0)))","v":0},0,0,"",""]
[null,null,"",null,null,null,null,null,null,null,null,null,null,null,null,0,0,0,0,"",0,0,0,0,0,0,0,0,0,0,0,0,0,0,0,{"$f":"W38/1000*Y38*AA38*IF(IFERROR(SEARCH(\"Gas\",$A$15),0)>0,VLOOKUP(\"Gas\",HVACg_Lookup,MATCH($F$13,BuildingSize,0)+1,FALSE),IF(IFERROR(SEARCH(\"Oil\",$A$15),0)>0,VLOOKUP(\"Oil\",HVACg_Lookup,MATCH($F$13,BuildingSize,0)+1,FALSE),IF(IFERROR(SEARCH(\"Propane\",$A$15),0)>0,VLOOKUP(\"Propane\",HVACg_Lookup,MATCH(Worksheet!$F$13,BuildingSize,0)+1,FALSE),0)))","v":0},{"$f":"X38/1000*Y38*AA38*IF(IFERROR(SEARCH(\"Gas\",$A$15),0)>0,VLOOKUP(\"Gas\",HVACg_Lookup,MATCH($F$13,BuildingSize,0)+1,FALSE),IF(IFERROR(SEARCH(\"Oil\",$A$15),0)>0,VLOOKUP(\"Oil\",HVACg_Lookup,MATCH($F$13,BuildingSize,0)+1,FALSE),IF(IFERROR(SEARCH(\"Propane\",$A$15),0)>0,VLOOKUP(\"Propane\",HVACg_Lookup,MATCH(Worksheet!$F$13,BuildingSize,0)+1,FALSE),0)))","v":0},0,0,"",""]
[null,null,"",null,null,null,null,null,null,null,null,null,null,null,null,0,0,0,0,"",0,0,0,0,0,0,0,0,0,0,0,0,0,0,0,{"$f":"W39/1000*Y39*AA39*IF(IFERROR(SEARCH(\"Gas\",$A$15),0)>0,VLOOKUP(\"Gas\",HVACg_Lookup,MATCH($F$13,BuildingSize,0)+1,FALSE),IF(IFERROR(SEARCH(\"Oil\",$A$15),0)>0,VLOOKUP(\"Oil\",HVACg_Lookup,MATCH($F$13,BuildingSize,0)+1,FALSE),IF(IFERROR(SEARCH(\"Propane\",$A$15),0)>0,VLOOKUP(\"Propane\",HVACg_Lookup,MATCH(Worksheet!$F$13,BuildingSize,0)+1,FALSE),0)))","v":0},{"$f":"X39/1000*Y39*AA39*IF(IFERROR(SEARCH(\"Gas\",$A$15),0)>0,VLOOKUP(\"Gas\",HVACg_Lookup,MATCH($F$13,BuildingSize,0)+1,FALSE),IF(IFERROR(SEARCH(\"Oil\",$A$15),0)>0,VLOOKUP(\"Oil\",HVACg_Lookup,MATCH($F$13,BuildingSize,0)+1,FALSE),IF(IFERROR(SEARCH(\"Propane\",$A$15),0)>0,VLOOKUP(\"Propane\",HVACg_Lookup,MATCH(Worksheet!$F$13,BuildingSize,0)+1,FALSE),0)))","v":0},0,0,"",""]
[null,null,"",null,null,null,null,null,null,null,null,null,null,null,null,0,0,0,0,"",0,0,0,0,0,0,0,0,0,0,0,0,0,0,0,{"$f":"W40/1000*Y40*AA40*IF(IFERROR(SEARCH(\"Gas\",$A$15),0)>0,VLOOKUP(\"Gas\",HVACg_Lookup,MATCH($F$13,BuildingSize,0)+1,FALSE),IF(IFERROR(SEARCH(\"Oil\",$A$15),0)>0,VLOOKUP(\"Oil\",HVACg_Lookup,MATCH($F$13,BuildingSize,0)+1,FALSE),IF(IFERROR(SEARCH(\"Propane\",$A$15),0)>0,VLOOKUP(\"Propane\",HVACg_Lookup,MATCH(Worksheet!$F$13,BuildingSize,0)+1,FALSE),0)))","v":0},{"$f":"X40/1000*Y40*AA40*IF(IFERROR(SEARCH(\"Gas\",$A$15),0)>0,VLOOKUP(\"Gas\",HVACg_Lookup,MATCH($F$13,BuildingSize,0)+1,FALSE),IF(IFERROR(SEARCH(\"Oil\",$A$15),0)>0,VLOOKUP(\"Oil\",HVACg_Lookup,MATCH($F$13,BuildingSize,0)+1,FALSE),IF(IFERROR(SEARCH(\"Propane\",$A$15),0)>0,VLOOKUP(\"Propane\",HVACg_Lookup,MATCH(Worksheet!$F$13,BuildingSize,0)+1,FALSE),0)))","v":0},0,0,"",""]
[null,null,"",null,null,null,null,null,null,null,null,null,null,null,null,0,0,0,0,"",0,0,0,0,0,0,0,0,0,0,0,0,0,0,0,{"$f":"W41/1000*Y41*AA41*IF(IFERROR(SEARCH(\"Gas\",$A$15),0)>0,VLOOKUP(\"Gas\",HVACg_Lookup,MATCH($F$13,BuildingSize,0)+1,FALSE),IF(IFERROR(SEARCH(\"Oil\",$A$15),0)>0,VLOOKUP(\"Oil\",HVACg_Lookup,MATCH($F$13,BuildingSize,0)+1,FALSE),IF(IFERROR(SEARCH(\"Propane\",$A$15),0)>0,VLOOKUP(\"Propane\",HVACg_Lookup,MATCH(Worksheet!$F$13,BuildingSize,0)+1,FALSE),0)))","v":0},{"$f":"X41/1000*Y41*AA41*IF(IFERROR(SEARCH(\"Gas\",$A$15),0)>0,VLOOKUP(\"Gas\",HVACg_Lookup,MATCH($F$13,BuildingSize,0)+1,FALSE),IF(IFERROR(SEARCH(\"Oil\",$A$15),0)>0,VLOOKUP(\"Oil\",HVACg_Lookup,MATCH($F$13,BuildingSize,0)+1,FALSE),IF(IFERROR(SEARCH(\"Propane\",$A$15),0)>0,VLOOKUP(\"Propane\",HVACg_Lookup,MATCH(Worksheet!$F$13,BuildingSize,0)+1,FALSE),0)))","v":0},0,0,"",""]
[null,null,"",null,null,null,null,null,null,null,null,null,null,null,null,0,0,0,0,"",0,0,0,0,0,0,0,0,0,0,0,0,0,0,0,{"$f":"W42/1000*Y42*AA42*IF(IFERROR(SEARCH(\"Gas\",$A$15),0)>0,VLOOKUP(\"Gas\",HVACg_Lookup,MATCH($F$13,BuildingSize,0)+1,FALSE),IF(IFERROR(SEARCH(\"Oil\",$A$15),0)>0,VLOOKUP(\"Oil\",HVACg_Lookup,MATCH($F$13,BuildingSize,0)+1,FALSE),IF(IFERROR(SEARCH(\"Propane\",$A$15),0)>0,VLOOKUP(\"Propane\",HVACg_Lookup,MATCH(Worksheet!$F$13,BuildingSize,0)+1,FALSE),0)))","v":0},{"$f":"X42/1000*Y42*AA42*IF(IFERROR(SEARCH(\"Gas\",$A$15),0)>0,VLOOKUP(\"Gas\",HVACg_Lookup,MATCH($F$13,BuildingSize,0)+1,FALSE),IF(IFERROR(SEARCH(\"Oil\",$A$15),0)>0,VLOOKUP(\"Oil\",HVACg_Lookup,MATCH($F$13,BuildingSize,0)+1,FALSE),IF(IFERROR(SEARCH(\"Propane\",$A$15),0)>0,VLOOKUP(\"Propane\",HVACg_Lookup,MATCH(Worksheet!$F$13,BuildingSize,0)+1,FALSE),0)))","v":0},0,0,"",""]
[null,null,"",null,null,null,null,null,null,null,null,null,null,null,null,0,0,0,0,"",0,0,0,0,0,0,0,0,0,0,0,0,0,0,0,{"$f":"W43/1000*Y43*AA43*IF(IFERROR(SEARCH(\"Gas\",$A$15),0)>0,VLOOKUP(\"Gas\",HVACg_Lookup,MATCH($F$13,BuildingSize,0)+1,FALSE),IF(IFERROR(SEARCH(\"Oil\",$A$15),0)>0,VLOOKUP(\"Oil\",HVACg_Lookup,MATCH($F$13,BuildingSize,0)+1,FALSE),IF(IFERROR(SEARCH(\"Propane\",$A$15),0)>0,VLOOKUP(\"Propane\",HVACg_Lookup,MATCH(Worksheet!$F$13,BuildingSize,0)+1,FALSE),0)))","v":0},{"$f":"X43/1000*Y43*AA43*IF(IFERROR(SEARCH(\"Gas\",$A$15),0)>0,VLOOKUP(\"Gas\",HVACg_Lookup,MATCH($F$13,BuildingSize,0)+1,FALSE),IF(IFERROR(SEARCH(\"Oil\",$A$15),0)>0,VLOOKUP(\"Oil\",HVACg_Lookup,MATCH($F$13,BuildingSize,0)+1,FALSE),IF(IFERROR(SEARCH(\"Propane\",$A$15),0)>0,VLOOKUP(\"Propane\",HVACg_Lookup,MATCH(Worksheet!$F$13,BuildingSize,0)+1,FALSE),0)))","v":0},0,0,"",""]
[null,null,"",null,null,null,null,null,null,null,null,null,null,null,null,0,0,0,0,"",0,0,0,0,0,0,0,0,0,0,0,0,0,0,0,{"$f":"W44/1000*Y44*AA44*IF(IFERROR(SEARCH(\"Gas\",$A$15),0)>0,VLOOKUP(\"Gas\",HVACg_Lookup,MATCH($F$13,BuildingSize,0)+1,FALSE),IF(IFERROR(SEARCH(\"Oil\",$A$15),0)>0,VLOOKUP(\"Oil\",HVACg_Lookup,MATCH($F$13,BuildingSize,0)+1,FALSE),IF(IFERROR(SEARCH(\"Propane\",$A$15),0)>0,VLOOKUP(\"Propane\",HVACg_Lookup,MATCH(Worksheet!$F$13,BuildingSize,0)+1,FALSE),0)))","v":0},{"$f":"X44/1000*Y44*AA44*IF(IFERROR(SEARCH(\"Gas\",$A$15),0)>0,VLOOKUP(\"Gas\",HVACg_Lookup,MATCH($F$13,BuildingSize,0)+1,FALSE),IF(IFERROR(SEARCH(\"Oil\",$A$15),0)>0,VLOOKUP(\"Oil\",HVACg_Lookup,MATCH($F$13,BuildingSize,0)+1,FALSE),IF(IFERROR(SEARCH(\"Propane\",$A$15),0)>0,VLOOKUP(\"Propane\",HVACg_Lookup,MATCH(Worksheet!$F$13,BuildingSize,0)+1,FALSE),0)))","v":0},0,0,"",""]
[null,null,"",null,null,null,null,null,null,null,null,null,null,null,null,0,0,0,0,"",0,0,0,0,0,0,0,0,0,0,0,0,0,0,0,{"$f":"W45/1000*Y45*AA45*IF(IFERROR(SEARCH(\"Gas\",$A$15),0)>0,VLOOKUP(\"Gas\",HVACg_Lookup,MATCH($F$13,BuildingSize,0)+1,FALSE),IF(IFERROR(SEARCH(\"Oil\",$A$15),0)>0,VLOOKUP(\"Oil\",HVACg_Lookup,MATCH($F$13,BuildingSize,0)+1,FALSE),IF(IFERROR(SEARCH(\"Propane\",$A$15),0)>0,VLOOKUP(\"Propane\",HVACg_Lookup,MATCH(Worksheet!$F$13,BuildingSize,0)+1,FALSE),0)))","v":0},{"$f":"X45/1000*Y45*AA45*IF(IFERROR(SEARCH(\"Gas\",$A$15),0)>0,VLOOKUP(\"Gas\",HVACg_Lookup,MATCH($F$13,BuildingSize,0)+1,FALSE),IF(IFERROR(SEARCH(\"Oil\",$A$15),0)>0,VLOOKUP(\"Oil\",HVACg_Lookup,MATCH($F$13,BuildingSize,0)+1,FALSE),IF(IFERROR(SEARCH(\"Propane\",$A$15),0)>0,VLOOKUP(\"Propane\",HVACg_Lookup,MATCH(Worksheet!$F$13,BuildingSize,0)+1,FALSE),0)))","v":0},0,0,"",""]
[null,null,"",null,null,null,null,null,null,null,null,null,null,null,null,0,0,0,0,"",0,0,0,0,0,0,0,0,0,0,0,0,0,0,0,{"$f":"W46/1000*Y46*AA46*IF(IFERROR(SEARCH(\"Gas\",$A$15),0)>0,VLOOKUP(\"Gas\",HVACg_Lookup,MATCH($F$13,BuildingSize,0)+1,FALSE),IF(IFERROR(SEARCH(\"Oil\",$A$15),0)>0,VLOOKUP(\"Oil\",HVACg_Lookup,MATCH($F$13,BuildingSize,0)+1,FALSE),IF(IFERROR(SEARCH(\"Propane\",$A$15),0)>0,VLOOKUP(\"Propane\",HVACg_Lookup,MATCH(Worksheet!$F$13,BuildingSize,0)+1,FALSE),0)))","v":0},{"$f":"X46/1000*Y46*AA46*IF(IFERROR(SEARCH(\"Gas\",$A$15),0)>0,VLOOKUP(\"Gas\",HVACg_Lookup,MATCH($F$13,BuildingSize,0)+1,FALSE),IF(IFERROR(SEARCH(\"Oil\",$A$15),0)>0,VLOOKUP(\"Oil\",HVACg_Lookup,MATCH($F$13,BuildingSize,0)+1,FALSE),IF(IFERROR(SEARCH(\"Propane\",$A$15),0)>0,VLOOKUP(\"Propane\",HVACg_Lookup,MATCH(Worksheet!$F$13,BuildingSize,0)+1,FALSE),0)))","v":0},0,0,"",""]
[null,null,"",null,null,null,null,null,null,null,null,null,null,null,null,0,0,0,0,"",0,0,0,0,0,0,0,0,0,0,0,0,0,0,0,{"$f":"W47/1000*Y47*AA47*IF(IFERROR(SEARCH(\"Gas\",$A$15),0)>0,VLOOKUP(\"Gas\",HVACg_Lookup,MATCH($F$13,BuildingSize,0)+1,FALSE),IF(IFERROR(SEARCH(\"Oil\",$A$15),0)>0,VLOOKUP(\"Oil\",HVACg_Lookup,MATCH($F$13,BuildingSize,0)+1,FALSE),IF(IFERROR(SEARCH(\"Propane\",$A$15),0)>0,VLOOKUP(\"Propane\",HVACg_Lookup,MATCH(Worksheet!$F$13,BuildingSize,0)+1,FALSE),0)))","v":0},{"$f":"X47/1000*Y47*AA47*IF(IFERROR(SEARCH(\"Gas\",$A$15),0)>0,VLOOKUP(\"Gas\",HVACg_Lookup,MATCH($F$13,BuildingSize,0)+1,FALSE),IF(IFERROR(SEARCH(\"Oil\",$A$15),0)>0,VLOOKUP(\"Oil\",HVACg_Lookup,MATCH($F$13,BuildingSize,0)+1,FALSE),IF(IFERROR(SEARCH(\"Propane\",$A$15),0)>0,VLOOKUP(\"Propane\",HVACg_Lookup,MATCH(Worksheet!$F$13,BuildingSize,0)+1,FALSE),0)))","v":0},0,0,"",""]
[null,null,"",null,null,null,null,null,null,null,null,null,null,null,null,0,0,0,0,"",0,0,0,0,0,0,0,0,0,0,0,0,0,0,0,{"$f":"W48/1000*Y48*AA48*IF(IFERROR(SEARCH(\"Gas\",$A$15),0)>0,VLOOKUP(\"Gas\",HVACg_Lookup,MATCH($F$13,BuildingSize,0)+1,FALSE),IF(IFERROR(SEARCH(\"Oil\",$A$15),0)>0,VLOOKUP(\"Oil\",HVACg_Lookup,MATCH($F$13,BuildingSize,0)+1,FALSE),IF(IFERROR(SEARCH(\"Propane\",$A$15),0)>0,VLOOKUP(\"Propane\",HVACg_Lookup,MATCH(Worksheet!$F$13,BuildingSize,0)+1,FALSE),0)))","v":0},{"$f":"X48/1000*Y48*AA48*IF(IFERROR(SEARCH(\"Gas\",$A$15),0)>0,VLOOKUP(\"Gas\",HVACg_Lookup,MATCH($F$13,BuildingSize,0)+1,FALSE),IF(IFERROR(SEARCH(\"Oil\",$A$15),0)>0,VLOOKUP(\"Oil\",HVACg_Lookup,MATCH($F$13,BuildingSize,0)+1,FALSE),IF(IFERROR(SEARCH(\"Propane\",$A$15),0)>0,VLOOKUP(\"Propane\",HVACg_Lookup,MATCH(Worksheet!$F$13,BuildingSize,0)+1,FALSE),0)))","v":0},0,0,"",""]
[null,null,"",null,null,null,null,null,null,null,null,null,null,null,null,0,0,0,0,"",0,0,0,0,0,0,0,0,0,0,0,0,0,0,0,{"$f":"W49/1000*Y49*AA49*IF(IFERROR(SEARCH(\"Gas\",$A$15),0)>0,VLOOKUP(\"Gas\",HVACg_Lookup,MATCH($F$13,BuildingSize,0)+1,FALSE),IF(IFERROR(SEARCH(\"Oil\",$A$15),0)>0,VLOOKUP(\"Oil\",HVACg_Lookup,MATCH($F$13,BuildingSize,0)+1,FALSE),IF(IFERROR(SEARCH(\"Propane\",$A$15),0)>0,VLOOKUP(\"Propane\",HVACg_Lookup,MATCH(Worksheet!$F$13,BuildingSize,0)+1,FALSE),0)))","v":0},{"$f":"X49/1000*Y49*AA49*IF(IFERROR(SEARCH(\"Gas\",$A$15),0)>0,VLOOKUP(\"Gas\",HVACg_Lookup,MATCH($F$13,BuildingSize,0)+1,FALSE),IF(IFERROR(SEARCH(\"Oil\",$A$15),0)>0,VLOOKUP(\"Oil\",HVACg_Lookup,MATCH($F$13,BuildingSize,0)+1,FALSE),IF(IFERROR(SEARCH(\"Propane\",$A$15),0)>0,VLOOKUP(\"Propane\",HVACg_Lookup,MATCH(Worksheet!$F$13,BuildingSize,0)+1,FALSE),0)))","v":0},0,0,"",""]
[null,null,"",null,null,null,null,null,null,null,null,null,null,null,null,0,0,0,0,"",0,0,0,0,0,0,0,0,0,0,0,0,0,0,0,{"$f":"W50/1000*Y50*AA50*IF(IFERROR(SEARCH(\"Gas\",$A$15),0)>0,VLOOKUP(\"Gas\",HVACg_Lookup,MATCH($F$13,BuildingSize,0)+1,FALSE),IF(IFERROR(SEARCH(\"Oil\",$A$15),0)>0,VLOOKUP(\"Oil\",HVACg_Lookup,MATCH($F$13,BuildingSize,0)+1,FALSE),IF(IFERROR(SEARCH(\"Propane\",$A$15),0)>0,VLOOKUP(\"Propane\",HVACg_Lookup,MATCH(Worksheet!$F$13,BuildingSize,0)+1,FALSE),0)))","v":0},{"$f":"X50/1000*Y50*AA50*IF(IFERROR(SEARCH(\"Gas\",$A$15),0)>0,VLOOKUP(\"Gas\",HVACg_Lookup,MATCH($F$13,BuildingSize,0)+1,FALSE),IF(IFERROR(SEARCH(\"Oil\",$A$15),0)>0,VLOOKUP(\"Oil\",HVACg_Lookup,MATCH($F$13,BuildingSize,0)+1,FALSE),IF(IFERROR(SEARCH(\"Propane\",$A$15),0)>0,VLOOKUP(\"Propane\",HVACg_Lookup,MATCH(Worksheet!$F$13,BuildingSize,0)+1,FALSE),0)))","v":0},0,0,"",""]
[null,null,"",null,null,null,null,null,null,null,null,null,null,null,null,0,0,0,0,"",0,0,0,0,0,0,0,0,0,0,0,0,0,0,0,{"$f":"W51/1000*Y51*AA51*IF(IFERROR(SEARCH(\"Gas\",$A$15),0)>0,VLOOKUP(\"Gas\",HVACg_Lookup,MATCH($F$13,BuildingSize,0)+1,FALSE),IF(IFERROR(SEARCH(\"Oil\",$A$15),0)>0,VLOOKUP(\"Oil\",HVACg_Lookup,MATCH($F$13,BuildingSize,0)+1,FALSE),IF(IFERROR(SEARCH(\"Propane\",$A$15),0)>0,VLOOKUP(\"Propane\",HVACg_Lookup,MATCH(Worksheet!$F$13,BuildingSize,0)+1,FALSE),0)))","v":0},{"$f":"X51/1000*Y51*AA51*IF(IFERROR(SEARCH(\"Gas\",$A$15),0)>0,VLOOKUP(\"Gas\",HVACg_Lookup,MATCH($F$13,BuildingSize,0)+1,FALSE),IF(IFERROR(SEARCH(\"Oil\",$A$15),0)>0,VLOOKUP(\"Oil\",HVACg_Lookup,MATCH($F$13,BuildingSize,0)+1,FALSE),IF(IFERROR(SEARCH(\"Propane\",$A$15),0)>0,VLOOKUP(\"Propane\",HVACg_Lookup,MATCH(Worksheet!$F$13,BuildingSize,0)+1,FALSE),0)))","v":0},0,0,"",""]
[null,null,"",null,null,null,null,null,null,null,null,null,null,null,null,0,0,0,0,"",0,0,0,0,0,0,0,0,0,0,0,0,0,0,0,{"$f":"W52/1000*Y52*AA52*IF(IFERROR(SEARCH(\"Gas\",$A$15),0)>0,VLOOKUP(\"Gas\",HVACg_Lookup,MATCH($F$13,BuildingSize,0)+1,FALSE),IF(IFERROR(SEARCH(\"Oil\",$A$15),0)>0,VLOOKUP(\"Oil\",HVACg_Lookup,MATCH($F$13,BuildingSize,0)+1,FALSE),IF(IFERROR(SEARCH(\"Propane\",$A$15),0)>0,VLOOKUP(\"Propane\",HVACg_Lookup,MATCH(Worksheet!$F$13,BuildingSize,0)+1,FALSE),0)))","v":0},{"$f":"X52/1000*Y52*AA52*IF(IFERROR(SEARCH(\"Gas\",$A$15),0)>0,VLOOKUP(\"Gas\",HVACg_Lookup,MATCH($F$13,BuildingSize,0)+1,FALSE),IF(IFERROR(SEARCH(\"Oil\",$A$15),0)>0,VLOOKUP(\"Oil\",HVACg_Lookup,MATCH($F$13,BuildingSize,0)+1,FALSE),IF(IFERROR(SEARCH(\"Propane\",$A$15),0)>0,VLOOKUP(\"Propane\",HVACg_Lookup,MATCH(Worksheet!$F$13,BuildingSize,0)+1,FALSE),0)))","v":0},0,0,"",""]
[null,null,"",null,null,null,null,null,null,null,null,null,null,null,null,0,0,0,0,"",0,0,0,0,0,0,0,0,0,0,0,0,0,0,0,{"$f":"W53/1000*Y53*AA53*IF(IFERROR(SEARCH(\"Gas\",$A$15),0)>0,VLOOKUP(\"Gas\",HVACg_Lookup,MATCH($F$13,BuildingSize,0)+1,FALSE),IF(IFERROR(SEARCH(\"Oil\",$A$15),0)>0,VLOOKUP(\"Oil\",HVACg_Lookup,MATCH($F$13,BuildingSize,0)+1,FALSE),IF(IFERROR(SEARCH(\"Propane\",$A$15),0)>0,VLOOKUP(\"Propane\",HVACg_Lookup,MATCH(Worksheet!$F$13,BuildingSize,0)+1,FALSE),0)))","v":0},{"$f":"X53/1000*Y53*AA53*IF(IFERROR(SEARCH(\"Gas\",$A$15),0)>0,VLOOKUP(\"Gas\",HVACg_Lookup,MATCH($F$13,BuildingSize,0)+1,FALSE),IF(IFERROR(SEARCH(\"Oil\",$A$15),0)>0,VLOOKUP(\"Oil\",HVACg_Lookup,MATCH($F$13,BuildingSize,0)+1,FALSE),IF(IFERROR(SEARCH(\"Propane\",$A$15),0)>0,VLOOKUP(\"Propane\",HVACg_Lookup,MATCH(Worksheet!$F$13,BuildingSize,0)+1,FALSE),0)))","v":0},0,0,"",""]
[null,null,"",null,null,null,null,null,null,null,null,null,null,null,null,0,0,0,0,"",0,0,0,0,0,0,0,0,0,0,0,0,0,0,0,{"$f":"W54/1000*Y54*AA54*IF(IFERROR(SEARCH(\"Gas\",$A$15),0)>0,VLOOKUP(\"Gas\",HVACg_Lookup,MATCH($F$13,BuildingSize,0)+1,FALSE),IF(IFERROR(SEARCH(\"Oil\",$A$15),0)>0,VLOOKUP(\"Oil\",HVACg_Lookup,MATCH($F$13,BuildingSize,0)+1,FALSE),IF(IFERROR(SEARCH(\"Propane\",$A$15),0)>0,VLOOKUP(\"Propane\",HVACg_Lookup,MATCH(Worksheet!$F$13,BuildingSize,0)+1,FALSE),0)))","v":0},{"$f":"X54/1000*Y54*AA54*IF(IFERROR(SEARCH(\"Gas\",$A$15),0)>0,VLOOKUP(\"Gas\",HVACg_Lookup,MATCH($F$13,BuildingSize,0)+1,FALSE),IF(IFERROR(SEARCH(\"Oil\",$A$15),0)>0,VLOOKUP(\"Oil\",HVACg_Lookup,MATCH($F$13,BuildingSize,0)+1,FALSE),IF(IFERROR(SEARCH(\"Propane\",$A$15),0)>0,VLOOKUP(\"Propane\",HVACg_Lookup,MATCH(Worksheet!$F$13,BuildingSize,0)+1,FALSE),0)))","v":0},0,0,"",""]
[null,null,"",null,null,null,null,null,null,null,null,null,null,null,null,0,0,0,0,"",0,0,0,0,0,0,0,0,0,0,0,0,0,0,0,{"$f":"W55/1000*Y55*AA55*IF(IFERROR(SEARCH(\"Gas\",$A$15),0)>0,VLOOKUP(\"Gas\",HVACg_Lookup,MATCH($F$13,BuildingSize,0)+1,FALSE),IF(IFERROR(SEARCH(\"Oil\",$A$15),0)>0,VLOOKUP(\"Oil\",HVACg_Lookup,MATCH($F$13,BuildingSize,0)+1,FALSE),IF(IFERROR(SEARCH(\"Propane\",$A$15),0)>0,VLOOKUP(\"Propane\",HVACg_Lookup,MATCH(Worksheet!$F$13,BuildingSize,0)+1,FALSE),0)))","v":0},{"$f":"X55/1000*Y55*AA55*IF(IFERROR(SEARCH(\"Gas\",$A$15),0)>0,VLOOKUP(\"Gas\",HVACg_Lookup,MATCH($F$13,BuildingSize,0)+1,FALSE),IF(IFERROR(SEARCH(\"Oil\",$A$15),0)>0,VLOOKUP(\"Oil\",HVACg_Lookup,MATCH($F$13,BuildingSize,0)+1,FALSE),IF(IFERROR(SEARCH(\"Propane\",$A$15),0)>0,VLOOKUP(\"Propane\",HVACg_Lookup,MATCH(Worksheet!$F$13,BuildingSize,0)+1,FALSE),0)))","v":0},0,0,"",""]
[null,null,"",null,null,null,null,null,null,null,null,null,null,null,null,0,0,0,0,"",0,0,0,0,0,0,0,0,0,0,0,0,0,0,0,{"$f":"W56/1000*Y56*AA56*IF(IFERROR(SEARCH(\"Gas\",$A$15),0)>0,VLOOKUP(\"Gas\",HVACg_Lookup,MATCH($F$13,BuildingSize,0)+1,FALSE),IF(IFERROR(SEARCH(\"Oil\",$A$15),0)>0,VLOOKUP(\"Oil\",HVACg_Lookup,MATCH($F$13,BuildingSize,0)+1,FALSE),IF(IFERROR(SEARCH(\"Propane\",$A$15),0)>0,VLOOKUP(\"Propane\",HVACg_Lookup,MATCH(Worksheet!$F$13,BuildingSize,0)+1,FALSE),0)))","v":0},{"$f":"X56/1000*Y56*AA56*IF(IFERROR(SEARCH(\"Gas\",$A$15),0)>0,VLOOKUP(\"Gas\",HVACg_Lookup,MATCH($F$13,BuildingSize,0)+1,FALSE),IF(IFERROR(SEARCH(\"Oil\",$A$15),0)>0,VLOOKUP(\"Oil\",HVACg_Lookup,MATCH($F$13,BuildingSize,0)+1,FALSE),IF(IFERROR(SEARCH(\"Propane\",$A$15),0)>0,VLOOKUP(\"Propane\",HVACg_Lookup,MATCH(Worksheet!$F$13,BuildingSize,0)+1,FALSE),0)))","v":0},0,0,"",""]
[null,null,"",null,null,null,null,null,null,null,null,null,null,null,null,0,0,0,0,"",0,0,0,0,0,0,0,0,0,0,0,0,0,0,0,{"$f":"W57/1000*Y57*AA57*IF(IFERROR(SEARCH(\"Gas\",$A$15),0)>0,VLOOKUP(\"Gas\",HVACg_Lookup,MATCH($F$13,BuildingSize,0)+1,FALSE),IF(IFERROR(SEARCH(\"Oil\",$A$15),0)>0,VLOOKUP(\"Oil\",HVACg_Lookup,MATCH($F$13,BuildingSize,0)+1,FALSE),IF(IFERROR(SEARCH(\"Propane\",$A$15),0)>0,VLOOKUP(\"Propane\",HVACg_Lookup,MATCH(Worksheet!$F$13,BuildingSize,0)+1,FALSE),0)))","v":0},{"$f":"X57/1000*Y57*AA57*IF(IFERROR(SEARCH(\"Gas\",$A$15),0)>0,VLOOKUP(\"Gas\",HVACg_Lookup,MATCH($F$13,BuildingSize,0)+1,FALSE),IF(IFERROR(SEARCH(\"Oil\",$A$15),0)>0,VLOOKUP(\"Oil\",HVACg_Lookup,MATCH($F$13,BuildingSize,0)+1,FALSE),IF(IFERROR(SEARCH(\"Propane\",$A$15),0)>0,VLOOKUP(\"Propane\",HVACg_Lookup,MATCH(Worksheet!$F$13,BuildingSize,0)+1,FALSE),0)))","v":0},0,0,"",""]
[null,null,"",null,null,null,null,null,null,null,null,null,null,null,null,0,0,0,0,"",0,0,0,0,0,0,0,0,0,0,0,0,0,0,0,{"$f":"W58/1000*Y58*AA58*IF(IFERROR(SEARCH(\"Gas\",$A$15),0)>0,VLOOKUP(\"Gas\",HVACg_Lookup,MATCH($F$13,BuildingSize,0)+1,FALSE),IF(IFERROR(SEARCH(\"Oil\",$A$15),0)>0,VLOOKUP(\"Oil\",HVACg_Lookup,MATCH($F$13,BuildingSize,0)+1,FALSE),IF(IFERROR(SEARCH(\"Propane\",$A$15),0)>0,VLOOKUP(\"Propane\",HVACg_Lookup,MATCH(Worksheet!$F$13,BuildingSize,0)+1,FALSE),0)))","v":0},{"$f":"X58/1000*Y58*AA58*IF(IFERROR(SEARCH(\"Gas\",$A$15),0)>0,VLOOKUP(\"Gas\",HVACg_Lookup,MATCH($F$13,BuildingSize,0)+1,FALSE),IF(IFERROR(SEARCH(\"Oil\",$A$15),0)>0,VLOOKUP(\"Oil\",HVACg_Lookup,MATCH($F$13,BuildingSize,0)+1,FALSE),IF(IFERROR(SEARCH(\"Propane\",$A$15),0)>0,VLOOKUP(\"Propane\",HVACg_Lookup,MATCH(Worksheet!$F$13,BuildingSize,0)+1,FALSE),0)))","v":0},0,0,"",""]
[null,null,"",null,null,null,null,null,null,null,null,null,null,null,null,0,0,0,0,"",0,0,0,0,0,0,0,0,0,0,0,0,0,0,0,{"$f":"W59/1000*Y59*AA59*IF(IFERROR(SEARCH(\"Gas\",$A$15),0)>0,VLOOKUP(\"Gas\",HVACg_Lookup,MATCH($F$13,BuildingSize,0)+1,FALSE),IF(IFERROR(SEARCH(\"Oil\",$A$15),0)>0,VLOOKUP(\"Oil\",HVACg_Lookup,MATCH($F$13,BuildingSize,0)+1,FALSE),IF(IFERROR(SEARCH(\"Propane\",$A$15),0)>0,VLOOKUP(\"Propane\",HVACg_Lookup,MATCH(Worksheet!$F$13,BuildingSize,0)+1,FALSE),0)))","v":0},{"$f":"X59/1000*Y59*AA59*IF(IFERROR(SEARCH(\"Gas\",$A$15),0)>0,VLOOKUP(\"Gas\",HVACg_Lookup,MATCH($F$13,BuildingSize,0)+1,FALSE),IF(IFERROR(SEARCH(\"Oil\",$A$15),0)>0,VLOOKUP(\"Oil\",HVACg_Lookup,MATCH($F$13,BuildingSize,0)+1,FALSE),IF(IFERROR(SEARCH(\"Propane\",$A$15),0)>0,VLOOKUP(\"Propane\",HVACg_Lookup,MATCH(Worksheet!$F$13,BuildingSize,0)+1,FALSE),0)))","v":0},0,0,"",""]
[null,null,"",null,null,null,null,null,null,null,null,null,null,null,null,0,0,0,0,"",0,0,0,0,0,0,0,0,0,0,0,0,0,0,0,{"$f":"W60/1000*Y60*AA60*IF(IFERROR(SEARCH(\"Gas\",$A$15),0)>0,VLOOKUP(\"Gas\",HVACg_Lookup,MATCH($F$13,BuildingSize,0)+1,FALSE),IF(IFERROR(SEARCH(\"Oil\",$A$15),0)>0,VLOOKUP(\"Oil\",HVACg_Lookup,MATCH($F$13,BuildingSize,0)+1,FALSE),IF(IFERROR(SEARCH(\"Propane\",$A$15),0)>0,VLOOKUP(\"Propane\",HVACg_Lookup,MATCH(Worksheet!$F$13,BuildingSize,0)+1,FALSE),0)))","v":0},{"$f":"X60/1000*Y60*AA60*IF(IFERROR(SEARCH(\"Gas\",$A$15),0)>0,VLOOKUP(\"Gas\",HVACg_Lookup,MATCH($F$13,BuildingSize,0)+1,FALSE),IF(IFERROR(SEARCH(\"Oil\",$A$15),0)>0,VLOOKUP(\"Oil\",HVACg_Lookup,MATCH($F$13,BuildingSize,0)+1,FALSE),IF(IFERROR(SEARCH(\"Propane\",$A$15),0)>0,VLOOKUP(\"Propane\",HVACg_Lookup,MATCH(Worksheet!$F$13,BuildingSize,0)+1,FALSE),0)))","v":0},0,0,"",""]
[null,null,"",null,null,null,null,null,null,null,null,null,null,null,null,0,0,0,0,"",0,0,0,0,0,0,0,0,0,0,0,0,0,0,0,{"$f":"W61/1000*Y61*AA61*IF(IFERROR(SEARCH(\"Gas\",$A$15),0)>0,VLOOKUP(\"Gas\",HVACg_Lookup,MATCH($F$13,BuildingSize,0)+1,FALSE),IF(IFERROR(SEARCH(\"Oil\",$A$15),0)>0,VLOOKUP(\"Oil\",HVACg_Lookup,MATCH($F$13,BuildingSize,0)+1,FALSE),IF(IFERROR(SEARCH(\"Propane\",$A$15),0)>0,VLOOKUP(\"Propane\",HVACg_Lookup,MATCH(Worksheet!$F$13,BuildingSize,0)+1,FALSE),0)))","v":0},{"$f":"X61/1000*Y61*AA61*IF(IFERROR(SEARCH(\"Gas\",$A$15),0)>0,VLOOKUP(\"Gas\",HVACg_Lookup,MATCH($F$13,BuildingSize,0)+1,FALSE),IF(IFERROR(SEARCH(\"Oil\",$A$15),0)>0,VLOOKUP(\"Oil\",HVACg_Lookup,MATCH($F$13,BuildingSize,0)+1,FALSE),IF(IFERROR(SEARCH(\"Propane\",$A$15),0)>0,VLOOKUP(\"Propane\",HVACg_Lookup,MATCH(Worksheet!$F$13,BuildingSize,0)+1,FALSE),0)))","v":0},0,0,"",""]
[null,null,"",null,null,null,null,null,null,null,null,null,null,null,null,0,0,0,0,"",0,0,0,0,0,0,0,0,0,0,0,0,0,0,0,{"$f":"W62/1000*Y62*AA62*IF(IFERROR(SEARCH(\"Gas\",$A$15),0)>0,VLOOKUP(\"Gas\",HVACg_Lookup,MATCH($F$13,BuildingSize,0)+1,FALSE),IF(IFERROR(SEARCH(\"Oil\",$A$15),0)>0,VLOOKUP(\"Oil\",HVACg_Lookup,MATCH($F$13,BuildingSize,0)+1,FALSE),IF(IFERROR(SEARCH(\"Propane\",$A$15),0)>0,VLOOKUP(\"Propane\",HVACg_Lookup,MATCH(Worksheet!$F$13,BuildingSize,0)+1,FALSE),0)))","v":0},{"$f":"X62/1000*Y62*AA62*IF(IFERROR(SEARCH(\"Gas\",$A$15),0)>0,VLOOKUP(\"Gas\",HVACg_Lookup,MATCH($F$13,BuildingSize,0)+1,FALSE),IF(IFERROR(SEARCH(\"Oil\",$A$15),0)>0,VLOOKUP(\"Oil\",HVACg_Lookup,MATCH($F$13,BuildingSize,0)+1,FALSE),IF(IFERROR(SEARCH(\"Propane\",$A$15),0)>0,VLOOKUP(\"Propane\",HVACg_Lookup,MATCH(Worksheet!$F$13,BuildingSize,0)+1,FALSE),0)))","v":0},0,0,"",""]
[null,null,"",null,null,null,null,null,null,null,null,null,null,null,null,0,0,0,0,"",0,0,0,0,0,0,0,0,0,0,0,0,0,0,0,{"$f":"W63/1000*Y63*AA63*IF(IFERROR(SEARCH(\"Gas\",$A$15),0)>0,VLOOKUP(\"Gas\",HVACg_Lookup,MATCH($F$13,BuildingSize,0)+1,FALSE),IF(IFERROR(SEARCH(\"Oil\",$A$15),0)>0,VLOOKUP(\"Oil\",HVACg_Lookup,MATCH($F$13,BuildingSize,0)+1,FALSE),IF(IFERROR(SEARCH(\"Propane\",$A$15),0)>0,VLOOKUP(\"Propane\",HVACg_Lookup,MATCH(Worksheet!$F$13,BuildingSize,0)+1,FALSE),0)))","v":0},{"$f":"X63/1000*Y63*AA63*IF(IFERROR(SEARCH(\"Gas\",$A$15),0)>0,VLOOKUP(\"Gas\",HVACg_Lookup,MATCH($F$13,BuildingSize,0)+1,FALSE),IF(IFERROR(SEARCH(\"Oil\",$A$15),0)>0,VLOOKUP(\"Oil\",HVACg_Lookup,MATCH($F$13,BuildingSize,0)+1,FALSE),IF(IFERROR(SEARCH(\"Propane\",$A$15),0)>0,VLOOKUP(\"Propane\",HVACg_Lookup,MATCH(Worksheet!$F$13,BuildingSize,0)+1,FALSE),0)))","v":0},0,0,"",""]
[null,null,"",null,null,null,null,null,null,null,null,null,null,null,null,0,0,0,0,"",0,0,0,0,0,0,0,0,0,0,0,0,0,0,0,{"$f":"W64/1000*Y64*AA64*IF(IFERROR(SEARCH(\"Gas\",$A$15),0)>0,VLOOKUP(\"Gas\",HVACg_Lookup,MATCH($F$13,BuildingSize,0)+1,FALSE),IF(IFERROR(SEARCH(\"Oil\",$A$15),0)>0,VLOOKUP(\"Oil\",HVACg_Lookup,MATCH($F$13,BuildingSize,0)+1,FALSE),IF(IFERROR(SEARCH(\"Propane\",$A$15),0)>0,VLOOKUP(\"Propane\",HVACg_Lookup,MATCH(Worksheet!$F$13,BuildingSize,0)+1,FALSE),0)))","v":0},{"$f":"X64/1000*Y64*AA64*IF(IFERROR(SEARCH(\"Gas\",$A$15),0)>0,VLOOKUP(\"Gas\",HVACg_Lookup,MATCH($F$13,BuildingSize,0)+1,FALSE),IF(IFERROR(SEARCH(\"Oil\",$A$15),0)>0,VLOOKUP(\"Oil\",HVACg_Lookup,MATCH($F$13,BuildingSize,0)+1,FALSE),IF(IFERROR(SEARCH(\"Propane\",$A$15),0)>0,VLOOKUP(\"Propane\",HVACg_Lookup,MATCH(Worksheet!$F$13,BuildingSize,0)+1,FALSE),0)))","v":0},0,0,"",""]
[null,null,"",null,null,null,null,null,null,null,null,null,null,null,null,0,0,0,0,"",0,0,0,0,0,0,0,0,0,0,0,0,0,0,0,{"$f":"W65/1000*Y65*AA65*IF(IFERROR(SEARCH(\"Gas\",$A$15),0)>0,VLOOKUP(\"Gas\",HVACg_Lookup,MATCH($F$13,BuildingSize,0)+1,FALSE),IF(IFERROR(SEARCH(\"Oil\",$A$15),0)>0,VLOOKUP(\"Oil\",HVACg_Lookup,MATCH($F$13,BuildingSize,0)+1,FALSE),IF(IFERROR(SEARCH(\"Propane\",$A$15),0)>0,VLOOKUP(\"Propane\",HVACg_Lookup,MATCH(Worksheet!$F$13,BuildingSize,0)+1,FALSE),0)))","v":0},{"$f":"X65/1000*Y65*AA65*IF(IFERROR(SEARCH(\"Gas\",$A$15),0)>0,VLOOKUP(\"Gas\",HVACg_Lookup,MATCH($F$13,BuildingSize,0)+1,FALSE),IF(IFERROR(SEARCH(\"Oil\",$A$15),0)>0,VLOOKUP(\"Oil\",HVACg_Lookup,MATCH($F$13,BuildingSize,0)+1,FALSE),IF(IFERROR(SEARCH(\"Propane\",$A$15),0)>0,VLOOKUP(\"Propane\",HVACg_Lookup,MATCH(Worksheet!$F$13,BuildingSize,0)+1,FALSE),0)))","v":0},0,0,"",""]
[null,null,"",null,null,null,null,null,null,null,null,null,null,null,null,0,0,0,0,"",0,0,0,0,0,0,0,0,0,0,0,0,0,0,0,{"$f":"W66/1000*Y66*AA66*IF(IFERROR(SEARCH(\"Gas\",$A$15),0)>0,VLOOKUP(\"Gas\",HVACg_Lookup,MATCH($F$13,BuildingSize,0)+1,FALSE),IF(IFERROR(SEARCH(\"Oil\",$A$15),0)>0,VLOOKUP(\"Oil\",HVACg_Lookup,MATCH($F$13,BuildingSize,0)+1,FALSE),IF(IFERROR(SEARCH(\"Propane\",$A$15),0)>0,VLOOKUP(\"Propane\",HVACg_Lookup,MATCH(Worksheet!$F$13,BuildingSize,0)+1,FALSE),0)))","v":0},{"$f":"X66/1000*Y66*AA66*IF(IFERROR(SEARCH(\"Gas\",$A$15),0)>0,VLOOKUP(\"Gas\",HVACg_Lookup,MATCH($F$13,BuildingSize,0)+1,FALSE),IF(IFERROR(SEARCH(\"Oil\",$A$15),0)>0,VLOOKUP(\"Oil\",HVACg_Lookup,MATCH($F$13,BuildingSize,0)+1,FALSE),IF(IFERROR(SEARCH(\"Propane\",$A$15),0)>0,VLOOKUP(\"Propane\",HVACg_Lookup,MATCH(Worksheet!$F$13,BuildingSize,0)+1,FALSE),0)))","v":0},0,0,"",""]
[null,null,"",null,null,null,null,null,null,null,null,null,null,null,null,0,0,0,0,"",0,0,0,0,0,0,0,0,0,0,0,0,0,0,0,{"$f":"W67/1000*Y67*AA67*IF(IFERROR(SEARCH(\"Gas\",$A$15),0)>0,VLOOKUP(\"Gas\",HVACg_Lookup,MATCH($F$13,BuildingSize,0)+1,FALSE),IF(IFERROR(SEARCH(\"Oil\",$A$15),0)>0,VLOOKUP(\"Oil\",HVACg_Lookup,MATCH($F$13,BuildingSize,0)+1,FALSE),IF(IFERROR(SEARCH(\"Propane\",$A$15),0)>0,VLOOKUP(\"Propane\",HVACg_Lookup,MATCH(Worksheet!$F$13,BuildingSize,0)+1,FALSE),0)))","v":0},{"$f":"X67/1000*Y67*AA67*IF(IFERROR(SEARCH(\"Gas\",$A$15),0)>0,VLOOKUP(\"Gas\",HVACg_Lookup,MATCH($F$13,BuildingSize,0)+1,FALSE),IF(IFERROR(SEARCH(\"Oil\",$A$15),0)>0,VLOOKUP(\"Oil\",HVACg_Lookup,MATCH($F$13,BuildingSize,0)+1,FALSE),IF(IFERROR(SEARCH(\"Propane\",$A$15),0)>0,VLOOKUP(\"Propane\",HVACg_Lookup,MATCH(Worksheet!$F$13,BuildingSize,0)+1,FALSE),0)))","v":0},0,0,"",""]
[null,null,"",null,null,null,null,null,null,null,null,null,null,null,null,0,0,0,0,"",0,0,0,0,0,0,0,0,0,0,0,0,0,0,0,{"$f":"W68/1000*Y68*AA68*IF(IFERROR(SEARCH(\"Gas\",$A$15),0)>0,VLOOKUP(\"Gas\",HVACg_Lookup,MATCH($F$13,BuildingSize,0)+1,FALSE),IF(IFERROR(SEARCH(\"Oil\",$A$15),0)>0,VLOOKUP(\"Oil\",HVACg_Lookup,MATCH($F$13,BuildingSize,0)+1,FALSE),IF(IFERROR(SEARCH(\"Propane\",$A$15),0)>0,VLOOKUP(\"Propane\",HVACg_Lookup,MATCH(Worksheet!$F$13,BuildingSize,0)+1,FALSE),0)))","v":0},{"$f":"X68/1000*Y68*AA68*IF(IFERROR(SEARCH(\"Gas\",$A$15),0)>0,VLOOKUP(\"Gas\",HVACg_Lookup,MATCH($F$13,BuildingSize,0)+1,FALSE),IF(IFERROR(SEARCH(\"Oil\",$A$15),0)>0,VLOOKUP(\"Oil\",HVACg_Lookup,MATCH($F$13,BuildingSize,0)+1,FALSE),IF(IFERROR(SEARCH(\"Propane\",$A$15),0)>0,VLOOKUP(\"Propane\",HVACg_Lookup,MATCH(Worksheet!$F$13,BuildingSize,0)+1,FALSE),0)))","v":0},0,0,"",""]
[null,null,"",null,null,null,null,null,null,null,null,null,null,null,null,0,0,0,0,"",0,0,0,0,0,0,0,0,0,0,0,0,0,0,0,{"$f":"W69/1000*Y69*AA69*IF(IFERROR(SEARCH(\"Gas\",$A$15),0)>0,VLOOKUP(\"Gas\",HVACg_Lookup,MATCH($F$13,BuildingSize,0)+1,FALSE),IF(IFERROR(SEARCH(\"Oil\",$A$15),0)>0,VLOOKUP(\"Oil\",HVACg_Lookup,MATCH($F$13,BuildingSize,0)+1,FALSE),IF(IFERROR(SEARCH(\"Propane\",$A$15),0)>0,VLOOKUP(\"Propane\",HVACg_Lookup,MATCH(Worksheet!$F$13,BuildingSize,0)+1,FALSE),0)))","v":0},{"$f":"X69/1000*Y69*AA69*IF(IFERROR(SEARCH(\"Gas\",$A$15),0)>0,VLOOKUP(\"Gas\",HVACg_Lookup,MATCH($F$13,BuildingSize,0)+1,FALSE),IF(IFERROR(SEARCH(\"Oil\",$A$15),0)>0,VLOOKUP(\"Oil\",HVACg_Lookup,MATCH($F$13,BuildingSize,0)+1,FALSE),IF(IFERROR(SEARCH(\"Propane\",$A$15),0)>0,VLOOKUP(\"Propane\",HVACg_Lookup,MATCH(Worksheet!$F$13,BuildingSize,0)+1,FALSE),0)))","v":0},0,0,"",""]
[null,null,"",null,null,null,null,null,null,null,null,null,null,null,null,0,0,0,0,"",0,0,0,0,0,0,0,0,0,0,0,0,0,0,0,{"$f":"W70/1000*Y70*AA70*IF(IFERROR(SEARCH(\"Gas\",$A$15),0)>0,VLOOKUP(\"Gas\",HVACg_Lookup,MATCH($F$13,BuildingSize,0)+1,FALSE),IF(IFERROR(SEARCH(\"Oil\",$A$15),0)>0,VLOOKUP(\"Oil\",HVACg_Lookup,MATCH($F$13,BuildingSize,0)+1,FALSE),IF(IFERROR(SEARCH(\"Propane\",$A$15),0)>0,VLOOKUP(\"Propane\",HVACg_Lookup,MATCH(Worksheet!$F$13,BuildingSize,0)+1,FALSE),0)))","v":0},{"$f":"X70/1000*Y70*AA70*IF(IFERROR(SEARCH(\"Gas\",$A$15),0)>0,VLOOKUP(\"Gas\",HVACg_Lookup,MATCH($F$13,BuildingSize,0)+1,FALSE),IF(IFERROR(SEARCH(\"Oil\",$A$15),0)>0,VLOOKUP(\"Oil\",HVACg_Lookup,MATCH($F$13,BuildingSize,0)+1,FALSE),IF(IFERROR(SEARCH(\"Propane\",$A$15),0)>0,VLOOKUP(\"Propane\",HVACg_Lookup,MATCH(Worksheet!$F$13,BuildingSize,0)+1,FALSE),0)))","v":0},0,0,"",""]
[null,null,"",null,null,null,null,null,null,null,null,null,null,null,null,0,0,0,0,"",0,0,0,0,0,0,0,0,0,0,0,0,0,0,0,{"$f":"W71/1000*Y71*AA71*IF(IFERROR(SEARCH(\"Gas\",$A$15),0)>0,VLOOKUP(\"Gas\",HVACg_Lookup,MATCH($F$13,BuildingSize,0)+1,FALSE),IF(IFERROR(SEARCH(\"Oil\",$A$15),0)>0,VLOOKUP(\"Oil\",HVACg_Lookup,MATCH($F$13,BuildingSize,0)+1,FALSE),IF(IFERROR(SEARCH(\"Propane\",$A$15),0)>0,VLOOKUP(\"Propane\",HVACg_Lookup,MATCH(Worksheet!$F$13,BuildingSize,0)+1,FALSE),0)))","v":0},{"$f":"X71/1000*Y71*AA71*IF(IFERROR(SEARCH(\"Gas\",$A$15),0)>0,VLOOKUP(\"Gas\",HVACg_Lookup,MATCH($F$13,BuildingSize,0)+1,FALSE),IF(IFERROR(SEARCH(\"Oil\",$A$15),0)>0,VLOOKUP(\"Oil\",HVACg_Lookup,MATCH($F$13,BuildingSize,0)+1,FALSE),IF(IFERROR(SEARCH(\"Propane\",$A$15),0)>0,VLOOKUP(\"Propane\",HVACg_Lookup,MATCH(Worksheet!$F$13,BuildingSize,0)+1,FALSE),0)))","v":0},0,0,"",""]
[null,null,"",null,null,null,null,null,null,null,null,null,null,null,null,0,0,0,0,"",0,0,0,0,0,0,0,0,0,0,0,0,0,0,0,{"$f":"W72/1000*Y72*AA72*IF(IFERROR(SEARCH(\"Gas\",$A$15),0)>0,VLOOKUP(\"Gas\",HVACg_Lookup,MATCH($F$13,BuildingSize,0)+1,FALSE),IF(IFERROR(SEARCH(\"Oil\",$A$15),0)>0,VLOOKUP(\"Oil\",HVACg_Lookup,MATCH($F$13,BuildingSize,0)+1,FALSE),IF(IFERROR(SEARCH(\"Propane\",$A$15),0)>0,VLOOKUP(\"Propane\",HVACg_Lookup,MATCH(Worksheet!$F$13,BuildingSize,0)+1,FALSE),0)))","v":0},{"$f":"X72/1000*Y72*AA72*IF(IFERROR(SEARCH(\"Gas\",$A$15),0)>0,VLOOKUP(\"Gas\",HVACg_Lookup,MATCH($F$13,BuildingSize,0)+1,FALSE),IF(IFERROR(SEARCH(\"Oil\",$A$15),0)>0,VLOOKUP(\"Oil\",HVACg_Lookup,MATCH($F$13,BuildingSize,0)+1,FALSE),IF(IFERROR(SEARCH(\"Propane\",$A$15),0)>0,VLOOKUP(\"Propane\",HVACg_Lookup,MATCH(Worksheet!$F$13,BuildingSize,0)+1,FALSE),0)))","v":0},0,0,"",""]
[null,null,"",null,null,null,null,null,null,null,null,null,null,null,null,0,0,0,0,"",0,0,0,0,0,0,0,0,0,0,0,0,0,0,0,{"$f":"W73/1000*Y73*AA73*IF(IFERROR(SEARCH(\"Gas\",$A$15),0)>0,VLOOKUP(\"Gas\",HVACg_Lookup,MATCH($F$13,BuildingSize,0)+1,FALSE),IF(IFERROR(SEARCH(\"Oil\",$A$15),0)>0,VLOOKUP(\"Oil\",HVACg_Lookup,MATCH($F$13,BuildingSize,0)+1,FALSE),IF(IFERROR(SEARCH(\"Propane\",$A$15),0)>0,VLOOKUP(\"Propane\",HVACg_Lookup,MATCH(Worksheet!$F$13,BuildingSize,0)+1,FALSE),0)))","v":0},{"$f":"X73/1000*Y73*AA73*IF(IFERROR(SEARCH(\"Gas\",$A$15),0)>0,VLOOKUP(\"Gas\",HVACg_Lookup,MATCH($F$13,BuildingSize,0)+1,FALSE),IF(IFERROR(SEARCH(\"Oil\",$A$15),0)>0,VLOOKUP(\"Oil\",HVACg_Lookup,MATCH($F$13,BuildingSize,0)+1,FALSE),IF(IFERROR(SEARCH(\"Propane\",$A$15),0)>0,VLOOKUP(\"Propane\",HVACg_Lookup,MATCH(Worksheet!$F$13,BuildingSize,0)+1,FALSE),0)))","v":0},0,0,"",""]
[null,null,"",null,null,null,null,null,null,null,null,null,null,null,null,0,0,0,0,"",0,0,0,0,0,0,0,0,0,0,0,0,0,0,0,{"$f":"W74/1000*Y74*AA74*IF(IFERROR(SEARCH(\"Gas\",$A$15),0)>0,VLOOKUP(\"Gas\",HVACg_Lookup,MATCH($F$13,BuildingSize,0)+1,FALSE),IF(IFERROR(SEARCH(\"Oil\",$A$15),0)>0,VLOOKUP(\"Oil\",HVACg_Lookup,MATCH($F$13,BuildingSize,0)+1,FALSE),IF(IFERROR(SEARCH(\"Propane\",$A$15),0)>0,VLOOKUP(\"Propane\",HVACg_Lookup,MATCH(Worksheet!$F$13,BuildingSize,0)+1,FALSE),0)))","v":0},{"$f":"X74/1000*Y74*AA74*IF(IFERROR(SEARCH(\"Gas\",$A$15),0)>0,VLOOKUP(\"Gas\",HVACg_Lookup,MATCH($F$13,BuildingSize,0)+1,FALSE),IF(IFERROR(SEARCH(\"Oil\",$A$15),0)>0,VLOOKUP(\"Oil\",HVACg_Lookup,MATCH($F$13,BuildingSize,0)+1,FALSE),IF(IFERROR(SEARCH(\"Propane\",$A$15),0)>0,VLOOKUP(\"Propane\",HVACg_Lookup,MATCH(Worksheet!$F$13,BuildingSize,0)+1,FALSE),0)))","v":0},0,0,"",""]
[null,null,"",null,null,null,null,null,null,null,null,null,null,null,null,0,0,0,0,"",0,0,0,0,0,0,0,0,0,0,0,0,0,0,0,{"$f":"W75/1000*Y75*AA75*IF(IFERROR(SEARCH(\"Gas\",$A$15),0)>0,VLOOKUP(\"Gas\",HVACg_Lookup,MATCH($F$13,BuildingSize,0)+1,FALSE),IF(IFERROR(SEARCH(\"Oil\",$A$15),0)>0,VLOOKUP(\"Oil\",HVACg_Lookup,MATCH($F$13,BuildingSize,0)+1,FALSE),IF(IFERROR(SEARCH(\"Propane\",$A$15),0)>0,VLOOKUP(\"Propane\",HVACg_Lookup,MATCH(Worksheet!$F$13,BuildingSize,0)+1,FALSE),0)))","v":0},{"$f":"X75/1000*Y75*AA75*IF(IFERROR(SEARCH(\"Gas\",$A$15),0)>0,VLOOKUP(\"Gas\",HVACg_Lookup,MATCH($F$13,BuildingSize,0)+1,FALSE),IF(IFERROR(SEARCH(\"Oil\",$A$15),0)>0,VLOOKUP(\"Oil\",HVACg_Lookup,MATCH($F$13,BuildingSize,0)+1,FALSE),IF(IFERROR(SEARCH(\"Propane\",$A$15),0)>0,VLOOKUP(\"Propane\",HVACg_Lookup,MATCH(Worksheet!$F$13,BuildingSize,0)+1,FALSE),0)))","v":0},0,0,"",""]
[null,null,"",null,null,null,null,null,null,null,null,null,null,null,null,0,0,0,0,"",0,0,0,0,0,0,0,0,0,0,0,0,0,0,0,{"$f":"W76/1000*Y76*AA76*IF(IFERROR(SEARCH(\"Gas\",$A$15),0)>0,VLOOKUP(\"Gas\",HVACg_Lookup,MATCH($F$13,BuildingSize,0)+1,FALSE),IF(IFERROR(SEARCH(\"Oil\",$A$15),0)>0,VLOOKUP(\"Oil\",HVACg_Lookup,MATCH($F$13,BuildingSize,0)+1,FALSE),IF(IFERROR(SEARCH(\"Propane\",$A$15),0)>0,VLOOKUP(\"Propane\",HVACg_Lookup,MATCH(Worksheet!$F$13,BuildingSize,0)+1,FALSE),0)))","v":0},{"$f":"X76/1000*Y76*AA76*IF(IFERROR(SEARCH(\"Gas\",$A$15),0)>0,VLOOKUP(\"Gas\",HVACg_Lookup,MATCH($F$13,BuildingSize,0)+1,FALSE),IF(IFERROR(SEARCH(\"Oil\",$A$15),0)>0,VLOOKUP(\"Oil\",HVACg_Lookup,MATCH($F$13,BuildingSize,0)+1,FALSE),IF(IFERROR(SEARCH(\"Propane\",$A$15),0)>0,VLOOKUP(\"Propane\",HVACg_Lookup,MATCH(Worksheet!$F$13,BuildingSize,0)+1,FALSE),0)))","v":0},0,0,"",""]
[null,null,"",null,null,null,null,null,null,null,null,null,null,null,null,0,0,0,0,"",0,0,0,0,0,0,0,0,0,0,0,0,0,0,0,{"$f":"W77/1000*Y77*AA77*IF(IFERROR(SEARCH(\"Gas\",$A$15),0)>0,VLOOKUP(\"Gas\",HVACg_Lookup,MATCH($F$13,BuildingSize,0)+1,FALSE),IF(IFERROR(SEARCH(\"Oil\",$A$15),0)>0,VLOOKUP(\"Oil\",HVACg_Lookup,MATCH($F$13,BuildingSize,0)+1,FALSE),IF(IFERROR(SEARCH(\"Propane\",$A$15),0)>0,VLOOKUP(\"Propane\",HVACg_Lookup,MATCH(Worksheet!$F$13,BuildingSize,0)+1,FALSE),0)))","v":0},{"$f":"X77/1000*Y77*AA77*IF(IFERROR(SEARCH(\"Gas\",$A$15),0)>0,VLOOKUP(\"Gas\",HVACg_Lookup,MATCH($F$13,BuildingSize,0)+1,FALSE),IF(IFERROR(SEARCH(\"Oil\",$A$15),0)>0,VLOOKUP(\"Oil\",HVACg_Lookup,MATCH($F$13,BuildingSize,0)+1,FALSE),IF(IFERROR(SEARCH(\"Propane\",$A$15),0)>0,VLOOKUP(\"Propane\",HVACg_Lookup,MATCH(Worksheet!$F$13,BuildingSize,0)+1,FALSE),0)))","v":0},0,0,"",""]
[null,null,"",null,null,null,null,null,null,null,null,null,null,null,null,0,0,0,0,"",0,0,0,0,0,0,0,0,0,0,0,0,0,0,0,{"$f":"W78/1000*Y78*AA78*IF(IFERROR(SEARCH(\"Gas\",$A$15),0)>0,VLOOKUP(\"Gas\",HVACg_Lookup,MATCH($F$13,BuildingSize,0)+1,FALSE),IF(IFERROR(SEARCH(\"Oil\",$A$15),0)>0,VLOOKUP(\"Oil\",HVACg_Lookup,MATCH($F$13,BuildingSize,0)+1,FALSE),IF(IFERROR(SEARCH(\"Propane\",$A$15),0)>0,VLOOKUP(\"Propane\",HVACg_Lookup,MATCH(Worksheet!$F$13,BuildingSize,0)+1,FALSE),0)))","v":0},{"$f":"X78/1000*Y78*AA78*IF(IFERROR(SEARCH(\"Gas\",$A$15),0)>0,VLOOKUP(\"Gas\",HVACg_Lookup,MATCH($F$13,BuildingSize,0)+1,FALSE),IF(IFERROR(SEARCH(\"Oil\",$A$15),0)>0,VLOOKUP(\"Oil\",HVACg_Lookup,MATCH($F$13,BuildingSize,0)+1,FALSE),IF(IFERROR(SEARCH(\"Propane\",$A$15),0)>0,VLOOKUP(\"Propane\",HVACg_Lookup,MATCH(Worksheet!$F$13,BuildingSize,0)+1,FALSE),0)))","v":0},0,0,"",""]
[null,null,"",null,null,null,null,null,null,null,null,null,null,null,null,0,0,0,0,"",0,0,0,0,0,0,0,0,0,0,0,0,0,0,0,{"$f":"W79/1000*Y79*AA79*IF(IFERROR(SEARCH(\"Gas\",$A$15),0)>0,VLOOKUP(\"Gas\",HVACg_Lookup,MATCH($F$13,BuildingSize,0)+1,FALSE),IF(IFERROR(SEARCH(\"Oil\",$A$15),0)>0,VLOOKUP(\"Oil\",HVACg_Lookup,MATCH($F$13,BuildingSize,0)+1,FALSE),IF(IFERROR(SEARCH(\"Propane\",$A$15),0)>0,VLOOKUP(\"Propane\",HVACg_Lookup,MATCH(Worksheet!$F$13,BuildingSize,0)+1,FALSE),0)))","v":0},{"$f":"X79/1000*Y79*AA79*IF(IFERROR(SEARCH(\"Gas\",$A$15),0)>0,VLOOKUP(\"Gas\",HVACg_Lookup,MATCH($F$13,BuildingSize,0)+1,FALSE),IF(IFERROR(SEARCH(\"Oil\",$A$15),0)>0,VLOOKUP(\"Oil\",HVACg_Lookup,MATCH($F$13,BuildingSize,0)+1,FALSE),IF(IFERROR(SEARCH(\"Propane\",$A$15),0)>0,VLOOKUP(\"Propane\",HVACg_Lookup,MATCH(Worksheet!$F$13,BuildingSize,0)+1,FALSE),0)))","v":0},0,0,"",""]
[null,null,"",null,null,null,null,null,null,null,null,null,null,null,null,0,0,0,0,"",0,0,0,0,0,0,0,0,0,0,0,0,0,0,0,{"$f":"W80/1000*Y80*AA80*IF(IFERROR(SEARCH(\"Gas\",$A$15),0)>0,VLOOKUP(\"Gas\",HVACg_Lookup,MATCH($F$13,BuildingSize,0)+1,FALSE),IF(IFERROR(SEARCH(\"Oil\",$A$15),0)>0,VLOOKUP(\"Oil\",HVACg_Lookup,MATCH($F$13,BuildingSize,0)+1,FALSE),IF(IFERROR(SEARCH(\"Propane\",$A$15),0)>0,VLOOKUP(\"Propane\",HVACg_Lookup,MATCH(Worksheet!$F$13,BuildingSize,0)+1,FALSE),0)))","v":0},{"$f":"X80/1000*Y80*AA80*IF(IFERROR(SEARCH(\"Gas\",$A$15),0)>0,VLOOKUP(\"Gas\",HVACg_Lookup,MATCH($F$13,BuildingSize,0)+1,FALSE),IF(IFERROR(SEARCH(\"Oil\",$A$15),0)>0,VLOOKUP(\"Oil\",HVACg_Lookup,MATCH($F$13,BuildingSize,0)+1,FALSE),IF(IFERROR(SEARCH(\"Propane\",$A$15),0)>0,VLOOKUP(\"Propane\",HVACg_Lookup,MATCH(Worksheet!$F$13,BuildingSize,0)+1,FALSE),0)))","v":0},0,0,"",""]
[null,null,"",null,null,null,null,null,null,null,null,null,null,null,null,0,0,0,0,"",0,0,0,0,0,0,0,0,0,0,0,0,0,0,0,{"$f":"W81/1000*Y81*AA81*IF(IFERROR(SEARCH(\"Gas\",$A$15),0)>0,VLOOKUP(\"Gas\",HVACg_Lookup,MATCH($F$13,BuildingSize,0)+1,FALSE),IF(IFERROR(SEARCH(\"Oil\",$A$15),0)>0,VLOOKUP(\"Oil\",HVACg_Lookup,MATCH($F$13,BuildingSize,0)+1,FALSE),IF(IFERROR(SEARCH(\"Propane\",$A$15),0)>0,VLOOKUP(\"Propane\",HVACg_Lookup,MATCH(Worksheet!$F$13,BuildingSize,0)+1,FALSE),0)))","v":0},{"$f":"X81/1000*Y81*AA81*IF(IFERROR(SEARCH(\"Gas\",$A$15),0)>0,VLOOKUP(\"Gas\",HVACg_Lookup,MATCH($F$13,BuildingSize,0)+1,FALSE),IF(IFERROR(SEARCH(\"Oil\",$A$15),0)>0,VLOOKUP(\"Oil\",HVACg_Lookup,MATCH($F$13,BuildingSize,0)+1,FALSE),IF(IFERROR(SEARCH(\"Propane\",$A$15),0)>0,VLOOKUP(\"Propane\",HVACg_Lookup,MATCH(Worksheet!$F$13,BuildingSize,0)+1,FALSE),0)))","v":0},0,0,"",""]
[null,null,"",null,null,null,null,null,null,null,null,null,null,null,null,0,0,0,0,"",0,0,0,0,0,0,0,0,0,0,0,0,0,0,0,{"$f":"W82/1000*Y82*AA82*IF(IFERROR(SEARCH(\"Gas\",$A$15),0)>0,VLOOKUP(\"Gas\",HVACg_Lookup,MATCH($F$13,BuildingSize,0)+1,FALSE),IF(IFERROR(SEARCH(\"Oil\",$A$15),0)>0,VLOOKUP(\"Oil\",HVACg_Lookup,MATCH($F$13,BuildingSize,0)+1,FALSE),IF(IFERROR(SEARCH(\"Propane\",$A$15),0)>0,VLOOKUP(\"Propane\",HVACg_Lookup,MATCH(Worksheet!$F$13,BuildingSize,0)+1,FALSE),0)))","v":0},{"$f":"X82/1000*Y82*AA82*IF(IFERROR(SEARCH(\"Gas\",$A$15),0)>0,VLOOKUP(\"Gas\",HVACg_Lookup,MATCH($F$13,BuildingSize,0)+1,FALSE),IF(IFERROR(SEARCH(\"Oil\",$A$15),0)>0,VLOOKUP(\"Oil\",HVACg_Lookup,MATCH($F$13,BuildingSize,0)+1,FALSE),IF(IFERROR(SEARCH(\"Propane\",$A$15),0)>0,VLOOKUP(\"Propane\",HVACg_Lookup,MATCH(Worksheet!$F$13,BuildingSize,0)+1,FALSE),0)))","v":0},0,0,"",""]
[null,null,"",null,null,null,null,null,null,null,null,null,null,null,null,0,0,0,0,"",0,0,0,0,0,0,0,0,0,0,0,0,0,0,0,{"$f":"W83/1000*Y83*AA83*IF(IFERROR(SEARCH(\"Gas\",$A$15),0)>0,VLOOKUP(\"Gas\",HVACg_Lookup,MATCH($F$13,BuildingSize,0)+1,FALSE),IF(IFERROR(SEARCH(\"Oil\",$A$15),0)>0,VLOOKUP(\"Oil\",HVACg_Lookup,MATCH($F$13,BuildingSize,0)+1,FALSE),IF(IFERROR(SEARCH(\"Propane\",$A$15),0)>0,VLOOKUP(\"Propane\",HVACg_Lookup,MATCH(Worksheet!$F$13,BuildingSize,0)+1,FALSE),0)))","v":0},{"$f":"X83/1000*Y83*AA83*IF(IFERROR(SEARCH(\"Gas\",$A$15),0)>0,VLOOKUP(\"Gas\",HVACg_Lookup,MATCH($F$13,BuildingSize,0)+1,FALSE),IF(IFERROR(SEARCH(\"Oil\",$A$15),0)>0,VLOOKUP(\"Oil\",HVACg_Lookup,MATCH($F$13,BuildingSize,0)+1,FALSE),IF(IFERROR(SEARCH(\"Propane\",$A$15),0)>0,VLOOKUP(\"Propane\",HVACg_Lookup,MATCH(Worksheet!$F$13,BuildingSize,0)+1,FALSE),0)))","v":0},0,0,"",""]
[null,null,"",null,null,null,null,null,null,null,null,null,null,null,null,0,0,0,0,"",0,0,0,0,0,0,0,0,0,0,0,0,0,0,0,{"$f":"W84/1000*Y84*AA84*IF(IFERROR(SEARCH(\"Gas\",$A$15),0)>0,VLOOKUP(\"Gas\",HVACg_Lookup,MATCH($F$13,BuildingSize,0)+1,FALSE),IF(IFERROR(SEARCH(\"Oil\",$A$15),0)>0,VLOOKUP(\"Oil\",HVACg_Lookup,MATCH($F$13,BuildingSize,0)+1,FALSE),IF(IFERROR(SEARCH(\"Propane\",$A$15),0)>0,VLOOKUP(\"Propane\",HVACg_Lookup,MATCH(Worksheet!$F$13,BuildingSize,0)+1,FALSE),0)))","v":0},{"$f":"X84/1000*Y84*AA84*IF(IFERROR(SEARCH(\"Gas\",$A$15),0)>0,VLOOKUP(\"Gas\",HVACg_Lookup,MATCH($F$13,BuildingSize,0)+1,FALSE),IF(IFERROR(SEARCH(\"Oil\",$A$15),0)>0,VLOOKUP(\"Oil\",HVACg_Lookup,MATCH($F$13,BuildingSize,0)+1,FALSE),IF(IFERROR(SEARCH(\"Propane\",$A$15),0)>0,VLOOKUP(\"Propane\",HVACg_Lookup,MATCH(Worksheet!$F$13,BuildingSize,0)+1,FALSE),0)))","v":0},0,0,"",""]
[null,null,"",null,null,null,null,null,null,null,null,null,null,null,null,0,0,{"$f":"IF(AN85=\"\",0,IF(AN85=1,VLOOKUP(A85,MeasureCode_Lookup,3,FALSE),\"DNQ\"))","v":0},{"$f":"IF(AO85=\"\",0,IF(AO85=1,VLOOKUP(A85,MeasureCode_Lookup,3,FALSE),\"DNQ\"))","v":0},{"$f":"IF(A85=\"\",\"\",VLOOKUP(A85,MeasureCode_Lookup,4,FALSE))","v":""},0,0,{"$f":"IF(N(R85)=0,0,F85*P85)","v":0},{"$f":"IF(N(S85)=0,0,G85*Q85)","v":0},{"$f":"IF(A85=\"\",0,VLOOKUP(A85,MeasureCode_Lookup,5,FALSE))","v":0},{"$f":"IF($A$13=\"\",0,VLOOKUP($A$13,BuildingType_Lookup,3,FALSE))","v":0},{"$f":"IF($A$13=\"\",0,VLOOKUP($A$13,BuildingType_Lookup,2,FALSE))","v":0},{"$f":"IF(AND(OR(AN85=\"\",AN85=0)=TRUE,OR(AO85=\"\",AO85=0))=TRUE,0,IF(AO85=\"\",(IF(OR(C85=\"DDC\",C85=\"OHLC\")=TRUE,O85,P85)/1000)*Y85*Z85*(1+VLOOKUP($A$13,BuildingType_Lookup,4,FALSE)),IF(AO85=0,0,(IF(OR(C85=\"DDC\",C85=\"OHLC\")=TRUE,O85,Q85)/1000)*Y85*Z85*(1+VLOOKUP($A$13,BuildingType_Lookup,4,FALSE)))))","v":0},{"$f":"IF(AND(OR(AN85=\"\",AN85=0)=TRUE,OR(AO85=\"\",AO85=0))=TRUE,0,IF(AO85=\"\",(IF(OR(C85=\"DDC\",C85=\"OHLC\")=TRUE,O85,P85)/1000)*Y85*AA85*(1+VLOOKUP($A$13,BuildingType_Lookup,MATCH($A$15,HVAC,0)+4,FALSE)),IF(AO85=0,0,(IF(OR(C85=\"DDC\",C85=\"OHLC\")=TRUE,O85,Q85)/1000)*Y85*AA85*(1+VLOOKUP($A$13,BuildingType_Lookup,MATCH($A$15,HVAC,0)+4,FALSE)))))","v":0},{"$f":"IFERROR(IF(OR(C85=\"DDC\",C85=\"OHLC\")=TRUE,F85*J85*AB85,F85*AB85),0)","v":0},{"$f":"IFERROR(IF(OR(C85=\"DDC\",C85=\"OHLC\")=TRUE,G85*K85*AB85,G85*AB85),0)","v":0},{"$f":"IFERROR(IF(OR(C85=\"DDC\",C85=\"OHLC\")=TRUE,F85*J85*AC85,F85*AC85),0)","v":0},{"$f":"IFERROR(IF(OR(C85=\"DDC\",C85=\"OHLC\")=TRUE,G85*K85*AC85,G85*AC85),0)","v":0},0,0,{"$f":"W85/1000*Y85*AA85*IF(IFERROR(SEARCH(\"Gas\",$A$15),0)>0,VLOOKUP(\"Gas\",HVACg_Lookup,MATCH($F$13,BuildingSize,0)+1,FALSE),IF(IFERROR(SEARCH(\"Oil\",$A$15),0)>0,VLOOKUP(\"Oil\",HVACg_Lookup,MATCH($F$13,BuildingSize,0)+1,FALSE),IF(IFERROR(SEARCH(\"Propane\",$A$15),0)>0,VLOOKUP(\"Propane\",HVACg_Lookup,MATCH(Worksheet!$F$13,BuildingSize,0)+1,FALSE),0)))","v":0},{"$f":"X85/1000*Y85*AA85*IF(IFERROR(SEARCH(\"Gas\",$A$15),0)>0,VLOOKUP(\"Gas\",HVACg_Lookup,MATCH($F$13,BuildingSize,0)+1,FALSE),IF(IFERROR(SEARCH(\"Oil\",$A$15),0)>0,VLOOKUP(\"Oil\",HVACg_Lookup,MATCH($F$13,BuildingSize,0)+1,FALSE),IF(IFERROR(SEARCH(\"Propane\",$A$15),0)>0,VLOOKUP(\"Propane\",HVACg_Lookup,MATCH(Worksheet!$F$13,BuildingSize,0)+1,FALSE),0)))","v":0},0,0,{"$f":"IF(OR($B$4=\"\",$B$5=\"\",$A$13=\"\",$F$13=\"\",$A$15=\"\",A85=\"\",F85=\"\",J85=\"\",O85=\"\",P85=\"\")=TRUE,\"\",IF(C85=\"OSW\",IF(J85>=2,1,0),IF(C85=\"OSR\",IF(AND(J85>=2,P85>60)=TRUE,1,0),IF(C85=\"OSRH\",IF(AND(J85>=1,P85>90)=TRUE,1,0),IF(C85=\"OHLC\",IF(AND(N85=\"Y\",P85>60)=TRUE,1,0),IF(C85=\"DDC\",IF(AND(J85>=4,N85=\"Y\",P85>120)=TRUE,1,0),0))))))","v":""},{"$f":"IF(OR($B$4=\"\",$B$5=\"\",$A$13=\"\",$F$13=\"\",$A$15=\"\",A85=\"\",F85=\"\",K85=\"\",O85=\"\",P85=\"\")=TRUE,\"\",IF(C85=\"OSW\",IF(K85>=2,1,0),IF(C85=\"OSR\",IF(AND(K85>=2,Q85>60)=TRUE,1,0),IF(C85=\"OSRH\",IF(AND(K85>=1,Q85>90)=TRUE,1,0),IF(C85=\"OHLC\",IF(AND(N85=\"Y\",Q85>60)=TRUE,1,0),IF(C85=\"DDC\",IF(AND(K85>=4,N85=\"Y\",Q85>120)=TRUE,1,0),0))))))","v":""}]
[null,null,{"$f":"IF(A86=\"\",\"\",VLOOKUP(A86,MeasureCode_Lookup,2,FALSE))","v":""},null,null,null,null,null,null,null,null,null,null,null,null,{"$f":"IF(OR(A86=\"\",F86=\"\",J86=\"\",O86=\"\")=TRUE,0,J86*O86)","v":0},{"$f":"IF(OR(A86=\"\",G86=\"\",K86=\"\",O86=\"\")=TRUE,0,K86*O86)","v":0},0,0,"",{"$f":"IF(N(R86)=0,0,F86*R86*IF(T86=\"per Fixture Controlled\",J86,1))","v":0},{"$f":"IF(N(S86)=0,0,G86*S86*IF(T86=\"per Fixture Controlled\",K86,1))","v":0},0,0,0,0,0,0,0,0,0,0,0,{"$f":"AF86*8","v":0},{"$f":"AG86*8","v":0},{"$f":"W86/1000*Y86*AA86*IF(IFERROR(SEARCH(\"Gas\",$A$15),0)>0,VLOOKUP(\"Gas\",HVACg_Lookup,MATCH($F$13,BuildingSize,0)+1,FALSE),IF(IFERROR(SEARCH(\"Oil\",$A$15),0)>0,VLOOKUP(\"Oil\",HVACg_Lookup,MATCH($F$13,BuildingSize,0)+1,FALSE),IF(IFERROR(SEARCH(\"Propane\",$A$15),0)>0,VLOOKUP(\"Propane\",HVACg_Lookup,MATCH(Worksheet!$F$13,BuildingSize,0)+1,FALSE),0)))","v":0},{"$f":"X86/1000*Y86*AA86*IF(IFERROR(SEARCH(\"Gas\",$A$15),0)>0,VLOOKUP(\"Gas\",HVACg_Lookup,MATCH($F$13,BuildingSize,0)+1,FALSE),IF(IFERROR(SEARCH(\"Oil\",$A$15),0)>0,VLOOKUP(\"Oil\",HVACg_Lookup,MATCH($F$13,BuildingSize,0)+1,FALSE),IF(IFERROR(SEARCH(\"Propane\",$A$15),0)>0,VLOOKUP(\"Propane\",HVACg_Lookup,MATCH(Worksheet!$F$13,BuildingSize,0)+1,FALSE),0)))","v":0},{"$f":"AJ86*8","v":0},{"$f":"AK86*8","v":0},"",""]
[null,null,"",null,null,null,null,null,null,null,null,null,null,null,null,0,0,0,0,"",0,0,0,0,0,0,0,0,0,0,0,0,0,0,0,{"$f":"W87/1000*Y87*AA87*IF(IFERROR(SEARCH(\"Gas\",$A$15),0)>0,VLOOKUP(\"Gas\",HVACg_Lookup,MATCH($F$13,BuildingSize,0)+1,FALSE),IF(IFERROR(SEARCH(\"Oil\",$A$15),0)>0,VLOOKUP(\"Oil\",HVACg_Lookup,MATCH($F$13,BuildingSize,0)+1,FALSE),IF(IFERROR(SEARCH(\"Propane\",$A$15),0)>0,VLOOKUP(\"Propane\",HVACg_Lookup,MATCH(Worksheet!$F$13,BuildingSize,0)+1,FALSE),0)))","v":0},{"$f":"X87/1000*Y87*AA87*IF(IFERROR(SEARCH(\"Gas\",$A$15),0)>0,VLOOKUP(\"Gas\",HVACg_Lookup,MATCH($F$13,BuildingSize,0)+1,FALSE),IF(IFERROR(SEARCH(\"Oil\",$A$15),0)>0,VLOOKUP(\"Oil\",HVACg_Lookup,MATCH($F$13,BuildingSize,0)+1,FALSE),IF(IFERROR(SEARCH(\"Propane\",$A$15),0)>0,VLOOKUP(\"Propane\",HVACg_Lookup,MATCH(Worksheet!$F$13,BuildingSize,0)+1,FALSE),0)))","v":0},0,0,"",""]
[null,null,"",null,null,null,null,null,null,null,null,null,null,null,null,0,0,0,0,"",0,0,0,0,0,0,0,0,0,0,0,0,0,0,0,{"$f":"W88/1000*Y88*AA88*IF(IFERROR(SEARCH(\"Gas\",$A$15),0)>0,VLOOKUP(\"Gas\",HVACg_Lookup,MATCH($F$13,BuildingSize,0)+1,FALSE),IF(IFERROR(SEARCH(\"Oil\",$A$15),0)>0,VLOOKUP(\"Oil\",HVACg_Lookup,MATCH($F$13,BuildingSize,0)+1,FALSE),IF(IFERROR(SEARCH(\"Propane\",$A$15),0)>0,VLOOKUP(\"Propane\",HVACg_Lookup,MATCH(Worksheet!$F$13,BuildingSize,0)+1,FALSE),0)))","v":0},{"$f":"X88/1000*Y88*AA88*IF(IFERROR(SEARCH(\"Gas\",$A$15),0)>0,VLOOKUP(\"Gas\",HVACg_Lookup,MATCH($F$13,BuildingSize,0)+1,FALSE),IF(IFERROR(SEARCH(\"Oil\",$A$15),0)>0,VLOOKUP(\"Oil\",HVACg_Lookup,MATCH($F$13,BuildingSize,0)+1,FALSE),IF(IFERROR(SEARCH(\"Propane\",$A$15),0)>0,VLOOKUP(\"Propane\",HVACg_Lookup,MATCH(Worksheet!$F$13,BuildingSize,0)+1,FALSE),0)))","v":0},0,0,"",""]
[null,null,"",null,null,null,null,null,null,null,null,null,null,null,null,0,0,0,0,"",0,0,0,0,0,0,0,0,0,0,0,0,0,0,0,{"$f":"W89/1000*Y89*AA89*IF(IFERROR(SEARCH(\"Gas\",$A$15),0)>0,VLOOKUP(\"Gas\",HVACg_Lookup,MATCH($F$13,BuildingSize,0)+1,FALSE),IF(IFERROR(SEARCH(\"Oil\",$A$15),0)>0,VLOOKUP(\"Oil\",HVACg_Lookup,MATCH($F$13,BuildingSize,0)+1,FALSE),IF(IFERROR(SEARCH(\"Propane\",$A$15),0)>0,VLOOKUP(\"Propane\",HVACg_Lookup,MATCH(Worksheet!$F$13,BuildingSize,0)+1,FALSE),0)))","v":0},{"$f":"X89/1000*Y89*AA89*IF(IFERROR(SEARCH(\"Gas\",$A$15),0)>0,VLOOKUP(\"Gas\",HVACg_Lookup,MATCH($F$13,BuildingSize,0)+1,FALSE),IF(IFERROR(SEARCH(\"Oil\",$A$15),0)>0,VLOOKUP(\"Oil\",HVACg_Lookup,MATCH($F$13,BuildingSize,0)+1,FALSE),IF(IFERROR(SEARCH(\"Propane\",$A$15),0)>0,VLOOKUP(\"Propane\",HVACg_Lookup,MATCH(Worksheet!$F$13,BuildingSize,0)+1,FALSE),0)))","v":0},0,0,"",""]
[null,null,"",null,null,null,null,null,null,null,null,null,null,null,null,0,0,0,0,"",0,0,0,0,0,0,0,0,0,0,0,0,0,0,0,{"$f":"W90/1000*Y90*AA90*IF(IFERROR(SEARCH(\"Gas\",$A$15),0)>0,VLOOKUP(\"Gas\",HVACg_Lookup,MATCH($F$13,BuildingSize,0)+1,FALSE),IF(IFERROR(SEARCH(\"Oil\",$A$15),0)>0,VLOOKUP(\"Oil\",HVACg_Lookup,MATCH($F$13,BuildingSize,0)+1,FALSE),IF(IFERROR(SEARCH(\"Propane\",$A$15),0)>0,VLOOKUP(\"Propane\",HVACg_Lookup,MATCH(Worksheet!$F$13,BuildingSize,0)+1,FALSE),0)))","v":0},{"$f":"X90/1000*Y90*AA90*IF(IFERROR(SEARCH(\"Gas\",$A$15),0)>0,VLOOKUP(\"Gas\",HVACg_Lookup,MATCH($F$13,BuildingSize,0)+1,FALSE),IF(IFERROR(SEARCH(\"Oil\",$A$15),0)>0,VLOOKUP(\"Oil\",HVACg_Lookup,MATCH($F$13,BuildingSize,0)+1,FALSE),IF(IFERROR(SEARCH(\"Propane\",$A$15),0)>0,VLOOKUP(\"Propane\",HVACg_Lookup,MATCH(Worksheet!$F$13,BuildingSize,0)+1,FALSE),0)))","v":0},0,0,"",""]
[null,null,"",null,null,null,null,null,null,null,null,null,null,null,null,0,0,0,0,"",0,0,0,0,0,0,0,0,0,0,0,0,0,0,0,{"$f":"W91/1000*Y91*AA91*IF(IFERROR(SEARCH(\"Gas\",$A$15),0)>0,VLOOKUP(\"Gas\",HVACg_Lookup,MATCH($F$13,BuildingSize,0)+1,FALSE),IF(IFERROR(SEARCH(\"Oil\",$A$15),0)>0,VLOOKUP(\"Oil\",HVACg_Lookup,MATCH($F$13,BuildingSize,0)+1,FALSE),IF(IFERROR(SEARCH(\"Propane\",$A$15),0)>0,VLOOKUP(\"Propane\",HVACg_Lookup,MATCH(Worksheet!$F$13,BuildingSize,0)+1,FALSE),0)))","v":0},{"$f":"X91/1000*Y91*AA91*IF(IFERROR(SEARCH(\"Gas\",$A$15),0)>0,VLOOKUP(\"Gas\",HVACg_Lookup,MATCH($F$13,BuildingSize,0)+1,FALSE),IF(IFERROR(SEARCH(\"Oil\",$A$15),0)>0,VLOOKUP(\"Oil\",HVACg_Lookup,MATCH($F$13,BuildingSize,0)+1,FALSE),IF(IFERROR(SEARCH(\"Propane\",$A$15),0)>0,VLOOKUP(\"Propane\",HVACg_Lookup,MATCH(Worksheet!$F$13,BuildingSize,0)+1,FALSE),0)))","v":0},0,0,"",""]
[null,null,"",null,null,null,null,null,null,null,null,null,null,null,null,0,0,0,0,"",0,0,0,0,0,0,0,0,0,0,0,0,0,0,0,{"$f":"W92/1000*Y92*AA92*IF(IFERROR(SEARCH(\"Gas\",$A$15),0)>0,VLOOKUP(\"Gas\",HVACg_Lookup,MATCH($F$13,BuildingSize,0)+1,FALSE),IF(IFERROR(SEARCH(\"Oil\",$A$15),0)>0,VLOOKUP(\"Oil\",HVACg_Lookup,MATCH($F$13,BuildingSize,0)+1,FALSE),IF(IFERROR(SEARCH(\"Propane\",$A$15),0)>0,VLOOKUP(\"Propane\",HVACg_Lookup,MATCH(Worksheet!$F$13,BuildingSize,0)+1,FALSE),0)))","v":0},{"$f":"X92/1000*Y92*AA92*IF(IFERROR(SEARCH(\"Gas\",$A$15),0)>0,VLOOKUP(\"Gas\",HVACg_Lookup,MATCH($F$13,BuildingSize,0)+1,FALSE),IF(IFERROR(SEARCH(\"Oil\",$A$15),0)>0,VLOOKUP(\"Oil\",HVACg_Lookup,MATCH($F$13,BuildingSize,0)+1,FALSE),IF(IFERROR(SEARCH(\"Propane\",$A$15),0)>0,VLOOKUP(\"Propane\",HVACg_Lookup,MATCH(Worksheet!$F$13,BuildingSize,0)+1,FALSE),0)))","v":0},0,0,"",""]
[null,null,"",null,null,null,null,null,null,null,null,null,null,null,null,0,0,0,0,"",0,0,0,0,0,0,0,0,0,0,0,0,0,0,0,{"$f":"W93/1000*Y93*AA93*IF(IFERROR(SEARCH(\"Gas\",$A$15),0)>0,VLOOKUP(\"Gas\",HVACg_Lookup,MATCH($F$13,BuildingSize,0)+1,FALSE),IF(IFERROR(SEARCH(\"Oil\",$A$15),0)>0,VLOOKUP(\"Oil\",HVACg_Lookup,MATCH($F$13,BuildingSize,0)+1,FALSE),IF(IFERROR(SEARCH(\"Propane\",$A$15),0)>0,VLOOKUP(\"Propane\",HVACg_Lookup,MATCH(Worksheet!$F$13,BuildingSize,0)+1,FALSE),0)))","v":0},{"$f":"X93/1000*Y93*AA93*IF(IFERROR(SEARCH(\"Gas\",$A$15),0)>0,VLOOKUP(\"Gas\",HVACg_Lookup,MATCH($F$13,BuildingSize,0)+1,FALSE),IF(IFERROR(SEARCH(\"Oil\",$A$15),0)>0,VLOOKUP(\"Oil\",HVACg_Lookup,MATCH($F$13,BuildingSize,0)+1,FALSE),IF(IFERROR(SEARCH(\"Propane\",$A$15),0)>0,VLOOKUP(\"Propane\",HVACg_Lookup,MATCH(Worksheet!$F$13,BuildingSize,0)+1,FALSE),0)))","v":0},0,0,"",""]
[null,null,"",null,null,null,null,null,null,null,null,null,null,null,null,0,0,0,0,"",0,0,0,0,0,0,0,0,0,0,0,0,0,0,0,{"$f":"W94/1000*Y94*AA94*IF(IFERROR(SEARCH(\"Gas\",$A$15),0)>0,VLOOKUP(\"Gas\",HVACg_Lookup,MATCH($F$13,BuildingSize,0)+1,FALSE),IF(IFERROR(SEARCH(\"Oil\",$A$15),0)>0,VLOOKUP(\"Oil\",HVACg_Lookup,MATCH($F$13,BuildingSize,0)+1,FALSE),IF(IFERROR(SEARCH(\"Propane\",$A$15),0)>0,VLOOKUP(\"Propane\",HVACg_Lookup,MATCH(Worksheet!$F$13,BuildingSize,0)+1,FALSE),0)))","v":0},{"$f":"X94/1000*Y94*AA94*IF(IFERROR(SEARCH(\"Gas\",$A$15),0)>0,VLOOKUP(\"Gas\",HVACg_Lookup,MATCH($F$13,BuildingSize,0)+1,FALSE),IF(IFERROR(SEARCH(\"Oil\",$A$15),0)>0,VLOOKUP(\"Oil\",HVACg_Lookup,MATCH($F$13,BuildingSize,0)+1,FALSE),IF(IFERROR(SEARCH(\"Propane\",$A$15),0)>0,VLOOKUP(\"Propane\",HVACg_Lookup,MATCH(Worksheet!$F$13,BuildingSize,0)+1,FALSE),0)))","v":0},0,0,"",""]
[null,null,"",null,null,null,null,null,null,null,null,null,null,null,null,0,0,0,0,"",0,0,0,0,0,0,0,0,0,0,0,0,0,0,0,{"$f":"W95/1000*Y95*AA95*IF(IFERROR(SEARCH(\"Gas\",$A$15),0)>0,VLOOKUP(\"Gas\",HVACg_Lookup,MATCH($F$13,BuildingSize,0)+1,FALSE),IF(IFERROR(SEARCH(\"Oil\",$A$15),0)>0,VLOOKUP(\"Oil\",HVACg_Lookup,MATCH($F$13,BuildingSize,0)+1,FALSE),IF(IFERROR(SEARCH(\"Propane\",$A$15),0)>0,VLOOKUP(\"Propane\",HVACg_Lookup,MATCH(Worksheet!$F$13,BuildingSize,0)+1,FALSE),0)))","v":0},{"$f":"X95/1000*Y95*AA95*IF(IFERROR(SEARCH(\"Gas\",$A$15),0)>0,VLOOKUP(\"Gas\",HVACg_Lookup,MATCH($F$13,BuildingSize,0)+1,FALSE),IF(IFERROR(SEARCH(\"Oil\",$A$15),0)>0,VLOOKUP(\"Oil\",HVACg_Lookup,MATCH($F$13,BuildingSize,0)+1,FALSE),IF(IFERROR(SEARCH(\"Propane\",$A$15),0)>0,VLOOKUP(\"Propane\",HVACg_Lookup,MATCH(Worksheet!$F$13,BuildingSize,0)+1,FALSE),0)))","v":0},0,0,"",""]
[null,null,"",null,null,null,null,null,null,null,null,null,null,null,null,0,0,0,0,"",0,0,0,0,0,0,0,0,0,0,0,0,0,0,0,{"$f":"W96/1000*Y96*AA96*IF(IFERROR(SEARCH(\"Gas\",$A$15),0)>0,VLOOKUP(\"Gas\",HVACg_Lookup,MATCH($F$13,BuildingSize,0)+1,FALSE),IF(IFERROR(SEARCH(\"Oil\",$A$15),0)>0,VLOOKUP(\"Oil\",HVACg_Lookup,MATCH($F$13,BuildingSize,0)+1,FALSE),IF(IFERROR(SEARCH(\"Propane\",$A$15),0)>0,VLOOKUP(\"Propane\",HVACg_Lookup,MATCH(Worksheet!$F$13,BuildingSize,0)+1,FALSE),0)))","v":0},{"$f":"X96/1000*Y96*AA96*IF(IFERROR(SEARCH(\"Gas\",$A$15),0)>0,VLOOKUP(\"Gas\",HVACg_Lookup,MATCH($F$13,BuildingSize,0)+1,FALSE),IF(IFERROR(SEARCH(\"Oil\",$A$15),0)>0,VLOOKUP(\"Oil\",HVACg_Lookup,MATCH($F$13,BuildingSize,0)+1,FALSE),IF(IFERROR(SEARCH(\"Propane\",$A$15),0)>0,VLOOKUP(\"Propane\",HVACg_Lookup,MATCH(Worksheet!$F$13,BuildingSize,0)+1,FALSE),0)))","v":0},0,0,"",""]
[null,null,"",null,null,null,null,null,null,null,null,null,null,null,null,0,0,0,0,"",0,0,0,0,0,0,0,0,0,0,0,0,0,0,0,{"$f":"W97/1000*Y97*AA97*IF(IFERROR(SEARCH(\"Gas\",$A$15),0)>0,VLOOKUP(\"Gas\",HVACg_Lookup,MATCH($F$13,BuildingSize,0)+1,FALSE),IF(IFERROR(SEARCH(\"Oil\",$A$15),0)>0,VLOOKUP(\"Oil\",HVACg_Lookup,MATCH($F$13,BuildingSize,0)+1,FALSE),IF(IFERROR(SEARCH(\"Propane\",$A$15),0)>0,VLOOKUP(\"Propane\",HVACg_Lookup,MATCH(Worksheet!$F$13,BuildingSize,0)+1,FALSE),0)))","v":0},{"$f":"X97/1000*Y97*AA97*IF(IFERROR(SEARCH(\"Gas\",$A$15),0)>0,VLOOKUP(\"Gas\",HVACg_Lookup,MATCH($F$13,BuildingSize,0)+1,FALSE),IF(IFERROR(SEARCH(\"Oil\",$A$15),0)>0,VLOOKUP(\"Oil\",HVACg_Lookup,MATCH($F$13,BuildingSize,0)+1,FALSE),IF(IFERROR(SEARCH(\"Propane\",$A$15),0)>0,VLOOKUP(\"Propane\",HVACg_Lookup,MATCH(Worksheet!$F$13,BuildingSize,0)+1,FALSE),0)))","v":0},0,0,"",""]
[null,null,"",null,null,null,null,null,null,null,null,null,null,null,null,0,0,0,0,"",0,0,0,0,0,0,0,0,0,0,0,0,0,0,0,{"$f":"W98/1000*Y98*AA98*IF(IFERROR(SEARCH(\"Gas\",$A$15),0)>0,VLOOKUP(\"Gas\",HVACg_Lookup,MATCH($F$13,BuildingSize,0)+1,FALSE),IF(IFERROR(SEARCH(\"Oil\",$A$15),0)>0,VLOOKUP(\"Oil\",HVACg_Lookup,MATCH($F$13,BuildingSize,0)+1,FALSE),IF(IFERROR(SEARCH(\"Propane\",$A$15),0)>0,VLOOKUP(\"Propane\",HVACg_Lookup,MATCH(Worksheet!$F$13,BuildingSize,0)+1,FALSE),0)))","v":0},{"$f":"X98/1000*Y98*AA98*IF(IFERROR(SEARCH(\"Gas\",$A$15),0)>0,VLOOKUP(\"Gas\",HVACg_Lookup,MATCH($F$13,BuildingSize,0)+1,FALSE),IF(IFERROR(SEARCH(\"Oil\",$A$15),0)>0,VLOOKUP(\"Oil\",HVACg_Lookup,MATCH($F$13,BuildingSize,0)+1,FALSE),IF(IFERROR(SEARCH(\"Propane\",$A$15),0)>0,VLOOKUP(\"Propane\",HVACg_Lookup,MATCH(Worksheet!$F$13,BuildingSize,0)+1,FALSE),0)))","v":0},0,0,"",""]
[null,null,"",null,null,null,null,null,null,null,null,null,null,null,null,0,0,0,0,"",0,0,0,0,0,0,0,0,0,0,0,0,0,0,0,{"$f":"W99/1000*Y99*AA99*IF(IFERROR(SEARCH(\"Gas\",$A$15),0)>0,VLOOKUP(\"Gas\",HVACg_Lookup,MATCH($F$13,BuildingSize,0)+1,FALSE),IF(IFERROR(SEARCH(\"Oil\",$A$15),0)>0,VLOOKUP(\"Oil\",HVACg_Lookup,MATCH($F$13,BuildingSize,0)+1,FALSE),IF(IFERROR(SEARCH(\"Propane\",$A$15),0)>0,VLOOKUP(\"Propane\",HVACg_Lookup,MATCH(Worksheet!$F$13,BuildingSize,0)+1,FALSE),0)))","v":0},{"$f":"X99/1000*Y99*AA99*IF(IFERROR(SEARCH(\"Gas\",$A$15),0)>0,VLOOKUP(\"Gas\",HVACg_Lookup,MATCH($F$13,BuildingSize,0)+1,FALSE),IF(IFERROR(SEARCH(\"Oil\",$A$15),0)>0,VLOOKUP(\"Oil\",HVACg_Lookup,MATCH($F$13,BuildingSize,0)+1,FALSE),IF(IFERROR(SEARCH(\"Propane\",$A$15),0)>0,VLOOKUP(\"Propane\",HVACg_Lookup,MATCH(Worksheet!$F$13,BuildingSize,0)+1,FALSE),0)))","v":0},0,0,"",""]
[null,null,"",null,null,null,null,null,null,null,null,null,null,null,null,0,0,0,0,"",0,0,0,0,0,0,0,0,0,0,0,0,0,0,0,{"$f":"W100/1000*Y100*AA100*IF(IFERROR(SEARCH(\"Gas\",$A$15),0)>0,VLOOKUP(\"Gas\",HVACg_Lookup,MATCH($F$13,BuildingSize,0)+1,FALSE),IF(IFERROR(SEARCH(\"Oil\",$A$15),0)>0,VLOOKUP(\"Oil\",HVACg_Lookup,MATCH($F$13,BuildingSize,0)+1,FALSE),IF(IFERROR(SEARCH(\"Propane\",$A$15),0)>0,VLOOKUP(\"Propane\",HVACg_Lookup,MATCH(Worksheet!$F$13,BuildingSize,0)+1,FALSE),0)))","v":0},{"$f":"X100/1000*Y100*AA100*IF(IFERROR(SEARCH(\"Gas\",$A$15),0)>0,VLOOKUP(\"Gas\",HVACg_Lookup,MATCH($F$13,BuildingSize,0)+1,FALSE),IF(IFERROR(SEARCH(\"Oil\",$A$15),0)>0,VLOOKUP(\"Oil\",HVACg_Lookup,MATCH($F$13,BuildingSize,0)+1,FALSE),IF(IFERROR(SEARCH(\"Propane\",$A$15),0)>0,VLOOKUP(\"Propane\",HVACg_Lookup,MATCH(Worksheet!$F$13,BuildingSize,0)+1,FALSE),0)))","v":0},0,0,"",""]
[null,null,"",null,null,null,null,null,null,null,null,null,null,null,null,0,0,0,0,"",0,0,0,0,0,0,0,0,0,0,0,0,0,0,0,{"$f":"W101/1000*Y101*AA101*IF(IFERROR(SEARCH(\"Gas\",$A$15),0)>0,VLOOKUP(\"Gas\",HVACg_Lookup,MATCH($F$13,BuildingSize,0)+1,FALSE),IF(IFERROR(SEARCH(\"Oil\",$A$15),0)>0,VLOOKUP(\"Oil\",HVACg_Lookup,MATCH($F$13,BuildingSize,0)+1,FALSE),IF(IFERROR(SEARCH(\"Propane\",$A$15),0)>0,VLOOKUP(\"Propane\",HVACg_Lookup,MATCH(Worksheet!$F$13,BuildingSize,0)+1,FALSE),0)))","v":0},{"$f":"X101/1000*Y101*AA101*IF(IFERROR(SEARCH(\"Gas\",$A$15),0)>0,VLOOKUP(\"Gas\",HVACg_Lookup,MATCH($F$13,BuildingSize,0)+1,FALSE),IF(IFERROR(SEARCH(\"Oil\",$A$15),0)>0,VLOOKUP(\"Oil\",HVACg_Lookup,MATCH($F$13,BuildingSize,0)+1,FALSE),IF(IFERROR(SEARCH(\"Propane\",$A$15),0)>0,VLOOKUP(\"Propane\",HVACg_Lookup,MATCH(Worksheet!$F$13,BuildingSize,0)+1,FALSE),0)))","v":0},0,0,"",""]
[null,null,"",null,null,null,null,null,null,null,null,null,null,null,null,0,0,0,0,"",0,0,0,0,0,0,0,0,0,0,0,0,0,0,0,{"$f":"W102/1000*Y102*AA102*IF(IFERROR(SEARCH(\"Gas\",$A$15),0)>0,VLOOKUP(\"Gas\",HVACg_Lookup,MATCH($F$13,BuildingSize,0)+1,FALSE),IF(IFERROR(SEARCH(\"Oil\",$A$15),0)>0,VLOOKUP(\"Oil\",HVACg_Lookup,MATCH($F$13,BuildingSize,0)+1,FALSE),IF(IFERROR(SEARCH(\"Propane\",$A$15),0)>0,VLOOKUP(\"Propane\",HVACg_Lookup,MATCH(Worksheet!$F$13,BuildingSize,0)+1,FALSE),0)))","v":0},{"$f":"X102/1000*Y102*AA102*IF(IFERROR(SEARCH(\"Gas\",$A$15),0)>0,VLOOKUP(\"Gas\",HVACg_Lookup,MATCH($F$13,BuildingSize,0)+1,FALSE),IF(IFERROR(SEARCH(\"Oil\",$A$15),0)>0,VLOOKUP(\"Oil\",HVACg_Lookup,MATCH($F$13,BuildingSize,0)+1,FALSE),IF(IFERROR(SEARCH(\"Propane\",$A$15),0)>0,VLOOKUP(\"Propane\",HVACg_Lookup,MATCH(Worksheet!$F$13,BuildingSize,0)+1,FALSE),0)))","v":0},0,0,"",""]
[null,null,"",null,null,null,null,null,null,null,null,null,null,null,null,0,0,0,0,"",0,0,0,0,0,0,0,0,0,0,0,0,0,0,0,{"$f":"W103/1000*Y103*AA103*IF(IFERROR(SEARCH(\"Gas\",$A$15),0)>0,VLOOKUP(\"Gas\",HVACg_Lookup,MATCH($F$13,BuildingSize,0)+1,FALSE),IF(IFERROR(SEARCH(\"Oil\",$A$15),0)>0,VLOOKUP(\"Oil\",HVACg_Lookup,MATCH($F$13,BuildingSize,0)+1,FALSE),IF(IFERROR(SEARCH(\"Propane\",$A$15),0)>0,VLOOKUP(\"Propane\",HVACg_Lookup,MATCH(Worksheet!$F$13,BuildingSize,0)+1,FALSE),0)))","v":0},{"$f":"X103/1000*Y103*AA103*IF(IFERROR(SEARCH(\"Gas\",$A$15),0)>0,VLOOKUP(\"Gas\",HVACg_Lookup,MATCH($F$13,BuildingSize,0)+1,FALSE),IF(IFERROR(SEARCH(\"Oil\",$A$15),0)>0,VLOOKUP(\"Oil\",HVACg_Lookup,MATCH($F$13,BuildingSize,0)+1,FALSE),IF(IFERROR(SEARCH(\"Propane\",$A$15),0)>0,VLOOKUP(\"Propane\",HVACg_Lookup,MATCH(Worksheet!$F$13,BuildingSize,0)+1,FALSE),0)))","v":0},0,0,"",""]
[null,null,"",null,null,null,null,null,null,null,null,null,null,null,null,0,0,0,0,"",0,0,0,0,0,0,0,0,0,0,0,0,0,0,0,{"$f":"W104/1000*Y104*AA104*IF(IFERROR(SEARCH(\"Gas\",$A$15),0)>0,VLOOKUP(\"Gas\",HVACg_Lookup,MATCH($F$13,BuildingSize,0)+1,FALSE),IF(IFERROR(SEARCH(\"Oil\",$A$15),0)>0,VLOOKUP(\"Oil\",HVACg_Lookup,MATCH($F$13,BuildingSize,0)+1,FALSE),IF(IFERROR(SEARCH(\"Propane\",$A$15),0)>0,VLOOKUP(\"Propane\",HVACg_Lookup,MATCH(Worksheet!$F$13,BuildingSize,0)+1,FALSE),0)))","v":0},{"$f":"X104/1000*Y104*AA104*IF(IFERROR(SEARCH(\"Gas\",$A$15),0)>0,VLOOKUP(\"Gas\",HVACg_Lookup,MATCH($F$13,BuildingSize,0)+1,FALSE),IF(IFERROR(SEARCH(\"Oil\",$A$15),0)>0,VLOOKUP(\"Oil\",HVACg_Lookup,MATCH($F$13,BuildingSize,0)+1,FALSE),IF(IFERROR(SEARCH(\"Propane\",$A$15),0)>0,VLOOKUP(\"Propane\",HVACg_Lookup,MATCH(Worksheet!$F$13,BuildingSize,0)+1,FALSE),0)))","v":0},0,0,"",""]
[null,null,"",null,null,null,null,null,null,null,null,null,null,null,null,0,0,0,0,"",0,0,0,0,0,0,0,0,0,0,0,0,0,0,0,{"$f":"W105/1000*Y105*AA105*IF(IFERROR(SEARCH(\"Gas\",$A$15),0)>0,VLOOKUP(\"Gas\",HVACg_Lookup,MATCH($F$13,BuildingSize,0)+1,FALSE),IF(IFERROR(SEARCH(\"Oil\",$A$15),0)>0,VLOOKUP(\"Oil\",HVACg_Lookup,MATCH($F$13,BuildingSize,0)+1,FALSE),IF(IFERROR(SEARCH(\"Propane\",$A$15),0)>0,VLOOKUP(\"Propane\",HVACg_Lookup,MATCH(Worksheet!$F$13,BuildingSize,0)+1,FALSE),0)))","v":0},{"$f":"X105/1000*Y105*AA105*IF(IFERROR(SEARCH(\"Gas\",$A$15),0)>0,VLOOKUP(\"Gas\",HVACg_Lookup,MATCH($F$13,BuildingSize,0)+1,FALSE),IF(IFERROR(SEARCH(\"Oil\",$A$15),0)>0,VLOOKUP(\"Oil\",HVACg_Lookup,MATCH($F$13,BuildingSize,0)+1,FALSE),IF(IFERROR(SEARCH(\"Propane\",$A$15),0)>0,VLOOKUP(\"Propane\",HVACg_Lookup,MATCH(Worksheet!$F$13,BuildingSize,0)+1,FALSE),0)))","v":0},0,0,"",""]
[null,null,"",null,null,null,null,null,null,null,null,null,null,null,null,0,0,0,0,"",0,0,0,0,0,0,0,0,0,0,0,0,0,0,0,{"$f":"W106/1000*Y106*AA106*IF(IFERROR(SEARCH(\"Gas\",$A$15),0)>0,VLOOKUP(\"Gas\",HVACg_Lookup,MATCH($F$13,BuildingSize,0)+1,FALSE),IF(IFERROR(SEARCH(\"Oil\",$A$15),0)>0,VLOOKUP(\"Oil\",HVACg_Lookup,MATCH($F$13,BuildingSize,0)+1,FALSE),IF(IFERROR(SEARCH(\"Propane\",$A$15),0)>0,VLOOKUP(\"Propane\",HVACg_Lookup,MATCH(Worksheet!$F$13,BuildingSize,0)+1,FALSE),0)))","v":0},{"$f":"X106/1000*Y106*AA106*IF(IFERROR(SEARCH(\"Gas\",$A$15),0)>0,VLOOKUP(\"Gas\",HVACg_Lookup,MATCH($F$13,BuildingSize,0)+1,FALSE),IF(IFERROR(SEARCH(\"Oil\",$A$15),0)>0,VLOOKUP(\"Oil\",HVACg_Lookup,MATCH($F$13,BuildingSize,0)+1,FALSE),IF(IFERROR(SEARCH(\"Propane\",$A$15),0)>0,VLOOKUP(\"Propane\",HVACg_Lookup,MATCH(Worksheet!$F$13,BuildingSize,0)+1,FALSE),0)))","v":0},0,0,"",""]
[null,null,"",null,null,null,null,null,null,null,null,null,null,null,null,0,0,0,0,"",0,0,0,0,0,0,0,0,0,0,0,0,0,0,0,{"$f":"W107/1000*Y107*AA107*IF(IFERROR(SEARCH(\"Gas\",$A$15),0)>0,VLOOKUP(\"Gas\",HVACg_Lookup,MATCH($F$13,BuildingSize,0)+1,FALSE),IF(IFERROR(SEARCH(\"Oil\",$A$15),0)>0,VLOOKUP(\"Oil\",HVACg_Lookup,MATCH($F$13,BuildingSize,0)+1,FALSE),IF(IFERROR(SEARCH(\"Propane\",$A$15),0)>0,VLOOKUP(\"Propane\",HVACg_Lookup,MATCH(Worksheet!$F$13,BuildingSize,0)+1,FALSE),0)))","v":0},{"$f":"X107/1000*Y107*AA107*IF(IFERROR(SEARCH(\"Gas\",$A$15),0)>0,VLOOKUP(\"Gas\",HVACg_Lookup,MATCH($F$13,BuildingSize,0)+1,FALSE),IF(IFERROR(SEARCH(\"Oil\",$A$15),0)>0,VLOOKUP(\"Oil\",HVACg_Lookup,MATCH($F$13,BuildingSize,0)+1,FALSE),IF(IFERROR(SEARCH(\"Propane\",$A$15),0)>0,VLOOKUP(\"Propane\",HVACg_Lookup,MATCH(Worksheet!$F$13,BuildingSize,0)+1,FALSE),0)))","v":0},0,0,"",""]
[null,null,"",null,null,null,null,null,null,null,null,null,null,null,null,0,0,0,0,"",0,0,0,0,0,0,0,0,0,0,0,0,0,0,0,{"$f":"W108/1000*Y108*AA108*IF(IFERROR(SEARCH(\"Gas\",$A$15),0)>0,VLOOKUP(\"Gas\",HVACg_Lookup,MATCH($F$13,BuildingSize,0)+1,FALSE),IF(IFERROR(SEARCH(\"Oil\",$A$15),0)>0,VLOOKUP(\"Oil\",HVACg_Lookup,MATCH($F$13,BuildingSize,0)+1,FALSE),IF(IFERROR(SEARCH(\"Propane\",$A$15),0)>0,VLOOKUP(\"Propane\",HVACg_Lookup,MATCH(Worksheet!$F$13,BuildingSize,0)+1,FALSE),0)))","v":0},{"$f":"X108/1000*Y108*AA108*IF(IFERROR(SEARCH(\"Gas\",$A$15),0)>0,VLOOKUP(\"Gas\",HVACg_Lookup,MATCH($F$13,BuildingSize,0)+1,FALSE),IF(IFERROR(SEARCH(\"Oil\",$A$15),0)>0,VLOOKUP(\"Oil\",HVACg_Lookup,MATCH($F$13,BuildingSize,0)+1,FALSE),IF(IFERROR(SEARCH(\"Propane\",$A$15),0)>0,VLOOKUP(\"Propane\",HVACg_Lookup,MATCH(Worksheet!$F$13,BuildingSize,0)+1,FALSE),0)))","v":0},0,0,"",""]
[null,null,"",null,null,null,null,null,null,null,null,null,null,null,null,0,0,0,0,"",0,0,0,0,0,0,0,0,0,0,0,0,0,0,0,{"$f":"W109/1000*Y109*AA109*IF(IFERROR(SEARCH(\"Gas\",$A$15),0)>0,VLOOKUP(\"Gas\",HVACg_Lookup,MATCH($F$13,BuildingSize,0)+1,FALSE),IF(IFERROR(SEARCH(\"Oil\",$A$15),0)>0,VLOOKUP(\"Oil\",HVACg_Lookup,MATCH($F$13,BuildingSize,0)+1,FALSE),IF(IFERROR(SEARCH(\"Propane\",$A$15),0)>0,VLOOKUP(\"Propane\",HVACg_Lookup,MATCH(Worksheet!$F$13,BuildingSize,0)+1,FALSE),0)))","v":0},{"$f":"X109/1000*Y109*AA109*IF(IFERROR(SEARCH(\"Gas\",$A$15),0)>0,VLOOKUP(\"Gas\",HVACg_Lookup,MATCH($F$13,BuildingSize,0)+1,FALSE),IF(IFERROR(SEARCH(\"Oil\",$A$15),0)>0,VLOOKUP(\"Oil\",HVACg_Lookup,MATCH($F$13,BuildingSize,0)+1,FALSE),IF(IFERROR(SEARCH(\"Propane\",$A$15),0)>0,VLOOKUP(\"Propane\",HVACg_Lookup,MATCH(Worksheet!$F$13,BuildingSize,0)+1,FALSE),0)))","v":0},0,0,"",""]
[null,null,"",null,null,null,null,null,null,null,null,null,null,null,null,0,0,0,0,"",0,0,0,0,0,0,0,0,0,0,0,0,0,0,0,{"$f":"W110/1000*Y110*AA110*IF(IFERROR(SEARCH(\"Gas\",$A$15),0)>0,VLOOKUP(\"Gas\",HVACg_Lookup,MATCH($F$13,BuildingSize,0)+1,FALSE),IF(IFERROR(SEARCH(\"Oil\",$A$15),0)>0,VLOOKUP(\"Oil\",HVACg_Lookup,MATCH($F$13,BuildingSize,0)+1,FALSE),IF(IFERROR(SEARCH(\"Propane\",$A$15),0)>0,VLOOKUP(\"Propane\",HVACg_Lookup,MATCH(Worksheet!$F$13,BuildingSize,0)+1,FALSE),0)))","v":0},{"$f":"X110/1000*Y110*AA110*IF(IFERROR(SEARCH(\"Gas\",$A$15),0)>0,VLOOKUP(\"Gas\",HVACg_Lookup,MATCH($F$13,BuildingSize,0)+1,FALSE),IF(IFERROR(SEARCH(\"Oil\",$A$15),0)>0,VLOOKUP(\"Oil\",HVACg_Lookup,MATCH($F$13,BuildingSize,0)+1,FALSE),IF(IFERROR(SEARCH(\"Propane\",$A$15),0)>0,VLOOKUP(\"Propane\",HVACg_Lookup,MATCH(Worksheet!$F$13,BuildingSize,0)+1,FALSE),0)))","v":0},0,0,"",""]
[null,null,"",null,null,null,null,null,null,null,null,null,null,null,null,0,0,0,0,"",0,0,0,0,0,0,0,0,0,0,0,0,0,0,0,{"$f":"W111/1000*Y111*AA111*IF(IFERROR(SEARCH(\"Gas\",$A$15),0)>0,VLOOKUP(\"Gas\",HVACg_Lookup,MATCH($F$13,BuildingSize,0)+1,FALSE),IF(IFERROR(SEARCH(\"Oil\",$A$15),0)>0,VLOOKUP(\"Oil\",HVACg_Lookup,MATCH($F$13,BuildingSize,0)+1,FALSE),IF(IFERROR(SEARCH(\"Propane\",$A$15),0)>0,VLOOKUP(\"Propane\",HVACg_Lookup,MATCH(Worksheet!$F$13,BuildingSize,0)+1,FALSE),0)))","v":0},{"$f":"X111/1000*Y111*AA111*IF(IFERROR(SEARCH(\"Gas\",$A$15),0)>0,VLOOKUP(\"Gas\",HVACg_Lookup,MATCH($F$13,BuildingSize,0)+1,FALSE),IF(IFERROR(SEARCH(\"Oil\",$A$15),0)>0,VLOOKUP(\"Oil\",HVACg_Lookup,MATCH($F$13,BuildingSize,0)+1,FALSE),IF(IFERROR(SEARCH(\"Propane\",$A$15),0)>0,VLOOKUP(\"Propane\",HVACg_Lookup,MATCH(Worksheet!$F$13,BuildingSize,0)+1,FALSE),0)))","v":0},0,0,"",""]
[null,null,"",null,null,null,null,null,null,null,null,null,null,null,null,0,0,0,0,"",0,0,0,0,0,0,0,0,0,0,0,0,0,0,0,{"$f":"W112/1000*Y112*AA112*IF(IFERROR(SEARCH(\"Gas\",$A$15),0)>0,VLOOKUP(\"Gas\",HVACg_Lookup,MATCH($F$13,BuildingSize,0)+1,FALSE),IF(IFERROR(SEARCH(\"Oil\",$A$15),0)>0,VLOOKUP(\"Oil\",HVACg_Lookup,MATCH($F$13,BuildingSize,0)+1,FALSE),IF(IFERROR(SEARCH(\"Propane\",$A$15),0)>0,VLOOKUP(\"Propane\",HVACg_Lookup,MATCH(Worksheet!$F$13,BuildingSize,0)+1,FALSE),0)))","v":0},{"$f":"X112/1000*Y112*AA112*IF(IFERROR(SEARCH(\"Gas\",$A$15),0)>0,VLOOKUP(\"Gas\",HVACg_Lookup,MATCH($F$13,BuildingSize,0)+1,FALSE),IF(IFERROR(SEARCH(\"Oil\",$A$15),0)>0,VLOOKUP(\"Oil\",HVACg_Lookup,MATCH($F$13,BuildingSize,0)+1,FALSE),IF(IFERROR(SEARCH(\"Propane\",$A$15),0)>0,VLOOKUP(\"Propane\",HVACg_Lookup,MATCH(Worksheet!$F$13,BuildingSize,0)+1,FALSE),0)))","v":0},0,0,"",""]
[null,null,"",null,null,null,null,null,null,null,null,null,null,null,null,0,0,0,0,"",0,0,0,0,0,0,0,0,0,0,0,0,0,0,0,{"$f":"W113/1000*Y113*AA113*IF(IFERROR(SEARCH(\"Gas\",$A$15),0)>0,VLOOKUP(\"Gas\",HVACg_Lookup,MATCH($F$13,BuildingSize,0)+1,FALSE),IF(IFERROR(SEARCH(\"Oil\",$A$15),0)>0,VLOOKUP(\"Oil\",HVACg_Lookup,MATCH($F$13,BuildingSize,0)+1,FALSE),IF(IFERROR(SEARCH(\"Propane\",$A$15),0)>0,VLOOKUP(\"Propane\",HVACg_Lookup,MATCH(Worksheet!$F$13,BuildingSize,0)+1,FALSE),0)))","v":0},{"$f":"X113/1000*Y113*AA113*IF(IFERROR(SEARCH(\"Gas\",$A$15),0)>0,VLOOKUP(\"Gas\",HVACg_Lookup,MATCH($F$13,BuildingSize,0)+1,FALSE),IF(IFERROR(SEARCH(\"Oil\",$A$15),0)>0,VLOOKUP(\"Oil\",HVACg_Lookup,MATCH($F$13,BuildingSize,0)+1,FALSE),IF(IFERROR(SEARCH(\"Propane\",$A$15),0)>0,VLOOKUP(\"Propane\",HVACg_Lookup,MATCH(Worksheet!$F$13,BuildingSize,0)+1,FALSE),0)))","v":0},0,0,"",""]
[null,null,"",null,null,null,null,null,null,null,null,null,null,null,null,0,0,0,0,"",0,0,0,0,0,0,0,0,0,0,0,0,0,0,0,{"$f":"W114/1000*Y114*AA114*IF(IFERROR(SEARCH(\"Gas\",$A$15),0)>0,VLOOKUP(\"Gas\",HVACg_Lookup,MATCH($F$13,BuildingSize,0)+1,FALSE),IF(IFERROR(SEARCH(\"Oil\",$A$15),0)>0,VLOOKUP(\"Oil\",HVACg_Lookup,MATCH($F$13,BuildingSize,0)+1,FALSE),IF(IFERROR(SEARCH(\"Propane\",$A$15),0)>0,VLOOKUP(\"Propane\",HVACg_Lookup,MATCH(Worksheet!$F$13,BuildingSize,0)+1,FALSE),0)))","v":0},{"$f":"X114/1000*Y114*AA114*IF(IFERROR(SEARCH(\"Gas\",$A$15),0)>0,VLOOKUP(\"Gas\",HVACg_Lookup,MATCH($F$13,BuildingSize,0)+1,FALSE),IF(IFERROR(SEARCH(\"Oil\",$A$15),0)>0,VLOOKUP(\"Oil\",HVACg_Lookup,MATCH($F$13,BuildingSize,0)+1,FALSE),IF(IFERROR(SEARCH(\"Propane\",$A$15),0)>0,VLOOKUP(\"Propane\",HVACg_Lookup,MATCH(Worksheet!$F$13,BuildingSize,0)+1,FALSE),0)))","v":0},0,0,"",""]
[null,null,"",null,null,null,null,null,null,null,null,null,null,null,null,0,0,0,0,"",0,0,0,0,0,0,0,0,0,0,0,0,0,0,0,{"$f":"W115/1000*Y115*AA115*IF(IFERROR(SEARCH(\"Gas\",$A$15),0)>0,VLOOKUP(\"Gas\",HVACg_Lookup,MATCH($F$13,BuildingSize,0)+1,FALSE),IF(IFERROR(SEARCH(\"Oil\",$A$15),0)>0,VLOOKUP(\"Oil\",HVACg_Lookup,MATCH($F$13,BuildingSize,0)+1,FALSE),IF(IFERROR(SEARCH(\"Propane\",$A$15),0)>0,VLOOKUP(\"Propane\",HVACg_Lookup,MATCH(Worksheet!$F$13,BuildingSize,0)+1,FALSE),0)))","v":0},{"$f":"X115/1000*Y115*AA115*IF(IFERROR(SEARCH(\"Gas\",$A$15),0)>0,VLOOKUP(\"Gas\",HVACg_Lookup,MATCH($F$13,BuildingSize,0)+1,FALSE),IF(IFERROR(SEARCH(\"Oil\",$A$15),0)>0,VLOOKUP(\"Oil\",HVACg_Lookup,MATCH($F$13,BuildingSize,0)+1,FALSE),IF(IFERROR(SEARCH(\"Propane\",$A$15),0)>0,VLOOKUP(\"Propane\",HVACg_Lookup,MATCH(Worksheet!$F$13,BuildingSize,0)+1,FALSE),0)))","v":0},0,0,"",""]
[null,null,"",null,null,null,null,null,null,null,null,null,null,null,null,0,0,0,0,"",0,0,0,0,0,0,0,0,0,0,0,0,0,0,0,{"$f":"W116/1000*Y116*AA116*IF(IFERROR(SEARCH(\"Gas\",$A$15),0)>0,VLOOKUP(\"Gas\",HVACg_Lookup,MATCH($F$13,BuildingSize,0)+1,FALSE),IF(IFERROR(SEARCH(\"Oil\",$A$15),0)>0,VLOOKUP(\"Oil\",HVACg_Lookup,MATCH($F$13,BuildingSize,0)+1,FALSE),IF(IFERROR(SEARCH(\"Propane\",$A$15),0)>0,VLOOKUP(\"Propane\",HVACg_Lookup,MATCH(Worksheet!$F$13,BuildingSize,0)+1,FALSE),0)))","v":0},{"$f":"X116/1000*Y116*AA116*IF(IFERROR(SEARCH(\"Gas\",$A$15),0)>0,VLOOKUP(\"Gas\",HVACg_Lookup,MATCH($F$13,BuildingSize,0)+1,FALSE),IF(IFERROR(SEARCH(\"Oil\",$A$15),0)>0,VLOOKUP(\"Oil\",HVACg_Lookup,MATCH($F$13,BuildingSize,0)+1,FALSE),IF(IFERROR(SEARCH(\"Propane\",$A$15),0)>0,VLOOKUP(\"Propane\",HVACg_Lookup,MATCH(Worksheet!$F$13,BuildingSize,0)+1,FALSE),0)))","v":0},0,0,"",""]
[null,null,"",null,null,null,null,null,null,null,null,null,null,null,null,0,0,0,0,"",0,0,0,0,0,0,0,0,0,0,0,0,0,0,0,{"$f":"W117/1000*Y117*AA117*IF(IFERROR(SEARCH(\"Gas\",$A$15),0)>0,VLOOKUP(\"Gas\",HVACg_Lookup,MATCH($F$13,BuildingSize,0)+1,FALSE),IF(IFERROR(SEARCH(\"Oil\",$A$15),0)>0,VLOOKUP(\"Oil\",HVACg_Lookup,MATCH($F$13,BuildingSize,0)+1,FALSE),IF(IFERROR(SEARCH(\"Propane\",$A$15),0)>0,VLOOKUP(\"Propane\",HVACg_Lookup,MATCH(Worksheet!$F$13,BuildingSize,0)+1,FALSE),0)))","v":0},{"$f":"X117/1000*Y117*AA117*IF(IFERROR(SEARCH(\"Gas\",$A$15),0)>0,VLOOKUP(\"Gas\",HVACg_Lookup,MATCH($F$13,BuildingSize,0)+1,FALSE),IF(IFERROR(SEARCH(\"Oil\",$A$15),0)>0,VLOOKUP(\"Oil\",HVACg_Lookup,MATCH($F$13,BuildingSize,0)+1,FALSE),IF(IFERROR(SEARCH(\"Propane\",$A$15),0)>0,VLOOKUP(\"Propane\",HVACg_Lookup,MATCH(Worksheet!$F$13,BuildingSize,0)+1,FALSE),0)))","v":0},0,0,"",""]
[null,null,"",null,null,null,null,null,null,null,null,null,null,null,null,0,0,0,0,"",0,0,0,0,0,0,0,0,0,0,0,0,0,0,0,{"$f":"W118/1000*Y118*AA118*IF(IFERROR(SEARCH(\"Gas\",$A$15),0)>0,VLOOKUP(\"Gas\",HVACg_Lookup,MATCH($F$13,BuildingSize,0)+1,FALSE),IF(IFERROR(SEARCH(\"Oil\",$A$15),0)>0,VLOOKUP(\"Oil\",HVACg_Lookup,MATCH($F$13,BuildingSize,0)+1,FALSE),IF(IFERROR(SEARCH(\"Propane\",$A$15),0)>0,VLOOKUP(\"Propane\",HVACg_Lookup,MATCH(Worksheet!$F$13,BuildingSize,0)+1,FALSE),0)))","v":0},{"$f":"X118/1000*Y118*AA118*IF(IFERROR(SEARCH(\"Gas\",$A$15),0)>0,VLOOKUP(\"Gas\",HVACg_Lookup,MATCH($F$13,BuildingSize,0)+1,FALSE),IF(IFERROR(SEARCH(\"Oil\",$A$15),0)>0,VLOOKUP(\"Oil\",HVACg_Lookup,MATCH($F$13,BuildingSize,0)+1,FALSE),IF(IFERROR(SEARCH(\"Propane\",$A$15),0)>0,VLOOKUP(\"Propane\",HVACg_Lookup,MATCH(Worksheet!$F$13,BuildingSize,0)+1,FALSE),0)))","v":0},0,0,"",""]
[null,null,"",null,null,null,null,null,null,null,null,null,null,null,null,0,0,0,0,"",0,0,0,0,0,0,0,0,0,0,0,0,0,0,0,{"$f":"W119/1000*Y119*AA119*IF(IFERROR(SEARCH(\"Gas\",$A$15),0)>0,VLOOKUP(\"Gas\",HVACg_Lookup,MATCH($F$13,BuildingSize,0)+1,FALSE),IF(IFERROR(SEARCH(\"Oil\",$A$15),0)>0,VLOOKUP(\"Oil\",HVACg_Lookup,MATCH($F$13,BuildingSize,0)+1,FALSE),IF(IFERROR(SEARCH(\"Propane\",$A$15),0)>0,VLOOKUP(\"Propane\",HVACg_Lookup,MATCH(Worksheet!$F$13,BuildingSize,0)+1,FALSE),0)))","v":0},{"$f":"X119/1000*Y119*AA119*IF(IFERROR(SEARCH(\"Gas\",$A$15),0)>0,VLOOKUP(\"Gas\",HVACg_Lookup,MATCH($F$13,BuildingSize,0)+1,FALSE),IF(IFERROR(SEARCH(\"Oil\",$A$15),0)>0,VLOOKUP(\"Oil\",HVACg_Lookup,MATCH($F$13,BuildingSize,0)+1,FALSE),IF(IFERROR(SEARCH(\"Propane\",$A$15),0)>0,VLOOKUP(\"Propane\",HVACg_Lookup,MATCH(Worksheet!$F$13,BuildingSize,0)+1,FALSE),0)))","v":0},0,0,"",""]
[null,null,"",null,null,null,null,null,null,null,null,null,null,null,null,0,0,0,0,"",0,0,0,0,0,0,0,0,0,0,0,0,0,0,0,{"$f":"W120/1000*Y120*AA120*IF(IFERROR(SEARCH(\"Gas\",$A$15),0)>0,VLOOKUP(\"Gas\",HVACg_Lookup,MATCH($F$13,BuildingSize,0)+1,FALSE),IF(IFERROR(SEARCH(\"Oil\",$A$15),0)>0,VLOOKUP(\"Oil\",HVACg_Lookup,MATCH($F$13,BuildingSize,0)+1,FALSE),IF(IFERROR(SEARCH(\"Propane\",$A$15),0)>0,VLOOKUP(\"Propane\",HVACg_Lookup,MATCH(Worksheet!$F$13,BuildingSize,0)+1,FALSE),0)))","v":0},{"$f":"X120/1000*Y120*AA120*IF(IFERROR(SEARCH(\"Gas\",$A$15),0)>0,VLOOKUP(\"Gas\",HVACg_Lookup,MATCH($F$13,BuildingSize,0)+1,FALSE),IF(IFERROR(SEARCH(\"Oil\",$A$15),0)>0,VLOOKUP(\"Oil\",HVACg_Lookup,MATCH($F$13,BuildingSize,0)+1,FALSE),IF(IFERROR(SEARCH(\"Propane\",$A$15),0)>0,VLOOKUP(\"Propane\",HVACg_Lookup,MATCH(Worksheet!$F$13,BuildingSize,0)+1,FALSE),0)))","v":0},0,0,"",""]
[null,null,"",null,null,null,null,null,null,null,null,null,null,null,null,0,0,0,0,"",0,0,0,0,0,0,0,0,0,0,0,0,0,0,0,{"$f":"W121/1000*Y121*AA121*IF(IFERROR(SEARCH(\"Gas\",$A$15),0)>0,VLOOKUP(\"Gas\",HVACg_Lookup,MATCH($F$13,BuildingSize,0)+1,FALSE),IF(IFERROR(SEARCH(\"Oil\",$A$15),0)>0,VLOOKUP(\"Oil\",HVACg_Lookup,MATCH($F$13,BuildingSize,0)+1,FALSE),IF(IFERROR(SEARCH(\"Propane\",$A$15),0)>0,VLOOKUP(\"Propane\",HVACg_Lookup,MATCH(Worksheet!$F$13,BuildingSize,0)+1,FALSE),0)))","v":0},{"$f":"X121/1000*Y121*AA121*IF(IFERROR(SEARCH(\"Gas\",$A$15),0)>0,VLOOKUP(\"Gas\",HVACg_Lookup,MATCH($F$13,BuildingSize,0)+1,FALSE),IF(IFERROR(SEARCH(\"Oil\",$A$15),0)>0,VLOOKUP(\"Oil\",HVACg_Lookup,MATCH($F$13,BuildingSize,0)+1,FALSE),IF(IFERROR(SEARCH(\"Propane\",$A$15),0)>0,VLOOKUP(\"Propane\",HVACg_Lookup,MATCH(Worksheet!$F$13,BuildingSize,0)+1,FALSE),0)))","v":0},0,0,"",""]
[null,null,"",null,null,null,null,null,null,null,null,null,null,null,null,0,0,0,0,"",0,0,0,0,0,0,0,0,0,0,0,0,0,0,0,{"$f":"W122/1000*Y122*AA122*IF(IFERROR(SEARCH(\"Gas\",$A$15),0)>0,VLOOKUP(\"Gas\",HVACg_Lookup,MATCH($F$13,BuildingSize,0)+1,FALSE),IF(IFERROR(SEARCH(\"Oil\",$A$15),0)>0,VLOOKUP(\"Oil\",HVACg_Lookup,MATCH($F$13,BuildingSize,0)+1,FALSE),IF(IFERROR(SEARCH(\"Propane\",$A$15),0)>0,VLOOKUP(\"Propane\",HVACg_Lookup,MATCH(Worksheet!$F$13,BuildingSize,0)+1,FALSE),0)))","v":0},{"$f":"X122/1000*Y122*AA122*IF(IFERROR(SEARCH(\"Gas\",$A$15),0)>0,VLOOKUP(\"Gas\",HVACg_Lookup,MATCH($F$13,BuildingSize,0)+1,FALSE),IF(IFERROR(SEARCH(\"Oil\",$A$15),0)>0,VLOOKUP(\"Oil\",HVACg_Lookup,MATCH($F$13,BuildingSize,0)+1,FALSE),IF(IFERROR(SEARCH(\"Propane\",$A$15),0)>0,VLOOKUP(\"Propane\",HVACg_Lookup,MATCH(Worksheet!$F$13,BuildingSize,0)+1,FALSE),0)))","v":0},0,0,"",""]
[null,null,"",null,null,null,null,null,null,null,null,null,null,null,null,0,0,0,0,"",0,0,0,0,0,0,0,0,0,0,0,0,0,0,0,{"$f":"W123/1000*Y123*AA123*IF(IFERROR(SEARCH(\"Gas\",$A$15),0)>0,VLOOKUP(\"Gas\",HVACg_Lookup,MATCH($F$13,BuildingSize,0)+1,FALSE),IF(IFERROR(SEARCH(\"Oil\",$A$15),0)>0,VLOOKUP(\"Oil\",HVACg_Lookup,MATCH($F$13,BuildingSize,0)+1,FALSE),IF(IFERROR(SEARCH(\"Propane\",$A$15),0)>0,VLOOKUP(\"Propane\",HVACg_Lookup,MATCH(Worksheet!$F$13,BuildingSize,0)+1,FALSE),0)))","v":0},{"$f":"X123/1000*Y123*AA123*IF(IFERROR(SEARCH(\"Gas\",$A$15),0)>0,VLOOKUP(\"Gas\",HVACg_Lookup,MATCH($F$13,BuildingSize,0)+1,FALSE),IF(IFERROR(SEARCH(\"Oil\",$A$15),0)>0,VLOOKUP(\"Oil\",HVACg_Lookup,MATCH($F$13,BuildingSize,0)+1,FALSE),IF(IFERROR(SEARCH(\"Propane\",$A$15),0)>0,VLOOKUP(\"Propane\",HVACg_Lookup,MATCH(Worksheet!$F$13,BuildingSize,0)+1,FALSE),0)))","v":0},0,0,"",""]
[null,null,"",null,null,null,null,null,null,null,null,null,null,null,null,0,0,0,0,"",0,0,0,0,0,0,0,0,0,0,0,0,0,0,0,{"$f":"W124/1000*Y124*AA124*IF(IFERROR(SEARCH(\"Gas\",$A$15),0)>0,VLOOKUP(\"Gas\",HVACg_Lookup,MATCH($F$13,BuildingSize,0)+1,FALSE),IF(IFERROR(SEARCH(\"Oil\",$A$15),0)>0,VLOOKUP(\"Oil\",HVACg_Lookup,MATCH($F$13,BuildingSize,0)+1,FALSE),IF(IFERROR(SEARCH(\"Propane\",$A$15),0)>0,VLOOKUP(\"Propane\",HVACg_Lookup,MATCH(Worksheet!$F$13,BuildingSize,0)+1,FALSE),0)))","v":0},{"$f":"X124/1000*Y124*AA124*IF(IFERROR(SEARCH(\"Gas\",$A$15),0)>0,VLOOKUP(\"Gas\",HVACg_Lookup,MATCH($F$13,BuildingSize,0)+1,FALSE),IF(IFERROR(SEARCH(\"Oil\",$A$15),0)>0,VLOOKUP(\"Oil\",HVACg_Lookup,MATCH($F$13,BuildingSize,0)+1,FALSE),IF(IFERROR(SEARCH(\"Propane\",$A$15),0)>0,VLOOKUP(\"Propane\",HVACg_Lookup,MATCH(Worksheet!$F$13,BuildingSize,0)+1,FALSE),0)))","v":0},0,0,"",""]
[null,null,"",null,null,null,null,null,null,null,null,null,null,null,null,0,0,0,0,"",0,0,0,0,0,0,0,0,0,0,0,0,0,0,0,{"$f":"W125/1000*Y125*AA125*IF(IFERROR(SEARCH(\"Gas\",$A$15),0)>0,VLOOKUP(\"Gas\",HVACg_Lookup,MATCH($F$13,BuildingSize,0)+1,FALSE),IF(IFERROR(SEARCH(\"Oil\",$A$15),0)>0,VLOOKUP(\"Oil\",HVACg_Lookup,MATCH($F$13,BuildingSize,0)+1,FALSE),IF(IFERROR(SEARCH(\"Propane\",$A$15),0)>0,VLOOKUP(\"Propane\",HVACg_Lookup,MATCH(Worksheet!$F$13,BuildingSize,0)+1,FALSE),0)))","v":0},{"$f":"X125/1000*Y125*AA125*IF(IFERROR(SEARCH(\"Gas\",$A$15),0)>0,VLOOKUP(\"Gas\",HVACg_Lookup,MATCH($F$13,BuildingSize,0)+1,FALSE),IF(IFERROR(SEARCH(\"Oil\",$A$15),0)>0,VLOOKUP(\"Oil\",HVACg_Lookup,MATCH($F$13,BuildingSize,0)+1,FALSE),IF(IFERROR(SEARCH(\"Propane\",$A$15),0)>0,VLOOKUP(\"Propane\",HVACg_Lookup,MATCH(Worksheet!$F$13,BuildingSize,0)+1,FALSE),0)))","v":0},0,0,"",""]
[null,null,"",null,null,null,null,null,null,null,null,null,null,null,null,0,0,0,0,"",0,0,0,0,0,0,0,0,0,0,0,0,0,0,0,{"$f":"W126/1000*Y126*AA126*IF(IFERROR(SEARCH(\"Gas\",$A$15),0)>0,VLOOKUP(\"Gas\",HVACg_Lookup,MATCH($F$13,BuildingSize,0)+1,FALSE),IF(IFERROR(SEARCH(\"Oil\",$A$15),0)>0,VLOOKUP(\"Oil\",HVACg_Lookup,MATCH($F$13,BuildingSize,0)+1,FALSE),IF(IFERROR(SEARCH(\"Propane\",$A$15),0)>0,VLOOKUP(\"Propane\",HVACg_Lookup,MATCH(Worksheet!$F$13,BuildingSize,0)+1,FALSE),0)))","v":0},{"$f":"X126/1000*Y126*AA126*IF(IFERROR(SEARCH(\"Gas\",$A$15),0)>0,VLOOKUP(\"Gas\",HVACg_Lookup,MATCH($F$13,BuildingSize,0)+1,FALSE),IF(IFERROR(SEARCH(\"Oil\",$A$15),0)>0,VLOOKUP(\"Oil\",HVACg_Lookup,MATCH($F$13,BuildingSize,0)+1,FALSE),IF(IFERROR(SEARCH(\"Propane\",$A$15),0)>0,VLOOKUP(\"Propane\",HVACg_Lookup,MATCH(Worksheet!$F$13,BuildingSize,0)+1,FALSE),0)))","v":0},0,0,"",""]
[null,null,"",null,null,null,null,null,null,null,null,null,null,null,null,0,0,0,0,"",0,0,0,0,0,0,0,0,0,0,0,0,0,0,0,{"$f":"W127/1000*Y127*AA127*IF(IFERROR(SEARCH(\"Gas\",$A$15),0)>0,VLOOKUP(\"Gas\",HVACg_Lookup,MATCH($F$13,BuildingSize,0)+1,FALSE),IF(IFERROR(SEARCH(\"Oil\",$A$15),0)>0,VLOOKUP(\"Oil\",HVACg_Lookup,MATCH($F$13,BuildingSize,0)+1,FALSE),IF(IFERROR(SEARCH(\"Propane\",$A$15),0)>0,VLOOKUP(\"Propane\",HVACg_Lookup,MATCH(Worksheet!$F$13,BuildingSize,0)+1,FALSE),0)))","v":0},{"$f":"X127/1000*Y127*AA127*IF(IFERROR(SEARCH(\"Gas\",$A$15),0)>0,VLOOKUP(\"Gas\",HVACg_Lookup,MATCH($F$13,BuildingSize,0)+1,FALSE),IF(IFERROR(SEARCH(\"Oil\",$A$15),0)>0,VLOOKUP(\"Oil\",HVACg_Lookup,MATCH($F$13,BuildingSize,0)+1,FALSE),IF(IFERROR(SEARCH(\"Propane\",$A$15),0)>0,VLOOKUP(\"Propane\",HVACg_Lookup,MATCH(Worksheet!$F$13,BuildingSize,0)+1,FALSE),0)))","v":0},0,0,"",""]
[null,null,"",null,null,null,null,null,null,null,null,null,null,null,null,0,0,0,0,"",0,0,0,0,0,0,0,0,0,0,0,0,0,0,0,{"$f":"W128/1000*Y128*AA128*IF(IFERROR(SEARCH(\"Gas\",$A$15),0)>0,VLOOKUP(\"Gas\",HVACg_Lookup,MATCH($F$13,BuildingSize,0)+1,FALSE),IF(IFERROR(SEARCH(\"Oil\",$A$15),0)>0,VLOOKUP(\"Oil\",HVACg_Lookup,MATCH($F$13,BuildingSize,0)+1,FALSE),IF(IFERROR(SEARCH(\"Propane\",$A$15),0)>0,VLOOKUP(\"Propane\",HVACg_Lookup,MATCH(Worksheet!$F$13,BuildingSize,0)+1,FALSE),0)))","v":0},{"$f":"X128/1000*Y128*AA128*IF(IFERROR(SEARCH(\"Gas\",$A$15),0)>0,VLOOKUP(\"Gas\",HVACg_Lookup,MATCH($F$13,BuildingSize,0)+1,FALSE),IF(IFERROR(SEARCH(\"Oil\",$A$15),0)>0,VLOOKUP(\"Oil\",HVACg_Lookup,MATCH($F$13,BuildingSize,0)+1,FALSE),IF(IFERROR(SEARCH(\"Propane\",$A$15),0)>0,VLOOKUP(\"Propane\",HVACg_Lookup,MATCH(Worksheet!$F$13,BuildingSize,0)+1,FALSE),0)))","v":0},0,0,"",""]
[null,null,"",null,null,null,null,null,null,null,null,null,null,null,null,0,0,0,0,"",0,0,0,0,0,0,0,0,0,0,0,0,0,0,0,{"$f":"W129/1000*Y129*AA129*IF(IFERROR(SEARCH(\"Gas\",$A$15),0)>0,VLOOKUP(\"Gas\",HVACg_Lookup,MATCH($F$13,BuildingSize,0)+1,FALSE),IF(IFERROR(SEARCH(\"Oil\",$A$15),0)>0,VLOOKUP(\"Oil\",HVACg_Lookup,MATCH($F$13,BuildingSize,0)+1,FALSE),IF(IFERROR(SEARCH(\"Propane\",$A$15),0)>0,VLOOKUP(\"Propane\",HVACg_Lookup,MATCH(Worksheet!$F$13,BuildingSize,0)+1,FALSE),0)))","v":0},{"$f":"X129/1000*Y129*AA129*IF(IFERROR(SEARCH(\"Gas\",$A$15),0)>0,VLOOKUP(\"Gas\",HVACg_Lookup,MATCH($F$13,BuildingSize,0)+1,FALSE),IF(IFERROR(SEARCH(\"Oil\",$A$15),0)>0,VLOOKUP(\"Oil\",HVACg_Lookup,MATCH($F$13,BuildingSize,0)+1,FALSE),IF(IFERROR(SEARCH(\"Propane\",$A$15),0)>0,VLOOKUP(\"Propane\",HVACg_Lookup,MATCH(Worksheet!$F$13,BuildingSize,0)+1,FALSE),0)))","v":0},0,0,"",""]
[null,null,"",null,null,null,null,null,null,null,null,null,null,null,null,0,0,0,0,"",0,0,0,0,0,0,0,0,0,0,0,0,0,0,0,{"$f":"W130/1000*Y130*AA130*IF(IFERROR(SEARCH(\"Gas\",$A$15),0)>0,VLOOKUP(\"Gas\",HVACg_Lookup,MATCH($F$13,BuildingSize,0)+1,FALSE),IF(IFERROR(SEARCH(\"Oil\",$A$15),0)>0,VLOOKUP(\"Oil\",HVACg_Lookup,MATCH($F$13,BuildingSize,0)+1,FALSE),IF(IFERROR(SEARCH(\"Propane\",$A$15),0)>0,VLOOKUP(\"Propane\",HVACg_Lookup,MATCH(Worksheet!$F$13,BuildingSize,0)+1,FALSE),0)))","v":0},{"$f":"X130/1000*Y130*AA130*IF(IFERROR(SEARCH(\"Gas\",$A$15),0)>0,VLOOKUP(\"Gas\",HVACg_Lookup,MATCH($F$13,BuildingSize,0)+1,FALSE),IF(IFERROR(SEARCH(\"Oil\",$A$15),0)>0,VLOOKUP(\"Oil\",HVACg_Lookup,MATCH($F$13,BuildingSize,0)+1,FALSE),IF(IFERROR(SEARCH(\"Propane\",$A$15),0)>0,VLOOKUP(\"Propane\",HVACg_Lookup,MATCH(Worksheet!$F$13,BuildingSize,0)+1,FALSE),0)))","v":0},0,0,"",""]
[null,null,"",null,null,null,null,null,null,null,null,null,null,null,null,0,0,0,0,"",0,0,0,0,0,0,0,0,0,0,0,0,0,0,0,{"$f":"W131/1000*Y131*AA131*IF(IFERROR(SEARCH(\"Gas\",$A$15),0)>0,VLOOKUP(\"Gas\",HVACg_Lookup,MATCH($F$13,BuildingSize,0)+1,FALSE),IF(IFERROR(SEARCH(\"Oil\",$A$15),0)>0,VLOOKUP(\"Oil\",HVACg_Lookup,MATCH($F$13,BuildingSize,0)+1,FALSE),IF(IFERROR(SEARCH(\"Propane\",$A$15),0)>0,VLOOKUP(\"Propane\",HVACg_Lookup,MATCH(Worksheet!$F$13,BuildingSize,0)+1,FALSE),0)))","v":0},{"$f":"X131/1000*Y131*AA131*IF(IFERROR(SEARCH(\"Gas\",$A$15),0)>0,VLOOKUP(\"Gas\",HVACg_Lookup,MATCH($F$13,BuildingSize,0)+1,FALSE),IF(IFERROR(SEARCH(\"Oil\",$A$15),0)>0,VLOOKUP(\"Oil\",HVACg_Lookup,MATCH($F$13,BuildingSize,0)+1,FALSE),IF(IFERROR(SEARCH(\"Propane\",$A$15),0)>0,VLOOKUP(\"Propane\",HVACg_Lookup,MATCH(Worksheet!$F$13,BuildingSize,0)+1,FALSE),0)))","v":0},0,0,"",""]
[null,null,"",null,null,null,null,null,null,null,null,null,null,null,null,0,0,0,0,"",0,0,0,0,0,0,0,0,0,0,0,0,0,0,0,{"$f":"W132/1000*Y132*AA132*IF(IFERROR(SEARCH(\"Gas\",$A$15),0)>0,VLOOKUP(\"Gas\",HVACg_Lookup,MATCH($F$13,BuildingSize,0)+1,FALSE),IF(IFERROR(SEARCH(\"Oil\",$A$15),0)>0,VLOOKUP(\"Oil\",HVACg_Lookup,MATCH($F$13,BuildingSize,0)+1,FALSE),IF(IFERROR(SEARCH(\"Propane\",$A$15),0)>0,VLOOKUP(\"Propane\",HVACg_Lookup,MATCH(Worksheet!$F$13,BuildingSize,0)+1,FALSE),0)))","v":0},{"$f":"X132/1000*Y132*AA132*IF(IFERROR(SEARCH(\"Gas\",$A$15),0)>0,VLOOKUP(\"Gas\",HVACg_Lookup,MATCH($F$13,BuildingSize,0)+1,FALSE),IF(IFERROR(SEARCH(\"Oil\",$A$15),0)>0,VLOOKUP(\"Oil\",HVACg_Lookup,MATCH($F$13,BuildingSize,0)+1,FALSE),IF(IFERROR(SEARCH(\"Propane\",$A$15),0)>0,VLOOKUP(\"Propane\",HVACg_Lookup,MATCH(Worksheet!$F$13,BuildingSize,0)+1,FALSE),0)))","v":0},0,0,"",""]
[null,null,"",null,null,null,null,null,null,null,null,null,null,null,null,0,0,0,0,"",0,0,0,0,0,0,0,0,0,0,0,0,0,0,0,{"$f":"W133/1000*Y133*AA133*IF(IFERROR(SEARCH(\"Gas\",$A$15),0)>0,VLOOKUP(\"Gas\",HVACg_Lookup,MATCH($F$13,BuildingSize,0)+1,FALSE),IF(IFERROR(SEARCH(\"Oil\",$A$15),0)>0,VLOOKUP(\"Oil\",HVACg_Lookup,MATCH($F$13,BuildingSize,0)+1,FALSE),IF(IFERROR(SEARCH(\"Propane\",$A$15),0)>0,VLOOKUP(\"Propane\",HVACg_Lookup,MATCH(Worksheet!$F$13,BuildingSize,0)+1,FALSE),0)))","v":0},{"$f":"X133/1000*Y133*AA133*IF(IFERROR(SEARCH(\"Gas\",$A$15),0)>0,VLOOKUP(\"Gas\",HVACg_Lookup,MATCH($F$13,BuildingSize,0)+1,FALSE),IF(IFERROR(SEARCH(\"Oil\",$A$15),0)>0,VLOOKUP(\"Oil\",HVACg_Lookup,MATCH($F$13,BuildingSize,0)+1,FALSE),IF(IFERROR(SEARCH(\"Propane\",$A$15),0)>0,VLOOKUP(\"Propane\",HVACg_Lookup,MATCH(Worksheet!$F$13,BuildingSize,0)+1,FALSE),0)))","v":0},0,0,"",""]
[null,null,"",null,null,null,null,null,null,null,null,null,null,null,null,0,0,0,0,"",0,0,0,0,0,0,0,0,0,0,0,0,0,0,0,{"$f":"W134/1000*Y134*AA134*IF(IFERROR(SEARCH(\"Gas\",$A$15),0)>0,VLOOKUP(\"Gas\",HVACg_Lookup,MATCH($F$13,BuildingSize,0)+1,FALSE),IF(IFERROR(SEARCH(\"Oil\",$A$15),0)>0,VLOOKUP(\"Oil\",HVACg_Lookup,MATCH($F$13,BuildingSize,0)+1,FALSE),IF(IFERROR(SEARCH(\"Propane\",$A$15),0)>0,VLOOKUP(\"Propane\",HVACg_Lookup,MATCH(Worksheet!$F$13,BuildingSize,0)+1,FALSE),0)))","v":0},{"$f":"X134/1000*Y134*AA134*IF(IFERROR(SEARCH(\"Gas\",$A$15),0)>0,VLOOKUP(\"Gas\",HVACg_Lookup,MATCH($F$13,BuildingSize,0)+1,FALSE),IF(IFERROR(SEARCH(\"Oil\",$A$15),0)>0,VLOOKUP(\"Oil\",HVACg_Lookup,MATCH($F$13,BuildingSize,0)+1,FALSE),IF(IFERROR(SEARCH(\"Propane\",$A$15),0)>0,VLOOKUP(\"Propane\",HVACg_Lookup,MATCH(Worksheet!$F$13,BuildingSize,0)+1,FALSE),0)))","v":0},0,0,"",""]
[null,null,"",null,null,null,null,null,null,null,null,null,null,null,null,0,0,0,0,"",0,0,0,0,0,0,0,0,0,0,0,0,0,0,0,{"$f":"W135/1000*Y135*AA135*IF(IFERROR(SEARCH(\"Gas\",$A$15),0)>0,VLOOKUP(\"Gas\",HVACg_Lookup,MATCH($F$13,BuildingSize,0)+1,FALSE),IF(IFERROR(SEARCH(\"Oil\",$A$15),0)>0,VLOOKUP(\"Oil\",HVACg_Lookup,MATCH($F$13,BuildingSize,0)+1,FALSE),IF(IFERROR(SEARCH(\"Propane\",$A$15),0)>0,VLOOKUP(\"Propane\",HVACg_Lookup,MATCH(Worksheet!$F$13,BuildingSize,0)+1,FALSE),0)))","v":0},{"$f":"X135/1000*Y135*AA135*IF(IFERROR(SEARCH(\"Gas\",$A$15),0)>0,VLOOKUP(\"Gas\",HVACg_Lookup,MATCH($F$13,BuildingSize,0)+1,FALSE),IF(IFERROR(SEARCH(\"Oil\",$A$15),0)>0,VLOOKUP(\"Oil\",HVACg_Lookup,MATCH($F$13,BuildingSize,0)+1,FALSE),IF(IFERROR(SEARCH(\"Propane\",$A$15),0)>0,VLOOKUP(\"Propane\",HVACg_Lookup,MATCH(Worksheet!$F$13,BuildingSize,0)+1,FALSE),0)))","v":0},0,0,"",""]
[null,null,"",null,null,null,null,null,null,null,null,null,null,null,null,0,0,0,0,"",0,0,0,0,0,0,0,0,0,0,0,0,0,0,0,{"$f":"W136/1000*Y136*AA136*IF(IFERROR(SEARCH(\"Gas\",$A$15),0)>0,VLOOKUP(\"Gas\",HVACg_Lookup,MATCH($F$13,BuildingSize,0)+1,FALSE),IF(IFERROR(SEARCH(\"Oil\",$A$15),0)>0,VLOOKUP(\"Oil\",HVACg_Lookup,MATCH($F$13,BuildingSize,0)+1,FALSE),IF(IFERROR(SEARCH(\"Propane\",$A$15),0)>0,VLOOKUP(\"Propane\",HVACg_Lookup,MATCH(Worksheet!$F$13,BuildingSize,0)+1,FALSE),0)))","v":0},{"$f":"X136/1000*Y136*AA136*IF(IFERROR(SEARCH(\"Gas\",$A$15),0)>0,VLOOKUP(\"Gas\",HVACg_Lookup,MATCH($F$13,BuildingSize,0)+1,FALSE),IF(IFERROR(SEARCH(\"Oil\",$A$15),0)>0,VLOOKUP(\"Oil\",HVACg_Lookup,MATCH($F$13,BuildingSize,0)+1,FALSE),IF(IFERROR(SEARCH(\"Propane\",$A$15),0)>0,VLOOKUP(\"Propane\",HVACg_Lookup,MATCH(Worksheet!$F$13,BuildingSize,0)+1,FALSE),0)))","v":0},0,0,"",""]
[null,null,"",null,null,null,null,null,null,null,null,null,null,null,null,0,0,0,0,"",0,0,0,0,0,0,0,0,0,0,0,0,0,0,0,{"$f":"W137/1000*Y137*AA137*IF(IFERROR(SEARCH(\"Gas\",$A$15),0)>0,VLOOKUP(\"Gas\",HVACg_Lookup,MATCH($F$13,BuildingSize,0)+1,FALSE),IF(IFERROR(SEARCH(\"Oil\",$A$15),0)>0,VLOOKUP(\"Oil\",HVACg_Lookup,MATCH($F$13,BuildingSize,0)+1,FALSE),IF(IFERROR(SEARCH(\"Propane\",$A$15),0)>0,VLOOKUP(\"Propane\",HVACg_Lookup,MATCH(Worksheet!$F$13,BuildingSize,0)+1,FALSE),0)))","v":0},{"$f":"X137/1000*Y137*AA137*IF(IFERROR(SEARCH(\"Gas\",$A$15),0)>0,VLOOKUP(\"Gas\",HVACg_Lookup,MATCH($F$13,BuildingSize,0)+1,FALSE),IF(IFERROR(SEARCH(\"Oil\",$A$15),0)>0,VLOOKUP(\"Oil\",HVACg_Lookup,MATCH($F$13,BuildingSize,0)+1,FALSE),IF(IFERROR(SEARCH(\"Propane\",$A$15),0)>0,VLOOKUP(\"Propane\",HVACg_Lookup,MATCH(Worksheet!$F$13,BuildingSize,0)+1,FALSE),0)))","v":0},0,0,"",""]
[null,null,"",null,null,null,null,null,null,null,null,null,null,null,null,0,0,0,0,"",0,0,0,0,0,0,0,0,0,0,0,0,0,0,0,{"$f":"W138/1000*Y138*AA138*IF(IFERROR(SEARCH(\"Gas\",$A$15),0)>0,VLOOKUP(\"Gas\",HVACg_Lookup,MATCH($F$13,BuildingSize,0)+1,FALSE),IF(IFERROR(SEARCH(\"Oil\",$A$15),0)>0,VLOOKUP(\"Oil\",HVACg_Lookup,MATCH($F$13,BuildingSize,0)+1,FALSE),IF(IFERROR(SEARCH(\"Propane\",$A$15),0)>0,VLOOKUP(\"Propane\",HVACg_Lookup,MATCH(Worksheet!$F$13,BuildingSize,0)+1,FALSE),0)))","v":0},{"$f":"X138/1000*Y138*AA138*IF(IFERROR(SEARCH(\"Gas\",$A$15),0)>0,VLOOKUP(\"Gas\",HVACg_Lookup,MATCH($F$13,BuildingSize,0)+1,FALSE),IF(IFERROR(SEARCH(\"Oil\",$A$15),0)>0,VLOOKUP(\"Oil\",HVACg_Lookup,MATCH($F$13,BuildingSize,0)+1,FALSE),IF(IFERROR(SEARCH(\"Propane\",$A$15),0)>0,VLOOKUP(\"Propane\",HVACg_Lookup,MATCH(Worksheet!$F$13,BuildingSize,0)+1,FALSE),0)))","v":0},0,0,"",""]
[null,null,"",null,null,null,null,null,null,null,null,null,null,null,null,0,0,0,0,"",0,0,0,0,0,0,0,0,0,0,0,0,0,0,0,{"$f":"W139/1000*Y139*AA139*IF(IFERROR(SEARCH(\"Gas\",$A$15),0)>0,VLOOKUP(\"Gas\",HVACg_Lookup,MATCH($F$13,BuildingSize,0)+1,FALSE),IF(IFERROR(SEARCH(\"Oil\",$A$15),0)>0,VLOOKUP(\"Oil\",HVACg_Lookup,MATCH($F$13,BuildingSize,0)+1,FALSE),IF(IFERROR(SEARCH(\"Propane\",$A$15),0)>0,VLOOKUP(\"Propane\",HVACg_Lookup,MATCH(Worksheet!$F$13,BuildingSize,0)+1,FALSE),0)))","v":0},{"$f":"X139/1000*Y139*AA139*IF(IFERROR(SEARCH(\"Gas\",$A$15),0)>0,VLOOKUP(\"Gas\",HVACg_Lookup,MATCH($F$13,BuildingSize,0)+1,FALSE),IF(IFERROR(SEARCH(\"Oil\",$A$15),0)>0,VLOOKUP(\"Oil\",HVACg_Lookup,MATCH($F$13,BuildingSize,0)+1,FALSE),IF(IFERROR(SEARCH(\"Propane\",$A$15),0)>0,VLOOKUP(\"Propane\",HVACg_Lookup,MATCH(Worksheet!$F$13,BuildingSize,0)+1,FALSE),0)))","v":0},0,0,"",""]
[null,null,"",null,null,null,null,null,null,null,null,null,null,null,null,0,0,0,0,"",0,0,0,0,0,0,0,0,0,0,0,0,0,0,0,{"$f":"W140/1000*Y140*AA140*IF(IFERROR(SEARCH(\"Gas\",$A$15),0)>0,VLOOKUP(\"Gas\",HVACg_Lookup,MATCH($F$13,BuildingSize,0)+1,FALSE),IF(IFERROR(SEARCH(\"Oil\",$A$15),0)>0,VLOOKUP(\"Oil\",HVACg_Lookup,MATCH($F$13,BuildingSize,0)+1,FALSE),IF(IFERROR(SEARCH(\"Propane\",$A$15),0)>0,VLOOKUP(\"Propane\",HVACg_Lookup,MATCH(Worksheet!$F$13,BuildingSize,0)+1,FALSE),0)))","v":0},{"$f":"X140/1000*Y140*AA140*IF(IFERROR(SEARCH(\"Gas\",$A$15),0)>0,VLOOKUP(\"Gas\",HVACg_Lookup,MATCH($F$13,BuildingSize,0)+1,FALSE),IF(IFERROR(SEARCH(\"Oil\",$A$15),0)>0,VLOOKUP(\"Oil\",HVACg_Lookup,MATCH($F$13,BuildingSize,0)+1,FALSE),IF(IFERROR(SEARCH(\"Propane\",$A$15),0)>0,VLOOKUP(\"Propane\",HVACg_Lookup,MATCH(Worksheet!$F$13,BuildingSize,0)+1,FALSE),0)))","v":0},0,0,"",""]
[null,null,"",null,null,null,null,null,null,null,null,null,null,null,null,0,0,0,0,"",0,0,0,0,0,0,0,0,0,0,0,0,0,0,0,{"$f":"W141/1000*Y141*AA141*IF(IFERROR(SEARCH(\"Gas\",$A$15),0)>0,VLOOKUP(\"Gas\",HVACg_Lookup,MATCH($F$13,BuildingSize,0)+1,FALSE),IF(IFERROR(SEARCH(\"Oil\",$A$15),0)>0,VLOOKUP(\"Oil\",HVACg_Lookup,MATCH($F$13,BuildingSize,0)+1,FALSE),IF(IFERROR(SEARCH(\"Propane\",$A$15),0)>0,VLOOKUP(\"Propane\",HVACg_Lookup,MATCH(Worksheet!$F$13,BuildingSize,0)+1,FALSE),0)))","v":0},{"$f":"X141/1000*Y141*AA141*IF(IFERROR(SEARCH(\"Gas\",$A$15),0)>0,VLOOKUP(\"Gas\",HVACg_Lookup,MATCH($F$13,BuildingSize,0)+1,FALSE),IF(IFERROR(SEARCH(\"Oil\",$A$15),0)>0,VLOOKUP(\"Oil\",HVACg_Lookup,MATCH($F$13,BuildingSize,0)+1,FALSE),IF(IFERROR(SEARCH(\"Propane\",$A$15),0)>0,VLOOKUP(\"Propane\",HVACg_Lookup,MATCH(Worksheet!$F$13,BuildingSize,0)+1,FALSE),0)))","v":0},0,0,"",""]
[null,null,"",null,null,null,null,null,null,null,null,null,null,null,null,0,0,0,0,"",0,0,0,0,0,0,0,0,0,0,0,0,0,0,0,{"$f":"W142/1000*Y142*AA142*IF(IFERROR(SEARCH(\"Gas\",$A$15),0)>0,VLOOKUP(\"Gas\",HVACg_Lookup,MATCH($F$13,BuildingSize,0)+1,FALSE),IF(IFERROR(SEARCH(\"Oil\",$A$15),0)>0,VLOOKUP(\"Oil\",HVACg_Lookup,MATCH($F$13,BuildingSize,0)+1,FALSE),IF(IFERROR(SEARCH(\"Propane\",$A$15),0)>0,VLOOKUP(\"Propane\",HVACg_Lookup,MATCH(Worksheet!$F$13,BuildingSize,0)+1,FALSE),0)))","v":0},{"$f":"X142/1000*Y142*AA142*IF(IFERROR(SEARCH(\"Gas\",$A$15),0)>0,VLOOKUP(\"Gas\",HVACg_Lookup,MATCH($F$13,BuildingSize,0)+1,FALSE),IF(IFERROR(SEARCH(\"Oil\",$A$15),0)>0,VLOOKUP(\"Oil\",HVACg_Lookup,MATCH($F$13,BuildingSize,0)+1,FALSE),IF(IFERROR(SEARCH(\"Propane\",$A$15),0)>0,VLOOKUP(\"Propane\",HVACg_Lookup,MATCH(Worksheet!$F$13,BuildingSize,0)+1,FALSE),0)))","v":0},0,0,"",""]
[null,null,"",null,null,null,null,null,null,null,null,null,null,null,null,0,0,0,0,"",0,0,0,0,0,0,0,0,0,0,0,0,0,0,0,{"$f":"W143/1000*Y143*AA143*IF(IFERROR(SEARCH(\"Gas\",$A$15),0)>0,VLOOKUP(\"Gas\",HVACg_Lookup,MATCH($F$13,BuildingSize,0)+1,FALSE),IF(IFERROR(SEARCH(\"Oil\",$A$15),0)>0,VLOOKUP(\"Oil\",HVACg_Lookup,MATCH($F$13,BuildingSize,0)+1,FALSE),IF(IFERROR(SEARCH(\"Propane\",$A$15),0)>0,VLOOKUP(\"Propane\",HVACg_Lookup,MATCH(Worksheet!$F$13,BuildingSize,0)+1,FALSE),0)))","v":0},{"$f":"X143/1000*Y143*AA143*IF(IFERROR(SEARCH(\"Gas\",$A$15),0)>0,VLOOKUP(\"Gas\",HVACg_Lookup,MATCH($F$13,BuildingSize,0)+1,FALSE),IF(IFERROR(SEARCH(\"Oil\",$A$15),0)>0,VLOOKUP(\"Oil\",HVACg_Lookup,MATCH($F$13,BuildingSize,0)+1,FALSE),IF(IFERROR(SEARCH(\"Propane\",$A$15),0)>0,VLOOKUP(\"Propane\",HVACg_Lookup,MATCH(Worksheet!$F$13,BuildingSize,0)+1,FALSE),0)))","v":0},0,0,"",""]
[null,null,"",null,null,null,null,null,null,null,null,null,null,null,null,0,0,0,0,"",0,0,0,0,0,0,0,0,0,0,0,0,0,0,0,{"$f":"W144/1000*Y144*AA144*IF(IFERROR(SEARCH(\"Gas\",$A$15),0)>0,VLOOKUP(\"Gas\",HVACg_Lookup,MATCH($F$13,BuildingSize,0)+1,FALSE),IF(IFERROR(SEARCH(\"Oil\",$A$15),0)>0,VLOOKUP(\"Oil\",HVACg_Lookup,MATCH($F$13,BuildingSize,0)+1,FALSE),IF(IFERROR(SEARCH(\"Propane\",$A$15),0)>0,VLOOKUP(\"Propane\",HVACg_Lookup,MATCH(Worksheet!$F$13,BuildingSize,0)+1,FALSE),0)))","v":0},{"$f":"X144/1000*Y144*AA144*IF(IFERROR(SEARCH(\"Gas\",$A$15),0)>0,VLOOKUP(\"Gas\",HVACg_Lookup,MATCH($F$13,BuildingSize,0)+1,FALSE),IF(IFERROR(SEARCH(\"Oil\",$A$15),0)>0,VLOOKUP(\"Oil\",HVACg_Lookup,MATCH($F$13,BuildingSize,0)+1,FALSE),IF(IFERROR(SEARCH(\"Propane\",$A$15),0)>0,VLOOKUP(\"Propane\",HVACg_Lookup,MATCH(Worksheet!$F$13,BuildingSize,0)+1,FALSE),0)))","v":0},0,0,"",""]
[null,null,"",null,null,null,null,null,null,null,null,null,null,null,null,0,0,0,0,"",0,0,0,0,0,0,0,0,0,0,0,0,0,0,0,{"$f":"W145/1000*Y145*AA145*IF(IFERROR(SEARCH(\"Gas\",$A$15),0)>0,VLOOKUP(\"Gas\",HVACg_Lookup,MATCH($F$13,BuildingSize,0)+1,FALSE),IF(IFERROR(SEARCH(\"Oil\",$A$15),0)>0,VLOOKUP(\"Oil\",HVACg_Lookup,MATCH($F$13,BuildingSize,0)+1,FALSE),IF(IFERROR(SEARCH(\"Propane\",$A$15),0)>0,VLOOKUP(\"Propane\",HVACg_Lookup,MATCH(Worksheet!$F$13,BuildingSize,0)+1,FALSE),0)))","v":0},{"$f":"X145/1000*Y145*AA145*IF(IFERROR(SEARCH(\"Gas\",$A$15),0)>0,VLOOKUP(\"Gas\",HVACg_Lookup,MATCH($F$13,BuildingSize,0)+1,FALSE),IF(IFERROR(SEARCH(\"Oil\",$A$15),0)>0,VLOOKUP(\"Oil\",HVACg_Lookup,MATCH($F$13,BuildingSize,0)+1,FALSE),IF(IFERROR(SEARCH(\"Propane\",$A$15),0)>0,VLOOKUP(\"Propane\",HVACg_Lookup,MATCH(Worksheet!$F$13,BuildingSize,0)+1,FALSE),0)))","v":0},0,0,"",""]
[null,null,"",null,null,null,null,null,null,null,null,null,null,null,null,0,0,0,0,"",0,0,0,0,0,0,0,0,0,0,0,0,0,0,0,{"$f":"W146/1000*Y146*AA146*IF(IFERROR(SEARCH(\"Gas\",$A$15),0)>0,VLOOKUP(\"Gas\",HVACg_Lookup,MATCH($F$13,BuildingSize,0)+1,FALSE),IF(IFERROR(SEARCH(\"Oil\",$A$15),0)>0,VLOOKUP(\"Oil\",HVACg_Lookup,MATCH($F$13,BuildingSize,0)+1,FALSE),IF(IFERROR(SEARCH(\"Propane\",$A$15),0)>0,VLOOKUP(\"Propane\",HVACg_Lookup,MATCH(Worksheet!$F$13,BuildingSize,0)+1,FALSE),0)))","v":0},{"$f":"X146/1000*Y146*AA146*IF(IFERROR(SEARCH(\"Gas\",$A$15),0)>0,VLOOKUP(\"Gas\",HVACg_Lookup,MATCH($F$13,BuildingSize,0)+1,FALSE),IF(IFERROR(SEARCH(\"Oil\",$A$15),0)>0,VLOOKUP(\"Oil\",HVACg_Lookup,MATCH($F$13,BuildingSize,0)+1,FALSE),IF(IFERROR(SEARCH(\"Propane\",$A$15),0)>0,VLOOKUP(\"Propane\",HVACg_Lookup,MATCH(Worksheet!$F$13,BuildingSize,0)+1,FALSE),0)))","v":0},0,0,"",""]
[null,null,"",null,null,null,null,null,null,null,null,null,null,null,null,0,0,0,0,"",0,0,0,0,0,0,0,0,0,0,0,0,0,0,0,{"$f":"W147/1000*Y147*AA147*IF(IFERROR(SEARCH(\"Gas\",$A$15),0)>0,VLOOKUP(\"Gas\",HVACg_Lookup,MATCH($F$13,BuildingSize,0)+1,FALSE),IF(IFERROR(SEARCH(\"Oil\",$A$15),0)>0,VLOOKUP(\"Oil\",HVACg_Lookup,MATCH($F$13,BuildingSize,0)+1,FALSE),IF(IFERROR(SEARCH(\"Propane\",$A$15),0)>0,VLOOKUP(\"Propane\",HVACg_Lookup,MATCH(Worksheet!$F$13,BuildingSize,0)+1,FALSE),0)))","v":0},{"$f":"X147/1000*Y147*AA147*IF(IFERROR(SEARCH(\"Gas\",$A$15),0)>0,VLOOKUP(\"Gas\",HVACg_Lookup,MATCH($F$13,BuildingSize,0)+1,FALSE),IF(IFERROR(SEARCH(\"Oil\",$A$15),0)>0,VLOOKUP(\"Oil\",HVACg_Lookup,MATCH($F$13,BuildingSize,0)+1,FALSE),IF(IFERROR(SEARCH(\"Propane\",$A$15),0)>0,VLOOKUP(\"Propane\",HVACg_Lookup,MATCH(Worksheet!$F$13,BuildingSize,0)+1,FALSE),0)))","v":0},0,0,"",""]
[null,null,"",null,null,null,null,null,null,null,null,null,null,null,null,0,0,0,0,"",0,0,0,0,0,0,0,0,0,0,0,0,0,0,0,{"$f":"W148/1000*Y148*AA148*IF(IFERROR(SEARCH(\"Gas\",$A$15),0)>0,VLOOKUP(\"Gas\",HVACg_Lookup,MATCH($F$13,BuildingSize,0)+1,FALSE),IF(IFERROR(SEARCH(\"Oil\",$A$15),0)>0,VLOOKUP(\"Oil\",HVACg_Lookup,MATCH($F$13,BuildingSize,0)+1,FALSE),IF(IFERROR(SEARCH(\"Propane\",$A$15),0)>0,VLOOKUP(\"Propane\",HVACg_Lookup,MATCH(Worksheet!$F$13,BuildingSize,0)+1,FALSE),0)))","v":0},{"$f":"X148/1000*Y148*AA148*IF(IFERROR(SEARCH(\"Gas\",$A$15),0)>0,VLOOKUP(\"Gas\",HVACg_Lookup,MATCH($F$13,BuildingSize,0)+1,FALSE),IF(IFERROR(SEARCH(\"Oil\",$A$15),0)>0,VLOOKUP(\"Oil\",HVACg_Lookup,MATCH($F$13,BuildingSize,0)+1,FALSE),IF(IFERROR(SEARCH(\"Propane\",$A$15),0)>0,VLOOKUP(\"Propane\",HVACg_Lookup,MATCH(Worksheet!$F$13,BuildingSize,0)+1,FALSE),0)))","v":0},0,0,"",""]
[null,null,"",null,null,null,null,null,null,null,null,null,null,null,null,0,0,{"$f":"IF(AN149=\"\",0,IF(AN149=1,VLOOKUP(A149,MeasureCode_Lookup,3,FALSE),\"DNQ\"))","v":0},{"$f":"IF(AO149=\"\",0,IF(AO149=1,VLOOKUP(A149,MeasureCode_Lookup,3,FALSE),\"DNQ\"))","v":0},{"$f":"IF(A149=\"\",\"\",VLOOKUP(A149,MeasureCode_Lookup,4,FALSE))","v":""},0,0,{"$f":"IF(N(R149)=0,0,F149*P149)","v":0},{"$f":"IF(N(S149)=0,0,G149*Q149)","v":0},{"$f":"IF(A149=\"\",0,VLOOKUP(A149,MeasureCode_Lookup,5,FALSE))","v":0},{"$f":"IF($A$13=\"\",0,VLOOKUP($A$13,BuildingType_Lookup,3,FALSE))","v":0},{"$f":"IF($A$13=\"\",0,VLOOKUP($A$13,BuildingType_Lookup,2,FALSE))","v":0},{"$f":"IF(AND(OR(AN149=\"\",AN149=0)=TRUE,OR(AO149=\"\",AO149=0))=TRUE,0,IF(AO149=\"\",(IF(OR(C149=\"DDC\",C149=\"OHLC\")=TRUE,O149,P149)/1000)*Y149*Z149*(1+VLOOKUP($A$13,BuildingType_Lookup,4,FALSE)),IF(AO149=0,0,(IF(OR(C149=\"DDC\",C149=\"OHLC\")=TRUE,O149,Q149)/1000)*Y149*Z149*(1+VLOOKUP($A$13,BuildingType_Lookup,4,FALSE)))))","v":0},{"$f":"IF(AND(OR(AN149=\"\",AN149=0)=TRUE,OR(AO149=\"\",AO149=0))=TRUE,0,IF(AO149=\"\",(IF(OR(C149=\"DDC\",C149=\"OHLC\")=TRUE,O149,P149)/1000)*Y149*AA149*(1+VLOOKUP($A$13,BuildingType_Lookup,MATCH($A$15,HVAC,0)+4,FALSE)),IF(AO149=0,0,(IF(OR(C149=\"DDC\",C149=\"OHLC\")=TRUE,O149,Q149)/1000)*Y149*AA149*(1+VLOOKUP($A$13,BuildingType_Lookup,MATCH($A$15,HVAC,0)+4,FALSE)))))","v":0},{"$f":"IFERROR(IF(OR(C149=\"DDC\",C149=\"OHLC\")=TRUE,F149*J149*AB149,F149*AB149),0)","v":0},{"$f":"IFERROR(IF(OR(C149=\"DDC\",C149=\"OHLC\")=TRUE,G149*K149*AB149,G149*AB149),0)","v":0},{"$f":"IFERROR(IF(OR(C149=\"DDC\",C149=\"OHLC\")=TRUE,F149*J149*AC149,F149*AC149),0)","v":0},{"$f":"IFERROR(IF(OR(C149=\"DDC\",C149=\"OHLC\")=TRUE,G149*K149*AC149,G149*AC149),0)","v":0},0,0,{"$f":"W149/1000*Y149*AA149*IF(IFERROR(SEARCH(\"Gas\",$A$15),0)>0,VLOOKUP(\"Gas\",HVACg_Lookup,MATCH($F$13,BuildingSize,0)+1,FALSE),IF(IFERROR(SEARCH(\"Oil\",$A$15),0)>0,VLOOKUP(\"Oil\",HVACg_Lookup,MATCH($F$13,BuildingSize,0)+1,FALSE),IF(IFERROR(SEARCH(\"Propane\",$A$15),0)>0,VLOOKUP(\"Propane\",HVACg_Lookup,MATCH(Worksheet!$F$13,BuildingSize,0)+1,FALSE),0)))","v":0},{"$f":"X149/1000*Y149*AA149*IF(IFERROR(SEARCH(\"Gas\",$A$15),0)>0,VLOOKUP(\"Gas\",HVACg_Lookup,MATCH($F$13,BuildingSize,0)+1,FALSE),IF(IFERROR(SEARCH(\"Oil\",$A$15),0)>0,VLOOKUP(\"Oil\",HVACg_Lookup,MATCH($F$13,BuildingSize,0)+1,FALSE),IF(IFERROR(SEARCH(\"Propane\",$A$15),0)>0,VLOOKUP(\"Propane\",HVACg_Lookup,MATCH(Worksheet!$F$13,BuildingSize,0)+1,FALSE),0)))","v":0},0,0,{"$f":"IF(OR($B$4=\"\",$B$5=\"\",$A$13=\"\",$F$13=\"\",$A$15=\"\",A149=\"\",F149=\"\",J149=\"\",O149=\"\",P149=\"\")=TRUE,\"\",IF(C149=\"OSW\",IF(J149>=2,1,0),IF(C149=\"OSR\",IF(AND(J149>=2,P149>60)=TRUE,1,0),IF(C149=\"OSRH\",IF(AND(J149>=1,P149>90)=TRUE,1,0),IF(C149=\"OHLC\",IF(AND(N149=\"Y\",P149>60)=TRUE,1,0),IF(C149=\"DDC\",IF(AND(J149>=4,N149=\"Y\",P149>120)=TRUE,1,0),0))))))","v":""},{"$f":"IF(OR($B$4=\"\",$B$5=\"\",$A$13=\"\",$F$13=\"\",$A$15=\"\",A149=\"\",F149=\"\",K149=\"\",O149=\"\",P149=\"\")=TRUE,\"\",IF(C149=\"OSW\",IF(K149>=2,1,0),IF(C149=\"OSR\",IF(AND(K149>=2,Q149>60)=TRUE,1,0),IF(C149=\"OSRH\",IF(AND(K149>=1,Q149>90)=TRUE,1,0),IF(C149=\"OHLC\",IF(AND(N149=\"Y\",Q149>60)=TRUE,1,0),IF(C149=\"DDC\",IF(AND(K149>=4,N149=\"Y\",Q149>120)=TRUE,1,0),0))))))","v":""}]
[null,null,{"$f":"IF(A150=\"\",\"\",VLOOKUP(A150,MeasureCode_Lookup,2,FALSE))","v":""},null,null,null,null,null,null,null,null,null,null,null,null,{"$f":"IF(OR(A150=\"\",F150=\"\",J150=\"\",O150=\"\")=TRUE,0,J150*O150)","v":0},{"$f":"IF(OR(A150=\"\",G150=\"\",K150=\"\",O150=\"\")=TRUE,0,K150*O150)","v":0},0,0,"",{"$f":"IF(N(R150)=0,0,F150*R150*IF(T150=\"per Fixture Controlled\",J150,1))","v":0},{"$f":"IF(N(S150)=0,0,G150*S150*IF(T150=\"per Fixture Controlled\",K150,1))","v":0},0,0,0,0,0,0,0,0,0,0,0,{"$f":"AF150*8","v":0},{"$f":"AG150*8","v":0},{"$f":"W150/1000*Y150*AA150*IF(IFERROR(SEARCH(\"Gas\",$A$15),0)>0,VLOOKUP(\"Gas\",HVACg_Lookup,MATCH($F$13,BuildingSize,0)+1,FALSE),IF(IFERROR(SEARCH(\"Oil\",$A$15),0)>0,VLOOKUP(\"Oil\",HVACg_Lookup,MATCH($F$13,BuildingSize,0)+1,FALSE),IF(IFERROR(SEARCH(\"Propane\",$A$15),0)>0,VLOOKUP(\"Propane\",HVACg_Lookup,MATCH(Worksheet!$F$13,BuildingSize,0)+1,FALSE),0)))","v":0},{"$f":"X150/1000*Y150*AA150*IF(IFERROR(SEARCH(\"Gas\",$A$15),0)>0,VLOOKUP(\"Gas\",HVACg_Lookup,MATCH($F$13,BuildingSize,0)+1,FALSE),IF(IFERROR(SEARCH(\"Oil\",$A$15),0)>0,VLOOKUP(\"Oil\",HVACg_Lookup,MATCH($F$13,BuildingSize,0)+1,FALSE),IF(IFERROR(SEARCH(\"Propane\",$A$15),0)>0,VLOOKUP(\"Propane\",HVACg_Lookup,MATCH(Worksheet!$F$13,BuildingSize,0)+1,FALSE),0)))","v":0},{"$f":"AJ150*8","v":0},{"$f":"AK150*8","v":0},"",""]
[null,null,"",null,null,null,null,null,null,null,null,null,null,null,null,0,0,0,0,"",0,0,0,0,0,0,0,0,0,0,0,0,0,0,0,{"$f":"W151/1000*Y151*AA151*IF(IFERROR(SEARCH(\"Gas\",$A$15),0)>0,VLOOKUP(\"Gas\",HVACg_Lookup,MATCH($F$13,BuildingSize,0)+1,FALSE),IF(IFERROR(SEARCH(\"Oil\",$A$15),0)>0,VLOOKUP(\"Oil\",HVACg_Lookup,MATCH($F$13,BuildingSize,0)+1,FALSE),IF(IFERROR(SEARCH(\"Propane\",$A$15),0)>0,VLOOKUP(\"Propane\",HVACg_Lookup,MATCH(Worksheet!$F$13,BuildingSize,0)+1,FALSE),0)))","v":0},{"$f":"X151/1000*Y151*AA151*IF(IFERROR(SEARCH(\"Gas\",$A$15),0)>0,VLOOKUP(\"Gas\",HVACg_Lookup,MATCH($F$13,BuildingSize,0)+1,FALSE),IF(IFERROR(SEARCH(\"Oil\",$A$15),0)>0,VLOOKUP(\"Oil\",HVACg_Lookup,MATCH($F$13,BuildingSize,0)+1,FALSE),IF(IFERROR(SEARCH(\"Propane\",$A$15),0)>0,VLOOKUP(\"Propane\",HVACg_Lookup,MATCH(Worksheet!$F$13,BuildingSize,0)+1,FALSE),0)))","v":0},0,0,"",""]
[null,null,"",null,null,null,null,null,null,null,null,null,null,null,null,0,0,0,0,"",0,0,0,0,0,0,0,0,0,0,0,0,0,0,0,{"$f":"W152/1000*Y152*AA152*IF(IFERROR(SEARCH(\"Gas\",$A$15),0)>0,VLOOKUP(\"Gas\",HVACg_Lookup,MATCH($F$13,BuildingSize,0)+1,FALSE),IF(IFERROR(SEARCH(\"Oil\",$A$15),0)>0,VLOOKUP(\"Oil\",HVACg_Lookup,MATCH($F$13,BuildingSize,0)+1,FALSE),IF(IFERROR(SEARCH(\"Propane\",$A$15),0)>0,VLOOKUP(\"Propane\",HVACg_Lookup,MATCH(Worksheet!$F$13,BuildingSize,0)+1,FALSE),0)))","v":0},{"$f":"X152/1000*Y152*AA152*IF(IFERROR(SEARCH(\"Gas\",$A$15),0)>0,VLOOKUP(\"Gas\",HVACg_Lookup,MATCH($F$13,BuildingSize,0)+1,FALSE),IF(IFERROR(SEARCH(\"Oil\",$A$15),0)>0,VLOOKUP(\"Oil\",HVACg_Lookup,MATCH($F$13,BuildingSize,0)+1,FALSE),IF(IFERROR(SEARCH(\"Propane\",$A$15),0)>0,VLOOKUP(\"Propane\",HVACg_Lookup,MATCH(Worksheet!$F$13,BuildingSize,0)+1,FALSE),0)))","v":0},0,0,"",""]
[null,null,"",null,null,null,null,null,null,null,null,null,null,null,null,0,0,0,0,"",0,0,0,0,0,0,0,0,0,0,0,0,0,0,0,{"$f":"W153/1000*Y153*AA153*IF(IFERROR(SEARCH(\"Gas\",$A$15),0)>0,VLOOKUP(\"Gas\",HVACg_Lookup,MATCH($F$13,BuildingSize,0)+1,FALSE),IF(IFERROR(SEARCH(\"Oil\",$A$15),0)>0,VLOOKUP(\"Oil\",HVACg_Lookup,MATCH($F$13,BuildingSize,0)+1,FALSE),IF(IFERROR(SEARCH(\"Propane\",$A$15),0)>0,VLOOKUP(\"Propane\",HVACg_Lookup,MATCH(Worksheet!$F$13,BuildingSize,0)+1,FALSE),0)))","v":0},{"$f":"X153/1000*Y153*AA153*IF(IFERROR(SEARCH(\"Gas\",$A$15),0)>0,VLOOKUP(\"Gas\",HVACg_Lookup,MATCH($F$13,BuildingSize,0)+1,FALSE),IF(IFERROR(SEARCH(\"Oil\",$A$15),0)>0,VLOOKUP(\"Oil\",HVACg_Lookup,MATCH($F$13,BuildingSize,0)+1,FALSE),IF(IFERROR(SEARCH(\"Propane\",$A$15),0)>0,VLOOKUP(\"Propane\",HVACg_Lookup,MATCH(Worksheet!$F$13,BuildingSize,0)+1,FALSE),0)))","v":0},0,0,"",""]
[null,null,"",null,null,null,null,null,null,null,null,null,null,null,null,0,0,0,0,"",0,0,0,0,0,0,0,0,0,0,0,0,0,0,0,{"$f":"W154/1000*Y154*AA154*IF(IFERROR(SEARCH(\"Gas\",$A$15),0)>0,VLOOKUP(\"Gas\",HVACg_Lookup,MATCH($F$13,BuildingSize,0)+1,FALSE),IF(IFERROR(SEARCH(\"Oil\",$A$15),0)>0,VLOOKUP(\"Oil\",HVACg_Lookup,MATCH($F$13,BuildingSize,0)+1,FALSE),IF(IFERROR(SEARCH(\"Propane\",$A$15),0)>0,VLOOKUP(\"Propane\",HVACg_Lookup,MATCH(Worksheet!$F$13,BuildingSize,0)+1,FALSE),0)))","v":0},{"$f":"X154/1000*Y154*AA154*IF(IFERROR(SEARCH(\"Gas\",$A$15),0)>0,VLOOKUP(\"Gas\",HVACg_Lookup,MATCH($F$13,BuildingSize,0)+1,FALSE),IF(IFERROR(SEARCH(\"Oil\",$A$15),0)>0,VLOOKUP(\"Oil\",HVACg_Lookup,MATCH($F$13,BuildingSize,0)+1,FALSE),IF(IFERROR(SEARCH(\"Propane\",$A$15),0)>0,VLOOKUP(\"Propane\",HVACg_Lookup,MATCH(Worksheet!$F$13,BuildingSize,0)+1,FALSE),0)))","v":0},0,0,"",""]
[null,null,"",null,null,null,null,null,null,null,null,null,null,null,null,0,0,0,0,"",0,0,0,0,0,0,0,0,0,0,0,0,0,0,0,{"$f":"W155/1000*Y155*AA155*IF(IFERROR(SEARCH(\"Gas\",$A$15),0)>0,VLOOKUP(\"Gas\",HVACg_Lookup,MATCH($F$13,BuildingSize,0)+1,FALSE),IF(IFERROR(SEARCH(\"Oil\",$A$15),0)>0,VLOOKUP(\"Oil\",HVACg_Lookup,MATCH($F$13,BuildingSize,0)+1,FALSE),IF(IFERROR(SEARCH(\"Propane\",$A$15),0)>0,VLOOKUP(\"Propane\",HVACg_Lookup,MATCH(Worksheet!$F$13,BuildingSize,0)+1,FALSE),0)))","v":0},{"$f":"X155/1000*Y155*AA155*IF(IFERROR(SEARCH(\"Gas\",$A$15),0)>0,VLOOKUP(\"Gas\",HVACg_Lookup,MATCH($F$13,BuildingSize,0)+1,FALSE),IF(IFERROR(SEARCH(\"Oil\",$A$15),0)>0,VLOOKUP(\"Oil\",HVACg_Lookup,MATCH($F$13,BuildingSize,0)+1,FALSE),IF(IFERROR(SEARCH(\"Propane\",$A$15),0)>0,VLOOKUP(\"Propane\",HVACg_Lookup,MATCH(Worksheet!$F$13,BuildingSize,0)+1,FALSE),0)))","v":0},0,0,"",""]
[null,null,"",null,null,null,null,null,null,null,null,null,null,null,null,0,0,0,0,"",0,0,0,0,0,0,0,0,0,0,0,0,0,0,0,{"$f":"W156/1000*Y156*AA156*IF(IFERROR(SEARCH(\"Gas\",$A$15),0)>0,VLOOKUP(\"Gas\",HVACg_Lookup,MATCH($F$13,BuildingSize,0)+1,FALSE),IF(IFERROR(SEARCH(\"Oil\",$A$15),0)>0,VLOOKUP(\"Oil\",HVACg_Lookup,MATCH($F$13,BuildingSize,0)+1,FALSE),IF(IFERROR(SEARCH(\"Propane\",$A$15),0)>0,VLOOKUP(\"Propane\",HVACg_Lookup,MATCH(Worksheet!$F$13,BuildingSize,0)+1,FALSE),0)))","v":0},{"$f":"X156/1000*Y156*AA156*IF(IFERROR(SEARCH(\"Gas\",$A$15),0)>0,VLOOKUP(\"Gas\",HVACg_Lookup,MATCH($F$13,BuildingSize,0)+1,FALSE),IF(IFERROR(SEARCH(\"Oil\",$A$15),0)>0,VLOOKUP(\"Oil\",HVACg_Lookup,MATCH($F$13,BuildingSize,0)+1,FALSE),IF(IFERROR(SEARCH(\"Propane\",$A$15),0)>0,VLOOKUP(\"Propane\",HVACg_Lookup,MATCH(Worksheet!$F$13,BuildingSize,0)+1,FALSE),0)))","v":0},0,0,"",""]
[null,null,"",null,null,null,null,null,null,null,null,null,null,null,null,0,0,0,0,"",0,0,0,0,0,0,0,0,0,0,0,0,0,0,0,{"$f":"W157/1000*Y157*AA157*IF(IFERROR(SEARCH(\"Gas\",$A$15),0)>0,VLOOKUP(\"Gas\",HVACg_Lookup,MATCH($F$13,BuildingSize,0)+1,FALSE),IF(IFERROR(SEARCH(\"Oil\",$A$15),0)>0,VLOOKUP(\"Oil\",HVACg_Lookup,MATCH($F$13,BuildingSize,0)+1,FALSE),IF(IFERROR(SEARCH(\"Propane\",$A$15),0)>0,VLOOKUP(\"Propane\",HVACg_Lookup,MATCH(Worksheet!$F$13,BuildingSize,0)+1,FALSE),0)))","v":0},{"$f":"X157/1000*Y157*AA157*IF(IFERROR(SEARCH(\"Gas\",$A$15),0)>0,VLOOKUP(\"Gas\",HVACg_Lookup,MATCH($F$13,BuildingSize,0)+1,FALSE),IF(IFERROR(SEARCH(\"Oil\",$A$15),0)>0,VLOOKUP(\"Oil\",HVACg_Lookup,MATCH($F$13,BuildingSize,0)+1,FALSE),IF(IFERROR(SEARCH(\"Propane\",$A$15),0)>0,VLOOKUP(\"Propane\",HVACg_Lookup,MATCH(Worksheet!$F$13,BuildingSize,0)+1,FALSE),0)))","v":0},0,0,"",""]
[null,null,"",null,null,null,null,null,null,null,null,null,null,null,null,0,0,0,0,"",0,0,0,0,0,0,0,0,0,0,0,0,0,0,0,{"$f":"W158/1000*Y158*AA158*IF(IFERROR(SEARCH(\"Gas\",$A$15),0)>0,VLOOKUP(\"Gas\",HVACg_Lookup,MATCH($F$13,BuildingSize,0)+1,FALSE),IF(IFERROR(SEARCH(\"Oil\",$A$15),0)>0,VLOOKUP(\"Oil\",HVACg_Lookup,MATCH($F$13,BuildingSize,0)+1,FALSE),IF(IFERROR(SEARCH(\"Propane\",$A$15),0)>0,VLOOKUP(\"Propane\",HVACg_Lookup,MATCH(Worksheet!$F$13,BuildingSize,0)+1,FALSE),0)))","v":0},{"$f":"X158/1000*Y158*AA158*IF(IFERROR(SEARCH(\"Gas\",$A$15),0)>0,VLOOKUP(\"Gas\",HVACg_Lookup,MATCH($F$13,BuildingSize,0)+1,FALSE),IF(IFERROR(SEARCH(\"Oil\",$A$15),0)>0,VLOOKUP(\"Oil\",HVACg_Lookup,MATCH($F$13,BuildingSize,0)+1,FALSE),IF(IFERROR(SEARCH(\"Propane\",$A$15),0)>0,VLOOKUP(\"Propane\",HVACg_Lookup,MATCH(Worksheet!$F$13,BuildingSize,0)+1,FALSE),0)))","v":0},0,0,"",""]
[null,null,"",null,null,null,null,null,null,null,null,null,null,null,null,0,0,0,0,"",0,0,0,0,0,0,0,0,0,0,0,0,0,0,0,{"$f":"W159/1000*Y159*AA159*IF(IFERROR(SEARCH(\"Gas\",$A$15),0)>0,VLOOKUP(\"Gas\",HVACg_Lookup,MATCH($F$13,BuildingSize,0)+1,FALSE),IF(IFERROR(SEARCH(\"Oil\",$A$15),0)>0,VLOOKUP(\"Oil\",HVACg_Lookup,MATCH($F$13,BuildingSize,0)+1,FALSE),IF(IFERROR(SEARCH(\"Propane\",$A$15),0)>0,VLOOKUP(\"Propane\",HVACg_Lookup,MATCH(Worksheet!$F$13,BuildingSize,0)+1,FALSE),0)))","v":0},{"$f":"X159/1000*Y159*AA159*IF(IFERROR(SEARCH(\"Gas\",$A$15),0)>0,VLOOKUP(\"Gas\",HVACg_Lookup,MATCH($F$13,BuildingSize,0)+1,FALSE),IF(IFERROR(SEARCH(\"Oil\",$A$15),0)>0,VLOOKUP(\"Oil\",HVACg_Lookup,MATCH($F$13,BuildingSize,0)+1,FALSE),IF(IFERROR(SEARCH(\"Propane\",$A$15),0)>0,VLOOKUP(\"Propane\",HVACg_Lookup,MATCH(Worksheet!$F$13,BuildingSize,0)+1,FALSE),0)))","v":0},0,0,"",""]
[null,null,"",null,null,null,null,null,null,null,null,null,null,null,null,0,0,0,0,"",0,0,0,0,0,0,0,0,0,0,0,0,0,0,0,{"$f":"W160/1000*Y160*AA160*IF(IFERROR(SEARCH(\"Gas\",$A$15),0)>0,VLOOKUP(\"Gas\",HVACg_Lookup,MATCH($F$13,BuildingSize,0)+1,FALSE),IF(IFERROR(SEARCH(\"Oil\",$A$15),0)>0,VLOOKUP(\"Oil\",HVACg_Lookup,MATCH($F$13,BuildingSize,0)+1,FALSE),IF(IFERROR(SEARCH(\"Propane\",$A$15),0)>0,VLOOKUP(\"Propane\",HVACg_Lookup,MATCH(Worksheet!$F$13,BuildingSize,0)+1,FALSE),0)))","v":0},{"$f":"X160/1000*Y160*AA160*IF(IFERROR(SEARCH(\"Gas\",$A$15),0)>0,VLOOKUP(\"Gas\",HVACg_Lookup,MATCH($F$13,BuildingSize,0)+1,FALSE),IF(IFERROR(SEARCH(\"Oil\",$A$15),0)>0,VLOOKUP(\"Oil\",HVACg_Lookup,MATCH($F$13,BuildingSize,0)+1,FALSE),IF(IFERROR(SEARCH(\"Propane\",$A$15),0)>0,VLOOKUP(\"Propane\",HVACg_Lookup,MATCH(Worksheet!$F$13,BuildingSize,0)+1,FALSE),0)))","v":0},0,0,"",""]
[null,null,"",null,null,null,null,null,null,null,null,null,null,null,null,0,0,0,0,"",0,0,0,0,0,0,0,0,0,0,0,0,0,0,0,{"$f":"W161/1000*Y161*AA161*IF(IFERROR(SEARCH(\"Gas\",$A$15),0)>0,VLOOKUP(\"Gas\",HVACg_Lookup,MATCH($F$13,BuildingSize,0)+1,FALSE),IF(IFERROR(SEARCH(\"Oil\",$A$15),0)>0,VLOOKUP(\"Oil\",HVACg_Lookup,MATCH($F$13,BuildingSize,0)+1,FALSE),IF(IFERROR(SEARCH(\"Propane\",$A$15),0)>0,VLOOKUP(\"Propane\",HVACg_Lookup,MATCH(Worksheet!$F$13,BuildingSize,0)+1,FALSE),0)))","v":0},{"$f":"X161/1000*Y161*AA161*IF(IFERROR(SEARCH(\"Gas\",$A$15),0)>0,VLOOKUP(\"Gas\",HVACg_Lookup,MATCH($F$13,BuildingSize,0)+1,FALSE),IF(IFERROR(SEARCH(\"Oil\",$A$15),0)>0,VLOOKUP(\"Oil\",HVACg_Lookup,MATCH($F$13,BuildingSize,0)+1,FALSE),IF(IFERROR(SEARCH(\"Propane\",$A$15),0)>0,VLOOKUP(\"Propane\",HVACg_Lookup,MATCH(Worksheet!$F$13,BuildingSize,0)+1,FALSE),0)))","v":0},0,0,"",""]
[null,null,"",null,null,null,null,null,null,null,null,null,null,null,null,0,0,0,0,"",0,0,0,0,0,0,0,0,0,0,0,0,0,0,0,{"$f":"W162/1000*Y162*AA162*IF(IFERROR(SEARCH(\"Gas\",$A$15),0)>0,VLOOKUP(\"Gas\",HVACg_Lookup,MATCH($F$13,BuildingSize,0)+1,FALSE),IF(IFERROR(SEARCH(\"Oil\",$A$15),0)>0,VLOOKUP(\"Oil\",HVACg_Lookup,MATCH($F$13,BuildingSize,0)+1,FALSE),IF(IFERROR(SEARCH(\"Propane\",$A$15),0)>0,VLOOKUP(\"Propane\",HVACg_Lookup,MATCH(Worksheet!$F$13,BuildingSize,0)+1,FALSE),0)))","v":0},{"$f":"X162/1000*Y162*AA162*IF(IFERROR(SEARCH(\"Gas\",$A$15),0)>0,VLOOKUP(\"Gas\",HVACg_Lookup,MATCH($F$13,BuildingSize,0)+1,FALSE),IF(IFERROR(SEARCH(\"Oil\",$A$15),0)>0,VLOOKUP(\"Oil\",HVACg_Lookup,MATCH($F$13,BuildingSize,0)+1,FALSE),IF(IFERROR(SEARCH(\"Propane\",$A$15),0)>0,VLOOKUP(\"Propane\",HVACg_Lookup,MATCH(Worksheet!$F$13,BuildingSize,0)+1,FALSE),0)))","v":0},0,0,"",""]
[null,null,"",null,null,null,null,null,null,null,null,null,null,null,null,0,0,0,0,"",0,0,0,0,0,0,0,0,0,0,0,0,0,0,0,{"$f":"W163/1000*Y163*AA163*IF(IFERROR(SEARCH(\"Gas\",$A$15),0)>0,VLOOKUP(\"Gas\",HVACg_Lookup,MATCH($F$13,BuildingSize,0)+1,FALSE),IF(IFERROR(SEARCH(\"Oil\",$A$15),0)>0,VLOOKUP(\"Oil\",HVACg_Lookup,MATCH($F$13,BuildingSize,0)+1,FALSE),IF(IFERROR(SEARCH(\"Propane\",$A$15),0)>0,VLOOKUP(\"Propane\",HVACg_Lookup,MATCH(Worksheet!$F$13,BuildingSize,0)+1,FALSE),0)))","v":0},{"$f":"X163/1000*Y163*AA163*IF(IFERROR(SEARCH(\"Gas\",$A$15),0)>0,VLOOKUP(\"Gas\",HVACg_Lookup,MATCH($F$13,BuildingSize,0)+1,FALSE),IF(IFERROR(SEARCH(\"Oil\",$A$15),0)>0,VLOOKUP(\"Oil\",HVACg_Lookup,MATCH($F$13,BuildingSize,0)+1,FALSE),IF(IFERROR(SEARCH(\"Propane\",$A$15),0)>0,VLOOKUP(\"Propane\",HVACg_Lookup,MATCH(Worksheet!$F$13,BuildingSize,0)+1,FALSE),0)))","v":0},0,0,"",""]
[null,null,"",null,null,null,null,null,null,null,null,null,null,null,null,0,0,0,0,"",0,0,0,0,0,0,0,0,0,0,0,0,0,0,0,{"$f":"W164/1000*Y164*AA164*IF(IFERROR(SEARCH(\"Gas\",$A$15),0)>0,VLOOKUP(\"Gas\",HVACg_Lookup,MATCH($F$13,BuildingSize,0)+1,FALSE),IF(IFERROR(SEARCH(\"Oil\",$A$15),0)>0,VLOOKUP(\"Oil\",HVACg_Lookup,MATCH($F$13,BuildingSize,0)+1,FALSE),IF(IFERROR(SEARCH(\"Propane\",$A$15),0)>0,VLOOKUP(\"Propane\",HVACg_Lookup,MATCH(Worksheet!$F$13,BuildingSize,0)+1,FALSE),0)))","v":0},{"$f":"X164/1000*Y164*AA164*IF(IFERROR(SEARCH(\"Gas\",$A$15),0)>0,VLOOKUP(\"Gas\",HVACg_Lookup,MATCH($F$13,BuildingSize,0)+1,FALSE),IF(IFERROR(SEARCH(\"Oil\",$A$15),0)>0,VLOOKUP(\"Oil\",HVACg_Lookup,MATCH($F$13,BuildingSize,0)+1,FALSE),IF(IFERROR(SEARCH(\"Propane\",$A$15),0)>0,VLOOKUP(\"Propane\",HVACg_Lookup,MATCH(Worksheet!$F$13,BuildingSize,0)+1,FALSE),0)))","v":0},0,0,"",""]
[null,null,"",null,null,null,null,null,null,null,null,null,null,null,null,0,0,0,0,"",0,0,0,0,0,0,0,0,0,0,0,0,0,0,0,{"$f":"W165/1000*Y165*AA165*IF(IFERROR(SEARCH(\"Gas\",$A$15),0)>0,VLOOKUP(\"Gas\",HVACg_Lookup,MATCH($F$13,BuildingSize,0)+1,FALSE),IF(IFERROR(SEARCH(\"Oil\",$A$15),0)>0,VLOOKUP(\"Oil\",HVACg_Lookup,MATCH($F$13,BuildingSize,0)+1,FALSE),IF(IFERROR(SEARCH(\"Propane\",$A$15),0)>0,VLOOKUP(\"Propane\",HVACg_Lookup,MATCH(Worksheet!$F$13,BuildingSize,0)+1,FALSE),0)))","v":0},{"$f":"X165/1000*Y165*AA165*IF(IFERROR(SEARCH(\"Gas\",$A$15),0)>0,VLOOKUP(\"Gas\",HVACg_Lookup,MATCH($F$13,BuildingSize,0)+1,FALSE),IF(IFERROR(SEARCH(\"Oil\",$A$15),0)>0,VLOOKUP(\"Oil\",HVACg_Lookup,MATCH($F$13,BuildingSize,0)+1,FALSE),IF(IFERROR(SEARCH(\"Propane\",$A$15),0)>0,VLOOKUP(\"Propane\",HVACg_Lookup,MATCH(Worksheet!$F$13,BuildingSize,0)+1,FALSE),0)))","v":0},0,0,"",""]
[null,null,"",null,null,null,null,null,null,null,null,null,null,null,null,0,0,0,0,"",0,0,0,0,0,0,0,0,0,0,0,0,0,0,0,{"$f":"W166/1000*Y166*AA166*IF(IFERROR(SEARCH(\"Gas\",$A$15),0)>0,VLOOKUP(\"Gas\",HVACg_Lookup,MATCH($F$13,BuildingSize,0)+1,FALSE),IF(IFERROR(SEARCH(\"Oil\",$A$15),0)>0,VLOOKUP(\"Oil\",HVACg_Lookup,MATCH($F$13,BuildingSize,0)+1,FALSE),IF(IFERROR(SEARCH(\"Propane\",$A$15),0)>0,VLOOKUP(\"Propane\",HVACg_Lookup,MATCH(Worksheet!$F$13,BuildingSize,0)+1,FALSE),0)))","v":0},{"$f":"X166/1000*Y166*AA166*IF(IFERROR(SEARCH(\"Gas\",$A$15),0)>0,VLOOKUP(\"Gas\",HVACg_Lookup,MATCH($F$13,BuildingSize,0)+1,FALSE),IF(IFERROR(SEARCH(\"Oil\",$A$15),0)>0,VLOOKUP(\"Oil\",HVACg_Lookup,MATCH($F$13,BuildingSize,0)+1,FALSE),IF(IFERROR(SEARCH(\"Propane\",$A$15),0)>0,VLOOKUP(\"Propane\",HVACg_Lookup,MATCH(Worksheet!$F$13,BuildingSize,0)+1,FALSE),0)))","v":0},0,0,"",""]
[null,null,"",null,null,null,null,null,null,null,null,null,null,null,null,0,0,0,0,"",0,0,0,0,0,0,0,0,0,0,0,0,0,0,0,{"$f":"W167/1000*Y167*AA167*IF(IFERROR(SEARCH(\"Gas\",$A$15),0)>0,VLOOKUP(\"Gas\",HVACg_Lookup,MATCH($F$13,BuildingSize,0)+1,FALSE),IF(IFERROR(SEARCH(\"Oil\",$A$15),0)>0,VLOOKUP(\"Oil\",HVACg_Lookup,MATCH($F$13,BuildingSize,0)+1,FALSE),IF(IFERROR(SEARCH(\"Propane\",$A$15),0)>0,VLOOKUP(\"Propane\",HVACg_Lookup,MATCH(Worksheet!$F$13,BuildingSize,0)+1,FALSE),0)))","v":0},{"$f":"X167/1000*Y167*AA167*IF(IFERROR(SEARCH(\"Gas\",$A$15),0)>0,VLOOKUP(\"Gas\",HVACg_Lookup,MATCH($F$13,BuildingSize,0)+1,FALSE),IF(IFERROR(SEARCH(\"Oil\",$A$15),0)>0,VLOOKUP(\"Oil\",HVACg_Lookup,MATCH($F$13,BuildingSize,0)+1,FALSE),IF(IFERROR(SEARCH(\"Propane\",$A$15),0)>0,VLOOKUP(\"Propane\",HVACg_Lookup,MATCH(Worksheet!$F$13,BuildingSize,0)+1,FALSE),0)))","v":0},0,0,"",""]
[null,null,"",null,null,null,null,null,null,null,null,null,null,null,null,0,0,0,0,"",0,0,0,0,0,0,0,0,0,0,0,0,0,0,0,{"$f":"W168/1000*Y168*AA168*IF(IFERROR(SEARCH(\"Gas\",$A$15),0)>0,VLOOKUP(\"Gas\",HVACg_Lookup,MATCH($F$13,BuildingSize,0)+1,FALSE),IF(IFERROR(SEARCH(\"Oil\",$A$15),0)>0,VLOOKUP(\"Oil\",HVACg_Lookup,MATCH($F$13,BuildingSize,0)+1,FALSE),IF(IFERROR(SEARCH(\"Propane\",$A$15),0)>0,VLOOKUP(\"Propane\",HVACg_Lookup,MATCH(Worksheet!$F$13,BuildingSize,0)+1,FALSE),0)))","v":0},{"$f":"X168/1000*Y168*AA168*IF(IFERROR(SEARCH(\"Gas\",$A$15),0)>0,VLOOKUP(\"Gas\",HVACg_Lookup,MATCH($F$13,BuildingSize,0)+1,FALSE),IF(IFERROR(SEARCH(\"Oil\",$A$15),0)>0,VLOOKUP(\"Oil\",HVACg_Lookup,MATCH($F$13,BuildingSize,0)+1,FALSE),IF(IFERROR(SEARCH(\"Propane\",$A$15),0)>0,VLOOKUP(\"Propane\",HVACg_Lookup,MATCH(Worksheet!$F$13,BuildingSize,0)+1,FALSE),0)))","v":0},0,0,"",""]
[null,null,"",null,null,null,null,null,null,null,null,null,null,null,null,0,0,0,0,"",0,0,0,0,0,0,0,0,0,0,0,0,0,0,0,{"$f":"W169/1000*Y169*AA169*IF(IFERROR(SEARCH(\"Gas\",$A$15),0)>0,VLOOKUP(\"Gas\",HVACg_Lookup,MATCH($F$13,BuildingSize,0)+1,FALSE),IF(IFERROR(SEARCH(\"Oil\",$A$15),0)>0,VLOOKUP(\"Oil\",HVACg_Lookup,MATCH($F$13,BuildingSize,0)+1,FALSE),IF(IFERROR(SEARCH(\"Propane\",$A$15),0)>0,VLOOKUP(\"Propane\",HVACg_Lookup,MATCH(Worksheet!$F$13,BuildingSize,0)+1,FALSE),0)))","v":0},{"$f":"X169/1000*Y169*AA169*IF(IFERROR(SEARCH(\"Gas\",$A$15),0)>0,VLOOKUP(\"Gas\",HVACg_Lookup,MATCH($F$13,BuildingSize,0)+1,FALSE),IF(IFERROR(SEARCH(\"Oil\",$A$15),0)>0,VLOOKUP(\"Oil\",HVACg_Lookup,MATCH($F$13,BuildingSize,0)+1,FALSE),IF(IFERROR(SEARCH(\"Propane\",$A$15),0)>0,VLOOKUP(\"Propane\",HVACg_Lookup,MATCH(Worksheet!$F$13,BuildingSize,0)+1,FALSE),0)))","v":0},0,0,"",""]
[null,null,"",null,null,null,null,null,null,null,null,null,null,null,null,0,0,0,0,"",0,0,0,0,0,0,0,0,0,0,0,0,0,0,0,{"$f":"W170/1000*Y170*AA170*IF(IFERROR(SEARCH(\"Gas\",$A$15),0)>0,VLOOKUP(\"Gas\",HVACg_Lookup,MATCH($F$13,BuildingSize,0)+1,FALSE),IF(IFERROR(SEARCH(\"Oil\",$A$15),0)>0,VLOOKUP(\"Oil\",HVACg_Lookup,MATCH($F$13,BuildingSize,0)+1,FALSE),IF(IFERROR(SEARCH(\"Propane\",$A$15),0)>0,VLOOKUP(\"Propane\",HVACg_Lookup,MATCH(Worksheet!$F$13,BuildingSize,0)+1,FALSE),0)))","v":0},{"$f":"X170/1000*Y170*AA170*IF(IFERROR(SEARCH(\"Gas\",$A$15),0)>0,VLOOKUP(\"Gas\",HVACg_Lookup,MATCH($F$13,BuildingSize,0)+1,FALSE),IF(IFERROR(SEARCH(\"Oil\",$A$15),0)>0,VLOOKUP(\"Oil\",HVACg_Lookup,MATCH($F$13,BuildingSize,0)+1,FALSE),IF(IFERROR(SEARCH(\"Propane\",$A$15),0)>0,VLOOKUP(\"Propane\",HVACg_Lookup,MATCH(Worksheet!$F$13,BuildingSize,0)+1,FALSE),0)))","v":0},0,0,"",""]
[null,null,"",null,null,null,null,null,null,null,null,null,null,null,null,0,0,0,0,"",0,0,0,0,0,0,0,0,0,0,0,0,0,0,0,{"$f":"W171/1000*Y171*AA171*IF(IFERROR(SEARCH(\"Gas\",$A$15),0)>0,VLOOKUP(\"Gas\",HVACg_Lookup,MATCH($F$13,BuildingSize,0)+1,FALSE),IF(IFERROR(SEARCH(\"Oil\",$A$15),0)>0,VLOOKUP(\"Oil\",HVACg_Lookup,MATCH($F$13,BuildingSize,0)+1,FALSE),IF(IFERROR(SEARCH(\"Propane\",$A$15),0)>0,VLOOKUP(\"Propane\",HVACg_Lookup,MATCH(Worksheet!$F$13,BuildingSize,0)+1,FALSE),0)))","v":0},{"$f":"X171/1000*Y171*AA171*IF(IFERROR(SEARCH(\"Gas\",$A$15),0)>0,VLOOKUP(\"Gas\",HVACg_Lookup,MATCH($F$13,BuildingSize,0)+1,FALSE),IF(IFERROR(SEARCH(\"Oil\",$A$15),0)>0,VLOOKUP(\"Oil\",HVACg_Lookup,MATCH($F$13,BuildingSize,0)+1,FALSE),IF(IFERROR(SEARCH(\"Propane\",$A$15),0)>0,VLOOKUP(\"Propane\",HVACg_Lookup,MATCH(Worksheet!$F$13,BuildingSize,0)+1,FALSE),0)))","v":0},0,0,"",""]
[null,null,"",null,null,null,null,null,null,null,null,null,null,null,null,0,0,0,0,"",0,0,0,0,0,0,0,0,0,0,0,0,0,0,0,{"$f":"W172/1000*Y172*AA172*IF(IFERROR(SEARCH(\"Gas\",$A$15),0)>0,VLOOKUP(\"Gas\",HVACg_Lookup,MATCH($F$13,BuildingSize,0)+1,FALSE),IF(IFERROR(SEARCH(\"Oil\",$A$15),0)>0,VLOOKUP(\"Oil\",HVACg_Lookup,MATCH($F$13,BuildingSize,0)+1,FALSE),IF(IFERROR(SEARCH(\"Propane\",$A$15),0)>0,VLOOKUP(\"Propane\",HVACg_Lookup,MATCH(Worksheet!$F$13,BuildingSize,0)+1,FALSE),0)))","v":0},{"$f":"X172/1000*Y172*AA172*IF(IFERROR(SEARCH(\"Gas\",$A$15),0)>0,VLOOKUP(\"Gas\",HVACg_Lookup,MATCH($F$13,BuildingSize,0)+1,FALSE),IF(IFERROR(SEARCH(\"Oil\",$A$15),0)>0,VLOOKUP(\"Oil\",HVACg_Lookup,MATCH($F$13,BuildingSize,0)+1,FALSE),IF(IFERROR(SEARCH(\"Propane\",$A$15),0)>0,VLOOKUP(\"Propane\",HVACg_Lookup,MATCH(Worksheet!$F$13,BuildingSize,0)+1,FALSE),0)))","v":0},0,0,"",""]
[null,null,"",null,null,null,null,null,null,null,null,null,null,null,null,0,0,0,0,"",0,0,0,0,0,0,0,0,0,0,0,0,0,0,0,{"$f":"W173/1000*Y173*AA173*IF(IFERROR(SEARCH(\"Gas\",$A$15),0)>0,VLOOKUP(\"Gas\",HVACg_Lookup,MATCH($F$13,BuildingSize,0)+1,FALSE),IF(IFERROR(SEARCH(\"Oil\",$A$15),0)>0,VLOOKUP(\"Oil\",HVACg_Lookup,MATCH($F$13,BuildingSize,0)+1,FALSE),IF(IFERROR(SEARCH(\"Propane\",$A$15),0)>0,VLOOKUP(\"Propane\",HVACg_Lookup,MATCH(Worksheet!$F$13,BuildingSize,0)+1,FALSE),0)))","v":0},{"$f":"X173/1000*Y173*AA173*IF(IFERROR(SEARCH(\"Gas\",$A$15),0)>0,VLOOKUP(\"Gas\",HVACg_Lookup,MATCH($F$13,BuildingSize,0)+1,FALSE),IF(IFERROR(SEARCH(\"Oil\",$A$15),0)>0,VLOOKUP(\"Oil\",HVACg_Lookup,MATCH($F$13,BuildingSize,0)+1,FALSE),IF(IFERROR(SEARCH(\"Propane\",$A$15),0)>0,VLOOKUP(\"Propane\",HVACg_Lookup,MATCH(Worksheet!$F$13,BuildingSize,0)+1,FALSE),0)))","v":0},0,0,"",""]
[null,null,"",null,null,null,null,null,null,null,null,null,null,null,null,0,0,0,0,"",0,0,0,0,0,0,0,0,0,0,0,0,0,0,0,{"$f":"W174/1000*Y174*AA174*IF(IFERROR(SEARCH(\"Gas\",$A$15),0)>0,VLOOKUP(\"Gas\",HVACg_Lookup,MATCH($F$13,BuildingSize,0)+1,FALSE),IF(IFERROR(SEARCH(\"Oil\",$A$15),0)>0,VLOOKUP(\"Oil\",HVACg_Lookup,MATCH($F$13,BuildingSize,0)+1,FALSE),IF(IFERROR(SEARCH(\"Propane\",$A$15),0)>0,VLOOKUP(\"Propane\",HVACg_Lookup,MATCH(Worksheet!$F$13,BuildingSize,0)+1,FALSE),0)))","v":0},{"$f":"X174/1000*Y174*AA174*IF(IFERROR(SEARCH(\"Gas\",$A$15),0)>0,VLOOKUP(\"Gas\",HVACg_Lookup,MATCH($F$13,BuildingSize,0)+1,FALSE),IF(IFERROR(SEARCH(\"Oil\",$A$15),0)>0,VLOOKUP(\"Oil\",HVACg_Lookup,MATCH($F$13,BuildingSize,0)+1,FALSE),IF(IFERROR(SEARCH(\"Propane\",$A$15),0)>0,VLOOKUP(\"Propane\",HVACg_Lookup,MATCH(Worksheet!$F$13,BuildingSize,0)+1,FALSE),0)))","v":0},0,0,"",""]
[null,null,"",null,null,null,null,null,null,null,null,null,null,null,null,0,0,0,0,"",0,0,0,0,0,0,0,0,0,0,0,0,0,0,0,{"$f":"W175/1000*Y175*AA175*IF(IFERROR(SEARCH(\"Gas\",$A$15),0)>0,VLOOKUP(\"Gas\",HVACg_Lookup,MATCH($F$13,BuildingSize,0)+1,FALSE),IF(IFERROR(SEARCH(\"Oil\",$A$15),0)>0,VLOOKUP(\"Oil\",HVACg_Lookup,MATCH($F$13,BuildingSize,0)+1,FALSE),IF(IFERROR(SEARCH(\"Propane\",$A$15),0)>0,VLOOKUP(\"Propane\",HVACg_Lookup,MATCH(Worksheet!$F$13,BuildingSize,0)+1,FALSE),0)))","v":0},{"$f":"X175/1000*Y175*AA175*IF(IFERROR(SEARCH(\"Gas\",$A$15),0)>0,VLOOKUP(\"Gas\",HVACg_Lookup,MATCH($F$13,BuildingSize,0)+1,FALSE),IF(IFERROR(SEARCH(\"Oil\",$A$15),0)>0,VLOOKUP(\"Oil\",HVACg_Lookup,MATCH($F$13,BuildingSize,0)+1,FALSE),IF(IFERROR(SEARCH(\"Propane\",$A$15),0)>0,VLOOKUP(\"Propane\",HVACg_Lookup,MATCH(Worksheet!$F$13,BuildingSize,0)+1,FALSE),0)))","v":0},0,0,"",""]
[null,null,"",null,null,null,null,null,null,null,null,null,null,null,null,0,0,0,0,"",0,0,0,0,0,0,0,0,0,0,0,0,0,0,0,{"$f":"W176/1000*Y176*AA176*IF(IFERROR(SEARCH(\"Gas\",$A$15),0)>0,VLOOKUP(\"Gas\",HVACg_Lookup,MATCH($F$13,BuildingSize,0)+1,FALSE),IF(IFERROR(SEARCH(\"Oil\",$A$15),0)>0,VLOOKUP(\"Oil\",HVACg_Lookup,MATCH($F$13,BuildingSize,0)+1,FALSE),IF(IFERROR(SEARCH(\"Propane\",$A$15),0)>0,VLOOKUP(\"Propane\",HVACg_Lookup,MATCH(Worksheet!$F$13,BuildingSize,0)+1,FALSE),0)))","v":0},{"$f":"X176/1000*Y176*AA176*IF(IFERROR(SEARCH(\"Gas\",$A$15),0)>0,VLOOKUP(\"Gas\",HVACg_Lookup,MATCH($F$13,BuildingSize,0)+1,FALSE),IF(IFERROR(SEARCH(\"Oil\",$A$15),0)>0,VLOOKUP(\"Oil\",HVACg_Lookup,MATCH($F$13,BuildingSize,0)+1,FALSE),IF(IFERROR(SEARCH(\"Propane\",$A$15),0)>0,VLOOKUP(\"Propane\",HVACg_Lookup,MATCH(Worksheet!$F$13,BuildingSize,0)+1,FALSE),0)))","v":0},0,0,"",""]
[null,null,"",null,null,null,null,null,null,null,null,null,null,null,null,0,0,0,0,"",0,0,0,0,0,0,0,0,0,0,0,0,0,0,0,{"$f":"W177/1000*Y177*AA177*IF(IFERROR(SEARCH(\"Gas\",$A$15),0)>0,VLOOKUP(\"Gas\",HVACg_Lookup,MATCH($F$13,BuildingSize,0)+1,FALSE),IF(IFERROR(SEARCH(\"Oil\",$A$15),0)>0,VLOOKUP(\"Oil\",HVACg_Lookup,MATCH($F$13,BuildingSize,0)+1,FALSE),IF(IFERROR(SEARCH(\"Propane\",$A$15),0)>0,VLOOKUP(\"Propane\",HVACg_Lookup,MATCH(Worksheet!$F$13,BuildingSize,0)+1,FALSE),0)))","v":0},{"$f":"X177/1000*Y177*AA177*IF(IFERROR(SEARCH(\"Gas\",$A$15),0)>0,VLOOKUP(\"Gas\",HVACg_Lookup,MATCH($F$13,BuildingSize,0)+1,FALSE),IF(IFERROR(SEARCH(\"Oil\",$A$15),0)>0,VLOOKUP(\"Oil\",HVACg_Lookup,MATCH($F$13,BuildingSize,0)+1,FALSE),IF(IFERROR(SEARCH(\"Propane\",$A$15),0)>0,VLOOKUP(\"Propane\",HVACg_Lookup,MATCH(Worksheet!$F$13,BuildingSize,0)+1,FALSE),0)))","v":0},0,0,"",""]
[null,null,"",null,null,null,null,null,null,null,null,null,null,null,null,0,0,0,0,"",0,0,0,0,0,0,0,0,0,0,0,0,0,0,0,{"$f":"W178/1000*Y178*AA178*IF(IFERROR(SEARCH(\"Gas\",$A$15),0)>0,VLOOKUP(\"Gas\",HVACg_Lookup,MATCH($F$13,BuildingSize,0)+1,FALSE),IF(IFERROR(SEARCH(\"Oil\",$A$15),0)>0,VLOOKUP(\"Oil\",HVACg_Lookup,MATCH($F$13,BuildingSize,0)+1,FALSE),IF(IFERROR(SEARCH(\"Propane\",$A$15),0)>0,VLOOKUP(\"Propane\",HVACg_Lookup,MATCH(Worksheet!$F$13,BuildingSize,0)+1,FALSE),0)))","v":0},{"$f":"X178/1000*Y178*AA178*IF(IFERROR(SEARCH(\"Gas\",$A$15),0)>0,VLOOKUP(\"Gas\",HVACg_Lookup,MATCH($F$13,BuildingSize,0)+1,FALSE),IF(IFERROR(SEARCH(\"Oil\",$A$15),0)>0,VLOOKUP(\"Oil\",HVACg_Lookup,MATCH($F$13,BuildingSize,0)+1,FALSE),IF(IFERROR(SEARCH(\"Propane\",$A$15),0)>0,VLOOKUP(\"Propane\",HVACg_Lookup,MATCH(Worksheet!$F$13,BuildingSize,0)+1,FALSE),0)))","v":0},0,0,"",""]
[null,null,"",null,null,null,null,null,null,null,null,null,null,null,null,0,0,0,0,"",0,0,0,0,0,0,0,0,0,0,0,0,0,0,0,{"$f":"W179/1000*Y179*AA179*IF(IFERROR(SEARCH(\"Gas\",$A$15),0)>0,VLOOKUP(\"Gas\",HVACg_Lookup,MATCH($F$13,BuildingSize,0)+1,FALSE),IF(IFERROR(SEARCH(\"Oil\",$A$15),0)>0,VLOOKUP(\"Oil\",HVACg_Lookup,MATCH($F$13,BuildingSize,0)+1,FALSE),IF(IFERROR(SEARCH(\"Propane\",$A$15),0)>0,VLOOKUP(\"Propane\",HVACg_Lookup,MATCH(Worksheet!$F$13,BuildingSize,0)+1,FALSE),0)))","v":0},{"$f":"X179/1000*Y179*AA179*IF(IFERROR(SEARCH(\"Gas\",$A$15),0)>0,VLOOKUP(\"Gas\",HVACg_Lookup,MATCH($F$13,BuildingSize,0)+1,FALSE),IF(IFERROR(SEARCH(\"Oil\",$A$15),0)>0,VLOOKUP(\"Oil\",HVACg_Lookup,MATCH($F$13,BuildingSize,0)+1,FALSE),IF(IFERROR(SEARCH(\"Propane\",$A$15),0)>0,VLOOKUP(\"Propane\",HVACg_Lookup,MATCH(Worksheet!$F$13,BuildingSize,0)+1,FALSE),0)))","v":0},0,0,"",""]
[null,null,"",null,null,null,null,null,null,null,null,null,null,null,null,0,0,0,0,"",0,0,0,0,0,0,0,0,0,0,0,0,0,0,0,{"$f":"W180/1000*Y180*AA180*IF(IFERROR(SEARCH(\"Gas\",$A$15),0)>0,VLOOKUP(\"Gas\",HVACg_Lookup,MATCH($F$13,BuildingSize,0)+1,FALSE),IF(IFERROR(SEARCH(\"Oil\",$A$15),0)>0,VLOOKUP(\"Oil\",HVACg_Lookup,MATCH($F$13,BuildingSize,0)+1,FALSE),IF(IFERROR(SEARCH(\"Propane\",$A$15),0)>0,VLOOKUP(\"Propane\",HVACg_Lookup,MATCH(Worksheet!$F$13,BuildingSize,0)+1,FALSE),0)))","v":0},{"$f":"X180/1000*Y180*AA180*IF(IFERROR(SEARCH(\"Gas\",$A$15),0)>0,VLOOKUP(\"Gas\",HVACg_Lookup,MATCH($F$13,BuildingSize,0)+1,FALSE),IF(IFERROR(SEARCH(\"Oil\",$A$15),0)>0,VLOOKUP(\"Oil\",HVACg_Lookup,MATCH($F$13,BuildingSize,0)+1,FALSE),IF(IFERROR(SEARCH(\"Propane\",$A$15),0)>0,VLOOKUP(\"Propane\",HVACg_Lookup,MATCH(Worksheet!$F$13,BuildingSize,0)+1,FALSE),0)))","v":0},0,0,"",""]
[null,null,"",null,null,null,null,null,null,null,null,null,null,null,null,0,0,0,0,"",0,0,0,0,0,0,0,0,0,0,0,0,0,0,0,{"$f":"W181/1000*Y181*AA181*IF(IFERROR(SEARCH(\"Gas\",$A$15),0)>0,VLOOKUP(\"Gas\",HVACg_Lookup,MATCH($F$13,BuildingSize,0)+1,FALSE),IF(IFERROR(SEARCH(\"Oil\",$A$15),0)>0,VLOOKUP(\"Oil\",HVACg_Lookup,MATCH($F$13,BuildingSize,0)+1,FALSE),IF(IFERROR(SEARCH(\"Propane\",$A$15),0)>0,VLOOKUP(\"Propane\",HVACg_Lookup,MATCH(Worksheet!$F$13,BuildingSize,0)+1,FALSE),0)))","v":0},{"$f":"X181/1000*Y181*AA181*IF(IFERROR(SEARCH(\"Gas\",$A$15),0)>0,VLOOKUP(\"Gas\",HVACg_Lookup,MATCH($F$13,BuildingSize,0)+1,FALSE),IF(IFERROR(SEARCH(\"Oil\",$A$15),0)>0,VLOOKUP(\"Oil\",HVACg_Lookup,MATCH($F$13,BuildingSize,0)+1,FALSE),IF(IFERROR(SEARCH(\"Propane\",$A$15),0)>0,VLOOKUP(\"Propane\",HVACg_Lookup,MATCH(Worksheet!$F$13,BuildingSize,0)+1,FALSE),0)))","v":0},0,0,"",""]
[null,null,"",null,null,null,null,null,null,null,null,null,null,null,null,0,0,0,0,"",0,0,0,0,0,0,0,0,0,0,0,0,0,0,0,{"$f":"W182/1000*Y182*AA182*IF(IFERROR(SEARCH(\"Gas\",$A$15),0)>0,VLOOKUP(\"Gas\",HVACg_Lookup,MATCH($F$13,BuildingSize,0)+1,FALSE),IF(IFERROR(SEARCH(\"Oil\",$A$15),0)>0,VLOOKUP(\"Oil\",HVACg_Lookup,MATCH($F$13,BuildingSize,0)+1,FALSE),IF(IFERROR(SEARCH(\"Propane\",$A$15),0)>0,VLOOKUP(\"Propane\",HVACg_Lookup,MATCH(Worksheet!$F$13,BuildingSize,0)+1,FALSE),0)))","v":0},{"$f":"X182/1000*Y182*AA182*IF(IFERROR(SEARCH(\"Gas\",$A$15),0)>0,VLOOKUP(\"Gas\",HVACg_Lookup,MATCH($F$13,BuildingSize,0)+1,FALSE),IF(IFERROR(SEARCH(\"Oil\",$A$15),0)>0,VLOOKUP(\"Oil\",HVACg_Lookup,MATCH($F$13,BuildingSize,0)+1,FALSE),IF(IFERROR(SEARCH(\"Propane\",$A$15),0)>0,VLOOKUP(\"Propane\",HVACg_Lookup,MATCH(Worksheet!$F$13,BuildingSize,0)+1,FALSE),0)))","v":0},0,0,"",""]
[null,null,"",null,null,null,null,null,null,null,null,null,null,null,null,0,0,0,0,"",0,0,0,0,0,0,0,0,0,0,0,0,0,0,0,{"$f":"W183/1000*Y183*AA183*IF(IFERROR(SEARCH(\"Gas\",$A$15),0)>0,VLOOKUP(\"Gas\",HVACg_Lookup,MATCH($F$13,BuildingSize,0)+1,FALSE),IF(IFERROR(SEARCH(\"Oil\",$A$15),0)>0,VLOOKUP(\"Oil\",HVACg_Lookup,MATCH($F$13,BuildingSize,0)+1,FALSE),IF(IFERROR(SEARCH(\"Propane\",$A$15),0)>0,VLOOKUP(\"Propane\",HVACg_Lookup,MATCH(Worksheet!$F$13,BuildingSize,0)+1,FALSE),0)))","v":0},{"$f":"X183/1000*Y183*AA183*IF(IFERROR(SEARCH(\"Gas\",$A$15),0)>0,VLOOKUP(\"Gas\",HVACg_Lookup,MATCH($F$13,BuildingSize,0)+1,FALSE),IF(IFERROR(SEARCH(\"Oil\",$A$15),0)>0,VLOOKUP(\"Oil\",HVACg_Lookup,MATCH($F$13,BuildingSize,0)+1,FALSE),IF(IFERROR(SEARCH(\"Propane\",$A$15),0)>0,VLOOKUP(\"Propane\",HVACg_Lookup,MATCH(Worksheet!$F$13,BuildingSize,0)+1,FALSE),0)))","v":0},0,0,"",""]
[null,null,"",null,null,null,null,null,null,null,null,null,null,null,null,0,0,0,0,"",0,0,0,0,0,0,0,0,0,0,0,0,0,0,0,{"$f":"W184/1000*Y184*AA184*IF(IFERROR(SEARCH(\"Gas\",$A$15),0)>0,VLOOKUP(\"Gas\",HVACg_Lookup,MATCH($F$13,BuildingSize,0)+1,FALSE),IF(IFERROR(SEARCH(\"Oil\",$A$15),0)>0,VLOOKUP(\"Oil\",HVACg_Lookup,MATCH($F$13,BuildingSize,0)+1,FALSE),IF(IFERROR(SEARCH(\"Propane\",$A$15),0)>0,VLOOKUP(\"Propane\",HVACg_Lookup,MATCH(Worksheet!$F$13,BuildingSize,0)+1,FALSE),0)))","v":0},{"$f":"X184/1000*Y184*AA184*IF(IFERROR(SEARCH(\"Gas\",$A$15),0)>0,VLOOKUP(\"Gas\",HVACg_Lookup,MATCH($F$13,BuildingSize,0)+1,FALSE),IF(IFERROR(SEARCH(\"Oil\",$A$15),0)>0,VLOOKUP(\"Oil\",HVACg_Lookup,MATCH($F$13,BuildingSize,0)+1,FALSE),IF(IFERROR(SEARCH(\"Propane\",$A$15),0)>0,VLOOKUP(\"Propane\",HVACg_Lookup,MATCH(Worksheet!$F$13,BuildingSize,0)+1,FALSE),0)))","v":0},0,0,"",""]
[null,null,"",null,null,null,null,null,null,null,null,null,null,null,null,0,0,0,0,"",0,0,0,0,0,0,0,0,0,0,0,0,0,0,0,{"$f":"W185/1000*Y185*AA185*IF(IFERROR(SEARCH(\"Gas\",$A$15),0)>0,VLOOKUP(\"Gas\",HVACg_Lookup,MATCH($F$13,BuildingSize,0)+1,FALSE),IF(IFERROR(SEARCH(\"Oil\",$A$15),0)>0,VLOOKUP(\"Oil\",HVACg_Lookup,MATCH($F$13,BuildingSize,0)+1,FALSE),IF(IFERROR(SEARCH(\"Propane\",$A$15),0)>0,VLOOKUP(\"Propane\",HVACg_Lookup,MATCH(Worksheet!$F$13,BuildingSize,0)+1,FALSE),0)))","v":0},{"$f":"X185/1000*Y185*AA185*IF(IFERROR(SEARCH(\"Gas\",$A$15),0)>0,VLOOKUP(\"Gas\",HVACg_Lookup,MATCH($F$13,BuildingSize,0)+1,FALSE),IF(IFERROR(SEARCH(\"Oil\",$A$15),0)>0,VLOOKUP(\"Oil\",HVACg_Lookup,MATCH($F$13,BuildingSize,0)+1,FALSE),IF(IFERROR(SEARCH(\"Propane\",$A$15),0)>0,VLOOKUP(\"Propane\",HVACg_Lookup,MATCH(Worksheet!$F$13,BuildingSize,0)+1,FALSE),0)))","v":0},0,0,"",""]
[null,null,"",null,null,null,null,null,null,null,null,null,null,null,null,0,0,0,0,"",0,0,0,0,0,0,0,0,0,0,0,0,0,0,0,{"$f":"W186/1000*Y186*AA186*IF(IFERROR(SEARCH(\"Gas\",$A$15),0)>0,VLOOKUP(\"Gas\",HVACg_Lookup,MATCH($F$13,BuildingSize,0)+1,FALSE),IF(IFERROR(SEARCH(\"Oil\",$A$15),0)>0,VLOOKUP(\"Oil\",HVACg_Lookup,MATCH($F$13,BuildingSize,0)+1,FALSE),IF(IFERROR(SEARCH(\"Propane\",$A$15),0)>0,VLOOKUP(\"Propane\",HVACg_Lookup,MATCH(Worksheet!$F$13,BuildingSize,0)+1,FALSE),0)))","v":0},{"$f":"X186/1000*Y186*AA186*IF(IFERROR(SEARCH(\"Gas\",$A$15),0)>0,VLOOKUP(\"Gas\",HVACg_Lookup,MATCH($F$13,BuildingSize,0)+1,FALSE),IF(IFERROR(SEARCH(\"Oil\",$A$15),0)>0,VLOOKUP(\"Oil\",HVACg_Lookup,MATCH($F$13,BuildingSize,0)+1,FALSE),IF(IFERROR(SEARCH(\"Propane\",$A$15),0)>0,VLOOKUP(\"Propane\",HVACg_Lookup,MATCH(Worksheet!$F$13,BuildingSize,0)+1,FALSE),0)))","v":0},0,0,"",""]
[null,null,"",null,null,null,null,null,null,null,null,null,null,null,null,0,0,0,0,"",0,0,0,0,0,0,0,0,0,0,0,0,0,0,0,{"$f":"W187/1000*Y187*AA187*IF(IFERROR(SEARCH(\"Gas\",$A$15),0)>0,VLOOKUP(\"Gas\",HVACg_Lookup,MATCH($F$13,BuildingSize,0)+1,FALSE),IF(IFERROR(SEARCH(\"Oil\",$A$15),0)>0,VLOOKUP(\"Oil\",HVACg_Lookup,MATCH($F$13,BuildingSize,0)+1,FALSE),IF(IFERROR(SEARCH(\"Propane\",$A$15),0)>0,VLOOKUP(\"Propane\",HVACg_Lookup,MATCH(Worksheet!$F$13,BuildingSize,0)+1,FALSE),0)))","v":0},{"$f":"X187/1000*Y187*AA187*IF(IFERROR(SEARCH(\"Gas\",$A$15),0)>0,VLOOKUP(\"Gas\",HVACg_Lookup,MATCH($F$13,BuildingSize,0)+1,FALSE),IF(IFERROR(SEARCH(\"Oil\",$A$15),0)>0,VLOOKUP(\"Oil\",HVACg_Lookup,MATCH($F$13,BuildingSize,0)+1,FALSE),IF(IFERROR(SEARCH(\"Propane\",$A$15),0)>0,VLOOKUP(\"Propane\",HVACg_Lookup,MATCH(Worksheet!$F$13,BuildingSize,0)+1,FALSE),0)))","v":0},0,0,"",""]
[null,null,"",null,null,null,null,null,null,null,null,null,null,null,null,0,0,0,0,"",0,0,0,0,0,0,0,0,0,0,0,0,0,0,0,{"$f":"W188/1000*Y188*AA188*IF(IFERROR(SEARCH(\"Gas\",$A$15),0)>0,VLOOKUP(\"Gas\",HVACg_Lookup,MATCH($F$13,BuildingSize,0)+1,FALSE),IF(IFERROR(SEARCH(\"Oil\",$A$15),0)>0,VLOOKUP(\"Oil\",HVACg_Lookup,MATCH($F$13,BuildingSize,0)+1,FALSE),IF(IFERROR(SEARCH(\"Propane\",$A$15),0)>0,VLOOKUP(\"Propane\",HVACg_Lookup,MATCH(Worksheet!$F$13,BuildingSize,0)+1,FALSE),0)))","v":0},{"$f":"X188/1000*Y188*AA188*IF(IFERROR(SEARCH(\"Gas\",$A$15),0)>0,VLOOKUP(\"Gas\",HVACg_Lookup,MATCH($F$13,BuildingSize,0)+1,FALSE),IF(IFERROR(SEARCH(\"Oil\",$A$15),0)>0,VLOOKUP(\"Oil\",HVACg_Lookup,MATCH($F$13,BuildingSize,0)+1,FALSE),IF(IFERROR(SEARCH(\"Propane\",$A$15),0)>0,VLOOKUP(\"Propane\",HVACg_Lookup,MATCH(Worksheet!$F$13,BuildingSize,0)+1,FALSE),0)))","v":0},0,0,"",""]
[null,null,"",null,null,null,null,null,null,null,null,null,null,null,null,0,0,0,0,"",0,0,0,0,0,0,0,0,0,0,0,0,0,0,0,{"$f":"W189/1000*Y189*AA189*IF(IFERROR(SEARCH(\"Gas\",$A$15),0)>0,VLOOKUP(\"Gas\",HVACg_Lookup,MATCH($F$13,BuildingSize,0)+1,FALSE),IF(IFERROR(SEARCH(\"Oil\",$A$15),0)>0,VLOOKUP(\"Oil\",HVACg_Lookup,MATCH($F$13,BuildingSize,0)+1,FALSE),IF(IFERROR(SEARCH(\"Propane\",$A$15),0)>0,VLOOKUP(\"Propane\",HVACg_Lookup,MATCH(Worksheet!$F$13,BuildingSize,0)+1,FALSE),0)))","v":0},{"$f":"X189/1000*Y189*AA189*IF(IFERROR(SEARCH(\"Gas\",$A$15),0)>0,VLOOKUP(\"Gas\",HVACg_Lookup,MATCH($F$13,BuildingSize,0)+1,FALSE),IF(IFERROR(SEARCH(\"Oil\",$A$15),0)>0,VLOOKUP(\"Oil\",HVACg_Lookup,MATCH($F$13,BuildingSize,0)+1,FALSE),IF(IFERROR(SEARCH(\"Propane\",$A$15),0)>0,VLOOKUP(\"Propane\",HVACg_Lookup,MATCH(Worksheet!$F$13,BuildingSize,0)+1,FALSE),0)))","v":0},0,0,"",""]
[null,null,"",null,null,null,null,null,null,null,null,null,null,null,null,0,0,0,0,"",0,0,0,0,0,0,0,0,0,0,0,0,0,0,0,{"$f":"W190/1000*Y190*AA190*IF(IFERROR(SEARCH(\"Gas\",$A$15),0)>0,VLOOKUP(\"Gas\",HVACg_Lookup,MATCH($F$13,BuildingSize,0)+1,FALSE),IF(IFERROR(SEARCH(\"Oil\",$A$15),0)>0,VLOOKUP(\"Oil\",HVACg_Lookup,MATCH($F$13,BuildingSize,0)+1,FALSE),IF(IFERROR(SEARCH(\"Propane\",$A$15),0)>0,VLOOKUP(\"Propane\",HVACg_Lookup,MATCH(Worksheet!$F$13,BuildingSize,0)+1,FALSE),0)))","v":0},{"$f":"X190/1000*Y190*AA190*IF(IFERROR(SEARCH(\"Gas\",$A$15),0)>0,VLOOKUP(\"Gas\",HVACg_Lookup,MATCH($F$13,BuildingSize,0)+1,FALSE),IF(IFERROR(SEARCH(\"Oil\",$A$15),0)>0,VLOOKUP(\"Oil\",HVACg_Lookup,MATCH($F$13,BuildingSize,0)+1,FALSE),IF(IFERROR(SEARCH(\"Propane\",$A$15),0)>0,VLOOKUP(\"Propane\",HVACg_Lookup,MATCH(Worksheet!$F$13,BuildingSize,0)+1,FALSE),0)))","v":0},0,0,"",""]
[null,null,"",null,null,null,null,null,null,null,null,null,null,null,null,0,0,0,0,"",0,0,0,0,0,0,0,0,0,0,0,0,0,0,0,{"$f":"W191/1000*Y191*AA191*IF(IFERROR(SEARCH(\"Gas\",$A$15),0)>0,VLOOKUP(\"Gas\",HVACg_Lookup,MATCH($F$13,BuildingSize,0)+1,FALSE),IF(IFERROR(SEARCH(\"Oil\",$A$15),0)>0,VLOOKUP(\"Oil\",HVACg_Lookup,MATCH($F$13,BuildingSize,0)+1,FALSE),IF(IFERROR(SEARCH(\"Propane\",$A$15),0)>0,VLOOKUP(\"Propane\",HVACg_Lookup,MATCH(Worksheet!$F$13,BuildingSize,0)+1,FALSE),0)))","v":0},{"$f":"X191/1000*Y191*AA191*IF(IFERROR(SEARCH(\"Gas\",$A$15),0)>0,VLOOKUP(\"Gas\",HVACg_Lookup,MATCH($F$13,BuildingSize,0)+1,FALSE),IF(IFERROR(SEARCH(\"Oil\",$A$15),0)>0,VLOOKUP(\"Oil\",HVACg_Lookup,MATCH($F$13,BuildingSize,0)+1,FALSE),IF(IFERROR(SEARCH(\"Propane\",$A$15),0)>0,VLOOKUP(\"Propane\",HVACg_Lookup,MATCH(Worksheet!$F$13,BuildingSize,0)+1,FALSE),0)))","v":0},0,0,"",""]
[null,null,"",null,null,null,null,null,null,null,null,null,null,null,null,0,0,0,0,"",0,0,0,0,0,0,0,0,0,0,0,0,0,0,0,{"$f":"W192/1000*Y192*AA192*IF(IFERROR(SEARCH(\"Gas\",$A$15),0)>0,VLOOKUP(\"Gas\",HVACg_Lookup,MATCH($F$13,BuildingSize,0)+1,FALSE),IF(IFERROR(SEARCH(\"Oil\",$A$15),0)>0,VLOOKUP(\"Oil\",HVACg_Lookup,MATCH($F$13,BuildingSize,0)+1,FALSE),IF(IFERROR(SEARCH(\"Propane\",$A$15),0)>0,VLOOKUP(\"Propane\",HVACg_Lookup,MATCH(Worksheet!$F$13,BuildingSize,0)+1,FALSE),0)))","v":0},{"$f":"X192/1000*Y192*AA192*IF(IFERROR(SEARCH(\"Gas\",$A$15),0)>0,VLOOKUP(\"Gas\",HVACg_Lookup,MATCH($F$13,BuildingSize,0)+1,FALSE),IF(IFERROR(SEARCH(\"Oil\",$A$15),0)>0,VLOOKUP(\"Oil\",HVACg_Lookup,MATCH($F$13,BuildingSize,0)+1,FALSE),IF(IFERROR(SEARCH(\"Propane\",$A$15),0)>0,VLOOKUP(\"Propane\",HVACg_Lookup,MATCH(Worksheet!$F$13,BuildingSize,0)+1,FALSE),0)))","v":0},0,0,"",""]
[null,null,"",null,null,null,null,null,null,null,null,null,null,null,null,0,0,0,0,"",0,0,0,0,0,0,0,0,0,0,0,0,0,0,0,{"$f":"W193/1000*Y193*AA193*IF(IFERROR(SEARCH(\"Gas\",$A$15),0)>0,VLOOKUP(\"Gas\",HVACg_Lookup,MATCH($F$13,BuildingSize,0)+1,FALSE),IF(IFERROR(SEARCH(\"Oil\",$A$15),0)>0,VLOOKUP(\"Oil\",HVACg_Lookup,MATCH($F$13,BuildingSize,0)+1,FALSE),IF(IFERROR(SEARCH(\"Propane\",$A$15),0)>0,VLOOKUP(\"Propane\",HVACg_Lookup,MATCH(Worksheet!$F$13,BuildingSize,0)+1,FALSE),0)))","v":0},{"$f":"X193/1000*Y193*AA193*IF(IFERROR(SEARCH(\"Gas\",$A$15),0)>0,VLOOKUP(\"Gas\",HVACg_Lookup,MATCH($F$13,BuildingSize,0)+1,FALSE),IF(IFERROR(SEARCH(\"Oil\",$A$15),0)>0,VLOOKUP(\"Oil\",HVACg_Lookup,MATCH($F$13,BuildingSize,0)+1,FALSE),IF(IFERROR(SEARCH(\"Propane\",$A$15),0)>0,VLOOKUP(\"Propane\",HVACg_Lookup,MATCH(Worksheet!$F$13,BuildingSize,0)+1,FALSE),0)))","v":0},0,0,"",""]
[null,null,"",null,null,null,null,null,null,null,null,null,null,null,null,0,0,0,0,"",0,0,0,0,0,0,0,0,0,0,0,0,0,0,0,{"$f":"W194/1000*Y194*AA194*IF(IFERROR(SEARCH(\"Gas\",$A$15),0)>0,VLOOKUP(\"Gas\",HVACg_Lookup,MATCH($F$13,BuildingSize,0)+1,FALSE),IF(IFERROR(SEARCH(\"Oil\",$A$15),0)>0,VLOOKUP(\"Oil\",HVACg_Lookup,MATCH($F$13,BuildingSize,0)+1,FALSE),IF(IFERROR(SEARCH(\"Propane\",$A$15),0)>0,VLOOKUP(\"Propane\",HVACg_Lookup,MATCH(Worksheet!$F$13,BuildingSize,0)+1,FALSE),0)))","v":0},{"$f":"X194/1000*Y194*AA194*IF(IFERROR(SEARCH(\"Gas\",$A$15),0)>0,VLOOKUP(\"Gas\",HVACg_Lookup,MATCH($F$13,BuildingSize,0)+1,FALSE),IF(IFERROR(SEARCH(\"Oil\",$A$15),0)>0,VLOOKUP(\"Oil\",HVACg_Lookup,MATCH($F$13,BuildingSize,0)+1,FALSE),IF(IFERROR(SEARCH(\"Propane\",$A$15),0)>0,VLOOKUP(\"Propane\",HVACg_Lookup,MATCH(Worksheet!$F$13,BuildingSize,0)+1,FALSE),0)))","v":0},0,0,"",""]
[null,null,"",null,null,null,null,null,null,null,null,null,null,null,null,0,0,0,0,"",0,0,0,0,0,0,0,0,0,0,0,0,0,0,0,{"$f":"W195/1000*Y195*AA195*IF(IFERROR(SEARCH(\"Gas\",$A$15),0)>0,VLOOKUP(\"Gas\",HVACg_Lookup,MATCH($F$13,BuildingSize,0)+1,FALSE),IF(IFERROR(SEARCH(\"Oil\",$A$15),0)>0,VLOOKUP(\"Oil\",HVACg_Lookup,MATCH($F$13,BuildingSize,0)+1,FALSE),IF(IFERROR(SEARCH(\"Propane\",$A$15),0)>0,VLOOKUP(\"Propane\",HVACg_Lookup,MATCH(Worksheet!$F$13,BuildingSize,0)+1,FALSE),0)))","v":0},{"$f":"X195/1000*Y195*AA195*IF(IFERROR(SEARCH(\"Gas\",$A$15),0)>0,VLOOKUP(\"Gas\",HVACg_Lookup,MATCH($F$13,BuildingSize,0)+1,FALSE),IF(IFERROR(SEARCH(\"Oil\",$A$15),0)>0,VLOOKUP(\"Oil\",HVACg_Lookup,MATCH($F$13,BuildingSize,0)+1,FALSE),IF(IFERROR(SEARCH(\"Propane\",$A$15),0)>0,VLOOKUP(\"Propane\",HVACg_Lookup,MATCH(Worksheet!$F$13,BuildingSize,0)+1,FALSE),0)))","v":0},0,0,"",""]
[null,null,"",null,null,null,null,null,null,null,null,null,null,null,null,0,0,0,0,"",0,0,0,0,0,0,0,0,0,0,0,0,0,0,0,{"$f":"W196/1000*Y196*AA196*IF(IFERROR(SEARCH(\"Gas\",$A$15),0)>0,VLOOKUP(\"Gas\",HVACg_Lookup,MATCH($F$13,BuildingSize,0)+1,FALSE),IF(IFERROR(SEARCH(\"Oil\",$A$15),0)>0,VLOOKUP(\"Oil\",HVACg_Lookup,MATCH($F$13,BuildingSize,0)+1,FALSE),IF(IFERROR(SEARCH(\"Propane\",$A$15),0)>0,VLOOKUP(\"Propane\",HVACg_Lookup,MATCH(Worksheet!$F$13,BuildingSize,0)+1,FALSE),0)))","v":0},{"$f":"X196/1000*Y196*AA196*IF(IFERROR(SEARCH(\"Gas\",$A$15),0)>0,VLOOKUP(\"Gas\",HVACg_Lookup,MATCH($F$13,BuildingSize,0)+1,FALSE),IF(IFERROR(SEARCH(\"Oil\",$A$15),0)>0,VLOOKUP(\"Oil\",HVACg_Lookup,MATCH($F$13,BuildingSize,0)+1,FALSE),IF(IFERROR(SEARCH(\"Propane\",$A$15),0)>0,VLOOKUP(\"Propane\",HVACg_Lookup,MATCH(Worksheet!$F$13,BuildingSize,0)+1,FALSE),0)))","v":0},0,0,"",""]
[null,null,"",null,null,null,null,null,null,null,null,null,null,null,null,0,0,0,0,"",0,0,0,0,0,0,0,0,0,0,0,0,0,0,0,{"$f":"W197/1000*Y197*AA197*IF(IFERROR(SEARCH(\"Gas\",$A$15),0)>0,VLOOKUP(\"Gas\",HVACg_Lookup,MATCH($F$13,BuildingSize,0)+1,FALSE),IF(IFERROR(SEARCH(\"Oil\",$A$15),0)>0,VLOOKUP(\"Oil\",HVACg_Lookup,MATCH($F$13,BuildingSize,0)+1,FALSE),IF(IFERROR(SEARCH(\"Propane\",$A$15),0)>0,VLOOKUP(\"Propane\",HVACg_Lookup,MATCH(Worksheet!$F$13,BuildingSize,0)+1,FALSE),0)))","v":0},{"$f":"X197/1000*Y197*AA197*IF(IFERROR(SEARCH(\"Gas\",$A$15),0)>0,VLOOKUP(\"Gas\",HVACg_Lookup,MATCH($F$13,BuildingSize,0)+1,FALSE),IF(IFERROR(SEARCH(\"Oil\",$A$15),0)>0,VLOOKUP(\"Oil\",HVACg_Lookup,MATCH($F$13,BuildingSize,0)+1,FALSE),IF(IFERROR(SEARCH(\"Propane\",$A$15),0)>0,VLOOKUP(\"Propane\",HVACg_Lookup,MATCH(Worksheet!$F$13,BuildingSize,0)+1,FALSE),0)))","v":0},0,0,"",""]
[null,null,"",null,null,null,null,null,null,null,null,null,null,null,null,0,0,0,0,"",0,0,0,0,0,0,0,0,0,0,0,0,0,0,0,{"$f":"W198/1000*Y198*AA198*IF(IFERROR(SEARCH(\"Gas\",$A$15),0)>0,VLOOKUP(\"Gas\",HVACg_Lookup,MATCH($F$13,BuildingSize,0)+1,FALSE),IF(IFERROR(SEARCH(\"Oil\",$A$15),0)>0,VLOOKUP(\"Oil\",HVACg_Lookup,MATCH($F$13,BuildingSize,0)+1,FALSE),IF(IFERROR(SEARCH(\"Propane\",$A$15),0)>0,VLOOKUP(\"Propane\",HVACg_Lookup,MATCH(Worksheet!$F$13,BuildingSize,0)+1,FALSE),0)))","v":0},{"$f":"X198/1000*Y198*AA198*IF(IFERROR(SEARCH(\"Gas\",$A$15),0)>0,VLOOKUP(\"Gas\",HVACg_Lookup,MATCH($F$13,BuildingSize,0)+1,FALSE),IF(IFERROR(SEARCH(\"Oil\",$A$15),0)>0,VLOOKUP(\"Oil\",HVACg_Lookup,MATCH($F$13,BuildingSize,0)+1,FALSE),IF(IFERROR(SEARCH(\"Propane\",$A$15),0)>0,VLOOKUP(\"Propane\",HVACg_Lookup,MATCH(Worksheet!$F$13,BuildingSize,0)+1,FALSE),0)))","v":0},0,0,"",""]
[null,null,"",null,null,null,null,null,null,null,null,null,null,null,null,0,0,0,0,"",0,0,0,0,0,0,0,0,0,0,0,0,0,0,0,{"$f":"W199/1000*Y199*AA199*IF(IFERROR(SEARCH(\"Gas\",$A$15),0)>0,VLOOKUP(\"Gas\",HVACg_Lookup,MATCH($F$13,BuildingSize,0)+1,FALSE),IF(IFERROR(SEARCH(\"Oil\",$A$15),0)>0,VLOOKUP(\"Oil\",HVACg_Lookup,MATCH($F$13,BuildingSize,0)+1,FALSE),IF(IFERROR(SEARCH(\"Propane\",$A$15),0)>0,VLOOKUP(\"Propane\",HVACg_Lookup,MATCH(Worksheet!$F$13,BuildingSize,0)+1,FALSE),0)))","v":0},{"$f":"X199/1000*Y199*AA199*IF(IFERROR(SEARCH(\"Gas\",$A$15),0)>0,VLOOKUP(\"Gas\",HVACg_Lookup,MATCH($F$13,BuildingSize,0)+1,FALSE),IF(IFERROR(SEARCH(\"Oil\",$A$15),0)>0,VLOOKUP(\"Oil\",HVACg_Lookup,MATCH($F$13,BuildingSize,0)+1,FALSE),IF(IFERROR(SEARCH(\"Propane\",$A$15),0)>0,VLOOKUP(\"Propane\",HVACg_Lookup,MATCH(Worksheet!$F$13,BuildingSize,0)+1,FALSE),0)))","v":0},0,0,"",""]
[null,null,"",null,null,null,null,null,null,null,null,null,null,null,null,0,0,0,0,"",0,0,0,0,0,0,0,0,0,0,0,0,0,0,0,{"$f":"W200/1000*Y200*AA200*IF(IFERROR(SEARCH(\"Gas\",$A$15),0)>0,VLOOKUP(\"Gas\",HVACg_Lookup,MATCH($F$13,BuildingSize,0)+1,FALSE),IF(IFERROR(SEARCH(\"Oil\",$A$15),0)>0,VLOOKUP(\"Oil\",HVACg_Lookup,MATCH($F$13,BuildingSize,0)+1,FALSE),IF(IFERROR(SEARCH(\"Propane\",$A$15),0)>0,VLOOKUP(\"Propane\",HVACg_Lookup,MATCH(Worksheet!$F$13,BuildingSize,0)+1,FALSE),0)))","v":0},{"$f":"X200/1000*Y200*AA200*IF(IFERROR(SEARCH(\"Gas\",$A$15),0)>0,VLOOKUP(\"Gas\",HVACg_Lookup,MATCH($F$13,BuildingSize,0)+1,FALSE),IF(IFERROR(SEARCH(\"Oil\",$A$15),0)>0,VLOOKUP(\"Oil\",HVACg_Lookup,MATCH($F$13,BuildingSize,0)+1,FALSE),IF(IFERROR(SEARCH(\"Propane\",$A$15),0)>0,VLOOKUP(\"Propane\",HVACg_Lookup,MATCH(Worksheet!$F$13,BuildingSize,0)+1,FALSE),0)))","v":0},0,0,"",""]
[null,null,"",null,null,null,null,null,null,null,null,null,null,null,null,0,0,0,0,"",0,0,0,0,0,0,0,0,0,0,0,0,0,0,0,{"$f":"W201/1000*Y201*AA201*IF(IFERROR(SEARCH(\"Gas\",$A$15),0)>0,VLOOKUP(\"Gas\",HVACg_Lookup,MATCH($F$13,BuildingSize,0)+1,FALSE),IF(IFERROR(SEARCH(\"Oil\",$A$15),0)>0,VLOOKUP(\"Oil\",HVACg_Lookup,MATCH($F$13,BuildingSize,0)+1,FALSE),IF(IFERROR(SEARCH(\"Propane\",$A$15),0)>0,VLOOKUP(\"Propane\",HVACg_Lookup,MATCH(Worksheet!$F$13,BuildingSize,0)+1,FALSE),0)))","v":0},{"$f":"X201/1000*Y201*AA201*IF(IFERROR(SEARCH(\"Gas\",$A$15),0)>0,VLOOKUP(\"Gas\",HVACg_Lookup,MATCH($F$13,BuildingSize,0)+1,FALSE),IF(IFERROR(SEARCH(\"Oil\",$A$15),0)>0,VLOOKUP(\"Oil\",HVACg_Lookup,MATCH($F$13,BuildingSize,0)+1,FALSE),IF(IFERROR(SEARCH(\"Propane\",$A$15),0)>0,VLOOKUP(\"Propane\",HVACg_Lookup,MATCH(Worksheet!$F$13,BuildingSize,0)+1,FALSE),0)))","v":0},0,0,"",""]
[null,null,"",null,null,null,null,null,null,null,null,null,null,null,null,0,0,0,0,"",0,0,0,0,0,0,0,0,0,0,0,0,0,0,0,{"$f":"W202/1000*Y202*AA202*IF(IFERROR(SEARCH(\"Gas\",$A$15),0)>0,VLOOKUP(\"Gas\",HVACg_Lookup,MATCH($F$13,BuildingSize,0)+1,FALSE),IF(IFERROR(SEARCH(\"Oil\",$A$15),0)>0,VLOOKUP(\"Oil\",HVACg_Lookup,MATCH($F$13,BuildingSize,0)+1,FALSE),IF(IFERROR(SEARCH(\"Propane\",$A$15),0)>0,VLOOKUP(\"Propane\",HVACg_Lookup,MATCH(Worksheet!$F$13,BuildingSize,0)+1,FALSE),0)))","v":0},{"$f":"X202/1000*Y202*AA202*IF(IFERROR(SEARCH(\"Gas\",$A$15),0)>0,VLOOKUP(\"Gas\",HVACg_Lookup,MATCH($F$13,BuildingSize,0)+1,FALSE),IF(IFERROR(SEARCH(\"Oil\",$A$15),0)>0,VLOOKUP(\"Oil\",HVACg_Lookup,MATCH($F$13,BuildingSize,0)+1,FALSE),IF(IFERROR(SEARCH(\"Propane\",$A$15),0)>0,VLOOKUP(\"Propane\",HVACg_Lookup,MATCH(Worksheet!$F$13,BuildingSize,0)+1,FALSE),0)))","v":0},0,0,"",""]
[null,null,"",null,null,null,null,null,null,null,null,null,null,null,null,0,0,0,0,"",0,0,0,0,0,0,0,0,0,0,0,0,0,0,0,{"$f":"W203/1000*Y203*AA203*IF(IFERROR(SEARCH(\"Gas\",$A$15),0)>0,VLOOKUP(\"Gas\",HVACg_Lookup,MATCH($F$13,BuildingSize,0)+1,FALSE),IF(IFERROR(SEARCH(\"Oil\",$A$15),0)>0,VLOOKUP(\"Oil\",HVACg_Lookup,MATCH($F$13,BuildingSize,0)+1,FALSE),IF(IFERROR(SEARCH(\"Propane\",$A$15),0)>0,VLOOKUP(\"Propane\",HVACg_Lookup,MATCH(Worksheet!$F$13,BuildingSize,0)+1,FALSE),0)))","v":0},{"$f":"X203/1000*Y203*AA203*IF(IFERROR(SEARCH(\"Gas\",$A$15),0)>0,VLOOKUP(\"Gas\",HVACg_Lookup,MATCH($F$13,BuildingSize,0)+1,FALSE),IF(IFERROR(SEARCH(\"Oil\",$A$15),0)>0,VLOOKUP(\"Oil\",HVACg_Lookup,MATCH($F$13,BuildingSize,0)+1,FALSE),IF(IFERROR(SEARCH(\"Propane\",$A$15),0)>0,VLOOKUP(\"Propane\",HVACg_Lookup,MATCH(Worksheet!$F$13,BuildingSize,0)+1,FALSE),0)))","v":0},0,0,"",""]
[null,null,"",null,null,null,null,null,null,null,null,null,null,null,null,0,0,0,0,"",0,0,0,0,0,0,0,0,0,0,0,0,0,0,0,{"$f":"W204/1000*Y204*AA204*IF(IFERROR(SEARCH(\"Gas\",$A$15),0)>0,VLOOKUP(\"Gas\",HVACg_Lookup,MATCH($F$13,BuildingSize,0)+1,FALSE),IF(IFERROR(SEARCH(\"Oil\",$A$15),0)>0,VLOOKUP(\"Oil\",HVACg_Lookup,MATCH($F$13,BuildingSize,0)+1,FALSE),IF(IFERROR(SEARCH(\"Propane\",$A$15),0)>0,VLOOKUP(\"Propane\",HVACg_Lookup,MATCH(Worksheet!$F$13,BuildingSize,0)+1,FALSE),0)))","v":0},{"$f":"X204/1000*Y204*AA204*IF(IFERROR(SEARCH(\"Gas\",$A$15),0)>0,VLOOKUP(\"Gas\",HVACg_Lookup,MATCH($F$13,BuildingSize,0)+1,FALSE),IF(IFERROR(SEARCH(\"Oil\",$A$15),0)>0,VLOOKUP(\"Oil\",HVACg_Lookup,MATCH($F$13,BuildingSize,0)+1,FALSE),IF(IFERROR(SEARCH(\"Propane\",$A$15),0)>0,VLOOKUP(\"Propane\",HVACg_Lookup,MATCH(Worksheet!$F$13,BuildingSize,0)+1,FALSE),0)))","v":0},0,0,"",""]
[null,null,"",null,null,null,null,null,null,null,null,null,null,null,null,0,0,0,0,"",0,0,0,0,0,0,0,0,0,0,0,0,0,0,0,{"$f":"W205/1000*Y205*AA205*IF(IFERROR(SEARCH(\"Gas\",$A$15),0)>0,VLOOKUP(\"Gas\",HVACg_Lookup,MATCH($F$13,BuildingSize,0)+1,FALSE),IF(IFERROR(SEARCH(\"Oil\",$A$15),0)>0,VLOOKUP(\"Oil\",HVACg_Lookup,MATCH($F$13,BuildingSize,0)+1,FALSE),IF(IFERROR(SEARCH(\"Propane\",$A$15),0)>0,VLOOKUP(\"Propane\",HVACg_Lookup,MATCH(Worksheet!$F$13,BuildingSize,0)+1,FALSE),0)))","v":0},{"$f":"X205/1000*Y205*AA205*IF(IFERROR(SEARCH(\"Gas\",$A$15),0)>0,VLOOKUP(\"Gas\",HVACg_Lookup,MATCH($F$13,BuildingSize,0)+1,FALSE),IF(IFERROR(SEARCH(\"Oil\",$A$15),0)>0,VLOOKUP(\"Oil\",HVACg_Lookup,MATCH($F$13,BuildingSize,0)+1,FALSE),IF(IFERROR(SEARCH(\"Propane\",$A$15),0)>0,VLOOKUP(\"Propane\",HVACg_Lookup,MATCH(Worksheet!$F$13,BuildingSize,0)+1,FALSE),0)))","v":0},0,0,"",""]
[null,null,"",null,null,null,null,null,null,null,null,null,null,null,null,0,0,0,0,"",0,0,0,0,0,0,0,0,0,0,0,0,0,0,0,{"$f":"W206/1000*Y206*AA206*IF(IFERROR(SEARCH(\"Gas\",$A$15),0)>0,VLOOKUP(\"Gas\",HVACg_Lookup,MATCH($F$13,BuildingSize,0)+1,FALSE),IF(IFERROR(SEARCH(\"Oil\",$A$15),0)>0,VLOOKUP(\"Oil\",HVACg_Lookup,MATCH($F$13,BuildingSize,0)+1,FALSE),IF(IFERROR(SEARCH(\"Propane\",$A$15),0)>0,VLOOKUP(\"Propane\",HVACg_Lookup,MATCH(Worksheet!$F$13,BuildingSize,0)+1,FALSE),0)))","v":0},{"$f":"X206/1000*Y206*AA206*IF(IFERROR(SEARCH(\"Gas\",$A$15),0)>0,VLOOKUP(\"Gas\",HVACg_Lookup,MATCH($F$13,BuildingSize,0)+1,FALSE),IF(IFERROR(SEARCH(\"Oil\",$A$15),0)>0,VLOOKUP(\"Oil\",HVACg_Lookup,MATCH($F$13,BuildingSize,0)+1,FALSE),IF(IFERROR(SEARCH(\"Propane\",$A$15),0)>0,VLOOKUP(\"Propane\",HVACg_Lookup,MATCH(Worksheet!$F$13,BuildingSize,0)+1,FALSE),0)))","v":0},0,0,"",""]
[null,null,"",null,null,null,null,null,null,null,null,null,null,null,null,0,0,0,0,"",0,0,0,0,0,0,0,0,0,0,0,0,0,0,0,{"$f":"W207/1000*Y207*AA207*IF(IFERROR(SEARCH(\"Gas\",$A$15),0)>0,VLOOKUP(\"Gas\",HVACg_Lookup,MATCH($F$13,BuildingSize,0)+1,FALSE),IF(IFERROR(SEARCH(\"Oil\",$A$15),0)>0,VLOOKUP(\"Oil\",HVACg_Lookup,MATCH($F$13,BuildingSize,0)+1,FALSE),IF(IFERROR(SEARCH(\"Propane\",$A$15),0)>0,VLOOKUP(\"Propane\",HVACg_Lookup,MATCH(Worksheet!$F$13,BuildingSize,0)+1,FALSE),0)))","v":0},{"$f":"X207/1000*Y207*AA207*IF(IFERROR(SEARCH(\"Gas\",$A$15),0)>0,VLOOKUP(\"Gas\",HVACg_Lookup,MATCH($F$13,BuildingSize,0)+1,FALSE),IF(IFERROR(SEARCH(\"Oil\",$A$15),0)>0,VLOOKUP(\"Oil\",HVACg_Lookup,MATCH($F$13,BuildingSize,0)+1,FALSE),IF(IFERROR(SEARCH(\"Propane\",$A$15),0)>0,VLOOKUP(\"Propane\",HVACg_Lookup,MATCH(Worksheet!$F$13,BuildingSize,0)+1,FALSE),0)))","v":0},0,0,"",""]
[null,null,"",null,null,null,null,null,null,null,null,null,null,null,null,0,0,0,0,"",0,0,0,0,0,0,0,0,0,0,0,0,0,0,0,{"$f":"W208/1000*Y208*AA208*IF(IFERROR(SEARCH(\"Gas\",$A$15),0)>0,VLOOKUP(\"Gas\",HVACg_Lookup,MATCH($F$13,BuildingSize,0)+1,FALSE),IF(IFERROR(SEARCH(\"Oil\",$A$15),0)>0,VLOOKUP(\"Oil\",HVACg_Lookup,MATCH($F$13,BuildingSize,0)+1,FALSE),IF(IFERROR(SEARCH(\"Propane\",$A$15),0)>0,VLOOKUP(\"Propane\",HVACg_Lookup,MATCH(Worksheet!$F$13,BuildingSize,0)+1,FALSE),0)))","v":0},{"$f":"X208/1000*Y208*AA208*IF(IFERROR(SEARCH(\"Gas\",$A$15),0)>0,VLOOKUP(\"Gas\",HVACg_Lookup,MATCH($F$13,BuildingSize,0)+1,FALSE),IF(IFERROR(SEARCH(\"Oil\",$A$15),0)>0,VLOOKUP(\"Oil\",HVACg_Lookup,MATCH($F$13,BuildingSize,0)+1,FALSE),IF(IFERROR(SEARCH(\"Propane\",$A$15),0)>0,VLOOKUP(\"Propane\",HVACg_Lookup,MATCH(Worksheet!$F$13,BuildingSize,0)+1,FALSE),0)))","v":0},0,0,"",""]
[null,null,"",null,null,null,null,null,null,null,null,null,null,null,null,0,0,0,0,"",0,0,0,0,0,0,0,0,0,0,0,0,0,0,0,{"$f":"W209/1000*Y209*AA209*IF(IFERROR(SEARCH(\"Gas\",$A$15),0)>0,VLOOKUP(\"Gas\",HVACg_Lookup,MATCH($F$13,BuildingSize,0)+1,FALSE),IF(IFERROR(SEARCH(\"Oil\",$A$15),0)>0,VLOOKUP(\"Oil\",HVACg_Lookup,MATCH($F$13,BuildingSize,0)+1,FALSE),IF(IFERROR(SEARCH(\"Propane\",$A$15),0)>0,VLOOKUP(\"Propane\",HVACg_Lookup,MATCH(Worksheet!$F$13,BuildingSize,0)+1,FALSE),0)))","v":0},{"$f":"X209/1000*Y209*AA209*IF(IFERROR(SEARCH(\"Gas\",$A$15),0)>0,VLOOKUP(\"Gas\",HVACg_Lookup,MATCH($F$13,BuildingSize,0)+1,FALSE),IF(IFERROR(SEARCH(\"Oil\",$A$15),0)>0,VLOOKUP(\"Oil\",HVACg_Lookup,MATCH($F$13,BuildingSize,0)+1,FALSE),IF(IFERROR(SEARCH(\"Propane\",$A$15),0)>0,VLOOKUP(\"Propane\",HVACg_Lookup,MATCH(Worksheet!$F$13,BuildingSize,0)+1,FALSE),0)))","v":0},0,0,"",""]
[null,null,"",null,null,null,null,null,null,null,null,null,null,null,null,0,0,0,0,"",0,0,0,0,0,0,0,0,0,0,0,0,0,0,0,{"$f":"W210/1000*Y210*AA210*IF(IFERROR(SEARCH(\"Gas\",$A$15),0)>0,VLOOKUP(\"Gas\",HVACg_Lookup,MATCH($F$13,BuildingSize,0)+1,FALSE),IF(IFERROR(SEARCH(\"Oil\",$A$15),0)>0,VLOOKUP(\"Oil\",HVACg_Lookup,MATCH($F$13,BuildingSize,0)+1,FALSE),IF(IFERROR(SEARCH(\"Propane\",$A$15),0)>0,VLOOKUP(\"Propane\",HVACg_Lookup,MATCH(Worksheet!$F$13,BuildingSize,0)+1,FALSE),0)))","v":0},{"$f":"X210/1000*Y210*AA210*IF(IFERROR(SEARCH(\"Gas\",$A$15),0)>0,VLOOKUP(\"Gas\",HVACg_Lookup,MATCH($F$13,BuildingSize,0)+1,FALSE),IF(IFERROR(SEARCH(\"Oil\",$A$15),0)>0,VLOOKUP(\"Oil\",HVACg_Lookup,MATCH($F$13,BuildingSize,0)+1,FALSE),IF(IFERROR(SEARCH(\"Propane\",$A$15),0)>0,VLOOKUP(\"Propane\",HVACg_Lookup,MATCH(Worksheet!$F$13,BuildingSize,0)+1,FALSE),0)))","v":0},0,0,"",""]
[null,null,"",null,null,null,null,null,null,null,null,null,null,null,null,0,0,0,0,"",0,0,0,0,0,0,0,0,0,0,0,0,0,0,0,{"$f":"W211/1000*Y211*AA211*IF(IFERROR(SEARCH(\"Gas\",$A$15),0)>0,VLOOKUP(\"Gas\",HVACg_Lookup,MATCH($F$13,BuildingSize,0)+1,FALSE),IF(IFERROR(SEARCH(\"Oil\",$A$15),0)>0,VLOOKUP(\"Oil\",HVACg_Lookup,MATCH($F$13,BuildingSize,0)+1,FALSE),IF(IFERROR(SEARCH(\"Propane\",$A$15),0)>0,VLOOKUP(\"Propane\",HVACg_Lookup,MATCH(Worksheet!$F$13,BuildingSize,0)+1,FALSE),0)))","v":0},{"$f":"X211/1000*Y211*AA211*IF(IFERROR(SEARCH(\"Gas\",$A$15),0)>0,VLOOKUP(\"Gas\",HVACg_Lookup,MATCH($F$13,BuildingSize,0)+1,FALSE),IF(IFERROR(SEARCH(\"Oil\",$A$15),0)>0,VLOOKUP(\"Oil\",HVACg_Lookup,MATCH($F$13,BuildingSize,0)+1,FALSE),IF(IFERROR(SEARCH(\"Propane\",$A$15),0)>0,VLOOKUP(\"Propane\",HVACg_Lookup,MATCH(Worksheet!$F$13,BuildingSize,0)+1,FALSE),0)))","v":0},0,0,"",""]
[null,null,"",null,null,null,null,null,null,null,null,null,null,null,null,0,0,0,0,"",0,0,0,0,0,0,0,0,0,0,0,0,0,0,0,{"$f":"W212/1000*Y212*AA212*IF(IFERROR(SEARCH(\"Gas\",$A$15),0)>0,VLOOKUP(\"Gas\",HVACg_Lookup,MATCH($F$13,BuildingSize,0)+1,FALSE),IF(IFERROR(SEARCH(\"Oil\",$A$15),0)>0,VLOOKUP(\"Oil\",HVACg_Lookup,MATCH($F$13,BuildingSize,0)+1,FALSE),IF(IFERROR(SEARCH(\"Propane\",$A$15),0)>0,VLOOKUP(\"Propane\",HVACg_Lookup,MATCH(Worksheet!$F$13,BuildingSize,0)+1,FALSE),0)))","v":0},{"$f":"X212/1000*Y212*AA212*IF(IFERROR(SEARCH(\"Gas\",$A$15),0)>0,VLOOKUP(\"Gas\",HVACg_Lookup,MATCH($F$13,BuildingSize,0)+1,FALSE),IF(IFERROR(SEARCH(\"Oil\",$A$15),0)>0,VLOOKUP(\"Oil\",HVACg_Lookup,MATCH($F$13,BuildingSize,0)+1,FALSE),IF(IFERROR(SEARCH(\"Propane\",$A$15),0)>0,VLOOKUP(\"Propane\",HVACg_Lookup,MATCH(Worksheet!$F$13,BuildingSize,0)+1,FALSE),0)))","v":0},0,0,"",""]
[null,null,"",null,null,null,null,null,null,null,null,null,null,null,null,0,0,{"$f":"IF(AN213=\"\",0,IF(AN213=1,VLOOKUP(A213,MeasureCode_Lookup,3,FALSE),\"DNQ\"))","v":0},{"$f":"IF(AO213=\"\",0,IF(AO213=1,VLOOKUP(A213,MeasureCode_Lookup,3,FALSE),\"DNQ\"))","v":0},{"$f":"IF(A213=\"\",\"\",VLOOKUP(A213,MeasureCode_Lookup,4,FALSE))","v":""},0,0,{"$f":"IF(N(R213)=0,0,F213*P213)","v":0},{"$f":"IF(N(S213)=0,0,G213*Q213)","v":0},{"$f":"IF(A213=\"\",0,VLOOKUP(A213,MeasureCode_Lookup,5,FALSE))","v":0},{"$f":"IF($A$13=\"\",0,VLOOKUP($A$13,BuildingType_Lookup,3,FALSE))","v":0},{"$f":"IF($A$13=\"\",0,VLOOKUP($A$13,BuildingType_Lookup,2,FALSE))","v":0},{"$f":"IF(AND(OR(AN213=\"\",AN213=0)=TRUE,OR(AO213=\"\",AO213=0))=TRUE,0,IF(AO213=\"\",(IF(OR(C213=\"DDC\",C213=\"OHLC\")=TRUE,O213,P213)/1000)*Y213*Z213*(1+VLOOKUP($A$13,BuildingType_Lookup,4,FALSE)),IF(AO213=0,0,(IF(OR(C213=\"DDC\",C213=\"OHLC\")=TRUE,O213,Q213)/1000)*Y213*Z213*(1+VLOOKUP($A$13,BuildingType_Lookup,4,FALSE)))))","v":0},{"$f":"IF(AND(OR(AN213=\"\",AN213=0)=TRUE,OR(AO213=\"\",AO213=0))=TRUE,0,IF(AO213=\"\",(IF(OR(C213=\"DDC\",C213=\"OHLC\")=TRUE,O213,P213)/1000)*Y213*AA213*(1+VLOOKUP($A$13,BuildingType_Lookup,MATCH($A$15,HVAC,0)+4,FALSE)),IF(AO213=0,0,(IF(OR(C213=\"DDC\",C213=\"OHLC\")=TRUE,O213,Q213)/1000)*Y213*AA213*(1+VLOOKUP($A$13,BuildingType_Lookup,MATCH($A$15,HVAC,0)+4,FALSE)))))","v":0},{"$f":"IFERROR(IF(OR(C213=\"DDC\",C213=\"OHLC\")=TRUE,F213*J213*AB213,F213*AB213),0)","v":0},{"$f":"IFERROR(IF(OR(C213=\"DDC\",C213=\"OHLC\")=TRUE,G213*K213*AB213,G213*AB213),0)","v":0},{"$f":"IFERROR(IF(OR(C213=\"DDC\",C213=\"OHLC\")=TRUE,F213*J213*AC213,F213*AC213),0)","v":0},{"$f":"IFERROR(IF(OR(C213=\"DDC\",C213=\"OHLC\")=TRUE,G213*K213*AC213,G213*AC213),0)","v":0},0,0,{"$f":"W213/1000*Y213*AA213*IF(IFERROR(SEARCH(\"Gas\",$A$15),0)>0,VLOOKUP(\"Gas\",HVACg_Lookup,MATCH($F$13,BuildingSize,0)+1,FALSE),IF(IFERROR(SEARCH(\"Oil\",$A$15),0)>0,VLOOKUP(\"Oil\",HVACg_Lookup,MATCH($F$13,BuildingSize,0)+1,FALSE),IF(IFERROR(SEARCH(\"Propane\",$A$15),0)>0,VLOOKUP(\"Propane\",HVACg_Lookup,MATCH(Worksheet!$F$13,BuildingSize,0)+1,FALSE),0)))","v":0},{"$f":"X213/1000*Y213*AA213*IF(IFERROR(SEARCH(\"Gas\",$A$15),0)>0,VLOOKUP(\"Gas\",HVACg_Lookup,MATCH($F$13,BuildingSize,0)+1,FALSE),IF(IFERROR(SEARCH(\"Oil\",$A$15),0)>0,VLOOKUP(\"Oil\",HVACg_Lookup,MATCH($F$13,BuildingSize,0)+1,FALSE),IF(IFERROR(SEARCH(\"Propane\",$A$15),0)>0,VLOOKUP(\"Propane\",HVACg_Lookup,MATCH(Worksheet!$F$13,BuildingSize,0)+1,FALSE),0)))","v":0},0,0,{"$f":"IF(OR($B$4=\"\",$B$5=\"\",$A$13=\"\",$F$13=\"\",$A$15=\"\",A213=\"\",F213=\"\",J213=\"\",O213=\"\",P213=\"\")=TRUE,\"\",IF(C213=\"OSW\",IF(J213>=2,1,0),IF(C213=\"OSR\",IF(AND(J213>=2,P213>60)=TRUE,1,0),IF(C213=\"OSRH\",IF(AND(J213>=1,P213>90)=TRUE,1,0),IF(C213=\"OHLC\",IF(AND(N213=\"Y\",P213>60)=TRUE,1,0),IF(C213=\"DDC\",IF(AND(J213>=4,N213=\"Y\",P213>120)=TRUE,1,0),0))))))","v":""},{"$f":"IF(OR($B$4=\"\",$B$5=\"\",$A$13=\"\",$F$13=\"\",$A$15=\"\",A213=\"\",F213=\"\",K213=\"\",O213=\"\",P213=\"\")=TRUE,\"\",IF(C213=\"OSW\",IF(K213>=2,1,0),IF(C213=\"OSR\",IF(AND(K213>=2,Q213>60)=TRUE,1,0),IF(C213=\"OSRH\",IF(AND(K213>=1,Q213>90)=TRUE,1,0),IF(C213=\"OHLC\",IF(AND(N213=\"Y\",Q213>60)=TRUE,1,0),IF(C213=\"DDC\",IF(AND(K213>=4,N213=\"Y\",Q213>120)=TRUE,1,0),0))))))","v":""}]
[null,null,{"$f":"IF(A214=\"\",\"\",VLOOKUP(A214,MeasureCode_Lookup,2,FALSE))","v":""},null,null,null,null,null,null,null,null,null,null,null,null,{"$f":"IF(OR(A214=\"\",F214=\"\",J214=\"\",O214=\"\")=TRUE,0,J214*O214)","v":0},{"$f":"IF(OR(A214=\"\",G214=\"\",K214=\"\",O214=\"\")=TRUE,0,K214*O214)","v":0},0,0,"",{"$f":"IF(N(R214)=0,0,F214*R214*IF(T214=\"per Fixture Controlled\",J214,1))","v":0},{"$f":"IF(N(S214)=0,0,G214*S214*IF(T214=\"per Fixture Controlled\",K214,1))","v":0},0,0,0,0,0,0,0,0,0,0,0,{"$f":"AF214*8","v":0},{"$f":"AG214*8","v":0},{"$f":"W214/1000*Y214*AA214*IF(IFERROR(SEARCH(\"Gas\",$A$15),0)>0,VLOOKUP(\"Gas\",HVACg_Lookup,MATCH($F$13,BuildingSize,0)+1,FALSE),IF(IFERROR(SEARCH(\"Oil\",$A$15),0)>0,VLOOKUP(\"Oil\",HVACg_Lookup,MATCH($F$13,BuildingSize,0)+1,FALSE),IF(IFERROR(SEARCH(\"Propane\",$A$15),0)>0,VLOOKUP(\"Propane\",HVACg_Lookup,MATCH(Worksheet!$F$13,BuildingSize,0)+1,FALSE),0)))","v":0},{"$f":"X214/1000*Y214*AA214*IF(IFERROR(SEARCH(\"Gas\",$A$15),0)>0,VLOOKUP(\"Gas\",HVACg_Lookup,MATCH($F$13,BuildingSize,0)+1,FALSE),IF(IFERROR(SEARCH(\"Oil\",$A$15),0)>0,VLOOKUP(\"Oil\",HVACg_Lookup,MATCH($F$13,BuildingSize,0)+1,FALSE),IF(IFERROR(SEARCH(\"Propane\",$A$15),0)>0,VLOOKUP(\"Propane\",HVACg_Lookup,MATCH(Worksheet!$F$13,BuildingSize,0)+1,FALSE),0)))","v":0},{"$f":"AJ214*8","v":0},{"$f":"AK214*8","v":0},"",""]
[null,null,"",null,null,null,null,null,null,null,null,null,null,null,null,0,0,0,0,"",0,0,0,0,0,0,0,0,0,0,0,0,0,0,0,{"$f":"W215/1000*Y215*AA215*IF(IFERROR(SEARCH(\"Gas\",$A$15),0)>0,VLOOKUP(\"Gas\",HVACg_Lookup,MATCH($F$13,BuildingSize,0)+1,FALSE),IF(IFERROR(SEARCH(\"Oil\",$A$15),0)>0,VLOOKUP(\"Oil\",HVACg_Lookup,MATCH($F$13,BuildingSize,0)+1,FALSE),IF(IFERROR(SEARCH(\"Propane\",$A$15),0)>0,VLOOKUP(\"Propane\",HVACg_Lookup,MATCH(Worksheet!$F$13,BuildingSize,0)+1,FALSE),0)))","v":0},{"$f":"X215/1000*Y215*AA215*IF(IFERROR(SEARCH(\"Gas\",$A$15),0)>0,VLOOKUP(\"Gas\",HVACg_Lookup,MATCH($F$13,BuildingSize,0)+1,FALSE),IF(IFERROR(SEARCH(\"Oil\",$A$15),0)>0,VLOOKUP(\"Oil\",HVACg_Lookup,MATCH($F$13,BuildingSize,0)+1,FALSE),IF(IFERROR(SEARCH(\"Propane\",$A$15),0)>0,VLOOKUP(\"Propane\",HVACg_Lookup,MATCH(Worksheet!$F$13,BuildingSize,0)+1,FALSE),0)))","v":0},0,0,"",""]
[null,null,"",null,null,null,null,null,null,null,null,null,null,null,null,0,0,0,0,"",0,0,0,0,0,0,0,0,0,0,0,0,0,0,0,{"$f":"W216/1000*Y216*AA216*IF(IFERROR(SEARCH(\"Gas\",$A$15),0)>0,VLOOKUP(\"Gas\",HVACg_Lookup,MATCH($F$13,BuildingSize,0)+1,FALSE),IF(IFERROR(SEARCH(\"Oil\",$A$15),0)>0,VLOOKUP(\"Oil\",HVACg_Lookup,MATCH($F$13,BuildingSize,0)+1,FALSE),IF(IFERROR(SEARCH(\"Propane\",$A$15),0)>0,VLOOKUP(\"Propane\",HVACg_Lookup,MATCH(Worksheet!$F$13,BuildingSize,0)+1,FALSE),0)))","v":0},{"$f":"X216/1000*Y216*AA216*IF(IFERROR(SEARCH(\"Gas\",$A$15),0)>0,VLOOKUP(\"Gas\",HVACg_Lookup,MATCH($F$13,BuildingSize,0)+1,FALSE),IF(IFERROR(SEARCH(\"Oil\",$A$15),0)>0,VLOOKUP(\"Oil\",HVACg_Lookup,MATCH($F$13,BuildingSize,0)+1,FALSE),IF(IFERROR(SEARCH(\"Propane\",$A$15),0)>0,VLOOKUP(\"Propane\",HVACg_Lookup,MATCH(Worksheet!$F$13,BuildingSize,0)+1,FALSE),0)))","v":0},0,0,"",""]
[null,null,"",null,null,null,null,null,null,null,null,null,null,null,null,0,0,0,0,"",0,0,0,0,0,0,0,0,0,0,0,0,0,0,0,{"$f":"W217/1000*Y217*AA217*IF(IFERROR(SEARCH(\"Gas\",$A$15),0)>0,VLOOKUP(\"Gas\",HVACg_Lookup,MATCH($F$13,BuildingSize,0)+1,FALSE),IF(IFERROR(SEARCH(\"Oil\",$A$15),0)>0,VLOOKUP(\"Oil\",HVACg_Lookup,MATCH($F$13,BuildingSize,0)+1,FALSE),IF(IFERROR(SEARCH(\"Propane\",$A$15),0)>0,VLOOKUP(\"Propane\",HVACg_Lookup,MATCH(Worksheet!$F$13,BuildingSize,0)+1,FALSE),0)))","v":0},{"$f":"X217/1000*Y217*AA217*IF(IFERROR(SEARCH(\"Gas\",$A$15),0)>0,VLOOKUP(\"Gas\",HVACg_Lookup,MATCH($F$13,BuildingSize,0)+1,FALSE),IF(IFERROR(SEARCH(\"Oil\",$A$15),0)>0,VLOOKUP(\"Oil\",HVACg_Lookup,MATCH($F$13,BuildingSize,0)+1,FALSE),IF(IFERROR(SEARCH(\"Propane\",$A$15),0)>0,VLOOKUP(\"Propane\",HVACg_Lookup,MATCH(Worksheet!$F$13,BuildingSize,0)+1,FALSE),0)))","v":0},0,0,"",""]
[null,null,"",null,null,null,null,null,null,null,null,null,null,null,null,0,0,0,0,"",0,0,0,0,0,0,0,0,0,0,0,0,0,0,0,{"$f":"W218/1000*Y218*AA218*IF(IFERROR(SEARCH(\"Gas\",$A$15),0)>0,VLOOKUP(\"Gas\",HVACg_Lookup,MATCH($F$13,BuildingSize,0)+1,FALSE),IF(IFERROR(SEARCH(\"Oil\",$A$15),0)>0,VLOOKUP(\"Oil\",HVACg_Lookup,MATCH($F$13,BuildingSize,0)+1,FALSE),IF(IFERROR(SEARCH(\"Propane\",$A$15),0)>0,VLOOKUP(\"Propane\",HVACg_Lookup,MATCH(Worksheet!$F$13,BuildingSize,0)+1,FALSE),0)))","v":0},{"$f":"X218/1000*Y218*AA218*IF(IFERROR(SEARCH(\"Gas\",$A$15),0)>0,VLOOKUP(\"Gas\",HVACg_Lookup,MATCH($F$13,BuildingSize,0)+1,FALSE),IF(IFERROR(SEARCH(\"Oil\",$A$15),0)>0,VLOOKUP(\"Oil\",HVACg_Lookup,MATCH($F$13,BuildingSize,0)+1,FALSE),IF(IFERROR(SEARCH(\"Propane\",$A$15),0)>0,VLOOKUP(\"Propane\",HVACg_Lookup,MATCH(Worksheet!$F$13,BuildingSize,0)+1,FALSE),0)))","v":0},0,0,"",""]
[null,null,"",null,null,null,null,null,null,null,null,null,null,null,null,0,0,0,0,"",0,0,0,0,0,0,0,0,0,0,0,0,0,0,0,{"$f":"W219/1000*Y219*AA219*IF(IFERROR(SEARCH(\"Gas\",$A$15),0)>0,VLOOKUP(\"Gas\",HVACg_Lookup,MATCH($F$13,BuildingSize,0)+1,FALSE),IF(IFERROR(SEARCH(\"Oil\",$A$15),0)>0,VLOOKUP(\"Oil\",HVACg_Lookup,MATCH($F$13,BuildingSize,0)+1,FALSE),IF(IFERROR(SEARCH(\"Propane\",$A$15),0)>0,VLOOKUP(\"Propane\",HVACg_Lookup,MATCH(Worksheet!$F$13,BuildingSize,0)+1,FALSE),0)))","v":0},{"$f":"X219/1000*Y219*AA219*IF(IFERROR(SEARCH(\"Gas\",$A$15),0)>0,VLOOKUP(\"Gas\",HVACg_Lookup,MATCH($F$13,BuildingSize,0)+1,FALSE),IF(IFERROR(SEARCH(\"Oil\",$A$15),0)>0,VLOOKUP(\"Oil\",HVACg_Lookup,MATCH($F$13,BuildingSize,0)+1,FALSE),IF(IFERROR(SEARCH(\"Propane\",$A$15),0)>0,VLOOKUP(\"Propane\",HVACg_Lookup,MATCH(Worksheet!$F$13,BuildingSize,0)+1,FALSE),0)))","v":0},0,0,"",""]
[null,null,"",null,null,null,null,null,null,null,null,null,null,null,null,0,0,0,0,"",0,0,0,0,0,0,0,0,0,0,0,0,0,0,0,{"$f":"W220/1000*Y220*AA220*IF(IFERROR(SEARCH(\"Gas\",$A$15),0)>0,VLOOKUP(\"Gas\",HVACg_Lookup,MATCH($F$13,BuildingSize,0)+1,FALSE),IF(IFERROR(SEARCH(\"Oil\",$A$15),0)>0,VLOOKUP(\"Oil\",HVACg_Lookup,MATCH($F$13,BuildingSize,0)+1,FALSE),IF(IFERROR(SEARCH(\"Propane\",$A$15),0)>0,VLOOKUP(\"Propane\",HVACg_Lookup,MATCH(Worksheet!$F$13,BuildingSize,0)+1,FALSE),0)))","v":0},{"$f":"X220/1000*Y220*AA220*IF(IFERROR(SEARCH(\"Gas\",$A$15),0)>0,VLOOKUP(\"Gas\",HVACg_Lookup,MATCH($F$13,BuildingSize,0)+1,FALSE),IF(IFERROR(SEARCH(\"Oil\",$A$15),0)>0,VLOOKUP(\"Oil\",HVACg_Lookup,MATCH($F$13,BuildingSize,0)+1,FALSE),IF(IFERROR(SEARCH(\"Propane\",$A$15),0)>0,VLOOKUP(\"Propane\",HVACg_Lookup,MATCH(Worksheet!$F$13,BuildingSize,0)+1,FALSE),0)))","v":0},0,0,"",""]
[null,null,"",null,null,null,null,null,null,null,null,null,null,null,null,0,0,0,0,"",0,0,0,0,0,0,0,0,0,0,0,0,0,0,0,{"$f":"W221/1000*Y221*AA221*IF(IFERROR(SEARCH(\"Gas\",$A$15),0)>0,VLOOKUP(\"Gas\",HVACg_Lookup,MATCH($F$13,BuildingSize,0)+1,FALSE),IF(IFERROR(SEARCH(\"Oil\",$A$15),0)>0,VLOOKUP(\"Oil\",HVACg_Lookup,MATCH($F$13,BuildingSize,0)+1,FALSE),IF(IFERROR(SEARCH(\"Propane\",$A$15),0)>0,VLOOKUP(\"Propane\",HVACg_Lookup,MATCH(Worksheet!$F$13,BuildingSize,0)+1,FALSE),0)))","v":0},{"$f":"X221/1000*Y221*AA221*IF(IFERROR(SEARCH(\"Gas\",$A$15),0)>0,VLOOKUP(\"Gas\",HVACg_Lookup,MATCH($F$13,BuildingSize,0)+1,FALSE),IF(IFERROR(SEARCH(\"Oil\",$A$15),0)>0,VLOOKUP(\"Oil\",HVACg_Lookup,MATCH($F$13,BuildingSize,0)+1,FALSE),IF(IFERROR(SEARCH(\"Propane\",$A$15),0)>0,VLOOKUP(\"Propane\",HVACg_Lookup,MATCH(Worksheet!$F$13,BuildingSize,0)+1,FALSE),0)))","v":0},0,0,"",""]
[null,null,"",null,null,null,null,null,null,null,null,null,null,null,null,0,0,0,0,"",0,0,0,0,0,0,0,0,0,0,0,0,0,0,0,{"$f":"W222/1000*Y222*AA222*IF(IFERROR(SEARCH(\"Gas\",$A$15),0)>0,VLOOKUP(\"Gas\",HVACg_Lookup,MATCH($F$13,BuildingSize,0)+1,FALSE),IF(IFERROR(SEARCH(\"Oil\",$A$15),0)>0,VLOOKUP(\"Oil\",HVACg_Lookup,MATCH($F$13,BuildingSize,0)+1,FALSE),IF(IFERROR(SEARCH(\"Propane\",$A$15),0)>0,VLOOKUP(\"Propane\",HVACg_Lookup,MATCH(Worksheet!$F$13,BuildingSize,0)+1,FALSE),0)))","v":0},{"$f":"X222/1000*Y222*AA222*IF(IFERROR(SEARCH(\"Gas\",$A$15),0)>0,VLOOKUP(\"Gas\",HVACg_Lookup,MATCH($F$13,BuildingSize,0)+1,FALSE),IF(IFERROR(SEARCH(\"Oil\",$A$15),0)>0,VLOOKUP(\"Oil\",HVACg_Lookup,MATCH($F$13,BuildingSize,0)+1,FALSE),IF(IFERROR(SEARCH(\"Propane\",$A$15),0)>0,VLOOKUP(\"Propane\",HVACg_Lookup,MATCH(Worksheet!$F$13,BuildingSize,0)+1,FALSE),0)))","v":0},0,0,"",""]
[null,null,"",null,null,null,null,null,null,null,null,null,null,null,null,0,0,0,0,"",0,0,0,0,0,0,0,0,0,0,0,0,0,0,0,{"$f":"W223/1000*Y223*AA223*IF(IFERROR(SEARCH(\"Gas\",$A$15),0)>0,VLOOKUP(\"Gas\",HVACg_Lookup,MATCH($F$13,BuildingSize,0)+1,FALSE),IF(IFERROR(SEARCH(\"Oil\",$A$15),0)>0,VLOOKUP(\"Oil\",HVACg_Lookup,MATCH($F$13,BuildingSize,0)+1,FALSE),IF(IFERROR(SEARCH(\"Propane\",$A$15),0)>0,VLOOKUP(\"Propane\",HVACg_Lookup,MATCH(Worksheet!$F$13,BuildingSize,0)+1,FALSE),0)))","v":0},{"$f":"X223/1000*Y223*AA223*IF(IFERROR(SEARCH(\"Gas\",$A$15),0)>0,VLOOKUP(\"Gas\",HVACg_Lookup,MATCH($F$13,BuildingSize,0)+1,FALSE),IF(IFERROR(SEARCH(\"Oil\",$A$15),0)>0,VLOOKUP(\"Oil\",HVACg_Lookup,MATCH($F$13,BuildingSize,0)+1,FALSE),IF(IFERROR(SEARCH(\"Propane\",$A$15),0)>0,VLOOKUP(\"Propane\",HVACg_Lookup,MATCH(Worksheet!$F$13,BuildingSize,0)+1,FALSE),0)))","v":0},0,0,"",""]
[null,null,"",null,null,null,null,null,null,null,null,null,null,null,null,0,0,0,0,"",0,0,0,0,0,0,0,0,0,0,0,0,0,0,0,{"$f":"W224/1000*Y224*AA224*IF(IFERROR(SEARCH(\"Gas\",$A$15),0)>0,VLOOKUP(\"Gas\",HVACg_Lookup,MATCH($F$13,BuildingSize,0)+1,FALSE),IF(IFERROR(SEARCH(\"Oil\",$A$15),0)>0,VLOOKUP(\"Oil\",HVACg_Lookup,MATCH($F$13,BuildingSize,0)+1,FALSE),IF(IFERROR(SEARCH(\"Propane\",$A$15),0)>0,VLOOKUP(\"Propane\",HVACg_Lookup,MATCH(Worksheet!$F$13,BuildingSize,0)+1,FALSE),0)))","v":0},{"$f":"X224/1000*Y224*AA224*IF(IFERROR(SEARCH(\"Gas\",$A$15),0)>0,VLOOKUP(\"Gas\",HVACg_Lookup,MATCH($F$13,BuildingSize,0)+1,FALSE),IF(IFERROR(SEARCH(\"Oil\",$A$15),0)>0,VLOOKUP(\"Oil\",HVACg_Lookup,MATCH($F$13,BuildingSize,0)+1,FALSE),IF(IFERROR(SEARCH(\"Propane\",$A$15),0)>0,VLOOKUP(\"Propane\",HVACg_Lookup,MATCH(Worksheet!$F$13,BuildingSize,0)+1,FALSE),0)))","v":0},0,0,"",""]
[null,null,"",null,null,null,null,null,null,null,null,null,null,null,null,0,0,0,0,"",0,0,0,0,0,0,0,0,0,0,0,0,0,0,0,{"$f":"W225/1000*Y225*AA225*IF(IFERROR(SEARCH(\"Gas\",$A$15),0)>0,VLOOKUP(\"Gas\",HVACg_Lookup,MATCH($F$13,BuildingSize,0)+1,FALSE),IF(IFERROR(SEARCH(\"Oil\",$A$15),0)>0,VLOOKUP(\"Oil\",HVACg_Lookup,MATCH($F$13,BuildingSize,0)+1,FALSE),IF(IFERROR(SEARCH(\"Propane\",$A$15),0)>0,VLOOKUP(\"Propane\",HVACg_Lookup,MATCH(Worksheet!$F$13,BuildingSize,0)+1,FALSE),0)))","v":0},{"$f":"X225/1000*Y225*AA225*IF(IFERROR(SEARCH(\"Gas\",$A$15),0)>0,VLOOKUP(\"Gas\",HVACg_Lookup,MATCH($F$13,BuildingSize,0)+1,FALSE),IF(IFERROR(SEARCH(\"Oil\",$A$15),0)>0,VLOOKUP(\"Oil\",HVACg_Lookup,MATCH($F$13,BuildingSize,0)+1,FALSE),IF(IFERROR(SEARCH(\"Propane\",$A$15),0)>0,VLOOKUP(\"Propane\",HVACg_Lookup,MATCH(Worksheet!$F$13,BuildingSize,0)+1,FALSE),0)))","v":0},0,0,"",""]
[null,null,"",null,null,null,null,null,null,null,null,null,null,null,null,0,0,0,0,"",0,0,0,0,0,0,0,0,0,0,0,0,0,0,0,{"$f":"W226/1000*Y226*AA226*IF(IFERROR(SEARCH(\"Gas\",$A$15),0)>0,VLOOKUP(\"Gas\",HVACg_Lookup,MATCH($F$13,BuildingSize,0)+1,FALSE),IF(IFERROR(SEARCH(\"Oil\",$A$15),0)>0,VLOOKUP(\"Oil\",HVACg_Lookup,MATCH($F$13,BuildingSize,0)+1,FALSE),IF(IFERROR(SEARCH(\"Propane\",$A$15),0)>0,VLOOKUP(\"Propane\",HVACg_Lookup,MATCH(Worksheet!$F$13,BuildingSize,0)+1,FALSE),0)))","v":0},{"$f":"X226/1000*Y226*AA226*IF(IFERROR(SEARCH(\"Gas\",$A$15),0)>0,VLOOKUP(\"Gas\",HVACg_Lookup,MATCH($F$13,BuildingSize,0)+1,FALSE),IF(IFERROR(SEARCH(\"Oil\",$A$15),0)>0,VLOOKUP(\"Oil\",HVACg_Lookup,MATCH($F$13,BuildingSize,0)+1,FALSE),IF(IFERROR(SEARCH(\"Propane\",$A$15),0)>0,VLOOKUP(\"Propane\",HVACg_Lookup,MATCH(Worksheet!$F$13,BuildingSize,0)+1,FALSE),0)))","v":0},0,0,"",""]
[null,null,"",null,null,null,null,null,null,null,null,null,null,null,null,0,0,0,0,"",0,0,0,0,0,0,0,0,0,0,0,0,0,0,0,{"$f":"W227/1000*Y227*AA227*IF(IFERROR(SEARCH(\"Gas\",$A$15),0)>0,VLOOKUP(\"Gas\",HVACg_Lookup,MATCH($F$13,BuildingSize,0)+1,FALSE),IF(IFERROR(SEARCH(\"Oil\",$A$15),0)>0,VLOOKUP(\"Oil\",HVACg_Lookup,MATCH($F$13,BuildingSize,0)+1,FALSE),IF(IFERROR(SEARCH(\"Propane\",$A$15),0)>0,VLOOKUP(\"Propane\",HVACg_Lookup,MATCH(Worksheet!$F$13,BuildingSize,0)+1,FALSE),0)))","v":0},{"$f":"X227/1000*Y227*AA227*IF(IFERROR(SEARCH(\"Gas\",$A$15),0)>0,VLOOKUP(\"Gas\",HVACg_Lookup,MATCH($F$13,BuildingSize,0)+1,FALSE),IF(IFERROR(SEARCH(\"Oil\",$A$15),0)>0,VLOOKUP(\"Oil\",HVACg_Lookup,MATCH($F$13,BuildingSize,0)+1,FALSE),IF(IFERROR(SEARCH(\"Propane\",$A$15),0)>0,VLOOKUP(\"Propane\",HVACg_Lookup,MATCH(Worksheet!$F$13,BuildingSize,0)+1,FALSE),0)))","v":0},0,0,"",""]
[null,null,"",null,null,null,null,null,null,null,null,null,null,null,null,0,0,0,0,"",0,0,0,0,0,0,0,0,0,0,0,0,0,0,0,{"$f":"W228/1000*Y228*AA228*IF(IFERROR(SEARCH(\"Gas\",$A$15),0)>0,VLOOKUP(\"Gas\",HVACg_Lookup,MATCH($F$13,BuildingSize,0)+1,FALSE),IF(IFERROR(SEARCH(\"Oil\",$A$15),0)>0,VLOOKUP(\"Oil\",HVACg_Lookup,MATCH($F$13,BuildingSize,0)+1,FALSE),IF(IFERROR(SEARCH(\"Propane\",$A$15),0)>0,VLOOKUP(\"Propane\",HVACg_Lookup,MATCH(Worksheet!$F$13,BuildingSize,0)+1,FALSE),0)))","v":0},{"$f":"X228/1000*Y228*AA228*IF(IFERROR(SEARCH(\"Gas\",$A$15),0)>0,VLOOKUP(\"Gas\",HVACg_Lookup,MATCH($F$13,BuildingSize,0)+1,FALSE),IF(IFERROR(SEARCH(\"Oil\",$A$15),0)>0,VLOOKUP(\"Oil\",HVACg_Lookup,MATCH($F$13,BuildingSize,0)+1,FALSE),IF(IFERROR(SEARCH(\"Propane\",$A$15),0)>0,VLOOKUP(\"Propane\",HVACg_Lookup,MATCH(Worksheet!$F$13,BuildingSize,0)+1,FALSE),0)))","v":0},0,0,"",""]
[null,null,"",null,null,null,null,null,null,null,null,null,null,null,null,0,0,0,0,"",0,0,0,0,0,0,0,0,0,0,0,0,0,0,0,{"$f":"W229/1000*Y229*AA229*IF(IFERROR(SEARCH(\"Gas\",$A$15),0)>0,VLOOKUP(\"Gas\",HVACg_Lookup,MATCH($F$13,BuildingSize,0)+1,FALSE),IF(IFERROR(SEARCH(\"Oil\",$A$15),0)>0,VLOOKUP(\"Oil\",HVACg_Lookup,MATCH($F$13,BuildingSize,0)+1,FALSE),IF(IFERROR(SEARCH(\"Propane\",$A$15),0)>0,VLOOKUP(\"Propane\",HVACg_Lookup,MATCH(Worksheet!$F$13,BuildingSize,0)+1,FALSE),0)))","v":0},{"$f":"X229/1000*Y229*AA229*IF(IFERROR(SEARCH(\"Gas\",$A$15),0)>0,VLOOKUP(\"Gas\",HVACg_Lookup,MATCH($F$13,BuildingSize,0)+1,FALSE),IF(IFERROR(SEARCH(\"Oil\",$A$15),0)>0,VLOOKUP(\"Oil\",HVACg_Lookup,MATCH($F$13,BuildingSize,0)+1,FALSE),IF(IFERROR(SEARCH(\"Propane\",$A$15),0)>0,VLOOKUP(\"Propane\",HVACg_Lookup,MATCH(Worksheet!$F$13,BuildingSize,0)+1,FALSE),0)))","v":0},0,0,"",""]
[null,null,"",null,null,null,null,null,null,null,null,null,null,null,null,0,0,0,0,"",0,0,0,0,0,0,0,0,0,0,0,0,0,0,0,{"$f":"W230/1000*Y230*AA230*IF(IFERROR(SEARCH(\"Gas\",$A$15),0)>0,VLOOKUP(\"Gas\",HVACg_Lookup,MATCH($F$13,BuildingSize,0)+1,FALSE),IF(IFERROR(SEARCH(\"Oil\",$A$15),0)>0,VLOOKUP(\"Oil\",HVACg_Lookup,MATCH($F$13,BuildingSize,0)+1,FALSE),IF(IFERROR(SEARCH(\"Propane\",$A$15),0)>0,VLOOKUP(\"Propane\",HVACg_Lookup,MATCH(Worksheet!$F$13,BuildingSize,0)+1,FALSE),0)))","v":0},{"$f":"X230/1000*Y230*AA230*IF(IFERROR(SEARCH(\"Gas\",$A$15),0)>0,VLOOKUP(\"Gas\",HVACg_Lookup,MATCH($F$13,BuildingSize,0)+1,FALSE),IF(IFERROR(SEARCH(\"Oil\",$A$15),0)>0,VLOOKUP(\"Oil\",HVACg_Lookup,MATCH($F$13,BuildingSize,0)+1,FALSE),IF(IFERROR(SEARCH(\"Propane\",$A$15),0)>0,VLOOKUP(\"Propane\",HVACg_Lookup,MATCH(Worksheet!$F$13,BuildingSize,0)+1,FALSE),0)))","v":0},0,0,"",""]
[null,null,"",null,null,null,null,null,null,null,null,null,null,null,null,0,0,0,0,"",0,0,0,0,0,0,0,0,0,0,0,0,0,0,0,{"$f":"W231/1000*Y231*AA231*IF(IFERROR(SEARCH(\"Gas\",$A$15),0)>0,VLOOKUP(\"Gas\",HVACg_Lookup,MATCH($F$13,BuildingSize,0)+1,FALSE),IF(IFERROR(SEARCH(\"Oil\",$A$15),0)>0,VLOOKUP(\"Oil\",HVACg_Lookup,MATCH($F$13,BuildingSize,0)+1,FALSE),IF(IFERROR(SEARCH(\"Propane\",$A$15),0)>0,VLOOKUP(\"Propane\",HVACg_Lookup,MATCH(Worksheet!$F$13,BuildingSize,0)+1,FALSE),0)))","v":0},{"$f":"X231/1000*Y231*AA231*IF(IFERROR(SEARCH(\"Gas\",$A$15),0)>0,VLOOKUP(\"Gas\",HVACg_Lookup,MATCH($F$13,BuildingSize,0)+1,FALSE),IF(IFERROR(SEARCH(\"Oil\",$A$15),0)>0,VLOOKUP(\"Oil\",HVACg_Lookup,MATCH($F$13,BuildingSize,0)+1,FALSE),IF(IFERROR(SEARCH(\"Propane\",$A$15),0)>0,VLOOKUP(\"Propane\",HVACg_Lookup,MATCH(Worksheet!$F$13,BuildingSize,0)+1,FALSE),0)))","v":0},0,0,"",""]
[null,null,"",null,null,null,null,null,null,null,null,null,null,null,null,0,0,0,0,"",0,0,0,0,0,0,0,0,0,0,0,0,0,0,0,{"$f":"W232/1000*Y232*AA232*IF(IFERROR(SEARCH(\"Gas\",$A$15),0)>0,VLOOKUP(\"Gas\",HVACg_Lookup,MATCH($F$13,BuildingSize,0)+1,FALSE),IF(IFERROR(SEARCH(\"Oil\",$A$15),0)>0,VLOOKUP(\"Oil\",HVACg_Lookup,MATCH($F$13,BuildingSize,0)+1,FALSE),IF(IFERROR(SEARCH(\"Propane\",$A$15),0)>0,VLOOKUP(\"Propane\",HVACg_Lookup,MATCH(Worksheet!$F$13,BuildingSize,0)+1,FALSE),0)))","v":0},{"$f":"X232/1000*Y232*AA232*IF(IFERROR(SEARCH(\"Gas\",$A$15),0)>0,VLOOKUP(\"Gas\",HVACg_Lookup,MATCH($F$13,BuildingSize,0)+1,FALSE),IF(IFERROR(SEARCH(\"Oil\",$A$15),0)>0,VLOOKUP(\"Oil\",HVACg_Lookup,MATCH($F$13,BuildingSize,0)+1,FALSE),IF(IFERROR(SEARCH(\"Propane\",$A$15),0)>0,VLOOKUP(\"Propane\",HVACg_Lookup,MATCH(Worksheet!$F$13,BuildingSize,0)+1,FALSE),0)))","v":0},0,0,"",""]
[null,null,"",null,null,null,null,null,null,null,null,null,null,null,null,0,0,0,0,"",0,0,0,0,0,0,0,0,0,0,0,0,0,0,0,{"$f":"W233/1000*Y233*AA233*IF(IFERROR(SEARCH(\"Gas\",$A$15),0)>0,VLOOKUP(\"Gas\",HVACg_Lookup,MATCH($F$13,BuildingSize,0)+1,FALSE),IF(IFERROR(SEARCH(\"Oil\",$A$15),0)>0,VLOOKUP(\"Oil\",HVACg_Lookup,MATCH($F$13,BuildingSize,0)+1,FALSE),IF(IFERROR(SEARCH(\"Propane\",$A$15),0)>0,VLOOKUP(\"Propane\",HVACg_Lookup,MATCH(Worksheet!$F$13,BuildingSize,0)+1,FALSE),0)))","v":0},{"$f":"X233/1000*Y233*AA233*IF(IFERROR(SEARCH(\"Gas\",$A$15),0)>0,VLOOKUP(\"Gas\",HVACg_Lookup,MATCH($F$13,BuildingSize,0)+1,FALSE),IF(IFERROR(SEARCH(\"Oil\",$A$15),0)>0,VLOOKUP(\"Oil\",HVACg_Lookup,MATCH($F$13,BuildingSize,0)+1,FALSE),IF(IFERROR(SEARCH(\"Propane\",$A$15),0)>0,VLOOKUP(\"Propane\",HVACg_Lookup,MATCH(Worksheet!$F$13,BuildingSize,0)+1,FALSE),0)))","v":0},0,0,"",""]
[null,null,"",null,null,null,null,null,null,null,null,null,null,null,null,0,0,0,0,"",0,0,0,0,0,0,0,0,0,0,0,0,0,0,0,{"$f":"W234/1000*Y234*AA234*IF(IFERROR(SEARCH(\"Gas\",$A$15),0)>0,VLOOKUP(\"Gas\",HVACg_Lookup,MATCH($F$13,BuildingSize,0)+1,FALSE),IF(IFERROR(SEARCH(\"Oil\",$A$15),0)>0,VLOOKUP(\"Oil\",HVACg_Lookup,MATCH($F$13,BuildingSize,0)+1,FALSE),IF(IFERROR(SEARCH(\"Propane\",$A$15),0)>0,VLOOKUP(\"Propane\",HVACg_Lookup,MATCH(Worksheet!$F$13,BuildingSize,0)+1,FALSE),0)))","v":0},{"$f":"X234/1000*Y234*AA234*IF(IFERROR(SEARCH(\"Gas\",$A$15),0)>0,VLOOKUP(\"Gas\",HVACg_Lookup,MATCH($F$13,BuildingSize,0)+1,FALSE),IF(IFERROR(SEARCH(\"Oil\",$A$15),0)>0,VLOOKUP(\"Oil\",HVACg_Lookup,MATCH($F$13,BuildingSize,0)+1,FALSE),IF(IFERROR(SEARCH(\"Propane\",$A$15),0)>0,VLOOKUP(\"Propane\",HVACg_Lookup,MATCH(Worksheet!$F$13,BuildingSize,0)+1,FALSE),0)))","v":0},0,0,"",""]
[null,null,"",null,null,null,null,null,null,null,null,null,null,null,null,0,0,0,0,"",0,0,0,0,0,0,0,0,0,0,0,0,0,0,0,{"$f":"W235/1000*Y235*AA235*IF(IFERROR(SEARCH(\"Gas\",$A$15),0)>0,VLOOKUP(\"Gas\",HVACg_Lookup,MATCH($F$13,BuildingSize,0)+1,FALSE),IF(IFERROR(SEARCH(\"Oil\",$A$15),0)>0,VLOOKUP(\"Oil\",HVACg_Lookup,MATCH($F$13,BuildingSize,0)+1,FALSE),IF(IFERROR(SEARCH(\"Propane\",$A$15),0)>0,VLOOKUP(\"Propane\",HVACg_Lookup,MATCH(Worksheet!$F$13,BuildingSize,0)+1,FALSE),0)))","v":0},{"$f":"X235/1000*Y235*AA235*IF(IFERROR(SEARCH(\"Gas\",$A$15),0)>0,VLOOKUP(\"Gas\",HVACg_Lookup,MATCH($F$13,BuildingSize,0)+1,FALSE),IF(IFERROR(SEARCH(\"Oil\",$A$15),0)>0,VLOOKUP(\"Oil\",HVACg_Lookup,MATCH($F$13,BuildingSize,0)+1,FALSE),IF(IFERROR(SEARCH(\"Propane\",$A$15),0)>0,VLOOKUP(\"Propane\",HVACg_Lookup,MATCH(Worksheet!$F$13,BuildingSize,0)+1,FALSE),0)))","v":0},0,0,"",""]
[null,null,"",null,null,null,null,null,null,null,null,null,null,null,null,0,0,0,0,"",0,0,0,0,0,0,0,0,0,0,0,0,0,0,0,{"$f":"W236/1000*Y236*AA236*IF(IFERROR(SEARCH(\"Gas\",$A$15),0)>0,VLOOKUP(\"Gas\",HVACg_Lookup,MATCH($F$13,BuildingSize,0)+1,FALSE),IF(IFERROR(SEARCH(\"Oil\",$A$15),0)>0,VLOOKUP(\"Oil\",HVACg_Lookup,MATCH($F$13,BuildingSize,0)+1,FALSE),IF(IFERROR(SEARCH(\"Propane\",$A$15),0)>0,VLOOKUP(\"Propane\",HVACg_Lookup,MATCH(Worksheet!$F$13,BuildingSize,0)+1,FALSE),0)))","v":0},{"$f":"X236/1000*Y236*AA236*IF(IFERROR(SEARCH(\"Gas\",$A$15),0)>0,VLOOKUP(\"Gas\",HVACg_Lookup,MATCH($F$13,BuildingSize,0)+1,FALSE),IF(IFERROR(SEARCH(\"Oil\",$A$15),0)>0,VLOOKUP(\"Oil\",HVACg_Lookup,MATCH($F$13,BuildingSize,0)+1,FALSE),IF(IFERROR(SEARCH(\"Propane\",$A$15),0)>0,VLOOKUP(\"Propane\",HVACg_Lookup,MATCH(Worksheet!$F$13,BuildingSize,0)+1,FALSE),0)))","v":0},0,0,"",""]
[null,null,"",null,null,null,null,null,null,null,null,null,null,null,null,0,0,0,0,"",0,0,0,0,0,0,0,0,0,0,0,0,0,0,0,{"$f":"W237/1000*Y237*AA237*IF(IFERROR(SEARCH(\"Gas\",$A$15),0)>0,VLOOKUP(\"Gas\",HVACg_Lookup,MATCH($F$13,BuildingSize,0)+1,FALSE),IF(IFERROR(SEARCH(\"Oil\",$A$15),0)>0,VLOOKUP(\"Oil\",HVACg_Lookup,MATCH($F$13,BuildingSize,0)+1,FALSE),IF(IFERROR(SEARCH(\"Propane\",$A$15),0)>0,VLOOKUP(\"Propane\",HVACg_Lookup,MATCH(Worksheet!$F$13,BuildingSize,0)+1,FALSE),0)))","v":0},{"$f":"X237/1000*Y237*AA237*IF(IFERROR(SEARCH(\"Gas\",$A$15),0)>0,VLOOKUP(\"Gas\",HVACg_Lookup,MATCH($F$13,BuildingSize,0)+1,FALSE),IF(IFERROR(SEARCH(\"Oil\",$A$15),0)>0,VLOOKUP(\"Oil\",HVACg_Lookup,MATCH($F$13,BuildingSize,0)+1,FALSE),IF(IFERROR(SEARCH(\"Propane\",$A$15),0)>0,VLOOKUP(\"Propane\",HVACg_Lookup,MATCH(Worksheet!$F$13,BuildingSize,0)+1,FALSE),0)))","v":0},0,0,"",""]
[null,null,"",null,null,null,null,null,null,null,null,null,null,null,null,0,0,0,0,"",0,0,0,0,0,0,0,0,0,0,0,0,0,0,0,{"$f":"W238/1000*Y238*AA238*IF(IFERROR(SEARCH(\"Gas\",$A$15),0)>0,VLOOKUP(\"Gas\",HVACg_Lookup,MATCH($F$13,BuildingSize,0)+1,FALSE),IF(IFERROR(SEARCH(\"Oil\",$A$15),0)>0,VLOOKUP(\"Oil\",HVACg_Lookup,MATCH($F$13,BuildingSize,0)+1,FALSE),IF(IFERROR(SEARCH(\"Propane\",$A$15),0)>0,VLOOKUP(\"Propane\",HVACg_Lookup,MATCH(Worksheet!$F$13,BuildingSize,0)+1,FALSE),0)))","v":0},{"$f":"X238/1000*Y238*AA238*IF(IFERROR(SEARCH(\"Gas\",$A$15),0)>0,VLOOKUP(\"Gas\",HVACg_Lookup,MATCH($F$13,BuildingSize,0)+1,FALSE),IF(IFERROR(SEARCH(\"Oil\",$A$15),0)>0,VLOOKUP(\"Oil\",HVACg_Lookup,MATCH($F$13,BuildingSize,0)+1,FALSE),IF(IFERROR(SEARCH(\"Propane\",$A$15),0)>0,VLOOKUP(\"Propane\",HVACg_Lookup,MATCH(Worksheet!$F$13,BuildingSize,0)+1,FALSE),0)))","v":0},0,0,"",""]
[null,null,"",null,null,null,null,null,null,null,null,null,null,null,null,0,0,0,0,"",0,0,0,0,0,0,0,0,0,0,0,0,0,0,0,{"$f":"W239/1000*Y239*AA239*IF(IFERROR(SEARCH(\"Gas\",$A$15),0)>0,VLOOKUP(\"Gas\",HVACg_Lookup,MATCH($F$13,BuildingSize,0)+1,FALSE),IF(IFERROR(SEARCH(\"Oil\",$A$15),0)>0,VLOOKUP(\"Oil\",HVACg_Lookup,MATCH($F$13,BuildingSize,0)+1,FALSE),IF(IFERROR(SEARCH(\"Propane\",$A$15),0)>0,VLOOKUP(\"Propane\",HVACg_Lookup,MATCH(Worksheet!$F$13,BuildingSize,0)+1,FALSE),0)))","v":0},{"$f":"X239/1000*Y239*AA239*IF(IFERROR(SEARCH(\"Gas\",$A$15),0)>0,VLOOKUP(\"Gas\",HVACg_Lookup,MATCH($F$13,BuildingSize,0)+1,FALSE),IF(IFERROR(SEARCH(\"Oil\",$A$15),0)>0,VLOOKUP(\"Oil\",HVACg_Lookup,MATCH($F$13,BuildingSize,0)+1,FALSE),IF(IFERROR(SEARCH(\"Propane\",$A$15),0)>0,VLOOKUP(\"Propane\",HVACg_Lookup,MATCH(Worksheet!$F$13,BuildingSize,0)+1,FALSE),0)))","v":0},0,0,"",""]
[null,null,"",null,null,null,null,null,null,null,null,null,null,null,null,0,0,0,0,"",0,0,0,0,0,0,0,0,0,0,0,0,0,0,0,{"$f":"W240/1000*Y240*AA240*IF(IFERROR(SEARCH(\"Gas\",$A$15),0)>0,VLOOKUP(\"Gas\",HVACg_Lookup,MATCH($F$13,BuildingSize,0)+1,FALSE),IF(IFERROR(SEARCH(\"Oil\",$A$15),0)>0,VLOOKUP(\"Oil\",HVACg_Lookup,MATCH($F$13,BuildingSize,0)+1,FALSE),IF(IFERROR(SEARCH(\"Propane\",$A$15),0)>0,VLOOKUP(\"Propane\",HVACg_Lookup,MATCH(Worksheet!$F$13,BuildingSize,0)+1,FALSE),0)))","v":0},{"$f":"X240/1000*Y240*AA240*IF(IFERROR(SEARCH(\"Gas\",$A$15),0)>0,VLOOKUP(\"Gas\",HVACg_Lookup,MATCH($F$13,BuildingSize,0)+1,FALSE),IF(IFERROR(SEARCH(\"Oil\",$A$15),0)>0,VLOOKUP(\"Oil\",HVACg_Lookup,MATCH($F$13,BuildingSize,0)+1,FALSE),IF(IFERROR(SEARCH(\"Propane\",$A$15),0)>0,VLOOKUP(\"Propane\",HVACg_Lookup,MATCH(Worksheet!$F$13,BuildingSize,0)+1,FALSE),0)))","v":0},0,0,"",""]
[null,null,"",null,null,null,null,null,null,null,null,null,null,null,null,0,0,0,0,"",0,0,0,0,0,0,0,0,0,0,0,0,0,0,0,{"$f":"W241/1000*Y241*AA241*IF(IFERROR(SEARCH(\"Gas\",$A$15),0)>0,VLOOKUP(\"Gas\",HVACg_Lookup,MATCH($F$13,BuildingSize,0)+1,FALSE),IF(IFERROR(SEARCH(\"Oil\",$A$15),0)>0,VLOOKUP(\"Oil\",HVACg_Lookup,MATCH($F$13,BuildingSize,0)+1,FALSE),IF(IFERROR(SEARCH(\"Propane\",$A$15),0)>0,VLOOKUP(\"Propane\",HVACg_Lookup,MATCH(Worksheet!$F$13,BuildingSize,0)+1,FALSE),0)))","v":0},{"$f":"X241/1000*Y241*AA241*IF(IFERROR(SEARCH(\"Gas\",$A$15),0)>0,VLOOKUP(\"Gas\",HVACg_Lookup,MATCH($F$13,BuildingSize,0)+1,FALSE),IF(IFERROR(SEARCH(\"Oil\",$A$15),0)>0,VLOOKUP(\"Oil\",HVACg_Lookup,MATCH($F$13,BuildingSize,0)+1,FALSE),IF(IFERROR(SEARCH(\"Propane\",$A$15),0)>0,VLOOKUP(\"Propane\",HVACg_Lookup,MATCH(Worksheet!$F$13,BuildingSize,0)+1,FALSE),0)))","v":0},0,0,"",""]
[null,null,"",null,null,null,null,null,null,null,null,null,null,null,null,0,0,0,0,"",0,0,0,0,0,0,0,0,0,0,0,0,0,0,0,{"$f":"W242/1000*Y242*AA242*IF(IFERROR(SEARCH(\"Gas\",$A$15),0)>0,VLOOKUP(\"Gas\",HVACg_Lookup,MATCH($F$13,BuildingSize,0)+1,FALSE),IF(IFERROR(SEARCH(\"Oil\",$A$15),0)>0,VLOOKUP(\"Oil\",HVACg_Lookup,MATCH($F$13,BuildingSize,0)+1,FALSE),IF(IFERROR(SEARCH(\"Propane\",$A$15),0)>0,VLOOKUP(\"Propane\",HVACg_Lookup,MATCH(Worksheet!$F$13,BuildingSize,0)+1,FALSE),0)))","v":0},{"$f":"X242/1000*Y242*AA242*IF(IFERROR(SEARCH(\"Gas\",$A$15),0)>0,VLOOKUP(\"Gas\",HVACg_Lookup,MATCH($F$13,BuildingSize,0)+1,FALSE),IF(IFERROR(SEARCH(\"Oil\",$A$15),0)>0,VLOOKUP(\"Oil\",HVACg_Lookup,MATCH($F$13,BuildingSize,0)+1,FALSE),IF(IFERROR(SEARCH(\"Propane\",$A$15),0)>0,VLOOKUP(\"Propane\",HVACg_Lookup,MATCH(Worksheet!$F$13,BuildingSize,0)+1,FALSE),0)))","v":0},0,0,"",""]
[null,null,"",null,null,null,null,null,null,null,null,null,null,null,null,0,0,0,0,"",0,0,0,0,0,0,0,0,0,0,0,0,0,0,0,{"$f":"W243/1000*Y243*AA243*IF(IFERROR(SEARCH(\"Gas\",$A$15),0)>0,VLOOKUP(\"Gas\",HVACg_Lookup,MATCH($F$13,BuildingSize,0)+1,FALSE),IF(IFERROR(SEARCH(\"Oil\",$A$15),0)>0,VLOOKUP(\"Oil\",HVACg_Lookup,MATCH($F$13,BuildingSize,0)+1,FALSE),IF(IFERROR(SEARCH(\"Propane\",$A$15),0)>0,VLOOKUP(\"Propane\",HVACg_Lookup,MATCH(Worksheet!$F$13,BuildingSize,0)+1,FALSE),0)))","v":0},{"$f":"X243/1000*Y243*AA243*IF(IFERROR(SEARCH(\"Gas\",$A$15),0)>0,VLOOKUP(\"Gas\",HVACg_Lookup,MATCH($F$13,BuildingSize,0)+1,FALSE),IF(IFERROR(SEARCH(\"Oil\",$A$15),0)>0,VLOOKUP(\"Oil\",HVACg_Lookup,MATCH($F$13,BuildingSize,0)+1,FALSE),IF(IFERROR(SEARCH(\"Propane\",$A$15),0)>0,VLOOKUP(\"Propane\",HVACg_Lookup,MATCH(Worksheet!$F$13,BuildingSize,0)+1,FALSE),0)))","v":0},0,0,"",""]
[null,null,"",null,null,null,null,null,null,null,null,null,null,null,null,0,0,0,0,"",0,0,0,0,0,0,0,0,0,0,0,0,0,0,0,{"$f":"W244/1000*Y244*AA244*IF(IFERROR(SEARCH(\"Gas\",$A$15),0)>0,VLOOKUP(\"Gas\",HVACg_Lookup,MATCH($F$13,BuildingSize,0)+1,FALSE),IF(IFERROR(SEARCH(\"Oil\",$A$15),0)>0,VLOOKUP(\"Oil\",HVACg_Lookup,MATCH($F$13,BuildingSize,0)+1,FALSE),IF(IFERROR(SEARCH(\"Propane\",$A$15),0)>0,VLOOKUP(\"Propane\",HVACg_Lookup,MATCH(Worksheet!$F$13,BuildingSize,0)+1,FALSE),0)))","v":0},{"$f":"X244/1000*Y244*AA244*IF(IFERROR(SEARCH(\"Gas\",$A$15),0)>0,VLOOKUP(\"Gas\",HVACg_Lookup,MATCH($F$13,BuildingSize,0)+1,FALSE),IF(IFERROR(SEARCH(\"Oil\",$A$15),0)>0,VLOOKUP(\"Oil\",HVACg_Lookup,MATCH($F$13,BuildingSize,0)+1,FALSE),IF(IFERROR(SEARCH(\"Propane\",$A$15),0)>0,VLOOKUP(\"Propane\",HVACg_Lookup,MATCH(Worksheet!$F$13,BuildingSize,0)+1,FALSE),0)))","v":0},0,0,"",""]
[null,null,"",null,null,null,null,null,null,null,null,null,null,null,null,0,0,0,0,"",0,0,0,0,0,0,0,0,0,0,0,0,0,0,0,{"$f":"W245/1000*Y245*AA245*IF(IFERROR(SEARCH(\"Gas\",$A$15),0)>0,VLOOKUP(\"Gas\",HVACg_Lookup,MATCH($F$13,BuildingSize,0)+1,FALSE),IF(IFERROR(SEARCH(\"Oil\",$A$15),0)>0,VLOOKUP(\"Oil\",HVACg_Lookup,MATCH($F$13,BuildingSize,0)+1,FALSE),IF(IFERROR(SEARCH(\"Propane\",$A$15),0)>0,VLOOKUP(\"Propane\",HVACg_Lookup,MATCH(Worksheet!$F$13,BuildingSize,0)+1,FALSE),0)))","v":0},{"$f":"X245/1000*Y245*AA245*IF(IFERROR(SEARCH(\"Gas\",$A$15),0)>0,VLOOKUP(\"Gas\",HVACg_Lookup,MATCH($F$13,BuildingSize,0)+1,FALSE),IF(IFERROR(SEARCH(\"Oil\",$A$15),0)>0,VLOOKUP(\"Oil\",HVACg_Lookup,MATCH($F$13,BuildingSize,0)+1,FALSE),IF(IFERROR(SEARCH(\"Propane\",$A$15),0)>0,VLOOKUP(\"Propane\",HVACg_Lookup,MATCH(Worksheet!$F$13,BuildingSize,0)+1,FALSE),0)))","v":0},0,0,"",""]
[null,null,"",null,null,null,null,null,null,null,null,null,null,null,null,0,0,0,0,"",0,0,0,0,0,0,0,0,0,0,0,0,0,0,0,{"$f":"W246/1000*Y246*AA246*IF(IFERROR(SEARCH(\"Gas\",$A$15),0)>0,VLOOKUP(\"Gas\",HVACg_Lookup,MATCH($F$13,BuildingSize,0)+1,FALSE),IF(IFERROR(SEARCH(\"Oil\",$A$15),0)>0,VLOOKUP(\"Oil\",HVACg_Lookup,MATCH($F$13,BuildingSize,0)+1,FALSE),IF(IFERROR(SEARCH(\"Propane\",$A$15),0)>0,VLOOKUP(\"Propane\",HVACg_Lookup,MATCH(Worksheet!$F$13,BuildingSize,0)+1,FALSE),0)))","v":0},{"$f":"X246/1000*Y246*AA246*IF(IFERROR(SEARCH(\"Gas\",$A$15),0)>0,VLOOKUP(\"Gas\",HVACg_Lookup,MATCH($F$13,BuildingSize,0)+1,FALSE),IF(IFERROR(SEARCH(\"Oil\",$A$15),0)>0,VLOOKUP(\"Oil\",HVACg_Lookup,MATCH($F$13,BuildingSize,0)+1,FALSE),IF(IFERROR(SEARCH(\"Propane\",$A$15),0)>0,VLOOKUP(\"Propane\",HVACg_Lookup,MATCH(Worksheet!$F$13,BuildingSize,0)+1,FALSE),0)))","v":0},0,0,"",""]
[null,null,"",null,null,null,null,null,null,null,null,null,null,null,null,0,0,0,0,"",0,0,0,0,0,0,0,0,0,0,0,0,0,0,0,{"$f":"W247/1000*Y247*AA247*IF(IFERROR(SEARCH(\"Gas\",$A$15),0)>0,VLOOKUP(\"Gas\",HVACg_Lookup,MATCH($F$13,BuildingSize,0)+1,FALSE),IF(IFERROR(SEARCH(\"Oil\",$A$15),0)>0,VLOOKUP(\"Oil\",HVACg_Lookup,MATCH($F$13,BuildingSize,0)+1,FALSE),IF(IFERROR(SEARCH(\"Propane\",$A$15),0)>0,VLOOKUP(\"Propane\",HVACg_Lookup,MATCH(Worksheet!$F$13,BuildingSize,0)+1,FALSE),0)))","v":0},{"$f":"X247/1000*Y247*AA247*IF(IFERROR(SEARCH(\"Gas\",$A$15),0)>0,VLOOKUP(\"Gas\",HVACg_Lookup,MATCH($F$13,BuildingSize,0)+1,FALSE),IF(IFERROR(SEARCH(\"Oil\",$A$15),0)>0,VLOOKUP(\"Oil\",HVACg_Lookup,MATCH($F$13,BuildingSize,0)+1,FALSE),IF(IFERROR(SEARCH(\"Propane\",$A$15),0)>0,VLOOKUP(\"Propane\",HVACg_Lookup,MATCH(Worksheet!$F$13,BuildingSize,0)+1,FALSE),0)))","v":0},0,0,"",""]
[null,null,"",null,null,null,null,null,null,null,null,null,null,null,null,0,0,0,0,"",0,0,0,0,0,0,0,0,0,0,0,0,0,0,0,{"$f":"W248/1000*Y248*AA248*IF(IFERROR(SEARCH(\"Gas\",$A$15),0)>0,VLOOKUP(\"Gas\",HVACg_Lookup,MATCH($F$13,BuildingSize,0)+1,FALSE),IF(IFERROR(SEARCH(\"Oil\",$A$15),0)>0,VLOOKUP(\"Oil\",HVACg_Lookup,MATCH($F$13,BuildingSize,0)+1,FALSE),IF(IFERROR(SEARCH(\"Propane\",$A$15),0)>0,VLOOKUP(\"Propane\",HVACg_Lookup,MATCH(Worksheet!$F$13,BuildingSize,0)+1,FALSE),0)))","v":0},{"$f":"X248/1000*Y248*AA248*IF(IFERROR(SEARCH(\"Gas\",$A$15),0)>0,VLOOKUP(\"Gas\",HVACg_Lookup,MATCH($F$13,BuildingSize,0)+1,FALSE),IF(IFERROR(SEARCH(\"Oil\",$A$15),0)>0,VLOOKUP(\"Oil\",HVACg_Lookup,MATCH($F$13,BuildingSize,0)+1,FALSE),IF(IFERROR(SEARCH(\"Propane\",$A$15),0)>0,VLOOKUP(\"Propane\",HVACg_Lookup,MATCH(Worksheet!$F$13,BuildingSize,0)+1,FALSE),0)))","v":0},0,0,"",""]
[null,null,"",null,null,null,null,null,null,null,null,null,null,null,null,0,0,0,0,"",0,0,0,0,0,0,0,0,0,0,0,0,0,0,0,{"$f":"W249/1000*Y249*AA249*IF(IFERROR(SEARCH(\"Gas\",$A$15),0)>0,VLOOKUP(\"Gas\",HVACg_Lookup,MATCH($F$13,BuildingSize,0)+1,FALSE),IF(IFERROR(SEARCH(\"Oil\",$A$15),0)>0,VLOOKUP(\"Oil\",HVACg_Lookup,MATCH($F$13,BuildingSize,0)+1,FALSE),IF(IFERROR(SEARCH(\"Propane\",$A$15),0)>0,VLOOKUP(\"Propane\",HVACg_Lookup,MATCH(Worksheet!$F$13,BuildingSize,0)+1,FALSE),0)))","v":0},{"$f":"X249/1000*Y249*AA249*IF(IFERROR(SEARCH(\"Gas\",$A$15),0)>0,VLOOKUP(\"Gas\",HVACg_Lookup,MATCH($F$13,BuildingSize,0)+1,FALSE),IF(IFERROR(SEARCH(\"Oil\",$A$15),0)>0,VLOOKUP(\"Oil\",HVACg_Lookup,MATCH($F$13,BuildingSize,0)+1,FALSE),IF(IFERROR(SEARCH(\"Propane\",$A$15),0)>0,VLOOKUP(\"Propane\",HVACg_Lookup,MATCH(Worksheet!$F$13,BuildingSize,0)+1,FALSE),0)))","v":0},0,0,"",""]
[null,null,"",null,null,null,null,null,null,null,null,null,null,null,null,0,0,0,0,"",0,0,0,0,0,0,0,0,0,0,0,0,0,0,0,{"$f":"W250/1000*Y250*AA250*IF(IFERROR(SEARCH(\"Gas\",$A$15),0)>0,VLOOKUP(\"Gas\",HVACg_Lookup,MATCH($F$13,BuildingSize,0)+1,FALSE),IF(IFERROR(SEARCH(\"Oil\",$A$15),0)>0,VLOOKUP(\"Oil\",HVACg_Lookup,MATCH($F$13,BuildingSize,0)+1,FALSE),IF(IFERROR(SEARCH(\"Propane\",$A$15),0)>0,VLOOKUP(\"Propane\",HVACg_Lookup,MATCH(Worksheet!$F$13,BuildingSize,0)+1,FALSE),0)))","v":0},{"$f":"X250/1000*Y250*AA250*IF(IFERROR(SEARCH(\"Gas\",$A$15),0)>0,VLOOKUP(\"Gas\",HVACg_Lookup,MATCH($F$13,BuildingSize,0)+1,FALSE),IF(IFERROR(SEARCH(\"Oil\",$A$15),0)>0,VLOOKUP(\"Oil\",HVACg_Lookup,MATCH($F$13,BuildingSize,0)+1,FALSE),IF(IFERROR(SEARCH(\"Propane\",$A$15),0)>0,VLOOKUP(\"Propane\",HVACg_Lookup,MATCH(Worksheet!$F$13,BuildingSize,0)+1,FALSE),0)))","v":0},0,0,"",""]
[null,null,"",null,null,null,null,null,null,null,null,null,null,null,null,0,0,0,0,"",0,0,0,0,0,0,0,0,0,0,0,0,0,0,0,{"$f":"W251/1000*Y251*AA251*IF(IFERROR(SEARCH(\"Gas\",$A$15),0)>0,VLOOKUP(\"Gas\",HVACg_Lookup,MATCH($F$13,BuildingSize,0)+1,FALSE),IF(IFERROR(SEARCH(\"Oil\",$A$15),0)>0,VLOOKUP(\"Oil\",HVACg_Lookup,MATCH($F$13,BuildingSize,0)+1,FALSE),IF(IFERROR(SEARCH(\"Propane\",$A$15),0)>0,VLOOKUP(\"Propane\",HVACg_Lookup,MATCH(Worksheet!$F$13,BuildingSize,0)+1,FALSE),0)))","v":0},{"$f":"X251/1000*Y251*AA251*IF(IFERROR(SEARCH(\"Gas\",$A$15),0)>0,VLOOKUP(\"Gas\",HVACg_Lookup,MATCH($F$13,BuildingSize,0)+1,FALSE),IF(IFERROR(SEARCH(\"Oil\",$A$15),0)>0,VLOOKUP(\"Oil\",HVACg_Lookup,MATCH($F$13,BuildingSize,0)+1,FALSE),IF(IFERROR(SEARCH(\"Propane\",$A$15),0)>0,VLOOKUP(\"Propane\",HVACg_Lookup,MATCH(Worksheet!$F$13,BuildingSize,0)+1,FALSE),0)))","v":0},0,0,"",""]
[null,null,"",null,null,null,null,null,null,null,null,null,null,null,null,0,0,0,0,"",0,0,0,0,0,0,0,0,0,0,0,0,0,0,0,{"$f":"W252/1000*Y252*AA252*IF(IFERROR(SEARCH(\"Gas\",$A$15),0)>0,VLOOKUP(\"Gas\",HVACg_Lookup,MATCH($F$13,BuildingSize,0)+1,FALSE),IF(IFERROR(SEARCH(\"Oil\",$A$15),0)>0,VLOOKUP(\"Oil\",HVACg_Lookup,MATCH($F$13,BuildingSize,0)+1,FALSE),IF(IFERROR(SEARCH(\"Propane\",$A$15),0)>0,VLOOKUP(\"Propane\",HVACg_Lookup,MATCH(Worksheet!$F$13,BuildingSize,0)+1,FALSE),0)))","v":0},{"$f":"X252/1000*Y252*AA252*IF(IFERROR(SEARCH(\"Gas\",$A$15),0)>0,VLOOKUP(\"Gas\",HVACg_Lookup,MATCH($F$13,BuildingSize,0)+1,FALSE),IF(IFERROR(SEARCH(\"Oil\",$A$15),0)>0,VLOOKUP(\"Oil\",HVACg_Lookup,MATCH($F$13,BuildingSize,0)+1,FALSE),IF(IFERROR(SEARCH(\"Propane\",$A$15),0)>0,VLOOKUP(\"Propane\",HVACg_Lookup,MATCH(Worksheet!$F$13,BuildingSize,0)+1,FALSE),0)))","v":0},0,0,"",""]
[null,null,"",null,null,null,null,null,null,null,null,null,null,null,null,0,0,0,0,"",0,0,0,0,0,0,0,0,0,0,0,0,0,0,0,{"$f":"W253/1000*Y253*AA253*IF(IFERROR(SEARCH(\"Gas\",$A$15),0)>0,VLOOKUP(\"Gas\",HVACg_Lookup,MATCH($F$13,BuildingSize,0)+1,FALSE),IF(IFERROR(SEARCH(\"Oil\",$A$15),0)>0,VLOOKUP(\"Oil\",HVACg_Lookup,MATCH($F$13,BuildingSize,0)+1,FALSE),IF(IFERROR(SEARCH(\"Propane\",$A$15),0)>0,VLOOKUP(\"Propane\",HVACg_Lookup,MATCH(Worksheet!$F$13,BuildingSize,0)+1,FALSE),0)))","v":0},{"$f":"X253/1000*Y253*AA253*IF(IFERROR(SEARCH(\"Gas\",$A$15),0)>0,VLOOKUP(\"Gas\",HVACg_Lookup,MATCH($F$13,BuildingSize,0)+1,FALSE),IF(IFERROR(SEARCH(\"Oil\",$A$15),0)>0,VLOOKUP(\"Oil\",HVACg_Lookup,MATCH($F$13,BuildingSize,0)+1,FALSE),IF(IFERROR(SEARCH(\"Propane\",$A$15),0)>0,VLOOKUP(\"Propane\",HVACg_Lookup,MATCH(Worksheet!$F$13,BuildingSize,0)+1,FALSE),0)))","v":0},0,0,"",""]
[null,null,"",null,null,null,null,null,null,null,null,null,null,null,null,0,0,0,0,"",0,0,0,0,0,0,0,0,0,0,0,0,0,0,0,{"$f":"W254/1000*Y254*AA254*IF(IFERROR(SEARCH(\"Gas\",$A$15),0)>0,VLOOKUP(\"Gas\",HVACg_Lookup,MATCH($F$13,BuildingSize,0)+1,FALSE),IF(IFERROR(SEARCH(\"Oil\",$A$15),0)>0,VLOOKUP(\"Oil\",HVACg_Lookup,MATCH($F$13,BuildingSize,0)+1,FALSE),IF(IFERROR(SEARCH(\"Propane\",$A$15),0)>0,VLOOKUP(\"Propane\",HVACg_Lookup,MATCH(Worksheet!$F$13,BuildingSize,0)+1,FALSE),0)))","v":0},{"$f":"X254/1000*Y254*AA254*IF(IFERROR(SEARCH(\"Gas\",$A$15),0)>0,VLOOKUP(\"Gas\",HVACg_Lookup,MATCH($F$13,BuildingSize,0)+1,FALSE),IF(IFERROR(SEARCH(\"Oil\",$A$15),0)>0,VLOOKUP(\"Oil\",HVACg_Lookup,MATCH($F$13,BuildingSize,0)+1,FALSE),IF(IFERROR(SEARCH(\"Propane\",$A$15),0)>0,VLOOKUP(\"Propane\",HVACg_Lookup,MATCH(Worksheet!$F$13,BuildingSize,0)+1,FALSE),0)))","v":0},0,0,"",""]
[null,null,"",null,null,null,null,null,null,null,null,null,null,null,null,0,0,0,0,"",0,0,0,0,0,0,0,0,0,0,0,0,0,0,0,{"$f":"W255/1000*Y255*AA255*IF(IFERROR(SEARCH(\"Gas\",$A$15),0)>0,VLOOKUP(\"Gas\",HVACg_Lookup,MATCH($F$13,BuildingSize,0)+1,FALSE),IF(IFERROR(SEARCH(\"Oil\",$A$15),0)>0,VLOOKUP(\"Oil\",HVACg_Lookup,MATCH($F$13,BuildingSize,0)+1,FALSE),IF(IFERROR(SEARCH(\"Propane\",$A$15),0)>0,VLOOKUP(\"Propane\",HVACg_Lookup,MATCH(Worksheet!$F$13,BuildingSize,0)+1,FALSE),0)))","v":0},{"$f":"X255/1000*Y255*AA255*IF(IFERROR(SEARCH(\"Gas\",$A$15),0)>0,VLOOKUP(\"Gas\",HVACg_Lookup,MATCH($F$13,BuildingSize,0)+1,FALSE),IF(IFERROR(SEARCH(\"Oil\",$A$15),0)>0,VLOOKUP(\"Oil\",HVACg_Lookup,MATCH($F$13,BuildingSize,0)+1,FALSE),IF(IFERROR(SEARCH(\"Propane\",$A$15),0)>0,VLOOKUP(\"Propane\",HVACg_Lookup,MATCH(Worksheet!$F$13,BuildingSize,0)+1,FALSE),0)))","v":0},0,0,"",""]
[null,null,"",null,null,null,null,null,null,null,null,null,null,null,null,0,0,0,0,"",0,0,0,0,0,0,0,0,0,0,0,0,0,0,0,{"$f":"W256/1000*Y256*AA256*IF(IFERROR(SEARCH(\"Gas\",$A$15),0)>0,VLOOKUP(\"Gas\",HVACg_Lookup,MATCH($F$13,BuildingSize,0)+1,FALSE),IF(IFERROR(SEARCH(\"Oil\",$A$15),0)>0,VLOOKUP(\"Oil\",HVACg_Lookup,MATCH($F$13,BuildingSize,0)+1,FALSE),IF(IFERROR(SEARCH(\"Propane\",$A$15),0)>0,VLOOKUP(\"Propane\",HVACg_Lookup,MATCH(Worksheet!$F$13,BuildingSize,0)+1,FALSE),0)))","v":0},{"$f":"X256/1000*Y256*AA256*IF(IFERROR(SEARCH(\"Gas\",$A$15),0)>0,VLOOKUP(\"Gas\",HVACg_Lookup,MATCH($F$13,BuildingSize,0)+1,FALSE),IF(IFERROR(SEARCH(\"Oil\",$A$15),0)>0,VLOOKUP(\"Oil\",HVACg_Lookup,MATCH($F$13,BuildingSize,0)+1,FALSE),IF(IFERROR(SEARCH(\"Propane\",$A$15),0)>0,VLOOKUP(\"Propane\",HVACg_Lookup,MATCH(Worksheet!$F$13,BuildingSize,0)+1,FALSE),0)))","v":0},0,0,"",""]
[null,null,"",null,null,null,null,null,null,null,null,null,null,null,null,0,0,0,0,"",0,0,0,0,0,0,0,0,0,0,0,0,0,0,0,{"$f":"W257/1000*Y257*AA257*IF(IFERROR(SEARCH(\"Gas\",$A$15),0)>0,VLOOKUP(\"Gas\",HVACg_Lookup,MATCH($F$13,BuildingSize,0)+1,FALSE),IF(IFERROR(SEARCH(\"Oil\",$A$15),0)>0,VLOOKUP(\"Oil\",HVACg_Lookup,MATCH($F$13,BuildingSize,0)+1,FALSE),IF(IFERROR(SEARCH(\"Propane\",$A$15),0)>0,VLOOKUP(\"Propane\",HVACg_Lookup,MATCH(Worksheet!$F$13,BuildingSize,0)+1,FALSE),0)))","v":0},{"$f":"X257/1000*Y257*AA257*IF(IFERROR(SEARCH(\"Gas\",$A$15),0)>0,VLOOKUP(\"Gas\",HVACg_Lookup,MATCH($F$13,BuildingSize,0)+1,FALSE),IF(IFERROR(SEARCH(\"Oil\",$A$15),0)>0,VLOOKUP(\"Oil\",HVACg_Lookup,MATCH($F$13,BuildingSize,0)+1,FALSE),IF(IFERROR(SEARCH(\"Propane\",$A$15),0)>0,VLOOKUP(\"Propane\",HVACg_Lookup,MATCH(Worksheet!$F$13,BuildingSize,0)+1,FALSE),0)))","v":0},0,0,"",""]
[null,null,"",null,null,null,null,null,null,null,null,null,null,null,null,0,0,0,0,"",0,0,0,0,0,0,0,0,0,0,0,0,0,0,0,{"$f":"W258/1000*Y258*AA258*IF(IFERROR(SEARCH(\"Gas\",$A$15),0)>0,VLOOKUP(\"Gas\",HVACg_Lookup,MATCH($F$13,BuildingSize,0)+1,FALSE),IF(IFERROR(SEARCH(\"Oil\",$A$15),0)>0,VLOOKUP(\"Oil\",HVACg_Lookup,MATCH($F$13,BuildingSize,0)+1,FALSE),IF(IFERROR(SEARCH(\"Propane\",$A$15),0)>0,VLOOKUP(\"Propane\",HVACg_Lookup,MATCH(Worksheet!$F$13,BuildingSize,0)+1,FALSE),0)))","v":0},{"$f":"X258/1000*Y258*AA258*IF(IFERROR(SEARCH(\"Gas\",$A$15),0)>0,VLOOKUP(\"Gas\",HVACg_Lookup,MATCH($F$13,BuildingSize,0)+1,FALSE),IF(IFERROR(SEARCH(\"Oil\",$A$15),0)>0,VLOOKUP(\"Oil\",HVACg_Lookup,MATCH($F$13,BuildingSize,0)+1,FALSE),IF(IFERROR(SEARCH(\"Propane\",$A$15),0)>0,VLOOKUP(\"Propane\",HVACg_Lookup,MATCH(Worksheet!$F$13,BuildingSize,0)+1,FALSE),0)))","v":0},0,0,"",""]
[null,null,"",null,null,null,null,null,null,null,null,null,null,null,null,0,0,0,0,"",0,0,0,0,0,0,0,0,0,0,0,0,0,0,0,{"$f":"W259/1000*Y259*AA259*IF(IFERROR(SEARCH(\"Gas\",$A$15),0)>0,VLOOKUP(\"Gas\",HVACg_Lookup,MATCH($F$13,BuildingSize,0)+1,FALSE),IF(IFERROR(SEARCH(\"Oil\",$A$15),0)>0,VLOOKUP(\"Oil\",HVACg_Lookup,MATCH($F$13,BuildingSize,0)+1,FALSE),IF(IFERROR(SEARCH(\"Propane\",$A$15),0)>0,VLOOKUP(\"Propane\",HVACg_Lookup,MATCH(Worksheet!$F$13,BuildingSize,0)+1,FALSE),0)))","v":0},{"$f":"X259/1000*Y259*AA259*IF(IFERROR(SEARCH(\"Gas\",$A$15),0)>0,VLOOKUP(\"Gas\",HVACg_Lookup,MATCH($F$13,BuildingSize,0)+1,FALSE),IF(IFERROR(SEARCH(\"Oil\",$A$15),0)>0,VLOOKUP(\"Oil\",HVACg_Lookup,MATCH($F$13,BuildingSize,0)+1,FALSE),IF(IFERROR(SEARCH(\"Propane\",$A$15),0)>0,VLOOKUP(\"Propane\",HVACg_Lookup,MATCH(Worksheet!$F$13,BuildingSize,0)+1,FALSE),0)))","v":0},0,0,"",""]
[null,null,"",null,null,null,null,null,null,null,null,null,null,null,null,0,0,0,0,"",0,0,0,0,0,0,0,0,0,0,0,0,0,0,0,{"$f":"W260/1000*Y260*AA260*IF(IFERROR(SEARCH(\"Gas\",$A$15),0)>0,VLOOKUP(\"Gas\",HVACg_Lookup,MATCH($F$13,BuildingSize,0)+1,FALSE),IF(IFERROR(SEARCH(\"Oil\",$A$15),0)>0,VLOOKUP(\"Oil\",HVACg_Lookup,MATCH($F$13,BuildingSize,0)+1,FALSE),IF(IFERROR(SEARCH(\"Propane\",$A$15),0)>0,VLOOKUP(\"Propane\",HVACg_Lookup,MATCH(Worksheet!$F$13,BuildingSize,0)+1,FALSE),0)))","v":0},{"$f":"X260/1000*Y260*AA260*IF(IFERROR(SEARCH(\"Gas\",$A$15),0)>0,VLOOKUP(\"Gas\",HVACg_Lookup,MATCH($F$13,BuildingSize,0)+1,FALSE),IF(IFERROR(SEARCH(\"Oil\",$A$15),0)>0,VLOOKUP(\"Oil\",HVACg_Lookup,MATCH($F$13,BuildingSize,0)+1,FALSE),IF(IFERROR(SEARCH(\"Propane\",$A$15),0)>0,VLOOKUP(\"Propane\",HVACg_Lookup,MATCH(Worksheet!$F$13,BuildingSize,0)+1,FALSE),0)))","v":0},0,0,"",""]
[null,null,"",null,null,null,null,null,null,null,null,null,null,null,null,0,0,0,0,"",0,0,0,0,0,0,0,0,0,0,0,0,0,0,0,{"$f":"W261/1000*Y261*AA261*IF(IFERROR(SEARCH(\"Gas\",$A$15),0)>0,VLOOKUP(\"Gas\",HVACg_Lookup,MATCH($F$13,BuildingSize,0)+1,FALSE),IF(IFERROR(SEARCH(\"Oil\",$A$15),0)>0,VLOOKUP(\"Oil\",HVACg_Lookup,MATCH($F$13,BuildingSize,0)+1,FALSE),IF(IFERROR(SEARCH(\"Propane\",$A$15),0)>0,VLOOKUP(\"Propane\",HVACg_Lookup,MATCH(Worksheet!$F$13,BuildingSize,0)+1,FALSE),0)))","v":0},{"$f":"X261/1000*Y261*AA261*IF(IFERROR(SEARCH(\"Gas\",$A$15),0)>0,VLOOKUP(\"Gas\",HVACg_Lookup,MATCH($F$13,BuildingSize,0)+1,FALSE),IF(IFERROR(SEARCH(\"Oil\",$A$15),0)>0,VLOOKUP(\"Oil\",HVACg_Lookup,MATCH($F$13,BuildingSize,0)+1,FALSE),IF(IFERROR(SEARCH(\"Propane\",$A$15),0)>0,VLOOKUP(\"Propane\",HVACg_Lookup,MATCH(Worksheet!$F$13,BuildingSize,0)+1,FALSE),0)))","v":0},0,0,"",""]
[null,null,"",null,null,null,null,null,null,null,null,null,null,null,null,0,0,0,0,"",0,0,0,0,0,0,0,0,0,0,0,0,0,0,0,{"$f":"W262/1000*Y262*AA262*IF(IFERROR(SEARCH(\"Gas\",$A$15),0)>0,VLOOKUP(\"Gas\",HVACg_Lookup,MATCH($F$13,BuildingSize,0)+1,FALSE),IF(IFERROR(SEARCH(\"Oil\",$A$15),0)>0,VLOOKUP(\"Oil\",HVACg_Lookup,MATCH($F$13,BuildingSize,0)+1,FALSE),IF(IFERROR(SEARCH(\"Propane\",$A$15),0)>0,VLOOKUP(\"Propane\",HVACg_Lookup,MATCH(Worksheet!$F$13,BuildingSize,0)+1,FALSE),0)))","v":0},{"$f":"X262/1000*Y262*AA262*IF(IFERROR(SEARCH(\"Gas\",$A$15),0)>0,VLOOKUP(\"Gas\",HVACg_Lookup,MATCH($F$13,BuildingSize,0)+1,FALSE),IF(IFERROR(SEARCH(\"Oil\",$A$15),0)>0,VLOOKUP(\"Oil\",HVACg_Lookup,MATCH($F$13,BuildingSize,0)+1,FALSE),IF(IFERROR(SEARCH(\"Propane\",$A$15),0)>0,VLOOKUP(\"Propane\",HVACg_Lookup,MATCH(Worksheet!$F$13,BuildingSize,0)+1,FALSE),0)))","v":0},0,0,"",""]
[null,null,"",null,null,null,null,null,null,null,null,null,null,null,null,0,0,0,0,"",0,0,0,0,0,0,0,0,0,0,0,0,0,0,0,{"$f":"W263/1000*Y263*AA263*IF(IFERROR(SEARCH(\"Gas\",$A$15),0)>0,VLOOKUP(\"Gas\",HVACg_Lookup,MATCH($F$13,BuildingSize,0)+1,FALSE),IF(IFERROR(SEARCH(\"Oil\",$A$15),0)>0,VLOOKUP(\"Oil\",HVACg_Lookup,MATCH($F$13,BuildingSize,0)+1,FALSE),IF(IFERROR(SEARCH(\"Propane\",$A$15),0)>0,VLOOKUP(\"Propane\",HVACg_Lookup,MATCH(Worksheet!$F$13,BuildingSize,0)+1,FALSE),0)))","v":0},{"$f":"X263/1000*Y263*AA263*IF(IFERROR(SEARCH(\"Gas\",$A$15),0)>0,VLOOKUP(\"Gas\",HVACg_Lookup,MATCH($F$13,BuildingSize,0)+1,FALSE),IF(IFERROR(SEARCH(\"Oil\",$A$15),0)>0,VLOOKUP(\"Oil\",HVACg_Lookup,MATCH($F$13,BuildingSize,0)+1,FALSE),IF(IFERROR(SEARCH(\"Propane\",$A$15),0)>0,VLOOKUP(\"Propane\",HVACg_Lookup,MATCH(Worksheet!$F$13,BuildingSize,0)+1,FALSE),0)))","v":0},0,0,"",""]
[null,null,"",null,null,null,null,null,null,null,null,null,null,null,null,0,0,0,0,"",0,0,0,0,0,0,0,0,0,0,0,0,0,0,0,{"$f":"W264/1000*Y264*AA264*IF(IFERROR(SEARCH(\"Gas\",$A$15),0)>0,VLOOKUP(\"Gas\",HVACg_Lookup,MATCH($F$13,BuildingSize,0)+1,FALSE),IF(IFERROR(SEARCH(\"Oil\",$A$15),0)>0,VLOOKUP(\"Oil\",HVACg_Lookup,MATCH($F$13,BuildingSize,0)+1,FALSE),IF(IFERROR(SEARCH(\"Propane\",$A$15),0)>0,VLOOKUP(\"Propane\",HVACg_Lookup,MATCH(Worksheet!$F$13,BuildingSize,0)+1,FALSE),0)))","v":0},{"$f":"X264/1000*Y264*AA264*IF(IFERROR(SEARCH(\"Gas\",$A$15),0)>0,VLOOKUP(\"Gas\",HVACg_Lookup,MATCH($F$13,BuildingSize,0)+1,FALSE),IF(IFERROR(SEARCH(\"Oil\",$A$15),0)>0,VLOOKUP(\"Oil\",HVACg_Lookup,MATCH($F$13,BuildingSize,0)+1,FALSE),IF(IFERROR(SEARCH(\"Propane\",$A$15),0)>0,VLOOKUP(\"Propane\",HVACg_Lookup,MATCH(Worksheet!$F$13,BuildingSize,0)+1,FALSE),0)))","v":0},0,0,"",""]
[null,null,"",null,null,null,null,null,null,null,null,null,null,null,null,0,0,0,0,"",0,0,0,0,0,0,0,0,0,0,0,0,0,0,0,{"$f":"W265/1000*Y265*AA265*IF(IFERROR(SEARCH(\"Gas\",$A$15),0)>0,VLOOKUP(\"Gas\",HVACg_Lookup,MATCH($F$13,BuildingSize,0)+1,FALSE),IF(IFERROR(SEARCH(\"Oil\",$A$15),0)>0,VLOOKUP(\"Oil\",HVACg_Lookup,MATCH($F$13,BuildingSize,0)+1,FALSE),IF(IFERROR(SEARCH(\"Propane\",$A$15),0)>0,VLOOKUP(\"Propane\",HVACg_Lookup,MATCH(Worksheet!$F$13,BuildingSize,0)+1,FALSE),0)))","v":0},{"$f":"X265/1000*Y265*AA265*IF(IFERROR(SEARCH(\"Gas\",$A$15),0)>0,VLOOKUP(\"Gas\",HVACg_Lookup,MATCH($F$13,BuildingSize,0)+1,FALSE),IF(IFERROR(SEARCH(\"Oil\",$A$15),0)>0,VLOOKUP(\"Oil\",HVACg_Lookup,MATCH($F$13,BuildingSize,0)+1,FALSE),IF(IFERROR(SEARCH(\"Propane\",$A$15),0)>0,VLOOKUP(\"Propane\",HVACg_Lookup,MATCH(Worksheet!$F$13,BuildingSize,0)+1,FALSE),0)))","v":0},0,0,"",""]
[null,null,"",null,null,null,null,null,null,null,null,null,null,null,null,0,0,0,0,"",0,0,0,0,0,0,0,0,0,0,0,0,0,0,0,{"$f":"W266/1000*Y266*AA266*IF(IFERROR(SEARCH(\"Gas\",$A$15),0)>0,VLOOKUP(\"Gas\",HVACg_Lookup,MATCH($F$13,BuildingSize,0)+1,FALSE),IF(IFERROR(SEARCH(\"Oil\",$A$15),0)>0,VLOOKUP(\"Oil\",HVACg_Lookup,MATCH($F$13,BuildingSize,0)+1,FALSE),IF(IFERROR(SEARCH(\"Propane\",$A$15),0)>0,VLOOKUP(\"Propane\",HVACg_Lookup,MATCH(Worksheet!$F$13,BuildingSize,0)+1,FALSE),0)))","v":0},{"$f":"X266/1000*Y266*AA266*IF(IFERROR(SEARCH(\"Gas\",$A$15),0)>0,VLOOKUP(\"Gas\",HVACg_Lookup,MATCH($F$13,BuildingSize,0)+1,FALSE),IF(IFERROR(SEARCH(\"Oil\",$A$15),0)>0,VLOOKUP(\"Oil\",HVACg_Lookup,MATCH($F$13,BuildingSize,0)+1,FALSE),IF(IFERROR(SEARCH(\"Propane\",$A$15),0)>0,VLOOKUP(\"Propane\",HVACg_Lookup,MATCH(Worksheet!$F$13,BuildingSize,0)+1,FALSE),0)))","v":0},0,0,"",""]
[null,null,"",null,null,null,null,null,null,null,null,null,null,null,null,0,0,0,0,"",0,0,0,0,0,0,0,0,0,0,0,0,0,0,0,{"$f":"W267/1000*Y267*AA267*IF(IFERROR(SEARCH(\"Gas\",$A$15),0)>0,VLOOKUP(\"Gas\",HVACg_Lookup,MATCH($F$13,BuildingSize,0)+1,FALSE),IF(IFERROR(SEARCH(\"Oil\",$A$15),0)>0,VLOOKUP(\"Oil\",HVACg_Lookup,MATCH($F$13,BuildingSize,0)+1,FALSE),IF(IFERROR(SEARCH(\"Propane\",$A$15),0)>0,VLOOKUP(\"Propane\",HVACg_Lookup,MATCH(Worksheet!$F$13,BuildingSize,0)+1,FALSE),0)))","v":0},{"$f":"X267/1000*Y267*AA267*IF(IFERROR(SEARCH(\"Gas\",$A$15),0)>0,VLOOKUP(\"Gas\",HVACg_Lookup,MATCH($F$13,BuildingSize,0)+1,FALSE),IF(IFERROR(SEARCH(\"Oil\",$A$15),0)>0,VLOOKUP(\"Oil\",HVACg_Lookup,MATCH($F$13,BuildingSize,0)+1,FALSE),IF(IFERROR(SEARCH(\"Propane\",$A$15),0)>0,VLOOKUP(\"Propane\",HVACg_Lookup,MATCH(Worksheet!$F$13,BuildingSize,0)+1,FALSE),0)))","v":0},0,0,"",""]
[null,null,"",null,null,null,null,null,null,null,null,null,null,null,null,0,0,0,0,"",0,0,0,0,0,0,0,0,0,0,0,0,0,0,0,{"$f":"W268/1000*Y268*AA268*IF(IFERROR(SEARCH(\"Gas\",$A$15),0)>0,VLOOKUP(\"Gas\",HVACg_Lookup,MATCH($F$13,BuildingSize,0)+1,FALSE),IF(IFERROR(SEARCH(\"Oil\",$A$15),0)>0,VLOOKUP(\"Oil\",HVACg_Lookup,MATCH($F$13,BuildingSize,0)+1,FALSE),IF(IFERROR(SEARCH(\"Propane\",$A$15),0)>0,VLOOKUP(\"Propane\",HVACg_Lookup,MATCH(Worksheet!$F$13,BuildingSize,0)+1,FALSE),0)))","v":0},{"$f":"X268/1000*Y268*AA268*IF(IFERROR(SEARCH(\"Gas\",$A$15),0)>0,VLOOKUP(\"Gas\",HVACg_Lookup,MATCH($F$13,BuildingSize,0)+1,FALSE),IF(IFERROR(SEARCH(\"Oil\",$A$15),0)>0,VLOOKUP(\"Oil\",HVACg_Lookup,MATCH($F$13,BuildingSize,0)+1,FALSE),IF(IFERROR(SEARCH(\"Propane\",$A$15),0)>0,VLOOKUP(\"Propane\",HVACg_Lookup,MATCH(Worksheet!$F$13,BuildingSize,0)+1,FALSE),0)))","v":0},0,0,"",""]
[null,null,"",null,null,null,null,null,null,null,null,null,null,null,null,0,0,0,0,"",0,0,0,0,0,0,0,0,0,0,0,0,0,0,0,{"$f":"W269/1000*Y269*AA269*IF(IFERROR(SEARCH(\"Gas\",$A$15),0)>0,VLOOKUP(\"Gas\",HVACg_Lookup,MATCH($F$13,BuildingSize,0)+1,FALSE),IF(IFERROR(SEARCH(\"Oil\",$A$15),0)>0,VLOOKUP(\"Oil\",HVACg_Lookup,MATCH($F$13,BuildingSize,0)+1,FALSE),IF(IFERROR(SEARCH(\"Propane\",$A$15),0)>0,VLOOKUP(\"Propane\",HVACg_Lookup,MATCH(Worksheet!$F$13,BuildingSize,0)+1,FALSE),0)))","v":0},{"$f":"X269/1000*Y269*AA269*IF(IFERROR(SEARCH(\"Gas\",$A$15),0)>0,VLOOKUP(\"Gas\",HVACg_Lookup,MATCH($F$13,BuildingSize,0)+1,FALSE),IF(IFERROR(SEARCH(\"Oil\",$A$15),0)>0,VLOOKUP(\"Oil\",HVACg_Lookup,MATCH($F$13,BuildingSize,0)+1,FALSE),IF(IFERROR(SEARCH(\"Propane\",$A$15),0)>0,VLOOKUP(\"Propane\",HVACg_Lookup,MATCH(Worksheet!$F$13,BuildingSize,0)+1,FALSE),0)))","v":0},0,0,"",""]
[null,null,"",null,null,null,null,null,null,null,null,null,null,null,null,0,0,0,0,"",0,0,0,0,0,0,0,0,0,0,0,0,0,0,0,{"$f":"W270/1000*Y270*AA270*IF(IFERROR(SEARCH(\"Gas\",$A$15),0)>0,VLOOKUP(\"Gas\",HVACg_Lookup,MATCH($F$13,BuildingSize,0)+1,FALSE),IF(IFERROR(SEARCH(\"Oil\",$A$15),0)>0,VLOOKUP(\"Oil\",HVACg_Lookup,MATCH($F$13,BuildingSize,0)+1,FALSE),IF(IFERROR(SEARCH(\"Propane\",$A$15),0)>0,VLOOKUP(\"Propane\",HVACg_Lookup,MATCH(Worksheet!$F$13,BuildingSize,0)+1,FALSE),0)))","v":0},{"$f":"X270/1000*Y270*AA270*IF(IFERROR(SEARCH(\"Gas\",$A$15),0)>0,VLOOKUP(\"Gas\",HVACg_Lookup,MATCH($F$13,BuildingSize,0)+1,FALSE),IF(IFERROR(SEARCH(\"Oil\",$A$15),0)>0,VLOOKUP(\"Oil\",HVACg_Lookup,MATCH($F$13,BuildingSize,0)+1,FALSE),IF(IFERROR(SEARCH(\"Propane\",$A$15),0)>0,VLOOKUP(\"Propane\",HVACg_Lookup,MATCH(Worksheet!$F$13,BuildingSize,0)+1,FALSE),0)))","v":0},0,0,"",""]
[null,null,"",null,null,null,null,null,null,null,null,null,null,null,null,0,0,0,0,"",0,0,0,0,0,0,0,0,0,0,0,0,0,0,0,{"$f":"W271/1000*Y271*AA271*IF(IFERROR(SEARCH(\"Gas\",$A$15),0)>0,VLOOKUP(\"Gas\",HVACg_Lookup,MATCH($F$13,BuildingSize,0)+1,FALSE),IF(IFERROR(SEARCH(\"Oil\",$A$15),0)>0,VLOOKUP(\"Oil\",HVACg_Lookup,MATCH($F$13,BuildingSize,0)+1,FALSE),IF(IFERROR(SEARCH(\"Propane\",$A$15),0)>0,VLOOKUP(\"Propane\",HVACg_Lookup,MATCH(Worksheet!$F$13,BuildingSize,0)+1,FALSE),0)))","v":0},{"$f":"X271/1000*Y271*AA271*IF(IFERROR(SEARCH(\"Gas\",$A$15),0)>0,VLOOKUP(\"Gas\",HVACg_Lookup,MATCH($F$13,BuildingSize,0)+1,FALSE),IF(IFERROR(SEARCH(\"Oil\",$A$15),0)>0,VLOOKUP(\"Oil\",HVACg_Lookup,MATCH($F$13,BuildingSize,0)+1,FALSE),IF(IFERROR(SEARCH(\"Propane\",$A$15),0)>0,VLOOKUP(\"Propane\",HVACg_Lookup,MATCH(Worksheet!$F$13,BuildingSize,0)+1,FALSE),0)))","v":0},0,0,"",""]
[null,null,"",null,null,null,null,null,null,null,null,null,null,null,null,0,0,0,0,"",0,0,0,0,0,0,0,0,0,0,0,0,0,0,0,{"$f":"W272/1000*Y272*AA272*IF(IFERROR(SEARCH(\"Gas\",$A$15),0)>0,VLOOKUP(\"Gas\",HVACg_Lookup,MATCH($F$13,BuildingSize,0)+1,FALSE),IF(IFERROR(SEARCH(\"Oil\",$A$15),0)>0,VLOOKUP(\"Oil\",HVACg_Lookup,MATCH($F$13,BuildingSize,0)+1,FALSE),IF(IFERROR(SEARCH(\"Propane\",$A$15),0)>0,VLOOKUP(\"Propane\",HVACg_Lookup,MATCH(Worksheet!$F$13,BuildingSize,0)+1,FALSE),0)))","v":0},{"$f":"X272/1000*Y272*AA272*IF(IFERROR(SEARCH(\"Gas\",$A$15),0)>0,VLOOKUP(\"Gas\",HVACg_Lookup,MATCH($F$13,BuildingSize,0)+1,FALSE),IF(IFERROR(SEARCH(\"Oil\",$A$15),0)>0,VLOOKUP(\"Oil\",HVACg_Lookup,MATCH($F$13,BuildingSize,0)+1,FALSE),IF(IFERROR(SEARCH(\"Propane\",$A$15),0)>0,VLOOKUP(\"Propane\",HVACg_Lookup,MATCH(Worksheet!$F$13,BuildingSize,0)+1,FALSE),0)))","v":0},0,0,"",""]
[null,null,"",null,null,null,null,null,null,null,null,null,null,null,null,0,0,0,0,"",0,0,0,0,0,0,0,0,0,0,0,0,0,0,0,{"$f":"W273/1000*Y273*AA273*IF(IFERROR(SEARCH(\"Gas\",$A$15),0)>0,VLOOKUP(\"Gas\",HVACg_Lookup,MATCH($F$13,BuildingSize,0)+1,FALSE),IF(IFERROR(SEARCH(\"Oil\",$A$15),0)>0,VLOOKUP(\"Oil\",HVACg_Lookup,MATCH($F$13,BuildingSize,0)+1,FALSE),IF(IFERROR(SEARCH(\"Propane\",$A$15),0)>0,VLOOKUP(\"Propane\",HVACg_Lookup,MATCH(Worksheet!$F$13,BuildingSize,0)+1,FALSE),0)))","v":0},{"$f":"X273/1000*Y273*AA273*IF(IFERROR(SEARCH(\"Gas\",$A$15),0)>0,VLOOKUP(\"Gas\",HVACg_Lookup,MATCH($F$13,BuildingSize,0)+1,FALSE),IF(IFERROR(SEARCH(\"Oil\",$A$15),0)>0,VLOOKUP(\"Oil\",HVACg_Lookup,MATCH($F$13,BuildingSize,0)+1,FALSE),IF(IFERROR(SEARCH(\"Propane\",$A$15),0)>0,VLOOKUP(\"Propane\",HVACg_Lookup,MATCH(Worksheet!$F$13,BuildingSize,0)+1,FALSE),0)))","v":0},0,0,"",""]
[null,null,"",null,null,null,null,null,null,null,null,null,null,null,null,0,0,0,0,"",0,0,0,0,0,0,0,0,0,0,0,0,0,0,0,{"$f":"W274/1000*Y274*AA274*IF(IFERROR(SEARCH(\"Gas\",$A$15),0)>0,VLOOKUP(\"Gas\",HVACg_Lookup,MATCH($F$13,BuildingSize,0)+1,FALSE),IF(IFERROR(SEARCH(\"Oil\",$A$15),0)>0,VLOOKUP(\"Oil\",HVACg_Lookup,MATCH($F$13,BuildingSize,0)+1,FALSE),IF(IFERROR(SEARCH(\"Propane\",$A$15),0)>0,VLOOKUP(\"Propane\",HVACg_Lookup,MATCH(Worksheet!$F$13,BuildingSize,0)+1,FALSE),0)))","v":0},{"$f":"X274/1000*Y274*AA274*IF(IFERROR(SEARCH(\"Gas\",$A$15),0)>0,VLOOKUP(\"Gas\",HVACg_Lookup,MATCH($F$13,BuildingSize,0)+1,FALSE),IF(IFERROR(SEARCH(\"Oil\",$A$15),0)>0,VLOOKUP(\"Oil\",HVACg_Lookup,MATCH($F$13,BuildingSize,0)+1,FALSE),IF(IFERROR(SEARCH(\"Propane\",$A$15),0)>0,VLOOKUP(\"Propane\",HVACg_Lookup,MATCH(Worksheet!$F$13,BuildingSize,0)+1,FALSE),0)))","v":0},0,0,"",""]
[null,null,"",null,null,null,null,null,null,null,null,null,null,null,null,0,0,0,0,"",0,0,0,0,0,0,0,0,0,0,0,0,0,0,0,{"$f":"W275/1000*Y275*AA275*IF(IFERROR(SEARCH(\"Gas\",$A$15),0)>0,VLOOKUP(\"Gas\",HVACg_Lookup,MATCH($F$13,BuildingSize,0)+1,FALSE),IF(IFERROR(SEARCH(\"Oil\",$A$15),0)>0,VLOOKUP(\"Oil\",HVACg_Lookup,MATCH($F$13,BuildingSize,0)+1,FALSE),IF(IFERROR(SEARCH(\"Propane\",$A$15),0)>0,VLOOKUP(\"Propane\",HVACg_Lookup,MATCH(Worksheet!$F$13,BuildingSize,0)+1,FALSE),0)))","v":0},{"$f":"X275/1000*Y275*AA275*IF(IFERROR(SEARCH(\"Gas\",$A$15),0)>0,VLOOKUP(\"Gas\",HVACg_Lookup,MATCH($F$13,BuildingSize,0)+1,FALSE),IF(IFERROR(SEARCH(\"Oil\",$A$15),0)>0,VLOOKUP(\"Oil\",HVACg_Lookup,MATCH($F$13,BuildingSize,0)+1,FALSE),IF(IFERROR(SEARCH(\"Propane\",$A$15),0)>0,VLOOKUP(\"Propane\",HVACg_Lookup,MATCH(Worksheet!$F$13,BuildingSize,0)+1,FALSE),0)))","v":0},0,0,"",""]
[null,null,"",null,null,null,null,null,null,null,null,null,null,null,null,0,0,0,0,"",0,0,0,0,0,0,0,0,0,0,0,0,0,0,0,{"$f":"W276/1000*Y276*AA276*IF(IFERROR(SEARCH(\"Gas\",$A$15),0)>0,VLOOKUP(\"Gas\",HVACg_Lookup,MATCH($F$13,BuildingSize,0)+1,FALSE),IF(IFERROR(SEARCH(\"Oil\",$A$15),0)>0,VLOOKUP(\"Oil\",HVACg_Lookup,MATCH($F$13,BuildingSize,0)+1,FALSE),IF(IFERROR(SEARCH(\"Propane\",$A$15),0)>0,VLOOKUP(\"Propane\",HVACg_Lookup,MATCH(Worksheet!$F$13,BuildingSize,0)+1,FALSE),0)))","v":0},{"$f":"X276/1000*Y276*AA276*IF(IFERROR(SEARCH(\"Gas\",$A$15),0)>0,VLOOKUP(\"Gas\",HVACg_Lookup,MATCH($F$13,BuildingSize,0)+1,FALSE),IF(IFERROR(SEARCH(\"Oil\",$A$15),0)>0,VLOOKUP(\"Oil\",HVACg_Lookup,MATCH($F$13,BuildingSize,0)+1,FALSE),IF(IFERROR(SEARCH(\"Propane\",$A$15),0)>0,VLOOKUP(\"Propane\",HVACg_Lookup,MATCH(Worksheet!$F$13,BuildingSize,0)+1,FALSE),0)))","v":0},0,0,"",""]
[null,null,"",null,null,null,null,null,null,null,null,null,null,null,null,0,0,{"$f":"IF(AN277=\"\",0,IF(AN277=1,VLOOKUP(A277,MeasureCode_Lookup,3,FALSE),\"DNQ\"))","v":0},{"$f":"IF(AO277=\"\",0,IF(AO277=1,VLOOKUP(A277,MeasureCode_Lookup,3,FALSE),\"DNQ\"))","v":0},{"$f":"IF(A277=\"\",\"\",VLOOKUP(A277,MeasureCode_Lookup,4,FALSE))","v":""},0,0,{"$f":"IF(N(R277)=0,0,F277*P277)","v":0},{"$f":"IF(N(S277)=0,0,G277*Q277)","v":0},{"$f":"IF(A277=\"\",0,VLOOKUP(A277,MeasureCode_Lookup,5,FALSE))","v":0},{"$f":"IF($A$13=\"\",0,VLOOKUP($A$13,BuildingType_Lookup,3,FALSE))","v":0},{"$f":"IF($A$13=\"\",0,VLOOKUP($A$13,BuildingType_Lookup,2,FALSE))","v":0},{"$f":"IF(AND(OR(AN277=\"\",AN277=0)=TRUE,OR(AO277=\"\",AO277=0))=TRUE,0,IF(AO277=\"\",(IF(OR(C277=\"DDC\",C277=\"OHLC\")=TRUE,O277,P277)/1000)*Y277*Z277*(1+VLOOKUP($A$13,BuildingType_Lookup,4,FALSE)),IF(AO277=0,0,(IF(OR(C277=\"DDC\",C277=\"OHLC\")=TRUE,O277,Q277)/1000)*Y277*Z277*(1+VLOOKUP($A$13,BuildingType_Lookup,4,FALSE)))))","v":0},{"$f":"IF(AND(OR(AN277=\"\",AN277=0)=TRUE,OR(AO277=\"\",AO277=0))=TRUE,0,IF(AO277=\"\",(IF(OR(C277=\"DDC\",C277=\"OHLC\")=TRUE,O277,P277)/1000)*Y277*AA277*(1+VLOOKUP($A$13,BuildingType_Lookup,MATCH($A$15,HVAC,0)+4,FALSE)),IF(AO277=0,0,(IF(OR(C277=\"DDC\",C277=\"OHLC\")=TRUE,O277,Q277)/1000)*Y277*AA277*(1+VLOOKUP($A$13,BuildingType_Lookup,MATCH($A$15,HVAC,0)+4,FALSE)))))","v":0},{"$f":"IFERROR(IF(OR(C277=\"DDC\",C277=\"OHLC\")=TRUE,F277*J277*AB277,F277*AB277),0)","v":0},{"$f":"IFERROR(IF(OR(C277=\"DDC\",C277=\"OHLC\")=TRUE,G277*K277*AB277,G277*AB277),0)","v":0},{"$f":"IFERROR(IF(OR(C277=\"DDC\",C277=\"OHLC\")=TRUE,F277*J277*AC277,F277*AC277),0)","v":0},{"$f":"IFERROR(IF(OR(C277=\"DDC\",C277=\"OHLC\")=TRUE,G277*K277*AC277,G277*AC277),0)","v":0},0,0,{"$f":"W277/1000*Y277*AA277*IF(IFERROR(SEARCH(\"Gas\",$A$15),0)>0,VLOOKUP(\"Gas\",HVACg_Lookup,MATCH($F$13,BuildingSize,0)+1,FALSE),IF(IFERROR(SEARCH(\"Oil\",$A$15),0)>0,VLOOKUP(\"Oil\",HVACg_Lookup,MATCH($F$13,BuildingSize,0)+1,FALSE),IF(IFERROR(SEARCH(\"Propane\",$A$15),0)>0,VLOOKUP(\"Propane\",HVACg_Lookup,MATCH(Worksheet!$F$13,BuildingSize,0)+1,FALSE),0)))","v":0},{"$f":"X277/1000*Y277*AA277*IF(IFERROR(SEARCH(\"Gas\",$A$15),0)>0,VLOOKUP(\"Gas\",HVACg_Lookup,MATCH($F$13,BuildingSize,0)+1,FALSE),IF(IFERROR(SEARCH(\"Oil\",$A$15),0)>0,VLOOKUP(\"Oil\",HVACg_Lookup,MATCH($F$13,BuildingSize,0)+1,FALSE),IF(IFERROR(SEARCH(\"Propane\",$A$15),0)>0,VLOOKUP(\"Propane\",HVACg_Lookup,MATCH(Worksheet!$F$13,BuildingSize,0)+1,FALSE),0)))","v":0},0,0,{"$f":"IF(OR($B$4=\"\",$B$5=\"\",$A$13=\"\",$F$13=\"\",$A$15=\"\",A277=\"\",F277=\"\",J277=\"\",O277=\"\",P277=\"\")=TRUE,\"\",IF(C277=\"OSW\",IF(J277>=2,1,0),IF(C277=\"OSR\",IF(AND(J277>=2,P277>60)=TRUE,1,0),IF(C277=\"OSRH\",IF(AND(J277>=1,P277>90)=TRUE,1,0),IF(C277=\"OHLC\",IF(AND(N277=\"Y\",P277>60)=TRUE,1,0),IF(C277=\"DDC\",IF(AND(J277>=4,N277=\"Y\",P277>120)=TRUE,1,0),0))))))","v":""},{"$f":"IF(OR($B$4=\"\",$B$5=\"\",$A$13=\"\",$F$13=\"\",$A$15=\"\",A277=\"\",F277=\"\",K277=\"\",O277=\"\",P277=\"\")=TRUE,\"\",IF(C277=\"OSW\",IF(K277>=2,1,0),IF(C277=\"OSR\",IF(AND(K277>=2,Q277>60)=TRUE,1,0),IF(C277=\"OSRH\",IF(AND(K277>=1,Q277>90)=TRUE,1,0),IF(C277=\"OHLC\",IF(AND(N277=\"Y\",Q277>60)=TRUE,1,0),IF(C277=\"DDC\",IF(AND(K277>=4,N277=\"Y\",Q277>120)=TRUE,1,0),0))))))","v":""}]
[null,null,{"$f":"IF(A278=\"\",\"\",VLOOKUP(A278,MeasureCode_Lookup,2,FALSE))","v":""},null,null,null,null,null,null,null,null,null,null,null,null,{"$f":"IF(OR(A278=\"\",F278=\"\",J278=\"\",O278=\"\")=TRUE,0,J278*O278)","v":0},{"$f":"IF(OR(A278=\"\",G278=\"\",K278=\"\",O278=\"\")=TRUE,0,K278*O278)","v":0},0,0,"",{"$f":"IF(N(R278)=0,0,F278*R278*IF(T278=\"per Fixture Controlled\",J278,1))","v":0},{"$f":"IF(N(S278)=0,0,G278*S278*IF(T278=\"per Fixture Controlled\",K278,1))","v":0},0,0,0,0,0,0,0,0,0,0,0,{"$f":"AF278*8","v":0},{"$f":"AG278*8","v":0},{"$f":"W278/1000*Y278*AA278*IF(IFERROR(SEARCH(\"Gas\",$A$15),0)>0,VLOOKUP(\"Gas\",HVACg_Lookup,MATCH($F$13,BuildingSize,0)+1,FALSE),IF(IFERROR(SEARCH(\"Oil\",$A$15),0)>0,VLOOKUP(\"Oil\",HVACg_Lookup,MATCH($F$13,BuildingSize,0)+1,FALSE),IF(IFERROR(SEARCH(\"Propane\",$A$15),0)>0,VLOOKUP(\"Propane\",HVACg_Lookup,MATCH(Worksheet!$F$13,BuildingSize,0)+1,FALSE),0)))","v":0},{"$f":"X278/1000*Y278*AA278*IF(IFERROR(SEARCH(\"Gas\",$A$15),0)>0,VLOOKUP(\"Gas\",HVACg_Lookup,MATCH($F$13,BuildingSize,0)+1,FALSE),IF(IFERROR(SEARCH(\"Oil\",$A$15),0)>0,VLOOKUP(\"Oil\",HVACg_Lookup,MATCH($F$13,BuildingSize,0)+1,FALSE),IF(IFERROR(SEARCH(\"Propane\",$A$15),0)>0,VLOOKUP(\"Propane\",HVACg_Lookup,MATCH(Worksheet!$F$13,BuildingSize,0)+1,FALSE),0)))","v":0},{"$f":"AJ278*8","v":0},{"$f":"AK278*8","v":0},"",""]
[null,null,"",null,null,null,null,null,null,null,null,null,null,null,null,0,0,0,0,"",0,0,0,0,0,0,0,0,0,0,0,0,0,0,0,{"$f":"W279/1000*Y279*AA279*IF(IFERROR(SEARCH(\"Gas\",$A$15),0)>0,VLOOKUP(\"Gas\",HVACg_Lookup,MATCH($F$13,BuildingSize,0)+1,FALSE),IF(IFERROR(SEARCH(\"Oil\",$A$15),0)>0,VLOOKUP(\"Oil\",HVACg_Lookup,MATCH($F$13,BuildingSize,0)+1,FALSE),IF(IFERROR(SEARCH(\"Propane\",$A$15),0)>0,VLOOKUP(\"Propane\",HVACg_Lookup,MATCH(Worksheet!$F$13,BuildingSize,0)+1,FALSE),0)))","v":0},{"$f":"X279/1000*Y279*AA279*IF(IFERROR(SEARCH(\"Gas\",$A$15),0)>0,VLOOKUP(\"Gas\",HVACg_Lookup,MATCH($F$13,BuildingSize,0)+1,FALSE),IF(IFERROR(SEARCH(\"Oil\",$A$15),0)>0,VLOOKUP(\"Oil\",HVACg_Lookup,MATCH($F$13,BuildingSize,0)+1,FALSE),IF(IFERROR(SEARCH(\"Propane\",$A$15),0)>0,VLOOKUP(\"Propane\",HVACg_Lookup,MATCH(Worksheet!$F$13,BuildingSize,0)+1,FALSE),0)))","v":0},0,0,"",""]
[null,null,"",null,null,null,null,null,null,null,null,null,null,null,null,0,0,0,0,"",0,0,0,0,0,0,0,0,0,0,0,0,0,0,0,{"$f":"W280/1000*Y280*AA280*IF(IFERROR(SEARCH(\"Gas\",$A$15),0)>0,VLOOKUP(\"Gas\",HVACg_Lookup,MATCH($F$13,BuildingSize,0)+1,FALSE),IF(IFERROR(SEARCH(\"Oil\",$A$15),0)>0,VLOOKUP(\"Oil\",HVACg_Lookup,MATCH($F$13,BuildingSize,0)+1,FALSE),IF(IFERROR(SEARCH(\"Propane\",$A$15),0)>0,VLOOKUP(\"Propane\",HVACg_Lookup,MATCH(Worksheet!$F$13,BuildingSize,0)+1,FALSE),0)))","v":0},{"$f":"X280/1000*Y280*AA280*IF(IFERROR(SEARCH(\"Gas\",$A$15),0)>0,VLOOKUP(\"Gas\",HVACg_Lookup,MATCH($F$13,BuildingSize,0)+1,FALSE),IF(IFERROR(SEARCH(\"Oil\",$A$15),0)>0,VLOOKUP(\"Oil\",HVACg_Lookup,MATCH($F$13,BuildingSize,0)+1,FALSE),IF(IFERROR(SEARCH(\"Propane\",$A$15),0)>0,VLOOKUP(\"Propane\",HVACg_Lookup,MATCH(Worksheet!$F$13,BuildingSize,0)+1,FALSE),0)))","v":0},0,0,"",""]
[null,null,"",null,null,null,null,null,null,null,null,null,null,null,null,0,0,0,0,"",0,0,0,0,0,0,0,0,0,0,0,0,0,0,0,{"$f":"W281/1000*Y281*AA281*IF(IFERROR(SEARCH(\"Gas\",$A$15),0)>0,VLOOKUP(\"Gas\",HVACg_Lookup,MATCH($F$13,BuildingSize,0)+1,FALSE),IF(IFERROR(SEARCH(\"Oil\",$A$15),0)>0,VLOOKUP(\"Oil\",HVACg_Lookup,MATCH($F$13,BuildingSize,0)+1,FALSE),IF(IFERROR(SEARCH(\"Propane\",$A$15),0)>0,VLOOKUP(\"Propane\",HVACg_Lookup,MATCH(Worksheet!$F$13,BuildingSize,0)+1,FALSE),0)))","v":0},{"$f":"X281/1000*Y281*AA281*IF(IFERROR(SEARCH(\"Gas\",$A$15),0)>0,VLOOKUP(\"Gas\",HVACg_Lookup,MATCH($F$13,BuildingSize,0)+1,FALSE),IF(IFERROR(SEARCH(\"Oil\",$A$15),0)>0,VLOOKUP(\"Oil\",HVACg_Lookup,MATCH($F$13,BuildingSize,0)+1,FALSE),IF(IFERROR(SEARCH(\"Propane\",$A$15),0)>0,VLOOKUP(\"Propane\",HVACg_Lookup,MATCH(Worksheet!$F$13,BuildingSize,0)+1,FALSE),0)))","v":0},0,0,"",""]
[null,null,"",null,null,null,null,null,null,null,null,null,null,null,null,0,0,0,0,"",0,0,0,0,0,0,0,0,0,0,0,0,0,0,0,{"$f":"W282/1000*Y282*AA282*IF(IFERROR(SEARCH(\"Gas\",$A$15),0)>0,VLOOKUP(\"Gas\",HVACg_Lookup,MATCH($F$13,BuildingSize,0)+1,FALSE),IF(IFERROR(SEARCH(\"Oil\",$A$15),0)>0,VLOOKUP(\"Oil\",HVACg_Lookup,MATCH($F$13,BuildingSize,0)+1,FALSE),IF(IFERROR(SEARCH(\"Propane\",$A$15),0)>0,VLOOKUP(\"Propane\",HVACg_Lookup,MATCH(Worksheet!$F$13,BuildingSize,0)+1,FALSE),0)))","v":0},{"$f":"X282/1000*Y282*AA282*IF(IFERROR(SEARCH(\"Gas\",$A$15),0)>0,VLOOKUP(\"Gas\",HVACg_Lookup,MATCH($F$13,BuildingSize,0)+1,FALSE),IF(IFERROR(SEARCH(\"Oil\",$A$15),0)>0,VLOOKUP(\"Oil\",HVACg_Lookup,MATCH($F$13,BuildingSize,0)+1,FALSE),IF(IFERROR(SEARCH(\"Propane\",$A$15),0)>0,VLOOKUP(\"Propane\",HVACg_Lookup,MATCH(Worksheet!$F$13,BuildingSize,0)+1,FALSE),0)))","v":0},0,0,"",""]
[null,null,"",null,null,null,null,null,null,null,null,null,null,null,null,0,0,0,0,"",0,0,0,0,0,0,0,0,0,0,0,0,0,0,0,{"$f":"W283/1000*Y283*AA283*IF(IFERROR(SEARCH(\"Gas\",$A$15),0)>0,VLOOKUP(\"Gas\",HVACg_Lookup,MATCH($F$13,BuildingSize,0)+1,FALSE),IF(IFERROR(SEARCH(\"Oil\",$A$15),0)>0,VLOOKUP(\"Oil\",HVACg_Lookup,MATCH($F$13,BuildingSize,0)+1,FALSE),IF(IFERROR(SEARCH(\"Propane\",$A$15),0)>0,VLOOKUP(\"Propane\",HVACg_Lookup,MATCH(Worksheet!$F$13,BuildingSize,0)+1,FALSE),0)))","v":0},{"$f":"X283/1000*Y283*AA283*IF(IFERROR(SEARCH(\"Gas\",$A$15),0)>0,VLOOKUP(\"Gas\",HVACg_Lookup,MATCH($F$13,BuildingSize,0)+1,FALSE),IF(IFERROR(SEARCH(\"Oil\",$A$15),0)>0,VLOOKUP(\"Oil\",HVACg_Lookup,MATCH($F$13,BuildingSize,0)+1,FALSE),IF(IFERROR(SEARCH(\"Propane\",$A$15),0)>0,VLOOKUP(\"Propane\",HVACg_Lookup,MATCH(Worksheet!$F$13,BuildingSize,0)+1,FALSE),0)))","v":0},0,0,"",""]
[null,null,"",null,null,null,null,null,null,null,null,null,null,null,null,0,0,0,0,"",0,0,0,0,0,0,0,0,0,0,0,0,0,0,0,{"$f":"W284/1000*Y284*AA284*IF(IFERROR(SEARCH(\"Gas\",$A$15),0)>0,VLOOKUP(\"Gas\",HVACg_Lookup,MATCH($F$13,BuildingSize,0)+1,FALSE),IF(IFERROR(SEARCH(\"Oil\",$A$15),0)>0,VLOOKUP(\"Oil\",HVACg_Lookup,MATCH($F$13,BuildingSize,0)+1,FALSE),IF(IFERROR(SEARCH(\"Propane\",$A$15),0)>0,VLOOKUP(\"Propane\",HVACg_Lookup,MATCH(Worksheet!$F$13,BuildingSize,0)+1,FALSE),0)))","v":0},{"$f":"X284/1000*Y284*AA284*IF(IFERROR(SEARCH(\"Gas\",$A$15),0)>0,VLOOKUP(\"Gas\",HVACg_Lookup,MATCH($F$13,BuildingSize,0)+1,FALSE),IF(IFERROR(SEARCH(\"Oil\",$A$15),0)>0,VLOOKUP(\"Oil\",HVACg_Lookup,MATCH($F$13,BuildingSize,0)+1,FALSE),IF(IFERROR(SEARCH(\"Propane\",$A$15),0)>0,VLOOKUP(\"Propane\",HVACg_Lookup,MATCH(Worksheet!$F$13,BuildingSize,0)+1,FALSE),0)))","v":0},0,0,"",""]
[null,null,"",null,null,null,null,null,null,null,null,null,null,null,null,0,0,0,0,"",0,0,0,0,0,0,0,0,0,0,0,0,0,0,0,{"$f":"W285/1000*Y285*AA285*IF(IFERROR(SEARCH(\"Gas\",$A$15),0)>0,VLOOKUP(\"Gas\",HVACg_Lookup,MATCH($F$13,BuildingSize,0)+1,FALSE),IF(IFERROR(SEARCH(\"Oil\",$A$15),0)>0,VLOOKUP(\"Oil\",HVACg_Lookup,MATCH($F$13,BuildingSize,0)+1,FALSE),IF(IFERROR(SEARCH(\"Propane\",$A$15),0)>0,VLOOKUP(\"Propane\",HVACg_Lookup,MATCH(Worksheet!$F$13,BuildingSize,0)+1,FALSE),0)))","v":0},{"$f":"X285/1000*Y285*AA285*IF(IFERROR(SEARCH(\"Gas\",$A$15),0)>0,VLOOKUP(\"Gas\",HVACg_Lookup,MATCH($F$13,BuildingSize,0)+1,FALSE),IF(IFERROR(SEARCH(\"Oil\",$A$15),0)>0,VLOOKUP(\"Oil\",HVACg_Lookup,MATCH($F$13,BuildingSize,0)+1,FALSE),IF(IFERROR(SEARCH(\"Propane\",$A$15),0)>0,VLOOKUP(\"Propane\",HVACg_Lookup,MATCH(Worksheet!$F$13,BuildingSize,0)+1,FALSE),0)))","v":0},0,0,"",""]
[null,null,"",null,null,null,null,null,null,null,null,null,null,null,null,0,0,0,0,"",0,0,0,0,0,0,0,0,0,0,0,0,0,0,0,{"$f":"W286/1000*Y286*AA286*IF(IFERROR(SEARCH(\"Gas\",$A$15),0)>0,VLOOKUP(\"Gas\",HVACg_Lookup,MATCH($F$13,BuildingSize,0)+1,FALSE),IF(IFERROR(SEARCH(\"Oil\",$A$15),0)>0,VLOOKUP(\"Oil\",HVACg_Lookup,MATCH($F$13,BuildingSize,0)+1,FALSE),IF(IFERROR(SEARCH(\"Propane\",$A$15),0)>0,VLOOKUP(\"Propane\",HVACg_Lookup,MATCH(Worksheet!$F$13,BuildingSize,0)+1,FALSE),0)))","v":0},{"$f":"X286/1000*Y286*AA286*IF(IFERROR(SEARCH(\"Gas\",$A$15),0)>0,VLOOKUP(\"Gas\",HVACg_Lookup,MATCH($F$13,BuildingSize,0)+1,FALSE),IF(IFERROR(SEARCH(\"Oil\",$A$15),0)>0,VLOOKUP(\"Oil\",HVACg_Lookup,MATCH($F$13,BuildingSize,0)+1,FALSE),IF(IFERROR(SEARCH(\"Propane\",$A$15),0)>0,VLOOKUP(\"Propane\",HVACg_Lookup,MATCH(Worksheet!$F$13,BuildingSize,0)+1,FALSE),0)))","v":0},0,0,"",""]
[null,null,"",null,null,null,null,null,null,null,null,null,null,null,null,0,0,0,0,"",0,0,0,0,0,0,0,0,0,0,0,0,0,0,0,{"$f":"W287/1000*Y287*AA287*IF(IFERROR(SEARCH(\"Gas\",$A$15),0)>0,VLOOKUP(\"Gas\",HVACg_Lookup,MATCH($F$13,BuildingSize,0)+1,FALSE),IF(IFERROR(SEARCH(\"Oil\",$A$15),0)>0,VLOOKUP(\"Oil\",HVACg_Lookup,MATCH($F$13,BuildingSize,0)+1,FALSE),IF(IFERROR(SEARCH(\"Propane\",$A$15),0)>0,VLOOKUP(\"Propane\",HVACg_Lookup,MATCH(Worksheet!$F$13,BuildingSize,0)+1,FALSE),0)))","v":0},{"$f":"X287/1000*Y287*AA287*IF(IFERROR(SEARCH(\"Gas\",$A$15),0)>0,VLOOKUP(\"Gas\",HVACg_Lookup,MATCH($F$13,BuildingSize,0)+1,FALSE),IF(IFERROR(SEARCH(\"Oil\",$A$15),0)>0,VLOOKUP(\"Oil\",HVACg_Lookup,MATCH($F$13,BuildingSize,0)+1,FALSE),IF(IFERROR(SEARCH(\"Propane\",$A$15),0)>0,VLOOKUP(\"Propane\",HVACg_Lookup,MATCH(Worksheet!$F$13,BuildingSize,0)+1,FALSE),0)))","v":0},0,0,"",""]
[null,null,"",null,null,null,null,null,null,null,null,null,null,null,null,0,0,0,0,"",0,0,0,0,0,0,0,0,0,0,0,0,0,0,0,{"$f":"W288/1000*Y288*AA288*IF(IFERROR(SEARCH(\"Gas\",$A$15),0)>0,VLOOKUP(\"Gas\",HVACg_Lookup,MATCH($F$13,BuildingSize,0)+1,FALSE),IF(IFERROR(SEARCH(\"Oil\",$A$15),0)>0,VLOOKUP(\"Oil\",HVACg_Lookup,MATCH($F$13,BuildingSize,0)+1,FALSE),IF(IFERROR(SEARCH(\"Propane\",$A$15),0)>0,VLOOKUP(\"Propane\",HVACg_Lookup,MATCH(Worksheet!$F$13,BuildingSize,0)+1,FALSE),0)))","v":0},{"$f":"X288/1000*Y288*AA288*IF(IFERROR(SEARCH(\"Gas\",$A$15),0)>0,VLOOKUP(\"Gas\",HVACg_Lookup,MATCH($F$13,BuildingSize,0)+1,FALSE),IF(IFERROR(SEARCH(\"Oil\",$A$15),0)>0,VLOOKUP(\"Oil\",HVACg_Lookup,MATCH($F$13,BuildingSize,0)+1,FALSE),IF(IFERROR(SEARCH(\"Propane\",$A$15),0)>0,VLOOKUP(\"Propane\",HVACg_Lookup,MATCH(Worksheet!$F$13,BuildingSize,0)+1,FALSE),0)))","v":0},0,0,"",""]
[null,null,"",null,null,null,null,null,null,null,null,null,null,null,null,0,0,0,0,"",0,0,0,0,0,0,0,0,0,0,0,0,0,0,0,{"$f":"W289/1000*Y289*AA289*IF(IFERROR(SEARCH(\"Gas\",$A$15),0)>0,VLOOKUP(\"Gas\",HVACg_Lookup,MATCH($F$13,BuildingSize,0)+1,FALSE),IF(IFERROR(SEARCH(\"Oil\",$A$15),0)>0,VLOOKUP(\"Oil\",HVACg_Lookup,MATCH($F$13,BuildingSize,0)+1,FALSE),IF(IFERROR(SEARCH(\"Propane\",$A$15),0)>0,VLOOKUP(\"Propane\",HVACg_Lookup,MATCH(Worksheet!$F$13,BuildingSize,0)+1,FALSE),0)))","v":0},{"$f":"X289/1000*Y289*AA289*IF(IFERROR(SEARCH(\"Gas\",$A$15),0)>0,VLOOKUP(\"Gas\",HVACg_Lookup,MATCH($F$13,BuildingSize,0)+1,FALSE),IF(IFERROR(SEARCH(\"Oil\",$A$15),0)>0,VLOOKUP(\"Oil\",HVACg_Lookup,MATCH($F$13,BuildingSize,0)+1,FALSE),IF(IFERROR(SEARCH(\"Propane\",$A$15),0)>0,VLOOKUP(\"Propane\",HVACg_Lookup,MATCH(Worksheet!$F$13,BuildingSize,0)+1,FALSE),0)))","v":0},0,0,"",""]
[null,null,"",null,null,null,null,null,null,null,null,null,null,null,null,0,0,0,0,"",0,0,0,0,0,0,0,0,0,0,0,0,0,0,0,{"$f":"W290/1000*Y290*AA290*IF(IFERROR(SEARCH(\"Gas\",$A$15),0)>0,VLOOKUP(\"Gas\",HVACg_Lookup,MATCH($F$13,BuildingSize,0)+1,FALSE),IF(IFERROR(SEARCH(\"Oil\",$A$15),0)>0,VLOOKUP(\"Oil\",HVACg_Lookup,MATCH($F$13,BuildingSize,0)+1,FALSE),IF(IFERROR(SEARCH(\"Propane\",$A$15),0)>0,VLOOKUP(\"Propane\",HVACg_Lookup,MATCH(Worksheet!$F$13,BuildingSize,0)+1,FALSE),0)))","v":0},{"$f":"X290/1000*Y290*AA290*IF(IFERROR(SEARCH(\"Gas\",$A$15),0)>0,VLOOKUP(\"Gas\",HVACg_Lookup,MATCH($F$13,BuildingSize,0)+1,FALSE),IF(IFERROR(SEARCH(\"Oil\",$A$15),0)>0,VLOOKUP(\"Oil\",HVACg_Lookup,MATCH($F$13,BuildingSize,0)+1,FALSE),IF(IFERROR(SEARCH(\"Propane\",$A$15),0)>0,VLOOKUP(\"Propane\",HVACg_Lookup,MATCH(Worksheet!$F$13,BuildingSize,0)+1,FALSE),0)))","v":0},0,0,"",""]
[null,null,"",null,null,null,null,null,null,null,null,null,null,null,null,0,0,0,0,"",0,0,0,0,0,0,0,0,0,0,0,0,0,0,0,{"$f":"W291/1000*Y291*AA291*IF(IFERROR(SEARCH(\"Gas\",$A$15),0)>0,VLOOKUP(\"Gas\",HVACg_Lookup,MATCH($F$13,BuildingSize,0)+1,FALSE),IF(IFERROR(SEARCH(\"Oil\",$A$15),0)>0,VLOOKUP(\"Oil\",HVACg_Lookup,MATCH($F$13,BuildingSize,0)+1,FALSE),IF(IFERROR(SEARCH(\"Propane\",$A$15),0)>0,VLOOKUP(\"Propane\",HVACg_Lookup,MATCH(Worksheet!$F$13,BuildingSize,0)+1,FALSE),0)))","v":0},{"$f":"X291/1000*Y291*AA291*IF(IFERROR(SEARCH(\"Gas\",$A$15),0)>0,VLOOKUP(\"Gas\",HVACg_Lookup,MATCH($F$13,BuildingSize,0)+1,FALSE),IF(IFERROR(SEARCH(\"Oil\",$A$15),0)>0,VLOOKUP(\"Oil\",HVACg_Lookup,MATCH($F$13,BuildingSize,0)+1,FALSE),IF(IFERROR(SEARCH(\"Propane\",$A$15),0)>0,VLOOKUP(\"Propane\",HVACg_Lookup,MATCH(Worksheet!$F$13,BuildingSize,0)+1,FALSE),0)))","v":0},0,0,"",""]
[null,null,"",null,null,null,null,null,null,null,null,null,null,null,null,0,0,0,0,"",0,0,0,0,0,0,0,0,0,0,0,0,0,0,0,{"$f":"W292/1000*Y292*AA292*IF(IFERROR(SEARCH(\"Gas\",$A$15),0)>0,VLOOKUP(\"Gas\",HVACg_Lookup,MATCH($F$13,BuildingSize,0)+1,FALSE),IF(IFERROR(SEARCH(\"Oil\",$A$15),0)>0,VLOOKUP(\"Oil\",HVACg_Lookup,MATCH($F$13,BuildingSize,0)+1,FALSE),IF(IFERROR(SEARCH(\"Propane\",$A$15),0)>0,VLOOKUP(\"Propane\",HVACg_Lookup,MATCH(Worksheet!$F$13,BuildingSize,0)+1,FALSE),0)))","v":0},{"$f":"X292/1000*Y292*AA292*IF(IFERROR(SEARCH(\"Gas\",$A$15),0)>0,VLOOKUP(\"Gas\",HVACg_Lookup,MATCH($F$13,BuildingSize,0)+1,FALSE),IF(IFERROR(SEARCH(\"Oil\",$A$15),0)>0,VLOOKUP(\"Oil\",HVACg_Lookup,MATCH($F$13,BuildingSize,0)+1,FALSE),IF(IFERROR(SEARCH(\"Propane\",$A$15),0)>0,VLOOKUP(\"Propane\",HVACg_Lookup,MATCH(Worksheet!$F$13,BuildingSize,0)+1,FALSE),0)))","v":0},0,0,"",""]
[null,null,"",null,null,null,null,null,null,null,null,null,null,null,null,0,0,0,0,"",0,0,0,0,0,0,0,0,0,0,0,0,0,0,0,{"$f":"W293/1000*Y293*AA293*IF(IFERROR(SEARCH(\"Gas\",$A$15),0)>0,VLOOKUP(\"Gas\",HVACg_Lookup,MATCH($F$13,BuildingSize,0)+1,FALSE),IF(IFERROR(SEARCH(\"Oil\",$A$15),0)>0,VLOOKUP(\"Oil\",HVACg_Lookup,MATCH($F$13,BuildingSize,0)+1,FALSE),IF(IFERROR(SEARCH(\"Propane\",$A$15),0)>0,VLOOKUP(\"Propane\",HVACg_Lookup,MATCH(Worksheet!$F$13,BuildingSize,0)+1,FALSE),0)))","v":0},{"$f":"X293/1000*Y293*AA293*IF(IFERROR(SEARCH(\"Gas\",$A$15),0)>0,VLOOKUP(\"Gas\",HVACg_Lookup,MATCH($F$13,BuildingSize,0)+1,FALSE),IF(IFERROR(SEARCH(\"Oil\",$A$15),0)>0,VLOOKUP(\"Oil\",HVACg_Lookup,MATCH($F$13,BuildingSize,0)+1,FALSE),IF(IFERROR(SEARCH(\"Propane\",$A$15),0)>0,VLOOKUP(\"Propane\",HVACg_Lookup,MATCH(Worksheet!$F$13,BuildingSize,0)+1,FALSE),0)))","v":0},0,0,"",""]
[null,null,"",null,null,null,null,null,null,null,null,null,null,null,null,0,0,0,0,"",0,0,0,0,0,0,0,0,0,0,0,0,0,0,0,{"$f":"W294/1000*Y294*AA294*IF(IFERROR(SEARCH(\"Gas\",$A$15),0)>0,VLOOKUP(\"Gas\",HVACg_Lookup,MATCH($F$13,BuildingSize,0)+1,FALSE),IF(IFERROR(SEARCH(\"Oil\",$A$15),0)>0,VLOOKUP(\"Oil\",HVACg_Lookup,MATCH($F$13,BuildingSize,0)+1,FALSE),IF(IFERROR(SEARCH(\"Propane\",$A$15),0)>0,VLOOKUP(\"Propane\",HVACg_Lookup,MATCH(Worksheet!$F$13,BuildingSize,0)+1,FALSE),0)))","v":0},{"$f":"X294/1000*Y294*AA294*IF(IFERROR(SEARCH(\"Gas\",$A$15),0)>0,VLOOKUP(\"Gas\",HVACg_Lookup,MATCH($F$13,BuildingSize,0)+1,FALSE),IF(IFERROR(SEARCH(\"Oil\",$A$15),0)>0,VLOOKUP(\"Oil\",HVACg_Lookup,MATCH($F$13,BuildingSize,0)+1,FALSE),IF(IFERROR(SEARCH(\"Propane\",$A$15),0)>0,VLOOKUP(\"Propane\",HVACg_Lookup,MATCH(Worksheet!$F$13,BuildingSize,0)+1,FALSE),0)))","v":0},0,0,"",""]
[null,null,"",null,null,null,null,null,null,null,null,null,null,null,null,0,0,0,0,"",0,0,0,0,0,0,0,0,0,0,0,0,0,0,0,{"$f":"W295/1000*Y295*AA295*IF(IFERROR(SEARCH(\"Gas\",$A$15),0)>0,VLOOKUP(\"Gas\",HVACg_Lookup,MATCH($F$13,BuildingSize,0)+1,FALSE),IF(IFERROR(SEARCH(\"Oil\",$A$15),0)>0,VLOOKUP(\"Oil\",HVACg_Lookup,MATCH($F$13,BuildingSize,0)+1,FALSE),IF(IFERROR(SEARCH(\"Propane\",$A$15),0)>0,VLOOKUP(\"Propane\",HVACg_Lookup,MATCH(Worksheet!$F$13,BuildingSize,0)+1,FALSE),0)))","v":0},{"$f":"X295/1000*Y295*AA295*IF(IFERROR(SEARCH(\"Gas\",$A$15),0)>0,VLOOKUP(\"Gas\",HVACg_Lookup,MATCH($F$13,BuildingSize,0)+1,FALSE),IF(IFERROR(SEARCH(\"Oil\",$A$15),0)>0,VLOOKUP(\"Oil\",HVACg_Lookup,MATCH($F$13,BuildingSize,0)+1,FALSE),IF(IFERROR(SEARCH(\"Propane\",$A$15),0)>0,VLOOKUP(\"Propane\",HVACg_Lookup,MATCH(Worksheet!$F$13,BuildingSize,0)+1,FALSE),0)))","v":0},0,0,"",""]
[null,null,"",null,null,null,null,null,null,null,null,null,null,null,null,0,0,0,0,"",0,0,0,0,0,0,0,0,0,0,0,0,0,0,0,{"$f":"W296/1000*Y296*AA296*IF(IFERROR(SEARCH(\"Gas\",$A$15),0)>0,VLOOKUP(\"Gas\",HVACg_Lookup,MATCH($F$13,BuildingSize,0)+1,FALSE),IF(IFERROR(SEARCH(\"Oil\",$A$15),0)>0,VLOOKUP(\"Oil\",HVACg_Lookup,MATCH($F$13,BuildingSize,0)+1,FALSE),IF(IFERROR(SEARCH(\"Propane\",$A$15),0)>0,VLOOKUP(\"Propane\",HVACg_Lookup,MATCH(Worksheet!$F$13,BuildingSize,0)+1,FALSE),0)))","v":0},{"$f":"X296/1000*Y296*AA296*IF(IFERROR(SEARCH(\"Gas\",$A$15),0)>0,VLOOKUP(\"Gas\",HVACg_Lookup,MATCH($F$13,BuildingSize,0)+1,FALSE),IF(IFERROR(SEARCH(\"Oil\",$A$15),0)>0,VLOOKUP(\"Oil\",HVACg_Lookup,MATCH($F$13,BuildingSize,0)+1,FALSE),IF(IFERROR(SEARCH(\"Propane\",$A$15),0)>0,VLOOKUP(\"Propane\",HVACg_Lookup,MATCH(Worksheet!$F$13,BuildingSize,0)+1,FALSE),0)))","v":0},0,0,"",""]
[null,null,"",null,null,null,null,null,null,null,null,null,null,null,null,0,0,0,0,"",0,0,0,0,0,0,0,0,0,0,0,0,0,0,0,{"$f":"W297/1000*Y297*AA297*IF(IFERROR(SEARCH(\"Gas\",$A$15),0)>0,VLOOKUP(\"Gas\",HVACg_Lookup,MATCH($F$13,BuildingSize,0)+1,FALSE),IF(IFERROR(SEARCH(\"Oil\",$A$15),0)>0,VLOOKUP(\"Oil\",HVACg_Lookup,MATCH($F$13,BuildingSize,0)+1,FALSE),IF(IFERROR(SEARCH(\"Propane\",$A$15),0)>0,VLOOKUP(\"Propane\",HVACg_Lookup,MATCH(Worksheet!$F$13,BuildingSize,0)+1,FALSE),0)))","v":0},{"$f":"X297/1000*Y297*AA297*IF(IFERROR(SEARCH(\"Gas\",$A$15),0)>0,VLOOKUP(\"Gas\",HVACg_Lookup,MATCH($F$13,BuildingSize,0)+1,FALSE),IF(IFERROR(SEARCH(\"Oil\",$A$15),0)>0,VLOOKUP(\"Oil\",HVACg_Lookup,MATCH($F$13,BuildingSize,0)+1,FALSE),IF(IFERROR(SEARCH(\"Propane\",$A$15),0)>0,VLOOKUP(\"Propane\",HVACg_Lookup,MATCH(Worksheet!$F$13,BuildingSize,0)+1,FALSE),0)))","v":0},0,0,"",""]
[null,null,"",null,null,null,null,null,null,null,null,null,null,null,null,0,0,0,0,"",0,0,0,0,0,0,0,0,0,0,0,0,0,0,0,{"$f":"W298/1000*Y298*AA298*IF(IFERROR(SEARCH(\"Gas\",$A$15),0)>0,VLOOKUP(\"Gas\",HVACg_Lookup,MATCH($F$13,BuildingSize,0)+1,FALSE),IF(IFERROR(SEARCH(\"Oil\",$A$15),0)>0,VLOOKUP(\"Oil\",HVACg_Lookup,MATCH($F$13,BuildingSize,0)+1,FALSE),IF(IFERROR(SEARCH(\"Propane\",$A$15),0)>0,VLOOKUP(\"Propane\",HVACg_Lookup,MATCH(Worksheet!$F$13,BuildingSize,0)+1,FALSE),0)))","v":0},{"$f":"X298/1000*Y298*AA298*IF(IFERROR(SEARCH(\"Gas\",$A$15),0)>0,VLOOKUP(\"Gas\",HVACg_Lookup,MATCH($F$13,BuildingSize,0)+1,FALSE),IF(IFERROR(SEARCH(\"Oil\",$A$15),0)>0,VLOOKUP(\"Oil\",HVACg_Lookup,MATCH($F$13,BuildingSize,0)+1,FALSE),IF(IFERROR(SEARCH(\"Propane\",$A$15),0)>0,VLOOKUP(\"Propane\",HVACg_Lookup,MATCH(Worksheet!$F$13,BuildingSize,0)+1,FALSE),0)))","v":0},0,0,"",""]
[null,null,"",null,null,null,null,null,null,null,null,null,null,null,null,0,0,0,0,"",0,0,0,0,0,0,0,0,0,0,0,0,0,0,0,{"$f":"W299/1000*Y299*AA299*IF(IFERROR(SEARCH(\"Gas\",$A$15),0)>0,VLOOKUP(\"Gas\",HVACg_Lookup,MATCH($F$13,BuildingSize,0)+1,FALSE),IF(IFERROR(SEARCH(\"Oil\",$A$15),0)>0,VLOOKUP(\"Oil\",HVACg_Lookup,MATCH($F$13,BuildingSize,0)+1,FALSE),IF(IFERROR(SEARCH(\"Propane\",$A$15),0)>0,VLOOKUP(\"Propane\",HVACg_Lookup,MATCH(Worksheet!$F$13,BuildingSize,0)+1,FALSE),0)))","v":0},{"$f":"X299/1000*Y299*AA299*IF(IFERROR(SEARCH(\"Gas\",$A$15),0)>0,VLOOKUP(\"Gas\",HVACg_Lookup,MATCH($F$13,BuildingSize,0)+1,FALSE),IF(IFERROR(SEARCH(\"Oil\",$A$15),0)>0,VLOOKUP(\"Oil\",HVACg_Lookup,MATCH($F$13,BuildingSize,0)+1,FALSE),IF(IFERROR(SEARCH(\"Propane\",$A$15),0)>0,VLOOKUP(\"Propane\",HVACg_Lookup,MATCH(Worksheet!$F$13,BuildingSize,0)+1,FALSE),0)))","v":0},0,0,"",""]
[null,null,"",null,null,null,null,null,null,null,null,null,null,null,null,0,0,0,0,"",0,0,0,0,0,0,0,0,0,0,0,0,0,0,0,{"$f":"W300/1000*Y300*AA300*IF(IFERROR(SEARCH(\"Gas\",$A$15),0)>0,VLOOKUP(\"Gas\",HVACg_Lookup,MATCH($F$13,BuildingSize,0)+1,FALSE),IF(IFERROR(SEARCH(\"Oil\",$A$15),0)>0,VLOOKUP(\"Oil\",HVACg_Lookup,MATCH($F$13,BuildingSize,0)+1,FALSE),IF(IFERROR(SEARCH(\"Propane\",$A$15),0)>0,VLOOKUP(\"Propane\",HVACg_Lookup,MATCH(Worksheet!$F$13,BuildingSize,0)+1,FALSE),0)))","v":0},{"$f":"X300/1000*Y300*AA300*IF(IFERROR(SEARCH(\"Gas\",$A$15),0)>0,VLOOKUP(\"Gas\",HVACg_Lookup,MATCH($F$13,BuildingSize,0)+1,FALSE),IF(IFERROR(SEARCH(\"Oil\",$A$15),0)>0,VLOOKUP(\"Oil\",HVACg_Lookup,MATCH($F$13,BuildingSize,0)+1,FALSE),IF(IFERROR(SEARCH(\"Propane\",$A$15),0)>0,VLOOKUP(\"Propane\",HVACg_Lookup,MATCH(Worksheet!$F$13,BuildingSize,0)+1,FALSE),0)))","v":0},0,0,"",""]
[null,null,"",null,null,null,null,null,null,null,null,null,null,null,null,0,0,0,0,"",0,0,0,0,0,0,0,0,0,0,0,0,0,0,0,{"$f":"W301/1000*Y301*AA301*IF(IFERROR(SEARCH(\"Gas\",$A$15),0)>0,VLOOKUP(\"Gas\",HVACg_Lookup,MATCH($F$13,BuildingSize,0)+1,FALSE),IF(IFERROR(SEARCH(\"Oil\",$A$15),0)>0,VLOOKUP(\"Oil\",HVACg_Lookup,MATCH($F$13,BuildingSize,0)+1,FALSE),IF(IFERROR(SEARCH(\"Propane\",$A$15),0)>0,VLOOKUP(\"Propane\",HVACg_Lookup,MATCH(Worksheet!$F$13,BuildingSize,0)+1,FALSE),0)))","v":0},{"$f":"X301/1000*Y301*AA301*IF(IFERROR(SEARCH(\"Gas\",$A$15),0)>0,VLOOKUP(\"Gas\",HVACg_Lookup,MATCH($F$13,BuildingSize,0)+1,FALSE),IF(IFERROR(SEARCH(\"Oil\",$A$15),0)>0,VLOOKUP(\"Oil\",HVACg_Lookup,MATCH($F$13,BuildingSize,0)+1,FALSE),IF(IFERROR(SEARCH(\"Propane\",$A$15),0)>0,VLOOKUP(\"Propane\",HVACg_Lookup,MATCH(Worksheet!$F$13,BuildingSize,0)+1,FALSE),0)))","v":0},0,0,"",""]
[null,null,"",null,null,null,null,null,null,null,null,null,null,null,null,0,0,0,0,"",0,0,0,0,0,0,0,0,0,0,0,0,0,0,0,{"$f":"W302/1000*Y302*AA302*IF(IFERROR(SEARCH(\"Gas\",$A$15),0)>0,VLOOKUP(\"Gas\",HVACg_Lookup,MATCH($F$13,BuildingSize,0)+1,FALSE),IF(IFERROR(SEARCH(\"Oil\",$A$15),0)>0,VLOOKUP(\"Oil\",HVACg_Lookup,MATCH($F$13,BuildingSize,0)+1,FALSE),IF(IFERROR(SEARCH(\"Propane\",$A$15),0)>0,VLOOKUP(\"Propane\",HVACg_Lookup,MATCH(Worksheet!$F$13,BuildingSize,0)+1,FALSE),0)))","v":0},{"$f":"X302/1000*Y302*AA302*IF(IFERROR(SEARCH(\"Gas\",$A$15),0)>0,VLOOKUP(\"Gas\",HVACg_Lookup,MATCH($F$13,BuildingSize,0)+1,FALSE),IF(IFERROR(SEARCH(\"Oil\",$A$15),0)>0,VLOOKUP(\"Oil\",HVACg_Lookup,MATCH($F$13,BuildingSize,0)+1,FALSE),IF(IFERROR(SEARCH(\"Propane\",$A$15),0)>0,VLOOKUP(\"Propane\",HVACg_Lookup,MATCH(Worksheet!$F$13,BuildingSize,0)+1,FALSE),0)))","v":0},0,0,"",""]
[null,null,"",null,null,null,null,null,null,null,null,null,null,null,null,0,0,0,0,"",0,0,0,0,0,0,0,0,0,0,0,0,0,0,0,{"$f":"W303/1000*Y303*AA303*IF(IFERROR(SEARCH(\"Gas\",$A$15),0)>0,VLOOKUP(\"Gas\",HVACg_Lookup,MATCH($F$13,BuildingSize,0)+1,FALSE),IF(IFERROR(SEARCH(\"Oil\",$A$15),0)>0,VLOOKUP(\"Oil\",HVACg_Lookup,MATCH($F$13,BuildingSize,0)+1,FALSE),IF(IFERROR(SEARCH(\"Propane\",$A$15),0)>0,VLOOKUP(\"Propane\",HVACg_Lookup,MATCH(Worksheet!$F$13,BuildingSize,0)+1,FALSE),0)))","v":0},{"$f":"X303/1000*Y303*AA303*IF(IFERROR(SEARCH(\"Gas\",$A$15),0)>0,VLOOKUP(\"Gas\",HVACg_Lookup,MATCH($F$13,BuildingSize,0)+1,FALSE),IF(IFERROR(SEARCH(\"Oil\",$A$15),0)>0,VLOOKUP(\"Oil\",HVACg_Lookup,MATCH($F$13,BuildingSize,0)+1,FALSE),IF(IFERROR(SEARCH(\"Propane\",$A$15),0)>0,VLOOKUP(\"Propane\",HVACg_Lookup,MATCH(Worksheet!$F$13,BuildingSize,0)+1,FALSE),0)))","v":0},0,0,"",""]
[null,null,"",null,null,null,null,null,null,null,null,null,null,null,null,0,0,0,0,"",0,0,0,0,0,0,0,0,0,0,0,0,0,0,0,{"$f":"W304/1000*Y304*AA304*IF(IFERROR(SEARCH(\"Gas\",$A$15),0)>0,VLOOKUP(\"Gas\",HVACg_Lookup,MATCH($F$13,BuildingSize,0)+1,FALSE),IF(IFERROR(SEARCH(\"Oil\",$A$15),0)>0,VLOOKUP(\"Oil\",HVACg_Lookup,MATCH($F$13,BuildingSize,0)+1,FALSE),IF(IFERROR(SEARCH(\"Propane\",$A$15),0)>0,VLOOKUP(\"Propane\",HVACg_Lookup,MATCH(Worksheet!$F$13,BuildingSize,0)+1,FALSE),0)))","v":0},{"$f":"X304/1000*Y304*AA304*IF(IFERROR(SEARCH(\"Gas\",$A$15),0)>0,VLOOKUP(\"Gas\",HVACg_Lookup,MATCH($F$13,BuildingSize,0)+1,FALSE),IF(IFERROR(SEARCH(\"Oil\",$A$15),0)>0,VLOOKUP(\"Oil\",HVACg_Lookup,MATCH($F$13,BuildingSize,0)+1,FALSE),IF(IFERROR(SEARCH(\"Propane\",$A$15),0)>0,VLOOKUP(\"Propane\",HVACg_Lookup,MATCH(Worksheet!$F$13,BuildingSize,0)+1,FALSE),0)))","v":0},0,0,"",""]
[null,null,"",null,null,null,null,null,null,null,null,null,null,null,null,0,0,0,0,"",0,0,0,0,0,0,0,0,0,0,0,0,0,0,0,{"$f":"W305/1000*Y305*AA305*IF(IFERROR(SEARCH(\"Gas\",$A$15),0)>0,VLOOKUP(\"Gas\",HVACg_Lookup,MATCH($F$13,BuildingSize,0)+1,FALSE),IF(IFERROR(SEARCH(\"Oil\",$A$15),0)>0,VLOOKUP(\"Oil\",HVACg_Lookup,MATCH($F$13,BuildingSize,0)+1,FALSE),IF(IFERROR(SEARCH(\"Propane\",$A$15),0)>0,VLOOKUP(\"Propane\",HVACg_Lookup,MATCH(Worksheet!$F$13,BuildingSize,0)+1,FALSE),0)))","v":0},{"$f":"X305/1000*Y305*AA305*IF(IFERROR(SEARCH(\"Gas\",$A$15),0)>0,VLOOKUP(\"Gas\",HVACg_Lookup,MATCH($F$13,BuildingSize,0)+1,FALSE),IF(IFERROR(SEARCH(\"Oil\",$A$15),0)>0,VLOOKUP(\"Oil\",HVACg_Lookup,MATCH($F$13,BuildingSize,0)+1,FALSE),IF(IFERROR(SEARCH(\"Propane\",$A$15),0)>0,VLOOKUP(\"Propane\",HVACg_Lookup,MATCH(Worksheet!$F$13,BuildingSize,0)+1,FALSE),0)))","v":0},0,0,"",""]
[null,null,"",null,null,null,null,null,null,null,null,null,null,null,null,0,0,0,0,"",0,0,0,0,0,0,0,0,0,0,0,0,0,0,0,{"$f":"W306/1000*Y306*AA306*IF(IFERROR(SEARCH(\"Gas\",$A$15),0)>0,VLOOKUP(\"Gas\",HVACg_Lookup,MATCH($F$13,BuildingSize,0)+1,FALSE),IF(IFERROR(SEARCH(\"Oil\",$A$15),0)>0,VLOOKUP(\"Oil\",HVACg_Lookup,MATCH($F$13,BuildingSize,0)+1,FALSE),IF(IFERROR(SEARCH(\"Propane\",$A$15),0)>0,VLOOKUP(\"Propane\",HVACg_Lookup,MATCH(Worksheet!$F$13,BuildingSize,0)+1,FALSE),0)))","v":0},{"$f":"X306/1000*Y306*AA306*IF(IFERROR(SEARCH(\"Gas\",$A$15),0)>0,VLOOKUP(\"Gas\",HVACg_Lookup,MATCH($F$13,BuildingSize,0)+1,FALSE),IF(IFERROR(SEARCH(\"Oil\",$A$15),0)>0,VLOOKUP(\"Oil\",HVACg_Lookup,MATCH($F$13,BuildingSize,0)+1,FALSE),IF(IFERROR(SEARCH(\"Propane\",$A$15),0)>0,VLOOKUP(\"Propane\",HVACg_Lookup,MATCH(Worksheet!$F$13,BuildingSize,0)+1,FALSE),0)))","v":0},0,0,"",""]
[null,null,"",null,null,null,null,null,null,null,null,null,null,null,null,0,0,0,0,"",0,0,0,0,0,0,0,0,0,0,0,0,0,0,0,{"$f":"W307/1000*Y307*AA307*IF(IFERROR(SEARCH(\"Gas\",$A$15),0)>0,VLOOKUP(\"Gas\",HVACg_Lookup,MATCH($F$13,BuildingSize,0)+1,FALSE),IF(IFERROR(SEARCH(\"Oil\",$A$15),0)>0,VLOOKUP(\"Oil\",HVACg_Lookup,MATCH($F$13,BuildingSize,0)+1,FALSE),IF(IFERROR(SEARCH(\"Propane\",$A$15),0)>0,VLOOKUP(\"Propane\",HVACg_Lookup,MATCH(Worksheet!$F$13,BuildingSize,0)+1,FALSE),0)))","v":0},{"$f":"X307/1000*Y307*AA307*IF(IFERROR(SEARCH(\"Gas\",$A$15),0)>0,VLOOKUP(\"Gas\",HVACg_Lookup,MATCH($F$13,BuildingSize,0)+1,FALSE),IF(IFERROR(SEARCH(\"Oil\",$A$15),0)>0,VLOOKUP(\"Oil\",HVACg_Lookup,MATCH($F$13,BuildingSize,0)+1,FALSE),IF(IFERROR(SEARCH(\"Propane\",$A$15),0)>0,VLOOKUP(\"Propane\",HVACg_Lookup,MATCH(Worksheet!$F$13,BuildingSize,0)+1,FALSE),0)))","v":0},0,0,"",""]
[null,null,"",null,null,null,null,null,null,null,null,null,null,null,null,0,0,0,0,"",0,0,0,0,0,0,0,0,0,0,0,0,0,0,0,{"$f":"W308/1000*Y308*AA308*IF(IFERROR(SEARCH(\"Gas\",$A$15),0)>0,VLOOKUP(\"Gas\",HVACg_Lookup,MATCH($F$13,BuildingSize,0)+1,FALSE),IF(IFERROR(SEARCH(\"Oil\",$A$15),0)>0,VLOOKUP(\"Oil\",HVACg_Lookup,MATCH($F$13,BuildingSize,0)+1,FALSE),IF(IFERROR(SEARCH(\"Propane\",$A$15),0)>0,VLOOKUP(\"Propane\",HVACg_Lookup,MATCH(Worksheet!$F$13,BuildingSize,0)+1,FALSE),0)))","v":0},{"$f":"X308/1000*Y308*AA308*IF(IFERROR(SEARCH(\"Gas\",$A$15),0)>0,VLOOKUP(\"Gas\",HVACg_Lookup,MATCH($F$13,BuildingSize,0)+1,FALSE),IF(IFERROR(SEARCH(\"Oil\",$A$15),0)>0,VLOOKUP(\"Oil\",HVACg_Lookup,MATCH($F$13,BuildingSize,0)+1,FALSE),IF(IFERROR(SEARCH(\"Propane\",$A$15),0)>0,VLOOKUP(\"Propane\",HVACg_Lookup,MATCH(Worksheet!$F$13,BuildingSize,0)+1,FALSE),0)))","v":0},0,0,"",""]
[null,null,"",null,null,null,null,null,null,null,null,null,null,null,null,0,0,0,0,"",0,0,0,0,0,0,0,0,0,0,0,0,0,0,0,{"$f":"W309/1000*Y309*AA309*IF(IFERROR(SEARCH(\"Gas\",$A$15),0)>0,VLOOKUP(\"Gas\",HVACg_Lookup,MATCH($F$13,BuildingSize,0)+1,FALSE),IF(IFERROR(SEARCH(\"Oil\",$A$15),0)>0,VLOOKUP(\"Oil\",HVACg_Lookup,MATCH($F$13,BuildingSize,0)+1,FALSE),IF(IFERROR(SEARCH(\"Propane\",$A$15),0)>0,VLOOKUP(\"Propane\",HVACg_Lookup,MATCH(Worksheet!$F$13,BuildingSize,0)+1,FALSE),0)))","v":0},{"$f":"X309/1000*Y309*AA309*IF(IFERROR(SEARCH(\"Gas\",$A$15),0)>0,VLOOKUP(\"Gas\",HVACg_Lookup,MATCH($F$13,BuildingSize,0)+1,FALSE),IF(IFERROR(SEARCH(\"Oil\",$A$15),0)>0,VLOOKUP(\"Oil\",HVACg_Lookup,MATCH($F$13,BuildingSize,0)+1,FALSE),IF(IFERROR(SEARCH(\"Propane\",$A$15),0)>0,VLOOKUP(\"Propane\",HVACg_Lookup,MATCH(Worksheet!$F$13,BuildingSize,0)+1,FALSE),0)))","v":0},0,0,"",""]
[null,null,"",null,null,null,null,null,null,null,null,null,null,null,null,0,0,0,0,"",0,0,0,0,0,0,0,0,0,0,0,0,0,0,0,{"$f":"W310/1000*Y310*AA310*IF(IFERROR(SEARCH(\"Gas\",$A$15),0)>0,VLOOKUP(\"Gas\",HVACg_Lookup,MATCH($F$13,BuildingSize,0)+1,FALSE),IF(IFERROR(SEARCH(\"Oil\",$A$15),0)>0,VLOOKUP(\"Oil\",HVACg_Lookup,MATCH($F$13,BuildingSize,0)+1,FALSE),IF(IFERROR(SEARCH(\"Propane\",$A$15),0)>0,VLOOKUP(\"Propane\",HVACg_Lookup,MATCH(Worksheet!$F$13,BuildingSize,0)+1,FALSE),0)))","v":0},{"$f":"X310/1000*Y310*AA310*IF(IFERROR(SEARCH(\"Gas\",$A$15),0)>0,VLOOKUP(\"Gas\",HVACg_Lookup,MATCH($F$13,BuildingSize,0)+1,FALSE),IF(IFERROR(SEARCH(\"Oil\",$A$15),0)>0,VLOOKUP(\"Oil\",HVACg_Lookup,MATCH($F$13,BuildingSize,0)+1,FALSE),IF(IFERROR(SEARCH(\"Propane\",$A$15),0)>0,VLOOKUP(\"Propane\",HVACg_Lookup,MATCH(Worksheet!$F$13,BuildingSize,0)+1,FALSE),0)))","v":0},0,0,"",""]
[null,null,"",null,null,null,null,null,null,null,null,null,null,null,null,0,0,0,0,"",0,0,0,0,0,0,0,0,0,0,0,0,0,0,0,{"$f":"W311/1000*Y311*AA311*IF(IFERROR(SEARCH(\"Gas\",$A$15),0)>0,VLOOKUP(\"Gas\",HVACg_Lookup,MATCH($F$13,BuildingSize,0)+1,FALSE),IF(IFERROR(SEARCH(\"Oil\",$A$15),0)>0,VLOOKUP(\"Oil\",HVACg_Lookup,MATCH($F$13,BuildingSize,0)+1,FALSE),IF(IFERROR(SEARCH(\"Propane\",$A$15),0)>0,VLOOKUP(\"Propane\",HVACg_Lookup,MATCH(Worksheet!$F$13,BuildingSize,0)+1,FALSE),0)))","v":0},{"$f":"X311/1000*Y311*AA311*IF(IFERROR(SEARCH(\"Gas\",$A$15),0)>0,VLOOKUP(\"Gas\",HVACg_Lookup,MATCH($F$13,BuildingSize,0)+1,FALSE),IF(IFERROR(SEARCH(\"Oil\",$A$15),0)>0,VLOOKUP(\"Oil\",HVACg_Lookup,MATCH($F$13,BuildingSize,0)+1,FALSE),IF(IFERROR(SEARCH(\"Propane\",$A$15),0)>0,VLOOKUP(\"Propane\",HVACg_Lookup,MATCH(Worksheet!$F$13,BuildingSize,0)+1,FALSE),0)))","v":0},0,0,"",""]
[null,null,"",null,null,null,null,null,null,null,null,null,null,null,null,0,0,0,0,"",0,0,0,0,0,0,0,0,0,0,0,0,0,0,0,{"$f":"W312/1000*Y312*AA312*IF(IFERROR(SEARCH(\"Gas\",$A$15),0)>0,VLOOKUP(\"Gas\",HVACg_Lookup,MATCH($F$13,BuildingSize,0)+1,FALSE),IF(IFERROR(SEARCH(\"Oil\",$A$15),0)>0,VLOOKUP(\"Oil\",HVACg_Lookup,MATCH($F$13,BuildingSize,0)+1,FALSE),IF(IFERROR(SEARCH(\"Propane\",$A$15),0)>0,VLOOKUP(\"Propane\",HVACg_Lookup,MATCH(Worksheet!$F$13,BuildingSize,0)+1,FALSE),0)))","v":0},{"$f":"X312/1000*Y312*AA312*IF(IFERROR(SEARCH(\"Gas\",$A$15),0)>0,VLOOKUP(\"Gas\",HVACg_Lookup,MATCH($F$13,BuildingSize,0)+1,FALSE),IF(IFERROR(SEARCH(\"Oil\",$A$15),0)>0,VLOOKUP(\"Oil\",HVACg_Lookup,MATCH($F$13,BuildingSize,0)+1,FALSE),IF(IFERROR(SEARCH(\"Propane\",$A$15),0)>0,VLOOKUP(\"Propane\",HVACg_Lookup,MATCH(Worksheet!$F$13,BuildingSize,0)+1,FALSE),0)))","v":0},0,0,"",""]
[null,null,"",null,null,null,null,null,null,null,null,null,null,null,null,0,0,0,0,"",0,0,0,0,0,0,0,0,0,0,0,0,0,0,0,{"$f":"W313/1000*Y313*AA313*IF(IFERROR(SEARCH(\"Gas\",$A$15),0)>0,VLOOKUP(\"Gas\",HVACg_Lookup,MATCH($F$13,BuildingSize,0)+1,FALSE),IF(IFERROR(SEARCH(\"Oil\",$A$15),0)>0,VLOOKUP(\"Oil\",HVACg_Lookup,MATCH($F$13,BuildingSize,0)+1,FALSE),IF(IFERROR(SEARCH(\"Propane\",$A$15),0)>0,VLOOKUP(\"Propane\",HVACg_Lookup,MATCH(Worksheet!$F$13,BuildingSize,0)+1,FALSE),0)))","v":0},{"$f":"X313/1000*Y313*AA313*IF(IFERROR(SEARCH(\"Gas\",$A$15),0)>0,VLOOKUP(\"Gas\",HVACg_Lookup,MATCH($F$13,BuildingSize,0)+1,FALSE),IF(IFERROR(SEARCH(\"Oil\",$A$15),0)>0,VLOOKUP(\"Oil\",HVACg_Lookup,MATCH($F$13,BuildingSize,0)+1,FALSE),IF(IFERROR(SEARCH(\"Propane\",$A$15),0)>0,VLOOKUP(\"Propane\",HVACg_Lookup,MATCH(Worksheet!$F$13,BuildingSize,0)+1,FALSE),0)))","v":0},0,0,"",""]
[null,null,"",null,null,null,null,null,null,null,null,null,null,null,null,0,0,0,0,"",0,0,0,0,0,0,0,0,0,0,0,0,0,0,0,{"$f":"W314/1000*Y314*AA314*IF(IFERROR(SEARCH(\"Gas\",$A$15),0)>0,VLOOKUP(\"Gas\",HVACg_Lookup,MATCH($F$13,BuildingSize,0)+1,FALSE),IF(IFERROR(SEARCH(\"Oil\",$A$15),0)>0,VLOOKUP(\"Oil\",HVACg_Lookup,MATCH($F$13,BuildingSize,0)+1,FALSE),IF(IFERROR(SEARCH(\"Propane\",$A$15),0)>0,VLOOKUP(\"Propane\",HVACg_Lookup,MATCH(Worksheet!$F$13,BuildingSize,0)+1,FALSE),0)))","v":0},{"$f":"X314/1000*Y314*AA314*IF(IFERROR(SEARCH(\"Gas\",$A$15),0)>0,VLOOKUP(\"Gas\",HVACg_Lookup,MATCH($F$13,BuildingSize,0)+1,FALSE),IF(IFERROR(SEARCH(\"Oil\",$A$15),0)>0,VLOOKUP(\"Oil\",HVACg_Lookup,MATCH($F$13,BuildingSize,0)+1,FALSE),IF(IFERROR(SEARCH(\"Propane\",$A$15),0)>0,VLOOKUP(\"Propane\",HVACg_Lookup,MATCH(Worksheet!$F$13,BuildingSize,0)+1,FALSE),0)))","v":0},0,0,"",""]
[null,null,"",null,null,null,null,null,null,null,null,null,null,null,null,0,0,0,0,"",0,0,0,0,0,0,0,0,0,0,0,0,0,0,0,{"$f":"W315/1000*Y315*AA315*IF(IFERROR(SEARCH(\"Gas\",$A$15),0)>0,VLOOKUP(\"Gas\",HVACg_Lookup,MATCH($F$13,BuildingSize,0)+1,FALSE),IF(IFERROR(SEARCH(\"Oil\",$A$15),0)>0,VLOOKUP(\"Oil\",HVACg_Lookup,MATCH($F$13,BuildingSize,0)+1,FALSE),IF(IFERROR(SEARCH(\"Propane\",$A$15),0)>0,VLOOKUP(\"Propane\",HVACg_Lookup,MATCH(Worksheet!$F$13,BuildingSize,0)+1,FALSE),0)))","v":0},{"$f":"X315/1000*Y315*AA315*IF(IFERROR(SEARCH(\"Gas\",$A$15),0)>0,VLOOKUP(\"Gas\",HVACg_Lookup,MATCH($F$13,BuildingSize,0)+1,FALSE),IF(IFERROR(SEARCH(\"Oil\",$A$15),0)>0,VLOOKUP(\"Oil\",HVACg_Lookup,MATCH($F$13,BuildingSize,0)+1,FALSE),IF(IFERROR(SEARCH(\"Propane\",$A$15),0)>0,VLOOKUP(\"Propane\",HVACg_Lookup,MATCH(Worksheet!$F$13,BuildingSize,0)+1,FALSE),0)))","v":0},0,0,"",""]
[null,null,"",null,null,null,null,null,null,null,null,null,null,null,null,0,0,0,0,"",0,0,0,0,0,0,0,0,0,0,0,0,0,0,0,{"$f":"W316/1000*Y316*AA316*IF(IFERROR(SEARCH(\"Gas\",$A$15),0)>0,VLOOKUP(\"Gas\",HVACg_Lookup,MATCH($F$13,BuildingSize,0)+1,FALSE),IF(IFERROR(SEARCH(\"Oil\",$A$15),0)>0,VLOOKUP(\"Oil\",HVACg_Lookup,MATCH($F$13,BuildingSize,0)+1,FALSE),IF(IFERROR(SEARCH(\"Propane\",$A$15),0)>0,VLOOKUP(\"Propane\",HVACg_Lookup,MATCH(Worksheet!$F$13,BuildingSize,0)+1,FALSE),0)))","v":0},{"$f":"X316/1000*Y316*AA316*IF(IFERROR(SEARCH(\"Gas\",$A$15),0)>0,VLOOKUP(\"Gas\",HVACg_Lookup,MATCH($F$13,BuildingSize,0)+1,FALSE),IF(IFERROR(SEARCH(\"Oil\",$A$15),0)>0,VLOOKUP(\"Oil\",HVACg_Lookup,MATCH($F$13,BuildingSize,0)+1,FALSE),IF(IFERROR(SEARCH(\"Propane\",$A$15),0)>0,VLOOKUP(\"Propane\",HVACg_Lookup,MATCH(Worksheet!$F$13,BuildingSize,0)+1,FALSE),0)))","v":0},0,0,"",""]
[null,null,"",null,null,null,null,null,null,null,null,null,null,null,null,0,0,0,0,"",0,0,0,0,0,0,0,0,0,0,0,0,0,0,0,{"$f":"W317/1000*Y317*AA317*IF(IFERROR(SEARCH(\"Gas\",$A$15),0)>0,VLOOKUP(\"Gas\",HVACg_Lookup,MATCH($F$13,BuildingSize,0)+1,FALSE),IF(IFERROR(SEARCH(\"Oil\",$A$15),0)>0,VLOOKUP(\"Oil\",HVACg_Lookup,MATCH($F$13,BuildingSize,0)+1,FALSE),IF(IFERROR(SEARCH(\"Propane\",$A$15),0)>0,VLOOKUP(\"Propane\",HVACg_Lookup,MATCH(Worksheet!$F$13,BuildingSize,0)+1,FALSE),0)))","v":0},{"$f":"X317/1000*Y317*AA317*IF(IFERROR(SEARCH(\"Gas\",$A$15),0)>0,VLOOKUP(\"Gas\",HVACg_Lookup,MATCH($F$13,BuildingSize,0)+1,FALSE),IF(IFERROR(SEARCH(\"Oil\",$A$15),0)>0,VLOOKUP(\"Oil\",HVACg_Lookup,MATCH($F$13,BuildingSize,0)+1,FALSE),IF(IFERROR(SEARCH(\"Propane\",$A$15),0)>0,VLOOKUP(\"Propane\",HVACg_Lookup,MATCH(Worksheet!$F$13,BuildingSize,0)+1,FALSE),0)))","v":0},0,0,"",""]
[null,null,"",null,null,null,null,null,null,null,null,null,null,null,null,0,0,0,0,"",0,0,0,0,0,0,0,0,0,0,0,0,0,0,0,{"$f":"W318/1000*Y318*AA318*IF(IFERROR(SEARCH(\"Gas\",$A$15),0)>0,VLOOKUP(\"Gas\",HVACg_Lookup,MATCH($F$13,BuildingSize,0)+1,FALSE),IF(IFERROR(SEARCH(\"Oil\",$A$15),0)>0,VLOOKUP(\"Oil\",HVACg_Lookup,MATCH($F$13,BuildingSize,0)+1,FALSE),IF(IFERROR(SEARCH(\"Propane\",$A$15),0)>0,VLOOKUP(\"Propane\",HVACg_Lookup,MATCH(Worksheet!$F$13,BuildingSize,0)+1,FALSE),0)))","v":0},{"$f":"X318/1000*Y318*AA318*IF(IFERROR(SEARCH(\"Gas\",$A$15),0)>0,VLOOKUP(\"Gas\",HVACg_Lookup,MATCH($F$13,BuildingSize,0)+1,FALSE),IF(IFERROR(SEARCH(\"Oil\",$A$15),0)>0,VLOOKUP(\"Oil\",HVACg_Lookup,MATCH($F$13,BuildingSize,0)+1,FALSE),IF(IFERROR(SEARCH(\"Propane\",$A$15),0)>0,VLOOKUP(\"Propane\",HVACg_Lookup,MATCH(Worksheet!$F$13,BuildingSize,0)+1,FALSE),0)))","v":0},0,0,"",""]
[null,null,"",null,null,null,null,null,null,null,null,null,null,null,null,0,0,0,0,"",0,0,0,0,0,0,0,0,0,0,0,0,0,0,0,{"$f":"W319/1000*Y319*AA319*IF(IFERROR(SEARCH(\"Gas\",$A$15),0)>0,VLOOKUP(\"Gas\",HVACg_Lookup,MATCH($F$13,BuildingSize,0)+1,FALSE),IF(IFERROR(SEARCH(\"Oil\",$A$15),0)>0,VLOOKUP(\"Oil\",HVACg_Lookup,MATCH($F$13,BuildingSize,0)+1,FALSE),IF(IFERROR(SEARCH(\"Propane\",$A$15),0)>0,VLOOKUP(\"Propane\",HVACg_Lookup,MATCH(Worksheet!$F$13,BuildingSize,0)+1,FALSE),0)))","v":0},{"$f":"X319/1000*Y319*AA319*IF(IFERROR(SEARCH(\"Gas\",$A$15),0)>0,VLOOKUP(\"Gas\",HVACg_Lookup,MATCH($F$13,BuildingSize,0)+1,FALSE),IF(IFERROR(SEARCH(\"Oil\",$A$15),0)>0,VLOOKUP(\"Oil\",HVACg_Lookup,MATCH($F$13,BuildingSize,0)+1,FALSE),IF(IFERROR(SEARCH(\"Propane\",$A$15),0)>0,VLOOKUP(\"Propane\",HVACg_Lookup,MATCH(Worksheet!$F$13,BuildingSize,0)+1,FALSE),0)))","v":0},0,0,"",""]
[null,null,"",null,null,null,null,null,null,null,null,null,null,null,null,0,0,0,0,"",0,0,0,0,0,0,0,0,0,0,0,0,0,0,0,{"$f":"W320/1000*Y320*AA320*IF(IFERROR(SEARCH(\"Gas\",$A$15),0)>0,VLOOKUP(\"Gas\",HVACg_Lookup,MATCH($F$13,BuildingSize,0)+1,FALSE),IF(IFERROR(SEARCH(\"Oil\",$A$15),0)>0,VLOOKUP(\"Oil\",HVACg_Lookup,MATCH($F$13,BuildingSize,0)+1,FALSE),IF(IFERROR(SEARCH(\"Propane\",$A$15),0)>0,VLOOKUP(\"Propane\",HVACg_Lookup,MATCH(Worksheet!$F$13,BuildingSize,0)+1,FALSE),0)))","v":0},{"$f":"X320/1000*Y320*AA320*IF(IFERROR(SEARCH(\"Gas\",$A$15),0)>0,VLOOKUP(\"Gas\",HVACg_Lookup,MATCH($F$13,BuildingSize,0)+1,FALSE),IF(IFERROR(SEARCH(\"Oil\",$A$15),0)>0,VLOOKUP(\"Oil\",HVACg_Lookup,MATCH($F$13,BuildingSize,0)+1,FALSE),IF(IFERROR(SEARCH(\"Propane\",$A$15),0)>0,VLOOKUP(\"Propane\",HVACg_Lookup,MATCH(Worksheet!$F$13,BuildingSize,0)+1,FALSE),0)))","v":0},0,0,"",""]
[null,null,"",null,null,null,null,null,null,null,null,null,null,null,null,0,0,0,0,"",0,0,0,0,0,0,0,0,0,0,0,0,0,0,0,{"$f":"W321/1000*Y321*AA321*IF(IFERROR(SEARCH(\"Gas\",$A$15),0)>0,VLOOKUP(\"Gas\",HVACg_Lookup,MATCH($F$13,BuildingSize,0)+1,FALSE),IF(IFERROR(SEARCH(\"Oil\",$A$15),0)>0,VLOOKUP(\"Oil\",HVACg_Lookup,MATCH($F$13,BuildingSize,0)+1,FALSE),IF(IFERROR(SEARCH(\"Propane\",$A$15),0)>0,VLOOKUP(\"Propane\",HVACg_Lookup,MATCH(Worksheet!$F$13,BuildingSize,0)+1,FALSE),0)))","v":0},{"$f":"X321/1000*Y321*AA321*IF(IFERROR(SEARCH(\"Gas\",$A$15),0)>0,VLOOKUP(\"Gas\",HVACg_Lookup,MATCH($F$13,BuildingSize,0)+1,FALSE),IF(IFERROR(SEARCH(\"Oil\",$A$15),0)>0,VLOOKUP(\"Oil\",HVACg_Lookup,MATCH($F$13,BuildingSize,0)+1,FALSE),IF(IFERROR(SEARCH(\"Propane\",$A$15),0)>0,VLOOKUP(\"Propane\",HVACg_Lookup,MATCH(Worksheet!$F$13,BuildingSize,0)+1,FALSE),0)))","v":0},0,0,"",""]
[null,null,"",null,null,null,null,null,null,null,null,null,null,null,null,0,0,0,0,"",0,0,0,0,0,0,0,0,0,0,0,0,0,0,0,{"$f":"W322/1000*Y322*AA322*IF(IFERROR(SEARCH(\"Gas\",$A$15),0)>0,VLOOKUP(\"Gas\",HVACg_Lookup,MATCH($F$13,BuildingSize,0)+1,FALSE),IF(IFERROR(SEARCH(\"Oil\",$A$15),0)>0,VLOOKUP(\"Oil\",HVACg_Lookup,MATCH($F$13,BuildingSize,0)+1,FALSE),IF(IFERROR(SEARCH(\"Propane\",$A$15),0)>0,VLOOKUP(\"Propane\",HVACg_Lookup,MATCH(Worksheet!$F$13,BuildingSize,0)+1,FALSE),0)))","v":0},{"$f":"X322/1000*Y322*AA322*IF(IFERROR(SEARCH(\"Gas\",$A$15),0)>0,VLOOKUP(\"Gas\",HVACg_Lookup,MATCH($F$13,BuildingSize,0)+1,FALSE),IF(IFERROR(SEARCH(\"Oil\",$A$15),0)>0,VLOOKUP(\"Oil\",HVACg_Lookup,MATCH($F$13,BuildingSize,0)+1,FALSE),IF(IFERROR(SEARCH(\"Propane\",$A$15),0)>0,VLOOKUP(\"Propane\",HVACg_Lookup,MATCH(Worksheet!$F$13,BuildingSize,0)+1,FALSE),0)))","v":0},0,0,"",""]
[null,null,"",null,null,null,null,null,null,null,null,null,null,null,null,0,0,0,0,"",0,0,0,0,0,0,0,0,0,0,0,0,0,0,0,{"$f":"W323/1000*Y323*AA323*IF(IFERROR(SEARCH(\"Gas\",$A$15),0)>0,VLOOKUP(\"Gas\",HVACg_Lookup,MATCH($F$13,BuildingSize,0)+1,FALSE),IF(IFERROR(SEARCH(\"Oil\",$A$15),0)>0,VLOOKUP(\"Oil\",HVACg_Lookup,MATCH($F$13,BuildingSize,0)+1,FALSE),IF(IFERROR(SEARCH(\"Propane\",$A$15),0)>0,VLOOKUP(\"Propane\",HVACg_Lookup,MATCH(Worksheet!$F$13,BuildingSize,0)+1,FALSE),0)))","v":0},{"$f":"X323/1000*Y323*AA323*IF(IFERROR(SEARCH(\"Gas\",$A$15),0)>0,VLOOKUP(\"Gas\",HVACg_Lookup,MATCH($F$13,BuildingSize,0)+1,FALSE),IF(IFERROR(SEARCH(\"Oil\",$A$15),0)>0,VLOOKUP(\"Oil\",HVACg_Lookup,MATCH($F$13,BuildingSize,0)+1,FALSE),IF(IFERROR(SEARCH(\"Propane\",$A$15),0)>0,VLOOKUP(\"Propane\",HVACg_Lookup,MATCH(Worksheet!$F$13,BuildingSize,0)+1,FALSE),0)))","v":0},0,0,"",""]
[null,null,"",null,null,null,null,null,null,null,null,null,null,null,null,0,0,0,0,"",0,0,0,0,0,0,0,0,0,0,0,0,0,0,0,{"$f":"W324/1000*Y324*AA324*IF(IFERROR(SEARCH(\"Gas\",$A$15),0)>0,VLOOKUP(\"Gas\",HVACg_Lookup,MATCH($F$13,BuildingSize,0)+1,FALSE),IF(IFERROR(SEARCH(\"Oil\",$A$15),0)>0,VLOOKUP(\"Oil\",HVACg_Lookup,MATCH($F$13,BuildingSize,0)+1,FALSE),IF(IFERROR(SEARCH(\"Propane\",$A$15),0)>0,VLOOKUP(\"Propane\",HVACg_Lookup,MATCH(Worksheet!$F$13,BuildingSize,0)+1,FALSE),0)))","v":0},{"$f":"X324/1000*Y324*AA324*IF(IFERROR(SEARCH(\"Gas\",$A$15),0)>0,VLOOKUP(\"Gas\",HVACg_Lookup,MATCH($F$13,BuildingSize,0)+1,FALSE),IF(IFERROR(SEARCH(\"Oil\",$A$15),0)>0,VLOOKUP(\"Oil\",HVACg_Lookup,MATCH($F$13,BuildingSize,0)+1,FALSE),IF(IFERROR(SEARCH(\"Propane\",$A$15),0)>0,VLOOKUP(\"Propane\",HVACg_Lookup,MATCH(Worksheet!$F$13,BuildingSize,0)+1,FALSE),0)))","v":0},0,0,"",""]
[null,null,"",null,null,null,null,null,null,null,null,null,null,null,null,0,0,0,0,"",0,0,0,0,0,0,0,0,0,0,0,0,0,0,0,{"$f":"W325/1000*Y325*AA325*IF(IFERROR(SEARCH(\"Gas\",$A$15),0)>0,VLOOKUP(\"Gas\",HVACg_Lookup,MATCH($F$13,BuildingSize,0)+1,FALSE),IF(IFERROR(SEARCH(\"Oil\",$A$15),0)>0,VLOOKUP(\"Oil\",HVACg_Lookup,MATCH($F$13,BuildingSize,0)+1,FALSE),IF(IFERROR(SEARCH(\"Propane\",$A$15),0)>0,VLOOKUP(\"Propane\",HVACg_Lookup,MATCH(Worksheet!$F$13,BuildingSize,0)+1,FALSE),0)))","v":0},{"$f":"X325/1000*Y325*AA325*IF(IFERROR(SEARCH(\"Gas\",$A$15),0)>0,VLOOKUP(\"Gas\",HVACg_Lookup,MATCH($F$13,BuildingSize,0)+1,FALSE),IF(IFERROR(SEARCH(\"Oil\",$A$15),0)>0,VLOOKUP(\"Oil\",HVACg_Lookup,MATCH($F$13,BuildingSize,0)+1,FALSE),IF(IFERROR(SEARCH(\"Propane\",$A$15),0)>0,VLOOKUP(\"Propane\",HVACg_Lookup,MATCH(Worksheet!$F$13,BuildingSize,0)+1,FALSE),0)))","v":0},0,0,"",""]
[null,null,"",null,null,null,null,null,null,null,null,null,null,null,null,0,0,0,0,"",0,0,0,0,0,0,0,0,0,0,0,0,0,0,0,{"$f":"W326/1000*Y326*AA326*IF(IFERROR(SEARCH(\"Gas\",$A$15),0)>0,VLOOKUP(\"Gas\",HVACg_Lookup,MATCH($F$13,BuildingSize,0)+1,FALSE),IF(IFERROR(SEARCH(\"Oil\",$A$15),0)>0,VLOOKUP(\"Oil\",HVACg_Lookup,MATCH($F$13,BuildingSize,0)+1,FALSE),IF(IFERROR(SEARCH(\"Propane\",$A$15),0)>0,VLOOKUP(\"Propane\",HVACg_Lookup,MATCH(Worksheet!$F$13,BuildingSize,0)+1,FALSE),0)))","v":0},{"$f":"X326/1000*Y326*AA326*IF(IFERROR(SEARCH(\"Gas\",$A$15),0)>0,VLOOKUP(\"Gas\",HVACg_Lookup,MATCH($F$13,BuildingSize,0)+1,FALSE),IF(IFERROR(SEARCH(\"Oil\",$A$15),0)>0,VLOOKUP(\"Oil\",HVACg_Lookup,MATCH($F$13,BuildingSize,0)+1,FALSE),IF(IFERROR(SEARCH(\"Propane\",$A$15),0)>0,VLOOKUP(\"Propane\",HVACg_Lookup,MATCH(Worksheet!$F$13,BuildingSize,0)+1,FALSE),0)))","v":0},0,0,"",""]
[null,null,"",null,null,null,null,null,null,null,null,null,null,null,null,0,0,0,0,"",0,0,0,0,0,0,0,0,0,0,0,0,0,0,0,{"$f":"W327/1000*Y327*AA327*IF(IFERROR(SEARCH(\"Gas\",$A$15),0)>0,VLOOKUP(\"Gas\",HVACg_Lookup,MATCH($F$13,BuildingSize,0)+1,FALSE),IF(IFERROR(SEARCH(\"Oil\",$A$15),0)>0,VLOOKUP(\"Oil\",HVACg_Lookup,MATCH($F$13,BuildingSize,0)+1,FALSE),IF(IFERROR(SEARCH(\"Propane\",$A$15),0)>0,VLOOKUP(\"Propane\",HVACg_Lookup,MATCH(Worksheet!$F$13,BuildingSize,0)+1,FALSE),0)))","v":0},{"$f":"X327/1000*Y327*AA327*IF(IFERROR(SEARCH(\"Gas\",$A$15),0)>0,VLOOKUP(\"Gas\",HVACg_Lookup,MATCH($F$13,BuildingSize,0)+1,FALSE),IF(IFERROR(SEARCH(\"Oil\",$A$15),0)>0,VLOOKUP(\"Oil\",HVACg_Lookup,MATCH($F$13,BuildingSize,0)+1,FALSE),IF(IFERROR(SEARCH(\"Propane\",$A$15),0)>0,VLOOKUP(\"Propane\",HVACg_Lookup,MATCH(Worksheet!$F$13,BuildingSize,0)+1,FALSE),0)))","v":0},0,0,"",""]
[null,null,"",null,null,null,null,null,null,null,null,null,null,null,null,0,0,0,0,"",0,0,0,0,0,0,0,0,0,0,0,0,0,0,0,{"$f":"W328/1000*Y328*AA328*IF(IFERROR(SEARCH(\"Gas\",$A$15),0)>0,VLOOKUP(\"Gas\",HVACg_Lookup,MATCH($F$13,BuildingSize,0)+1,FALSE),IF(IFERROR(SEARCH(\"Oil\",$A$15),0)>0,VLOOKUP(\"Oil\",HVACg_Lookup,MATCH($F$13,BuildingSize,0)+1,FALSE),IF(IFERROR(SEARCH(\"Propane\",$A$15),0)>0,VLOOKUP(\"Propane\",HVACg_Lookup,MATCH(Worksheet!$F$13,BuildingSize,0)+1,FALSE),0)))","v":0},{"$f":"X328/1000*Y328*AA328*IF(IFERROR(SEARCH(\"Gas\",$A$15),0)>0,VLOOKUP(\"Gas\",HVACg_Lookup,MATCH($F$13,BuildingSize,0)+1,FALSE),IF(IFERROR(SEARCH(\"Oil\",$A$15),0)>0,VLOOKUP(\"Oil\",HVACg_Lookup,MATCH($F$13,BuildingSize,0)+1,FALSE),IF(IFERROR(SEARCH(\"Propane\",$A$15),0)>0,VLOOKUP(\"Propane\",HVACg_Lookup,MATCH(Worksheet!$F$13,BuildingSize,0)+1,FALSE),0)))","v":0},0,0,"",""]
[null,null,"",null,null,null,null,null,null,null,null,null,null,null,null,0,0,0,0,"",0,0,0,0,0,0,0,0,0,0,0,0,0,0,0,{"$f":"W329/1000*Y329*AA329*IF(IFERROR(SEARCH(\"Gas\",$A$15),0)>0,VLOOKUP(\"Gas\",HVACg_Lookup,MATCH($F$13,BuildingSize,0)+1,FALSE),IF(IFERROR(SEARCH(\"Oil\",$A$15),0)>0,VLOOKUP(\"Oil\",HVACg_Lookup,MATCH($F$13,BuildingSize,0)+1,FALSE),IF(IFERROR(SEARCH(\"Propane\",$A$15),0)>0,VLOOKUP(\"Propane\",HVACg_Lookup,MATCH(Worksheet!$F$13,BuildingSize,0)+1,FALSE),0)))","v":0},{"$f":"X329/1000*Y329*AA329*IF(IFERROR(SEARCH(\"Gas\",$A$15),0)>0,VLOOKUP(\"Gas\",HVACg_Lookup,MATCH($F$13,BuildingSize,0)+1,FALSE),IF(IFERROR(SEARCH(\"Oil\",$A$15),0)>0,VLOOKUP(\"Oil\",HVACg_Lookup,MATCH($F$13,BuildingSize,0)+1,FALSE),IF(IFERROR(SEARCH(\"Propane\",$A$15),0)>0,VLOOKUP(\"Propane\",HVACg_Lookup,MATCH(Worksheet!$F$13,BuildingSize,0)+1,FALSE),0)))","v":0},0,0,"",""]
[null,null,"",null,null,null,null,null,null,null,null,null,null,null,null,0,0,0,0,"",0,0,0,0,0,0,0,0,0,0,0,0,0,0,0,{"$f":"W330/1000*Y330*AA330*IF(IFERROR(SEARCH(\"Gas\",$A$15),0)>0,VLOOKUP(\"Gas\",HVACg_Lookup,MATCH($F$13,BuildingSize,0)+1,FALSE),IF(IFERROR(SEARCH(\"Oil\",$A$15),0)>0,VLOOKUP(\"Oil\",HVACg_Lookup,MATCH($F$13,BuildingSize,0)+1,FALSE),IF(IFERROR(SEARCH(\"Propane\",$A$15),0)>0,VLOOKUP(\"Propane\",HVACg_Lookup,MATCH(Worksheet!$F$13,BuildingSize,0)+1,FALSE),0)))","v":0},{"$f":"X330/1000*Y330*AA330*IF(IFERROR(SEARCH(\"Gas\",$A$15),0)>0,VLOOKUP(\"Gas\",HVACg_Lookup,MATCH($F$13,BuildingSize,0)+1,FALSE),IF(IFERROR(SEARCH(\"Oil\",$A$15),0)>0,VLOOKUP(\"Oil\",HVACg_Lookup,MATCH($F$13,BuildingSize,0)+1,FALSE),IF(IFERROR(SEARCH(\"Propane\",$A$15),0)>0,VLOOKUP(\"Propane\",HVACg_Lookup,MATCH(Worksheet!$F$13,BuildingSize,0)+1,FALSE),0)))","v":0},0,0,"",""]
[null,null,"",null,null,null,null,null,null,null,null,null,null,null,null,0,0,0,0,"",0,0,0,0,0,0,0,0,0,0,0,0,0,0,0,{"$f":"W331/1000*Y331*AA331*IF(IFERROR(SEARCH(\"Gas\",$A$15),0)>0,VLOOKUP(\"Gas\",HVACg_Lookup,MATCH($F$13,BuildingSize,0)+1,FALSE),IF(IFERROR(SEARCH(\"Oil\",$A$15),0)>0,VLOOKUP(\"Oil\",HVACg_Lookup,MATCH($F$13,BuildingSize,0)+1,FALSE),IF(IFERROR(SEARCH(\"Propane\",$A$15),0)>0,VLOOKUP(\"Propane\",HVACg_Lookup,MATCH(Worksheet!$F$13,BuildingSize,0)+1,FALSE),0)))","v":0},{"$f":"X331/1000*Y331*AA331*IF(IFERROR(SEARCH(\"Gas\",$A$15),0)>0,VLOOKUP(\"Gas\",HVACg_Lookup,MATCH($F$13,BuildingSize,0)+1,FALSE),IF(IFERROR(SEARCH(\"Oil\",$A$15),0)>0,VLOOKUP(\"Oil\",HVACg_Lookup,MATCH($F$13,BuildingSize,0)+1,FALSE),IF(IFERROR(SEARCH(\"Propane\",$A$15),0)>0,VLOOKUP(\"Propane\",HVACg_Lookup,MATCH(Worksheet!$F$13,BuildingSize,0)+1,FALSE),0)))","v":0},0,0,"",""]
[null,null,"",null,null,null,null,null,null,null,null,null,null,null,null,0,0,0,0,"",0,0,0,0,0,0,0,0,0,0,0,0,0,0,0,{"$f":"W332/1000*Y332*AA332*IF(IFERROR(SEARCH(\"Gas\",$A$15),0)>0,VLOOKUP(\"Gas\",HVACg_Lookup,MATCH($F$13,BuildingSize,0)+1,FALSE),IF(IFERROR(SEARCH(\"Oil\",$A$15),0)>0,VLOOKUP(\"Oil\",HVACg_Lookup,MATCH($F$13,BuildingSize,0)+1,FALSE),IF(IFERROR(SEARCH(\"Propane\",$A$15),0)>0,VLOOKUP(\"Propane\",HVACg_Lookup,MATCH(Worksheet!$F$13,BuildingSize,0)+1,FALSE),0)))","v":0},{"$f":"X332/1000*Y332*AA332*IF(IFERROR(SEARCH(\"Gas\",$A$15),0)>0,VLOOKUP(\"Gas\",HVACg_Lookup,MATCH($F$13,BuildingSize,0)+1,FALSE),IF(IFERROR(SEARCH(\"Oil\",$A$15),0)>0,VLOOKUP(\"Oil\",HVACg_Lookup,MATCH($F$13,BuildingSize,0)+1,FALSE),IF(IFERROR(SEARCH(\"Propane\",$A$15),0)>0,VLOOKUP(\"Propane\",HVACg_Lookup,MATCH(Worksheet!$F$13,BuildingSize,0)+1,FALSE),0)))","v":0},0,0,"",""]
[null,null,"",null,null,null,null,null,null,null,null,null,null,null,null,0,0,0,0,"",0,0,0,0,0,0,0,0,0,0,0,0,0,0,0,{"$f":"W333/1000*Y333*AA333*IF(IFERROR(SEARCH(\"Gas\",$A$15),0)>0,VLOOKUP(\"Gas\",HVACg_Lookup,MATCH($F$13,BuildingSize,0)+1,FALSE),IF(IFERROR(SEARCH(\"Oil\",$A$15),0)>0,VLOOKUP(\"Oil\",HVACg_Lookup,MATCH($F$13,BuildingSize,0)+1,FALSE),IF(IFERROR(SEARCH(\"Propane\",$A$15),0)>0,VLOOKUP(\"Propane\",HVACg_Lookup,MATCH(Worksheet!$F$13,BuildingSize,0)+1,FALSE),0)))","v":0},{"$f":"X333/1000*Y333*AA333*IF(IFERROR(SEARCH(\"Gas\",$A$15),0)>0,VLOOKUP(\"Gas\",HVACg_Lookup,MATCH($F$13,BuildingSize,0)+1,FALSE),IF(IFERROR(SEARCH(\"Oil\",$A$15),0)>0,VLOOKUP(\"Oil\",HVACg_Lookup,MATCH($F$13,BuildingSize,0)+1,FALSE),IF(IFERROR(SEARCH(\"Propane\",$A$15),0)>0,VLOOKUP(\"Propane\",HVACg_Lookup,MATCH(Worksheet!$F$13,BuildingSize,0)+1,FALSE),0)))","v":0},0,0,"",""]
[null,null,"",null,null,null,null,null,null,null,null,null,null,null,null,0,0,0,0,"",0,0,0,0,0,0,0,0,0,0,0,0,0,0,0,{"$f":"W334/1000*Y334*AA334*IF(IFERROR(SEARCH(\"Gas\",$A$15),0)>0,VLOOKUP(\"Gas\",HVACg_Lookup,MATCH($F$13,BuildingSize,0)+1,FALSE),IF(IFERROR(SEARCH(\"Oil\",$A$15),0)>0,VLOOKUP(\"Oil\",HVACg_Lookup,MATCH($F$13,BuildingSize,0)+1,FALSE),IF(IFERROR(SEARCH(\"Propane\",$A$15),0)>0,VLOOKUP(\"Propane\",HVACg_Lookup,MATCH(Worksheet!$F$13,BuildingSize,0)+1,FALSE),0)))","v":0},{"$f":"X334/1000*Y334*AA334*IF(IFERROR(SEARCH(\"Gas\",$A$15),0)>0,VLOOKUP(\"Gas\",HVACg_Lookup,MATCH($F$13,BuildingSize,0)+1,FALSE),IF(IFERROR(SEARCH(\"Oil\",$A$15),0)>0,VLOOKUP(\"Oil\",HVACg_Lookup,MATCH($F$13,BuildingSize,0)+1,FALSE),IF(IFERROR(SEARCH(\"Propane\",$A$15),0)>0,VLOOKUP(\"Propane\",HVACg_Lookup,MATCH(Worksheet!$F$13,BuildingSize,0)+1,FALSE),0)))","v":0},0,0,"",""]
[null,null,"",null,null,null,null,null,null,null,null,null,null,null,null,0,0,0,0,"",0,0,0,0,0,0,0,0,0,0,0,0,0,0,0,{"$f":"W335/1000*Y335*AA335*IF(IFERROR(SEARCH(\"Gas\",$A$15),0)>0,VLOOKUP(\"Gas\",HVACg_Lookup,MATCH($F$13,BuildingSize,0)+1,FALSE),IF(IFERROR(SEARCH(\"Oil\",$A$15),0)>0,VLOOKUP(\"Oil\",HVACg_Lookup,MATCH($F$13,BuildingSize,0)+1,FALSE),IF(IFERROR(SEARCH(\"Propane\",$A$15),0)>0,VLOOKUP(\"Propane\",HVACg_Lookup,MATCH(Worksheet!$F$13,BuildingSize,0)+1,FALSE),0)))","v":0},{"$f":"X335/1000*Y335*AA335*IF(IFERROR(SEARCH(\"Gas\",$A$15),0)>0,VLOOKUP(\"Gas\",HVACg_Lookup,MATCH($F$13,BuildingSize,0)+1,FALSE),IF(IFERROR(SEARCH(\"Oil\",$A$15),0)>0,VLOOKUP(\"Oil\",HVACg_Lookup,MATCH($F$13,BuildingSize,0)+1,FALSE),IF(IFERROR(SEARCH(\"Propane\",$A$15),0)>0,VLOOKUP(\"Propane\",HVACg_Lookup,MATCH(Worksheet!$F$13,BuildingSize,0)+1,FALSE),0)))","v":0},0,0,"",""]
[null,null,"",null,null,null,null,null,null,null,null,null,null,null,null,0,0,0,0,"",0,0,0,0,0,0,0,0,0,0,0,0,0,0,0,{"$f":"W336/1000*Y336*AA336*IF(IFERROR(SEARCH(\"Gas\",$A$15),0)>0,VLOOKUP(\"Gas\",HVACg_Lookup,MATCH($F$13,BuildingSize,0)+1,FALSE),IF(IFERROR(SEARCH(\"Oil\",$A$15),0)>0,VLOOKUP(\"Oil\",HVACg_Lookup,MATCH($F$13,BuildingSize,0)+1,FALSE),IF(IFERROR(SEARCH(\"Propane\",$A$15),0)>0,VLOOKUP(\"Propane\",HVACg_Lookup,MATCH(Worksheet!$F$13,BuildingSize,0)+1,FALSE),0)))","v":0},{"$f":"X336/1000*Y336*AA336*IF(IFERROR(SEARCH(\"Gas\",$A$15),0)>0,VLOOKUP(\"Gas\",HVACg_Lookup,MATCH($F$13,BuildingSize,0)+1,FALSE),IF(IFERROR(SEARCH(\"Oil\",$A$15),0)>0,VLOOKUP(\"Oil\",HVACg_Lookup,MATCH($F$13,BuildingSize,0)+1,FALSE),IF(IFERROR(SEARCH(\"Propane\",$A$15),0)>0,VLOOKUP(\"Propane\",HVACg_Lookup,MATCH(Worksheet!$F$13,BuildingSize,0)+1,FALSE),0)))","v":0},0,0,"",""]
[null,null,"",null,null,null,null,null,null,null,null,null,null,null,null,0,0,0,0,"",0,0,0,0,0,0,0,0,0,0,0,0,0,0,0,{"$f":"W337/1000*Y337*AA337*IF(IFERROR(SEARCH(\"Gas\",$A$15),0)>0,VLOOKUP(\"Gas\",HVACg_Lookup,MATCH($F$13,BuildingSize,0)+1,FALSE),IF(IFERROR(SEARCH(\"Oil\",$A$15),0)>0,VLOOKUP(\"Oil\",HVACg_Lookup,MATCH($F$13,BuildingSize,0)+1,FALSE),IF(IFERROR(SEARCH(\"Propane\",$A$15),0)>0,VLOOKUP(\"Propane\",HVACg_Lookup,MATCH(Worksheet!$F$13,BuildingSize,0)+1,FALSE),0)))","v":0},{"$f":"X337/1000*Y337*AA337*IF(IFERROR(SEARCH(\"Gas\",$A$15),0)>0,VLOOKUP(\"Gas\",HVACg_Lookup,MATCH($F$13,BuildingSize,0)+1,FALSE),IF(IFERROR(SEARCH(\"Oil\",$A$15),0)>0,VLOOKUP(\"Oil\",HVACg_Lookup,MATCH($F$13,BuildingSize,0)+1,FALSE),IF(IFERROR(SEARCH(\"Propane\",$A$15),0)>0,VLOOKUP(\"Propane\",HVACg_Lookup,MATCH(Worksheet!$F$13,BuildingSize,0)+1,FALSE),0)))","v":0},0,0,"",""]
[null,null,"",null,null,null,null,null,null,null,null,null,null,null,null,0,0,0,0,"",0,0,0,0,0,0,0,0,0,0,0,0,0,0,0,{"$f":"W338/1000*Y338*AA338*IF(IFERROR(SEARCH(\"Gas\",$A$15),0)>0,VLOOKUP(\"Gas\",HVACg_Lookup,MATCH($F$13,BuildingSize,0)+1,FALSE),IF(IFERROR(SEARCH(\"Oil\",$A$15),0)>0,VLOOKUP(\"Oil\",HVACg_Lookup,MATCH($F$13,BuildingSize,0)+1,FALSE),IF(IFERROR(SEARCH(\"Propane\",$A$15),0)>0,VLOOKUP(\"Propane\",HVACg_Lookup,MATCH(Worksheet!$F$13,BuildingSize,0)+1,FALSE),0)))","v":0},{"$f":"X338/1000*Y338*AA338*IF(IFERROR(SEARCH(\"Gas\",$A$15),0)>0,VLOOKUP(\"Gas\",HVACg_Lookup,MATCH($F$13,BuildingSize,0)+1,FALSE),IF(IFERROR(SEARCH(\"Oil\",$A$15),0)>0,VLOOKUP(\"Oil\",HVACg_Lookup,MATCH($F$13,BuildingSize,0)+1,FALSE),IF(IFERROR(SEARCH(\"Propane\",$A$15),0)>0,VLOOKUP(\"Propane\",HVACg_Lookup,MATCH(Worksheet!$F$13,BuildingSize,0)+1,FALSE),0)))","v":0},0,0,"",""]
[null,null,"",null,null,null,null,null,null,null,null,null,null,null,null,0,0,0,0,"",0,0,0,0,0,0,0,0,0,0,0,0,0,0,0,{"$f":"W339/1000*Y339*AA339*IF(IFERROR(SEARCH(\"Gas\",$A$15),0)>0,VLOOKUP(\"Gas\",HVACg_Lookup,MATCH($F$13,BuildingSize,0)+1,FALSE),IF(IFERROR(SEARCH(\"Oil\",$A$15),0)>0,VLOOKUP(\"Oil\",HVACg_Lookup,MATCH($F$13,BuildingSize,0)+1,FALSE),IF(IFERROR(SEARCH(\"Propane\",$A$15),0)>0,VLOOKUP(\"Propane\",HVACg_Lookup,MATCH(Worksheet!$F$13,BuildingSize,0)+1,FALSE),0)))","v":0},{"$f":"X339/1000*Y339*AA339*IF(IFERROR(SEARCH(\"Gas\",$A$15),0)>0,VLOOKUP(\"Gas\",HVACg_Lookup,MATCH($F$13,BuildingSize,0)+1,FALSE),IF(IFERROR(SEARCH(\"Oil\",$A$15),0)>0,VLOOKUP(\"Oil\",HVACg_Lookup,MATCH($F$13,BuildingSize,0)+1,FALSE),IF(IFERROR(SEARCH(\"Propane\",$A$15),0)>0,VLOOKUP(\"Propane\",HVACg_Lookup,MATCH(Worksheet!$F$13,BuildingSize,0)+1,FALSE),0)))","v":0},0,0,"",""]
[null,null,"",null,null,null,null,null,null,null,null,null,null,null,null,0,0,0,0,"",0,0,0,0,0,0,0,0,0,0,0,0,0,0,0,{"$f":"W340/1000*Y340*AA340*IF(IFERROR(SEARCH(\"Gas\",$A$15),0)>0,VLOOKUP(\"Gas\",HVACg_Lookup,MATCH($F$13,BuildingSize,0)+1,FALSE),IF(IFERROR(SEARCH(\"Oil\",$A$15),0)>0,VLOOKUP(\"Oil\",HVACg_Lookup,MATCH($F$13,BuildingSize,0)+1,FALSE),IF(IFERROR(SEARCH(\"Propane\",$A$15),0)>0,VLOOKUP(\"Propane\",HVACg_Lookup,MATCH(Worksheet!$F$13,BuildingSize,0)+1,FALSE),0)))","v":0},{"$f":"X340/1000*Y340*AA340*IF(IFERROR(SEARCH(\"Gas\",$A$15),0)>0,VLOOKUP(\"Gas\",HVACg_Lookup,MATCH($F$13,BuildingSize,0)+1,FALSE),IF(IFERROR(SEARCH(\"Oil\",$A$15),0)>0,VLOOKUP(\"Oil\",HVACg_Lookup,MATCH($F$13,BuildingSize,0)+1,FALSE),IF(IFERROR(SEARCH(\"Propane\",$A$15),0)>0,VLOOKUP(\"Propane\",HVACg_Lookup,MATCH(Worksheet!$F$13,BuildingSize,0)+1,FALSE),0)))","v":0},0,0,"",""]
[null,null,"",null,null,null,null,null,null,null,null,null,null,null,null,0,0,{"$f":"IF(AN341=\"\",0,IF(AN341=1,VLOOKUP(A341,MeasureCode_Lookup,3,FALSE),\"DNQ\"))","v":0},{"$f":"IF(AO341=\"\",0,IF(AO341=1,VLOOKUP(A341,MeasureCode_Lookup,3,FALSE),\"DNQ\"))","v":0},{"$f":"IF(A341=\"\",\"\",VLOOKUP(A341,MeasureCode_Lookup,4,FALSE))","v":""},0,0,{"$f":"IF(N(R341)=0,0,F341*P341)","v":0},{"$f":"IF(N(S341)=0,0,G341*Q341)","v":0},{"$f":"IF(A341=\"\",0,VLOOKUP(A341,MeasureCode_Lookup,5,FALSE))","v":0},{"$f":"IF($A$13=\"\",0,VLOOKUP($A$13,BuildingType_Lookup,3,FALSE))","v":0},{"$f":"IF($A$13=\"\",0,VLOOKUP($A$13,BuildingType_Lookup,2,FALSE))","v":0},{"$f":"IF(AND(OR(AN341=\"\",AN341=0)=TRUE,OR(AO341=\"\",AO341=0))=TRUE,0,IF(AO341=\"\",(IF(OR(C341=\"DDC\",C341=\"OHLC\")=TRUE,O341,P341)/1000)*Y341*Z341*(1+VLOOKUP($A$13,BuildingType_Lookup,4,FALSE)),IF(AO341=0,0,(IF(OR(C341=\"DDC\",C341=\"OHLC\")=TRUE,O341,Q341)/1000)*Y341*Z341*(1+VLOOKUP($A$13,BuildingType_Lookup,4,FALSE)))))","v":0},{"$f":"IF(AND(OR(AN341=\"\",AN341=0)=TRUE,OR(AO341=\"\",AO341=0))=TRUE,0,IF(AO341=\"\",(IF(OR(C341=\"DDC\",C341=\"OHLC\")=TRUE,O341,P341)/1000)*Y341*AA341*(1+VLOOKUP($A$13,BuildingType_Lookup,MATCH($A$15,HVAC,0)+4,FALSE)),IF(AO341=0,0,(IF(OR(C341=\"DDC\",C341=\"OHLC\")=TRUE,O341,Q341)/1000)*Y341*AA341*(1+VLOOKUP($A$13,BuildingType_Lookup,MATCH($A$15,HVAC,0)+4,FALSE)))))","v":0},{"$f":"IFERROR(IF(OR(C341=\"DDC\",C341=\"OHLC\")=TRUE,F341*J341*AB341,F341*AB341),0)","v":0},{"$f":"IFERROR(IF(OR(C341=\"DDC\",C341=\"OHLC\")=TRUE,G341*K341*AB341,G341*AB341),0)","v":0},{"$f":"IFERROR(IF(OR(C341=\"DDC\",C341=\"OHLC\")=TRUE,F341*J341*AC341,F341*AC341),0)","v":0},{"$f":"IFERROR(IF(OR(C341=\"DDC\",C341=\"OHLC\")=TRUE,G341*K341*AC341,G341*AC341),0)","v":0},0,0,{"$f":"W341/1000*Y341*AA341*IF(IFERROR(SEARCH(\"Gas\",$A$15),0)>0,VLOOKUP(\"Gas\",HVACg_Lookup,MATCH($F$13,BuildingSize,0)+1,FALSE),IF(IFERROR(SEARCH(\"Oil\",$A$15),0)>0,VLOOKUP(\"Oil\",HVACg_Lookup,MATCH($F$13,BuildingSize,0)+1,FALSE),IF(IFERROR(SEARCH(\"Propane\",$A$15),0)>0,VLOOKUP(\"Propane\",HVACg_Lookup,MATCH(Worksheet!$F$13,BuildingSize,0)+1,FALSE),0)))","v":0},{"$f":"X341/1000*Y341*AA341*IF(IFERROR(SEARCH(\"Gas\",$A$15),0)>0,VLOOKUP(\"Gas\",HVACg_Lookup,MATCH($F$13,BuildingSize,0)+1,FALSE),IF(IFERROR(SEARCH(\"Oil\",$A$15),0)>0,VLOOKUP(\"Oil\",HVACg_Lookup,MATCH($F$13,BuildingSize,0)+1,FALSE),IF(IFERROR(SEARCH(\"Propane\",$A$15),0)>0,VLOOKUP(\"Propane\",HVACg_Lookup,MATCH(Worksheet!$F$13,BuildingSize,0)+1,FALSE),0)))","v":0},0,0,{"$f":"IF(OR($B$4=\"\",$B$5=\"\",$A$13=\"\",$F$13=\"\",$A$15=\"\",A341=\"\",F341=\"\",J341=\"\",O341=\"\",P341=\"\")=TRUE,\"\",IF(C341=\"OSW\",IF(J341>=2,1,0),IF(C341=\"OSR\",IF(AND(J341>=2,P341>60)=TRUE,1,0),IF(C341=\"OSRH\",IF(AND(J341>=1,P341>90)=TRUE,1,0),IF(C341=\"OHLC\",IF(AND(N341=\"Y\",P341>60)=TRUE,1,0),IF(C341=\"DDC\",IF(AND(J341>=4,N341=\"Y\",P341>120)=TRUE,1,0),0))))))","v":""},{"$f":"IF(OR($B$4=\"\",$B$5=\"\",$A$13=\"\",$F$13=\"\",$A$15=\"\",A341=\"\",F341=\"\",K341=\"\",O341=\"\",P341=\"\")=TRUE,\"\",IF(C341=\"OSW\",IF(K341>=2,1,0),IF(C341=\"OSR\",IF(AND(K341>=2,Q341>60)=TRUE,1,0),IF(C341=\"OSRH\",IF(AND(K341>=1,Q341>90)=TRUE,1,0),IF(C341=\"OHLC\",IF(AND(N341=\"Y\",Q341>60)=TRUE,1,0),IF(C341=\"DDC\",IF(AND(K341>=4,N341=\"Y\",Q341>120)=TRUE,1,0),0))))))","v":""}]
[null,null,{"$f":"IF(A342=\"\",\"\",VLOOKUP(A342,MeasureCode_Lookup,2,FALSE))","v":""},null,null,null,null,null,null,null,null,null,null,null,null,{"$f":"IF(OR(A342=\"\",F342=\"\",J342=\"\",O342=\"\")=TRUE,0,J342*O342)","v":0},{"$f":"IF(OR(A342=\"\",G342=\"\",K342=\"\",O342=\"\")=TRUE,0,K342*O342)","v":0},0,0,"",{"$f":"IF(N(R342)=0,0,F342*R342*IF(T342=\"per Fixture Controlled\",J342,1))","v":0},{"$f":"IF(N(S342)=0,0,G342*S342*IF(T342=\"per Fixture Controlled\",K342,1))","v":0},0,0,0,0,0,0,0,0,0,0,0,{"$f":"AF342*8","v":0},{"$f":"AG342*8","v":0},{"$f":"W342/1000*Y342*AA342*IF(IFERROR(SEARCH(\"Gas\",$A$15),0)>0,VLOOKUP(\"Gas\",HVACg_Lookup,MATCH($F$13,BuildingSize,0)+1,FALSE),IF(IFERROR(SEARCH(\"Oil\",$A$15),0)>0,VLOOKUP(\"Oil\",HVACg_Lookup,MATCH($F$13,BuildingSize,0)+1,FALSE),IF(IFERROR(SEARCH(\"Propane\",$A$15),0)>0,VLOOKUP(\"Propane\",HVACg_Lookup,MATCH(Worksheet!$F$13,BuildingSize,0)+1,FALSE),0)))","v":0},{"$f":"X342/1000*Y342*AA342*IF(IFERROR(SEARCH(\"Gas\",$A$15),0)>0,VLOOKUP(\"Gas\",HVACg_Lookup,MATCH($F$13,BuildingSize,0)+1,FALSE),IF(IFERROR(SEARCH(\"Oil\",$A$15),0)>0,VLOOKUP(\"Oil\",HVACg_Lookup,MATCH($F$13,BuildingSize,0)+1,FALSE),IF(IFERROR(SEARCH(\"Propane\",$A$15),0)>0,VLOOKUP(\"Propane\",HVACg_Lookup,MATCH(Worksheet!$F$13,BuildingSize,0)+1,FALSE),0)))","v":0},{"$f":"AJ342*8","v":0},{"$f":"AK342*8","v":0},"",""]
[null,null,"",null,null,null,null,null,null,null,null,null,null,null,null,0,0,0,0,"",0,0,0,0,0,0,0,0,0,0,0,0,0,0,0,{"$f":"W343/1000*Y343*AA343*IF(IFERROR(SEARCH(\"Gas\",$A$15),0)>0,VLOOKUP(\"Gas\",HVACg_Lookup,MATCH($F$13,BuildingSize,0)+1,FALSE),IF(IFERROR(SEARCH(\"Oil\",$A$15),0)>0,VLOOKUP(\"Oil\",HVACg_Lookup,MATCH($F$13,BuildingSize,0)+1,FALSE),IF(IFERROR(SEARCH(\"Propane\",$A$15),0)>0,VLOOKUP(\"Propane\",HVACg_Lookup,MATCH(Worksheet!$F$13,BuildingSize,0)+1,FALSE),0)))","v":0},{"$f":"X343/1000*Y343*AA343*IF(IFERROR(SEARCH(\"Gas\",$A$15),0)>0,VLOOKUP(\"Gas\",HVACg_Lookup,MATCH($F$13,BuildingSize,0)+1,FALSE),IF(IFERROR(SEARCH(\"Oil\",$A$15),0)>0,VLOOKUP(\"Oil\",HVACg_Lookup,MATCH($F$13,BuildingSize,0)+1,FALSE),IF(IFERROR(SEARCH(\"Propane\",$A$15),0)>0,VLOOKUP(\"Propane\",HVACg_Lookup,MATCH(Worksheet!$F$13,BuildingSize,0)+1,FALSE),0)))","v":0},0,0,"",""]
[null,null,"",null,null,null,null,null,null,null,null,null,null,null,null,0,0,0,0,"",0,0,0,0,0,0,0,0,0,0,0,0,0,0,0,{"$f":"W344/1000*Y344*AA344*IF(IFERROR(SEARCH(\"Gas\",$A$15),0)>0,VLOOKUP(\"Gas\",HVACg_Lookup,MATCH($F$13,BuildingSize,0)+1,FALSE),IF(IFERROR(SEARCH(\"Oil\",$A$15),0)>0,VLOOKUP(\"Oil\",HVACg_Lookup,MATCH($F$13,BuildingSize,0)+1,FALSE),IF(IFERROR(SEARCH(\"Propane\",$A$15),0)>0,VLOOKUP(\"Propane\",HVACg_Lookup,MATCH(Worksheet!$F$13,BuildingSize,0)+1,FALSE),0)))","v":0},{"$f":"X344/1000*Y344*AA344*IF(IFERROR(SEARCH(\"Gas\",$A$15),0)>0,VLOOKUP(\"Gas\",HVACg_Lookup,MATCH($F$13,BuildingSize,0)+1,FALSE),IF(IFERROR(SEARCH(\"Oil\",$A$15),0)>0,VLOOKUP(\"Oil\",HVACg_Lookup,MATCH($F$13,BuildingSize,0)+1,FALSE),IF(IFERROR(SEARCH(\"Propane\",$A$15),0)>0,VLOOKUP(\"Propane\",HVACg_Lookup,MATCH(Worksheet!$F$13,BuildingSize,0)+1,FALSE),0)))","v":0},0,0,"",""]
[null,null,"",null,null,null,null,null,null,null,null,null,null,null,null,0,0,0,0,"",0,0,0,0,0,0,0,0,0,0,0,0,0,0,0,{"$f":"W345/1000*Y345*AA345*IF(IFERROR(SEARCH(\"Gas\",$A$15),0)>0,VLOOKUP(\"Gas\",HVACg_Lookup,MATCH($F$13,BuildingSize,0)+1,FALSE),IF(IFERROR(SEARCH(\"Oil\",$A$15),0)>0,VLOOKUP(\"Oil\",HVACg_Lookup,MATCH($F$13,BuildingSize,0)+1,FALSE),IF(IFERROR(SEARCH(\"Propane\",$A$15),0)>0,VLOOKUP(\"Propane\",HVACg_Lookup,MATCH(Worksheet!$F$13,BuildingSize,0)+1,FALSE),0)))","v":0},{"$f":"X345/1000*Y345*AA345*IF(IFERROR(SEARCH(\"Gas\",$A$15),0)>0,VLOOKUP(\"Gas\",HVACg_Lookup,MATCH($F$13,BuildingSize,0)+1,FALSE),IF(IFERROR(SEARCH(\"Oil\",$A$15),0)>0,VLOOKUP(\"Oil\",HVACg_Lookup,MATCH($F$13,BuildingSize,0)+1,FALSE),IF(IFERROR(SEARCH(\"Propane\",$A$15),0)>0,VLOOKUP(\"Propane\",HVACg_Lookup,MATCH(Worksheet!$F$13,BuildingSize,0)+1,FALSE),0)))","v":0},0,0,"",""]
[null,null,"",null,null,null,null,null,null,null,null,null,null,null,null,0,0,0,0,"",0,0,0,0,0,0,0,0,0,0,0,0,0,0,0,{"$f":"W346/1000*Y346*AA346*IF(IFERROR(SEARCH(\"Gas\",$A$15),0)>0,VLOOKUP(\"Gas\",HVACg_Lookup,MATCH($F$13,BuildingSize,0)+1,FALSE),IF(IFERROR(SEARCH(\"Oil\",$A$15),0)>0,VLOOKUP(\"Oil\",HVACg_Lookup,MATCH($F$13,BuildingSize,0)+1,FALSE),IF(IFERROR(SEARCH(\"Propane\",$A$15),0)>0,VLOOKUP(\"Propane\",HVACg_Lookup,MATCH(Worksheet!$F$13,BuildingSize,0)+1,FALSE),0)))","v":0},{"$f":"X346/1000*Y346*AA346*IF(IFERROR(SEARCH(\"Gas\",$A$15),0)>0,VLOOKUP(\"Gas\",HVACg_Lookup,MATCH($F$13,BuildingSize,0)+1,FALSE),IF(IFERROR(SEARCH(\"Oil\",$A$15),0)>0,VLOOKUP(\"Oil\",HVACg_Lookup,MATCH($F$13,BuildingSize,0)+1,FALSE),IF(IFERROR(SEARCH(\"Propane\",$A$15),0)>0,VLOOKUP(\"Propane\",HVACg_Lookup,MATCH(Worksheet!$F$13,BuildingSize,0)+1,FALSE),0)))","v":0},0,0,"",""]
[null,null,"",null,null,null,null,null,null,null,null,null,null,null,null,0,0,0,0,"",0,0,0,0,0,0,0,0,0,0,0,0,0,0,0,{"$f":"W347/1000*Y347*AA347*IF(IFERROR(SEARCH(\"Gas\",$A$15),0)>0,VLOOKUP(\"Gas\",HVACg_Lookup,MATCH($F$13,BuildingSize,0)+1,FALSE),IF(IFERROR(SEARCH(\"Oil\",$A$15),0)>0,VLOOKUP(\"Oil\",HVACg_Lookup,MATCH($F$13,BuildingSize,0)+1,FALSE),IF(IFERROR(SEARCH(\"Propane\",$A$15),0)>0,VLOOKUP(\"Propane\",HVACg_Lookup,MATCH(Worksheet!$F$13,BuildingSize,0)+1,FALSE),0)))","v":0},{"$f":"X347/1000*Y347*AA347*IF(IFERROR(SEARCH(\"Gas\",$A$15),0)>0,VLOOKUP(\"Gas\",HVACg_Lookup,MATCH($F$13,BuildingSize,0)+1,FALSE),IF(IFERROR(SEARCH(\"Oil\",$A$15),0)>0,VLOOKUP(\"Oil\",HVACg_Lookup,MATCH($F$13,BuildingSize,0)+1,FALSE),IF(IFERROR(SEARCH(\"Propane\",$A$15),0)>0,VLOOKUP(\"Propane\",HVACg_Lookup,MATCH(Worksheet!$F$13,BuildingSize,0)+1,FALSE),0)))","v":0},0,0,"",""]
[null,null,"",null,null,null,null,null,null,null,null,null,null,null,null,0,0,0,0,"",0,0,0,0,0,0,0,0,0,0,0,0,0,0,0,{"$f":"W348/1000*Y348*AA348*IF(IFERROR(SEARCH(\"Gas\",$A$15),0)>0,VLOOKUP(\"Gas\",HVACg_Lookup,MATCH($F$13,BuildingSize,0)+1,FALSE),IF(IFERROR(SEARCH(\"Oil\",$A$15),0)>0,VLOOKUP(\"Oil\",HVACg_Lookup,MATCH($F$13,BuildingSize,0)+1,FALSE),IF(IFERROR(SEARCH(\"Propane\",$A$15),0)>0,VLOOKUP(\"Propane\",HVACg_Lookup,MATCH(Worksheet!$F$13,BuildingSize,0)+1,FALSE),0)))","v":0},{"$f":"X348/1000*Y348*AA348*IF(IFERROR(SEARCH(\"Gas\",$A$15),0)>0,VLOOKUP(\"Gas\",HVACg_Lookup,MATCH($F$13,BuildingSize,0)+1,FALSE),IF(IFERROR(SEARCH(\"Oil\",$A$15),0)>0,VLOOKUP(\"Oil\",HVACg_Lookup,MATCH($F$13,BuildingSize,0)+1,FALSE),IF(IFERROR(SEARCH(\"Propane\",$A$15),0)>0,VLOOKUP(\"Propane\",HVACg_Lookup,MATCH(Worksheet!$F$13,BuildingSize,0)+1,FALSE),0)))","v":0},0,0,"",""]
[null,null,"",null,null,null,null,null,null,null,null,null,null,null,null,0,0,0,0,"",0,0,0,0,0,0,0,0,0,0,0,0,0,0,0,{"$f":"W349/1000*Y349*AA349*IF(IFERROR(SEARCH(\"Gas\",$A$15),0)>0,VLOOKUP(\"Gas\",HVACg_Lookup,MATCH($F$13,BuildingSize,0)+1,FALSE),IF(IFERROR(SEARCH(\"Oil\",$A$15),0)>0,VLOOKUP(\"Oil\",HVACg_Lookup,MATCH($F$13,BuildingSize,0)+1,FALSE),IF(IFERROR(SEARCH(\"Propane\",$A$15),0)>0,VLOOKUP(\"Propane\",HVACg_Lookup,MATCH(Worksheet!$F$13,BuildingSize,0)+1,FALSE),0)))","v":0},{"$f":"X349/1000*Y349*AA349*IF(IFERROR(SEARCH(\"Gas\",$A$15),0)>0,VLOOKUP(\"Gas\",HVACg_Lookup,MATCH($F$13,BuildingSize,0)+1,FALSE),IF(IFERROR(SEARCH(\"Oil\",$A$15),0)>0,VLOOKUP(\"Oil\",HVACg_Lookup,MATCH($F$13,BuildingSize,0)+1,FALSE),IF(IFERROR(SEARCH(\"Propane\",$A$15),0)>0,VLOOKUP(\"Propane\",HVACg_Lookup,MATCH(Worksheet!$F$13,BuildingSize,0)+1,FALSE),0)))","v":0},0,0,"",""]
[null,null,"",null,null,null,null,null,null,null,null,null,null,null,null,0,0,0,0,"",0,0,0,0,0,0,0,0,0,0,0,0,0,0,0,{"$f":"W350/1000*Y350*AA350*IF(IFERROR(SEARCH(\"Gas\",$A$15),0)>0,VLOOKUP(\"Gas\",HVACg_Lookup,MATCH($F$13,BuildingSize,0)+1,FALSE),IF(IFERROR(SEARCH(\"Oil\",$A$15),0)>0,VLOOKUP(\"Oil\",HVACg_Lookup,MATCH($F$13,BuildingSize,0)+1,FALSE),IF(IFERROR(SEARCH(\"Propane\",$A$15),0)>0,VLOOKUP(\"Propane\",HVACg_Lookup,MATCH(Worksheet!$F$13,BuildingSize,0)+1,FALSE),0)))","v":0},{"$f":"X350/1000*Y350*AA350*IF(IFERROR(SEARCH(\"Gas\",$A$15),0)>0,VLOOKUP(\"Gas\",HVACg_Lookup,MATCH($F$13,BuildingSize,0)+1,FALSE),IF(IFERROR(SEARCH(\"Oil\",$A$15),0)>0,VLOOKUP(\"Oil\",HVACg_Lookup,MATCH($F$13,BuildingSize,0)+1,FALSE),IF(IFERROR(SEARCH(\"Propane\",$A$15),0)>0,VLOOKUP(\"Propane\",HVACg_Lookup,MATCH(Worksheet!$F$13,BuildingSize,0)+1,FALSE),0)))","v":0},0,0,"",""]
[null,null,"",null,null,null,null,null,null,null,null,null,null,null,null,0,0,0,0,"",0,0,0,0,0,0,0,0,0,0,0,0,0,0,0,{"$f":"W351/1000*Y351*AA351*IF(IFERROR(SEARCH(\"Gas\",$A$15),0)>0,VLOOKUP(\"Gas\",HVACg_Lookup,MATCH($F$13,BuildingSize,0)+1,FALSE),IF(IFERROR(SEARCH(\"Oil\",$A$15),0)>0,VLOOKUP(\"Oil\",HVACg_Lookup,MATCH($F$13,BuildingSize,0)+1,FALSE),IF(IFERROR(SEARCH(\"Propane\",$A$15),0)>0,VLOOKUP(\"Propane\",HVACg_Lookup,MATCH(Worksheet!$F$13,BuildingSize,0)+1,FALSE),0)))","v":0},{"$f":"X351/1000*Y351*AA351*IF(IFERROR(SEARCH(\"Gas\",$A$15),0)>0,VLOOKUP(\"Gas\",HVACg_Lookup,MATCH($F$13,BuildingSize,0)+1,FALSE),IF(IFERROR(SEARCH(\"Oil\",$A$15),0)>0,VLOOKUP(\"Oil\",HVACg_Lookup,MATCH($F$13,BuildingSize,0)+1,FALSE),IF(IFERROR(SEARCH(\"Propane\",$A$15),0)>0,VLOOKUP(\"Propane\",HVACg_Lookup,MATCH(Worksheet!$F$13,BuildingSize,0)+1,FALSE),0)))","v":0},0,0,"",""]
[null,null,"",null,null,null,null,null,null,null,null,null,null,null,null,0,0,0,0,"",0,0,0,0,0,0,0,0,0,0,0,0,0,0,0,{"$f":"W352/1000*Y352*AA352*IF(IFERROR(SEARCH(\"Gas\",$A$15),0)>0,VLOOKUP(\"Gas\",HVACg_Lookup,MATCH($F$13,BuildingSize,0)+1,FALSE),IF(IFERROR(SEARCH(\"Oil\",$A$15),0)>0,VLOOKUP(\"Oil\",HVACg_Lookup,MATCH($F$13,BuildingSize,0)+1,FALSE),IF(IFERROR(SEARCH(\"Propane\",$A$15),0)>0,VLOOKUP(\"Propane\",HVACg_Lookup,MATCH(Worksheet!$F$13,BuildingSize,0)+1,FALSE),0)))","v":0},{"$f":"X352/1000*Y352*AA352*IF(IFERROR(SEARCH(\"Gas\",$A$15),0)>0,VLOOKUP(\"Gas\",HVACg_Lookup,MATCH($F$13,BuildingSize,0)+1,FALSE),IF(IFERROR(SEARCH(\"Oil\",$A$15),0)>0,VLOOKUP(\"Oil\",HVACg_Lookup,MATCH($F$13,BuildingSize,0)+1,FALSE),IF(IFERROR(SEARCH(\"Propane\",$A$15),0)>0,VLOOKUP(\"Propane\",HVACg_Lookup,MATCH(Worksheet!$F$13,BuildingSize,0)+1,FALSE),0)))","v":0},0,0,"",""]
[null,null,"",null,null,null,null,null,null,null,null,null,null,null,null,0,0,0,0,"",0,0,0,0,0,0,0,0,0,0,0,0,0,0,0,{"$f":"W353/1000*Y353*AA353*IF(IFERROR(SEARCH(\"Gas\",$A$15),0)>0,VLOOKUP(\"Gas\",HVACg_Lookup,MATCH($F$13,BuildingSize,0)+1,FALSE),IF(IFERROR(SEARCH(\"Oil\",$A$15),0)>0,VLOOKUP(\"Oil\",HVACg_Lookup,MATCH($F$13,BuildingSize,0)+1,FALSE),IF(IFERROR(SEARCH(\"Propane\",$A$15),0)>0,VLOOKUP(\"Propane\",HVACg_Lookup,MATCH(Worksheet!$F$13,BuildingSize,0)+1,FALSE),0)))","v":0},{"$f":"X353/1000*Y353*AA353*IF(IFERROR(SEARCH(\"Gas\",$A$15),0)>0,VLOOKUP(\"Gas\",HVACg_Lookup,MATCH($F$13,BuildingSize,0)+1,FALSE),IF(IFERROR(SEARCH(\"Oil\",$A$15),0)>0,VLOOKUP(\"Oil\",HVACg_Lookup,MATCH($F$13,BuildingSize,0)+1,FALSE),IF(IFERROR(SEARCH(\"Propane\",$A$15),0)>0,VLOOKUP(\"Propane\",HVACg_Lookup,MATCH(Worksheet!$F$13,BuildingSize,0)+1,FALSE),0)))","v":0},0,0,"",""]
[null,null,"",null,null,null,null,null,null,null,null,null,null,null,null,0,0,0,0,"",0,0,0,0,0,0,0,0,0,0,0,0,0,0,0,{"$f":"W354/1000*Y354*AA354*IF(IFERROR(SEARCH(\"Gas\",$A$15),0)>0,VLOOKUP(\"Gas\",HVACg_Lookup,MATCH($F$13,BuildingSize,0)+1,FALSE),IF(IFERROR(SEARCH(\"Oil\",$A$15),0)>0,VLOOKUP(\"Oil\",HVACg_Lookup,MATCH($F$13,BuildingSize,0)+1,FALSE),IF(IFERROR(SEARCH(\"Propane\",$A$15),0)>0,VLOOKUP(\"Propane\",HVACg_Lookup,MATCH(Worksheet!$F$13,BuildingSize,0)+1,FALSE),0)))","v":0},{"$f":"X354/1000*Y354*AA354*IF(IFERROR(SEARCH(\"Gas\",$A$15),0)>0,VLOOKUP(\"Gas\",HVACg_Lookup,MATCH($F$13,BuildingSize,0)+1,FALSE),IF(IFERROR(SEARCH(\"Oil\",$A$15),0)>0,VLOOKUP(\"Oil\",HVACg_Lookup,MATCH($F$13,BuildingSize,0)+1,FALSE),IF(IFERROR(SEARCH(\"Propane\",$A$15),0)>0,VLOOKUP(\"Propane\",HVACg_Lookup,MATCH(Worksheet!$F$13,BuildingSize,0)+1,FALSE),0)))","v":0},0,0,"",""]
[null,null,"",null,null,null,null,null,null,null,null,null,null,null,null,0,0,0,0,"",0,0,0,0,0,0,0,0,0,0,0,0,0,0,0,{"$f":"W355/1000*Y355*AA355*IF(IFERROR(SEARCH(\"Gas\",$A$15),0)>0,VLOOKUP(\"Gas\",HVACg_Lookup,MATCH($F$13,BuildingSize,0)+1,FALSE),IF(IFERROR(SEARCH(\"Oil\",$A$15),0)>0,VLOOKUP(\"Oil\",HVACg_Lookup,MATCH($F$13,BuildingSize,0)+1,FALSE),IF(IFERROR(SEARCH(\"Propane\",$A$15),0)>0,VLOOKUP(\"Propane\",HVACg_Lookup,MATCH(Worksheet!$F$13,BuildingSize,0)+1,FALSE),0)))","v":0},{"$f":"X355/1000*Y355*AA355*IF(IFERROR(SEARCH(\"Gas\",$A$15),0)>0,VLOOKUP(\"Gas\",HVACg_Lookup,MATCH($F$13,BuildingSize,0)+1,FALSE),IF(IFERROR(SEARCH(\"Oil\",$A$15),0)>0,VLOOKUP(\"Oil\",HVACg_Lookup,MATCH($F$13,BuildingSize,0)+1,FALSE),IF(IFERROR(SEARCH(\"Propane\",$A$15),0)>0,VLOOKUP(\"Propane\",HVACg_Lookup,MATCH(Worksheet!$F$13,BuildingSize,0)+1,FALSE),0)))","v":0},0,0,"",""]
[null,null,"",null,null,null,null,null,null,null,null,null,null,null,null,0,0,0,0,"",0,0,0,0,0,0,0,0,0,0,0,0,0,0,0,{"$f":"W356/1000*Y356*AA356*IF(IFERROR(SEARCH(\"Gas\",$A$15),0)>0,VLOOKUP(\"Gas\",HVACg_Lookup,MATCH($F$13,BuildingSize,0)+1,FALSE),IF(IFERROR(SEARCH(\"Oil\",$A$15),0)>0,VLOOKUP(\"Oil\",HVACg_Lookup,MATCH($F$13,BuildingSize,0)+1,FALSE),IF(IFERROR(SEARCH(\"Propane\",$A$15),0)>0,VLOOKUP(\"Propane\",HVACg_Lookup,MATCH(Worksheet!$F$13,BuildingSize,0)+1,FALSE),0)))","v":0},{"$f":"X356/1000*Y356*AA356*IF(IFERROR(SEARCH(\"Gas\",$A$15),0)>0,VLOOKUP(\"Gas\",HVACg_Lookup,MATCH($F$13,BuildingSize,0)+1,FALSE),IF(IFERROR(SEARCH(\"Oil\",$A$15),0)>0,VLOOKUP(\"Oil\",HVACg_Lookup,MATCH($F$13,BuildingSize,0)+1,FALSE),IF(IFERROR(SEARCH(\"Propane\",$A$15),0)>0,VLOOKUP(\"Propane\",HVACg_Lookup,MATCH(Worksheet!$F$13,BuildingSize,0)+1,FALSE),0)))","v":0},0,0,"",""]
[null,null,"",null,null,null,null,null,null,null,null,null,null,null,null,0,0,0,0,"",0,0,0,0,0,0,0,0,0,0,0,0,0,0,0,{"$f":"W357/1000*Y357*AA357*IF(IFERROR(SEARCH(\"Gas\",$A$15),0)>0,VLOOKUP(\"Gas\",HVACg_Lookup,MATCH($F$13,BuildingSize,0)+1,FALSE),IF(IFERROR(SEARCH(\"Oil\",$A$15),0)>0,VLOOKUP(\"Oil\",HVACg_Lookup,MATCH($F$13,BuildingSize,0)+1,FALSE),IF(IFERROR(SEARCH(\"Propane\",$A$15),0)>0,VLOOKUP(\"Propane\",HVACg_Lookup,MATCH(Worksheet!$F$13,BuildingSize,0)+1,FALSE),0)))","v":0},{"$f":"X357/1000*Y357*AA357*IF(IFERROR(SEARCH(\"Gas\",$A$15),0)>0,VLOOKUP(\"Gas\",HVACg_Lookup,MATCH($F$13,BuildingSize,0)+1,FALSE),IF(IFERROR(SEARCH(\"Oil\",$A$15),0)>0,VLOOKUP(\"Oil\",HVACg_Lookup,MATCH($F$13,BuildingSize,0)+1,FALSE),IF(IFERROR(SEARCH(\"Propane\",$A$15),0)>0,VLOOKUP(\"Propane\",HVACg_Lookup,MATCH(Worksheet!$F$13,BuildingSize,0)+1,FALSE),0)))","v":0},0,0,"",""]
[null,null,"",null,null,null,null,null,null,null,null,null,null,null,null,0,0,0,0,"",0,0,0,0,0,0,0,0,0,0,0,0,0,0,0,{"$f":"W358/1000*Y358*AA358*IF(IFERROR(SEARCH(\"Gas\",$A$15),0)>0,VLOOKUP(\"Gas\",HVACg_Lookup,MATCH($F$13,BuildingSize,0)+1,FALSE),IF(IFERROR(SEARCH(\"Oil\",$A$15),0)>0,VLOOKUP(\"Oil\",HVACg_Lookup,MATCH($F$13,BuildingSize,0)+1,FALSE),IF(IFERROR(SEARCH(\"Propane\",$A$15),0)>0,VLOOKUP(\"Propane\",HVACg_Lookup,MATCH(Worksheet!$F$13,BuildingSize,0)+1,FALSE),0)))","v":0},{"$f":"X358/1000*Y358*AA358*IF(IFERROR(SEARCH(\"Gas\",$A$15),0)>0,VLOOKUP(\"Gas\",HVACg_Lookup,MATCH($F$13,BuildingSize,0)+1,FALSE),IF(IFERROR(SEARCH(\"Oil\",$A$15),0)>0,VLOOKUP(\"Oil\",HVACg_Lookup,MATCH($F$13,BuildingSize,0)+1,FALSE),IF(IFERROR(SEARCH(\"Propane\",$A$15),0)>0,VLOOKUP(\"Propane\",HVACg_Lookup,MATCH(Worksheet!$F$13,BuildingSize,0)+1,FALSE),0)))","v":0},0,0,"",""]
[null,null,"",null,null,null,null,null,null,null,null,null,null,null,null,0,0,0,0,"",0,0,0,0,0,0,0,0,0,0,0,0,0,0,0,{"$f":"W359/1000*Y359*AA359*IF(IFERROR(SEARCH(\"Gas\",$A$15),0)>0,VLOOKUP(\"Gas\",HVACg_Lookup,MATCH($F$13,BuildingSize,0)+1,FALSE),IF(IFERROR(SEARCH(\"Oil\",$A$15),0)>0,VLOOKUP(\"Oil\",HVACg_Lookup,MATCH($F$13,BuildingSize,0)+1,FALSE),IF(IFERROR(SEARCH(\"Propane\",$A$15),0)>0,VLOOKUP(\"Propane\",HVACg_Lookup,MATCH(Worksheet!$F$13,BuildingSize,0)+1,FALSE),0)))","v":0},{"$f":"X359/1000*Y359*AA359*IF(IFERROR(SEARCH(\"Gas\",$A$15),0)>0,VLOOKUP(\"Gas\",HVACg_Lookup,MATCH($F$13,BuildingSize,0)+1,FALSE),IF(IFERROR(SEARCH(\"Oil\",$A$15),0)>0,VLOOKUP(\"Oil\",HVACg_Lookup,MATCH($F$13,BuildingSize,0)+1,FALSE),IF(IFERROR(SEARCH(\"Propane\",$A$15),0)>0,VLOOKUP(\"Propane\",HVACg_Lookup,MATCH(Worksheet!$F$13,BuildingSize,0)+1,FALSE),0)))","v":0},0,0,"",""]
[null,null,"",null,null,null,null,null,null,null,null,null,null,null,null,0,0,0,0,"",0,0,0,0,0,0,0,0,0,0,0,0,0,0,0,{"$f":"W360/1000*Y360*AA360*IF(IFERROR(SEARCH(\"Gas\",$A$15),0)>0,VLOOKUP(\"Gas\",HVACg_Lookup,MATCH($F$13,BuildingSize,0)+1,FALSE),IF(IFERROR(SEARCH(\"Oil\",$A$15),0)>0,VLOOKUP(\"Oil\",HVACg_Lookup,MATCH($F$13,BuildingSize,0)+1,FALSE),IF(IFERROR(SEARCH(\"Propane\",$A$15),0)>0,VLOOKUP(\"Propane\",HVACg_Lookup,MATCH(Worksheet!$F$13,BuildingSize,0)+1,FALSE),0)))","v":0},{"$f":"X360/1000*Y360*AA360*IF(IFERROR(SEARCH(\"Gas\",$A$15),0)>0,VLOOKUP(\"Gas\",HVACg_Lookup,MATCH($F$13,BuildingSize,0)+1,FALSE),IF(IFERROR(SEARCH(\"Oil\",$A$15),0)>0,VLOOKUP(\"Oil\",HVACg_Lookup,MATCH($F$13,BuildingSize,0)+1,FALSE),IF(IFERROR(SEARCH(\"Propane\",$A$15),0)>0,VLOOKUP(\"Propane\",HVACg_Lookup,MATCH(Worksheet!$F$13,BuildingSize,0)+1,FALSE),0)))","v":0},0,0,"",""]
[null,null,"",null,null,null,null,null,null,null,null,null,null,null,null,0,0,0,0,"",0,0,0,0,0,0,0,0,0,0,0,0,0,0,0,{"$f":"W361/1000*Y361*AA361*IF(IFERROR(SEARCH(\"Gas\",$A$15),0)>0,VLOOKUP(\"Gas\",HVACg_Lookup,MATCH($F$13,BuildingSize,0)+1,FALSE),IF(IFERROR(SEARCH(\"Oil\",$A$15),0)>0,VLOOKUP(\"Oil\",HVACg_Lookup,MATCH($F$13,BuildingSize,0)+1,FALSE),IF(IFERROR(SEARCH(\"Propane\",$A$15),0)>0,VLOOKUP(\"Propane\",HVACg_Lookup,MATCH(Worksheet!$F$13,BuildingSize,0)+1,FALSE),0)))","v":0},{"$f":"X361/1000*Y361*AA361*IF(IFERROR(SEARCH(\"Gas\",$A$15),0)>0,VLOOKUP(\"Gas\",HVACg_Lookup,MATCH($F$13,BuildingSize,0)+1,FALSE),IF(IFERROR(SEARCH(\"Oil\",$A$15),0)>0,VLOOKUP(\"Oil\",HVACg_Lookup,MATCH($F$13,BuildingSize,0)+1,FALSE),IF(IFERROR(SEARCH(\"Propane\",$A$15),0)>0,VLOOKUP(\"Propane\",HVACg_Lookup,MATCH(Worksheet!$F$13,BuildingSize,0)+1,FALSE),0)))","v":0},0,0,"",""]
[null,null,"",null,null,null,null,null,null,null,null,null,null,null,null,0,0,0,0,"",0,0,0,0,0,0,0,0,0,0,0,0,0,0,0,{"$f":"W362/1000*Y362*AA362*IF(IFERROR(SEARCH(\"Gas\",$A$15),0)>0,VLOOKUP(\"Gas\",HVACg_Lookup,MATCH($F$13,BuildingSize,0)+1,FALSE),IF(IFERROR(SEARCH(\"Oil\",$A$15),0)>0,VLOOKUP(\"Oil\",HVACg_Lookup,MATCH($F$13,BuildingSize,0)+1,FALSE),IF(IFERROR(SEARCH(\"Propane\",$A$15),0)>0,VLOOKUP(\"Propane\",HVACg_Lookup,MATCH(Worksheet!$F$13,BuildingSize,0)+1,FALSE),0)))","v":0},{"$f":"X362/1000*Y362*AA362*IF(IFERROR(SEARCH(\"Gas\",$A$15),0)>0,VLOOKUP(\"Gas\",HVACg_Lookup,MATCH($F$13,BuildingSize,0)+1,FALSE),IF(IFERROR(SEARCH(\"Oil\",$A$15),0)>0,VLOOKUP(\"Oil\",HVACg_Lookup,MATCH($F$13,BuildingSize,0)+1,FALSE),IF(IFERROR(SEARCH(\"Propane\",$A$15),0)>0,VLOOKUP(\"Propane\",HVACg_Lookup,MATCH(Worksheet!$F$13,BuildingSize,0)+1,FALSE),0)))","v":0},0,0,"",""]
[null,null,"",null,null,null,null,null,null,null,null,null,null,null,null,0,0,0,0,"",0,0,0,0,0,0,0,0,0,0,0,0,0,0,0,{"$f":"W363/1000*Y363*AA363*IF(IFERROR(SEARCH(\"Gas\",$A$15),0)>0,VLOOKUP(\"Gas\",HVACg_Lookup,MATCH($F$13,BuildingSize,0)+1,FALSE),IF(IFERROR(SEARCH(\"Oil\",$A$15),0)>0,VLOOKUP(\"Oil\",HVACg_Lookup,MATCH($F$13,BuildingSize,0)+1,FALSE),IF(IFERROR(SEARCH(\"Propane\",$A$15),0)>0,VLOOKUP(\"Propane\",HVACg_Lookup,MATCH(Worksheet!$F$13,BuildingSize,0)+1,FALSE),0)))","v":0},{"$f":"X363/1000*Y363*AA363*IF(IFERROR(SEARCH(\"Gas\",$A$15),0)>0,VLOOKUP(\"Gas\",HVACg_Lookup,MATCH($F$13,BuildingSize,0)+1,FALSE),IF(IFERROR(SEARCH(\"Oil\",$A$15),0)>0,VLOOKUP(\"Oil\",HVACg_Lookup,MATCH($F$13,BuildingSize,0)+1,FALSE),IF(IFERROR(SEARCH(\"Propane\",$A$15),0)>0,VLOOKUP(\"Propane\",HVACg_Lookup,MATCH(Worksheet!$F$13,BuildingSize,0)+1,FALSE),0)))","v":0},0,0,"",""]
[null,null,"",null,null,null,null,null,null,null,null,null,null,null,null,0,0,0,0,"",0,0,0,0,0,0,0,0,0,0,0,0,0,0,0,{"$f":"W364/1000*Y364*AA364*IF(IFERROR(SEARCH(\"Gas\",$A$15),0)>0,VLOOKUP(\"Gas\",HVACg_Lookup,MATCH($F$13,BuildingSize,0)+1,FALSE),IF(IFERROR(SEARCH(\"Oil\",$A$15),0)>0,VLOOKUP(\"Oil\",HVACg_Lookup,MATCH($F$13,BuildingSize,0)+1,FALSE),IF(IFERROR(SEARCH(\"Propane\",$A$15),0)>0,VLOOKUP(\"Propane\",HVACg_Lookup,MATCH(Worksheet!$F$13,BuildingSize,0)+1,FALSE),0)))","v":0},{"$f":"X364/1000*Y364*AA364*IF(IFERROR(SEARCH(\"Gas\",$A$15),0)>0,VLOOKUP(\"Gas\",HVACg_Lookup,MATCH($F$13,BuildingSize,0)+1,FALSE),IF(IFERROR(SEARCH(\"Oil\",$A$15),0)>0,VLOOKUP(\"Oil\",HVACg_Lookup,MATCH($F$13,BuildingSize,0)+1,FALSE),IF(IFERROR(SEARCH(\"Propane\",$A$15),0)>0,VLOOKUP(\"Propane\",HVACg_Lookup,MATCH(Worksheet!$F$13,BuildingSize,0)+1,FALSE),0)))","v":0},0,0,"",""]
[null,null,"",null,null,null,null,null,null,null,null,null,null,null,null,0,0,0,0,"",0,0,0,0,0,0,0,0,0,0,0,0,0,0,0,{"$f":"W365/1000*Y365*AA365*IF(IFERROR(SEARCH(\"Gas\",$A$15),0)>0,VLOOKUP(\"Gas\",HVACg_Lookup,MATCH($F$13,BuildingSize,0)+1,FALSE),IF(IFERROR(SEARCH(\"Oil\",$A$15),0)>0,VLOOKUP(\"Oil\",HVACg_Lookup,MATCH($F$13,BuildingSize,0)+1,FALSE),IF(IFERROR(SEARCH(\"Propane\",$A$15),0)>0,VLOOKUP(\"Propane\",HVACg_Lookup,MATCH(Worksheet!$F$13,BuildingSize,0)+1,FALSE),0)))","v":0},{"$f":"X365/1000*Y365*AA365*IF(IFERROR(SEARCH(\"Gas\",$A$15),0)>0,VLOOKUP(\"Gas\",HVACg_Lookup,MATCH($F$13,BuildingSize,0)+1,FALSE),IF(IFERROR(SEARCH(\"Oil\",$A$15),0)>0,VLOOKUP(\"Oil\",HVACg_Lookup,MATCH($F$13,BuildingSize,0)+1,FALSE),IF(IFERROR(SEARCH(\"Propane\",$A$15),0)>0,VLOOKUP(\"Propane\",HVACg_Lookup,MATCH(Worksheet!$F$13,BuildingSize,0)+1,FALSE),0)))","v":0},0,0,"",""]
[null,null,"",null,null,null,null,null,null,null,null,null,null,null,null,0,0,0,0,"",0,0,0,0,0,0,0,0,0,0,0,0,0,0,0,{"$f":"W366/1000*Y366*AA366*IF(IFERROR(SEARCH(\"Gas\",$A$15),0)>0,VLOOKUP(\"Gas\",HVACg_Lookup,MATCH($F$13,BuildingSize,0)+1,FALSE),IF(IFERROR(SEARCH(\"Oil\",$A$15),0)>0,VLOOKUP(\"Oil\",HVACg_Lookup,MATCH($F$13,BuildingSize,0)+1,FALSE),IF(IFERROR(SEARCH(\"Propane\",$A$15),0)>0,VLOOKUP(\"Propane\",HVACg_Lookup,MATCH(Worksheet!$F$13,BuildingSize,0)+1,FALSE),0)))","v":0},{"$f":"X366/1000*Y366*AA366*IF(IFERROR(SEARCH(\"Gas\",$A$15),0)>0,VLOOKUP(\"Gas\",HVACg_Lookup,MATCH($F$13,BuildingSize,0)+1,FALSE),IF(IFERROR(SEARCH(\"Oil\",$A$15),0)>0,VLOOKUP(\"Oil\",HVACg_Lookup,MATCH($F$13,BuildingSize,0)+1,FALSE),IF(IFERROR(SEARCH(\"Propane\",$A$15),0)>0,VLOOKUP(\"Propane\",HVACg_Lookup,MATCH(Worksheet!$F$13,BuildingSize,0)+1,FALSE),0)))","v":0},0,0,"",""]
[null,null,"",null,null,null,null,null,null,null,null,null,null,null,null,0,0,0,0,"",0,0,0,0,0,0,0,0,0,0,0,0,0,0,0,{"$f":"W367/1000*Y367*AA367*IF(IFERROR(SEARCH(\"Gas\",$A$15),0)>0,VLOOKUP(\"Gas\",HVACg_Lookup,MATCH($F$13,BuildingSize,0)+1,FALSE),IF(IFERROR(SEARCH(\"Oil\",$A$15),0)>0,VLOOKUP(\"Oil\",HVACg_Lookup,MATCH($F$13,BuildingSize,0)+1,FALSE),IF(IFERROR(SEARCH(\"Propane\",$A$15),0)>0,VLOOKUP(\"Propane\",HVACg_Lookup,MATCH(Worksheet!$F$13,BuildingSize,0)+1,FALSE),0)))","v":0},{"$f":"X367/1000*Y367*AA367*IF(IFERROR(SEARCH(\"Gas\",$A$15),0)>0,VLOOKUP(\"Gas\",HVACg_Lookup,MATCH($F$13,BuildingSize,0)+1,FALSE),IF(IFERROR(SEARCH(\"Oil\",$A$15),0)>0,VLOOKUP(\"Oil\",HVACg_Lookup,MATCH($F$13,BuildingSize,0)+1,FALSE),IF(IFERROR(SEARCH(\"Propane\",$A$15),0)>0,VLOOKUP(\"Propane\",HVACg_Lookup,MATCH(Worksheet!$F$13,BuildingSize,0)+1,FALSE),0)))","v":0},0,0,"",""]
[null,null,"",null,null,null,null,null,null,null,null,null,null,null,null,0,0,0,0,"",0,0,0,0,0,0,0,0,0,0,0,0,0,0,0,{"$f":"W368/1000*Y368*AA368*IF(IFERROR(SEARCH(\"Gas\",$A$15),0)>0,VLOOKUP(\"Gas\",HVACg_Lookup,MATCH($F$13,BuildingSize,0)+1,FALSE),IF(IFERROR(SEARCH(\"Oil\",$A$15),0)>0,VLOOKUP(\"Oil\",HVACg_Lookup,MATCH($F$13,BuildingSize,0)+1,FALSE),IF(IFERROR(SEARCH(\"Propane\",$A$15),0)>0,VLOOKUP(\"Propane\",HVACg_Lookup,MATCH(Worksheet!$F$13,BuildingSize,0)+1,FALSE),0)))","v":0},{"$f":"X368/1000*Y368*AA368*IF(IFERROR(SEARCH(\"Gas\",$A$15),0)>0,VLOOKUP(\"Gas\",HVACg_Lookup,MATCH($F$13,BuildingSize,0)+1,FALSE),IF(IFERROR(SEARCH(\"Oil\",$A$15),0)>0,VLOOKUP(\"Oil\",HVACg_Lookup,MATCH($F$13,BuildingSize,0)+1,FALSE),IF(IFERROR(SEARCH(\"Propane\",$A$15),0)>0,VLOOKUP(\"Propane\",HVACg_Lookup,MATCH(Worksheet!$F$13,BuildingSize,0)+1,FALSE),0)))","v":0},0,0,"",""]
[null,null,"",null,null,null,null,null,null,null,null,null,null,null,null,0,0,0,0,"",0,0,0,0,0,0,0,0,0,0,0,0,0,0,0,{"$f":"W369/1000*Y369*AA369*IF(IFERROR(SEARCH(\"Gas\",$A$15),0)>0,VLOOKUP(\"Gas\",HVACg_Lookup,MATCH($F$13,BuildingSize,0)+1,FALSE),IF(IFERROR(SEARCH(\"Oil\",$A$15),0)>0,VLOOKUP(\"Oil\",HVACg_Lookup,MATCH($F$13,BuildingSize,0)+1,FALSE),IF(IFERROR(SEARCH(\"Propane\",$A$15),0)>0,VLOOKUP(\"Propane\",HVACg_Lookup,MATCH(Worksheet!$F$13,BuildingSize,0)+1,FALSE),0)))","v":0},{"$f":"X369/1000*Y369*AA369*IF(IFERROR(SEARCH(\"Gas\",$A$15),0)>0,VLOOKUP(\"Gas\",HVACg_Lookup,MATCH($F$13,BuildingSize,0)+1,FALSE),IF(IFERROR(SEARCH(\"Oil\",$A$15),0)>0,VLOOKUP(\"Oil\",HVACg_Lookup,MATCH($F$13,BuildingSize,0)+1,FALSE),IF(IFERROR(SEARCH(\"Propane\",$A$15),0)>0,VLOOKUP(\"Propane\",HVACg_Lookup,MATCH(Worksheet!$F$13,BuildingSize,0)+1,FALSE),0)))","v":0},0,0,"",""]
[null,null,"",null,null,null,null,null,null,null,null,null,null,null,null,0,0,0,0,"",0,0,0,0,0,0,0,0,0,0,0,0,0,0,0,{"$f":"W370/1000*Y370*AA370*IF(IFERROR(SEARCH(\"Gas\",$A$15),0)>0,VLOOKUP(\"Gas\",HVACg_Lookup,MATCH($F$13,BuildingSize,0)+1,FALSE),IF(IFERROR(SEARCH(\"Oil\",$A$15),0)>0,VLOOKUP(\"Oil\",HVACg_Lookup,MATCH($F$13,BuildingSize,0)+1,FALSE),IF(IFERROR(SEARCH(\"Propane\",$A$15),0)>0,VLOOKUP(\"Propane\",HVACg_Lookup,MATCH(Worksheet!$F$13,BuildingSize,0)+1,FALSE),0)))","v":0},{"$f":"X370/1000*Y370*AA370*IF(IFERROR(SEARCH(\"Gas\",$A$15),0)>0,VLOOKUP(\"Gas\",HVACg_Lookup,MATCH($F$13,BuildingSize,0)+1,FALSE),IF(IFERROR(SEARCH(\"Oil\",$A$15),0)>0,VLOOKUP(\"Oil\",HVACg_Lookup,MATCH($F$13,BuildingSize,0)+1,FALSE),IF(IFERROR(SEARCH(\"Propane\",$A$15),0)>0,VLOOKUP(\"Propane\",HVACg_Lookup,MATCH(Worksheet!$F$13,BuildingSize,0)+1,FALSE),0)))","v":0},0,0,"",""]
[null,null,"",null,null,null,null,null,null,null,null,null,null,null,null,0,0,0,0,"",0,0,0,0,0,0,0,0,0,0,0,0,0,0,0,{"$f":"W371/1000*Y371*AA371*IF(IFERROR(SEARCH(\"Gas\",$A$15),0)>0,VLOOKUP(\"Gas\",HVACg_Lookup,MATCH($F$13,BuildingSize,0)+1,FALSE),IF(IFERROR(SEARCH(\"Oil\",$A$15),0)>0,VLOOKUP(\"Oil\",HVACg_Lookup,MATCH($F$13,BuildingSize,0)+1,FALSE),IF(IFERROR(SEARCH(\"Propane\",$A$15),0)>0,VLOOKUP(\"Propane\",HVACg_Lookup,MATCH(Worksheet!$F$13,BuildingSize,0)+1,FALSE),0)))","v":0},{"$f":"X371/1000*Y371*AA371*IF(IFERROR(SEARCH(\"Gas\",$A$15),0)>0,VLOOKUP(\"Gas\",HVACg_Lookup,MATCH($F$13,BuildingSize,0)+1,FALSE),IF(IFERROR(SEARCH(\"Oil\",$A$15),0)>0,VLOOKUP(\"Oil\",HVACg_Lookup,MATCH($F$13,BuildingSize,0)+1,FALSE),IF(IFERROR(SEARCH(\"Propane\",$A$15),0)>0,VLOOKUP(\"Propane\",HVACg_Lookup,MATCH(Worksheet!$F$13,BuildingSize,0)+1,FALSE),0)))","v":0},0,0,"",""]
[null,null,"",null,null,null,null,null,null,null,null,null,null,null,null,0,0,0,0,"",0,0,0,0,0,0,0,0,0,0,0,0,0,0,0,{"$f":"W372/1000*Y372*AA372*IF(IFERROR(SEARCH(\"Gas\",$A$15),0)>0,VLOOKUP(\"Gas\",HVACg_Lookup,MATCH($F$13,BuildingSize,0)+1,FALSE),IF(IFERROR(SEARCH(\"Oil\",$A$15),0)>0,VLOOKUP(\"Oil\",HVACg_Lookup,MATCH($F$13,BuildingSize,0)+1,FALSE),IF(IFERROR(SEARCH(\"Propane\",$A$15),0)>0,VLOOKUP(\"Propane\",HVACg_Lookup,MATCH(Worksheet!$F$13,BuildingSize,0)+1,FALSE),0)))","v":0},{"$f":"X372/1000*Y372*AA372*IF(IFERROR(SEARCH(\"Gas\",$A$15),0)>0,VLOOKUP(\"Gas\",HVACg_Lookup,MATCH($F$13,BuildingSize,0)+1,FALSE),IF(IFERROR(SEARCH(\"Oil\",$A$15),0)>0,VLOOKUP(\"Oil\",HVACg_Lookup,MATCH($F$13,BuildingSize,0)+1,FALSE),IF(IFERROR(SEARCH(\"Propane\",$A$15),0)>0,VLOOKUP(\"Propane\",HVACg_Lookup,MATCH(Worksheet!$F$13,BuildingSize,0)+1,FALSE),0)))","v":0},0,0,"",""]
[null,null,"",null,null,null,null,null,null,null,null,null,null,null,null,0,0,0,0,"",0,0,0,0,0,0,0,0,0,0,0,0,0,0,0,{"$f":"W373/1000*Y373*AA373*IF(IFERROR(SEARCH(\"Gas\",$A$15),0)>0,VLOOKUP(\"Gas\",HVACg_Lookup,MATCH($F$13,BuildingSize,0)+1,FALSE),IF(IFERROR(SEARCH(\"Oil\",$A$15),0)>0,VLOOKUP(\"Oil\",HVACg_Lookup,MATCH($F$13,BuildingSize,0)+1,FALSE),IF(IFERROR(SEARCH(\"Propane\",$A$15),0)>0,VLOOKUP(\"Propane\",HVACg_Lookup,MATCH(Worksheet!$F$13,BuildingSize,0)+1,FALSE),0)))","v":0},{"$f":"X373/1000*Y373*AA373*IF(IFERROR(SEARCH(\"Gas\",$A$15),0)>0,VLOOKUP(\"Gas\",HVACg_Lookup,MATCH($F$13,BuildingSize,0)+1,FALSE),IF(IFERROR(SEARCH(\"Oil\",$A$15),0)>0,VLOOKUP(\"Oil\",HVACg_Lookup,MATCH($F$13,BuildingSize,0)+1,FALSE),IF(IFERROR(SEARCH(\"Propane\",$A$15),0)>0,VLOOKUP(\"Propane\",HVACg_Lookup,MATCH(Worksheet!$F$13,BuildingSize,0)+1,FALSE),0)))","v":0},0,0,"",""]
[null,null,"",null,null,null,null,null,null,null,null,null,null,null,null,0,0,0,0,"",0,0,0,0,0,0,0,0,0,0,0,0,0,0,0,{"$f":"W374/1000*Y374*AA374*IF(IFERROR(SEARCH(\"Gas\",$A$15),0)>0,VLOOKUP(\"Gas\",HVACg_Lookup,MATCH($F$13,BuildingSize,0)+1,FALSE),IF(IFERROR(SEARCH(\"Oil\",$A$15),0)>0,VLOOKUP(\"Oil\",HVACg_Lookup,MATCH($F$13,BuildingSize,0)+1,FALSE),IF(IFERROR(SEARCH(\"Propane\",$A$15),0)>0,VLOOKUP(\"Propane\",HVACg_Lookup,MATCH(Worksheet!$F$13,BuildingSize,0)+1,FALSE),0)))","v":0},{"$f":"X374/1000*Y374*AA374*IF(IFERROR(SEARCH(\"Gas\",$A$15),0)>0,VLOOKUP(\"Gas\",HVACg_Lookup,MATCH($F$13,BuildingSize,0)+1,FALSE),IF(IFERROR(SEARCH(\"Oil\",$A$15),0)>0,VLOOKUP(\"Oil\",HVACg_Lookup,MATCH($F$13,BuildingSize,0)+1,FALSE),IF(IFERROR(SEARCH(\"Propane\",$A$15),0)>0,VLOOKUP(\"Propane\",HVACg_Lookup,MATCH(Worksheet!$F$13,BuildingSize,0)+1,FALSE),0)))","v":0},0,0,"",""]
[null,null,"",null,null,null,null,null,null,null,null,null,null,null,null,0,0,0,0,"",0,0,0,0,0,0,0,0,0,0,0,0,0,0,0,{"$f":"W375/1000*Y375*AA375*IF(IFERROR(SEARCH(\"Gas\",$A$15),0)>0,VLOOKUP(\"Gas\",HVACg_Lookup,MATCH($F$13,BuildingSize,0)+1,FALSE),IF(IFERROR(SEARCH(\"Oil\",$A$15),0)>0,VLOOKUP(\"Oil\",HVACg_Lookup,MATCH($F$13,BuildingSize,0)+1,FALSE),IF(IFERROR(SEARCH(\"Propane\",$A$15),0)>0,VLOOKUP(\"Propane\",HVACg_Lookup,MATCH(Worksheet!$F$13,BuildingSize,0)+1,FALSE),0)))","v":0},{"$f":"X375/1000*Y375*AA375*IF(IFERROR(SEARCH(\"Gas\",$A$15),0)>0,VLOOKUP(\"Gas\",HVACg_Lookup,MATCH($F$13,BuildingSize,0)+1,FALSE),IF(IFERROR(SEARCH(\"Oil\",$A$15),0)>0,VLOOKUP(\"Oil\",HVACg_Lookup,MATCH($F$13,BuildingSize,0)+1,FALSE),IF(IFERROR(SEARCH(\"Propane\",$A$15),0)>0,VLOOKUP(\"Propane\",HVACg_Lookup,MATCH(Worksheet!$F$13,BuildingSize,0)+1,FALSE),0)))","v":0},0,0,"",""]
[null,null,"",null,null,null,null,null,null,null,null,null,null,null,null,0,0,0,0,"",0,0,0,0,0,0,0,0,0,0,0,0,0,0,0,{"$f":"W376/1000*Y376*AA376*IF(IFERROR(SEARCH(\"Gas\",$A$15),0)>0,VLOOKUP(\"Gas\",HVACg_Lookup,MATCH($F$13,BuildingSize,0)+1,FALSE),IF(IFERROR(SEARCH(\"Oil\",$A$15),0)>0,VLOOKUP(\"Oil\",HVACg_Lookup,MATCH($F$13,BuildingSize,0)+1,FALSE),IF(IFERROR(SEARCH(\"Propane\",$A$15),0)>0,VLOOKUP(\"Propane\",HVACg_Lookup,MATCH(Worksheet!$F$13,BuildingSize,0)+1,FALSE),0)))","v":0},{"$f":"X376/1000*Y376*AA376*IF(IFERROR(SEARCH(\"Gas\",$A$15),0)>0,VLOOKUP(\"Gas\",HVACg_Lookup,MATCH($F$13,BuildingSize,0)+1,FALSE),IF(IFERROR(SEARCH(\"Oil\",$A$15),0)>0,VLOOKUP(\"Oil\",HVACg_Lookup,MATCH($F$13,BuildingSize,0)+1,FALSE),IF(IFERROR(SEARCH(\"Propane\",$A$15),0)>0,VLOOKUP(\"Propane\",HVACg_Lookup,MATCH(Worksheet!$F$13,BuildingSize,0)+1,FALSE),0)))","v":0},0,0,"",""]
[null,null,"",null,null,null,null,null,null,null,null,null,null,null,null,0,0,0,0,"",0,0,0,0,0,0,0,0,0,0,0,0,0,0,0,{"$f":"W377/1000*Y377*AA377*IF(IFERROR(SEARCH(\"Gas\",$A$15),0)>0,VLOOKUP(\"Gas\",HVACg_Lookup,MATCH($F$13,BuildingSize,0)+1,FALSE),IF(IFERROR(SEARCH(\"Oil\",$A$15),0)>0,VLOOKUP(\"Oil\",HVACg_Lookup,MATCH($F$13,BuildingSize,0)+1,FALSE),IF(IFERROR(SEARCH(\"Propane\",$A$15),0)>0,VLOOKUP(\"Propane\",HVACg_Lookup,MATCH(Worksheet!$F$13,BuildingSize,0)+1,FALSE),0)))","v":0},{"$f":"X377/1000*Y377*AA377*IF(IFERROR(SEARCH(\"Gas\",$A$15),0)>0,VLOOKUP(\"Gas\",HVACg_Lookup,MATCH($F$13,BuildingSize,0)+1,FALSE),IF(IFERROR(SEARCH(\"Oil\",$A$15),0)>0,VLOOKUP(\"Oil\",HVACg_Lookup,MATCH($F$13,BuildingSize,0)+1,FALSE),IF(IFERROR(SEARCH(\"Propane\",$A$15),0)>0,VLOOKUP(\"Propane\",HVACg_Lookup,MATCH(Worksheet!$F$13,BuildingSize,0)+1,FALSE),0)))","v":0},0,0,"",""]
[null,null,"",null,null,null,null,null,null,null,null,null,null,null,null,0,0,0,0,"",0,0,0,0,0,0,0,0,0,0,0,0,0,0,0,{"$f":"W378/1000*Y378*AA378*IF(IFERROR(SEARCH(\"Gas\",$A$15),0)>0,VLOOKUP(\"Gas\",HVACg_Lookup,MATCH($F$13,BuildingSize,0)+1,FALSE),IF(IFERROR(SEARCH(\"Oil\",$A$15),0)>0,VLOOKUP(\"Oil\",HVACg_Lookup,MATCH($F$13,BuildingSize,0)+1,FALSE),IF(IFERROR(SEARCH(\"Propane\",$A$15),0)>0,VLOOKUP(\"Propane\",HVACg_Lookup,MATCH(Worksheet!$F$13,BuildingSize,0)+1,FALSE),0)))","v":0},{"$f":"X378/1000*Y378*AA378*IF(IFERROR(SEARCH(\"Gas\",$A$15),0)>0,VLOOKUP(\"Gas\",HVACg_Lookup,MATCH($F$13,BuildingSize,0)+1,FALSE),IF(IFERROR(SEARCH(\"Oil\",$A$15),0)>0,VLOOKUP(\"Oil\",HVACg_Lookup,MATCH($F$13,BuildingSize,0)+1,FALSE),IF(IFERROR(SEARCH(\"Propane\",$A$15),0)>0,VLOOKUP(\"Propane\",HVACg_Lookup,MATCH(Worksheet!$F$13,BuildingSize,0)+1,FALSE),0)))","v":0},0,0,"",""]
[null,null,"",null,null,null,null,null,null,null,null,null,null,null,null,0,0,0,0,"",0,0,0,0,0,0,0,0,0,0,0,0,0,0,0,{"$f":"W379/1000*Y379*AA379*IF(IFERROR(SEARCH(\"Gas\",$A$15),0)>0,VLOOKUP(\"Gas\",HVACg_Lookup,MATCH($F$13,BuildingSize,0)+1,FALSE),IF(IFERROR(SEARCH(\"Oil\",$A$15),0)>0,VLOOKUP(\"Oil\",HVACg_Lookup,MATCH($F$13,BuildingSize,0)+1,FALSE),IF(IFERROR(SEARCH(\"Propane\",$A$15),0)>0,VLOOKUP(\"Propane\",HVACg_Lookup,MATCH(Worksheet!$F$13,BuildingSize,0)+1,FALSE),0)))","v":0},{"$f":"X379/1000*Y379*AA379*IF(IFERROR(SEARCH(\"Gas\",$A$15),0)>0,VLOOKUP(\"Gas\",HVACg_Lookup,MATCH($F$13,BuildingSize,0)+1,FALSE),IF(IFERROR(SEARCH(\"Oil\",$A$15),0)>0,VLOOKUP(\"Oil\",HVACg_Lookup,MATCH($F$13,BuildingSize,0)+1,FALSE),IF(IFERROR(SEARCH(\"Propane\",$A$15),0)>0,VLOOKUP(\"Propane\",HVACg_Lookup,MATCH(Worksheet!$F$13,BuildingSize,0)+1,FALSE),0)))","v":0},0,0,"",""]
[null,null,"",null,null,null,null,null,null,null,null,null,null,null,null,0,0,0,0,"",0,0,0,0,0,0,0,0,0,0,0,0,0,0,0,{"$f":"W380/1000*Y380*AA380*IF(IFERROR(SEARCH(\"Gas\",$A$15),0)>0,VLOOKUP(\"Gas\",HVACg_Lookup,MATCH($F$13,BuildingSize,0)+1,FALSE),IF(IFERROR(SEARCH(\"Oil\",$A$15),0)>0,VLOOKUP(\"Oil\",HVACg_Lookup,MATCH($F$13,BuildingSize,0)+1,FALSE),IF(IFERROR(SEARCH(\"Propane\",$A$15),0)>0,VLOOKUP(\"Propane\",HVACg_Lookup,MATCH(Worksheet!$F$13,BuildingSize,0)+1,FALSE),0)))","v":0},{"$f":"X380/1000*Y380*AA380*IF(IFERROR(SEARCH(\"Gas\",$A$15),0)>0,VLOOKUP(\"Gas\",HVACg_Lookup,MATCH($F$13,BuildingSize,0)+1,FALSE),IF(IFERROR(SEARCH(\"Oil\",$A$15),0)>0,VLOOKUP(\"Oil\",HVACg_Lookup,MATCH($F$13,BuildingSize,0)+1,FALSE),IF(IFERROR(SEARCH(\"Propane\",$A$15),0)>0,VLOOKUP(\"Propane\",HVACg_Lookup,MATCH(Worksheet!$F$13,BuildingSize,0)+1,FALSE),0)))","v":0},0,0,"",""]
[null,null,"",null,null,null,null,null,null,null,null,null,null,null,null,0,0,0,0,"",0,0,0,0,0,0,0,0,0,0,0,0,0,0,0,{"$f":"W381/1000*Y381*AA381*IF(IFERROR(SEARCH(\"Gas\",$A$15),0)>0,VLOOKUP(\"Gas\",HVACg_Lookup,MATCH($F$13,BuildingSize,0)+1,FALSE),IF(IFERROR(SEARCH(\"Oil\",$A$15),0)>0,VLOOKUP(\"Oil\",HVACg_Lookup,MATCH($F$13,BuildingSize,0)+1,FALSE),IF(IFERROR(SEARCH(\"Propane\",$A$15),0)>0,VLOOKUP(\"Propane\",HVACg_Lookup,MATCH(Worksheet!$F$13,BuildingSize,0)+1,FALSE),0)))","v":0},{"$f":"X381/1000*Y381*AA381*IF(IFERROR(SEARCH(\"Gas\",$A$15),0)>0,VLOOKUP(\"Gas\",HVACg_Lookup,MATCH($F$13,BuildingSize,0)+1,FALSE),IF(IFERROR(SEARCH(\"Oil\",$A$15),0)>0,VLOOKUP(\"Oil\",HVACg_Lookup,MATCH($F$13,BuildingSize,0)+1,FALSE),IF(IFERROR(SEARCH(\"Propane\",$A$15),0)>0,VLOOKUP(\"Propane\",HVACg_Lookup,MATCH(Worksheet!$F$13,BuildingSize,0)+1,FALSE),0)))","v":0},0,0,"",""]
[null,null,"",null,null,null,null,null,null,null,null,null,null,null,null,0,0,0,0,"",0,0,0,0,0,0,0,0,0,0,0,0,0,0,0,{"$f":"W382/1000*Y382*AA382*IF(IFERROR(SEARCH(\"Gas\",$A$15),0)>0,VLOOKUP(\"Gas\",HVACg_Lookup,MATCH($F$13,BuildingSize,0)+1,FALSE),IF(IFERROR(SEARCH(\"Oil\",$A$15),0)>0,VLOOKUP(\"Oil\",HVACg_Lookup,MATCH($F$13,BuildingSize,0)+1,FALSE),IF(IFERROR(SEARCH(\"Propane\",$A$15),0)>0,VLOOKUP(\"Propane\",HVACg_Lookup,MATCH(Worksheet!$F$13,BuildingSize,0)+1,FALSE),0)))","v":0},{"$f":"X382/1000*Y382*AA382*IF(IFERROR(SEARCH(\"Gas\",$A$15),0)>0,VLOOKUP(\"Gas\",HVACg_Lookup,MATCH($F$13,BuildingSize,0)+1,FALSE),IF(IFERROR(SEARCH(\"Oil\",$A$15),0)>0,VLOOKUP(\"Oil\",HVACg_Lookup,MATCH($F$13,BuildingSize,0)+1,FALSE),IF(IFERROR(SEARCH(\"Propane\",$A$15),0)>0,VLOOKUP(\"Propane\",HVACg_Lookup,MATCH(Worksheet!$F$13,BuildingSize,0)+1,FALSE),0)))","v":0},0,0,"",""]
[null,null,"",null,null,null,null,null,null,null,null,null,null,null,null,0,0,0,0,"",0,0,0,0,0,0,0,0,0,0,0,0,0,0,0,{"$f":"W383/1000*Y383*AA383*IF(IFERROR(SEARCH(\"Gas\",$A$15),0)>0,VLOOKUP(\"Gas\",HVACg_Lookup,MATCH($F$13,BuildingSize,0)+1,FALSE),IF(IFERROR(SEARCH(\"Oil\",$A$15),0)>0,VLOOKUP(\"Oil\",HVACg_Lookup,MATCH($F$13,BuildingSize,0)+1,FALSE),IF(IFERROR(SEARCH(\"Propane\",$A$15),0)>0,VLOOKUP(\"Propane\",HVACg_Lookup,MATCH(Worksheet!$F$13,BuildingSize,0)+1,FALSE),0)))","v":0},{"$f":"X383/1000*Y383*AA383*IF(IFERROR(SEARCH(\"Gas\",$A$15),0)>0,VLOOKUP(\"Gas\",HVACg_Lookup,MATCH($F$13,BuildingSize,0)+1,FALSE),IF(IFERROR(SEARCH(\"Oil\",$A$15),0)>0,VLOOKUP(\"Oil\",HVACg_Lookup,MATCH($F$13,BuildingSize,0)+1,FALSE),IF(IFERROR(SEARCH(\"Propane\",$A$15),0)>0,VLOOKUP(\"Propane\",HVACg_Lookup,MATCH(Worksheet!$F$13,BuildingSize,0)+1,FALSE),0)))","v":0},0,0,"",""]
[null,null,"",null,null,null,null,null,null,null,null,null,null,null,null,0,0,0,0,"",0,0,0,0,0,0,0,0,0,0,0,0,0,0,0,{"$f":"W384/1000*Y384*AA384*IF(IFERROR(SEARCH(\"Gas\",$A$15),0)>0,VLOOKUP(\"Gas\",HVACg_Lookup,MATCH($F$13,BuildingSize,0)+1,FALSE),IF(IFERROR(SEARCH(\"Oil\",$A$15),0)>0,VLOOKUP(\"Oil\",HVACg_Lookup,MATCH($F$13,BuildingSize,0)+1,FALSE),IF(IFERROR(SEARCH(\"Propane\",$A$15),0)>0,VLOOKUP(\"Propane\",HVACg_Lookup,MATCH(Worksheet!$F$13,BuildingSize,0)+1,FALSE),0)))","v":0},{"$f":"X384/1000*Y384*AA384*IF(IFERROR(SEARCH(\"Gas\",$A$15),0)>0,VLOOKUP(\"Gas\",HVACg_Lookup,MATCH($F$13,BuildingSize,0)+1,FALSE),IF(IFERROR(SEARCH(\"Oil\",$A$15),0)>0,VLOOKUP(\"Oil\",HVACg_Lookup,MATCH($F$13,BuildingSize,0)+1,FALSE),IF(IFERROR(SEARCH(\"Propane\",$A$15),0)>0,VLOOKUP(\"Propane\",HVACg_Lookup,MATCH(Worksheet!$F$13,BuildingSize,0)+1,FALSE),0)))","v":0},0,0,"",""]
[null,null,"",null,null,null,null,null,null,null,null,null,null,null,null,0,0,0,0,"",0,0,0,0,0,0,0,0,0,0,0,0,0,0,0,{"$f":"W385/1000*Y385*AA385*IF(IFERROR(SEARCH(\"Gas\",$A$15),0)>0,VLOOKUP(\"Gas\",HVACg_Lookup,MATCH($F$13,BuildingSize,0)+1,FALSE),IF(IFERROR(SEARCH(\"Oil\",$A$15),0)>0,VLOOKUP(\"Oil\",HVACg_Lookup,MATCH($F$13,BuildingSize,0)+1,FALSE),IF(IFERROR(SEARCH(\"Propane\",$A$15),0)>0,VLOOKUP(\"Propane\",HVACg_Lookup,MATCH(Worksheet!$F$13,BuildingSize,0)+1,FALSE),0)))","v":0},{"$f":"X385/1000*Y385*AA385*IF(IFERROR(SEARCH(\"Gas\",$A$15),0)>0,VLOOKUP(\"Gas\",HVACg_Lookup,MATCH($F$13,BuildingSize,0)+1,FALSE),IF(IFERROR(SEARCH(\"Oil\",$A$15),0)>0,VLOOKUP(\"Oil\",HVACg_Lookup,MATCH($F$13,BuildingSize,0)+1,FALSE),IF(IFERROR(SEARCH(\"Propane\",$A$15),0)>0,VLOOKUP(\"Propane\",HVACg_Lookup,MATCH(Worksheet!$F$13,BuildingSize,0)+1,FALSE),0)))","v":0},0,0,"",""]
[null,null,"",null,null,null,null,null,null,null,null,null,null,null,null,0,0,0,0,"",0,0,0,0,0,0,0,0,0,0,0,0,0,0,0,{"$f":"W386/1000*Y386*AA386*IF(IFERROR(SEARCH(\"Gas\",$A$15),0)>0,VLOOKUP(\"Gas\",HVACg_Lookup,MATCH($F$13,BuildingSize,0)+1,FALSE),IF(IFERROR(SEARCH(\"Oil\",$A$15),0)>0,VLOOKUP(\"Oil\",HVACg_Lookup,MATCH($F$13,BuildingSize,0)+1,FALSE),IF(IFERROR(SEARCH(\"Propane\",$A$15),0)>0,VLOOKUP(\"Propane\",HVACg_Lookup,MATCH(Worksheet!$F$13,BuildingSize,0)+1,FALSE),0)))","v":0},{"$f":"X386/1000*Y386*AA386*IF(IFERROR(SEARCH(\"Gas\",$A$15),0)>0,VLOOKUP(\"Gas\",HVACg_Lookup,MATCH($F$13,BuildingSize,0)+1,FALSE),IF(IFERROR(SEARCH(\"Oil\",$A$15),0)>0,VLOOKUP(\"Oil\",HVACg_Lookup,MATCH($F$13,BuildingSize,0)+1,FALSE),IF(IFERROR(SEARCH(\"Propane\",$A$15),0)>0,VLOOKUP(\"Propane\",HVACg_Lookup,MATCH(Worksheet!$F$13,BuildingSize,0)+1,FALSE),0)))","v":0},0,0,"",""]
[null,null,"",null,null,null,null,null,null,null,null,null,null,null,null,0,0,0,0,"",0,0,0,0,0,0,0,0,0,0,0,0,0,0,0,{"$f":"W387/1000*Y387*AA387*IF(IFERROR(SEARCH(\"Gas\",$A$15),0)>0,VLOOKUP(\"Gas\",HVACg_Lookup,MATCH($F$13,BuildingSize,0)+1,FALSE),IF(IFERROR(SEARCH(\"Oil\",$A$15),0)>0,VLOOKUP(\"Oil\",HVACg_Lookup,MATCH($F$13,BuildingSize,0)+1,FALSE),IF(IFERROR(SEARCH(\"Propane\",$A$15),0)>0,VLOOKUP(\"Propane\",HVACg_Lookup,MATCH(Worksheet!$F$13,BuildingSize,0)+1,FALSE),0)))","v":0},{"$f":"X387/1000*Y387*AA387*IF(IFERROR(SEARCH(\"Gas\",$A$15),0)>0,VLOOKUP(\"Gas\",HVACg_Lookup,MATCH($F$13,BuildingSize,0)+1,FALSE),IF(IFERROR(SEARCH(\"Oil\",$A$15),0)>0,VLOOKUP(\"Oil\",HVACg_Lookup,MATCH($F$13,BuildingSize,0)+1,FALSE),IF(IFERROR(SEARCH(\"Propane\",$A$15),0)>0,VLOOKUP(\"Propane\",HVACg_Lookup,MATCH(Worksheet!$F$13,BuildingSize,0)+1,FALSE),0)))","v":0},0,0,"",""]
[null,null,"",null,null,null,null,null,null,null,null,null,null,null,null,0,0,0,0,"",0,0,0,0,0,0,0,0,0,0,0,0,0,0,0,{"$f":"W388/1000*Y388*AA388*IF(IFERROR(SEARCH(\"Gas\",$A$15),0)>0,VLOOKUP(\"Gas\",HVACg_Lookup,MATCH($F$13,BuildingSize,0)+1,FALSE),IF(IFERROR(SEARCH(\"Oil\",$A$15),0)>0,VLOOKUP(\"Oil\",HVACg_Lookup,MATCH($F$13,BuildingSize,0)+1,FALSE),IF(IFERROR(SEARCH(\"Propane\",$A$15),0)>0,VLOOKUP(\"Propane\",HVACg_Lookup,MATCH(Worksheet!$F$13,BuildingSize,0)+1,FALSE),0)))","v":0},{"$f":"X388/1000*Y388*AA388*IF(IFERROR(SEARCH(\"Gas\",$A$15),0)>0,VLOOKUP(\"Gas\",HVACg_Lookup,MATCH($F$13,BuildingSize,0)+1,FALSE),IF(IFERROR(SEARCH(\"Oil\",$A$15),0)>0,VLOOKUP(\"Oil\",HVACg_Lookup,MATCH($F$13,BuildingSize,0)+1,FALSE),IF(IFERROR(SEARCH(\"Propane\",$A$15),0)>0,VLOOKUP(\"Propane\",HVACg_Lookup,MATCH(Worksheet!$F$13,BuildingSize,0)+1,FALSE),0)))","v":0},0,0,"",""]
[null,null,"",null,null,null,null,null,null,null,null,null,null,null,null,0,0,0,0,"",0,0,0,0,0,0,0,0,0,0,0,0,0,0,0,{"$f":"W389/1000*Y389*AA389*IF(IFERROR(SEARCH(\"Gas\",$A$15),0)>0,VLOOKUP(\"Gas\",HVACg_Lookup,MATCH($F$13,BuildingSize,0)+1,FALSE),IF(IFERROR(SEARCH(\"Oil\",$A$15),0)>0,VLOOKUP(\"Oil\",HVACg_Lookup,MATCH($F$13,BuildingSize,0)+1,FALSE),IF(IFERROR(SEARCH(\"Propane\",$A$15),0)>0,VLOOKUP(\"Propane\",HVACg_Lookup,MATCH(Worksheet!$F$13,BuildingSize,0)+1,FALSE),0)))","v":0},{"$f":"X389/1000*Y389*AA389*IF(IFERROR(SEARCH(\"Gas\",$A$15),0)>0,VLOOKUP(\"Gas\",HVACg_Lookup,MATCH($F$13,BuildingSize,0)+1,FALSE),IF(IFERROR(SEARCH(\"Oil\",$A$15),0)>0,VLOOKUP(\"Oil\",HVACg_Lookup,MATCH($F$13,BuildingSize,0)+1,FALSE),IF(IFERROR(SEARCH(\"Propane\",$A$15),0)>0,VLOOKUP(\"Propane\",HVACg_Lookup,MATCH(Worksheet!$F$13,BuildingSize,0)+1,FALSE),0)))","v":0},0,0,"",""]
[null,null,"",null,null,null,null,null,null,null,null,null,null,null,null,0,0,0,0,"",0,0,0,0,0,0,0,0,0,0,0,0,0,0,0,{"$f":"W390/1000*Y390*AA390*IF(IFERROR(SEARCH(\"Gas\",$A$15),0)>0,VLOOKUP(\"Gas\",HVACg_Lookup,MATCH($F$13,BuildingSize,0)+1,FALSE),IF(IFERROR(SEARCH(\"Oil\",$A$15),0)>0,VLOOKUP(\"Oil\",HVACg_Lookup,MATCH($F$13,BuildingSize,0)+1,FALSE),IF(IFERROR(SEARCH(\"Propane\",$A$15),0)>0,VLOOKUP(\"Propane\",HVACg_Lookup,MATCH(Worksheet!$F$13,BuildingSize,0)+1,FALSE),0)))","v":0},{"$f":"X390/1000*Y390*AA390*IF(IFERROR(SEARCH(\"Gas\",$A$15),0)>0,VLOOKUP(\"Gas\",HVACg_Lookup,MATCH($F$13,BuildingSize,0)+1,FALSE),IF(IFERROR(SEARCH(\"Oil\",$A$15),0)>0,VLOOKUP(\"Oil\",HVACg_Lookup,MATCH($F$13,BuildingSize,0)+1,FALSE),IF(IFERROR(SEARCH(\"Propane\",$A$15),0)>0,VLOOKUP(\"Propane\",HVACg_Lookup,MATCH(Worksheet!$F$13,BuildingSize,0)+1,FALSE),0)))","v":0},0,0,"",""]
[null,null,"",null,null,null,null,null,null,null,null,null,null,null,null,0,0,0,0,"",0,0,0,0,0,0,0,0,0,0,0,0,0,0,0,{"$f":"W391/1000*Y391*AA391*IF(IFERROR(SEARCH(\"Gas\",$A$15),0)>0,VLOOKUP(\"Gas\",HVACg_Lookup,MATCH($F$13,BuildingSize,0)+1,FALSE),IF(IFERROR(SEARCH(\"Oil\",$A$15),0)>0,VLOOKUP(\"Oil\",HVACg_Lookup,MATCH($F$13,BuildingSize,0)+1,FALSE),IF(IFERROR(SEARCH(\"Propane\",$A$15),0)>0,VLOOKUP(\"Propane\",HVACg_Lookup,MATCH(Worksheet!$F$13,BuildingSize,0)+1,FALSE),0)))","v":0},{"$f":"X391/1000*Y391*AA391*IF(IFERROR(SEARCH(\"Gas\",$A$15),0)>0,VLOOKUP(\"Gas\",HVACg_Lookup,MATCH($F$13,BuildingSize,0)+1,FALSE),IF(IFERROR(SEARCH(\"Oil\",$A$15),0)>0,VLOOKUP(\"Oil\",HVACg_Lookup,MATCH($F$13,BuildingSize,0)+1,FALSE),IF(IFERROR(SEARCH(\"Propane\",$A$15),0)>0,VLOOKUP(\"Propane\",HVACg_Lookup,MATCH(Worksheet!$F$13,BuildingSize,0)+1,FALSE),0)))","v":0},0,0,"",""]
[null,null,"",null,null,null,null,null,null,null,null,null,null,null,null,0,0,0,0,"",0,0,0,0,0,0,0,0,0,0,0,0,0,0,0,{"$f":"W392/1000*Y392*AA392*IF(IFERROR(SEARCH(\"Gas\",$A$15),0)>0,VLOOKUP(\"Gas\",HVACg_Lookup,MATCH($F$13,BuildingSize,0)+1,FALSE),IF(IFERROR(SEARCH(\"Oil\",$A$15),0)>0,VLOOKUP(\"Oil\",HVACg_Lookup,MATCH($F$13,BuildingSize,0)+1,FALSE),IF(IFERROR(SEARCH(\"Propane\",$A$15),0)>0,VLOOKUP(\"Propane\",HVACg_Lookup,MATCH(Worksheet!$F$13,BuildingSize,0)+1,FALSE),0)))","v":0},{"$f":"X392/1000*Y392*AA392*IF(IFERROR(SEARCH(\"Gas\",$A$15),0)>0,VLOOKUP(\"Gas\",HVACg_Lookup,MATCH($F$13,BuildingSize,0)+1,FALSE),IF(IFERROR(SEARCH(\"Oil\",$A$15),0)>0,VLOOKUP(\"Oil\",HVACg_Lookup,MATCH($F$13,BuildingSize,0)+1,FALSE),IF(IFERROR(SEARCH(\"Propane\",$A$15),0)>0,VLOOKUP(\"Propane\",HVACg_Lookup,MATCH(Worksheet!$F$13,BuildingSize,0)+1,FALSE),0)))","v":0},0,0,"",""]
[null,null,"",null,null,null,null,null,null,null,null,null,null,null,null,0,0,0,0,"",0,0,0,0,0,0,0,0,0,0,0,0,0,0,0,{"$f":"W393/1000*Y393*AA393*IF(IFERROR(SEARCH(\"Gas\",$A$15),0)>0,VLOOKUP(\"Gas\",HVACg_Lookup,MATCH($F$13,BuildingSize,0)+1,FALSE),IF(IFERROR(SEARCH(\"Oil\",$A$15),0)>0,VLOOKUP(\"Oil\",HVACg_Lookup,MATCH($F$13,BuildingSize,0)+1,FALSE),IF(IFERROR(SEARCH(\"Propane\",$A$15),0)>0,VLOOKUP(\"Propane\",HVACg_Lookup,MATCH(Worksheet!$F$13,BuildingSize,0)+1,FALSE),0)))","v":0},{"$f":"X393/1000*Y393*AA393*IF(IFERROR(SEARCH(\"Gas\",$A$15),0)>0,VLOOKUP(\"Gas\",HVACg_Lookup,MATCH($F$13,BuildingSize,0)+1,FALSE),IF(IFERROR(SEARCH(\"Oil\",$A$15),0)>0,VLOOKUP(\"Oil\",HVACg_Lookup,MATCH($F$13,BuildingSize,0)+1,FALSE),IF(IFERROR(SEARCH(\"Propane\",$A$15),0)>0,VLOOKUP(\"Propane\",HVACg_Lookup,MATCH(Worksheet!$F$13,BuildingSize,0)+1,FALSE),0)))","v":0},0,0,"",""]
[null,null,"",null,null,null,null,null,null,null,null,null,null,null,null,0,0,0,0,"",0,0,0,0,0,0,0,0,0,0,0,0,0,0,0,{"$f":"W394/1000*Y394*AA394*IF(IFERROR(SEARCH(\"Gas\",$A$15),0)>0,VLOOKUP(\"Gas\",HVACg_Lookup,MATCH($F$13,BuildingSize,0)+1,FALSE),IF(IFERROR(SEARCH(\"Oil\",$A$15),0)>0,VLOOKUP(\"Oil\",HVACg_Lookup,MATCH($F$13,BuildingSize,0)+1,FALSE),IF(IFERROR(SEARCH(\"Propane\",$A$15),0)>0,VLOOKUP(\"Propane\",HVACg_Lookup,MATCH(Worksheet!$F$13,BuildingSize,0)+1,FALSE),0)))","v":0},{"$f":"X394/1000*Y394*AA394*IF(IFERROR(SEARCH(\"Gas\",$A$15),0)>0,VLOOKUP(\"Gas\",HVACg_Lookup,MATCH($F$13,BuildingSize,0)+1,FALSE),IF(IFERROR(SEARCH(\"Oil\",$A$15),0)>0,VLOOKUP(\"Oil\",HVACg_Lookup,MATCH($F$13,BuildingSize,0)+1,FALSE),IF(IFERROR(SEARCH(\"Propane\",$A$15),0)>0,VLOOKUP(\"Propane\",HVACg_Lookup,MATCH(Worksheet!$F$13,BuildingSize,0)+1,FALSE),0)))","v":0},0,0,"",""]
[null,null,"",null,null,null,null,null,null,null,null,null,null,null,null,0,0,0,0,"",0,0,0,0,0,0,0,0,0,0,0,0,0,0,0,{"$f":"W395/1000*Y395*AA395*IF(IFERROR(SEARCH(\"Gas\",$A$15),0)>0,VLOOKUP(\"Gas\",HVACg_Lookup,MATCH($F$13,BuildingSize,0)+1,FALSE),IF(IFERROR(SEARCH(\"Oil\",$A$15),0)>0,VLOOKUP(\"Oil\",HVACg_Lookup,MATCH($F$13,BuildingSize,0)+1,FALSE),IF(IFERROR(SEARCH(\"Propane\",$A$15),0)>0,VLOOKUP(\"Propane\",HVACg_Lookup,MATCH(Worksheet!$F$13,BuildingSize,0)+1,FALSE),0)))","v":0},{"$f":"X395/1000*Y395*AA395*IF(IFERROR(SEARCH(\"Gas\",$A$15),0)>0,VLOOKUP(\"Gas\",HVACg_Lookup,MATCH($F$13,BuildingSize,0)+1,FALSE),IF(IFERROR(SEARCH(\"Oil\",$A$15),0)>0,VLOOKUP(\"Oil\",HVACg_Lookup,MATCH($F$13,BuildingSize,0)+1,FALSE),IF(IFERROR(SEARCH(\"Propane\",$A$15),0)>0,VLOOKUP(\"Propane\",HVACg_Lookup,MATCH(Worksheet!$F$13,BuildingSize,0)+1,FALSE),0)))","v":0},0,0,"",""]
[null,null,"",null,null,null,null,null,null,null,null,null,null,null,null,0,0,0,0,"",0,0,0,0,0,0,0,0,0,0,0,0,0,0,0,{"$f":"W396/1000*Y396*AA396*IF(IFERROR(SEARCH(\"Gas\",$A$15),0)>0,VLOOKUP(\"Gas\",HVACg_Lookup,MATCH($F$13,BuildingSize,0)+1,FALSE),IF(IFERROR(SEARCH(\"Oil\",$A$15),0)>0,VLOOKUP(\"Oil\",HVACg_Lookup,MATCH($F$13,BuildingSize,0)+1,FALSE),IF(IFERROR(SEARCH(\"Propane\",$A$15),0)>0,VLOOKUP(\"Propane\",HVACg_Lookup,MATCH(Worksheet!$F$13,BuildingSize,0)+1,FALSE),0)))","v":0},{"$f":"X396/1000*Y396*AA396*IF(IFERROR(SEARCH(\"Gas\",$A$15),0)>0,VLOOKUP(\"Gas\",HVACg_Lookup,MATCH($F$13,BuildingSize,0)+1,FALSE),IF(IFERROR(SEARCH(\"Oil\",$A$15),0)>0,VLOOKUP(\"Oil\",HVACg_Lookup,MATCH($F$13,BuildingSize,0)+1,FALSE),IF(IFERROR(SEARCH(\"Propane\",$A$15),0)>0,VLOOKUP(\"Propane\",HVACg_Lookup,MATCH(Worksheet!$F$13,BuildingSize,0)+1,FALSE),0)))","v":0},0,0,"",""]
[null,null,"",null,null,null,null,null,null,null,null,null,null,null,null,0,0,0,0,"",0,0,0,0,0,0,0,0,0,0,0,0,0,0,0,{"$f":"W397/1000*Y397*AA397*IF(IFERROR(SEARCH(\"Gas\",$A$15),0)>0,VLOOKUP(\"Gas\",HVACg_Lookup,MATCH($F$13,BuildingSize,0)+1,FALSE),IF(IFERROR(SEARCH(\"Oil\",$A$15),0)>0,VLOOKUP(\"Oil\",HVACg_Lookup,MATCH($F$13,BuildingSize,0)+1,FALSE),IF(IFERROR(SEARCH(\"Propane\",$A$15),0)>0,VLOOKUP(\"Propane\",HVACg_Lookup,MATCH(Worksheet!$F$13,BuildingSize,0)+1,FALSE),0)))","v":0},{"$f":"X397/1000*Y397*AA397*IF(IFERROR(SEARCH(\"Gas\",$A$15),0)>0,VLOOKUP(\"Gas\",HVACg_Lookup,MATCH($F$13,BuildingSize,0)+1,FALSE),IF(IFERROR(SEARCH(\"Oil\",$A$15),0)>0,VLOOKUP(\"Oil\",HVACg_Lookup,MATCH($F$13,BuildingSize,0)+1,FALSE),IF(IFERROR(SEARCH(\"Propane\",$A$15),0)>0,VLOOKUP(\"Propane\",HVACg_Lookup,MATCH(Worksheet!$F$13,BuildingSize,0)+1,FALSE),0)))","v":0},0,0,"",""]
[null,null,"",null,null,null,null,null,null,null,null,null,null,null,null,0,0,0,0,"",0,0,0,0,0,0,0,0,0,0,0,0,0,0,0,{"$f":"W398/1000*Y398*AA398*IF(IFERROR(SEARCH(\"Gas\",$A$15),0)>0,VLOOKUP(\"Gas\",HVACg_Lookup,MATCH($F$13,BuildingSize,0)+1,FALSE),IF(IFERROR(SEARCH(\"Oil\",$A$15),0)>0,VLOOKUP(\"Oil\",HVACg_Lookup,MATCH($F$13,BuildingSize,0)+1,FALSE),IF(IFERROR(SEARCH(\"Propane\",$A$15),0)>0,VLOOKUP(\"Propane\",HVACg_Lookup,MATCH(Worksheet!$F$13,BuildingSize,0)+1,FALSE),0)))","v":0},{"$f":"X398/1000*Y398*AA398*IF(IFERROR(SEARCH(\"Gas\",$A$15),0)>0,VLOOKUP(\"Gas\",HVACg_Lookup,MATCH($F$13,BuildingSize,0)+1,FALSE),IF(IFERROR(SEARCH(\"Oil\",$A$15),0)>0,VLOOKUP(\"Oil\",HVACg_Lookup,MATCH($F$13,BuildingSize,0)+1,FALSE),IF(IFERROR(SEARCH(\"Propane\",$A$15),0)>0,VLOOKUP(\"Propane\",HVACg_Lookup,MATCH(Worksheet!$F$13,BuildingSize,0)+1,FALSE),0)))","v":0},0,0,"",""]
[null,null,"",null,null,null,null,null,null,null,null,null,null,null,null,0,0,0,0,"",0,0,0,0,0,0,0,0,0,0,0,0,0,0,0,{"$f":"W399/1000*Y399*AA399*IF(IFERROR(SEARCH(\"Gas\",$A$15),0)>0,VLOOKUP(\"Gas\",HVACg_Lookup,MATCH($F$13,BuildingSize,0)+1,FALSE),IF(IFERROR(SEARCH(\"Oil\",$A$15),0)>0,VLOOKUP(\"Oil\",HVACg_Lookup,MATCH($F$13,BuildingSize,0)+1,FALSE),IF(IFERROR(SEARCH(\"Propane\",$A$15),0)>0,VLOOKUP(\"Propane\",HVACg_Lookup,MATCH(Worksheet!$F$13,BuildingSize,0)+1,FALSE),0)))","v":0},{"$f":"X399/1000*Y399*AA399*IF(IFERROR(SEARCH(\"Gas\",$A$15),0)>0,VLOOKUP(\"Gas\",HVACg_Lookup,MATCH($F$13,BuildingSize,0)+1,FALSE),IF(IFERROR(SEARCH(\"Oil\",$A$15),0)>0,VLOOKUP(\"Oil\",HVACg_Lookup,MATCH($F$13,BuildingSize,0)+1,FALSE),IF(IFERROR(SEARCH(\"Propane\",$A$15),0)>0,VLOOKUP(\"Propane\",HVACg_Lookup,MATCH(Worksheet!$F$13,BuildingSize,0)+1,FALSE),0)))","v":0},0,0,"",""]
[null,null,"",null,null,null,null,null,null,null,null,null,null,null,null,0,0,0,0,"",0,0,0,0,0,0,0,0,0,0,0,0,0,0,0,{"$f":"W400/1000*Y400*AA400*IF(IFERROR(SEARCH(\"Gas\",$A$15),0)>0,VLOOKUP(\"Gas\",HVACg_Lookup,MATCH($F$13,BuildingSize,0)+1,FALSE),IF(IFERROR(SEARCH(\"Oil\",$A$15),0)>0,VLOOKUP(\"Oil\",HVACg_Lookup,MATCH($F$13,BuildingSize,0)+1,FALSE),IF(IFERROR(SEARCH(\"Propane\",$A$15),0)>0,VLOOKUP(\"Propane\",HVACg_Lookup,MATCH(Worksheet!$F$13,BuildingSize,0)+1,FALSE),0)))","v":0},{"$f":"X400/1000*Y400*AA400*IF(IFERROR(SEARCH(\"Gas\",$A$15),0)>0,VLOOKUP(\"Gas\",HVACg_Lookup,MATCH($F$13,BuildingSize,0)+1,FALSE),IF(IFERROR(SEARCH(\"Oil\",$A$15),0)>0,VLOOKUP(\"Oil\",HVACg_Lookup,MATCH($F$13,BuildingSize,0)+1,FALSE),IF(IFERROR(SEARCH(\"Propane\",$A$15),0)>0,VLOOKUP(\"Propane\",HVACg_Lookup,MATCH(Worksheet!$F$13,BuildingSize,0)+1,FALSE),0)))","v":0},0,0,"",""]
[null,null,"",null,null,null,null,null,null,null,null,null,null,null,null,0,0,0,0,"",0,0,0,0,0,0,0,0,0,0,0,0,0,0,0,{"$f":"W401/1000*Y401*AA401*IF(IFERROR(SEARCH(\"Gas\",$A$15),0)>0,VLOOKUP(\"Gas\",HVACg_Lookup,MATCH($F$13,BuildingSize,0)+1,FALSE),IF(IFERROR(SEARCH(\"Oil\",$A$15),0)>0,VLOOKUP(\"Oil\",HVACg_Lookup,MATCH($F$13,BuildingSize,0)+1,FALSE),IF(IFERROR(SEARCH(\"Propane\",$A$15),0)>0,VLOOKUP(\"Propane\",HVACg_Lookup,MATCH(Worksheet!$F$13,BuildingSize,0)+1,FALSE),0)))","v":0},{"$f":"X401/1000*Y401*AA401*IF(IFERROR(SEARCH(\"Gas\",$A$15),0)>0,VLOOKUP(\"Gas\",HVACg_Lookup,MATCH($F$13,BuildingSize,0)+1,FALSE),IF(IFERROR(SEARCH(\"Oil\",$A$15),0)>0,VLOOKUP(\"Oil\",HVACg_Lookup,MATCH($F$13,BuildingSize,0)+1,FALSE),IF(IFERROR(SEARCH(\"Propane\",$A$15),0)>0,VLOOKUP(\"Propane\",HVACg_Lookup,MATCH(Worksheet!$F$13,BuildingSize,0)+1,FALSE),0)))","v":0},0,0,"",""]
[null,null,"",null,null,null,null,null,null,null,null,null,null,null,null,0,0,0,0,"",0,0,0,0,0,0,0,0,0,0,0,0,0,0,0,{"$f":"W402/1000*Y402*AA402*IF(IFERROR(SEARCH(\"Gas\",$A$15),0)>0,VLOOKUP(\"Gas\",HVACg_Lookup,MATCH($F$13,BuildingSize,0)+1,FALSE),IF(IFERROR(SEARCH(\"Oil\",$A$15),0)>0,VLOOKUP(\"Oil\",HVACg_Lookup,MATCH($F$13,BuildingSize,0)+1,FALSE),IF(IFERROR(SEARCH(\"Propane\",$A$15),0)>0,VLOOKUP(\"Propane\",HVACg_Lookup,MATCH(Worksheet!$F$13,BuildingSize,0)+1,FALSE),0)))","v":0},{"$f":"X402/1000*Y402*AA402*IF(IFERROR(SEARCH(\"Gas\",$A$15),0)>0,VLOOKUP(\"Gas\",HVACg_Lookup,MATCH($F$13,BuildingSize,0)+1,FALSE),IF(IFERROR(SEARCH(\"Oil\",$A$15),0)>0,VLOOKUP(\"Oil\",HVACg_Lookup,MATCH($F$13,BuildingSize,0)+1,FALSE),IF(IFERROR(SEARCH(\"Propane\",$A$15),0)>0,VLOOKUP(\"Propane\",HVACg_Lookup,MATCH(Worksheet!$F$13,BuildingSize,0)+1,FALSE),0)))","v":0},0,0,"",""]
[null,null,"",null,null,null,null,null,null,null,null,null,null,null,null,0,0,0,0,"",0,0,0,0,0,0,0,0,0,0,0,0,0,0,0,{"$f":"W403/1000*Y403*AA403*IF(IFERROR(SEARCH(\"Gas\",$A$15),0)>0,VLOOKUP(\"Gas\",HVACg_Lookup,MATCH($F$13,BuildingSize,0)+1,FALSE),IF(IFERROR(SEARCH(\"Oil\",$A$15),0)>0,VLOOKUP(\"Oil\",HVACg_Lookup,MATCH($F$13,BuildingSize,0)+1,FALSE),IF(IFERROR(SEARCH(\"Propane\",$A$15),0)>0,VLOOKUP(\"Propane\",HVACg_Lookup,MATCH(Worksheet!$F$13,BuildingSize,0)+1,FALSE),0)))","v":0},{"$f":"X403/1000*Y403*AA403*IF(IFERROR(SEARCH(\"Gas\",$A$15),0)>0,VLOOKUP(\"Gas\",HVACg_Lookup,MATCH($F$13,BuildingSize,0)+1,FALSE),IF(IFERROR(SEARCH(\"Oil\",$A$15),0)>0,VLOOKUP(\"Oil\",HVACg_Lookup,MATCH($F$13,BuildingSize,0)+1,FALSE),IF(IFERROR(SEARCH(\"Propane\",$A$15),0)>0,VLOOKUP(\"Propane\",HVACg_Lookup,MATCH(Worksheet!$F$13,BuildingSize,0)+1,FALSE),0)))","v":0},0,0,"",""]
[null,null,"",null,null,null,null,null,null,null,null,null,null,null,null,0,0,0,0,"",0,0,0,0,0,0,0,0,0,0,0,0,0,0,0,{"$f":"W404/1000*Y404*AA404*IF(IFERROR(SEARCH(\"Gas\",$A$15),0)>0,VLOOKUP(\"Gas\",HVACg_Lookup,MATCH($F$13,BuildingSize,0)+1,FALSE),IF(IFERROR(SEARCH(\"Oil\",$A$15),0)>0,VLOOKUP(\"Oil\",HVACg_Lookup,MATCH($F$13,BuildingSize,0)+1,FALSE),IF(IFERROR(SEARCH(\"Propane\",$A$15),0)>0,VLOOKUP(\"Propane\",HVACg_Lookup,MATCH(Worksheet!$F$13,BuildingSize,0)+1,FALSE),0)))","v":0},{"$f":"X404/1000*Y404*AA404*IF(IFERROR(SEARCH(\"Gas\",$A$15),0)>0,VLOOKUP(\"Gas\",HVACg_Lookup,MATCH($F$13,BuildingSize,0)+1,FALSE),IF(IFERROR(SEARCH(\"Oil\",$A$15),0)>0,VLOOKUP(\"Oil\",HVACg_Lookup,MATCH($F$13,BuildingSize,0)+1,FALSE),IF(IFERROR(SEARCH(\"Propane\",$A$15),0)>0,VLOOKUP(\"Propane\",HVACg_Lookup,MATCH(Worksheet!$F$13,BuildingSize,0)+1,FALSE),0)))","v":0},0,0,"",""]
[null,null,"",null,null,null,null,null,null,null,null,null,null,null,null,0,0,{"$f":"IF(AN405=\"\",0,IF(AN405=1,VLOOKUP(A405,MeasureCode_Lookup,3,FALSE),\"DNQ\"))","v":0},{"$f":"IF(AO405=\"\",0,IF(AO405=1,VLOOKUP(A405,MeasureCode_Lookup,3,FALSE),\"DNQ\"))","v":0},{"$f":"IF(A405=\"\",\"\",VLOOKUP(A405,MeasureCode_Lookup,4,FALSE))","v":""},0,0,{"$f":"IF(N(R405)=0,0,F405*P405)","v":0},{"$f":"IF(N(S405)=0,0,G405*Q405)","v":0},{"$f":"IF(A405=\"\",0,VLOOKUP(A405,MeasureCode_Lookup,5,FALSE))","v":0},{"$f":"IF($A$13=\"\",0,VLOOKUP($A$13,BuildingType_Lookup,3,FALSE))","v":0},{"$f":"IF($A$13=\"\",0,VLOOKUP($A$13,BuildingType_Lookup,2,FALSE))","v":0},{"$f":"IF(AND(OR(AN405=\"\",AN405=0)=TRUE,OR(AO405=\"\",AO405=0))=TRUE,0,IF(AO405=\"\",(IF(OR(C405=\"DDC\",C405=\"OHLC\")=TRUE,O405,P405)/1000)*Y405*Z405*(1+VLOOKUP($A$13,BuildingType_Lookup,4,FALSE)),IF(AO405=0,0,(IF(OR(C405=\"DDC\",C405=\"OHLC\")=TRUE,O405,Q405)/1000)*Y405*Z405*(1+VLOOKUP($A$13,BuildingType_Lookup,4,FALSE)))))","v":0},{"$f":"IF(AND(OR(AN405=\"\",AN405=0)=TRUE,OR(AO405=\"\",AO405=0))=TRUE,0,IF(AO405=\"\",(IF(OR(C405=\"DDC\",C405=\"OHLC\")=TRUE,O405,P405)/1000)*Y405*AA405*(1+VLOOKUP($A$13,BuildingType_Lookup,MATCH($A$15,HVAC,0)+4,FALSE)),IF(AO405=0,0,(IF(OR(C405=\"DDC\",C405=\"OHLC\")=TRUE,O405,Q405)/1000)*Y405*AA405*(1+VLOOKUP($A$13,BuildingType_Lookup,MATCH($A$15,HVAC,0)+4,FALSE)))))","v":0},{"$f":"IFERROR(IF(OR(C405=\"DDC\",C405=\"OHLC\")=TRUE,F405*J405*AB405,F405*AB405),0)","v":0},{"$f":"IFERROR(IF(OR(C405=\"DDC\",C405=\"OHLC\")=TRUE,G405*K405*AB405,G405*AB405),0)","v":0},{"$f":"IFERROR(IF(OR(C405=\"DDC\",C405=\"OHLC\")=TRUE,F405*J405*AC405,F405*AC405),0)","v":0},{"$f":"IFERROR(IF(OR(C405=\"DDC\",C405=\"OHLC\")=TRUE,G405*K405*AC405,G405*AC405),0)","v":0},0,0,{"$f":"W405/1000*Y405*AA405*IF(IFERROR(SEARCH(\"Gas\",$A$15),0)>0,VLOOKUP(\"Gas\",HVACg_Lookup,MATCH($F$13,BuildingSize,0)+1,FALSE),IF(IFERROR(SEARCH(\"Oil\",$A$15),0)>0,VLOOKUP(\"Oil\",HVACg_Lookup,MATCH($F$13,BuildingSize,0)+1,FALSE),IF(IFERROR(SEARCH(\"Propane\",$A$15),0)>0,VLOOKUP(\"Propane\",HVACg_Lookup,MATCH(Worksheet!$F$13,BuildingSize,0)+1,FALSE),0)))","v":0},{"$f":"X405/1000*Y405*AA405*IF(IFERROR(SEARCH(\"Gas\",$A$15),0)>0,VLOOKUP(\"Gas\",HVACg_Lookup,MATCH($F$13,BuildingSize,0)+1,FALSE),IF(IFERROR(SEARCH(\"Oil\",$A$15),0)>0,VLOOKUP(\"Oil\",HVACg_Lookup,MATCH($F$13,BuildingSize,0)+1,FALSE),IF(IFERROR(SEARCH(\"Propane\",$A$15),0)>0,VLOOKUP(\"Propane\",HVACg_Lookup,MATCH(Worksheet!$F$13,BuildingSize,0)+1,FALSE),0)))","v":0},0,0,{"$f":"IF(OR($B$4=\"\",$B$5=\"\",$A$13=\"\",$F$13=\"\",$A$15=\"\",A405=\"\",F405=\"\",J405=\"\",O405=\"\",P405=\"\")=TRUE,\"\",IF(C405=\"OSW\",IF(J405>=2,1,0),IF(C405=\"OSR\",IF(AND(J405>=2,P405>60)=TRUE,1,0),IF(C405=\"OSRH\",IF(AND(J405>=1,P405>90)=TRUE,1,0),IF(C405=\"OHLC\",IF(AND(N405=\"Y\",P405>60)=TRUE,1,0),IF(C405=\"DDC\",IF(AND(J405>=4,N405=\"Y\",P405>120)=TRUE,1,0),0))))))","v":""},{"$f":"IF(OR($B$4=\"\",$B$5=\"\",$A$13=\"\",$F$13=\"\",$A$15=\"\",A405=\"\",F405=\"\",K405=\"\",O405=\"\",P405=\"\")=TRUE,\"\",IF(C405=\"OSW\",IF(K405>=2,1,0),IF(C405=\"OSR\",IF(AND(K405>=2,Q405>60)=TRUE,1,0),IF(C405=\"OSRH\",IF(AND(K405>=1,Q405>90)=TRUE,1,0),IF(C405=\"OHLC\",IF(AND(N405=\"Y\",Q405>60)=TRUE,1,0),IF(C405=\"DDC\",IF(AND(K405>=4,N405=\"Y\",Q405>120)=TRUE,1,0),0))))))","v":""}]
[null,null,{"$f":"IF(A406=\"\",\"\",VLOOKUP(A406,MeasureCode_Lookup,2,FALSE))","v":""},null,null,null,null,null,null,null,null,null,null,null,null,{"$f":"IF(OR(A406=\"\",F406=\"\",J406=\"\",O406=\"\")=TRUE,0,J406*O406)","v":0},{"$f":"IF(OR(A406=\"\",G406=\"\",K406=\"\",O406=\"\")=TRUE,0,K406*O406)","v":0},0,0,"",{"$f":"IF(N(R406)=0,0,F406*R406*IF(T406=\"per Fixture Controlled\",J406,1))","v":0},{"$f":"IF(N(S406)=0,0,G406*S406*IF(T406=\"per Fixture Controlled\",K406,1))","v":0},0,0,0,0,0,0,0,0,0,0,0,{"$f":"AF406*8","v":0},{"$f":"AG406*8","v":0},{"$f":"W406/1000*Y406*AA406*IF(IFERROR(SEARCH(\"Gas\",$A$15),0)>0,VLOOKUP(\"Gas\",HVACg_Lookup,MATCH($F$13,BuildingSize,0)+1,FALSE),IF(IFERROR(SEARCH(\"Oil\",$A$15),0)>0,VLOOKUP(\"Oil\",HVACg_Lookup,MATCH($F$13,BuildingSize,0)+1,FALSE),IF(IFERROR(SEARCH(\"Propane\",$A$15),0)>0,VLOOKUP(\"Propane\",HVACg_Lookup,MATCH(Worksheet!$F$13,BuildingSize,0)+1,FALSE),0)))","v":0},{"$f":"X406/1000*Y406*AA406*IF(IFERROR(SEARCH(\"Gas\",$A$15),0)>0,VLOOKUP(\"Gas\",HVACg_Lookup,MATCH($F$13,BuildingSize,0)+1,FALSE),IF(IFERROR(SEARCH(\"Oil\",$A$15),0)>0,VLOOKUP(\"Oil\",HVACg_Lookup,MATCH($F$13,BuildingSize,0)+1,FALSE),IF(IFERROR(SEARCH(\"Propane\",$A$15),0)>0,VLOOKUP(\"Propane\",HVACg_Lookup,MATCH(Worksheet!$F$13,BuildingSize,0)+1,FALSE),0)))","v":0},{"$f":"AJ406*8","v":0},{"$f":"AK406*8","v":0},"",""]
[null,null,"",null,null,null,null,null,null,null,null,null,null,null,null,0,0,0,0,"",0,0,0,0,0,0,0,0,0,0,0,0,0,0,0,{"$f":"W407/1000*Y407*AA407*IF(IFERROR(SEARCH(\"Gas\",$A$15),0)>0,VLOOKUP(\"Gas\",HVACg_Lookup,MATCH($F$13,BuildingSize,0)+1,FALSE),IF(IFERROR(SEARCH(\"Oil\",$A$15),0)>0,VLOOKUP(\"Oil\",HVACg_Lookup,MATCH($F$13,BuildingSize,0)+1,FALSE),IF(IFERROR(SEARCH(\"Propane\",$A$15),0)>0,VLOOKUP(\"Propane\",HVACg_Lookup,MATCH(Worksheet!$F$13,BuildingSize,0)+1,FALSE),0)))","v":0},{"$f":"X407/1000*Y407*AA407*IF(IFERROR(SEARCH(\"Gas\",$A$15),0)>0,VLOOKUP(\"Gas\",HVACg_Lookup,MATCH($F$13,BuildingSize,0)+1,FALSE),IF(IFERROR(SEARCH(\"Oil\",$A$15),0)>0,VLOOKUP(\"Oil\",HVACg_Lookup,MATCH($F$13,BuildingSize,0)+1,FALSE),IF(IFERROR(SEARCH(\"Propane\",$A$15),0)>0,VLOOKUP(\"Propane\",HVACg_Lookup,MATCH(Worksheet!$F$13,BuildingSize,0)+1,FALSE),0)))","v":0},0,0,"",""]
[null,null,"",null,null,null,null,null,null,null,null,null,null,null,null,0,0,0,0,"",0,0,0,0,0,0,0,0,0,0,0,0,0,0,0,{"$f":"W408/1000*Y408*AA408*IF(IFERROR(SEARCH(\"Gas\",$A$15),0)>0,VLOOKUP(\"Gas\",HVACg_Lookup,MATCH($F$13,BuildingSize,0)+1,FALSE),IF(IFERROR(SEARCH(\"Oil\",$A$15),0)>0,VLOOKUP(\"Oil\",HVACg_Lookup,MATCH($F$13,BuildingSize,0)+1,FALSE),IF(IFERROR(SEARCH(\"Propane\",$A$15),0)>0,VLOOKUP(\"Propane\",HVACg_Lookup,MATCH(Worksheet!$F$13,BuildingSize,0)+1,FALSE),0)))","v":0},{"$f":"X408/1000*Y408*AA408*IF(IFERROR(SEARCH(\"Gas\",$A$15),0)>0,VLOOKUP(\"Gas\",HVACg_Lookup,MATCH($F$13,BuildingSize,0)+1,FALSE),IF(IFERROR(SEARCH(\"Oil\",$A$15),0)>0,VLOOKUP(\"Oil\",HVACg_Lookup,MATCH($F$13,BuildingSize,0)+1,FALSE),IF(IFERROR(SEARCH(\"Propane\",$A$15),0)>0,VLOOKUP(\"Propane\",HVACg_Lookup,MATCH(Worksheet!$F$13,BuildingSize,0)+1,FALSE),0)))","v":0},0,0,"",""]
[null,null,"",null,null,null,null,null,null,null,null,null,null,null,null,0,0,0,0,"",0,0,0,0,0,0,0,0,0,0,0,0,0,0,0,{"$f":"W409/1000*Y409*AA409*IF(IFERROR(SEARCH(\"Gas\",$A$15),0)>0,VLOOKUP(\"Gas\",HVACg_Lookup,MATCH($F$13,BuildingSize,0)+1,FALSE),IF(IFERROR(SEARCH(\"Oil\",$A$15),0)>0,VLOOKUP(\"Oil\",HVACg_Lookup,MATCH($F$13,BuildingSize,0)+1,FALSE),IF(IFERROR(SEARCH(\"Propane\",$A$15),0)>0,VLOOKUP(\"Propane\",HVACg_Lookup,MATCH(Worksheet!$F$13,BuildingSize,0)+1,FALSE),0)))","v":0},{"$f":"X409/1000*Y409*AA409*IF(IFERROR(SEARCH(\"Gas\",$A$15),0)>0,VLOOKUP(\"Gas\",HVACg_Lookup,MATCH($F$13,BuildingSize,0)+1,FALSE),IF(IFERROR(SEARCH(\"Oil\",$A$15),0)>0,VLOOKUP(\"Oil\",HVACg_Lookup,MATCH($F$13,BuildingSize,0)+1,FALSE),IF(IFERROR(SEARCH(\"Propane\",$A$15),0)>0,VLOOKUP(\"Propane\",HVACg_Lookup,MATCH(Worksheet!$F$13,BuildingSize,0)+1,FALSE),0)))","v":0},0,0,"",""]
[null,null,"",null,null,null,null,null,null,null,null,null,null,null,null,0,0,0,0,"",0,0,0,0,0,0,0,0,0,0,0,0,0,0,0,{"$f":"W410/1000*Y410*AA410*IF(IFERROR(SEARCH(\"Gas\",$A$15),0)>0,VLOOKUP(\"Gas\",HVACg_Lookup,MATCH($F$13,BuildingSize,0)+1,FALSE),IF(IFERROR(SEARCH(\"Oil\",$A$15),0)>0,VLOOKUP(\"Oil\",HVACg_Lookup,MATCH($F$13,BuildingSize,0)+1,FALSE),IF(IFERROR(SEARCH(\"Propane\",$A$15),0)>0,VLOOKUP(\"Propane\",HVACg_Lookup,MATCH(Worksheet!$F$13,BuildingSize,0)+1,FALSE),0)))","v":0},{"$f":"X410/1000*Y410*AA410*IF(IFERROR(SEARCH(\"Gas\",$A$15),0)>0,VLOOKUP(\"Gas\",HVACg_Lookup,MATCH($F$13,BuildingSize,0)+1,FALSE),IF(IFERROR(SEARCH(\"Oil\",$A$15),0)>0,VLOOKUP(\"Oil\",HVACg_Lookup,MATCH($F$13,BuildingSize,0)+1,FALSE),IF(IFERROR(SEARCH(\"Propane\",$A$15),0)>0,VLOOKUP(\"Propane\",HVACg_Lookup,MATCH(Worksheet!$F$13,BuildingSize,0)+1,FALSE),0)))","v":0},0,0,"",""]
[null,null,"",null,null,null,null,null,null,null,null,null,null,null,null,0,0,0,0,"",0,0,0,0,0,0,0,0,0,0,0,0,0,0,0,{"$f":"W411/1000*Y411*AA411*IF(IFERROR(SEARCH(\"Gas\",$A$15),0)>0,VLOOKUP(\"Gas\",HVACg_Lookup,MATCH($F$13,BuildingSize,0)+1,FALSE),IF(IFERROR(SEARCH(\"Oil\",$A$15),0)>0,VLOOKUP(\"Oil\",HVACg_Lookup,MATCH($F$13,BuildingSize,0)+1,FALSE),IF(IFERROR(SEARCH(\"Propane\",$A$15),0)>0,VLOOKUP(\"Propane\",HVACg_Lookup,MATCH(Worksheet!$F$13,BuildingSize,0)+1,FALSE),0)))","v":0},{"$f":"X411/1000*Y411*AA411*IF(IFERROR(SEARCH(\"Gas\",$A$15),0)>0,VLOOKUP(\"Gas\",HVACg_Lookup,MATCH($F$13,BuildingSize,0)+1,FALSE),IF(IFERROR(SEARCH(\"Oil\",$A$15),0)>0,VLOOKUP(\"Oil\",HVACg_Lookup,MATCH($F$13,BuildingSize,0)+1,FALSE),IF(IFERROR(SEARCH(\"Propane\",$A$15),0)>0,VLOOKUP(\"Propane\",HVACg_Lookup,MATCH(Worksheet!$F$13,BuildingSize,0)+1,FALSE),0)))","v":0},0,0,"",""]
[null,null,"",null,null,null,null,null,null,null,null,null,null,null,null,0,0,0,0,"",0,0,0,0,0,0,0,0,0,0,0,0,0,0,0,{"$f":"W412/1000*Y412*AA412*IF(IFERROR(SEARCH(\"Gas\",$A$15),0)>0,VLOOKUP(\"Gas\",HVACg_Lookup,MATCH($F$13,BuildingSize,0)+1,FALSE),IF(IFERROR(SEARCH(\"Oil\",$A$15),0)>0,VLOOKUP(\"Oil\",HVACg_Lookup,MATCH($F$13,BuildingSize,0)+1,FALSE),IF(IFERROR(SEARCH(\"Propane\",$A$15),0)>0,VLOOKUP(\"Propane\",HVACg_Lookup,MATCH(Worksheet!$F$13,BuildingSize,0)+1,FALSE),0)))","v":0},{"$f":"X412/1000*Y412*AA412*IF(IFERROR(SEARCH(\"Gas\",$A$15),0)>0,VLOOKUP(\"Gas\",HVACg_Lookup,MATCH($F$13,BuildingSize,0)+1,FALSE),IF(IFERROR(SEARCH(\"Oil\",$A$15),0)>0,VLOOKUP(\"Oil\",HVACg_Lookup,MATCH($F$13,BuildingSize,0)+1,FALSE),IF(IFERROR(SEARCH(\"Propane\",$A$15),0)>0,VLOOKUP(\"Propane\",HVACg_Lookup,MATCH(Worksheet!$F$13,BuildingSize,0)+1,FALSE),0)))","v":0},0,0,"",""]
[null,null,"",null,null,null,null,null,null,null,null,null,null,null,null,0,0,0,0,"",0,0,0,0,0,0,0,0,0,0,0,0,0,0,0,{"$f":"W413/1000*Y413*AA413*IF(IFERROR(SEARCH(\"Gas\",$A$15),0)>0,VLOOKUP(\"Gas\",HVACg_Lookup,MATCH($F$13,BuildingSize,0)+1,FALSE),IF(IFERROR(SEARCH(\"Oil\",$A$15),0)>0,VLOOKUP(\"Oil\",HVACg_Lookup,MATCH($F$13,BuildingSize,0)+1,FALSE),IF(IFERROR(SEARCH(\"Propane\",$A$15),0)>0,VLOOKUP(\"Propane\",HVACg_Lookup,MATCH(Worksheet!$F$13,BuildingSize,0)+1,FALSE),0)))","v":0},{"$f":"X413/1000*Y413*AA413*IF(IFERROR(SEARCH(\"Gas\",$A$15),0)>0,VLOOKUP(\"Gas\",HVACg_Lookup,MATCH($F$13,BuildingSize,0)+1,FALSE),IF(IFERROR(SEARCH(\"Oil\",$A$15),0)>0,VLOOKUP(\"Oil\",HVACg_Lookup,MATCH($F$13,BuildingSize,0)+1,FALSE),IF(IFERROR(SEARCH(\"Propane\",$A$15),0)>0,VLOOKUP(\"Propane\",HVACg_Lookup,MATCH(Worksheet!$F$13,BuildingSize,0)+1,FALSE),0)))","v":0},0,0,"",""]
[null,null,"",null,null,null,null,null,null,null,null,null,null,null,null,0,0,0,0,"",0,0,0,0,0,0,0,0,0,0,0,0,0,0,0,{"$f":"W414/1000*Y414*AA414*IF(IFERROR(SEARCH(\"Gas\",$A$15),0)>0,VLOOKUP(\"Gas\",HVACg_Lookup,MATCH($F$13,BuildingSize,0)+1,FALSE),IF(IFERROR(SEARCH(\"Oil\",$A$15),0)>0,VLOOKUP(\"Oil\",HVACg_Lookup,MATCH($F$13,BuildingSize,0)+1,FALSE),IF(IFERROR(SEARCH(\"Propane\",$A$15),0)>0,VLOOKUP(\"Propane\",HVACg_Lookup,MATCH(Worksheet!$F$13,BuildingSize,0)+1,FALSE),0)))","v":0},{"$f":"X414/1000*Y414*AA414*IF(IFERROR(SEARCH(\"Gas\",$A$15),0)>0,VLOOKUP(\"Gas\",HVACg_Lookup,MATCH($F$13,BuildingSize,0)+1,FALSE),IF(IFERROR(SEARCH(\"Oil\",$A$15),0)>0,VLOOKUP(\"Oil\",HVACg_Lookup,MATCH($F$13,BuildingSize,0)+1,FALSE),IF(IFERROR(SEARCH(\"Propane\",$A$15),0)>0,VLOOKUP(\"Propane\",HVACg_Lookup,MATCH(Worksheet!$F$13,BuildingSize,0)+1,FALSE),0)))","v":0},0,0,"",""]
[null,null,"",null,null,null,null,null,null,null,null,null,null,null,null,0,0,0,0,"",0,0,0,0,0,0,0,0,0,0,0,0,0,0,0,{"$f":"W415/1000*Y415*AA415*IF(IFERROR(SEARCH(\"Gas\",$A$15),0)>0,VLOOKUP(\"Gas\",HVACg_Lookup,MATCH($F$13,BuildingSize,0)+1,FALSE),IF(IFERROR(SEARCH(\"Oil\",$A$15),0)>0,VLOOKUP(\"Oil\",HVACg_Lookup,MATCH($F$13,BuildingSize,0)+1,FALSE),IF(IFERROR(SEARCH(\"Propane\",$A$15),0)>0,VLOOKUP(\"Propane\",HVACg_Lookup,MATCH(Worksheet!$F$13,BuildingSize,0)+1,FALSE),0)))","v":0},{"$f":"X415/1000*Y415*AA415*IF(IFERROR(SEARCH(\"Gas\",$A$15),0)>0,VLOOKUP(\"Gas\",HVACg_Lookup,MATCH($F$13,BuildingSize,0)+1,FALSE),IF(IFERROR(SEARCH(\"Oil\",$A$15),0)>0,VLOOKUP(\"Oil\",HVACg_Lookup,MATCH($F$13,BuildingSize,0)+1,FALSE),IF(IFERROR(SEARCH(\"Propane\",$A$15),0)>0,VLOOKUP(\"Propane\",HVACg_Lookup,MATCH(Worksheet!$F$13,BuildingSize,0)+1,FALSE),0)))","v":0},0,0,"",""]
[null,null,"",null,null,null,null,null,null,null,null,null,null,null,null,0,0,0,0,"",0,0,0,0,0,0,0,0,0,0,0,0,0,0,0,{"$f":"W416/1000*Y416*AA416*IF(IFERROR(SEARCH(\"Gas\",$A$15),0)>0,VLOOKUP(\"Gas\",HVACg_Lookup,MATCH($F$13,BuildingSize,0)+1,FALSE),IF(IFERROR(SEARCH(\"Oil\",$A$15),0)>0,VLOOKUP(\"Oil\",HVACg_Lookup,MATCH($F$13,BuildingSize,0)+1,FALSE),IF(IFERROR(SEARCH(\"Propane\",$A$15),0)>0,VLOOKUP(\"Propane\",HVACg_Lookup,MATCH(Worksheet!$F$13,BuildingSize,0)+1,FALSE),0)))","v":0},{"$f":"X416/1000*Y416*AA416*IF(IFERROR(SEARCH(\"Gas\",$A$15),0)>0,VLOOKUP(\"Gas\",HVACg_Lookup,MATCH($F$13,BuildingSize,0)+1,FALSE),IF(IFERROR(SEARCH(\"Oil\",$A$15),0)>0,VLOOKUP(\"Oil\",HVACg_Lookup,MATCH($F$13,BuildingSize,0)+1,FALSE),IF(IFERROR(SEARCH(\"Propane\",$A$15),0)>0,VLOOKUP(\"Propane\",HVACg_Lookup,MATCH(Worksheet!$F$13,BuildingSize,0)+1,FALSE),0)))","v":0},0,0,"",""]
[null,null,"",null,null,null,null,null,null,null,null,null,null,null,null,0,0,0,0,"",0,0,0,0,0,0,0,0,0,0,0,0,0,0,0,{"$f":"W417/1000*Y417*AA417*IF(IFERROR(SEARCH(\"Gas\",$A$15),0)>0,VLOOKUP(\"Gas\",HVACg_Lookup,MATCH($F$13,BuildingSize,0)+1,FALSE),IF(IFERROR(SEARCH(\"Oil\",$A$15),0)>0,VLOOKUP(\"Oil\",HVACg_Lookup,MATCH($F$13,BuildingSize,0)+1,FALSE),IF(IFERROR(SEARCH(\"Propane\",$A$15),0)>0,VLOOKUP(\"Propane\",HVACg_Lookup,MATCH(Worksheet!$F$13,BuildingSize,0)+1,FALSE),0)))","v":0},{"$f":"X417/1000*Y417*AA417*IF(IFERROR(SEARCH(\"Gas\",$A$15),0)>0,VLOOKUP(\"Gas\",HVACg_Lookup,MATCH($F$13,BuildingSize,0)+1,FALSE),IF(IFERROR(SEARCH(\"Oil\",$A$15),0)>0,VLOOKUP(\"Oil\",HVACg_Lookup,MATCH($F$13,BuildingSize,0)+1,FALSE),IF(IFERROR(SEARCH(\"Propane\",$A$15),0)>0,VLOOKUP(\"Propane\",HVACg_Lookup,MATCH(Worksheet!$F$13,BuildingSize,0)+1,FALSE),0)))","v":0},0,0,"",""]
[null,null,"",null,null,null,null,null,null,null,null,null,null,null,null,0,0,0,0,"",0,0,0,0,0,0,0,0,0,0,0,0,0,0,0,{"$f":"W418/1000*Y418*AA418*IF(IFERROR(SEARCH(\"Gas\",$A$15),0)>0,VLOOKUP(\"Gas\",HVACg_Lookup,MATCH($F$13,BuildingSize,0)+1,FALSE),IF(IFERROR(SEARCH(\"Oil\",$A$15),0)>0,VLOOKUP(\"Oil\",HVACg_Lookup,MATCH($F$13,BuildingSize,0)+1,FALSE),IF(IFERROR(SEARCH(\"Propane\",$A$15),0)>0,VLOOKUP(\"Propane\",HVACg_Lookup,MATCH(Worksheet!$F$13,BuildingSize,0)+1,FALSE),0)))","v":0},{"$f":"X418/1000*Y418*AA418*IF(IFERROR(SEARCH(\"Gas\",$A$15),0)>0,VLOOKUP(\"Gas\",HVACg_Lookup,MATCH($F$13,BuildingSize,0)+1,FALSE),IF(IFERROR(SEARCH(\"Oil\",$A$15),0)>0,VLOOKUP(\"Oil\",HVACg_Lookup,MATCH($F$13,BuildingSize,0)+1,FALSE),IF(IFERROR(SEARCH(\"Propane\",$A$15),0)>0,VLOOKUP(\"Propane\",HVACg_Lookup,MATCH(Worksheet!$F$13,BuildingSize,0)+1,FALSE),0)))","v":0},0,0,"",""]
[null,null,"",null,null,null,null,null,null,null,null,null,null,null,null,0,0,0,0,"",0,0,0,0,0,0,0,0,0,0,0,0,0,0,0,{"$f":"W419/1000*Y419*AA419*IF(IFERROR(SEARCH(\"Gas\",$A$15),0)>0,VLOOKUP(\"Gas\",HVACg_Lookup,MATCH($F$13,BuildingSize,0)+1,FALSE),IF(IFERROR(SEARCH(\"Oil\",$A$15),0)>0,VLOOKUP(\"Oil\",HVACg_Lookup,MATCH($F$13,BuildingSize,0)+1,FALSE),IF(IFERROR(SEARCH(\"Propane\",$A$15),0)>0,VLOOKUP(\"Propane\",HVACg_Lookup,MATCH(Worksheet!$F$13,BuildingSize,0)+1,FALSE),0)))","v":0},{"$f":"X419/1000*Y419*AA419*IF(IFERROR(SEARCH(\"Gas\",$A$15),0)>0,VLOOKUP(\"Gas\",HVACg_Lookup,MATCH($F$13,BuildingSize,0)+1,FALSE),IF(IFERROR(SEARCH(\"Oil\",$A$15),0)>0,VLOOKUP(\"Oil\",HVACg_Lookup,MATCH($F$13,BuildingSize,0)+1,FALSE),IF(IFERROR(SEARCH(\"Propane\",$A$15),0)>0,VLOOKUP(\"Propane\",HVACg_Lookup,MATCH(Worksheet!$F$13,BuildingSize,0)+1,FALSE),0)))","v":0},0,0,"",""]
[null,null,"",null,null,null,null,null,null,null,null,null,null,null,null,0,0,0,0,"",0,0,0,0,0,0,0,0,0,0,0,0,0,0,0,{"$f":"W420/1000*Y420*AA420*IF(IFERROR(SEARCH(\"Gas\",$A$15),0)>0,VLOOKUP(\"Gas\",HVACg_Lookup,MATCH($F$13,BuildingSize,0)+1,FALSE),IF(IFERROR(SEARCH(\"Oil\",$A$15),0)>0,VLOOKUP(\"Oil\",HVACg_Lookup,MATCH($F$13,BuildingSize,0)+1,FALSE),IF(IFERROR(SEARCH(\"Propane\",$A$15),0)>0,VLOOKUP(\"Propane\",HVACg_Lookup,MATCH(Worksheet!$F$13,BuildingSize,0)+1,FALSE),0)))","v":0},{"$f":"X420/1000*Y420*AA420*IF(IFERROR(SEARCH(\"Gas\",$A$15),0)>0,VLOOKUP(\"Gas\",HVACg_Lookup,MATCH($F$13,BuildingSize,0)+1,FALSE),IF(IFERROR(SEARCH(\"Oil\",$A$15),0)>0,VLOOKUP(\"Oil\",HVACg_Lookup,MATCH($F$13,BuildingSize,0)+1,FALSE),IF(IFERROR(SEARCH(\"Propane\",$A$15),0)>0,VLOOKUP(\"Propane\",HVACg_Lookup,MATCH(Worksheet!$F$13,BuildingSize,0)+1,FALSE),0)))","v":0},0,0,"",""]
[null,null,"",null,null,null,null,null,null,null,null,null,null,null,null,0,0,0,0,"",0,0,0,0,0,0,0,0,0,0,0,0,0,0,0,{"$f":"W421/1000*Y421*AA421*IF(IFERROR(SEARCH(\"Gas\",$A$15),0)>0,VLOOKUP(\"Gas\",HVACg_Lookup,MATCH($F$13,BuildingSize,0)+1,FALSE),IF(IFERROR(SEARCH(\"Oil\",$A$15),0)>0,VLOOKUP(\"Oil\",HVACg_Lookup,MATCH($F$13,BuildingSize,0)+1,FALSE),IF(IFERROR(SEARCH(\"Propane\",$A$15),0)>0,VLOOKUP(\"Propane\",HVACg_Lookup,MATCH(Worksheet!$F$13,BuildingSize,0)+1,FALSE),0)))","v":0},{"$f":"X421/1000*Y421*AA421*IF(IFERROR(SEARCH(\"Gas\",$A$15),0)>0,VLOOKUP(\"Gas\",HVACg_Lookup,MATCH($F$13,BuildingSize,0)+1,FALSE),IF(IFERROR(SEARCH(\"Oil\",$A$15),0)>0,VLOOKUP(\"Oil\",HVACg_Lookup,MATCH($F$13,BuildingSize,0)+1,FALSE),IF(IFERROR(SEARCH(\"Propane\",$A$15),0)>0,VLOOKUP(\"Propane\",HVACg_Lookup,MATCH(Worksheet!$F$13,BuildingSize,0)+1,FALSE),0)))","v":0},0,0,"",""]
[null,null,"",null,null,null,null,null,null,null,null,null,null,null,null,0,0,0,0,"",0,0,0,0,0,0,0,0,0,0,0,0,0,0,0,{"$f":"W422/1000*Y422*AA422*IF(IFERROR(SEARCH(\"Gas\",$A$15),0)>0,VLOOKUP(\"Gas\",HVACg_Lookup,MATCH($F$13,BuildingSize,0)+1,FALSE),IF(IFERROR(SEARCH(\"Oil\",$A$15),0)>0,VLOOKUP(\"Oil\",HVACg_Lookup,MATCH($F$13,BuildingSize,0)+1,FALSE),IF(IFERROR(SEARCH(\"Propane\",$A$15),0)>0,VLOOKUP(\"Propane\",HVACg_Lookup,MATCH(Worksheet!$F$13,BuildingSize,0)+1,FALSE),0)))","v":0},{"$f":"X422/1000*Y422*AA422*IF(IFERROR(SEARCH(\"Gas\",$A$15),0)>0,VLOOKUP(\"Gas\",HVACg_Lookup,MATCH($F$13,BuildingSize,0)+1,FALSE),IF(IFERROR(SEARCH(\"Oil\",$A$15),0)>0,VLOOKUP(\"Oil\",HVACg_Lookup,MATCH($F$13,BuildingSize,0)+1,FALSE),IF(IFERROR(SEARCH(\"Propane\",$A$15),0)>0,VLOOKUP(\"Propane\",HVACg_Lookup,MATCH(Worksheet!$F$13,BuildingSize,0)+1,FALSE),0)))","v":0},0,0,"",""]
[null,null,"",null,null,null,null,null,null,null,null,null,null,null,null,0,0,0,0,"",0,0,0,0,0,0,0,0,0,0,0,0,0,0,0,{"$f":"W423/1000*Y423*AA423*IF(IFERROR(SEARCH(\"Gas\",$A$15),0)>0,VLOOKUP(\"Gas\",HVACg_Lookup,MATCH($F$13,BuildingSize,0)+1,FALSE),IF(IFERROR(SEARCH(\"Oil\",$A$15),0)>0,VLOOKUP(\"Oil\",HVACg_Lookup,MATCH($F$13,BuildingSize,0)+1,FALSE),IF(IFERROR(SEARCH(\"Propane\",$A$15),0)>0,VLOOKUP(\"Propane\",HVACg_Lookup,MATCH(Worksheet!$F$13,BuildingSize,0)+1,FALSE),0)))","v":0},{"$f":"X423/1000*Y423*AA423*IF(IFERROR(SEARCH(\"Gas\",$A$15),0)>0,VLOOKUP(\"Gas\",HVACg_Lookup,MATCH($F$13,BuildingSize,0)+1,FALSE),IF(IFERROR(SEARCH(\"Oil\",$A$15),0)>0,VLOOKUP(\"Oil\",HVACg_Lookup,MATCH($F$13,BuildingSize,0)+1,FALSE),IF(IFERROR(SEARCH(\"Propane\",$A$15),0)>0,VLOOKUP(\"Propane\",HVACg_Lookup,MATCH(Worksheet!$F$13,BuildingSize,0)+1,FALSE),0)))","v":0},0,0,"",""]
[null,null,"",null,null,null,null,null,null,null,null,null,null,null,null,0,0,0,0,"",0,0,0,0,0,0,0,0,0,0,0,0,0,0,0,{"$f":"W424/1000*Y424*AA424*IF(IFERROR(SEARCH(\"Gas\",$A$15),0)>0,VLOOKUP(\"Gas\",HVACg_Lookup,MATCH($F$13,BuildingSize,0)+1,FALSE),IF(IFERROR(SEARCH(\"Oil\",$A$15),0)>0,VLOOKUP(\"Oil\",HVACg_Lookup,MATCH($F$13,BuildingSize,0)+1,FALSE),IF(IFERROR(SEARCH(\"Propane\",$A$15),0)>0,VLOOKUP(\"Propane\",HVACg_Lookup,MATCH(Worksheet!$F$13,BuildingSize,0)+1,FALSE),0)))","v":0},{"$f":"X424/1000*Y424*AA424*IF(IFERROR(SEARCH(\"Gas\",$A$15),0)>0,VLOOKUP(\"Gas\",HVACg_Lookup,MATCH($F$13,BuildingSize,0)+1,FALSE),IF(IFERROR(SEARCH(\"Oil\",$A$15),0)>0,VLOOKUP(\"Oil\",HVACg_Lookup,MATCH($F$13,BuildingSize,0)+1,FALSE),IF(IFERROR(SEARCH(\"Propane\",$A$15),0)>0,VLOOKUP(\"Propane\",HVACg_Lookup,MATCH(Worksheet!$F$13,BuildingSize,0)+1,FALSE),0)))","v":0},0,0,"",""]
[null,null,"",null,null,null,null,null,null,null,null,null,null,null,null,0,0,0,0,"",0,0,0,0,0,0,0,0,0,0,0,0,0,0,0,{"$f":"W425/1000*Y425*AA425*IF(IFERROR(SEARCH(\"Gas\",$A$15),0)>0,VLOOKUP(\"Gas\",HVACg_Lookup,MATCH($F$13,BuildingSize,0)+1,FALSE),IF(IFERROR(SEARCH(\"Oil\",$A$15),0)>0,VLOOKUP(\"Oil\",HVACg_Lookup,MATCH($F$13,BuildingSize,0)+1,FALSE),IF(IFERROR(SEARCH(\"Propane\",$A$15),0)>0,VLOOKUP(\"Propane\",HVACg_Lookup,MATCH(Worksheet!$F$13,BuildingSize,0)+1,FALSE),0)))","v":0},{"$f":"X425/1000*Y425*AA425*IF(IFERROR(SEARCH(\"Gas\",$A$15),0)>0,VLOOKUP(\"Gas\",HVACg_Lookup,MATCH($F$13,BuildingSize,0)+1,FALSE),IF(IFERROR(SEARCH(\"Oil\",$A$15),0)>0,VLOOKUP(\"Oil\",HVACg_Lookup,MATCH($F$13,BuildingSize,0)+1,FALSE),IF(IFERROR(SEARCH(\"Propane\",$A$15),0)>0,VLOOKUP(\"Propane\",HVACg_Lookup,MATCH(Worksheet!$F$13,BuildingSize,0)+1,FALSE),0)))","v":0},0,0,"",""]
[null,null,"",null,null,null,null,null,null,null,null,null,null,null,null,0,0,0,0,"",0,0,0,0,0,0,0,0,0,0,0,0,0,0,0,{"$f":"W426/1000*Y426*AA426*IF(IFERROR(SEARCH(\"Gas\",$A$15),0)>0,VLOOKUP(\"Gas\",HVACg_Lookup,MATCH($F$13,BuildingSize,0)+1,FALSE),IF(IFERROR(SEARCH(\"Oil\",$A$15),0)>0,VLOOKUP(\"Oil\",HVACg_Lookup,MATCH($F$13,BuildingSize,0)+1,FALSE),IF(IFERROR(SEARCH(\"Propane\",$A$15),0)>0,VLOOKUP(\"Propane\",HVACg_Lookup,MATCH(Worksheet!$F$13,BuildingSize,0)+1,FALSE),0)))","v":0},{"$f":"X426/1000*Y426*AA426*IF(IFERROR(SEARCH(\"Gas\",$A$15),0)>0,VLOOKUP(\"Gas\",HVACg_Lookup,MATCH($F$13,BuildingSize,0)+1,FALSE),IF(IFERROR(SEARCH(\"Oil\",$A$15),0)>0,VLOOKUP(\"Oil\",HVACg_Lookup,MATCH($F$13,BuildingSize,0)+1,FALSE),IF(IFERROR(SEARCH(\"Propane\",$A$15),0)>0,VLOOKUP(\"Propane\",HVACg_Lookup,MATCH(Worksheet!$F$13,BuildingSize,0)+1,FALSE),0)))","v":0},0,0,"",""]
[null,null,"",null,null,null,null,null,null,null,null,null,null,null,null,0,0,0,0,"",0,0,0,0,0,0,0,0,0,0,0,0,0,0,0,{"$f":"W427/1000*Y427*AA427*IF(IFERROR(SEARCH(\"Gas\",$A$15),0)>0,VLOOKUP(\"Gas\",HVACg_Lookup,MATCH($F$13,BuildingSize,0)+1,FALSE),IF(IFERROR(SEARCH(\"Oil\",$A$15),0)>0,VLOOKUP(\"Oil\",HVACg_Lookup,MATCH($F$13,BuildingSize,0)+1,FALSE),IF(IFERROR(SEARCH(\"Propane\",$A$15),0)>0,VLOOKUP(\"Propane\",HVACg_Lookup,MATCH(Worksheet!$F$13,BuildingSize,0)+1,FALSE),0)))","v":0},{"$f":"X427/1000*Y427*AA427*IF(IFERROR(SEARCH(\"Gas\",$A$15),0)>0,VLOOKUP(\"Gas\",HVACg_Lookup,MATCH($F$13,BuildingSize,0)+1,FALSE),IF(IFERROR(SEARCH(\"Oil\",$A$15),0)>0,VLOOKUP(\"Oil\",HVACg_Lookup,MATCH($F$13,BuildingSize,0)+1,FALSE),IF(IFERROR(SEARCH(\"Propane\",$A$15),0)>0,VLOOKUP(\"Propane\",HVACg_Lookup,MATCH(Worksheet!$F$13,BuildingSize,0)+1,FALSE),0)))","v":0},0,0,"",""]
[null,null,"",null,null,null,null,null,null,null,null,null,null,null,null,0,0,0,0,"",0,0,0,0,0,0,0,0,0,0,0,0,0,0,0,{"$f":"W428/1000*Y428*AA428*IF(IFERROR(SEARCH(\"Gas\",$A$15),0)>0,VLOOKUP(\"Gas\",HVACg_Lookup,MATCH($F$13,BuildingSize,0)+1,FALSE),IF(IFERROR(SEARCH(\"Oil\",$A$15),0)>0,VLOOKUP(\"Oil\",HVACg_Lookup,MATCH($F$13,BuildingSize,0)+1,FALSE),IF(IFERROR(SEARCH(\"Propane\",$A$15),0)>0,VLOOKUP(\"Propane\",HVACg_Lookup,MATCH(Worksheet!$F$13,BuildingSize,0)+1,FALSE),0)))","v":0},{"$f":"X428/1000*Y428*AA428*IF(IFERROR(SEARCH(\"Gas\",$A$15),0)>0,VLOOKUP(\"Gas\",HVACg_Lookup,MATCH($F$13,BuildingSize,0)+1,FALSE),IF(IFERROR(SEARCH(\"Oil\",$A$15),0)>0,VLOOKUP(\"Oil\",HVACg_Lookup,MATCH($F$13,BuildingSize,0)+1,FALSE),IF(IFERROR(SEARCH(\"Propane\",$A$15),0)>0,VLOOKUP(\"Propane\",HVACg_Lookup,MATCH(Worksheet!$F$13,BuildingSize,0)+1,FALSE),0)))","v":0},0,0,"",""]
[null,null,"",null,null,null,null,null,null,null,null,null,null,null,null,0,0,0,0,"",0,0,0,0,0,0,0,0,0,0,0,0,0,0,0,{"$f":"W429/1000*Y429*AA429*IF(IFERROR(SEARCH(\"Gas\",$A$15),0)>0,VLOOKUP(\"Gas\",HVACg_Lookup,MATCH($F$13,BuildingSize,0)+1,FALSE),IF(IFERROR(SEARCH(\"Oil\",$A$15),0)>0,VLOOKUP(\"Oil\",HVACg_Lookup,MATCH($F$13,BuildingSize,0)+1,FALSE),IF(IFERROR(SEARCH(\"Propane\",$A$15),0)>0,VLOOKUP(\"Propane\",HVACg_Lookup,MATCH(Worksheet!$F$13,BuildingSize,0)+1,FALSE),0)))","v":0},{"$f":"X429/1000*Y429*AA429*IF(IFERROR(SEARCH(\"Gas\",$A$15),0)>0,VLOOKUP(\"Gas\",HVACg_Lookup,MATCH($F$13,BuildingSize,0)+1,FALSE),IF(IFERROR(SEARCH(\"Oil\",$A$15),0)>0,VLOOKUP(\"Oil\",HVACg_Lookup,MATCH($F$13,BuildingSize,0)+1,FALSE),IF(IFERROR(SEARCH(\"Propane\",$A$15),0)>0,VLOOKUP(\"Propane\",HVACg_Lookup,MATCH(Worksheet!$F$13,BuildingSize,0)+1,FALSE),0)))","v":0},0,0,"",""]
[null,null,"",null,null,null,null,null,null,null,null,null,null,null,null,0,0,0,0,"",0,0,0,0,0,0,0,0,0,0,0,0,0,0,0,{"$f":"W430/1000*Y430*AA430*IF(IFERROR(SEARCH(\"Gas\",$A$15),0)>0,VLOOKUP(\"Gas\",HVACg_Lookup,MATCH($F$13,BuildingSize,0)+1,FALSE),IF(IFERROR(SEARCH(\"Oil\",$A$15),0)>0,VLOOKUP(\"Oil\",HVACg_Lookup,MATCH($F$13,BuildingSize,0)+1,FALSE),IF(IFERROR(SEARCH(\"Propane\",$A$15),0)>0,VLOOKUP(\"Propane\",HVACg_Lookup,MATCH(Worksheet!$F$13,BuildingSize,0)+1,FALSE),0)))","v":0},{"$f":"X430/1000*Y430*AA430*IF(IFERROR(SEARCH(\"Gas\",$A$15),0)>0,VLOOKUP(\"Gas\",HVACg_Lookup,MATCH($F$13,BuildingSize,0)+1,FALSE),IF(IFERROR(SEARCH(\"Oil\",$A$15),0)>0,VLOOKUP(\"Oil\",HVACg_Lookup,MATCH($F$13,BuildingSize,0)+1,FALSE),IF(IFERROR(SEARCH(\"Propane\",$A$15),0)>0,VLOOKUP(\"Propane\",HVACg_Lookup,MATCH(Worksheet!$F$13,BuildingSize,0)+1,FALSE),0)))","v":0},0,0,"",""]
[null,null,"",null,null,null,null,null,null,null,null,null,null,null,null,0,0,0,0,"",0,0,0,0,0,0,0,0,0,0,0,0,0,0,0,{"$f":"W431/1000*Y431*AA431*IF(IFERROR(SEARCH(\"Gas\",$A$15),0)>0,VLOOKUP(\"Gas\",HVACg_Lookup,MATCH($F$13,BuildingSize,0)+1,FALSE),IF(IFERROR(SEARCH(\"Oil\",$A$15),0)>0,VLOOKUP(\"Oil\",HVACg_Lookup,MATCH($F$13,BuildingSize,0)+1,FALSE),IF(IFERROR(SEARCH(\"Propane\",$A$15),0)>0,VLOOKUP(\"Propane\",HVACg_Lookup,MATCH(Worksheet!$F$13,BuildingSize,0)+1,FALSE),0)))","v":0},{"$f":"X431/1000*Y431*AA431*IF(IFERROR(SEARCH(\"Gas\",$A$15),0)>0,VLOOKUP(\"Gas\",HVACg_Lookup,MATCH($F$13,BuildingSize,0)+1,FALSE),IF(IFERROR(SEARCH(\"Oil\",$A$15),0)>0,VLOOKUP(\"Oil\",HVACg_Lookup,MATCH($F$13,BuildingSize,0)+1,FALSE),IF(IFERROR(SEARCH(\"Propane\",$A$15),0)>0,VLOOKUP(\"Propane\",HVACg_Lookup,MATCH(Worksheet!$F$13,BuildingSize,0)+1,FALSE),0)))","v":0},0,0,"",""]
[null,null,"",null,null,null,null,null,null,null,null,null,null,null,null,0,0,0,0,"",0,0,0,0,0,0,0,0,0,0,0,0,0,0,0,{"$f":"W432/1000*Y432*AA432*IF(IFERROR(SEARCH(\"Gas\",$A$15),0)>0,VLOOKUP(\"Gas\",HVACg_Lookup,MATCH($F$13,BuildingSize,0)+1,FALSE),IF(IFERROR(SEARCH(\"Oil\",$A$15),0)>0,VLOOKUP(\"Oil\",HVACg_Lookup,MATCH($F$13,BuildingSize,0)+1,FALSE),IF(IFERROR(SEARCH(\"Propane\",$A$15),0)>0,VLOOKUP(\"Propane\",HVACg_Lookup,MATCH(Worksheet!$F$13,BuildingSize,0)+1,FALSE),0)))","v":0},{"$f":"X432/1000*Y432*AA432*IF(IFERROR(SEARCH(\"Gas\",$A$15),0)>0,VLOOKUP(\"Gas\",HVACg_Lookup,MATCH($F$13,BuildingSize,0)+1,FALSE),IF(IFERROR(SEARCH(\"Oil\",$A$15),0)>0,VLOOKUP(\"Oil\",HVACg_Lookup,MATCH($F$13,BuildingSize,0)+1,FALSE),IF(IFERROR(SEARCH(\"Propane\",$A$15),0)>0,VLOOKUP(\"Propane\",HVACg_Lookup,MATCH(Worksheet!$F$13,BuildingSize,0)+1,FALSE),0)))","v":0},0,0,"",""]
[null,null,"",null,null,null,null,null,null,null,null,null,null,null,null,0,0,0,0,"",0,0,0,0,0,0,0,0,0,0,0,0,0,0,0,{"$f":"W433/1000*Y433*AA433*IF(IFERROR(SEARCH(\"Gas\",$A$15),0)>0,VLOOKUP(\"Gas\",HVACg_Lookup,MATCH($F$13,BuildingSize,0)+1,FALSE),IF(IFERROR(SEARCH(\"Oil\",$A$15),0)>0,VLOOKUP(\"Oil\",HVACg_Lookup,MATCH($F$13,BuildingSize,0)+1,FALSE),IF(IFERROR(SEARCH(\"Propane\",$A$15),0)>0,VLOOKUP(\"Propane\",HVACg_Lookup,MATCH(Worksheet!$F$13,BuildingSize,0)+1,FALSE),0)))","v":0},{"$f":"X433/1000*Y433*AA433*IF(IFERROR(SEARCH(\"Gas\",$A$15),0)>0,VLOOKUP(\"Gas\",HVACg_Lookup,MATCH($F$13,BuildingSize,0)+1,FALSE),IF(IFERROR(SEARCH(\"Oil\",$A$15),0)>0,VLOOKUP(\"Oil\",HVACg_Lookup,MATCH($F$13,BuildingSize,0)+1,FALSE),IF(IFERROR(SEARCH(\"Propane\",$A$15),0)>0,VLOOKUP(\"Propane\",HVACg_Lookup,MATCH(Worksheet!$F$13,BuildingSize,0)+1,FALSE),0)))","v":0},0,0,"",""]
[null,null,"",null,null,null,null,null,null,null,null,null,null,null,null,0,0,0,0,"",0,0,0,0,0,0,0,0,0,0,0,0,0,0,0,{"$f":"W434/1000*Y434*AA434*IF(IFERROR(SEARCH(\"Gas\",$A$15),0)>0,VLOOKUP(\"Gas\",HVACg_Lookup,MATCH($F$13,BuildingSize,0)+1,FALSE),IF(IFERROR(SEARCH(\"Oil\",$A$15),0)>0,VLOOKUP(\"Oil\",HVACg_Lookup,MATCH($F$13,BuildingSize,0)+1,FALSE),IF(IFERROR(SEARCH(\"Propane\",$A$15),0)>0,VLOOKUP(\"Propane\",HVACg_Lookup,MATCH(Worksheet!$F$13,BuildingSize,0)+1,FALSE),0)))","v":0},{"$f":"X434/1000*Y434*AA434*IF(IFERROR(SEARCH(\"Gas\",$A$15),0)>0,VLOOKUP(\"Gas\",HVACg_Lookup,MATCH($F$13,BuildingSize,0)+1,FALSE),IF(IFERROR(SEARCH(\"Oil\",$A$15),0)>0,VLOOKUP(\"Oil\",HVACg_Lookup,MATCH($F$13,BuildingSize,0)+1,FALSE),IF(IFERROR(SEARCH(\"Propane\",$A$15),0)>0,VLOOKUP(\"Propane\",HVACg_Lookup,MATCH(Worksheet!$F$13,BuildingSize,0)+1,FALSE),0)))","v":0},0,0,"",""]
[null,null,"",null,null,null,null,null,null,null,null,null,null,null,null,0,0,0,0,"",0,0,0,0,0,0,0,0,0,0,0,0,0,0,0,{"$f":"W435/1000*Y435*AA435*IF(IFERROR(SEARCH(\"Gas\",$A$15),0)>0,VLOOKUP(\"Gas\",HVACg_Lookup,MATCH($F$13,BuildingSize,0)+1,FALSE),IF(IFERROR(SEARCH(\"Oil\",$A$15),0)>0,VLOOKUP(\"Oil\",HVACg_Lookup,MATCH($F$13,BuildingSize,0)+1,FALSE),IF(IFERROR(SEARCH(\"Propane\",$A$15),0)>0,VLOOKUP(\"Propane\",HVACg_Lookup,MATCH(Worksheet!$F$13,BuildingSize,0)+1,FALSE),0)))","v":0},{"$f":"X435/1000*Y435*AA435*IF(IFERROR(SEARCH(\"Gas\",$A$15),0)>0,VLOOKUP(\"Gas\",HVACg_Lookup,MATCH($F$13,BuildingSize,0)+1,FALSE),IF(IFERROR(SEARCH(\"Oil\",$A$15),0)>0,VLOOKUP(\"Oil\",HVACg_Lookup,MATCH($F$13,BuildingSize,0)+1,FALSE),IF(IFERROR(SEARCH(\"Propane\",$A$15),0)>0,VLOOKUP(\"Propane\",HVACg_Lookup,MATCH(Worksheet!$F$13,BuildingSize,0)+1,FALSE),0)))","v":0},0,0,"",""]
[null,null,"",null,null,null,null,null,null,null,null,null,null,null,null,0,0,0,0,"",0,0,0,0,0,0,0,0,0,0,0,0,0,0,0,{"$f":"W436/1000*Y436*AA436*IF(IFERROR(SEARCH(\"Gas\",$A$15),0)>0,VLOOKUP(\"Gas\",HVACg_Lookup,MATCH($F$13,BuildingSize,0)+1,FALSE),IF(IFERROR(SEARCH(\"Oil\",$A$15),0)>0,VLOOKUP(\"Oil\",HVACg_Lookup,MATCH($F$13,BuildingSize,0)+1,FALSE),IF(IFERROR(SEARCH(\"Propane\",$A$15),0)>0,VLOOKUP(\"Propane\",HVACg_Lookup,MATCH(Worksheet!$F$13,BuildingSize,0)+1,FALSE),0)))","v":0},{"$f":"X436/1000*Y436*AA436*IF(IFERROR(SEARCH(\"Gas\",$A$15),0)>0,VLOOKUP(\"Gas\",HVACg_Lookup,MATCH($F$13,BuildingSize,0)+1,FALSE),IF(IFERROR(SEARCH(\"Oil\",$A$15),0)>0,VLOOKUP(\"Oil\",HVACg_Lookup,MATCH($F$13,BuildingSize,0)+1,FALSE),IF(IFERROR(SEARCH(\"Propane\",$A$15),0)>0,VLOOKUP(\"Propane\",HVACg_Lookup,MATCH(Worksheet!$F$13,BuildingSize,0)+1,FALSE),0)))","v":0},0,0,"",""]
[null,null,"",null,null,null,null,null,null,null,null,null,null,null,null,0,0,0,0,"",0,0,0,0,0,0,0,0,0,0,0,0,0,0,0,{"$f":"W437/1000*Y437*AA437*IF(IFERROR(SEARCH(\"Gas\",$A$15),0)>0,VLOOKUP(\"Gas\",HVACg_Lookup,MATCH($F$13,BuildingSize,0)+1,FALSE),IF(IFERROR(SEARCH(\"Oil\",$A$15),0)>0,VLOOKUP(\"Oil\",HVACg_Lookup,MATCH($F$13,BuildingSize,0)+1,FALSE),IF(IFERROR(SEARCH(\"Propane\",$A$15),0)>0,VLOOKUP(\"Propane\",HVACg_Lookup,MATCH(Worksheet!$F$13,BuildingSize,0)+1,FALSE),0)))","v":0},{"$f":"X437/1000*Y437*AA437*IF(IFERROR(SEARCH(\"Gas\",$A$15),0)>0,VLOOKUP(\"Gas\",HVACg_Lookup,MATCH($F$13,BuildingSize,0)+1,FALSE),IF(IFERROR(SEARCH(\"Oil\",$A$15),0)>0,VLOOKUP(\"Oil\",HVACg_Lookup,MATCH($F$13,BuildingSize,0)+1,FALSE),IF(IFERROR(SEARCH(\"Propane\",$A$15),0)>0,VLOOKUP(\"Propane\",HVACg_Lookup,MATCH(Worksheet!$F$13,BuildingSize,0)+1,FALSE),0)))","v":0},0,0,"",""]
[null,null,"",null,null,null,null,null,null,null,null,null,null,null,null,0,0,0,0,"",0,0,0,0,0,0,0,0,0,0,0,0,0,0,0,{"$f":"W438/1000*Y438*AA438*IF(IFERROR(SEARCH(\"Gas\",$A$15),0)>0,VLOOKUP(\"Gas\",HVACg_Lookup,MATCH($F$13,BuildingSize,0)+1,FALSE),IF(IFERROR(SEARCH(\"Oil\",$A$15),0)>0,VLOOKUP(\"Oil\",HVACg_Lookup,MATCH($F$13,BuildingSize,0)+1,FALSE),IF(IFERROR(SEARCH(\"Propane\",$A$15),0)>0,VLOOKUP(\"Propane\",HVACg_Lookup,MATCH(Worksheet!$F$13,BuildingSize,0)+1,FALSE),0)))","v":0},{"$f":"X438/1000*Y438*AA438*IF(IFERROR(SEARCH(\"Gas\",$A$15),0)>0,VLOOKUP(\"Gas\",HVACg_Lookup,MATCH($F$13,BuildingSize,0)+1,FALSE),IF(IFERROR(SEARCH(\"Oil\",$A$15),0)>0,VLOOKUP(\"Oil\",HVACg_Lookup,MATCH($F$13,BuildingSize,0)+1,FALSE),IF(IFERROR(SEARCH(\"Propane\",$A$15),0)>0,VLOOKUP(\"Propane\",HVACg_Lookup,MATCH(Worksheet!$F$13,BuildingSize,0)+1,FALSE),0)))","v":0},0,0,"",""]
[null,null,"",null,null,null,null,null,null,null,null,null,null,null,null,0,0,0,0,"",0,0,0,0,0,0,0,0,0,0,0,0,0,0,0,{"$f":"W439/1000*Y439*AA439*IF(IFERROR(SEARCH(\"Gas\",$A$15),0)>0,VLOOKUP(\"Gas\",HVACg_Lookup,MATCH($F$13,BuildingSize,0)+1,FALSE),IF(IFERROR(SEARCH(\"Oil\",$A$15),0)>0,VLOOKUP(\"Oil\",HVACg_Lookup,MATCH($F$13,BuildingSize,0)+1,FALSE),IF(IFERROR(SEARCH(\"Propane\",$A$15),0)>0,VLOOKUP(\"Propane\",HVACg_Lookup,MATCH(Worksheet!$F$13,BuildingSize,0)+1,FALSE),0)))","v":0},{"$f":"X439/1000*Y439*AA439*IF(IFERROR(SEARCH(\"Gas\",$A$15),0)>0,VLOOKUP(\"Gas\",HVACg_Lookup,MATCH($F$13,BuildingSize,0)+1,FALSE),IF(IFERROR(SEARCH(\"Oil\",$A$15),0)>0,VLOOKUP(\"Oil\",HVACg_Lookup,MATCH($F$13,BuildingSize,0)+1,FALSE),IF(IFERROR(SEARCH(\"Propane\",$A$15),0)>0,VLOOKUP(\"Propane\",HVACg_Lookup,MATCH(Worksheet!$F$13,BuildingSize,0)+1,FALSE),0)))","v":0},0,0,"",""]
[null,null,"",null,null,null,null,null,null,null,null,null,null,null,null,0,0,0,0,"",0,0,0,0,0,0,0,0,0,0,0,0,0,0,0,{"$f":"W440/1000*Y440*AA440*IF(IFERROR(SEARCH(\"Gas\",$A$15),0)>0,VLOOKUP(\"Gas\",HVACg_Lookup,MATCH($F$13,BuildingSize,0)+1,FALSE),IF(IFERROR(SEARCH(\"Oil\",$A$15),0)>0,VLOOKUP(\"Oil\",HVACg_Lookup,MATCH($F$13,BuildingSize,0)+1,FALSE),IF(IFERROR(SEARCH(\"Propane\",$A$15),0)>0,VLOOKUP(\"Propane\",HVACg_Lookup,MATCH(Worksheet!$F$13,BuildingSize,0)+1,FALSE),0)))","v":0},{"$f":"X440/1000*Y440*AA440*IF(IFERROR(SEARCH(\"Gas\",$A$15),0)>0,VLOOKUP(\"Gas\",HVACg_Lookup,MATCH($F$13,BuildingSize,0)+1,FALSE),IF(IFERROR(SEARCH(\"Oil\",$A$15),0)>0,VLOOKUP(\"Oil\",HVACg_Lookup,MATCH($F$13,BuildingSize,0)+1,FALSE),IF(IFERROR(SEARCH(\"Propane\",$A$15),0)>0,VLOOKUP(\"Propane\",HVACg_Lookup,MATCH(Worksheet!$F$13,BuildingSize,0)+1,FALSE),0)))","v":0},0,0,"",""]
[null,null,"",null,null,null,null,null,null,null,null,null,null,null,null,0,0,0,0,"",0,0,0,0,0,0,0,0,0,0,0,0,0,0,0,{"$f":"W441/1000*Y441*AA441*IF(IFERROR(SEARCH(\"Gas\",$A$15),0)>0,VLOOKUP(\"Gas\",HVACg_Lookup,MATCH($F$13,BuildingSize,0)+1,FALSE),IF(IFERROR(SEARCH(\"Oil\",$A$15),0)>0,VLOOKUP(\"Oil\",HVACg_Lookup,MATCH($F$13,BuildingSize,0)+1,FALSE),IF(IFERROR(SEARCH(\"Propane\",$A$15),0)>0,VLOOKUP(\"Propane\",HVACg_Lookup,MATCH(Worksheet!$F$13,BuildingSize,0)+1,FALSE),0)))","v":0},{"$f":"X441/1000*Y441*AA441*IF(IFERROR(SEARCH(\"Gas\",$A$15),0)>0,VLOOKUP(\"Gas\",HVACg_Lookup,MATCH($F$13,BuildingSize,0)+1,FALSE),IF(IFERROR(SEARCH(\"Oil\",$A$15),0)>0,VLOOKUP(\"Oil\",HVACg_Lookup,MATCH($F$13,BuildingSize,0)+1,FALSE),IF(IFERROR(SEARCH(\"Propane\",$A$15),0)>0,VLOOKUP(\"Propane\",HVACg_Lookup,MATCH(Worksheet!$F$13,BuildingSize,0)+1,FALSE),0)))","v":0},0,0,"",""]
[null,null,"",null,null,null,null,null,null,null,null,null,null,null,null,0,0,0,0,"",0,0,0,0,0,0,0,0,0,0,0,0,0,0,0,{"$f":"W442/1000*Y442*AA442*IF(IFERROR(SEARCH(\"Gas\",$A$15),0)>0,VLOOKUP(\"Gas\",HVACg_Lookup,MATCH($F$13,BuildingSize,0)+1,FALSE),IF(IFERROR(SEARCH(\"Oil\",$A$15),0)>0,VLOOKUP(\"Oil\",HVACg_Lookup,MATCH($F$13,BuildingSize,0)+1,FALSE),IF(IFERROR(SEARCH(\"Propane\",$A$15),0)>0,VLOOKUP(\"Propane\",HVACg_Lookup,MATCH(Worksheet!$F$13,BuildingSize,0)+1,FALSE),0)))","v":0},{"$f":"X442/1000*Y442*AA442*IF(IFERROR(SEARCH(\"Gas\",$A$15),0)>0,VLOOKUP(\"Gas\",HVACg_Lookup,MATCH($F$13,BuildingSize,0)+1,FALSE),IF(IFERROR(SEARCH(\"Oil\",$A$15),0)>0,VLOOKUP(\"Oil\",HVACg_Lookup,MATCH($F$13,BuildingSize,0)+1,FALSE),IF(IFERROR(SEARCH(\"Propane\",$A$15),0)>0,VLOOKUP(\"Propane\",HVACg_Lookup,MATCH(Worksheet!$F$13,BuildingSize,0)+1,FALSE),0)))","v":0},0,0,"",""]
[null,null,"",null,null,null,null,null,null,null,null,null,null,null,null,0,0,0,0,"",0,0,0,0,0,0,0,0,0,0,0,0,0,0,0,{"$f":"W443/1000*Y443*AA443*IF(IFERROR(SEARCH(\"Gas\",$A$15),0)>0,VLOOKUP(\"Gas\",HVACg_Lookup,MATCH($F$13,BuildingSize,0)+1,FALSE),IF(IFERROR(SEARCH(\"Oil\",$A$15),0)>0,VLOOKUP(\"Oil\",HVACg_Lookup,MATCH($F$13,BuildingSize,0)+1,FALSE),IF(IFERROR(SEARCH(\"Propane\",$A$15),0)>0,VLOOKUP(\"Propane\",HVACg_Lookup,MATCH(Worksheet!$F$13,BuildingSize,0)+1,FALSE),0)))","v":0},{"$f":"X443/1000*Y443*AA443*IF(IFERROR(SEARCH(\"Gas\",$A$15),0)>0,VLOOKUP(\"Gas\",HVACg_Lookup,MATCH($F$13,BuildingSize,0)+1,FALSE),IF(IFERROR(SEARCH(\"Oil\",$A$15),0)>0,VLOOKUP(\"Oil\",HVACg_Lookup,MATCH($F$13,BuildingSize,0)+1,FALSE),IF(IFERROR(SEARCH(\"Propane\",$A$15),0)>0,VLOOKUP(\"Propane\",HVACg_Lookup,MATCH(Worksheet!$F$13,BuildingSize,0)+1,FALSE),0)))","v":0},0,0,"",""]
[null,null,"",null,null,null,null,null,null,null,null,null,null,null,null,0,0,0,0,"",0,0,0,0,0,0,0,0,0,0,0,0,0,0,0,{"$f":"W444/1000*Y444*AA444*IF(IFERROR(SEARCH(\"Gas\",$A$15),0)>0,VLOOKUP(\"Gas\",HVACg_Lookup,MATCH($F$13,BuildingSize,0)+1,FALSE),IF(IFERROR(SEARCH(\"Oil\",$A$15),0)>0,VLOOKUP(\"Oil\",HVACg_Lookup,MATCH($F$13,BuildingSize,0)+1,FALSE),IF(IFERROR(SEARCH(\"Propane\",$A$15),0)>0,VLOOKUP(\"Propane\",HVACg_Lookup,MATCH(Worksheet!$F$13,BuildingSize,0)+1,FALSE),0)))","v":0},{"$f":"X444/1000*Y444*AA444*IF(IFERROR(SEARCH(\"Gas\",$A$15),0)>0,VLOOKUP(\"Gas\",HVACg_Lookup,MATCH($F$13,BuildingSize,0)+1,FALSE),IF(IFERROR(SEARCH(\"Oil\",$A$15),0)>0,VLOOKUP(\"Oil\",HVACg_Lookup,MATCH($F$13,BuildingSize,0)+1,FALSE),IF(IFERROR(SEARCH(\"Propane\",$A$15),0)>0,VLOOKUP(\"Propane\",HVACg_Lookup,MATCH(Worksheet!$F$13,BuildingSize,0)+1,FALSE),0)))","v":0},0,0,"",""]
[null,null,"",null,null,null,null,null,null,null,null,null,null,null,null,0,0,0,0,"",0,0,0,0,0,0,0,0,0,0,0,0,0,0,0,{"$f":"W445/1000*Y445*AA445*IF(IFERROR(SEARCH(\"Gas\",$A$15),0)>0,VLOOKUP(\"Gas\",HVACg_Lookup,MATCH($F$13,BuildingSize,0)+1,FALSE),IF(IFERROR(SEARCH(\"Oil\",$A$15),0)>0,VLOOKUP(\"Oil\",HVACg_Lookup,MATCH($F$13,BuildingSize,0)+1,FALSE),IF(IFERROR(SEARCH(\"Propane\",$A$15),0)>0,VLOOKUP(\"Propane\",HVACg_Lookup,MATCH(Worksheet!$F$13,BuildingSize,0)+1,FALSE),0)))","v":0},{"$f":"X445/1000*Y445*AA445*IF(IFERROR(SEARCH(\"Gas\",$A$15),0)>0,VLOOKUP(\"Gas\",HVACg_Lookup,MATCH($F$13,BuildingSize,0)+1,FALSE),IF(IFERROR(SEARCH(\"Oil\",$A$15),0)>0,VLOOKUP(\"Oil\",HVACg_Lookup,MATCH($F$13,BuildingSize,0)+1,FALSE),IF(IFERROR(SEARCH(\"Propane\",$A$15),0)>0,VLOOKUP(\"Propane\",HVACg_Lookup,MATCH(Worksheet!$F$13,BuildingSize,0)+1,FALSE),0)))","v":0},0,0,"",""]
[null,null,"",null,null,null,null,null,null,null,null,null,null,null,null,0,0,0,0,"",0,0,0,0,0,0,0,0,0,0,0,0,0,0,0,{"$f":"W446/1000*Y446*AA446*IF(IFERROR(SEARCH(\"Gas\",$A$15),0)>0,VLOOKUP(\"Gas\",HVACg_Lookup,MATCH($F$13,BuildingSize,0)+1,FALSE),IF(IFERROR(SEARCH(\"Oil\",$A$15),0)>0,VLOOKUP(\"Oil\",HVACg_Lookup,MATCH($F$13,BuildingSize,0)+1,FALSE),IF(IFERROR(SEARCH(\"Propane\",$A$15),0)>0,VLOOKUP(\"Propane\",HVACg_Lookup,MATCH(Worksheet!$F$13,BuildingSize,0)+1,FALSE),0)))","v":0},{"$f":"X446/1000*Y446*AA446*IF(IFERROR(SEARCH(\"Gas\",$A$15),0)>0,VLOOKUP(\"Gas\",HVACg_Lookup,MATCH($F$13,BuildingSize,0)+1,FALSE),IF(IFERROR(SEARCH(\"Oil\",$A$15),0)>0,VLOOKUP(\"Oil\",HVACg_Lookup,MATCH($F$13,BuildingSize,0)+1,FALSE),IF(IFERROR(SEARCH(\"Propane\",$A$15),0)>0,VLOOKUP(\"Propane\",HVACg_Lookup,MATCH(Worksheet!$F$13,BuildingSize,0)+1,FALSE),0)))","v":0},0,0,"",""]
[null,null,"",null,null,null,null,null,null,null,null,null,null,null,null,0,0,0,0,"",0,0,0,0,0,0,0,0,0,0,0,0,0,0,0,{"$f":"W447/1000*Y447*AA447*IF(IFERROR(SEARCH(\"Gas\",$A$15),0)>0,VLOOKUP(\"Gas\",HVACg_Lookup,MATCH($F$13,BuildingSize,0)+1,FALSE),IF(IFERROR(SEARCH(\"Oil\",$A$15),0)>0,VLOOKUP(\"Oil\",HVACg_Lookup,MATCH($F$13,BuildingSize,0)+1,FALSE),IF(IFERROR(SEARCH(\"Propane\",$A$15),0)>0,VLOOKUP(\"Propane\",HVACg_Lookup,MATCH(Worksheet!$F$13,BuildingSize,0)+1,FALSE),0)))","v":0},{"$f":"X447/1000*Y447*AA447*IF(IFERROR(SEARCH(\"Gas\",$A$15),0)>0,VLOOKUP(\"Gas\",HVACg_Lookup,MATCH($F$13,BuildingSize,0)+1,FALSE),IF(IFERROR(SEARCH(\"Oil\",$A$15),0)>0,VLOOKUP(\"Oil\",HVACg_Lookup,MATCH($F$13,BuildingSize,0)+1,FALSE),IF(IFERROR(SEARCH(\"Propane\",$A$15),0)>0,VLOOKUP(\"Propane\",HVACg_Lookup,MATCH(Worksheet!$F$13,BuildingSize,0)+1,FALSE),0)))","v":0},0,0,"",""]
[null,null,"",null,null,null,null,null,null,null,null,null,null,null,null,0,0,0,0,"",0,0,0,0,0,0,0,0,0,0,0,0,0,0,0,{"$f":"W448/1000*Y448*AA448*IF(IFERROR(SEARCH(\"Gas\",$A$15),0)>0,VLOOKUP(\"Gas\",HVACg_Lookup,MATCH($F$13,BuildingSize,0)+1,FALSE),IF(IFERROR(SEARCH(\"Oil\",$A$15),0)>0,VLOOKUP(\"Oil\",HVACg_Lookup,MATCH($F$13,BuildingSize,0)+1,FALSE),IF(IFERROR(SEARCH(\"Propane\",$A$15),0)>0,VLOOKUP(\"Propane\",HVACg_Lookup,MATCH(Worksheet!$F$13,BuildingSize,0)+1,FALSE),0)))","v":0},{"$f":"X448/1000*Y448*AA448*IF(IFERROR(SEARCH(\"Gas\",$A$15),0)>0,VLOOKUP(\"Gas\",HVACg_Lookup,MATCH($F$13,BuildingSize,0)+1,FALSE),IF(IFERROR(SEARCH(\"Oil\",$A$15),0)>0,VLOOKUP(\"Oil\",HVACg_Lookup,MATCH($F$13,BuildingSize,0)+1,FALSE),IF(IFERROR(SEARCH(\"Propane\",$A$15),0)>0,VLOOKUP(\"Propane\",HVACg_Lookup,MATCH(Worksheet!$F$13,BuildingSize,0)+1,FALSE),0)))","v":0},0,0,"",""]
[null,null,"",null,null,null,null,null,null,null,null,null,null,null,null,0,0,0,0,"",0,0,0,0,0,0,0,0,0,0,0,0,0,0,0,{"$f":"W449/1000*Y449*AA449*IF(IFERROR(SEARCH(\"Gas\",$A$15),0)>0,VLOOKUP(\"Gas\",HVACg_Lookup,MATCH($F$13,BuildingSize,0)+1,FALSE),IF(IFERROR(SEARCH(\"Oil\",$A$15),0)>0,VLOOKUP(\"Oil\",HVACg_Lookup,MATCH($F$13,BuildingSize,0)+1,FALSE),IF(IFERROR(SEARCH(\"Propane\",$A$15),0)>0,VLOOKUP(\"Propane\",HVACg_Lookup,MATCH(Worksheet!$F$13,BuildingSize,0)+1,FALSE),0)))","v":0},{"$f":"X449/1000*Y449*AA449*IF(IFERROR(SEARCH(\"Gas\",$A$15),0)>0,VLOOKUP(\"Gas\",HVACg_Lookup,MATCH($F$13,BuildingSize,0)+1,FALSE),IF(IFERROR(SEARCH(\"Oil\",$A$15),0)>0,VLOOKUP(\"Oil\",HVACg_Lookup,MATCH($F$13,BuildingSize,0)+1,FALSE),IF(IFERROR(SEARCH(\"Propane\",$A$15),0)>0,VLOOKUP(\"Propane\",HVACg_Lookup,MATCH(Worksheet!$F$13,BuildingSize,0)+1,FALSE),0)))","v":0},0,0,"",""]
[null,null,"",null,null,null,null,null,null,null,null,null,null,null,null,0,0,0,0,"",0,0,0,0,0,0,0,0,0,0,0,0,0,0,0,{"$f":"W450/1000*Y450*AA450*IF(IFERROR(SEARCH(\"Gas\",$A$15),0)>0,VLOOKUP(\"Gas\",HVACg_Lookup,MATCH($F$13,BuildingSize,0)+1,FALSE),IF(IFERROR(SEARCH(\"Oil\",$A$15),0)>0,VLOOKUP(\"Oil\",HVACg_Lookup,MATCH($F$13,BuildingSize,0)+1,FALSE),IF(IFERROR(SEARCH(\"Propane\",$A$15),0)>0,VLOOKUP(\"Propane\",HVACg_Lookup,MATCH(Worksheet!$F$13,BuildingSize,0)+1,FALSE),0)))","v":0},{"$f":"X450/1000*Y450*AA450*IF(IFERROR(SEARCH(\"Gas\",$A$15),0)>0,VLOOKUP(\"Gas\",HVACg_Lookup,MATCH($F$13,BuildingSize,0)+1,FALSE),IF(IFERROR(SEARCH(\"Oil\",$A$15),0)>0,VLOOKUP(\"Oil\",HVACg_Lookup,MATCH($F$13,BuildingSize,0)+1,FALSE),IF(IFERROR(SEARCH(\"Propane\",$A$15),0)>0,VLOOKUP(\"Propane\",HVACg_Lookup,MATCH(Worksheet!$F$13,BuildingSize,0)+1,FALSE),0)))","v":0},0,0,"",""]
[null,null,"",null,null,null,null,null,null,null,null,null,null,null,null,0,0,0,0,"",0,0,0,0,0,0,0,0,0,0,0,0,0,0,0,{"$f":"W451/1000*Y451*AA451*IF(IFERROR(SEARCH(\"Gas\",$A$15),0)>0,VLOOKUP(\"Gas\",HVACg_Lookup,MATCH($F$13,BuildingSize,0)+1,FALSE),IF(IFERROR(SEARCH(\"Oil\",$A$15),0)>0,VLOOKUP(\"Oil\",HVACg_Lookup,MATCH($F$13,BuildingSize,0)+1,FALSE),IF(IFERROR(SEARCH(\"Propane\",$A$15),0)>0,VLOOKUP(\"Propane\",HVACg_Lookup,MATCH(Worksheet!$F$13,BuildingSize,0)+1,FALSE),0)))","v":0},{"$f":"X451/1000*Y451*AA451*IF(IFERROR(SEARCH(\"Gas\",$A$15),0)>0,VLOOKUP(\"Gas\",HVACg_Lookup,MATCH($F$13,BuildingSize,0)+1,FALSE),IF(IFERROR(SEARCH(\"Oil\",$A$15),0)>0,VLOOKUP(\"Oil\",HVACg_Lookup,MATCH($F$13,BuildingSize,0)+1,FALSE),IF(IFERROR(SEARCH(\"Propane\",$A$15),0)>0,VLOOKUP(\"Propane\",HVACg_Lookup,MATCH(Worksheet!$F$13,BuildingSize,0)+1,FALSE),0)))","v":0},0,0,"",""]
[null,null,"",null,null,null,null,null,null,null,null,null,null,null,null,0,0,0,0,"",0,0,0,0,0,0,0,0,0,0,0,0,0,0,0,{"$f":"W452/1000*Y452*AA452*IF(IFERROR(SEARCH(\"Gas\",$A$15),0)>0,VLOOKUP(\"Gas\",HVACg_Lookup,MATCH($F$13,BuildingSize,0)+1,FALSE),IF(IFERROR(SEARCH(\"Oil\",$A$15),0)>0,VLOOKUP(\"Oil\",HVACg_Lookup,MATCH($F$13,BuildingSize,0)+1,FALSE),IF(IFERROR(SEARCH(\"Propane\",$A$15),0)>0,VLOOKUP(\"Propane\",HVACg_Lookup,MATCH(Worksheet!$F$13,BuildingSize,0)+1,FALSE),0)))","v":0},{"$f":"X452/1000*Y452*AA452*IF(IFERROR(SEARCH(\"Gas\",$A$15),0)>0,VLOOKUP(\"Gas\",HVACg_Lookup,MATCH($F$13,BuildingSize,0)+1,FALSE),IF(IFERROR(SEARCH(\"Oil\",$A$15),0)>0,VLOOKUP(\"Oil\",HVACg_Lookup,MATCH($F$13,BuildingSize,0)+1,FALSE),IF(IFERROR(SEARCH(\"Propane\",$A$15),0)>0,VLOOKUP(\"Propane\",HVACg_Lookup,MATCH(Worksheet!$F$13,BuildingSize,0)+1,FALSE),0)))","v":0},0,0,"",""]
[null,null,"",null,null,null,null,null,null,null,null,null,null,null,null,0,0,0,0,"",0,0,0,0,0,0,0,0,0,0,0,0,0,0,0,{"$f":"W453/1000*Y453*AA453*IF(IFERROR(SEARCH(\"Gas\",$A$15),0)>0,VLOOKUP(\"Gas\",HVACg_Lookup,MATCH($F$13,BuildingSize,0)+1,FALSE),IF(IFERROR(SEARCH(\"Oil\",$A$15),0)>0,VLOOKUP(\"Oil\",HVACg_Lookup,MATCH($F$13,BuildingSize,0)+1,FALSE),IF(IFERROR(SEARCH(\"Propane\",$A$15),0)>0,VLOOKUP(\"Propane\",HVACg_Lookup,MATCH(Worksheet!$F$13,BuildingSize,0)+1,FALSE),0)))","v":0},{"$f":"X453/1000*Y453*AA453*IF(IFERROR(SEARCH(\"Gas\",$A$15),0)>0,VLOOKUP(\"Gas\",HVACg_Lookup,MATCH($F$13,BuildingSize,0)+1,FALSE),IF(IFERROR(SEARCH(\"Oil\",$A$15),0)>0,VLOOKUP(\"Oil\",HVACg_Lookup,MATCH($F$13,BuildingSize,0)+1,FALSE),IF(IFERROR(SEARCH(\"Propane\",$A$15),0)>0,VLOOKUP(\"Propane\",HVACg_Lookup,MATCH(Worksheet!$F$13,BuildingSize,0)+1,FALSE),0)))","v":0},0,0,"",""]
[null,null,"",null,null,null,null,null,null,null,null,null,null,null,null,0,0,0,0,"",0,0,0,0,0,0,0,0,0,0,0,0,0,0,0,{"$f":"W454/1000*Y454*AA454*IF(IFERROR(SEARCH(\"Gas\",$A$15),0)>0,VLOOKUP(\"Gas\",HVACg_Lookup,MATCH($F$13,BuildingSize,0)+1,FALSE),IF(IFERROR(SEARCH(\"Oil\",$A$15),0)>0,VLOOKUP(\"Oil\",HVACg_Lookup,MATCH($F$13,BuildingSize,0)+1,FALSE),IF(IFERROR(SEARCH(\"Propane\",$A$15),0)>0,VLOOKUP(\"Propane\",HVACg_Lookup,MATCH(Worksheet!$F$13,BuildingSize,0)+1,FALSE),0)))","v":0},{"$f":"X454/1000*Y454*AA454*IF(IFERROR(SEARCH(\"Gas\",$A$15),0)>0,VLOOKUP(\"Gas\",HVACg_Lookup,MATCH($F$13,BuildingSize,0)+1,FALSE),IF(IFERROR(SEARCH(\"Oil\",$A$15),0)>0,VLOOKUP(\"Oil\",HVACg_Lookup,MATCH($F$13,BuildingSize,0)+1,FALSE),IF(IFERROR(SEARCH(\"Propane\",$A$15),0)>0,VLOOKUP(\"Propane\",HVACg_Lookup,MATCH(Worksheet!$F$13,BuildingSize,0)+1,FALSE),0)))","v":0},0,0,"",""]
[null,null,"",null,null,null,null,null,null,null,null,null,null,null,null,0,0,0,0,"",0,0,0,0,0,0,0,0,0,0,0,0,0,0,0,{"$f":"W455/1000*Y455*AA455*IF(IFERROR(SEARCH(\"Gas\",$A$15),0)>0,VLOOKUP(\"Gas\",HVACg_Lookup,MATCH($F$13,BuildingSize,0)+1,FALSE),IF(IFERROR(SEARCH(\"Oil\",$A$15),0)>0,VLOOKUP(\"Oil\",HVACg_Lookup,MATCH($F$13,BuildingSize,0)+1,FALSE),IF(IFERROR(SEARCH(\"Propane\",$A$15),0)>0,VLOOKUP(\"Propane\",HVACg_Lookup,MATCH(Worksheet!$F$13,BuildingSize,0)+1,FALSE),0)))","v":0},{"$f":"X455/1000*Y455*AA455*IF(IFERROR(SEARCH(\"Gas\",$A$15),0)>0,VLOOKUP(\"Gas\",HVACg_Lookup,MATCH($F$13,BuildingSize,0)+1,FALSE),IF(IFERROR(SEARCH(\"Oil\",$A$15),0)>0,VLOOKUP(\"Oil\",HVACg_Lookup,MATCH($F$13,BuildingSize,0)+1,FALSE),IF(IFERROR(SEARCH(\"Propane\",$A$15),0)>0,VLOOKUP(\"Propane\",HVACg_Lookup,MATCH(Worksheet!$F$13,BuildingSize,0)+1,FALSE),0)))","v":0},0,0,"",""]
[null,null,"",null,null,null,null,null,null,null,null,null,null,null,null,0,0,0,0,"",0,0,0,0,0,0,0,0,0,0,0,0,0,0,0,{"$f":"W456/1000*Y456*AA456*IF(IFERROR(SEARCH(\"Gas\",$A$15),0)>0,VLOOKUP(\"Gas\",HVACg_Lookup,MATCH($F$13,BuildingSize,0)+1,FALSE),IF(IFERROR(SEARCH(\"Oil\",$A$15),0)>0,VLOOKUP(\"Oil\",HVACg_Lookup,MATCH($F$13,BuildingSize,0)+1,FALSE),IF(IFERROR(SEARCH(\"Propane\",$A$15),0)>0,VLOOKUP(\"Propane\",HVACg_Lookup,MATCH(Worksheet!$F$13,BuildingSize,0)+1,FALSE),0)))","v":0},{"$f":"X456/1000*Y456*AA456*IF(IFERROR(SEARCH(\"Gas\",$A$15),0)>0,VLOOKUP(\"Gas\",HVACg_Lookup,MATCH($F$13,BuildingSize,0)+1,FALSE),IF(IFERROR(SEARCH(\"Oil\",$A$15),0)>0,VLOOKUP(\"Oil\",HVACg_Lookup,MATCH($F$13,BuildingSize,0)+1,FALSE),IF(IFERROR(SEARCH(\"Propane\",$A$15),0)>0,VLOOKUP(\"Propane\",HVACg_Lookup,MATCH(Worksheet!$F$13,BuildingSize,0)+1,FALSE),0)))","v":0},0,0,"",""]
[null,null,"",null,null,null,null,null,null,null,null,null,null,null,null,0,0,0,0,"",0,0,0,0,0,0,0,0,0,0,0,0,0,0,0,{"$f":"W457/1000*Y457*AA457*IF(IFERROR(SEARCH(\"Gas\",$A$15),0)>0,VLOOKUP(\"Gas\",HVACg_Lookup,MATCH($F$13,BuildingSize,0)+1,FALSE),IF(IFERROR(SEARCH(\"Oil\",$A$15),0)>0,VLOOKUP(\"Oil\",HVACg_Lookup,MATCH($F$13,BuildingSize,0)+1,FALSE),IF(IFERROR(SEARCH(\"Propane\",$A$15),0)>0,VLOOKUP(\"Propane\",HVACg_Lookup,MATCH(Worksheet!$F$13,BuildingSize,0)+1,FALSE),0)))","v":0},{"$f":"X457/1000*Y457*AA457*IF(IFERROR(SEARCH(\"Gas\",$A$15),0)>0,VLOOKUP(\"Gas\",HVACg_Lookup,MATCH($F$13,BuildingSize,0)+1,FALSE),IF(IFERROR(SEARCH(\"Oil\",$A$15),0)>0,VLOOKUP(\"Oil\",HVACg_Lookup,MATCH($F$13,BuildingSize,0)+1,FALSE),IF(IFERROR(SEARCH(\"Propane\",$A$15),0)>0,VLOOKUP(\"Propane\",HVACg_Lookup,MATCH(Worksheet!$F$13,BuildingSize,0)+1,FALSE),0)))","v":0},0,0,"",""]
[null,null,"",null,null,null,null,null,null,null,null,null,null,null,null,0,0,0,0,"",0,0,0,0,0,0,0,0,0,0,0,0,0,0,0,{"$f":"W458/1000*Y458*AA458*IF(IFERROR(SEARCH(\"Gas\",$A$15),0)>0,VLOOKUP(\"Gas\",HVACg_Lookup,MATCH($F$13,BuildingSize,0)+1,FALSE),IF(IFERROR(SEARCH(\"Oil\",$A$15),0)>0,VLOOKUP(\"Oil\",HVACg_Lookup,MATCH($F$13,BuildingSize,0)+1,FALSE),IF(IFERROR(SEARCH(\"Propane\",$A$15),0)>0,VLOOKUP(\"Propane\",HVACg_Lookup,MATCH(Worksheet!$F$13,BuildingSize,0)+1,FALSE),0)))","v":0},{"$f":"X458/1000*Y458*AA458*IF(IFERROR(SEARCH(\"Gas\",$A$15),0)>0,VLOOKUP(\"Gas\",HVACg_Lookup,MATCH($F$13,BuildingSize,0)+1,FALSE),IF(IFERROR(SEARCH(\"Oil\",$A$15),0)>0,VLOOKUP(\"Oil\",HVACg_Lookup,MATCH($F$13,BuildingSize,0)+1,FALSE),IF(IFERROR(SEARCH(\"Propane\",$A$15),0)>0,VLOOKUP(\"Propane\",HVACg_Lookup,MATCH(Worksheet!$F$13,BuildingSize,0)+1,FALSE),0)))","v":0},0,0,"",""]
[null,null,"",null,null,null,null,null,null,null,null,null,null,null,null,0,0,0,0,"",0,0,0,0,0,0,0,0,0,0,0,0,0,0,0,{"$f":"W459/1000*Y459*AA459*IF(IFERROR(SEARCH(\"Gas\",$A$15),0)>0,VLOOKUP(\"Gas\",HVACg_Lookup,MATCH($F$13,BuildingSize,0)+1,FALSE),IF(IFERROR(SEARCH(\"Oil\",$A$15),0)>0,VLOOKUP(\"Oil\",HVACg_Lookup,MATCH($F$13,BuildingSize,0)+1,FALSE),IF(IFERROR(SEARCH(\"Propane\",$A$15),0)>0,VLOOKUP(\"Propane\",HVACg_Lookup,MATCH(Worksheet!$F$13,BuildingSize,0)+1,FALSE),0)))","v":0},{"$f":"X459/1000*Y459*AA459*IF(IFERROR(SEARCH(\"Gas\",$A$15),0)>0,VLOOKUP(\"Gas\",HVACg_Lookup,MATCH($F$13,BuildingSize,0)+1,FALSE),IF(IFERROR(SEARCH(\"Oil\",$A$15),0)>0,VLOOKUP(\"Oil\",HVACg_Lookup,MATCH($F$13,BuildingSize,0)+1,FALSE),IF(IFERROR(SEARCH(\"Propane\",$A$15),0)>0,VLOOKUP(\"Propane\",HVACg_Lookup,MATCH(Worksheet!$F$13,BuildingSize,0)+1,FALSE),0)))","v":0},0,0,"",""]
[null,null,"",null,null,null,null,null,null,null,null,null,null,null,null,0,0,0,0,"",0,0,0,0,0,0,0,0,0,0,0,0,0,0,0,{"$f":"W460/1000*Y460*AA460*IF(IFERROR(SEARCH(\"Gas\",$A$15),0)>0,VLOOKUP(\"Gas\",HVACg_Lookup,MATCH($F$13,BuildingSize,0)+1,FALSE),IF(IFERROR(SEARCH(\"Oil\",$A$15),0)>0,VLOOKUP(\"Oil\",HVACg_Lookup,MATCH($F$13,BuildingSize,0)+1,FALSE),IF(IFERROR(SEARCH(\"Propane\",$A$15),0)>0,VLOOKUP(\"Propane\",HVACg_Lookup,MATCH(Worksheet!$F$13,BuildingSize,0)+1,FALSE),0)))","v":0},{"$f":"X460/1000*Y460*AA460*IF(IFERROR(SEARCH(\"Gas\",$A$15),0)>0,VLOOKUP(\"Gas\",HVACg_Lookup,MATCH($F$13,BuildingSize,0)+1,FALSE),IF(IFERROR(SEARCH(\"Oil\",$A$15),0)>0,VLOOKUP(\"Oil\",HVACg_Lookup,MATCH($F$13,BuildingSize,0)+1,FALSE),IF(IFERROR(SEARCH(\"Propane\",$A$15),0)>0,VLOOKUP(\"Propane\",HVACg_Lookup,MATCH(Worksheet!$F$13,BuildingSize,0)+1,FALSE),0)))","v":0},0,0,"",""]
[null,null,"",null,null,null,null,null,null,null,null,null,null,null,null,0,0,0,0,"",0,0,0,0,0,0,0,0,0,0,0,0,0,0,0,{"$f":"W461/1000*Y461*AA461*IF(IFERROR(SEARCH(\"Gas\",$A$15),0)>0,VLOOKUP(\"Gas\",HVACg_Lookup,MATCH($F$13,BuildingSize,0)+1,FALSE),IF(IFERROR(SEARCH(\"Oil\",$A$15),0)>0,VLOOKUP(\"Oil\",HVACg_Lookup,MATCH($F$13,BuildingSize,0)+1,FALSE),IF(IFERROR(SEARCH(\"Propane\",$A$15),0)>0,VLOOKUP(\"Propane\",HVACg_Lookup,MATCH(Worksheet!$F$13,BuildingSize,0)+1,FALSE),0)))","v":0},{"$f":"X461/1000*Y461*AA461*IF(IFERROR(SEARCH(\"Gas\",$A$15),0)>0,VLOOKUP(\"Gas\",HVACg_Lookup,MATCH($F$13,BuildingSize,0)+1,FALSE),IF(IFERROR(SEARCH(\"Oil\",$A$15),0)>0,VLOOKUP(\"Oil\",HVACg_Lookup,MATCH($F$13,BuildingSize,0)+1,FALSE),IF(IFERROR(SEARCH(\"Propane\",$A$15),0)>0,VLOOKUP(\"Propane\",HVACg_Lookup,MATCH(Worksheet!$F$13,BuildingSize,0)+1,FALSE),0)))","v":0},0,0,"",""]
[null,null,"",null,null,null,null,null,null,null,null,null,null,null,null,0,0,0,0,"",0,0,0,0,0,0,0,0,0,0,0,0,0,0,0,{"$f":"W462/1000*Y462*AA462*IF(IFERROR(SEARCH(\"Gas\",$A$15),0)>0,VLOOKUP(\"Gas\",HVACg_Lookup,MATCH($F$13,BuildingSize,0)+1,FALSE),IF(IFERROR(SEARCH(\"Oil\",$A$15),0)>0,VLOOKUP(\"Oil\",HVACg_Lookup,MATCH($F$13,BuildingSize,0)+1,FALSE),IF(IFERROR(SEARCH(\"Propane\",$A$15),0)>0,VLOOKUP(\"Propane\",HVACg_Lookup,MATCH(Worksheet!$F$13,BuildingSize,0)+1,FALSE),0)))","v":0},{"$f":"X462/1000*Y462*AA462*IF(IFERROR(SEARCH(\"Gas\",$A$15),0)>0,VLOOKUP(\"Gas\",HVACg_Lookup,MATCH($F$13,BuildingSize,0)+1,FALSE),IF(IFERROR(SEARCH(\"Oil\",$A$15),0)>0,VLOOKUP(\"Oil\",HVACg_Lookup,MATCH($F$13,BuildingSize,0)+1,FALSE),IF(IFERROR(SEARCH(\"Propane\",$A$15),0)>0,VLOOKUP(\"Propane\",HVACg_Lookup,MATCH(Worksheet!$F$13,BuildingSize,0)+1,FALSE),0)))","v":0},0,0,"",""]
[null,null,"",null,null,null,null,null,null,null,null,null,null,null,null,0,0,0,0,"",0,0,0,0,0,0,0,0,0,0,0,0,0,0,0,{"$f":"W463/1000*Y463*AA463*IF(IFERROR(SEARCH(\"Gas\",$A$15),0)>0,VLOOKUP(\"Gas\",HVACg_Lookup,MATCH($F$13,BuildingSize,0)+1,FALSE),IF(IFERROR(SEARCH(\"Oil\",$A$15),0)>0,VLOOKUP(\"Oil\",HVACg_Lookup,MATCH($F$13,BuildingSize,0)+1,FALSE),IF(IFERROR(SEARCH(\"Propane\",$A$15),0)>0,VLOOKUP(\"Propane\",HVACg_Lookup,MATCH(Worksheet!$F$13,BuildingSize,0)+1,FALSE),0)))","v":0},{"$f":"X463/1000*Y463*AA463*IF(IFERROR(SEARCH(\"Gas\",$A$15),0)>0,VLOOKUP(\"Gas\",HVACg_Lookup,MATCH($F$13,BuildingSize,0)+1,FALSE),IF(IFERROR(SEARCH(\"Oil\",$A$15),0)>0,VLOOKUP(\"Oil\",HVACg_Lookup,MATCH($F$13,BuildingSize,0)+1,FALSE),IF(IFERROR(SEARCH(\"Propane\",$A$15),0)>0,VLOOKUP(\"Propane\",HVACg_Lookup,MATCH(Worksheet!$F$13,BuildingSize,0)+1,FALSE),0)))","v":0},0,0,"",""]
[null,null,"",null,null,null,null,null,null,null,null,null,null,null,null,0,0,0,0,"",0,0,0,0,0,0,0,0,0,0,0,0,0,0,0,{"$f":"W464/1000*Y464*AA464*IF(IFERROR(SEARCH(\"Gas\",$A$15),0)>0,VLOOKUP(\"Gas\",HVACg_Lookup,MATCH($F$13,BuildingSize,0)+1,FALSE),IF(IFERROR(SEARCH(\"Oil\",$A$15),0)>0,VLOOKUP(\"Oil\",HVACg_Lookup,MATCH($F$13,BuildingSize,0)+1,FALSE),IF(IFERROR(SEARCH(\"Propane\",$A$15),0)>0,VLOOKUP(\"Propane\",HVACg_Lookup,MATCH(Worksheet!$F$13,BuildingSize,0)+1,FALSE),0)))","v":0},{"$f":"X464/1000*Y464*AA464*IF(IFERROR(SEARCH(\"Gas\",$A$15),0)>0,VLOOKUP(\"Gas\",HVACg_Lookup,MATCH($F$13,BuildingSize,0)+1,FALSE),IF(IFERROR(SEARCH(\"Oil\",$A$15),0)>0,VLOOKUP(\"Oil\",HVACg_Lookup,MATCH($F$13,BuildingSize,0)+1,FALSE),IF(IFERROR(SEARCH(\"Propane\",$A$15),0)>0,VLOOKUP(\"Propane\",HVACg_Lookup,MATCH(Worksheet!$F$13,BuildingSize,0)+1,FALSE),0)))","v":0},0,0,"",""]
[null,null,"",null,null,null,null,null,null,null,null,null,null,null,null,0,0,0,0,"",0,0,0,0,0,0,0,0,0,0,0,0,0,0,0,{"$f":"W465/1000*Y465*AA465*IF(IFERROR(SEARCH(\"Gas\",$A$15),0)>0,VLOOKUP(\"Gas\",HVACg_Lookup,MATCH($F$13,BuildingSize,0)+1,FALSE),IF(IFERROR(SEARCH(\"Oil\",$A$15),0)>0,VLOOKUP(\"Oil\",HVACg_Lookup,MATCH($F$13,BuildingSize,0)+1,FALSE),IF(IFERROR(SEARCH(\"Propane\",$A$15),0)>0,VLOOKUP(\"Propane\",HVACg_Lookup,MATCH(Worksheet!$F$13,BuildingSize,0)+1,FALSE),0)))","v":0},{"$f":"X465/1000*Y465*AA465*IF(IFERROR(SEARCH(\"Gas\",$A$15),0)>0,VLOOKUP(\"Gas\",HVACg_Lookup,MATCH($F$13,BuildingSize,0)+1,FALSE),IF(IFERROR(SEARCH(\"Oil\",$A$15),0)>0,VLOOKUP(\"Oil\",HVACg_Lookup,MATCH($F$13,BuildingSize,0)+1,FALSE),IF(IFERROR(SEARCH(\"Propane\",$A$15),0)>0,VLOOKUP(\"Propane\",HVACg_Lookup,MATCH(Worksheet!$F$13,BuildingSize,0)+1,FALSE),0)))","v":0},0,0,"",""]
[null,null,"",null,null,null,null,null,null,null,null,null,null,null,null,0,0,0,0,"",0,0,0,0,0,0,0,0,0,0,0,0,0,0,0,{"$f":"W466/1000*Y466*AA466*IF(IFERROR(SEARCH(\"Gas\",$A$15),0)>0,VLOOKUP(\"Gas\",HVACg_Lookup,MATCH($F$13,BuildingSize,0)+1,FALSE),IF(IFERROR(SEARCH(\"Oil\",$A$15),0)>0,VLOOKUP(\"Oil\",HVACg_Lookup,MATCH($F$13,BuildingSize,0)+1,FALSE),IF(IFERROR(SEARCH(\"Propane\",$A$15),0)>0,VLOOKUP(\"Propane\",HVACg_Lookup,MATCH(Worksheet!$F$13,BuildingSize,0)+1,FALSE),0)))","v":0},{"$f":"X466/1000*Y466*AA466*IF(IFERROR(SEARCH(\"Gas\",$A$15),0)>0,VLOOKUP(\"Gas\",HVACg_Lookup,MATCH($F$13,BuildingSize,0)+1,FALSE),IF(IFERROR(SEARCH(\"Oil\",$A$15),0)>0,VLOOKUP(\"Oil\",HVACg_Lookup,MATCH($F$13,BuildingSize,0)+1,FALSE),IF(IFERROR(SEARCH(\"Propane\",$A$15),0)>0,VLOOKUP(\"Propane\",HVACg_Lookup,MATCH(Worksheet!$F$13,BuildingSize,0)+1,FALSE),0)))","v":0},0,0,"",""]
[null,null,"",null,null,null,null,null,null,null,null,null,null,null,null,0,0,0,0,"",0,0,0,0,0,0,0,0,0,0,0,0,0,0,0,{"$f":"W467/1000*Y467*AA467*IF(IFERROR(SEARCH(\"Gas\",$A$15),0)>0,VLOOKUP(\"Gas\",HVACg_Lookup,MATCH($F$13,BuildingSize,0)+1,FALSE),IF(IFERROR(SEARCH(\"Oil\",$A$15),0)>0,VLOOKUP(\"Oil\",HVACg_Lookup,MATCH($F$13,BuildingSize,0)+1,FALSE),IF(IFERROR(SEARCH(\"Propane\",$A$15),0)>0,VLOOKUP(\"Propane\",HVACg_Lookup,MATCH(Worksheet!$F$13,BuildingSize,0)+1,FALSE),0)))","v":0},{"$f":"X467/1000*Y467*AA467*IF(IFERROR(SEARCH(\"Gas\",$A$15),0)>0,VLOOKUP(\"Gas\",HVACg_Lookup,MATCH($F$13,BuildingSize,0)+1,FALSE),IF(IFERROR(SEARCH(\"Oil\",$A$15),0)>0,VLOOKUP(\"Oil\",HVACg_Lookup,MATCH($F$13,BuildingSize,0)+1,FALSE),IF(IFERROR(SEARCH(\"Propane\",$A$15),0)>0,VLOOKUP(\"Propane\",HVACg_Lookup,MATCH(Worksheet!$F$13,BuildingSize,0)+1,FALSE),0)))","v":0},0,0,"",""]
[null,null,"",null,null,null,null,null,null,null,null,null,null,null,null,0,0,0,0,"",0,0,0,0,0,0,0,0,0,0,0,0,0,0,0,{"$f":"W468/1000*Y468*AA468*IF(IFERROR(SEARCH(\"Gas\",$A$15),0)>0,VLOOKUP(\"Gas\",HVACg_Lookup,MATCH($F$13,BuildingSize,0)+1,FALSE),IF(IFERROR(SEARCH(\"Oil\",$A$15),0)>0,VLOOKUP(\"Oil\",HVACg_Lookup,MATCH($F$13,BuildingSize,0)+1,FALSE),IF(IFERROR(SEARCH(\"Propane\",$A$15),0)>0,VLOOKUP(\"Propane\",HVACg_Lookup,MATCH(Worksheet!$F$13,BuildingSize,0)+1,FALSE),0)))","v":0},{"$f":"X468/1000*Y468*AA468*IF(IFERROR(SEARCH(\"Gas\",$A$15),0)>0,VLOOKUP(\"Gas\",HVACg_Lookup,MATCH($F$13,BuildingSize,0)+1,FALSE),IF(IFERROR(SEARCH(\"Oil\",$A$15),0)>0,VLOOKUP(\"Oil\",HVACg_Lookup,MATCH($F$13,BuildingSize,0)+1,FALSE),IF(IFERROR(SEARCH(\"Propane\",$A$15),0)>0,VLOOKUP(\"Propane\",HVACg_Lookup,MATCH(Worksheet!$F$13,BuildingSize,0)+1,FALSE),0)))","v":0},0,0,"",""]
[null,null,"",null,null,null,null,null,null,null,null,null,null,null,null,0,0,{"$f":"IF(AN469=\"\",0,IF(AN469=1,VLOOKUP(A469,MeasureCode_Lookup,3,FALSE),\"DNQ\"))","v":0},{"$f":"IF(AO469=\"\",0,IF(AO469=1,VLOOKUP(A469,MeasureCode_Lookup,3,FALSE),\"DNQ\"))","v":0},{"$f":"IF(A469=\"\",\"\",VLOOKUP(A469,MeasureCode_Lookup,4,FALSE))","v":""},0,0,{"$f":"IF(N(R469)=0,0,F469*P469)","v":0},{"$f":"IF(N(S469)=0,0,G469*Q469)","v":0},{"$f":"IF(A469=\"\",0,VLOOKUP(A469,MeasureCode_Lookup,5,FALSE))","v":0},{"$f":"IF($A$13=\"\",0,VLOOKUP($A$13,BuildingType_Lookup,3,FALSE))","v":0},{"$f":"IF($A$13=\"\",0,VLOOKUP($A$13,BuildingType_Lookup,2,FALSE))","v":0},{"$f":"IF(AND(OR(AN469=\"\",AN469=0)=TRUE,OR(AO469=\"\",AO469=0))=TRUE,0,IF(AO469=\"\",(IF(OR(C469=\"DDC\",C469=\"OHLC\")=TRUE,O469,P469)/1000)*Y469*Z469*(1+VLOOKUP($A$13,BuildingType_Lookup,4,FALSE)),IF(AO469=0,0,(IF(OR(C469=\"DDC\",C469=\"OHLC\")=TRUE,O469,Q469)/1000)*Y469*Z469*(1+VLOOKUP($A$13,BuildingType_Lookup,4,FALSE)))))","v":0},{"$f":"IF(AND(OR(AN469=\"\",AN469=0)=TRUE,OR(AO469=\"\",AO469=0))=TRUE,0,IF(AO469=\"\",(IF(OR(C469=\"DDC\",C469=\"OHLC\")=TRUE,O469,P469)/1000)*Y469*AA469*(1+VLOOKUP($A$13,BuildingType_Lookup,MATCH($A$15,HVAC,0)+4,FALSE)),IF(AO469=0,0,(IF(OR(C469=\"DDC\",C469=\"OHLC\")=TRUE,O469,Q469)/1000)*Y469*AA469*(1+VLOOKUP($A$13,BuildingType_Lookup,MATCH($A$15,HVAC,0)+4,FALSE)))))","v":0},{"$f":"IFERROR(IF(OR(C469=\"DDC\",C469=\"OHLC\")=TRUE,F469*J469*AB469,F469*AB469),0)","v":0},{"$f":"IFERROR(IF(OR(C469=\"DDC\",C469=\"OHLC\")=TRUE,G469*K469*AB469,G469*AB469),0)","v":0},{"$f":"IFERROR(IF(OR(C469=\"DDC\",C469=\"OHLC\")=TRUE,F469*J469*AC469,F469*AC469),0)","v":0},{"$f":"IFERROR(IF(OR(C469=\"DDC\",C469=\"OHLC\")=TRUE,G469*K469*AC469,G469*AC469),0)","v":0},0,0,{"$f":"W469/1000*Y469*AA469*IF(IFERROR(SEARCH(\"Gas\",$A$15),0)>0,VLOOKUP(\"Gas\",HVACg_Lookup,MATCH($F$13,BuildingSize,0)+1,FALSE),IF(IFERROR(SEARCH(\"Oil\",$A$15),0)>0,VLOOKUP(\"Oil\",HVACg_Lookup,MATCH($F$13,BuildingSize,0)+1,FALSE),IF(IFERROR(SEARCH(\"Propane\",$A$15),0)>0,VLOOKUP(\"Propane\",HVACg_Lookup,MATCH(Worksheet!$F$13,BuildingSize,0)+1,FALSE),0)))","v":0},{"$f":"X469/1000*Y469*AA469*IF(IFERROR(SEARCH(\"Gas\",$A$15),0)>0,VLOOKUP(\"Gas\",HVACg_Lookup,MATCH($F$13,BuildingSize,0)+1,FALSE),IF(IFERROR(SEARCH(\"Oil\",$A$15),0)>0,VLOOKUP(\"Oil\",HVACg_Lookup,MATCH($F$13,BuildingSize,0)+1,FALSE),IF(IFERROR(SEARCH(\"Propane\",$A$15),0)>0,VLOOKUP(\"Propane\",HVACg_Lookup,MATCH(Worksheet!$F$13,BuildingSize,0)+1,FALSE),0)))","v":0},0,0,{"$f":"IF(OR($B$4=\"\",$B$5=\"\",$A$13=\"\",$F$13=\"\",$A$15=\"\",A469=\"\",F469=\"\",J469=\"\",O469=\"\",P469=\"\")=TRUE,\"\",IF(C469=\"OSW\",IF(J469>=2,1,0),IF(C469=\"OSR\",IF(AND(J469>=2,P469>60)=TRUE,1,0),IF(C469=\"OSRH\",IF(AND(J469>=1,P469>90)=TRUE,1,0),IF(C469=\"OHLC\",IF(AND(N469=\"Y\",P469>60)=TRUE,1,0),IF(C469=\"DDC\",IF(AND(J469>=4,N469=\"Y\",P469>120)=TRUE,1,0),0))))))","v":""},{"$f":"IF(OR($B$4=\"\",$B$5=\"\",$A$13=\"\",$F$13=\"\",$A$15=\"\",A469=\"\",F469=\"\",K469=\"\",O469=\"\",P469=\"\")=TRUE,\"\",IF(C469=\"OSW\",IF(K469>=2,1,0),IF(C469=\"OSR\",IF(AND(K469>=2,Q469>60)=TRUE,1,0),IF(C469=\"OSRH\",IF(AND(K469>=1,Q469>90)=TRUE,1,0),IF(C469=\"OHLC\",IF(AND(N469=\"Y\",Q469>60)=TRUE,1,0),IF(C469=\"DDC\",IF(AND(K469>=4,N469=\"Y\",Q469>120)=TRUE,1,0),0))))))","v":""}]
[null,null,{"$f":"IF(A470=\"\",\"\",VLOOKUP(A470,MeasureCode_Lookup,2,FALSE))","v":""},null,null,null,null,null,null,null,null,null,null,null,null,{"$f":"IF(OR(A470=\"\",F470=\"\",J470=\"\",O470=\"\")=TRUE,0,J470*O470)","v":0},{"$f":"IF(OR(A470=\"\",G470=\"\",K470=\"\",O470=\"\")=TRUE,0,K470*O470)","v":0},0,0,"",{"$f":"IF(N(R470)=0,0,F470*R470*IF(T470=\"per Fixture Controlled\",J470,1))","v":0},{"$f":"IF(N(S470)=0,0,G470*S470*IF(T470=\"per Fixture Controlled\",K470,1))","v":0},0,0,0,0,0,0,0,0,0,0,0,{"$f":"AF470*8","v":0},{"$f":"AG470*8","v":0},{"$f":"W470/1000*Y470*AA470*IF(IFERROR(SEARCH(\"Gas\",$A$15),0)>0,VLOOKUP(\"Gas\",HVACg_Lookup,MATCH($F$13,BuildingSize,0)+1,FALSE),IF(IFERROR(SEARCH(\"Oil\",$A$15),0)>0,VLOOKUP(\"Oil\",HVACg_Lookup,MATCH($F$13,BuildingSize,0)+1,FALSE),IF(IFERROR(SEARCH(\"Propane\",$A$15),0)>0,VLOOKUP(\"Propane\",HVACg_Lookup,MATCH(Worksheet!$F$13,BuildingSize,0)+1,FALSE),0)))","v":0},{"$f":"X470/1000*Y470*AA470*IF(IFERROR(SEARCH(\"Gas\",$A$15),0)>0,VLOOKUP(\"Gas\",HVACg_Lookup,MATCH($F$13,BuildingSize,0)+1,FALSE),IF(IFERROR(SEARCH(\"Oil\",$A$15),0)>0,VLOOKUP(\"Oil\",HVACg_Lookup,MATCH($F$13,BuildingSize,0)+1,FALSE),IF(IFERROR(SEARCH(\"Propane\",$A$15),0)>0,VLOOKUP(\"Propane\",HVACg_Lookup,MATCH(Worksheet!$F$13,BuildingSize,0)+1,FALSE),0)))","v":0},{"$f":"AJ470*8","v":0},{"$f":"AK470*8","v":0},"",""]
[null,null,"",null,null,null,null,null,null,null,null,null,null,null,null,0,0,0,0,"",0,0,0,0,0,0,0,0,0,0,0,0,0,0,0,{"$f":"W471/1000*Y471*AA471*IF(IFERROR(SEARCH(\"Gas\",$A$15),0)>0,VLOOKUP(\"Gas\",HVACg_Lookup,MATCH($F$13,BuildingSize,0)+1,FALSE),IF(IFERROR(SEARCH(\"Oil\",$A$15),0)>0,VLOOKUP(\"Oil\",HVACg_Lookup,MATCH($F$13,BuildingSize,0)+1,FALSE),IF(IFERROR(SEARCH(\"Propane\",$A$15),0)>0,VLOOKUP(\"Propane\",HVACg_Lookup,MATCH(Worksheet!$F$13,BuildingSize,0)+1,FALSE),0)))","v":0},{"$f":"X471/1000*Y471*AA471*IF(IFERROR(SEARCH(\"Gas\",$A$15),0)>0,VLOOKUP(\"Gas\",HVACg_Lookup,MATCH($F$13,BuildingSize,0)+1,FALSE),IF(IFERROR(SEARCH(\"Oil\",$A$15),0)>0,VLOOKUP(\"Oil\",HVACg_Lookup,MATCH($F$13,BuildingSize,0)+1,FALSE),IF(IFERROR(SEARCH(\"Propane\",$A$15),0)>0,VLOOKUP(\"Propane\",HVACg_Lookup,MATCH(Worksheet!$F$13,BuildingSize,0)+1,FALSE),0)))","v":0},0,0,"",""]
[null,null,"",null,null,null,null,null,null,null,null,null,null,null,null,0,0,0,0,"",0,0,0,0,0,0,0,0,0,0,0,0,0,0,0,{"$f":"W472/1000*Y472*AA472*IF(IFERROR(SEARCH(\"Gas\",$A$15),0)>0,VLOOKUP(\"Gas\",HVACg_Lookup,MATCH($F$13,BuildingSize,0)+1,FALSE),IF(IFERROR(SEARCH(\"Oil\",$A$15),0)>0,VLOOKUP(\"Oil\",HVACg_Lookup,MATCH($F$13,BuildingSize,0)+1,FALSE),IF(IFERROR(SEARCH(\"Propane\",$A$15),0)>0,VLOOKUP(\"Propane\",HVACg_Lookup,MATCH(Worksheet!$F$13,BuildingSize,0)+1,FALSE),0)))","v":0},{"$f":"X472/1000*Y472*AA472*IF(IFERROR(SEARCH(\"Gas\",$A$15),0)>0,VLOOKUP(\"Gas\",HVACg_Lookup,MATCH($F$13,BuildingSize,0)+1,FALSE),IF(IFERROR(SEARCH(\"Oil\",$A$15),0)>0,VLOOKUP(\"Oil\",HVACg_Lookup,MATCH($F$13,BuildingSize,0)+1,FALSE),IF(IFERROR(SEARCH(\"Propane\",$A$15),0)>0,VLOOKUP(\"Propane\",HVACg_Lookup,MATCH(Worksheet!$F$13,BuildingSize,0)+1,FALSE),0)))","v":0},0,0,"",""]
[null,null,"",null,null,null,null,null,null,null,null,null,null,null,null,0,0,0,0,"",0,0,0,0,0,0,0,0,0,0,0,0,0,0,0,{"$f":"W473/1000*Y473*AA473*IF(IFERROR(SEARCH(\"Gas\",$A$15),0)>0,VLOOKUP(\"Gas\",HVACg_Lookup,MATCH($F$13,BuildingSize,0)+1,FALSE),IF(IFERROR(SEARCH(\"Oil\",$A$15),0)>0,VLOOKUP(\"Oil\",HVACg_Lookup,MATCH($F$13,BuildingSize,0)+1,FALSE),IF(IFERROR(SEARCH(\"Propane\",$A$15),0)>0,VLOOKUP(\"Propane\",HVACg_Lookup,MATCH(Worksheet!$F$13,BuildingSize,0)+1,FALSE),0)))","v":0},{"$f":"X473/1000*Y473*AA473*IF(IFERROR(SEARCH(\"Gas\",$A$15),0)>0,VLOOKUP(\"Gas\",HVACg_Lookup,MATCH($F$13,BuildingSize,0)+1,FALSE),IF(IFERROR(SEARCH(\"Oil\",$A$15),0)>0,VLOOKUP(\"Oil\",HVACg_Lookup,MATCH($F$13,BuildingSize,0)+1,FALSE),IF(IFERROR(SEARCH(\"Propane\",$A$15),0)>0,VLOOKUP(\"Propane\",HVACg_Lookup,MATCH(Worksheet!$F$13,BuildingSize,0)+1,FALSE),0)))","v":0},0,0,"",""]
[null,null,"",null,null,null,null,null,null,null,null,null,null,null,null,0,0,0,0,"",0,0,0,0,0,0,0,0,0,0,0,0,0,0,0,{"$f":"W474/1000*Y474*AA474*IF(IFERROR(SEARCH(\"Gas\",$A$15),0)>0,VLOOKUP(\"Gas\",HVACg_Lookup,MATCH($F$13,BuildingSize,0)+1,FALSE),IF(IFERROR(SEARCH(\"Oil\",$A$15),0)>0,VLOOKUP(\"Oil\",HVACg_Lookup,MATCH($F$13,BuildingSize,0)+1,FALSE),IF(IFERROR(SEARCH(\"Propane\",$A$15),0)>0,VLOOKUP(\"Propane\",HVACg_Lookup,MATCH(Worksheet!$F$13,BuildingSize,0)+1,FALSE),0)))","v":0},{"$f":"X474/1000*Y474*AA474*IF(IFERROR(SEARCH(\"Gas\",$A$15),0)>0,VLOOKUP(\"Gas\",HVACg_Lookup,MATCH($F$13,BuildingSize,0)+1,FALSE),IF(IFERROR(SEARCH(\"Oil\",$A$15),0)>0,VLOOKUP(\"Oil\",HVACg_Lookup,MATCH($F$13,BuildingSize,0)+1,FALSE),IF(IFERROR(SEARCH(\"Propane\",$A$15),0)>0,VLOOKUP(\"Propane\",HVACg_Lookup,MATCH(Worksheet!$F$13,BuildingSize,0)+1,FALSE),0)))","v":0},0,0,"",""]
[null,null,"",null,null,null,null,null,null,null,null,null,null,null,null,0,0,0,0,"",0,0,0,0,0,0,0,0,0,0,0,0,0,0,0,{"$f":"W475/1000*Y475*AA475*IF(IFERROR(SEARCH(\"Gas\",$A$15),0)>0,VLOOKUP(\"Gas\",HVACg_Lookup,MATCH($F$13,BuildingSize,0)+1,FALSE),IF(IFERROR(SEARCH(\"Oil\",$A$15),0)>0,VLOOKUP(\"Oil\",HVACg_Lookup,MATCH($F$13,BuildingSize,0)+1,FALSE),IF(IFERROR(SEARCH(\"Propane\",$A$15),0)>0,VLOOKUP(\"Propane\",HVACg_Lookup,MATCH(Worksheet!$F$13,BuildingSize,0)+1,FALSE),0)))","v":0},{"$f":"X475/1000*Y475*AA475*IF(IFERROR(SEARCH(\"Gas\",$A$15),0)>0,VLOOKUP(\"Gas\",HVACg_Lookup,MATCH($F$13,BuildingSize,0)+1,FALSE),IF(IFERROR(SEARCH(\"Oil\",$A$15),0)>0,VLOOKUP(\"Oil\",HVACg_Lookup,MATCH($F$13,BuildingSize,0)+1,FALSE),IF(IFERROR(SEARCH(\"Propane\",$A$15),0)>0,VLOOKUP(\"Propane\",HVACg_Lookup,MATCH(Worksheet!$F$13,BuildingSize,0)+1,FALSE),0)))","v":0},0,0,"",""]
[null,null,"",null,null,null,null,null,null,null,null,null,null,null,null,0,0,0,0,"",0,0,0,0,0,0,0,0,0,0,0,0,0,0,0,{"$f":"W476/1000*Y476*AA476*IF(IFERROR(SEARCH(\"Gas\",$A$15),0)>0,VLOOKUP(\"Gas\",HVACg_Lookup,MATCH($F$13,BuildingSize,0)+1,FALSE),IF(IFERROR(SEARCH(\"Oil\",$A$15),0)>0,VLOOKUP(\"Oil\",HVACg_Lookup,MATCH($F$13,BuildingSize,0)+1,FALSE),IF(IFERROR(SEARCH(\"Propane\",$A$15),0)>0,VLOOKUP(\"Propane\",HVACg_Lookup,MATCH(Worksheet!$F$13,BuildingSize,0)+1,FALSE),0)))","v":0},{"$f":"X476/1000*Y476*AA476*IF(IFERROR(SEARCH(\"Gas\",$A$15),0)>0,VLOOKUP(\"Gas\",HVACg_Lookup,MATCH($F$13,BuildingSize,0)+1,FALSE),IF(IFERROR(SEARCH(\"Oil\",$A$15),0)>0,VLOOKUP(\"Oil\",HVACg_Lookup,MATCH($F$13,BuildingSize,0)+1,FALSE),IF(IFERROR(SEARCH(\"Propane\",$A$15),0)>0,VLOOKUP(\"Propane\",HVACg_Lookup,MATCH(Worksheet!$F$13,BuildingSize,0)+1,FALSE),0)))","v":0},0,0,"",""]
[null,null,"",null,null,null,null,null,null,null,null,null,null,null,null,0,0,0,0,"",0,0,0,0,0,0,0,0,0,0,0,0,0,0,0,{"$f":"W477/1000*Y477*AA477*IF(IFERROR(SEARCH(\"Gas\",$A$15),0)>0,VLOOKUP(\"Gas\",HVACg_Lookup,MATCH($F$13,BuildingSize,0)+1,FALSE),IF(IFERROR(SEARCH(\"Oil\",$A$15),0)>0,VLOOKUP(\"Oil\",HVACg_Lookup,MATCH($F$13,BuildingSize,0)+1,FALSE),IF(IFERROR(SEARCH(\"Propane\",$A$15),0)>0,VLOOKUP(\"Propane\",HVACg_Lookup,MATCH(Worksheet!$F$13,BuildingSize,0)+1,FALSE),0)))","v":0},{"$f":"X477/1000*Y477*AA477*IF(IFERROR(SEARCH(\"Gas\",$A$15),0)>0,VLOOKUP(\"Gas\",HVACg_Lookup,MATCH($F$13,BuildingSize,0)+1,FALSE),IF(IFERROR(SEARCH(\"Oil\",$A$15),0)>0,VLOOKUP(\"Oil\",HVACg_Lookup,MATCH($F$13,BuildingSize,0)+1,FALSE),IF(IFERROR(SEARCH(\"Propane\",$A$15),0)>0,VLOOKUP(\"Propane\",HVACg_Lookup,MATCH(Worksheet!$F$13,BuildingSize,0)+1,FALSE),0)))","v":0},0,0,"",""]
[null,null,"",null,null,null,null,null,null,null,null,null,null,null,null,0,0,0,0,"",0,0,0,0,0,0,0,0,0,0,0,0,0,0,0,{"$f":"W478/1000*Y478*AA478*IF(IFERROR(SEARCH(\"Gas\",$A$15),0)>0,VLOOKUP(\"Gas\",HVACg_Lookup,MATCH($F$13,BuildingSize,0)+1,FALSE),IF(IFERROR(SEARCH(\"Oil\",$A$15),0)>0,VLOOKUP(\"Oil\",HVACg_Lookup,MATCH($F$13,BuildingSize,0)+1,FALSE),IF(IFERROR(SEARCH(\"Propane\",$A$15),0)>0,VLOOKUP(\"Propane\",HVACg_Lookup,MATCH(Worksheet!$F$13,BuildingSize,0)+1,FALSE),0)))","v":0},{"$f":"X478/1000*Y478*AA478*IF(IFERROR(SEARCH(\"Gas\",$A$15),0)>0,VLOOKUP(\"Gas\",HVACg_Lookup,MATCH($F$13,BuildingSize,0)+1,FALSE),IF(IFERROR(SEARCH(\"Oil\",$A$15),0)>0,VLOOKUP(\"Oil\",HVACg_Lookup,MATCH($F$13,BuildingSize,0)+1,FALSE),IF(IFERROR(SEARCH(\"Propane\",$A$15),0)>0,VLOOKUP(\"Propane\",HVACg_Lookup,MATCH(Worksheet!$F$13,BuildingSize,0)+1,FALSE),0)))","v":0},0,0,"",""]
[null,null,"",null,null,null,null,null,null,null,null,null,null,null,null,0,0,0,0,"",0,0,0,0,0,0,0,0,0,0,0,0,0,0,0,{"$f":"W479/1000*Y479*AA479*IF(IFERROR(SEARCH(\"Gas\",$A$15),0)>0,VLOOKUP(\"Gas\",HVACg_Lookup,MATCH($F$13,BuildingSize,0)+1,FALSE),IF(IFERROR(SEARCH(\"Oil\",$A$15),0)>0,VLOOKUP(\"Oil\",HVACg_Lookup,MATCH($F$13,BuildingSize,0)+1,FALSE),IF(IFERROR(SEARCH(\"Propane\",$A$15),0)>0,VLOOKUP(\"Propane\",HVACg_Lookup,MATCH(Worksheet!$F$13,BuildingSize,0)+1,FALSE),0)))","v":0},{"$f":"X479/1000*Y479*AA479*IF(IFERROR(SEARCH(\"Gas\",$A$15),0)>0,VLOOKUP(\"Gas\",HVACg_Lookup,MATCH($F$13,BuildingSize,0)+1,FALSE),IF(IFERROR(SEARCH(\"Oil\",$A$15),0)>0,VLOOKUP(\"Oil\",HVACg_Lookup,MATCH($F$13,BuildingSize,0)+1,FALSE),IF(IFERROR(SEARCH(\"Propane\",$A$15),0)>0,VLOOKUP(\"Propane\",HVACg_Lookup,MATCH(Worksheet!$F$13,BuildingSize,0)+1,FALSE),0)))","v":0},0,0,"",""]
[null,null,"",null,null,null,null,null,null,null,null,null,null,null,null,0,0,0,0,"",0,0,0,0,0,0,0,0,0,0,0,0,0,0,0,{"$f":"W480/1000*Y480*AA480*IF(IFERROR(SEARCH(\"Gas\",$A$15),0)>0,VLOOKUP(\"Gas\",HVACg_Lookup,MATCH($F$13,BuildingSize,0)+1,FALSE),IF(IFERROR(SEARCH(\"Oil\",$A$15),0)>0,VLOOKUP(\"Oil\",HVACg_Lookup,MATCH($F$13,BuildingSize,0)+1,FALSE),IF(IFERROR(SEARCH(\"Propane\",$A$15),0)>0,VLOOKUP(\"Propane\",HVACg_Lookup,MATCH(Worksheet!$F$13,BuildingSize,0)+1,FALSE),0)))","v":0},{"$f":"X480/1000*Y480*AA480*IF(IFERROR(SEARCH(\"Gas\",$A$15),0)>0,VLOOKUP(\"Gas\",HVACg_Lookup,MATCH($F$13,BuildingSize,0)+1,FALSE),IF(IFERROR(SEARCH(\"Oil\",$A$15),0)>0,VLOOKUP(\"Oil\",HVACg_Lookup,MATCH($F$13,BuildingSize,0)+1,FALSE),IF(IFERROR(SEARCH(\"Propane\",$A$15),0)>0,VLOOKUP(\"Propane\",HVACg_Lookup,MATCH(Worksheet!$F$13,BuildingSize,0)+1,FALSE),0)))","v":0},0,0,"",""]
[null,null,"",null,null,null,null,null,null,null,null,null,null,null,null,0,0,0,0,"",0,0,0,0,0,0,0,0,0,0,0,0,0,0,0,{"$f":"W481/1000*Y481*AA481*IF(IFERROR(SEARCH(\"Gas\",$A$15),0)>0,VLOOKUP(\"Gas\",HVACg_Lookup,MATCH($F$13,BuildingSize,0)+1,FALSE),IF(IFERROR(SEARCH(\"Oil\",$A$15),0)>0,VLOOKUP(\"Oil\",HVACg_Lookup,MATCH($F$13,BuildingSize,0)+1,FALSE),IF(IFERROR(SEARCH(\"Propane\",$A$15),0)>0,VLOOKUP(\"Propane\",HVACg_Lookup,MATCH(Worksheet!$F$13,BuildingSize,0)+1,FALSE),0)))","v":0},{"$f":"X481/1000*Y481*AA481*IF(IFERROR(SEARCH(\"Gas\",$A$15),0)>0,VLOOKUP(\"Gas\",HVACg_Lookup,MATCH($F$13,BuildingSize,0)+1,FALSE),IF(IFERROR(SEARCH(\"Oil\",$A$15),0)>0,VLOOKUP(\"Oil\",HVACg_Lookup,MATCH($F$13,BuildingSize,0)+1,FALSE),IF(IFERROR(SEARCH(\"Propane\",$A$15),0)>0,VLOOKUP(\"Propane\",HVACg_Lookup,MATCH(Worksheet!$F$13,BuildingSize,0)+1,FALSE),0)))","v":0},0,0,"",""]
[null,null,"",null,null,null,null,null,null,null,null,null,null,null,null,0,0,0,0,"",0,0,0,0,0,0,0,0,0,0,0,0,0,0,0,{"$f":"W482/1000*Y482*AA482*IF(IFERROR(SEARCH(\"Gas\",$A$15),0)>0,VLOOKUP(\"Gas\",HVACg_Lookup,MATCH($F$13,BuildingSize,0)+1,FALSE),IF(IFERROR(SEARCH(\"Oil\",$A$15),0)>0,VLOOKUP(\"Oil\",HVACg_Lookup,MATCH($F$13,BuildingSize,0)+1,FALSE),IF(IFERROR(SEARCH(\"Propane\",$A$15),0)>0,VLOOKUP(\"Propane\",HVACg_Lookup,MATCH(Worksheet!$F$13,BuildingSize,0)+1,FALSE),0)))","v":0},{"$f":"X482/1000*Y482*AA482*IF(IFERROR(SEARCH(\"Gas\",$A$15),0)>0,VLOOKUP(\"Gas\",HVACg_Lookup,MATCH($F$13,BuildingSize,0)+1,FALSE),IF(IFERROR(SEARCH(\"Oil\",$A$15),0)>0,VLOOKUP(\"Oil\",HVACg_Lookup,MATCH($F$13,BuildingSize,0)+1,FALSE),IF(IFERROR(SEARCH(\"Propane\",$A$15),0)>0,VLOOKUP(\"Propane\",HVACg_Lookup,MATCH(Worksheet!$F$13,BuildingSize,0)+1,FALSE),0)))","v":0},0,0,"",""]
[null,null,"",null,null,null,null,null,null,null,null,null,null,null,null,0,0,0,0,"",0,0,0,0,0,0,0,0,0,0,0,0,0,0,0,{"$f":"W483/1000*Y483*AA483*IF(IFERROR(SEARCH(\"Gas\",$A$15),0)>0,VLOOKUP(\"Gas\",HVACg_Lookup,MATCH($F$13,BuildingSize,0)+1,FALSE),IF(IFERROR(SEARCH(\"Oil\",$A$15),0)>0,VLOOKUP(\"Oil\",HVACg_Lookup,MATCH($F$13,BuildingSize,0)+1,FALSE),IF(IFERROR(SEARCH(\"Propane\",$A$15),0)>0,VLOOKUP(\"Propane\",HVACg_Lookup,MATCH(Worksheet!$F$13,BuildingSize,0)+1,FALSE),0)))","v":0},{"$f":"X483/1000*Y483*AA483*IF(IFERROR(SEARCH(\"Gas\",$A$15),0)>0,VLOOKUP(\"Gas\",HVACg_Lookup,MATCH($F$13,BuildingSize,0)+1,FALSE),IF(IFERROR(SEARCH(\"Oil\",$A$15),0)>0,VLOOKUP(\"Oil\",HVACg_Lookup,MATCH($F$13,BuildingSize,0)+1,FALSE),IF(IFERROR(SEARCH(\"Propane\",$A$15),0)>0,VLOOKUP(\"Propane\",HVACg_Lookup,MATCH(Worksheet!$F$13,BuildingSize,0)+1,FALSE),0)))","v":0},0,0,"",""]
[null,null,"",null,null,null,null,null,null,null,null,null,null,null,null,0,0,0,0,"",0,0,0,0,0,0,0,0,0,0,0,0,0,0,0,{"$f":"W484/1000*Y484*AA484*IF(IFERROR(SEARCH(\"Gas\",$A$15),0)>0,VLOOKUP(\"Gas\",HVACg_Lookup,MATCH($F$13,BuildingSize,0)+1,FALSE),IF(IFERROR(SEARCH(\"Oil\",$A$15),0)>0,VLOOKUP(\"Oil\",HVACg_Lookup,MATCH($F$13,BuildingSize,0)+1,FALSE),IF(IFERROR(SEARCH(\"Propane\",$A$15),0)>0,VLOOKUP(\"Propane\",HVACg_Lookup,MATCH(Worksheet!$F$13,BuildingSize,0)+1,FALSE),0)))","v":0},{"$f":"X484/1000*Y484*AA484*IF(IFERROR(SEARCH(\"Gas\",$A$15),0)>0,VLOOKUP(\"Gas\",HVACg_Lookup,MATCH($F$13,BuildingSize,0)+1,FALSE),IF(IFERROR(SEARCH(\"Oil\",$A$15),0)>0,VLOOKUP(\"Oil\",HVACg_Lookup,MATCH($F$13,BuildingSize,0)+1,FALSE),IF(IFERROR(SEARCH(\"Propane\",$A$15),0)>0,VLOOKUP(\"Propane\",HVACg_Lookup,MATCH(Worksheet!$F$13,BuildingSize,0)+1,FALSE),0)))","v":0},0,0,"",""]
[null,null,"",null,null,null,null,null,null,null,null,null,null,null,null,0,0,0,0,"",0,0,0,0,0,0,0,0,0,0,0,0,0,0,0,{"$f":"W485/1000*Y485*AA485*IF(IFERROR(SEARCH(\"Gas\",$A$15),0)>0,VLOOKUP(\"Gas\",HVACg_Lookup,MATCH($F$13,BuildingSize,0)+1,FALSE),IF(IFERROR(SEARCH(\"Oil\",$A$15),0)>0,VLOOKUP(\"Oil\",HVACg_Lookup,MATCH($F$13,BuildingSize,0)+1,FALSE),IF(IFERROR(SEARCH(\"Propane\",$A$15),0)>0,VLOOKUP(\"Propane\",HVACg_Lookup,MATCH(Worksheet!$F$13,BuildingSize,0)+1,FALSE),0)))","v":0},{"$f":"X485/1000*Y485*AA485*IF(IFERROR(SEARCH(\"Gas\",$A$15),0)>0,VLOOKUP(\"Gas\",HVACg_Lookup,MATCH($F$13,BuildingSize,0)+1,FALSE),IF(IFERROR(SEARCH(\"Oil\",$A$15),0)>0,VLOOKUP(\"Oil\",HVACg_Lookup,MATCH($F$13,BuildingSize,0)+1,FALSE),IF(IFERROR(SEARCH(\"Propane\",$A$15),0)>0,VLOOKUP(\"Propane\",HVACg_Lookup,MATCH(Worksheet!$F$13,BuildingSize,0)+1,FALSE),0)))","v":0},0,0,"",""]
[null,null,"",null,null,null,null,null,null,null,null,null,null,null,null,0,0,0,0,"",0,0,0,0,0,0,0,0,0,0,0,0,0,0,0,{"$f":"W486/1000*Y486*AA486*IF(IFERROR(SEARCH(\"Gas\",$A$15),0)>0,VLOOKUP(\"Gas\",HVACg_Lookup,MATCH($F$13,BuildingSize,0)+1,FALSE),IF(IFERROR(SEARCH(\"Oil\",$A$15),0)>0,VLOOKUP(\"Oil\",HVACg_Lookup,MATCH($F$13,BuildingSize,0)+1,FALSE),IF(IFERROR(SEARCH(\"Propane\",$A$15),0)>0,VLOOKUP(\"Propane\",HVACg_Lookup,MATCH(Worksheet!$F$13,BuildingSize,0)+1,FALSE),0)))","v":0},{"$f":"X486/1000*Y486*AA486*IF(IFERROR(SEARCH(\"Gas\",$A$15),0)>0,VLOOKUP(\"Gas\",HVACg_Lookup,MATCH($F$13,BuildingSize,0)+1,FALSE),IF(IFERROR(SEARCH(\"Oil\",$A$15),0)>0,VLOOKUP(\"Oil\",HVACg_Lookup,MATCH($F$13,BuildingSize,0)+1,FALSE),IF(IFERROR(SEARCH(\"Propane\",$A$15),0)>0,VLOOKUP(\"Propane\",HVACg_Lookup,MATCH(Worksheet!$F$13,BuildingSize,0)+1,FALSE),0)))","v":0},0,0,"",""]
[null,null,"",null,null,null,null,null,null,null,null,null,null,null,null,0,0,0,0,"",0,0,0,0,0,0,0,0,0,0,0,0,0,0,0,{"$f":"W487/1000*Y487*AA487*IF(IFERROR(SEARCH(\"Gas\",$A$15),0)>0,VLOOKUP(\"Gas\",HVACg_Lookup,MATCH($F$13,BuildingSize,0)+1,FALSE),IF(IFERROR(SEARCH(\"Oil\",$A$15),0)>0,VLOOKUP(\"Oil\",HVACg_Lookup,MATCH($F$13,BuildingSize,0)+1,FALSE),IF(IFERROR(SEARCH(\"Propane\",$A$15),0)>0,VLOOKUP(\"Propane\",HVACg_Lookup,MATCH(Worksheet!$F$13,BuildingSize,0)+1,FALSE),0)))","v":0},{"$f":"X487/1000*Y487*AA487*IF(IFERROR(SEARCH(\"Gas\",$A$15),0)>0,VLOOKUP(\"Gas\",HVACg_Lookup,MATCH($F$13,BuildingSize,0)+1,FALSE),IF(IFERROR(SEARCH(\"Oil\",$A$15),0)>0,VLOOKUP(\"Oil\",HVACg_Lookup,MATCH($F$13,BuildingSize,0)+1,FALSE),IF(IFERROR(SEARCH(\"Propane\",$A$15),0)>0,VLOOKUP(\"Propane\",HVACg_Lookup,MATCH(Worksheet!$F$13,BuildingSize,0)+1,FALSE),0)))","v":0},0,0,"",""]
[null,null,"",null,null,null,null,null,null,null,null,null,null,null,null,0,0,0,0,"",0,0,0,0,0,0,0,0,0,0,0,0,0,0,0,{"$f":"W488/1000*Y488*AA488*IF(IFERROR(SEARCH(\"Gas\",$A$15),0)>0,VLOOKUP(\"Gas\",HVACg_Lookup,MATCH($F$13,BuildingSize,0)+1,FALSE),IF(IFERROR(SEARCH(\"Oil\",$A$15),0)>0,VLOOKUP(\"Oil\",HVACg_Lookup,MATCH($F$13,BuildingSize,0)+1,FALSE),IF(IFERROR(SEARCH(\"Propane\",$A$15),0)>0,VLOOKUP(\"Propane\",HVACg_Lookup,MATCH(Worksheet!$F$13,BuildingSize,0)+1,FALSE),0)))","v":0},{"$f":"X488/1000*Y488*AA488*IF(IFERROR(SEARCH(\"Gas\",$A$15),0)>0,VLOOKUP(\"Gas\",HVACg_Lookup,MATCH($F$13,BuildingSize,0)+1,FALSE),IF(IFERROR(SEARCH(\"Oil\",$A$15),0)>0,VLOOKUP(\"Oil\",HVACg_Lookup,MATCH($F$13,BuildingSize,0)+1,FALSE),IF(IFERROR(SEARCH(\"Propane\",$A$15),0)>0,VLOOKUP(\"Propane\",HVACg_Lookup,MATCH(Worksheet!$F$13,BuildingSize,0)+1,FALSE),0)))","v":0},0,0,"",""]
[null,null,"",null,null,null,null,null,null,null,null,null,null,null,null,0,0,0,0,"",0,0,0,0,0,0,0,0,0,0,0,0,0,0,0,{"$f":"W489/1000*Y489*AA489*IF(IFERROR(SEARCH(\"Gas\",$A$15),0)>0,VLOOKUP(\"Gas\",HVACg_Lookup,MATCH($F$13,BuildingSize,0)+1,FALSE),IF(IFERROR(SEARCH(\"Oil\",$A$15),0)>0,VLOOKUP(\"Oil\",HVACg_Lookup,MATCH($F$13,BuildingSize,0)+1,FALSE),IF(IFERROR(SEARCH(\"Propane\",$A$15),0)>0,VLOOKUP(\"Propane\",HVACg_Lookup,MATCH(Worksheet!$F$13,BuildingSize,0)+1,FALSE),0)))","v":0},{"$f":"X489/1000*Y489*AA489*IF(IFERROR(SEARCH(\"Gas\",$A$15),0)>0,VLOOKUP(\"Gas\",HVACg_Lookup,MATCH($F$13,BuildingSize,0)+1,FALSE),IF(IFERROR(SEARCH(\"Oil\",$A$15),0)>0,VLOOKUP(\"Oil\",HVACg_Lookup,MATCH($F$13,BuildingSize,0)+1,FALSE),IF(IFERROR(SEARCH(\"Propane\",$A$15),0)>0,VLOOKUP(\"Propane\",HVACg_Lookup,MATCH(Worksheet!$F$13,BuildingSize,0)+1,FALSE),0)))","v":0},0,0,"",""]
[null,null,"",null,null,null,null,null,null,null,null,null,null,null,null,0,0,0,0,"",0,0,0,0,0,0,0,0,0,0,0,0,0,0,0,{"$f":"W490/1000*Y490*AA490*IF(IFERROR(SEARCH(\"Gas\",$A$15),0)>0,VLOOKUP(\"Gas\",HVACg_Lookup,MATCH($F$13,BuildingSize,0)+1,FALSE),IF(IFERROR(SEARCH(\"Oil\",$A$15),0)>0,VLOOKUP(\"Oil\",HVACg_Lookup,MATCH($F$13,BuildingSize,0)+1,FALSE),IF(IFERROR(SEARCH(\"Propane\",$A$15),0)>0,VLOOKUP(\"Propane\",HVACg_Lookup,MATCH(Worksheet!$F$13,BuildingSize,0)+1,FALSE),0)))","v":0},{"$f":"X490/1000*Y490*AA490*IF(IFERROR(SEARCH(\"Gas\",$A$15),0)>0,VLOOKUP(\"Gas\",HVACg_Lookup,MATCH($F$13,BuildingSize,0)+1,FALSE),IF(IFERROR(SEARCH(\"Oil\",$A$15),0)>0,VLOOKUP(\"Oil\",HVACg_Lookup,MATCH($F$13,BuildingSize,0)+1,FALSE),IF(IFERROR(SEARCH(\"Propane\",$A$15),0)>0,VLOOKUP(\"Propane\",HVACg_Lookup,MATCH(Worksheet!$F$13,BuildingSize,0)+1,FALSE),0)))","v":0},0,0,"",""]
[null,null,"",null,null,null,null,null,null,null,null,null,null,null,null,0,0,0,0,"",0,0,0,0,0,0,0,0,0,0,0,0,0,0,0,{"$f":"W491/1000*Y491*AA491*IF(IFERROR(SEARCH(\"Gas\",$A$15),0)>0,VLOOKUP(\"Gas\",HVACg_Lookup,MATCH($F$13,BuildingSize,0)+1,FALSE),IF(IFERROR(SEARCH(\"Oil\",$A$15),0)>0,VLOOKUP(\"Oil\",HVACg_Lookup,MATCH($F$13,BuildingSize,0)+1,FALSE),IF(IFERROR(SEARCH(\"Propane\",$A$15),0)>0,VLOOKUP(\"Propane\",HVACg_Lookup,MATCH(Worksheet!$F$13,BuildingSize,0)+1,FALSE),0)))","v":0},{"$f":"X491/1000*Y491*AA491*IF(IFERROR(SEARCH(\"Gas\",$A$15),0)>0,VLOOKUP(\"Gas\",HVACg_Lookup,MATCH($F$13,BuildingSize,0)+1,FALSE),IF(IFERROR(SEARCH(\"Oil\",$A$15),0)>0,VLOOKUP(\"Oil\",HVACg_Lookup,MATCH($F$13,BuildingSize,0)+1,FALSE),IF(IFERROR(SEARCH(\"Propane\",$A$15),0)>0,VLOOKUP(\"Propane\",HVACg_Lookup,MATCH(Worksheet!$F$13,BuildingSize,0)+1,FALSE),0)))","v":0},0,0,"",""]
[null,null,"",null,null,null,null,null,null,null,null,null,null,null,null,0,0,0,0,"",0,0,0,0,0,0,0,0,0,0,0,0,0,0,0,{"$f":"W492/1000*Y492*AA492*IF(IFERROR(SEARCH(\"Gas\",$A$15),0)>0,VLOOKUP(\"Gas\",HVACg_Lookup,MATCH($F$13,BuildingSize,0)+1,FALSE),IF(IFERROR(SEARCH(\"Oil\",$A$15),0)>0,VLOOKUP(\"Oil\",HVACg_Lookup,MATCH($F$13,BuildingSize,0)+1,FALSE),IF(IFERROR(SEARCH(\"Propane\",$A$15),0)>0,VLOOKUP(\"Propane\",HVACg_Lookup,MATCH(Worksheet!$F$13,BuildingSize,0)+1,FALSE),0)))","v":0},{"$f":"X492/1000*Y492*AA492*IF(IFERROR(SEARCH(\"Gas\",$A$15),0)>0,VLOOKUP(\"Gas\",HVACg_Lookup,MATCH($F$13,BuildingSize,0)+1,FALSE),IF(IFERROR(SEARCH(\"Oil\",$A$15),0)>0,VLOOKUP(\"Oil\",HVACg_Lookup,MATCH($F$13,BuildingSize,0)+1,FALSE),IF(IFERROR(SEARCH(\"Propane\",$A$15),0)>0,VLOOKUP(\"Propane\",HVACg_Lookup,MATCH(Worksheet!$F$13,BuildingSize,0)+1,FALSE),0)))","v":0},0,0,"",""]
[null,null,"",null,null,null,null,null,null,null,null,null,null,null,null,0,0,0,0,"",0,0,0,0,0,0,0,0,0,0,0,0,0,0,0,{"$f":"W493/1000*Y493*AA493*IF(IFERROR(SEARCH(\"Gas\",$A$15),0)>0,VLOOKUP(\"Gas\",HVACg_Lookup,MATCH($F$13,BuildingSize,0)+1,FALSE),IF(IFERROR(SEARCH(\"Oil\",$A$15),0)>0,VLOOKUP(\"Oil\",HVACg_Lookup,MATCH($F$13,BuildingSize,0)+1,FALSE),IF(IFERROR(SEARCH(\"Propane\",$A$15),0)>0,VLOOKUP(\"Propane\",HVACg_Lookup,MATCH(Worksheet!$F$13,BuildingSize,0)+1,FALSE),0)))","v":0},{"$f":"X493/1000*Y493*AA493*IF(IFERROR(SEARCH(\"Gas\",$A$15),0)>0,VLOOKUP(\"Gas\",HVACg_Lookup,MATCH($F$13,BuildingSize,0)+1,FALSE),IF(IFERROR(SEARCH(\"Oil\",$A$15),0)>0,VLOOKUP(\"Oil\",HVACg_Lookup,MATCH($F$13,BuildingSize,0)+1,FALSE),IF(IFERROR(SEARCH(\"Propane\",$A$15),0)>0,VLOOKUP(\"Propane\",HVACg_Lookup,MATCH(Worksheet!$F$13,BuildingSize,0)+1,FALSE),0)))","v":0},0,0,"",""]
[null,null,"",null,null,null,null,null,null,null,null,null,null,null,null,0,0,0,0,"",0,0,0,0,0,0,0,0,0,0,0,0,0,0,0,{"$f":"W494/1000*Y494*AA494*IF(IFERROR(SEARCH(\"Gas\",$A$15),0)>0,VLOOKUP(\"Gas\",HVACg_Lookup,MATCH($F$13,BuildingSize,0)+1,FALSE),IF(IFERROR(SEARCH(\"Oil\",$A$15),0)>0,VLOOKUP(\"Oil\",HVACg_Lookup,MATCH($F$13,BuildingSize,0)+1,FALSE),IF(IFERROR(SEARCH(\"Propane\",$A$15),0)>0,VLOOKUP(\"Propane\",HVACg_Lookup,MATCH(Worksheet!$F$13,BuildingSize,0)+1,FALSE),0)))","v":0},{"$f":"X494/1000*Y494*AA494*IF(IFERROR(SEARCH(\"Gas\",$A$15),0)>0,VLOOKUP(\"Gas\",HVACg_Lookup,MATCH($F$13,BuildingSize,0)+1,FALSE),IF(IFERROR(SEARCH(\"Oil\",$A$15),0)>0,VLOOKUP(\"Oil\",HVACg_Lookup,MATCH($F$13,BuildingSize,0)+1,FALSE),IF(IFERROR(SEARCH(\"Propane\",$A$15),0)>0,VLOOKUP(\"Propane\",HVACg_Lookup,MATCH(Worksheet!$F$13,BuildingSize,0)+1,FALSE),0)))","v":0},0,0,"",""]
[null,null,"",null,null,null,null,null,null,null,null,null,null,null,null,0,0,0,0,"",0,0,0,0,0,0,0,0,0,0,0,0,0,0,0,{"$f":"W495/1000*Y495*AA495*IF(IFERROR(SEARCH(\"Gas\",$A$15),0)>0,VLOOKUP(\"Gas\",HVACg_Lookup,MATCH($F$13,BuildingSize,0)+1,FALSE),IF(IFERROR(SEARCH(\"Oil\",$A$15),0)>0,VLOOKUP(\"Oil\",HVACg_Lookup,MATCH($F$13,BuildingSize,0)+1,FALSE),IF(IFERROR(SEARCH(\"Propane\",$A$15),0)>0,VLOOKUP(\"Propane\",HVACg_Lookup,MATCH(Worksheet!$F$13,BuildingSize,0)+1,FALSE),0)))","v":0},{"$f":"X495/1000*Y495*AA495*IF(IFERROR(SEARCH(\"Gas\",$A$15),0)>0,VLOOKUP(\"Gas\",HVACg_Lookup,MATCH($F$13,BuildingSize,0)+1,FALSE),IF(IFERROR(SEARCH(\"Oil\",$A$15),0)>0,VLOOKUP(\"Oil\",HVACg_Lookup,MATCH($F$13,BuildingSize,0)+1,FALSE),IF(IFERROR(SEARCH(\"Propane\",$A$15),0)>0,VLOOKUP(\"Propane\",HVACg_Lookup,MATCH(Worksheet!$F$13,BuildingSize,0)+1,FALSE),0)))","v":0},0,0,"",""]
[null,null,"",null,null,null,null,null,null,null,null,null,null,null,null,0,0,0,0,"",0,0,0,0,0,0,0,0,0,0,0,0,0,0,0,{"$f":"W496/1000*Y496*AA496*IF(IFERROR(SEARCH(\"Gas\",$A$15),0)>0,VLOOKUP(\"Gas\",HVACg_Lookup,MATCH($F$13,BuildingSize,0)+1,FALSE),IF(IFERROR(SEARCH(\"Oil\",$A$15),0)>0,VLOOKUP(\"Oil\",HVACg_Lookup,MATCH($F$13,BuildingSize,0)+1,FALSE),IF(IFERROR(SEARCH(\"Propane\",$A$15),0)>0,VLOOKUP(\"Propane\",HVACg_Lookup,MATCH(Worksheet!$F$13,BuildingSize,0)+1,FALSE),0)))","v":0},{"$f":"X496/1000*Y496*AA496*IF(IFERROR(SEARCH(\"Gas\",$A$15),0)>0,VLOOKUP(\"Gas\",HVACg_Lookup,MATCH($F$13,BuildingSize,0)+1,FALSE),IF(IFERROR(SEARCH(\"Oil\",$A$15),0)>0,VLOOKUP(\"Oil\",HVACg_Lookup,MATCH($F$13,BuildingSize,0)+1,FALSE),IF(IFERROR(SEARCH(\"Propane\",$A$15),0)>0,VLOOKUP(\"Propane\",HVACg_Lookup,MATCH(Worksheet!$F$13,BuildingSize,0)+1,FALSE),0)))","v":0},0,0,"",""]
[null,null,"",null,null,null,null,null,null,null,null,null,null,null,null,0,0,0,0,"",0,0,0,0,0,0,0,0,0,0,0,0,0,0,0,{"$f":"W497/1000*Y497*AA497*IF(IFERROR(SEARCH(\"Gas\",$A$15),0)>0,VLOOKUP(\"Gas\",HVACg_Lookup,MATCH($F$13,BuildingSize,0)+1,FALSE),IF(IFERROR(SEARCH(\"Oil\",$A$15),0)>0,VLOOKUP(\"Oil\",HVACg_Lookup,MATCH($F$13,BuildingSize,0)+1,FALSE),IF(IFERROR(SEARCH(\"Propane\",$A$15),0)>0,VLOOKUP(\"Propane\",HVACg_Lookup,MATCH(Worksheet!$F$13,BuildingSize,0)+1,FALSE),0)))","v":0},{"$f":"X497/1000*Y497*AA497*IF(IFERROR(SEARCH(\"Gas\",$A$15),0)>0,VLOOKUP(\"Gas\",HVACg_Lookup,MATCH($F$13,BuildingSize,0)+1,FALSE),IF(IFERROR(SEARCH(\"Oil\",$A$15),0)>0,VLOOKUP(\"Oil\",HVACg_Lookup,MATCH($F$13,BuildingSize,0)+1,FALSE),IF(IFERROR(SEARCH(\"Propane\",$A$15),0)>0,VLOOKUP(\"Propane\",HVACg_Lookup,MATCH(Worksheet!$F$13,BuildingSize,0)+1,FALSE),0)))","v":0},0,0,"",""]
[null,null,"",null,null,null,null,null,null,null,null,null,null,null,null,0,0,0,0,"",0,0,0,0,0,0,0,0,0,0,0,0,0,0,0,{"$f":"W498/1000*Y498*AA498*IF(IFERROR(SEARCH(\"Gas\",$A$15),0)>0,VLOOKUP(\"Gas\",HVACg_Lookup,MATCH($F$13,BuildingSize,0)+1,FALSE),IF(IFERROR(SEARCH(\"Oil\",$A$15),0)>0,VLOOKUP(\"Oil\",HVACg_Lookup,MATCH($F$13,BuildingSize,0)+1,FALSE),IF(IFERROR(SEARCH(\"Propane\",$A$15),0)>0,VLOOKUP(\"Propane\",HVACg_Lookup,MATCH(Worksheet!$F$13,BuildingSize,0)+1,FALSE),0)))","v":0},{"$f":"X498/1000*Y498*AA498*IF(IFERROR(SEARCH(\"Gas\",$A$15),0)>0,VLOOKUP(\"Gas\",HVACg_Lookup,MATCH($F$13,BuildingSize,0)+1,FALSE),IF(IFERROR(SEARCH(\"Oil\",$A$15),0)>0,VLOOKUP(\"Oil\",HVACg_Lookup,MATCH($F$13,BuildingSize,0)+1,FALSE),IF(IFERROR(SEARCH(\"Propane\",$A$15),0)>0,VLOOKUP(\"Propane\",HVACg_Lookup,MATCH(Worksheet!$F$13,BuildingSize,0)+1,FALSE),0)))","v":0},0,0,"",""]
[null,null,"",null,null,null,null,null,null,null,null,null,null,null,null,0,0,0,0,"",0,0,0,0,0,0,0,0,0,0,0,0,0,0,0,{"$f":"W499/1000*Y499*AA499*IF(IFERROR(SEARCH(\"Gas\",$A$15),0)>0,VLOOKUP(\"Gas\",HVACg_Lookup,MATCH($F$13,BuildingSize,0)+1,FALSE),IF(IFERROR(SEARCH(\"Oil\",$A$15),0)>0,VLOOKUP(\"Oil\",HVACg_Lookup,MATCH($F$13,BuildingSize,0)+1,FALSE),IF(IFERROR(SEARCH(\"Propane\",$A$15),0)>0,VLOOKUP(\"Propane\",HVACg_Lookup,MATCH(Worksheet!$F$13,BuildingSize,0)+1,FALSE),0)))","v":0},{"$f":"X499/1000*Y499*AA499*IF(IFERROR(SEARCH(\"Gas\",$A$15),0)>0,VLOOKUP(\"Gas\",HVACg_Lookup,MATCH($F$13,BuildingSize,0)+1,FALSE),IF(IFERROR(SEARCH(\"Oil\",$A$15),0)>0,VLOOKUP(\"Oil\",HVACg_Lookup,MATCH($F$13,BuildingSize,0)+1,FALSE),IF(IFERROR(SEARCH(\"Propane\",$A$15),0)>0,VLOOKUP(\"Propane\",HVACg_Lookup,MATCH(Worksheet!$F$13,BuildingSize,0)+1,FALSE),0)))","v":0},0,0,"",""]
[null,null,"",null,null,null,null,null,null,null,null,null,null,null,null,0,0,0,0,"",0,0,0,0,0,0,0,0,0,0,0,0,0,0,0,{"$f":"W500/1000*Y500*AA500*IF(IFERROR(SEARCH(\"Gas\",$A$15),0)>0,VLOOKUP(\"Gas\",HVACg_Lookup,MATCH($F$13,BuildingSize,0)+1,FALSE),IF(IFERROR(SEARCH(\"Oil\",$A$15),0)>0,VLOOKUP(\"Oil\",HVACg_Lookup,MATCH($F$13,BuildingSize,0)+1,FALSE),IF(IFERROR(SEARCH(\"Propane\",$A$15),0)>0,VLOOKUP(\"Propane\",HVACg_Lookup,MATCH(Worksheet!$F$13,BuildingSize,0)+1,FALSE),0)))","v":0},{"$f":"X500/1000*Y500*AA500*IF(IFERROR(SEARCH(\"Gas\",$A$15),0)>0,VLOOKUP(\"Gas\",HVACg_Lookup,MATCH($F$13,BuildingSize,0)+1,FALSE),IF(IFERROR(SEARCH(\"Oil\",$A$15),0)>0,VLOOKUP(\"Oil\",HVACg_Lookup,MATCH($F$13,BuildingSize,0)+1,FALSE),IF(IFERROR(SEARCH(\"Propane\",$A$15),0)>0,VLOOKUP(\"Propane\",HVACg_Lookup,MATCH(Worksheet!$F$13,BuildingSize,0)+1,FALSE),0)))","v":0},0,0,"",""]
[null,null,"",null,null,null,null,null,null,null,null,null,null,null,null,0,0,0,0,"",0,0,0,0,0,0,0,0,0,0,0,0,0,0,0,{"$f":"W501/1000*Y501*AA501*IF(IFERROR(SEARCH(\"Gas\",$A$15),0)>0,VLOOKUP(\"Gas\",HVACg_Lookup,MATCH($F$13,BuildingSize,0)+1,FALSE),IF(IFERROR(SEARCH(\"Oil\",$A$15),0)>0,VLOOKUP(\"Oil\",HVACg_Lookup,MATCH($F$13,BuildingSize,0)+1,FALSE),IF(IFERROR(SEARCH(\"Propane\",$A$15),0)>0,VLOOKUP(\"Propane\",HVACg_Lookup,MATCH(Worksheet!$F$13,BuildingSize,0)+1,FALSE),0)))","v":0},{"$f":"X501/1000*Y501*AA501*IF(IFERROR(SEARCH(\"Gas\",$A$15),0)>0,VLOOKUP(\"Gas\",HVACg_Lookup,MATCH($F$13,BuildingSize,0)+1,FALSE),IF(IFERROR(SEARCH(\"Oil\",$A$15),0)>0,VLOOKUP(\"Oil\",HVACg_Lookup,MATCH($F$13,BuildingSize,0)+1,FALSE),IF(IFERROR(SEARCH(\"Propane\",$A$15),0)>0,VLOOKUP(\"Propane\",HVACg_Lookup,MATCH(Worksheet!$F$13,BuildingSize,0)+1,FALSE),0)))","v":0},0,0,"",""]
[null,null,"",null,null,null,null,null,null,null,null,null,null,null,null,0,0,0,0,"",0,0,0,0,0,0,0,0,0,0,0,0,0,0,0,{"$f":"W502/1000*Y502*AA502*IF(IFERROR(SEARCH(\"Gas\",$A$15),0)>0,VLOOKUP(\"Gas\",HVACg_Lookup,MATCH($F$13,BuildingSize,0)+1,FALSE),IF(IFERROR(SEARCH(\"Oil\",$A$15),0)>0,VLOOKUP(\"Oil\",HVACg_Lookup,MATCH($F$13,BuildingSize,0)+1,FALSE),IF(IFERROR(SEARCH(\"Propane\",$A$15),0)>0,VLOOKUP(\"Propane\",HVACg_Lookup,MATCH(Worksheet!$F$13,BuildingSize,0)+1,FALSE),0)))","v":0},{"$f":"X502/1000*Y502*AA502*IF(IFERROR(SEARCH(\"Gas\",$A$15),0)>0,VLOOKUP(\"Gas\",HVACg_Lookup,MATCH($F$13,BuildingSize,0)+1,FALSE),IF(IFERROR(SEARCH(\"Oil\",$A$15),0)>0,VLOOKUP(\"Oil\",HVACg_Lookup,MATCH($F$13,BuildingSize,0)+1,FALSE),IF(IFERROR(SEARCH(\"Propane\",$A$15),0)>0,VLOOKUP(\"Propane\",HVACg_Lookup,MATCH(Worksheet!$F$13,BuildingSize,0)+1,FALSE),0)))","v":0},0,0,"",""]
[null,null,"",null,null,null,null,null,null,null,null,null,null,null,null,0,0,0,0,"",0,0,0,0,0,0,0,0,0,0,0,0,0,0,0,{"$f":"W503/1000*Y503*AA503*IF(IFERROR(SEARCH(\"Gas\",$A$15),0)>0,VLOOKUP(\"Gas\",HVACg_Lookup,MATCH($F$13,BuildingSize,0)+1,FALSE),IF(IFERROR(SEARCH(\"Oil\",$A$15),0)>0,VLOOKUP(\"Oil\",HVACg_Lookup,MATCH($F$13,BuildingSize,0)+1,FALSE),IF(IFERROR(SEARCH(\"Propane\",$A$15),0)>0,VLOOKUP(\"Propane\",HVACg_Lookup,MATCH(Worksheet!$F$13,BuildingSize,0)+1,FALSE),0)))","v":0},{"$f":"X503/1000*Y503*AA503*IF(IFERROR(SEARCH(\"Gas\",$A$15),0)>0,VLOOKUP(\"Gas\",HVACg_Lookup,MATCH($F$13,BuildingSize,0)+1,FALSE),IF(IFERROR(SEARCH(\"Oil\",$A$15),0)>0,VLOOKUP(\"Oil\",HVACg_Lookup,MATCH($F$13,BuildingSize,0)+1,FALSE),IF(IFERROR(SEARCH(\"Propane\",$A$15),0)>0,VLOOKUP(\"Propane\",HVACg_Lookup,MATCH(Worksheet!$F$13,BuildingSize,0)+1,FALSE),0)))","v":0},0,0,"",""]
[null,null,"",null,null,null,null,null,null,null,null,null,null,null,null,0,0,0,0,"",0,0,0,0,0,0,0,0,0,0,0,0,0,0,0,{"$f":"W504/1000*Y504*AA504*IF(IFERROR(SEARCH(\"Gas\",$A$15),0)>0,VLOOKUP(\"Gas\",HVACg_Lookup,MATCH($F$13,BuildingSize,0)+1,FALSE),IF(IFERROR(SEARCH(\"Oil\",$A$15),0)>0,VLOOKUP(\"Oil\",HVACg_Lookup,MATCH($F$13,BuildingSize,0)+1,FALSE),IF(IFERROR(SEARCH(\"Propane\",$A$15),0)>0,VLOOKUP(\"Propane\",HVACg_Lookup,MATCH(Worksheet!$F$13,BuildingSize,0)+1,FALSE),0)))","v":0},{"$f":"X504/1000*Y504*AA504*IF(IFERROR(SEARCH(\"Gas\",$A$15),0)>0,VLOOKUP(\"Gas\",HVACg_Lookup,MATCH($F$13,BuildingSize,0)+1,FALSE),IF(IFERROR(SEARCH(\"Oil\",$A$15),0)>0,VLOOKUP(\"Oil\",HVACg_Lookup,MATCH($F$13,BuildingSize,0)+1,FALSE),IF(IFERROR(SEARCH(\"Propane\",$A$15),0)>0,VLOOKUP(\"Propane\",HVACg_Lookup,MATCH(Worksheet!$F$13,BuildingSize,0)+1,FALSE),0)))","v":0},0,0,"",""]
[null,null,"",null,null,null,null,null,null,null,null,null,null,null,null,0,0,0,0,"",0,0,0,0,0,0,0,0,0,0,0,0,0,0,0,{"$f":"W505/1000*Y505*AA505*IF(IFERROR(SEARCH(\"Gas\",$A$15),0)>0,VLOOKUP(\"Gas\",HVACg_Lookup,MATCH($F$13,BuildingSize,0)+1,FALSE),IF(IFERROR(SEARCH(\"Oil\",$A$15),0)>0,VLOOKUP(\"Oil\",HVACg_Lookup,MATCH($F$13,BuildingSize,0)+1,FALSE),IF(IFERROR(SEARCH(\"Propane\",$A$15),0)>0,VLOOKUP(\"Propane\",HVACg_Lookup,MATCH(Worksheet!$F$13,BuildingSize,0)+1,FALSE),0)))","v":0},{"$f":"X505/1000*Y505*AA505*IF(IFERROR(SEARCH(\"Gas\",$A$15),0)>0,VLOOKUP(\"Gas\",HVACg_Lookup,MATCH($F$13,BuildingSize,0)+1,FALSE),IF(IFERROR(SEARCH(\"Oil\",$A$15),0)>0,VLOOKUP(\"Oil\",HVACg_Lookup,MATCH($F$13,BuildingSize,0)+1,FALSE),IF(IFERROR(SEARCH(\"Propane\",$A$15),0)>0,VLOOKUP(\"Propane\",HVACg_Lookup,MATCH(Worksheet!$F$13,BuildingSize,0)+1,FALSE),0)))","v":0},0,0,"",""]
[null,null,"",null,null,null,null,null,null,null,null,null,null,null,null,0,0,0,0,"",0,0,0,0,0,0,0,0,0,0,0,0,0,0,0,{"$f":"W506/1000*Y506*AA506*IF(IFERROR(SEARCH(\"Gas\",$A$15),0)>0,VLOOKUP(\"Gas\",HVACg_Lookup,MATCH($F$13,BuildingSize,0)+1,FALSE),IF(IFERROR(SEARCH(\"Oil\",$A$15),0)>0,VLOOKUP(\"Oil\",HVACg_Lookup,MATCH($F$13,BuildingSize,0)+1,FALSE),IF(IFERROR(SEARCH(\"Propane\",$A$15),0)>0,VLOOKUP(\"Propane\",HVACg_Lookup,MATCH(Worksheet!$F$13,BuildingSize,0)+1,FALSE),0)))","v":0},{"$f":"X506/1000*Y506*AA506*IF(IFERROR(SEARCH(\"Gas\",$A$15),0)>0,VLOOKUP(\"Gas\",HVACg_Lookup,MATCH($F$13,BuildingSize,0)+1,FALSE),IF(IFERROR(SEARCH(\"Oil\",$A$15),0)>0,VLOOKUP(\"Oil\",HVACg_Lookup,MATCH($F$13,BuildingSize,0)+1,FALSE),IF(IFERROR(SEARCH(\"Propane\",$A$15),0)>0,VLOOKUP(\"Propane\",HVACg_Lookup,MATCH(Worksheet!$F$13,BuildingSize,0)+1,FALSE),0)))","v":0},0,0,"",""]
[null,null,"",null,null,null,null,null,null,null,null,null,null,null,null,0,0,0,0,"",0,0,0,0,0,0,0,0,0,0,0,0,0,0,0,{"$f":"W507/1000*Y507*AA507*IF(IFERROR(SEARCH(\"Gas\",$A$15),0)>0,VLOOKUP(\"Gas\",HVACg_Lookup,MATCH($F$13,BuildingSize,0)+1,FALSE),IF(IFERROR(SEARCH(\"Oil\",$A$15),0)>0,VLOOKUP(\"Oil\",HVACg_Lookup,MATCH($F$13,BuildingSize,0)+1,FALSE),IF(IFERROR(SEARCH(\"Propane\",$A$15),0)>0,VLOOKUP(\"Propane\",HVACg_Lookup,MATCH(Worksheet!$F$13,BuildingSize,0)+1,FALSE),0)))","v":0},{"$f":"X507/1000*Y507*AA507*IF(IFERROR(SEARCH(\"Gas\",$A$15),0)>0,VLOOKUP(\"Gas\",HVACg_Lookup,MATCH($F$13,BuildingSize,0)+1,FALSE),IF(IFERROR(SEARCH(\"Oil\",$A$15),0)>0,VLOOKUP(\"Oil\",HVACg_Lookup,MATCH($F$13,BuildingSize,0)+1,FALSE),IF(IFERROR(SEARCH(\"Propane\",$A$15),0)>0,VLOOKUP(\"Propane\",HVACg_Lookup,MATCH(Worksheet!$F$13,BuildingSize,0)+1,FALSE),0)))","v":0},0,0,"",""]
[null,null,"",null,null,null,null,null,null,null,null,null,null,null,null,0,0,0,0,"",0,0,0,0,0,0,0,0,0,0,0,0,0,0,0,{"$f":"W508/1000*Y508*AA508*IF(IFERROR(SEARCH(\"Gas\",$A$15),0)>0,VLOOKUP(\"Gas\",HVACg_Lookup,MATCH($F$13,BuildingSize,0)+1,FALSE),IF(IFERROR(SEARCH(\"Oil\",$A$15),0)>0,VLOOKUP(\"Oil\",HVACg_Lookup,MATCH($F$13,BuildingSize,0)+1,FALSE),IF(IFERROR(SEARCH(\"Propane\",$A$15),0)>0,VLOOKUP(\"Propane\",HVACg_Lookup,MATCH(Worksheet!$F$13,BuildingSize,0)+1,FALSE),0)))","v":0},{"$f":"X508/1000*Y508*AA508*IF(IFERROR(SEARCH(\"Gas\",$A$15),0)>0,VLOOKUP(\"Gas\",HVACg_Lookup,MATCH($F$13,BuildingSize,0)+1,FALSE),IF(IFERROR(SEARCH(\"Oil\",$A$15),0)>0,VLOOKUP(\"Oil\",HVACg_Lookup,MATCH($F$13,BuildingSize,0)+1,FALSE),IF(IFERROR(SEARCH(\"Propane\",$A$15),0)>0,VLOOKUP(\"Propane\",HVACg_Lookup,MATCH(Worksheet!$F$13,BuildingSize,0)+1,FALSE),0)))","v":0},0,0,"",""]
[null,null,"",null,null,null,null,null,null,null,null,null,null,null,null,0,0,0,0,"",0,0,0,0,0,0,0,0,0,0,0,0,0,0,0,{"$f":"W509/1000*Y509*AA509*IF(IFERROR(SEARCH(\"Gas\",$A$15),0)>0,VLOOKUP(\"Gas\",HVACg_Lookup,MATCH($F$13,BuildingSize,0)+1,FALSE),IF(IFERROR(SEARCH(\"Oil\",$A$15),0)>0,VLOOKUP(\"Oil\",HVACg_Lookup,MATCH($F$13,BuildingSize,0)+1,FALSE),IF(IFERROR(SEARCH(\"Propane\",$A$15),0)>0,VLOOKUP(\"Propane\",HVACg_Lookup,MATCH(Worksheet!$F$13,BuildingSize,0)+1,FALSE),0)))","v":0},{"$f":"X509/1000*Y509*AA509*IF(IFERROR(SEARCH(\"Gas\",$A$15),0)>0,VLOOKUP(\"Gas\",HVACg_Lookup,MATCH($F$13,BuildingSize,0)+1,FALSE),IF(IFERROR(SEARCH(\"Oil\",$A$15),0)>0,VLOOKUP(\"Oil\",HVACg_Lookup,MATCH($F$13,BuildingSize,0)+1,FALSE),IF(IFERROR(SEARCH(\"Propane\",$A$15),0)>0,VLOOKUP(\"Propane\",HVACg_Lookup,MATCH(Worksheet!$F$13,BuildingSize,0)+1,FALSE),0)))","v":0},0,0,"",""]
[null,null,"",null,null,null,null,null,null,null,null,null,null,null,null,0,0,0,0,"",0,0,0,0,0,0,0,0,0,0,0,0,0,0,0,{"$f":"W510/1000*Y510*AA510*IF(IFERROR(SEARCH(\"Gas\",$A$15),0)>0,VLOOKUP(\"Gas\",HVACg_Lookup,MATCH($F$13,BuildingSize,0)+1,FALSE),IF(IFERROR(SEARCH(\"Oil\",$A$15),0)>0,VLOOKUP(\"Oil\",HVACg_Lookup,MATCH($F$13,BuildingSize,0)+1,FALSE),IF(IFERROR(SEARCH(\"Propane\",$A$15),0)>0,VLOOKUP(\"Propane\",HVACg_Lookup,MATCH(Worksheet!$F$13,BuildingSize,0)+1,FALSE),0)))","v":0},{"$f":"X510/1000*Y510*AA510*IF(IFERROR(SEARCH(\"Gas\",$A$15),0)>0,VLOOKUP(\"Gas\",HVACg_Lookup,MATCH($F$13,BuildingSize,0)+1,FALSE),IF(IFERROR(SEARCH(\"Oil\",$A$15),0)>0,VLOOKUP(\"Oil\",HVACg_Lookup,MATCH($F$13,BuildingSize,0)+1,FALSE),IF(IFERROR(SEARCH(\"Propane\",$A$15),0)>0,VLOOKUP(\"Propane\",HVACg_Lookup,MATCH(Worksheet!$F$13,BuildingSize,0)+1,FALSE),0)))","v":0},0,0,"",""]
[null,null,"",null,null,null,null,null,null,null,null,null,null,null,null,0,0,0,0,"",0,0,0,0,0,0,0,0,0,0,0,0,0,0,0,{"$f":"W511/1000*Y511*AA511*IF(IFERROR(SEARCH(\"Gas\",$A$15),0)>0,VLOOKUP(\"Gas\",HVACg_Lookup,MATCH($F$13,BuildingSize,0)+1,FALSE),IF(IFERROR(SEARCH(\"Oil\",$A$15),0)>0,VLOOKUP(\"Oil\",HVACg_Lookup,MATCH($F$13,BuildingSize,0)+1,FALSE),IF(IFERROR(SEARCH(\"Propane\",$A$15),0)>0,VLOOKUP(\"Propane\",HVACg_Lookup,MATCH(Worksheet!$F$13,BuildingSize,0)+1,FALSE),0)))","v":0},{"$f":"X511/1000*Y511*AA511*IF(IFERROR(SEARCH(\"Gas\",$A$15),0)>0,VLOOKUP(\"Gas\",HVACg_Lookup,MATCH($F$13,BuildingSize,0)+1,FALSE),IF(IFERROR(SEARCH(\"Oil\",$A$15),0)>0,VLOOKUP(\"Oil\",HVACg_Lookup,MATCH($F$13,BuildingSize,0)+1,FALSE),IF(IFERROR(SEARCH(\"Propane\",$A$15),0)>0,VLOOKUP(\"Propane\",HVACg_Lookup,MATCH(Worksheet!$F$13,BuildingSize,0)+1,FALSE),0)))","v":0},0,0,"",""]
[null,null,"",null,null,null,null,null,null,null,null,null,null,null,null,0,0,0,0,"",0,0,0,0,0,0,0,0,0,0,0,0,0,0,0,{"$f":"W512/1000*Y512*AA512*IF(IFERROR(SEARCH(\"Gas\",$A$15),0)>0,VLOOKUP(\"Gas\",HVACg_Lookup,MATCH($F$13,BuildingSize,0)+1,FALSE),IF(IFERROR(SEARCH(\"Oil\",$A$15),0)>0,VLOOKUP(\"Oil\",HVACg_Lookup,MATCH($F$13,BuildingSize,0)+1,FALSE),IF(IFERROR(SEARCH(\"Propane\",$A$15),0)>0,VLOOKUP(\"Propane\",HVACg_Lookup,MATCH(Worksheet!$F$13,BuildingSize,0)+1,FALSE),0)))","v":0},{"$f":"X512/1000*Y512*AA512*IF(IFERROR(SEARCH(\"Gas\",$A$15),0)>0,VLOOKUP(\"Gas\",HVACg_Lookup,MATCH($F$13,BuildingSize,0)+1,FALSE),IF(IFERROR(SEARCH(\"Oil\",$A$15),0)>0,VLOOKUP(\"Oil\",HVACg_Lookup,MATCH($F$13,BuildingSize,0)+1,FALSE),IF(IFERROR(SEARCH(\"Propane\",$A$15),0)>0,VLOOKUP(\"Propane\",HVACg_Lookup,MATCH(Worksheet!$F$13,BuildingSize,0)+1,FALSE),0)))","v":0},0,0,"",""]
[null,null,"",null,null,null,null,null,null,null,null,null,null,null,null,0,0,0,0,"",0,0,0,0,0,0,0,0,0,0,0,0,0,0,0,{"$f":"W513/1000*Y513*AA513*IF(IFERROR(SEARCH(\"Gas\",$A$15),0)>0,VLOOKUP(\"Gas\",HVACg_Lookup,MATCH($F$13,BuildingSize,0)+1,FALSE),IF(IFERROR(SEARCH(\"Oil\",$A$15),0)>0,VLOOKUP(\"Oil\",HVACg_Lookup,MATCH($F$13,BuildingSize,0)+1,FALSE),IF(IFERROR(SEARCH(\"Propane\",$A$15),0)>0,VLOOKUP(\"Propane\",HVACg_Lookup,MATCH(Worksheet!$F$13,BuildingSize,0)+1,FALSE),0)))","v":0},{"$f":"X513/1000*Y513*AA513*IF(IFERROR(SEARCH(\"Gas\",$A$15),0)>0,VLOOKUP(\"Gas\",HVACg_Lookup,MATCH($F$13,BuildingSize,0)+1,FALSE),IF(IFERROR(SEARCH(\"Oil\",$A$15),0)>0,VLOOKUP(\"Oil\",HVACg_Lookup,MATCH($F$13,BuildingSize,0)+1,FALSE),IF(IFERROR(SEARCH(\"Propane\",$A$15),0)>0,VLOOKUP(\"Propane\",HVACg_Lookup,MATCH(Worksheet!$F$13,BuildingSize,0)+1,FALSE),0)))","v":0},0,0,"",""]
[null,null,"",null,null,null,null,null,null,null,null,null,null,null,null,0,0,0,0,"",0,0,0,0,0,0,0,0,0,0,0,0,0,0,0,{"$f":"W514/1000*Y514*AA514*IF(IFERROR(SEARCH(\"Gas\",$A$15),0)>0,VLOOKUP(\"Gas\",HVACg_Lookup,MATCH($F$13,BuildingSize,0)+1,FALSE),IF(IFERROR(SEARCH(\"Oil\",$A$15),0)>0,VLOOKUP(\"Oil\",HVACg_Lookup,MATCH($F$13,BuildingSize,0)+1,FALSE),IF(IFERROR(SEARCH(\"Propane\",$A$15),0)>0,VLOOKUP(\"Propane\",HVACg_Lookup,MATCH(Worksheet!$F$13,BuildingSize,0)+1,FALSE),0)))","v":0},{"$f":"X514/1000*Y514*AA514*IF(IFERROR(SEARCH(\"Gas\",$A$15),0)>0,VLOOKUP(\"Gas\",HVACg_Lookup,MATCH($F$13,BuildingSize,0)+1,FALSE),IF(IFERROR(SEARCH(\"Oil\",$A$15),0)>0,VLOOKUP(\"Oil\",HVACg_Lookup,MATCH($F$13,BuildingSize,0)+1,FALSE),IF(IFERROR(SEARCH(\"Propane\",$A$15),0)>0,VLOOKUP(\"Propane\",HVACg_Lookup,MATCH(Worksheet!$F$13,BuildingSize,0)+1,FALSE),0)))","v":0},0,0,"",""]
[null,null,"",null,null,null,null,null,null,null,null,null,null,null,null,0,0,0,0,"",0,0,0,0,0,0,0,0,0,0,0,0,0,0,0,{"$f":"W515/1000*Y515*AA515*IF(IFERROR(SEARCH(\"Gas\",$A$15),0)>0,VLOOKUP(\"Gas\",HVACg_Lookup,MATCH($F$13,BuildingSize,0)+1,FALSE),IF(IFERROR(SEARCH(\"Oil\",$A$15),0)>0,VLOOKUP(\"Oil\",HVACg_Lookup,MATCH($F$13,BuildingSize,0)+1,FALSE),IF(IFERROR(SEARCH(\"Propane\",$A$15),0)>0,VLOOKUP(\"Propane\",HVACg_Lookup,MATCH(Worksheet!$F$13,BuildingSize,0)+1,FALSE),0)))","v":0},{"$f":"X515/1000*Y515*AA515*IF(IFERROR(SEARCH(\"Gas\",$A$15),0)>0,VLOOKUP(\"Gas\",HVACg_Lookup,MATCH($F$13,BuildingSize,0)+1,FALSE),IF(IFERROR(SEARCH(\"Oil\",$A$15),0)>0,VLOOKUP(\"Oil\",HVACg_Lookup,MATCH($F$13,BuildingSize,0)+1,FALSE),IF(IFERROR(SEARCH(\"Propane\",$A$15),0)>0,VLOOKUP(\"Propane\",HVACg_Lookup,MATCH(Worksheet!$F$13,BuildingSize,0)+1,FALSE),0)))","v":0},0,0,"",""]
[null,null,"",null,null,null,null,null,null,null,null,null,null,null,null,0,0,0,0,"",0,0,0,0,0,0,0,0,0,0,0,0,0,0,0,{"$f":"W516/1000*Y516*AA516*IF(IFERROR(SEARCH(\"Gas\",$A$15),0)>0,VLOOKUP(\"Gas\",HVACg_Lookup,MATCH($F$13,BuildingSize,0)+1,FALSE),IF(IFERROR(SEARCH(\"Oil\",$A$15),0)>0,VLOOKUP(\"Oil\",HVACg_Lookup,MATCH($F$13,BuildingSize,0)+1,FALSE),IF(IFERROR(SEARCH(\"Propane\",$A$15),0)>0,VLOOKUP(\"Propane\",HVACg_Lookup,MATCH(Worksheet!$F$13,BuildingSize,0)+1,FALSE),0)))","v":0},{"$f":"X516/1000*Y516*AA516*IF(IFERROR(SEARCH(\"Gas\",$A$15),0)>0,VLOOKUP(\"Gas\",HVACg_Lookup,MATCH($F$13,BuildingSize,0)+1,FALSE),IF(IFERROR(SEARCH(\"Oil\",$A$15),0)>0,VLOOKUP(\"Oil\",HVACg_Lookup,MATCH($F$13,BuildingSize,0)+1,FALSE),IF(IFERROR(SEARCH(\"Propane\",$A$15),0)>0,VLOOKUP(\"Propane\",HVACg_Lookup,MATCH(Worksheet!$F$13,BuildingSize,0)+1,FALSE),0)))","v":0},0,0,"",""]
[null,null,"",null,null,null,null,null,null,null,null,null,null,null,null,0,0,0,0,"",0,0,0,0,0,0,0,0,0,0,0,0,0,0,0,{"$f":"W517/1000*Y517*AA517*IF(IFERROR(SEARCH(\"Gas\",$A$15),0)>0,VLOOKUP(\"Gas\",HVACg_Lookup,MATCH($F$13,BuildingSize,0)+1,FALSE),IF(IFERROR(SEARCH(\"Oil\",$A$15),0)>0,VLOOKUP(\"Oil\",HVACg_Lookup,MATCH($F$13,BuildingSize,0)+1,FALSE),IF(IFERROR(SEARCH(\"Propane\",$A$15),0)>0,VLOOKUP(\"Propane\",HVACg_Lookup,MATCH(Worksheet!$F$13,BuildingSize,0)+1,FALSE),0)))","v":0},{"$f":"X517/1000*Y517*AA517*IF(IFERROR(SEARCH(\"Gas\",$A$15),0)>0,VLOOKUP(\"Gas\",HVACg_Lookup,MATCH($F$13,BuildingSize,0)+1,FALSE),IF(IFERROR(SEARCH(\"Oil\",$A$15),0)>0,VLOOKUP(\"Oil\",HVACg_Lookup,MATCH($F$13,BuildingSize,0)+1,FALSE),IF(IFERROR(SEARCH(\"Propane\",$A$15),0)>0,VLOOKUP(\"Propane\",HVACg_Lookup,MATCH(Worksheet!$F$13,BuildingSize,0)+1,FALSE),0)))","v":0},0,0,"",""]
[null,null,"",null,null,null,null,null,null,null,null,null,null,null,null,0,0,0,0,"",0,0,0,0,0,0,0,0,0,0,0,0,0,0,0,{"$f":"W518/1000*Y518*AA518*IF(IFERROR(SEARCH(\"Gas\",$A$15),0)>0,VLOOKUP(\"Gas\",HVACg_Lookup,MATCH($F$13,BuildingSize,0)+1,FALSE),IF(IFERROR(SEARCH(\"Oil\",$A$15),0)>0,VLOOKUP(\"Oil\",HVACg_Lookup,MATCH($F$13,BuildingSize,0)+1,FALSE),IF(IFERROR(SEARCH(\"Propane\",$A$15),0)>0,VLOOKUP(\"Propane\",HVACg_Lookup,MATCH(Worksheet!$F$13,BuildingSize,0)+1,FALSE),0)))","v":0},{"$f":"X518/1000*Y518*AA518*IF(IFERROR(SEARCH(\"Gas\",$A$15),0)>0,VLOOKUP(\"Gas\",HVACg_Lookup,MATCH($F$13,BuildingSize,0)+1,FALSE),IF(IFERROR(SEARCH(\"Oil\",$A$15),0)>0,VLOOKUP(\"Oil\",HVACg_Lookup,MATCH($F$13,BuildingSize,0)+1,FALSE),IF(IFERROR(SEARCH(\"Propane\",$A$15),0)>0,VLOOKUP(\"Propane\",HVACg_Lookup,MATCH(Worksheet!$F$13,BuildingSize,0)+1,FALSE),0)))","v":0},0,0,"",""]
[null,null,"",null,null,null,null,null,null,null,null,null,null,null,null,0,0,0,0,"",0,0,0,0,0,0,0,0,0,0,0,0,0,0,0,{"$f":"W519/1000*Y519*AA519*IF(IFERROR(SEARCH(\"Gas\",$A$15),0)>0,VLOOKUP(\"Gas\",HVACg_Lookup,MATCH($F$13,BuildingSize,0)+1,FALSE),IF(IFERROR(SEARCH(\"Oil\",$A$15),0)>0,VLOOKUP(\"Oil\",HVACg_Lookup,MATCH($F$13,BuildingSize,0)+1,FALSE),IF(IFERROR(SEARCH(\"Propane\",$A$15),0)>0,VLOOKUP(\"Propane\",HVACg_Lookup,MATCH(Worksheet!$F$13,BuildingSize,0)+1,FALSE),0)))","v":0},{"$f":"X519/1000*Y519*AA519*IF(IFERROR(SEARCH(\"Gas\",$A$15),0)>0,VLOOKUP(\"Gas\",HVACg_Lookup,MATCH($F$13,BuildingSize,0)+1,FALSE),IF(IFERROR(SEARCH(\"Oil\",$A$15),0)>0,VLOOKUP(\"Oil\",HVACg_Lookup,MATCH($F$13,BuildingSize,0)+1,FALSE),IF(IFERROR(SEARCH(\"Propane\",$A$15),0)>0,VLOOKUP(\"Propane\",HVACg_Lookup,MATCH(Worksheet!$F$13,BuildingSize,0)+1,FALSE),0)))","v":0},0,0,"",""]
[null,null,"",null,null,null,null,null,null,null,null,null,null,null,null,0,0,0,0,"",0,0,0,0,0,0,0,0,0,0,0,0,0,0,0,{"$f":"W520/1000*Y520*AA520*IF(IFERROR(SEARCH(\"Gas\",$A$15),0)>0,VLOOKUP(\"Gas\",HVACg_Lookup,MATCH($F$13,BuildingSize,0)+1,FALSE),IF(IFERROR(SEARCH(\"Oil\",$A$15),0)>0,VLOOKUP(\"Oil\",HVACg_Lookup,MATCH($F$13,BuildingSize,0)+1,FALSE),IF(IFERROR(SEARCH(\"Propane\",$A$15),0)>0,VLOOKUP(\"Propane\",HVACg_Lookup,MATCH(Worksheet!$F$13,BuildingSize,0)+1,FALSE),0)))","v":0},{"$f":"X520/1000*Y520*AA520*IF(IFERROR(SEARCH(\"Gas\",$A$15),0)>0,VLOOKUP(\"Gas\",HVACg_Lookup,MATCH($F$13,BuildingSize,0)+1,FALSE),IF(IFERROR(SEARCH(\"Oil\",$A$15),0)>0,VLOOKUP(\"Oil\",HVACg_Lookup,MATCH($F$13,BuildingSize,0)+1,FALSE),IF(IFERROR(SEARCH(\"Propane\",$A$15),0)>0,VLOOKUP(\"Propane\",HVACg_Lookup,MATCH(Worksheet!$F$13,BuildingSize,0)+1,FALSE),0)))","v":0},0,0,"",""]

{"sheet":"Measure Code","index":1,"n_rows":6,"n_cols":6,"rows_kept":6,"cut":false,"hidden":true,"merged":[]}
["Measure Code","Description","Incentive per Unit","Incentive Unit","Energy Savings Factor","Measure Type"]
["LC1","OSW",20,"per Control",0.31,97]
["LC2","OSR",35,"per Control",0.31,98]
["LC3","DDC",45,"per Fixture Controlled",0.4,9002]
["LC4","OHLC",35,"per Fixture Controlled",0.31,9001]
["LC5","OSRH",35,"per Control",0.31,98]

{"sheet":"Other Support","index":2,"n_rows":23,"n_cols":18,"rows_kept":23,"cut":false,"hidden":true,"merged":[[0,4,0,9],[0,12,0,13]]}
[null,null,null,"HVAC_d","HVAC_e",null,null,null,null,null,null,null,"HVAC_g"]
["Building Type","EFLH","CF","AC","Electric Cooling & Gas Heat","Electric Cooling & Oil Heat","Electric Cooling & Propane Heat","Electric Cooling & Resistance Heat","Heat Pump","No Electric Cooling (Electric Resistance Heat Only)",null,"Fuel Type","Large Commercial","Small Commercial",null,null,null,"HVAC Options"]
["Education – Primary School",2575,0.5,0.44,0.1,0.1,0.1,-0.19,-0.04,-0.28999999999999998,null,"Gas",-2.3000000000000001E-4,-1.075E-3,null,null,null,"Electric Cooling & Gas Heat"]
["Education – Secondary School",2575,0.5,0.44,0.1,0.1,0.1,-0.19,-0.04,-0.28999999999999998,null,"Oil",-4.6000000000000001E-4,-1.2E-4,null,null,null,"Electric Cooling & Oil Heat"]
["Education – Community College",2575,0.5,0.44,0.1,0.1,0.1,-0.19,-0.04,-0.28999999999999998,null,"Propane",-4.6000000000000001E-4,-1.2E-4,null,null,null,"Electric Cooling & Propane Heat"]
["Education – University",2575,0.5,0.44,0.1,0.1,0.1,-0.19,-0.04,-0.28999999999999998,null,null,null,null,null,null,null,"Electric Cooling & Resistance Heat"]
["Grocery",7134,0.96,0.27,0.06,0.06,0.06,-0.17,-0.05,-0.23,null,null,null,null,null,null,null,"No Electric Cooling (Electric Resistance Heat Only)"]
["Medical – Hospital ",8760,0.8,0.34,0.08,0.08,0.08,-0.18,-7.0000000000000007E-2,-0.26,null,null,null,null,null,null,null,"No Electric Cooling (Gas Heat Only)"]
["Medical – Clinic",3909,0.8,0.34,0.08,0.08,0.08,-0.18,-7.0000000000000007E-2,-0.26,null,null,null,null,null,null,null,"No Electric Cooling (Oil Heat Only)"]
["Lodging Hotel (Guest Rooms)",4573,0.66,0.34,0.08,0.08,0.08,-0.18,-7.0000000000000007E-2,-0.26,null,null,null,null,null,null,null,"No Electric Cooling (Propane Heat Only)"]
["Lodging Motel",4573,0.66,0.34,0.08,0.08,0.08,-0.18,-7.0000000000000007E-2,-0.26,null,null,null,null,null,null,null,"Heat Pump"]
["Manufacturing – Light Industrial",4116,0.7,0.34,0.08,0.08,0.08,-0.18,-7.0000000000000007E-2,-0.26]
["Office - Large",2969,0.7,0.35,0.1,0.1,0.1,-0.15,-0.06,-0.25]
["Office - Small",2950,0.67,0.35,0.1,0.1,0.1,-0.15,-0.06,-0.25]
["Restaurant – Sit-Down",4573,0.66,0.34,0.08,0.08,0.08,-0.18,-7.0000000000000007E-2,-0.26]
["Restaurant – Fast-Food",4573,0.66,0.34,0.08,0.08,0.08,-0.18,-7.0000000000000007E-2,-0.26]
["Retail – 3-Story Large",4920,0.96,0.27,0.06,0.06,0.06,-0.17,-0.05,-0.23]
["Retail – Single-Story Large",4920,0.96,0.27,0.06,0.06,0.06,-0.17,-0.05,-0.23]
["Retail – Small",4926,0.86,0.27,0.06,0.06,0.06,-0.17,-0.05,-0.23]
["Storage Conditioned ",4116,0.7,0.22,0.02,0.02,0.02,-0.25,-0.11,-0.27]
["Storage Unconditioned",4116,0.7,0,0,0,0,0,0,0]
["Warehouse",4116,0.7,0.22,0.02,0.02,0.02,-0.25,-0.11,-0.27]
["Average = Miscellaneous",4573,0.66,0.34,0.08,0.08,0.08,-0.18,-7.0000000000000007E-2,-0.26]

{"sheet":"Export","index":3,"n_rows":501,"n_cols":28,"rows_kept":501,"cut":false,"hidden":true,"merged":[]}
["Measure Type","Manufacturer","Model","Capacity/Size","Capacity/Size Units","EER Efficiency","SEER Efficiency","Incentive Per Unit","Quantity Committed","Annual Electricity Savings","Peak Demand Reduction","Lifetime Electricity Savings","Annual Gas Savings","Lifetime Gas Savings","Efficiency- other","Efficiency- other-type","Measure ID removed","Quantity Installed","Location","Reason (New or Replaced)","Type of Control (Wired/Wireless)","Project in UEZ","Project in OZ","Municipality","K-12 School","County","Affordable Housing","Enhanced Incentive per Unit"]
[{"$f":"IF(ISBLANK(Worksheet!F21)=FALSE,VLOOKUP(Worksheet!A21,MeasureCode_Lookup,6,FALSE),\"\")","v":""},{"$f":"Worksheet!H21","v":0},{"$f":"Worksheet!I21","v":0},{"$f":"IFERROR(IF(Worksheet!X21=0,Worksheet!W21/I2,Worksheet!X21/R2),0)","v":0},"W Controlled",null,null,{"$f":"IF(N(Worksheet!S21)=0,N(Worksheet!R21),N(Worksheet!S21))","v":0},{"$f":"IFERROR(Worksheet!U21/(Worksheet!R21+Worksheet!#REF!),0)","v":0},{"$f":"Worksheet!AC21","v":0},{"$f":"Worksheet!AB21","v":0},{"$f":"J2*8","v":0},{"$f":"IF(Worksheet!AJ21=0,0,Worksheet!AJ21*10/I2)","v":0},{"$f":"M2*8","v":0},null,null,null,{"$f":"IFERROR(Worksheet!V21/(Worksheet!S21+Worksheet!#REF!),0)","v":0},{"$f":"IF(Worksheet!E21=\"\",\"\",Worksheet!E21)","v":""},{"$f":"IF(Worksheet!B21=\"\",\"\",Worksheet!B21)","v":""},{"$f":"IF(Worksheet!D21=\"\",\"\",Worksheet!D21)","v":""}]
[{"$f":"IF(ISBLANK(Worksheet!F22)=FALSE,VLOOKUP(Worksheet!A22,MeasureCode_Lookup,6,FALSE),\"\")","v":""},{"$f":"Worksheet!H22","v":0},{"$f":"Worksheet!I22","v":0},{"$f":"IFERROR(IF(Worksheet!X22=0,Worksheet!W22/I3,Worksheet!X22/R3),0)","v":0},"W Controlled",null,null,{"$f":"IF(N(Worksheet!S22)=0,N(Worksheet!R22),N(Worksheet!S22))","v":0},{"$f":"IFERROR(Worksheet!U22/(Worksheet!R22+Worksheet!#REF!),0)","v":0},{"$f":"Worksheet!AC22","v":0},{"$f":"Worksheet!AB22","v":0},{"$f":"J3*8","v":0},{"$f":"IF(Worksheet!AJ22=0,0,Worksheet!AJ22*10/I3)","v":0},{"$f":"M3*8","v":0},null,null,null,{"$f":"IFERROR(Worksheet!V22/(Worksheet!S22+Worksheet!#REF!),0)","v":0},{"$f":"IF(Worksheet!E22=\"\",\"\",Worksheet!E22)","v":""},{"$f":"IF(Worksheet!B22=\"\",\"\",Worksheet!B22)","v":""},{"$f":"IF(Worksheet!D22=\"\",\"\",Worksheet!D22)","v":""}]
[{"$f":"IF(ISBLANK(Worksheet!F23)=FALSE,VLOOKUP(Worksheet!A23,MeasureCode_Lookup,6,FALSE),\"\")","v":""},{"$f":"Worksheet!H23","v":0},{"$f":"Worksheet!I23","v":0},{"$f":"IFERROR(IF(Worksheet!X23=0,Worksheet!W23/I4,Worksheet!X23/R4),0)","v":0},"W Controlled",null,null,{"$f":"IF(N(Worksheet!S23)=0,N(Worksheet!R23),N(Worksheet!S23))","v":0},{"$f":"IFERROR(Worksheet!U23/(Worksheet!R23+Worksheet!#REF!),0)","v":0},{"$f":"Worksheet!AC23","v":0},{"$f":"Worksheet!AB23","v":0},0,{"$f":"IF(Worksheet!AJ23=0,0,Worksheet!AJ23*10/I4)","v":0},0,null,null,null,{"$f":"IFERROR(Worksheet!V23/(Worksheet!S23+Worksheet!#REF!),0)","v":0},{"$f":"IF(Worksheet!E23=\"\",\"\",Worksheet!E23)","v":""},{"$f":"IF(Worksheet!B23=\"\",\"\",Worksheet!B23)","v":""},{"$f":"IF(Worksheet!D23=\"\",\"\",Worksheet!D23)","v":""}]
[{"$f":"IF(ISBLANK(Worksheet!F24)=FALSE,VLOOKUP(Worksheet!A24,MeasureCode_Lookup,6,FALSE),\"\")","v":""},{"$f":"Worksheet!H24","v":0},{"$f":"Worksheet!I24","v":0},{"$f":"IFERROR(IF(Worksheet!X24=0,Worksheet!W24/I5,Worksheet!X24/R5),0)","v":0},"W Controlled",null,null,{"$f":"IF(N(Worksheet!S24)=0,N(Worksheet!R24),N(Worksheet!S24))","v":0},{"$f":"IFERROR(Worksheet!U24/(Worksheet!R24+Worksheet!#REF!),0)","v":0},{"$f":"Worksheet!AC24","v":0},{"$f":"Worksheet!AB24","v":0},0,{"$f":"IF(Worksheet!AJ24=0,0,Worksheet!AJ24*10/I5)","v":0},0,null,null,null,{"$f":"IFERROR(Worksheet!V24/(Worksheet!S24+Worksheet!#REF!),0)","v":0},{"$f":"IF(Worksheet!E24=\"\",\"\",Worksheet!E24)","v":""},{"$f":"IF(Worksheet!B24=\"\",\"\",Worksheet!B24)","v":""},{"$f":"IF(Worksheet!D24=\"\",\"\",Worksheet!D24)","v":""}]
[{"$f":"IF(ISBLANK(Worksheet!F25)=FALSE,VLOOKUP(Worksheet!A25,MeasureCode_Lookup,6,FALSE),\"\")","v":""},{"$f":"Worksheet!H25","v":0},{"$f":"Worksheet!I25","v":0},{"$f":"IFERROR(IF(Worksheet!X25=0,Worksheet!W25/I6,Worksheet!X25/R6),0)","v":0},"W Controlled",null,null,{"$f":"IF(N(Worksheet!S25)=0,N(Worksheet!R25),N(Worksheet!S25))","v":0},{"$f":"IFERROR(Worksheet!U25/(Worksheet!R25+Worksheet!#REF!),0)","v":0},{"$f":"Worksheet!AC25","v":0},{"$f":"Worksheet!AB25","v":0},0,{"$f":"IF(Worksheet!AJ25=0,0,Worksheet!AJ25*10/I6)","v":0},0,null,null,null,{"$f":"IFERROR(Worksheet!V25/(Worksheet!S25+Worksheet!#REF!),0)","v":0},{"$f":"IF(Worksheet!E25=\"\",\"\",Worksheet!E25)","v":""},{"$f":"IF(Worksheet!B25=\"\",\"\",Worksheet!B25)","v":""},{"$f":"IF(Worksheet!D25=\"\",\"\",Worksheet!D25)","v":""}]
[{"$f":"IF(ISBLANK(Worksheet!F26)=FALSE,VLOOKUP(Worksheet!A26,MeasureCode_Lookup,6,FALSE),\"\")","v":""},{"$f":"Worksheet!H26","v":0},{"$f":"Worksheet!I26","v":0},{"$f":"IFERROR(IF(Worksheet!X26=0,Worksheet!W26/I7,Worksheet!X26/R7),0)","v":0},"W Controlled",null,null,{"$f":"IF(N(Worksheet!S26)=0,N(Worksheet!R26),N(Worksheet!S26))","v":0},{"$f":"IFERROR(Worksheet!U26/(Worksheet!R26+Worksheet!#REF!),0)","v":0},{"$f":"Worksheet!AC26","v":0},{"$f":"Worksheet!AB26","v":0},0,{"$f":"IF(Worksheet!AJ26=0,0,Worksheet!AJ26*10/I7)","v":0},0,null,null,null,{"$f":"IFERROR(Worksheet!V26/(Worksheet!S26+Worksheet!#REF!),0)","v":0},{"$f":"IF(Worksheet!E26=\"\",\"\",Worksheet!E26)","v":""},{"$f":"IF(Worksheet!B26=\"\",\"\",Worksheet!B26)","v":""},{"$f":"IF(Worksheet!D26=\"\",\"\",Worksheet!D26)","v":""}]
[{"$f":"IF(ISBLANK(Worksheet!F27)=FALSE,VLOOKUP(Worksheet!A27,MeasureCode_Lookup,6,FALSE),\"\")","v":""},{"$f":"Worksheet!H27","v":0},{"$f":"Worksheet!I27","v":0},{"$f":"IFERROR(IF(Worksheet!X27=0,Worksheet!W27/I8,Worksheet!X27/R8),0)","v":0},"W Controlled",null,null,{"$f":"IF(N(Worksheet!S27)=0,N(Worksheet!R27),N(Worksheet!S27))","v":0},{"$f":"IFERROR(Worksheet!U27/(Worksheet!R27+Worksheet!#REF!),0)","v":0},{"$f":"Worksheet!AC27","v":0},{"$f":"Worksheet!AB27","v":0},0,{"$f":"IF(Worksheet!AJ27=0,0,Worksheet!AJ27*10/I8)","v":0},0,null,null,null,{"$f":"IFERROR(Worksheet!V27/(Worksheet!S27+Worksheet!#REF!),0)","v":0},{"$f":"IF(Worksheet!E27=\"\",\"\",Worksheet!E27)","v":""},{"$f":"IF(Worksheet!B27=\"\",\"\",Worksheet!B27)","v":""},{"$f":"IF(Worksheet!D27=\"\",\"\",Worksheet!D27)","v":""}]
[{"$f":"IF(ISBLANK(Worksheet!F28)=FALSE,VLOOKUP(Worksheet!A28,MeasureCode_Lookup,6,FALSE),\"\")","v":""},{"$f":"Worksheet!H28","v":0},{"$f":"Worksheet!I28","v":0},{"$f":"IFERROR(IF(Worksheet!X28=0,Worksheet!W28/I9,Worksheet!X28/R9),0)","v":0},"W Controlled",null,null,{"$f":"IF(N(Worksheet!S28)=0,N(Worksheet!R28),N(Worksheet!S28))","v":0},{"$f":"IFERROR(Worksheet!U28/(Worksheet!R28+Worksheet!#REF!),0)","v":0},{"$f":"Worksheet!AC28","v":0},{"$f":"Worksheet!AB28","v":0},0,{"$f":"IF(Worksheet!AJ28=0,0,Worksheet!AJ28*10/I9)","v":0},0,null,null,null,{"$f":"IFERROR(Worksheet!V28/(Worksheet!S28+Worksheet!#REF!),0)","v":0},{"$f":"IF(Worksheet!E28=\"\",\"\",Worksheet!E28)","v":""},{"$f":"IF(Worksheet!B28=\"\",\"\",Worksheet!B28)","v":""},{"$f":"IF(Worksheet!D28=\"\",\"\",Worksheet!D28)","v":""}]
[{"$f":"IF(ISBLANK(Worksheet!F29)=FALSE,VLOOKUP(Worksheet!A29,MeasureCode_Lookup,6,FALSE),\"\")","v":""},{"$f":"Worksheet!H29","v":0},{"$f":"Worksheet!I29","v":0},{"$f":"IFERROR(IF(Worksheet!X29=0,Worksheet!W29/I10,Worksheet!X29/R10),0)","v":0},"W Controlled",null,null,{"$f":"IF(N(Worksheet!S29)=0,N(Worksheet!R29),N(Worksheet!S29))","v":0},{"$f":"IFERROR(Worksheet!U29/(Worksheet!R29+Worksheet!#REF!),0)","v":0},{"$f":"Worksheet!AC29","v":0},{"$f":"Worksheet!AB29","v":0},0,{"$f":"IF(Worksheet!AJ29=0,0,Worksheet!AJ29*10/I10)","v":0},0,null,null,null,{"$f":"IFERROR(Worksheet!V29/(Worksheet!S29+Worksheet!#REF!),0)","v":0},{"$f":"IF(Worksheet!E29=\"\",\"\",Worksheet!E29)","v":""},{"$f":"IF(Worksheet!B29=\"\",\"\",Worksheet!B29)","v":""},{"$f":"IF(Worksheet!D29=\"\",\"\",Worksheet!D29)","v":""}]
[{"$f":"IF(ISBLANK(Worksheet!F30)=FALSE,VLOOKUP(Worksheet!A30,MeasureCode_Lookup,6,FALSE),\"\")","v":""},{"$f":"Worksheet!H30","v":0},{"$f":"Worksheet!I30","v":0},{"$f":"IFERROR(IF(Worksheet!X30=0,Worksheet!W30/I11,Worksheet!X30/R11),0)","v":0},"W Controlled",null,null,{"$f":"IF(N(Worksheet!S30)=0,N(Worksheet!R30),N(Worksheet!S30))","v":0},{"$f":"IFERROR(Worksheet!U30/(Worksheet!R30+Worksheet!#REF!),0)","v":0},{"$f":"Worksheet!AC30","v":0},{"$f":"Worksheet!AB30","v":0},0,{"$f":"IF(Worksheet!AJ30=0,0,Worksheet!AJ30*10/I11)","v":0},0,null,null,null,{"$f":"IFERROR(Worksheet!V30/(Worksheet!S30+Worksheet!#REF!),0)","v":0},{"$f":"IF(Worksheet!E30=\"\",\"\",Worksheet!E30)","v":""},{"$f":"IF(Worksheet!B30=\"\",\"\",Worksheet!B30)","v":""},{"$f":"IF(Worksheet!D30=\"\",\"\",Worksheet!D30)","v":""}]
[{"$f":"IF(ISBLANK(Worksheet!F31)=FALSE,VLOOKUP(Worksheet!A31,MeasureCode_Lookup,6,FALSE),\"\")","v":""},{"$f":"Worksheet!H31","v":0},{"$f":"Worksheet!I31","v":0},{"$f":"IFERROR(IF(Worksheet!X31=0,Worksheet!W31/I12,Worksheet!X31/R12),0)","v":0},"W Controlled",null,null,{"$f":"IF(N(Worksheet!S31)=0,N(Worksheet!R31),N(Worksheet!S31))","v":0},{"$f":"IFERROR(Worksheet!U31/(Worksheet!R31+Worksheet!#REF!),0)","v":0},{"$f":"Worksheet!AC31","v":0},{"$f":"Worksheet!AB31","v":0},0,{"$f":"IF(Worksheet!AJ31=0,0,Worksheet!AJ31*10/I12)","v":0},0,null,null,null,{"$f":"IFERROR(Worksheet!V31/(Worksheet!S31+Worksheet!#REF!),0)","v":0},{"$f":"IF(Worksheet!E31=\"\",\"\",Worksheet!E31)","v":""},{"$f":"IF(Worksheet!B31=\"\",\"\",Worksheet!B31)","v":""},{"$f":"IF(Worksheet!D31=\"\",\"\",Worksheet!D31)","v":""}]
[{"$f":"IF(ISBLANK(Worksheet!F32)=FALSE,VLOOKUP(Worksheet!A32,MeasureCode_Lookup,6,FALSE),\"\")","v":""},{"$f":"Worksheet!H32","v":0},{"$f":"Worksheet!I32","v":0},{"$f":"IFERROR(IF(Worksheet!X32=0,Worksheet!W32/I13,Worksheet!X32/R13),0)","v":0},"W Controlled",null,null,{"$f":"IF(N(Worksheet!S32)=0,N(Worksheet!R32),N(Worksheet!S32))","v":0},{"$f":"IFERROR(Worksheet!U32/(Worksheet!R32+Worksheet!#REF!),0)","v":0},{"$f":"Worksheet!AC32","v":0},{"$f":"Worksheet!AB32","v":0},0,{"$f":"IF(Worksheet!AJ32=0,0,Worksheet!AJ32*10/I13)","v":0},0,null,null,null,{"$f":"IFERROR(Worksheet!V32/(Worksheet!S32+Worksheet!#REF!),0)","v":0},{"$f":"IF(Worksheet!E32=\"\",\"\",Worksheet!E32)","v":""},{"$f":"IF(Worksheet!B32=\"\",\"\",Worksheet!B32)","v":""},{"$f":"IF(Worksheet!D32=\"\",\"\",Worksheet!D32)","v":""}]
[{"$f":"IF(ISBLANK(Worksheet!F33)=FALSE,VLOOKUP(Worksheet!A33,MeasureCode_Lookup,6,FALSE),\"\")","v":""},{"$f":"Worksheet!H33","v":0},{"$f":"Worksheet!I33","v":0},{"$f":"IFERROR(IF(Worksheet!X33=0,Worksheet!W33/I14,Worksheet!X33/R14),0)","v":0},"W Controlled",null,null,{"$f":"IF(N(Worksheet!S33)=0,N(Worksheet!R33),N(Worksheet!S33))","v":0},{"$f":"IFERROR(Worksheet!U33/(Worksheet!R33+Worksheet!#REF!),0)","v":0},{"$f":"Worksheet!AC33","v":0},{"$f":"Worksheet!AB33","v":0},0,{"$f":"IF(Worksheet!AJ33=0,0,Worksheet!AJ33*10/I14)","v":0},0,null,null,null,{"$f":"IFERROR(Worksheet!V33/(Worksheet!S33+Worksheet!#REF!),0)","v":0},{"$f":"IF(Worksheet!E33=\"\",\"\",Worksheet!E33)","v":""},{"$f":"IF(Worksheet!B33=\"\",\"\",Worksheet!B33)","v":""},{"$f":"IF(Worksheet!D33=\"\",\"\",Worksheet!D33)","v":""}]
[{"$f":"IF(ISBLANK(Worksheet!F34)=FALSE,VLOOKUP(Worksheet!A34,MeasureCode_Lookup,6,FALSE),\"\")","v":""},{"$f":"Worksheet!H34","v":0},{"$f":"Worksheet!I34","v":0},{"$f":"IFERROR(IF(Worksheet!X34=0,Worksheet!W34/I15,Worksheet!X34/R15),0)","v":0},"W Controlled",null,null,{"$f":"IF(N(Worksheet!S34)=0,N(Worksheet!R34),N(Worksheet!S34))","v":0},{"$f":"IFERROR(Worksheet!U34/(Worksheet!R34+Worksheet!#REF!),0)","v":0},{"$f":"Worksheet!AC34","v":0},{"$f":"Worksheet!AB34","v":0},0,{"$f":"IF(Worksheet!AJ34=0,0,Worksheet!AJ34*10/I15)","v":0},0,null,null,null,{"$f":"IFERROR(Worksheet!V34/(Worksheet!S34+Worksheet!#REF!),0)","v":0},{"$f":"IF(Worksheet!E34=\"\",\"\",Worksheet!E34)","v":""},{"$f":"IF(Worksheet!B34=\"\",\"\",Worksheet!B34)","v":""},{"$f":"IF(Worksheet!D34=\"\",\"\",Worksheet!D34)","v":""}]
[{"$f":"IF(ISBLANK(Worksheet!F35)=FALSE,VLOOKUP(Worksheet!A35,MeasureCode_Lookup,6,FALSE),\"\")","v":""},{"$f":"Worksheet!H35","v":0},{"$f":"Worksheet!I35","v":0},{"$f":"IFERROR(IF(Worksheet!X35=0,Worksheet!W35/I16,Worksheet!X35/R16),0)","v":0},"W Controlled",null,null,{"$f":"IF(N(Worksheet!S35)=0,N(Worksheet!R35),N(Worksheet!S35))","v":0},{"$f":"IFERROR(Worksheet!U35/(Worksheet!R35+Worksheet!#REF!),0)","v":0},{"$f":"Worksheet!AC35","v":0},{"$f":"Worksheet!AB35","v":0},0,{"$f":"IF(Worksheet!AJ35=0,0,Worksheet!AJ35*10/I16)","v":0},0,null,null,null,{"$f":"IFERROR(Worksheet!V35/(Worksheet!S35+Worksheet!#REF!),0)","v":0},{"$f":"IF(Worksheet!E35=\"\",\"\",Worksheet!E35)","v":""},{"$f":"IF(Worksheet!B35=\"\",\"\",Worksheet!B35)","v":""},{"$f":"IF(Worksheet!D35=\"\",\"\",Worksheet!D35)","v":""}]
[{"$f":"IF(ISBLANK(Worksheet!F36)=FALSE,VLOOKUP(Worksheet!A36,MeasureCode_Lookup,6,FALSE),\"\")","v":""},{"$f":"Worksheet!H36","v":0},{"$f":"Worksheet!I36","v":0},{"$f":"IFERROR(IF(Worksheet!X36=0,Worksheet!W36/I17,Worksheet!X36/R17),0)","v":0},"W Controlled",null,null,{"$f":"IF(N(Worksheet!S36)=0,N(Worksheet!R36),N(Worksheet!S36))","v":0},{"$f":"IFERROR(Worksheet!U36/(Worksheet!R36+Worksheet!#REF!),0)","v":0},{"$f":"Worksheet!AC36","v":0},{"$f":"Worksheet!AB36","v":0},0,{"$f":"IF(Worksheet!AJ36=0,0,Worksheet!AJ36*10/I17)","v":0},0,null,null,null,{"$f":"IFERROR(Worksheet!V36/(Worksheet!S36+Worksheet!#REF!),0)","v":0},{"$f":"IF(Worksheet!E36=\"\",\"\",Worksheet!E36)","v":""},{"$f":"IF(Worksheet!B36=\"\",\"\",Worksheet!B36)","v":""},{"$f":"IF(Worksheet!D36=\"\",\"\",Worksheet!D36)","v":""}]
[{"$f":"IF(ISBLANK(Worksheet!F37)=FALSE,VLOOKUP(Worksheet!A37,MeasureCode_Lookup,6,FALSE),\"\")","v":""},{"$f":"Worksheet!H37","v":0},{"$f":"Worksheet!I37","v":0},{"$f":"IFERROR(IF(Worksheet!X37=0,Worksheet!W37/I18,Worksheet!X37/R18),0)","v":0},"W Controlled",null,null,{"$f":"IF(N(Worksheet!S37)=0,N(Worksheet!R37),N(Worksheet!S37))","v":0},{"$f":"IFERROR(Worksheet!U37/(Worksheet!R37+Worksheet!#REF!),0)","v":0},{"$f":"Worksheet!AC37","v":0},{"$f":"Worksheet!AB37","v":0},0,{"$f":"IF(Worksheet!AJ37=0,0,Worksheet!AJ37*10/I18)","v":0},0,null,null,null,{"$f":"IFERROR(Worksheet!V37/(Worksheet!S37+Worksheet!#REF!),0)","v":0},{"$f":"IF(Worksheet!E37=\"\",\"\",Worksheet!E37)","v":""},{"$f":"IF(Worksheet!B37=\"\",\"\",Worksheet!B37)","v":""},{"$f":"IF(Worksheet!D37=\"\",\"\",Worksheet!D37)","v":""}]
[{"$f":"IF(ISBLANK(Worksheet!F38)=FALSE,VLOOKUP(Worksheet!A38,MeasureCode_Lookup,6,FALSE),\"\")","v":""},{"$f":"Worksheet!H38","v":0},{"$f":"Worksheet!I38","v":0},{"$f":"IFERROR(IF(Worksheet!X38=0,Worksheet!W38/I19,Worksheet!X38/R19),0)","v":0},"W Controlled",null,null,{"$f":"IF(N(Worksheet!S38)=0,N(Worksheet!R38),N(Worksheet!S38))","v":0},{"$f":"IFERROR(Worksheet!U38/(Worksheet!R38+Worksheet!#REF!),0)","v":0},{"$f":"Worksheet!AC38","v":0},{"$f":"Worksheet!AB38","v":0},0,{"$f":"IF(Worksheet!AJ38=0,0,Worksheet!AJ38*10/I19)","v":0},0,null,null,null,{"$f":"IFERROR(Worksheet!V38/(Worksheet!S38+Worksheet!#REF!),0)","v":0},{"$f":"IF(Worksheet!E38=\"\",\"\",Worksheet!E38)","v":""},{"$f":"IF(Worksheet!B38=\"\",\"\",Worksheet!B38)","v":""},{"$f":"IF(Worksheet!D38=\"\",\"\",Worksheet!D38)","v":""}]
[{"$f":"IF(ISBLANK(Worksheet!F39)=FALSE,VLOOKUP(Worksheet!A39,MeasureCode_Lookup,6,FALSE),\"\")","v":""},{"$f":"Worksheet!H39","v":0},{"$f":"Worksheet!I39","v":0},{"$f":"IFERROR(IF(Worksheet!X39=0,Worksheet!W39/I20,Worksheet!X39/R20),0)","v":0},"W Controlled",null,null,{"$f":"IF(N(Worksheet!S39)=0,N(Worksheet!R39),N(Worksheet!S39))","v":0},{"$f":"IFERROR(Worksheet!U39/(Worksheet!R39+Worksheet!#REF!),0)","v":0},{"$f":"Worksheet!AC39","v":0},{"$f":"Worksheet!AB39","v":0},0,{"$f":"IF(Worksheet!AJ39=0,0,Worksheet!AJ39*10/I20)","v":0},0,null,null,null,{"$f":"IFERROR(Worksheet!V39/(Worksheet!S39+Worksheet!#REF!),0)","v":0},{"$f":"IF(Worksheet!E39=\"\",\"\",Worksheet!E39)","v":""},{"$f":"IF(Worksheet!B39=\"\",\"\",Worksheet!B39)","v":""},{"$f":"IF(Worksheet!D39=\"\",\"\",Worksheet!D39)","v":""}]
[{"$f":"IF(ISBLANK(Worksheet!F40)=FALSE,VLOOKUP(Worksheet!A40,MeasureCode_Lookup,6,FALSE),\"\")","v":""},{"$f":"Worksheet!H40","v":0},{"$f":"Worksheet!I40","v":0},{"$f":"IFERROR(IF(Worksheet!X40=0,Worksheet!W40/I21,Worksheet!X40/R21),0)","v":0},"W Controlled",null,null,{"$f":"IF(N(Worksheet!S40)=0,N(Worksheet!R40),N(Worksheet!S40))","v":0},{"$f":"IFERROR(Worksheet!U40/(Worksheet!R40+Worksheet!#REF!),0)","v":0},{"$f":"Worksheet!AC40","v":0},{"$f":"Worksheet!AB40","v":0},0,{"$f":"IF(Worksheet!AJ40=0,0,Worksheet!AJ40*10/I21)","v":0},0,null,null,null,{"$f":"IFERROR(Worksheet!V40/(Worksheet!S40+Worksheet!#REF!),0)","v":0},{"$f":"IF(Worksheet!E40=\"\",\"\",Worksheet!E40)","v":""},{"$f":"IF(Worksheet!B40=\"\",\"\",Worksheet!B40)","v":""},{"$f":"IF(Worksheet!D40=\"\",\"\",Worksheet!D40)","v":""}]
[{"$f":"IF(ISBLANK(Worksheet!F41)=FALSE,VLOOKUP(Worksheet!A41,MeasureCode_Lookup,6,FALSE),\"\")","v":""},{"$f":"Worksheet!H41","v":0},{"$f":"Worksheet!I41","v":0},{"$f":"IFERROR(IF(Worksheet!X41=0,Worksheet!W41/I22,Worksheet!X41/R22),0)","v":0},"W Controlled",null,null,{"$f":"IF(N(Worksheet!S41)=0,N(Worksheet!R41),N(Worksheet!S41))","v":0},{"$f":"IFERROR(Worksheet!U41/(Worksheet!R41+Worksheet!#REF!),0)","v":0},{"$f":"Worksheet!AC41","v":0},{"$f":"Worksheet!AB41","v":0},0,{"$f":"IF(Worksheet!AJ41=0,0,Worksheet!AJ41*10/I22)","v":0},0,null,null,null,{"$f":"IFERROR(Worksheet!V41/(Worksheet!S41+Worksheet!#REF!),0)","v":0},{"$f":"IF(Worksheet!E41=\"\",\"\",Worksheet!E41)","v":""},{"$f":"IF(Worksheet!B41=\"\",\"\",Worksheet!B41)","v":""},{"$f":"IF(Worksheet!D41=\"\",\"\",Worksheet!D41)","v":""}]
[{"$f":"IF(ISBLANK(Worksheet!F42)=FALSE,VLOOKUP(Worksheet!A42,MeasureCode_Lookup,6,FALSE),\"\")","v":""},{"$f":"Worksheet!H42","v":0},{"$f":"Worksheet!I42","v":0},{"$f":"IFERROR(IF(Worksheet!X42=0,Worksheet!W42/I23,Worksheet!X42/R23),0)","v":0},"W Controlled",null,null,{"$f":"IF(N(Worksheet!S42)=0,N(Worksheet!R42),N(Worksheet!S42))","v":0},{"$f":"IFERROR(Worksheet!U42/(Worksheet!R42+Worksheet!#REF!),0)","v":0},{"$f":"Worksheet!AC42","v":0},{"$f":"Worksheet!AB42","v":0},0,{"$f":"IF(Worksheet!AJ42=0,0,Worksheet!AJ42*10/I23)","v":0},0,null,null,null,{"$f":"IFERROR(Worksheet!V42/(Worksheet!S42+Worksheet!#REF!),0)","v":0},{"$f":"IF(Worksheet!E42=\"\",\"\",Worksheet!E42)","v":""},{"$f":"IF(Worksheet!B42=\"\",\"\",Worksheet!B42)","v":""},{"$f":"IF(Worksheet!D42=\"\",\"\",Worksheet!D42)","v":""}]
[{"$f":"IF(ISBLANK(Worksheet!F43)=FALSE,VLOOKUP(Worksheet!A43,MeasureCode_Lookup,6,FALSE),\"\")","v":""},{"$f":"Worksheet!H43","v":0},{"$f":"Worksheet!I43","v":0},{"$f":"IFERROR(IF(Worksheet!X43=0,Worksheet!W43/I24,Worksheet!X43/R24),0)","v":0},"W Controlled",null,null,{"$f":"IF(N(Worksheet!S43)=0,N(Worksheet!R43),N(Worksheet!S43))","v":0},{"$f":"IFERROR(Worksheet!U43/(Worksheet!R43+Worksheet!#REF!),0)","v":0},{"$f":"Worksheet!AC43","v":0},{"$f":"Worksheet!AB43","v":0},0,{"$f":"IF(Worksheet!AJ43=0,0,Worksheet!AJ43*10/I24)","v":0},0,null,null,null,{"$f":"IFERROR(Worksheet!V43/(Worksheet!S43+Worksheet!#REF!),0)","v":0},{"$f":"IF(Worksheet!E43=\"\",\"\",Worksheet!E43)","v":""},{"$f":"IF(Worksheet!B43=\"\",\"\",Worksheet!B43)","v":""},{"$f":"IF(Worksheet!D43=\"\",\"\",Worksheet!D43)","v":""}]
[{"$f":"IF(ISBLANK(Worksheet!F44)=FALSE,VLOOKUP(Worksheet!A44,MeasureCode_Lookup,6,FALSE),\"\")","v":""},{"$f":"Worksheet!H44","v":0},{"$f":"Worksheet!I44","v":0},{"$f":"IFERROR(IF(Worksheet!X44=0,Worksheet!W44/I25,Worksheet!X44/R25),0)","v":0},"W Controlled",null,null,{"$f":"IF(N(Worksheet!S44)=0,N(Worksheet!R44),N(Worksheet!S44))","v":0},{"$f":"IFERROR(Worksheet!U44/(Worksheet!R44+Worksheet!#REF!),0)","v":0},{"$f":"Worksheet!AC44","v":0},{"$f":"Worksheet!AB44","v":0},0,{"$f":"IF(Worksheet!AJ44=0,0,Worksheet!AJ44*10/I25)","v":0},0,null,null,null,{"$f":"IFERROR(Worksheet!V44/(Worksheet!S44+Worksheet!#REF!),0)","v":0},{"$f":"IF(Worksheet!E44=\"\",\"\",Worksheet!E44)","v":""},{"$f":"IF(Worksheet!B44=\"\",\"\",Worksheet!B44)","v":""},{"$f":"IF(Worksheet!D44=\"\",\"\",Worksheet!D44)","v":""}]
[{"$f":"IF(ISBLANK(Worksheet!F45)=FALSE,VLOOKUP(Worksheet!A45,MeasureCode_Lookup,6,FALSE),\"\")","v":""},{"$f":"Worksheet!H45","v":0},{"$f":"Worksheet!I45","v":0},{"$f":"IFERROR(IF(Worksheet!X45=0,Worksheet!W45/I26,Worksheet!X45/R26),0)","v":0},"W Controlled",null,null,{"$f":"IF(N(Worksheet!S45)=0,N(Worksheet!R45),N(Worksheet!S45))","v":0},{"$f":"IFERROR(Worksheet!U45/(Worksheet!R45+Worksheet!#REF!),0)","v":0},{"$f":"Worksheet!AC45","v":0},{"$f":"Worksheet!AB45","v":0},0,{"$f":"IF(Worksheet!AJ45=0,0,Worksheet!AJ45*10/I26)","v":0},0,null,null,null,{"$f":"IFERROR(Worksheet!V45/(Worksheet!S45+Worksheet!#REF!),0)","v":0},{"$f":"IF(Worksheet!E45=\"\",\"\",Worksheet!E45)","v":""},{"$f":"IF(Worksheet!B45=\"\",\"\",Worksheet!B45)","v":""},{"$f":"IF(Worksheet!D45=\"\",\"\",Worksheet!D45)","v":""}]
[{"$f":"IF(ISBLANK(Worksheet!F46)=FALSE,VLOOKUP(Worksheet!A46,MeasureCode_Lookup,6,FALSE),\"\")","v":""},{"$f":"Worksheet!H46","v":0},{"$f":"Worksheet!I46","v":0},{"$f":"IFERROR(IF(Worksheet!X46=0,Worksheet!W46/I27,Worksheet!X46/R27),0)","v":0},"W Controlled",null,null,{"$f":"IF(N(Worksheet!S46)=0,N(Worksheet!R46),N(Worksheet!S46))","v":0},{"$f":"IFERROR(Worksheet!U46/(Worksheet!R46+Worksheet!#REF!),0)","v":0},{"$f":"Worksheet!AC46","v":0},{"$f":"Worksheet!AB46","v":0},0,{"$f":"IF(Worksheet!AJ46=0,0,Worksheet!AJ46*10/I27)","v":0},0,null,null,null,{"$f":"IFERROR(Worksheet!V46/(Worksheet!S46+Worksheet!#REF!),0)","v":0},{"$f":"IF(Worksheet!E46=\"\",\"\",Worksheet!E46)","v":""},{"$f":"IF(Worksheet!B46=\"\",\"\",Worksheet!B46)","v":""},{"$f":"IF(Worksheet!D46=\"\",\"\",Worksheet!D46)","v":""}]
[{"$f":"IF(ISBLANK(Worksheet!F47)=FALSE,VLOOKUP(Worksheet!A47,MeasureCode_Lookup,6,FALSE),\"\")","v":""},{"$f":"Worksheet!H47","v":0},{"$f":"Worksheet!I47","v":0},{"$f":"IFERROR(IF(Worksheet!X47=0,Worksheet!W47/I28,Worksheet!X47/R28),0)","v":0},"W Controlled",null,null,{"$f":"IF(N(Worksheet!S47)=0,N(Worksheet!R47),N(Worksheet!S47))","v":0},{"$f":"IFERROR(Worksheet!U47/(Worksheet!R47+Worksheet!#REF!),0)","v":0},{"$f":"Worksheet!AC47","v":0},{"$f":"Worksheet!AB47","v":0},0,{"$f":"IF(Worksheet!AJ47=0,0,Worksheet!AJ47*10/I28)","v":0},0,null,null,null,{"$f":"IFERROR(Worksheet!V47/(Worksheet!S47+Worksheet!#REF!),0)","v":0},{"$f":"IF(Worksheet!E47=\"\",\"\",Worksheet!E47)","v":""},{"$f":"IF(Worksheet!B47=\"\",\"\",Worksheet!B47)","v":""},{"$f":"IF(Worksheet!D47=\"\",\"\",Worksheet!D47)","v":""}]
[{"$f":"IF(ISBLANK(Worksheet!F48)=FALSE,VLOOKUP(Worksheet!A48,MeasureCode_Lookup,6,FALSE),\"\")","v":""},{"$f":"Worksheet!H48","v":0},{"$f":"Worksheet!I48","v":0},{"$f":"IFERROR(IF(Worksheet!X48=0,Worksheet!W48/I29,Worksheet!X48/R29),0)","v":0},"W Controlled",null,null,{"$f":"IF(N(Worksheet!S48)=0,N(Worksheet!R48),N(Worksheet!S48))","v":0},{"$f":"IFERROR(Worksheet!U48/(Worksheet!R48+Worksheet!#REF!),0)","v":0},{"$f":"Worksheet!AC48","v":0},{"$f":"Worksheet!AB48","v":0},0,{"$f":"IF(Worksheet!AJ48=0,0,Worksheet!AJ48*10/I29)","v":0},0,null,null,null,{"$f":"IFERROR(Worksheet!V48/(Worksheet!S48+Worksheet!#REF!),0)","v":0},{"$f":"IF(Worksheet!E48=\"\",\"\",Worksheet!E48)","v":""},{"$f":"IF(Worksheet!B48=\"\",\"\",Worksheet!B48)","v":""},{"$f":"IF(Worksheet!D48=\"\",\"\",Worksheet!D48)","v":""}]
[{"$f":"IF(ISBLANK(Worksheet!F49)=FALSE,VLOOKUP(Worksheet!A49,MeasureCode_Lookup,6,FALSE),\"\")","v":""},{"$f":"Worksheet!H49","v":0},{"$f":"Worksheet!I49","v":0},{"$f":"IFERROR(IF(Worksheet!X49=0,Worksheet!W49/I30,Worksheet!X49/R30),0)","v":0},"W Controlled",null,null,{"$f":"IF(N(Worksheet!S49)=0,N(Worksheet!R49),N(Worksheet!S49))","v":0},{"$f":"IFERROR(Worksheet!U49/(Worksheet!R49+Worksheet!#REF!),0)","v":0},{"$f":"Worksheet!AC49","v":0},{"$f":"Worksheet!AB49","v":0},0,{"$f":"IF(Worksheet!AJ49=0,0,Worksheet!AJ49*10/I30)","v":0},0,null,null,null,{"$f":"IFERROR(Worksheet!V49/(Worksheet!S49+Worksheet!#REF!),0)","v":0},{"$f":"IF(Worksheet!E49=\"\",\"\",Worksheet!E49)","v":""},{"$f":"IF(Worksheet!B49=\"\",\"\",Worksheet!B49)","v":""},{"$f":"IF(Worksheet!D49=\"\",\"\",Worksheet!D49)","v":""}]
[{"$f":"IF(ISBLANK(Worksheet!F50)=FALSE,VLOOKUP(Worksheet!A50,MeasureCode_Lookup,6,FALSE),\"\")","v":""},{"$f":"Worksheet!H50","v":0},{"$f":"Worksheet!I50","v":0},{"$f":"IFERROR(IF(Worksheet!X50=0,Worksheet!W50/I31,Worksheet!X50/R31),0)","v":0},"W Controlled",null,null,{"$f":"IF(N(Worksheet!S50)=0,N(Worksheet!R50),N(Worksheet!S50))","v":0},{"$f":"IFERROR(Worksheet!U50/(Worksheet!R50+Worksheet!#REF!),0)","v":0},{"$f":"Worksheet!AC50","v":0},{"$f":"Worksheet!AB50","v":0},0,{"$f":"IF(Worksheet!AJ50=0,0,Worksheet!AJ50*10/I31)","v":0},0,null,null,null,{"$f":"IFERROR(Worksheet!V50/(Worksheet!S50+Worksheet!#REF!),0)","v":0},{"$f":"IF(Worksheet!E50=\"\",\"\",Worksheet!E50)","v":""},{"$f":"IF(Worksheet!B50=\"\",\"\",Worksheet!B50)","v":""},{"$f":"IF(Worksheet!D50=\"\",\"\",Worksheet!D50)","v":""}]
[{"$f":"IF(ISBLANK(Worksheet!F51)=FALSE,VLOOKUP(Worksheet!A51,MeasureCode_Lookup,6,FALSE),\"\")","v":""},{"$f":"Worksheet!H51","v":0},{"$f":"Worksheet!I51","v":0},{"$f":"IFERROR(IF(Worksheet!X51=0,Worksheet!W51/I32,Worksheet!X51/R32),0)","v":0},"W Controlled",null,null,{"$f":"IF(N(Worksheet!S51)=0,N(Worksheet!R51),N(Worksheet!S51))","v":0},{"$f":"IFERROR(Worksheet!U51/(Worksheet!R51+Worksheet!#REF!),0)","v":0},{"$f":"Worksheet!AC51","v":0},{"$f":"Worksheet!AB51","v":0},0,{"$f":"IF(Worksheet!AJ51=0,0,Worksheet!AJ51*10/I32)","v":0},0,null,null,null,{"$f":"IFERROR(Worksheet!V51/(Worksheet!S51+Worksheet!#REF!),0)","v":0},{"$f":"IF(Worksheet!E51=\"\",\"\",Worksheet!E51)","v":""},{"$f":"IF(Worksheet!B51=\"\",\"\",Worksheet!B51)","v":""},{"$f":"IF(Worksheet!D51=\"\",\"\",Worksheet!D51)","v":""}]
[{"$f":"IF(ISBLANK(Worksheet!F52)=FALSE,VLOOKUP(Worksheet!A52,MeasureCode_Lookup,6,FALSE),\"\")","v":""},{"$f":"Worksheet!H52","v":0},{"$f":"Worksheet!I52","v":0},{"$f":"IFERROR(IF(Worksheet!X52=0,Worksheet!W52/I33,Worksheet!X52/R33),0)","v":0},"W Controlled",null,null,{"$f":"IF(N(Worksheet!S52)=0,N(Worksheet!R52),N(Worksheet!S52))","v":0},{"$f":"IFERROR(Worksheet!U52/(Worksheet!R52+Worksheet!#REF!),0)","v":0},{"$f":"Worksheet!AC52","v":0},{"$f":"Worksheet!AB52","v":0},0,{"$f":"IF(Worksheet!AJ52=0,0,Worksheet!AJ52*10/I33)","v":0},0,null,null,null,{"$f":"IFERROR(Worksheet!V52/(Worksheet!S52+Worksheet!#REF!),0)","v":0},{"$f":"IF(Worksheet!E52=\"\",\"\",Worksheet!E52)","v":""},{"$f":"IF(Worksheet!B52=\"\",\"\",Worksheet!B52)","v":""},{"$f":"IF(Worksheet!D52=\"\",\"\",Worksheet!D52)","v":""}]
[{"$f":"IF(ISBLANK(Worksheet!F53)=FALSE,VLOOKUP(Worksheet!A53,MeasureCode_Lookup,6,FALSE),\"\")","v":""},{"$f":"Worksheet!H53","v":0},{"$f":"Worksheet!I53","v":0},{"$f":"IFERROR(IF(Worksheet!X53=0,Worksheet!W53/I34,Worksheet!X53/R34),0)","v":0},"W Controlled",null,null,{"$f":"IF(N(Worksheet!S53)=0,N(Worksheet!R53),N(Worksheet!S53))","v":0},{"$f":"IFERROR(Worksheet!U53/(Worksheet!R53+Worksheet!#REF!),0)","v":0},{"$f":"Worksheet!AC53","v":0},{"$f":"Worksheet!AB53","v":0},0,{"$f":"IF(Worksheet!AJ53=0,0,Worksheet!AJ53*10/I34)","v":0},0,null,null,null,{"$f":"IFERROR(Worksheet!V53/(Worksheet!S53+Worksheet!#REF!),0)","v":0},{"$f":"IF(Worksheet!E53=\"\",\"\",Worksheet!E53)","v":""},{"$f":"IF(Worksheet!B53=\"\",\"\",Worksheet!B53)","v":""},{"$f":"IF(Worksheet!D53=\"\",\"\",Worksheet!D53)","v":""}]
[{"$f":"IF(ISBLANK(Worksheet!F54)=FALSE,VLOOKUP(Worksheet!A54,MeasureCode_Lookup,6,FALSE),\"\")","v":""},{"$f":"Worksheet!H54","v":0},{"$f":"Worksheet!I54","v":0},{"$f":"IFERROR(IF(Worksheet!X54=0,Worksheet!W54/I35,Worksheet!X54/R35),0)","v":0},"W Controlled",null,null,{"$f":"IF(N(Worksheet!S54)=0,N(Worksheet!R54),N(Worksheet!S54))","v":0},{"$f":"IFERROR(Worksheet!U54/(Worksheet!R54+Worksheet!#REF!),0)","v":0},{"$f":"Worksheet!AC54","v":0},{"$f":"Worksheet!AB54","v":0},0,{"$f":"IF(Worksheet!AJ54=0,0,Worksheet!AJ54*10/I35)","v":0},0,null,null,null,{"$f":"IFERROR(Worksheet!V54/(Worksheet!S54+Worksheet!#REF!),0)","v":0},{"$f":"IF(Worksheet!E54=\"\",\"\",Worksheet!E54)","v":""},{"$f":"IF(Worksheet!B54=\"\",\"\",Worksheet!B54)","v":""},{"$f":"IF(Worksheet!D54=\"\",\"\",Worksheet!D54)","v":""}]
[{"$f":"IF(ISBLANK(Worksheet!F55)=FALSE,VLOOKUP(Worksheet!A55,MeasureCode_Lookup,6,FALSE),\"\")","v":""},{"$f":"Worksheet!H55","v":0},{"$f":"Worksheet!I55","v":0},{"$f":"IFERROR(IF(Worksheet!X55=0,Worksheet!W55/I36,Worksheet!X55/R36),0)","v":0},"W Controlled",null,null,{"$f":"IF(N(Worksheet!S55)=0,N(Worksheet!R55),N(Worksheet!S55))","v":0},{"$f":"IFERROR(Worksheet!U55/(Worksheet!R55+Worksheet!#REF!),0)","v":0},{"$f":"Worksheet!AC55","v":0},{"$f":"Worksheet!AB55","v":0},0,{"$f":"IF(Worksheet!AJ55=0,0,Worksheet!AJ55*10/I36)","v":0},0,null,null,null,{"$f":"IFERROR(Worksheet!V55/(Worksheet!S55+Worksheet!#REF!),0)","v":0},{"$f":"IF(Worksheet!E55=\"\",\"\",Worksheet!E55)","v":""},{"$f":"IF(Worksheet!B55=\"\",\"\",Worksheet!B55)","v":""},{"$f":"IF(Worksheet!D55=\"\",\"\",Worksheet!D55)","v":""}]
[{"$f":"IF(ISBLANK(Worksheet!F56)=FALSE,VLOOKUP(Worksheet!A56,MeasureCode_Lookup,6,FALSE),\"\")","v":""},{"$f":"Worksheet!H56","v":0},{"$f":"Worksheet!I56","v":0},{"$f":"IFERROR(IF(Worksheet!X56=0,Worksheet!W56/I37,Worksheet!X56/R37),0)","v":0},"W Controlled",null,null,{"$f":"IF(N(Worksheet!S56)=0,N(Worksheet!R56),N(Worksheet!S56))","v":0},{"$f":"IFERROR(Worksheet!U56/(Worksheet!R56+Worksheet!#REF!),0)","v":0},{"$f":"Worksheet!AC56","v":0},{"$f":"Worksheet!AB56","v":0},0,{"$f":"IF(Worksheet!AJ56=0,0,Worksheet!AJ56*10/I37)","v":0},0,null,null,null,{"$f":"IFERROR(Worksheet!V56/(Worksheet!S56+Worksheet!#REF!),0)","v":0},{"$f":"IF(Worksheet!E56=\"\",\"\",Worksheet!E56)","v":""},{"$f":"IF(Worksheet!B56=\"\",\"\",Worksheet!B56)","v":""},{"$f":"IF(Worksheet!D56=\"\",\"\",Worksheet!D56)","v":""}]
[{"$f":"IF(ISBLANK(Worksheet!F57)=FALSE,VLOOKUP(Worksheet!A57,MeasureCode_Lookup,6,FALSE),\"\")","v":""},{"$f":"Worksheet!H57","v":0},{"$f":"Worksheet!I57","v":0},{"$f":"IFERROR(IF(Worksheet!X57=0,Worksheet!W57/I38,Worksheet!X57/R38),0)","v":0},"W Controlled",null,null,{"$f":"IF(N(Worksheet!S57)=0,N(Worksheet!R57),N(Worksheet!S57))","v":0},{"$f":"IFERROR(Worksheet!U57/(Worksheet!R57+Worksheet!#REF!),0)","v":0},{"$f":"Worksheet!AC57","v":0},{"$f":"Worksheet!AB57","v":0},0,{"$f":"IF(Worksheet!AJ57=0,0,Worksheet!AJ57*10/I38)","v":0},0,null,null,null,{"$f":"IFERROR(Worksheet!V57/(Worksheet!S57+Worksheet!#REF!),0)","v":0},{"$f":"IF(Worksheet!E57=\"\",\"\",Worksheet!E57)","v":""},{"$f":"IF(Worksheet!B57=\"\",\"\",Worksheet!B57)","v":""},{"$f":"IF(Worksheet!D57=\"\",\"\",Worksheet!D57)","v":""}]
[{"$f":"IF(ISBLANK(Worksheet!F58)=FALSE,VLOOKUP(Worksheet!A58,MeasureCode_Lookup,6,FALSE),\"\")","v":""},{"$f":"Worksheet!H58","v":0},{"$f":"Worksheet!I58","v":0},{"$f":"IFERROR(IF(Worksheet!X58=0,Worksheet!W58/I39,Worksheet!X58/R39),0)","v":0},"W Controlled",null,null,{"$f":"IF(N(Worksheet!S58)=0,N(Worksheet!R58),N(Worksheet!S58))","v":0},{"$f":"IFERROR(Worksheet!U58/(Worksheet!R58+Worksheet!#REF!),0)","v":0},{"$f":"Worksheet!AC58","v":0},{"$f":"Worksheet!AB58","v":0},0,{"$f":"IF(Worksheet!AJ58=0,0,Worksheet!AJ58*10/I39)","v":0},0,null,null,null,{"$f":"IFERROR(Worksheet!V58/(Worksheet!S58+Worksheet!#REF!),0)","v":0},{"$f":"IF(Worksheet!E58=\"\",\"\",Worksheet!E58)","v":""},{"$f":"IF(Worksheet!B58=\"\",\"\",Worksheet!B58)","v":""},{"$f":"IF(Worksheet!D58=\"\",\"\",Worksheet!D58)","v":""}]
[{"$f":"IF(ISBLANK(Worksheet!F59)=FALSE,VLOOKUP(Worksheet!A59,MeasureCode_Lookup,6,FALSE),\"\")","v":""},{"$f":"Worksheet!H59","v":0},{"$f":"Worksheet!I59","v":0},{"$f":"IFERROR(IF(Worksheet!X59=0,Worksheet!W59/I40,Worksheet!X59/R40),0)","v":0},"W Controlled",null,null,{"$f":"IF(N(Worksheet!S59)=0,N(Worksheet!R59),N(Worksheet!S59))","v":0},{"$f":"IFERROR(Worksheet!U59/(Worksheet!R59+Worksheet!#REF!),0)","v":0},{"$f":"Worksheet!AC59","v":0},{"$f":"Worksheet!AB59","v":0},0,{"$f":"IF(Worksheet!AJ59=0,0,Worksheet!AJ59*10/I40)","v":0},0,null,null,null,{"$f":"IFERROR(Worksheet!V59/(Worksheet!S59+Worksheet!#REF!),0)","v":0},{"$f":"IF(Worksheet!E59=\"\",\"\",Worksheet!E59)","v":""},{"$f":"IF(Worksheet!B59=\"\",\"\",Worksheet!B59)","v":""},{"$f":"IF(Worksheet!D59=\"\",\"\",Worksheet!D59)","v":""}]
[{"$f":"IF(ISBLANK(Worksheet!F60)=FALSE,VLOOKUP(Worksheet!A60,MeasureCode_Lookup,6,FALSE),\"\")","v":""},{"$f":"Worksheet!H60","v":0},{"$f":"Worksheet!I60","v":0},{"$f":"IFERROR(IF(Worksheet!X60=0,Worksheet!W60/I41,Worksheet!X60/R41),0)","v":0},"W Controlled",null,null,{"$f":"IF(N(Worksheet!S60)=0,N(Worksheet!R60),N(Worksheet!S60))","v":0},{"$f":"IFERROR(Worksheet!U60/(Worksheet!R60+Worksheet!#REF!),0)","v":0},{"$f":"Worksheet!AC60","v":0},{"$f":"Worksheet!AB60","v":0},0,{"$f":"IF(Worksheet!AJ60=0,0,Worksheet!AJ60*10/I41)","v":0},0,null,null,null,{"$f":"IFERROR(Worksheet!V60/(Worksheet!S60+Worksheet!#REF!),0)","v":0},{"$f":"IF(Worksheet!E60=\"\",\"\",Worksheet!E60)","v":""},{"$f":"IF(Worksheet!B60=\"\",\"\",Worksheet!B60)","v":""},{"$f":"IF(Worksheet!D60=\"\",\"\",Worksheet!D60)","v":""}]
[{"$f":"IF(ISBLANK(Worksheet!F61)=FALSE,VLOOKUP(Worksheet!A61,MeasureCode_Lookup,6,FALSE),\"\")","v":""},{"$f":"Worksheet!H61","v":0},{"$f":"Worksheet!I61","v":0},{"$f":"IFERROR(IF(Worksheet!X61=0,Worksheet!W61/I42,Worksheet!X61/R42),0)","v":0},"W Controlled",null,null,{"$f":"IF(N(Worksheet!S61)=0,N(Worksheet!R61),N(Worksheet!S61))","v":0},{"$f":"IFERROR(Worksheet!U61/(Worksheet!R61+Worksheet!#REF!),0)","v":0},{"$f":"Worksheet!AC61","v":0},{"$f":"Worksheet!AB61","v":0},0,{"$f":"IF(Worksheet!AJ61=0,0,Worksheet!AJ61*10/I42)","v":0},0,null,null,null,{"$f":"IFERROR(Worksheet!V61/(Worksheet!S61+Worksheet!#REF!),0)","v":0},{"$f":"IF(Worksheet!E61=\"\",\"\",Worksheet!E61)","v":""},{"$f":"IF(Worksheet!B61=\"\",\"\",Worksheet!B61)","v":""},{"$f":"IF(Worksheet!D61=\"\",\"\",Worksheet!D61)","v":""}]
[{"$f":"IF(ISBLANK(Worksheet!F62)=FALSE,VLOOKUP(Worksheet!A62,MeasureCode_Lookup,6,FALSE),\"\")","v":""},{"$f":"Worksheet!H62","v":0},{"$f":"Worksheet!I62","v":0},{"$f":"IFERROR(IF(Worksheet!X62=0,Worksheet!W62/I43,Worksheet!X62/R43),0)","v":0},"W Controlled",null,null,{"$f":"IF(N(Worksheet!S62)=0,N(Worksheet!R62),N(Worksheet!S62))","v":0},{"$f":"IFERROR(Worksheet!U62/(Worksheet!R62+Worksheet!#REF!),0)","v":0},{"$f":"Worksheet!AC62","v":0},{"$f":"Worksheet!AB62","v":0},0,{"$f":"IF(Worksheet!AJ62=0,0,Worksheet!AJ62*10/I43)","v":0},0,null,null,null,{"$f":"IFERROR(Worksheet!V62/(Worksheet!S62+Worksheet!#REF!),0)","v":0},{"$f":"IF(Worksheet!E62=\"\",\"\",Worksheet!E62)","v":""},{"$f":"IF(Worksheet!B62=\"\",\"\",Worksheet!B62)","v":""},{"$f":"IF(Worksheet!D62=\"\",\"\",Worksheet!D62)","v":""}]
[{"$f":"IF(ISBLANK(Worksheet!F63)=FALSE,VLOOKUP(Worksheet!A63,MeasureCode_Lookup,6,FALSE),\"\")","v":""},{"$f":"Worksheet!H63","v":0},{"$f":"Worksheet!I63","v":0},{"$f":"IFERROR(IF(Worksheet!X63=0,Worksheet!W63/I44,Worksheet!X63/R44),0)","v":0},"W Controlled",null,null,{"$f":"IF(N(Worksheet!S63)=0,N(Worksheet!R63),N(Worksheet!S63))","v":0},{"$f":"IFERROR(Worksheet!U63/(Worksheet!R63+Worksheet!#REF!),0)","v":0},{"$f":"Worksheet!AC63","v":0},{"$f":"Worksheet!AB63","v":0},0,{"$f":"IF(Worksheet!AJ63=0,0,Worksheet!AJ63*10/I44)","v":0},0,null,null,null,{"$f":"IFERROR(Worksheet!V63/(Worksheet!S63+Worksheet!#REF!),0)","v":0},{"$f":"IF(Worksheet!E63=\"\",\"\",Worksheet!E63)","v":""},{"$f":"IF(Worksheet!B63=\"\",\"\",Worksheet!B63)","v":""},{"$f":"IF(Worksheet!D63=\"\",\"\",Worksheet!D63)","v":""}]
[{"$f":"IF(ISBLANK(Worksheet!F64)=FALSE,VLOOKUP(Worksheet!A64,MeasureCode_Lookup,6,FALSE),\"\")","v":""},{"$f":"Worksheet!H64","v":0},{"$f":"Worksheet!I64","v":0},{"$f":"IFERROR(IF(Worksheet!X64=0,Worksheet!W64/I45,Worksheet!X64/R45),0)","v":0},"W Controlled",null,null,{"$f":"IF(N(Worksheet!S64)=0,N(Worksheet!R64),N(Worksheet!S64))","v":0},{"$f":"IFERROR(Worksheet!U64/(Worksheet!R64+Worksheet!#REF!),0)","v":0},{"$f":"Worksheet!AC64","v":0},{"$f":"Worksheet!AB64","v":0},0,{"$f":"IF(Worksheet!AJ64=0,0,Worksheet!AJ64*10/I45)","v":0},0,null,null,null,{"$f":"IFERROR(Worksheet!V64/(Worksheet!S64+Worksheet!#REF!),0)","v":0},{"$f":"IF(Worksheet!E64=\"\",\"\",Worksheet!E64)","v":""},{"$f":"IF(Worksheet!B64=\"\",\"\",Worksheet!B64)","v":""},{"$f":"IF(Worksheet!D64=\"\",\"\",Worksheet!D64)","v":""}]
[{"$f":"IF(ISBLANK(Worksheet!F65)=FALSE,VLOOKUP(Worksheet!A65,MeasureCode_Lookup,6,FALSE),\"\")","v":""},{"$f":"Worksheet!H65","v":0},{"$f":"Worksheet!I65","v":0},{"$f":"IFERROR(IF(Worksheet!X65=0,Worksheet!W65/I46,Worksheet!X65/R46),0)","v":0},"W Controlled",null,null,{"$f":"IF(N(Worksheet!S65)=0,N(Worksheet!R65),N(Worksheet!S65))","v":0},{"$f":"IFERROR(Worksheet!U65/(Worksheet!R65+Worksheet!#REF!),0)","v":0},{"$f":"Worksheet!AC65","v":0},{"$f":"Worksheet!AB65","v":0},0,{"$f":"IF(Worksheet!AJ65=0,0,Worksheet!AJ65*10/I46)","v":0},0,null,null,null,{"$f":"IFERROR(Worksheet!V65/(Worksheet!S65+Worksheet!#REF!),0)","v":0},{"$f":"IF(Worksheet!E65=\"\",\"\",Worksheet!E65)","v":""},{"$f":"IF(Worksheet!B65=\"\",\"\",Worksheet!B65)","v":""},{"$f":"IF(Worksheet!D65=\"\",\"\",Worksheet!D65)","v":""}]
[{"$f":"IF(ISBLANK(Worksheet!F66)=FALSE,VLOOKUP(Worksheet!A66,MeasureCode_Lookup,6,FALSE),\"\")","v":""},{"$f":"Worksheet!H66","v":0},{"$f":"Worksheet!I66","v":0},{"$f":"IFERROR(IF(Worksheet!X66=0,Worksheet!W66/I47,Worksheet!X66/R47),0)","v":0},"W Controlled",null,null,{"$f":"IF(N(Worksheet!S66)=0,N(Worksheet!R66),N(Worksheet!S66))","v":0},{"$f":"IFERROR(Worksheet!U66/(Worksheet!R66+Worksheet!#REF!),0)","v":0},{"$f":"Worksheet!AC66","v":0},{"$f":"Worksheet!AB66","v":0},0,{"$f":"IF(Worksheet!AJ66=0,0,Worksheet!AJ66*10/I47)","v":0},0,null,null,null,{"$f":"IFERROR(Worksheet!V66/(Worksheet!S66+Worksheet!#REF!),0)","v":0},{"$f":"IF(Worksheet!E66=\"\",\"\",Worksheet!E66)","v":""},{"$f":"IF(Worksheet!B66=\"\",\"\",Worksheet!B66)","v":""},{"$f":"IF(Worksheet!D66=\"\",\"\",Worksheet!D66)","v":""}]
[{"$f":"IF(ISBLANK(Worksheet!F67)=FALSE,VLOOKUP(Worksheet!A67,MeasureCode_Lookup,6,FALSE),\"\")","v":""},{"$f":"Worksheet!H67","v":0},{"$f":"Worksheet!I67","v":0},{"$f":"IFERROR(IF(Worksheet!X67=0,Worksheet!W67/I48,Worksheet!X67/R48),0)","v":0},"W Controlled",null,null,{"$f":"IF(N(Worksheet!S67)=0,N(Worksheet!R67),N(Worksheet!S67))","v":0},{"$f":"IFERROR(Worksheet!U67/(Worksheet!R67+Worksheet!#REF!),0)","v":0},{"$f":"Worksheet!AC67","v":0},{"$f":"Worksheet!AB67","v":0},0,{"$f":"IF(Worksheet!AJ67=0,0,Worksheet!AJ67*10/I48)","v":0},0,null,null,null,{"$f":"IFERROR(Worksheet!V67/(Worksheet!S67+Worksheet!#REF!),0)","v":0},{"$f":"IF(Worksheet!E67=\"\",\"\",Worksheet!E67)","v":""},{"$f":"IF(Worksheet!B67=\"\",\"\",Worksheet!B67)","v":""},{"$f":"IF(Worksheet!D67=\"\",\"\",Worksheet!D67)","v":""}]
[{"$f":"IF(ISBLANK(Worksheet!F68)=FALSE,VLOOKUP(Worksheet!A68,MeasureCode_Lookup,6,FALSE),\"\")","v":""},{"$f":"Worksheet!H68","v":0},{"$f":"Worksheet!I68","v":0},{"$f":"IFERROR(IF(Worksheet!X68=0,Worksheet!W68/I49,Worksheet!X68/R49),0)","v":0},"W Controlled",null,null,{"$f":"IF(N(Worksheet!S68)=0,N(Worksheet!R68),N(Worksheet!S68))","v":0},{"$f":"IFERROR(Worksheet!U68/(Worksheet!R68+Worksheet!#REF!),0)","v":0},{"$f":"Worksheet!AC68","v":0},{"$f":"Worksheet!AB68","v":0},0,{"$f":"IF(Worksheet!AJ68=0,0,Worksheet!AJ68*10/I49)","v":0},0,null,null,null,{"$f":"IFERROR(Worksheet!V68/(Worksheet!S68+Worksheet!#REF!),0)","v":0},{"$f":"IF(Worksheet!E68=\"\",\"\",Worksheet!E68)","v":""},{"$f":"IF(Worksheet!B68=\"\",\"\",Worksheet!B68)","v":""},{"$f":"IF(Worksheet!D68=\"\",\"\",Worksheet!D68)","v":""}]
[{"$f":"IF(ISBLANK(Worksheet!F69)=FALSE,VLOOKUP(Worksheet!A69,MeasureCode_Lookup,6,FALSE),\"\")","v":""},{"$f":"Worksheet!H69","v":0},{"$f":"Worksheet!I69","v":0},{"$f":"IFERROR(IF(Worksheet!X69=0,Worksheet!W69/I50,Worksheet!X69/R50),0)","v":0},"W Controlled",null,null,{"$f":"IF(N(Worksheet!S69)=0,N(Worksheet!R69),N(Worksheet!S69))","v":0},{"$f":"IFERROR(Worksheet!U69/(Worksheet!R69+Worksheet!#REF!),0)","v":0},{"$f":"Worksheet!AC69","v":0},{"$f":"Worksheet!AB69","v":0},0,{"$f":"IF(Worksheet!AJ69=0,0,Worksheet!AJ69*10/I50)","v":0},0,null,null,null,{"$f":"IFERROR(Worksheet!V69/(Worksheet!S69+Worksheet!#REF!),0)","v":0},{"$f":"IF(Worksheet!E69=\"\",\"\",Worksheet!E69)","v":""},{"$f":"IF(Worksheet!B69=\"\",\"\",Worksheet!B69)","v":""},{"$f":"IF(Worksheet!D69=\"\",\"\",Worksheet!D69)","v":""}]
[{"$f":"IF(ISBLANK(Worksheet!F70)=FALSE,VLOOKUP(Worksheet!A70,MeasureCode_Lookup,6,FALSE),\"\")","v":""},{"$f":"Worksheet!H70","v":0},{"$f":"Worksheet!I70","v":0},{"$f":"IFERROR(IF(Worksheet!X70=0,Worksheet!W70/I51,Worksheet!X70/R51),0)","v":0},"W Controlled",null,null,{"$f":"IF(N(Worksheet!S70)=0,N(Worksheet!R70),N(Worksheet!S70))","v":0},{"$f":"IFERROR(Worksheet!U70/(Worksheet!R70+Worksheet!#REF!),0)","v":0},{"$f":"Worksheet!AC70","v":0},{"$f":"Worksheet!AB70","v":0},0,{"$f":"IF(Worksheet!AJ70=0,0,Worksheet!AJ70*10/I51)","v":0},0,null,null,null,{"$f":"IFERROR(Worksheet!V70/(Worksheet!S70+Worksheet!#REF!),0)","v":0},{"$f":"IF(Worksheet!E70=\"\",\"\",Worksheet!E70)","v":""},{"$f":"IF(Worksheet!B70=\"\",\"\",Worksheet!B70)","v":""},{"$f":"IF(Worksheet!D70=\"\",\"\",Worksheet!D70)","v":""}]
[{"$f":"IF(ISBLANK(Worksheet!F71)=FALSE,VLOOKUP(Worksheet!A71,MeasureCode_Lookup,6,FALSE),\"\")","v":""},{"$f":"Worksheet!H71","v":0},{"$f":"Worksheet!I71","v":0},{"$f":"IFERROR(IF(Worksheet!X71=0,Worksheet!W71/I52,Worksheet!X71/R52),0)","v":0},"W Controlled",null,null,{"$f":"IF(N(Worksheet!S71)=0,N(Worksheet!R71),N(Worksheet!S71))","v":0},{"$f":"IFERROR(Worksheet!U71/(Worksheet!R71+Worksheet!#REF!),0)","v":0},{"$f":"Worksheet!AC71","v":0},{"$f":"Worksheet!AB71","v":0},0,{"$f":"IF(Worksheet!AJ71=0,0,Worksheet!AJ71*10/I52)","v":0},0,null,null,null,{"$f":"IFERROR(Worksheet!V71/(Worksheet!S71+Worksheet!#REF!),0)","v":0},{"$f":"IF(Worksheet!E71=\"\",\"\",Worksheet!E71)","v":""},{"$f":"IF(Worksheet!B71=\"\",\"\",Worksheet!B71)","v":""},{"$f":"IF(Worksheet!D71=\"\",\"\",Worksheet!D71)","v":""}]
[{"$f":"IF(ISBLANK(Worksheet!F72)=FALSE,VLOOKUP(Worksheet!A72,MeasureCode_Lookup,6,FALSE),\"\")","v":""},{"$f":"Worksheet!H72","v":0},{"$f":"Worksheet!I72","v":0},{"$f":"IFERROR(IF(Worksheet!X72=0,Worksheet!W72/I53,Worksheet!X72/R53),0)","v":0},"W Controlled",null,null,{"$f":"IF(N(Worksheet!S72)=0,N(Worksheet!R72),N(Worksheet!S72))","v":0},{"$f":"IFERROR(Worksheet!U72/(Worksheet!R72+Worksheet!#REF!),0)","v":0},{"$f":"Worksheet!AC72","v":0},{"$f":"Worksheet!AB72","v":0},0,{"$f":"IF(Worksheet!AJ72=0,0,Worksheet!AJ72*10/I53)","v":0},0,null,null,null,{"$f":"IFERROR(Worksheet!V72/(Worksheet!S72+Worksheet!#REF!),0)","v":0},{"$f":"IF(Worksheet!E72=\"\",\"\",Worksheet!E72)","v":""},{"$f":"IF(Worksheet!B72=\"\",\"\",Worksheet!B72)","v":""},{"$f":"IF(Worksheet!D72=\"\",\"\",Worksheet!D72)","v":""}]
[{"$f":"IF(ISBLANK(Worksheet!F73)=FALSE,VLOOKUP(Worksheet!A73,MeasureCode_Lookup,6,FALSE),\"\")","v":""},{"$f":"Worksheet!H73","v":0},{"$f":"Worksheet!I73","v":0},{"$f":"IFERROR(IF(Worksheet!X73=0,Worksheet!W73/I54,Worksheet!X73/R54),0)","v":0},"W Controlled",null,null,{"$f":"IF(N(Worksheet!S73)=0,N(Worksheet!R73),N(Worksheet!S73))","v":0},{"$f":"IFERROR(Worksheet!U73/(Worksheet!R73+Worksheet!#REF!),0)","v":0},{"$f":"Worksheet!AC73","v":0},{"$f":"Worksheet!AB73","v":0},0,{"$f":"IF(Worksheet!AJ73=0,0,Worksheet!AJ73*10/I54)","v":0},0,null,null,null,{"$f":"IFERROR(Worksheet!V73/(Worksheet!S73+Worksheet!#REF!),0)","v":0},{"$f":"IF(Worksheet!E73=\"\",\"\",Worksheet!E73)","v":""},{"$f":"IF(Worksheet!B73=\"\",\"\",Worksheet!B73)","v":""},{"$f":"IF(Worksheet!D73=\"\",\"\",Worksheet!D73)","v":""}]
[{"$f":"IF(ISBLANK(Worksheet!F74)=FALSE,VLOOKUP(Worksheet!A74,MeasureCode_Lookup,6,FALSE),\"\")","v":""},{"$f":"Worksheet!H74","v":0},{"$f":"Worksheet!I74","v":0},{"$f":"IFERROR(IF(Worksheet!X74=0,Worksheet!W74/I55,Worksheet!X74/R55),0)","v":0},"W Controlled",null,null,{"$f":"IF(N(Worksheet!S74)=0,N(Worksheet!R74),N(Worksheet!S74))","v":0},{"$f":"IFERROR(Worksheet!U74/(Worksheet!R74+Worksheet!#REF!),0)","v":0},{"$f":"Worksheet!AC74","v":0},{"$f":"Worksheet!AB74","v":0},0,{"$f":"IF(Worksheet!AJ74=0,0,Worksheet!AJ74*10/I55)","v":0},0,null,null,null,{"$f":"IFERROR(Worksheet!V74/(Worksheet!S74+Worksheet!#REF!),0)","v":0},{"$f":"IF(Worksheet!E74=\"\",\"\",Worksheet!E74)","v":""},{"$f":"IF(Worksheet!B74=\"\",\"\",Worksheet!B74)","v":""},{"$f":"IF(Worksheet!D74=\"\",\"\",Worksheet!D74)","v":""}]
[{"$f":"IF(ISBLANK(Worksheet!F75)=FALSE,VLOOKUP(Worksheet!A75,MeasureCode_Lookup,6,FALSE),\"\")","v":""},{"$f":"Worksheet!H75","v":0},{"$f":"Worksheet!I75","v":0},{"$f":"IFERROR(IF(Worksheet!X75=0,Worksheet!W75/I56,Worksheet!X75/R56),0)","v":0},"W Controlled",null,null,{"$f":"IF(N(Worksheet!S75)=0,N(Worksheet!R75),N(Worksheet!S75))","v":0},{"$f":"IFERROR(Worksheet!U75/(Worksheet!R75+Worksheet!#REF!),0)","v":0},{"$f":"Worksheet!AC75","v":0},{"$f":"Worksheet!AB75","v":0},0,{"$f":"IF(Worksheet!AJ75=0,0,Worksheet!AJ75*10/I56)","v":0},0,null,null,null,{"$f":"IFERROR(Worksheet!V75/(Worksheet!S75+Worksheet!#REF!),0)","v":0},{"$f":"IF(Worksheet!E75=\"\",\"\",Worksheet!E75)","v":""},{"$f":"IF(Worksheet!B75=\"\",\"\",Worksheet!B75)","v":""},{"$f":"IF(Worksheet!D75=\"\",\"\",Worksheet!D75)","v":""}]
[{"$f":"IF(ISBLANK(Worksheet!F76)=FALSE,VLOOKUP(Worksheet!A76,MeasureCode_Lookup,6,FALSE),\"\")","v":""},{"$f":"Worksheet!H76","v":0},{"$f":"Worksheet!I76","v":0},{"$f":"IFERROR(IF(Worksheet!X76=0,Worksheet!W76/I57,Worksheet!X76/R57),0)","v":0},"W Controlled",null,null,{"$f":"IF(N(Worksheet!S76)=0,N(Worksheet!R76),N(Worksheet!S76))","v":0},{"$f":"IFERROR(Worksheet!U76/(Worksheet!R76+Worksheet!#REF!),0)","v":0},{"$f":"Worksheet!AC76","v":0},{"$f":"Worksheet!AB76","v":0},0,{"$f":"IF(Worksheet!AJ76=0,0,Worksheet!AJ76*10/I57)","v":0},0,null,null,null,{"$f":"IFERROR(Worksheet!V76/(Worksheet!S76+Worksheet!#REF!),0)","v":0},{"$f":"IF(Worksheet!E76=\"\",\"\",Worksheet!E76)","v":""},{"$f":"IF(Worksheet!B76=\"\",\"\",Worksheet!B76)","v":""},{"$f":"IF(Worksheet!D76=\"\",\"\",Worksheet!D76)","v":""}]
[{"$f":"IF(ISBLANK(Worksheet!F77)=FALSE,VLOOKUP(Worksheet!A77,MeasureCode_Lookup,6,FALSE),\"\")","v":""},{"$f":"Worksheet!H77","v":0},{"$f":"Worksheet!I77","v":0},{"$f":"IFERROR(IF(Worksheet!X77=0,Worksheet!W77/I58,Worksheet!X77/R58),0)","v":0},"W Controlled",null,null,{"$f":"IF(N(Worksheet!S77)=0,N(Worksheet!R77),N(Worksheet!S77))","v":0},{"$f":"IFERROR(Worksheet!U77/(Worksheet!R77+Worksheet!#REF!),0)","v":0},{"$f":"Worksheet!AC77","v":0},{"$f":"Worksheet!AB77","v":0},0,{"$f":"IF(Worksheet!AJ77=0,0,Worksheet!AJ77*10/I58)","v":0},0,null,null,null,{"$f":"IFERROR(Worksheet!V77/(Worksheet!S77+Worksheet!#REF!),0)","v":0},{"$f":"IF(Worksheet!E77=\"\",\"\",Worksheet!E77)","v":""},{"$f":"IF(Worksheet!B77=\"\",\"\",Worksheet!B77)","v":""},{"$f":"IF(Worksheet!D77=\"\",\"\",Worksheet!D77)","v":""}]
[{"$f":"IF(ISBLANK(Worksheet!F78)=FALSE,VLOOKUP(Worksheet!A78,MeasureCode_Lookup,6,FALSE),\"\")","v":""},{"$f":"Worksheet!H78","v":0},{"$f":"Worksheet!I78","v":0},{"$f":"IFERROR(IF(Worksheet!X78=0,Worksheet!W78/I59,Worksheet!X78/R59),0)","v":0},"W Controlled",null,null,{"$f":"IF(N(Worksheet!S78)=0,N(Worksheet!R78),N(Worksheet!S78))","v":0},{"$f":"IFERROR(Worksheet!U78/(Worksheet!R78+Worksheet!#REF!),0)","v":0},{"$f":"Worksheet!AC78","v":0},{"$f":"Worksheet!AB78","v":0},0,{"$f":"IF(Worksheet!AJ78=0,0,Worksheet!AJ78*10/I59)","v":0},0,null,null,null,{"$f":"IFERROR(Worksheet!V78/(Worksheet!S78+Worksheet!#REF!),0)","v":0},{"$f":"IF(Worksheet!E78=\"\",\"\",Worksheet!E78)","v":""},{"$f":"IF(Worksheet!B78=\"\",\"\",Worksheet!B78)","v":""},{"$f":"IF(Worksheet!D78=\"\",\"\",Worksheet!D78)","v":""}]
[{"$f":"IF(ISBLANK(Worksheet!F79)=FALSE,VLOOKUP(Worksheet!A79,MeasureCode_Lookup,6,FALSE),\"\")","v":""},{"$f":"Worksheet!H79","v":0},{"$f":"Worksheet!I79","v":0},{"$f":"IFERROR(IF(Worksheet!X79=0,Worksheet!W79/I60,Worksheet!X79/R60),0)","v":0},"W Controlled",null,null,{"$f":"IF(N(Worksheet!S79)=0,N(Worksheet!R79),N(Worksheet!S79))","v":0},{"$f":"IFERROR(Worksheet!U79/(Worksheet!R79+Worksheet!#REF!),0)","v":0},{"$f":"Worksheet!AC79","v":0},{"$f":"Worksheet!AB79","v":0},0,{"$f":"IF(Worksheet!AJ79=0,0,Worksheet!AJ79*10/I60)","v":0},0,null,null,null,{"$f":"IFERROR(Worksheet!V79/(Worksheet!S79+Worksheet!#REF!),0)","v":0},{"$f":"IF(Worksheet!E79=\"\",\"\",Worksheet!E79)","v":""},{"$f":"IF(Worksheet!B79=\"\",\"\",Worksheet!B79)","v":""},{"$f":"IF(Worksheet!D79=\"\",\"\",Worksheet!D79)","v":""}]
[{"$f":"IF(ISBLANK(Worksheet!F80)=FALSE,VLOOKUP(Worksheet!A80,MeasureCode_Lookup,6,FALSE),\"\")","v":""},{"$f":"Worksheet!H80","v":0},{"$f":"Worksheet!I80","v":0},{"$f":"IFERROR(IF(Worksheet!X80=0,Worksheet!W80/I61,Worksheet!X80/R61),0)","v":0},"W Controlled",null,null,{"$f":"IF(N(Worksheet!S80)=0,N(Worksheet!R80),N(Worksheet!S80))","v":0},{"$f":"IFERROR(Worksheet!U80/(Worksheet!R80+Worksheet!#REF!),0)","v":0},{"$f":"Worksheet!AC80","v":0},{"$f":"Worksheet!AB80","v":0},0,{"$f":"IF(Worksheet!AJ80=0,0,Worksheet!AJ80*10/I61)","v":0},0,null,null,null,{"$f":"IFERROR(Worksheet!V80/(Worksheet!S80+Worksheet!#REF!),0)","v":0},{"$f":"IF(Worksheet!E80=\"\",\"\",Worksheet!E80)","v":""},{"$f":"IF(Worksheet!B80=\"\",\"\",Worksheet!B80)","v":""},{"$f":"IF(Worksheet!D80=\"\",\"\",Worksheet!D80)","v":""}]
[{"$f":"IF(ISBLANK(Worksheet!F81)=FALSE,VLOOKUP(Worksheet!A81,MeasureCode_Lookup,6,FALSE),\"\")","v":""},{"$f":"Worksheet!H81","v":0},{"$f":"Worksheet!I81","v":0},{"$f":"IFERROR(IF(Worksheet!X81=0,Worksheet!W81/I62,Worksheet!X81/R62),0)","v":0},"W Controlled",null,null,{"$f":"IF(N(Worksheet!S81)=0,N(Worksheet!R81),N(Worksheet!S81))","v":0},{"$f":"IFERROR(Worksheet!U81/(Worksheet!R81+Worksheet!#REF!),0)","v":0},{"$f":"Worksheet!AC81","v":0},{"$f":"Worksheet!AB81","v":0},0,{"$f":"IF(Worksheet!AJ81=0,0,Worksheet!AJ81*10/I62)","v":0},0,null,null,null,{"$f":"IFERROR(Worksheet!V81/(Worksheet!S81+Worksheet!#REF!),0)","v":0},{"$f":"IF(Worksheet!E81=\"\",\"\",Worksheet!E81)","v":""},{"$f":"IF(Worksheet!B81=\"\",\"\",Worksheet!B81)","v":""},{"$f":"IF(Worksheet!D81=\"\",\"\",Worksheet!D81)","v":""}]
[{"$f":"IF(ISBLANK(Worksheet!F82)=FALSE,VLOOKUP(Worksheet!A82,MeasureCode_Lookup,6,FALSE),\"\")","v":""},{"$f":"Worksheet!H82","v":0},{"$f":"Worksheet!I82","v":0},{"$f":"IFERROR(IF(Worksheet!X82=0,Worksheet!W82/I63,Worksheet!X82/R63),0)","v":0},"W Controlled",null,null,{"$f":"IF(N(Worksheet!S82)=0,N(Worksheet!R82),N(Worksheet!S82))","v":0},{"$f":"IFERROR(Worksheet!U82/(Worksheet!R82+Worksheet!#REF!),0)","v":0},{"$f":"Worksheet!AC82","v":0},{"$f":"Worksheet!AB82","v":0},0,{"$f":"IF(Worksheet!AJ82=0,0,Worksheet!AJ82*10/I63)","v":0},0,null,null,null,{"$f":"IFERROR(Worksheet!V82/(Worksheet!S82+Worksheet!#REF!),0)","v":0},{"$f":"IF(Worksheet!E82=\"\",\"\",Worksheet!E82)","v":""},{"$f":"IF(Worksheet!B82=\"\",\"\",Worksheet!B82)","v":""},{"$f":"IF(Worksheet!D82=\"\",\"\",Worksheet!D82)","v":""}]
[{"$f":"IF(ISBLANK(Worksheet!F83)=FALSE,VLOOKUP(Worksheet!A83,MeasureCode_Lookup,6,FALSE),\"\")","v":""},{"$f":"Worksheet!H83","v":0},{"$f":"Worksheet!I83","v":0},{"$f":"IFERROR(IF(Worksheet!X83=0,Worksheet!W83/I64,Worksheet!X83/R64),0)","v":0},"W Controlled",null,null,{"$f":"IF(N(Worksheet!S83)=0,N(Worksheet!R83),N(Worksheet!S83))","v":0},{"$f":"IFERROR(Worksheet!U83/(Worksheet!R83+Worksheet!#REF!),0)","v":0},{"$f":"Worksheet!AC83","v":0},{"$f":"Worksheet!AB83","v":0},0,{"$f":"IF(Worksheet!AJ83=0,0,Worksheet!AJ83*10/I64)","v":0},0,null,null,null,{"$f":"IFERROR(Worksheet!V83/(Worksheet!S83+Worksheet!#REF!),0)","v":0},{"$f":"IF(Worksheet!E83=\"\",\"\",Worksheet!E83)","v":""},{"$f":"IF(Worksheet!B83=\"\",\"\",Worksheet!B83)","v":""},{"$f":"IF(Worksheet!D83=\"\",\"\",Worksheet!D83)","v":""}]
[{"$f":"IF(ISBLANK(Worksheet!F84)=FALSE,VLOOKUP(Worksheet!A84,MeasureCode_Lookup,6,FALSE),\"\")","v":""},{"$f":"Worksheet!H84","v":0},{"$f":"Worksheet!I84","v":0},{"$f":"IFERROR(IF(Worksheet!X84=0,Worksheet!W84/I65,Worksheet!X84/R65),0)","v":0},"W Controlled",null,null,{"$f":"IF(N(Worksheet!S84)=0,N(Worksheet!R84),N(Worksheet!S84))","v":0},{"$f":"IFERROR(Worksheet!U84/(Worksheet!R84+Worksheet!#REF!),0)","v":0},{"$f":"Worksheet!AC84","v":0},{"$f":"Worksheet!AB84","v":0},0,{"$f":"IF(Worksheet!AJ84=0,0,Worksheet!AJ84*10/I65)","v":0},0,null,null,null,{"$f":"IFERROR(Worksheet!V84/(Worksheet!S84+Worksheet!#REF!),0)","v":0},{"$f":"IF(Worksheet!E84=\"\",\"\",Worksheet!E84)","v":""},{"$f":"IF(Worksheet!B84=\"\",\"\",Worksheet!B84)","v":""},{"$f":"IF(Worksheet!D84=\"\",\"\",Worksheet!D84)","v":""}]
[{"$f":"IF(ISBLANK(Worksheet!F85)=FALSE,VLOOKUP(Worksheet!A85,MeasureCode_Lookup,6,FALSE),\"\")","v":""},{"$f":"Worksheet!H85","v":0},{"$f":"Worksheet!I85","v":0},{"$f":"IFERROR(IF(Worksheet!X85=0,Worksheet!W85/I66,Worksheet!X85/R66),0)","v":0},"W Controlled",null,null,{"$f":"IF(N(Worksheet!S85)=0,N(Worksheet!R85),N(Worksheet!S85))","v":0},{"$f":"IFERROR(Worksheet!U85/(Worksheet!R85+Worksheet!#REF!),0)","v":0},{"$f":"Worksheet!AC85","v":0},{"$f":"Worksheet!AB85","v":0},0,{"$f":"IF(Worksheet!AJ85=0,0,Worksheet!AJ85*10/I66)","v":0},0,null,null,null,{"$f":"IFERROR(Worksheet!V85/(Worksheet!S85+Worksheet!#REF!),0)","v":0},{"$f":"IF(Worksheet!E85=\"\",\"\",Worksheet!E85)","v":""},{"$f":"IF(Worksheet!B85=\"\",\"\",Worksheet!B85)","v":""},{"$f":"IF(Worksheet!D85=\"\",\"\",Worksheet!D85)","v":""}]
[{"$f":"IF(ISBLANK(Worksheet!F86)=FALSE,VLOOKUP(Worksheet!A86,MeasureCode_Lookup,6,FALSE),\"\")","v":""},{"$f":"Worksheet!H86","v":0},{"$f":"Worksheet!I86","v":0},{"$f":"IFERROR(IF(Worksheet!X86=0,Worksheet!W86/I67,Worksheet!X86/R67),0)","v":0},"W Controlled",null,null,{"$f":"IF(N(Worksheet!S86)=0,N(Worksheet!R86),N(Worksheet!S86))","v":0},{"$f":"IFERROR(Worksheet!U86/(Worksheet!R86+Worksheet!#REF!),0)","v":0},{"$f":"Worksheet!AC86","v":0},{"$f":"Worksheet!AB86","v":0},{"$f":"J67*8","v":0},{"$f":"IF(Worksheet!AJ86=0,0,Worksheet!AJ86*10/I67)","v":0},{"$f":"M67*8","v":0},null,null,null,{"$f":"IFERROR(Worksheet!V86/(Worksheet!S86+Worksheet!#REF!),0)","v":0},{"$f":"IF(Worksheet!E86=\"\",\"\",Worksheet!E86)","v":""},{"$f":"IF(Worksheet!B86=\"\",\"\",Worksheet!B86)","v":""},{"$f":"IF(Worksheet!D86=\"\",\"\",Worksheet!D86)","v":""}]
[{"$f":"IF(ISBLANK(Worksheet!F87)=FALSE,VLOOKUP(Worksheet!A87,MeasureCode_Lookup,6,FALSE),\"\")","v":""},{"$f":"Worksheet!H87","v":0},{"$f":"Worksheet!I87","v":0},{"$f":"IFERROR(IF(Worksheet!X87=0,Worksheet!W87/I68,Worksheet!X87/R68),0)","v":0},"W Controlled",null,null,{"$f":"IF(N(Worksheet!S87)=0,N(Worksheet!R87),N(Worksheet!S87))","v":0},{"$f":"IFERROR(Worksheet!U87/(Worksheet!R87+Worksheet!#REF!),0)","v":0},{"$f":"Worksheet!AC87","v":0},{"$f":"Worksheet!AB87","v":0},0,{"$f":"IF(Worksheet!AJ87=0,0,Worksheet!AJ87*10/I68)","v":0},0,null,null,null,{"$f":"IFERROR(Worksheet!V87/(Worksheet!S87+Worksheet!#REF!),0)","v":0},{"$f":"IF(Worksheet!E87=\"\",\"\",Worksheet!E87)","v":""},{"$f":"IF(Worksheet!B87=\"\",\"\",Worksheet!B87)","v":""},{"$f":"IF(Worksheet!D87=\"\",\"\",Worksheet!D87)","v":""}]
[{"$f":"IF(ISBLANK(Worksheet!F88)=FALSE,VLOOKUP(Worksheet!A88,MeasureCode_Lookup,6,FALSE),\"\")","v":""},{"$f":"Worksheet!H88","v":0},{"$f":"Worksheet!I88","v":0},{"$f":"IFERROR(IF(Worksheet!X88=0,Worksheet!W88/I69,Worksheet!X88/R69),0)","v":0},"W Controlled",null,null,{"$f":"IF(N(Worksheet!S88)=0,N(Worksheet!R88),N(Worksheet!S88))","v":0},{"$f":"IFERROR(Worksheet!U88/(Worksheet!R88+Worksheet!#REF!),0)","v":0},{"$f":"Worksheet!AC88","v":0},{"$f":"Worksheet!AB88","v":0},0,{"$f":"IF(Worksheet!AJ88=0,0,Worksheet!AJ88*10/I69)","v":0},0,null,null,null,{"$f":"IFERROR(Worksheet!V88/(Worksheet!S88+Worksheet!#REF!),0)","v":0},{"$f":"IF(Worksheet!E88=\"\",\"\",Worksheet!E88)","v":""},{"$f":"IF(Worksheet!B88=\"\",\"\",Worksheet!B88)","v":""},{"$f":"IF(Worksheet!D88=\"\",\"\",Worksheet!D88)","v":""}]
[{"$f":"IF(ISBLANK(Worksheet!F89)=FALSE,VLOOKUP(Worksheet!A89,MeasureCode_Lookup,6,FALSE),\"\")","v":""},{"$f":"Worksheet!H89","v":0},{"$f":"Worksheet!I89","v":0},{"$f":"IFERROR(IF(Worksheet!X89=0,Worksheet!W89/I70,Worksheet!X89/R70),0)","v":0},"W Controlled",null,null,{"$f":"IF(N(Worksheet!S89)=0,N(Worksheet!R89),N(Worksheet!S89))","v":0},{"$f":"IFERROR(Worksheet!U89/(Worksheet!R89+Worksheet!#REF!),0)","v":0},{"$f":"Worksheet!AC89","v":0},{"$f":"Worksheet!AB89","v":0},0,{"$f":"IF(Worksheet!AJ89=0,0,Worksheet!AJ89*10/I70)","v":0},0,null,null,null,{"$f":"IFERROR(Worksheet!V89/(Worksheet!S89+Worksheet!#REF!),0)","v":0},{"$f":"IF(Worksheet!E89=\"\",\"\",Worksheet!E89)","v":""},{"$f":"IF(Worksheet!B89=\"\",\"\",Worksheet!B89)","v":""},{"$f":"IF(Worksheet!D89=\"\",\"\",Worksheet!D89)","v":""}]
[{"$f":"IF(ISBLANK(Worksheet!F90)=FALSE,VLOOKUP(Worksheet!A90,MeasureCode_Lookup,6,FALSE),\"\")","v":""},{"$f":"Worksheet!H90","v":0},{"$f":"Worksheet!I90","v":0},{"$f":"IFERROR(IF(Worksheet!X90=0,Worksheet!W90/I71,Worksheet!X90/R71),0)","v":0},"W Controlled",null,null,{"$f":"IF(N(Worksheet!S90)=0,N(Worksheet!R90),N(Worksheet!S90))","v":0},{"$f":"IFERROR(Worksheet!U90/(Worksheet!R90+Worksheet!#REF!),0)","v":0},{"$f":"Worksheet!AC90","v":0},{"$f":"Worksheet!AB90","v":0},0,{"$f":"IF(Worksheet!AJ90=0,0,Worksheet!AJ90*10/I71)","v":0},0,null,null,null,{"$f":"IFERROR(Worksheet!V90/(Worksheet!S90+Worksheet!#REF!),0)","v":0},{"$f":"IF(Worksheet!E90=\"\",\"\",Worksheet!E90)","v":""},{"$f":"IF(Worksheet!B90=\"\",\"\",Worksheet!B90)","v":""},{"$f":"IF(Worksheet!D90=\"\",\"\",Worksheet!D90)","v":""}]
[{"$f":"IF(ISBLANK(Worksheet!F91)=FALSE,VLOOKUP(Worksheet!A91,MeasureCode_Lookup,6,FALSE),\"\")","v":""},{"$f":"Worksheet!H91","v":0},{"$f":"Worksheet!I91","v":0},{"$f":"IFERROR(IF(Worksheet!X91=0,Worksheet!W91/I72,Worksheet!X91/R72),0)","v":0},"W Controlled",null,null,{"$f":"IF(N(Worksheet!S91)=0,N(Worksheet!R91),N(Worksheet!S91))","v":0},{"$f":"IFERROR(Worksheet!U91/(Worksheet!R91+Worksheet!#REF!),0)","v":0},{"$f":"Worksheet!AC91","v":0},{"$f":"Worksheet!AB91","v":0},0,{"$f":"IF(Worksheet!AJ91=0,0,Worksheet!AJ91*10/I72)","v":0},0,null,null,null,{"$f":"IFERROR(Worksheet!V91/(Worksheet!S91+Worksheet!#REF!),0)","v":0},{"$f":"IF(Worksheet!E91=\"\",\"\",Worksheet!E91)","v":""},{"$f":"IF(Worksheet!B91=\"\",\"\",Worksheet!B91)","v":""},{"$f":"IF(Worksheet!D91=\"\",\"\",Worksheet!D91)","v":""}]
[{"$f":"IF(ISBLANK(Worksheet!F92)=FALSE,VLOOKUP(Worksheet!A92,MeasureCode_Lookup,6,FALSE),\"\")","v":""},{"$f":"Worksheet!H92","v":0},{"$f":"Worksheet!I92","v":0},{"$f":"IFERROR(IF(Worksheet!X92=0,Worksheet!W92/I73,Worksheet!X92/R73),0)","v":0},"W Controlled",null,null,{"$f":"IF(N(Worksheet!S92)=0,N(Worksheet!R92),N(Worksheet!S92))","v":0},{"$f":"IFERROR(Worksheet!U92/(Worksheet!R92+Worksheet!#REF!),0)","v":0},{"$f":"Worksheet!AC92","v":0},{"$f":"Worksheet!AB92","v":0},0,{"$f":"IF(Worksheet!AJ92=0,0,Worksheet!AJ92*10/I73)","v":0},0,null,null,null,{"$f":"IFERROR(Worksheet!V92/(Worksheet!S92+Worksheet!#REF!),0)","v":0},{"$f":"IF(Worksheet!E92=\"\",\"\",Worksheet!E92)","v":""},{"$f":"IF(Worksheet!B92=\"\",\"\",Worksheet!B92)","v":""},{"$f":"IF(Worksheet!D92=\"\",\"\",Worksheet!D92)","v":""}]
[{"$f":"IF(ISBLANK(Worksheet!F93)=FALSE,VLOOKUP(Worksheet!A93,MeasureCode_Lookup,6,FALSE),\"\")","v":""},{"$f":"Worksheet!H93","v":0},{"$f":"Worksheet!I93","v":0},{"$f":"IFERROR(IF(Worksheet!X93=0,Worksheet!W93/I74,Worksheet!X93/R74),0)","v":0},"W Controlled",null,null,{"$f":"IF(N(Worksheet!S93)=0,N(Worksheet!R93),N(Worksheet!S93))","v":0},{"$f":"IFERROR(Worksheet!U93/(Worksheet!R93+Worksheet!#REF!),0)","v":0},{"$f":"Worksheet!AC93","v":0},{"$f":"Worksheet!AB93","v":0},0,{"$f":"IF(Worksheet!AJ93=0,0,Worksheet!AJ93*10/I74)","v":0},0,null,null,null,{"$f":"IFERROR(Worksheet!V93/(Worksheet!S93+Worksheet!#REF!),0)","v":0},{"$f":"IF(Worksheet!E93=\"\",\"\",Worksheet!E93)","v":""},{"$f":"IF(Worksheet!B93=\"\",\"\",Worksheet!B93)","v":""},{"$f":"IF(Worksheet!D93=\"\",\"\",Worksheet!D93)","v":""}]
[{"$f":"IF(ISBLANK(Worksheet!F94)=FALSE,VLOOKUP(Worksheet!A94,MeasureCode_Lookup,6,FALSE),\"\")","v":""},{"$f":"Worksheet!H94","v":0},{"$f":"Worksheet!I94","v":0},{"$f":"IFERROR(IF(Worksheet!X94=0,Worksheet!W94/I75,Worksheet!X94/R75),0)","v":0},"W Controlled",null,null,{"$f":"IF(N(Worksheet!S94)=0,N(Worksheet!R94),N(Worksheet!S94))","v":0},{"$f":"IFERROR(Worksheet!U94/(Worksheet!R94+Worksheet!#REF!),0)","v":0},{"$f":"Worksheet!AC94","v":0},{"$f":"Worksheet!AB94","v":0},0,{"$f":"IF(Worksheet!AJ94=0,0,Worksheet!AJ94*10/I75)","v":0},0,null,null,null,{"$f":"IFERROR(Worksheet!V94/(Worksheet!S94+Worksheet!#REF!),0)","v":0},{"$f":"IF(Worksheet!E94=\"\",\"\",Worksheet!E94)","v":""},{"$f":"IF(Worksheet!B94=\"\",\"\",Worksheet!B94)","v":""},{"$f":"IF(Worksheet!D94=\"\",\"\",Worksheet!D94)","v":""}]
[{"$f":"IF(ISBLANK(Worksheet!F95)=FALSE,VLOOKUP(Worksheet!A95,MeasureCode_Lookup,6,FALSE),\"\")","v":""},{"$f":"Worksheet!H95","v":0},{"$f":"Worksheet!I95","v":0},{"$f":"IFERROR(IF(Worksheet!X95=0,Worksheet!W95/I76,Worksheet!X95/R76),0)","v":0},"W Controlled",null,null,{"$f":"IF(N(Worksheet!S95)=0,N(Worksheet!R95),N(Worksheet!S95))","v":0},{"$f":"IFERROR(Worksheet!U95/(Worksheet!R95+Worksheet!#REF!),0)","v":0},{"$f":"Worksheet!AC95","v":0},{"$f":"Worksheet!AB95","v":0},0,{"$f":"IF(Worksheet!AJ95=0,0,Worksheet!AJ95*10/I76)","v":0},0,null,null,null,{"$f":"IFERROR(Worksheet!V95/(Worksheet!S95+Worksheet!#REF!),0)","v":0},{"$f":"IF(Worksheet!E95=\"\",\"\",Worksheet!E95)","v":""},{"$f":"IF(Worksheet!B95=\"\",\"\",Worksheet!B95)","v":""},{"$f":"IF(Worksheet!D95=\"\",\"\",Worksheet!D95)","v":""}]
[{"$f":"IF(ISBLANK(Worksheet!F96)=FALSE,VLOOKUP(Worksheet!A96,MeasureCode_Lookup,6,FALSE),\"\")","v":""},{"$f":"Worksheet!H96","v":0},{"$f":"Worksheet!I96","v":0},{"$f":"IFERROR(IF(Worksheet!X96=0,Worksheet!W96/I77,Worksheet!X96/R77),0)","v":0},"W Controlled",null,null,{"$f":"IF(N(Worksheet!S96)=0,N(Worksheet!R96),N(Worksheet!S96))","v":0},{"$f":"IFERROR(Worksheet!U96/(Worksheet!R96+Worksheet!#REF!),0)","v":0},{"$f":"Worksheet!AC96","v":0},{"$f":"Worksheet!AB96","v":0},0,{"$f":"IF(Worksheet!AJ96=0,0,Worksheet!AJ96*10/I77)","v":0},0,null,null,null,{"$f":"IFERROR(Worksheet!V96/(Worksheet!S96+Worksheet!#REF!),0)","v":0},{"$f":"IF(Worksheet!E96=\"\",\"\",Worksheet!E96)","v":""},{"$f":"IF(Worksheet!B96=\"\",\"\",Worksheet!B96)","v":""},{"$f":"IF(Worksheet!D96=\"\",\"\",Worksheet!D96)","v":""}]
[{"$f":"IF(ISBLANK(Worksheet!F97)=FALSE,VLOOKUP(Worksheet!A97,MeasureCode_Lookup,6,FALSE),\"\")","v":""},{"$f":"Worksheet!H97","v":0},{"$f":"Worksheet!I97","v":0},{"$f":"IFERROR(IF(Worksheet!X97=0,Worksheet!W97/I78,Worksheet!X97/R78),0)","v":0},"W Controlled",null,null,{"$f":"IF(N(Worksheet!S97)=0,N(Worksheet!R97),N(Worksheet!S97))","v":0},{"$f":"IFERROR(Worksheet!U97/(Worksheet!R97+Worksheet!#REF!),0)","v":0},{"$f":"Worksheet!AC97","v":0},{"$f":"Worksheet!AB97","v":0},0,{"$f":"IF(Worksheet!AJ97=0,0,Worksheet!AJ97*10/I78)","v":0},0,null,null,null,{"$f":"IFERROR(Worksheet!V97/(Worksheet!S97+Worksheet!#REF!),0)","v":0},{"$f":"IF(Worksheet!E97=\"\",\"\",Worksheet!E97)","v":""},{"$f":"IF(Worksheet!B97=\"\",\"\",Worksheet!B97)","v":""},{"$f":"IF(Worksheet!D97=\"\",\"\",Worksheet!D97)","v":""}]
[{"$f":"IF(ISBLANK(Worksheet!F98)=FALSE,VLOOKUP(Worksheet!A98,MeasureCode_Lookup,6,FALSE),\"\")","v":""},{"$f":"Worksheet!H98","v":0},{"$f":"Worksheet!I98","v":0},{"$f":"IFERROR(IF(Worksheet!X98=0,Worksheet!W98/I79,Worksheet!X98/R79),0)","v":0},"W Controlled",null,null,{"$f":"IF(N(Worksheet!S98)=0,N(Worksheet!R98),N(Worksheet!S98))","v":0},{"$f":"IFERROR(Worksheet!U98/(Worksheet!R98+Worksheet!#REF!),0)","v":0},{"$f":"Worksheet!AC98","v":0},{"$f":"Worksheet!AB98","v":0},0,{"$f":"IF(Worksheet!AJ98=0,0,Worksheet!AJ98*10/I79)","v":0},0,null,null,null,{"$f":"IFERROR(Worksheet!V98/(Worksheet!S98+Worksheet!#REF!),0)","v":0},{"$f":"IF(Worksheet!E98=\"\",\"\",Worksheet!E98)","v":""},{"$f":"IF(Worksheet!B98=\"\",\"\",Worksheet!B98)","v":""},{"$f":"IF(Worksheet!D98=\"\",\"\",Worksheet!D98)","v":""}]
[{"$f":"IF(ISBLANK(Worksheet!F99)=FALSE,VLOOKUP(Worksheet!A99,MeasureCode_Lookup,6,FALSE),\"\")","v":""},{"$f":"Worksheet!H99","v":0},{"$f":"Worksheet!I99","v":0},{"$f":"IFERROR(IF(Worksheet!X99=0,Worksheet!W99/I80,Worksheet!X99/R80),0)","v":0},"W Controlled",null,null,{"$f":"IF(N(Worksheet!S99)=0,N(Worksheet!R99),N(Worksheet!S99))","v":0},{"$f":"IFERROR(Worksheet!U99/(Worksheet!R99+Worksheet!#REF!),0)","v":0},{"$f":"Worksheet!AC99","v":0},{"$f":"Worksheet!AB99","v":0},0,{"$f":"IF(Worksheet!AJ99=0,0,Worksheet!AJ99*10/I80)","v":0},0,null,null,null,{"$f":"IFERROR(Worksheet!V99/(Worksheet!S99+Worksheet!#REF!),0)","v":0},{"$f":"IF(Worksheet!E99=\"\",\"\",Worksheet!E99)","v":""},{"$f":"IF(Worksheet!B99=\"\",\"\",Worksheet!B99)","v":""},{"$f":"IF(Worksheet!D99=\"\",\"\",Worksheet!D99)","v":""}]
[{"$f":"IF(ISBLANK(Worksheet!F100)=FALSE,VLOOKUP(Worksheet!A100,MeasureCode_Lookup,6,FALSE),\"\")","v":""},{"$f":"Worksheet!H100","v":0},{"$f":"Worksheet!I100","v":0},{"$f":"IFERROR(IF(Worksheet!X100=0,Worksheet!W100/I81,Worksheet!X100/R81),0)","v":0},"W Controlled",null,null,{"$f":"IF(N(Worksheet!S100)=0,N(Worksheet!R100),N(Worksheet!S100))","v":0},{"$f":"IFERROR(Worksheet!U100/(Worksheet!R100+Worksheet!#REF!),0)","v":0},{"$f":"Worksheet!AC100","v":0},{"$f":"Worksheet!AB100","v":0},0,{"$f":"IF(Worksheet!AJ100=0,0,Worksheet!AJ100*10/I81)","v":0},0,null,null,null,{"$f":"IFERROR(Worksheet!V100/(Worksheet!S100+Worksheet!#REF!),0)","v":0},{"$f":"IF(Worksheet!E100=\"\",\"\",Worksheet!E100)","v":""},{"$f":"IF(Worksheet!B100=\"\",\"\",Worksheet!B100)","v":""},{"$f":"IF(Worksheet!D100=\"\",\"\",Worksheet!D100)","v":""}]
[{"$f":"IF(ISBLANK(Worksheet!F101)=FALSE,VLOOKUP(Worksheet!A101,MeasureCode_Lookup,6,FALSE),\"\")","v":""},{"$f":"Worksheet!H101","v":0},{"$f":"Worksheet!I101","v":0},{"$f":"IFERROR(IF(Worksheet!X101=0,Worksheet!W101/I82,Worksheet!X101/R82),0)","v":0},"W Controlled",null,null,{"$f":"IF(N(Worksheet!S101)=0,N(Worksheet!R101),N(Worksheet!S101))","v":0},{"$f":"IFERROR(Worksheet!U101/(Worksheet!R101+Worksheet!#REF!),0)","v":0},{"$f":"Worksheet!AC101","v":0},{"$f":"Worksheet!AB101","v":0},0,{"$f":"IF(Worksheet!AJ101=0,0,Worksheet!AJ101*10/I82)","v":0},0,null,null,null,{"$f":"IFERROR(Worksheet!V101/(Worksheet!S101+Worksheet!#REF!),0)","v":0},{"$f":"IF(Worksheet!E101=\"\",\"\",Worksheet!E101)","v":""},{"$f":"IF(Worksheet!B101=\"\",\"\",Worksheet!B101)","v":""},{"$f":"IF(Worksheet!D101=\"\",\"\",Worksheet!D101)","v":""}]
[{"$f":"IF(ISBLANK(Worksheet!F102)=FALSE,VLOOKUP(Worksheet!A102,MeasureCode_Lookup,6,FALSE),\"\")","v":""},{"$f":"Worksheet!H102","v":0},{"$f":"Worksheet!I102","v":0},{"$f":"IFERROR(IF(Worksheet!X102=0,Worksheet!W102/I83,Worksheet!X102/R83),0)","v":0},"W Controlled",null,null,{"$f":"IF(N(Worksheet!S102)=0,N(Worksheet!R102),N(Worksheet!S102))","v":0},{"$f":"IFERROR(Worksheet!U102/(Worksheet!R102+Worksheet!#REF!),0)","v":0},{"$f":"Worksheet!AC102","v":0},{"$f":"Worksheet!AB102","v":0},0,{"$f":"IF(Worksheet!AJ102=0,0,Worksheet!AJ102*10/I83)","v":0},0,null,null,null,{"$f":"IFERROR(Worksheet!V102/(Worksheet!S102+Worksheet!#REF!),0)","v":0},{"$f":"IF(Worksheet!E102=\"\",\"\",Worksheet!E102)","v":""},{"$f":"IF(Worksheet!B102=\"\",\"\",Worksheet!B102)","v":""},{"$f":"IF(Worksheet!D102=\"\",\"\",Worksheet!D102)","v":""}]
[{"$f":"IF(ISBLANK(Worksheet!F103)=FALSE,VLOOKUP(Worksheet!A103,MeasureCode_Lookup,6,FALSE),\"\")","v":""},{"$f":"Worksheet!H103","v":0},{"$f":"Worksheet!I103","v":0},{"$f":"IFERROR(IF(Worksheet!X103=0,Worksheet!W103/I84,Worksheet!X103/R84),0)","v":0},"W Controlled",null,null,{"$f":"IF(N(Worksheet!S103)=0,N(Worksheet!R103),N(Worksheet!S103))","v":0},{"$f":"IFERROR(Worksheet!U103/(Worksheet!R103+Worksheet!#REF!),0)","v":0},{"$f":"Worksheet!AC103","v":0},{"$f":"Worksheet!AB103","v":0},0,{"$f":"IF(Worksheet!AJ103=0,0,Worksheet!AJ103*10/I84)","v":0},0,null,null,null,{"$f":"IFERROR(Worksheet!V103/(Worksheet!S103+Worksheet!#REF!),0)","v":0},{"$f":"IF(Worksheet!E103=\"\",\"\",Worksheet!E103)","v":""},{"$f":"IF(Worksheet!B103=\"\",\"\",Worksheet!B103)","v":""},{"$f":"IF(Worksheet!D103=\"\",\"\",Worksheet!D103)","v":""}]
[{"$f":"IF(ISBLANK(Worksheet!F104)=FALSE,VLOOKUP(Worksheet!A104,MeasureCode_Lookup,6,FALSE),\"\")","v":""},{"$f":"Worksheet!H104","v":0},{"$f":"Worksheet!I104","v":0},{"$f":"IFERROR(IF(Worksheet!X104=0,Worksheet!W104/I85,Worksheet!X104/R85),0)","v":0},"W Controlled",null,null,{"$f":"IF(N(Worksheet!S104)=0,N(Worksheet!R104),N(Worksheet!S104))","v":0},{"$f":"IFERROR(Worksheet!U104/(Worksheet!R104+Worksheet!#REF!),0)","v":0},{"$f":"Worksheet!AC104","v":0},{"$f":"Worksheet!AB104","v":0},0,{"$f":"IF(Worksheet!AJ104=0,0,Worksheet!AJ104*10/I85)","v":0},0,null,null,null,{"$f":"IFERROR(Worksheet!V104/(Worksheet!S104+Worksheet!#REF!),0)","v":0},{"$f":"IF(Worksheet!E104=\"\",\"\",Worksheet!E104)","v":""},{"$f":"IF(Worksheet!B104=\"\",\"\",Worksheet!B104)","v":""},{"$f":"IF(Worksheet!D104=\"\",\"\",Worksheet!D104)","v":""}]
[{"$f":"IF(ISBLANK(Worksheet!F105)=FALSE,VLOOKUP(Worksheet!A105,MeasureCode_Lookup,6,FALSE),\"\")","v":""},{"$f":"Worksheet!H105","v":0},{"$f":"Worksheet!I105","v":0},{"$f":"IFERROR(IF(Worksheet!X105=0,Worksheet!W105/I86,Worksheet!X105/R86),0)","v":0},"W Controlled",null,null,{"$f":"IF(N(Worksheet!S105)=0,N(Worksheet!R105),N(Worksheet!S105))","v":0},{"$f":"IFERROR(Worksheet!U105/(Worksheet!R105+Worksheet!#REF!),0)","v":0},{"$f":"Worksheet!AC105","v":0},{"$f":"Worksheet!AB105","v":0},0,{"$f":"IF(Worksheet!AJ105=0,0,Worksheet!AJ105*10/I86)","v":0},0,null,null,null,{"$f":"IFERROR(Worksheet!V105/(Worksheet!S105+Worksheet!#REF!),0)","v":0},{"$f":"IF(Worksheet!E105=\"\",\"\",Worksheet!E105)","v":""},{"$f":"IF(Worksheet!B105=\"\",\"\",Worksheet!B105)","v":""},{"$f":"IF(Worksheet!D105=\"\",\"\",Worksheet!D105)","v":""}]
[{"$f":"IF(ISBLANK(Worksheet!F106)=FALSE,VLOOKUP(Worksheet!A106,MeasureCode_Lookup,6,FALSE),\"\")","v":""},{"$f":"Worksheet!H106","v":0},{"$f":"Worksheet!I106","v":0},{"$f":"IFERROR(IF(Worksheet!X106=0,Worksheet!W106/I87,Worksheet!X106/R87),0)","v":0},"W Controlled",null,null,{"$f":"IF(N(Worksheet!S106)=0,N(Worksheet!R106),N(Worksheet!S106))","v":0},{"$f":"IFERROR(Worksheet!U106/(Worksheet!R106+Worksheet!#REF!),0)","v":0},{"$f":"Worksheet!AC106","v":0},{"$f":"Worksheet!AB106","v":0},0,{"$f":"IF(Worksheet!AJ106=0,0,Worksheet!AJ106*10/I87)","v":0},0,null,null,null,{"$f":"IFERROR(Worksheet!V106/(Worksheet!S106+Worksheet!#REF!),0)","v":0},{"$f":"IF(Worksheet!E106=\"\",\"\",Worksheet!E106)","v":""},{"$f":"IF(Worksheet!B106=\"\",\"\",Worksheet!B106)","v":""},{"$f":"IF(Worksheet!D106=\"\",\"\",Worksheet!D106)","v":""}]
[{"$f":"IF(ISBLANK(Worksheet!F107)=FALSE,VLOOKUP(Worksheet!A107,MeasureCode_Lookup,6,FALSE),\"\")","v":""},{"$f":"Worksheet!H107","v":0},{"$f":"Worksheet!I107","v":0},{"$f":"IFERROR(IF(Worksheet!X107=0,Worksheet!W107/I88,Worksheet!X107/R88),0)","v":0},"W Controlled",null,null,{"$f":"IF(N(Worksheet!S107)=0,N(Worksheet!R107),N(Worksheet!S107))","v":0},{"$f":"IFERROR(Worksheet!U107/(Worksheet!R107+Worksheet!#REF!),0)","v":0},{"$f":"Worksheet!AC107","v":0},{"$f":"Worksheet!AB107","v":0},0,{"$f":"IF(Worksheet!AJ107=0,0,Worksheet!AJ107*10/I88)","v":0},0,null,null,null,{"$f":"IFERROR(Worksheet!V107/(Worksheet!S107+Worksheet!#REF!),0)","v":0},{"$f":"IF(Worksheet!E107=\"\",\"\",Worksheet!E107)","v":""},{"$f":"IF(Worksheet!B107=\"\",\"\",Worksheet!B107)","v":""},{"$f":"IF(Worksheet!D107=\"\",\"\",Worksheet!D107)","v":""}]
[{"$f":"IF(ISBLANK(Worksheet!F108)=FALSE,VLOOKUP(Worksheet!A108,MeasureCode_Lookup,6,FALSE),\"\")","v":""},{"$f":"Worksheet!H108","v":0},{"$f":"Worksheet!I108","v":0},{"$f":"IFERROR(IF(Worksheet!X108=0,Worksheet!W108/I89,Worksheet!X108/R89),0)","v":0},"W Controlled",null,null,{"$f":"IF(N(Worksheet!S108)=0,N(Worksheet!R108),N(Worksheet!S108))","v":0},{"$f":"IFERROR(Worksheet!U108/(Worksheet!R108+Worksheet!#REF!),0)","v":0},{"$f":"Worksheet!AC108","v":0},{"$f":"Worksheet!AB108","v":0},0,{"$f":"IF(Worksheet!AJ108=0,0,Worksheet!AJ108*10/I89)","v":0},0,null,null,null,{"$f":"IFERROR(Worksheet!V108/(Worksheet!S108+Worksheet!#REF!),0)","v":0},{"$f":"IF(Worksheet!E108=\"\",\"\",Worksheet!E108)","v":""},{"$f":"IF(Worksheet!B108=\"\",\"\",Worksheet!B108)","v":""},{"$f":"IF(Worksheet!D108=\"\",\"\",Worksheet!D108)","v":""}]
[{"$f":"IF(ISBLANK(Worksheet!F109)=FALSE,VLOOKUP(Worksheet!A109,MeasureCode_Lookup,6,FALSE),\"\")","v":""},{"$f":"Worksheet!H109","v":0},{"$f":"Worksheet!I109","v":0},{"$f":"IFERROR(IF(Worksheet!X109=0,Worksheet!W109/I90,Worksheet!X109/R90),0)","v":0},"W Controlled",null,null,{"$f":"IF(N(Worksheet!S109)=0,N(Worksheet!R109),N(Worksheet!S109))","v":0},{"$f":"IFERROR(Worksheet!U109/(Worksheet!R109+Worksheet!#REF!),0)","v":0},{"$f":"Worksheet!AC109","v":0},{"$f":"Worksheet!AB109","v":0},0,{"$f":"IF(Worksheet!AJ109=0,0,Worksheet!AJ109*10/I90)","v":0},0,null,null,null,{"$f":"IFERROR(Worksheet!V109/(Worksheet!S109+Worksheet!#REF!),0)","v":0},{"$f":"IF(Worksheet!E109=\"\",\"\",Worksheet!E109)","v":""},{"$f":"IF(Worksheet!B109=\"\",\"\",Worksheet!B109)","v":""},{"$f":"IF(Worksheet!D109=\"\",\"\",Worksheet!D109)","v":""}]
[{"$f":"IF(ISBLANK(Worksheet!F110)=FALSE,VLOOKUP(Worksheet!A110,MeasureCode_Lookup,6,FALSE),\"\")","v":""},{"$f":"Worksheet!H110","v":0},{"$f":"Worksheet!I110","v":0},{"$f":"IFERROR(IF(Worksheet!X110=0,Worksheet!W110/I91,Worksheet!X110/R91),0)","v":0},"W Controlled",null,null,{"$f":"IF(N(Worksheet!S110)=0,N(Worksheet!R110),N(Worksheet!S110))","v":0},{"$f":"IFERROR(Worksheet!U110/(Worksheet!R110+Worksheet!#REF!),0)","v":0},{"$f":"Worksheet!AC110","v":0},{"$f":"Worksheet!AB110","v":0},0,{"$f":"IF(Worksheet!AJ110=0,0,Worksheet!AJ110*10/I91)","v":0},0,null,null,null,{"$f":"IFERROR(Worksheet!V110/(Worksheet!S110+Worksheet!#REF!),0)","v":0},{"$f":"IF(Worksheet!E110=\"\",\"\",Worksheet!E110)","v":""},{"$f":"IF(Worksheet!B110=\"\",\"\",Worksheet!B110)","v":""},{"$f":"IF(Worksheet!D110=\"\",\"\",Worksheet!D110)","v":""}]
[{"$f":"IF(ISBLANK(Worksheet!F111)=FALSE,VLOOKUP(Worksheet!A111,MeasureCode_Lookup,6,FALSE),\"\")","v":""},{"$f":"Worksheet!H111","v":0},{"$f":"Worksheet!I111","v":0},{"$f":"IFERROR(IF(Worksheet!X111=0,Worksheet!W111/I92,Worksheet!X111/R92),0)","v":0},"W Controlled",null,null,{"$f":"IF(N(Worksheet!S111)=0,N(Worksheet!R111),N(Worksheet!S111))","v":0},{"$f":"IFERROR(Worksheet!U111/(Worksheet!R111+Worksheet!#REF!),0)","v":0},{"$f":"Worksheet!AC111","v":0},{"$f":"Worksheet!AB111","v":0},0,{"$f":"IF(Worksheet!AJ111=0,0,Worksheet!AJ111*10/I92)","v":0},0,null,null,null,{"$f":"IFERROR(Worksheet!V111/(Worksheet!S111+Worksheet!#REF!),0)","v":0},{"$f":"IF(Worksheet!E111=\"\",\"\",Worksheet!E111)","v":""},{"$f":"IF(Worksheet!B111=\"\",\"\",Worksheet!B111)","v":""},{"$f":"IF(Worksheet!D111=\"\",\"\",Worksheet!D111)","v":""}]
[{"$f":"IF(ISBLANK(Worksheet!F112)=FALSE,VLOOKUP(Worksheet!A112,MeasureCode_Lookup,6,FALSE),\"\")","v":""},{"$f":"Worksheet!H112","v":0},{"$f":"Worksheet!I112","v":0},{"$f":"IFERROR(IF(Worksheet!X112=0,Worksheet!W112/I93,Worksheet!X112/R93),0)","v":0},"W Controlled",null,null,{"$f":"IF(N(Worksheet!S112)=0,N(Worksheet!R112),N(Worksheet!S112))","v":0},{"$f":"IFERROR(Worksheet!U112/(Worksheet!R112+Worksheet!#REF!),0)","v":0},{"$f":"Worksheet!AC112","v":0},{"$f":"Worksheet!AB112","v":0},0,{"$f":"IF(Worksheet!AJ112=0,0,Worksheet!AJ112*10/I93)","v":0},0,null,null,null,{"$f":"IFERROR(Worksheet!V112/(Worksheet!S112+Worksheet!#REF!),0)","v":0},{"$f":"IF(Worksheet!E112=\"\",\"\",Worksheet!E112)","v":""},{"$f":"IF(Worksheet!B112=\"\",\"\",Worksheet!B112)","v":""},{"$f":"IF(Worksheet!D112=\"\",\"\",Worksheet!D112)","v":""}]
[{"$f":"IF(ISBLANK(Worksheet!F113)=FALSE,VLOOKUP(Worksheet!A113,MeasureCode_Lookup,6,FALSE),\"\")","v":""},{"$f":"Worksheet!H113","v":0},{"$f":"Worksheet!I113","v":0},{"$f":"IFERROR(IF(Worksheet!X113=0,Worksheet!W113/I94,Worksheet!X113/R94),0)","v":0},"W Controlled",null,null,{"$f":"IF(N(Worksheet!S113)=0,N(Worksheet!R113),N(Worksheet!S113))","v":0},{"$f":"IFERROR(Worksheet!U113/(Worksheet!R113+Worksheet!#REF!),0)","v":0},{"$f":"Worksheet!AC113","v":0},{"$f":"Worksheet!AB113","v":0},0,{"$f":"IF(Worksheet!AJ113=0,0,Worksheet!AJ113*10/I94)","v":0},0,null,null,null,{"$f":"IFERROR(Worksheet!V113/(Worksheet!S113+Worksheet!#REF!),0)","v":0},{"$f":"IF(Worksheet!E113=\"\",\"\",Worksheet!E113)","v":""},{"$f":"IF(Worksheet!B113=\"\",\"\",Worksheet!B113)","v":""},{"$f":"IF(Worksheet!D113=\"\",\"\",Worksheet!D113)","v":""}]
[{"$f":"IF(ISBLANK(Worksheet!F114)=FALSE,VLOOKUP(Worksheet!A114,MeasureCode_Lookup,6,FALSE),\"\")","v":""},{"$f":"Worksheet!H114","v":0},{"$f":"Worksheet!I114","v":0},{"$f":"IFERROR(IF(Worksheet!X114=0,Worksheet!W114/I95,Worksheet!X114/R95),0)","v":0},"W Controlled",null,null,{"$f":"IF(N(Worksheet!S114)=0,N(Worksheet!R114),N(Worksheet!S114))","v":0},{"$f":"IFERROR(Worksheet!U114/(Worksheet!R114+Worksheet!#REF!),0)","v":0},{"$f":"Worksheet!AC114","v":0},{"$f":"Worksheet!AB114","v":0},0,{"$f":"IF(Worksheet!AJ114=0,0,Worksheet!AJ114*10/I95)","v":0},0,null,null,null,{"$f":"IFERROR(Worksheet!V114/(Worksheet!S114+Worksheet!#REF!),0)","v":0},{"$f":"IF(Worksheet!E114=\"\",\"\",Worksheet!E114)","v":""},{"$f":"IF(Worksheet!B114=\"\",\"\",Worksheet!B114)","v":""},{"$f":"IF(Worksheet!D114=\"\",\"\",Worksheet!D114)","v":""}]
[{"$f":"IF(ISBLANK(Worksheet!F115)=FALSE,VLOOKUP(Worksheet!A115,MeasureCode_Lookup,6,FALSE),\"\")","v":""},{"$f":"Worksheet!H115","v":0},{"$f":"Worksheet!I115","v":0},{"$f":"IFERROR(IF(Worksheet!X115=0,Worksheet!W115/I96,Worksheet!X115/R96),0)","v":0},"W Controlled",null,null,{"$f":"IF(N(Worksheet!S115)=0,N(Worksheet!R115),N(Worksheet!S115))","v":0},{"$f":"IFERROR(Worksheet!U115/(Worksheet!R115+Worksheet!#REF!),0)","v":0},{"$f":"Worksheet!AC115","v":0},{"$f":"Worksheet!AB115","v":0},0,{"$f":"IF(Worksheet!AJ115=0,0,Worksheet!AJ115*10/I96)","v":0},0,null,null,null,{"$f":"IFERROR(Worksheet!V115/(Worksheet!S115+Worksheet!#REF!),0)","v":0},{"$f":"IF(Worksheet!E115=\"\",\"\",Worksheet!E115)","v":""},{"$f":"IF(Worksheet!B115=\"\",\"\",Worksheet!B115)","v":""},{"$f":"IF(Worksheet!D115=\"\",\"\",Worksheet!D115)","v":""}]
[{"$f":"IF(ISBLANK(Worksheet!F116)=FALSE,VLOOKUP(Worksheet!A116,MeasureCode_Lookup,6,FALSE),\"\")","v":""},{"$f":"Worksheet!H116","v":0},{"$f":"Worksheet!I116","v":0},{"$f":"IFERROR(IF(Worksheet!X116=0,Worksheet!W116/I97,Worksheet!X116/R97),0)","v":0},"W Controlled",null,null,{"$f":"IF(N(Worksheet!S116)=0,N(Worksheet!R116),N(Worksheet!S116))","v":0},{"$f":"IFERROR(Worksheet!U116/(Worksheet!R116+Worksheet!#REF!),0)","v":0},{"$f":"Worksheet!AC116","v":0},{"$f":"Worksheet!AB116","v":0},0,{"$f":"IF(Worksheet!AJ116=0,0,Worksheet!AJ116*10/I97)","v":0},0,null,null,null,{"$f":"IFERROR(Worksheet!V116/(Worksheet!S116+Worksheet!#REF!),0)","v":0},{"$f":"IF(Worksheet!E116=\"\",\"\",Worksheet!E116)","v":""},{"$f":"IF(Worksheet!B116=\"\",\"\",Worksheet!B116)","v":""},{"$f":"IF(Worksheet!D116=\"\",\"\",Worksheet!D116)","v":""}]
[{"$f":"IF(ISBLANK(Worksheet!F117)=FALSE,VLOOKUP(Worksheet!A117,MeasureCode_Lookup,6,FALSE),\"\")","v":""},{"$f":"Worksheet!H117","v":0},{"$f":"Worksheet!I117","v":0},{"$f":"IFERROR(IF(Worksheet!X117=0,Worksheet!W117/I98,Worksheet!X117/R98),0)","v":0},"W Controlled",null,null,{"$f":"IF(N(Worksheet!S117)=0,N(Worksheet!R117),N(Worksheet!S117))","v":0},{"$f":"IFERROR(Worksheet!U117/(Worksheet!R117+Worksheet!#REF!),0)","v":0},{"$f":"Worksheet!AC117","v":0},{"$f":"Worksheet!AB117","v":0},0,{"$f":"IF(Worksheet!AJ117=0,0,Worksheet!AJ117*10/I98)","v":0},0,null,null,null,{"$f":"IFERROR(Worksheet!V117/(Worksheet!S117+Worksheet!#REF!),0)","v":0},{"$f":"IF(Worksheet!E117=\"\",\"\",Worksheet!E117)","v":""},{"$f":"IF(Worksheet!B117=\"\",\"\",Worksheet!B117)","v":""},{"$f":"IF(Worksheet!D117=\"\",\"\",Worksheet!D117)","v":""}]
[{"$f":"IF(ISBLANK(Worksheet!F118)=FALSE,VLOOKUP(Worksheet!A118,MeasureCode_Lookup,6,FALSE),\"\")","v":""},{"$f":"Worksheet!H118","v":0},{"$f":"Worksheet!I118","v":0},{"$f":"IFERROR(IF(Worksheet!X118=0,Worksheet!W118/I99,Worksheet!X118/R99),0)","v":0},"W Controlled",null,null,{"$f":"IF(N(Worksheet!S118)=0,N(Worksheet!R118),N(Worksheet!S118))","v":0},{"$f":"IFERROR(Worksheet!U118/(Worksheet!R118+Worksheet!#REF!),0)","v":0},{"$f":"Worksheet!AC118","v":0},{"$f":"Worksheet!AB118","v":0},0,{"$f":"IF(Worksheet!AJ118=0,0,Worksheet!AJ118*10/I99)","v":0},0,null,null,null,{"$f":"IFERROR(Worksheet!V118/(Worksheet!S118+Worksheet!#REF!),0)","v":0},{"$f":"IF(Worksheet!E118=\"\",\"\",Worksheet!E118)","v":""},{"$f":"IF(Worksheet!B118=\"\",\"\",Worksheet!B118)","v":""},{"$f":"IF(Worksheet!D118=\"\",\"\",Worksheet!D118)","v":""}]
[{"$f":"IF(ISBLANK(Worksheet!F119)=FALSE,VLOOKUP(Worksheet!A119,MeasureCode_Lookup,6,FALSE),\"\")","v":""},{"$f":"Worksheet!H119","v":0},{"$f":"Worksheet!I119","v":0},{"$f":"IFERROR(IF(Worksheet!X119=0,Worksheet!W119/I100,Worksheet!X119/R100),0)","v":0},"W Controlled",null,null,{"$f":"IF(N(Worksheet!S119)=0,N(Worksheet!R119),N(Worksheet!S119))","v":0},{"$f":"IFERROR(Worksheet!U119/(Worksheet!R119+Worksheet!#REF!),0)","v":0},{"$f":"Worksheet!AC119","v":0},{"$f":"Worksheet!AB119","v":0},0,{"$f":"IF(Worksheet!AJ119=0,0,Worksheet!AJ119*10/I100)","v":0},0,null,null,null,{"$f":"IFERROR(Worksheet!V119/(Worksheet!S119+Worksheet!#REF!),0)","v":0},{"$f":"IF(Worksheet!E119=\"\",\"\",Worksheet!E119)","v":""},{"$f":"IF(Worksheet!B119=\"\",\"\",Worksheet!B119)","v":""},{"$f":"IF(Worksheet!D119=\"\",\"\",Worksheet!D119)","v":""}]
[{"$f":"IF(ISBLANK(Worksheet!F120)=FALSE,VLOOKUP(Worksheet!A120,MeasureCode_Lookup,6,FALSE),\"\")","v":""},{"$f":"Worksheet!H120","v":0},{"$f":"Worksheet!I120","v":0},{"$f":"IFERROR(IF(Worksheet!X120=0,Worksheet!W120/I101,Worksheet!X120/R101),0)","v":0},"W Controlled",null,null,{"$f":"IF(N(Worksheet!S120)=0,N(Worksheet!R120),N(Worksheet!S120))","v":0},{"$f":"IFERROR(Worksheet!U120/(Worksheet!R120+Worksheet!#REF!),0)","v":0},{"$f":"Worksheet!AC120","v":0},{"$f":"Worksheet!AB120","v":0},0,{"$f":"IF(Worksheet!AJ120=0,0,Worksheet!AJ120*10/I101)","v":0},0,null,null,null,{"$f":"IFERROR(Worksheet!V120/(Worksheet!S120+Worksheet!#REF!),0)","v":0},{"$f":"IF(Worksheet!E120=\"\",\"\",Worksheet!E120)","v":""},{"$f":"IF(Worksheet!B120=\"\",\"\",Worksheet!B120)","v":""},{"$f":"IF(Worksheet!D120=\"\",\"\",Worksheet!D120)","v":""}]
[{"$f":"IF(ISBLANK(Worksheet!F121)=FALSE,VLOOKUP(Worksheet!A121,MeasureCode_Lookup,6,FALSE),\"\")","v":""},{"$f":"Worksheet!H121","v":0},{"$f":"Worksheet!I121","v":0},{"$f":"IFERROR(IF(Worksheet!X121=0,Worksheet!W121/I102,Worksheet!X121/R102),0)","v":0},"W Controlled",null,null,{"$f":"IF(N(Worksheet!S121)=0,N(Worksheet!R121),N(Worksheet!S121))","v":0},{"$f":"IFERROR(Worksheet!U121/(Worksheet!R121+Worksheet!#REF!),0)","v":0},{"$f":"Worksheet!AC121","v":0},{"$f":"Worksheet!AB121","v":0},0,{"$f":"IF(Worksheet!AJ121=0,0,Worksheet!AJ121*10/I102)","v":0},0,null,null,null,{"$f":"IFERROR(Worksheet!V121/(Worksheet!S121+Worksheet!#REF!),0)","v":0},{"$f":"IF(Worksheet!E121=\"\",\"\",Worksheet!E121)","v":""},{"$f":"IF(Worksheet!B121=\"\",\"\",Worksheet!B121)","v":""},{"$f":"IF(Worksheet!D121=\"\",\"\",Worksheet!D121)","v":""}]
[{"$f":"IF(ISBLANK(Worksheet!F122)=FALSE,VLOOKUP(Worksheet!A122,MeasureCode_Lookup,6,FALSE),\"\")","v":""},{"$f":"Worksheet!H122","v":0},{"$f":"Worksheet!I122","v":0},{"$f":"IFERROR(IF(Worksheet!X122=0,Worksheet!W122/I103,Worksheet!X122/R103),0)","v":0},"W Controlled",null,null,{"$f":"IF(N(Worksheet!S122)=0,N(Worksheet!R122),N(Worksheet!S122))","v":0},{"$f":"IFERROR(Worksheet!U122/(Worksheet!R122+Worksheet!#REF!),0)","v":0},{"$f":"Worksheet!AC122","v":0},{"$f":"Worksheet!AB122","v":0},0,{"$f":"IF(Worksheet!AJ122=0,0,Worksheet!AJ122*10/I103)","v":0},0,null,null,null,{"$f":"IFERROR(Worksheet!V122/(Worksheet!S122+Worksheet!#REF!),0)","v":0},{"$f":"IF(Worksheet!E122=\"\",\"\",Worksheet!E122)","v":""},{"$f":"IF(Worksheet!B122=\"\",\"\",Worksheet!B122)","v":""},{"$f":"IF(Worksheet!D122=\"\",\"\",Worksheet!D122)","v":""}]
[{"$f":"IF(ISBLANK(Worksheet!F123)=FALSE,VLOOKUP(Worksheet!A123,MeasureCode_Lookup,6,FALSE),\"\")","v":""},{"$f":"Worksheet!H123","v":0},{"$f":"Worksheet!I123","v":0},{"$f":"IFERROR(IF(Worksheet!X123=0,Worksheet!W123/I104,Worksheet!X123/R104),0)","v":0},"W Controlled",null,null,{"$f":"IF(N(Worksheet!S123)=0,N(Worksheet!R123),N(Worksheet!S123))","v":0},{"$f":"IFERROR(Worksheet!U123/(Worksheet!R123+Worksheet!#REF!),0)","v":0},{"$f":"Worksheet!AC123","v":0},{"$f":"Worksheet!AB123","v":0},0,{"$f":"IF(Worksheet!AJ123=0,0,Worksheet!AJ123*10/I104)","v":0},0,null,null,null,{"$f":"IFERROR(Worksheet!V123/(Worksheet!S123+Worksheet!#REF!),0)","v":0},{"$f":"IF(Worksheet!E123=\"\",\"\",Worksheet!E123)","v":""},{"$f":"IF(Worksheet!B123=\"\",\"\",Worksheet!B123)","v":""},{"$f":"IF(Worksheet!D123=\"\",\"\",Worksheet!D123)","v":""}]
[{"$f":"IF(ISBLANK(Worksheet!F124)=FALSE,VLOOKUP(Worksheet!A124,MeasureCode_Lookup,6,FALSE),\"\")","v":""},{"$f":"Worksheet!H124","v":0},{"$f":"Worksheet!I124","v":0},{"$f":"IFERROR(IF(Worksheet!X124=0,Worksheet!W124/I105,Worksheet!X124/R105),0)","v":0},"W Controlled",null,null,{"$f":"IF(N(Worksheet!S124)=0,N(Worksheet!R124),N(Worksheet!S124))","v":0},{"$f":"IFERROR(Worksheet!U124/(Worksheet!R124+Worksheet!#REF!),0)","v":0},{"$f":"Worksheet!AC124","v":0},{"$f":"Worksheet!AB124","v":0},0,{"$f":"IF(Worksheet!AJ124=0,0,Worksheet!AJ124*10/I105)","v":0},0,null,null,null,{"$f":"IFERROR(Worksheet!V124/(Worksheet!S124+Worksheet!#REF!),0)","v":0},{"$f":"IF(Worksheet!E124=\"\",\"\",Worksheet!E124)","v":""},{"$f":"IF(Worksheet!B124=\"\",\"\",Worksheet!B124)","v":""},{"$f":"IF(Worksheet!D124=\"\",\"\",Worksheet!D124)","v":""}]
[{"$f":"IF(ISBLANK(Worksheet!F125)=FALSE,VLOOKUP(Worksheet!A125,MeasureCode_Lookup,6,FALSE),\"\")","v":""},{"$f":"Worksheet!H125","v":0},{"$f":"Worksheet!I125","v":0},{"$f":"IFERROR(IF(Worksheet!X125=0,Worksheet!W125/I106,Worksheet!X125/R106),0)","v":0},"W Controlled",null,null,{"$f":"IF(N(Worksheet!S125)=0,N(Worksheet!R125),N(Worksheet!S125))","v":0},{"$f":"IFERROR(Worksheet!U125/(Worksheet!R125+Worksheet!#REF!),0)","v":0},{"$f":"Worksheet!AC125","v":0},{"$f":"Worksheet!AB125","v":0},0,{"$f":"IF(Worksheet!AJ125=0,0,Worksheet!AJ125*10/I106)","v":0},0,null,null,null,{"$f":"IFERROR(Worksheet!V125/(Worksheet!S125+Worksheet!#REF!),0)","v":0},{"$f":"IF(Worksheet!E125=\"\",\"\",Worksheet!E125)","v":""},{"$f":"IF(Worksheet!B125=\"\",\"\",Worksheet!B125)","v":""},{"$f":"IF(Worksheet!D125=\"\",\"\",Worksheet!D125)","v":""}]
[{"$f":"IF(ISBLANK(Worksheet!F126)=FALSE,VLOOKUP(Worksheet!A126,MeasureCode_Lookup,6,FALSE),\"\")","v":""},{"$f":"Worksheet!H126","v":0},{"$f":"Worksheet!I126","v":0},{"$f":"IFERROR(IF(Worksheet!X126=0,Worksheet!W126/I107,Worksheet!X126/R107),0)","v":0},"W Controlled",null,null,{"$f":"IF(N(Worksheet!S126)=0,N(Worksheet!R126),N(Worksheet!S126))","v":0},{"$f":"IFERROR(Worksheet!U126/(Worksheet!R126+Worksheet!#REF!),0)","v":0},{"$f":"Worksheet!AC126","v":0},{"$f":"Worksheet!AB126","v":0},0,{"$f":"IF(Worksheet!AJ126=0,0,Worksheet!AJ126*10/I107)","v":0},0,null,null,null,{"$f":"IFERROR(Worksheet!V126/(Worksheet!S126+Worksheet!#REF!),0)","v":0},{"$f":"IF(Worksheet!E126=\"\",\"\",Worksheet!E126)","v":""},{"$f":"IF(Worksheet!B126=\"\",\"\",Worksheet!B126)","v":""},{"$f":"IF(Worksheet!D126=\"\",\"\",Worksheet!D126)","v":""}]
[{"$f":"IF(ISBLANK(Worksheet!F127)=FALSE,VLOOKUP(Worksheet!A127,MeasureCode_Lookup,6,FALSE),\"\")","v":""},{"$f":"Worksheet!H127","v":0},{"$f":"Worksheet!I127","v":0},{"$f":"IFERROR(IF(Worksheet!X127=0,Worksheet!W127/I108,Worksheet!X127/R108),0)","v":0},"W Controlled",null,null,{"$f":"IF(N(Worksheet!S127)=0,N(Worksheet!R127),N(Worksheet!S127))","v":0},{"$f":"IFERROR(Worksheet!U127/(Worksheet!R127+Worksheet!#REF!),0)","v":0},{"$f":"Worksheet!AC127","v":0},{"$f":"Worksheet!AB127","v":0},0,{"$f":"IF(Worksheet!AJ127=0,0,Worksheet!AJ127*10/I108)","v":0},0,null,null,null,{"$f":"IFERROR(Worksheet!V127/(Worksheet!S127+Worksheet!#REF!),0)","v":0},{"$f":"IF(Worksheet!E127=\"\",\"\",Worksheet!E127)","v":""},{"$f":"IF(Worksheet!B127=\"\",\"\",Worksheet!B127)","v":""},{"$f":"IF(Worksheet!D127=\"\",\"\",Worksheet!D127)","v":""}]
[{"$f":"IF(ISBLANK(Worksheet!F128)=FALSE,VLOOKUP(Worksheet!A128,MeasureCode_Lookup,6,FALSE),\"\")","v":""},{"$f":"Worksheet!H128","v":0},{"$f":"Worksheet!I128","v":0},{"$f":"IFERROR(IF(Worksheet!X128=0,Worksheet!W128/I109,Worksheet!X128/R109),0)","v":0},"W Controlled",null,null,{"$f":"IF(N(Worksheet!S128)=0,N(Worksheet!R128),N(Worksheet!S128))","v":0},{"$f":"IFERROR(Worksheet!U128/(Worksheet!R128+Worksheet!#REF!),0)","v":0},{"$f":"Worksheet!AC128","v":0},{"$f":"Worksheet!AB128","v":0},0,{"$f":"IF(Worksheet!AJ128=0,0,Worksheet!AJ128*10/I109)","v":0},0,null,null,null,{"$f":"IFERROR(Worksheet!V128/(Worksheet!S128+Worksheet!#REF!),0)","v":0},{"$f":"IF(Worksheet!E128=\"\",\"\",Worksheet!E128)","v":""},{"$f":"IF(Worksheet!B128=\"\",\"\",Worksheet!B128)","v":""},{"$f":"IF(Worksheet!D128=\"\",\"\",Worksheet!D128)","v":""}]
[{"$f":"IF(ISBLANK(Worksheet!F129)=FALSE,VLOOKUP(Worksheet!A129,MeasureCode_Lookup,6,FALSE),\"\")","v":""},{"$f":"Worksheet!H129","v":0},{"$f":"Worksheet!I129","v":0},{"$f":"IFERROR(IF(Worksheet!X129=0,Worksheet!W129/I110,Worksheet!X129/R110),0)","v":0},"W Controlled",null,null,{"$f":"IF(N(Worksheet!S129)=0,N(Worksheet!R129),N(Worksheet!S129))","v":0},{"$f":"IFERROR(Worksheet!U129/(Worksheet!R129+Worksheet!#REF!),0)","v":0},{"$f":"Worksheet!AC129","v":0},{"$f":"Worksheet!AB129","v":0},0,{"$f":"IF(Worksheet!AJ129=0,0,Worksheet!AJ129*10/I110)","v":0},0,null,null,null,{"$f":"IFERROR(Worksheet!V129/(Worksheet!S129+Worksheet!#REF!),0)","v":0},{"$f":"IF(Worksheet!E129=\"\",\"\",Worksheet!E129)","v":""},{"$f":"IF(Worksheet!B129=\"\",\"\",Worksheet!B129)","v":""},{"$f":"IF(Worksheet!D129=\"\",\"\",Worksheet!D129)","v":""}]
[{"$f":"IF(ISBLANK(Worksheet!F130)=FALSE,VLOOKUP(Worksheet!A130,MeasureCode_Lookup,6,FALSE),\"\")","v":""},{"$f":"Worksheet!H130","v":0},{"$f":"Worksheet!I130","v":0},{"$f":"IFERROR(IF(Worksheet!X130=0,Worksheet!W130/I111,Worksheet!X130/R111),0)","v":0},"W Controlled",null,null,{"$f":"IF(N(Worksheet!S130)=0,N(Worksheet!R130),N(Worksheet!S130))","v":0},{"$f":"IFERROR(Worksheet!U130/(Worksheet!R130+Worksheet!#REF!),0)","v":0},{"$f":"Worksheet!AC130","v":0},{"$f":"Worksheet!AB130","v":0},0,{"$f":"IF(Worksheet!AJ130=0,0,Worksheet!AJ130*10/I111)","v":0},0,null,null,null,{"$f":"IFERROR(Worksheet!V130/(Worksheet!S130+Worksheet!#REF!),0)","v":0},{"$f":"IF(Worksheet!E130=\"\",\"\",Worksheet!E130)","v":""},{"$f":"IF(Worksheet!B130=\"\",\"\",Worksheet!B130)","v":""},{"$f":"IF(Worksheet!D130=\"\",\"\",Worksheet!D130)","v":""}]
[{"$f":"IF(ISBLANK(Worksheet!F131)=FALSE,VLOOKUP(Worksheet!A131,MeasureCode_Lookup,6,FALSE),\"\")","v":""},{"$f":"Worksheet!H131","v":0},{"$f":"Worksheet!I131","v":0},{"$f":"IFERROR(IF(Worksheet!X131=0,Worksheet!W131/I112,Worksheet!X131/R112),0)","v":0},"W Controlled",null,null,{"$f":"IF(N(Worksheet!S131)=0,N(Worksheet!R131),N(Worksheet!S131))","v":0},{"$f":"IFERROR(Worksheet!U131/(Worksheet!R131+Worksheet!#REF!),0)","v":0},{"$f":"Worksheet!AC131","v":0},{"$f":"Worksheet!AB131","v":0},0,{"$f":"IF(Worksheet!AJ131=0,0,Worksheet!AJ131*10/I112)","v":0},0,null,null,null,{"$f":"IFERROR(Worksheet!V131/(Worksheet!S131+Worksheet!#REF!),0)","v":0},{"$f":"IF(Worksheet!E131=\"\",\"\",Worksheet!E131)","v":""},{"$f":"IF(Worksheet!B131=\"\",\"\",Worksheet!B131)","v":""},{"$f":"IF(Worksheet!D131=\"\",\"\",Worksheet!D131)","v":""}]
[{"$f":"IF(ISBLANK(Worksheet!F132)=FALSE,VLOOKUP(Worksheet!A132,MeasureCode_Lookup,6,FALSE),\"\")","v":""},{"$f":"Worksheet!H132","v":0},{"$f":"Worksheet!I132","v":0},{"$f":"IFERROR(IF(Worksheet!X132=0,Worksheet!W132/I113,Worksheet!X132/R113),0)","v":0},"W Controlled",null,null,{"$f":"IF(N(Worksheet!S132)=0,N(Worksheet!R132),N(Worksheet!S132))","v":0},{"$f":"IFERROR(Worksheet!U132/(Worksheet!R132+Worksheet!#REF!),0)","v":0},{"$f":"Worksheet!AC132","v":0},{"$f":"Worksheet!AB132","v":0},0,{"$f":"IF(Worksheet!AJ132=0,0,Worksheet!AJ132*10/I113)","v":0},0,null,null,null,{"$f":"IFERROR(Worksheet!V132/(Worksheet!S132+Worksheet!#REF!),0)","v":0},{"$f":"IF(Worksheet!E132=\"\",\"\",Worksheet!E132)","v":""},{"$f":"IF(Worksheet!B132=\"\",\"\",Worksheet!B132)","v":""},{"$f":"IF(Worksheet!D132=\"\",\"\",Worksheet!D132)","v":""}]
[{"$f":"IF(ISBLANK(Worksheet!F133)=FALSE,VLOOKUP(Worksheet!A133,MeasureCode_Lookup,6,FALSE),\"\")","v":""},{"$f":"Worksheet!H133","v":0},{"$f":"Worksheet!I133","v":0},{"$f":"IFERROR(IF(Worksheet!X133=0,Worksheet!W133/I114,Worksheet!X133/R114),0)","v":0},"W Controlled",null,null,{"$f":"IF(N(Worksheet!S133)=0,N(Worksheet!R133),N(Worksheet!S133))","v":0},{"$f":"IFERROR(Worksheet!U133/(Worksheet!R133+Worksheet!#REF!),0)","v":0},{"$f":"Worksheet!AC133","v":0},{"$f":"Worksheet!AB133","v":0},0,{"$f":"IF(Worksheet!AJ133=0,0,Worksheet!AJ133*10/I114)","v":0},0,null,null,null,{"$f":"IFERROR(Worksheet!V133/(Worksheet!S133+Worksheet!#REF!),0)","v":0},{"$f":"IF(Worksheet!E133=\"\",\"\",Worksheet!E133)","v":""},{"$f":"IF(Worksheet!B133=\"\",\"\",Worksheet!B133)","v":""},{"$f":"IF(Worksheet!D133=\"\",\"\",Worksheet!D133)","v":""}]
[{"$f":"IF(ISBLANK(Worksheet!F134)=FALSE,VLOOKUP(Worksheet!A134,MeasureCode_Lookup,6,FALSE),\"\")","v":""},{"$f":"Worksheet!H134","v":0},{"$f":"Worksheet!I134","v":0},{"$f":"IFERROR(IF(Worksheet!X134=0,Worksheet!W134/I115,Worksheet!X134/R115),0)","v":0},"W Controlled",null,null,{"$f":"IF(N(Worksheet!S134)=0,N(Worksheet!R134),N(Worksheet!S134))","v":0},{"$f":"IFERROR(Worksheet!U134/(Worksheet!R134+Worksheet!#REF!),0)","v":0},{"$f":"Worksheet!AC134","v":0},{"$f":"Worksheet!AB134","v":0},0,{"$f":"IF(Worksheet!AJ134=0,0,Worksheet!AJ134*10/I115)","v":0},0,null,null,null,{"$f":"IFERROR(Worksheet!V134/(Worksheet!S134+Worksheet!#REF!),0)","v":0},{"$f":"IF(Worksheet!E134=\"\",\"\",Worksheet!E134)","v":""},{"$f":"IF(Worksheet!B134=\"\",\"\",Worksheet!B134)","v":""},{"$f":"IF(Worksheet!D134=\"\",\"\",Worksheet!D134)","v":""}]
[{"$f":"IF(ISBLANK(Worksheet!F135)=FALSE,VLOOKUP(Worksheet!A135,MeasureCode_Lookup,6,FALSE),\"\")","v":""},{"$f":"Worksheet!H135","v":0},{"$f":"Worksheet!I135","v":0},{"$f":"IFERROR(IF(Worksheet!X135=0,Worksheet!W135/I116,Worksheet!X135/R116),0)","v":0},"W Controlled",null,null,{"$f":"IF(N(Worksheet!S135)=0,N(Worksheet!R135),N(Worksheet!S135))","v":0},{"$f":"IFERROR(Worksheet!U135/(Worksheet!R135+Worksheet!#REF!),0)","v":0},{"$f":"Worksheet!AC135","v":0},{"$f":"Worksheet!AB135","v":0},0,{"$f":"IF(Worksheet!AJ135=0,0,Worksheet!AJ135*10/I116)","v":0},0,null,null,null,{"$f":"IFERROR(Worksheet!V135/(Worksheet!S135+Worksheet!#REF!),0)","v":0},{"$f":"IF(Worksheet!E135=\"\",\"\",Worksheet!E135)","v":""},{"$f":"IF(Worksheet!B135=\"\",\"\",Worksheet!B135)","v":""},{"$f":"IF(Worksheet!D135=\"\",\"\",Worksheet!D135)","v":""}]
[{"$f":"IF(ISBLANK(Worksheet!F136)=FALSE,VLOOKUP(Worksheet!A136,MeasureCode_Lookup,6,FALSE),\"\")","v":""},{"$f":"Worksheet!H136","v":0},{"$f":"Worksheet!I136","v":0},{"$f":"IFERROR(IF(Worksheet!X136=0,Worksheet!W136/I117,Worksheet!X136/R117),0)","v":0},"W Controlled",null,null,{"$f":"IF(N(Worksheet!S136)=0,N(Worksheet!R136),N(Worksheet!S136))","v":0},{"$f":"IFERROR(Worksheet!U136/(Worksheet!R136+Worksheet!#REF!),0)","v":0},{"$f":"Worksheet!AC136","v":0},{"$f":"Worksheet!AB136","v":0},0,{"$f":"IF(Worksheet!AJ136=0,0,Worksheet!AJ136*10/I117)","v":0},0,null,null,null,{"$f":"IFERROR(Worksheet!V136/(Worksheet!S136+Worksheet!#REF!),0)","v":0},{"$f":"IF(Worksheet!E136=\"\",\"\",Worksheet!E136)","v":""},{"$f":"IF(Worksheet!B136=\"\",\"\",Worksheet!B136)","v":""},{"$f":"IF(Worksheet!D136=\"\",\"\",Worksheet!D136)","v":""}]
[{"$f":"IF(ISBLANK(Worksheet!F137)=FALSE,VLOOKUP(Worksheet!A137,MeasureCode_Lookup,6,FALSE),\"\")","v":""},{"$f":"Worksheet!H137","v":0},{"$f":"Worksheet!I137","v":0},{"$f":"IFERROR(IF(Worksheet!X137=0,Worksheet!W137/I118,Worksheet!X137/R118),0)","v":0},"W Controlled",null,null,{"$f":"IF(N(Worksheet!S137)=0,N(Worksheet!R137),N(Worksheet!S137))","v":0},{"$f":"IFERROR(Worksheet!U137/(Worksheet!R137+Worksheet!#REF!),0)","v":0},{"$f":"Worksheet!AC137","v":0},{"$f":"Worksheet!AB137","v":0},0,{"$f":"IF(Worksheet!AJ137=0,0,Worksheet!AJ137*10/I118)","v":0},0,null,null,null,{"$f":"IFERROR(Worksheet!V137/(Worksheet!S137+Worksheet!#REF!),0)","v":0},{"$f":"IF(Worksheet!E137=\"\",\"\",Worksheet!E137)","v":""},{"$f":"IF(Worksheet!B137=\"\",\"\",Worksheet!B137)","v":""},{"$f":"IF(Worksheet!D137=\"\",\"\",Worksheet!D137)","v":""}]
[{"$f":"IF(ISBLANK(Worksheet!F138)=FALSE,VLOOKUP(Worksheet!A138,MeasureCode_Lookup,6,FALSE),\"\")","v":""},{"$f":"Worksheet!H138","v":0},{"$f":"Worksheet!I138","v":0},{"$f":"IFERROR(IF(Worksheet!X138=0,Worksheet!W138/I119,Worksheet!X138/R119),0)","v":0},"W Controlled",null,null,{"$f":"IF(N(Worksheet!S138)=0,N(Worksheet!R138),N(Worksheet!S138))","v":0},{"$f":"IFERROR(Worksheet!U138/(Worksheet!R138+Worksheet!#REF!),0)","v":0},{"$f":"Worksheet!AC138","v":0},{"$f":"Worksheet!AB138","v":0},0,{"$f":"IF(Worksheet!AJ138=0,0,Worksheet!AJ138*10/I119)","v":0},0,null,null,null,{"$f":"IFERROR(Worksheet!V138/(Worksheet!S138+Worksheet!#REF!),0)","v":0},{"$f":"IF(Worksheet!E138=\"\",\"\",Worksheet!E138)","v":""},{"$f":"IF(Worksheet!B138=\"\",\"\",Worksheet!B138)","v":""},{"$f":"IF(Worksheet!D138=\"\",\"\",Worksheet!D138)","v":""}]
[{"$f":"IF(ISBLANK(Worksheet!F139)=FALSE,VLOOKUP(Worksheet!A139,MeasureCode_Lookup,6,FALSE),\"\")","v":""},{"$f":"Worksheet!H139","v":0},{"$f":"Worksheet!I139","v":0},{"$f":"IFERROR(IF(Worksheet!X139=0,Worksheet!W139/I120,Worksheet!X139/R120),0)","v":0},"W Controlled",null,null,{"$f":"IF(N(Worksheet!S139)=0,N(Worksheet!R139),N(Worksheet!S139))","v":0},{"$f":"IFERROR(Worksheet!U139/(Worksheet!R139+Worksheet!#REF!),0)","v":0},{"$f":"Worksheet!AC139","v":0},{"$f":"Worksheet!AB139","v":0},0,{"$f":"IF(Worksheet!AJ139=0,0,Worksheet!AJ139*10/I120)","v":0},0,null,null,null,{"$f":"IFERROR(Worksheet!V139/(Worksheet!S139+Worksheet!#REF!),0)","v":0},{"$f":"IF(Worksheet!E139=\"\",\"\",Worksheet!E139)","v":""},{"$f":"IF(Worksheet!B139=\"\",\"\",Worksheet!B139)","v":""},{"$f":"IF(Worksheet!D139=\"\",\"\",Worksheet!D139)","v":""}]
[{"$f":"IF(ISBLANK(Worksheet!F140)=FALSE,VLOOKUP(Worksheet!A140,MeasureCode_Lookup,6,FALSE),\"\")","v":""},{"$f":"Worksheet!H140","v":0},{"$f":"Worksheet!I140","v":0},{"$f":"IFERROR(IF(Worksheet!X140=0,Worksheet!W140/I121,Worksheet!X140/R121),0)","v":0},"W Controlled",null,null,{"$f":"IF(N(Worksheet!S140)=0,N(Worksheet!R140),N(Worksheet!S140))","v":0},{"$f":"IFERROR(Worksheet!U140/(Worksheet!R140+Worksheet!#REF!),0)","v":0},{"$f":"Worksheet!AC140","v":0},{"$f":"Worksheet!AB140","v":0},0,{"$f":"IF(Worksheet!AJ140=0,0,Worksheet!AJ140*10/I121)","v":0},0,null,null,null,{"$f":"IFERROR(Worksheet!V140/(Worksheet!S140+Worksheet!#REF!),0)","v":0},{"$f":"IF(Worksheet!E140=\"\",\"\",Worksheet!E140)","v":""},{"$f":"IF(Worksheet!B140=\"\",\"\",Worksheet!B140)","v":""},{"$f":"IF(Worksheet!D140=\"\",\"\",Worksheet!D140)","v":""}]
[{"$f":"IF(ISBLANK(Worksheet!F141)=FALSE,VLOOKUP(Worksheet!A141,MeasureCode_Lookup,6,FALSE),\"\")","v":""},{"$f":"Worksheet!H141","v":0},{"$f":"Worksheet!I141","v":0},{"$f":"IFERROR(IF(Worksheet!X141=0,Worksheet!W141/I122,Worksheet!X141/R122),0)","v":0},"W Controlled",null,null,{"$f":"IF(N(Worksheet!S141)=0,N(Worksheet!R141),N(Worksheet!S141))","v":0},{"$f":"IFERROR(Worksheet!U141/(Worksheet!R141+Worksheet!#REF!),0)","v":0},{"$f":"Worksheet!AC141","v":0},{"$f":"Worksheet!AB141","v":0},0,{"$f":"IF(Worksheet!AJ141=0,0,Worksheet!AJ141*10/I122)","v":0},0,null,null,null,{"$f":"IFERROR(Worksheet!V141/(Worksheet!S141+Worksheet!#REF!),0)","v":0},{"$f":"IF(Worksheet!E141=\"\",\"\",Worksheet!E141)","v":""},{"$f":"IF(Worksheet!B141=\"\",\"\",Worksheet!B141)","v":""},{"$f":"IF(Worksheet!D141=\"\",\"\",Worksheet!D141)","v":""}]
[{"$f":"IF(ISBLANK(Worksheet!F142)=FALSE,VLOOKUP(Worksheet!A142,MeasureCode_Lookup,6,FALSE),\"\")","v":""},{"$f":"Worksheet!H142","v":0},{"$f":"Worksheet!I142","v":0},{"$f":"IFERROR(IF(Worksheet!X142=0,Worksheet!W142/I123,Worksheet!X142/R123),0)","v":0},"W Controlled",null,null,{"$f":"IF(N(Worksheet!S142)=0,N(Worksheet!R142),N(Worksheet!S142))","v":0},{"$f":"IFERROR(Worksheet!U142/(Worksheet!R142+Worksheet!#REF!),0)","v":0},{"$f":"Worksheet!AC142","v":0},{"$f":"Worksheet!AB142","v":0},0,{"$f":"IF(Worksheet!AJ142=0,0,Worksheet!AJ142*10/I123)","v":0},0,null,null,null,{"$f":"IFERROR(Worksheet!V142/(Worksheet!S142+Worksheet!#REF!),0)","v":0},{"$f":"IF(Worksheet!E142=\"\",\"\",Worksheet!E142)","v":""},{"$f":"IF(Worksheet!B142=\"\",\"\",Worksheet!B142)","v":""},{"$f":"IF(Worksheet!D142=\"\",\"\",Worksheet!D142)","v":""}]
[{"$f":"IF(ISBLANK(Worksheet!F143)=FALSE,VLOOKUP(Worksheet!A143,MeasureCode_Lookup,6,FALSE),\"\")","v":""},{"$f":"Worksheet!H143","v":0},{"$f":"Worksheet!I143","v":0},{"$f":"IFERROR(IF(Worksheet!X143=0,Worksheet!W143/I124,Worksheet!X143/R124),0)","v":0},"W Controlled",null,null,{"$f":"IF(N(Worksheet!S143)=0,N(Worksheet!R143),N(Worksheet!S143))","v":0},{"$f":"IFERROR(Worksheet!U143/(Worksheet!R143+Worksheet!#REF!),0)","v":0},{"$f":"Worksheet!AC143","v":0},{"$f":"Worksheet!AB143","v":0},0,{"$f":"IF(Worksheet!AJ143=0,0,Worksheet!AJ143*10/I124)","v":0},0,null,null,null,{"$f":"IFERROR(Worksheet!V143/(Worksheet!S143+Worksheet!#REF!),0)","v":0},{"$f":"IF(Worksheet!E143=\"\",\"\",Worksheet!E143)","v":""},{"$f":"IF(Worksheet!B143=\"\",\"\",Worksheet!B143)","v":""},{"$f":"IF(Worksheet!D143=\"\",\"\",Worksheet!D143)","v":""}]
[{"$f":"IF(ISBLANK(Worksheet!F144)=FALSE,VLOOKUP(Worksheet!A144,MeasureCode_Lookup,6,FALSE),\"\")","v":""},{"$f":"Worksheet!H144","v":0},{"$f":"Worksheet!I144","v":0},{"$f":"IFERROR(IF(Worksheet!X144=0,Worksheet!W144/I125,Worksheet!X144/R125),0)","v":0},"W Controlled",null,null,{"$f":"IF(N(Worksheet!S144)=0,N(Worksheet!R144),N(Worksheet!S144))","v":0},{"$f":"IFERROR(Worksheet!U144/(Worksheet!R144+Worksheet!#REF!),0)","v":0},{"$f":"Worksheet!AC144","v":0},{"$f":"Worksheet!AB144","v":0},0,{"$f":"IF(Worksheet!AJ144=0,0,Worksheet!AJ144*10/I125)","v":0},0,null,null,null,{"$f":"IFERROR(Worksheet!V144/(Worksheet!S144+Worksheet!#REF!),0)","v":0},{"$f":"IF(Worksheet!E144=\"\",\"\",Worksheet!E144)","v":""},{"$f":"IF(Worksheet!B144=\"\",\"\",Worksheet!B144)","v":""},{"$f":"IF(Worksheet!D144=\"\",\"\",Worksheet!D144)","v":""}]
[{"$f":"IF(ISBLANK(Worksheet!F145)=FALSE,VLOOKUP(Worksheet!A145,MeasureCode_Lookup,6,FALSE),\"\")","v":""},{"$f":"Worksheet!H145","v":0},{"$f":"Worksheet!I145","v":0},{"$f":"IFERROR(IF(Worksheet!X145=0,Worksheet!W145/I126,Worksheet!X145/R126),0)","v":0},"W Controlled",null,null,{"$f":"IF(N(Worksheet!S145)=0,N(Worksheet!R145),N(Worksheet!S145))","v":0},{"$f":"IFERROR(Worksheet!U145/(Worksheet!R145+Worksheet!#REF!),0)","v":0},{"$f":"Worksheet!AC145","v":0},{"$f":"Worksheet!AB145","v":0},0,{"$f":"IF(Worksheet!AJ145=0,0,Worksheet!AJ145*10/I126)","v":0},0,null,null,null,{"$f":"IFERROR(Worksheet!V145/(Worksheet!S145+Worksheet!#REF!),0)","v":0},{"$f":"IF(Worksheet!E145=\"\",\"\",Worksheet!E145)","v":""},{"$f":"IF(Worksheet!B145=\"\",\"\",Worksheet!B145)","v":""},{"$f":"IF(Worksheet!D145=\"\",\"\",Worksheet!D145)","v":""}]
[{"$f":"IF(ISBLANK(Worksheet!F146)=FALSE,VLOOKUP(Worksheet!A146,MeasureCode_Lookup,6,FALSE),\"\")","v":""},{"$f":"Worksheet!H146","v":0},{"$f":"Worksheet!I146","v":0},{"$f":"IFERROR(IF(Worksheet!X146=0,Worksheet!W146/I127,Worksheet!X146/R127),0)","v":0},"W Controlled",null,null,{"$f":"IF(N(Worksheet!S146)=0,N(Worksheet!R146),N(Worksheet!S146))","v":0},{"$f":"IFERROR(Worksheet!U146/(Worksheet!R146+Worksheet!#REF!),0)","v":0},{"$f":"Worksheet!AC146","v":0},{"$f":"Worksheet!AB146","v":0},0,{"$f":"IF(Worksheet!AJ146=0,0,Worksheet!AJ146*10/I127)","v":0},0,null,null,null,{"$f":"IFERROR(Worksheet!V146/(Worksheet!S146+Worksheet!#REF!),0)","v":0},{"$f":"IF(Worksheet!E146=\"\",\"\",Worksheet!E146)","v":""},{"$f":"IF(Worksheet!B146=\"\",\"\",Worksheet!B146)","v":""},{"$f":"IF(Worksheet!D146=\"\",\"\",Worksheet!D146)","v":""}]
[{"$f":"IF(ISBLANK(Worksheet!F147)=FALSE,VLOOKUP(Worksheet!A147,MeasureCode_Lookup,6,FALSE),\"\")","v":""},{"$f":"Worksheet!H147","v":0},{"$f":"Worksheet!I147","v":0},{"$f":"IFERROR(IF(Worksheet!X147=0,Worksheet!W147/I128,Worksheet!X147/R128),0)","v":0},"W Controlled",null,null,{"$f":"IF(N(Worksheet!S147)=0,N(Worksheet!R147),N(Worksheet!S147))","v":0},{"$f":"IFERROR(Worksheet!U147/(Worksheet!R147+Worksheet!#REF!),0)","v":0},{"$f":"Worksheet!AC147","v":0},{"$f":"Worksheet!AB147","v":0},0,{"$f":"IF(Worksheet!AJ147=0,0,Worksheet!AJ147*10/I128)","v":0},0,null,null,null,{"$f":"IFERROR(Worksheet!V147/(Worksheet!S147+Worksheet!#REF!),0)","v":0},{"$f":"IF(Worksheet!E147=\"\",\"\",Worksheet!E147)","v":""},{"$f":"IF(Worksheet!B147=\"\",\"\",Worksheet!B147)","v":""},{"$f":"IF(Worksheet!D147=\"\",\"\",Worksheet!D147)","v":""}]
[{"$f":"IF(ISBLANK(Worksheet!F148)=FALSE,VLOOKUP(Worksheet!A148,MeasureCode_Lookup,6,FALSE),\"\")","v":""},{"$f":"Worksheet!H148","v":0},{"$f":"Worksheet!I148","v":0},{"$f":"IFERROR(IF(Worksheet!X148=0,Worksheet!W148/I129,Worksheet!X148/R129),0)","v":0},"W Controlled",null,null,{"$f":"IF(N(Worksheet!S148)=0,N(Worksheet!R148),N(Worksheet!S148))","v":0},{"$f":"IFERROR(Worksheet!U148/(Worksheet!R148+Worksheet!#REF!),0)","v":0},{"$f":"Worksheet!AC148","v":0},{"$f":"Worksheet!AB148","v":0},0,{"$f":"IF(Worksheet!AJ148=0,0,Worksheet!AJ148*10/I129)","v":0},0,null,null,null,{"$f":"IFERROR(Worksheet!V148/(Worksheet!S148+Worksheet!#REF!),0)","v":0},{"$f":"IF(Worksheet!E148=\"\",\"\",Worksheet!E148)","v":""},{"$f":"IF(Worksheet!B148=\"\",\"\",Worksheet!B148)","v":""},{"$f":"IF(Worksheet!D148=\"\",\"\",Worksheet!D148)","v":""}]
[{"$f":"IF(ISBLANK(Worksheet!F149)=FALSE,VLOOKUP(Worksheet!A149,MeasureCode_Lookup,6,FALSE),\"\")","v":""},{"$f":"Worksheet!H149","v":0},{"$f":"Worksheet!I149","v":0},{"$f":"IFERROR(IF(Worksheet!X149=0,Worksheet!W149/I130,Worksheet!X149/R130),0)","v":0},"W Controlled",null,null,{"$f":"IF(N(Worksheet!S149)=0,N(Worksheet!R149),N(Worksheet!S149))","v":0},{"$f":"IFERROR(Worksheet!U149/(Worksheet!R149+Worksheet!#REF!),0)","v":0},{"$f":"Worksheet!AC149","v":0},{"$f":"Worksheet!AB149","v":0},0,{"$f":"IF(Worksheet!AJ149=0,0,Worksheet!AJ149*10/I130)","v":0},0,null,null,null,{"$f":"IFERROR(Worksheet!V149/(Worksheet!S149+Worksheet!#REF!),0)","v":0},{"$f":"IF(Worksheet!E149=\"\",\"\",Worksheet!E149)","v":""},{"$f":"IF(Worksheet!B149=\"\",\"\",Worksheet!B149)","v":""},{"$f":"IF(Worksheet!D149=\"\",\"\",Worksheet!D149)","v":""}]
[{"$f":"IF(ISBLANK(Worksheet!F150)=FALSE,VLOOKUP(Worksheet!A150,MeasureCode_Lookup,6,FALSE),\"\")","v":""},{"$f":"Worksheet!H150","v":0},{"$f":"Worksheet!I150","v":0},{"$f":"IFERROR(IF(Worksheet!X150=0,Worksheet!W150/I131,Worksheet!X150/R131),0)","v":0},"W Controlled",null,null,{"$f":"IF(N(Worksheet!S150)=0,N(Worksheet!R150),N(Worksheet!S150))","v":0},{"$f":"IFERROR(Worksheet!U150/(Worksheet!R150+Worksheet!#REF!),0)","v":0},{"$f":"Worksheet!AC150","v":0},{"$f":"Worksheet!AB150","v":0},{"$f":"J131*8","v":0},{"$f":"IF(Worksheet!AJ150=0,0,Worksheet!AJ150*10/I131)","v":0},{"$f":"M131*8","v":0},null,null,null,{"$f":"IFERROR(Worksheet!V150/(Worksheet!S150+Worksheet!#REF!),0)","v":0},{"$f":"IF(Worksheet!E150=\"\",\"\",Worksheet!E150)","v":""},{"$f":"IF(Worksheet!B150=\"\",\"\",Worksheet!B150)","v":""},{"$f":"IF(Worksheet!D150=\"\",\"\",Worksheet!D150)","v":""}]
[{"$f":"IF(ISBLANK(Worksheet!F151)=FALSE,VLOOKUP(Worksheet!A151,MeasureCode_Lookup,6,FALSE),\"\")","v":""},{"$f":"Worksheet!H151","v":0},{"$f":"Worksheet!I151","v":0},{"$f":"IFERROR(IF(Worksheet!X151=0,Worksheet!W151/I132,Worksheet!X151/R132),0)","v":0},"W Controlled",null,null,{"$f":"IF(N(Worksheet!S151)=0,N(Worksheet!R151),N(Worksheet!S151))","v":0},{"$f":"IFERROR(Worksheet!U151/(Worksheet!R151+Worksheet!#REF!),0)","v":0},{"$f":"Worksheet!AC151","v":0},{"$f":"Worksheet!AB151","v":0},0,{"$f":"IF(Worksheet!AJ151=0,0,Worksheet!AJ151*10/I132)","v":0},0,null,null,null,{"$f":"IFERROR(Worksheet!V151/(Worksheet!S151+Worksheet!#REF!),0)","v":0},{"$f":"IF(Worksheet!E151=\"\",\"\",Worksheet!E151)","v":""},{"$f":"IF(Worksheet!B151=\"\",\"\",Worksheet!B151)","v":""},{"$f":"IF(Worksheet!D151=\"\",\"\",Worksheet!D151)","v":""}]
[{"$f":"IF(ISBLANK(Worksheet!F152)=FALSE,VLOOKUP(Worksheet!A152,MeasureCode_Lookup,6,FALSE),\"\")","v":""},{"$f":"Worksheet!H152","v":0},{"$f":"Worksheet!I152","v":0},{"$f":"IFERROR(IF(Worksheet!X152=0,Worksheet!W152/I133,Worksheet!X152/R133),0)","v":0},"W Controlled",null,null,{"$f":"IF(N(Worksheet!S152)=0,N(Worksheet!R152),N(Worksheet!S152))","v":0},{"$f":"IFERROR(Worksheet!U152/(Worksheet!R152+Worksheet!#REF!),0)","v":0},{"$f":"Worksheet!AC152","v":0},{"$f":"Worksheet!AB152","v":0},0,{"$f":"IF(Worksheet!AJ152=0,0,Worksheet!AJ152*10/I133)","v":0},0,null,null,null,{"$f":"IFERROR(Worksheet!V152/(Worksheet!S152+Worksheet!#REF!),0)","v":0},{"$f":"IF(Worksheet!E152=\"\",\"\",Worksheet!E152)","v":""},{"$f":"IF(Worksheet!B152=\"\",\"\",Worksheet!B152)","v":""},{"$f":"IF(Worksheet!D152=\"\",\"\",Worksheet!D152)","v":""}]
[{"$f":"IF(ISBLANK(Worksheet!F153)=FALSE,VLOOKUP(Worksheet!A153,MeasureCode_Lookup,6,FALSE),\"\")","v":""},{"$f":"Worksheet!H153","v":0},{"$f":"Worksheet!I153","v":0},{"$f":"IFERROR(IF(Worksheet!X153=0,Worksheet!W153/I134,Worksheet!X153/R134),0)","v":0},"W Controlled",null,null,{"$f":"IF(N(Worksheet!S153)=0,N(Worksheet!R153),N(Worksheet!S153))","v":0},{"$f":"IFERROR(Worksheet!U153/(Worksheet!R153+Worksheet!#REF!),0)","v":0},{"$f":"Worksheet!AC153","v":0},{"$f":"Worksheet!AB153","v":0},0,{"$f":"IF(Worksheet!AJ153=0,0,Worksheet!AJ153*10/I134)","v":0},0,null,null,null,{"$f":"IFERROR(Worksheet!V153/(Worksheet!S153+Worksheet!#REF!),0)","v":0},{"$f":"IF(Worksheet!E153=\"\",\"\",Worksheet!E153)","v":""},{"$f":"IF(Worksheet!B153=\"\",\"\",Worksheet!B153)","v":""},{"$f":"IF(Worksheet!D153=\"\",\"\",Worksheet!D153)","v":""}]
[{"$f":"IF(ISBLANK(Worksheet!F154)=FALSE,VLOOKUP(Worksheet!A154,MeasureCode_Lookup,6,FALSE),\"\")","v":""},{"$f":"Worksheet!H154","v":0},{"$f":"Worksheet!I154","v":0},{"$f":"IFERROR(IF(Worksheet!X154=0,Worksheet!W154/I135,Worksheet!X154/R135),0)","v":0},"W Controlled",null,null,{"$f":"IF(N(Worksheet!S154)=0,N(Worksheet!R154),N(Worksheet!S154))","v":0},{"$f":"IFERROR(Worksheet!U154/(Worksheet!R154+Worksheet!#REF!),0)","v":0},{"$f":"Worksheet!AC154","v":0},{"$f":"Worksheet!AB154","v":0},0,{"$f":"IF(Worksheet!AJ154=0,0,Worksheet!AJ154*10/I135)","v":0},0,null,null,null,{"$f":"IFERROR(Worksheet!V154/(Worksheet!S154+Worksheet!#REF!),0)","v":0},{"$f":"IF(Worksheet!E154=\"\",\"\",Worksheet!E154)","v":""},{"$f":"IF(Worksheet!B154=\"\",\"\",Worksheet!B154)","v":""},{"$f":"IF(Worksheet!D154=\"\",\"\",Worksheet!D154)","v":""}]
[{"$f":"IF(ISBLANK(Worksheet!F155)=FALSE,VLOOKUP(Worksheet!A155,MeasureCode_Lookup,6,FALSE),\"\")","v":""},{"$f":"Worksheet!H155","v":0},{"$f":"Worksheet!I155","v":0},{"$f":"IFERROR(IF(Worksheet!X155=0,Worksheet!W155/I136,Worksheet!X155/R136),0)","v":0},"W Controlled",null,null,{"$f":"IF(N(Worksheet!S155)=0,N(Worksheet!R155),N(Worksheet!S155))","v":0},{"$f":"IFERROR(Worksheet!U155/(Worksheet!R155+Worksheet!#REF!),0)","v":0},{"$f":"Worksheet!AC155","v":0},{"$f":"Worksheet!AB155","v":0},0,{"$f":"IF(Worksheet!AJ155=0,0,Worksheet!AJ155*10/I136)","v":0},0,null,null,null,{"$f":"IFERROR(Worksheet!V155/(Worksheet!S155+Worksheet!#REF!),0)","v":0},{"$f":"IF(Worksheet!E155=\"\",\"\",Worksheet!E155)","v":""},{"$f":"IF(Worksheet!B155=\"\",\"\",Worksheet!B155)","v":""},{"$f":"IF(Worksheet!D155=\"\",\"\",Worksheet!D155)","v":""}]
[{"$f":"IF(ISBLANK(Worksheet!F156)=FALSE,VLOOKUP(Worksheet!A156,MeasureCode_Lookup,6,FALSE),\"\")","v":""},{"$f":"Worksheet!H156","v":0},{"$f":"Worksheet!I156","v":0},{"$f":"IFERROR(IF(Worksheet!X156=0,Worksheet!W156/I137,Worksheet!X156/R137),0)","v":0},"W Controlled",null,null,{"$f":"IF(N(Worksheet!S156)=0,N(Worksheet!R156),N(Worksheet!S156))","v":0},{"$f":"IFERROR(Worksheet!U156/(Worksheet!R156+Worksheet!#REF!),0)","v":0},{"$f":"Worksheet!AC156","v":0},{"$f":"Worksheet!AB156","v":0},0,{"$f":"IF(Worksheet!AJ156=0,0,Worksheet!AJ156*10/I137)","v":0},0,null,null,null,{"$f":"IFERROR(Worksheet!V156/(Worksheet!S156+Worksheet!#REF!),0)","v":0},{"$f":"IF(Worksheet!E156=\"\",\"\",Worksheet!E156)","v":""},{"$f":"IF(Worksheet!B156=\"\",\"\",Worksheet!B156)","v":""},{"$f":"IF(Worksheet!D156=\"\",\"\",Worksheet!D156)","v":""}]
[{"$f":"IF(ISBLANK(Worksheet!F157)=FALSE,VLOOKUP(Worksheet!A157,MeasureCode_Lookup,6,FALSE),\"\")","v":""},{"$f":"Worksheet!H157","v":0},{"$f":"Worksheet!I157","v":0},{"$f":"IFERROR(IF(Worksheet!X157=0,Worksheet!W157/I138,Worksheet!X157/R138),0)","v":0},"W Controlled",null,null,{"$f":"IF(N(Worksheet!S157)=0,N(Worksheet!R157),N(Worksheet!S157))","v":0},{"$f":"IFERROR(Worksheet!U157/(Worksheet!R157+Worksheet!#REF!),0)","v":0},{"$f":"Worksheet!AC157","v":0},{"$f":"Worksheet!AB157","v":0},0,{"$f":"IF(Worksheet!AJ157=0,0,Worksheet!AJ157*10/I138)","v":0},0,null,null,null,{"$f":"IFERROR(Worksheet!V157/(Worksheet!S157+Worksheet!#REF!),0)","v":0},{"$f":"IF(Worksheet!E157=\"\",\"\",Worksheet!E157)","v":""},{"$f":"IF(Worksheet!B157=\"\",\"\",Worksheet!B157)","v":""},{"$f":"IF(Worksheet!D157=\"\",\"\",Worksheet!D157)","v":""}]
[{"$f":"IF(ISBLANK(Worksheet!F158)=FALSE,VLOOKUP(Worksheet!A158,MeasureCode_Lookup,6,FALSE),\"\")","v":""},{"$f":"Worksheet!H158","v":0},{"$f":"Worksheet!I158","v":0},{"$f":"IFERROR(IF(Worksheet!X158=0,Worksheet!W158/I139,Worksheet!X158/R139),0)","v":0},"W Controlled",null,null,{"$f":"IF(N(Worksheet!S158)=0,N(Worksheet!R158),N(Worksheet!S158))","v":0},{"$f":"IFERROR(Worksheet!U158/(Worksheet!R158+Worksheet!#REF!),0)","v":0},{"$f":"Worksheet!AC158","v":0},{"$f":"Worksheet!AB158","v":0},0,{"$f":"IF(Worksheet!AJ158=0,0,Worksheet!AJ158*10/I139)","v":0},0,null,null,null,{"$f":"IFERROR(Worksheet!V158/(Worksheet!S158+Worksheet!#REF!),0)","v":0},{"$f":"IF(Worksheet!E158=\"\",\"\",Worksheet!E158)","v":""},{"$f":"IF(Worksheet!B158=\"\",\"\",Worksheet!B158)","v":""},{"$f":"IF(Worksheet!D158=\"\",\"\",Worksheet!D158)","v":""}]
[{"$f":"IF(ISBLANK(Worksheet!F159)=FALSE,VLOOKUP(Worksheet!A159,MeasureCode_Lookup,6,FALSE),\"\")","v":""},{"$f":"Worksheet!H159","v":0},{"$f":"Worksheet!I159","v":0},{"$f":"IFERROR(IF(Worksheet!X159=0,Worksheet!W159/I140,Worksheet!X159/R140),0)","v":0},"W Controlled",null,null,{"$f":"IF(N(Worksheet!S159)=0,N(Worksheet!R159),N(Worksheet!S159))","v":0},{"$f":"IFERROR(Worksheet!U159/(Worksheet!R159+Worksheet!#REF!),0)","v":0},{"$f":"Worksheet!AC159","v":0},{"$f":"Worksheet!AB159","v":0},0,{"$f":"IF(Worksheet!AJ159=0,0,Worksheet!AJ159*10/I140)","v":0},0,null,null,null,{"$f":"IFERROR(Worksheet!V159/(Worksheet!S159+Worksheet!#REF!),0)","v":0},{"$f":"IF(Worksheet!E159=\"\",\"\",Worksheet!E159)","v":""},{"$f":"IF(Worksheet!B159=\"\",\"\",Worksheet!B159)","v":""},{"$f":"IF(Worksheet!D159=\"\",\"\",Worksheet!D159)","v":""}]
[{"$f":"IF(ISBLANK(Worksheet!F160)=FALSE,VLOOKUP(Worksheet!A160,MeasureCode_Lookup,6,FALSE),\"\")","v":""},{"$f":"Worksheet!H160","v":0},{"$f":"Worksheet!I160","v":0},{"$f":"IFERROR(IF(Worksheet!X160=0,Worksheet!W160/I141,Worksheet!X160/R141),0)","v":0},"W Controlled",null,null,{"$f":"IF(N(Worksheet!S160)=0,N(Worksheet!R160),N(Worksheet!S160))","v":0},{"$f":"IFERROR(Worksheet!U160/(Worksheet!R160+Worksheet!#REF!),0)","v":0},{"$f":"Worksheet!AC160","v":0},{"$f":"Worksheet!AB160","v":0},0,{"$f":"IF(Worksheet!AJ160=0,0,Worksheet!AJ160*10/I141)","v":0},0,null,null,null,{"$f":"IFERROR(Worksheet!V160/(Worksheet!S160+Worksheet!#REF!),0)","v":0},{"$f":"IF(Worksheet!E160=\"\",\"\",Worksheet!E160)","v":""},{"$f":"IF(Worksheet!B160=\"\",\"\",Worksheet!B160)","v":""},{"$f":"IF(Worksheet!D160=\"\",\"\",Worksheet!D160)","v":""}]
[{"$f":"IF(ISBLANK(Worksheet!F161)=FALSE,VLOOKUP(Worksheet!A161,MeasureCode_Lookup,6,FALSE),\"\")","v":""},{"$f":"Worksheet!H161","v":0},{"$f":"Worksheet!I161","v":0},{"$f":"IFERROR(IF(Worksheet!X161=0,Worksheet!W161/I142,Worksheet!X161/R142),0)","v":0},"W Controlled",null,null,{"$f":"IF(N(Worksheet!S161)=0,N(Worksheet!R161),N(Worksheet!S161))","v":0},{"$f":"IFERROR(Worksheet!U161/(Worksheet!R161+Worksheet!#REF!),0)","v":0},{"$f":"Worksheet!AC161","v":0},{"$f":"Worksheet!AB161","v":0},0,{"$f":"IF(Worksheet!AJ161=0,0,Worksheet!AJ161*10/I142)","v":0},0,null,null,null,{"$f":"IFERROR(Worksheet!V161/(Worksheet!S161+Worksheet!#REF!),0)","v":0},{"$f":"IF(Worksheet!E161=\"\",\"\",Worksheet!E161)","v":""},{"$f":"IF(Worksheet!B161=\"\",\"\",Worksheet!B161)","v":""},{"$f":"IF(Worksheet!D161=\"\",\"\",Worksheet!D161)","v":""}]
[{"$f":"IF(ISBLANK(Worksheet!F162)=FALSE,VLOOKUP(Worksheet!A162,MeasureCode_Lookup,6,FALSE),\"\")","v":""},{"$f":"Worksheet!H162","v":0},{"$f":"Worksheet!I162","v":0},{"$f":"IFERROR(IF(Worksheet!X162=0,Worksheet!W162/I143,Worksheet!X162/R143),0)","v":0},"W Controlled",null,null,{"$f":"IF(N(Worksheet!S162)=0,N(Worksheet!R162),N(Worksheet!S162))","v":0},{"$f":"IFERROR(Worksheet!U162/(Worksheet!R162+Worksheet!#REF!),0)","v":0},{"$f":"Worksheet!AC162","v":0},{"$f":"Worksheet!AB162","v":0},0,{"$f":"IF(Worksheet!AJ162=0,0,Worksheet!AJ162*10/I143)","v":0},0,null,null,null,{"$f":"IFERROR(Worksheet!V162/(Worksheet!S162+Worksheet!#REF!),0)","v":0},{"$f":"IF(Worksheet!E162=\"\",\"\",Worksheet!E162)","v":""},{"$f":"IF(Worksheet!B162=\"\",\"\",Worksheet!B162)","v":""},{"$f":"IF(Worksheet!D162=\"\",\"\",Worksheet!D162)","v":""}]
[{"$f":"IF(ISBLANK(Worksheet!F163)=FALSE,VLOOKUP(Worksheet!A163,MeasureCode_Lookup,6,FALSE),\"\")","v":""},{"$f":"Worksheet!H163","v":0},{"$f":"Worksheet!I163","v":0},{"$f":"IFERROR(IF(Worksheet!X163=0,Worksheet!W163/I144,Worksheet!X163/R144),0)","v":0},"W Controlled",null,null,{"$f":"IF(N(Worksheet!S163)=0,N(Worksheet!R163),N(Worksheet!S163))","v":0},{"$f":"IFERROR(Worksheet!U163/(Worksheet!R163+Worksheet!#REF!),0)","v":0},{"$f":"Worksheet!AC163","v":0},{"$f":"Worksheet!AB163","v":0},0,{"$f":"IF(Worksheet!AJ163=0,0,Worksheet!AJ163*10/I144)","v":0},0,null,null,null,{"$f":"IFERROR(Worksheet!V163/(Worksheet!S163+Worksheet!#REF!),0)","v":0},{"$f":"IF(Worksheet!E163=\"\",\"\",Worksheet!E163)","v":""},{"$f":"IF(Worksheet!B163=\"\",\"\",Worksheet!B163)","v":""},{"$f":"IF(Worksheet!D163=\"\",\"\",Worksheet!D163)","v":""}]
[{"$f":"IF(ISBLANK(Worksheet!F164)=FALSE,VLOOKUP(Worksheet!A164,MeasureCode_Lookup,6,FALSE),\"\")","v":""},{"$f":"Worksheet!H164","v":0},{"$f":"Worksheet!I164","v":0},{"$f":"IFERROR(IF(Worksheet!X164=0,Worksheet!W164/I145,Worksheet!X164/R145),0)","v":0},"W Controlled",null,null,{"$f":"IF(N(Worksheet!S164)=0,N(Worksheet!R164),N(Worksheet!S164))","v":0},{"$f":"IFERROR(Worksheet!U164/(Worksheet!R164+Worksheet!#REF!),0)","v":0},{"$f":"Worksheet!AC164","v":0},{"$f":"Worksheet!AB164","v":0},0,{"$f":"IF(Worksheet!AJ164=0,0,Worksheet!AJ164*10/I145)","v":0},0,null,null,null,{"$f":"IFERROR(Worksheet!V164/(Worksheet!S164+Worksheet!#REF!),0)","v":0},{"$f":"IF(Worksheet!E164=\"\",\"\",Worksheet!E164)","v":""},{"$f":"IF(Worksheet!B164=\"\",\"\",Worksheet!B164)","v":""},{"$f":"IF(Worksheet!D164=\"\",\"\",Worksheet!D164)","v":""}]
[{"$f":"IF(ISBLANK(Worksheet!F165)=FALSE,VLOOKUP(Worksheet!A165,MeasureCode_Lookup,6,FALSE),\"\")","v":""},{"$f":"Worksheet!H165","v":0},{"$f":"Worksheet!I165","v":0},{"$f":"IFERROR(IF(Worksheet!X165=0,Worksheet!W165/I146,Worksheet!X165/R146),0)","v":0},"W Controlled",null,null,{"$f":"IF(N(Worksheet!S165)=0,N(Worksheet!R165),N(Worksheet!S165))","v":0},{"$f":"IFERROR(Worksheet!U165/(Worksheet!R165+Worksheet!#REF!),0)","v":0},{"$f":"Worksheet!AC165","v":0},{"$f":"Worksheet!AB165","v":0},0,{"$f":"IF(Worksheet!AJ165=0,0,Worksheet!AJ165*10/I146)","v":0},0,null,null,null,{"$f":"IFERROR(Worksheet!V165/(Worksheet!S165+Worksheet!#REF!),0)","v":0},{"$f":"IF(Worksheet!E165=\"\",\"\",Worksheet!E165)","v":""},{"$f":"IF(Worksheet!B165=\"\",\"\",Worksheet!B165)","v":""},{"$f":"IF(Worksheet!D165=\"\",\"\",Worksheet!D165)","v":""}]
[{"$f":"IF(ISBLANK(Worksheet!F166)=FALSE,VLOOKUP(Worksheet!A166,MeasureCode_Lookup,6,FALSE),\"\")","v":""},{"$f":"Worksheet!H166","v":0},{"$f":"Worksheet!I166","v":0},{"$f":"IFERROR(IF(Worksheet!X166=0,Worksheet!W166/I147,Worksheet!X166/R147),0)","v":0},"W Controlled",null,null,{"$f":"IF(N(Worksheet!S166)=0,N(Worksheet!R166),N(Worksheet!S166))","v":0},{"$f":"IFERROR(Worksheet!U166/(Worksheet!R166+Worksheet!#REF!),0)","v":0},{"$f":"Worksheet!AC166","v":0},{"$f":"Worksheet!AB166","v":0},0,{"$f":"IF(Worksheet!AJ166=0,0,Worksheet!AJ166*10/I147)","v":0},0,null,null,null,{"$f":"IFERROR(Worksheet!V166/(Worksheet!S166+Worksheet!#REF!),0)","v":0},{"$f":"IF(Worksheet!E166=\"\",\"\",Worksheet!E166)","v":""},{"$f":"IF(Worksheet!B166=\"\",\"\",Worksheet!B166)","v":""},{"$f":"IF(Worksheet!D166=\"\",\"\",Worksheet!D166)","v":""}]
[{"$f":"IF(ISBLANK(Worksheet!F167)=FALSE,VLOOKUP(Worksheet!A167,MeasureCode_Lookup,6,FALSE),\"\")","v":""},{"$f":"Worksheet!H167","v":0},{"$f":"Worksheet!I167","v":0},{"$f":"IFERROR(IF(Worksheet!X167=0,Worksheet!W167/I148,Worksheet!X167/R148),0)","v":0},"W Controlled",null,null,{"$f":"IF(N(Worksheet!S167)=0,N(Worksheet!R167),N(Worksheet!S167))","v":0},{"$f":"IFERROR(Worksheet!U167/(Worksheet!R167+Worksheet!#REF!),0)","v":0},{"$f":"Worksheet!AC167","v":0},{"$f":"Worksheet!AB167","v":0},0,{"$f":"IF(Worksheet!AJ167=0,0,Worksheet!AJ167*10/I148)","v":0},0,null,null,null,{"$f":"IFERROR(Worksheet!V167/(Worksheet!S167+Worksheet!#REF!),0)","v":0},{"$f":"IF(Worksheet!E167=\"\",\"\",Worksheet!E167)","v":""},{"$f":"IF(Worksheet!B167=\"\",\"\",Worksheet!B167)","v":""},{"$f":"IF(Worksheet!D167=\"\",\"\",Worksheet!D167)","v":""}]
[{"$f":"IF(ISBLANK(Worksheet!F168)=FALSE,VLOOKUP(Worksheet!A168,MeasureCode_Lookup,6,FALSE),\"\")","v":""},{"$f":"Worksheet!H168","v":0},{"$f":"Worksheet!I168","v":0},{"$f":"IFERROR(IF(Worksheet!X168=0,Worksheet!W168/I149,Worksheet!X168/R149),0)","v":0},"W Controlled",null,null,{"$f":"IF(N(Worksheet!S168)=0,N(Worksheet!R168),N(Worksheet!S168))","v":0},{"$f":"IFERROR(Worksheet!U168/(Worksheet!R168+Worksheet!#REF!),0)","v":0},{"$f":"Worksheet!AC168","v":0},{"$f":"Worksheet!AB168","v":0},0,{"$f":"IF(Worksheet!AJ168=0,0,Worksheet!AJ168*10/I149)","v":0},0,null,null,null,{"$f":"IFERROR(Worksheet!V168/(Worksheet!S168+Worksheet!#REF!),0)","v":0},{"$f":"IF(Worksheet!E168=\"\",\"\",Worksheet!E168)","v":""},{"$f":"IF(Worksheet!B168=\"\",\"\",Worksheet!B168)","v":""},{"$f":"IF(Worksheet!D168=\"\",\"\",Worksheet!D168)","v":""}]
[{"$f":"IF(ISBLANK(Worksheet!F169)=FALSE,VLOOKUP(Worksheet!A169,MeasureCode_Lookup,6,FALSE),\"\")","v":""},{"$f":"Worksheet!H169","v":0},{"$f":"Worksheet!I169","v":0},{"$f":"IFERROR(IF(Worksheet!X169=0,Worksheet!W169/I150,Worksheet!X169/R150),0)","v":0},"W Controlled",null,null,{"$f":"IF(N(Worksheet!S169)=0,N(Worksheet!R169),N(Worksheet!S169))","v":0},{"$f":"IFERROR(Worksheet!U169/(Worksheet!R169+Worksheet!#REF!),0)","v":0},{"$f":"Worksheet!AC169","v":0},{"$f":"Worksheet!AB169","v":0},0,{"$f":"IF(Worksheet!AJ169=0,0,Worksheet!AJ169*10/I150)","v":0},0,null,null,null,{"$f":"IFERROR(Worksheet!V169/(Worksheet!S169+Worksheet!#REF!),0)","v":0},{"$f":"IF(Worksheet!E169=\"\",\"\",Worksheet!E169)","v":""},{"$f":"IF(Worksheet!B169=\"\",\"\",Worksheet!B169)","v":""},{"$f":"IF(Worksheet!D169=\"\",\"\",Worksheet!D169)","v":""}]
[{"$f":"IF(ISBLANK(Worksheet!F170)=FALSE,VLOOKUP(Worksheet!A170,MeasureCode_Lookup,6,FALSE),\"\")","v":""},{"$f":"Worksheet!H170","v":0},{"$f":"Worksheet!I170","v":0},{"$f":"IFERROR(IF(Worksheet!X170=0,Worksheet!W170/I151,Worksheet!X170/R151),0)","v":0},"W Controlled",null,null,{"$f":"IF(N(Worksheet!S170)=0,N(Worksheet!R170),N(Worksheet!S170))","v":0},{"$f":"IFERROR(Worksheet!U170/(Worksheet!R170+Worksheet!#REF!),0)","v":0},{"$f":"Worksheet!AC170","v":0},{"$f":"Worksheet!AB170","v":0},0,{"$f":"IF(Worksheet!AJ170=0,0,Worksheet!AJ170*10/I151)","v":0},0,null,null,null,{"$f":"IFERROR(Worksheet!V170/(Worksheet!S170+Worksheet!#REF!),0)","v":0},{"$f":"IF(Worksheet!E170=\"\",\"\",Worksheet!E170)","v":""},{"$f":"IF(Worksheet!B170=\"\",\"\",Worksheet!B170)","v":""},{"$f":"IF(Worksheet!D170=\"\",\"\",Worksheet!D170)","v":""}]
[{"$f":"IF(ISBLANK(Worksheet!F171)=FALSE,VLOOKUP(Worksheet!A171,MeasureCode_Lookup,6,FALSE),\"\")","v":""},{"$f":"Worksheet!H171","v":0},{"$f":"Worksheet!I171","v":0},{"$f":"IFERROR(IF(Worksheet!X171=0,Worksheet!W171/I152,Worksheet!X171/R152),0)","v":0},"W Controlled",null,null,{"$f":"IF(N(Worksheet!S171)=0,N(Worksheet!R171),N(Worksheet!S171))","v":0},{"$f":"IFERROR(Worksheet!U171/(Worksheet!R171+Worksheet!#REF!),0)","v":0},{"$f":"Worksheet!AC171","v":0},{"$f":"Worksheet!AB171","v":0},0,{"$f":"IF(Worksheet!AJ171=0,0,Worksheet!AJ171*10/I152)","v":0},0,null,null,null,{"$f":"IFERROR(Worksheet!V171/(Worksheet!S171+Worksheet!#REF!),0)","v":0},{"$f":"IF(Worksheet!E171=\"\",\"\",Worksheet!E171)","v":""},{"$f":"IF(Worksheet!B171=\"\",\"\",Worksheet!B171)","v":""},{"$f":"IF(Worksheet!D171=\"\",\"\",Worksheet!D171)","v":""}]
[{"$f":"IF(ISBLANK(Worksheet!F172)=FALSE,VLOOKUP(Worksheet!A172,MeasureCode_Lookup,6,FALSE),\"\")","v":""},{"$f":"Worksheet!H172","v":0},{"$f":"Worksheet!I172","v":0},{"$f":"IFERROR(IF(Worksheet!X172=0,Worksheet!W172/I153,Worksheet!X172/R153),0)","v":0},"W Controlled",null,null,{"$f":"IF(N(Worksheet!S172)=0,N(Worksheet!R172),N(Worksheet!S172))","v":0},{"$f":"IFERROR(Worksheet!U172/(Worksheet!R172+Worksheet!#REF!),0)","v":0},{"$f":"Worksheet!AC172","v":0},{"$f":"Worksheet!AB172","v":0},0,{"$f":"IF(Worksheet!AJ172=0,0,Worksheet!AJ172*10/I153)","v":0},0,null,null,null,{"$f":"IFERROR(Worksheet!V172/(Worksheet!S172+Worksheet!#REF!),0)","v":0},{"$f":"IF(Worksheet!E172=\"\",\"\",Worksheet!E172)","v":""},{"$f":"IF(Worksheet!B172=\"\",\"\",Worksheet!B172)","v":""},{"$f":"IF(Worksheet!D172=\"\",\"\",Worksheet!D172)","v":""}]
[{"$f":"IF(ISBLANK(Worksheet!F173)=FALSE,VLOOKUP(Worksheet!A173,MeasureCode_Lookup,6,FALSE),\"\")","v":""},{"$f":"Worksheet!H173","v":0},{"$f":"Worksheet!I173","v":0},{"$f":"IFERROR(IF(Worksheet!X173=0,Worksheet!W173/I154,Worksheet!X173/R154),0)","v":0},"W Controlled",null,null,{"$f":"IF(N(Worksheet!S173)=0,N(Worksheet!R173),N(Worksheet!S173))","v":0},{"$f":"IFERROR(Worksheet!U173/(Worksheet!R173+Worksheet!#REF!),0)","v":0},{"$f":"Worksheet!AC173","v":0},{"$f":"Worksheet!AB173","v":0},0,{"$f":"IF(Worksheet!AJ173=0,0,Worksheet!AJ173*10/I154)","v":0},0,null,null,null,{"$f":"IFERROR(Worksheet!V173/(Worksheet!S173+Worksheet!#REF!),0)","v":0},{"$f":"IF(Worksheet!E173=\"\",\"\",Worksheet!E173)","v":""},{"$f":"IF(Worksheet!B173=\"\",\"\",Worksheet!B173)","v":""},{"$f":"IF(Worksheet!D173=\"\",\"\",Worksheet!D173)","v":""}]
[{"$f":"IF(ISBLANK(Worksheet!F174)=FALSE,VLOOKUP(Worksheet!A174,MeasureCode_Lookup,6,FALSE),\"\")","v":""},{"$f":"Worksheet!H174","v":0},{"$f":"Worksheet!I174","v":0},{"$f":"IFERROR(IF(Worksheet!X174=0,Worksheet!W174/I155,Worksheet!X174/R155),0)","v":0},"W Controlled",null,null,{"$f":"IF(N(Worksheet!S174)=0,N(Worksheet!R174),N(Worksheet!S174))","v":0},{"$f":"IFERROR(Worksheet!U174/(Worksheet!R174+Worksheet!#REF!),0)","v":0},{"$f":"Worksheet!AC174","v":0},{"$f":"Worksheet!AB174","v":0},0,{"$f":"IF(Worksheet!AJ174=0,0,Worksheet!AJ174*10/I155)","v":0},0,null,null,null,{"$f":"IFERROR(Worksheet!V174/(Worksheet!S174+Worksheet!#REF!),0)","v":0},{"$f":"IF(Worksheet!E174=\"\",\"\",Worksheet!E174)","v":""},{"$f":"IF(Worksheet!B174=\"\",\"\",Worksheet!B174)","v":""},{"$f":"IF(Worksheet!D174=\"\",\"\",Worksheet!D174)","v":""}]
[{"$f":"IF(ISBLANK(Worksheet!F175)=FALSE,VLOOKUP(Worksheet!A175,MeasureCode_Lookup,6,FALSE),\"\")","v":""},{"$f":"Worksheet!H175","v":0},{"$f":"Worksheet!I175","v":0},{"$f":"IFERROR(IF(Worksheet!X175=0,Worksheet!W175/I156,Worksheet!X175/R156),0)","v":0},"W Controlled",null,null,{"$f":"IF(N(Worksheet!S175)=0,N(Worksheet!R175),N(Worksheet!S175))","v":0},{"$f":"IFERROR(Worksheet!U175/(Worksheet!R175+Worksheet!#REF!),0)","v":0},{"$f":"Worksheet!AC175","v":0},{"$f":"Worksheet!AB175","v":0},0,{"$f":"IF(Worksheet!AJ175=0,0,Worksheet!AJ175*10/I156)","v":0},0,null,null,null,{"$f":"IFERROR(Worksheet!V175/(Worksheet!S175+Worksheet!#REF!),0)","v":0},{"$f":"IF(Worksheet!E175=\"\",\"\",Worksheet!E175)","v":""},{"$f":"IF(Worksheet!B175=\"\",\"\",Worksheet!B175)","v":""},{"$f":"IF(Worksheet!D175=\"\",\"\",Worksheet!D175)","v":""}]
[{"$f":"IF(ISBLANK(Worksheet!F176)=FALSE,VLOOKUP(Worksheet!A176,MeasureCode_Lookup,6,FALSE),\"\")","v":""},{"$f":"Worksheet!H176","v":0},{"$f":"Worksheet!I176","v":0},{"$f":"IFERROR(IF(Worksheet!X176=0,Worksheet!W176/I157,Worksheet!X176/R157),0)","v":0},"W Controlled",null,null,{"$f":"IF(N(Worksheet!S176)=0,N(Worksheet!R176),N(Worksheet!S176))","v":0},{"$f":"IFERROR(Worksheet!U176/(Worksheet!R176+Worksheet!#REF!),0)","v":0},{"$f":"Worksheet!AC176","v":0},{"$f":"Worksheet!AB176","v":0},0,{"$f":"IF(Worksheet!AJ176=0,0,Worksheet!AJ176*10/I157)","v":0},0,null,null,null,{"$f":"IFERROR(Worksheet!V176/(Worksheet!S176+Worksheet!#REF!),0)","v":0},{"$f":"IF(Worksheet!E176=\"\",\"\",Worksheet!E176)","v":""},{"$f":"IF(Worksheet!B176=\"\",\"\",Worksheet!B176)","v":""},{"$f":"IF(Worksheet!D176=\"\",\"\",Worksheet!D176)","v":""}]
[{"$f":"IF(ISBLANK(Worksheet!F177)=FALSE,VLOOKUP(Worksheet!A177,MeasureCode_Lookup,6,FALSE),\"\")","v":""},{"$f":"Worksheet!H177","v":0},{"$f":"Worksheet!I177","v":0},{"$f":"IFERROR(IF(Worksheet!X177=0,Worksheet!W177/I158,Worksheet!X177/R158),0)","v":0},"W Controlled",null,null,{"$f":"IF(N(Worksheet!S177)=0,N(Worksheet!R177),N(Worksheet!S177))","v":0},{"$f":"IFERROR(Worksheet!U177/(Worksheet!R177+Worksheet!#REF!),0)","v":0},{"$f":"Worksheet!AC177","v":0},{"$f":"Worksheet!AB177","v":0},0,{"$f":"IF(Worksheet!AJ177=0,0,Worksheet!AJ177*10/I158)","v":0},0,null,null,null,{"$f":"IFERROR(Worksheet!V177/(Worksheet!S177+Worksheet!#REF!),0)","v":0},{"$f":"IF(Worksheet!E177=\"\",\"\",Worksheet!E177)","v":""},{"$f":"IF(Worksheet!B177=\"\",\"\",Worksheet!B177)","v":""},{"$f":"IF(Worksheet!D177=\"\",\"\",Worksheet!D177)","v":""}]
[{"$f":"IF(ISBLANK(Worksheet!F178)=FALSE,VLOOKUP(Worksheet!A178,MeasureCode_Lookup,6,FALSE),\"\")","v":""},{"$f":"Worksheet!H178","v":0},{"$f":"Worksheet!I178","v":0},{"$f":"IFERROR(IF(Worksheet!X178=0,Worksheet!W178/I159,Worksheet!X178/R159),0)","v":0},"W Controlled",null,null,{"$f":"IF(N(Worksheet!S178)=0,N(Worksheet!R178),N(Worksheet!S178))","v":0},{"$f":"IFERROR(Worksheet!U178/(Worksheet!R178+Worksheet!#REF!),0)","v":0},{"$f":"Worksheet!AC178","v":0},{"$f":"Worksheet!AB178","v":0},0,{"$f":"IF(Worksheet!AJ178=0,0,Worksheet!AJ178*10/I159)","v":0},0,null,null,null,{"$f":"IFERROR(Worksheet!V178/(Worksheet!S178+Worksheet!#REF!),0)","v":0},{"$f":"IF(Worksheet!E178=\"\",\"\",Worksheet!E178)","v":""},{"$f":"IF(Worksheet!B178=\"\",\"\",Worksheet!B178)","v":""},{"$f":"IF(Worksheet!D178=\"\",\"\",Worksheet!D178)","v":""}]
[{"$f":"IF(ISBLANK(Worksheet!F179)=FALSE,VLOOKUP(Worksheet!A179,MeasureCode_Lookup,6,FALSE),\"\")","v":""},{"$f":"Worksheet!H179","v":0},{"$f":"Worksheet!I179","v":0},{"$f":"IFERROR(IF(Worksheet!X179=0,Worksheet!W179/I160,Worksheet!X179/R160),0)","v":0},"W Controlled",null,null,{"$f":"IF(N(Worksheet!S179)=0,N(Worksheet!R179),N(Worksheet!S179))","v":0},{"$f":"IFERROR(Worksheet!U179/(Worksheet!R179+Worksheet!#REF!),0)","v":0},{"$f":"Worksheet!AC179","v":0},{"$f":"Worksheet!AB179","v":0},0,{"$f":"IF(Worksheet!AJ179=0,0,Worksheet!AJ179*10/I160)","v":0},0,null,null,null,{"$f":"IFERROR(Worksheet!V179/(Worksheet!S179+Worksheet!#REF!),0)","v":0},{"$f":"IF(Worksheet!E179=\"\",\"\",Worksheet!E179)","v":""},{"$f":"IF(Worksheet!B179=\"\",\"\",Worksheet!B179)","v":""},{"$f":"IF(Worksheet!D179=\"\",\"\",Worksheet!D179)","v":""}]
[{"$f":"IF(ISBLANK(Worksheet!F180)=FALSE,VLOOKUP(Worksheet!A180,MeasureCode_Lookup,6,FALSE),\"\")","v":""},{"$f":"Worksheet!H180","v":0},{"$f":"Worksheet!I180","v":0},{"$f":"IFERROR(IF(Worksheet!X180=0,Worksheet!W180/I161,Worksheet!X180/R161),0)","v":0},"W Controlled",null,null,{"$f":"IF(N(Worksheet!S180)=0,N(Worksheet!R180),N(Worksheet!S180))","v":0},{"$f":"IFERROR(Worksheet!U180/(Worksheet!R180+Worksheet!#REF!),0)","v":0},{"$f":"Worksheet!AC180","v":0},{"$f":"Worksheet!AB180","v":0},0,{"$f":"IF(Worksheet!AJ180=0,0,Worksheet!AJ180*10/I161)","v":0},0,null,null,null,{"$f":"IFERROR(Worksheet!V180/(Worksheet!S180+Worksheet!#REF!),0)","v":0},{"$f":"IF(Worksheet!E180=\"\",\"\",Worksheet!E180)","v":""},{"$f":"IF(Worksheet!B180=\"\",\"\",Worksheet!B180)","v":""},{"$f":"IF(Worksheet!D180=\"\",\"\",Worksheet!D180)","v":""}]
[{"$f":"IF(ISBLANK(Worksheet!F181)=FALSE,VLOOKUP(Worksheet!A181,MeasureCode_Lookup,6,FALSE),\"\")","v":""},{"$f":"Worksheet!H181","v":0},{"$f":"Worksheet!I181","v":0},{"$f":"IFERROR(IF(Worksheet!X181=0,Worksheet!W181/I162,Worksheet!X181/R162),0)","v":0},"W Controlled",null,null,{"$f":"IF(N(Worksheet!S181)=0,N(Worksheet!R181),N(Worksheet!S181))","v":0},{"$f":"IFERROR(Worksheet!U181/(Worksheet!R181+Worksheet!#REF!),0)","v":0},{"$f":"Worksheet!AC181","v":0},{"$f":"Worksheet!AB181","v":0},0,{"$f":"IF(Worksheet!AJ181=0,0,Worksheet!AJ181*10/I162)","v":0},0,null,null,null,{"$f":"IFERROR(Worksheet!V181/(Worksheet!S181+Worksheet!#REF!),0)","v":0},{"$f":"IF(Worksheet!E181=\"\",\"\",Worksheet!E181)","v":""},{"$f":"IF(Worksheet!B181=\"\",\"\",Worksheet!B181)","v":""},{"$f":"IF(Worksheet!D181=\"\",\"\",Worksheet!D181)","v":""}]
[{"$f":"IF(ISBLANK(Worksheet!F182)=FALSE,VLOOKUP(Worksheet!A182,MeasureCode_Lookup,6,FALSE),\"\")","v":""},{"$f":"Worksheet!H182","v":0},{"$f":"Worksheet!I182","v":0},{"$f":"IFERROR(IF(Worksheet!X182=0,Worksheet!W182/I163,Worksheet!X182/R163),0)","v":0},"W Controlled",null,null,{"$f":"IF(N(Worksheet!S182)=0,N(Worksheet!R182),N(Worksheet!S182))","v":0},{"$f":"IFERROR(Worksheet!U182/(Worksheet!R182+Worksheet!#REF!),0)","v":0},{"$f":"Worksheet!AC182","v":0},{"$f":"Worksheet!AB182","v":0},0,{"$f":"IF(Worksheet!AJ182=0,0,Worksheet!AJ182*10/I163)","v":0},0,null,null,null,{"$f":"IFERROR(Worksheet!V182/(Worksheet!S182+Worksheet!#REF!),0)","v":0},{"$f":"IF(Worksheet!E182=\"\",\"\",Worksheet!E182)","v":""},{"$f":"IF(Worksheet!B182=\"\",\"\",Worksheet!B182)","v":""},{"$f":"IF(Worksheet!D182=\"\",\"\",Worksheet!D182)","v":""}]
[{"$f":"IF(ISBLANK(Worksheet!F183)=FALSE,VLOOKUP(Worksheet!A183,MeasureCode_Lookup,6,FALSE),\"\")","v":""},{"$f":"Worksheet!H183","v":0},{"$f":"Worksheet!I183","v":0},{"$f":"IFERROR(IF(Worksheet!X183=0,Worksheet!W183/I164,Worksheet!X183/R164),0)","v":0},"W Controlled",null,null,{"$f":"IF(N(Worksheet!S183)=0,N(Worksheet!R183),N(Worksheet!S183))","v":0},{"$f":"IFERROR(Worksheet!U183/(Worksheet!R183+Worksheet!#REF!),0)","v":0},{"$f":"Worksheet!AC183","v":0},{"$f":"Worksheet!AB183","v":0},0,{"$f":"IF(Worksheet!AJ183=0,0,Worksheet!AJ183*10/I164)","v":0},0,null,null,null,{"$f":"IFERROR(Worksheet!V183/(Worksheet!S183+Worksheet!#REF!),0)","v":0},{"$f":"IF(Worksheet!E183=\"\",\"\",Worksheet!E183)","v":""},{"$f":"IF(Worksheet!B183=\"\",\"\",Worksheet!B183)","v":""},{"$f":"IF(Worksheet!D183=\"\",\"\",Worksheet!D183)","v":""}]
[{"$f":"IF(ISBLANK(Worksheet!F184)=FALSE,VLOOKUP(Worksheet!A184,MeasureCode_Lookup,6,FALSE),\"\")","v":""},{"$f":"Worksheet!H184","v":0},{"$f":"Worksheet!I184","v":0},{"$f":"IFERROR(IF(Worksheet!X184=0,Worksheet!W184/I165,Worksheet!X184/R165),0)","v":0},"W Controlled",null,null,{"$f":"IF(N(Worksheet!S184)=0,N(Worksheet!R184),N(Worksheet!S184))","v":0},{"$f":"IFERROR(Worksheet!U184/(Worksheet!R184+Worksheet!#REF!),0)","v":0},{"$f":"Worksheet!AC184","v":0},{"$f":"Worksheet!AB184","v":0},0,{"$f":"IF(Worksheet!AJ184=0,0,Worksheet!AJ184*10/I165)","v":0},0,null,null,null,{"$f":"IFERROR(Worksheet!V184/(Worksheet!S184+Worksheet!#REF!),0)","v":0},{"$f":"IF(Worksheet!E184=\"\",\"\",Worksheet!E184)","v":""},{"$f":"IF(Worksheet!B184=\"\",\"\",Worksheet!B184)","v":""},{"$f":"IF(Worksheet!D184=\"\",\"\",Worksheet!D184)","v":""}]
[{"$f":"IF(ISBLANK(Worksheet!F185)=FALSE,VLOOKUP(Worksheet!A185,MeasureCode_Lookup,6,FALSE),\"\")","v":""},{"$f":"Worksheet!H185","v":0},{"$f":"Worksheet!I185","v":0},{"$f":"IFERROR(IF(Worksheet!X185=0,Worksheet!W185/I166,Worksheet!X185/R166),0)","v":0},"W Controlled",null,null,{"$f":"IF(N(Worksheet!S185)=0,N(Worksheet!R185),N(Worksheet!S185))","v":0},{"$f":"IFERROR(Worksheet!U185/(Worksheet!R185+Worksheet!#REF!),0)","v":0},{"$f":"Worksheet!AC185","v":0},{"$f":"Worksheet!AB185","v":0},0,{"$f":"IF(Worksheet!AJ185=0,0,Worksheet!AJ185*10/I166)","v":0},0,null,null,null,{"$f":"IFERROR(Worksheet!V185/(Worksheet!S185+Worksheet!#REF!),0)","v":0},{"$f":"IF(Worksheet!E185=\"\",\"\",Worksheet!E185)","v":""},{"$f":"IF(Worksheet!B185=\"\",\"\",Worksheet!B185)","v":""},{"$f":"IF(Worksheet!D185=\"\",\"\",Worksheet!D185)","v":""}]
[{"$f":"IF(ISBLANK(Worksheet!F186)=FALSE,VLOOKUP(Worksheet!A186,MeasureCode_Lookup,6,FALSE),\"\")","v":""},{"$f":"Worksheet!H186","v":0},{"$f":"Worksheet!I186","v":0},{"$f":"IFERROR(IF(Worksheet!X186=0,Worksheet!W186/I167,Worksheet!X186/R167),0)","v":0},"W Controlled",null,null,{"$f":"IF(N(Worksheet!S186)=0,N(Worksheet!R186),N(Worksheet!S186))","v":0},{"$f":"IFERROR(Worksheet!U186/(Worksheet!R186+Worksheet!#REF!),0)","v":0},{"$f":"Worksheet!AC186","v":0},{"$f":"Worksheet!AB186","v":0},0,{"$f":"IF(Worksheet!AJ186=0,0,Worksheet!AJ186*10/I167)","v":0},0,null,null,null,{"$f":"IFERROR(Worksheet!V186/(Worksheet!S186+Worksheet!#REF!),0)","v":0},{"$f":"IF(Worksheet!E186=\"\",\"\",Worksheet!E186)","v":""},{"$f":"IF(Worksheet!B186=\"\",\"\",Worksheet!B186)","v":""},{"$f":"IF(Worksheet!D186=\"\",\"\",Worksheet!D186)","v":""}]
[{"$f":"IF(ISBLANK(Worksheet!F187)=FALSE,VLOOKUP(Worksheet!A187,MeasureCode_Lookup,6,FALSE),\"\")","v":""},{"$f":"Worksheet!H187","v":0},{"$f":"Worksheet!I187","v":0},{"$f":"IFERROR(IF(Worksheet!X187=0,Worksheet!W187/I168,Worksheet!X187/R168),0)","v":0},"W Controlled",null,null,{"$f":"IF(N(Worksheet!S187)=0,N(Worksheet!R187),N(Worksheet!S187))","v":0},{"$f":"IFERROR(Worksheet!U187/(Worksheet!R187+Worksheet!#REF!),0)","v":0},{"$f":"Worksheet!AC187","v":0},{"$f":"Worksheet!AB187","v":0},0,{"$f":"IF(Worksheet!AJ187=0,0,Worksheet!AJ187*10/I168)","v":0},0,null,null,null,{"$f":"IFERROR(Worksheet!V187/(Worksheet!S187+Worksheet!#REF!),0)","v":0},{"$f":"IF(Worksheet!E187=\"\",\"\",Worksheet!E187)","v":""},{"$f":"IF(Worksheet!B187=\"\",\"\",Worksheet!B187)","v":""},{"$f":"IF(Worksheet!D187=\"\",\"\",Worksheet!D187)","v":""}]
[{"$f":"IF(ISBLANK(Worksheet!F188)=FALSE,VLOOKUP(Worksheet!A188,MeasureCode_Lookup,6,FALSE),\"\")","v":""},{"$f":"Worksheet!H188","v":0},{"$f":"Worksheet!I188","v":0},{"$f":"IFERROR(IF(Worksheet!X188=0,Worksheet!W188/I169,Worksheet!X188/R169),0)","v":0},"W Controlled",null,null,{"$f":"IF(N(Worksheet!S188)=0,N(Worksheet!R188),N(Worksheet!S188))","v":0},{"$f":"IFERROR(Worksheet!U188/(Worksheet!R188+Worksheet!#REF!),0)","v":0},{"$f":"Worksheet!AC188","v":0},{"$f":"Worksheet!AB188","v":0},0,{"$f":"IF(Worksheet!AJ188=0,0,Worksheet!AJ188*10/I169)","v":0},0,null,null,null,{"$f":"IFERROR(Worksheet!V188/(Worksheet!S188+Worksheet!#REF!),0)","v":0},{"$f":"IF(Worksheet!E188=\"\",\"\",Worksheet!E188)","v":""},{"$f":"IF(Worksheet!B188=\"\",\"\",Worksheet!B188)","v":""},{"$f":"IF(Worksheet!D188=\"\",\"\",Worksheet!D188)","v":""}]
[{"$f":"IF(ISBLANK(Worksheet!F189)=FALSE,VLOOKUP(Worksheet!A189,MeasureCode_Lookup,6,FALSE),\"\")","v":""},{"$f":"Worksheet!H189","v":0},{"$f":"Worksheet!I189","v":0},{"$f":"IFERROR(IF(Worksheet!X189=0,Worksheet!W189/I170,Worksheet!X189/R170),0)","v":0},"W Controlled",null,null,{"$f":"IF(N(Worksheet!S189)=0,N(Worksheet!R189),N(Worksheet!S189))","v":0},{"$f":"IFERROR(Worksheet!U189/(Worksheet!R189+Worksheet!#REF!),0)","v":0},{"$f":"Worksheet!AC189","v":0},{"$f":"Worksheet!AB189","v":0},0,{"$f":"IF(Worksheet!AJ189=0,0,Worksheet!AJ189*10/I170)","v":0},0,null,null,null,{"$f":"IFERROR(Worksheet!V189/(Worksheet!S189+Worksheet!#REF!),0)","v":0},{"$f":"IF(Worksheet!E189=\"\",\"\",Worksheet!E189)","v":""},{"$f":"IF(Worksheet!B189=\"\",\"\",Worksheet!B189)","v":""},{"$f":"IF(Worksheet!D189=\"\",\"\",Worksheet!D189)","v":""}]
[{"$f":"IF(ISBLANK(Worksheet!F190)=FALSE,VLOOKUP(Worksheet!A190,MeasureCode_Lookup,6,FALSE),\"\")","v":""},{"$f":"Worksheet!H190","v":0},{"$f":"Worksheet!I190","v":0},{"$f":"IFERROR(IF(Worksheet!X190=0,Worksheet!W190/I171,Worksheet!X190/R171),0)","v":0},"W Controlled",null,null,{"$f":"IF(N(Worksheet!S190)=0,N(Worksheet!R190),N(Worksheet!S190))","v":0},{"$f":"IFERROR(Worksheet!U190/(Worksheet!R190+Worksheet!#REF!),0)","v":0},{"$f":"Worksheet!AC190","v":0},{"$f":"Worksheet!AB190","v":0},0,{"$f":"IF(Worksheet!AJ190=0,0,Worksheet!AJ190*10/I171)","v":0},0,null,null,null,{"$f":"IFERROR(Worksheet!V190/(Worksheet!S190+Worksheet!#REF!),0)","v":0},{"$f":"IF(Worksheet!E190=\"\",\"\",Worksheet!E190)","v":""},{"$f":"IF(Worksheet!B190=\"\",\"\",Worksheet!B190)","v":""},{"$f":"IF(Worksheet!D190=\"\",\"\",Worksheet!D190)","v":""}]
[{"$f":"IF(ISBLANK(Worksheet!F191)=FALSE,VLOOKUP(Worksheet!A191,MeasureCode_Lookup,6,FALSE),\"\")","v":""},{"$f":"Worksheet!H191","v":0},{"$f":"Worksheet!I191","v":0},{"$f":"IFERROR(IF(Worksheet!X191=0,Worksheet!W191/I172,Worksheet!X191/R172),0)","v":0},"W Controlled",null,null,{"$f":"IF(N(Worksheet!S191)=0,N(Worksheet!R191),N(Worksheet!S191))","v":0},{"$f":"IFERROR(Worksheet!U191/(Worksheet!R191+Worksheet!#REF!),0)","v":0},{"$f":"Worksheet!AC191","v":0},{"$f":"Worksheet!AB191","v":0},0,{"$f":"IF(Worksheet!AJ191=0,0,Worksheet!AJ191*10/I172)","v":0},0,null,null,null,{"$f":"IFERROR(Worksheet!V191/(Worksheet!S191+Worksheet!#REF!),0)","v":0},{"$f":"IF(Worksheet!E191=\"\",\"\",Worksheet!E191)","v":""},{"$f":"IF(Worksheet!B191=\"\",\"\",Worksheet!B191)","v":""},{"$f":"IF(Worksheet!D191=\"\",\"\",Worksheet!D191)","v":""}]
[{"$f":"IF(ISBLANK(Worksheet!F192)=FALSE,VLOOKUP(Worksheet!A192,MeasureCode_Lookup,6,FALSE),\"\")","v":""},{"$f":"Worksheet!H192","v":0},{"$f":"Worksheet!I192","v":0},{"$f":"IFERROR(IF(Worksheet!X192=0,Worksheet!W192/I173,Worksheet!X192/R173),0)","v":0},"W Controlled",null,null,{"$f":"IF(N(Worksheet!S192)=0,N(Worksheet!R192),N(Worksheet!S192))","v":0},{"$f":"IFERROR(Worksheet!U192/(Worksheet!R192+Worksheet!#REF!),0)","v":0},{"$f":"Worksheet!AC192","v":0},{"$f":"Worksheet!AB192","v":0},0,{"$f":"IF(Worksheet!AJ192=0,0,Worksheet!AJ192*10/I173)","v":0},0,null,null,null,{"$f":"IFERROR(Worksheet!V192/(Worksheet!S192+Worksheet!#REF!),0)","v":0},{"$f":"IF(Worksheet!E192=\"\",\"\",Worksheet!E192)","v":""},{"$f":"IF(Worksheet!B192=\"\",\"\",Worksheet!B192)","v":""},{"$f":"IF(Worksheet!D192=\"\",\"\",Worksheet!D192)","v":""}]
[{"$f":"IF(ISBLANK(Worksheet!F193)=FALSE,VLOOKUP(Worksheet!A193,MeasureCode_Lookup,6,FALSE),\"\")","v":""},{"$f":"Worksheet!H193","v":0},{"$f":"Worksheet!I193","v":0},{"$f":"IFERROR(IF(Worksheet!X193=0,Worksheet!W193/I174,Worksheet!X193/R174),0)","v":0},"W Controlled",null,null,{"$f":"IF(N(Worksheet!S193)=0,N(Worksheet!R193),N(Worksheet!S193))","v":0},{"$f":"IFERROR(Worksheet!U193/(Worksheet!R193+Worksheet!#REF!),0)","v":0},{"$f":"Worksheet!AC193","v":0},{"$f":"Worksheet!AB193","v":0},0,{"$f":"IF(Worksheet!AJ193=0,0,Worksheet!AJ193*10/I174)","v":0},0,null,null,null,{"$f":"IFERROR(Worksheet!V193/(Worksheet!S193+Worksheet!#REF!),0)","v":0},{"$f":"IF(Worksheet!E193=\"\",\"\",Worksheet!E193)","v":""},{"$f":"IF(Worksheet!B193=\"\",\"\",Worksheet!B193)","v":""},{"$f":"IF(Worksheet!D193=\"\",\"\",Worksheet!D193)","v":""}]
[{"$f":"IF(ISBLANK(Worksheet!F194)=FALSE,VLOOKUP(Worksheet!A194,MeasureCode_Lookup,6,FALSE),\"\")","v":""},{"$f":"Worksheet!H194","v":0},{"$f":"Worksheet!I194","v":0},{"$f":"IFERROR(IF(Worksheet!X194=0,Worksheet!W194/I175,Worksheet!X194/R175),0)","v":0},"W Controlled",null,null,{"$f":"IF(N(Worksheet!S194)=0,N(Worksheet!R194),N(Worksheet!S194))","v":0},{"$f":"IFERROR(Worksheet!U194/(Worksheet!R194+Worksheet!#REF!),0)","v":0},{"$f":"Worksheet!AC194","v":0},{"$f":"Worksheet!AB194","v":0},0,{"$f":"IF(Worksheet!AJ194=0,0,Worksheet!AJ194*10/I175)","v":0},0,null,null,null,{"$f":"IFERROR(Worksheet!V194/(Worksheet!S194+Worksheet!#REF!),0)","v":0},{"$f":"IF(Worksheet!E194=\"\",\"\",Worksheet!E194)","v":""},{"$f":"IF(Worksheet!B194=\"\",\"\",Worksheet!B194)","v":""},{"$f":"IF(Worksheet!D194=\"\",\"\",Worksheet!D194)","v":""}]
[{"$f":"IF(ISBLANK(Worksheet!F195)=FALSE,VLOOKUP(Worksheet!A195,MeasureCode_Lookup,6,FALSE),\"\")","v":""},{"$f":"Worksheet!H195","v":0},{"$f":"Worksheet!I195","v":0},{"$f":"IFERROR(IF(Worksheet!X195=0,Worksheet!W195/I176,Worksheet!X195/R176),0)","v":0},"W Controlled",null,null,{"$f":"IF(N(Worksheet!S195)=0,N(Worksheet!R195),N(Worksheet!S195))","v":0},{"$f":"IFERROR(Worksheet!U195/(Worksheet!R195+Worksheet!#REF!),0)","v":0},{"$f":"Worksheet!AC195","v":0},{"$f":"Worksheet!AB195","v":0},0,{"$f":"IF(Worksheet!AJ195=0,0,Worksheet!AJ195*10/I176)","v":0},0,null,null,null,{"$f":"IFERROR(Worksheet!V195/(Worksheet!S195+Worksheet!#REF!),0)","v":0},{"$f":"IF(Worksheet!E195=\"\",\"\",Worksheet!E195)","v":""},{"$f":"IF(Worksheet!B195=\"\",\"\",Worksheet!B195)","v":""},{"$f":"IF(Worksheet!D195=\"\",\"\",Worksheet!D195)","v":""}]
[{"$f":"IF(ISBLANK(Worksheet!F196)=FALSE,VLOOKUP(Worksheet!A196,MeasureCode_Lookup,6,FALSE),\"\")","v":""},{"$f":"Worksheet!H196","v":0},{"$f":"Worksheet!I196","v":0},{"$f":"IFERROR(IF(Worksheet!X196=0,Worksheet!W196/I177,Worksheet!X196/R177),0)","v":0},"W Controlled",null,null,{"$f":"IF(N(Worksheet!S196)=0,N(Worksheet!R196),N(Worksheet!S196))","v":0},{"$f":"IFERROR(Worksheet!U196/(Worksheet!R196+Worksheet!#REF!),0)","v":0},{"$f":"Worksheet!AC196","v":0},{"$f":"Worksheet!AB196","v":0},0,{"$f":"IF(Worksheet!AJ196=0,0,Worksheet!AJ196*10/I177)","v":0},0,null,null,null,{"$f":"IFERROR(Worksheet!V196/(Worksheet!S196+Worksheet!#REF!),0)","v":0},{"$f":"IF(Worksheet!E196=\"\",\"\",Worksheet!E196)","v":""},{"$f":"IF(Worksheet!B196=\"\",\"\",Worksheet!B196)","v":""},{"$f":"IF(Worksheet!D196=\"\",\"\",Worksheet!D196)","v":""}]
[{"$f":"IF(ISBLANK(Worksheet!F197)=FALSE,VLOOKUP(Worksheet!A197,MeasureCode_Lookup,6,FALSE),\"\")","v":""},{"$f":"Worksheet!H197","v":0},{"$f":"Worksheet!I197","v":0},{"$f":"IFERROR(IF(Worksheet!X197=0,Worksheet!W197/I178,Worksheet!X197/R178),0)","v":0},"W Controlled",null,null,{"$f":"IF(N(Worksheet!S197)=0,N(Worksheet!R197),N(Worksheet!S197))","v":0},{"$f":"IFERROR(Worksheet!U197/(Worksheet!R197+Worksheet!#REF!),0)","v":0},{"$f":"Worksheet!AC197","v":0},{"$f":"Worksheet!AB197","v":0},0,{"$f":"IF(Worksheet!AJ197=0,0,Worksheet!AJ197*10/I178)","v":0},0,null,null,null,{"$f":"IFERROR(Worksheet!V197/(Worksheet!S197+Worksheet!#REF!),0)","v":0},{"$f":"IF(Worksheet!E197=\"\",\"\",Worksheet!E197)","v":""},{"$f":"IF(Worksheet!B197=\"\",\"\",Worksheet!B197)","v":""},{"$f":"IF(Worksheet!D197=\"\",\"\",Worksheet!D197)","v":""}]
[{"$f":"IF(ISBLANK(Worksheet!F198)=FALSE,VLOOKUP(Worksheet!A198,MeasureCode_Lookup,6,FALSE),\"\")","v":""},{"$f":"Worksheet!H198","v":0},{"$f":"Worksheet!I198","v":0},{"$f":"IFERROR(IF(Worksheet!X198=0,Worksheet!W198/I179,Worksheet!X198/R179),0)","v":0},"W Controlled",null,null,{"$f":"IF(N(Worksheet!S198)=0,N(Worksheet!R198),N(Worksheet!S198))","v":0},{"$f":"IFERROR(Worksheet!U198/(Worksheet!R198+Worksheet!#REF!),0)","v":0},{"$f":"Worksheet!AC198","v":0},{"$f":"Worksheet!AB198","v":0},0,{"$f":"IF(Worksheet!AJ198=0,0,Worksheet!AJ198*10/I179)","v":0},0,null,null,null,{"$f":"IFERROR(Worksheet!V198/(Worksheet!S198+Worksheet!#REF!),0)","v":0},{"$f":"IF(Worksheet!E198=\"\",\"\",Worksheet!E198)","v":""},{"$f":"IF(Worksheet!B198=\"\",\"\",Worksheet!B198)","v":""},{"$f":"IF(Worksheet!D198=\"\",\"\",Worksheet!D198)","v":""}]
[{"$f":"IF(ISBLANK(Worksheet!F199)=FALSE,VLOOKUP(Worksheet!A199,MeasureCode_Lookup,6,FALSE),\"\")","v":""},{"$f":"Worksheet!H199","v":0},{"$f":"Worksheet!I199","v":0},{"$f":"IFERROR(IF(Worksheet!X199=0,Worksheet!W199/I180,Worksheet!X199/R180),0)","v":0},"W Controlled",null,null,{"$f":"IF(N(Worksheet!S199)=0,N(Worksheet!R199),N(Worksheet!S199))","v":0},{"$f":"IFERROR(Worksheet!U199/(Worksheet!R199+Worksheet!#REF!),0)","v":0},{"$f":"Worksheet!AC199","v":0},{"$f":"Worksheet!AB199","v":0},0,{"$f":"IF(Worksheet!AJ199=0,0,Worksheet!AJ199*10/I180)","v":0},0,null,null,null,{"$f":"IFERROR(Worksheet!V199/(Worksheet!S199+Worksheet!#REF!),0)","v":0},{"$f":"IF(Worksheet!E199=\"\",\"\",Worksheet!E199)","v":""},{"$f":"IF(Worksheet!B199=\"\",\"\",Worksheet!B199)","v":""},{"$f":"IF(Worksheet!D199=\"\",\"\",Worksheet!D199)","v":""}]
[{"$f":"IF(ISBLANK(Worksheet!F200)=FALSE,VLOOKUP(Worksheet!A200,MeasureCode_Lookup,6,FALSE),\"\")","v":""},{"$f":"Worksheet!H200","v":0},{"$f":"Worksheet!I200","v":0},{"$f":"IFERROR(IF(Worksheet!X200=0,Worksheet!W200/I181,Worksheet!X200/R181),0)","v":0},"W Controlled",null,null,{"$f":"IF(N(Worksheet!S200)=0,N(Worksheet!R200),N(Worksheet!S200))","v":0},{"$f":"IFERROR(Worksheet!U200/(Worksheet!R200+Worksheet!#REF!),0)","v":0},{"$f":"Worksheet!AC200","v":0},{"$f":"Worksheet!AB200","v":0},0,{"$f":"IF(Worksheet!AJ200=0,0,Worksheet!AJ200*10/I181)","v":0},0,null,null,null,{"$f":"IFERROR(Worksheet!V200/(Worksheet!S200+Worksheet!#REF!),0)","v":0},{"$f":"IF(Worksheet!E200=\"\",\"\",Worksheet!E200)","v":""},{"$f":"IF(Worksheet!B200=\"\",\"\",Worksheet!B200)","v":""},{"$f":"IF(Worksheet!D200=\"\",\"\",Worksheet!D200)","v":""}]
[{"$f":"IF(ISBLANK(Worksheet!F201)=FALSE,VLOOKUP(Worksheet!A201,MeasureCode_Lookup,6,FALSE),\"\")","v":""},{"$f":"Worksheet!H201","v":0},{"$f":"Worksheet!I201","v":0},{"$f":"IFERROR(IF(Worksheet!X201=0,Worksheet!W201/I182,Worksheet!X201/R182),0)","v":0},"W Controlled",null,null,{"$f":"IF(N(Worksheet!S201)=0,N(Worksheet!R201),N(Worksheet!S201))","v":0},{"$f":"IFERROR(Worksheet!U201/(Worksheet!R201+Worksheet!#REF!),0)","v":0},{"$f":"Worksheet!AC201","v":0},{"$f":"Worksheet!AB201","v":0},0,{"$f":"IF(Worksheet!AJ201=0,0,Worksheet!AJ201*10/I182)","v":0},0,null,null,null,{"$f":"IFERROR(Worksheet!V201/(Worksheet!S201+Worksheet!#REF!),0)","v":0},{"$f":"IF(Worksheet!E201=\"\",\"\",Worksheet!E201)","v":""},{"$f":"IF(Worksheet!B201=\"\",\"\",Worksheet!B201)","v":""},{"$f":"IF(Worksheet!D201=\"\",\"\",Worksheet!D201)","v":""}]
[{"$f":"IF(ISBLANK(Worksheet!F202)=FALSE,VLOOKUP(Worksheet!A202,MeasureCode_Lookup,6,FALSE),\"\")","v":""},{"$f":"Worksheet!H202","v":0},{"$f":"Worksheet!I202","v":0},{"$f":"IFERROR(IF(Worksheet!X202=0,Worksheet!W202/I183,Worksheet!X202/R183),0)","v":0},"W Controlled",null,null,{"$f":"IF(N(Worksheet!S202)=0,N(Worksheet!R202),N(Worksheet!S202))","v":0},{"$f":"IFERROR(Worksheet!U202/(Worksheet!R202+Worksheet!#REF!),0)","v":0},{"$f":"Worksheet!AC202","v":0},{"$f":"Worksheet!AB202","v":0},0,{"$f":"IF(Worksheet!AJ202=0,0,Worksheet!AJ202*10/I183)","v":0},0,null,null,null,{"$f":"IFERROR(Worksheet!V202/(Worksheet!S202+Worksheet!#REF!),0)","v":0},{"$f":"IF(Worksheet!E202=\"\",\"\",Worksheet!E202)","v":""},{"$f":"IF(Worksheet!B202=\"\",\"\",Worksheet!B202)","v":""},{"$f":"IF(Worksheet!D202=\"\",\"\",Worksheet!D202)","v":""}]
[{"$f":"IF(ISBLANK(Worksheet!F203)=FALSE,VLOOKUP(Worksheet!A203,MeasureCode_Lookup,6,FALSE),\"\")","v":""},{"$f":"Worksheet!H203","v":0},{"$f":"Worksheet!I203","v":0},{"$f":"IFERROR(IF(Worksheet!X203=0,Worksheet!W203/I184,Worksheet!X203/R184),0)","v":0},"W Controlled",null,null,{"$f":"IF(N(Worksheet!S203)=0,N(Worksheet!R203),N(Worksheet!S203))","v":0},{"$f":"IFERROR(Worksheet!U203/(Worksheet!R203+Worksheet!#REF!),0)","v":0},{"$f":"Worksheet!AC203","v":0},{"$f":"Worksheet!AB203","v":0},0,{"$f":"IF(Worksheet!AJ203=0,0,Worksheet!AJ203*10/I184)","v":0},0,null,null,null,{"$f":"IFERROR(Worksheet!V203/(Worksheet!S203+Worksheet!#REF!),0)","v":0},{"$f":"IF(Worksheet!E203=\"\",\"\",Worksheet!E203)","v":""},{"$f":"IF(Worksheet!B203=\"\",\"\",Worksheet!B203)","v":""},{"$f":"IF(Worksheet!D203=\"\",\"\",Worksheet!D203)","v":""}]
[{"$f":"IF(ISBLANK(Worksheet!F204)=FALSE,VLOOKUP(Worksheet!A204,MeasureCode_Lookup,6,FALSE),\"\")","v":""},{"$f":"Worksheet!H204","v":0},{"$f":"Worksheet!I204","v":0},{"$f":"IFERROR(IF(Worksheet!X204=0,Worksheet!W204/I185,Worksheet!X204/R185),0)","v":0},"W Controlled",null,null,{"$f":"IF(N(Worksheet!S204)=0,N(Worksheet!R204),N(Worksheet!S204))","v":0},{"$f":"IFERROR(Worksheet!U204/(Worksheet!R204+Worksheet!#REF!),0)","v":0},{"$f":"Worksheet!AC204","v":0},{"$f":"Worksheet!AB204","v":0},0,{"$f":"IF(Worksheet!AJ204=0,0,Worksheet!AJ204*10/I185)","v":0},0,null,null,null,{"$f":"IFERROR(Worksheet!V204/(Worksheet!S204+Worksheet!#REF!),0)","v":0},{"$f":"IF(Worksheet!E204=\"\",\"\",Worksheet!E204)","v":""},{"$f":"IF(Worksheet!B204=\"\",\"\",Worksheet!B204)","v":""},{"$f":"IF(Worksheet!D204=\"\",\"\",Worksheet!D204)","v":""}]
[{"$f":"IF(ISBLANK(Worksheet!F205)=FALSE,VLOOKUP(Worksheet!A205,MeasureCode_Lookup,6,FALSE),\"\")","v":""},{"$f":"Worksheet!H205","v":0},{"$f":"Worksheet!I205","v":0},{"$f":"IFERROR(IF(Worksheet!X205=0,Worksheet!W205/I186,Worksheet!X205/R186),0)","v":0},"W Controlled",null,null,{"$f":"IF(N(Worksheet!S205)=0,N(Worksheet!R205),N(Worksheet!S205))","v":0},{"$f":"IFERROR(Worksheet!U205/(Worksheet!R205+Worksheet!#REF!),0)","v":0},{"$f":"Worksheet!AC205","v":0},{"$f":"Worksheet!AB205","v":0},0,{"$f":"IF(Worksheet!AJ205=0,0,Worksheet!AJ205*10/I186)","v":0},0,null,null,null,{"$f":"IFERROR(Worksheet!V205/(Worksheet!S205+Worksheet!#REF!),0)","v":0},{"$f":"IF(Worksheet!E205=\"\",\"\",Worksheet!E205)","v":""},{"$f":"IF(Worksheet!B205=\"\",\"\",Worksheet!B205)","v":""},{"$f":"IF(Worksheet!D205=\"\",\"\",Worksheet!D205)","v":""}]
[{"$f":"IF(ISBLANK(Worksheet!F206)=FALSE,VLOOKUP(Worksheet!A206,MeasureCode_Lookup,6,FALSE),\"\")","v":""},{"$f":"Worksheet!H206","v":0},{"$f":"Worksheet!I206","v":0},{"$f":"IFERROR(IF(Worksheet!X206=0,Worksheet!W206/I187,Worksheet!X206/R187),0)","v":0},"W Controlled",null,null,{"$f":"IF(N(Worksheet!S206)=0,N(Worksheet!R206),N(Worksheet!S206))","v":0},{"$f":"IFERROR(Worksheet!U206/(Worksheet!R206+Worksheet!#REF!),0)","v":0},{"$f":"Worksheet!AC206","v":0},{"$f":"Worksheet!AB206","v":0},0,{"$f":"IF(Worksheet!AJ206=0,0,Worksheet!AJ206*10/I187)","v":0},0,null,null,null,{"$f":"IFERROR(Worksheet!V206/(Worksheet!S206+Worksheet!#REF!),0)","v":0},{"$f":"IF(Worksheet!E206=\"\",\"\",Worksheet!E206)","v":""},{"$f":"IF(Worksheet!B206=\"\",\"\",Worksheet!B206)","v":""},{"$f":"IF(Worksheet!D206=\"\",\"\",Worksheet!D206)","v":""}]
[{"$f":"IF(ISBLANK(Worksheet!F207)=FALSE,VLOOKUP(Worksheet!A207,MeasureCode_Lookup,6,FALSE),\"\")","v":""},{"$f":"Worksheet!H207","v":0},{"$f":"Worksheet!I207","v":0},{"$f":"IFERROR(IF(Worksheet!X207=0,Worksheet!W207/I188,Worksheet!X207/R188),0)","v":0},"W Controlled",null,null,{"$f":"IF(N(Worksheet!S207)=0,N(Worksheet!R207),N(Worksheet!S207))","v":0},{"$f":"IFERROR(Worksheet!U207/(Worksheet!R207+Worksheet!#REF!),0)","v":0},{"$f":"Worksheet!AC207","v":0},{"$f":"Worksheet!AB207","v":0},0,{"$f":"IF(Worksheet!AJ207=0,0,Worksheet!AJ207*10/I188)","v":0},0,null,null,null,{"$f":"IFERROR(Worksheet!V207/(Worksheet!S207+Worksheet!#REF!),0)","v":0},{"$f":"IF(Worksheet!E207=\"\",\"\",Worksheet!E207)","v":""},{"$f":"IF(Worksheet!B207=\"\",\"\",Worksheet!B207)","v":""},{"$f":"IF(Worksheet!D207=\"\",\"\",Worksheet!D207)","v":""}]
[{"$f":"IF(ISBLANK(Worksheet!F208)=FALSE,VLOOKUP(Worksheet!A208,MeasureCode_Lookup,6,FALSE),\"\")","v":""},{"$f":"Worksheet!H208","v":0},{"$f":"Worksheet!I208","v":0},{"$f":"IFERROR(IF(Worksheet!X208=0,Worksheet!W208/I189,Worksheet!X208/R189),0)","v":0},"W Controlled",null,null,{"$f":"IF(N(Worksheet!S208)=0,N(Worksheet!R208),N(Worksheet!S208))","v":0},{"$f":"IFERROR(Worksheet!U208/(Worksheet!R208+Worksheet!#REF!),0)","v":0},{"$f":"Worksheet!AC208","v":0},{"$f":"Worksheet!AB208","v":0},0,{"$f":"IF(Worksheet!AJ208=0,0,Worksheet!AJ208*10/I189)","v":0},0,null,null,null,{"$f":"IFERROR(Worksheet!V208/(Worksheet!S208+Worksheet!#REF!),0)","v":0},{"$f":"IF(Worksheet!E208=\"\",\"\",Worksheet!E208)","v":""},{"$f":"IF(Worksheet!B208=\"\",\"\",Worksheet!B208)","v":""},{"$f":"IF(Worksheet!D208=\"\",\"\",Worksheet!D208)","v":""}]
[{"$f":"IF(ISBLANK(Worksheet!F209)=FALSE,VLOOKUP(Worksheet!A209,MeasureCode_Lookup,6,FALSE),\"\")","v":""},{"$f":"Worksheet!H209","v":0},{"$f":"Worksheet!I209","v":0},{"$f":"IFERROR(IF(Worksheet!X209=0,Worksheet!W209/I190,Worksheet!X209/R190),0)","v":0},"W Controlled",null,null,{"$f":"IF(N(Worksheet!S209)=0,N(Worksheet!R209),N(Worksheet!S209))","v":0},{"$f":"IFERROR(Worksheet!U209/(Worksheet!R209+Worksheet!#REF!),0)","v":0},{"$f":"Worksheet!AC209","v":0},{"$f":"Worksheet!AB209","v":0},0,{"$f":"IF(Worksheet!AJ209=0,0,Worksheet!AJ209*10/I190)","v":0},0,null,null,null,{"$f":"IFERROR(Worksheet!V209/(Worksheet!S209+Worksheet!#REF!),0)","v":0},{"$f":"IF(Worksheet!E209=\"\",\"\",Worksheet!E209)","v":""},{"$f":"IF(Worksheet!B209=\"\",\"\",Worksheet!B209)","v":""},{"$f":"IF(Worksheet!D209=\"\",\"\",Worksheet!D209)","v":""}]
[{"$f":"IF(ISBLANK(Worksheet!F210)=FALSE,VLOOKUP(Worksheet!A210,MeasureCode_Lookup,6,FALSE),\"\")","v":""},{"$f":"Worksheet!H210","v":0},{"$f":"Worksheet!I210","v":0},{"$f":"IFERROR(IF(Worksheet!X210=0,Worksheet!W210/I191,Worksheet!X210/R191),0)","v":0},"W Controlled",null,null,{"$f":"IF(N(Worksheet!S210)=0,N(Worksheet!R210),N(Worksheet!S210))","v":0},{"$f":"IFERROR(Worksheet!U210/(Worksheet!R210+Worksheet!#REF!),0)","v":0},{"$f":"Worksheet!AC210","v":0},{"$f":"Worksheet!AB210","v":0},0,{"$f":"IF(Worksheet!AJ210=0,0,Worksheet!AJ210*10/I191)","v":0},0,null,null,null,{"$f":"IFERROR(Worksheet!V210/(Worksheet!S210+Worksheet!#REF!),0)","v":0},{"$f":"IF(Worksheet!E210=\"\",\"\",Worksheet!E210)","v":""},{"$f":"IF(Worksheet!B210=\"\",\"\",Worksheet!B210)","v":""},{"$f":"IF(Worksheet!D210=\"\",\"\",Worksheet!D210)","v":""}]
[{"$f":"IF(ISBLANK(Worksheet!F211)=FALSE,VLOOKUP(Worksheet!A211,MeasureCode_Lookup,6,FALSE),\"\")","v":""},{"$f":"Worksheet!H211","v":0},{"$f":"Worksheet!I211","v":0},{"$f":"IFERROR(IF(Worksheet!X211=0,Worksheet!W211/I192,Worksheet!X211/R192),0)","v":0},"W Controlled",null,null,{"$f":"IF(N(Worksheet!S211)=0,N(Worksheet!R211),N(Worksheet!S211))","v":0},{"$f":"IFERROR(Worksheet!U211/(Worksheet!R211+Worksheet!#REF!),0)","v":0},{"$f":"Worksheet!AC211","v":0},{"$f":"Worksheet!AB211","v":0},0,{"$f":"IF(Worksheet!AJ211=0,0,Worksheet!AJ211*10/I192)","v":0},0,null,null,null,{"$f":"IFERROR(Worksheet!V211/(Worksheet!S211+Worksheet!#REF!),0)","v":0},{"$f":"IF(Worksheet!E211=\"\",\"\",Worksheet!E211)","v":""},{"$f":"IF(Worksheet!B211=\"\",\"\",Worksheet!B211)","v":""},{"$f":"IF(Worksheet!D211=\"\",\"\",Worksheet!D211)","v":""}]
[{"$f":"IF(ISBLANK(Worksheet!F212)=FALSE,VLOOKUP(Worksheet!A212,MeasureCode_Lookup,6,FALSE),\"\")","v":""},{"$f":"Worksheet!H212","v":0},{"$f":"Worksheet!I212","v":0},{"$f":"IFERROR(IF(Worksheet!X212=0,Worksheet!W212/I193,Worksheet!X212/R193),0)","v":0},"W Controlled",null,null,{"$f":"IF(N(Worksheet!S212)=0,N(Worksheet!R212),N(Worksheet!S212))","v":0},{"$f":"IFERROR(Worksheet!U212/(Worksheet!R212+Worksheet!#REF!),0)","v":0},{"$f":"Worksheet!AC212","v":0},{"$f":"Worksheet!AB212","v":0},0,{"$f":"IF(Worksheet!AJ212=0,0,Worksheet!AJ212*10/I193)","v":0},0,null,null,null,{"$f":"IFERROR(Worksheet!V212/(Worksheet!S212+Worksheet!#REF!),0)","v":0},{"$f":"IF(Worksheet!E212=\"\",\"\",Worksheet!E212)","v":""},{"$f":"IF(Worksheet!B212=\"\",\"\",Worksheet!B212)","v":""},{"$f":"IF(Worksheet!D212=\"\",\"\",Worksheet!D212)","v":""}]
[{"$f":"IF(ISBLANK(Worksheet!F213)=FALSE,VLOOKUP(Worksheet!A213,MeasureCode_Lookup,6,FALSE),\"\")","v":""},{"$f":"Worksheet!H213","v":0},{"$f":"Worksheet!I213","v":0},{"$f":"IFERROR(IF(Worksheet!X213=0,Worksheet!W213/I194,Worksheet!X213/R194),0)","v":0},"W Controlled",null,null,{"$f":"IF(N(Worksheet!S213)=0,N(Worksheet!R213),N(Worksheet!S213))","v":0},{"$f":"IFERROR(Worksheet!U213/(Worksheet!R213+Worksheet!#REF!),0)","v":0},{"$f":"Worksheet!AC213","v":0},{"$f":"Worksheet!AB213","v":0},0,{"$f":"IF(Worksheet!AJ213=0,0,Worksheet!AJ213*10/I194)","v":0},0,null,null,null,{"$f":"IFERROR(Worksheet!V213/(Worksheet!S213+Worksheet!#REF!),0)","v":0},{"$f":"IF(Worksheet!E213=\"\",\"\",Worksheet!E213)","v":""},{"$f":"IF(Worksheet!B213=\"\",\"\",Worksheet!B213)","v":""},{"$f":"IF(Worksheet!D213=\"\",\"\",Worksheet!D213)","v":""}]
[{"$f":"IF(ISBLANK(Worksheet!F214)=FALSE,VLOOKUP(Worksheet!A214,MeasureCode_Lookup,6,FALSE),\"\")","v":""},{"$f":"Worksheet!H214","v":0},{"$f":"Worksheet!I214","v":0},{"$f":"IFERROR(IF(Worksheet!X214=0,Worksheet!W214/I195,Worksheet!X214/R195),0)","v":0},"W Controlled",null,null,{"$f":"IF(N(Worksheet!S214)=0,N(Worksheet!R214),N(Worksheet!S214))","v":0},{"$f":"IFERROR(Worksheet!U214/(Worksheet!R214+Worksheet!#REF!),0)","v":0},{"$f":"Worksheet!AC214","v":0},{"$f":"Worksheet!AB214","v":0},{"$f":"J195*8","v":0},{"$f":"IF(Worksheet!AJ214=0,0,Worksheet!AJ214*10/I195)","v":0},{"$f":"M195*8","v":0},null,null,null,{"$f":"IFERROR(Worksheet!V214/(Worksheet!S214+Worksheet!#REF!),0)","v":0},{"$f":"IF(Worksheet!E214=\"\",\"\",Worksheet!E214)","v":""},{"$f":"IF(Worksheet!B214=\"\",\"\",Worksheet!B214)","v":""},{"$f":"IF(Worksheet!D214=\"\",\"\",Worksheet!D214)","v":""}]
[{"$f":"IF(ISBLANK(Worksheet!F215)=FALSE,VLOOKUP(Worksheet!A215,MeasureCode_Lookup,6,FALSE),\"\")","v":""},{"$f":"Worksheet!H215","v":0},{"$f":"Worksheet!I215","v":0},{"$f":"IFERROR(IF(Worksheet!X215=0,Worksheet!W215/I196,Worksheet!X215/R196),0)","v":0},"W Controlled",null,null,{"$f":"IF(N(Worksheet!S215)=0,N(Worksheet!R215),N(Worksheet!S215))","v":0},{"$f":"IFERROR(Worksheet!U215/(Worksheet!R215+Worksheet!#REF!),0)","v":0},{"$f":"Worksheet!AC215","v":0},{"$f":"Worksheet!AB215","v":0},0,{"$f":"IF(Worksheet!AJ215=0,0,Worksheet!AJ215*10/I196)","v":0},0,null,null,null,{"$f":"IFERROR(Worksheet!V215/(Worksheet!S215+Worksheet!#REF!),0)","v":0},{"$f":"IF(Worksheet!E215=\"\",\"\",Worksheet!E215)","v":""},{"$f":"IF(Worksheet!B215=\"\",\"\",Worksheet!B215)","v":""},{"$f":"IF(Worksheet!D215=\"\",\"\",Worksheet!D215)","v":""}]
[{"$f":"IF(ISBLANK(Worksheet!F216)=FALSE,VLOOKUP(Worksheet!A216,MeasureCode_Lookup,6,FALSE),\"\")","v":""},{"$f":"Worksheet!H216","v":0},{"$f":"Worksheet!I216","v":0},{"$f":"IFERROR(IF(Worksheet!X216=0,Worksheet!W216/I197,Worksheet!X216/R197),0)","v":0},"W Controlled",null,null,{"$f":"IF(N(Worksheet!S216)=0,N(Worksheet!R216),N(Worksheet!S216))","v":0},{"$f":"IFERROR(Worksheet!U216/(Worksheet!R216+Worksheet!#REF!),0)","v":0},{"$f":"Worksheet!AC216","v":0},{"$f":"Worksheet!AB216","v":0},0,{"$f":"IF(Worksheet!AJ216=0,0,Worksheet!AJ216*10/I197)","v":0},0,null,null,null,{"$f":"IFERROR(Worksheet!V216/(Worksheet!S216+Worksheet!#REF!),0)","v":0},{"$f":"IF(Worksheet!E216=\"\",\"\",Worksheet!E216)","v":""},{"$f":"IF(Worksheet!B216=\"\",\"\",Worksheet!B216)","v":""},{"$f":"IF(Worksheet!D216=\"\",\"\",Worksheet!D216)","v":""}]
[{"$f":"IF(ISBLANK(Worksheet!F217)=FALSE,VLOOKUP(Worksheet!A217,MeasureCode_Lookup,6,FALSE),\"\")","v":""},{"$f":"Worksheet!H217","v":0},{"$f":"Worksheet!I217","v":0},{"$f":"IFERROR(IF(Worksheet!X217=0,Worksheet!W217/I198,Worksheet!X217/R198),0)","v":0},"W Controlled",null,null,{"$f":"IF(N(Worksheet!S217)=0,N(Worksheet!R217),N(Worksheet!S217))","v":0},{"$f":"IFERROR(Worksheet!U217/(Worksheet!R217+Worksheet!#REF!),0)","v":0},{"$f":"Worksheet!AC217","v":0},{"$f":"Worksheet!AB217","v":0},0,{"$f":"IF(Worksheet!AJ217=0,0,Worksheet!AJ217*10/I198)","v":0},0,null,null,null,{"$f":"IFERROR(Worksheet!V217/(Worksheet!S217+Worksheet!#REF!),0)","v":0},{"$f":"IF(Worksheet!E217=\"\",\"\",Worksheet!E217)","v":""},{"$f":"IF(Worksheet!B217=\"\",\"\",Worksheet!B217)","v":""},{"$f":"IF(Worksheet!D217=\"\",\"\",Worksheet!D217)","v":""}]
[{"$f":"IF(ISBLANK(Worksheet!F218)=FALSE,VLOOKUP(Worksheet!A218,MeasureCode_Lookup,6,FALSE),\"\")","v":""},{"$f":"Worksheet!H218","v":0},{"$f":"Worksheet!I218","v":0},{"$f":"IFERROR(IF(Worksheet!X218=0,Worksheet!W218/I199,Worksheet!X218/R199),0)","v":0},"W Controlled",null,null,{"$f":"IF(N(Worksheet!S218)=0,N(Worksheet!R218),N(Worksheet!S218))","v":0},{"$f":"IFERROR(Worksheet!U218/(Worksheet!R218+Worksheet!#REF!),0)","v":0},{"$f":"Worksheet!AC218","v":0},{"$f":"Worksheet!AB218","v":0},0,{"$f":"IF(Worksheet!AJ218=0,0,Worksheet!AJ218*10/I199)","v":0},0,null,null,null,{"$f":"IFERROR(Worksheet!V218/(Worksheet!S218+Worksheet!#REF!),0)","v":0},{"$f":"IF(Worksheet!E218=\"\",\"\",Worksheet!E218)","v":""},{"$f":"IF(Worksheet!B218=\"\",\"\",Worksheet!B218)","v":""},{"$f":"IF(Worksheet!D218=\"\",\"\",Worksheet!D218)","v":""}]
[{"$f":"IF(ISBLANK(Worksheet!F219)=FALSE,VLOOKUP(Worksheet!A219,MeasureCode_Lookup,6,FALSE),\"\")","v":""},{"$f":"Worksheet!H219","v":0},{"$f":"Worksheet!I219","v":0},{"$f":"IFERROR(IF(Worksheet!X219=0,Worksheet!W219/I200,Worksheet!X219/R200),0)","v":0},"W Controlled",null,null,{"$f":"IF(N(Worksheet!S219)=0,N(Worksheet!R219),N(Worksheet!S219))","v":0},{"$f":"IFERROR(Worksheet!U219/(Worksheet!R219+Worksheet!#REF!),0)","v":0},{"$f":"Worksheet!AC219","v":0},{"$f":"Worksheet!AB219","v":0},0,{"$f":"IF(Worksheet!AJ219=0,0,Worksheet!AJ219*10/I200)","v":0},0,null,null,null,{"$f":"IFERROR(Worksheet!V219/(Worksheet!S219+Worksheet!#REF!),0)","v":0},{"$f":"IF(Worksheet!E219=\"\",\"\",Worksheet!E219)","v":""},{"$f":"IF(Worksheet!B219=\"\",\"\",Worksheet!B219)","v":""},{"$f":"IF(Worksheet!D219=\"\",\"\",Worksheet!D219)","v":""}]
[{"$f":"IF(ISBLANK(Worksheet!F220)=FALSE,VLOOKUP(Worksheet!A220,MeasureCode_Lookup,6,FALSE),\"\")","v":""},{"$f":"Worksheet!H220","v":0},{"$f":"Worksheet!I220","v":0},{"$f":"IFERROR(IF(Worksheet!X220=0,Worksheet!W220/I201,Worksheet!X220/R201),0)","v":0},"W Controlled",null,null,{"$f":"IF(N(Worksheet!S220)=0,N(Worksheet!R220),N(Worksheet!S220))","v":0},{"$f":"IFERROR(Worksheet!U220/(Worksheet!R220+Worksheet!#REF!),0)","v":0},{"$f":"Worksheet!AC220","v":0},{"$f":"Worksheet!AB220","v":0},0,{"$f":"IF(Worksheet!AJ220=0,0,Worksheet!AJ220*10/I201)","v":0},0,null,null,null,{"$f":"IFERROR(Worksheet!V220/(Worksheet!S220+Worksheet!#REF!),0)","v":0},{"$f":"IF(Worksheet!E220=\"\",\"\",Worksheet!E220)","v":""},{"$f":"IF(Worksheet!B220=\"\",\"\",Worksheet!B220)","v":""},{"$f":"IF(Worksheet!D220=\"\",\"\",Worksheet!D220)","v":""}]
[{"$f":"IF(ISBLANK(Worksheet!F221)=FALSE,VLOOKUP(Worksheet!A221,MeasureCode_Lookup,6,FALSE),\"\")","v":""},{"$f":"Worksheet!H221","v":0},{"$f":"Worksheet!I221","v":0},{"$f":"IFERROR(IF(Worksheet!X221=0,Worksheet!W221/I202,Worksheet!X221/R202),0)","v":0},"W Controlled",null,null,{"$f":"IF(N(Worksheet!S221)=0,N(Worksheet!R221),N(Worksheet!S221))","v":0},{"$f":"IFERROR(Worksheet!U221/(Worksheet!R221+Worksheet!#REF!),0)","v":0},{"$f":"Worksheet!AC221","v":0},{"$f":"Worksheet!AB221","v":0},0,{"$f":"IF(Worksheet!AJ221=0,0,Worksheet!AJ221*10/I202)","v":0},0,null,null,null,{"$f":"IFERROR(Worksheet!V221/(Worksheet!S221+Worksheet!#REF!),0)","v":0},{"$f":"IF(Worksheet!E221=\"\",\"\",Worksheet!E221)","v":""},{"$f":"IF(Worksheet!B221=\"\",\"\",Worksheet!B221)","v":""},{"$f":"IF(Worksheet!D221=\"\",\"\",Worksheet!D221)","v":""}]
[{"$f":"IF(ISBLANK(Worksheet!F222)=FALSE,VLOOKUP(Worksheet!A222,MeasureCode_Lookup,6,FALSE),\"\")","v":""},{"$f":"Worksheet!H222","v":0},{"$f":"Worksheet!I222","v":0},{"$f":"IFERROR(IF(Worksheet!X222=0,Worksheet!W222/I203,Worksheet!X222/R203),0)","v":0},"W Controlled",null,null,{"$f":"IF(N(Worksheet!S222)=0,N(Worksheet!R222),N(Worksheet!S222))","v":0},{"$f":"IFERROR(Worksheet!U222/(Worksheet!R222+Worksheet!#REF!),0)","v":0},{"$f":"Worksheet!AC222","v":0},{"$f":"Worksheet!AB222","v":0},0,{"$f":"IF(Worksheet!AJ222=0,0,Worksheet!AJ222*10/I203)","v":0},0,null,null,null,{"$f":"IFERROR(Worksheet!V222/(Worksheet!S222+Worksheet!#REF!),0)","v":0},{"$f":"IF(Worksheet!E222=\"\",\"\",Worksheet!E222)","v":""},{"$f":"IF(Worksheet!B222=\"\",\"\",Worksheet!B222)","v":""},{"$f":"IF(Worksheet!D222=\"\",\"\",Worksheet!D222)","v":""}]
[{"$f":"IF(ISBLANK(Worksheet!F223)=FALSE,VLOOKUP(Worksheet!A223,MeasureCode_Lookup,6,FALSE),\"\")","v":""},{"$f":"Worksheet!H223","v":0},{"$f":"Worksheet!I223","v":0},{"$f":"IFERROR(IF(Worksheet!X223=0,Worksheet!W223/I204,Worksheet!X223/R204),0)","v":0},"W Controlled",null,null,{"$f":"IF(N(Worksheet!S223)=0,N(Worksheet!R223),N(Worksheet!S223))","v":0},{"$f":"IFERROR(Worksheet!U223/(Worksheet!R223+Worksheet!#REF!),0)","v":0},{"$f":"Worksheet!AC223","v":0},{"$f":"Worksheet!AB223","v":0},0,{"$f":"IF(Worksheet!AJ223=0,0,Worksheet!AJ223*10/I204)","v":0},0,null,null,null,{"$f":"IFERROR(Worksheet!V223/(Worksheet!S223+Worksheet!#REF!),0)","v":0},{"$f":"IF(Worksheet!E223=\"\",\"\",Worksheet!E223)","v":""},{"$f":"IF(Worksheet!B223=\"\",\"\",Worksheet!B223)","v":""},{"$f":"IF(Worksheet!D223=\"\",\"\",Worksheet!D223)","v":""}]
[{"$f":"IF(ISBLANK(Worksheet!F224)=FALSE,VLOOKUP(Worksheet!A224,MeasureCode_Lookup,6,FALSE),\"\")","v":""},{"$f":"Worksheet!H224","v":0},{"$f":"Worksheet!I224","v":0},{"$f":"IFERROR(IF(Worksheet!X224=0,Worksheet!W224/I205,Worksheet!X224/R205),0)","v":0},"W Controlled",null,null,{"$f":"IF(N(Worksheet!S224)=0,N(Worksheet!R224),N(Worksheet!S224))","v":0},{"$f":"IFERROR(Worksheet!U224/(Worksheet!R224+Worksheet!#REF!),0)","v":0},{"$f":"Worksheet!AC224","v":0},{"$f":"Worksheet!AB224","v":0},0,{"$f":"IF(Worksheet!AJ224=0,0,Worksheet!AJ224*10/I205)","v":0},0,null,null,null,{"$f":"IFERROR(Worksheet!V224/(Worksheet!S224+Worksheet!#REF!),0)","v":0},{"$f":"IF(Worksheet!E224=\"\",\"\",Worksheet!E224)","v":""},{"$f":"IF(Worksheet!B224=\"\",\"\",Worksheet!B224)","v":""},{"$f":"IF(Worksheet!D224=\"\",\"\",Worksheet!D224)","v":""}]
[{"$f":"IF(ISBLANK(Worksheet!F225)=FALSE,VLOOKUP(Worksheet!A225,MeasureCode_Lookup,6,FALSE),\"\")","v":""},{"$f":"Worksheet!H225","v":0},{"$f":"Worksheet!I225","v":0},{"$f":"IFERROR(IF(Worksheet!X225=0,Worksheet!W225/I206,Worksheet!X225/R206),0)","v":0},"W Controlled",null,null,{"$f":"IF(N(Worksheet!S225)=0,N(Worksheet!R225),N(Worksheet!S225))","v":0},{"$f":"IFERROR(Worksheet!U225/(Worksheet!R225+Worksheet!#REF!),0)","v":0},{"$f":"Worksheet!AC225","v":0},{"$f":"Worksheet!AB225","v":0},0,{"$f":"IF(Worksheet!AJ225=0,0,Worksheet!AJ225*10/I206)","v":0},0,null,null,null,{"$f":"IFERROR(Worksheet!V225/(Worksheet!S225+Worksheet!#REF!),0)","v":0},{"$f":"IF(Worksheet!E225=\"\",\"\",Worksheet!E225)","v":""},{"$f":"IF(Worksheet!B225=\"\",\"\",Worksheet!B225)","v":""},{"$f":"IF(Worksheet!D225=\"\",\"\",Worksheet!D225)","v":""}]
[{"$f":"IF(ISBLANK(Worksheet!F226)=FALSE,VLOOKUP(Worksheet!A226,MeasureCode_Lookup,6,FALSE),\"\")","v":""},{"$f":"Worksheet!H226","v":0},{"$f":"Worksheet!I226","v":0},{"$f":"IFERROR(IF(Worksheet!X226=0,Worksheet!W226/I207,Worksheet!X226/R207),0)","v":0},"W Controlled",null,null,{"$f":"IF(N(Worksheet!S226)=0,N(Worksheet!R226),N(Worksheet!S226))","v":0},{"$f":"IFERROR(Worksheet!U226/(Worksheet!R226+Worksheet!#REF!),0)","v":0},{"$f":"Worksheet!AC226","v":0},{"$f":"Worksheet!AB226","v":0},0,{"$f":"IF(Worksheet!AJ226=0,0,Worksheet!AJ226*10/I207)","v":0},0,null,null,null,{"$f":"IFERROR(Worksheet!V226/(Worksheet!S226+Worksheet!#REF!),0)","v":0},{"$f":"IF(Worksheet!E226=\"\",\"\",Worksheet!E226)","v":""},{"$f":"IF(Worksheet!B226=\"\",\"\",Worksheet!B226)","v":""},{"$f":"IF(Worksheet!D226=\"\",\"\",Worksheet!D226)","v":""}]
[{"$f":"IF(ISBLANK(Worksheet!F227)=FALSE,VLOOKUP(Worksheet!A227,MeasureCode_Lookup,6,FALSE),\"\")","v":""},{"$f":"Worksheet!H227","v":0},{"$f":"Worksheet!I227","v":0},{"$f":"IFERROR(IF(Worksheet!X227=0,Worksheet!W227/I208,Worksheet!X227/R208),0)","v":0},"W Controlled",null,null,{"$f":"IF(N(Worksheet!S227)=0,N(Worksheet!R227),N(Worksheet!S227))","v":0},{"$f":"IFERROR(Worksheet!U227/(Worksheet!R227+Worksheet!#REF!),0)","v":0},{"$f":"Worksheet!AC227","v":0},{"$f":"Worksheet!AB227","v":0},0,{"$f":"IF(Worksheet!AJ227=0,0,Worksheet!AJ227*10/I208)","v":0},0,null,null,null,{"$f":"IFERROR(Worksheet!V227/(Worksheet!S227+Worksheet!#REF!),0)","v":0},{"$f":"IF(Worksheet!E227=\"\",\"\",Worksheet!E227)","v":""},{"$f":"IF(Worksheet!B227=\"\",\"\",Worksheet!B227)","v":""},{"$f":"IF(Worksheet!D227=\"\",\"\",Worksheet!D227)","v":""}]
[{"$f":"IF(ISBLANK(Worksheet!F228)=FALSE,VLOOKUP(Worksheet!A228,MeasureCode_Lookup,6,FALSE),\"\")","v":""},{"$f":"Worksheet!H228","v":0},{"$f":"Worksheet!I228","v":0},{"$f":"IFERROR(IF(Worksheet!X228=0,Worksheet!W228/I209,Worksheet!X228/R209),0)","v":0},"W Controlled",null,null,{"$f":"IF(N(Worksheet!S228)=0,N(Worksheet!R228),N(Worksheet!S228))","v":0},{"$f":"IFERROR(Worksheet!U228/(Worksheet!R228+Worksheet!#REF!),0)","v":0},{"$f":"Worksheet!AC228","v":0},{"$f":"Worksheet!AB228","v":0},0,{"$f":"IF(Worksheet!AJ228=0,0,Worksheet!AJ228*10/I209)","v":0},0,null,null,null,{"$f":"IFERROR(Worksheet!V228/(Worksheet!S228+Worksheet!#REF!),0)","v":0},{"$f":"IF(Worksheet!E228=\"\",\"\",Worksheet!E228)","v":""},{"$f":"IF(Worksheet!B228=\"\",\"\",Worksheet!B228)","v":""},{"$f":"IF(Worksheet!D228=\"\",\"\",Worksheet!D228)","v":""}]
[{"$f":"IF(ISBLANK(Worksheet!F229)=FALSE,VLOOKUP(Worksheet!A229,MeasureCode_Lookup,6,FALSE),\"\")","v":""},{"$f":"Worksheet!H229","v":0},{"$f":"Worksheet!I229","v":0},{"$f":"IFERROR(IF(Worksheet!X229=0,Worksheet!W229/I210,Worksheet!X229/R210),0)","v":0},"W Controlled",null,null,{"$f":"IF(N(Worksheet!S229)=0,N(Worksheet!R229),N(Worksheet!S229))","v":0},{"$f":"IFERROR(Worksheet!U229/(Worksheet!R229+Worksheet!#REF!),0)","v":0},{"$f":"Worksheet!AC229","v":0},{"$f":"Worksheet!AB229","v":0},0,{"$f":"IF(Worksheet!AJ229=0,0,Worksheet!AJ229*10/I210)","v":0},0,null,null,null,{"$f":"IFERROR(Worksheet!V229/(Worksheet!S229+Worksheet!#REF!),0)","v":0},{"$f":"IF(Worksheet!E229=\"\",\"\",Worksheet!E229)","v":""},{"$f":"IF(Worksheet!B229=\"\",\"\",Worksheet!B229)","v":""},{"$f":"IF(Worksheet!D229=\"\",\"\",Worksheet!D229)","v":""}]
[{"$f":"IF(ISBLANK(Worksheet!F230)=FALSE,VLOOKUP(Worksheet!A230,MeasureCode_Lookup,6,FALSE),\"\")","v":""},{"$f":"Worksheet!H230","v":0},{"$f":"Worksheet!I230","v":0},{"$f":"IFERROR(IF(Worksheet!X230=0,Worksheet!W230/I211,Worksheet!X230/R211),0)","v":0},"W Controlled",null,null,{"$f":"IF(N(Worksheet!S230)=0,N(Worksheet!R230),N(Worksheet!S230))","v":0},{"$f":"IFERROR(Worksheet!U230/(Worksheet!R230+Worksheet!#REF!),0)","v":0},{"$f":"Worksheet!AC230","v":0},{"$f":"Worksheet!AB230","v":0},0,{"$f":"IF(Worksheet!AJ230=0,0,Worksheet!AJ230*10/I211)","v":0},0,null,null,null,{"$f":"IFERROR(Worksheet!V230/(Worksheet!S230+Worksheet!#REF!),0)","v":0},{"$f":"IF(Worksheet!E230=\"\",\"\",Worksheet!E230)","v":""},{"$f":"IF(Worksheet!B230=\"\",\"\",Worksheet!B230)","v":""},{"$f":"IF(Worksheet!D230=\"\",\"\",Worksheet!D230)","v":""}]
[{"$f":"IF(ISBLANK(Worksheet!F231)=FALSE,VLOOKUP(Worksheet!A231,MeasureCode_Lookup,6,FALSE),\"\")","v":""},{"$f":"Worksheet!H231","v":0},{"$f":"Worksheet!I231","v":0},{"$f":"IFERROR(IF(Worksheet!X231=0,Worksheet!W231/I212,Worksheet!X231/R212),0)","v":0},"W Controlled",null,null,{"$f":"IF(N(Worksheet!S231)=0,N(Worksheet!R231),N(Worksheet!S231))","v":0},{"$f":"IFERROR(Worksheet!U231/(Worksheet!R231+Worksheet!#REF!),0)","v":0},{"$f":"Worksheet!AC231","v":0},{"$f":"Worksheet!AB231","v":0},0,{"$f":"IF(Worksheet!AJ231=0,0,Worksheet!AJ231*10/I212)","v":0},0,null,null,null,{"$f":"IFERROR(Worksheet!V231/(Worksheet!S231+Worksheet!#REF!),0)","v":0},{"$f":"IF(Worksheet!E231=\"\",\"\",Worksheet!E231)","v":""},{"$f":"IF(Worksheet!B231=\"\",\"\",Worksheet!B231)","v":""},{"$f":"IF(Worksheet!D231=\"\",\"\",Worksheet!D231)","v":""}]
[{"$f":"IF(ISBLANK(Worksheet!F232)=FALSE,VLOOKUP(Worksheet!A232,MeasureCode_Lookup,6,FALSE),\"\")","v":""},{"$f":"Worksheet!H232","v":0},{"$f":"Worksheet!I232","v":0},{"$f":"IFERROR(IF(Worksheet!X232=0,Worksheet!W232/I213,Worksheet!X232/R213),0)","v":0},"W Controlled",null,null,{"$f":"IF(N(Worksheet!S232)=0,N(Worksheet!R232),N(Worksheet!S232))","v":0},{"$f":"IFERROR(Worksheet!U232/(Worksheet!R232+Worksheet!#REF!),0)","v":0},{"$f":"Worksheet!AC232","v":0},{"$f":"Worksheet!AB232","v":0},0,{"$f":"IF(Worksheet!AJ232=0,0,Worksheet!AJ232*10/I213)","v":0},0,null,null,null,{"$f":"IFERROR(Worksheet!V232/(Worksheet!S232+Worksheet!#REF!),0)","v":0},{"$f":"IF(Worksheet!E232=\"\",\"\",Worksheet!E232)","v":""},{"$f":"IF(Worksheet!B232=\"\",\"\",Worksheet!B232)","v":""},{"$f":"IF(Worksheet!D232=\"\",\"\",Worksheet!D232)","v":""}]
[{"$f":"IF(ISBLANK(Worksheet!F233)=FALSE,VLOOKUP(Worksheet!A233,MeasureCode_Lookup,6,FALSE),\"\")","v":""},{"$f":"Worksheet!H233","v":0},{"$f":"Worksheet!I233","v":0},{"$f":"IFERROR(IF(Worksheet!X233=0,Worksheet!W233/I214,Worksheet!X233/R214),0)","v":0},"W Controlled",null,null,{"$f":"IF(N(Worksheet!S233)=0,N(Worksheet!R233),N(Worksheet!S233))","v":0},{"$f":"IFERROR(Worksheet!U233/(Worksheet!R233+Worksheet!#REF!),0)","v":0},{"$f":"Worksheet!AC233","v":0},{"$f":"Worksheet!AB233","v":0},0,{"$f":"IF(Worksheet!AJ233=0,0,Worksheet!AJ233*10/I214)","v":0},0,null,null,null,{"$f":"IFERROR(Worksheet!V233/(Worksheet!S233+Worksheet!#REF!),0)","v":0},{"$f":"IF(Worksheet!E233=\"\",\"\",Worksheet!E233)","v":""},{"$f":"IF(Worksheet!B233=\"\",\"\",Worksheet!B233)","v":""},{"$f":"IF(Worksheet!D233=\"\",\"\",Worksheet!D233)","v":""}]
[{"$f":"IF(ISBLANK(Worksheet!F234)=FALSE,VLOOKUP(Worksheet!A234,MeasureCode_Lookup,6,FALSE),\"\")","v":""},{"$f":"Worksheet!H234","v":0},{"$f":"Worksheet!I234","v":0},{"$f":"IFERROR(IF(Worksheet!X234=0,Worksheet!W234/I215,Worksheet!X234/R215),0)","v":0},"W Controlled",null,null,{"$f":"IF(N(Worksheet!S234)=0,N(Worksheet!R234),N(Worksheet!S234))","v":0},{"$f":"IFERROR(Worksheet!U234/(Worksheet!R234+Worksheet!#REF!),0)","v":0},{"$f":"Worksheet!AC234","v":0},{"$f":"Worksheet!AB234","v":0},0,{"$f":"IF(Worksheet!AJ234=0,0,Worksheet!AJ234*10/I215)","v":0},0,null,null,null,{"$f":"IFERROR(Worksheet!V234/(Worksheet!S234+Worksheet!#REF!),0)","v":0},{"$f":"IF(Worksheet!E234=\"\",\"\",Worksheet!E234)","v":""},{"$f":"IF(Worksheet!B234=\"\",\"\",Worksheet!B234)","v":""},{"$f":"IF(Worksheet!D234=\"\",\"\",Worksheet!D234)","v":""}]
[{"$f":"IF(ISBLANK(Worksheet!F235)=FALSE,VLOOKUP(Worksheet!A235,MeasureCode_Lookup,6,FALSE),\"\")","v":""},{"$f":"Worksheet!H235","v":0},{"$f":"Worksheet!I235","v":0},{"$f":"IFERROR(IF(Worksheet!X235=0,Worksheet!W235/I216,Worksheet!X235/R216),0)","v":0},"W Controlled",null,null,{"$f":"IF(N(Worksheet!S235)=0,N(Worksheet!R235),N(Worksheet!S235))","v":0},{"$f":"IFERROR(Worksheet!U235/(Worksheet!R235+Worksheet!#REF!),0)","v":0},{"$f":"Worksheet!AC235","v":0},{"$f":"Worksheet!AB235","v":0},0,{"$f":"IF(Worksheet!AJ235=0,0,Worksheet!AJ235*10/I216)","v":0},0,null,null,null,{"$f":"IFERROR(Worksheet!V235/(Worksheet!S235+Worksheet!#REF!),0)","v":0},{"$f":"IF(Worksheet!E235=\"\",\"\",Worksheet!E235)","v":""},{"$f":"IF(Worksheet!B235=\"\",\"\",Worksheet!B235)","v":""},{"$f":"IF(Worksheet!D235=\"\",\"\",Worksheet!D235)","v":""}]
[{"$f":"IF(ISBLANK(Worksheet!F236)=FALSE,VLOOKUP(Worksheet!A236,MeasureCode_Lookup,6,FALSE),\"\")","v":""},{"$f":"Worksheet!H236","v":0},{"$f":"Worksheet!I236","v":0},{"$f":"IFERROR(IF(Worksheet!X236=0,Worksheet!W236/I217,Worksheet!X236/R217),0)","v":0},"W Controlled",null,null,{"$f":"IF(N(Worksheet!S236)=0,N(Worksheet!R236),N(Worksheet!S236))","v":0},{"$f":"IFERROR(Worksheet!U236/(Worksheet!R236+Worksheet!#REF!),0)","v":0},{"$f":"Worksheet!AC236","v":0},{"$f":"Worksheet!AB236","v":0},0,{"$f":"IF(Worksheet!AJ236=0,0,Worksheet!AJ236*10/I217)","v":0},0,null,null,null,{"$f":"IFERROR(Worksheet!V236/(Worksheet!S236+Worksheet!#REF!),0)","v":0},{"$f":"IF(Worksheet!E236=\"\",\"\",Worksheet!E236)","v":""},{"$f":"IF(Worksheet!B236=\"\",\"\",Worksheet!B236)","v":""},{"$f":"IF(Worksheet!D236=\"\",\"\",Worksheet!D236)","v":""}]
[{"$f":"IF(ISBLANK(Worksheet!F237)=FALSE,VLOOKUP(Worksheet!A237,MeasureCode_Lookup,6,FALSE),\"\")","v":""},{"$f":"Worksheet!H237","v":0},{"$f":"Worksheet!I237","v":0},{"$f":"IFERROR(IF(Worksheet!X237=0,Worksheet!W237/I218,Worksheet!X237/R218),0)","v":0},"W Controlled",null,null,{"$f":"IF(N(Worksheet!S237)=0,N(Worksheet!R237),N(Worksheet!S237))","v":0},{"$f":"IFERROR(Worksheet!U237/(Worksheet!R237+Worksheet!#REF!),0)","v":0},{"$f":"Worksheet!AC237","v":0},{"$f":"Worksheet!AB237","v":0},0,{"$f":"IF(Worksheet!AJ237=0,0,Worksheet!AJ237*10/I218)","v":0},0,null,null,null,{"$f":"IFERROR(Worksheet!V237/(Worksheet!S237+Worksheet!#REF!),0)","v":0},{"$f":"IF(Worksheet!E237=\"\",\"\",Worksheet!E237)","v":""},{"$f":"IF(Worksheet!B237=\"\",\"\",Worksheet!B237)","v":""},{"$f":"IF(Worksheet!D237=\"\",\"\",Worksheet!D237)","v":""}]
[{"$f":"IF(ISBLANK(Worksheet!F238)=FALSE,VLOOKUP(Worksheet!A238,MeasureCode_Lookup,6,FALSE),\"\")","v":""},{"$f":"Worksheet!H238","v":0},{"$f":"Worksheet!I238","v":0},{"$f":"IFERROR(IF(Worksheet!X238=0,Worksheet!W238/I219,Worksheet!X238/R219),0)","v":0},"W Controlled",null,null,{"$f":"IF(N(Worksheet!S238)=0,N(Worksheet!R238),N(Worksheet!S238))","v":0},{"$f":"IFERROR(Worksheet!U238/(Worksheet!R238+Worksheet!#REF!),0)","v":0},{"$f":"Worksheet!AC238","v":0},{"$f":"Worksheet!AB238","v":0},0,{"$f":"IF(Worksheet!AJ238=0,0,Worksheet!AJ238*10/I219)","v":0},0,null,null,null,{"$f":"IFERROR(Worksheet!V238/(Worksheet!S238+Worksheet!#REF!),0)","v":0},{"$f":"IF(Worksheet!E238=\"\",\"\",Worksheet!E238)","v":""},{"$f":"IF(Worksheet!B238=\"\",\"\",Worksheet!B238)","v":""},{"$f":"IF(Worksheet!D238=\"\",\"\",Worksheet!D238)","v":""}]
[{"$f":"IF(ISBLANK(Worksheet!F239)=FALSE,VLOOKUP(Worksheet!A239,MeasureCode_Lookup,6,FALSE),\"\")","v":""},{"$f":"Worksheet!H239","v":0},{"$f":"Worksheet!I239","v":0},{"$f":"IFERROR(IF(Worksheet!X239=0,Worksheet!W239/I220,Worksheet!X239/R220),0)","v":0},"W Controlled",null,null,{"$f":"IF(N(Worksheet!S239)=0,N(Worksheet!R239),N(Worksheet!S239))","v":0},{"$f":"IFERROR(Worksheet!U239/(Worksheet!R239+Worksheet!#REF!),0)","v":0},{"$f":"Worksheet!AC239","v":0},{"$f":"Worksheet!AB239","v":0},0,{"$f":"IF(Worksheet!AJ239=0,0,Worksheet!AJ239*10/I220)","v":0},0,null,null,null,{"$f":"IFERROR(Worksheet!V239/(Worksheet!S239+Worksheet!#REF!),0)","v":0},{"$f":"IF(Worksheet!E239=\"\",\"\",Worksheet!E239)","v":""},{"$f":"IF(Worksheet!B239=\"\",\"\",Worksheet!B239)","v":""},{"$f":"IF(Worksheet!D239=\"\",\"\",Worksheet!D239)","v":""}]
[{"$f":"IF(ISBLANK(Worksheet!F240)=FALSE,VLOOKUP(Worksheet!A240,MeasureCode_Lookup,6,FALSE),\"\")","v":""},{"$f":"Worksheet!H240","v":0},{"$f":"Worksheet!I240","v":0},{"$f":"IFERROR(IF(Worksheet!X240=0,Worksheet!W240/I221,Worksheet!X240/R221),0)","v":0},"W Controlled",null,null,{"$f":"IF(N(Worksheet!S240)=0,N(Worksheet!R240),N(Worksheet!S240))","v":0},{"$f":"IFERROR(Worksheet!U240/(Worksheet!R240+Worksheet!#REF!),0)","v":0},{"$f":"Worksheet!AC240","v":0},{"$f":"Worksheet!AB240","v":0},0,{"$f":"IF(Worksheet!AJ240=0,0,Worksheet!AJ240*10/I221)","v":0},0,null,null,null,{"$f":"IFERROR(Worksheet!V240/(Worksheet!S240+Worksheet!#REF!),0)","v":0},{"$f":"IF(Worksheet!E240=\"\",\"\",Worksheet!E240)","v":""},{"$f":"IF(Worksheet!B240=\"\",\"\",Worksheet!B240)","v":""},{"$f":"IF(Worksheet!D240=\"\",\"\",Worksheet!D240)","v":""}]
[{"$f":"IF(ISBLANK(Worksheet!F241)=FALSE,VLOOKUP(Worksheet!A241,MeasureCode_Lookup,6,FALSE),\"\")","v":""},{"$f":"Worksheet!H241","v":0},{"$f":"Worksheet!I241","v":0},{"$f":"IFERROR(IF(Worksheet!X241=0,Worksheet!W241/I222,Worksheet!X241/R222),0)","v":0},"W Controlled",null,null,{"$f":"IF(N(Worksheet!S241)=0,N(Worksheet!R241),N(Worksheet!S241))","v":0},{"$f":"IFERROR(Worksheet!U241/(Worksheet!R241+Worksheet!#REF!),0)","v":0},{"$f":"Worksheet!AC241","v":0},{"$f":"Worksheet!AB241","v":0},0,{"$f":"IF(Worksheet!AJ241=0,0,Worksheet!AJ241*10/I222)","v":0},0,null,null,null,{"$f":"IFERROR(Worksheet!V241/(Worksheet!S241+Worksheet!#REF!),0)","v":0},{"$f":"IF(Worksheet!E241=\"\",\"\",Worksheet!E241)","v":""},{"$f":"IF(Worksheet!B241=\"\",\"\",Worksheet!B241)","v":""},{"$f":"IF(Worksheet!D241=\"\",\"\",Worksheet!D241)","v":""}]
[{"$f":"IF(ISBLANK(Worksheet!F242)=FALSE,VLOOKUP(Worksheet!A242,MeasureCode_Lookup,6,FALSE),\"\")","v":""},{"$f":"Worksheet!H242","v":0},{"$f":"Worksheet!I242","v":0},{"$f":"IFERROR(IF(Worksheet!X242=0,Worksheet!W242/I223,Worksheet!X242/R223),0)","v":0},"W Controlled",null,null,{"$f":"IF(N(Worksheet!S242)=0,N(Worksheet!R242),N(Worksheet!S242))","v":0},{"$f":"IFERROR(Worksheet!U242/(Worksheet!R242+Worksheet!#REF!),0)","v":0},{"$f":"Worksheet!AC242","v":0},{"$f":"Worksheet!AB242","v":0},0,{"$f":"IF(Worksheet!AJ242=0,0,Worksheet!AJ242*10/I223)","v":0},0,null,null,null,{"$f":"IFERROR(Worksheet!V242/(Worksheet!S242+Worksheet!#REF!),0)","v":0},{"$f":"IF(Worksheet!E242=\"\",\"\",Worksheet!E242)","v":""},{"$f":"IF(Worksheet!B242=\"\",\"\",Worksheet!B242)","v":""},{"$f":"IF(Worksheet!D242=\"\",\"\",Worksheet!D242)","v":""}]
[{"$f":"IF(ISBLANK(Worksheet!F243)=FALSE,VLOOKUP(Worksheet!A243,MeasureCode_Lookup,6,FALSE),\"\")","v":""},{"$f":"Worksheet!H243","v":0},{"$f":"Worksheet!I243","v":0},{"$f":"IFERROR(IF(Worksheet!X243=0,Worksheet!W243/I224,Worksheet!X243/R224),0)","v":0},"W Controlled",null,null,{"$f":"IF(N(Worksheet!S243)=0,N(Worksheet!R243),N(Worksheet!S243))","v":0},{"$f":"IFERROR(Worksheet!U243/(Worksheet!R243+Worksheet!#REF!),0)","v":0},{"$f":"Worksheet!AC243","v":0},{"$f":"Worksheet!AB243","v":0},0,{"$f":"IF(Worksheet!AJ243=0,0,Worksheet!AJ243*10/I224)","v":0},0,null,null,null,{"$f":"IFERROR(Worksheet!V243/(Worksheet!S243+Worksheet!#REF!),0)","v":0},{"$f":"IF(Worksheet!E243=\"\",\"\",Worksheet!E243)","v":""},{"$f":"IF(Worksheet!B243=\"\",\"\",Worksheet!B243)","v":""},{"$f":"IF(Worksheet!D243=\"\",\"\",Worksheet!D243)","v":""}]
[{"$f":"IF(ISBLANK(Worksheet!F244)=FALSE,VLOOKUP(Worksheet!A244,MeasureCode_Lookup,6,FALSE),\"\")","v":""},{"$f":"Worksheet!H244","v":0},{"$f":"Worksheet!I244","v":0},{"$f":"IFERROR(IF(Worksheet!X244=0,Worksheet!W244/I225,Worksheet!X244/R225),0)","v":0},"W Controlled",null,null,{"$f":"IF(N(Worksheet!S244)=0,N(Worksheet!R244),N(Worksheet!S244))","v":0},{"$f":"IFERROR(Worksheet!U244/(Worksheet!R244+Worksheet!#REF!),0)","v":0},{"$f":"Worksheet!AC244","v":0},{"$f":"Worksheet!AB244","v":0},0,{"$f":"IF(Worksheet!AJ244=0,0,Worksheet!AJ244*10/I225)","v":0},0,null,null,null,{"$f":"IFERROR(Worksheet!V244/(Worksheet!S244+Worksheet!#REF!),0)","v":0},{"$f":"IF(Worksheet!E244=\"\",\"\",Worksheet!E244)","v":""},{"$f":"IF(Worksheet!B244=\"\",\"\",Worksheet!B244)","v":""},{"$f":"IF(Worksheet!D244=\"\",\"\",Worksheet!D244)","v":""}]
[{"$f":"IF(ISBLANK(Worksheet!F245)=FALSE,VLOOKUP(Worksheet!A245,MeasureCode_Lookup,6,FALSE),\"\")","v":""},{"$f":"Worksheet!H245","v":0},{"$f":"Worksheet!I245","v":0},{"$f":"IFERROR(IF(Worksheet!X245=0,Worksheet!W245/I226,Worksheet!X245/R226),0)","v":0},"W Controlled",null,null,{"$f":"IF(N(Worksheet!S245)=0,N(Worksheet!R245),N(Worksheet!S245))","v":0},{"$f":"IFERROR(Worksheet!U245/(Worksheet!R245+Worksheet!#REF!),0)","v":0},{"$f":"Worksheet!AC245","v":0},{"$f":"Worksheet!AB245","v":0},0,{"$f":"IF(Worksheet!AJ245=0,0,Worksheet!AJ245*10/I226)","v":0},0,null,null,null,{"$f":"IFERROR(Worksheet!V245/(Worksheet!S245+Worksheet!#REF!),0)","v":0},{"$f":"IF(Worksheet!E245=\"\",\"\",Worksheet!E245)","v":""},{"$f":"IF(Worksheet!B245=\"\",\"\",Worksheet!B245)","v":""},{"$f":"IF(Worksheet!D245=\"\",\"\",Worksheet!D245)","v":""}]
[{"$f":"IF(ISBLANK(Worksheet!F246)=FALSE,VLOOKUP(Worksheet!A246,MeasureCode_Lookup,6,FALSE),\"\")","v":""},{"$f":"Worksheet!H246","v":0},{"$f":"Worksheet!I246","v":0},{"$f":"IFERROR(IF(Worksheet!X246=0,Worksheet!W246/I227,Worksheet!X246/R227),0)","v":0},"W Controlled",null,null,{"$f":"IF(N(Worksheet!S246)=0,N(Worksheet!R246),N(Worksheet!S246))","v":0},{"$f":"IFERROR(Worksheet!U246/(Worksheet!R246+Worksheet!#REF!),0)","v":0},{"$f":"Worksheet!AC246","v":0},{"$f":"Worksheet!AB246","v":0},0,{"$f":"IF(Worksheet!AJ246=0,0,Worksheet!AJ246*10/I227)","v":0},0,null,null,null,{"$f":"IFERROR(Worksheet!V246/(Worksheet!S246+Worksheet!#REF!),0)","v":0},{"$f":"IF(Worksheet!E246=\"\",\"\",Worksheet!E246)","v":""},{"$f":"IF(Worksheet!B246=\"\",\"\",Worksheet!B246)","v":""},{"$f":"IF(Worksheet!D246=\"\",\"\",Worksheet!D246)","v":""}]
[{"$f":"IF(ISBLANK(Worksheet!F247)=FALSE,VLOOKUP(Worksheet!A247,MeasureCode_Lookup,6,FALSE),\"\")","v":""},{"$f":"Worksheet!H247","v":0},{"$f":"Worksheet!I247","v":0},{"$f":"IFERROR(IF(Worksheet!X247=0,Worksheet!W247/I228,Worksheet!X247/R228),0)","v":0},"W Controlled",null,null,{"$f":"IF(N(Worksheet!S247)=0,N(Worksheet!R247),N(Worksheet!S247))","v":0},{"$f":"IFERROR(Worksheet!U247/(Worksheet!R247+Worksheet!#REF!),0)","v":0},{"$f":"Worksheet!AC247","v":0},{"$f":"Worksheet!AB247","v":0},0,{"$f":"IF(Worksheet!AJ247=0,0,Worksheet!AJ247*10/I228)","v":0},0,null,null,null,{"$f":"IFERROR(Worksheet!V247/(Worksheet!S247+Worksheet!#REF!),0)","v":0},{"$f":"IF(Worksheet!E247=\"\",\"\",Worksheet!E247)","v":""},{"$f":"IF(Worksheet!B247=\"\",\"\",Worksheet!B247)","v":""},{"$f":"IF(Worksheet!D247=\"\",\"\",Worksheet!D247)","v":""}]
[{"$f":"IF(ISBLANK(Worksheet!F248)=FALSE,VLOOKUP(Worksheet!A248,MeasureCode_Lookup,6,FALSE),\"\")","v":""},{"$f":"Worksheet!H248","v":0},{"$f":"Worksheet!I248","v":0},{"$f":"IFERROR(IF(Worksheet!X248=0,Worksheet!W248/I229,Worksheet!X248/R229),0)","v":0},"W Controlled",null,null,{"$f":"IF(N(Worksheet!S248)=0,N(Worksheet!R248),N(Worksheet!S248))","v":0},{"$f":"IFERROR(Worksheet!U248/(Worksheet!R248+Worksheet!#REF!),0)","v":0},{"$f":"Worksheet!AC248","v":0},{"$f":"Worksheet!AB248","v":0},0,{"$f":"IF(Worksheet!AJ248=0,0,Worksheet!AJ248*10/I229)","v":0},0,null,null,null,{"$f":"IFERROR(Worksheet!V248/(Worksheet!S248+Worksheet!#REF!),0)","v":0},{"$f":"IF(Worksheet!E248=\"\",\"\",Worksheet!E248)","v":""},{"$f":"IF(Worksheet!B248=\"\",\"\",Worksheet!B248)","v":""},{"$f":"IF(Worksheet!D248=\"\",\"\",Worksheet!D248)","v":""}]
[{"$f":"IF(ISBLANK(Worksheet!F249)=FALSE,VLOOKUP(Worksheet!A249,MeasureCode_Lookup,6,FALSE),\"\")","v":""},{"$f":"Worksheet!H249","v":0},{"$f":"Worksheet!I249","v":0},{"$f":"IFERROR(IF(Worksheet!X249=0,Worksheet!W249/I230,Worksheet!X249/R230),0)","v":0},"W Controlled",null,null,{"$f":"IF(N(Worksheet!S249)=0,N(Worksheet!R249),N(Worksheet!S249))","v":0},{"$f":"IFERROR(Worksheet!U249/(Worksheet!R249+Worksheet!#REF!),0)","v":0},{"$f":"Worksheet!AC249","v":0},{"$f":"Worksheet!AB249","v":0},0,{"$f":"IF(Worksheet!AJ249=0,0,Worksheet!AJ249*10/I230)","v":0},0,null,null,null,{"$f":"IFERROR(Worksheet!V249/(Worksheet!S249+Worksheet!#REF!),0)","v":0},{"$f":"IF(Worksheet!E249=\"\",\"\",Worksheet!E249)","v":""},{"$f":"IF(Worksheet!B249=\"\",\"\",Worksheet!B249)","v":""},{"$f":"IF(Worksheet!D249=\"\",\"\",Worksheet!D249)","v":""}]
[{"$f":"IF(ISBLANK(Worksheet!F250)=FALSE,VLOOKUP(Worksheet!A250,MeasureCode_Lookup,6,FALSE),\"\")","v":""},{"$f":"Worksheet!H250","v":0},{"$f":"Worksheet!I250","v":0},{"$f":"IFERROR(IF(Worksheet!X250=0,Worksheet!W250/I231,Worksheet!X250/R231),0)","v":0},"W Controlled",null,null,{"$f":"IF(N(Worksheet!S250)=0,N(Worksheet!R250),N(Worksheet!S250))","v":0},{"$f":"IFERROR(Worksheet!U250/(Worksheet!R250+Worksheet!#REF!),0)","v":0},{"$f":"Worksheet!AC250","v":0},{"$f":"Worksheet!AB250","v":0},0,{"$f":"IF(Worksheet!AJ250=0,0,Worksheet!AJ250*10/I231)","v":0},0,null,null,null,{"$f":"IFERROR(Worksheet!V250/(Worksheet!S250+Worksheet!#REF!),0)","v":0},{"$f":"IF(Worksheet!E250=\"\",\"\",Worksheet!E250)","v":""},{"$f":"IF(Worksheet!B250=\"\",\"\",Worksheet!B250)","v":""},{"$f":"IF(Worksheet!D250=\"\",\"\",Worksheet!D250)","v":""}]
[{"$f":"IF(ISBLANK(Worksheet!F251)=FALSE,VLOOKUP(Worksheet!A251,MeasureCode_Lookup,6,FALSE),\"\")","v":""},{"$f":"Worksheet!H251","v":0},{"$f":"Worksheet!I251","v":0},{"$f":"IFERROR(IF(Worksheet!X251=0,Worksheet!W251/I232,Worksheet!X251/R232),0)","v":0},"W Controlled",null,null,{"$f":"IF(N(Worksheet!S251)=0,N(Worksheet!R251),N(Worksheet!S251))","v":0},{"$f":"IFERROR(Worksheet!U251/(Worksheet!R251+Worksheet!#REF!),0)","v":0},{"$f":"Worksheet!AC251","v":0},{"$f":"Worksheet!AB251","v":0},0,{"$f":"IF(Worksheet!AJ251=0,0,Worksheet!AJ251*10/I232)","v":0},0,null,null,null,{"$f":"IFERROR(Worksheet!V251/(Worksheet!S251+Worksheet!#REF!),0)","v":0},{"$f":"IF(Worksheet!E251=\"\",\"\",Worksheet!E251)","v":""},{"$f":"IF(Worksheet!B251=\"\",\"\",Worksheet!B251)","v":""},{"$f":"IF(Worksheet!D251=\"\",\"\",Worksheet!D251)","v":""}]
[{"$f":"IF(ISBLANK(Worksheet!F252)=FALSE,VLOOKUP(Worksheet!A252,MeasureCode_Lookup,6,FALSE),\"\")","v":""},{"$f":"Worksheet!H252","v":0},{"$f":"Worksheet!I252","v":0},{"$f":"IFERROR(IF(Worksheet!X252=0,Worksheet!W252/I233,Worksheet!X252/R233),0)","v":0},"W Controlled",null,null,{"$f":"IF(N(Worksheet!S252)=0,N(Worksheet!R252),N(Worksheet!S252))","v":0},{"$f":"IFERROR(Worksheet!U252/(Worksheet!R252+Worksheet!#REF!),0)","v":0},{"$f":"Worksheet!AC252","v":0},{"$f":"Worksheet!AB252","v":0},0,{"$f":"IF(Worksheet!AJ252=0,0,Worksheet!AJ252*10/I233)","v":0},0,null,null,null,{"$f":"IFERROR(Worksheet!V252/(Worksheet!S252+Worksheet!#REF!),0)","v":0},{"$f":"IF(Worksheet!E252=\"\",\"\",Worksheet!E252)","v":""},{"$f":"IF(Worksheet!B252=\"\",\"\",Worksheet!B252)","v":""},{"$f":"IF(Worksheet!D252=\"\",\"\",Worksheet!D252)","v":""}]
[{"$f":"IF(ISBLANK(Worksheet!F253)=FALSE,VLOOKUP(Worksheet!A253,MeasureCode_Lookup,6,FALSE),\"\")","v":""},{"$f":"Worksheet!H253","v":0},{"$f":"Worksheet!I253","v":0},{"$f":"IFERROR(IF(Worksheet!X253=0,Worksheet!W253/I234,Worksheet!X253/R234),0)","v":0},"W Controlled",null,null,{"$f":"IF(N(Worksheet!S253)=0,N(Worksheet!R253),N(Worksheet!S253))","v":0},{"$f":"IFERROR(Worksheet!U253/(Worksheet!R253+Worksheet!#REF!),0)","v":0},{"$f":"Worksheet!AC253","v":0},{"$f":"Worksheet!AB253","v":0},0,{"$f":"IF(Worksheet!AJ253=0,0,Worksheet!AJ253*10/I234)","v":0},0,null,null,null,{"$f":"IFERROR(Worksheet!V253/(Worksheet!S253+Worksheet!#REF!),0)","v":0},{"$f":"IF(Worksheet!E253=\"\",\"\",Worksheet!E253)","v":""},{"$f":"IF(Worksheet!B253=\"\",\"\",Worksheet!B253)","v":""},{"$f":"IF(Worksheet!D253=\"\",\"\",Worksheet!D253)","v":""}]
[{"$f":"IF(ISBLANK(Worksheet!F254)=FALSE,VLOOKUP(Worksheet!A254,MeasureCode_Lookup,6,FALSE),\"\")","v":""},{"$f":"Worksheet!H254","v":0},{"$f":"Worksheet!I254","v":0},{"$f":"IFERROR(IF(Worksheet!X254=0,Worksheet!W254/I235,Worksheet!X254/R235),0)","v":0},"W Controlled",null,null,{"$f":"IF(N(Worksheet!S254)=0,N(Worksheet!R254),N(Worksheet!S254))","v":0},{"$f":"IFERROR(Worksheet!U254/(Worksheet!R254+Worksheet!#REF!),0)","v":0},{"$f":"Worksheet!AC254","v":0},{"$f":"Worksheet!AB254","v":0},0,{"$f":"IF(Worksheet!AJ254=0,0,Worksheet!AJ254*10/I235)","v":0},0,null,null,null,{"$f":"IFERROR(Worksheet!V254/(Worksheet!S254+Worksheet!#REF!),0)","v":0},{"$f":"IF(Worksheet!E254=\"\",\"\",Worksheet!E254)","v":""},{"$f":"IF(Worksheet!B254=\"\",\"\",Worksheet!B254)","v":""},{"$f":"IF(Worksheet!D254=\"\",\"\",Worksheet!D254)","v":""}]
[{"$f":"IF(ISBLANK(Worksheet!F255)=FALSE,VLOOKUP(Worksheet!A255,MeasureCode_Lookup,6,FALSE),\"\")","v":""},{"$f":"Worksheet!H255","v":0},{"$f":"Worksheet!I255","v":0},{"$f":"IFERROR(IF(Worksheet!X255=0,Worksheet!W255/I236,Worksheet!X255/R236),0)","v":0},"W Controlled",null,null,{"$f":"IF(N(Worksheet!S255)=0,N(Worksheet!R255),N(Worksheet!S255))","v":0},{"$f":"IFERROR(Worksheet!U255/(Worksheet!R255+Worksheet!#REF!),0)","v":0},{"$f":"Worksheet!AC255","v":0},{"$f":"Worksheet!AB255","v":0},0,{"$f":"IF(Worksheet!AJ255=0,0,Worksheet!AJ255*10/I236)","v":0},0,null,null,null,{"$f":"IFERROR(Worksheet!V255/(Worksheet!S255+Worksheet!#REF!),0)","v":0},{"$f":"IF(Worksheet!E255=\"\",\"\",Worksheet!E255)","v":""},{"$f":"IF(Worksheet!B255=\"\",\"\",Worksheet!B255)","v":""},{"$f":"IF(Worksheet!D255=\"\",\"\",Worksheet!D255)","v":""}]
[{"$f":"IF(ISBLANK(Worksheet!F256)=FALSE,VLOOKUP(Worksheet!A256,MeasureCode_Lookup,6,FALSE),\"\")","v":""},{"$f":"Worksheet!H256","v":0},{"$f":"Worksheet!I256","v":0},{"$f":"IFERROR(IF(Worksheet!X256=0,Worksheet!W256/I237,Worksheet!X256/R237),0)","v":0},"W Controlled",null,null,{"$f":"IF(N(Worksheet!S256)=0,N(Worksheet!R256),N(Worksheet!S256))","v":0},{"$f":"IFERROR(Worksheet!U256/(Worksheet!R256+Worksheet!#REF!),0)","v":0},{"$f":"Worksheet!AC256","v":0},{"$f":"Worksheet!AB256","v":0},0,{"$f":"IF(Worksheet!AJ256=0,0,Worksheet!AJ256*10/I237)","v":0},0,null,null,null,{"$f":"IFERROR(Worksheet!V256/(Worksheet!S256+Worksheet!#REF!),0)","v":0},{"$f":"IF(Worksheet!E256=\"\",\"\",Worksheet!E256)","v":""},{"$f":"IF(Worksheet!B256=\"\",\"\",Worksheet!B256)","v":""},{"$f":"IF(Worksheet!D256=\"\",\"\",Worksheet!D256)","v":""}]
[{"$f":"IF(ISBLANK(Worksheet!F257)=FALSE,VLOOKUP(Worksheet!A257,MeasureCode_Lookup,6,FALSE),\"\")","v":""},{"$f":"Worksheet!H257","v":0},{"$f":"Worksheet!I257","v":0},{"$f":"IFERROR(IF(Worksheet!X257=0,Worksheet!W257/I238,Worksheet!X257/R238),0)","v":0},"W Controlled",null,null,{"$f":"IF(N(Worksheet!S257)=0,N(Worksheet!R257),N(Worksheet!S257))","v":0},{"$f":"IFERROR(Worksheet!U257/(Worksheet!R257+Worksheet!#REF!),0)","v":0},{"$f":"Worksheet!AC257","v":0},{"$f":"Worksheet!AB257","v":0},0,{"$f":"IF(Worksheet!AJ257=0,0,Worksheet!AJ257*10/I238)","v":0},0,null,null,null,{"$f":"IFERROR(Worksheet!V257/(Worksheet!S257+Worksheet!#REF!),0)","v":0},{"$f":"IF(Worksheet!E257=\"\",\"\",Worksheet!E257)","v":""},{"$f":"IF(Worksheet!B257=\"\",\"\",Worksheet!B257)","v":""},{"$f":"IF(Worksheet!D257=\"\",\"\",Worksheet!D257)","v":""}]
[{"$f":"IF(ISBLANK(Worksheet!F258)=FALSE,VLOOKUP(Worksheet!A258,MeasureCode_Lookup,6,FALSE),\"\")","v":""},{"$f":"Worksheet!H258","v":0},{"$f":"Worksheet!I258","v":0},{"$f":"IFERROR(IF(Worksheet!X258=0,Worksheet!W258/I239,Worksheet!X258/R239),0)","v":0},"W Controlled",null,null,{"$f":"IF(N(Worksheet!S258)=0,N(Worksheet!R258),N(Worksheet!S258))","v":0},{"$f":"IFERROR(Worksheet!U258/(Worksheet!R258+Worksheet!#REF!),0)","v":0},{"$f":"Worksheet!AC258","v":0},{"$f":"Worksheet!AB258","v":0},0,{"$f":"IF(Worksheet!AJ258=0,0,Worksheet!AJ258*10/I239)","v":0},0,null,null,null,{"$f":"IFERROR(Worksheet!V258/(Worksheet!S258+Worksheet!#REF!),0)","v":0},{"$f":"IF(Worksheet!E258=\"\",\"\",Worksheet!E258)","v":""},{"$f":"IF(Worksheet!B258=\"\",\"\",Worksheet!B258)","v":""},{"$f":"IF(Worksheet!D258=\"\",\"\",Worksheet!D258)","v":""}]
[{"$f":"IF(ISBLANK(Worksheet!F259)=FALSE,VLOOKUP(Worksheet!A259,MeasureCode_Lookup,6,FALSE),\"\")","v":""},{"$f":"Worksheet!H259","v":0},{"$f":"Worksheet!I259","v":0},{"$f":"IFERROR(IF(Worksheet!X259=0,Worksheet!W259/I240,Worksheet!X259/R240),0)","v":0},"W Controlled",null,null,{"$f":"IF(N(Worksheet!S259)=0,N(Worksheet!R259),N(Worksheet!S259))","v":0},{"$f":"IFERROR(Worksheet!U259/(Worksheet!R259+Worksheet!#REF!),0)","v":0},{"$f":"Worksheet!AC259","v":0},{"$f":"Worksheet!AB259","v":0},0,{"$f":"IF(Worksheet!AJ259=0,0,Worksheet!AJ259*10/I240)","v":0},0,null,null,null,{"$f":"IFERROR(Worksheet!V259/(Worksheet!S259+Worksheet!#REF!),0)","v":0},{"$f":"IF(Worksheet!E259=\"\",\"\",Worksheet!E259)","v":""},{"$f":"IF(Worksheet!B259=\"\",\"\",Worksheet!B259)","v":""},{"$f":"IF(Worksheet!D259=\"\",\"\",Worksheet!D259)","v":""}]
[{"$f":"IF(ISBLANK(Worksheet!F260)=FALSE,VLOOKUP(Worksheet!A260,MeasureCode_Lookup,6,FALSE),\"\")","v":""},{"$f":"Worksheet!H260","v":0},{"$f":"Worksheet!I260","v":0},{"$f":"IFERROR(IF(Worksheet!X260=0,Worksheet!W260/I241,Worksheet!X260/R241),0)","v":0},"W Controlled",null,null,{"$f":"IF(N(Worksheet!S260)=0,N(Worksheet!R260),N(Worksheet!S260))","v":0},{"$f":"IFERROR(Worksheet!U260/(Worksheet!R260+Worksheet!#REF!),0)","v":0},{"$f":"Worksheet!AC260","v":0},{"$f":"Worksheet!AB260","v":0},0,{"$f":"IF(Worksheet!AJ260=0,0,Worksheet!AJ260*10/I241)","v":0},0,null,null,null,{"$f":"IFERROR(Worksheet!V260/(Worksheet!S260+Worksheet!#REF!),0)","v":0},{"$f":"IF(Worksheet!E260=\"\",\"\",Worksheet!E260)","v":""},{"$f":"IF(Worksheet!B260=\"\",\"\",Worksheet!B260)","v":""},{"$f":"IF(Worksheet!D260=\"\",\"\",Worksheet!D260)","v":""}]
[{"$f":"IF(ISBLANK(Worksheet!F261)=FALSE,VLOOKUP(Worksheet!A261,MeasureCode_Lookup,6,FALSE),\"\")","v":""},{"$f":"Worksheet!H261","v":0},{"$f":"Worksheet!I261","v":0},{"$f":"IFERROR(IF(Worksheet!X261=0,Worksheet!W261/I242,Worksheet!X261/R242),0)","v":0},"W Controlled",null,null,{"$f":"IF(N(Worksheet!S261)=0,N(Worksheet!R261),N(Worksheet!S261))","v":0},{"$f":"IFERROR(Worksheet!U261/(Worksheet!R261+Worksheet!#REF!),0)","v":0},{"$f":"Worksheet!AC261","v":0},{"$f":"Worksheet!AB261","v":0},0,{"$f":"IF(Worksheet!AJ261=0,0,Worksheet!AJ261*10/I242)","v":0},0,null,null,null,{"$f":"IFERROR(Worksheet!V261/(Worksheet!S261+Worksheet!#REF!),0)","v":0},{"$f":"IF(Worksheet!E261=\"\",\"\",Worksheet!E261)","v":""},{"$f":"IF(Worksheet!B261=\"\",\"\",Worksheet!B261)","v":""},{"$f":"IF(Worksheet!D261=\"\",\"\",Worksheet!D261)","v":""}]
[{"$f":"IF(ISBLANK(Worksheet!F262)=FALSE,VLOOKUP(Worksheet!A262,MeasureCode_Lookup,6,FALSE),\"\")","v":""},{"$f":"Worksheet!H262","v":0},{"$f":"Worksheet!I262","v":0},{"$f":"IFERROR(IF(Worksheet!X262=0,Worksheet!W262/I243,Worksheet!X262/R243),0)","v":0},"W Controlled",null,null,{"$f":"IF(N(Worksheet!S262)=0,N(Worksheet!R262),N(Worksheet!S262))","v":0},{"$f":"IFERROR(Worksheet!U262/(Worksheet!R262+Worksheet!#REF!),0)","v":0},{"$f":"Worksheet!AC262","v":0},{"$f":"Worksheet!AB262","v":0},0,{"$f":"IF(Worksheet!AJ262=0,0,Worksheet!AJ262*10/I243)","v":0},0,null,null,null,{"$f":"IFERROR(Worksheet!V262/(Worksheet!S262+Worksheet!#REF!),0)","v":0},{"$f":"IF(Worksheet!E262=\"\",\"\",Worksheet!E262)","v":""},{"$f":"IF(Worksheet!B262=\"\",\"\",Worksheet!B262)","v":""},{"$f":"IF(Worksheet!D262=\"\",\"\",Worksheet!D262)","v":""}]
[{"$f":"IF(ISBLANK(Worksheet!F263)=FALSE,VLOOKUP(Worksheet!A263,MeasureCode_Lookup,6,FALSE),\"\")","v":""},{"$f":"Worksheet!H263","v":0},{"$f":"Worksheet!I263","v":0},{"$f":"IFERROR(IF(Worksheet!X263=0,Worksheet!W263/I244,Worksheet!X263/R244),0)","v":0},"W Controlled",null,null,{"$f":"IF(N(Worksheet!S263)=0,N(Worksheet!R263),N(Worksheet!S263))","v":0},{"$f":"IFERROR(Worksheet!U263/(Worksheet!R263+Worksheet!#REF!),0)","v":0},{"$f":"Worksheet!AC263","v":0},{"$f":"Worksheet!AB263","v":0},0,{"$f":"IF(Worksheet!AJ263=0,0,Worksheet!AJ263*10/I244)","v":0},0,null,null,null,{"$f":"IFERROR(Worksheet!V263/(Worksheet!S263+Worksheet!#REF!),0)","v":0},{"$f":"IF(Worksheet!E263=\"\",\"\",Worksheet!E263)","v":""},{"$f":"IF(Worksheet!B263=\"\",\"\",Worksheet!B263)","v":""},{"$f":"IF(Worksheet!D263=\"\",\"\",Worksheet!D263)","v":""}]
[{"$f":"IF(ISBLANK(Worksheet!F264)=FALSE,VLOOKUP(Worksheet!A264,MeasureCode_Lookup,6,FALSE),\"\")","v":""},{"$f":"Worksheet!H264","v":0},{"$f":"Worksheet!I264","v":0},{"$f":"IFERROR(IF(Worksheet!X264=0,Worksheet!W264/I245,Worksheet!X264/R245),0)","v":0},"W Controlled",null,null,{"$f":"IF(N(Worksheet!S264)=0,N(Worksheet!R264),N(Worksheet!S264))","v":0},{"$f":"IFERROR(Worksheet!U264/(Worksheet!R264+Worksheet!#REF!),0)","v":0},{"$f":"Worksheet!AC264","v":0},{"$f":"Worksheet!AB264","v":0},0,{"$f":"IF(Worksheet!AJ264=0,0,Worksheet!AJ264*10/I245)","v":0},0,null,null,null,{"$f":"IFERROR(Worksheet!V264/(Worksheet!S264+Worksheet!#REF!),0)","v":0},{"$f":"IF(Worksheet!E264=\"\",\"\",Worksheet!E264)","v":""},{"$f":"IF(Worksheet!B264=\"\",\"\",Worksheet!B264)","v":""},{"$f":"IF(Worksheet!D264=\"\",\"\",Worksheet!D264)","v":""}]
[{"$f":"IF(ISBLANK(Worksheet!F265)=FALSE,VLOOKUP(Worksheet!A265,MeasureCode_Lookup,6,FALSE),\"\")","v":""},{"$f":"Worksheet!H265","v":0},{"$f":"Worksheet!I265","v":0},{"$f":"IFERROR(IF(Worksheet!X265=0,Worksheet!W265/I246,Worksheet!X265/R246),0)","v":0},"W Controlled",null,null,{"$f":"IF(N(Worksheet!S265)=0,N(Worksheet!R265),N(Worksheet!S265))","v":0},{"$f":"IFERROR(Worksheet!U265/(Worksheet!R265+Worksheet!#REF!),0)","v":0},{"$f":"Worksheet!AC265","v":0},{"$f":"Worksheet!AB265","v":0},0,{"$f":"IF(Worksheet!AJ265=0,0,Worksheet!AJ265*10/I246)","v":0},0,null,null,null,{"$f":"IFERROR(Worksheet!V265/(Worksheet!S265+Worksheet!#REF!),0)","v":0},{"$f":"IF(Worksheet!E265=\"\",\"\",Worksheet!E265)","v":""},{"$f":"IF(Worksheet!B265=\"\",\"\",Worksheet!B265)","v":""},{"$f":"IF(Worksheet!D265=\"\",\"\",Worksheet!D265)","v":""}]
[{"$f":"IF(ISBLANK(Worksheet!F266)=FALSE,VLOOKUP(Worksheet!A266,MeasureCode_Lookup,6,FALSE),\"\")","v":""},{"$f":"Worksheet!H266","v":0},{"$f":"Worksheet!I266","v":0},{"$f":"IFERROR(IF(Worksheet!X266=0,Worksheet!W266/I247,Worksheet!X266/R247),0)","v":0},"W Controlled",null,null,{"$f":"IF(N(Worksheet!S266)=0,N(Worksheet!R266),N(Worksheet!S266))","v":0},{"$f":"IFERROR(Worksheet!U266/(Worksheet!R266+Worksheet!#REF!),0)","v":0},{"$f":"Worksheet!AC266","v":0},{"$f":"Worksheet!AB266","v":0},0,{"$f":"IF(Worksheet!AJ266=0,0,Worksheet!AJ266*10/I247)","v":0},0,null,null,null,{"$f":"IFERROR(Worksheet!V266/(Worksheet!S266+Worksheet!#REF!),0)","v":0},{"$f":"IF(Worksheet!E266=\"\",\"\",Worksheet!E266)","v":""},{"$f":"IF(Worksheet!B266=\"\",\"\",Worksheet!B266)","v":""},{"$f":"IF(Worksheet!D266=\"\",\"\",Worksheet!D266)","v":""}]
[{"$f":"IF(ISBLANK(Worksheet!F267)=FALSE,VLOOKUP(Worksheet!A267,MeasureCode_Lookup,6,FALSE),\"\")","v":""},{"$f":"Worksheet!H267","v":0},{"$f":"Worksheet!I267","v":0},{"$f":"IFERROR(IF(Worksheet!X267=0,Worksheet!W267/I248,Worksheet!X267/R248),0)","v":0},"W Controlled",null,null,{"$f":"IF(N(Worksheet!S267)=0,N(Worksheet!R267),N(Worksheet!S267))","v":0},{"$f":"IFERROR(Worksheet!U267/(Worksheet!R267+Worksheet!#REF!),0)","v":0},{"$f":"Worksheet!AC267","v":0},{"$f":"Worksheet!AB267","v":0},0,{"$f":"IF(Worksheet!AJ267=0,0,Worksheet!AJ267*10/I248)","v":0},0,null,null,null,{"$f":"IFERROR(Worksheet!V267/(Worksheet!S267+Worksheet!#REF!),0)","v":0},{"$f":"IF(Worksheet!E267=\"\",\"\",Worksheet!E267)","v":""},{"$f":"IF(Worksheet!B267=\"\",\"\",Worksheet!B267)","v":""},{"$f":"IF(Worksheet!D267=\"\",\"\",Worksheet!D267)","v":""}]
[{"$f":"IF(ISBLANK(Worksheet!F268)=FALSE,VLOOKUP(Worksheet!A268,MeasureCode_Lookup,6,FALSE),\"\")","v":""},{"$f":"Worksheet!H268","v":0},{"$f":"Worksheet!I268","v":0},{"$f":"IFERROR(IF(Worksheet!X268=0,Worksheet!W268/I249,Worksheet!X268/R249),0)","v":0},"W Controlled",null,null,{"$f":"IF(N(Worksheet!S268)=0,N(Worksheet!R268),N(Worksheet!S268))","v":0},{"$f":"IFERROR(Worksheet!U268/(Worksheet!R268+Worksheet!#REF!),0)","v":0},{"$f":"Worksheet!AC268","v":0},{"$f":"Worksheet!AB268","v":0},0,{"$f":"IF(Worksheet!AJ268=0,0,Worksheet!AJ268*10/I249)","v":0},0,null,null,null,{"$f":"IFERROR(Worksheet!V268/(Worksheet!S268+Worksheet!#REF!),0)","v":0},{"$f":"IF(Worksheet!E268=\"\",\"\",Worksheet!E268)","v":""},{"$f":"IF(Worksheet!B268=\"\",\"\",Worksheet!B268)","v":""},{"$f":"IF(Worksheet!D268=\"\",\"\",Worksheet!D268)","v":""}]
[{"$f":"IF(ISBLANK(Worksheet!F269)=FALSE,VLOOKUP(Worksheet!A269,MeasureCode_Lookup,6,FALSE),\"\")","v":""},{"$f":"Worksheet!H269","v":0},{"$f":"Worksheet!I269","v":0},{"$f":"IFERROR(IF(Worksheet!X269=0,Worksheet!W269/I250,Worksheet!X269/R250),0)","v":0},"W Controlled",null,null,{"$f":"IF(N(Worksheet!S269)=0,N(Worksheet!R269),N(Worksheet!S269))","v":0},{"$f":"IFERROR(Worksheet!U269/(Worksheet!R269+Worksheet!#REF!),0)","v":0},{"$f":"Worksheet!AC269","v":0},{"$f":"Worksheet!AB269","v":0},0,{"$f":"IF(Worksheet!AJ269=0,0,Worksheet!AJ269*10/I250)","v":0},0,null,null,null,{"$f":"IFERROR(Worksheet!V269/(Worksheet!S269+Worksheet!#REF!),0)","v":0},{"$f":"IF(Worksheet!E269=\"\",\"\",Worksheet!E269)","v":""},{"$f":"IF(Worksheet!B269=\"\",\"\",Worksheet!B269)","v":""},{"$f":"IF(Worksheet!D269=\"\",\"\",Worksheet!D269)","v":""}]
[{"$f":"IF(ISBLANK(Worksheet!F270)=FALSE,VLOOKUP(Worksheet!A270,MeasureCode_Lookup,6,FALSE),\"\")","v":""},{"$f":"Worksheet!H270","v":0},{"$f":"Worksheet!I270","v":0},{"$f":"IFERROR(IF(Worksheet!X270=0,Worksheet!W270/I251,Worksheet!X270/R251),0)","v":0},"W Controlled",null,null,{"$f":"IF(N(Worksheet!S270)=0,N(Worksheet!R270),N(Worksheet!S270))","v":0},{"$f":"IFERROR(Worksheet!U270/(Worksheet!R270+Worksheet!#REF!),0)","v":0},{"$f":"Worksheet!AC270","v":0},{"$f":"Worksheet!AB270","v":0},0,{"$f":"IF(Worksheet!AJ270=0,0,Worksheet!AJ270*10/I251)","v":0},0,null,null,null,{"$f":"IFERROR(Worksheet!V270/(Worksheet!S270+Worksheet!#REF!),0)","v":0},{"$f":"IF(Worksheet!E270=\"\",\"\",Worksheet!E270)","v":""},{"$f":"IF(Worksheet!B270=\"\",\"\",Worksheet!B270)","v":""},{"$f":"IF(Worksheet!D270=\"\",\"\",Worksheet!D270)","v":""}]
[{"$f":"IF(ISBLANK(Worksheet!F271)=FALSE,VLOOKUP(Worksheet!A271,MeasureCode_Lookup,6,FALSE),\"\")","v":""},{"$f":"Worksheet!H271","v":0},{"$f":"Worksheet!I271","v":0},{"$f":"IFERROR(IF(Worksheet!X271=0,Worksheet!W271/I252,Worksheet!X271/R252),0)","v":0},"W Controlled",null,null,{"$f":"IF(N(Worksheet!S271)=0,N(Worksheet!R271),N(Worksheet!S271))","v":0},{"$f":"IFERROR(Worksheet!U271/(Worksheet!R271+Worksheet!#REF!),0)","v":0},{"$f":"Worksheet!AC271","v":0},{"$f":"Worksheet!AB271","v":0},0,{"$f":"IF(Worksheet!AJ271=0,0,Worksheet!AJ271*10/I252)","v":0},0,null,null,null,{"$f":"IFERROR(Worksheet!V271/(Worksheet!S271+Worksheet!#REF!),0)","v":0},{"$f":"IF(Worksheet!E271=\"\",\"\",Worksheet!E271)","v":""},{"$f":"IF(Worksheet!B271=\"\",\"\",Worksheet!B271)","v":""},{"$f":"IF(Worksheet!D271=\"\",\"\",Worksheet!D271)","v":""}]
[{"$f":"IF(ISBLANK(Worksheet!F272)=FALSE,VLOOKUP(Worksheet!A272,MeasureCode_Lookup,6,FALSE),\"\")","v":""},{"$f":"Worksheet!H272","v":0},{"$f":"Worksheet!I272","v":0},{"$f":"IFERROR(IF(Worksheet!X272=0,Worksheet!W272/I253,Worksheet!X272/R253),0)","v":0},"W Controlled",null,null,{"$f":"IF(N(Worksheet!S272)=0,N(Worksheet!R272),N(Worksheet!S272))","v":0},{"$f":"IFERROR(Worksheet!U272/(Worksheet!R272+Worksheet!#REF!),0)","v":0},{"$f":"Worksheet!AC272","v":0},{"$f":"Worksheet!AB272","v":0},0,{"$f":"IF(Worksheet!AJ272=0,0,Worksheet!AJ272*10/I253)","v":0},0,null,null,null,{"$f":"IFERROR(Worksheet!V272/(Worksheet!S272+Worksheet!#REF!),0)","v":0},{"$f":"IF(Worksheet!E272=\"\",\"\",Worksheet!E272)","v":""},{"$f":"IF(Worksheet!B272=\"\",\"\",Worksheet!B272)","v":""},{"$f":"IF(Worksheet!D272=\"\",\"\",Worksheet!D272)","v":""}]
[{"$f":"IF(ISBLANK(Worksheet!F273)=FALSE,VLOOKUP(Worksheet!A273,MeasureCode_Lookup,6,FALSE),\"\")","v":""},{"$f":"Worksheet!H273","v":0},{"$f":"Worksheet!I273","v":0},{"$f":"IFERROR(IF(Worksheet!X273=0,Worksheet!W273/I254,Worksheet!X273/R254),0)","v":0},"W Controlled",null,null,{"$f":"IF(N(Worksheet!S273)=0,N(Worksheet!R273),N(Worksheet!S273))","v":0},{"$f":"IFERROR(Worksheet!U273/(Worksheet!R273+Worksheet!#REF!),0)","v":0},{"$f":"Worksheet!AC273","v":0},{"$f":"Worksheet!AB273","v":0},0,{"$f":"IF(Worksheet!AJ273=0,0,Worksheet!AJ273*10/I254)","v":0},0,null,null,null,{"$f":"IFERROR(Worksheet!V273/(Worksheet!S273+Worksheet!#REF!),0)","v":0},{"$f":"IF(Worksheet!E273=\"\",\"\",Worksheet!E273)","v":""},{"$f":"IF(Worksheet!B273=\"\",\"\",Worksheet!B273)","v":""},{"$f":"IF(Worksheet!D273=\"\",\"\",Worksheet!D273)","v":""}]
[{"$f":"IF(ISBLANK(Worksheet!F274)=FALSE,VLOOKUP(Worksheet!A274,MeasureCode_Lookup,6,FALSE),\"\")","v":""},{"$f":"Worksheet!H274","v":0},{"$f":"Worksheet!I274","v":0},{"$f":"IFERROR(IF(Worksheet!X274=0,Worksheet!W274/I255,Worksheet!X274/R255),0)","v":0},"W Controlled",null,null,{"$f":"IF(N(Worksheet!S274)=0,N(Worksheet!R274),N(Worksheet!S274))","v":0},{"$f":"IFERROR(Worksheet!U274/(Worksheet!R274+Worksheet!#REF!),0)","v":0},{"$f":"Worksheet!AC274","v":0},{"$f":"Worksheet!AB274","v":0},0,{"$f":"IF(Worksheet!AJ274=0,0,Worksheet!AJ274*10/I255)","v":0},0,null,null,null,{"$f":"IFERROR(Worksheet!V274/(Worksheet!S274+Worksheet!#REF!),0)","v":0},{"$f":"IF(Worksheet!E274=\"\",\"\",Worksheet!E274)","v":""},{"$f":"IF(Worksheet!B274=\"\",\"\",Worksheet!B274)","v":""},{"$f":"IF(Worksheet!D274=\"\",\"\",Worksheet!D274)","v":""}]
[{"$f":"IF(ISBLANK(Worksheet!F275)=FALSE,VLOOKUP(Worksheet!A275,MeasureCode_Lookup,6,FALSE),\"\")","v":""},{"$f":"Worksheet!H275","v":0},{"$f":"Worksheet!I275","v":0},{"$f":"IFERROR(IF(Worksheet!X275=0,Worksheet!W275/I256,Worksheet!X275/R256),0)","v":0},"W Controlled",null,null,{"$f":"IF(N(Worksheet!S275)=0,N(Worksheet!R275),N(Worksheet!S275))","v":0},{"$f":"IFERROR(Worksheet!U275/(Worksheet!R275+Worksheet!#REF!),0)","v":0},{"$f":"Worksheet!AC275","v":0},{"$f":"Worksheet!AB275","v":0},0,{"$f":"IF(Worksheet!AJ275=0,0,Worksheet!AJ275*10/I256)","v":0},0,null,null,null,{"$f":"IFERROR(Worksheet!V275/(Worksheet!S275+Worksheet!#REF!),0)","v":0},{"$f":"IF(Worksheet!E275=\"\",\"\",Worksheet!E275)","v":""},{"$f":"IF(Worksheet!B275=\"\",\"\",Worksheet!B275)","v":""},{"$f":"IF(Worksheet!D275=\"\",\"\",Worksheet!D275)","v":""}]
[{"$f":"IF(ISBLANK(Worksheet!F276)=FALSE,VLOOKUP(Worksheet!A276,MeasureCode_Lookup,6,FALSE),\"\")","v":""},{"$f":"Worksheet!H276","v":0},{"$f":"Worksheet!I276","v":0},{"$f":"IFERROR(IF(Worksheet!X276=0,Worksheet!W276/I257,Worksheet!X276/R257),0)","v":0},"W Controlled",null,null,{"$f":"IF(N(Worksheet!S276)=0,N(Worksheet!R276),N(Worksheet!S276))","v":0},{"$f":"IFERROR(Worksheet!U276/(Worksheet!R276+Worksheet!#REF!),0)","v":0},{"$f":"Worksheet!AC276","v":0},{"$f":"Worksheet!AB276","v":0},0,{"$f":"IF(Worksheet!AJ276=0,0,Worksheet!AJ276*10/I257)","v":0},0,null,null,null,{"$f":"IFERROR(Worksheet!V276/(Worksheet!S276+Worksheet!#REF!),0)","v":0},{"$f":"IF(Worksheet!E276=\"\",\"\",Worksheet!E276)","v":""},{"$f":"IF(Worksheet!B276=\"\",\"\",Worksheet!B276)","v":""},{"$f":"IF(Worksheet!D276=\"\",\"\",Worksheet!D276)","v":""}]
[{"$f":"IF(ISBLANK(Worksheet!F277)=FALSE,VLOOKUP(Worksheet!A277,MeasureCode_Lookup,6,FALSE),\"\")","v":""},{"$f":"Worksheet!H277","v":0},{"$f":"Worksheet!I277","v":0},{"$f":"IFERROR(IF(Worksheet!X277=0,Worksheet!W277/I258,Worksheet!X277/R258),0)","v":0},"W Controlled",null,null,{"$f":"IF(N(Worksheet!S277)=0,N(Worksheet!R277),N(Worksheet!S277))","v":0},{"$f":"IFERROR(Worksheet!U277/(Worksheet!R277+Worksheet!#REF!),0)","v":0},{"$f":"Worksheet!AC277","v":0},{"$f":"Worksheet!AB277","v":0},0,{"$f":"IF(Worksheet!AJ277=0,0,Worksheet!AJ277*10/I258)","v":0},0,null,null,null,{"$f":"IFERROR(Worksheet!V277/(Worksheet!S277+Worksheet!#REF!),0)","v":0},{"$f":"IF(Worksheet!E277=\"\",\"\",Worksheet!E277)","v":""},{"$f":"IF(Worksheet!B277=\"\",\"\",Worksheet!B277)","v":""},{"$f":"IF(Worksheet!D277=\"\",\"\",Worksheet!D277)","v":""}]
[{"$f":"IF(ISBLANK(Worksheet!F278)=FALSE,VLOOKUP(Worksheet!A278,MeasureCode_Lookup,6,FALSE),\"\")","v":""},{"$f":"Worksheet!H278","v":0},{"$f":"Worksheet!I278","v":0},{"$f":"IFERROR(IF(Worksheet!X278=0,Worksheet!W278/I259,Worksheet!X278/R259),0)","v":0},"W Controlled",null,null,{"$f":"IF(N(Worksheet!S278)=0,N(Worksheet!R278),N(Worksheet!S278))","v":0},{"$f":"IFERROR(Worksheet!U278/(Worksheet!R278+Worksheet!#REF!),0)","v":0},{"$f":"Worksheet!AC278","v":0},{"$f":"Worksheet!AB278","v":0},{"$f":"J259*8","v":0},{"$f":"IF(Worksheet!AJ278=0,0,Worksheet!AJ278*10/I259)","v":0},{"$f":"M259*8","v":0},null,null,null,{"$f":"IFERROR(Worksheet!V278/(Worksheet!S278+Worksheet!#REF!),0)","v":0},{"$f":"IF(Worksheet!E278=\"\",\"\",Worksheet!E278)","v":""},{"$f":"IF(Worksheet!B278=\"\",\"\",Worksheet!B278)","v":""},{"$f":"IF(Worksheet!D278=\"\",\"\",Worksheet!D278)","v":""}]
[{"$f":"IF(ISBLANK(Worksheet!F279)=FALSE,VLOOKUP(Worksheet!A279,MeasureCode_Lookup,6,FALSE),\"\")","v":""},{"$f":"Worksheet!H279","v":0},{"$f":"Worksheet!I279","v":0},{"$f":"IFERROR(IF(Worksheet!X279=0,Worksheet!W279/I260,Worksheet!X279/R260),0)","v":0},"W Controlled",null,null,{"$f":"IF(N(Worksheet!S279)=0,N(Worksheet!R279),N(Worksheet!S279))","v":0},{"$f":"IFERROR(Worksheet!U279/(Worksheet!R279+Worksheet!#REF!),0)","v":0},{"$f":"Worksheet!AC279","v":0},{"$f":"Worksheet!AB279","v":0},0,{"$f":"IF(Worksheet!AJ279=0,0,Worksheet!AJ279*10/I260)","v":0},0,null,null,null,{"$f":"IFERROR(Worksheet!V279/(Worksheet!S279+Worksheet!#REF!),0)","v":0},{"$f":"IF(Worksheet!E279=\"\",\"\",Worksheet!E279)","v":""},{"$f":"IF(Worksheet!B279=\"\",\"\",Worksheet!B279)","v":""},{"$f":"IF(Worksheet!D279=\"\",\"\",Worksheet!D279)","v":""}]
[{"$f":"IF(ISBLANK(Worksheet!F280)=FALSE,VLOOKUP(Worksheet!A280,MeasureCode_Lookup,6,FALSE),\"\")","v":""},{"$f":"Worksheet!H280","v":0},{"$f":"Worksheet!I280","v":0},{"$f":"IFERROR(IF(Worksheet!X280=0,Worksheet!W280/I261,Worksheet!X280/R261),0)","v":0},"W Controlled",null,null,{"$f":"IF(N(Worksheet!S280)=0,N(Worksheet!R280),N(Worksheet!S280))","v":0},{"$f":"IFERROR(Worksheet!U280/(Worksheet!R280+Worksheet!#REF!),0)","v":0},{"$f":"Worksheet!AC280","v":0},{"$f":"Worksheet!AB280","v":0},0,{"$f":"IF(Worksheet!AJ280=0,0,Worksheet!AJ280*10/I261)","v":0},0,null,null,null,{"$f":"IFERROR(Worksheet!V280/(Worksheet!S280+Worksheet!#REF!),0)","v":0},{"$f":"IF(Worksheet!E280=\"\",\"\",Worksheet!E280)","v":""},{"$f":"IF(Worksheet!B280=\"\",\"\",Worksheet!B280)","v":""},{"$f":"IF(Worksheet!D280=\"\",\"\",Worksheet!D280)","v":""}]
[{"$f":"IF(ISBLANK(Worksheet!F281)=FALSE,VLOOKUP(Worksheet!A281,MeasureCode_Lookup,6,FALSE),\"\")","v":""},{"$f":"Worksheet!H281","v":0},{"$f":"Worksheet!I281","v":0},{"$f":"IFERROR(IF(Worksheet!X281=0,Worksheet!W281/I262,Worksheet!X281/R262),0)","v":0},"W Controlled",null,null,{"$f":"IF(N(Worksheet!S281)=0,N(Worksheet!R281),N(Worksheet!S281))","v":0},{"$f":"IFERROR(Worksheet!U281/(Worksheet!R281+Worksheet!#REF!),0)","v":0},{"$f":"Worksheet!AC281","v":0},{"$f":"Worksheet!AB281","v":0},0,{"$f":"IF(Worksheet!AJ281=0,0,Worksheet!AJ281*10/I262)","v":0},0,null,null,null,{"$f":"IFERROR(Worksheet!V281/(Worksheet!S281+Worksheet!#REF!),0)","v":0},{"$f":"IF(Worksheet!E281=\"\",\"\",Worksheet!E281)","v":""},{"$f":"IF(Worksheet!B281=\"\",\"\",Worksheet!B281)","v":""},{"$f":"IF(Worksheet!D281=\"\",\"\",Worksheet!D281)","v":""}]
[{"$f":"IF(ISBLANK(Worksheet!F282)=FALSE,VLOOKUP(Worksheet!A282,MeasureCode_Lookup,6,FALSE),\"\")","v":""},{"$f":"Worksheet!H282","v":0},{"$f":"Worksheet!I282","v":0},{"$f":"IFERROR(IF(Worksheet!X282=0,Worksheet!W282/I263,Worksheet!X282/R263),0)","v":0},"W Controlled",null,null,{"$f":"IF(N(Worksheet!S282)=0,N(Worksheet!R282),N(Worksheet!S282))","v":0},{"$f":"IFERROR(Worksheet!U282/(Worksheet!R282+Worksheet!#REF!),0)","v":0},{"$f":"Worksheet!AC282","v":0},{"$f":"Worksheet!AB282","v":0},0,{"$f":"IF(Worksheet!AJ282=0,0,Worksheet!AJ282*10/I263)","v":0},0,null,null,null,{"$f":"IFERROR(Worksheet!V282/(Worksheet!S282+Worksheet!#REF!),0)","v":0},{"$f":"IF(Worksheet!E282=\"\",\"\",Worksheet!E282)","v":""},{"$f":"IF(Worksheet!B282=\"\",\"\",Worksheet!B282)","v":""},{"$f":"IF(Worksheet!D282=\"\",\"\",Worksheet!D282)","v":""}]
[{"$f":"IF(ISBLANK(Worksheet!F283)=FALSE,VLOOKUP(Worksheet!A283,MeasureCode_Lookup,6,FALSE),\"\")","v":""},{"$f":"Worksheet!H283","v":0},{"$f":"Worksheet!I283","v":0},{"$f":"IFERROR(IF(Worksheet!X283=0,Worksheet!W283/I264,Worksheet!X283/R264),0)","v":0},"W Controlled",null,null,{"$f":"IF(N(Worksheet!S283)=0,N(Worksheet!R283),N(Worksheet!S283))","v":0},{"$f":"IFERROR(Worksheet!U283/(Worksheet!R283+Worksheet!#REF!),0)","v":0},{"$f":"Worksheet!AC283","v":0},{"$f":"Worksheet!AB283","v":0},0,{"$f":"IF(Worksheet!AJ283=0,0,Worksheet!AJ283*10/I264)","v":0},0,null,null,null,{"$f":"IFERROR(Worksheet!V283/(Worksheet!S283+Worksheet!#REF!),0)","v":0},{"$f":"IF(Worksheet!E283=\"\",\"\",Worksheet!E283)","v":""},{"$f":"IF(Worksheet!B283=\"\",\"\",Worksheet!B283)","v":""},{"$f":"IF(Worksheet!D283=\"\",\"\",Worksheet!D283)","v":""}]
[{"$f":"IF(ISBLANK(Worksheet!F284)=FALSE,VLOOKUP(Worksheet!A284,MeasureCode_Lookup,6,FALSE),\"\")","v":""},{"$f":"Worksheet!H284","v":0},{"$f":"Worksheet!I284","v":0},{"$f":"IFERROR(IF(Worksheet!X284=0,Worksheet!W284/I265,Worksheet!X284/R265),0)","v":0},"W Controlled",null,null,{"$f":"IF(N(Worksheet!S284)=0,N(Worksheet!R284),N(Worksheet!S284))","v":0},{"$f":"IFERROR(Worksheet!U284/(Worksheet!R284+Worksheet!#REF!),0)","v":0},{"$f":"Worksheet!AC284","v":0},{"$f":"Worksheet!AB284","v":0},0,{"$f":"IF(Worksheet!AJ284=0,0,Worksheet!AJ284*10/I265)","v":0},0,null,null,null,{"$f":"IFERROR(Worksheet!V284/(Worksheet!S284+Worksheet!#REF!),0)","v":0},{"$f":"IF(Worksheet!E284=\"\",\"\",Worksheet!E284)","v":""},{"$f":"IF(Worksheet!B284=\"\",\"\",Worksheet!B284)","v":""},{"$f":"IF(Worksheet!D284=\"\",\"\",Worksheet!D284)","v":""}]
[{"$f":"IF(ISBLANK(Worksheet!F285)=FALSE,VLOOKUP(Worksheet!A285,MeasureCode_Lookup,6,FALSE),\"\")","v":""},{"$f":"Worksheet!H285","v":0},{"$f":"Worksheet!I285","v":0},{"$f":"IFERROR(IF(Worksheet!X285=0,Worksheet!W285/I266,Worksheet!X285/R266),0)","v":0},"W Controlled",null,null,{"$f":"IF(N(Worksheet!S285)=0,N(Worksheet!R285),N(Worksheet!S285))","v":0},{"$f":"IFERROR(Worksheet!U285/(Worksheet!R285+Worksheet!#REF!),0)","v":0},{"$f":"Worksheet!AC285","v":0},{"$f":"Worksheet!AB285","v":0},0,{"$f":"IF(Worksheet!AJ285=0,0,Worksheet!AJ285*10/I266)","v":0},0,null,null,null,{"$f":"IFERROR(Worksheet!V285/(Worksheet!S285+Worksheet!#REF!),0)","v":0},{"$f":"IF(Worksheet!E285=\"\",\"\",Worksheet!E285)","v":""},{"$f":"IF(Worksheet!B285=\"\",\"\",Worksheet!B285)","v":""},{"$f":"IF(Worksheet!D285=\"\",\"\",Worksheet!D285)","v":""}]
[{"$f":"IF(ISBLANK(Worksheet!F286)=FALSE,VLOOKUP(Worksheet!A286,MeasureCode_Lookup,6,FALSE),\"\")","v":""},{"$f":"Worksheet!H286","v":0},{"$f":"Worksheet!I286","v":0},{"$f":"IFERROR(IF(Worksheet!X286=0,Worksheet!W286/I267,Worksheet!X286/R267),0)","v":0},"W Controlled",null,null,{"$f":"IF(N(Worksheet!S286)=0,N(Worksheet!R286),N(Worksheet!S286))","v":0},{"$f":"IFERROR(Worksheet!U286/(Worksheet!R286+Worksheet!#REF!),0)","v":0},{"$f":"Worksheet!AC286","v":0},{"$f":"Worksheet!AB286","v":0},0,{"$f":"IF(Worksheet!AJ286=0,0,Worksheet!AJ286*10/I267)","v":0},0,null,null,null,{"$f":"IFERROR(Worksheet!V286/(Worksheet!S286+Worksheet!#REF!),0)","v":0},{"$f":"IF(Worksheet!E286=\"\",\"\",Worksheet!E286)","v":""},{"$f":"IF(Worksheet!B286=\"\",\"\",Worksheet!B286)","v":""},{"$f":"IF(Worksheet!D286=\"\",\"\",Worksheet!D286)","v":""}]
[{"$f":"IF(ISBLANK(Worksheet!F287)=FALSE,VLOOKUP(Worksheet!A287,MeasureCode_Lookup,6,FALSE),\"\")","v":""},{"$f":"Worksheet!H287","v":0},{"$f":"Worksheet!I287","v":0},{"$f":"IFERROR(IF(Worksheet!X287=0,Worksheet!W287/I268,Worksheet!X287/R268),0)","v":0},"W Controlled",null,null,{"$f":"IF(N(Worksheet!S287)=0,N(Worksheet!R287),N(Worksheet!S287))","v":0},{"$f":"IFERROR(Worksheet!U287/(Worksheet!R287+Worksheet!#REF!),0)","v":0},{"$f":"Worksheet!AC287","v":0},{"$f":"Worksheet!AB287","v":0},0,{"$f":"IF(Worksheet!AJ287=0,0,Worksheet!AJ287*10/I268)","v":0},0,null,null,null,{"$f":"IFERROR(Worksheet!V287/(Worksheet!S287+Worksheet!#REF!),0)","v":0},{"$f":"IF(Worksheet!E287=\"\",\"\",Worksheet!E287)","v":""},{"$f":"IF(Worksheet!B287=\"\",\"\",Worksheet!B287)","v":""},{"$f":"IF(Worksheet!D287=\"\",\"\",Worksheet!D287)","v":""}]
[{"$f":"IF(ISBLANK(Worksheet!F288)=FALSE,VLOOKUP(Worksheet!A288,MeasureCode_Lookup,6,FALSE),\"\")","v":""},{"$f":"Worksheet!H288","v":0},{"$f":"Worksheet!I288","v":0},{"$f":"IFERROR(IF(Worksheet!X288=0,Worksheet!W288/I269,Worksheet!X288/R269),0)","v":0},"W Controlled",null,null,{"$f":"IF(N(Worksheet!S288)=0,N(Worksheet!R288),N(Worksheet!S288))","v":0},{"$f":"IFERROR(Worksheet!U288/(Worksheet!R288+Worksheet!#REF!),0)","v":0},{"$f":"Worksheet!AC288","v":0},{"$f":"Worksheet!AB288","v":0},0,{"$f":"IF(Worksheet!AJ288=0,0,Worksheet!AJ288*10/I269)","v":0},0,null,null,null,{"$f":"IFERROR(Worksheet!V288/(Worksheet!S288+Worksheet!#REF!),0)","v":0},{"$f":"IF(Worksheet!E288=\"\",\"\",Worksheet!E288)","v":""},{"$f":"IF(Worksheet!B288=\"\",\"\",Worksheet!B288)","v":""},{"$f":"IF(Worksheet!D288=\"\",\"\",Worksheet!D288)","v":""}]
[{"$f":"IF(ISBLANK(Worksheet!F289)=FALSE,VLOOKUP(Worksheet!A289,MeasureCode_Lookup,6,FALSE),\"\")","v":""},{"$f":"Worksheet!H289","v":0},{"$f":"Worksheet!I289","v":0},{"$f":"IFERROR(IF(Worksheet!X289=0,Worksheet!W289/I270,Worksheet!X289/R270),0)","v":0},"W Controlled",null,null,{"$f":"IF(N(Worksheet!S289)=0,N(Worksheet!R289),N(Worksheet!S289))","v":0},{"$f":"IFERROR(Worksheet!U289/(Worksheet!R289+Worksheet!#REF!),0)","v":0},{"$f":"Worksheet!AC289","v":0},{"$f":"Worksheet!AB289","v":0},0,{"$f":"IF(Worksheet!AJ289=0,0,Worksheet!AJ289*10/I270)","v":0},0,null,null,null,{"$f":"IFERROR(Worksheet!V289/(Worksheet!S289+Worksheet!#REF!),0)","v":0},{"$f":"IF(Worksheet!E289=\"\",\"\",Worksheet!E289)","v":""},{"$f":"IF(Worksheet!B289=\"\",\"\",Worksheet!B289)","v":""},{"$f":"IF(Worksheet!D289=\"\",\"\",Worksheet!D289)","v":""}]
[{"$f":"IF(ISBLANK(Worksheet!F290)=FALSE,VLOOKUP(Worksheet!A290,MeasureCode_Lookup,6,FALSE),\"\")","v":""},{"$f":"Worksheet!H290","v":0},{"$f":"Worksheet!I290","v":0},{"$f":"IFERROR(IF(Worksheet!X290=0,Worksheet!W290/I271,Worksheet!X290/R271),0)","v":0},"W Controlled",null,null,{"$f":"IF(N(Worksheet!S290)=0,N(Worksheet!R290),N(Worksheet!S290))","v":0},{"$f":"IFERROR(Worksheet!U290/(Worksheet!R290+Worksheet!#REF!),0)","v":0},{"$f":"Worksheet!AC290","v":0},{"$f":"Worksheet!AB290","v":0},0,{"$f":"IF(Worksheet!AJ290=0,0,Worksheet!AJ290*10/I271)","v":0},0,null,null,null,{"$f":"IFERROR(Worksheet!V290/(Worksheet!S290+Worksheet!#REF!),0)","v":0},{"$f":"IF(Worksheet!E290=\"\",\"\",Worksheet!E290)","v":""},{"$f":"IF(Worksheet!B290=\"\",\"\",Worksheet!B290)","v":""},{"$f":"IF(Worksheet!D290=\"\",\"\",Worksheet!D290)","v":""}]
[{"$f":"IF(ISBLANK(Worksheet!F291)=FALSE,VLOOKUP(Worksheet!A291,MeasureCode_Lookup,6,FALSE),\"\")","v":""},{"$f":"Worksheet!H291","v":0},{"$f":"Worksheet!I291","v":0},{"$f":"IFERROR(IF(Worksheet!X291=0,Worksheet!W291/I272,Worksheet!X291/R272),0)","v":0},"W Controlled",null,null,{"$f":"IF(N(Worksheet!S291)=0,N(Worksheet!R291),N(Worksheet!S291))","v":0},{"$f":"IFERROR(Worksheet!U291/(Worksheet!R291+Worksheet!#REF!),0)","v":0},{"$f":"Worksheet!AC291","v":0},{"$f":"Worksheet!AB291","v":0},0,{"$f":"IF(Worksheet!AJ291=0,0,Worksheet!AJ291*10/I272)","v":0},0,null,null,null,{"$f":"IFERROR(Worksheet!V291/(Worksheet!S291+Worksheet!#REF!),0)","v":0},{"$f":"IF(Worksheet!E291=\"\",\"\",Worksheet!E291)","v":""},{"$f":"IF(Worksheet!B291=\"\",\"\",Worksheet!B291)","v":""},{"$f":"IF(Worksheet!D291=\"\",\"\",Worksheet!D291)","v":""}]
[{"$f":"IF(ISBLANK(Worksheet!F292)=FALSE,VLOOKUP(Worksheet!A292,MeasureCode_Lookup,6,FALSE),\"\")","v":""},{"$f":"Worksheet!H292","v":0},{"$f":"Worksheet!I292","v":0},{"$f":"IFERROR(IF(Worksheet!X292=0,Worksheet!W292/I273,Worksheet!X292/R273),0)","v":0},"W Controlled",null,null,{"$f":"IF(N(Worksheet!S292)=0,N(Worksheet!R292),N(Worksheet!S292))","v":0},{"$f":"IFERROR(Worksheet!U292/(Worksheet!R292+Worksheet!#REF!),0)","v":0},{"$f":"Worksheet!AC292","v":0},{"$f":"Worksheet!AB292","v":0},0,{"$f":"IF(Worksheet!AJ292=0,0,Worksheet!AJ292*10/I273)","v":0},0,null,null,null,{"$f":"IFERROR(Worksheet!V292/(Worksheet!S292+Worksheet!#REF!),0)","v":0},{"$f":"IF(Worksheet!E292=\"\",\"\",Worksheet!E292)","v":""},{"$f":"IF(Worksheet!B292=\"\",\"\",Worksheet!B292)","v":""},{"$f":"IF(Worksheet!D292=\"\",\"\",Worksheet!D292)","v":""}]
[{"$f":"IF(ISBLANK(Worksheet!F293)=FALSE,VLOOKUP(Worksheet!A293,MeasureCode_Lookup,6,FALSE),\"\")","v":""},{"$f":"Worksheet!H293","v":0},{"$f":"Worksheet!I293","v":0},{"$f":"IFERROR(IF(Worksheet!X293=0,Worksheet!W293/I274,Worksheet!X293/R274),0)","v":0},"W Controlled",null,null,{"$f":"IF(N(Worksheet!S293)=0,N(Worksheet!R293),N(Worksheet!S293))","v":0},{"$f":"IFERROR(Worksheet!U293/(Worksheet!R293+Worksheet!#REF!),0)","v":0},{"$f":"Worksheet!AC293","v":0},{"$f":"Worksheet!AB293","v":0},0,{"$f":"IF(Worksheet!AJ293=0,0,Worksheet!AJ293*10/I274)","v":0},0,null,null,null,{"$f":"IFERROR(Worksheet!V293/(Worksheet!S293+Worksheet!#REF!),0)","v":0},{"$f":"IF(Worksheet!E293=\"\",\"\",Worksheet!E293)","v":""},{"$f":"IF(Worksheet!B293=\"\",\"\",Worksheet!B293)","v":""},{"$f":"IF(Worksheet!D293=\"\",\"\",Worksheet!D293)","v":""}]
[{"$f":"IF(ISBLANK(Worksheet!F294)=FALSE,VLOOKUP(Worksheet!A294,MeasureCode_Lookup,6,FALSE),\"\")","v":""},{"$f":"Worksheet!H294","v":0},{"$f":"Worksheet!I294","v":0},{"$f":"IFERROR(IF(Worksheet!X294=0,Worksheet!W294/I275,Worksheet!X294/R275),0)","v":0},"W Controlled",null,null,{"$f":"IF(N(Worksheet!S294)=0,N(Worksheet!R294),N(Worksheet!S294))","v":0},{"$f":"IFERROR(Worksheet!U294/(Worksheet!R294+Worksheet!#REF!),0)","v":0},{"$f":"Worksheet!AC294","v":0},{"$f":"Worksheet!AB294","v":0},0,{"$f":"IF(Worksheet!AJ294=0,0,Worksheet!AJ294*10/I275)","v":0},0,null,null,null,{"$f":"IFERROR(Worksheet!V294/(Worksheet!S294+Worksheet!#REF!),0)","v":0},{"$f":"IF(Worksheet!E294=\"\",\"\",Worksheet!E294)","v":""},{"$f":"IF(Worksheet!B294=\"\",\"\",Worksheet!B294)","v":""},{"$f":"IF(Worksheet!D294=\"\",\"\",Worksheet!D294)","v":""}]
[{"$f":"IF(ISBLANK(Worksheet!F295)=FALSE,VLOOKUP(Worksheet!A295,MeasureCode_Lookup,6,FALSE),\"\")","v":""},{"$f":"Worksheet!H295","v":0},{"$f":"Worksheet!I295","v":0},{"$f":"IFERROR(IF(Worksheet!X295=0,Worksheet!W295/I276,Worksheet!X295/R276),0)","v":0},"W Controlled",null,null,{"$f":"IF(N(Worksheet!S295)=0,N(Worksheet!R295),N(Worksheet!S295))","v":0},{"$f":"IFERROR(Worksheet!U295/(Worksheet!R295+Worksheet!#REF!),0)","v":0},{"$f":"Worksheet!AC295","v":0},{"$f":"Worksheet!AB295","v":0},0,{"$f":"IF(Worksheet!AJ295=0,0,Worksheet!AJ295*10/I276)","v":0},0,null,null,null,{"$f":"IFERROR(Worksheet!V295/(Worksheet!S295+Worksheet!#REF!),0)","v":0},{"$f":"IF(Worksheet!E295=\"\",\"\",Worksheet!E295)","v":""},{"$f":"IF(Worksheet!B295=\"\",\"\",Worksheet!B295)","v":""},{"$f":"IF(Worksheet!D295=\"\",\"\",Worksheet!D295)","v":""}]
[{"$f":"IF(ISBLANK(Worksheet!F296)=FALSE,VLOOKUP(Worksheet!A296,MeasureCode_Lookup,6,FALSE),\"\")","v":""},{"$f":"Worksheet!H296","v":0},{"$f":"Worksheet!I296","v":0},{"$f":"IFERROR(IF(Worksheet!X296=0,Worksheet!W296/I277,Worksheet!X296/R277),0)","v":0},"W Controlled",null,null,{"$f":"IF(N(Worksheet!S296)=0,N(Worksheet!R296),N(Worksheet!S296))","v":0},{"$f":"IFERROR(Worksheet!U296/(Worksheet!R296+Worksheet!#REF!),0)","v":0},{"$f":"Worksheet!AC296","v":0},{"$f":"Worksheet!AB296","v":0},0,{"$f":"IF(Worksheet!AJ296=0,0,Worksheet!AJ296*10/I277)","v":0},0,null,null,null,{"$f":"IFERROR(Worksheet!V296/(Worksheet!S296+Worksheet!#REF!),0)","v":0},{"$f":"IF(Worksheet!E296=\"\",\"\",Worksheet!E296)","v":""},{"$f":"IF(Worksheet!B296=\"\",\"\",Worksheet!B296)","v":""},{"$f":"IF(Worksheet!D296=\"\",\"\",Worksheet!D296)","v":""}]
[{"$f":"IF(ISBLANK(Worksheet!F297)=FALSE,VLOOKUP(Worksheet!A297,MeasureCode_Lookup,6,FALSE),\"\")","v":""},{"$f":"Worksheet!H297","v":0},{"$f":"Worksheet!I297","v":0},{"$f":"IFERROR(IF(Worksheet!X297=0,Worksheet!W297/I278,Worksheet!X297/R278),0)","v":0},"W Controlled",null,null,{"$f":"IF(N(Worksheet!S297)=0,N(Worksheet!R297),N(Worksheet!S297))","v":0},{"$f":"IFERROR(Worksheet!U297/(Worksheet!R297+Worksheet!#REF!),0)","v":0},{"$f":"Worksheet!AC297","v":0},{"$f":"Worksheet!AB297","v":0},0,{"$f":"IF(Worksheet!AJ297=0,0,Worksheet!AJ297*10/I278)","v":0},0,null,null,null,{"$f":"IFERROR(Worksheet!V297/(Worksheet!S297+Worksheet!#REF!),0)","v":0},{"$f":"IF(Worksheet!E297=\"\",\"\",Worksheet!E297)","v":""},{"$f":"IF(Worksheet!B297=\"\",\"\",Worksheet!B297)","v":""},{"$f":"IF(Worksheet!D297=\"\",\"\",Worksheet!D297)","v":""}]
[{"$f":"IF(ISBLANK(Worksheet!F298)=FALSE,VLOOKUP(Worksheet!A298,MeasureCode_Lookup,6,FALSE),\"\")","v":""},{"$f":"Worksheet!H298","v":0},{"$f":"Worksheet!I298","v":0},{"$f":"IFERROR(IF(Worksheet!X298=0,Worksheet!W298/I279,Worksheet!X298/R279),0)","v":0},"W Controlled",null,null,{"$f":"IF(N(Worksheet!S298)=0,N(Worksheet!R298),N(Worksheet!S298))","v":0},{"$f":"IFERROR(Worksheet!U298/(Worksheet!R298+Worksheet!#REF!),0)","v":0},{"$f":"Worksheet!AC298","v":0},{"$f":"Worksheet!AB298","v":0},0,{"$f":"IF(Worksheet!AJ298=0,0,Worksheet!AJ298*10/I279)","v":0},0,null,null,null,{"$f":"IFERROR(Worksheet!V298/(Worksheet!S298+Worksheet!#REF!),0)","v":0},{"$f":"IF(Worksheet!E298=\"\",\"\",Worksheet!E298)","v":""},{"$f":"IF(Worksheet!B298=\"\",\"\",Worksheet!B298)","v":""},{"$f":"IF(Worksheet!D298=\"\",\"\",Worksheet!D298)","v":""}]
[{"$f":"IF(ISBLANK(Worksheet!F299)=FALSE,VLOOKUP(Worksheet!A299,MeasureCode_Lookup,6,FALSE),\"\")","v":""},{"$f":"Worksheet!H299","v":0},{"$f":"Worksheet!I299","v":0},{"$f":"IFERROR(IF(Worksheet!X299=0,Worksheet!W299/I280,Worksheet!X299/R280),0)","v":0},"W Controlled",null,null,{"$f":"IF(N(Worksheet!S299)=0,N(Worksheet!R299),N(Worksheet!S299))","v":0},{"$f":"IFERROR(Worksheet!U299/(Worksheet!R299+Worksheet!#REF!),0)","v":0},{"$f":"Worksheet!AC299","v":0},{"$f":"Worksheet!AB299","v":0},0,{"$f":"IF(Worksheet!AJ299=0,0,Worksheet!AJ299*10/I280)","v":0},0,null,null,null,{"$f":"IFERROR(Worksheet!V299/(Worksheet!S299+Worksheet!#REF!),0)","v":0},{"$f":"IF(Worksheet!E299=\"\",\"\",Worksheet!E299)","v":""},{"$f":"IF(Worksheet!B299=\"\",\"\",Worksheet!B299)","v":""},{"$f":"IF(Worksheet!D299=\"\",\"\",Worksheet!D299)","v":""}]
[{"$f":"IF(ISBLANK(Worksheet!F300)=FALSE,VLOOKUP(Worksheet!A300,MeasureCode_Lookup,6,FALSE),\"\")","v":""},{"$f":"Worksheet!H300","v":0},{"$f":"Worksheet!I300","v":0},{"$f":"IFERROR(IF(Worksheet!X300=0,Worksheet!W300/I281,Worksheet!X300/R281),0)","v":0},"W Controlled",null,null,{"$f":"IF(N(Worksheet!S300)=0,N(Worksheet!R300),N(Worksheet!S300))","v":0},{"$f":"IFERROR(Worksheet!U300/(Worksheet!R300+Worksheet!#REF!),0)","v":0},{"$f":"Worksheet!AC300","v":0},{"$f":"Worksheet!AB300","v":0},0,{"$f":"IF(Worksheet!AJ300=0,0,Worksheet!AJ300*10/I281)","v":0},0,null,null,null,{"$f":"IFERROR(Worksheet!V300/(Worksheet!S300+Worksheet!#REF!),0)","v":0},{"$f":"IF(Worksheet!E300=\"\",\"\",Worksheet!E300)","v":""},{"$f":"IF(Worksheet!B300=\"\",\"\",Worksheet!B300)","v":""},{"$f":"IF(Worksheet!D300=\"\",\"\",Worksheet!D300)","v":""}]
[{"$f":"IF(ISBLANK(Worksheet!F301)=FALSE,VLOOKUP(Worksheet!A301,MeasureCode_Lookup,6,FALSE),\"\")","v":""},{"$f":"Worksheet!H301","v":0},{"$f":"Worksheet!I301","v":0},{"$f":"IFERROR(IF(Worksheet!X301=0,Worksheet!W301/I282,Worksheet!X301/R282),0)","v":0},"W Controlled",null,null,{"$f":"IF(N(Worksheet!S301)=0,N(Worksheet!R301),N(Worksheet!S301))","v":0},{"$f":"IFERROR(Worksheet!U301/(Worksheet!R301+Worksheet!#REF!),0)","v":0},{"$f":"Worksheet!AC301","v":0},{"$f":"Worksheet!AB301","v":0},0,{"$f":"IF(Worksheet!AJ301=0,0,Worksheet!AJ301*10/I282)","v":0},0,null,null,null,{"$f":"IFERROR(Worksheet!V301/(Worksheet!S301+Worksheet!#REF!),0)","v":0},{"$f":"IF(Worksheet!E301=\"\",\"\",Worksheet!E301)","v":""},{"$f":"IF(Worksheet!B301=\"\",\"\",Worksheet!B301)","v":""},{"$f":"IF(Worksheet!D301=\"\",\"\",Worksheet!D301)","v":""}]
[{"$f":"IF(ISBLANK(Worksheet!F302)=FALSE,VLOOKUP(Worksheet!A302,MeasureCode_Lookup,6,FALSE),\"\")","v":""},{"$f":"Worksheet!H302","v":0},{"$f":"Worksheet!I302","v":0},{"$f":"IFERROR(IF(Worksheet!X302=0,Worksheet!W302/I283,Worksheet!X302/R283),0)","v":0},"W Controlled",null,null,{"$f":"IF(N(Worksheet!S302)=0,N(Worksheet!R302),N(Worksheet!S302))","v":0},{"$f":"IFERROR(Worksheet!U302/(Worksheet!R302+Worksheet!#REF!),0)","v":0},{"$f":"Worksheet!AC302","v":0},{"$f":"Worksheet!AB302","v":0},0,{"$f":"IF(Worksheet!AJ302=0,0,Worksheet!AJ302*10/I283)","v":0},0,null,null,null,{"$f":"IFERROR(Worksheet!V302/(Worksheet!S302+Worksheet!#REF!),0)","v":0},{"$f":"IF(Worksheet!E302=\"\",\"\",Worksheet!E302)","v":""},{"$f":"IF(Worksheet!B302=\"\",\"\",Worksheet!B302)","v":""},{"$f":"IF(Worksheet!D302=\"\",\"\",Worksheet!D302)","v":""}]
[{"$f":"IF(ISBLANK(Worksheet!F303)=FALSE,VLOOKUP(Worksheet!A303,MeasureCode_Lookup,6,FALSE),\"\")","v":""},{"$f":"Worksheet!H303","v":0},{"$f":"Worksheet!I303","v":0},{"$f":"IFERROR(IF(Worksheet!X303=0,Worksheet!W303/I284,Worksheet!X303/R284),0)","v":0},"W Controlled",null,null,{"$f":"IF(N(Worksheet!S303)=0,N(Worksheet!R303),N(Worksheet!S303))","v":0},{"$f":"IFERROR(Worksheet!U303/(Worksheet!R303+Worksheet!#REF!),0)","v":0},{"$f":"Worksheet!AC303","v":0},{"$f":"Worksheet!AB303","v":0},0,{"$f":"IF(Worksheet!AJ303=0,0,Worksheet!AJ303*10/I284)","v":0},0,null,null,null,{"$f":"IFERROR(Worksheet!V303/(Worksheet!S303+Worksheet!#REF!),0)","v":0},{"$f":"IF(Worksheet!E303=\"\",\"\",Worksheet!E303)","v":""},{"$f":"IF(Worksheet!B303=\"\",\"\",Worksheet!B303)","v":""},{"$f":"IF(Worksheet!D303=\"\",\"\",Worksheet!D303)","v":""}]
[{"$f":"IF(ISBLANK(Worksheet!F304)=FALSE,VLOOKUP(Worksheet!A304,MeasureCode_Lookup,6,FALSE),\"\")","v":""},{"$f":"Worksheet!H304","v":0},{"$f":"Worksheet!I304","v":0},{"$f":"IFERROR(IF(Worksheet!X304=0,Worksheet!W304/I285,Worksheet!X304/R285),0)","v":0},"W Controlled",null,null,{"$f":"IF(N(Worksheet!S304)=0,N(Worksheet!R304),N(Worksheet!S304))","v":0},{"$f":"IFERROR(Worksheet!U304/(Worksheet!R304+Worksheet!#REF!),0)","v":0},{"$f":"Worksheet!AC304","v":0},{"$f":"Worksheet!AB304","v":0},0,{"$f":"IF(Worksheet!AJ304=0,0,Worksheet!AJ304*10/I285)","v":0},0,null,null,null,{"$f":"IFERROR(Worksheet!V304/(Worksheet!S304+Worksheet!#REF!),0)","v":0},{"$f":"IF(Worksheet!E304=\"\",\"\",Worksheet!E304)","v":""},{"$f":"IF(Worksheet!B304=\"\",\"\",Worksheet!B304)","v":""},{"$f":"IF(Worksheet!D304=\"\",\"\",Worksheet!D304)","v":""}]
[{"$f":"IF(ISBLANK(Worksheet!F305)=FALSE,VLOOKUP(Worksheet!A305,MeasureCode_Lookup,6,FALSE),\"\")","v":""},{"$f":"Worksheet!H305","v":0},{"$f":"Worksheet!I305","v":0},{"$f":"IFERROR(IF(Worksheet!X305=0,Worksheet!W305/I286,Worksheet!X305/R286),0)","v":0},"W Controlled",null,null,{"$f":"IF(N(Worksheet!S305)=0,N(Worksheet!R305),N(Worksheet!S305))","v":0},{"$f":"IFERROR(Worksheet!U305/(Worksheet!R305+Worksheet!#REF!),0)","v":0},{"$f":"Worksheet!AC305","v":0},{"$f":"Worksheet!AB305","v":0},0,{"$f":"IF(Worksheet!AJ305=0,0,Worksheet!AJ305*10/I286)","v":0},0,null,null,null,{"$f":"IFERROR(Worksheet!V305/(Worksheet!S305+Worksheet!#REF!),0)","v":0},{"$f":"IF(Worksheet!E305=\"\",\"\",Worksheet!E305)","v":""},{"$f":"IF(Worksheet!B305=\"\",\"\",Worksheet!B305)","v":""},{"$f":"IF(Worksheet!D305=\"\",\"\",Worksheet!D305)","v":""}]
[{"$f":"IF(ISBLANK(Worksheet!F306)=FALSE,VLOOKUP(Worksheet!A306,MeasureCode_Lookup,6,FALSE),\"\")","v":""},{"$f":"Worksheet!H306","v":0},{"$f":"Worksheet!I306","v":0},{"$f":"IFERROR(IF(Worksheet!X306=0,Worksheet!W306/I287,Worksheet!X306/R287),0)","v":0},"W Controlled",null,null,{"$f":"IF(N(Worksheet!S306)=0,N(Worksheet!R306),N(Worksheet!S306))","v":0},{"$f":"IFERROR(Worksheet!U306/(Worksheet!R306+Worksheet!#REF!),0)","v":0},{"$f":"Worksheet!AC306","v":0},{"$f":"Worksheet!AB306","v":0},0,{"$f":"IF(Worksheet!AJ306=0,0,Worksheet!AJ306*10/I287)","v":0},0,null,null,null,{"$f":"IFERROR(Worksheet!V306/(Worksheet!S306+Worksheet!#REF!),0)","v":0},{"$f":"IF(Worksheet!E306=\"\",\"\",Worksheet!E306)","v":""},{"$f":"IF(Worksheet!B306=\"\",\"\",Worksheet!B306)","v":""},{"$f":"IF(Worksheet!D306=\"\",\"\",Worksheet!D306)","v":""}]
[{"$f":"IF(ISBLANK(Worksheet!F307)=FALSE,VLOOKUP(Worksheet!A307,MeasureCode_Lookup,6,FALSE),\"\")","v":""},{"$f":"Worksheet!H307","v":0},{"$f":"Worksheet!I307","v":0},{"$f":"IFERROR(IF(Worksheet!X307=0,Worksheet!W307/I288,Worksheet!X307/R288),0)","v":0},"W Controlled",null,null,{"$f":"IF(N(Worksheet!S307)=0,N(Worksheet!R307),N(Worksheet!S307))","v":0},{"$f":"IFERROR(Worksheet!U307/(Worksheet!R307+Worksheet!#REF!),0)","v":0},{"$f":"Worksheet!AC307","v":0},{"$f":"Worksheet!AB307","v":0},0,{"$f":"IF(Worksheet!AJ307=0,0,Worksheet!AJ307*10/I288)","v":0},0,null,null,null,{"$f":"IFERROR(Worksheet!V307/(Worksheet!S307+Worksheet!#REF!),0)","v":0},{"$f":"IF(Worksheet!E307=\"\",\"\",Worksheet!E307)","v":""},{"$f":"IF(Worksheet!B307=\"\",\"\",Worksheet!B307)","v":""},{"$f":"IF(Worksheet!D307=\"\",\"\",Worksheet!D307)","v":""}]
[{"$f":"IF(ISBLANK(Worksheet!F308)=FALSE,VLOOKUP(Worksheet!A308,MeasureCode_Lookup,6,FALSE),\"\")","v":""},{"$f":"Worksheet!H308","v":0},{"$f":"Worksheet!I308","v":0},{"$f":"IFERROR(IF(Worksheet!X308=0,Worksheet!W308/I289,Worksheet!X308/R289),0)","v":0},"W Controlled",null,null,{"$f":"IF(N(Worksheet!S308)=0,N(Worksheet!R308),N(Worksheet!S308))","v":0},{"$f":"IFERROR(Worksheet!U308/(Worksheet!R308+Worksheet!#REF!),0)","v":0},{"$f":"Worksheet!AC308","v":0},{"$f":"Worksheet!AB308","v":0},0,{"$f":"IF(Worksheet!AJ308=0,0,Worksheet!AJ308*10/I289)","v":0},0,null,null,null,{"$f":"IFERROR(Worksheet!V308/(Worksheet!S308+Worksheet!#REF!),0)","v":0},{"$f":"IF(Worksheet!E308=\"\",\"\",Worksheet!E308)","v":""},{"$f":"IF(Worksheet!B308=\"\",\"\",Worksheet!B308)","v":""},{"$f":"IF(Worksheet!D308=\"\",\"\",Worksheet!D308)","v":""}]
[{"$f":"IF(ISBLANK(Worksheet!F309)=FALSE,VLOOKUP(Worksheet!A309,MeasureCode_Lookup,6,FALSE),\"\")","v":""},{"$f":"Worksheet!H309","v":0},{"$f":"Worksheet!I309","v":0},{"$f":"IFERROR(IF(Worksheet!X309=0,Worksheet!W309/I290,Worksheet!X309/R290),0)","v":0},"W Controlled",null,null,{"$f":"IF(N(Worksheet!S309)=0,N(Worksheet!R309),N(Worksheet!S309))","v":0},{"$f":"IFERROR(Worksheet!U309/(Worksheet!R309+Worksheet!#REF!),0)","v":0},{"$f":"Worksheet!AC309","v":0},{"$f":"Worksheet!AB309","v":0},0,{"$f":"IF(Worksheet!AJ309=0,0,Worksheet!AJ309*10/I290)","v":0},0,null,null,null,{"$f":"IFERROR(Worksheet!V309/(Worksheet!S309+Worksheet!#REF!),0)","v":0},{"$f":"IF(Worksheet!E309=\"\",\"\",Worksheet!E309)","v":""},{"$f":"IF(Worksheet!B309=\"\",\"\",Worksheet!B309)","v":""},{"$f":"IF(Worksheet!D309=\"\",\"\",Worksheet!D309)","v":""}]
[{"$f":"IF(ISBLANK(Worksheet!F310)=FALSE,VLOOKUP(Worksheet!A310,MeasureCode_Lookup,6,FALSE),\"\")","v":""},{"$f":"Worksheet!H310","v":0},{"$f":"Worksheet!I310","v":0},{"$f":"IFERROR(IF(Worksheet!X310=0,Worksheet!W310/I291,Worksheet!X310/R291),0)","v":0},"W Controlled",null,null,{"$f":"IF(N(Worksheet!S310)=0,N(Worksheet!R310),N(Worksheet!S310))","v":0},{"$f":"IFERROR(Worksheet!U310/(Worksheet!R310+Worksheet!#REF!),0)","v":0},{"$f":"Worksheet!AC310","v":0},{"$f":"Worksheet!AB310","v":0},0,{"$f":"IF(Worksheet!AJ310=0,0,Worksheet!AJ310*10/I291)","v":0},0,null,null,null,{"$f":"IFERROR(Worksheet!V310/(Worksheet!S310+Worksheet!#REF!),0)","v":0},{"$f":"IF(Worksheet!E310=\"\",\"\",Worksheet!E310)","v":""},{"$f":"IF(Worksheet!B310=\"\",\"\",Worksheet!B310)","v":""},{"$f":"IF(Worksheet!D310=\"\",\"\",Worksheet!D310)","v":""}]
[{"$f":"IF(ISBLANK(Worksheet!F311)=FALSE,VLOOKUP(Worksheet!A311,MeasureCode_Lookup,6,FALSE),\"\")","v":""},{"$f":"Worksheet!H311","v":0},{"$f":"Worksheet!I311","v":0},{"$f":"IFERROR(IF(Worksheet!X311=0,Worksheet!W311/I292,Worksheet!X311/R292),0)","v":0},"W Controlled",null,null,{"$f":"IF(N(Worksheet!S311)=0,N(Worksheet!R311),N(Worksheet!S311))","v":0},{"$f":"IFERROR(Worksheet!U311/(Worksheet!R311+Worksheet!#REF!),0)","v":0},{"$f":"Worksheet!AC311","v":0},{"$f":"Worksheet!AB311","v":0},0,{"$f":"IF(Worksheet!AJ311=0,0,Worksheet!AJ311*10/I292)","v":0},0,null,null,null,{"$f":"IFERROR(Worksheet!V311/(Worksheet!S311+Worksheet!#REF!),0)","v":0},{"$f":"IF(Worksheet!E311=\"\",\"\",Worksheet!E311)","v":""},{"$f":"IF(Worksheet!B311=\"\",\"\",Worksheet!B311)","v":""},{"$f":"IF(Worksheet!D311=\"\",\"\",Worksheet!D311)","v":""}]
[{"$f":"IF(ISBLANK(Worksheet!F312)=FALSE,VLOOKUP(Worksheet!A312,MeasureCode_Lookup,6,FALSE),\"\")","v":""},{"$f":"Worksheet!H312","v":0},{"$f":"Worksheet!I312","v":0},{"$f":"IFERROR(IF(Worksheet!X312=0,Worksheet!W312/I293,Worksheet!X312/R293),0)","v":0},"W Controlled",null,null,{"$f":"IF(N(Worksheet!S312)=0,N(Worksheet!R312),N(Worksheet!S312))","v":0},{"$f":"IFERROR(Worksheet!U312/(Worksheet!R312+Worksheet!#REF!),0)","v":0},{"$f":"Worksheet!AC312","v":0},{"$f":"Worksheet!AB312","v":0},0,{"$f":"IF(Worksheet!AJ312=0,0,Worksheet!AJ312*10/I293)","v":0},0,null,null,null,{"$f":"IFERROR(Worksheet!V312/(Worksheet!S312+Worksheet!#REF!),0)","v":0},{"$f":"IF(Worksheet!E312=\"\",\"\",Worksheet!E312)","v":""},{"$f":"IF(Worksheet!B312=\"\",\"\",Worksheet!B312)","v":""},{"$f":"IF(Worksheet!D312=\"\",\"\",Worksheet!D312)","v":""}]
[{"$f":"IF(ISBLANK(Worksheet!F313)=FALSE,VLOOKUP(Worksheet!A313,MeasureCode_Lookup,6,FALSE),\"\")","v":""},{"$f":"Worksheet!H313","v":0},{"$f":"Worksheet!I313","v":0},{"$f":"IFERROR(IF(Worksheet!X313=0,Worksheet!W313/I294,Worksheet!X313/R294),0)","v":0},"W Controlled",null,null,{"$f":"IF(N(Worksheet!S313)=0,N(Worksheet!R313),N(Worksheet!S313))","v":0},{"$f":"IFERROR(Worksheet!U313/(Worksheet!R313+Worksheet!#REF!),0)","v":0},{"$f":"Worksheet!AC313","v":0},{"$f":"Worksheet!AB313","v":0},0,{"$f":"IF(Worksheet!AJ313=0,0,Worksheet!AJ313*10/I294)","v":0},0,null,null,null,{"$f":"IFERROR(Worksheet!V313/(Worksheet!S313+Worksheet!#REF!),0)","v":0},{"$f":"IF(Worksheet!E313=\"\",\"\",Worksheet!E313)","v":""},{"$f":"IF(Worksheet!B313=\"\",\"\",Worksheet!B313)","v":""},{"$f":"IF(Worksheet!D313=\"\",\"\",Worksheet!D313)","v":""}]
[{"$f":"IF(ISBLANK(Worksheet!F314)=FALSE,VLOOKUP(Worksheet!A314,MeasureCode_Lookup,6,FALSE),\"\")","v":""},{"$f":"Worksheet!H314","v":0},{"$f":"Worksheet!I314","v":0},{"$f":"IFERROR(IF(Worksheet!X314=0,Worksheet!W314/I295,Worksheet!X314/R295),0)","v":0},"W Controlled",null,null,{"$f":"IF(N(Worksheet!S314)=0,N(Worksheet!R314),N(Worksheet!S314))","v":0},{"$f":"IFERROR(Worksheet!U314/(Worksheet!R314+Worksheet!#REF!),0)","v":0},{"$f":"Worksheet!AC314","v":0},{"$f":"Worksheet!AB314","v":0},0,{"$f":"IF(Worksheet!AJ314=0,0,Worksheet!AJ314*10/I295)","v":0},0,null,null,null,{"$f":"IFERROR(Worksheet!V314/(Worksheet!S314+Worksheet!#REF!),0)","v":0},{"$f":"IF(Worksheet!E314=\"\",\"\",Worksheet!E314)","v":""},{"$f":"IF(Worksheet!B314=\"\",\"\",Worksheet!B314)","v":""},{"$f":"IF(Worksheet!D314=\"\",\"\",Worksheet!D314)","v":""}]
[{"$f":"IF(ISBLANK(Worksheet!F315)=FALSE,VLOOKUP(Worksheet!A315,MeasureCode_Lookup,6,FALSE),\"\")","v":""},{"$f":"Worksheet!H315","v":0},{"$f":"Worksheet!I315","v":0},{"$f":"IFERROR(IF(Worksheet!X315=0,Worksheet!W315/I296,Worksheet!X315/R296),0)","v":0},"W Controlled",null,null,{"$f":"IF(N(Worksheet!S315)=0,N(Worksheet!R315),N(Worksheet!S315))","v":0},{"$f":"IFERROR(Worksheet!U315/(Worksheet!R315+Worksheet!#REF!),0)","v":0},{"$f":"Worksheet!AC315","v":0},{"$f":"Worksheet!AB315","v":0},0,{"$f":"IF(Worksheet!AJ315=0,0,Worksheet!AJ315*10/I296)","v":0},0,null,null,null,{"$f":"IFERROR(Worksheet!V315/(Worksheet!S315+Worksheet!#REF!),0)","v":0},{"$f":"IF(Worksheet!E315=\"\",\"\",Worksheet!E315)","v":""},{"$f":"IF(Worksheet!B315=\"\",\"\",Worksheet!B315)","v":""},{"$f":"IF(Worksheet!D315=\"\",\"\",Worksheet!D315)","v":""}]
[{"$f":"IF(ISBLANK(Worksheet!F316)=FALSE,VLOOKUP(Worksheet!A316,MeasureCode_Lookup,6,FALSE),\"\")","v":""},{"$f":"Worksheet!H316","v":0},{"$f":"Worksheet!I316","v":0},{"$f":"IFERROR(IF(Worksheet!X316=0,Worksheet!W316/I297,Worksheet!X316/R297),0)","v":0},"W Controlled",null,null,{"$f":"IF(N(Worksheet!S316)=0,N(Worksheet!R316),N(Worksheet!S316))","v":0},{"$f":"IFERROR(Worksheet!U316/(Worksheet!R316+Worksheet!#REF!),0)","v":0},{"$f":"Worksheet!AC316","v":0},{"$f":"Worksheet!AB316","v":0},0,{"$f":"IF(Worksheet!AJ316=0,0,Worksheet!AJ316*10/I297)","v":0},0,null,null,null,{"$f":"IFERROR(Worksheet!V316/(Worksheet!S316+Worksheet!#REF!),0)","v":0},{"$f":"IF(Worksheet!E316=\"\",\"\",Worksheet!E316)","v":""},{"$f":"IF(Worksheet!B316=\"\",\"\",Worksheet!B316)","v":""},{"$f":"IF(Worksheet!D316=\"\",\"\",Worksheet!D316)","v":""}]
[{"$f":"IF(ISBLANK(Worksheet!F317)=FALSE,VLOOKUP(Worksheet!A317,MeasureCode_Lookup,6,FALSE),\"\")","v":""},{"$f":"Worksheet!H317","v":0},{"$f":"Worksheet!I317","v":0},{"$f":"IFERROR(IF(Worksheet!X317=0,Worksheet!W317/I298,Worksheet!X317/R298),0)","v":0},"W Controlled",null,null,{"$f":"IF(N(Worksheet!S317)=0,N(Worksheet!R317),N(Worksheet!S317))","v":0},{"$f":"IFERROR(Worksheet!U317/(Worksheet!R317+Worksheet!#REF!),0)","v":0},{"$f":"Worksheet!AC317","v":0},{"$f":"Worksheet!AB317","v":0},0,{"$f":"IF(Worksheet!AJ317=0,0,Worksheet!AJ317*10/I298)","v":0},0,null,null,null,{"$f":"IFERROR(Worksheet!V317/(Worksheet!S317+Worksheet!#REF!),0)","v":0},{"$f":"IF(Worksheet!E317=\"\",\"\",Worksheet!E317)","v":""},{"$f":"IF(Worksheet!B317=\"\",\"\",Worksheet!B317)","v":""},{"$f":"IF(Worksheet!D317=\"\",\"\",Worksheet!D317)","v":""}]
[{"$f":"IF(ISBLANK(Worksheet!F318)=FALSE,VLOOKUP(Worksheet!A318,MeasureCode_Lookup,6,FALSE),\"\")","v":""},{"$f":"Worksheet!H318","v":0},{"$f":"Worksheet!I318","v":0},{"$f":"IFERROR(IF(Worksheet!X318=0,Worksheet!W318/I299,Worksheet!X318/R299),0)","v":0},"W Controlled",null,null,{"$f":"IF(N(Worksheet!S318)=0,N(Worksheet!R318),N(Worksheet!S318))","v":0},{"$f":"IFERROR(Worksheet!U318/(Worksheet!R318+Worksheet!#REF!),0)","v":0},{"$f":"Worksheet!AC318","v":0},{"$f":"Worksheet!AB318","v":0},0,{"$f":"IF(Worksheet!AJ318=0,0,Worksheet!AJ318*10/I299)","v":0},0,null,null,null,{"$f":"IFERROR(Worksheet!V318/(Worksheet!S318+Worksheet!#REF!),0)","v":0},{"$f":"IF(Worksheet!E318=\"\",\"\",Worksheet!E318)","v":""},{"$f":"IF(Worksheet!B318=\"\",\"\",Worksheet!B318)","v":""},{"$f":"IF(Worksheet!D318=\"\",\"\",Worksheet!D318)","v":""}]
[{"$f":"IF(ISBLANK(Worksheet!F319)=FALSE,VLOOKUP(Worksheet!A319,MeasureCode_Lookup,6,FALSE),\"\")","v":""},{"$f":"Worksheet!H319","v":0},{"$f":"Worksheet!I319","v":0},{"$f":"IFERROR(IF(Worksheet!X319=0,Worksheet!W319/I300,Worksheet!X319/R300),0)","v":0},"W Controlled",null,null,{"$f":"IF(N(Worksheet!S319)=0,N(Worksheet!R319),N(Worksheet!S319))","v":0},{"$f":"IFERROR(Worksheet!U319/(Worksheet!R319+Worksheet!#REF!),0)","v":0},{"$f":"Worksheet!AC319","v":0},{"$f":"Worksheet!AB319","v":0},0,{"$f":"IF(Worksheet!AJ319=0,0,Worksheet!AJ319*10/I300)","v":0},0,null,null,null,{"$f":"IFERROR(Worksheet!V319/(Worksheet!S319+Worksheet!#REF!),0)","v":0},{"$f":"IF(Worksheet!E319=\"\",\"\",Worksheet!E319)","v":""},{"$f":"IF(Worksheet!B319=\"\",\"\",Worksheet!B319)","v":""},{"$f":"IF(Worksheet!D319=\"\",\"\",Worksheet!D319)","v":""}]
[{"$f":"IF(ISBLANK(Worksheet!F320)=FALSE,VLOOKUP(Worksheet!A320,MeasureCode_Lookup,6,FALSE),\"\")","v":""},{"$f":"Worksheet!H320","v":0},{"$f":"Worksheet!I320","v":0},{"$f":"IFERROR(IF(Worksheet!X320=0,Worksheet!W320/I301,Worksheet!X320/R301),0)","v":0},"W Controlled",null,null,{"$f":"IF(N(Worksheet!S320)=0,N(Worksheet!R320),N(Worksheet!S320))","v":0},{"$f":"IFERROR(Worksheet!U320/(Worksheet!R320+Worksheet!#REF!),0)","v":0},{"$f":"Worksheet!AC320","v":0},{"$f":"Worksheet!AB320","v":0},0,{"$f":"IF(Worksheet!AJ320=0,0,Worksheet!AJ320*10/I301)","v":0},0,null,null,null,{"$f":"IFERROR(Worksheet!V320/(Worksheet!S320+Worksheet!#REF!),0)","v":0},{"$f":"IF(Worksheet!E320=\"\",\"\",Worksheet!E320)","v":""},{"$f":"IF(Worksheet!B320=\"\",\"\",Worksheet!B320)","v":""},{"$f":"IF(Worksheet!D320=\"\",\"\",Worksheet!D320)","v":""}]
[{"$f":"IF(ISBLANK(Worksheet!F321)=FALSE,VLOOKUP(Worksheet!A321,MeasureCode_Lookup,6,FALSE),\"\")","v":""},{"$f":"Worksheet!H321","v":0},{"$f":"Worksheet!I321","v":0},{"$f":"IFERROR(IF(Worksheet!X321=0,Worksheet!W321/I302,Worksheet!X321/R302),0)","v":0},"W Controlled",null,null,{"$f":"IF(N(Worksheet!S321)=0,N(Worksheet!R321),N(Worksheet!S321))","v":0},{"$f":"IFERROR(Worksheet!U321/(Worksheet!R321+Worksheet!#REF!),0)","v":0},{"$f":"Worksheet!AC321","v":0},{"$f":"Worksheet!AB321","v":0},0,{"$f":"IF(Worksheet!AJ321=0,0,Worksheet!AJ321*10/I302)","v":0},0,null,null,null,{"$f":"IFERROR(Worksheet!V321/(Worksheet!S321+Worksheet!#REF!),0)","v":0},{"$f":"IF(Worksheet!E321=\"\",\"\",Worksheet!E321)","v":""},{"$f":"IF(Worksheet!B321=\"\",\"\",Worksheet!B321)","v":""},{"$f":"IF(Worksheet!D321=\"\",\"\",Worksheet!D321)","v":""}]
[{"$f":"IF(ISBLANK(Worksheet!F322)=FALSE,VLOOKUP(Worksheet!A322,MeasureCode_Lookup,6,FALSE),\"\")","v":""},{"$f":"Worksheet!H322","v":0},{"$f":"Worksheet!I322","v":0},{"$f":"IFERROR(IF(Worksheet!X322=0,Worksheet!W322/I303,Worksheet!X322/R303),0)","v":0},"W Controlled",null,null,{"$f":"IF(N(Worksheet!S322)=0,N(Worksheet!R322),N(Worksheet!S322))","v":0},{"$f":"IFERROR(Worksheet!U322/(Worksheet!R322+Worksheet!#REF!),0)","v":0},{"$f":"Worksheet!AC322","v":0},{"$f":"Worksheet!AB322","v":0},0,{"$f":"IF(Worksheet!AJ322=0,0,Worksheet!AJ322*10/I303)","v":0},0,null,null,null,{"$f":"IFERROR(Worksheet!V322/(Worksheet!S322+Worksheet!#REF!),0)","v":0},{"$f":"IF(Worksheet!E322=\"\",\"\",Worksheet!E322)","v":""},{"$f":"IF(Worksheet!B322=\"\",\"\",Worksheet!B322)","v":""},{"$f":"IF(Worksheet!D322=\"\",\"\",Worksheet!D322)","v":""}]
[{"$f":"IF(ISBLANK(Worksheet!F323)=FALSE,VLOOKUP(Worksheet!A323,MeasureCode_Lookup,6,FALSE),\"\")","v":""},{"$f":"Worksheet!H323","v":0},{"$f":"Worksheet!I323","v":0},{"$f":"IFERROR(IF(Worksheet!X323=0,Worksheet!W323/I304,Worksheet!X323/R304),0)","v":0},"W Controlled",null,null,{"$f":"IF(N(Worksheet!S323)=0,N(Worksheet!R323),N(Worksheet!S323))","v":0},{"$f":"IFERROR(Worksheet!U323/(Worksheet!R323+Worksheet!#REF!),0)","v":0},{"$f":"Worksheet!AC323","v":0},{"$f":"Worksheet!AB323","v":0},0,{"$f":"IF(Worksheet!AJ323=0,0,Worksheet!AJ323*10/I304)","v":0},0,null,null,null,{"$f":"IFERROR(Worksheet!V323/(Worksheet!S323+Worksheet!#REF!),0)","v":0},{"$f":"IF(Worksheet!E323=\"\",\"\",Worksheet!E323)","v":""},{"$f":"IF(Worksheet!B323=\"\",\"\",Worksheet!B323)","v":""},{"$f":"IF(Worksheet!D323=\"\",\"\",Worksheet!D323)","v":""}]
[{"$f":"IF(ISBLANK(Worksheet!F324)=FALSE,VLOOKUP(Worksheet!A324,MeasureCode_Lookup,6,FALSE),\"\")","v":""},{"$f":"Worksheet!H324","v":0},{"$f":"Worksheet!I324","v":0},{"$f":"IFERROR(IF(Worksheet!X324=0,Worksheet!W324/I305,Worksheet!X324/R305),0)","v":0},"W Controlled",null,null,{"$f":"IF(N(Worksheet!S324)=0,N(Worksheet!R324),N(Worksheet!S324))","v":0},{"$f":"IFERROR(Worksheet!U324/(Worksheet!R324+Worksheet!#REF!),0)","v":0},{"$f":"Worksheet!AC324","v":0},{"$f":"Worksheet!AB324","v":0},0,{"$f":"IF(Worksheet!AJ324=0,0,Worksheet!AJ324*10/I305)","v":0},0,null,null,null,{"$f":"IFERROR(Worksheet!V324/(Worksheet!S324+Worksheet!#REF!),0)","v":0},{"$f":"IF(Worksheet!E324=\"\",\"\",Worksheet!E324)","v":""},{"$f":"IF(Worksheet!B324=\"\",\"\",Worksheet!B324)","v":""},{"$f":"IF(Worksheet!D324=\"\",\"\",Worksheet!D324)","v":""}]
[{"$f":"IF(ISBLANK(Worksheet!F325)=FALSE,VLOOKUP(Worksheet!A325,MeasureCode_Lookup,6,FALSE),\"\")","v":""},{"$f":"Worksheet!H325","v":0},{"$f":"Worksheet!I325","v":0},{"$f":"IFERROR(IF(Worksheet!X325=0,Worksheet!W325/I306,Worksheet!X325/R306),0)","v":0},"W Controlled",null,null,{"$f":"IF(N(Worksheet!S325)=0,N(Worksheet!R325),N(Worksheet!S325))","v":0},{"$f":"IFERROR(Worksheet!U325/(Worksheet!R325+Worksheet!#REF!),0)","v":0},{"$f":"Worksheet!AC325","v":0},{"$f":"Worksheet!AB325","v":0},0,{"$f":"IF(Worksheet!AJ325=0,0,Worksheet!AJ325*10/I306)","v":0},0,null,null,null,{"$f":"IFERROR(Worksheet!V325/(Worksheet!S325+Worksheet!#REF!),0)","v":0},{"$f":"IF(Worksheet!E325=\"\",\"\",Worksheet!E325)","v":""},{"$f":"IF(Worksheet!B325=\"\",\"\",Worksheet!B325)","v":""},{"$f":"IF(Worksheet!D325=\"\",\"\",Worksheet!D325)","v":""}]
[{"$f":"IF(ISBLANK(Worksheet!F326)=FALSE,VLOOKUP(Worksheet!A326,MeasureCode_Lookup,6,FALSE),\"\")","v":""},{"$f":"Worksheet!H326","v":0},{"$f":"Worksheet!I326","v":0},{"$f":"IFERROR(IF(Worksheet!X326=0,Worksheet!W326/I307,Worksheet!X326/R307),0)","v":0},"W Controlled",null,null,{"$f":"IF(N(Worksheet!S326)=0,N(Worksheet!R326),N(Worksheet!S326))","v":0},{"$f":"IFERROR(Worksheet!U326/(Worksheet!R326+Worksheet!#REF!),0)","v":0},{"$f":"Worksheet!AC326","v":0},{"$f":"Worksheet!AB326","v":0},0,{"$f":"IF(Worksheet!AJ326=0,0,Worksheet!AJ326*10/I307)","v":0},0,null,null,null,{"$f":"IFERROR(Worksheet!V326/(Worksheet!S326+Worksheet!#REF!),0)","v":0},{"$f":"IF(Worksheet!E326=\"\",\"\",Worksheet!E326)","v":""},{"$f":"IF(Worksheet!B326=\"\",\"\",Worksheet!B326)","v":""},{"$f":"IF(Worksheet!D326=\"\",\"\",Worksheet!D326)","v":""}]
[{"$f":"IF(ISBLANK(Worksheet!F327)=FALSE,VLOOKUP(Worksheet!A327,MeasureCode_Lookup,6,FALSE),\"\")","v":""},{"$f":"Worksheet!H327","v":0},{"$f":"Worksheet!I327","v":0},{"$f":"IFERROR(IF(Worksheet!X327=0,Worksheet!W327/I308,Worksheet!X327/R308),0)","v":0},"W Controlled",null,null,{"$f":"IF(N(Worksheet!S327)=0,N(Worksheet!R327),N(Worksheet!S327))","v":0},{"$f":"IFERROR(Worksheet!U327/(Worksheet!R327+Worksheet!#REF!),0)","v":0},{"$f":"Worksheet!AC327","v":0},{"$f":"Worksheet!AB327","v":0},0,{"$f":"IF(Worksheet!AJ327=0,0,Worksheet!AJ327*10/I308)","v":0},0,null,null,null,{"$f":"IFERROR(Worksheet!V327/(Worksheet!S327+Worksheet!#REF!),0)","v":0},{"$f":"IF(Worksheet!E327=\"\",\"\",Worksheet!E327)","v":""},{"$f":"IF(Worksheet!B327=\"\",\"\",Worksheet!B327)","v":""},{"$f":"IF(Worksheet!D327=\"\",\"\",Worksheet!D327)","v":""}]
[{"$f":"IF(ISBLANK(Worksheet!F328)=FALSE,VLOOKUP(Worksheet!A328,MeasureCode_Lookup,6,FALSE),\"\")","v":""},{"$f":"Worksheet!H328","v":0},{"$f":"Worksheet!I328","v":0},{"$f":"IFERROR(IF(Worksheet!X328=0,Worksheet!W328/I309,Worksheet!X328/R309),0)","v":0},"W Controlled",null,null,{"$f":"IF(N(Worksheet!S328)=0,N(Worksheet!R328),N(Worksheet!S328))","v":0},{"$f":"IFERROR(Worksheet!U328/(Worksheet!R328+Worksheet!#REF!),0)","v":0},{"$f":"Worksheet!AC328","v":0},{"$f":"Worksheet!AB328","v":0},0,{"$f":"IF(Worksheet!AJ328=0,0,Worksheet!AJ328*10/I309)","v":0},0,null,null,null,{"$f":"IFERROR(Worksheet!V328/(Worksheet!S328+Worksheet!#REF!),0)","v":0},{"$f":"IF(Worksheet!E328=\"\",\"\",Worksheet!E328)","v":""},{"$f":"IF(Worksheet!B328=\"\",\"\",Worksheet!B328)","v":""},{"$f":"IF(Worksheet!D328=\"\",\"\",Worksheet!D328)","v":""}]
[{"$f":"IF(ISBLANK(Worksheet!F329)=FALSE,VLOOKUP(Worksheet!A329,MeasureCode_Lookup,6,FALSE),\"\")","v":""},{"$f":"Worksheet!H329","v":0},{"$f":"Worksheet!I329","v":0},{"$f":"IFERROR(IF(Worksheet!X329=0,Worksheet!W329/I310,Worksheet!X329/R310),0)","v":0},"W Controlled",null,null,{"$f":"IF(N(Worksheet!S329)=0,N(Worksheet!R329),N(Worksheet!S329))","v":0},{"$f":"IFERROR(Worksheet!U329/(Worksheet!R329+Worksheet!#REF!),0)","v":0},{"$f":"Worksheet!AC329","v":0},{"$f":"Worksheet!AB329","v":0},0,{"$f":"IF(Worksheet!AJ329=0,0,Worksheet!AJ329*10/I310)","v":0},0,null,null,null,{"$f":"IFERROR(Worksheet!V329/(Worksheet!S329+Worksheet!#REF!),0)","v":0},{"$f":"IF(Worksheet!E329=\"\",\"\",Worksheet!E329)","v":""},{"$f":"IF(Worksheet!B329=\"\",\"\",Worksheet!B329)","v":""},{"$f":"IF(Worksheet!D329=\"\",\"\",Worksheet!D329)","v":""}]
[{"$f":"IF(ISBLANK(Worksheet!F330)=FALSE,VLOOKUP(Worksheet!A330,MeasureCode_Lookup,6,FALSE),\"\")","v":""},{"$f":"Worksheet!H330","v":0},{"$f":"Worksheet!I330","v":0},{"$f":"IFERROR(IF(Worksheet!X330=0,Worksheet!W330/I311,Worksheet!X330/R311),0)","v":0},"W Controlled",null,null,{"$f":"IF(N(Worksheet!S330)=0,N(Worksheet!R330),N(Worksheet!S330))","v":0},{"$f":"IFERROR(Worksheet!U330/(Worksheet!R330+Worksheet!#REF!),0)","v":0},{"$f":"Worksheet!AC330","v":0},{"$f":"Worksheet!AB330","v":0},0,{"$f":"IF(Worksheet!AJ330=0,0,Worksheet!AJ330*10/I311)","v":0},0,null,null,null,{"$f":"IFERROR(Worksheet!V330/(Worksheet!S330+Worksheet!#REF!),0)","v":0},{"$f":"IF(Worksheet!E330=\"\",\"\",Worksheet!E330)","v":""},{"$f":"IF(Worksheet!B330=\"\",\"\",Worksheet!B330)","v":""},{"$f":"IF(Worksheet!D330=\"\",\"\",Worksheet!D330)","v":""}]
[{"$f":"IF(ISBLANK(Worksheet!F331)=FALSE,VLOOKUP(Worksheet!A331,MeasureCode_Lookup,6,FALSE),\"\")","v":""},{"$f":"Worksheet!H331","v":0},{"$f":"Worksheet!I331","v":0},{"$f":"IFERROR(IF(Worksheet!X331=0,Worksheet!W331/I312,Worksheet!X331/R312),0)","v":0},"W Controlled",null,null,{"$f":"IF(N(Worksheet!S331)=0,N(Worksheet!R331),N(Worksheet!S331))","v":0},{"$f":"IFERROR(Worksheet!U331/(Worksheet!R331+Worksheet!#REF!),0)","v":0},{"$f":"Worksheet!AC331","v":0},{"$f":"Worksheet!AB331","v":0},0,{"$f":"IF(Worksheet!AJ331=0,0,Worksheet!AJ331*10/I312)","v":0},0,null,null,null,{"$f":"IFERROR(Worksheet!V331/(Worksheet!S331+Worksheet!#REF!),0)","v":0},{"$f":"IF(Worksheet!E331=\"\",\"\",Worksheet!E331)","v":""},{"$f":"IF(Worksheet!B331=\"\",\"\",Worksheet!B331)","v":""},{"$f":"IF(Worksheet!D331=\"\",\"\",Worksheet!D331)","v":""}]
[{"$f":"IF(ISBLANK(Worksheet!F332)=FALSE,VLOOKUP(Worksheet!A332,MeasureCode_Lookup,6,FALSE),\"\")","v":""},{"$f":"Worksheet!H332","v":0},{"$f":"Worksheet!I332","v":0},{"$f":"IFERROR(IF(Worksheet!X332=0,Worksheet!W332/I313,Worksheet!X332/R313),0)","v":0},"W Controlled",null,null,{"$f":"IF(N(Worksheet!S332)=0,N(Worksheet!R332),N(Worksheet!S332))","v":0},{"$f":"IFERROR(Worksheet!U332/(Worksheet!R332+Worksheet!#REF!),0)","v":0},{"$f":"Worksheet!AC332","v":0},{"$f":"Worksheet!AB332","v":0},0,{"$f":"IF(Worksheet!AJ332=0,0,Worksheet!AJ332*10/I313)","v":0},0,null,null,null,{"$f":"IFERROR(Worksheet!V332/(Worksheet!S332+Worksheet!#REF!),0)","v":0},{"$f":"IF(Worksheet!E332=\"\",\"\",Worksheet!E332)","v":""},{"$f":"IF(Worksheet!B332=\"\",\"\",Worksheet!B332)","v":""},{"$f":"IF(Worksheet!D332=\"\",\"\",Worksheet!D332)","v":""}]
[{"$f":"IF(ISBLANK(Worksheet!F333)=FALSE,VLOOKUP(Worksheet!A333,MeasureCode_Lookup,6,FALSE),\"\")","v":""},{"$f":"Worksheet!H333","v":0},{"$f":"Worksheet!I333","v":0},{"$f":"IFERROR(IF(Worksheet!X333=0,Worksheet!W333/I314,Worksheet!X333/R314),0)","v":0},"W Controlled",null,null,{"$f":"IF(N(Worksheet!S333)=0,N(Worksheet!R333),N(Worksheet!S333))","v":0},{"$f":"IFERROR(Worksheet!U333/(Worksheet!R333+Worksheet!#REF!),0)","v":0},{"$f":"Worksheet!AC333","v":0},{"$f":"Worksheet!AB333","v":0},0,{"$f":"IF(Worksheet!AJ333=0,0,Worksheet!AJ333*10/I314)","v":0},0,null,null,null,{"$f":"IFERROR(Worksheet!V333/(Worksheet!S333+Worksheet!#REF!),0)","v":0},{"$f":"IF(Worksheet!E333=\"\",\"\",Worksheet!E333)","v":""},{"$f":"IF(Worksheet!B333=\"\",\"\",Worksheet!B333)","v":""},{"$f":"IF(Worksheet!D333=\"\",\"\",Worksheet!D333)","v":""}]
[{"$f":"IF(ISBLANK(Worksheet!F334)=FALSE,VLOOKUP(Worksheet!A334,MeasureCode_Lookup,6,FALSE),\"\")","v":""},{"$f":"Worksheet!H334","v":0},{"$f":"Worksheet!I334","v":0},{"$f":"IFERROR(IF(Worksheet!X334=0,Worksheet!W334/I315,Worksheet!X334/R315),0)","v":0},"W Controlled",null,null,{"$f":"IF(N(Worksheet!S334)=0,N(Worksheet!R334),N(Worksheet!S334))","v":0},{"$f":"IFERROR(Worksheet!U334/(Worksheet!R334+Worksheet!#REF!),0)","v":0},{"$f":"Worksheet!AC334","v":0},{"$f":"Worksheet!AB334","v":0},0,{"$f":"IF(Worksheet!AJ334=0,0,Worksheet!AJ334*10/I315)","v":0},0,null,null,null,{"$f":"IFERROR(Worksheet!V334/(Worksheet!S334+Worksheet!#REF!),0)","v":0},{"$f":"IF(Worksheet!E334=\"\",\"\",Worksheet!E334)","v":""},{"$f":"IF(Worksheet!B334=\"\",\"\",Worksheet!B334)","v":""},{"$f":"IF(Worksheet!D334=\"\",\"\",Worksheet!D334)","v":""}]
[{"$f":"IF(ISBLANK(Worksheet!F335)=FALSE,VLOOKUP(Worksheet!A335,MeasureCode_Lookup,6,FALSE),\"\")","v":""},{"$f":"Worksheet!H335","v":0},{"$f":"Worksheet!I335","v":0},{"$f":"IFERROR(IF(Worksheet!X335=0,Worksheet!W335/I316,Worksheet!X335/R316),0)","v":0},"W Controlled",null,null,{"$f":"IF(N(Worksheet!S335)=0,N(Worksheet!R335),N(Worksheet!S335))","v":0},{"$f":"IFERROR(Worksheet!U335/(Worksheet!R335+Worksheet!#REF!),0)","v":0},{"$f":"Worksheet!AC335","v":0},{"$f":"Worksheet!AB335","v":0},0,{"$f":"IF(Worksheet!AJ335=0,0,Worksheet!AJ335*10/I316)","v":0},0,null,null,null,{"$f":"IFERROR(Worksheet!V335/(Worksheet!S335+Worksheet!#REF!),0)","v":0},{"$f":"IF(Worksheet!E335=\"\",\"\",Worksheet!E335)","v":""},{"$f":"IF(Worksheet!B335=\"\",\"\",Worksheet!B335)","v":""},{"$f":"IF(Worksheet!D335=\"\",\"\",Worksheet!D335)","v":""}]
[{"$f":"IF(ISBLANK(Worksheet!F336)=FALSE,VLOOKUP(Worksheet!A336,MeasureCode_Lookup,6,FALSE),\"\")","v":""},{"$f":"Worksheet!H336","v":0},{"$f":"Worksheet!I336","v":0},{"$f":"IFERROR(IF(Worksheet!X336=0,Worksheet!W336/I317,Worksheet!X336/R317),0)","v":0},"W Controlled",null,null,{"$f":"IF(N(Worksheet!S336)=0,N(Worksheet!R336),N(Worksheet!S336))","v":0},{"$f":"IFERROR(Worksheet!U336/(Worksheet!R336+Worksheet!#REF!),0)","v":0},{"$f":"Worksheet!AC336","v":0},{"$f":"Worksheet!AB336","v":0},0,{"$f":"IF(Worksheet!AJ336=0,0,Worksheet!AJ336*10/I317)","v":0},0,null,null,null,{"$f":"IFERROR(Worksheet!V336/(Worksheet!S336+Worksheet!#REF!),0)","v":0},{"$f":"IF(Worksheet!E336=\"\",\"\",Worksheet!E336)","v":""},{"$f":"IF(Worksheet!B336=\"\",\"\",Worksheet!B336)","v":""},{"$f":"IF(Worksheet!D336=\"\",\"\",Worksheet!D336)","v":""}]
[{"$f":"IF(ISBLANK(Worksheet!F337)=FALSE,VLOOKUP(Worksheet!A337,MeasureCode_Lookup,6,FALSE),\"\")","v":""},{"$f":"Worksheet!H337","v":0},{"$f":"Worksheet!I337","v":0},{"$f":"IFERROR(IF(Worksheet!X337=0,Worksheet!W337/I318,Worksheet!X337/R318),0)","v":0},"W Controlled",null,null,{"$f":"IF(N(Worksheet!S337)=0,N(Worksheet!R337),N(Worksheet!S337))","v":0},{"$f":"IFERROR(Worksheet!U337/(Worksheet!R337+Worksheet!#REF!),0)","v":0},{"$f":"Worksheet!AC337","v":0},{"$f":"Worksheet!AB337","v":0},0,{"$f":"IF(Worksheet!AJ337=0,0,Worksheet!AJ337*10/I318)","v":0},0,null,null,null,{"$f":"IFERROR(Worksheet!V337/(Worksheet!S337+Worksheet!#REF!),0)","v":0},{"$f":"IF(Worksheet!E337=\"\",\"\",Worksheet!E337)","v":""},{"$f":"IF(Worksheet!B337=\"\",\"\",Worksheet!B337)","v":""},{"$f":"IF(Worksheet!D337=\"\",\"\",Worksheet!D337)","v":""}]
[{"$f":"IF(ISBLANK(Worksheet!F338)=FALSE,VLOOKUP(Worksheet!A338,MeasureCode_Lookup,6,FALSE),\"\")","v":""},{"$f":"Worksheet!H338","v":0},{"$f":"Worksheet!I338","v":0},{"$f":"IFERROR(IF(Worksheet!X338=0,Worksheet!W338/I319,Worksheet!X338/R319),0)","v":0},"W Controlled",null,null,{"$f":"IF(N(Worksheet!S338)=0,N(Worksheet!R338),N(Worksheet!S338))","v":0},{"$f":"IFERROR(Worksheet!U338/(Worksheet!R338+Worksheet!#REF!),0)","v":0},{"$f":"Worksheet!AC338","v":0},{"$f":"Worksheet!AB338","v":0},0,{"$f":"IF(Worksheet!AJ338=0,0,Worksheet!AJ338*10/I319)","v":0},0,null,null,null,{"$f":"IFERROR(Worksheet!V338/(Worksheet!S338+Worksheet!#REF!),0)","v":0},{"$f":"IF(Worksheet!E338=\"\",\"\",Worksheet!E338)","v":""},{"$f":"IF(Worksheet!B338=\"\",\"\",Worksheet!B338)","v":""},{"$f":"IF(Worksheet!D338=\"\",\"\",Worksheet!D338)","v":""}]
[{"$f":"IF(ISBLANK(Worksheet!F339)=FALSE,VLOOKUP(Worksheet!A339,MeasureCode_Lookup,6,FALSE),\"\")","v":""},{"$f":"Worksheet!H339","v":0},{"$f":"Worksheet!I339","v":0},{"$f":"IFERROR(IF(Worksheet!X339=0,Worksheet!W339/I320,Worksheet!X339/R320),0)","v":0},"W Controlled",null,null,{"$f":"IF(N(Worksheet!S339)=0,N(Worksheet!R339),N(Worksheet!S339))","v":0},{"$f":"IFERROR(Worksheet!U339/(Worksheet!R339+Worksheet!#REF!),0)","v":0},{"$f":"Worksheet!AC339","v":0},{"$f":"Worksheet!AB339","v":0},0,{"$f":"IF(Worksheet!AJ339=0,0,Worksheet!AJ339*10/I320)","v":0},0,null,null,null,{"$f":"IFERROR(Worksheet!V339/(Worksheet!S339+Worksheet!#REF!),0)","v":0},{"$f":"IF(Worksheet!E339=\"\",\"\",Worksheet!E339)","v":""},{"$f":"IF(Worksheet!B339=\"\",\"\",Worksheet!B339)","v":""},{"$f":"IF(Worksheet!D339=\"\",\"\",Worksheet!D339)","v":""}]
[{"$f":"IF(ISBLANK(Worksheet!F340)=FALSE,VLOOKUP(Worksheet!A340,MeasureCode_Lookup,6,FALSE),\"\")","v":""},{"$f":"Worksheet!H340","v":0},{"$f":"Worksheet!I340","v":0},{"$f":"IFERROR(IF(Worksheet!X340=0,Worksheet!W340/I321,Worksheet!X340/R321),0)","v":0},"W Controlled",null,null,{"$f":"IF(N(Worksheet!S340)=0,N(Worksheet!R340),N(Worksheet!S340))","v":0},{"$f":"IFERROR(Worksheet!U340/(Worksheet!R340+Worksheet!#REF!),0)","v":0},{"$f":"Worksheet!AC340","v":0},{"$f":"Worksheet!AB340","v":0},0,{"$f":"IF(Worksheet!AJ340=0,0,Worksheet!AJ340*10/I321)","v":0},0,null,null,null,{"$f":"IFERROR(Worksheet!V340/(Worksheet!S340+Worksheet!#REF!),0)","v":0},{"$f":"IF(Worksheet!E340=\"\",\"\",Worksheet!E340)","v":""},{"$f":"IF(Worksheet!B340=\"\",\"\",Worksheet!B340)","v":""},{"$f":"IF(Worksheet!D340=\"\",\"\",Worksheet!D340)","v":""}]
[{"$f":"IF(ISBLANK(Worksheet!F341)=FALSE,VLOOKUP(Worksheet!A341,MeasureCode_Lookup,6,FALSE),\"\")","v":""},{"$f":"Worksheet!H341","v":0},{"$f":"Worksheet!I341","v":0},{"$f":"IFERROR(IF(Worksheet!X341=0,Worksheet!W341/I322,Worksheet!X341/R322),0)","v":0},"W Controlled",null,null,{"$f":"IF(N(Worksheet!S341)=0,N(Worksheet!R341),N(Worksheet!S341))","v":0},{"$f":"IFERROR(Worksheet!U341/(Worksheet!R341+Worksheet!#REF!),0)","v":0},{"$f":"Worksheet!AC341","v":0},{"$f":"Worksheet!AB341","v":0},0,{"$f":"IF(Worksheet!AJ341=0,0,Worksheet!AJ341*10/I322)","v":0},0,null,null,null,{"$f":"IFERROR(Worksheet!V341/(Worksheet!S341+Worksheet!#REF!),0)","v":0},{"$f":"IF(Worksheet!E341=\"\",\"\",Worksheet!E341)","v":""},{"$f":"IF(Worksheet!B341=\"\",\"\",Worksheet!B341)","v":""},{"$f":"IF(Worksheet!D341=\"\",\"\",Worksheet!D341)","v":""}]
[{"$f":"IF(ISBLANK(Worksheet!F342)=FALSE,VLOOKUP(Worksheet!A342,MeasureCode_Lookup,6,FALSE),\"\")","v":""},{"$f":"Worksheet!H342","v":0},{"$f":"Worksheet!I342","v":0},{"$f":"IFERROR(IF(Worksheet!X342=0,Worksheet!W342/I323,Worksheet!X342/R323),0)","v":0},"W Controlled",null,null,{"$f":"IF(N(Worksheet!S342)=0,N(Worksheet!R342),N(Worksheet!S342))","v":0},{"$f":"IFERROR(Worksheet!U342/(Worksheet!R342+Worksheet!#REF!),0)","v":0},{"$f":"Worksheet!AC342","v":0},{"$f":"Worksheet!AB342","v":0},{"$f":"J323*8","v":0},{"$f":"IF(Worksheet!AJ342=0,0,Worksheet!AJ342*10/I323)","v":0},{"$f":"M323*8","v":0},null,null,null,{"$f":"IFERROR(Worksheet!V342/(Worksheet!S342+Worksheet!#REF!),0)","v":0},{"$f":"IF(Worksheet!E342=\"\",\"\",Worksheet!E342)","v":""},{"$f":"IF(Worksheet!B342=\"\",\"\",Worksheet!B342)","v":""},{"$f":"IF(Worksheet!D342=\"\",\"\",Worksheet!D342)","v":""}]
[{"$f":"IF(ISBLANK(Worksheet!F343)=FALSE,VLOOKUP(Worksheet!A343,MeasureCode_Lookup,6,FALSE),\"\")","v":""},{"$f":"Worksheet!H343","v":0},{"$f":"Worksheet!I343","v":0},{"$f":"IFERROR(IF(Worksheet!X343=0,Worksheet!W343/I324,Worksheet!X343/R324),0)","v":0},"W Controlled",null,null,{"$f":"IF(N(Worksheet!S343)=0,N(Worksheet!R343),N(Worksheet!S343))","v":0},{"$f":"IFERROR(Worksheet!U343/(Worksheet!R343+Worksheet!#REF!),0)","v":0},{"$f":"Worksheet!AC343","v":0},{"$f":"Worksheet!AB343","v":0},0,{"$f":"IF(Worksheet!AJ343=0,0,Worksheet!AJ343*10/I324)","v":0},0,null,null,null,{"$f":"IFERROR(Worksheet!V343/(Worksheet!S343+Worksheet!#REF!),0)","v":0},{"$f":"IF(Worksheet!E343=\"\",\"\",Worksheet!E343)","v":""},{"$f":"IF(Worksheet!B343=\"\",\"\",Worksheet!B343)","v":""},{"$f":"IF(Worksheet!D343=\"\",\"\",Worksheet!D343)","v":""}]
[{"$f":"IF(ISBLANK(Worksheet!F344)=FALSE,VLOOKUP(Worksheet!A344,MeasureCode_Lookup,6,FALSE),\"\")","v":""},{"$f":"Worksheet!H344","v":0},{"$f":"Worksheet!I344","v":0},{"$f":"IFERROR(IF(Worksheet!X344=0,Worksheet!W344/I325,Worksheet!X344/R325),0)","v":0},"W Controlled",null,null,{"$f":"IF(N(Worksheet!S344)=0,N(Worksheet!R344),N(Worksheet!S344))","v":0},{"$f":"IFERROR(Worksheet!U344/(Worksheet!R344+Worksheet!#REF!),0)","v":0},{"$f":"Worksheet!AC344","v":0},{"$f":"Worksheet!AB344","v":0},0,{"$f":"IF(Worksheet!AJ344=0,0,Worksheet!AJ344*10/I325)","v":0},0,null,null,null,{"$f":"IFERROR(Worksheet!V344/(Worksheet!S344+Worksheet!#REF!),0)","v":0},{"$f":"IF(Worksheet!E344=\"\",\"\",Worksheet!E344)","v":""},{"$f":"IF(Worksheet!B344=\"\",\"\",Worksheet!B344)","v":""},{"$f":"IF(Worksheet!D344=\"\",\"\",Worksheet!D344)","v":""}]
[{"$f":"IF(ISBLANK(Worksheet!F345)=FALSE,VLOOKUP(Worksheet!A345,MeasureCode_Lookup,6,FALSE),\"\")","v":""},{"$f":"Worksheet!H345","v":0},{"$f":"Worksheet!I345","v":0},{"$f":"IFERROR(IF(Worksheet!X345=0,Worksheet!W345/I326,Worksheet!X345/R326),0)","v":0},"W Controlled",null,null,{"$f":"IF(N(Worksheet!S345)=0,N(Worksheet!R345),N(Worksheet!S345))","v":0},{"$f":"IFERROR(Worksheet!U345/(Worksheet!R345+Worksheet!#REF!),0)","v":0},{"$f":"Worksheet!AC345","v":0},{"$f":"Worksheet!AB345","v":0},0,{"$f":"IF(Worksheet!AJ345=0,0,Worksheet!AJ345*10/I326)","v":0},0,null,null,null,{"$f":"IFERROR(Worksheet!V345/(Worksheet!S345+Worksheet!#REF!),0)","v":0},{"$f":"IF(Worksheet!E345=\"\",\"\",Worksheet!E345)","v":""},{"$f":"IF(Worksheet!B345=\"\",\"\",Worksheet!B345)","v":""},{"$f":"IF(Worksheet!D345=\"\",\"\",Worksheet!D345)","v":""}]
[{"$f":"IF(ISBLANK(Worksheet!F346)=FALSE,VLOOKUP(Worksheet!A346,MeasureCode_Lookup,6,FALSE),\"\")","v":""},{"$f":"Worksheet!H346","v":0},{"$f":"Worksheet!I346","v":0},{"$f":"IFERROR(IF(Worksheet!X346=0,Worksheet!W346/I327,Worksheet!X346/R327),0)","v":0},"W Controlled",null,null,{"$f":"IF(N(Worksheet!S346)=0,N(Worksheet!R346),N(Worksheet!S346))","v":0},{"$f":"IFERROR(Worksheet!U346/(Worksheet!R346+Worksheet!#REF!),0)","v":0},{"$f":"Worksheet!AC346","v":0},{"$f":"Worksheet!AB346","v":0},0,{"$f":"IF(Worksheet!AJ346=0,0,Worksheet!AJ346*10/I327)","v":0},0,null,null,null,{"$f":"IFERROR(Worksheet!V346/(Worksheet!S346+Worksheet!#REF!),0)","v":0},{"$f":"IF(Worksheet!E346=\"\",\"\",Worksheet!E346)","v":""},{"$f":"IF(Worksheet!B346=\"\",\"\",Worksheet!B346)","v":""},{"$f":"IF(Worksheet!D346=\"\",\"\",Worksheet!D346)","v":""}]
[{"$f":"IF(ISBLANK(Worksheet!F347)=FALSE,VLOOKUP(Worksheet!A347,MeasureCode_Lookup,6,FALSE),\"\")","v":""},{"$f":"Worksheet!H347","v":0},{"$f":"Worksheet!I347","v":0},{"$f":"IFERROR(IF(Worksheet!X347=0,Worksheet!W347/I328,Worksheet!X347/R328),0)","v":0},"W Controlled",null,null,{"$f":"IF(N(Worksheet!S347)=0,N(Worksheet!R347),N(Worksheet!S347))","v":0},{"$f":"IFERROR(Worksheet!U347/(Worksheet!R347+Worksheet!#REF!),0)","v":0},{"$f":"Worksheet!AC347","v":0},{"$f":"Worksheet!AB347","v":0},0,{"$f":"IF(Worksheet!AJ347=0,0,Worksheet!AJ347*10/I328)","v":0},0,null,null,null,{"$f":"IFERROR(Worksheet!V347/(Worksheet!S347+Worksheet!#REF!),0)","v":0},{"$f":"IF(Worksheet!E347=\"\",\"\",Worksheet!E347)","v":""},{"$f":"IF(Worksheet!B347=\"\",\"\",Worksheet!B347)","v":""},{"$f":"IF(Worksheet!D347=\"\",\"\",Worksheet!D347)","v":""}]
[{"$f":"IF(ISBLANK(Worksheet!F348)=FALSE,VLOOKUP(Worksheet!A348,MeasureCode_Lookup,6,FALSE),\"\")","v":""},{"$f":"Worksheet!H348","v":0},{"$f":"Worksheet!I348","v":0},{"$f":"IFERROR(IF(Worksheet!X348=0,Worksheet!W348/I329,Worksheet!X348/R329),0)","v":0},"W Controlled",null,null,{"$f":"IF(N(Worksheet!S348)=0,N(Worksheet!R348),N(Worksheet!S348))","v":0},{"$f":"IFERROR(Worksheet!U348/(Worksheet!R348+Worksheet!#REF!),0)","v":0},{"$f":"Worksheet!AC348","v":0},{"$f":"Worksheet!AB348","v":0},0,{"$f":"IF(Worksheet!AJ348=0,0,Worksheet!AJ348*10/I329)","v":0},0,null,null,null,{"$f":"IFERROR(Worksheet!V348/(Worksheet!S348+Worksheet!#REF!),0)","v":0},{"$f":"IF(Worksheet!E348=\"\",\"\",Worksheet!E348)","v":""},{"$f":"IF(Worksheet!B348=\"\",\"\",Worksheet!B348)","v":""},{"$f":"IF(Worksheet!D348=\"\",\"\",Worksheet!D348)","v":""}]
[{"$f":"IF(ISBLANK(Worksheet!F349)=FALSE,VLOOKUP(Worksheet!A349,MeasureCode_Lookup,6,FALSE),\"\")","v":""},{"$f":"Worksheet!H349","v":0},{"$f":"Worksheet!I349","v":0},{"$f":"IFERROR(IF(Worksheet!X349=0,Worksheet!W349/I330,Worksheet!X349/R330),0)","v":0},"W Controlled",null,null,{"$f":"IF(N(Worksheet!S349)=0,N(Worksheet!R349),N(Worksheet!S349))","v":0},{"$f":"IFERROR(Worksheet!U349/(Worksheet!R349+Worksheet!#REF!),0)","v":0},{"$f":"Worksheet!AC349","v":0},{"$f":"Worksheet!AB349","v":0},0,{"$f":"IF(Worksheet!AJ349=0,0,Worksheet!AJ349*10/I330)","v":0},0,null,null,null,{"$f":"IFERROR(Worksheet!V349/(Worksheet!S349+Worksheet!#REF!),0)","v":0},{"$f":"IF(Worksheet!E349=\"\",\"\",Worksheet!E349)","v":""},{"$f":"IF(Worksheet!B349=\"\",\"\",Worksheet!B349)","v":""},{"$f":"IF(Worksheet!D349=\"\",\"\",Worksheet!D349)","v":""}]
[{"$f":"IF(ISBLANK(Worksheet!F350)=FALSE,VLOOKUP(Worksheet!A350,MeasureCode_Lookup,6,FALSE),\"\")","v":""},{"$f":"Worksheet!H350","v":0},{"$f":"Worksheet!I350","v":0},{"$f":"IFERROR(IF(Worksheet!X350=0,Worksheet!W350/I331,Worksheet!X350/R331),0)","v":0},"W Controlled",null,null,{"$f":"IF(N(Worksheet!S350)=0,N(Worksheet!R350),N(Worksheet!S350))","v":0},{"$f":"IFERROR(Worksheet!U350/(Worksheet!R350+Worksheet!#REF!),0)","v":0},{"$f":"Worksheet!AC350","v":0},{"$f":"Worksheet!AB350","v":0},0,{"$f":"IF(Worksheet!AJ350=0,0,Worksheet!AJ350*10/I331)","v":0},0,null,null,null,{"$f":"IFERROR(Worksheet!V350/(Worksheet!S350+Worksheet!#REF!),0)","v":0},{"$f":"IF(Worksheet!E350=\"\",\"\",Worksheet!E350)","v":""},{"$f":"IF(Worksheet!B350=\"\",\"\",Worksheet!B350)","v":""},{"$f":"IF(Worksheet!D350=\"\",\"\",Worksheet!D350)","v":""}]
[{"$f":"IF(ISBLANK(Worksheet!F351)=FALSE,VLOOKUP(Worksheet!A351,MeasureCode_Lookup,6,FALSE),\"\")","v":""},{"$f":"Worksheet!H351","v":0},{"$f":"Worksheet!I351","v":0},{"$f":"IFERROR(IF(Worksheet!X351=0,Worksheet!W351/I332,Worksheet!X351/R332),0)","v":0},"W Controlled",null,null,{"$f":"IF(N(Worksheet!S351)=0,N(Worksheet!R351),N(Worksheet!S351))","v":0},{"$f":"IFERROR(Worksheet!U351/(Worksheet!R351+Worksheet!#REF!),0)","v":0},{"$f":"Worksheet!AC351","v":0},{"$f":"Worksheet!AB351","v":0},0,{"$f":"IF(Worksheet!AJ351=0,0,Worksheet!AJ351*10/I332)","v":0},0,null,null,null,{"$f":"IFERROR(Worksheet!V351/(Worksheet!S351+Worksheet!#REF!),0)","v":0},{"$f":"IF(Worksheet!E351=\"\",\"\",Worksheet!E351)","v":""},{"$f":"IF(Worksheet!B351=\"\",\"\",Worksheet!B351)","v":""},{"$f":"IF(Worksheet!D351=\"\",\"\",Worksheet!D351)","v":""}]
[{"$f":"IF(ISBLANK(Worksheet!F352)=FALSE,VLOOKUP(Worksheet!A352,MeasureCode_Lookup,6,FALSE),\"\")","v":""},{"$f":"Worksheet!H352","v":0},{"$f":"Worksheet!I352","v":0},{"$f":"IFERROR(IF(Worksheet!X352=0,Worksheet!W352/I333,Worksheet!X352/R333),0)","v":0},"W Controlled",null,null,{"$f":"IF(N(Worksheet!S352)=0,N(Worksheet!R352),N(Worksheet!S352))","v":0},{"$f":"IFERROR(Worksheet!U352/(Worksheet!R352+Worksheet!#REF!),0)","v":0},{"$f":"Worksheet!AC352","v":0},{"$f":"Worksheet!AB352","v":0},0,{"$f":"IF(Worksheet!AJ352=0,0,Worksheet!AJ352*10/I333)","v":0},0,null,null,null,{"$f":"IFERROR(Worksheet!V352/(Worksheet!S352+Worksheet!#REF!),0)","v":0},{"$f":"IF(Worksheet!E352=\"\",\"\",Worksheet!E352)","v":""},{"$f":"IF(Worksheet!B352=\"\",\"\",Worksheet!B352)","v":""},{"$f":"IF(Worksheet!D352=\"\",\"\",Worksheet!D352)","v":""}]
[{"$f":"IF(ISBLANK(Worksheet!F353)=FALSE,VLOOKUP(Worksheet!A353,MeasureCode_Lookup,6,FALSE),\"\")","v":""},{"$f":"Worksheet!H353","v":0},{"$f":"Worksheet!I353","v":0},{"$f":"IFERROR(IF(Worksheet!X353=0,Worksheet!W353/I334,Worksheet!X353/R334),0)","v":0},"W Controlled",null,null,{"$f":"IF(N(Worksheet!S353)=0,N(Worksheet!R353),N(Worksheet!S353))","v":0},{"$f":"IFERROR(Worksheet!U353/(Worksheet!R353+Worksheet!#REF!),0)","v":0},{"$f":"Worksheet!AC353","v":0},{"$f":"Worksheet!AB353","v":0},0,{"$f":"IF(Worksheet!AJ353=0,0,Worksheet!AJ353*10/I334)","v":0},0,null,null,null,{"$f":"IFERROR(Worksheet!V353/(Worksheet!S353+Worksheet!#REF!),0)","v":0},{"$f":"IF(Worksheet!E353=\"\",\"\",Worksheet!E353)","v":""},{"$f":"IF(Worksheet!B353=\"\",\"\",Worksheet!B353)","v":""},{"$f":"IF(Worksheet!D353=\"\",\"\",Worksheet!D353)","v":""}]
[{"$f":"IF(ISBLANK(Worksheet!F354)=FALSE,VLOOKUP(Worksheet!A354,MeasureCode_Lookup,6,FALSE),\"\")","v":""},{"$f":"Worksheet!H354","v":0},{"$f":"Worksheet!I354","v":0},{"$f":"IFERROR(IF(Worksheet!X354=0,Worksheet!W354/I335,Worksheet!X354/R335),0)","v":0},"W Controlled",null,null,{"$f":"IF(N(Worksheet!S354)=0,N(Worksheet!R354),N(Worksheet!S354))","v":0},{"$f":"IFERROR(Worksheet!U354/(Worksheet!R354+Worksheet!#REF!),0)","v":0},{"$f":"Worksheet!AC354","v":0},{"$f":"Worksheet!AB354","v":0},0,{"$f":"IF(Worksheet!AJ354=0,0,Worksheet!AJ354*10/I335)","v":0},0,null,null,null,{"$f":"IFERROR(Worksheet!V354/(Worksheet!S354+Worksheet!#REF!),0)","v":0},{"$f":"IF(Worksheet!E354=\"\",\"\",Worksheet!E354)","v":""},{"$f":"IF(Worksheet!B354=\"\",\"\",Worksheet!B354)","v":""},{"$f":"IF(Worksheet!D354=\"\",\"\",Worksheet!D354)","v":""}]
[{"$f":"IF(ISBLANK(Worksheet!F355)=FALSE,VLOOKUP(Worksheet!A355,MeasureCode_Lookup,6,FALSE),\"\")","v":""},{"$f":"Worksheet!H355","v":0},{"$f":"Worksheet!I355","v":0},{"$f":"IFERROR(IF(Worksheet!X355=0,Worksheet!W355/I336,Worksheet!X355/R336),0)","v":0},"W Controlled",null,null,{"$f":"IF(N(Worksheet!S355)=0,N(Worksheet!R355),N(Worksheet!S355))","v":0},{"$f":"IFERROR(Worksheet!U355/(Worksheet!R355+Worksheet!#REF!),0)","v":0},{"$f":"Worksheet!AC355","v":0},{"$f":"Worksheet!AB355","v":0},0,{"$f":"IF(Worksheet!AJ355=0,0,Worksheet!AJ355*10/I336)","v":0},0,null,null,null,{"$f":"IFERROR(Worksheet!V355/(Worksheet!S355+Worksheet!#REF!),0)","v":0},{"$f":"IF(Worksheet!E355=\"\",\"\",Worksheet!E355)","v":""},{"$f":"IF(Worksheet!B355=\"\",\"\",Worksheet!B355)","v":""},{"$f":"IF(Worksheet!D355=\"\",\"\",Worksheet!D355)","v":""}]
[{"$f":"IF(ISBLANK(Worksheet!F356)=FALSE,VLOOKUP(Worksheet!A356,MeasureCode_Lookup,6,FALSE),\"\")","v":""},{"$f":"Worksheet!H356","v":0},{"$f":"Worksheet!I356","v":0},{"$f":"IFERROR(IF(Worksheet!X356=0,Worksheet!W356/I337,Worksheet!X356/R337),0)","v":0},"W Controlled",null,null,{"$f":"IF(N(Worksheet!S356)=0,N(Worksheet!R356),N(Worksheet!S356))","v":0},{"$f":"IFERROR(Worksheet!U356/(Worksheet!R356+Worksheet!#REF!),0)","v":0},{"$f":"Worksheet!AC356","v":0},{"$f":"Worksheet!AB356","v":0},0,{"$f":"IF(Worksheet!AJ356=0,0,Worksheet!AJ356*10/I337)","v":0},0,null,null,null,{"$f":"IFERROR(Worksheet!V356/(Worksheet!S356+Worksheet!#REF!),0)","v":0},{"$f":"IF(Worksheet!E356=\"\",\"\",Worksheet!E356)","v":""},{"$f":"IF(Worksheet!B356=\"\",\"\",Worksheet!B356)","v":""},{"$f":"IF(Worksheet!D356=\"\",\"\",Worksheet!D356)","v":""}]
[{"$f":"IF(ISBLANK(Worksheet!F357)=FALSE,VLOOKUP(Worksheet!A357,MeasureCode_Lookup,6,FALSE),\"\")","v":""},{"$f":"Worksheet!H357","v":0},{"$f":"Worksheet!I357","v":0},{"$f":"IFERROR(IF(Worksheet!X357=0,Worksheet!W357/I338,Worksheet!X357/R338),0)","v":0},"W Controlled",null,null,{"$f":"IF(N(Worksheet!S357)=0,N(Worksheet!R357),N(Worksheet!S357))","v":0},{"$f":"IFERROR(Worksheet!U357/(Worksheet!R357+Worksheet!#REF!),0)","v":0},{"$f":"Worksheet!AC357","v":0},{"$f":"Worksheet!AB357","v":0},0,{"$f":"IF(Worksheet!AJ357=0,0,Worksheet!AJ357*10/I338)","v":0},0,null,null,null,{"$f":"IFERROR(Worksheet!V357/(Worksheet!S357+Worksheet!#REF!),0)","v":0},{"$f":"IF(Worksheet!E357=\"\",\"\",Worksheet!E357)","v":""},{"$f":"IF(Worksheet!B357=\"\",\"\",Worksheet!B357)","v":""},{"$f":"IF(Worksheet!D357=\"\",\"\",Worksheet!D357)","v":""}]
[{"$f":"IF(ISBLANK(Worksheet!F358)=FALSE,VLOOKUP(Worksheet!A358,MeasureCode_Lookup,6,FALSE),\"\")","v":""},{"$f":"Worksheet!H358","v":0},{"$f":"Worksheet!I358","v":0},{"$f":"IFERROR(IF(Worksheet!X358=0,Worksheet!W358/I339,Worksheet!X358/R339),0)","v":0},"W Controlled",null,null,{"$f":"IF(N(Worksheet!S358)=0,N(Worksheet!R358),N(Worksheet!S358))","v":0},{"$f":"IFERROR(Worksheet!U358/(Worksheet!R358+Worksheet!#REF!),0)","v":0},{"$f":"Worksheet!AC358","v":0},{"$f":"Worksheet!AB358","v":0},0,{"$f":"IF(Worksheet!AJ358=0,0,Worksheet!AJ358*10/I339)","v":0},0,null,null,null,{"$f":"IFERROR(Worksheet!V358/(Worksheet!S358+Worksheet!#REF!),0)","v":0},{"$f":"IF(Worksheet!E358=\"\",\"\",Worksheet!E358)","v":""},{"$f":"IF(Worksheet!B358=\"\",\"\",Worksheet!B358)","v":""},{"$f":"IF(Worksheet!D358=\"\",\"\",Worksheet!D358)","v":""}]
[{"$f":"IF(ISBLANK(Worksheet!F359)=FALSE,VLOOKUP(Worksheet!A359,MeasureCode_Lookup,6,FALSE),\"\")","v":""},{"$f":"Worksheet!H359","v":0},{"$f":"Worksheet!I359","v":0},{"$f":"IFERROR(IF(Worksheet!X359=0,Worksheet!W359/I340,Worksheet!X359/R340),0)","v":0},"W Controlled",null,null,{"$f":"IF(N(Worksheet!S359)=0,N(Worksheet!R359),N(Worksheet!S359))","v":0},{"$f":"IFERROR(Worksheet!U359/(Worksheet!R359+Worksheet!#REF!),0)","v":0},{"$f":"Worksheet!AC359","v":0},{"$f":"Worksheet!AB359","v":0},0,{"$f":"IF(Worksheet!AJ359=0,0,Worksheet!AJ359*10/I340)","v":0},0,null,null,null,{"$f":"IFERROR(Worksheet!V359/(Worksheet!S359+Worksheet!#REF!),0)","v":0},{"$f":"IF(Worksheet!E359=\"\",\"\",Worksheet!E359)","v":""},{"$f":"IF(Worksheet!B359=\"\",\"\",Worksheet!B359)","v":""},{"$f":"IF(Worksheet!D359=\"\",\"\",Worksheet!D359)","v":""}]
[{"$f":"IF(ISBLANK(Worksheet!F360)=FALSE,VLOOKUP(Worksheet!A360,MeasureCode_Lookup,6,FALSE),\"\")","v":""},{"$f":"Worksheet!H360","v":0},{"$f":"Worksheet!I360","v":0},{"$f":"IFERROR(IF(Worksheet!X360=0,Worksheet!W360/I341,Worksheet!X360/R341),0)","v":0},"W Controlled",null,null,{"$f":"IF(N(Worksheet!S360)=0,N(Worksheet!R360),N(Worksheet!S360))","v":0},{"$f":"IFERROR(Worksheet!U360/(Worksheet!R360+Worksheet!#REF!),0)","v":0},{"$f":"Worksheet!AC360","v":0},{"$f":"Worksheet!AB360","v":0},0,{"$f":"IF(Worksheet!AJ360=0,0,Worksheet!AJ360*10/I341)","v":0},0,null,null,null,{"$f":"IFERROR(Worksheet!V360/(Worksheet!S360+Worksheet!#REF!),0)","v":0},{"$f":"IF(Worksheet!E360=\"\",\"\",Worksheet!E360)","v":""},{"$f":"IF(Worksheet!B360=\"\",\"\",Worksheet!B360)","v":""},{"$f":"IF(Worksheet!D360=\"\",\"\",Worksheet!D360)","v":""}]
[{"$f":"IF(ISBLANK(Worksheet!F361)=FALSE,VLOOKUP(Worksheet!A361,MeasureCode_Lookup,6,FALSE),\"\")","v":""},{"$f":"Worksheet!H361","v":0},{"$f":"Worksheet!I361","v":0},{"$f":"IFERROR(IF(Worksheet!X361=0,Worksheet!W361/I342,Worksheet!X361/R342),0)","v":0},"W Controlled",null,null,{"$f":"IF(N(Worksheet!S361)=0,N(Worksheet!R361),N(Worksheet!S361))","v":0},{"$f":"IFERROR(Worksheet!U361/(Worksheet!R361+Worksheet!#REF!),0)","v":0},{"$f":"Worksheet!AC361","v":0},{"$f":"Worksheet!AB361","v":0},0,{"$f":"IF(Worksheet!AJ361=0,0,Worksheet!AJ361*10/I342)","v":0},0,null,null,null,{"$f":"IFERROR(Worksheet!V361/(Worksheet!S361+Worksheet!#REF!),0)","v":0},{"$f":"IF(Worksheet!E361=\"\",\"\",Worksheet!E361)","v":""},{"$f":"IF(Worksheet!B361=\"\",\"\",Worksheet!B361)","v":""},{"$f":"IF(Worksheet!D361=\"\",\"\",Worksheet!D361)","v":""}]
[{"$f":"IF(ISBLANK(Worksheet!F362)=FALSE,VLOOKUP(Worksheet!A362,MeasureCode_Lookup,6,FALSE),\"\")","v":""},{"$f":"Worksheet!H362","v":0},{"$f":"Worksheet!I362","v":0},{"$f":"IFERROR(IF(Worksheet!X362=0,Worksheet!W362/I343,Worksheet!X362/R343),0)","v":0},"W Controlled",null,null,{"$f":"IF(N(Worksheet!S362)=0,N(Worksheet!R362),N(Worksheet!S362))","v":0},{"$f":"IFERROR(Worksheet!U362/(Worksheet!R362+Worksheet!#REF!),0)","v":0},{"$f":"Worksheet!AC362","v":0},{"$f":"Worksheet!AB362","v":0},0,{"$f":"IF(Worksheet!AJ362=0,0,Worksheet!AJ362*10/I343)","v":0},0,null,null,null,{"$f":"IFERROR(Worksheet!V362/(Worksheet!S362+Worksheet!#REF!),0)","v":0},{"$f":"IF(Worksheet!E362=\"\",\"\",Worksheet!E362)","v":""},{"$f":"IF(Worksheet!B362=\"\",\"\",Worksheet!B362)","v":""},{"$f":"IF(Worksheet!D362=\"\",\"\",Worksheet!D362)","v":""}]
[{"$f":"IF(ISBLANK(Worksheet!F363)=FALSE,VLOOKUP(Worksheet!A363,MeasureCode_Lookup,6,FALSE),\"\")","v":""},{"$f":"Worksheet!H363","v":0},{"$f":"Worksheet!I363","v":0},{"$f":"IFERROR(IF(Worksheet!X363=0,Worksheet!W363/I344,Worksheet!X363/R344),0)","v":0},"W Controlled",null,null,{"$f":"IF(N(Worksheet!S363)=0,N(Worksheet!R363),N(Worksheet!S363))","v":0},{"$f":"IFERROR(Worksheet!U363/(Worksheet!R363+Worksheet!#REF!),0)","v":0},{"$f":"Worksheet!AC363","v":0},{"$f":"Worksheet!AB363","v":0},0,{"$f":"IF(Worksheet!AJ363=0,0,Worksheet!AJ363*10/I344)","v":0},0,null,null,null,{"$f":"IFERROR(Worksheet!V363/(Worksheet!S363+Worksheet!#REF!),0)","v":0},{"$f":"IF(Worksheet!E363=\"\",\"\",Worksheet!E363)","v":""},{"$f":"IF(Worksheet!B363=\"\",\"\",Worksheet!B363)","v":""},{"$f":"IF(Worksheet!D363=\"\",\"\",Worksheet!D363)","v":""}]
[{"$f":"IF(ISBLANK(Worksheet!F364)=FALSE,VLOOKUP(Worksheet!A364,MeasureCode_Lookup,6,FALSE),\"\")","v":""},{"$f":"Worksheet!H364","v":0},{"$f":"Worksheet!I364","v":0},{"$f":"IFERROR(IF(Worksheet!X364=0,Worksheet!W364/I345,Worksheet!X364/R345),0)","v":0},"W Controlled",null,null,{"$f":"IF(N(Worksheet!S364)=0,N(Worksheet!R364),N(Worksheet!S364))","v":0},{"$f":"IFERROR(Worksheet!U364/(Worksheet!R364+Worksheet!#REF!),0)","v":0},{"$f":"Worksheet!AC364","v":0},{"$f":"Worksheet!AB364","v":0},0,{"$f":"IF(Worksheet!AJ364=0,0,Worksheet!AJ364*10/I345)","v":0},0,null,null,null,{"$f":"IFERROR(Worksheet!V364/(Worksheet!S364+Worksheet!#REF!),0)","v":0},{"$f":"IF(Worksheet!E364=\"\",\"\",Worksheet!E364)","v":""},{"$f":"IF(Worksheet!B364=\"\",\"\",Worksheet!B364)","v":""},{"$f":"IF(Worksheet!D364=\"\",\"\",Worksheet!D364)","v":""}]
[{"$f":"IF(ISBLANK(Worksheet!F365)=FALSE,VLOOKUP(Worksheet!A365,MeasureCode_Lookup,6,FALSE),\"\")","v":""},{"$f":"Worksheet!H365","v":0},{"$f":"Worksheet!I365","v":0},{"$f":"IFERROR(IF(Worksheet!X365=0,Worksheet!W365/I346,Worksheet!X365/R346),0)","v":0},"W Controlled",null,null,{"$f":"IF(N(Worksheet!S365)=0,N(Worksheet!R365),N(Worksheet!S365))","v":0},{"$f":"IFERROR(Worksheet!U365/(Worksheet!R365+Worksheet!#REF!),0)","v":0},{"$f":"Worksheet!AC365","v":0},{"$f":"Worksheet!AB365","v":0},0,{"$f":"IF(Worksheet!AJ365=0,0,Worksheet!AJ365*10/I346)","v":0},0,null,null,null,{"$f":"IFERROR(Worksheet!V365/(Worksheet!S365+Worksheet!#REF!),0)","v":0},{"$f":"IF(Worksheet!E365=\"\",\"\",Worksheet!E365)","v":""},{"$f":"IF(Worksheet!B365=\"\",\"\",Worksheet!B365)","v":""},{"$f":"IF(Worksheet!D365=\"\",\"\",Worksheet!D365)","v":""}]
[{"$f":"IF(ISBLANK(Worksheet!F366)=FALSE,VLOOKUP(Worksheet!A366,MeasureCode_Lookup,6,FALSE),\"\")","v":""},{"$f":"Worksheet!H366","v":0},{"$f":"Worksheet!I366","v":0},{"$f":"IFERROR(IF(Worksheet!X366=0,Worksheet!W366/I347,Worksheet!X366/R347),0)","v":0},"W Controlled",null,null,{"$f":"IF(N(Worksheet!S366)=0,N(Worksheet!R366),N(Worksheet!S366))","v":0},{"$f":"IFERROR(Worksheet!U366/(Worksheet!R366+Worksheet!#REF!),0)","v":0},{"$f":"Worksheet!AC366","v":0},{"$f":"Worksheet!AB366","v":0},0,{"$f":"IF(Worksheet!AJ366=0,0,Worksheet!AJ366*10/I347)","v":0},0,null,null,null,{"$f":"IFERROR(Worksheet!V366/(Worksheet!S366+Worksheet!#REF!),0)","v":0},{"$f":"IF(Worksheet!E366=\"\",\"\",Worksheet!E366)","v":""},{"$f":"IF(Worksheet!B366=\"\",\"\",Worksheet!B366)","v":""},{"$f":"IF(Worksheet!D366=\"\",\"\",Worksheet!D366)","v":""}]
[{"$f":"IF(ISBLANK(Worksheet!F367)=FALSE,VLOOKUP(Worksheet!A367,MeasureCode_Lookup,6,FALSE),\"\")","v":""},{"$f":"Worksheet!H367","v":0},{"$f":"Worksheet!I367","v":0},{"$f":"IFERROR(IF(Worksheet!X367=0,Worksheet!W367/I348,Worksheet!X367/R348),0)","v":0},"W Controlled",null,null,{"$f":"IF(N(Worksheet!S367)=0,N(Worksheet!R367),N(Worksheet!S367))","v":0},{"$f":"IFERROR(Worksheet!U367/(Worksheet!R367+Worksheet!#REF!),0)","v":0},{"$f":"Worksheet!AC367","v":0},{"$f":"Worksheet!AB367","v":0},0,{"$f":"IF(Worksheet!AJ367=0,0,Worksheet!AJ367*10/I348)","v":0},0,null,null,null,{"$f":"IFERROR(Worksheet!V367/(Worksheet!S367+Worksheet!#REF!),0)","v":0},{"$f":"IF(Worksheet!E367=\"\",\"\",Worksheet!E367)","v":""},{"$f":"IF(Worksheet!B367=\"\",\"\",Worksheet!B367)","v":""},{"$f":"IF(Worksheet!D367=\"\",\"\",Worksheet!D367)","v":""}]
[{"$f":"IF(ISBLANK(Worksheet!F368)=FALSE,VLOOKUP(Worksheet!A368,MeasureCode_Lookup,6,FALSE),\"\")","v":""},{"$f":"Worksheet!H368","v":0},{"$f":"Worksheet!I368","v":0},{"$f":"IFERROR(IF(Worksheet!X368=0,Worksheet!W368/I349,Worksheet!X368/R349),0)","v":0},"W Controlled",null,null,{"$f":"IF(N(Worksheet!S368)=0,N(Worksheet!R368),N(Worksheet!S368))","v":0},{"$f":"IFERROR(Worksheet!U368/(Worksheet!R368+Worksheet!#REF!),0)","v":0},{"$f":"Worksheet!AC368","v":0},{"$f":"Worksheet!AB368","v":0},0,{"$f":"IF(Worksheet!AJ368=0,0,Worksheet!AJ368*10/I349)","v":0},0,null,null,null,{"$f":"IFERROR(Worksheet!V368/(Worksheet!S368+Worksheet!#REF!),0)","v":0},{"$f":"IF(Worksheet!E368=\"\",\"\",Worksheet!E368)","v":""},{"$f":"IF(Worksheet!B368=\"\",\"\",Worksheet!B368)","v":""},{"$f":"IF(Worksheet!D368=\"\",\"\",Worksheet!D368)","v":""}]
[{"$f":"IF(ISBLANK(Worksheet!F369)=FALSE,VLOOKUP(Worksheet!A369,MeasureCode_Lookup,6,FALSE),\"\")","v":""},{"$f":"Worksheet!H369","v":0},{"$f":"Worksheet!I369","v":0},{"$f":"IFERROR(IF(Worksheet!X369=0,Worksheet!W369/I350,Worksheet!X369/R350),0)","v":0},"W Controlled",null,null,{"$f":"IF(N(Worksheet!S369)=0,N(Worksheet!R369),N(Worksheet!S369))","v":0},{"$f":"IFERROR(Worksheet!U369/(Worksheet!R369+Worksheet!#REF!),0)","v":0},{"$f":"Worksheet!AC369","v":0},{"$f":"Worksheet!AB369","v":0},0,{"$f":"IF(Worksheet!AJ369=0,0,Worksheet!AJ369*10/I350)","v":0},0,null,null,null,{"$f":"IFERROR(Worksheet!V369/(Worksheet!S369+Worksheet!#REF!),0)","v":0},{"$f":"IF(Worksheet!E369=\"\",\"\",Worksheet!E369)","v":""},{"$f":"IF(Worksheet!B369=\"\",\"\",Worksheet!B369)","v":""},{"$f":"IF(Worksheet!D369=\"\",\"\",Worksheet!D369)","v":""}]
[{"$f":"IF(ISBLANK(Worksheet!F370)=FALSE,VLOOKUP(Worksheet!A370,MeasureCode_Lookup,6,FALSE),\"\")","v":""},{"$f":"Worksheet!H370","v":0},{"$f":"Worksheet!I370","v":0},{"$f":"IFERROR(IF(Worksheet!X370=0,Worksheet!W370/I351,Worksheet!X370/R351),0)","v":0},"W Controlled",null,null,{"$f":"IF(N(Worksheet!S370)=0,N(Worksheet!R370),N(Worksheet!S370))","v":0},{"$f":"IFERROR(Worksheet!U370/(Worksheet!R370+Worksheet!#REF!),0)","v":0},{"$f":"Worksheet!AC370","v":0},{"$f":"Worksheet!AB370","v":0},0,{"$f":"IF(Worksheet!AJ370=0,0,Worksheet!AJ370*10/I351)","v":0},0,null,null,null,{"$f":"IFERROR(Worksheet!V370/(Worksheet!S370+Worksheet!#REF!),0)","v":0},{"$f":"IF(Worksheet!E370=\"\",\"\",Worksheet!E370)","v":""},{"$f":"IF(Worksheet!B370=\"\",\"\",Worksheet!B370)","v":""},{"$f":"IF(Worksheet!D370=\"\",\"\",Worksheet!D370)","v":""}]
[{"$f":"IF(ISBLANK(Worksheet!F371)=FALSE,VLOOKUP(Worksheet!A371,MeasureCode_Lookup,6,FALSE),\"\")","v":""},{"$f":"Worksheet!H371","v":0},{"$f":"Worksheet!I371","v":0},{"$f":"IFERROR(IF(Worksheet!X371=0,Worksheet!W371/I352,Worksheet!X371/R352),0)","v":0},"W Controlled",null,null,{"$f":"IF(N(Worksheet!S371)=0,N(Worksheet!R371),N(Worksheet!S371))","v":0},{"$f":"IFERROR(Worksheet!U371/(Worksheet!R371+Worksheet!#REF!),0)","v":0},{"$f":"Worksheet!AC371","v":0},{"$f":"Worksheet!AB371","v":0},0,{"$f":"IF(Worksheet!AJ371=0,0,Worksheet!AJ371*10/I352)","v":0},0,null,null,null,{"$f":"IFERROR(Worksheet!V371/(Worksheet!S371+Worksheet!#REF!),0)","v":0},{"$f":"IF(Worksheet!E371=\"\",\"\",Worksheet!E371)","v":""},{"$f":"IF(Worksheet!B371=\"\",\"\",Worksheet!B371)","v":""},{"$f":"IF(Worksheet!D371=\"\",\"\",Worksheet!D371)","v":""}]
[{"$f":"IF(ISBLANK(Worksheet!F372)=FALSE,VLOOKUP(Worksheet!A372,MeasureCode_Lookup,6,FALSE),\"\")","v":""},{"$f":"Worksheet!H372","v":0},{"$f":"Worksheet!I372","v":0},{"$f":"IFERROR(IF(Worksheet!X372=0,Worksheet!W372/I353,Worksheet!X372/R353),0)","v":0},"W Controlled",null,null,{"$f":"IF(N(Worksheet!S372)=0,N(Worksheet!R372),N(Worksheet!S372))","v":0},{"$f":"IFERROR(Worksheet!U372/(Worksheet!R372+Worksheet!#REF!),0)","v":0},{"$f":"Worksheet!AC372","v":0},{"$f":"Worksheet!AB372","v":0},0,{"$f":"IF(Worksheet!AJ372=0,0,Worksheet!AJ372*10/I353)","v":0},0,null,null,null,{"$f":"IFERROR(Worksheet!V372/(Worksheet!S372+Worksheet!#REF!),0)","v":0},{"$f":"IF(Worksheet!E372=\"\",\"\",Worksheet!E372)","v":""},{"$f":"IF(Worksheet!B372=\"\",\"\",Worksheet!B372)","v":""},{"$f":"IF(Worksheet!D372=\"\",\"\",Worksheet!D372)","v":""}]
[{"$f":"IF(ISBLANK(Worksheet!F373)=FALSE,VLOOKUP(Worksheet!A373,MeasureCode_Lookup,6,FALSE),\"\")","v":""},{"$f":"Worksheet!H373","v":0},{"$f":"Worksheet!I373","v":0},{"$f":"IFERROR(IF(Worksheet!X373=0,Worksheet!W373/I354,Worksheet!X373/R354),0)","v":0},"W Controlled",null,null,{"$f":"IF(N(Worksheet!S373)=0,N(Worksheet!R373),N(Worksheet!S373))","v":0},{"$f":"IFERROR(Worksheet!U373/(Worksheet!R373+Worksheet!#REF!),0)","v":0},{"$f":"Worksheet!AC373","v":0},{"$f":"Worksheet!AB373","v":0},0,{"$f":"IF(Worksheet!AJ373=0,0,Worksheet!AJ373*10/I354)","v":0},0,null,null,null,{"$f":"IFERROR(Worksheet!V373/(Worksheet!S373+Worksheet!#REF!),0)","v":0},{"$f":"IF(Worksheet!E373=\"\",\"\",Worksheet!E373)","v":""},{"$f":"IF(Worksheet!B373=\"\",\"\",Worksheet!B373)","v":""},{"$f":"IF(Worksheet!D373=\"\",\"\",Worksheet!D373)","v":""}]
[{"$f":"IF(ISBLANK(Worksheet!F374)=FALSE,VLOOKUP(Worksheet!A374,MeasureCode_Lookup,6,FALSE),\"\")","v":""},{"$f":"Worksheet!H374","v":0},{"$f":"Worksheet!I374","v":0},{"$f":"IFERROR(IF(Worksheet!X374=0,Worksheet!W374/I355,Worksheet!X374/R355),0)","v":0},"W Controlled",null,null,{"$f":"IF(N(Worksheet!S374)=0,N(Worksheet!R374),N(Worksheet!S374))","v":0},{"$f":"IFERROR(Worksheet!U374/(Worksheet!R374+Worksheet!#REF!),0)","v":0},{"$f":"Worksheet!AC374","v":0},{"$f":"Worksheet!AB374","v":0},0,{"$f":"IF(Worksheet!AJ374=0,0,Worksheet!AJ374*10/I355)","v":0},0,null,null,null,{"$f":"IFERROR(Worksheet!V374/(Worksheet!S374+Worksheet!#REF!),0)","v":0},{"$f":"IF(Worksheet!E374=\"\",\"\",Worksheet!E374)","v":""},{"$f":"IF(Worksheet!B374=\"\",\"\",Worksheet!B374)","v":""},{"$f":"IF(Worksheet!D374=\"\",\"\",Worksheet!D374)","v":""}]
[{"$f":"IF(ISBLANK(Worksheet!F375)=FALSE,VLOOKUP(Worksheet!A375,MeasureCode_Lookup,6,FALSE),\"\")","v":""},{"$f":"Worksheet!H375","v":0},{"$f":"Worksheet!I375","v":0},{"$f":"IFERROR(IF(Worksheet!X375=0,Worksheet!W375/I356,Worksheet!X375/R356),0)","v":0},"W Controlled",null,null,{"$f":"IF(N(Worksheet!S375)=0,N(Worksheet!R375),N(Worksheet!S375))","v":0},{"$f":"IFERROR(Worksheet!U375/(Worksheet!R375+Worksheet!#REF!),0)","v":0},{"$f":"Worksheet!AC375","v":0},{"$f":"Worksheet!AB375","v":0},0,{"$f":"IF(Worksheet!AJ375=0,0,Worksheet!AJ375*10/I356)","v":0},0,null,null,null,{"$f":"IFERROR(Worksheet!V375/(Worksheet!S375+Worksheet!#REF!),0)","v":0},{"$f":"IF(Worksheet!E375=\"\",\"\",Worksheet!E375)","v":""},{"$f":"IF(Worksheet!B375=\"\",\"\",Worksheet!B375)","v":""},{"$f":"IF(Worksheet!D375=\"\",\"\",Worksheet!D375)","v":""}]
[{"$f":"IF(ISBLANK(Worksheet!F376)=FALSE,VLOOKUP(Worksheet!A376,MeasureCode_Lookup,6,FALSE),\"\")","v":""},{"$f":"Worksheet!H376","v":0},{"$f":"Worksheet!I376","v":0},{"$f":"IFERROR(IF(Worksheet!X376=0,Worksheet!W376/I357,Worksheet!X376/R357),0)","v":0},"W Controlled",null,null,{"$f":"IF(N(Worksheet!S376)=0,N(Worksheet!R376),N(Worksheet!S376))","v":0},{"$f":"IFERROR(Worksheet!U376/(Worksheet!R376+Worksheet!#REF!),0)","v":0},{"$f":"Worksheet!AC376","v":0},{"$f":"Worksheet!AB376","v":0},0,{"$f":"IF(Worksheet!AJ376=0,0,Worksheet!AJ376*10/I357)","v":0},0,null,null,null,{"$f":"IFERROR(Worksheet!V376/(Worksheet!S376+Worksheet!#REF!),0)","v":0},{"$f":"IF(Worksheet!E376=\"\",\"\",Worksheet!E376)","v":""},{"$f":"IF(Worksheet!B376=\"\",\"\",Worksheet!B376)","v":""},{"$f":"IF(Worksheet!D376=\"\",\"\",Worksheet!D376)","v":""}]
[{"$f":"IF(ISBLANK(Worksheet!F377)=FALSE,VLOOKUP(Worksheet!A377,MeasureCode_Lookup,6,FALSE),\"\")","v":""},{"$f":"Worksheet!H377","v":0},{"$f":"Worksheet!I377","v":0},{"$f":"IFERROR(IF(Worksheet!X377=0,Worksheet!W377/I358,Worksheet!X377/R358),0)","v":0},"W Controlled",null,null,{"$f":"IF(N(Worksheet!S377)=0,N(Worksheet!R377),N(Worksheet!S377))","v":0},{"$f":"IFERROR(Worksheet!U377/(Worksheet!R377+Worksheet!#REF!),0)","v":0},{"$f":"Worksheet!AC377","v":0},{"$f":"Worksheet!AB377","v":0},0,{"$f":"IF(Worksheet!AJ377=0,0,Worksheet!AJ377*10/I358)","v":0},0,null,null,null,{"$f":"IFERROR(Worksheet!V377/(Worksheet!S377+Worksheet!#REF!),0)","v":0},{"$f":"IF(Worksheet!E377=\"\",\"\",Worksheet!E377)","v":""},{"$f":"IF(Worksheet!B377=\"\",\"\",Worksheet!B377)","v":""},{"$f":"IF(Worksheet!D377=\"\",\"\",Worksheet!D377)","v":""}]
[{"$f":"IF(ISBLANK(Worksheet!F378)=FALSE,VLOOKUP(Worksheet!A378,MeasureCode_Lookup,6,FALSE),\"\")","v":""},{"$f":"Worksheet!H378","v":0},{"$f":"Worksheet!I378","v":0},{"$f":"IFERROR(IF(Worksheet!X378=0,Worksheet!W378/I359,Worksheet!X378/R359),0)","v":0},"W Controlled",null,null,{"$f":"IF(N(Worksheet!S378)=0,N(Worksheet!R378),N(Worksheet!S378))","v":0},{"$f":"IFERROR(Worksheet!U378/(Worksheet!R378+Worksheet!#REF!),0)","v":0},{"$f":"Worksheet!AC378","v":0},{"$f":"Worksheet!AB378","v":0},0,{"$f":"IF(Worksheet!AJ378=0,0,Worksheet!AJ378*10/I359)","v":0},0,null,null,null,{"$f":"IFERROR(Worksheet!V378/(Worksheet!S378+Worksheet!#REF!),0)","v":0},{"$f":"IF(Worksheet!E378=\"\",\"\",Worksheet!E378)","v":""},{"$f":"IF(Worksheet!B378=\"\",\"\",Worksheet!B378)","v":""},{"$f":"IF(Worksheet!D378=\"\",\"\",Worksheet!D378)","v":""}]
[{"$f":"IF(ISBLANK(Worksheet!F379)=FALSE,VLOOKUP(Worksheet!A379,MeasureCode_Lookup,6,FALSE),\"\")","v":""},{"$f":"Worksheet!H379","v":0},{"$f":"Worksheet!I379","v":0},{"$f":"IFERROR(IF(Worksheet!X379=0,Worksheet!W379/I360,Worksheet!X379/R360),0)","v":0},"W Controlled",null,null,{"$f":"IF(N(Worksheet!S379)=0,N(Worksheet!R379),N(Worksheet!S379))","v":0},{"$f":"IFERROR(Worksheet!U379/(Worksheet!R379+Worksheet!#REF!),0)","v":0},{"$f":"Worksheet!AC379","v":0},{"$f":"Worksheet!AB379","v":0},0,{"$f":"IF(Worksheet!AJ379=0,0,Worksheet!AJ379*10/I360)","v":0},0,null,null,null,{"$f":"IFERROR(Worksheet!V379/(Worksheet!S379+Worksheet!#REF!),0)","v":0},{"$f":"IF(Worksheet!E379=\"\",\"\",Worksheet!E379)","v":""},{"$f":"IF(Worksheet!B379=\"\",\"\",Worksheet!B379)","v":""},{"$f":"IF(Worksheet!D379=\"\",\"\",Worksheet!D379)","v":""}]
[{"$f":"IF(ISBLANK(Worksheet!F380)=FALSE,VLOOKUP(Worksheet!A380,MeasureCode_Lookup,6,FALSE),\"\")","v":""},{"$f":"Worksheet!H380","v":0},{"$f":"Worksheet!I380","v":0},{"$f":"IFERROR(IF(Worksheet!X380=0,Worksheet!W380/I361,Worksheet!X380/R361),0)","v":0},"W Controlled",null,null,{"$f":"IF(N(Worksheet!S380)=0,N(Worksheet!R380),N(Worksheet!S380))","v":0},{"$f":"IFERROR(Worksheet!U380/(Worksheet!R380+Worksheet!#REF!),0)","v":0},{"$f":"Worksheet!AC380","v":0},{"$f":"Worksheet!AB380","v":0},0,{"$f":"IF(Worksheet!AJ380=0,0,Worksheet!AJ380*10/I361)","v":0},0,null,null,null,{"$f":"IFERROR(Worksheet!V380/(Worksheet!S380+Worksheet!#REF!),0)","v":0},{"$f":"IF(Worksheet!E380=\"\",\"\",Worksheet!E380)","v":""},{"$f":"IF(Worksheet!B380=\"\",\"\",Worksheet!B380)","v":""},{"$f":"IF(Worksheet!D380=\"\",\"\",Worksheet!D380)","v":""}]
[{"$f":"IF(ISBLANK(Worksheet!F381)=FALSE,VLOOKUP(Worksheet!A381,MeasureCode_Lookup,6,FALSE),\"\")","v":""},{"$f":"Worksheet!H381","v":0},{"$f":"Worksheet!I381","v":0},{"$f":"IFERROR(IF(Worksheet!X381=0,Worksheet!W381/I362,Worksheet!X381/R362),0)","v":0},"W Controlled",null,null,{"$f":"IF(N(Worksheet!S381)=0,N(Worksheet!R381),N(Worksheet!S381))","v":0},{"$f":"IFERROR(Worksheet!U381/(Worksheet!R381+Worksheet!#REF!),0)","v":0},{"$f":"Worksheet!AC381","v":0},{"$f":"Worksheet!AB381","v":0},0,{"$f":"IF(Worksheet!AJ381=0,0,Worksheet!AJ381*10/I362)","v":0},0,null,null,null,{"$f":"IFERROR(Worksheet!V381/(Worksheet!S381+Worksheet!#REF!),0)","v":0},{"$f":"IF(Worksheet!E381=\"\",\"\",Worksheet!E381)","v":""},{"$f":"IF(Worksheet!B381=\"\",\"\",Worksheet!B381)","v":""},{"$f":"IF(Worksheet!D381=\"\",\"\",Worksheet!D381)","v":""}]
[{"$f":"IF(ISBLANK(Worksheet!F382)=FALSE,VLOOKUP(Worksheet!A382,MeasureCode_Lookup,6,FALSE),\"\")","v":""},{"$f":"Worksheet!H382","v":0},{"$f":"Worksheet!I382","v":0},{"$f":"IFERROR(IF(Worksheet!X382=0,Worksheet!W382/I363,Worksheet!X382/R363),0)","v":0},"W Controlled",null,null,{"$f":"IF(N(Worksheet!S382)=0,N(Worksheet!R382),N(Worksheet!S382))","v":0},{"$f":"IFERROR(Worksheet!U382/(Worksheet!R382+Worksheet!#REF!),0)","v":0},{"$f":"Worksheet!AC382","v":0},{"$f":"Worksheet!AB382","v":0},0,{"$f":"IF(Worksheet!AJ382=0,0,Worksheet!AJ382*10/I363)","v":0},0,null,null,null,{"$f":"IFERROR(Worksheet!V382/(Worksheet!S382+Worksheet!#REF!),0)","v":0},{"$f":"IF(Worksheet!E382=\"\",\"\",Worksheet!E382)","v":""},{"$f":"IF(Worksheet!B382=\"\",\"\",Worksheet!B382)","v":""},{"$f":"IF(Worksheet!D382=\"\",\"\",Worksheet!D382)","v":""}]
[{"$f":"IF(ISBLANK(Worksheet!F383)=FALSE,VLOOKUP(Worksheet!A383,MeasureCode_Lookup,6,FALSE),\"\")","v":""},{"$f":"Worksheet!H383","v":0},{"$f":"Worksheet!I383","v":0},{"$f":"IFERROR(IF(Worksheet!X383=0,Worksheet!W383/I364,Worksheet!X383/R364),0)","v":0},"W Controlled",null,null,{"$f":"IF(N(Worksheet!S383)=0,N(Worksheet!R383),N(Worksheet!S383))","v":0},{"$f":"IFERROR(Worksheet!U383/(Worksheet!R383+Worksheet!#REF!),0)","v":0},{"$f":"Worksheet!AC383","v":0},{"$f":"Worksheet!AB383","v":0},0,{"$f":"IF(Worksheet!AJ383=0,0,Worksheet!AJ383*10/I364)","v":0},0,null,null,null,{"$f":"IFERROR(Worksheet!V383/(Worksheet!S383+Worksheet!#REF!),0)","v":0},{"$f":"IF(Worksheet!E383=\"\",\"\",Worksheet!E383)","v":""},{"$f":"IF(Worksheet!B383=\"\",\"\",Worksheet!B383)","v":""},{"$f":"IF(Worksheet!D383=\"\",\"\",Worksheet!D383)","v":""}]
[{"$f":"IF(ISBLANK(Worksheet!F384)=FALSE,VLOOKUP(Worksheet!A384,MeasureCode_Lookup,6,FALSE),\"\")","v":""},{"$f":"Worksheet!H384","v":0},{"$f":"Worksheet!I384","v":0},{"$f":"IFERROR(IF(Worksheet!X384=0,Worksheet!W384/I365,Worksheet!X384/R365),0)","v":0},"W Controlled",null,null,{"$f":"IF(N(Worksheet!S384)=0,N(Worksheet!R384),N(Worksheet!S384))","v":0},{"$f":"IFERROR(Worksheet!U384/(Worksheet!R384+Worksheet!#REF!),0)","v":0},{"$f":"Worksheet!AC384","v":0},{"$f":"Worksheet!AB384","v":0},0,{"$f":"IF(Worksheet!AJ384=0,0,Worksheet!AJ384*10/I365)","v":0},0,null,null,null,{"$f":"IFERROR(Worksheet!V384/(Worksheet!S384+Worksheet!#REF!),0)","v":0},{"$f":"IF(Worksheet!E384=\"\",\"\",Worksheet!E384)","v":""},{"$f":"IF(Worksheet!B384=\"\",\"\",Worksheet!B384)","v":""},{"$f":"IF(Worksheet!D384=\"\",\"\",Worksheet!D384)","v":""}]
[{"$f":"IF(ISBLANK(Worksheet!F385)=FALSE,VLOOKUP(Worksheet!A385,MeasureCode_Lookup,6,FALSE),\"\")","v":""},{"$f":"Worksheet!H385","v":0},{"$f":"Worksheet!I385","v":0},{"$f":"IFERROR(IF(Worksheet!X385=0,Worksheet!W385/I366,Worksheet!X385/R366),0)","v":0},"W Controlled",null,null,{"$f":"IF(N(Worksheet!S385)=0,N(Worksheet!R385),N(Worksheet!S385))","v":0},{"$f":"IFERROR(Worksheet!U385/(Worksheet!R385+Worksheet!#REF!),0)","v":0},{"$f":"Worksheet!AC385","v":0},{"$f":"Worksheet!AB385","v":0},0,{"$f":"IF(Worksheet!AJ385=0,0,Worksheet!AJ385*10/I366)","v":0},0,null,null,null,{"$f":"IFERROR(Worksheet!V385/(Worksheet!S385+Worksheet!#REF!),0)","v":0},{"$f":"IF(Worksheet!E385=\"\",\"\",Worksheet!E385)","v":""},{"$f":"IF(Worksheet!B385=\"\",\"\",Worksheet!B385)","v":""},{"$f":"IF(Worksheet!D385=\"\",\"\",Worksheet!D385)","v":""}]
[{"$f":"IF(ISBLANK(Worksheet!F386)=FALSE,VLOOKUP(Worksheet!A386,MeasureCode_Lookup,6,FALSE),\"\")","v":""},{"$f":"Worksheet!H386","v":0},{"$f":"Worksheet!I386","v":0},{"$f":"IFERROR(IF(Worksheet!X386=0,Worksheet!W386/I367,Worksheet!X386/R367),0)","v":0},"W Controlled",null,null,{"$f":"IF(N(Worksheet!S386)=0,N(Worksheet!R386),N(Worksheet!S386))","v":0},{"$f":"IFERROR(Worksheet!U386/(Worksheet!R386+Worksheet!#REF!),0)","v":0},{"$f":"Worksheet!AC386","v":0},{"$f":"Worksheet!AB386","v":0},0,{"$f":"IF(Worksheet!AJ386=0,0,Worksheet!AJ386*10/I367)","v":0},0,null,null,null,{"$f":"IFERROR(Worksheet!V386/(Worksheet!S386+Worksheet!#REF!),0)","v":0},{"$f":"IF(Worksheet!E386=\"\",\"\",Worksheet!E386)","v":""},{"$f":"IF(Worksheet!B386=\"\",\"\",Worksheet!B386)","v":""},{"$f":"IF(Worksheet!D386=\"\",\"\",Worksheet!D386)","v":""}]
[{"$f":"IF(ISBLANK(Worksheet!F387)=FALSE,VLOOKUP(Worksheet!A387,MeasureCode_Lookup,6,FALSE),\"\")","v":""},{"$f":"Worksheet!H387","v":0},{"$f":"Worksheet!I387","v":0},{"$f":"IFERROR(IF(Worksheet!X387=0,Worksheet!W387/I368,Worksheet!X387/R368),0)","v":0},"W Controlled",null,null,{"$f":"IF(N(Worksheet!S387)=0,N(Worksheet!R387),N(Worksheet!S387))","v":0},{"$f":"IFERROR(Worksheet!U387/(Worksheet!R387+Worksheet!#REF!),0)","v":0},{"$f":"Worksheet!AC387","v":0},{"$f":"Worksheet!AB387","v":0},0,{"$f":"IF(Worksheet!AJ387=0,0,Worksheet!AJ387*10/I368)","v":0},0,null,null,null,{"$f":"IFERROR(Worksheet!V387/(Worksheet!S387+Worksheet!#REF!),0)","v":0},{"$f":"IF(Worksheet!E387=\"\",\"\",Worksheet!E387)","v":""},{"$f":"IF(Worksheet!B387=\"\",\"\",Worksheet!B387)","v":""},{"$f":"IF(Worksheet!D387=\"\",\"\",Worksheet!D387)","v":""}]
[{"$f":"IF(ISBLANK(Worksheet!F388)=FALSE,VLOOKUP(Worksheet!A388,MeasureCode_Lookup,6,FALSE),\"\")","v":""},{"$f":"Worksheet!H388","v":0},{"$f":"Worksheet!I388","v":0},{"$f":"IFERROR(IF(Worksheet!X388=0,Worksheet!W388/I369,Worksheet!X388/R369),0)","v":0},"W Controlled",null,null,{"$f":"IF(N(Worksheet!S388)=0,N(Worksheet!R388),N(Worksheet!S388))","v":0},{"$f":"IFERROR(Worksheet!U388/(Worksheet!R388+Worksheet!#REF!),0)","v":0},{"$f":"Worksheet!AC388","v":0},{"$f":"Worksheet!AB388","v":0},0,{"$f":"IF(Worksheet!AJ388=0,0,Worksheet!AJ388*10/I369)","v":0},0,null,null,null,{"$f":"IFERROR(Worksheet!V388/(Worksheet!S388+Worksheet!#REF!),0)","v":0},{"$f":"IF(Worksheet!E388=\"\",\"\",Worksheet!E388)","v":""},{"$f":"IF(Worksheet!B388=\"\",\"\",Worksheet!B388)","v":""},{"$f":"IF(Worksheet!D388=\"\",\"\",Worksheet!D388)","v":""}]
[{"$f":"IF(ISBLANK(Worksheet!F389)=FALSE,VLOOKUP(Worksheet!A389,MeasureCode_Lookup,6,FALSE),\"\")","v":""},{"$f":"Worksheet!H389","v":0},{"$f":"Worksheet!I389","v":0},{"$f":"IFERROR(IF(Worksheet!X389=0,Worksheet!W389/I370,Worksheet!X389/R370),0)","v":0},"W Controlled",null,null,{"$f":"IF(N(Worksheet!S389)=0,N(Worksheet!R389),N(Worksheet!S389))","v":0},{"$f":"IFERROR(Worksheet!U389/(Worksheet!R389+Worksheet!#REF!),0)","v":0},{"$f":"Worksheet!AC389","v":0},{"$f":"Worksheet!AB389","v":0},0,{"$f":"IF(Worksheet!AJ389=0,0,Worksheet!AJ389*10/I370)","v":0},0,null,null,null,{"$f":"IFERROR(Worksheet!V389/(Worksheet!S389+Worksheet!#REF!),0)","v":0},{"$f":"IF(Worksheet!E389=\"\",\"\",Worksheet!E389)","v":""},{"$f":"IF(Worksheet!B389=\"\",\"\",Worksheet!B389)","v":""},{"$f":"IF(Worksheet!D389=\"\",\"\",Worksheet!D389)","v":""}]
[{"$f":"IF(ISBLANK(Worksheet!F390)=FALSE,VLOOKUP(Worksheet!A390,MeasureCode_Lookup,6,FALSE),\"\")","v":""},{"$f":"Worksheet!H390","v":0},{"$f":"Worksheet!I390","v":0},{"$f":"IFERROR(IF(Worksheet!X390=0,Worksheet!W390/I371,Worksheet!X390/R371),0)","v":0},"W Controlled",null,null,{"$f":"IF(N(Worksheet!S390)=0,N(Worksheet!R390),N(Worksheet!S390))","v":0},{"$f":"IFERROR(Worksheet!U390/(Worksheet!R390+Worksheet!#REF!),0)","v":0},{"$f":"Worksheet!AC390","v":0},{"$f":"Worksheet!AB390","v":0},0,{"$f":"IF(Worksheet!AJ390=0,0,Worksheet!AJ390*10/I371)","v":0},0,null,null,null,{"$f":"IFERROR(Worksheet!V390/(Worksheet!S390+Worksheet!#REF!),0)","v":0},{"$f":"IF(Worksheet!E390=\"\",\"\",Worksheet!E390)","v":""},{"$f":"IF(Worksheet!B390=\"\",\"\",Worksheet!B390)","v":""},{"$f":"IF(Worksheet!D390=\"\",\"\",Worksheet!D390)","v":""}]
[{"$f":"IF(ISBLANK(Worksheet!F391)=FALSE,VLOOKUP(Worksheet!A391,MeasureCode_Lookup,6,FALSE),\"\")","v":""},{"$f":"Worksheet!H391","v":0},{"$f":"Worksheet!I391","v":0},{"$f":"IFERROR(IF(Worksheet!X391=0,Worksheet!W391/I372,Worksheet!X391/R372),0)","v":0},"W Controlled",null,null,{"$f":"IF(N(Worksheet!S391)=0,N(Worksheet!R391),N(Worksheet!S391))","v":0},{"$f":"IFERROR(Worksheet!U391/(Worksheet!R391+Worksheet!#REF!),0)","v":0},{"$f":"Worksheet!AC391","v":0},{"$f":"Worksheet!AB391","v":0},0,{"$f":"IF(Worksheet!AJ391=0,0,Worksheet!AJ391*10/I372)","v":0},0,null,null,null,{"$f":"IFERROR(Worksheet!V391/(Worksheet!S391+Worksheet!#REF!),0)","v":0},{"$f":"IF(Worksheet!E391=\"\",\"\",Worksheet!E391)","v":""},{"$f":"IF(Worksheet!B391=\"\",\"\",Worksheet!B391)","v":""},{"$f":"IF(Worksheet!D391=\"\",\"\",Worksheet!D391)","v":""}]
[{"$f":"IF(ISBLANK(Worksheet!F392)=FALSE,VLOOKUP(Worksheet!A392,MeasureCode_Lookup,6,FALSE),\"\")","v":""},{"$f":"Worksheet!H392","v":0},{"$f":"Worksheet!I392","v":0},{"$f":"IFERROR(IF(Worksheet!X392=0,Worksheet!W392/I373,Worksheet!X392/R373),0)","v":0},"W Controlled",null,null,{"$f":"IF(N(Worksheet!S392)=0,N(Worksheet!R392),N(Worksheet!S392))","v":0},{"$f":"IFERROR(Worksheet!U392/(Worksheet!R392+Worksheet!#REF!),0)","v":0},{"$f":"Worksheet!AC392","v":0},{"$f":"Worksheet!AB392","v":0},0,{"$f":"IF(Worksheet!AJ392=0,0,Worksheet!AJ392*10/I373)","v":0},0,null,null,null,{"$f":"IFERROR(Worksheet!V392/(Worksheet!S392+Worksheet!#REF!),0)","v":0},{"$f":"IF(Worksheet!E392=\"\",\"\",Worksheet!E392)","v":""},{"$f":"IF(Worksheet!B392=\"\",\"\",Worksheet!B392)","v":""},{"$f":"IF(Worksheet!D392=\"\",\"\",Worksheet!D392)","v":""}]
[{"$f":"IF(ISBLANK(Worksheet!F393)=FALSE,VLOOKUP(Worksheet!A393,MeasureCode_Lookup,6,FALSE),\"\")","v":""},{"$f":"Worksheet!H393","v":0},{"$f":"Worksheet!I393","v":0},{"$f":"IFERROR(IF(Worksheet!X393=0,Worksheet!W393/I374,Worksheet!X393/R374),0)","v":0},"W Controlled",null,null,{"$f":"IF(N(Worksheet!S393)=0,N(Worksheet!R393),N(Worksheet!S393))","v":0},{"$f":"IFERROR(Worksheet!U393/(Worksheet!R393+Worksheet!#REF!),0)","v":0},{"$f":"Worksheet!AC393","v":0},{"$f":"Worksheet!AB393","v":0},0,{"$f":"IF(Worksheet!AJ393=0,0,Worksheet!AJ393*10/I374)","v":0},0,null,null,null,{"$f":"IFERROR(Worksheet!V393/(Worksheet!S393+Worksheet!#REF!),0)","v":0},{"$f":"IF(Worksheet!E393=\"\",\"\",Worksheet!E393)","v":""},{"$f":"IF(Worksheet!B393=\"\",\"\",Worksheet!B393)","v":""},{"$f":"IF(Worksheet!D393=\"\",\"\",Worksheet!D393)","v":""}]
[{"$f":"IF(ISBLANK(Worksheet!F394)=FALSE,VLOOKUP(Worksheet!A394,MeasureCode_Lookup,6,FALSE),\"\")","v":""},{"$f":"Worksheet!H394","v":0},{"$f":"Worksheet!I394","v":0},{"$f":"IFERROR(IF(Worksheet!X394=0,Worksheet!W394/I375,Worksheet!X394/R375),0)","v":0},"W Controlled",null,null,{"$f":"IF(N(Worksheet!S394)=0,N(Worksheet!R394),N(Worksheet!S394))","v":0},{"$f":"IFERROR(Worksheet!U394/(Worksheet!R394+Worksheet!#REF!),0)","v":0},{"$f":"Worksheet!AC394","v":0},{"$f":"Worksheet!AB394","v":0},0,{"$f":"IF(Worksheet!AJ394=0,0,Worksheet!AJ394*10/I375)","v":0},0,null,null,null,{"$f":"IFERROR(Worksheet!V394/(Worksheet!S394+Worksheet!#REF!),0)","v":0},{"$f":"IF(Worksheet!E394=\"\",\"\",Worksheet!E394)","v":""},{"$f":"IF(Worksheet!B394=\"\",\"\",Worksheet!B394)","v":""},{"$f":"IF(Worksheet!D394=\"\",\"\",Worksheet!D394)","v":""}]
[{"$f":"IF(ISBLANK(Worksheet!F395)=FALSE,VLOOKUP(Worksheet!A395,MeasureCode_Lookup,6,FALSE),\"\")","v":""},{"$f":"Worksheet!H395","v":0},{"$f":"Worksheet!I395","v":0},{"$f":"IFERROR(IF(Worksheet!X395=0,Worksheet!W395/I376,Worksheet!X395/R376),0)","v":0},"W Controlled",null,null,{"$f":"IF(N(Worksheet!S395)=0,N(Worksheet!R395),N(Worksheet!S395))","v":0},{"$f":"IFERROR(Worksheet!U395/(Worksheet!R395+Worksheet!#REF!),0)","v":0},{"$f":"Worksheet!AC395","v":0},{"$f":"Worksheet!AB395","v":0},0,{"$f":"IF(Worksheet!AJ395=0,0,Worksheet!AJ395*10/I376)","v":0},0,null,null,null,{"$f":"IFERROR(Worksheet!V395/(Worksheet!S395+Worksheet!#REF!),0)","v":0},{"$f":"IF(Worksheet!E395=\"\",\"\",Worksheet!E395)","v":""},{"$f":"IF(Worksheet!B395=\"\",\"\",Worksheet!B395)","v":""},{"$f":"IF(Worksheet!D395=\"\",\"\",Worksheet!D395)","v":""}]
[{"$f":"IF(ISBLANK(Worksheet!F396)=FALSE,VLOOKUP(Worksheet!A396,MeasureCode_Lookup,6,FALSE),\"\")","v":""},{"$f":"Worksheet!H396","v":0},{"$f":"Worksheet!I396","v":0},{"$f":"IFERROR(IF(Worksheet!X396=0,Worksheet!W396/I377,Worksheet!X396/R377),0)","v":0},"W Controlled",null,null,{"$f":"IF(N(Worksheet!S396)=0,N(Worksheet!R396),N(Worksheet!S396))","v":0},{"$f":"IFERROR(Worksheet!U396/(Worksheet!R396+Worksheet!#REF!),0)","v":0},{"$f":"Worksheet!AC396","v":0},{"$f":"Worksheet!AB396","v":0},0,{"$f":"IF(Worksheet!AJ396=0,0,Worksheet!AJ396*10/I377)","v":0},0,null,null,null,{"$f":"IFERROR(Worksheet!V396/(Worksheet!S396+Worksheet!#REF!),0)","v":0},{"$f":"IF(Worksheet!E396=\"\",\"\",Worksheet!E396)","v":""},{"$f":"IF(Worksheet!B396=\"\",\"\",Worksheet!B396)","v":""},{"$f":"IF(Worksheet!D396=\"\",\"\",Worksheet!D396)","v":""}]
[{"$f":"IF(ISBLANK(Worksheet!F397)=FALSE,VLOOKUP(Worksheet!A397,MeasureCode_Lookup,6,FALSE),\"\")","v":""},{"$f":"Worksheet!H397","v":0},{"$f":"Worksheet!I397","v":0},{"$f":"IFERROR(IF(Worksheet!X397=0,Worksheet!W397/I378,Worksheet!X397/R378),0)","v":0},"W Controlled",null,null,{"$f":"IF(N(Worksheet!S397)=0,N(Worksheet!R397),N(Worksheet!S397))","v":0},{"$f":"IFERROR(Worksheet!U397/(Worksheet!R397+Worksheet!#REF!),0)","v":0},{"$f":"Worksheet!AC397","v":0},{"$f":"Worksheet!AB397","v":0},0,{"$f":"IF(Worksheet!AJ397=0,0,Worksheet!AJ397*10/I378)","v":0},0,null,null,null,{"$f":"IFERROR(Worksheet!V397/(Worksheet!S397+Worksheet!#REF!),0)","v":0},{"$f":"IF(Worksheet!E397=\"\",\"\",Worksheet!E397)","v":""},{"$f":"IF(Worksheet!B397=\"\",\"\",Worksheet!B397)","v":""},{"$f":"IF(Worksheet!D397=\"\",\"\",Worksheet!D397)","v":""}]
[{"$f":"IF(ISBLANK(Worksheet!F398)=FALSE,VLOOKUP(Worksheet!A398,MeasureCode_Lookup,6,FALSE),\"\")","v":""},{"$f":"Worksheet!H398","v":0},{"$f":"Worksheet!I398","v":0},{"$f":"IFERROR(IF(Worksheet!X398=0,Worksheet!W398/I379,Worksheet!X398/R379),0)","v":0},"W Controlled",null,null,{"$f":"IF(N(Worksheet!S398)=0,N(Worksheet!R398),N(Worksheet!S398))","v":0},{"$f":"IFERROR(Worksheet!U398/(Worksheet!R398+Worksheet!#REF!),0)","v":0},{"$f":"Worksheet!AC398","v":0},{"$f":"Worksheet!AB398","v":0},0,{"$f":"IF(Worksheet!AJ398=0,0,Worksheet!AJ398*10/I379)","v":0},0,null,null,null,{"$f":"IFERROR(Worksheet!V398/(Worksheet!S398+Worksheet!#REF!),0)","v":0},{"$f":"IF(Worksheet!E398=\"\",\"\",Worksheet!E398)","v":""},{"$f":"IF(Worksheet!B398=\"\",\"\",Worksheet!B398)","v":""},{"$f":"IF(Worksheet!D398=\"\",\"\",Worksheet!D398)","v":""}]
[{"$f":"IF(ISBLANK(Worksheet!F399)=FALSE,VLOOKUP(Worksheet!A399,MeasureCode_Lookup,6,FALSE),\"\")","v":""},{"$f":"Worksheet!H399","v":0},{"$f":"Worksheet!I399","v":0},{"$f":"IFERROR(IF(Worksheet!X399=0,Worksheet!W399/I380,Worksheet!X399/R380),0)","v":0},"W Controlled",null,null,{"$f":"IF(N(Worksheet!S399)=0,N(Worksheet!R399),N(Worksheet!S399))","v":0},{"$f":"IFERROR(Worksheet!U399/(Worksheet!R399+Worksheet!#REF!),0)","v":0},{"$f":"Worksheet!AC399","v":0},{"$f":"Worksheet!AB399","v":0},0,{"$f":"IF(Worksheet!AJ399=0,0,Worksheet!AJ399*10/I380)","v":0},0,null,null,null,{"$f":"IFERROR(Worksheet!V399/(Worksheet!S399+Worksheet!#REF!),0)","v":0},{"$f":"IF(Worksheet!E399=\"\",\"\",Worksheet!E399)","v":""},{"$f":"IF(Worksheet!B399=\"\",\"\",Worksheet!B399)","v":""},{"$f":"IF(Worksheet!D399=\"\",\"\",Worksheet!D399)","v":""}]
[{"$f":"IF(ISBLANK(Worksheet!F400)=FALSE,VLOOKUP(Worksheet!A400,MeasureCode_Lookup,6,FALSE),\"\")","v":""},{"$f":"Worksheet!H400","v":0},{"$f":"Worksheet!I400","v":0},{"$f":"IFERROR(IF(Worksheet!X400=0,Worksheet!W400/I381,Worksheet!X400/R381),0)","v":0},"W Controlled",null,null,{"$f":"IF(N(Worksheet!S400)=0,N(Worksheet!R400),N(Worksheet!S400))","v":0},{"$f":"IFERROR(Worksheet!U400/(Worksheet!R400+Worksheet!#REF!),0)","v":0},{"$f":"Worksheet!AC400","v":0},{"$f":"Worksheet!AB400","v":0},0,{"$f":"IF(Worksheet!AJ400=0,0,Worksheet!AJ400*10/I381)","v":0},0,null,null,null,{"$f":"IFERROR(Worksheet!V400/(Worksheet!S400+Worksheet!#REF!),0)","v":0},{"$f":"IF(Worksheet!E400=\"\",\"\",Worksheet!E400)","v":""},{"$f":"IF(Worksheet!B400=\"\",\"\",Worksheet!B400)","v":""},{"$f":"IF(Worksheet!D400=\"\",\"\",Worksheet!D400)","v":""}]
[{"$f":"IF(ISBLANK(Worksheet!F401)=FALSE,VLOOKUP(Worksheet!A401,MeasureCode_Lookup,6,FALSE),\"\")","v":""},{"$f":"Worksheet!H401","v":0},{"$f":"Worksheet!I401","v":0},{"$f":"IFERROR(IF(Worksheet!X401=0,Worksheet!W401/I382,Worksheet!X401/R382),0)","v":0},"W Controlled",null,null,{"$f":"IF(N(Worksheet!S401)=0,N(Worksheet!R401),N(Worksheet!S401))","v":0},{"$f":"IFERROR(Worksheet!U401/(Worksheet!R401+Worksheet!#REF!),0)","v":0},{"$f":"Worksheet!AC401","v":0},{"$f":"Worksheet!AB401","v":0},0,{"$f":"IF(Worksheet!AJ401=0,0,Worksheet!AJ401*10/I382)","v":0},0,null,null,null,{"$f":"IFERROR(Worksheet!V401/(Worksheet!S401+Worksheet!#REF!),0)","v":0},{"$f":"IF(Worksheet!E401=\"\",\"\",Worksheet!E401)","v":""},{"$f":"IF(Worksheet!B401=\"\",\"\",Worksheet!B401)","v":""},{"$f":"IF(Worksheet!D401=\"\",\"\",Worksheet!D401)","v":""}]
[{"$f":"IF(ISBLANK(Worksheet!F402)=FALSE,VLOOKUP(Worksheet!A402,MeasureCode_Lookup,6,FALSE),\"\")","v":""},{"$f":"Worksheet!H402","v":0},{"$f":"Worksheet!I402","v":0},{"$f":"IFERROR(IF(Worksheet!X402=0,Worksheet!W402/I383,Worksheet!X402/R383),0)","v":0},"W Controlled",null,null,{"$f":"IF(N(Worksheet!S402)=0,N(Worksheet!R402),N(Worksheet!S402))","v":0},{"$f":"IFERROR(Worksheet!U402/(Worksheet!R402+Worksheet!#REF!),0)","v":0},{"$f":"Worksheet!AC402","v":0},{"$f":"Worksheet!AB402","v":0},0,{"$f":"IF(Worksheet!AJ402=0,0,Worksheet!AJ402*10/I383)","v":0},0,null,null,null,{"$f":"IFERROR(Worksheet!V402/(Worksheet!S402+Worksheet!#REF!),0)","v":0},{"$f":"IF(Worksheet!E402=\"\",\"\",Worksheet!E402)","v":""},{"$f":"IF(Worksheet!B402=\"\",\"\",Worksheet!B402)","v":""},{"$f":"IF(Worksheet!D402=\"\",\"\",Worksheet!D402)","v":""}]
[{"$f":"IF(ISBLANK(Worksheet!F403)=FALSE,VLOOKUP(Worksheet!A403,MeasureCode_Lookup,6,FALSE),\"\")","v":""},{"$f":"Worksheet!H403","v":0},{"$f":"Worksheet!I403","v":0},{"$f":"IFERROR(IF(Worksheet!X403=0,Worksheet!W403/I384,Worksheet!X403/R384),0)","v":0},"W Controlled",null,null,{"$f":"IF(N(Worksheet!S403)=0,N(Worksheet!R403),N(Worksheet!S403))","v":0},{"$f":"IFERROR(Worksheet!U403/(Worksheet!R403+Worksheet!#REF!),0)","v":0},{"$f":"Worksheet!AC403","v":0},{"$f":"Worksheet!AB403","v":0},0,{"$f":"IF(Worksheet!AJ403=0,0,Worksheet!AJ403*10/I384)","v":0},0,null,null,null,{"$f":"IFERROR(Worksheet!V403/(Worksheet!S403+Worksheet!#REF!),0)","v":0},{"$f":"IF(Worksheet!E403=\"\",\"\",Worksheet!E403)","v":""},{"$f":"IF(Worksheet!B403=\"\",\"\",Worksheet!B403)","v":""},{"$f":"IF(Worksheet!D403=\"\",\"\",Worksheet!D403)","v":""}]
[{"$f":"IF(ISBLANK(Worksheet!F404)=FALSE,VLOOKUP(Worksheet!A404,MeasureCode_Lookup,6,FALSE),\"\")","v":""},{"$f":"Worksheet!H404","v":0},{"$f":"Worksheet!I404","v":0},{"$f":"IFERROR(IF(Worksheet!X404=0,Worksheet!W404/I385,Worksheet!X404/R385),0)","v":0},"W Controlled",null,null,{"$f":"IF(N(Worksheet!S404)=0,N(Worksheet!R404),N(Worksheet!S404))","v":0},{"$f":"IFERROR(Worksheet!U404/(Worksheet!R404+Worksheet!#REF!),0)","v":0},{"$f":"Worksheet!AC404","v":0},{"$f":"Worksheet!AB404","v":0},0,{"$f":"IF(Worksheet!AJ404=0,0,Worksheet!AJ404*10/I385)","v":0},0,null,null,null,{"$f":"IFERROR(Worksheet!V404/(Worksheet!S404+Worksheet!#REF!),0)","v":0},{"$f":"IF(Worksheet!E404=\"\",\"\",Worksheet!E404)","v":""},{"$f":"IF(Worksheet!B404=\"\",\"\",Worksheet!B404)","v":""},{"$f":"IF(Worksheet!D404=\"\",\"\",Worksheet!D404)","v":""}]
[{"$f":"IF(ISBLANK(Worksheet!F405)=FALSE,VLOOKUP(Worksheet!A405,MeasureCode_Lookup,6,FALSE),\"\")","v":""},{"$f":"Worksheet!H405","v":0},{"$f":"Worksheet!I405","v":0},{"$f":"IFERROR(IF(Worksheet!X405=0,Worksheet!W405/I386,Worksheet!X405/R386),0)","v":0},"W Controlled",null,null,{"$f":"IF(N(Worksheet!S405)=0,N(Worksheet!R405),N(Worksheet!S405))","v":0},{"$f":"IFERROR(Worksheet!U405/(Worksheet!R405+Worksheet!#REF!),0)","v":0},{"$f":"Worksheet!AC405","v":0},{"$f":"Worksheet!AB405","v":0},0,{"$f":"IF(Worksheet!AJ405=0,0,Worksheet!AJ405*10/I386)","v":0},0,null,null,null,{"$f":"IFERROR(Worksheet!V405/(Worksheet!S405+Worksheet!#REF!),0)","v":0},{"$f":"IF(Worksheet!E405=\"\",\"\",Worksheet!E405)","v":""},{"$f":"IF(Worksheet!B405=\"\",\"\",Worksheet!B405)","v":""},{"$f":"IF(Worksheet!D405=\"\",\"\",Worksheet!D405)","v":""}]
[{"$f":"IF(ISBLANK(Worksheet!F406)=FALSE,VLOOKUP(Worksheet!A406,MeasureCode_Lookup,6,FALSE),\"\")","v":""},{"$f":"Worksheet!H406","v":0},{"$f":"Worksheet!I406","v":0},{"$f":"IFERROR(IF(Worksheet!X406=0,Worksheet!W406/I387,Worksheet!X406/R387),0)","v":0},"W Controlled",null,null,{"$f":"IF(N(Worksheet!S406)=0,N(Worksheet!R406),N(Worksheet!S406))","v":0},{"$f":"IFERROR(Worksheet!U406/(Worksheet!R406+Worksheet!#REF!),0)","v":0},{"$f":"Worksheet!AC406","v":0},{"$f":"Worksheet!AB406","v":0},{"$f":"J387*8","v":0},{"$f":"IF(Worksheet!AJ406=0,0,Worksheet!AJ406*10/I387)","v":0},{"$f":"M387*8","v":0},null,null,null,{"$f":"IFERROR(Worksheet!V406/(Worksheet!S406+Worksheet!#REF!),0)","v":0},{"$f":"IF(Worksheet!E406=\"\",\"\",Worksheet!E406)","v":""},{"$f":"IF(Worksheet!B406=\"\",\"\",Worksheet!B406)","v":""},{"$f":"IF(Worksheet!D406=\"\",\"\",Worksheet!D406)","v":""}]
[{"$f":"IF(ISBLANK(Worksheet!F407)=FALSE,VLOOKUP(Worksheet!A407,MeasureCode_Lookup,6,FALSE),\"\")","v":""},{"$f":"Worksheet!H407","v":0},{"$f":"Worksheet!I407","v":0},{"$f":"IFERROR(IF(Worksheet!X407=0,Worksheet!W407/I388,Worksheet!X407/R388),0)","v":0},"W Controlled",null,null,{"$f":"IF(N(Worksheet!S407)=0,N(Worksheet!R407),N(Worksheet!S407))","v":0},{"$f":"IFERROR(Worksheet!U407/(Worksheet!R407+Worksheet!#REF!),0)","v":0},{"$f":"Worksheet!AC407","v":0},{"$f":"Worksheet!AB407","v":0},0,{"$f":"IF(Worksheet!AJ407=0,0,Worksheet!AJ407*10/I388)","v":0},0,null,null,null,{"$f":"IFERROR(Worksheet!V407/(Worksheet!S407+Worksheet!#REF!),0)","v":0},{"$f":"IF(Worksheet!E407=\"\",\"\",Worksheet!E407)","v":""},{"$f":"IF(Worksheet!B407=\"\",\"\",Worksheet!B407)","v":""},{"$f":"IF(Worksheet!D407=\"\",\"\",Worksheet!D407)","v":""}]
[{"$f":"IF(ISBLANK(Worksheet!F408)=FALSE,VLOOKUP(Worksheet!A408,MeasureCode_Lookup,6,FALSE),\"\")","v":""},{"$f":"Worksheet!H408","v":0},{"$f":"Worksheet!I408","v":0},{"$f":"IFERROR(IF(Worksheet!X408=0,Worksheet!W408/I389,Worksheet!X408/R389),0)","v":0},"W Controlled",null,null,{"$f":"IF(N(Worksheet!S408)=0,N(Worksheet!R408),N(Worksheet!S408))","v":0},{"$f":"IFERROR(Worksheet!U408/(Worksheet!R408+Worksheet!#REF!),0)","v":0},{"$f":"Worksheet!AC408","v":0},{"$f":"Worksheet!AB408","v":0},0,{"$f":"IF(Worksheet!AJ408=0,0,Worksheet!AJ408*10/I389)","v":0},0,null,null,null,{"$f":"IFERROR(Worksheet!V408/(Worksheet!S408+Worksheet!#REF!),0)","v":0},{"$f":"IF(Worksheet!E408=\"\",\"\",Worksheet!E408)","v":""},{"$f":"IF(Worksheet!B408=\"\",\"\",Worksheet!B408)","v":""},{"$f":"IF(Worksheet!D408=\"\",\"\",Worksheet!D408)","v":""}]
[{"$f":"IF(ISBLANK(Worksheet!F409)=FALSE,VLOOKUP(Worksheet!A409,MeasureCode_Lookup,6,FALSE),\"\")","v":""},{"$f":"Worksheet!H409","v":0},{"$f":"Worksheet!I409","v":0},{"$f":"IFERROR(IF(Worksheet!X409=0,Worksheet!W409/I390,Worksheet!X409/R390),0)","v":0},"W Controlled",null,null,{"$f":"IF(N(Worksheet!S409)=0,N(Worksheet!R409),N(Worksheet!S409))","v":0},{"$f":"IFERROR(Worksheet!U409/(Worksheet!R409+Worksheet!#REF!),0)","v":0},{"$f":"Worksheet!AC409","v":0},{"$f":"Worksheet!AB409","v":0},0,{"$f":"IF(Worksheet!AJ409=0,0,Worksheet!AJ409*10/I390)","v":0},0,null,null,null,{"$f":"IFERROR(Worksheet!V409/(Worksheet!S409+Worksheet!#REF!),0)","v":0},{"$f":"IF(Worksheet!E409=\"\",\"\",Worksheet!E409)","v":""},{"$f":"IF(Worksheet!B409=\"\",\"\",Worksheet!B409)","v":""},{"$f":"IF(Worksheet!D409=\"\",\"\",Worksheet!D409)","v":""}]
[{"$f":"IF(ISBLANK(Worksheet!F410)=FALSE,VLOOKUP(Worksheet!A410,MeasureCode_Lookup,6,FALSE),\"\")","v":""},{"$f":"Worksheet!H410","v":0},{"$f":"Worksheet!I410","v":0},{"$f":"IFERROR(IF(Worksheet!X410=0,Worksheet!W410/I391,Worksheet!X410/R391),0)","v":0},"W Controlled",null,null,{"$f":"IF(N(Worksheet!S410)=0,N(Worksheet!R410),N(Worksheet!S410))","v":0},{"$f":"IFERROR(Worksheet!U410/(Worksheet!R410+Worksheet!#REF!),0)","v":0},{"$f":"Worksheet!AC410","v":0},{"$f":"Worksheet!AB410","v":0},0,{"$f":"IF(Worksheet!AJ410=0,0,Worksheet!AJ410*10/I391)","v":0},0,null,null,null,{"$f":"IFERROR(Worksheet!V410/(Worksheet!S410+Worksheet!#REF!),0)","v":0},{"$f":"IF(Worksheet!E410=\"\",\"\",Worksheet!E410)","v":""},{"$f":"IF(Worksheet!B410=\"\",\"\",Worksheet!B410)","v":""},{"$f":"IF(Worksheet!D410=\"\",\"\",Worksheet!D410)","v":""}]
[{"$f":"IF(ISBLANK(Worksheet!F411)=FALSE,VLOOKUP(Worksheet!A411,MeasureCode_Lookup,6,FALSE),\"\")","v":""},{"$f":"Worksheet!H411","v":0},{"$f":"Worksheet!I411","v":0},{"$f":"IFERROR(IF(Worksheet!X411=0,Worksheet!W411/I392,Worksheet!X411/R392),0)","v":0},"W Controlled",null,null,{"$f":"IF(N(Worksheet!S411)=0,N(Worksheet!R411),N(Worksheet!S411))","v":0},{"$f":"IFERROR(Worksheet!U411/(Worksheet!R411+Worksheet!#REF!),0)","v":0},{"$f":"Worksheet!AC411","v":0},{"$f":"Worksheet!AB411","v":0},0,{"$f":"IF(Worksheet!AJ411=0,0,Worksheet!AJ411*10/I392)","v":0},0,null,null,null,{"$f":"IFERROR(Worksheet!V411/(Worksheet!S411+Worksheet!#REF!),0)","v":0},{"$f":"IF(Worksheet!E411=\"\",\"\",Worksheet!E411)","v":""},{"$f":"IF(Worksheet!B411=\"\",\"\",Worksheet!B411)","v":""},{"$f":"IF(Worksheet!D411=\"\",\"\",Worksheet!D411)","v":""}]
[{"$f":"IF(ISBLANK(Worksheet!F412)=FALSE,VLOOKUP(Worksheet!A412,MeasureCode_Lookup,6,FALSE),\"\")","v":""},{"$f":"Worksheet!H412","v":0},{"$f":"Worksheet!I412","v":0},{"$f":"IFERROR(IF(Worksheet!X412=0,Worksheet!W412/I393,Worksheet!X412/R393),0)","v":0},"W Controlled",null,null,{"$f":"IF(N(Worksheet!S412)=0,N(Worksheet!R412),N(Worksheet!S412))","v":0},{"$f":"IFERROR(Worksheet!U412/(Worksheet!R412+Worksheet!#REF!),0)","v":0},{"$f":"Worksheet!AC412","v":0},{"$f":"Worksheet!AB412","v":0},0,{"$f":"IF(Worksheet!AJ412=0,0,Worksheet!AJ412*10/I393)","v":0},0,null,null,null,{"$f":"IFERROR(Worksheet!V412/(Worksheet!S412+Worksheet!#REF!),0)","v":0},{"$f":"IF(Worksheet!E412=\"\",\"\",Worksheet!E412)","v":""},{"$f":"IF(Worksheet!B412=\"\",\"\",Worksheet!B412)","v":""},{"$f":"IF(Worksheet!D412=\"\",\"\",Worksheet!D412)","v":""}]
[{"$f":"IF(ISBLANK(Worksheet!F413)=FALSE,VLOOKUP(Worksheet!A413,MeasureCode_Lookup,6,FALSE),\"\")","v":""},{"$f":"Worksheet!H413","v":0},{"$f":"Worksheet!I413","v":0},{"$f":"IFERROR(IF(Worksheet!X413=0,Worksheet!W413/I394,Worksheet!X413/R394),0)","v":0},"W Controlled",null,null,{"$f":"IF(N(Worksheet!S413)=0,N(Worksheet!R413),N(Worksheet!S413))","v":0},{"$f":"IFERROR(Worksheet!U413/(Worksheet!R413+Worksheet!#REF!),0)","v":0},{"$f":"Worksheet!AC413","v":0},{"$f":"Worksheet!AB413","v":0},0,{"$f":"IF(Worksheet!AJ413=0,0,Worksheet!AJ413*10/I394)","v":0},0,null,null,null,{"$f":"IFERROR(Worksheet!V413/(Worksheet!S413+Worksheet!#REF!),0)","v":0},{"$f":"IF(Worksheet!E413=\"\",\"\",Worksheet!E413)","v":""},{"$f":"IF(Worksheet!B413=\"\",\"\",Worksheet!B413)","v":""},{"$f":"IF(Worksheet!D413=\"\",\"\",Worksheet!D413)","v":""}]
[{"$f":"IF(ISBLANK(Worksheet!F414)=FALSE,VLOOKUP(Worksheet!A414,MeasureCode_Lookup,6,FALSE),\"\")","v":""},{"$f":"Worksheet!H414","v":0},{"$f":"Worksheet!I414","v":0},{"$f":"IFERROR(IF(Worksheet!X414=0,Worksheet!W414/I395,Worksheet!X414/R395),0)","v":0},"W Controlled",null,null,{"$f":"IF(N(Worksheet!S414)=0,N(Worksheet!R414),N(Worksheet!S414))","v":0},{"$f":"IFERROR(Worksheet!U414/(Worksheet!R414+Worksheet!#REF!),0)","v":0},{"$f":"Worksheet!AC414","v":0},{"$f":"Worksheet!AB414","v":0},0,{"$f":"IF(Worksheet!AJ414=0,0,Worksheet!AJ414*10/I395)","v":0},0,null,null,null,{"$f":"IFERROR(Worksheet!V414/(Worksheet!S414+Worksheet!#REF!),0)","v":0},{"$f":"IF(Worksheet!E414=\"\",\"\",Worksheet!E414)","v":""},{"$f":"IF(Worksheet!B414=\"\",\"\",Worksheet!B414)","v":""},{"$f":"IF(Worksheet!D414=\"\",\"\",Worksheet!D414)","v":""}]
[{"$f":"IF(ISBLANK(Worksheet!F415)=FALSE,VLOOKUP(Worksheet!A415,MeasureCode_Lookup,6,FALSE),\"\")","v":""},{"$f":"Worksheet!H415","v":0},{"$f":"Worksheet!I415","v":0},{"$f":"IFERROR(IF(Worksheet!X415=0,Worksheet!W415/I396,Worksheet!X415/R396),0)","v":0},"W Controlled",null,null,{"$f":"IF(N(Worksheet!S415)=0,N(Worksheet!R415),N(Worksheet!S415))","v":0},{"$f":"IFERROR(Worksheet!U415/(Worksheet!R415+Worksheet!#REF!),0)","v":0},{"$f":"Worksheet!AC415","v":0},{"$f":"Worksheet!AB415","v":0},0,{"$f":"IF(Worksheet!AJ415=0,0,Worksheet!AJ415*10/I396)","v":0},0,null,null,null,{"$f":"IFERROR(Worksheet!V415/(Worksheet!S415+Worksheet!#REF!),0)","v":0},{"$f":"IF(Worksheet!E415=\"\",\"\",Worksheet!E415)","v":""},{"$f":"IF(Worksheet!B415=\"\",\"\",Worksheet!B415)","v":""},{"$f":"IF(Worksheet!D415=\"\",\"\",Worksheet!D415)","v":""}]
[{"$f":"IF(ISBLANK(Worksheet!F416)=FALSE,VLOOKUP(Worksheet!A416,MeasureCode_Lookup,6,FALSE),\"\")","v":""},{"$f":"Worksheet!H416","v":0},{"$f":"Worksheet!I416","v":0},{"$f":"IFERROR(IF(Worksheet!X416=0,Worksheet!W416/I397,Worksheet!X416/R397),0)","v":0},"W Controlled",null,null,{"$f":"IF(N(Worksheet!S416)=0,N(Worksheet!R416),N(Worksheet!S416))","v":0},{"$f":"IFERROR(Worksheet!U416/(Worksheet!R416+Worksheet!#REF!),0)","v":0},{"$f":"Worksheet!AC416","v":0},{"$f":"Worksheet!AB416","v":0},0,{"$f":"IF(Worksheet!AJ416=0,0,Worksheet!AJ416*10/I397)","v":0},0,null,null,null,{"$f":"IFERROR(Worksheet!V416/(Worksheet!S416+Worksheet!#REF!),0)","v":0},{"$f":"IF(Worksheet!E416=\"\",\"\",Worksheet!E416)","v":""},{"$f":"IF(Worksheet!B416=\"\",\"\",Worksheet!B416)","v":""},{"$f":"IF(Worksheet!D416=\"\",\"\",Worksheet!D416)","v":""}]
[{"$f":"IF(ISBLANK(Worksheet!F417)=FALSE,VLOOKUP(Worksheet!A417,MeasureCode_Lookup,6,FALSE),\"\")","v":""},{"$f":"Worksheet!H417","v":0},{"$f":"Worksheet!I417","v":0},{"$f":"IFERROR(IF(Worksheet!X417=0,Worksheet!W417/I398,Worksheet!X417/R398),0)","v":0},"W Controlled",null,null,{"$f":"IF(N(Worksheet!S417)=0,N(Worksheet!R417),N(Worksheet!S417))","v":0},{"$f":"IFERROR(Worksheet!U417/(Worksheet!R417+Worksheet!#REF!),0)","v":0},{"$f":"Worksheet!AC417","v":0},{"$f":"Worksheet!AB417","v":0},0,{"$f":"IF(Worksheet!AJ417=0,0,Worksheet!AJ417*10/I398)","v":0},0,null,null,null,{"$f":"IFERROR(Worksheet!V417/(Worksheet!S417+Worksheet!#REF!),0)","v":0},{"$f":"IF(Worksheet!E417=\"\",\"\",Worksheet!E417)","v":""},{"$f":"IF(Worksheet!B417=\"\",\"\",Worksheet!B417)","v":""},{"$f":"IF(Worksheet!D417=\"\",\"\",Worksheet!D417)","v":""}]
[{"$f":"IF(ISBLANK(Worksheet!F418)=FALSE,VLOOKUP(Worksheet!A418,MeasureCode_Lookup,6,FALSE),\"\")","v":""},{"$f":"Worksheet!H418","v":0},{"$f":"Worksheet!I418","v":0},{"$f":"IFERROR(IF(Worksheet!X418=0,Worksheet!W418/I399,Worksheet!X418/R399),0)","v":0},"W Controlled",null,null,{"$f":"IF(N(Worksheet!S418)=0,N(Worksheet!R418),N(Worksheet!S418))","v":0},{"$f":"IFERROR(Worksheet!U418/(Worksheet!R418+Worksheet!#REF!),0)","v":0},{"$f":"Worksheet!AC418","v":0},{"$f":"Worksheet!AB418","v":0},0,{"$f":"IF(Worksheet!AJ418=0,0,Worksheet!AJ418*10/I399)","v":0},0,null,null,null,{"$f":"IFERROR(Worksheet!V418/(Worksheet!S418+Worksheet!#REF!),0)","v":0},{"$f":"IF(Worksheet!E418=\"\",\"\",Worksheet!E418)","v":""},{"$f":"IF(Worksheet!B418=\"\",\"\",Worksheet!B418)","v":""},{"$f":"IF(Worksheet!D418=\"\",\"\",Worksheet!D418)","v":""}]
[{"$f":"IF(ISBLANK(Worksheet!F419)=FALSE,VLOOKUP(Worksheet!A419,MeasureCode_Lookup,6,FALSE),\"\")","v":""},{"$f":"Worksheet!H419","v":0},{"$f":"Worksheet!I419","v":0},{"$f":"IFERROR(IF(Worksheet!X419=0,Worksheet!W419/I400,Worksheet!X419/R400),0)","v":0},"W Controlled",null,null,{"$f":"IF(N(Worksheet!S419)=0,N(Worksheet!R419),N(Worksheet!S419))","v":0},{"$f":"IFERROR(Worksheet!U419/(Worksheet!R419+Worksheet!#REF!),0)","v":0},{"$f":"Worksheet!AC419","v":0},{"$f":"Worksheet!AB419","v":0},0,{"$f":"IF(Worksheet!AJ419=0,0,Worksheet!AJ419*10/I400)","v":0},0,null,null,null,{"$f":"IFERROR(Worksheet!V419/(Worksheet!S419+Worksheet!#REF!),0)","v":0},{"$f":"IF(Worksheet!E419=\"\",\"\",Worksheet!E419)","v":""},{"$f":"IF(Worksheet!B419=\"\",\"\",Worksheet!B419)","v":""},{"$f":"IF(Worksheet!D419=\"\",\"\",Worksheet!D419)","v":""}]
[{"$f":"IF(ISBLANK(Worksheet!F420)=FALSE,VLOOKUP(Worksheet!A420,MeasureCode_Lookup,6,FALSE),\"\")","v":""},{"$f":"Worksheet!H420","v":0},{"$f":"Worksheet!I420","v":0},{"$f":"IFERROR(IF(Worksheet!X420=0,Worksheet!W420/I401,Worksheet!X420/R401),0)","v":0},"W Controlled",null,null,{"$f":"IF(N(Worksheet!S420)=0,N(Worksheet!R420),N(Worksheet!S420))","v":0},{"$f":"IFERROR(Worksheet!U420/(Worksheet!R420+Worksheet!#REF!),0)","v":0},{"$f":"Worksheet!AC420","v":0},{"$f":"Worksheet!AB420","v":0},0,{"$f":"IF(Worksheet!AJ420=0,0,Worksheet!AJ420*10/I401)","v":0},0,null,null,null,{"$f":"IFERROR(Worksheet!V420/(Worksheet!S420+Worksheet!#REF!),0)","v":0},{"$f":"IF(Worksheet!E420=\"\",\"\",Worksheet!E420)","v":""},{"$f":"IF(Worksheet!B420=\"\",\"\",Worksheet!B420)","v":""},{"$f":"IF(Worksheet!D420=\"\",\"\",Worksheet!D420)","v":""}]
[{"$f":"IF(ISBLANK(Worksheet!F421)=FALSE,VLOOKUP(Worksheet!A421,MeasureCode_Lookup,6,FALSE),\"\")","v":""},{"$f":"Worksheet!H421","v":0},{"$f":"Worksheet!I421","v":0},{"$f":"IFERROR(IF(Worksheet!X421=0,Worksheet!W421/I402,Worksheet!X421/R402),0)","v":0},"W Controlled",null,null,{"$f":"IF(N(Worksheet!S421)=0,N(Worksheet!R421),N(Worksheet!S421))","v":0},{"$f":"IFERROR(Worksheet!U421/(Worksheet!R421+Worksheet!#REF!),0)","v":0},{"$f":"Worksheet!AC421","v":0},{"$f":"Worksheet!AB421","v":0},0,{"$f":"IF(Worksheet!AJ421=0,0,Worksheet!AJ421*10/I402)","v":0},0,null,null,null,{"$f":"IFERROR(Worksheet!V421/(Worksheet!S421+Worksheet!#REF!),0)","v":0},{"$f":"IF(Worksheet!E421=\"\",\"\",Worksheet!E421)","v":""},{"$f":"IF(Worksheet!B421=\"\",\"\",Worksheet!B421)","v":""},{"$f":"IF(Worksheet!D421=\"\",\"\",Worksheet!D421)","v":""}]
[{"$f":"IF(ISBLANK(Worksheet!F422)=FALSE,VLOOKUP(Worksheet!A422,MeasureCode_Lookup,6,FALSE),\"\")","v":""},{"$f":"Worksheet!H422","v":0},{"$f":"Worksheet!I422","v":0},{"$f":"IFERROR(IF(Worksheet!X422=0,Worksheet!W422/I403,Worksheet!X422/R403),0)","v":0},"W Controlled",null,null,{"$f":"IF(N(Worksheet!S422)=0,N(Worksheet!R422),N(Worksheet!S422))","v":0},{"$f":"IFERROR(Worksheet!U422/(Worksheet!R422+Worksheet!#REF!),0)","v":0},{"$f":"Worksheet!AC422","v":0},{"$f":"Worksheet!AB422","v":0},0,{"$f":"IF(Worksheet!AJ422=0,0,Worksheet!AJ422*10/I403)","v":0},0,null,null,null,{"$f":"IFERROR(Worksheet!V422/(Worksheet!S422+Worksheet!#REF!),0)","v":0},{"$f":"IF(Worksheet!E422=\"\",\"\",Worksheet!E422)","v":""},{"$f":"IF(Worksheet!B422=\"\",\"\",Worksheet!B422)","v":""},{"$f":"IF(Worksheet!D422=\"\",\"\",Worksheet!D422)","v":""}]
[{"$f":"IF(ISBLANK(Worksheet!F423)=FALSE,VLOOKUP(Worksheet!A423,MeasureCode_Lookup,6,FALSE),\"\")","v":""},{"$f":"Worksheet!H423","v":0},{"$f":"Worksheet!I423","v":0},{"$f":"IFERROR(IF(Worksheet!X423=0,Worksheet!W423/I404,Worksheet!X423/R404),0)","v":0},"W Controlled",null,null,{"$f":"IF(N(Worksheet!S423)=0,N(Worksheet!R423),N(Worksheet!S423))","v":0},{"$f":"IFERROR(Worksheet!U423/(Worksheet!R423+Worksheet!#REF!),0)","v":0},{"$f":"Worksheet!AC423","v":0},{"$f":"Worksheet!AB423","v":0},0,{"$f":"IF(Worksheet!AJ423=0,0,Worksheet!AJ423*10/I404)","v":0},0,null,null,null,{"$f":"IFERROR(Worksheet!V423/(Worksheet!S423+Worksheet!#REF!),0)","v":0},{"$f":"IF(Worksheet!E423=\"\",\"\",Worksheet!E423)","v":""},{"$f":"IF(Worksheet!B423=\"\",\"\",Worksheet!B423)","v":""},{"$f":"IF(Worksheet!D423=\"\",\"\",Worksheet!D423)","v":""}]
[{"$f":"IF(ISBLANK(Worksheet!F424)=FALSE,VLOOKUP(Worksheet!A424,MeasureCode_Lookup,6,FALSE),\"\")","v":""},{"$f":"Worksheet!H424","v":0},{"$f":"Worksheet!I424","v":0},{"$f":"IFERROR(IF(Worksheet!X424=0,Worksheet!W424/I405,Worksheet!X424/R405),0)","v":0},"W Controlled",null,null,{"$f":"IF(N(Worksheet!S424)=0,N(Worksheet!R424),N(Worksheet!S424))","v":0},{"$f":"IFERROR(Worksheet!U424/(Worksheet!R424+Worksheet!#REF!),0)","v":0},{"$f":"Worksheet!AC424","v":0},{"$f":"Worksheet!AB424","v":0},0,{"$f":"IF(Worksheet!AJ424=0,0,Worksheet!AJ424*10/I405)","v":0},0,null,null,null,{"$f":"IFERROR(Worksheet!V424/(Worksheet!S424+Worksheet!#REF!),0)","v":0},{"$f":"IF(Worksheet!E424=\"\",\"\",Worksheet!E424)","v":""},{"$f":"IF(Worksheet!B424=\"\",\"\",Worksheet!B424)","v":""},{"$f":"IF(Worksheet!D424=\"\",\"\",Worksheet!D424)","v":""}]
[{"$f":"IF(ISBLANK(Worksheet!F425)=FALSE,VLOOKUP(Worksheet!A425,MeasureCode_Lookup,6,FALSE),\"\")","v":""},{"$f":"Worksheet!H425","v":0},{"$f":"Worksheet!I425","v":0},{"$f":"IFERROR(IF(Worksheet!X425=0,Worksheet!W425/I406,Worksheet!X425/R406),0)","v":0},"W Controlled",null,null,{"$f":"IF(N(Worksheet!S425)=0,N(Worksheet!R425),N(Worksheet!S425))","v":0},{"$f":"IFERROR(Worksheet!U425/(Worksheet!R425+Worksheet!#REF!),0)","v":0},{"$f":"Worksheet!AC425","v":0},{"$f":"Worksheet!AB425","v":0},0,{"$f":"IF(Worksheet!AJ425=0,0,Worksheet!AJ425*10/I406)","v":0},0,null,null,null,{"$f":"IFERROR(Worksheet!V425/(Worksheet!S425+Worksheet!#REF!),0)","v":0},{"$f":"IF(Worksheet!E425=\"\",\"\",Worksheet!E425)","v":""},{"$f":"IF(Worksheet!B425=\"\",\"\",Worksheet!B425)","v":""},{"$f":"IF(Worksheet!D425=\"\",\"\",Worksheet!D425)","v":""}]
[{"$f":"IF(ISBLANK(Worksheet!F426)=FALSE,VLOOKUP(Worksheet!A426,MeasureCode_Lookup,6,FALSE),\"\")","v":""},{"$f":"Worksheet!H426","v":0},{"$f":"Worksheet!I426","v":0},{"$f":"IFERROR(IF(Worksheet!X426=0,Worksheet!W426/I407,Worksheet!X426/R407),0)","v":0},"W Controlled",null,null,{"$f":"IF(N(Worksheet!S426)=0,N(Worksheet!R426),N(Worksheet!S426))","v":0},{"$f":"IFERROR(Worksheet!U426/(Worksheet!R426+Worksheet!#REF!),0)","v":0},{"$f":"Worksheet!AC426","v":0},{"$f":"Worksheet!AB426","v":0},0,{"$f":"IF(Worksheet!AJ426=0,0,Worksheet!AJ426*10/I407)","v":0},0,null,null,null,{"$f":"IFERROR(Worksheet!V426/(Worksheet!S426+Worksheet!#REF!),0)","v":0},{"$f":"IF(Worksheet!E426=\"\",\"\",Worksheet!E426)","v":""},{"$f":"IF(Worksheet!B426=\"\",\"\",Worksheet!B426)","v":""},{"$f":"IF(Worksheet!D426=\"\",\"\",Worksheet!D426)","v":""}]
[{"$f":"IF(ISBLANK(Worksheet!F427)=FALSE,VLOOKUP(Worksheet!A427,MeasureCode_Lookup,6,FALSE),\"\")","v":""},{"$f":"Worksheet!H427","v":0},{"$f":"Worksheet!I427","v":0},{"$f":"IFERROR(IF(Worksheet!X427=0,Worksheet!W427/I408,Worksheet!X427/R408),0)","v":0},"W Controlled",null,null,{"$f":"IF(N(Worksheet!S427)=0,N(Worksheet!R427),N(Worksheet!S427))","v":0},{"$f":"IFERROR(Worksheet!U427/(Worksheet!R427+Worksheet!#REF!),0)","v":0},{"$f":"Worksheet!AC427","v":0},{"$f":"Worksheet!AB427","v":0},0,{"$f":"IF(Worksheet!AJ427=0,0,Worksheet!AJ427*10/I408)","v":0},0,null,null,null,{"$f":"IFERROR(Worksheet!V427/(Worksheet!S427+Worksheet!#REF!),0)","v":0},{"$f":"IF(Worksheet!E427=\"\",\"\",Worksheet!E427)","v":""},{"$f":"IF(Worksheet!B427=\"\",\"\",Worksheet!B427)","v":""},{"$f":"IF(Worksheet!D427=\"\",\"\",Worksheet!D427)","v":""}]
[{"$f":"IF(ISBLANK(Worksheet!F428)=FALSE,VLOOKUP(Worksheet!A428,MeasureCode_Lookup,6,FALSE),\"\")","v":""},{"$f":"Worksheet!H428","v":0},{"$f":"Worksheet!I428","v":0},{"$f":"IFERROR(IF(Worksheet!X428=0,Worksheet!W428/I409,Worksheet!X428/R409),0)","v":0},"W Controlled",null,null,{"$f":"IF(N(Worksheet!S428)=0,N(Worksheet!R428),N(Worksheet!S428))","v":0},{"$f":"IFERROR(Worksheet!U428/(Worksheet!R428+Worksheet!#REF!),0)","v":0},{"$f":"Worksheet!AC428","v":0},{"$f":"Worksheet!AB428","v":0},0,{"$f":"IF(Worksheet!AJ428=0,0,Worksheet!AJ428*10/I409)","v":0},0,null,null,null,{"$f":"IFERROR(Worksheet!V428/(Worksheet!S428+Worksheet!#REF!),0)","v":0},{"$f":"IF(Worksheet!E428=\"\",\"\",Worksheet!E428)","v":""},{"$f":"IF(Worksheet!B428=\"\",\"\",Worksheet!B428)","v":""},{"$f":"IF(Worksheet!D428=\"\",\"\",Worksheet!D428)","v":""}]
[{"$f":"IF(ISBLANK(Worksheet!F429)=FALSE,VLOOKUP(Worksheet!A429,MeasureCode_Lookup,6,FALSE),\"\")","v":""},{"$f":"Worksheet!H429","v":0},{"$f":"Worksheet!I429","v":0},{"$f":"IFERROR(IF(Worksheet!X429=0,Worksheet!W429/I410,Worksheet!X429/R410),0)","v":0},"W Controlled",null,null,{"$f":"IF(N(Worksheet!S429)=0,N(Worksheet!R429),N(Worksheet!S429))","v":0},{"$f":"IFERROR(Worksheet!U429/(Worksheet!R429+Worksheet!#REF!),0)","v":0},{"$f":"Worksheet!AC429","v":0},{"$f":"Worksheet!AB429","v":0},0,{"$f":"IF(Worksheet!AJ429=0,0,Worksheet!AJ429*10/I410)","v":0},0,null,null,null,{"$f":"IFERROR(Worksheet!V429/(Worksheet!S429+Worksheet!#REF!),0)","v":0},{"$f":"IF(Worksheet!E429=\"\",\"\",Worksheet!E429)","v":""},{"$f":"IF(Worksheet!B429=\"\",\"\",Worksheet!B429)","v":""},{"$f":"IF(Worksheet!D429=\"\",\"\",Worksheet!D429)","v":""}]
[{"$f":"IF(ISBLANK(Worksheet!F430)=FALSE,VLOOKUP(Worksheet!A430,MeasureCode_Lookup,6,FALSE),\"\")","v":""},{"$f":"Worksheet!H430","v":0},{"$f":"Worksheet!I430","v":0},{"$f":"IFERROR(IF(Worksheet!X430=0,Worksheet!W430/I411,Worksheet!X430/R411),0)","v":0},"W Controlled",null,null,{"$f":"IF(N(Worksheet!S430)=0,N(Worksheet!R430),N(Worksheet!S430))","v":0},{"$f":"IFERROR(Worksheet!U430/(Worksheet!R430+Worksheet!#REF!),0)","v":0},{"$f":"Worksheet!AC430","v":0},{"$f":"Worksheet!AB430","v":0},0,{"$f":"IF(Worksheet!AJ430=0,0,Worksheet!AJ430*10/I411)","v":0},0,null,null,null,{"$f":"IFERROR(Worksheet!V430/(Worksheet!S430+Worksheet!#REF!),0)","v":0},{"$f":"IF(Worksheet!E430=\"\",\"\",Worksheet!E430)","v":""},{"$f":"IF(Worksheet!B430=\"\",\"\",Worksheet!B430)","v":""},{"$f":"IF(Worksheet!D430=\"\",\"\",Worksheet!D430)","v":""}]
[{"$f":"IF(ISBLANK(Worksheet!F431)=FALSE,VLOOKUP(Worksheet!A431,MeasureCode_Lookup,6,FALSE),\"\")","v":""},{"$f":"Worksheet!H431","v":0},{"$f":"Worksheet!I431","v":0},{"$f":"IFERROR(IF(Worksheet!X431=0,Worksheet!W431/I412,Worksheet!X431/R412),0)","v":0},"W Controlled",null,null,{"$f":"IF(N(Worksheet!S431)=0,N(Worksheet!R431),N(Worksheet!S431))","v":0},{"$f":"IFERROR(Worksheet!U431/(Worksheet!R431+Worksheet!#REF!),0)","v":0},{"$f":"Worksheet!AC431","v":0},{"$f":"Worksheet!AB431","v":0},0,{"$f":"IF(Worksheet!AJ431=0,0,Worksheet!AJ431*10/I412)","v":0},0,null,null,null,{"$f":"IFERROR(Worksheet!V431/(Worksheet!S431+Worksheet!#REF!),0)","v":0},{"$f":"IF(Worksheet!E431=\"\",\"\",Worksheet!E431)","v":""},{"$f":"IF(Worksheet!B431=\"\",\"\",Worksheet!B431)","v":""},{"$f":"IF(Worksheet!D431=\"\",\"\",Worksheet!D431)","v":""}]
[{"$f":"IF(ISBLANK(Worksheet!F432)=FALSE,VLOOKUP(Worksheet!A432,MeasureCode_Lookup,6,FALSE),\"\")","v":""},{"$f":"Worksheet!H432","v":0},{"$f":"Worksheet!I432","v":0},{"$f":"IFERROR(IF(Worksheet!X432=0,Worksheet!W432/I413,Worksheet!X432/R413),0)","v":0},"W Controlled",null,null,{"$f":"IF(N(Worksheet!S432)=0,N(Worksheet!R432),N(Worksheet!S432))","v":0},{"$f":"IFERROR(Worksheet!U432/(Worksheet!R432+Worksheet!#REF!),0)","v":0},{"$f":"Worksheet!AC432","v":0},{"$f":"Worksheet!AB432","v":0},0,{"$f":"IF(Worksheet!AJ432=0,0,Worksheet!AJ432*10/I413)","v":0},0,null,null,null,{"$f":"IFERROR(Worksheet!V432/(Worksheet!S432+Worksheet!#REF!),0)","v":0},{"$f":"IF(Worksheet!E432=\"\",\"\",Worksheet!E432)","v":""},{"$f":"IF(Worksheet!B432=\"\",\"\",Worksheet!B432)","v":""},{"$f":"IF(Worksheet!D432=\"\",\"\",Worksheet!D432)","v":""}]
[{"$f":"IF(ISBLANK(Worksheet!F433)=FALSE,VLOOKUP(Worksheet!A433,MeasureCode_Lookup,6,FALSE),\"\")","v":""},{"$f":"Worksheet!H433","v":0},{"$f":"Worksheet!I433","v":0},{"$f":"IFERROR(IF(Worksheet!X433=0,Worksheet!W433/I414,Worksheet!X433/R414),0)","v":0},"W Controlled",null,null,{"$f":"IF(N(Worksheet!S433)=0,N(Worksheet!R433),N(Worksheet!S433))","v":0},{"$f":"IFERROR(Worksheet!U433/(Worksheet!R433+Worksheet!#REF!),0)","v":0},{"$f":"Worksheet!AC433","v":0},{"$f":"Worksheet!AB433","v":0},0,{"$f":"IF(Worksheet!AJ433=0,0,Worksheet!AJ433*10/I414)","v":0},0,null,null,null,{"$f":"IFERROR(Worksheet!V433/(Worksheet!S433+Worksheet!#REF!),0)","v":0},{"$f":"IF(Worksheet!E433=\"\",\"\",Worksheet!E433)","v":""},{"$f":"IF(Worksheet!B433=\"\",\"\",Worksheet!B433)","v":""},{"$f":"IF(Worksheet!D433=\"\",\"\",Worksheet!D433)","v":""}]
[{"$f":"IF(ISBLANK(Worksheet!F434)=FALSE,VLOOKUP(Worksheet!A434,MeasureCode_Lookup,6,FALSE),\"\")","v":""},{"$f":"Worksheet!H434","v":0},{"$f":"Worksheet!I434","v":0},{"$f":"IFERROR(IF(Worksheet!X434=0,Worksheet!W434/I415,Worksheet!X434/R415),0)","v":0},"W Controlled",null,null,{"$f":"IF(N(Worksheet!S434)=0,N(Worksheet!R434),N(Worksheet!S434))","v":0},{"$f":"IFERROR(Worksheet!U434/(Worksheet!R434+Worksheet!#REF!),0)","v":0},{"$f":"Worksheet!AC434","v":0},{"$f":"Worksheet!AB434","v":0},0,{"$f":"IF(Worksheet!AJ434=0,0,Worksheet!AJ434*10/I415)","v":0},0,null,null,null,{"$f":"IFERROR(Worksheet!V434/(Worksheet!S434+Worksheet!#REF!),0)","v":0},{"$f":"IF(Worksheet!E434=\"\",\"\",Worksheet!E434)","v":""},{"$f":"IF(Worksheet!B434=\"\",\"\",Worksheet!B434)","v":""},{"$f":"IF(Worksheet!D434=\"\",\"\",Worksheet!D434)","v":""}]
[{"$f":"IF(ISBLANK(Worksheet!F435)=FALSE,VLOOKUP(Worksheet!A435,MeasureCode_Lookup,6,FALSE),\"\")","v":""},{"$f":"Worksheet!H435","v":0},{"$f":"Worksheet!I435","v":0},{"$f":"IFERROR(IF(Worksheet!X435=0,Worksheet!W435/I416,Worksheet!X435/R416),0)","v":0},"W Controlled",null,null,{"$f":"IF(N(Worksheet!S435)=0,N(Worksheet!R435),N(Worksheet!S435))","v":0},{"$f":"IFERROR(Worksheet!U435/(Worksheet!R435+Worksheet!#REF!),0)","v":0},{"$f":"Worksheet!AC435","v":0},{"$f":"Worksheet!AB435","v":0},0,{"$f":"IF(Worksheet!AJ435=0,0,Worksheet!AJ435*10/I416)","v":0},0,null,null,null,{"$f":"IFERROR(Worksheet!V435/(Worksheet!S435+Worksheet!#REF!),0)","v":0},{"$f":"IF(Worksheet!E435=\"\",\"\",Worksheet!E435)","v":""},{"$f":"IF(Worksheet!B435=\"\",\"\",Worksheet!B435)","v":""},{"$f":"IF(Worksheet!D435=\"\",\"\",Worksheet!D435)","v":""}]
[{"$f":"IF(ISBLANK(Worksheet!F436)=FALSE,VLOOKUP(Worksheet!A436,MeasureCode_Lookup,6,FALSE),\"\")","v":""},{"$f":"Worksheet!H436","v":0},{"$f":"Worksheet!I436","v":0},{"$f":"IFERROR(IF(Worksheet!X436=0,Worksheet!W436/I417,Worksheet!X436/R417),0)","v":0},"W Controlled",null,null,{"$f":"IF(N(Worksheet!S436)=0,N(Worksheet!R436),N(Worksheet!S436))","v":0},{"$f":"IFERROR(Worksheet!U436/(Worksheet!R436+Worksheet!#REF!),0)","v":0},{"$f":"Worksheet!AC436","v":0},{"$f":"Worksheet!AB436","v":0},0,{"$f":"IF(Worksheet!AJ436=0,0,Worksheet!AJ436*10/I417)","v":0},0,null,null,null,{"$f":"IFERROR(Worksheet!V436/(Worksheet!S436+Worksheet!#REF!),0)","v":0},{"$f":"IF(Worksheet!E436=\"\",\"\",Worksheet!E436)","v":""},{"$f":"IF(Worksheet!B436=\"\",\"\",Worksheet!B436)","v":""},{"$f":"IF(Worksheet!D436=\"\",\"\",Worksheet!D436)","v":""}]
[{"$f":"IF(ISBLANK(Worksheet!F437)=FALSE,VLOOKUP(Worksheet!A437,MeasureCode_Lookup,6,FALSE),\"\")","v":""},{"$f":"Worksheet!H437","v":0},{"$f":"Worksheet!I437","v":0},{"$f":"IFERROR(IF(Worksheet!X437=0,Worksheet!W437/I418,Worksheet!X437/R418),0)","v":0},"W Controlled",null,null,{"$f":"IF(N(Worksheet!S437)=0,N(Worksheet!R437),N(Worksheet!S437))","v":0},{"$f":"IFERROR(Worksheet!U437/(Worksheet!R437+Worksheet!#REF!),0)","v":0},{"$f":"Worksheet!AC437","v":0},{"$f":"Worksheet!AB437","v":0},0,{"$f":"IF(Worksheet!AJ437=0,0,Worksheet!AJ437*10/I418)","v":0},0,null,null,null,{"$f":"IFERROR(Worksheet!V437/(Worksheet!S437+Worksheet!#REF!),0)","v":0},{"$f":"IF(Worksheet!E437=\"\",\"\",Worksheet!E437)","v":""},{"$f":"IF(Worksheet!B437=\"\",\"\",Worksheet!B437)","v":""},{"$f":"IF(Worksheet!D437=\"\",\"\",Worksheet!D437)","v":""}]
[{"$f":"IF(ISBLANK(Worksheet!F438)=FALSE,VLOOKUP(Worksheet!A438,MeasureCode_Lookup,6,FALSE),\"\")","v":""},{"$f":"Worksheet!H438","v":0},{"$f":"Worksheet!I438","v":0},{"$f":"IFERROR(IF(Worksheet!X438=0,Worksheet!W438/I419,Worksheet!X438/R419),0)","v":0},"W Controlled",null,null,{"$f":"IF(N(Worksheet!S438)=0,N(Worksheet!R438),N(Worksheet!S438))","v":0},{"$f":"IFERROR(Worksheet!U438/(Worksheet!R438+Worksheet!#REF!),0)","v":0},{"$f":"Worksheet!AC438","v":0},{"$f":"Worksheet!AB438","v":0},0,{"$f":"IF(Worksheet!AJ438=0,0,Worksheet!AJ438*10/I419)","v":0},0,null,null,null,{"$f":"IFERROR(Worksheet!V438/(Worksheet!S438+Worksheet!#REF!),0)","v":0},{"$f":"IF(Worksheet!E438=\"\",\"\",Worksheet!E438)","v":""},{"$f":"IF(Worksheet!B438=\"\",\"\",Worksheet!B438)","v":""},{"$f":"IF(Worksheet!D438=\"\",\"\",Worksheet!D438)","v":""}]
[{"$f":"IF(ISBLANK(Worksheet!F439)=FALSE,VLOOKUP(Worksheet!A439,MeasureCode_Lookup,6,FALSE),\"\")","v":""},{"$f":"Worksheet!H439","v":0},{"$f":"Worksheet!I439","v":0},{"$f":"IFERROR(IF(Worksheet!X439=0,Worksheet!W439/I420,Worksheet!X439/R420),0)","v":0},"W Controlled",null,null,{"$f":"IF(N(Worksheet!S439)=0,N(Worksheet!R439),N(Worksheet!S439))","v":0},{"$f":"IFERROR(Worksheet!U439/(Worksheet!R439+Worksheet!#REF!),0)","v":0},{"$f":"Worksheet!AC439","v":0},{"$f":"Worksheet!AB439","v":0},0,{"$f":"IF(Worksheet!AJ439=0,0,Worksheet!AJ439*10/I420)","v":0},0,null,null,null,{"$f":"IFERROR(Worksheet!V439/(Worksheet!S439+Worksheet!#REF!),0)","v":0},{"$f":"IF(Worksheet!E439=\"\",\"\",Worksheet!E439)","v":""},{"$f":"IF(Worksheet!B439=\"\",\"\",Worksheet!B439)","v":""},{"$f":"IF(Worksheet!D439=\"\",\"\",Worksheet!D439)","v":""}]
[{"$f":"IF(ISBLANK(Worksheet!F440)=FALSE,VLOOKUP(Worksheet!A440,MeasureCode_Lookup,6,FALSE),\"\")","v":""},{"$f":"Worksheet!H440","v":0},{"$f":"Worksheet!I440","v":0},{"$f":"IFERROR(IF(Worksheet!X440=0,Worksheet!W440/I421,Worksheet!X440/R421),0)","v":0},"W Controlled",null,null,{"$f":"IF(N(Worksheet!S440)=0,N(Worksheet!R440),N(Worksheet!S440))","v":0},{"$f":"IFERROR(Worksheet!U440/(Worksheet!R440+Worksheet!#REF!),0)","v":0},{"$f":"Worksheet!AC440","v":0},{"$f":"Worksheet!AB440","v":0},0,{"$f":"IF(Worksheet!AJ440=0,0,Worksheet!AJ440*10/I421)","v":0},0,null,null,null,{"$f":"IFERROR(Worksheet!V440/(Worksheet!S440+Worksheet!#REF!),0)","v":0},{"$f":"IF(Worksheet!E440=\"\",\"\",Worksheet!E440)","v":""},{"$f":"IF(Worksheet!B440=\"\",\"\",Worksheet!B440)","v":""},{"$f":"IF(Worksheet!D440=\"\",\"\",Worksheet!D440)","v":""}]
[{"$f":"IF(ISBLANK(Worksheet!F441)=FALSE,VLOOKUP(Worksheet!A441,MeasureCode_Lookup,6,FALSE),\"\")","v":""},{"$f":"Worksheet!H441","v":0},{"$f":"Worksheet!I441","v":0},{"$f":"IFERROR(IF(Worksheet!X441=0,Worksheet!W441/I422,Worksheet!X441/R422),0)","v":0},"W Controlled",null,null,{"$f":"IF(N(Worksheet!S441)=0,N(Worksheet!R441),N(Worksheet!S441))","v":0},{"$f":"IFERROR(Worksheet!U441/(Worksheet!R441+Worksheet!#REF!),0)","v":0},{"$f":"Worksheet!AC441","v":0},{"$f":"Worksheet!AB441","v":0},0,{"$f":"IF(Worksheet!AJ441=0,0,Worksheet!AJ441*10/I422)","v":0},0,null,null,null,{"$f":"IFERROR(Worksheet!V441/(Worksheet!S441+Worksheet!#REF!),0)","v":0},{"$f":"IF(Worksheet!E441=\"\",\"\",Worksheet!E441)","v":""},{"$f":"IF(Worksheet!B441=\"\",\"\",Worksheet!B441)","v":""},{"$f":"IF(Worksheet!D441=\"\",\"\",Worksheet!D441)","v":""}]
[{"$f":"IF(ISBLANK(Worksheet!F442)=FALSE,VLOOKUP(Worksheet!A442,MeasureCode_Lookup,6,FALSE),\"\")","v":""},{"$f":"Worksheet!H442","v":0},{"$f":"Worksheet!I442","v":0},{"$f":"IFERROR(IF(Worksheet!X442=0,Worksheet!W442/I423,Worksheet!X442/R423),0)","v":0},"W Controlled",null,null,{"$f":"IF(N(Worksheet!S442)=0,N(Worksheet!R442),N(Worksheet!S442))","v":0},{"$f":"IFERROR(Worksheet!U442/(Worksheet!R442+Worksheet!#REF!),0)","v":0},{"$f":"Worksheet!AC442","v":0},{"$f":"Worksheet!AB442","v":0},0,{"$f":"IF(Worksheet!AJ442=0,0,Worksheet!AJ442*10/I423)","v":0},0,null,null,null,{"$f":"IFERROR(Worksheet!V442/(Worksheet!S442+Worksheet!#REF!),0)","v":0},{"$f":"IF(Worksheet!E442=\"\",\"\",Worksheet!E442)","v":""},{"$f":"IF(Worksheet!B442=\"\",\"\",Worksheet!B442)","v":""},{"$f":"IF(Worksheet!D442=\"\",\"\",Worksheet!D442)","v":""}]
[{"$f":"IF(ISBLANK(Worksheet!F443)=FALSE,VLOOKUP(Worksheet!A443,MeasureCode_Lookup,6,FALSE),\"\")","v":""},{"$f":"Worksheet!H443","v":0},{"$f":"Worksheet!I443","v":0},{"$f":"IFERROR(IF(Worksheet!X443=0,Worksheet!W443/I424,Worksheet!X443/R424),0)","v":0},"W Controlled",null,null,{"$f":"IF(N(Worksheet!S443)=0,N(Worksheet!R443),N(Worksheet!S443))","v":0},{"$f":"IFERROR(Worksheet!U443/(Worksheet!R443+Worksheet!#REF!),0)","v":0},{"$f":"Worksheet!AC443","v":0},{"$f":"Worksheet!AB443","v":0},0,{"$f":"IF(Worksheet!AJ443=0,0,Worksheet!AJ443*10/I424)","v":0},0,null,null,null,{"$f":"IFERROR(Worksheet!V443/(Worksheet!S443+Worksheet!#REF!),0)","v":0},{"$f":"IF(Worksheet!E443=\"\",\"\",Worksheet!E443)","v":""},{"$f":"IF(Worksheet!B443=\"\",\"\",Worksheet!B443)","v":""},{"$f":"IF(Worksheet!D443=\"\",\"\",Worksheet!D443)","v":""}]
[{"$f":"IF(ISBLANK(Worksheet!F444)=FALSE,VLOOKUP(Worksheet!A444,MeasureCode_Lookup,6,FALSE),\"\")","v":""},{"$f":"Worksheet!H444","v":0},{"$f":"Worksheet!I444","v":0},{"$f":"IFERROR(IF(Worksheet!X444=0,Worksheet!W444/I425,Worksheet!X444/R425),0)","v":0},"W Controlled",null,null,{"$f":"IF(N(Worksheet!S444)=0,N(Worksheet!R444),N(Worksheet!S444))","v":0},{"$f":"IFERROR(Worksheet!U444/(Worksheet!R444+Worksheet!#REF!),0)","v":0},{"$f":"Worksheet!AC444","v":0},{"$f":"Worksheet!AB444","v":0},0,{"$f":"IF(Worksheet!AJ444=0,0,Worksheet!AJ444*10/I425)","v":0},0,null,null,null,{"$f":"IFERROR(Worksheet!V444/(Worksheet!S444+Worksheet!#REF!),0)","v":0},{"$f":"IF(Worksheet!E444=\"\",\"\",Worksheet!E444)","v":""},{"$f":"IF(Worksheet!B444=\"\",\"\",Worksheet!B444)","v":""},{"$f":"IF(Worksheet!D444=\"\",\"\",Worksheet!D444)","v":""}]
[{"$f":"IF(ISBLANK(Worksheet!F445)=FALSE,VLOOKUP(Worksheet!A445,MeasureCode_Lookup,6,FALSE),\"\")","v":""},{"$f":"Worksheet!H445","v":0},{"$f":"Worksheet!I445","v":0},{"$f":"IFERROR(IF(Worksheet!X445=0,Worksheet!W445/I426,Worksheet!X445/R426),0)","v":0},"W Controlled",null,null,{"$f":"IF(N(Worksheet!S445)=0,N(Worksheet!R445),N(Worksheet!S445))","v":0},{"$f":"IFERROR(Worksheet!U445/(Worksheet!R445+Worksheet!#REF!),0)","v":0},{"$f":"Worksheet!AC445","v":0},{"$f":"Worksheet!AB445","v":0},0,{"$f":"IF(Worksheet!AJ445=0,0,Worksheet!AJ445*10/I426)","v":0},0,null,null,null,{"$f":"IFERROR(Worksheet!V445/(Worksheet!S445+Worksheet!#REF!),0)","v":0},{"$f":"IF(Worksheet!E445=\"\",\"\",Worksheet!E445)","v":""},{"$f":"IF(Worksheet!B445=\"\",\"\",Worksheet!B445)","v":""},{"$f":"IF(Worksheet!D445=\"\",\"\",Worksheet!D445)","v":""}]
[{"$f":"IF(ISBLANK(Worksheet!F446)=FALSE,VLOOKUP(Worksheet!A446,MeasureCode_Lookup,6,FALSE),\"\")","v":""},{"$f":"Worksheet!H446","v":0},{"$f":"Worksheet!I446","v":0},{"$f":"IFERROR(IF(Worksheet!X446=0,Worksheet!W446/I427,Worksheet!X446/R427),0)","v":0},"W Controlled",null,null,{"$f":"IF(N(Worksheet!S446)=0,N(Worksheet!R446),N(Worksheet!S446))","v":0},{"$f":"IFERROR(Worksheet!U446/(Worksheet!R446+Worksheet!#REF!),0)","v":0},{"$f":"Worksheet!AC446","v":0},{"$f":"Worksheet!AB446","v":0},0,{"$f":"IF(Worksheet!AJ446=0,0,Worksheet!AJ446*10/I427)","v":0},0,null,null,null,{"$f":"IFERROR(Worksheet!V446/(Worksheet!S446+Worksheet!#REF!),0)","v":0},{"$f":"IF(Worksheet!E446=\"\",\"\",Worksheet!E446)","v":""},{"$f":"IF(Worksheet!B446=\"\",\"\",Worksheet!B446)","v":""},{"$f":"IF(Worksheet!D446=\"\",\"\",Worksheet!D446)","v":""}]
[{"$f":"IF(ISBLANK(Worksheet!F447)=FALSE,VLOOKUP(Worksheet!A447,MeasureCode_Lookup,6,FALSE),\"\")","v":""},{"$f":"Worksheet!H447","v":0},{"$f":"Worksheet!I447","v":0},{"$f":"IFERROR(IF(Worksheet!X447=0,Worksheet!W447/I428,Worksheet!X447/R428),0)","v":0},"W Controlled",null,null,{"$f":"IF(N(Worksheet!S447)=0,N(Worksheet!R447),N(Worksheet!S447))","v":0},{"$f":"IFERROR(Worksheet!U447/(Worksheet!R447+Worksheet!#REF!),0)","v":0},{"$f":"Worksheet!AC447","v":0},{"$f":"Worksheet!AB447","v":0},0,{"$f":"IF(Worksheet!AJ447=0,0,Worksheet!AJ447*10/I428)","v":0},0,null,null,null,{"$f":"IFERROR(Worksheet!V447/(Worksheet!S447+Worksheet!#REF!),0)","v":0},{"$f":"IF(Worksheet!E447=\"\",\"\",Worksheet!E447)","v":""},{"$f":"IF(Worksheet!B447=\"\",\"\",Worksheet!B447)","v":""},{"$f":"IF(Worksheet!D447=\"\",\"\",Worksheet!D447)","v":""}]
[{"$f":"IF(ISBLANK(Worksheet!F448)=FALSE,VLOOKUP(Worksheet!A448,MeasureCode_Lookup,6,FALSE),\"\")","v":""},{"$f":"Worksheet!H448","v":0},{"$f":"Worksheet!I448","v":0},{"$f":"IFERROR(IF(Worksheet!X448=0,Worksheet!W448/I429,Worksheet!X448/R429),0)","v":0},"W Controlled",null,null,{"$f":"IF(N(Worksheet!S448)=0,N(Worksheet!R448),N(Worksheet!S448))","v":0},{"$f":"IFERROR(Worksheet!U448/(Worksheet!R448+Worksheet!#REF!),0)","v":0},{"$f":"Worksheet!AC448","v":0},{"$f":"Worksheet!AB448","v":0},0,{"$f":"IF(Worksheet!AJ448=0,0,Worksheet!AJ448*10/I429)","v":0},0,null,null,null,{"$f":"IFERROR(Worksheet!V448/(Worksheet!S448+Worksheet!#REF!),0)","v":0},{"$f":"IF(Worksheet!E448=\"\",\"\",Worksheet!E448)","v":""},{"$f":"IF(Worksheet!B448=\"\",\"\",Worksheet!B448)","v":""},{"$f":"IF(Worksheet!D448=\"\",\"\",Worksheet!D448)","v":""}]
[{"$f":"IF(ISBLANK(Worksheet!F449)=FALSE,VLOOKUP(Worksheet!A449,MeasureCode_Lookup,6,FALSE),\"\")","v":""},{"$f":"Worksheet!H449","v":0},{"$f":"Worksheet!I449","v":0},{"$f":"IFERROR(IF(Worksheet!X449=0,Worksheet!W449/I430,Worksheet!X449/R430),0)","v":0},"W Controlled",null,null,{"$f":"IF(N(Worksheet!S449)=0,N(Worksheet!R449),N(Worksheet!S449))","v":0},{"$f":"IFERROR(Worksheet!U449/(Worksheet!R449+Worksheet!#REF!),0)","v":0},{"$f":"Worksheet!AC449","v":0},{"$f":"Worksheet!AB449","v":0},0,{"$f":"IF(Worksheet!AJ449=0,0,Worksheet!AJ449*10/I430)","v":0},0,null,null,null,{"$f":"IFERROR(Worksheet!V449/(Worksheet!S449+Worksheet!#REF!),0)","v":0},{"$f":"IF(Worksheet!E449=\"\",\"\",Worksheet!E449)","v":""},{"$f":"IF(Worksheet!B449=\"\",\"\",Worksheet!B449)","v":""},{"$f":"IF(Worksheet!D449=\"\",\"\",Worksheet!D449)","v":""}]
[{"$f":"IF(ISBLANK(Worksheet!F450)=FALSE,VLOOKUP(Worksheet!A450,MeasureCode_Lookup,6,FALSE),\"\")","v":""},{"$f":"Worksheet!H450","v":0},{"$f":"Worksheet!I450","v":0},{"$f":"IFERROR(IF(Worksheet!X450=0,Worksheet!W450/I431,Worksheet!X450/R431),0)","v":0},"W Controlled",null,null,{"$f":"IF(N(Worksheet!S450)=0,N(Worksheet!R450),N(Worksheet!S450))","v":0},{"$f":"IFERROR(Worksheet!U450/(Worksheet!R450+Worksheet!#REF!),0)","v":0},{"$f":"Worksheet!AC450","v":0},{"$f":"Worksheet!AB450","v":0},0,{"$f":"IF(Worksheet!AJ450=0,0,Worksheet!AJ450*10/I431)","v":0},0,null,null,null,{"$f":"IFERROR(Worksheet!V450/(Worksheet!S450+Worksheet!#REF!),0)","v":0},{"$f":"IF(Worksheet!E450=\"\",\"\",Worksheet!E450)","v":""},{"$f":"IF(Worksheet!B450=\"\",\"\",Worksheet!B450)","v":""},{"$f":"IF(Worksheet!D450=\"\",\"\",Worksheet!D450)","v":""}]
[{"$f":"IF(ISBLANK(Worksheet!F451)=FALSE,VLOOKUP(Worksheet!A451,MeasureCode_Lookup,6,FALSE),\"\")","v":""},{"$f":"Worksheet!H451","v":0},{"$f":"Worksheet!I451","v":0},{"$f":"IFERROR(IF(Worksheet!X451=0,Worksheet!W451/I432,Worksheet!X451/R432),0)","v":0},"W Controlled",null,null,{"$f":"IF(N(Worksheet!S451)=0,N(Worksheet!R451),N(Worksheet!S451))","v":0},{"$f":"IFERROR(Worksheet!U451/(Worksheet!R451+Worksheet!#REF!),0)","v":0},{"$f":"Worksheet!AC451","v":0},{"$f":"Worksheet!AB451","v":0},0,{"$f":"IF(Worksheet!AJ451=0,0,Worksheet!AJ451*10/I432)","v":0},0,null,null,null,{"$f":"IFERROR(Worksheet!V451/(Worksheet!S451+Worksheet!#REF!),0)","v":0},{"$f":"IF(Worksheet!E451=\"\",\"\",Worksheet!E451)","v":""},{"$f":"IF(Worksheet!B451=\"\",\"\",Worksheet!B451)","v":""},{"$f":"IF(Worksheet!D451=\"\",\"\",Worksheet!D451)","v":""}]
[{"$f":"IF(ISBLANK(Worksheet!F452)=FALSE,VLOOKUP(Worksheet!A452,MeasureCode_Lookup,6,FALSE),\"\")","v":""},{"$f":"Worksheet!H452","v":0},{"$f":"Worksheet!I452","v":0},{"$f":"IFERROR(IF(Worksheet!X452=0,Worksheet!W452/I433,Worksheet!X452/R433),0)","v":0},"W Controlled",null,null,{"$f":"IF(N(Worksheet!S452)=0,N(Worksheet!R452),N(Worksheet!S452))","v":0},{"$f":"IFERROR(Worksheet!U452/(Worksheet!R452+Worksheet!#REF!),0)","v":0},{"$f":"Worksheet!AC452","v":0},{"$f":"Worksheet!AB452","v":0},0,{"$f":"IF(Worksheet!AJ452=0,0,Worksheet!AJ452*10/I433)","v":0},0,null,null,null,{"$f":"IFERROR(Worksheet!V452/(Worksheet!S452+Worksheet!#REF!),0)","v":0},{"$f":"IF(Worksheet!E452=\"\",\"\",Worksheet!E452)","v":""},{"$f":"IF(Worksheet!B452=\"\",\"\",Worksheet!B452)","v":""},{"$f":"IF(Worksheet!D452=\"\",\"\",Worksheet!D452)","v":""}]
[{"$f":"IF(ISBLANK(Worksheet!F453)=FALSE,VLOOKUP(Worksheet!A453,MeasureCode_Lookup,6,FALSE),\"\")","v":""},{"$f":"Worksheet!H453","v":0},{"$f":"Worksheet!I453","v":0},{"$f":"IFERROR(IF(Worksheet!X453=0,Worksheet!W453/I434,Worksheet!X453/R434),0)","v":0},"W Controlled",null,null,{"$f":"IF(N(Worksheet!S453)=0,N(Worksheet!R453),N(Worksheet!S453))","v":0},{"$f":"IFERROR(Worksheet!U453/(Worksheet!R453+Worksheet!#REF!),0)","v":0},{"$f":"Worksheet!AC453","v":0},{"$f":"Worksheet!AB453","v":0},0,{"$f":"IF(Worksheet!AJ453=0,0,Worksheet!AJ453*10/I434)","v":0},0,null,null,null,{"$f":"IFERROR(Worksheet!V453/(Worksheet!S453+Worksheet!#REF!),0)","v":0},{"$f":"IF(Worksheet!E453=\"\",\"\",Worksheet!E453)","v":""},{"$f":"IF(Worksheet!B453=\"\",\"\",Worksheet!B453)","v":""},{"$f":"IF(Worksheet!D453=\"\",\"\",Worksheet!D453)","v":""}]
[{"$f":"IF(ISBLANK(Worksheet!F454)=FALSE,VLOOKUP(Worksheet!A454,MeasureCode_Lookup,6,FALSE),\"\")","v":""},{"$f":"Worksheet!H454","v":0},{"$f":"Worksheet!I454","v":0},{"$f":"IFERROR(IF(Worksheet!X454=0,Worksheet!W454/I435,Worksheet!X454/R435),0)","v":0},"W Controlled",null,null,{"$f":"IF(N(Worksheet!S454)=0,N(Worksheet!R454),N(Worksheet!S454))","v":0},{"$f":"IFERROR(Worksheet!U454/(Worksheet!R454+Worksheet!#REF!),0)","v":0},{"$f":"Worksheet!AC454","v":0},{"$f":"Worksheet!AB454","v":0},0,{"$f":"IF(Worksheet!AJ454=0,0,Worksheet!AJ454*10/I435)","v":0},0,null,null,null,{"$f":"IFERROR(Worksheet!V454/(Worksheet!S454+Worksheet!#REF!),0)","v":0},{"$f":"IF(Worksheet!E454=\"\",\"\",Worksheet!E454)","v":""},{"$f":"IF(Worksheet!B454=\"\",\"\",Worksheet!B454)","v":""},{"$f":"IF(Worksheet!D454=\"\",\"\",Worksheet!D454)","v":""}]
[{"$f":"IF(ISBLANK(Worksheet!F455)=FALSE,VLOOKUP(Worksheet!A455,MeasureCode_Lookup,6,FALSE),\"\")","v":""},{"$f":"Worksheet!H455","v":0},{"$f":"Worksheet!I455","v":0},{"$f":"IFERROR(IF(Worksheet!X455=0,Worksheet!W455/I436,Worksheet!X455/R436),0)","v":0},"W Controlled",null,null,{"$f":"IF(N(Worksheet!S455)=0,N(Worksheet!R455),N(Worksheet!S455))","v":0},{"$f":"IFERROR(Worksheet!U455/(Worksheet!R455+Worksheet!#REF!),0)","v":0},{"$f":"Worksheet!AC455","v":0},{"$f":"Worksheet!AB455","v":0},0,{"$f":"IF(Worksheet!AJ455=0,0,Worksheet!AJ455*10/I436)","v":0},0,null,null,null,{"$f":"IFERROR(Worksheet!V455/(Worksheet!S455+Worksheet!#REF!),0)","v":0},{"$f":"IF(Worksheet!E455=\"\",\"\",Worksheet!E455)","v":""},{"$f":"IF(Worksheet!B455=\"\",\"\",Worksheet!B455)","v":""},{"$f":"IF(Worksheet!D455=\"\",\"\",Worksheet!D455)","v":""}]
[{"$f":"IF(ISBLANK(Worksheet!F456)=FALSE,VLOOKUP(Worksheet!A456,MeasureCode_Lookup,6,FALSE),\"\")","v":""},{"$f":"Worksheet!H456","v":0},{"$f":"Worksheet!I456","v":0},{"$f":"IFERROR(IF(Worksheet!X456=0,Worksheet!W456/I437,Worksheet!X456/R437),0)","v":0},"W Controlled",null,null,{"$f":"IF(N(Worksheet!S456)=0,N(Worksheet!R456),N(Worksheet!S456))","v":0},{"$f":"IFERROR(Worksheet!U456/(Worksheet!R456+Worksheet!#REF!),0)","v":0},{"$f":"Worksheet!AC456","v":0},{"$f":"Worksheet!AB456","v":0},0,{"$f":"IF(Worksheet!AJ456=0,0,Worksheet!AJ456*10/I437)","v":0},0,null,null,null,{"$f":"IFERROR(Worksheet!V456/(Worksheet!S456+Worksheet!#REF!),0)","v":0},{"$f":"IF(Worksheet!E456=\"\",\"\",Worksheet!E456)","v":""},{"$f":"IF(Worksheet!B456=\"\",\"\",Worksheet!B456)","v":""},{"$f":"IF(Worksheet!D456=\"\",\"\",Worksheet!D456)","v":""}]
[{"$f":"IF(ISBLANK(Worksheet!F457)=FALSE,VLOOKUP(Worksheet!A457,MeasureCode_Lookup,6,FALSE),\"\")","v":""},{"$f":"Worksheet!H457","v":0},{"$f":"Worksheet!I457","v":0},{"$f":"IFERROR(IF(Worksheet!X457=0,Worksheet!W457/I438,Worksheet!X457/R438),0)","v":0},"W Controlled",null,null,{"$f":"IF(N(Worksheet!S457)=0,N(Worksheet!R457),N(Worksheet!S457))","v":0},{"$f":"IFERROR(Worksheet!U457/(Worksheet!R457+Worksheet!#REF!),0)","v":0},{"$f":"Worksheet!AC457","v":0},{"$f":"Worksheet!AB457","v":0},0,{"$f":"IF(Worksheet!AJ457=0,0,Worksheet!AJ457*10/I438)","v":0},0,null,null,null,{"$f":"IFERROR(Worksheet!V457/(Worksheet!S457+Worksheet!#REF!),0)","v":0},{"$f":"IF(Worksheet!E457=\"\",\"\",Worksheet!E457)","v":""},{"$f":"IF(Worksheet!B457=\"\",\"\",Worksheet!B457)","v":""},{"$f":"IF(Worksheet!D457=\"\",\"\",Worksheet!D457)","v":""}]
[{"$f":"IF(ISBLANK(Worksheet!F458)=FALSE,VLOOKUP(Worksheet!A458,MeasureCode_Lookup,6,FALSE),\"\")","v":""},{"$f":"Worksheet!H458","v":0},{"$f":"Worksheet!I458","v":0},{"$f":"IFERROR(IF(Worksheet!X458=0,Worksheet!W458/I439,Worksheet!X458/R439),0)","v":0},"W Controlled",null,null,{"$f":"IF(N(Worksheet!S458)=0,N(Worksheet!R458),N(Worksheet!S458))","v":0},{"$f":"IFERROR(Worksheet!U458/(Worksheet!R458+Worksheet!#REF!),0)","v":0},{"$f":"Worksheet!AC458","v":0},{"$f":"Worksheet!AB458","v":0},0,{"$f":"IF(Worksheet!AJ458=0,0,Worksheet!AJ458*10/I439)","v":0},0,null,null,null,{"$f":"IFERROR(Worksheet!V458/(Worksheet!S458+Worksheet!#REF!),0)","v":0},{"$f":"IF(Worksheet!E458=\"\",\"\",Worksheet!E458)","v":""},{"$f":"IF(Worksheet!B458=\"\",\"\",Worksheet!B458)","v":""},{"$f":"IF(Worksheet!D458=\"\",\"\",Worksheet!D458)","v":""}]
[{"$f":"IF(ISBLANK(Worksheet!F459)=FALSE,VLOOKUP(Worksheet!A459,MeasureCode_Lookup,6,FALSE),\"\")","v":""},{"$f":"Worksheet!H459","v":0},{"$f":"Worksheet!I459","v":0},{"$f":"IFERROR(IF(Worksheet!X459=0,Worksheet!W459/I440,Worksheet!X459/R440),0)","v":0},"W Controlled",null,null,{"$f":"IF(N(Worksheet!S459)=0,N(Worksheet!R459),N(Worksheet!S459))","v":0},{"$f":"IFERROR(Worksheet!U459/(Worksheet!R459+Worksheet!#REF!),0)","v":0},{"$f":"Worksheet!AC459","v":0},{"$f":"Worksheet!AB459","v":0},0,{"$f":"IF(Worksheet!AJ459=0,0,Worksheet!AJ459*10/I440)","v":0},0,null,null,null,{"$f":"IFERROR(Worksheet!V459/(Worksheet!S459+Worksheet!#REF!),0)","v":0},{"$f":"IF(Worksheet!E459=\"\",\"\",Worksheet!E459)","v":""},{"$f":"IF(Worksheet!B459=\"\",\"\",Worksheet!B459)","v":""},{"$f":"IF(Worksheet!D459=\"\",\"\",Worksheet!D459)","v":""}]
[{"$f":"IF(ISBLANK(Worksheet!F460)=FALSE,VLOOKUP(Worksheet!A460,MeasureCode_Lookup,6,FALSE),\"\")","v":""},{"$f":"Worksheet!H460","v":0},{"$f":"Worksheet!I460","v":0},{"$f":"IFERROR(IF(Worksheet!X460=0,Worksheet!W460/I441,Worksheet!X460/R441),0)","v":0},"W Controlled",null,null,{"$f":"IF(N(Worksheet!S460)=0,N(Worksheet!R460),N(Worksheet!S460))","v":0},{"$f":"IFERROR(Worksheet!U460/(Worksheet!R460+Worksheet!#REF!),0)","v":0},{"$f":"Worksheet!AC460","v":0},{"$f":"Worksheet!AB460","v":0},0,{"$f":"IF(Worksheet!AJ460=0,0,Worksheet!AJ460*10/I441)","v":0},0,null,null,null,{"$f":"IFERROR(Worksheet!V460/(Worksheet!S460+Worksheet!#REF!),0)","v":0},{"$f":"IF(Worksheet!E460=\"\",\"\",Worksheet!E460)","v":""},{"$f":"IF(Worksheet!B460=\"\",\"\",Worksheet!B460)","v":""},{"$f":"IF(Worksheet!D460=\"\",\"\",Worksheet!D460)","v":""}]
[{"$f":"IF(ISBLANK(Worksheet!F461)=FALSE,VLOOKUP(Worksheet!A461,MeasureCode_Lookup,6,FALSE),\"\")","v":""},{"$f":"Worksheet!H461","v":0},{"$f":"Worksheet!I461","v":0},{"$f":"IFERROR(IF(Worksheet!X461=0,Worksheet!W461/I442,Worksheet!X461/R442),0)","v":0},"W Controlled",null,null,{"$f":"IF(N(Worksheet!S461)=0,N(Worksheet!R461),N(Worksheet!S461))","v":0},{"$f":"IFERROR(Worksheet!U461/(Worksheet!R461+Worksheet!#REF!),0)","v":0},{"$f":"Worksheet!AC461","v":0},{"$f":"Worksheet!AB461","v":0},0,{"$f":"IF(Worksheet!AJ461=0,0,Worksheet!AJ461*10/I442)","v":0},0,null,null,null,{"$f":"IFERROR(Worksheet!V461/(Worksheet!S461+Worksheet!#REF!),0)","v":0},{"$f":"IF(Worksheet!E461=\"\",\"\",Worksheet!E461)","v":""},{"$f":"IF(Worksheet!B461=\"\",\"\",Worksheet!B461)","v":""},{"$f":"IF(Worksheet!D461=\"\",\"\",Worksheet!D461)","v":""}]
[{"$f":"IF(ISBLANK(Worksheet!F462)=FALSE,VLOOKUP(Worksheet!A462,MeasureCode_Lookup,6,FALSE),\"\")","v":""},{"$f":"Worksheet!H462","v":0},{"$f":"Worksheet!I462","v":0},{"$f":"IFERROR(IF(Worksheet!X462=0,Worksheet!W462/I443,Worksheet!X462/R443),0)","v":0},"W Controlled",null,null,{"$f":"IF(N(Worksheet!S462)=0,N(Worksheet!R462),N(Worksheet!S462))","v":0},{"$f":"IFERROR(Worksheet!U462/(Worksheet!R462+Worksheet!#REF!),0)","v":0},{"$f":"Worksheet!AC462","v":0},{"$f":"Worksheet!AB462","v":0},0,{"$f":"IF(Worksheet!AJ462=0,0,Worksheet!AJ462*10/I443)","v":0},0,null,null,null,{"$f":"IFERROR(Worksheet!V462/(Worksheet!S462+Worksheet!#REF!),0)","v":0},{"$f":"IF(Worksheet!E462=\"\",\"\",Worksheet!E462)","v":""},{"$f":"IF(Worksheet!B462=\"\",\"\",Worksheet!B462)","v":""},{"$f":"IF(Worksheet!D462=\"\",\"\",Worksheet!D462)","v":""}]
[{"$f":"IF(ISBLANK(Worksheet!F463)=FALSE,VLOOKUP(Worksheet!A463,MeasureCode_Lookup,6,FALSE),\"\")","v":""},{"$f":"Worksheet!H463","v":0},{"$f":"Worksheet!I463","v":0},{"$f":"IFERROR(IF(Worksheet!X463=0,Worksheet!W463/I444,Worksheet!X463/R444),0)","v":0},"W Controlled",null,null,{"$f":"IF(N(Worksheet!S463)=0,N(Worksheet!R463),N(Worksheet!S463))","v":0},{"$f":"IFERROR(Worksheet!U463/(Worksheet!R463+Worksheet!#REF!),0)","v":0},{"$f":"Worksheet!AC463","v":0},{"$f":"Worksheet!AB463","v":0},0,{"$f":"IF(Worksheet!AJ463=0,0,Worksheet!AJ463*10/I444)","v":0},0,null,null,null,{"$f":"IFERROR(Worksheet!V463/(Worksheet!S463+Worksheet!#REF!),0)","v":0},{"$f":"IF(Worksheet!E463=\"\",\"\",Worksheet!E463)","v":""},{"$f":"IF(Worksheet!B463=\"\",\"\",Worksheet!B463)","v":""},{"$f":"IF(Worksheet!D463=\"\",\"\",Worksheet!D463)","v":""}]
[{"$f":"IF(ISBLANK(Worksheet!F464)=FALSE,VLOOKUP(Worksheet!A464,MeasureCode_Lookup,6,FALSE),\"\")","v":""},{"$f":"Worksheet!H464","v":0},{"$f":"Worksheet!I464","v":0},{"$f":"IFERROR(IF(Worksheet!X464=0,Worksheet!W464/I445,Worksheet!X464/R445),0)","v":0},"W Controlled",null,null,{"$f":"IF(N(Worksheet!S464)=0,N(Worksheet!R464),N(Worksheet!S464))","v":0},{"$f":"IFERROR(Worksheet!U464/(Worksheet!R464+Worksheet!#REF!),0)","v":0},{"$f":"Worksheet!AC464","v":0},{"$f":"Worksheet!AB464","v":0},0,{"$f":"IF(Worksheet!AJ464=0,0,Worksheet!AJ464*10/I445)","v":0},0,null,null,null,{"$f":"IFERROR(Worksheet!V464/(Worksheet!S464+Worksheet!#REF!),0)","v":0},{"$f":"IF(Worksheet!E464=\"\",\"\",Worksheet!E464)","v":""},{"$f":"IF(Worksheet!B464=\"\",\"\",Worksheet!B464)","v":""},{"$f":"IF(Worksheet!D464=\"\",\"\",Worksheet!D464)","v":""}]
[{"$f":"IF(ISBLANK(Worksheet!F465)=FALSE,VLOOKUP(Worksheet!A465,MeasureCode_Lookup,6,FALSE),\"\")","v":""},{"$f":"Worksheet!H465","v":0},{"$f":"Worksheet!I465","v":0},{"$f":"IFERROR(IF(Worksheet!X465=0,Worksheet!W465/I446,Worksheet!X465/R446),0)","v":0},"W Controlled",null,null,{"$f":"IF(N(Worksheet!S465)=0,N(Worksheet!R465),N(Worksheet!S465))","v":0},{"$f":"IFERROR(Worksheet!U465/(Worksheet!R465+Worksheet!#REF!),0)","v":0},{"$f":"Worksheet!AC465","v":0},{"$f":"Worksheet!AB465","v":0},0,{"$f":"IF(Worksheet!AJ465=0,0,Worksheet!AJ465*10/I446)","v":0},0,null,null,null,{"$f":"IFERROR(Worksheet!V465/(Worksheet!S465+Worksheet!#REF!),0)","v":0},{"$f":"IF(Worksheet!E465=\"\",\"\",Worksheet!E465)","v":""},{"$f":"IF(Worksheet!B465=\"\",\"\",Worksheet!B465)","v":""},{"$f":"IF(Worksheet!D465=\"\",\"\",Worksheet!D465)","v":""}]
[{"$f":"IF(ISBLANK(Worksheet!F466)=FALSE,VLOOKUP(Worksheet!A466,MeasureCode_Lookup,6,FALSE),\"\")","v":""},{"$f":"Worksheet!H466","v":0},{"$f":"Worksheet!I466","v":0},{"$f":"IFERROR(IF(Worksheet!X466=0,Worksheet!W466/I447,Worksheet!X466/R447),0)","v":0},"W Controlled",null,null,{"$f":"IF(N(Worksheet!S466)=0,N(Worksheet!R466),N(Worksheet!S466))","v":0},{"$f":"IFERROR(Worksheet!U466/(Worksheet!R466+Worksheet!#REF!),0)","v":0},{"$f":"Worksheet!AC466","v":0},{"$f":"Worksheet!AB466","v":0},0,{"$f":"IF(Worksheet!AJ466=0,0,Worksheet!AJ466*10/I447)","v":0},0,null,null,null,{"$f":"IFERROR(Worksheet!V466/(Worksheet!S466+Worksheet!#REF!),0)","v":0},{"$f":"IF(Worksheet!E466=\"\",\"\",Worksheet!E466)","v":""},{"$f":"IF(Worksheet!B466=\"\",\"\",Worksheet!B466)","v":""},{"$f":"IF(Worksheet!D466=\"\",\"\",Worksheet!D466)","v":""}]
[{"$f":"IF(ISBLANK(Worksheet!F467)=FALSE,VLOOKUP(Worksheet!A467,MeasureCode_Lookup,6,FALSE),\"\")","v":""},{"$f":"Worksheet!H467","v":0},{"$f":"Worksheet!I467","v":0},{"$f":"IFERROR(IF(Worksheet!X467=0,Worksheet!W467/I448,Worksheet!X467/R448),0)","v":0},"W Controlled",null,null,{"$f":"IF(N(Worksheet!S467)=0,N(Worksheet!R467),N(Worksheet!S467))","v":0},{"$f":"IFERROR(Worksheet!U467/(Worksheet!R467+Worksheet!#REF!),0)","v":0},{"$f":"Worksheet!AC467","v":0},{"$f":"Worksheet!AB467","v":0},0,{"$f":"IF(Worksheet!AJ467=0,0,Worksheet!AJ467*10/I448)","v":0},0,null,null,null,{"$f":"IFERROR(Worksheet!V467/(Worksheet!S467+Worksheet!#REF!),0)","v":0},{"$f":"IF(Worksheet!E467=\"\",\"\",Worksheet!E467)","v":""},{"$f":"IF(Worksheet!B467=\"\",\"\",Worksheet!B467)","v":""},{"$f":"IF(Worksheet!D467=\"\",\"\",Worksheet!D467)","v":""}]
[{"$f":"IF(ISBLANK(Worksheet!F468)=FALSE,VLOOKUP(Worksheet!A468,MeasureCode_Lookup,6,FALSE),\"\")","v":""},{"$f":"Worksheet!H468","v":0},{"$f":"Worksheet!I468","v":0},{"$f":"IFERROR(IF(Worksheet!X468=0,Worksheet!W468/I449,Worksheet!X468/R449),0)","v":0},"W Controlled",null,null,{"$f":"IF(N(Worksheet!S468)=0,N(Worksheet!R468),N(Worksheet!S468))","v":0},{"$f":"IFERROR(Worksheet!U468/(Worksheet!R468+Worksheet!#REF!),0)","v":0},{"$f":"Worksheet!AC468","v":0},{"$f":"Worksheet!AB468","v":0},0,{"$f":"IF(Worksheet!AJ468=0,0,Worksheet!AJ468*10/I449)","v":0},0,null,null,null,{"$f":"IFERROR(Worksheet!V468/(Worksheet!S468+Worksheet!#REF!),0)","v":0},{"$f":"IF(Worksheet!E468=\"\",\"\",Worksheet!E468)","v":""},{"$f":"IF(Worksheet!B468=\"\",\"\",Worksheet!B468)","v":""},{"$f":"IF(Worksheet!D468=\"\",\"\",Worksheet!D468)","v":""}]
[{"$f":"IF(ISBLANK(Worksheet!F469)=FALSE,VLOOKUP(Worksheet!A469,MeasureCode_Lookup,6,FALSE),\"\")","v":""},{"$f":"Worksheet!H469","v":0},{"$f":"Worksheet!I469","v":0},{"$f":"IFERROR(IF(Worksheet!X469=0,Worksheet!W469/I450,Worksheet!X469/R450),0)","v":0},"W Controlled",null,null,{"$f":"IF(N(Worksheet!S469)=0,N(Worksheet!R469),N(Worksheet!S469))","v":0},{"$f":"IFERROR(Worksheet!U469/(Worksheet!R469+Worksheet!#REF!),0)","v":0},{"$f":"Worksheet!AC469","v":0},{"$f":"Worksheet!AB469","v":0},0,{"$f":"IF(Worksheet!AJ469=0,0,Worksheet!AJ469*10/I450)","v":0},0,null,null,null,{"$f":"IFERROR(Worksheet!V469/(Worksheet!S469+Worksheet!#REF!),0)","v":0},{"$f":"IF(Worksheet!E469=\"\",\"\",Worksheet!E469)","v":""},{"$f":"IF(Worksheet!B469=\"\",\"\",Worksheet!B469)","v":""},{"$f":"IF(Worksheet!D469=\"\",\"\",Worksheet!D469)","v":""}]
[{"$f":"IF(ISBLANK(Worksheet!F470)=FALSE,VLOOKUP(Worksheet!A470,MeasureCode_Lookup,6,FALSE),\"\")","v":""},{"$f":"Worksheet!H470","v":0},{"$f":"Worksheet!I470","v":0},{"$f":"IFERROR(IF(Worksheet!X470=0,Worksheet!W470/I451,Worksheet!X470/R451),0)","v":0},"W Controlled",null,null,{"$f":"IF(N(Worksheet!S470)=0,N(Worksheet!R470),N(Worksheet!S470))","v":0},{"$f":"IFERROR(Worksheet!U470/(Worksheet!R470+Worksheet!#REF!),0)","v":0},{"$f":"Worksheet!AC470","v":0},{"$f":"Worksheet!AB470","v":0},{"$f":"J451*8","v":0},{"$f":"IF(Worksheet!AJ470=0,0,Worksheet!AJ470*10/I451)","v":0},{"$f":"M451*8","v":0},null,null,null,{"$f":"IFERROR(Worksheet!V470/(Worksheet!S470+Worksheet!#REF!),0)","v":0},{"$f":"IF(Worksheet!E470=\"\",\"\",Worksheet!E470)","v":""},{"$f":"IF(Worksheet!B470=\"\",\"\",Worksheet!B470)","v":""},{"$f":"IF(Worksheet!D470=\"\",\"\",Worksheet!D470)","v":""}]
[{"$f":"IF(ISBLANK(Worksheet!F471)=FALSE,VLOOKUP(Worksheet!A471,MeasureCode_Lookup,6,FALSE),\"\")","v":""},{"$f":"Worksheet!H471","v":0},{"$f":"Worksheet!I471","v":0},{"$f":"IFERROR(IF(Worksheet!X471=0,Worksheet!W471/I452,Worksheet!X471/R452),0)","v":0},"W Controlled",null,null,{"$f":"IF(N(Worksheet!S471)=0,N(Worksheet!R471),N(Worksheet!S471))","v":0},{"$f":"IFERROR(Worksheet!U471/(Worksheet!R471+Worksheet!#REF!),0)","v":0},{"$f":"Worksheet!AC471","v":0},{"$f":"Worksheet!AB471","v":0},0,{"$f":"IF(Worksheet!AJ471=0,0,Worksheet!AJ471*10/I452)","v":0},0,null,null,null,{"$f":"IFERROR(Worksheet!V471/(Worksheet!S471+Worksheet!#REF!),0)","v":0},{"$f":"IF(Worksheet!E471=\"\",\"\",Worksheet!E471)","v":""},{"$f":"IF(Worksheet!B471=\"\",\"\",Worksheet!B471)","v":""},{"$f":"IF(Worksheet!D471=\"\",\"\",Worksheet!D471)","v":""}]
[{"$f":"IF(ISBLANK(Worksheet!F472)=FALSE,VLOOKUP(Worksheet!A472,MeasureCode_Lookup,6,FALSE),\"\")","v":""},{"$f":"Worksheet!H472","v":0},{"$f":"Worksheet!I472","v":0},{"$f":"IFERROR(IF(Worksheet!X472=0,Worksheet!W472/I453,Worksheet!X472/R453),0)","v":0},"W Controlled",null,null,{"$f":"IF(N(Worksheet!S472)=0,N(Worksheet!R472),N(Worksheet!S472))","v":0},{"$f":"IFERROR(Worksheet!U472/(Worksheet!R472+Worksheet!#REF!),0)","v":0},{"$f":"Worksheet!AC472","v":0},{"$f":"Worksheet!AB472","v":0},0,{"$f":"IF(Worksheet!AJ472=0,0,Worksheet!AJ472*10/I453)","v":0},0,null,null,null,{"$f":"IFERROR(Worksheet!V472/(Worksheet!S472+Worksheet!#REF!),0)","v":0},{"$f":"IF(Worksheet!E472=\"\",\"\",Worksheet!E472)","v":""},{"$f":"IF(Worksheet!B472=\"\",\"\",Worksheet!B472)","v":""},{"$f":"IF(Worksheet!D472=\"\",\"\",Worksheet!D472)","v":""}]
[{"$f":"IF(ISBLANK(Worksheet!F473)=FALSE,VLOOKUP(Worksheet!A473,MeasureCode_Lookup,6,FALSE),\"\")","v":""},{"$f":"Worksheet!H473","v":0},{"$f":"Worksheet!I473","v":0},{"$f":"IFERROR(IF(Worksheet!X473=0,Worksheet!W473/I454,Worksheet!X473/R454),0)","v":0},"W Controlled",null,null,{"$f":"IF(N(Worksheet!S473)=0,N(Worksheet!R473),N(Worksheet!S473))","v":0},{"$f":"IFERROR(Worksheet!U473/(Worksheet!R473+Worksheet!#REF!),0)","v":0},{"$f":"Worksheet!AC473","v":0},{"$f":"Worksheet!AB473","v":0},0,{"$f":"IF(Worksheet!AJ473=0,0,Worksheet!AJ473*10/I454)","v":0},0,null,null,null,{"$f":"IFERROR(Worksheet!V473/(Worksheet!S473+Worksheet!#REF!),0)","v":0},{"$f":"IF(Worksheet!E473=\"\",\"\",Worksheet!E473)","v":""},{"$f":"IF(Worksheet!B473=\"\",\"\",Worksheet!B473)","v":""},{"$f":"IF(Worksheet!D473=\"\",\"\",Worksheet!D473)","v":""}]
[{"$f":"IF(ISBLANK(Worksheet!F474)=FALSE,VLOOKUP(Worksheet!A474,MeasureCode_Lookup,6,FALSE),\"\")","v":""},{"$f":"Worksheet!H474","v":0},{"$f":"Worksheet!I474","v":0},{"$f":"IFERROR(IF(Worksheet!X474=0,Worksheet!W474/I455,Worksheet!X474/R455),0)","v":0},"W Controlled",null,null,{"$f":"IF(N(Worksheet!S474)=0,N(Worksheet!R474),N(Worksheet!S474))","v":0},{"$f":"IFERROR(Worksheet!U474/(Worksheet!R474+Worksheet!#REF!),0)","v":0},{"$f":"Worksheet!AC474","v":0},{"$f":"Worksheet!AB474","v":0},0,{"$f":"IF(Worksheet!AJ474=0,0,Worksheet!AJ474*10/I455)","v":0},0,null,null,null,{"$f":"IFERROR(Worksheet!V474/(Worksheet!S474+Worksheet!#REF!),0)","v":0},{"$f":"IF(Worksheet!E474=\"\",\"\",Worksheet!E474)","v":""},{"$f":"IF(Worksheet!B474=\"\",\"\",Worksheet!B474)","v":""},{"$f":"IF(Worksheet!D474=\"\",\"\",Worksheet!D474)","v":""}]
[{"$f":"IF(ISBLANK(Worksheet!F475)=FALSE,VLOOKUP(Worksheet!A475,MeasureCode_Lookup,6,FALSE),\"\")","v":""},{"$f":"Worksheet!H475","v":0},{"$f":"Worksheet!I475","v":0},{"$f":"IFERROR(IF(Worksheet!X475=0,Worksheet!W475/I456,Worksheet!X475/R456),0)","v":0},"W Controlled",null,null,{"$f":"IF(N(Worksheet!S475)=0,N(Worksheet!R475),N(Worksheet!S475))","v":0},{"$f":"IFERROR(Worksheet!U475/(Worksheet!R475+Worksheet!#REF!),0)","v":0},{"$f":"Worksheet!AC475","v":0},{"$f":"Worksheet!AB475","v":0},0,{"$f":"IF(Worksheet!AJ475=0,0,Worksheet!AJ475*10/I456)","v":0},0,null,null,null,{"$f":"IFERROR(Worksheet!V475/(Worksheet!S475+Worksheet!#REF!),0)","v":0},{"$f":"IF(Worksheet!E475=\"\",\"\",Worksheet!E475)","v":""},{"$f":"IF(Worksheet!B475=\"\",\"\",Worksheet!B475)","v":""},{"$f":"IF(Worksheet!D475=\"\",\"\",Worksheet!D475)","v":""}]
[{"$f":"IF(ISBLANK(Worksheet!F476)=FALSE,VLOOKUP(Worksheet!A476,MeasureCode_Lookup,6,FALSE),\"\")","v":""},{"$f":"Worksheet!H476","v":0},{"$f":"Worksheet!I476","v":0},{"$f":"IFERROR(IF(Worksheet!X476=0,Worksheet!W476/I457,Worksheet!X476/R457),0)","v":0},"W Controlled",null,null,{"$f":"IF(N(Worksheet!S476)=0,N(Worksheet!R476),N(Worksheet!S476))","v":0},{"$f":"IFERROR(Worksheet!U476/(Worksheet!R476+Worksheet!#REF!),0)","v":0},{"$f":"Worksheet!AC476","v":0},{"$f":"Worksheet!AB476","v":0},0,{"$f":"IF(Worksheet!AJ476=0,0,Worksheet!AJ476*10/I457)","v":0},0,null,null,null,{"$f":"IFERROR(Worksheet!V476/(Worksheet!S476+Worksheet!#REF!),0)","v":0},{"$f":"IF(Worksheet!E476=\"\",\"\",Worksheet!E476)","v":""},{"$f":"IF(Worksheet!B476=\"\",\"\",Worksheet!B476)","v":""},{"$f":"IF(Worksheet!D476=\"\",\"\",Worksheet!D476)","v":""}]
[{"$f":"IF(ISBLANK(Worksheet!F477)=FALSE,VLOOKUP(Worksheet!A477,MeasureCode_Lookup,6,FALSE),\"\")","v":""},{"$f":"Worksheet!H477","v":0},{"$f":"Worksheet!I477","v":0},{"$f":"IFERROR(IF(Worksheet!X477=0,Worksheet!W477/I458,Worksheet!X477/R458),0)","v":0},"W Controlled",null,null,{"$f":"IF(N(Worksheet!S477)=0,N(Worksheet!R477),N(Worksheet!S477))","v":0},{"$f":"IFERROR(Worksheet!U477/(Worksheet!R477+Worksheet!#REF!),0)","v":0},{"$f":"Worksheet!AC477","v":0},{"$f":"Worksheet!AB477","v":0},0,{"$f":"IF(Worksheet!AJ477=0,0,Worksheet!AJ477*10/I458)","v":0},0,null,null,null,{"$f":"IFERROR(Worksheet!V477/(Worksheet!S477+Worksheet!#REF!),0)","v":0},{"$f":"IF(Worksheet!E477=\"\",\"\",Worksheet!E477)","v":""},{"$f":"IF(Worksheet!B477=\"\",\"\",Worksheet!B477)","v":""},{"$f":"IF(Worksheet!D477=\"\",\"\",Worksheet!D477)","v":""}]
[{"$f":"IF(ISBLANK(Worksheet!F478)=FALSE,VLOOKUP(Worksheet!A478,MeasureCode_Lookup,6,FALSE),\"\")","v":""},{"$f":"Worksheet!H478","v":0},{"$f":"Worksheet!I478","v":0},{"$f":"IFERROR(IF(Worksheet!X478=0,Worksheet!W478/I459,Worksheet!X478/R459),0)","v":0},"W Controlled",null,null,{"$f":"IF(N(Worksheet!S478)=0,N(Worksheet!R478),N(Worksheet!S478))","v":0},{"$f":"IFERROR(Worksheet!U478/(Worksheet!R478+Worksheet!#REF!),0)","v":0},{"$f":"Worksheet!AC478","v":0},{"$f":"Worksheet!AB478","v":0},0,{"$f":"IF(Worksheet!AJ478=0,0,Worksheet!AJ478*10/I459)","v":0},0,null,null,null,{"$f":"IFERROR(Worksheet!V478/(Worksheet!S478+Worksheet!#REF!),0)","v":0},{"$f":"IF(Worksheet!E478=\"\",\"\",Worksheet!E478)","v":""},{"$f":"IF(Worksheet!B478=\"\",\"\",Worksheet!B478)","v":""},{"$f":"IF(Worksheet!D478=\"\",\"\",Worksheet!D478)","v":""}]
[{"$f":"IF(ISBLANK(Worksheet!F479)=FALSE,VLOOKUP(Worksheet!A479,MeasureCode_Lookup,6,FALSE),\"\")","v":""},{"$f":"Worksheet!H479","v":0},{"$f":"Worksheet!I479","v":0},{"$f":"IFERROR(IF(Worksheet!X479=0,Worksheet!W479/I460,Worksheet!X479/R460),0)","v":0},"W Controlled",null,null,{"$f":"IF(N(Worksheet!S479)=0,N(Worksheet!R479),N(Worksheet!S479))","v":0},{"$f":"IFERROR(Worksheet!U479/(Worksheet!R479+Worksheet!#REF!),0)","v":0},{"$f":"Worksheet!AC479","v":0},{"$f":"Worksheet!AB479","v":0},0,{"$f":"IF(Worksheet!AJ479=0,0,Worksheet!AJ479*10/I460)","v":0},0,null,null,null,{"$f":"IFERROR(Worksheet!V479/(Worksheet!S479+Worksheet!#REF!),0)","v":0},{"$f":"IF(Worksheet!E479=\"\",\"\",Worksheet!E479)","v":""},{"$f":"IF(Worksheet!B479=\"\",\"\",Worksheet!B479)","v":""},{"$f":"IF(Worksheet!D479=\"\",\"\",Worksheet!D479)","v":""}]
[{"$f":"IF(ISBLANK(Worksheet!F480)=FALSE,VLOOKUP(Worksheet!A480,MeasureCode_Lookup,6,FALSE),\"\")","v":""},{"$f":"Worksheet!H480","v":0},{"$f":"Worksheet!I480","v":0},{"$f":"IFERROR(IF(Worksheet!X480=0,Worksheet!W480/I461,Worksheet!X480/R461),0)","v":0},"W Controlled",null,null,{"$f":"IF(N(Worksheet!S480)=0,N(Worksheet!R480),N(Worksheet!S480))","v":0},{"$f":"IFERROR(Worksheet!U480/(Worksheet!R480+Worksheet!#REF!),0)","v":0},{"$f":"Worksheet!AC480","v":0},{"$f":"Worksheet!AB480","v":0},0,{"$f":"IF(Worksheet!AJ480=0,0,Worksheet!AJ480*10/I461)","v":0},0,null,null,null,{"$f":"IFERROR(Worksheet!V480/(Worksheet!S480+Worksheet!#REF!),0)","v":0},{"$f":"IF(Worksheet!E480=\"\",\"\",Worksheet!E480)","v":""},{"$f":"IF(Worksheet!B480=\"\",\"\",Worksheet!B480)","v":""},{"$f":"IF(Worksheet!D480=\"\",\"\",Worksheet!D480)","v":""}]
[{"$f":"IF(ISBLANK(Worksheet!F481)=FALSE,VLOOKUP(Worksheet!A481,MeasureCode_Lookup,6,FALSE),\"\")","v":""},{"$f":"Worksheet!H481","v":0},{"$f":"Worksheet!I481","v":0},{"$f":"IFERROR(IF(Worksheet!X481=0,Worksheet!W481/I462,Worksheet!X481/R462),0)","v":0},"W Controlled",null,null,{"$f":"IF(N(Worksheet!S481)=0,N(Worksheet!R481),N(Worksheet!S481))","v":0},{"$f":"IFERROR(Worksheet!U481/(Worksheet!R481+Worksheet!#REF!),0)","v":0},{"$f":"Worksheet!AC481","v":0},{"$f":"Worksheet!AB481","v":0},0,{"$f":"IF(Worksheet!AJ481=0,0,Worksheet!AJ481*10/I462)","v":0},0,null,null,null,{"$f":"IFERROR(Worksheet!V481/(Worksheet!S481+Worksheet!#REF!),0)","v":0},{"$f":"IF(Worksheet!E481=\"\",\"\",Worksheet!E481)","v":""},{"$f":"IF(Worksheet!B481=\"\",\"\",Worksheet!B481)","v":""},{"$f":"IF(Worksheet!D481=\"\",\"\",Worksheet!D481)","v":""}]
[{"$f":"IF(ISBLANK(Worksheet!F482)=FALSE,VLOOKUP(Worksheet!A482,MeasureCode_Lookup,6,FALSE),\"\")","v":""},{"$f":"Worksheet!H482","v":0},{"$f":"Worksheet!I482","v":0},{"$f":"IFERROR(IF(Worksheet!X482=0,Worksheet!W482/I463,Worksheet!X482/R463),0)","v":0},"W Controlled",null,null,{"$f":"IF(N(Worksheet!S482)=0,N(Worksheet!R482),N(Worksheet!S482))","v":0},{"$f":"IFERROR(Worksheet!U482/(Worksheet!R482+Worksheet!#REF!),0)","v":0},{"$f":"Worksheet!AC482","v":0},{"$f":"Worksheet!AB482","v":0},0,{"$f":"IF(Worksheet!AJ482=0,0,Worksheet!AJ482*10/I463)","v":0},0,null,null,null,{"$f":"IFERROR(Worksheet!V482/(Worksheet!S482+Worksheet!#REF!),0)","v":0},{"$f":"IF(Worksheet!E482=\"\",\"\",Worksheet!E482)","v":""},{"$f":"IF(Worksheet!B482=\"\",\"\",Worksheet!B482)","v":""},{"$f":"IF(Worksheet!D482=\"\",\"\",Worksheet!D482)","v":""}]
[{"$f":"IF(ISBLANK(Worksheet!F483)=FALSE,VLOOKUP(Worksheet!A483,MeasureCode_Lookup,6,FALSE),\"\")","v":""},{"$f":"Worksheet!H483","v":0},{"$f":"Worksheet!I483","v":0},{"$f":"IFERROR(IF(Worksheet!X483=0,Worksheet!W483/I464,Worksheet!X483/R464),0)","v":0},"W Controlled",null,null,{"$f":"IF(N(Worksheet!S483)=0,N(Worksheet!R483),N(Worksheet!S483))","v":0},{"$f":"IFERROR(Worksheet!U483/(Worksheet!R483+Worksheet!#REF!),0)","v":0},{"$f":"Worksheet!AC483","v":0},{"$f":"Worksheet!AB483","v":0},0,{"$f":"IF(Worksheet!AJ483=0,0,Worksheet!AJ483*10/I464)","v":0},0,null,null,null,{"$f":"IFERROR(Worksheet!V483/(Worksheet!S483+Worksheet!#REF!),0)","v":0},{"$f":"IF(Worksheet!E483=\"\",\"\",Worksheet!E483)","v":""},{"$f":"IF(Worksheet!B483=\"\",\"\",Worksheet!B483)","v":""},{"$f":"IF(Worksheet!D483=\"\",\"\",Worksheet!D483)","v":""}]
[{"$f":"IF(ISBLANK(Worksheet!F484)=FALSE,VLOOKUP(Worksheet!A484,MeasureCode_Lookup,6,FALSE),\"\")","v":""},{"$f":"Worksheet!H484","v":0},{"$f":"Worksheet!I484","v":0},{"$f":"IFERROR(IF(Worksheet!X484=0,Worksheet!W484/I465,Worksheet!X484/R465),0)","v":0},"W Controlled",null,null,{"$f":"IF(N(Worksheet!S484)=0,N(Worksheet!R484),N(Worksheet!S484))","v":0},{"$f":"IFERROR(Worksheet!U484/(Worksheet!R484+Worksheet!#REF!),0)","v":0},{"$f":"Worksheet!AC484","v":0},{"$f":"Worksheet!AB484","v":0},0,{"$f":"IF(Worksheet!AJ484=0,0,Worksheet!AJ484*10/I465)","v":0},0,null,null,null,{"$f":"IFERROR(Worksheet!V484/(Worksheet!S484+Worksheet!#REF!),0)","v":0},{"$f":"IF(Worksheet!E484=\"\",\"\",Worksheet!E484)","v":""},{"$f":"IF(Worksheet!B484=\"\",\"\",Worksheet!B484)","v":""},{"$f":"IF(Worksheet!D484=\"\",\"\",Worksheet!D484)","v":""}]
[{"$f":"IF(ISBLANK(Worksheet!F485)=FALSE,VLOOKUP(Worksheet!A485,MeasureCode_Lookup,6,FALSE),\"\")","v":""},{"$f":"Worksheet!H485","v":0},{"$f":"Worksheet!I485","v":0},{"$f":"IFERROR(IF(Worksheet!X485=0,Worksheet!W485/I466,Worksheet!X485/R466),0)","v":0},"W Controlled",null,null,{"$f":"IF(N(Worksheet!S485)=0,N(Worksheet!R485),N(Worksheet!S485))","v":0},{"$f":"IFERROR(Worksheet!U485/(Worksheet!R485+Worksheet!#REF!),0)","v":0},{"$f":"Worksheet!AC485","v":0},{"$f":"Worksheet!AB485","v":0},0,{"$f":"IF(Worksheet!AJ485=0,0,Worksheet!AJ485*10/I466)","v":0},0,null,null,null,{"$f":"IFERROR(Worksheet!V485/(Worksheet!S485+Worksheet!#REF!),0)","v":0},{"$f":"IF(Worksheet!E485=\"\",\"\",Worksheet!E485)","v":""},{"$f":"IF(Worksheet!B485=\"\",\"\",Worksheet!B485)","v":""},{"$f":"IF(Worksheet!D485=\"\",\"\",Worksheet!D485)","v":""}]
[{"$f":"IF(ISBLANK(Worksheet!F486)=FALSE,VLOOKUP(Worksheet!A486,MeasureCode_Lookup,6,FALSE),\"\")","v":""},{"$f":"Worksheet!H486","v":0},{"$f":"Worksheet!I486","v":0},{"$f":"IFERROR(IF(Worksheet!X486=0,Worksheet!W486/I467,Worksheet!X486/R467),0)","v":0},"W Controlled",null,null,{"$f":"IF(N(Worksheet!S486)=0,N(Worksheet!R486),N(Worksheet!S486))","v":0},{"$f":"IFERROR(Worksheet!U486/(Worksheet!R486+Worksheet!#REF!),0)","v":0},{"$f":"Worksheet!AC486","v":0},{"$f":"Worksheet!AB486","v":0},0,{"$f":"IF(Worksheet!AJ486=0,0,Worksheet!AJ486*10/I467)","v":0},0,null,null,null,{"$f":"IFERROR(Worksheet!V486/(Worksheet!S486+Worksheet!#REF!),0)","v":0},{"$f":"IF(Worksheet!E486=\"\",\"\",Worksheet!E486)","v":""},{"$f":"IF(Worksheet!B486=\"\",\"\",Worksheet!B486)","v":""},{"$f":"IF(Worksheet!D486=\"\",\"\",Worksheet!D486)","v":""}]
[{"$f":"IF(ISBLANK(Worksheet!F487)=FALSE,VLOOKUP(Worksheet!A487,MeasureCode_Lookup,6,FALSE),\"\")","v":""},{"$f":"Worksheet!H487","v":0},{"$f":"Worksheet!I487","v":0},{"$f":"IFERROR(IF(Worksheet!X487=0,Worksheet!W487/I468,Worksheet!X487/R468),0)","v":0},"W Controlled",null,null,{"$f":"IF(N(Worksheet!S487)=0,N(Worksheet!R487),N(Worksheet!S487))","v":0},{"$f":"IFERROR(Worksheet!U487/(Worksheet!R487+Worksheet!#REF!),0)","v":0},{"$f":"Worksheet!AC487","v":0},{"$f":"Worksheet!AB487","v":0},0,{"$f":"IF(Worksheet!AJ487=0,0,Worksheet!AJ487*10/I468)","v":0},0,null,null,null,{"$f":"IFERROR(Worksheet!V487/(Worksheet!S487+Worksheet!#REF!),0)","v":0},{"$f":"IF(Worksheet!E487=\"\",\"\",Worksheet!E487)","v":""},{"$f":"IF(Worksheet!B487=\"\",\"\",Worksheet!B487)","v":""},{"$f":"IF(Worksheet!D487=\"\",\"\",Worksheet!D487)","v":""}]
[{"$f":"IF(ISBLANK(Worksheet!F488)=FALSE,VLOOKUP(Worksheet!A488,MeasureCode_Lookup,6,FALSE),\"\")","v":""},{"$f":"Worksheet!H488","v":0},{"$f":"Worksheet!I488","v":0},{"$f":"IFERROR(IF(Worksheet!X488=0,Worksheet!W488/I469,Worksheet!X488/R469),0)","v":0},"W Controlled",null,null,{"$f":"IF(N(Worksheet!S488)=0,N(Worksheet!R488),N(Worksheet!S488))","v":0},{"$f":"IFERROR(Worksheet!U488/(Worksheet!R488+Worksheet!#REF!),0)","v":0},{"$f":"Worksheet!AC488","v":0},{"$f":"Worksheet!AB488","v":0},0,{"$f":"IF(Worksheet!AJ488=0,0,Worksheet!AJ488*10/I469)","v":0},0,null,null,null,{"$f":"IFERROR(Worksheet!V488/(Worksheet!S488+Worksheet!#REF!),0)","v":0},{"$f":"IF(Worksheet!E488=\"\",\"\",Worksheet!E488)","v":""},{"$f":"IF(Worksheet!B488=\"\",\"\",Worksheet!B488)","v":""},{"$f":"IF(Worksheet!D488=\"\",\"\",Worksheet!D488)","v":""}]
[{"$f":"IF(ISBLANK(Worksheet!F489)=FALSE,VLOOKUP(Worksheet!A489,MeasureCode_Lookup,6,FALSE),\"\")","v":""},{"$f":"Worksheet!H489","v":0},{"$f":"Worksheet!I489","v":0},{"$f":"IFERROR(IF(Worksheet!X489=0,Worksheet!W489/I470,Worksheet!X489/R470),0)","v":0},"W Controlled",null,null,{"$f":"IF(N(Worksheet!S489)=0,N(Worksheet!R489),N(Worksheet!S489))","v":0},{"$f":"IFERROR(Worksheet!U489/(Worksheet!R489+Worksheet!#REF!),0)","v":0},{"$f":"Worksheet!AC489","v":0},{"$f":"Worksheet!AB489","v":0},0,{"$f":"IF(Worksheet!AJ489=0,0,Worksheet!AJ489*10/I470)","v":0},0,null,null,null,{"$f":"IFERROR(Worksheet!V489/(Worksheet!S489+Worksheet!#REF!),0)","v":0},{"$f":"IF(Worksheet!E489=\"\",\"\",Worksheet!E489)","v":""},{"$f":"IF(Worksheet!B489=\"\",\"\",Worksheet!B489)","v":""},{"$f":"IF(Worksheet!D489=\"\",\"\",Worksheet!D489)","v":""}]
[{"$f":"IF(ISBLANK(Worksheet!F490)=FALSE,VLOOKUP(Worksheet!A490,MeasureCode_Lookup,6,FALSE),\"\")","v":""},{"$f":"Worksheet!H490","v":0},{"$f":"Worksheet!I490","v":0},{"$f":"IFERROR(IF(Worksheet!X490=0,Worksheet!W490/I471,Worksheet!X490/R471),0)","v":0},"W Controlled",null,null,{"$f":"IF(N(Worksheet!S490)=0,N(Worksheet!R490),N(Worksheet!S490))","v":0},{"$f":"IFERROR(Worksheet!U490/(Worksheet!R490+Worksheet!#REF!),0)","v":0},{"$f":"Worksheet!AC490","v":0},{"$f":"Worksheet!AB490","v":0},0,{"$f":"IF(Worksheet!AJ490=0,0,Worksheet!AJ490*10/I471)","v":0},0,null,null,null,{"$f":"IFERROR(Worksheet!V490/(Worksheet!S490+Worksheet!#REF!),0)","v":0},{"$f":"IF(Worksheet!E490=\"\",\"\",Worksheet!E490)","v":""},{"$f":"IF(Worksheet!B490=\"\",\"\",Worksheet!B490)","v":""},{"$f":"IF(Worksheet!D490=\"\",\"\",Worksheet!D490)","v":""}]
[{"$f":"IF(ISBLANK(Worksheet!F491)=FALSE,VLOOKUP(Worksheet!A491,MeasureCode_Lookup,6,FALSE),\"\")","v":""},{"$f":"Worksheet!H491","v":0},{"$f":"Worksheet!I491","v":0},{"$f":"IFERROR(IF(Worksheet!X491=0,Worksheet!W491/I472,Worksheet!X491/R472),0)","v":0},"W Controlled",null,null,{"$f":"IF(N(Worksheet!S491)=0,N(Worksheet!R491),N(Worksheet!S491))","v":0},{"$f":"IFERROR(Worksheet!U491/(Worksheet!R491+Worksheet!#REF!),0)","v":0},{"$f":"Worksheet!AC491","v":0},{"$f":"Worksheet!AB491","v":0},0,{"$f":"IF(Worksheet!AJ491=0,0,Worksheet!AJ491*10/I472)","v":0},0,null,null,null,{"$f":"IFERROR(Worksheet!V491/(Worksheet!S491+Worksheet!#REF!),0)","v":0},{"$f":"IF(Worksheet!E491=\"\",\"\",Worksheet!E491)","v":""},{"$f":"IF(Worksheet!B491=\"\",\"\",Worksheet!B491)","v":""},{"$f":"IF(Worksheet!D491=\"\",\"\",Worksheet!D491)","v":""}]
[{"$f":"IF(ISBLANK(Worksheet!F492)=FALSE,VLOOKUP(Worksheet!A492,MeasureCode_Lookup,6,FALSE),\"\")","v":""},{"$f":"Worksheet!H492","v":0},{"$f":"Worksheet!I492","v":0},{"$f":"IFERROR(IF(Worksheet!X492=0,Worksheet!W492/I473,Worksheet!X492/R473),0)","v":0},"W Controlled",null,null,{"$f":"IF(N(Worksheet!S492)=0,N(Worksheet!R492),N(Worksheet!S492))","v":0},{"$f":"IFERROR(Worksheet!U492/(Worksheet!R492+Worksheet!#REF!),0)","v":0},{"$f":"Worksheet!AC492","v":0},{"$f":"Worksheet!AB492","v":0},0,{"$f":"IF(Worksheet!AJ492=0,0,Worksheet!AJ492*10/I473)","v":0},0,null,null,null,{"$f":"IFERROR(Worksheet!V492/(Worksheet!S492+Worksheet!#REF!),0)","v":0},{"$f":"IF(Worksheet!E492=\"\",\"\",Worksheet!E492)","v":""},{"$f":"IF(Worksheet!B492=\"\",\"\",Worksheet!B492)","v":""},{"$f":"IF(Worksheet!D492=\"\",\"\",Worksheet!D492)","v":""}]
[{"$f":"IF(ISBLANK(Worksheet!F493)=FALSE,VLOOKUP(Worksheet!A493,MeasureCode_Lookup,6,FALSE),\"\")","v":""},{"$f":"Worksheet!H493","v":0},{"$f":"Worksheet!I493","v":0},{"$f":"IFERROR(IF(Worksheet!X493=0,Worksheet!W493/I474,Worksheet!X493/R474),0)","v":0},"W Controlled",null,null,{"$f":"IF(N(Worksheet!S493)=0,N(Worksheet!R493),N(Worksheet!S493))","v":0},{"$f":"IFERROR(Worksheet!U493/(Worksheet!R493+Worksheet!#REF!),0)","v":0},{"$f":"Worksheet!AC493","v":0},{"$f":"Worksheet!AB493","v":0},0,{"$f":"IF(Worksheet!AJ493=0,0,Worksheet!AJ493*10/I474)","v":0},0,null,null,null,{"$f":"IFERROR(Worksheet!V493/(Worksheet!S493+Worksheet!#REF!),0)","v":0},{"$f":"IF(Worksheet!E493=\"\",\"\",Worksheet!E493)","v":""},{"$f":"IF(Worksheet!B493=\"\",\"\",Worksheet!B493)","v":""},{"$f":"IF(Worksheet!D493=\"\",\"\",Worksheet!D493)","v":""}]
[{"$f":"IF(ISBLANK(Worksheet!F494)=FALSE,VLOOKUP(Worksheet!A494,MeasureCode_Lookup,6,FALSE),\"\")","v":""},{"$f":"Worksheet!H494","v":0},{"$f":"Worksheet!I494","v":0},{"$f":"IFERROR(IF(Worksheet!X494=0,Worksheet!W494/I475,Worksheet!X494/R475),0)","v":0},"W Controlled",null,null,{"$f":"IF(N(Worksheet!S494)=0,N(Worksheet!R494),N(Worksheet!S494))","v":0},{"$f":"IFERROR(Worksheet!U494/(Worksheet!R494+Worksheet!#REF!),0)","v":0},{"$f":"Worksheet!AC494","v":0},{"$f":"Worksheet!AB494","v":0},0,{"$f":"IF(Worksheet!AJ494=0,0,Worksheet!AJ494*10/I475)","v":0},0,null,null,null,{"$f":"IFERROR(Worksheet!V494/(Worksheet!S494+Worksheet!#REF!),0)","v":0},{"$f":"IF(Worksheet!E494=\"\",\"\",Worksheet!E494)","v":""},{"$f":"IF(Worksheet!B494=\"\",\"\",Worksheet!B494)","v":""},{"$f":"IF(Worksheet!D494=\"\",\"\",Worksheet!D494)","v":""}]
[{"$f":"IF(ISBLANK(Worksheet!F495)=FALSE,VLOOKUP(Worksheet!A495,MeasureCode_Lookup,6,FALSE),\"\")","v":""},{"$f":"Worksheet!H495","v":0},{"$f":"Worksheet!I495","v":0},{"$f":"IFERROR(IF(Worksheet!X495=0,Worksheet!W495/I476,Worksheet!X495/R476),0)","v":0},"W Controlled",null,null,{"$f":"IF(N(Worksheet!S495)=0,N(Worksheet!R495),N(Worksheet!S495))","v":0},{"$f":"IFERROR(Worksheet!U495/(Worksheet!R495+Worksheet!#REF!),0)","v":0},{"$f":"Worksheet!AC495","v":0},{"$f":"Worksheet!AB495","v":0},0,{"$f":"IF(Worksheet!AJ495=0,0,Worksheet!AJ495*10/I476)","v":0},0,null,null,null,{"$f":"IFERROR(Worksheet!V495/(Worksheet!S495+Worksheet!#REF!),0)","v":0},{"$f":"IF(Worksheet!E495=\"\",\"\",Worksheet!E495)","v":""},{"$f":"IF(Worksheet!B495=\"\",\"\",Worksheet!B495)","v":""},{"$f":"IF(Worksheet!D495=\"\",\"\",Worksheet!D495)","v":""}]
[{"$f":"IF(ISBLANK(Worksheet!F496)=FALSE,VLOOKUP(Worksheet!A496,MeasureCode_Lookup,6,FALSE),\"\")","v":""},{"$f":"Worksheet!H496","v":0},{"$f":"Worksheet!I496","v":0},{"$f":"IFERROR(IF(Worksheet!X496=0,Worksheet!W496/I477,Worksheet!X496/R477),0)","v":0},"W Controlled",null,null,{"$f":"IF(N(Worksheet!S496)=0,N(Worksheet!R496),N(Worksheet!S496))","v":0},{"$f":"IFERROR(Worksheet!U496/(Worksheet!R496+Worksheet!#REF!),0)","v":0},{"$f":"Worksheet!AC496","v":0},{"$f":"Worksheet!AB496","v":0},0,{"$f":"IF(Worksheet!AJ496=0,0,Worksheet!AJ496*10/I477)","v":0},0,null,null,null,{"$f":"IFERROR(Worksheet!V496/(Worksheet!S496+Worksheet!#REF!),0)","v":0},{"$f":"IF(Worksheet!E496=\"\",\"\",Worksheet!E496)","v":""},{"$f":"IF(Worksheet!B496=\"\",\"\",Worksheet!B496)","v":""},{"$f":"IF(Worksheet!D496=\"\",\"\",Worksheet!D496)","v":""}]
[{"$f":"IF(ISBLANK(Worksheet!F497)=FALSE,VLOOKUP(Worksheet!A497,MeasureCode_Lookup,6,FALSE),\"\")","v":""},{"$f":"Worksheet!H497","v":0},{"$f":"Worksheet!I497","v":0},{"$f":"IFERROR(IF(Worksheet!X497=0,Worksheet!W497/I478,Worksheet!X497/R478),0)","v":0},"W Controlled",null,null,{"$f":"IF(N(Worksheet!S497)=0,N(Worksheet!R497),N(Worksheet!S497))","v":0},{"$f":"IFERROR(Worksheet!U497/(Worksheet!R497+Worksheet!#REF!),0)","v":0},{"$f":"Worksheet!AC497","v":0},{"$f":"Worksheet!AB497","v":0},0,{"$f":"IF(Worksheet!AJ497=0,0,Worksheet!AJ497*10/I478)","v":0},0,null,null,null,{"$f":"IFERROR(Worksheet!V497/(Worksheet!S497+Worksheet!#REF!),0)","v":0},{"$f":"IF(Worksheet!E497=\"\",\"\",Worksheet!E497)","v":""},{"$f":"IF(Worksheet!B497=\"\",\"\",Worksheet!B497)","v":""},{"$f":"IF(Worksheet!D497=\"\",\"\",Worksheet!D497)","v":""}]
[{"$f":"IF(ISBLANK(Worksheet!F498)=FALSE,VLOOKUP(Worksheet!A498,MeasureCode_Lookup,6,FALSE),\"\")","v":""},{"$f":"Worksheet!H498","v":0},{"$f":"Worksheet!I498","v":0},{"$f":"IFERROR(IF(Worksheet!X498=0,Worksheet!W498/I479,Worksheet!X498/R479),0)","v":0},"W Controlled",null,null,{"$f":"IF(N(Worksheet!S498)=0,N(Worksheet!R498),N(Worksheet!S498))","v":0},{"$f":"IFERROR(Worksheet!U498/(Worksheet!R498+Worksheet!#REF!),0)","v":0},{"$f":"Worksheet!AC498","v":0},{"$f":"Worksheet!AB498","v":0},0,{"$f":"IF(Worksheet!AJ498=0,0,Worksheet!AJ498*10/I479)","v":0},0,null,null,null,{"$f":"IFERROR(Worksheet!V498/(Worksheet!S498+Worksheet!#REF!),0)","v":0},{"$f":"IF(Worksheet!E498=\"\",\"\",Worksheet!E498)","v":""},{"$f":"IF(Worksheet!B498=\"\",\"\",Worksheet!B498)","v":""},{"$f":"IF(Worksheet!D498=\"\",\"\",Worksheet!D498)","v":""}]
[{"$f":"IF(ISBLANK(Worksheet!F499)=FALSE,VLOOKUP(Worksheet!A499,MeasureCode_Lookup,6,FALSE),\"\")","v":""},{"$f":"Worksheet!H499","v":0},{"$f":"Worksheet!I499","v":0},{"$f":"IFERROR(IF(Worksheet!X499=0,Worksheet!W499/I480,Worksheet!X499/R480),0)","v":0},"W Controlled",null,null,{"$f":"IF(N(Worksheet!S499)=0,N(Worksheet!R499),N(Worksheet!S499))","v":0},{"$f":"IFERROR(Worksheet!U499/(Worksheet!R499+Worksheet!#REF!),0)","v":0},{"$f":"Worksheet!AC499","v":0},{"$f":"Worksheet!AB499","v":0},0,{"$f":"IF(Worksheet!AJ499=0,0,Worksheet!AJ499*10/I480)","v":0},0,null,null,null,{"$f":"IFERROR(Worksheet!V499/(Worksheet!S499+Worksheet!#REF!),0)","v":0},{"$f":"IF(Worksheet!E499=\"\",\"\",Worksheet!E499)","v":""},{"$f":"IF(Worksheet!B499=\"\",\"\",Worksheet!B499)","v":""},{"$f":"IF(Worksheet!D499=\"\",\"\",Worksheet!D499)","v":""}]
[{"$f":"IF(ISBLANK(Worksheet!F500)=FALSE,VLOOKUP(Worksheet!A500,MeasureCode_Lookup,6,FALSE),\"\")","v":""},{"$f":"Worksheet!H500","v":0},{"$f":"Worksheet!I500","v":0},{"$f":"IFERROR(IF(Worksheet!X500=0,Worksheet!W500/I481,Worksheet!X500/R481),0)","v":0},"W Controlled",null,null,{"$f":"IF(N(Worksheet!S500)=0,N(Worksheet!R500),N(Worksheet!S500))","v":0},{"$f":"IFERROR(Worksheet!U500/(Worksheet!R500+Worksheet!#REF!),0)","v":0},{"$f":"Worksheet!AC500","v":0},{"$f":"Worksheet!AB500","v":0},0,{"$f":"IF(Worksheet!AJ500=0,0,Worksheet!AJ500*10/I481)","v":0},0,null,null,null,{"$f":"IFERROR(Worksheet!V500/(Worksheet!S500+Worksheet!#REF!),0)","v":0},{"$f":"IF(Worksheet!E500=\"\",\"\",Worksheet!E500)","v":""},{"$f":"IF(Worksheet!B500=\"\",\"\",Worksheet!B500)","v":""},{"$f":"IF(Worksheet!D500=\"\",\"\",Worksheet!D500)","v":""}]
[{"$f":"IF(ISBLANK(Worksheet!F501)=FALSE,VLOOKUP(Worksheet!A501,MeasureCode_Lookup,6,FALSE),\"\")","v":""},{"$f":"Worksheet!H501","v":0},{"$f":"Worksheet!I501","v":0},{"$f":"IFERROR(IF(Worksheet!X501=0,Worksheet!W501/I482,Worksheet!X501/R482),0)","v":0},"W Controlled",null,null,{"$f":"IF(N(Worksheet!S501)=0,N(Worksheet!R501),N(Worksheet!S501))","v":0},{"$f":"IFERROR(Worksheet!U501/(Worksheet!R501+Worksheet!#REF!),0)","v":0},{"$f":"Worksheet!AC501","v":0},{"$f":"Worksheet!AB501","v":0},0,{"$f":"IF(Worksheet!AJ501=0,0,Worksheet!AJ501*10/I482)","v":0},0,null,null,null,{"$f":"IFERROR(Worksheet!V501/(Worksheet!S501+Worksheet!#REF!),0)","v":0},{"$f":"IF(Worksheet!E501=\"\",\"\",Worksheet!E501)","v":""},{"$f":"IF(Worksheet!B501=\"\",\"\",Worksheet!B501)","v":""},{"$f":"IF(Worksheet!D501=\"\",\"\",Worksheet!D501)","v":""}]
[{"$f":"IF(ISBLANK(Worksheet!F502)=FALSE,VLOOKUP(Worksheet!A502,MeasureCode_Lookup,6,FALSE),\"\")","v":""},{"$f":"Worksheet!H502","v":0},{"$f":"Worksheet!I502","v":0},{"$f":"IFERROR(IF(Worksheet!X502=0,Worksheet!W502/I483,Worksheet!X502/R483),0)","v":0},"W Controlled",null,null,{"$f":"IF(N(Worksheet!S502)=0,N(Worksheet!R502),N(Worksheet!S502))","v":0},{"$f":"IFERROR(Worksheet!U502/(Worksheet!R502+Worksheet!#REF!),0)","v":0},{"$f":"Worksheet!AC502","v":0},{"$f":"Worksheet!AB502","v":0},0,{"$f":"IF(Worksheet!AJ502=0,0,Worksheet!AJ502*10/I483)","v":0},0,null,null,null,{"$f":"IFERROR(Worksheet!V502/(Worksheet!S502+Worksheet!#REF!),0)","v":0},{"$f":"IF(Worksheet!E502=\"\",\"\",Worksheet!E502)","v":""},{"$f":"IF(Worksheet!B502=\"\",\"\",Worksheet!B502)","v":""},{"$f":"IF(Worksheet!D502=\"\",\"\",Worksheet!D502)","v":""}]
[{"$f":"IF(ISBLANK(Worksheet!F503)=FALSE,VLOOKUP(Worksheet!A503,MeasureCode_Lookup,6,FALSE),\"\")","v":""},{"$f":"Worksheet!H503","v":0},{"$f":"Worksheet!I503","v":0},{"$f":"IFERROR(IF(Worksheet!X503=0,Worksheet!W503/I484,Worksheet!X503/R484),0)","v":0},"W Controlled",null,null,{"$f":"IF(N(Worksheet!S503)=0,N(Worksheet!R503),N(Worksheet!S503))","v":0},{"$f":"IFERROR(Worksheet!U503/(Worksheet!R503+Worksheet!#REF!),0)","v":0},{"$f":"Worksheet!AC503","v":0},{"$f":"Worksheet!AB503","v":0},0,{"$f":"IF(Worksheet!AJ503=0,0,Worksheet!AJ503*10/I484)","v":0},0,null,null,null,{"$f":"IFERROR(Worksheet!V503/(Worksheet!S503+Worksheet!#REF!),0)","v":0},{"$f":"IF(Worksheet!E503=\"\",\"\",Worksheet!E503)","v":""},{"$f":"IF(Worksheet!B503=\"\",\"\",Worksheet!B503)","v":""},{"$f":"IF(Worksheet!D503=\"\",\"\",Worksheet!D503)","v":""}]
[{"$f":"IF(ISBLANK(Worksheet!F504)=FALSE,VLOOKUP(Worksheet!A504,MeasureCode_Lookup,6,FALSE),\"\")","v":""},{"$f":"Worksheet!H504","v":0},{"$f":"Worksheet!I504","v":0},{"$f":"IFERROR(IF(Worksheet!X504=0,Worksheet!W504/I485,Worksheet!X504/R485),0)","v":0},"W Controlled",null,null,{"$f":"IF(N(Worksheet!S504)=0,N(Worksheet!R504),N(Worksheet!S504))","v":0},{"$f":"IFERROR(Worksheet!U504/(Worksheet!R504+Worksheet!#REF!),0)","v":0},{"$f":"Worksheet!AC504","v":0},{"$f":"Worksheet!AB504","v":0},0,{"$f":"IF(Worksheet!AJ504=0,0,Worksheet!AJ504*10/I485)","v":0},0,null,null,null,{"$f":"IFERROR(Worksheet!V504/(Worksheet!S504+Worksheet!#REF!),0)","v":0},{"$f":"IF(Worksheet!E504=\"\",\"\",Worksheet!E504)","v":""},{"$f":"IF(Worksheet!B504=\"\",\"\",Worksheet!B504)","v":""},{"$f":"IF(Worksheet!D504=\"\",\"\",Worksheet!D504)","v":""}]
[{"$f":"IF(ISBLANK(Worksheet!F505)=FALSE,VLOOKUP(Worksheet!A505,MeasureCode_Lookup,6,FALSE),\"\")","v":""},{"$f":"Worksheet!H505","v":0},{"$f":"Worksheet!I505","v":0},{"$f":"IFERROR(IF(Worksheet!X505=0,Worksheet!W505/I486,Worksheet!X505/R486),0)","v":0},"W Controlled",null,null,{"$f":"IF(N(Worksheet!S505)=0,N(Worksheet!R505),N(Worksheet!S505))","v":0},{"$f":"IFERROR(Worksheet!U505/(Worksheet!R505+Worksheet!#REF!),0)","v":0},{"$f":"Worksheet!AC505","v":0},{"$f":"Worksheet!AB505","v":0},0,{"$f":"IF(Worksheet!AJ505=0,0,Worksheet!AJ505*10/I486)","v":0},0,null,null,null,{"$f":"IFERROR(Worksheet!V505/(Worksheet!S505+Worksheet!#REF!),0)","v":0},{"$f":"IF(Worksheet!E505=\"\",\"\",Worksheet!E505)","v":""},{"$f":"IF(Worksheet!B505=\"\",\"\",Worksheet!B505)","v":""},{"$f":"IF(Worksheet!D505=\"\",\"\",Worksheet!D505)","v":""}]
[{"$f":"IF(ISBLANK(Worksheet!F506)=FALSE,VLOOKUP(Worksheet!A506,MeasureCode_Lookup,6,FALSE),\"\")","v":""},{"$f":"Worksheet!H506","v":0},{"$f":"Worksheet!I506","v":0},{"$f":"IFERROR(IF(Worksheet!X506=0,Worksheet!W506/I487,Worksheet!X506/R487),0)","v":0},"W Controlled",null,null,{"$f":"IF(N(Worksheet!S506)=0,N(Worksheet!R506),N(Worksheet!S506))","v":0},{"$f":"IFERROR(Worksheet!U506/(Worksheet!R506+Worksheet!#REF!),0)","v":0},{"$f":"Worksheet!AC506","v":0},{"$f":"Worksheet!AB506","v":0},0,{"$f":"IF(Worksheet!AJ506=0,0,Worksheet!AJ506*10/I487)","v":0},0,null,null,null,{"$f":"IFERROR(Worksheet!V506/(Worksheet!S506+Worksheet!#REF!),0)","v":0},{"$f":"IF(Worksheet!E506=\"\",\"\",Worksheet!E506)","v":""},{"$f":"IF(Worksheet!B506=\"\",\"\",Worksheet!B506)","v":""},{"$f":"IF(Worksheet!D506=\"\",\"\",Worksheet!D506)","v":""}]
[{"$f":"IF(ISBLANK(Worksheet!F507)=FALSE,VLOOKUP(Worksheet!A507,MeasureCode_Lookup,6,FALSE),\"\")","v":""},{"$f":"Worksheet!H507","v":0},{"$f":"Worksheet!I507","v":0},{"$f":"IFERROR(IF(Worksheet!X507=0,Worksheet!W507/I488,Worksheet!X507/R488),0)","v":0},"W Controlled",null,null,{"$f":"IF(N(Worksheet!S507)=0,N(Worksheet!R507),N(Worksheet!S507))","v":0},{"$f":"IFERROR(Worksheet!U507/(Worksheet!R507+Worksheet!#REF!),0)","v":0},{"$f":"Worksheet!AC507","v":0},{"$f":"Worksheet!AB507","v":0},0,{"$f":"IF(Worksheet!AJ507=0,0,Worksheet!AJ507*10/I488)","v":0},0,null,null,null,{"$f":"IFERROR(Worksheet!V507/(Worksheet!S507+Worksheet!#REF!),0)","v":0},{"$f":"IF(Worksheet!E507=\"\",\"\",Worksheet!E507)","v":""},{"$f":"IF(Worksheet!B507=\"\",\"\",Worksheet!B507)","v":""},{"$f":"IF(Worksheet!D507=\"\",\"\",Worksheet!D507)","v":""}]
[{"$f":"IF(ISBLANK(Worksheet!F508)=FALSE,VLOOKUP(Worksheet!A508,MeasureCode_Lookup,6,FALSE),\"\")","v":""},{"$f":"Worksheet!H508","v":0},{"$f":"Worksheet!I508","v":0},{"$f":"IFERROR(IF(Worksheet!X508=0,Worksheet!W508/I489,Worksheet!X508/R489),0)","v":0},"W Controlled",null,null,{"$f":"IF(N(Worksheet!S508)=0,N(Worksheet!R508),N(Worksheet!S508))","v":0},{"$f":"IFERROR(Worksheet!U508/(Worksheet!R508+Worksheet!#REF!),0)","v":0},{"$f":"Worksheet!AC508","v":0},{"$f":"Worksheet!AB508","v":0},0,{"$f":"IF(Worksheet!AJ508=0,0,Worksheet!AJ508*10/I489)","v":0},0,null,null,null,{"$f":"IFERROR(Worksheet!V508/(Worksheet!S508+Worksheet!#REF!),0)","v":0},{"$f":"IF(Worksheet!E508=\"\",\"\",Worksheet!E508)","v":""},{"$f":"IF(Worksheet!B508=\"\",\"\",Worksheet!B508)","v":""},{"$f":"IF(Worksheet!D508=\"\",\"\",Worksheet!D508)","v":""}]
[{"$f":"IF(ISBLANK(Worksheet!F509)=FALSE,VLOOKUP(Worksheet!A509,MeasureCode_Lookup,6,FALSE),\"\")","v":""},{"$f":"Worksheet!H509","v":0},{"$f":"Worksheet!I509","v":0},{"$f":"IFERROR(IF(Worksheet!X509=0,Worksheet!W509/I490,Worksheet!X509/R490),0)","v":0},"W Controlled",null,null,{"$f":"IF(N(Worksheet!S509)=0,N(Worksheet!R509),N(Worksheet!S509))","v":0},{"$f":"IFERROR(Worksheet!U509/(Worksheet!R509+Worksheet!#REF!),0)","v":0},{"$f":"Worksheet!AC509","v":0},{"$f":"Worksheet!AB509","v":0},0,{"$f":"IF(Worksheet!AJ509=0,0,Worksheet!AJ509*10/I490)","v":0},0,null,null,null,{"$f":"IFERROR(Worksheet!V509/(Worksheet!S509+Worksheet!#REF!),0)","v":0},{"$f":"IF(Worksheet!E509=\"\",\"\",Worksheet!E509)","v":""},{"$f":"IF(Worksheet!B509=\"\",\"\",Worksheet!B509)","v":""},{"$f":"IF(Worksheet!D509=\"\",\"\",Worksheet!D509)","v":""}]
[{"$f":"IF(ISBLANK(Worksheet!F510)=FALSE,VLOOKUP(Worksheet!A510,MeasureCode_Lookup,6,FALSE),\"\")","v":""},{"$f":"Worksheet!H510","v":0},{"$f":"Worksheet!I510","v":0},{"$f":"IFERROR(IF(Worksheet!X510=0,Worksheet!W510/I491,Worksheet!X510/R491),0)","v":0},"W Controlled",null,null,{"$f":"IF(N(Worksheet!S510)=0,N(Worksheet!R510),N(Worksheet!S510))","v":0},{"$f":"IFERROR(Worksheet!U510/(Worksheet!R510+Worksheet!#REF!),0)","v":0},{"$f":"Worksheet!AC510","v":0},{"$f":"Worksheet!AB510","v":0},0,{"$f":"IF(Worksheet!AJ510=0,0,Worksheet!AJ510*10/I491)","v":0},0,null,null,null,{"$f":"IFERROR(Worksheet!V510/(Worksheet!S510+Worksheet!#REF!),0)","v":0},{"$f":"IF(Worksheet!E510=\"\",\"\",Worksheet!E510)","v":""},{"$f":"IF(Worksheet!B510=\"\",\"\",Worksheet!B510)","v":""},{"$f":"IF(Worksheet!D510=\"\",\"\",Worksheet!D510)","v":""}]
[{"$f":"IF(ISBLANK(Worksheet!F511)=FALSE,VLOOKUP(Worksheet!A511,MeasureCode_Lookup,6,FALSE),\"\")","v":""},{"$f":"Worksheet!H511","v":0},{"$f":"Worksheet!I511","v":0},{"$f":"IFERROR(IF(Worksheet!X511=0,Worksheet!W511/I492,Worksheet!X511/R492),0)","v":0},"W Controlled",null,null,{"$f":"IF(N(Worksheet!S511)=0,N(Worksheet!R511),N(Worksheet!S511))","v":0},{"$f":"IFERROR(Worksheet!U511/(Worksheet!R511+Worksheet!#REF!),0)","v":0},{"$f":"Worksheet!AC511","v":0},{"$f":"Worksheet!AB511","v":0},0,{"$f":"IF(Worksheet!AJ511=0,0,Worksheet!AJ511*10/I492)","v":0},0,null,null,null,{"$f":"IFERROR(Worksheet!V511/(Worksheet!S511+Worksheet!#REF!),0)","v":0},{"$f":"IF(Worksheet!E511=\"\",\"\",Worksheet!E511)","v":""},{"$f":"IF(Worksheet!B511=\"\",\"\",Worksheet!B511)","v":""},{"$f":"IF(Worksheet!D511=\"\",\"\",Worksheet!D511)","v":""}]
[{"$f":"IF(ISBLANK(Worksheet!F512)=FALSE,VLOOKUP(Worksheet!A512,MeasureCode_Lookup,6,FALSE),\"\")","v":""},{"$f":"Worksheet!H512","v":0},{"$f":"Worksheet!I512","v":0},{"$f":"IFERROR(IF(Worksheet!X512=0,Worksheet!W512/I493,Worksheet!X512/R493),0)","v":0},"W Controlled",null,null,{"$f":"IF(N(Worksheet!S512)=0,N(Worksheet!R512),N(Worksheet!S512))","v":0},{"$f":"IFERROR(Worksheet!U512/(Worksheet!R512+Worksheet!#REF!),0)","v":0},{"$f":"Worksheet!AC512","v":0},{"$f":"Worksheet!AB512","v":0},0,{"$f":"IF(Worksheet!AJ512=0,0,Worksheet!AJ512*10/I493)","v":0},0,null,null,null,{"$f":"IFERROR(Worksheet!V512/(Worksheet!S512+Worksheet!#REF!),0)","v":0},{"$f":"IF(Worksheet!E512=\"\",\"\",Worksheet!E512)","v":""},{"$f":"IF(Worksheet!B512=\"\",\"\",Worksheet!B512)","v":""},{"$f":"IF(Worksheet!D512=\"\",\"\",Worksheet!D512)","v":""}]
[{"$f":"IF(ISBLANK(Worksheet!F513)=FALSE,VLOOKUP(Worksheet!A513,MeasureCode_Lookup,6,FALSE),\"\")","v":""},{"$f":"Worksheet!H513","v":0},{"$f":"Worksheet!I513","v":0},{"$f":"IFERROR(IF(Worksheet!X513=0,Worksheet!W513/I494,Worksheet!X513/R494),0)","v":0},"W Controlled",null,null,{"$f":"IF(N(Worksheet!S513)=0,N(Worksheet!R513),N(Worksheet!S513))","v":0},{"$f":"IFERROR(Worksheet!U513/(Worksheet!R513+Worksheet!#REF!),0)","v":0},{"$f":"Worksheet!AC513","v":0},{"$f":"Worksheet!AB513","v":0},0,{"$f":"IF(Worksheet!AJ513=0,0,Worksheet!AJ513*10/I494)","v":0},0,null,null,null,{"$f":"IFERROR(Worksheet!V513/(Worksheet!S513+Worksheet!#REF!),0)","v":0},{"$f":"IF(Worksheet!E513=\"\",\"\",Worksheet!E513)","v":""},{"$f":"IF(Worksheet!B513=\"\",\"\",Worksheet!B513)","v":""},{"$f":"IF(Worksheet!D513=\"\",\"\",Worksheet!D513)","v":""}]
[{"$f":"IF(ISBLANK(Worksheet!F514)=FALSE,VLOOKUP(Worksheet!A514,MeasureCode_Lookup,6,FALSE),\"\")","v":""},{"$f":"Worksheet!H514","v":0},{"$f":"Worksheet!I514","v":0},{"$f":"IFERROR(IF(Worksheet!X514=0,Worksheet!W514/I495,Worksheet!X514/R495),0)","v":0},"W Controlled",null,null,{"$f":"IF(N(Worksheet!S514)=0,N(Worksheet!R514),N(Worksheet!S514))","v":0},{"$f":"IFERROR(Worksheet!U514/(Worksheet!R514+Worksheet!#REF!),0)","v":0},{"$f":"Worksheet!AC514","v":0},{"$f":"Worksheet!AB514","v":0},0,{"$f":"IF(Worksheet!AJ514=0,0,Worksheet!AJ514*10/I495)","v":0},0,null,null,null,{"$f":"IFERROR(Worksheet!V514/(Worksheet!S514+Worksheet!#REF!),0)","v":0},{"$f":"IF(Worksheet!E514=\"\",\"\",Worksheet!E514)","v":""},{"$f":"IF(Worksheet!B514=\"\",\"\",Worksheet!B514)","v":""},{"$f":"IF(Worksheet!D514=\"\",\"\",Worksheet!D514)","v":""}]
[{"$f":"IF(ISBLANK(Worksheet!F515)=FALSE,VLOOKUP(Worksheet!A515,MeasureCode_Lookup,6,FALSE),\"\")","v":""},{"$f":"Worksheet!H515","v":0},{"$f":"Worksheet!I515","v":0},{"$f":"IFERROR(IF(Worksheet!X515=0,Worksheet!W515/I496,Worksheet!X515/R496),0)","v":0},"W Controlled",null,null,{"$f":"IF(N(Worksheet!S515)=0,N(Worksheet!R515),N(Worksheet!S515))","v":0},{"$f":"IFERROR(Worksheet!U515/(Worksheet!R515+Worksheet!#REF!),0)","v":0},{"$f":"Worksheet!AC515","v":0},{"$f":"Worksheet!AB515","v":0},0,{"$f":"IF(Worksheet!AJ515=0,0,Worksheet!AJ515*10/I496)","v":0},0,null,null,null,{"$f":"IFERROR(Worksheet!V515/(Worksheet!S515+Worksheet!#REF!),0)","v":0},{"$f":"IF(Worksheet!E515=\"\",\"\",Worksheet!E515)","v":""},{"$f":"IF(Worksheet!B515=\"\",\"\",Worksheet!B515)","v":""},{"$f":"IF(Worksheet!D515=\"\",\"\",Worksheet!D515)","v":""}]
[{"$f":"IF(ISBLANK(Worksheet!F516)=FALSE,VLOOKUP(Worksheet!A516,MeasureCode_Lookup,6,FALSE),\"\")","v":""},{"$f":"Worksheet!H516","v":0},{"$f":"Worksheet!I516","v":0},{"$f":"IFERROR(IF(Worksheet!X516=0,Worksheet!W516/I497,Worksheet!X516/R497),0)","v":0},"W Controlled",null,null,{"$f":"IF(N(Worksheet!S516)=0,N(Worksheet!R516),N(Worksheet!S516))","v":0},{"$f":"IFERROR(Worksheet!U516/(Worksheet!R516+Worksheet!#REF!),0)","v":0},{"$f":"Worksheet!AC516","v":0},{"$f":"Worksheet!AB516","v":0},0,{"$f":"IF(Worksheet!AJ516=0,0,Worksheet!AJ516*10/I497)","v":0},0,null,null,null,{"$f":"IFERROR(Worksheet!V516/(Worksheet!S516+Worksheet!#REF!),0)","v":0},{"$f":"IF(Worksheet!E516=\"\",\"\",Worksheet!E516)","v":""},{"$f":"IF(Worksheet!B516=\"\",\"\",Worksheet!B516)","v":""},{"$f":"IF(Worksheet!D516=\"\",\"\",Worksheet!D516)","v":""}]
[{"$f":"IF(ISBLANK(Worksheet!F517)=FALSE,VLOOKUP(Worksheet!A517,MeasureCode_Lookup,6,FALSE),\"\")","v":""},{"$f":"Worksheet!H517","v":0},{"$f":"Worksheet!I517","v":0},{"$f":"IFERROR(IF(Worksheet!X517=0,Worksheet!W517/I498,Worksheet!X517/R498),0)","v":0},"W Controlled",null,null,{"$f":"IF(N(Worksheet!S517)=0,N(Worksheet!R517),N(Worksheet!S517))","v":0},{"$f":"IFERROR(Worksheet!U517/(Worksheet!R517+Worksheet!#REF!),0)","v":0},{"$f":"Worksheet!AC517","v":0},{"$f":"Worksheet!AB517","v":0},0,{"$f":"IF(Worksheet!AJ517=0,0,Worksheet!AJ517*10/I498)","v":0},0,null,null,null,{"$f":"IFERROR(Worksheet!V517/(Worksheet!S517+Worksheet!#REF!),0)","v":0},{"$f":"IF(Worksheet!E517=\"\",\"\",Worksheet!E517)","v":""},{"$f":"IF(Worksheet!B517=\"\",\"\",Worksheet!B517)","v":""},{"$f":"IF(Worksheet!D517=\"\",\"\",Worksheet!D517)","v":""}]
[{"$f":"IF(ISBLANK(Worksheet!F518)=FALSE,VLOOKUP(Worksheet!A518,MeasureCode_Lookup,6,FALSE),\"\")","v":""},{"$f":"Worksheet!H518","v":0},{"$f":"Worksheet!I518","v":0},{"$f":"IFERROR(IF(Worksheet!X518=0,Worksheet!W518/I499,Worksheet!X518/R499),0)","v":0},"W Controlled",null,null,{"$f":"IF(N(Worksheet!S518)=0,N(Worksheet!R518),N(Worksheet!S518))","v":0},{"$f":"IFERROR(Worksheet!U518/(Worksheet!R518+Worksheet!#REF!),0)","v":0},{"$f":"Worksheet!AC518","v":0},{"$f":"Worksheet!AB518","v":0},0,{"$f":"IF(Worksheet!AJ518=0,0,Worksheet!AJ518*10/I499)","v":0},0,null,null,null,{"$f":"IFERROR(Worksheet!V518/(Worksheet!S518+Worksheet!#REF!),0)","v":0},{"$f":"IF(Worksheet!E518=\"\",\"\",Worksheet!E518)","v":""},{"$f":"IF(Worksheet!B518=\"\",\"\",Worksheet!B518)","v":""},{"$f":"IF(Worksheet!D518=\"\",\"\",Worksheet!D518)","v":""}]
[{"$f":"IF(ISBLANK(Worksheet!F519)=FALSE,VLOOKUP(Worksheet!A519,MeasureCode_Lookup,6,FALSE),\"\")","v":""},{"$f":"Worksheet!H519","v":0},{"$f":"Worksheet!I519","v":0},{"$f":"IFERROR(IF(Worksheet!X519=0,Worksheet!W519/I500,Worksheet!X519/R500),0)","v":0},"W Controlled",null,null,{"$f":"IF(N(Worksheet!S519)=0,N(Worksheet!R519),N(Worksheet!S519))","v":0},{"$f":"IFERROR(Worksheet!U519/(Worksheet!R519+Worksheet!#REF!),0)","v":0},{"$f":"Worksheet!AC519","v":0},{"$f":"Worksheet!AB519","v":0},0,{"$f":"IF(Worksheet!AJ519=0,0,Worksheet!AJ519*10/I500)","v":0},0,null,null,null,{"$f":"IFERROR(Worksheet!V519/(Worksheet!S519+Worksheet!#REF!),0)","v":0},{"$f":"IF(Worksheet!E519=\"\",\"\",Worksheet!E519)","v":""},{"$f":"IF(Worksheet!B519=\"\",\"\",Worksheet!B519)","v":""},{"$f":"IF(Worksheet!D519=\"\",\"\",Worksheet!D519)","v":""}]
[{"$f":"IF(ISBLANK(Worksheet!F520)=FALSE,VLOOKUP(Worksheet!A520,MeasureCode_Lookup,6,FALSE),\"\")","v":""},{"$f":"Worksheet!H520","v":0},{"$f":"Worksheet!I520","v":0},{"$f":"IFERROR(IF(Worksheet!X520=0,Worksheet!W520/I501,Worksheet!X520/R501),0)","v":0},"W Controlled",null,null,{"$f":"IF(N(Worksheet!S520)=0,N(Worksheet!R520),N(Worksheet!S520))","v":0},{"$f":"IFERROR(Worksheet!U520/(Worksheet!R520+Worksheet!#REF!),0)","v":0},{"$f":"Worksheet!AC520","v":0},{"$f":"Worksheet!AB520","v":0},0,{"$f":"IF(Worksheet!AJ520=0,0,Worksheet!AJ520*10/I501)","v":0},0,null,null,null,{"$f":"IFERROR(Worksheet!V520/(Worksheet!S520+Worksheet!#REF!),0)","v":0},{"$f":"IF(Worksheet!E520=\"\",\"\",Worksheet!E520)","v":""},{"$f":"IF(Worksheet!B520=\"\",\"\",Worksheet!B520)","v":""},{"$f":"IF(Worksheet!D520=\"\",\"\",Worksheet!D520)","v":""}]

{"sheet":"Version Log","index":4,"n_rows":5,"n_cols":2,"rows_kept":5,"cut":false,"hidden":true,"merged":[]}
["Version #","Notes"]
["V11.1","First combined customer/internal workbook."]
["V12","Updated to align with FY19 Protocols"]
["V13","Added Enhanced Incentive Eligibility Section and Updated for FY20 Program"]
["V14","Updated for FY21 Program"]