{"text_format":"1","workbook":"xlsx","n_sheets":5,"sheets":["Worksheet","Measure Code","Other Support","Export","Version Log"],"not_rendered":{"charts":0,"images":2,"macros":1,"external_links":11,"defined_names":657,"comments":0,"pivot_tables":0},"unopened":[],"bounds":{"document_bytes":16777216,"sheet_cells":100000,"rows_first":2000,"rows_last":500,"rows_between":2000,"halvings":0,"cell_chars":16384,"cell_head_chars":4096},"cells_cut":0,"cells_raw":0,"read":"whole","date_system":"1900"}

{"sheet":"Worksheet","index":0,"n_rows":520,"n_cols":41,"rows_kept":520,"cut":false,"hidden":false,"merged":[[0,0,0,4],[5,7,5,8],[17,17,18,19],[17,25,19,25],[17,4,19,4],[4,7,4,10],[17,20,19,20],[17,9,18,10],[17,11,17,14],[17,5,18,6],[18,14,19,14],[18,12,19,12],[18,11,19,11],[17,15,18,16],[17,7,19,7],[17,8,19,8],[18,13,19,13],[17,26,19,26],[17,27,19,27],[17,21,19,21],[17,22,19,22],[17,23,19,23],[17,24,19,24],[3,7,3,10],[17,0,19,0],[17,1,19,1],[17,2,19,2],[17,3,19,3],[4,29,4,32],[17,28,19,28],[17,29,19,29],[17,30,19,30],[17,31,19,31],[17,32,19,32],[5,29,10,32],[2,16,2,17],[3,1,3,5],[4,1,4,5],[5,1,5,2],[8,1,8,5],[17,39,18,40],[17,33,19,33],[17,34,19,34],[4,33,4,36],[5,33,10,36],[17,35,19,35],[17,36,19,36],[17,37,19,37],[17,38,19,38]]}
["FY22 SmartStart Existing Buildings - Lighting Controls v1.0",null,null,null,null,"Incentive amounts are estimates until verified by the Program Manager."]
[]
["Facility Information - Fields marked with * are required for incentive calculation",null,null,null,null,null,null,"Select from dropdowns:"]
["Company Name*",null,null,null,null,null,"Building Type* "]
["Facility Address*",null,null,null,null,null,"HVAC Type*",null,null,null,null,null,null,null,null,null,null,null,null,null,null,null,null,null,null,null,null,null,null,"Pre-Inspection Notes",null,null,null,"Post-Inspection Notes"]
["Application #",null,null,"(OFFICE USE ONLY)",null,null,"Building Size*"]
[]
["Contractor/Vendor Information"]
["Company Name"]
[]
[]
[]
[]
[]
[]
[]
["Start Here ↓",null,null,null,null,null,null,null,null,null,null,null,null,null,null,null,null,null,null,"Totals",{"$f":"SUM(U21:U520)","v":0},{"$f":"SUM(V21:V520)","v":0},null,null,null,null,null,{"$f":"SUM(AB21:AB520)","v":0},0,0,0,0,0,0,0,0,0,0,0]
["Measure Code\n\n(From Application)","New\nor\nReplaced","Device","Type of Control\n\n(Wired or Wireless)","Location\n\n(Building or Room Name)","# of Sensors",null,"Sensor Manufacturer","Sensor Model Number","# of Fixtures Controlled Per Sensor",null,"Controlled Fixture Information",null,null,null,"Total Wattage Controlled Per Sensor",null,"Incentive\n\n(DNQ - Does Not Qualify)",null,null,"Total Committed Incentives","Total Installed Incentives","Total Committed Watts Controlled","Total Installed Watts Controlled","Energy Savings Factor","Coincidence Factor","EFLH","kW Savings per Unit","kWh Savings per Unit","Peak kW Savings\nCommitted","Peak kW Savings\nInstalled","Annual Energy Savings\nCommitted\n(kWh)","Annual Energy Savings\nInstalled\n(kWh)","Lifetime Energy Savings\nCommitted\n(kWh)","Lifetime Energy Savings Installed (kWh)","Annual Fuel Savings\nCommitted\n(MMBtu)","Annual Fuel Savings\nInstalled\n(MMBtu)","Lifetime Fuel Savings\nCommitted\n(MMBtu)","Lifetime Fuel Savings Installed\n(MMBtu)","Incentive Eligibility Check"]
[null,null,null,null,null,null,null,null,null,null,null,"Controlled LED Fixture Manufacturer Name","Controlled LED Fixture \nModel Number","Dimming LED?","Controlled Fixture Wattage\n(of an individual fixture)"]
[null,null,null,null,null,"Proposed","Installed",null,null,"Proposed","Installed",null,null,null,null,"Proposed","Installed","Proposed","Installed",null,null,null,null,null,null,null,null,null,null,null,null,null,null,null,null,null,null,null,null,"Proposed","Installed"]
[null,null,{"$f":"IF(A21=\"\",\"\",VLOOKUP(A21,MeasureCode_Lookup,2,FALSE))","v":""},null,null,null,null,null,null,null,null,null,null,null,null,{"$f":"IF(OR(A21=\"\",F21=\"\",J21=\"\",O21=\"\")=TRUE,0,J21*O21)","v":0},{"$f":"IF(OR(A21=\"\",G21=\"\",K21=\"\",O21=\"\")=TRUE,0,K21*O21)","v":0},{"$f":"IF(AN21=\"\",0,IF(AN21=1,VLOOKUP(A21,MeasureCode_Lookup,3,FALSE),\"DNQ\"))","v":0},{"$f":"IF(AO21=\"\",0,IF(AO21=1,VLOOKUP(A21,MeasureCode_Lookup,3,FALSE),\"DNQ\"))","v":0},{"$f":"IF(A21=\"\",\"\",VLOOKUP(A21,MeasureCode_Lookup,4,FALSE))","v":""},{"$f":"IF(N(R21)=0,0,F21*R21*IF(T21=\"per Fixture Controlled\",J21,1))","v":0},{"$f":"IF(N(S21)=0,0,G21*S21*IF(T21=\"per Fixture Controlled\",K21,1))","v":0},{"$f":"IF(N(R21)=0,0,F21*P21)","v":0},{"$f":"IF(N(S21)=0,0,G21*Q21)","v":0},{"$f":"IF(A21=\"\",0,VLOOKUP(A21,MeasureCode_Lookup,5,FALSE))","v":0},{"$f":"IF($H$4=\"\",0,VLOOKUP($H$4,BuildingType_Lookup,3,FALSE))","v":0},{"$f":"IF($H$4=\"\",0,VLOOKUP($H$4,BuildingType_Lookup,2,FALSE))","v":0},{"$f":"IF(AND(OR(AN21=\"\",AN21=0)=TRUE,OR(AO21=\"\",AO21=0))=TRUE,0,IF(AO21=\"\",(IF(OR(C21=\"DDC\",C21=\"OHLC\")=TRUE,O21,P21)/1000)*Y21*Z21*(1+VLOOKUP($H$4,BuildingType_Lookup,4,FALSE)),IF(AO21=0,0,(IF(OR(C21=\"DDC\",C21=\"OHLC\")=TRUE,O21,Q21)/1000)*Y21*Z21*(1+VLOOKUP($H$4,BuildingType_Lookup,4,FALSE)))))","v":0},{"$f":"IF(AND(OR(AN21=\"\",AN21=0)=TRUE,OR(AO21=\"\",AO21=0))=TRUE,0,IF(AO21=\"\",(IF(OR(C21=\"DDC\",C21=\"OHLC\")=TRUE,O21,P21)/1000)*Y21*AA21*(1+VLOOKUP($H$4,BuildingType_Lookup,MATCH($H$5,HVAC,0)+4,FALSE)),IF(AO21=0,0,(IF(OR(C21=\"DDC\",C21=\"OHLC\")=TRUE,O21,Q21)/1000)*Y21*AA21*(1+VLOOKUP($H$4,BuildingType_Lookup,MATCH($H$5,HVAC,0)+4,FALSE)))))","v":0},{"$f":"IFERROR(IF(OR(C21=\"DDC\",C21=\"OHLC\")=TRUE,F21*J21*AB21,F21*AB21),0)","v":0},{"$f":"IFERROR(IF(OR(C21=\"DDC\",C21=\"OHLC\")=TRUE,G21*K21*AB21,G21*AB21),0)","v":0},{"$f":"IFERROR(IF(OR(C21=\"DDC\",C21=\"OHLC\")=TRUE,F21*J21*AC21,F21*AC21),0)","v":0},{"$f":"IFERROR(IF(OR(C21=\"DDC\",C21=\"OHLC\")=TRUE,G21*K21*AC21,G21*AC21),0)","v":0},{"$f":"AF21*8","v":0},{"$f":"AG21*8","v":0},{"$f":"W21/1000*Y21*AA21*IF(IFERROR(SEARCH(\"Gas\",$H$5),0)>0,VLOOKUP(\"Gas\",HVACg_Lookup,MATCH($H$6,BuildingSize,0)+1,FALSE),IF(IFERROR(SEARCH(\"Oil\",$H$5),0)>0,VLOOKUP(\"Oil\",HVACg_Lookup,MATCH($H$6,BuildingSize,0)+1,FALSE),IF(IFERROR(SEARCH(\"Propane\",$H$5),0)>0,VLOOKUP(\"Propane\",HVACg_Lookup,MATCH(Worksheet!$H$6,BuildingSize,0)+1,FALSE),0)))","v":0},{"$f":"X21/1000*Y21*AA21*IF(IFERROR(SEARCH(\"Gas\",$H$5),0)>0,VLOOKUP(\"Gas\",HVACg_Lookup,MATCH($H$6,BuildingSize,0)+1,FALSE),IF(IFERROR(SEARCH(\"Oil\",$H$5),0)>0,VLOOKUP(\"Oil\",HVACg_Lookup,MATCH($H$6,BuildingSize,0)+1,FALSE),IF(IFERROR(SEARCH(\"Propane\",$H$5),0)>0,VLOOKUP(\"Propane\",HVACg_Lookup,MATCH(Worksheet!$H$6,BuildingSize,0)+1,FALSE),0)))","v":0},{"$f":"AJ21*8","v":0},{"$f":"AK21*8","v":0},{"$f":"IF(OR($B$4=\"\",$B$5=\"\",$H$4=\"\",$H$6=\"\",$H$5=\"\",A21=\"\",F21=\"\",J21=\"\",O21=\"\",P21=\"\")=TRUE,\"\",IF(C21=\"OSW\",IF(J21>=2,1,0),IF(C21=\"OSR\",IF(AND(J21>=2,P21>60)=TRUE,1,0),IF(C21=\"OSRH\",IF(AND(J21>=1,P21>90)=TRUE,1,0),IF(C21=\"OHLC\",IF(AND(N21=\"Y\",P21>60)=TRUE,1,0),IF(C21=\"DDC\",IF(AND(J21>=4,N21=\"Y\",P21>120)=TRUE,1,0),0))))))","v":""},{"$f":"IF(OR($B$4=\"\",$B$5=\"\",$H$4=\"\",$H$6=\"\",$H$5=\"\",A21=\"\",F21=\"\",K21=\"\",O21=\"\",P21=\"\")=TRUE,\"\",IF(C21=\"OSW\",IF(K21>=2,1,0),IF(C21=\"OSR\",IF(AND(K21>=2,Q21>60)=TRUE,1,0),IF(C21=\"OSRH\",IF(AND(K21>=1,Q21>90)=TRUE,1,0),IF(C21=\"OHLC\",IF(AND(N21=\"Y\",Q21>60)=TRUE,1,0),IF(C21=\"DDC\",IF(AND(K21>=4,N21=\"Y\",Q21>120)=TRUE,1,0),0))))))","v":""}]
[null,null,{"$f":"IF(A22=\"\",\"\",VLOOKUP(A22,MeasureCode_Lookup,2,FALSE))","v":""},null,null,null,null,null,null,null,null,null,null,null,null,{"$f":"IF(OR(A22=\"\",F22=\"\",J22=\"\",O22=\"\")=TRUE,0,J22*O22)","v":0},{"$f":"IF(OR(A22=\"\",G22=\"\",K22=\"\",O22=\"\")=TRUE,0,K22*O22)","v":0},0,0,"",{"$f":"IF(N(R22)=0,0,F22*R22*IF(T22=\"per Fixture Controlled\",J22,1))","v":0},{"$f":"IF(N(S22)=0,0,G22*S22*IF(T22=\"per Fixture Controlled\",K22,1))","v":0},0,0,0,{"$f":"IF($H$4=\"\",0,VLOOKUP($H$4,BuildingType_Lookup,3,FALSE))","v":0},{"$f":"IF($H$4=\"\",0,VLOOKUP($H$4,BuildingType_Lookup,2,FALSE))","v":0},{"$f":"IF(AND(OR(AN22=\"\",AN22=0)=TRUE,OR(AO22=\"\",AO22=0))=TRUE,0,IF(AO22=\"\",(IF(OR(C22=\"DDC\",C22=\"OHLC\")=TRUE,O22,P22)/1000)*Y22*Z22*(1+VLOOKUP($H$4,BuildingType_Lookup,4,FALSE)),IF(AO22=0,0,(IF(OR(C22=\"DDC\",C22=\"OHLC\")=TRUE,O22,Q22)/1000)*Y22*Z22*(1+VLOOKUP($H$4,BuildingType_Lookup,4,FALSE)))))","v":0},{"$f":"IF(AND(OR(AN22=\"\",AN22=0)=TRUE,OR(AO22=\"\",AO22=0))=TRUE,0,IF(AO22=\"\",(IF(OR(C22=\"DDC\",C22=\"OHLC\")=TRUE,O22,P22)/1000)*Y22*AA22*(1+VLOOKUP($H$4,BuildingType_Lookup,MATCH($H$5,HVAC,0)+4,FALSE)),IF(AO22=0,0,(IF(OR(C22=\"DDC\",C22=\"OHLC\")=TRUE,O22,Q22)/1000)*Y22*AA22*(1+VLOOKUP($H$4,BuildingType_Lookup,MATCH($H$5,HVAC,0)+4,FALSE)))))","v":0},0,0,0,0,{"$f":"AF22*8","v":0},{"$f":"AG22*8","v":0},{"$f":"W22/1000*Y22*AA22*IF(IFERROR(SEARCH(\"Gas\",$H$5),0)>0,VLOOKUP(\"Gas\",HVACg_Lookup,MATCH($H$6,BuildingSize,0)+1,FALSE),IF(IFERROR(SEARCH(\"Oil\",$H$5),0)>0,VLOOKUP(\"Oil\",HVACg_Lookup,MATCH($H$6,BuildingSize,0)+1,FALSE),IF(IFERROR(SEARCH(\"Propane\",$H$5),0)>0,VLOOKUP(\"Propane\",HVACg_Lookup,MATCH(Worksheet!$H$6,BuildingSize,0)+1,FALSE),0)))","v":0},{"$f":"X22/1000*Y22*AA22*IF(IFERROR(SEARCH(\"Gas\",$H$5),0)>0,VLOOKUP(\"Gas\",HVACg_Lookup,MATCH($H$6,BuildingSize,0)+1,FALSE),IF(IFERROR(SEARCH(\"Oil\",$H$5),0)>0,VLOOKUP(\"Oil\",HVACg_Lookup,MATCH($H$6,BuildingSize,0)+1,FALSE),IF(IFERROR(SEARCH(\"Propane\",$H$5),0)>0,VLOOKUP(\"Propane\",HVACg_Lookup,MATCH(Worksheet!$H$6,BuildingSize,0)+1,FALSE),0)))","v":0},{"$f":"AJ22*8","v":0},{"$f":"AK22*8","v":0},{"$f":"IF(OR($B$4=\"\",$B$5=\"\",$H$4=\"\",$H$6=\"\",$H$5=\"\",A22=\"\",F22=\"\",J22=\"\",O22=\"\",P22=\"\")=TRUE,\"\",IF(C22=\"OSW\",IF(J22>=2,1,0),IF(C22=\"OSR\",IF(AND(J22>=2,P22>60)=TRUE,1,0),IF(C22=\"OSRH\",IF(AND(J22>=1,P22>90)=TRUE,1,0),IF(C22=\"OHLC\",IF(AND(N22=\"Y\",P22>60)=TRUE,1,0),IF(C22=\"DDC\",IF(AND(J22>=4,N22=\"Y\",P22>120)=TRUE,1,0),0))))))","v":""},{"$f":"IF(OR($B$4=\"\",$B$5=\"\",$H$4=\"\",$H$6=\"\",$H$5=\"\",A22=\"\",F22=\"\",K22=\"\",O22=\"\",P22=\"\")=TRUE,\"\",IF(C22=\"OSW\",IF(K22>=2,1,0),IF(C22=\"OSR\",IF(AND(K22>=2,Q22>60)=TRUE,1,0),IF(C22=\"OSRH\",IF(AND(K22>=1,Q22>90)=TRUE,1,0),IF(C22=\"OHLC\",IF(AND(N22=\"Y\",Q22>60)=TRUE,1,0),IF(C22=\"DDC\",IF(AND(K22>=4,N22=\"Y\",Q22>120)=TRUE,1,0),0))))))","v":""}]
[null,null,"",null,null,null,null,null,null,null,null,null,null,null,null,0,0,0,0,"",0,0,0,0,0,{"$f":"IF($H$4=\"\",0,VLOOKUP($H$4,BuildingType_Lookup,3,FALSE))","v":0},{"$f":"IF($H$4=\"\",0,VLOOKUP($H$4,BuildingType_Lookup,2,FALSE))","v":0},{"$f":"IF(AND(OR(AN23=\"\",AN23=0)=TRUE,OR(AO23=\"\",AO23=0))=TRUE,0,IF(AO23=\"\",(IF(OR(C23=\"DDC\",C23=\"OHLC\")=TRUE,O23,P23)/1000)*Y23*Z23*(1+VLOOKUP($H$4,BuildingType_Lookup,4,FALSE)),IF(AO23=0,0,(IF(OR(C23=\"DDC\",C23=\"OHLC\")=TRUE,O23,Q23)/1000)*Y23*Z23*(1+VLOOKUP($H$4,BuildingType_Lookup,4,FALSE)))))","v":0},{"$f":"IF(AND(OR(AN23=\"\",AN23=0)=TRUE,OR(AO23=\"\",AO23=0))=TRUE,0,IF(AO23=\"\",(IF(OR(C23=\"DDC\",C23=\"OHLC\")=TRUE,O23,P23)/1000)*Y23*AA23*(1+VLOOKUP($H$4,BuildingType_Lookup,MATCH($H$5,HVAC,0)+4,FALSE)),IF(AO23=0,0,(IF(OR(C23=\"DDC\",C23=\"OHLC\")=TRUE,O23,Q23)/1000)*Y23*AA23*(1+VLOOKUP($H$4,BuildingType_Lookup,MATCH($H$5,HVAC,0)+4,FALSE)))))","v":0},0,0,0,0,0,0,{"$f":"W23/1000*Y23*AA23*IF(IFERROR(SEARCH(\"Gas\",$H$5),0)>0,VLOOKUP(\"Gas\",HVACg_Lookup,MATCH($H$6,BuildingSize,0)+1,FALSE),IF(IFERROR(SEARCH(\"Oil\",$H$5),0)>0,VLOOKUP(\"Oil\",HVACg_Lookup,MATCH($H$6,BuildingSize,0)+1,FALSE),IF(IFERROR(SEARCH(\"Propane\",$H$5),0)>0,VLOOKUP(\"Propane\",HVACg_Lookup,MATCH(Worksheet!$H$6,BuildingSize,0)+1,FALSE),0)))","v":0},{"$f":"X23/1000*Y23*AA23*IF(IFERROR(SEARCH(\"Gas\",$H$5),0)>0,VLOOKUP(\"Gas\",HVACg_Lookup,MATCH($H$6,BuildingSize,0)+1,FALSE),IF(IFERROR(SEARCH(\"Oil\",$H$5),0)>0,VLOOKUP(\"Oil\",HVACg_Lookup,MATCH($H$6,BuildingSize,0)+1,FALSE),IF(IFERROR(SEARCH(\"Propane\",$H$5),0)>0,VLOOKUP(\"Propane\",HVACg_Lookup,MATCH(Worksheet!$H$6,BuildingSize,0)+1,FALSE),0)))","v":0},0,0,{"$f":"IF(OR($B$4=\"\",$B$5=\"\",$H$4=\"\",$H$6=\"\",$H$5=\"\",A23=\"\",F23=\"\",J23=\"\",O23=\"\",P23=\"\")=TRUE,\"\",IF(C23=\"OSW\",IF(J23>=2,1,0),IF(C23=\"OSR\",IF(AND(J23>=2,P23>60)=TRUE,1,0),IF(C23=\"OSRH\",IF(AND(J23>=1,P23>90)=TRUE,1,0),IF(C23=\"OHLC\",IF(AND(N23=\"Y\",P23>60)=TRUE,1,0),IF(C23=\"DDC\",IF(AND(J23>=4,N23=\"Y\",P23>120)=TRUE,1,0),0))))))","v":""},{"$f":"IF(OR($B$4=\"\",$B$5=\"\",$H$4=\"\",$H$6=\"\",$H$5=\"\",A23=\"\",F23=\"\",K23=\"\",O23=\"\",P23=\"\")=TRUE,\"\",IF(C23=\"OSW\",IF(K23>=2,1,0),IF(C23=\"OSR\",IF(AND(K23>=2,Q23>60)=TRUE,1,0),IF(C23=\"OSRH\",IF(AND(K23>=1,Q23>90)=TRUE,1,0),IF(C23=\"OHLC\",IF(AND(N23=\"Y\",Q23>60)=TRUE,1,0),IF(C23=\"DDC\",IF(AND(K23>=4,N23=\"Y\",Q23>120)=TRUE,1,0),0))))))","v":""}]
[null,null,"",null,null,null,null,null,null,null,null,null,null,null,null,0,0,0,0,"",0,0,0,0,0,{"$f":"IF($H$4=\"\",0,VLOOKUP($H$4,BuildingType_Lookup,3,FALSE))","v":0},{"$f":"IF($H$4=\"\",0,VLOOKUP($H$4,BuildingType_Lookup,2,FALSE))","v":0},{"$f":"IF(AND(OR(AN24=\"\",AN24=0)=TRUE,OR(AO24=\"\",AO24=0))=TRUE,0,IF(AO24=\"\",(IF(OR(C24=\"DDC\",C24=\"OHLC\")=TRUE,O24,P24)/1000)*Y24*Z24*(1+VLOOKUP($H$4,BuildingType_Lookup,4,FALSE)),IF(AO24=0,0,(IF(OR(C24=\"DDC\",C24=\"OHLC\")=TRUE,O24,Q24)/1000)*Y24*Z24*(1+VLOOKUP($H$4,BuildingType_Lookup,4,FALSE)))))","v":0},{"$f":"IF(AND(OR(AN24=\"\",AN24=0)=TRUE,OR(AO24=\"\",AO24=0))=TRUE,0,IF(AO24=\"\",(IF(OR(C24=\"DDC\",C24=\"OHLC\")=TRUE,O24,P24)/1000)*Y24*AA24*(1+VLOOKUP($H$4,BuildingType_Lookup,MATCH($H$5,HVAC,0)+4,FALSE)),IF(AO24=0,0,(IF(OR(C24=\"DDC\",C24=\"OHLC\")=TRUE,O24,Q24)/1000)*Y24*AA24*(1+VLOOKUP($H$4,BuildingType_Lookup,MATCH($H$5,HVAC,0)+4,FALSE)))))","v":0},0,0,0,0,0,0,{"$f":"W24/1000*Y24*AA24*IF(IFERROR(SEARCH(\"Gas\",$H$5),0)>0,VLOOKUP(\"Gas\",HVACg_Lookup,MATCH($H$6,BuildingSize,0)+1,FALSE),IF(IFERROR(SEARCH(\"Oil\",$H$5),0)>0,VLOOKUP(\"Oil\",HVACg_Lookup,MATCH($H$6,BuildingSize,0)+1,FALSE),IF(IFERROR(SEARCH(\"Propane\",$H$5),0)>0,VLOOKUP(\"Propane\",HVACg_Lookup,MATCH(Worksheet!$H$6,BuildingSize,0)+1,FALSE),0)))","v":0},{"$f":"X24/1000*Y24*AA24*IF(IFERROR(SEARCH(\"Gas\",$H$5),0)>0,VLOOKUP(\"Gas\",HVACg_Lookup,MATCH($H$6,BuildingSize,0)+1,FALSE),IF(IFERROR(SEARCH(\"Oil\",$H$5),0)>0,VLOOKUP(\"Oil\",HVACg_Lookup,MATCH($H$6,BuildingSize,0)+1,FALSE),IF(IFERROR(SEARCH(\"Propane\",$H$5),0)>0,VLOOKUP(\"Propane\",HVACg_Lookup,MATCH(Worksheet!$H$6,BuildingSize,0)+1,FALSE),0)))","v":0},0,0,{"$f":"IF(OR($B$4=\"\",$B$5=\"\",$H$4=\"\",$H$6=\"\",$H$5=\"\",A24=\"\",F24=\"\",J24=\"\",O24=\"\",P24=\"\")=TRUE,\"\",IF(C24=\"OSW\",IF(J24>=2,1,0),IF(C24=\"OSR\",IF(AND(J24>=2,P24>60)=TRUE,1,0),IF(C24=\"OSRH\",IF(AND(J24>=1,P24>90)=TRUE,1,0),IF(C24=\"OHLC\",IF(AND(N24=\"Y\",P24>60)=TRUE,1,0),IF(C24=\"DDC\",IF(AND(J24>=4,N24=\"Y\",P24>120)=TRUE,1,0),0))))))","v":""},{"$f":"IF(OR($B$4=\"\",$B$5=\"\",$H$4=\"\",$H$6=\"\",$H$5=\"\",A24=\"\",F24=\"\",K24=\"\",O24=\"\",P24=\"\")=TRUE,\"\",IF(C24=\"OSW\",IF(K24>=2,1,0),IF(C24=\"OSR\",IF(AND(K24>=2,Q24>60)=TRUE,1,0),IF(C24=\"OSRH\",IF(AND(K24>=1,Q24>90)=TRUE,1,0),IF(C24=\"OHLC\",IF(AND(N24=\"Y\",Q24>60)=TRUE,1,0),IF(C24=\"DDC\",IF(AND(K24>=4,N24=\"Y\",Q24>120)=TRUE,1,0),0))))))","v":""}]
[null,null,"",null,null,null,null,null,null,null,null,null,null,null,null,0,0,0,0,"",0,0,0,0,0,{"$f":"IF($H$4=\"\",0,VLOOKUP($H$4,BuildingType_Lookup,3,FALSE))","v":0},{"$f":"IF($H$4=\"\",0,VLOOKUP($H$4,BuildingType_Lookup,2,FALSE))","v":0},{"$f":"IF(AND(OR(AN25=\"\",AN25=0)=TRUE,OR(AO25=\"\",AO25=0))=TRUE,0,IF(AO25=\"\",(IF(OR(C25=\"DDC\",C25=\"OHLC\")=TRUE,O25,P25)/1000)*Y25*Z25*(1+VLOOKUP($H$4,BuildingType_Lookup,4,FALSE)),IF(AO25=0,0,(IF(OR(C25=\"DDC\",C25=\"OHLC\")=TRUE,O25,Q25)/1000)*Y25*Z25*(1+VLOOKUP($H$4,BuildingType_Lookup,4,FALSE)))))","v":0},{"$f":"IF(AND(OR(AN25=\"\",AN25=0)=TRUE,OR(AO25=\"\",AO25=0))=TRUE,0,IF(AO25=\"\",(IF(OR(C25=\"DDC\",C25=\"OHLC\")=TRUE,O25,P25)/1000)*Y25*AA25*(1+VLOOKUP($H$4,BuildingType_Lookup,MATCH($H$5,HVAC,0)+4,FALSE)),IF(AO25=0,0,(IF(OR(C25=\"DDC\",C25=\"OHLC\")=TRUE,O25,Q25)/1000)*Y25*AA25*(1+VLOOKUP($H$4,BuildingType_Lookup,MATCH($H$5,HVAC,0)+4,FALSE)))))","v":0},0,0,0,0,0,0,{"$f":"W25/1000*Y25*AA25*IF(IFERROR(SEARCH(\"Gas\",$H$5),0)>0,VLOOKUP(\"Gas\",HVACg_Lookup,MATCH($H$6,BuildingSize,0)+1,FALSE),IF(IFERROR(SEARCH(\"Oil\",$H$5),0)>0,VLOOKUP(\"Oil\",HVACg_Lookup,MATCH($H$6,BuildingSize,0)+1,FALSE),IF(IFERROR(SEARCH(\"Propane\",$H$5),0)>0,VLOOKUP(\"Propane\",HVACg_Lookup,MATCH(Worksheet!$H$6,BuildingSize,0)+1,FALSE),0)))","v":0},{"$f":"X25/1000*Y25*AA25*IF(IFERROR(SEARCH(\"Gas\",$H$5),0)>0,VLOOKUP(\"Gas\",HVACg_Lookup,MATCH($H$6,BuildingSize,0)+1,FALSE),IF(IFERROR(SEARCH(\"Oil\",$H$5),0)>0,VLOOKUP(\"Oil\",HVACg_Lookup,MATCH($H$6,BuildingSize,0)+1,FALSE),IF(IFERROR(SEARCH(\"Propane\",$H$5),0)>0,VLOOKUP(\"Propane\",HVACg_Lookup,MATCH(Worksheet!$H$6,BuildingSize,0)+1,FALSE),0)))","v":0},0,0,{"$f":"IF(OR($B$4=\"\",$B$5=\"\",$H$4=\"\",$H$6=\"\",$H$5=\"\",A25=\"\",F25=\"\",J25=\"\",O25=\"\",P25=\"\")=TRUE,\"\",IF(C25=\"OSW\",IF(J25>=2,1,0),IF(C25=\"OSR\",IF(AND(J25>=2,P25>60)=TRUE,1,0),IF(C25=\"OSRH\",IF(AND(J25>=1,P25>90)=TRUE,1,0),IF(C25=\"OHLC\",IF(AND(N25=\"Y\",P25>60)=TRUE,1,0),IF(C25=\"DDC\",IF(AND(J25>=4,N25=\"Y\",P25>120)=TRUE,1,0),0))))))","v":""},{"$f":"IF(OR($B$4=\"\",$B$5=\"\",$H$4=\"\",$H$6=\"\",$H$5=\"\",A25=\"\",F25=\"\",K25=\"\",O25=\"\",P25=\"\")=TRUE,\"\",IF(C25=\"OSW\",IF(K25>=2,1,0),IF(C25=\"OSR\",IF(AND(K25>=2,Q25>60)=TRUE,1,0),IF(C25=\"OSRH\",IF(AND(K25>=1,Q25>90)=TRUE,1,0),IF(C25=\"OHLC\",IF(AND(N25=\"Y\",Q25>60)=TRUE,1,0),IF(C25=\"DDC\",IF(AND(K25>=4,N25=\"Y\",Q25>120)=TRUE,1,0),0))))))","v":""}]
[null,null,"",null,null,null,null,null,null,null,null,null,null,null,null,0,0,0,0,"",0,0,0,0,0,{"$f":"IF($H$4=\"\",0,VLOOKUP($H$4,BuildingType_Lookup,3,FALSE))","v":0},{"$f":"IF($H$4=\"\",0,VLOOKUP($H$4,BuildingType_Lookup,2,FALSE))","v":0},{"$f":"IF(AND(OR(AN26=\"\",AN26=0)=TRUE,OR(AO26=\"\",AO26=0))=TRUE,0,IF(AO26=\"\",(IF(OR(C26=\"DDC\",C26=\"OHLC\")=TRUE,O26,P26)/1000)*Y26*Z26*(1+VLOOKUP($H$4,BuildingType_Lookup,4,FALSE)),IF(AO26=0,0,(IF(OR(C26=\"DDC\",C26=\"OHLC\")=TRUE,O26,Q26)/1000)*Y26*Z26*(1+VLOOKUP($H$4,BuildingType_Lookup,4,FALSE)))))","v":0},{"$f":"IF(AND(OR(AN26=\"\",AN26=0)=TRUE,OR(AO26=\"\",AO26=0))=TRUE,0,IF(AO26=\"\",(IF(OR(C26=\"DDC\",C26=\"OHLC\")=TRUE,O26,P26)/1000)*Y26*AA26*(1+VLOOKUP($H$4,BuildingType_Lookup,MATCH($H$5,HVAC,0)+4,FALSE)),IF(AO26=0,0,(IF(OR(C26=\"DDC\",C26=\"OHLC\")=TRUE,O26,Q26)/1000)*Y26*AA26*(1+VLOOKUP($H$4,BuildingType_Lookup,MATCH($H$5,HVAC,0)+4,FALSE)))))","v":0},0,0,0,0,0,0,{"$f":"W26/1000*Y26*AA26*IF(IFERROR(SEARCH(\"Gas\",$H$5),0)>0,VLOOKUP(\"Gas\",HVACg_Lookup,MATCH($H$6,BuildingSize,0)+1,FALSE),IF(IFERROR(SEARCH(\"Oil\",$H$5),0)>0,VLOOKUP(\"Oil\",HVACg_Lookup,MATCH($H$6,BuildingSize,0)+1,FALSE),IF(IFERROR(SEARCH(\"Propane\",$H$5),0)>0,VLOOKUP(\"Propane\",HVACg_Lookup,MATCH(Worksheet!$H$6,BuildingSize,0)+1,FALSE),0)))","v":0},{"$f":"X26/1000*Y26*AA26*IF(IFERROR(SEARCH(\"Gas\",$H$5),0)>0,VLOOKUP(\"Gas\",HVACg_Lookup,MATCH($H$6,BuildingSize,0)+1,FALSE),IF(IFERROR(SEARCH(\"Oil\",$H$5),0)>0,VLOOKUP(\"Oil\",HVACg_Lookup,MATCH($H$6,BuildingSize,0)+1,FALSE),IF(IFERROR(SEARCH(\"Propane\",$H$5),0)>0,VLOOKUP(\"Propane\",HVACg_Lookup,MATCH(Worksheet!$H$6,BuildingSize,0)+1,FALSE),0)))","v":0},0,0,{"$f":"IF(OR($B$4=\"\",$B$5=\"\",$H$4=\"\",$H$6=\"\",$H$5=\"\",A26=\"\",F26=\"\",J26=\"\",O26=\"\",P26=\"\")=TRUE,\"\",IF(C26=\"OSW\",IF(J26>=2,1,0),IF(C26=\"OSR\",IF(AND(J26>=2,P26>60)=TRUE,1,0),IF(C26=\"OSRH\",IF(AND(J26>=1,P26>90)=TRUE,1,0),IF(C26=\"OHLC\",IF(AND(N26=\"Y\",P26>60)=TRUE,1,0),IF(C26=\"DDC\",IF(AND(J26>=4,N26=\"Y\",P26>120)=TRUE,1,0),0))))))","v":""},{"$f":"IF(OR($B$4=\"\",$B$5=\"\",$H$4=\"\",$H$6=\"\",$H$5=\"\",A26=\"\",F26=\"\",K26=\"\",O26=\"\",P26=\"\")=TRUE,\"\",IF(C26=\"OSW\",IF(K26>=2,1,0),IF(C26=\"OSR\",IF(AND(K26>=2,Q26>60)=TRUE,1,0),IF(C26=\"OSRH\",IF(AND(K26>=1,Q26>90)=TRUE,1,0),IF(C26=\"OHLC\",IF(AND(N26=\"Y\",Q26>60)=TRUE,1,0),IF(C26=\"DDC\",IF(AND(K26>=4,N26=\"Y\",Q26>120)=TRUE,1,0),0))))))","v":""}]
[null,null,"",null,null,null,null,null,null,null,null,null,null,null,null,0,0,0,0,"",0,0,0,0,0,{"$f":"IF($H$4=\"\",0,VLOOKUP($H$4,BuildingType_Lookup,3,FALSE))","v":0},{"$f":"IF($H$4=\"\",0,VLOOKUP($H$4,BuildingType_Lookup,2,FALSE))","v":0},{"$f":"IF(AND(OR(AN27=\"\",AN27=0)=TRUE,OR(AO27=\"\",AO27=0))=TRUE,0,IF(AO27=\"\",(IF(OR(C27=\"DDC\",C27=\"OHLC\")=TRUE,O27,P27)/1000)*Y27*Z27*(1+VLOOKUP($H$4,BuildingType_Lookup,4,FALSE)),IF(AO27=0,0,(IF(OR(C27=\"DDC\",C27=\"OHLC\")=TRUE,O27,Q27)/1000)*Y27*Z27*(1+VLOOKUP($H$4,BuildingType_Lookup,4,FALSE)))))","v":0},{"$f":"IF(AND(OR(AN27=\"\",AN27=0)=TRUE,OR(AO27=\"\",AO27=0))=TRUE,0,IF(AO27=\"\",(IF(OR(C27=\"DDC\",C27=\"OHLC\")=TRUE,O27,P27)/1000)*Y27*AA27*(1+VLOOKUP($H$4,BuildingType_Lookup,MATCH($H$5,HVAC,0)+4,FALSE)),IF(AO27=0,0,(IF(OR(C27=\"DDC\",C27=\"OHLC\")=TRUE,O27,Q27)/1000)*Y27*AA27*(1+VLOOKUP($H$4,BuildingType_Lookup,MATCH($H$5,HVAC,0)+4,FALSE)))))","v":0},0,0,0,0,0,0,{"$f":"W27/1000*Y27*AA27*IF(IFERROR(SEARCH(\"Gas\",$H$5),0)>0,VLOOKUP(\"Gas\",HVACg_Lookup,MATCH($H$6,BuildingSize,0)+1,FALSE),IF(IFERROR(SEARCH(\"Oil\",$H$5),0)>0,VLOOKUP(\"Oil\",HVACg_Lookup,MATCH($H$6,BuildingSize,0)+1,FALSE),IF(IFERROR(SEARCH(\"Propane\",$H$5),0)>0,VLOOKUP(\"Propane\",HVACg_Lookup,MATCH(Worksheet!$H$6,BuildingSize,0)+1,FALSE),0)))","v":0},{"$f":"X27/1000*Y27*AA27*IF(IFERROR(SEARCH(\"Gas\",$H$5),0)>0,VLOOKUP(\"Gas\",HVACg_Lookup,MATCH($H$6,BuildingSize,0)+1,FALSE),IF(IFERROR(SEARCH(\"Oil\",$H$5),0)>0,VLOOKUP(\"Oil\",HVACg_Lookup,MATCH($H$6,BuildingSize,0)+1,FALSE),IF(IFERROR(SEARCH(\"Propane\",$H$5),0)>0,VLOOKUP(\"Propane\",HVACg_Lookup,MATCH(Worksheet!$H$6,BuildingSize,0)+1,FALSE),0)))","v":0},0,0,{"$f":"IF(OR($B$4=\"\",$B$5=\"\",$H$4=\"\",$H$6=\"\",$H$5=\"\",A27=\"\",F27=\"\",J27=\"\",O27=\"\",P27=\"\")=TRUE,\"\",IF(C27=\"OSW\",IF(J27>=2,1,0),IF(C27=\"OSR\",IF(AND(J27>=2,P27>60)=TRUE,1,0),IF(C27=\"OSRH\",IF(AND(J27>=1,P27>90)=TRUE,1,0),IF(C27=\"OHLC\",IF(AND(N27=\"Y\",P27>60)=TRUE,1,0),IF(C27=\"DDC\",IF(AND(J27>=4,N27=\"Y\",P27>120)=TRUE,1,0),0))))))","v":""},{"$f":"IF(OR($B$4=\"\",$B$5=\"\",$H$4=\"\",$H$6=\"\",$H$5=\"\",A27=\"\",F27=\"\",K27=\"\",O27=\"\",P27=\"\")=TRUE,\"\",IF(C27=\"OSW\",IF(K27>=2,1,0),IF(C27=\"OSR\",IF(AND(K27>=2,Q27>60)=TRUE,1,0),IF(C27=\"OSRH\",IF(AND(K27>=1,Q27>90)=TRUE,1,0),IF(C27=\"OHLC\",IF(AND(N27=\"Y\",Q27>60)=TRUE,1,0),IF(C27=\"DDC\",IF(AND(K27>=4,N27=\"Y\",Q27>120)=TRUE,1,0),0))))))","v":""}]
[null,null,"",null,null,null,null,null,null,null,null,null,null,null,null,0,0,0,0,"",0,0,0,0,0,{"$f":"IF($H$4=\"\",0,VLOOKUP($H$4,BuildingType_Lookup,3,FALSE))","v":0},{"$f":"IF($H$4=\"\",0,VLOOKUP($H$4,BuildingType_Lookup,2,FALSE))","v":0},{"$f":"IF(AND(OR(AN28=\"\",AN28=0)=TRUE,OR(AO28=\"\",AO28=0))=TRUE,0,IF(AO28=\"\",(IF(OR(C28=\"DDC\",C28=\"OHLC\")=TRUE,O28,P28)/1000)*Y28*Z28*(1+VLOOKUP($H$4,BuildingType_Lookup,4,FALSE)),IF(AO28=0,0,(IF(OR(C28=\"DDC\",C28=\"OHLC\")=TRUE,O28,Q28)/1000)*Y28*Z28*(1+VLOOKUP($H$4,BuildingType_Lookup,4,FALSE)))))","v":0},{"$f":"IF(AND(OR(AN28=\"\",AN28=0)=TRUE,OR(AO28=\"\",AO28=0))=TRUE,0,IF(AO28=\"\",(IF(OR(C28=\"DDC\",C28=\"OHLC\")=TRUE,O28,P28)/1000)*Y28*AA28*(1+VLOOKUP($H$4,BuildingType_Lookup,MATCH($H$5,HVAC,0)+4,FALSE)),IF(AO28=0,0,(IF(OR(C28=\"DDC\",C28=\"OHLC\")=TRUE,O28,Q28)/1000)*Y28*AA28*(1+VLOOKUP($H$4,BuildingType_Lookup,MATCH($H$5,HVAC,0)+4,FALSE)))))","v":0},0,0,0,0,0,0,{"$f":"W28/1000*Y28*AA28*IF(IFERROR(SEARCH(\"Gas\",$H$5),0)>0,VLOOKUP(\"Gas\",HVACg_Lookup,MATCH($H$6,BuildingSize,0)+1,FALSE),IF(IFERROR(SEARCH(\"Oil\",$H$5),0)>0,VLOOKUP(\"Oil\",HVACg_Lookup,MATCH($H$6,BuildingSize,0)+1,FALSE),IF(IFERROR(SEARCH(\"Propane\",$H$5),0)>0,VLOOKUP(\"Propane\",HVACg_Lookup,MATCH(Worksheet!$H$6,BuildingSize,0)+1,FALSE),0)))","v":0},{"$f":"X28/1000*Y28*AA28*IF(IFERROR(SEARCH(\"Gas\",$H$5),0)>0,VLOOKUP(\"Gas\",HVACg_Lookup,MATCH($H$6,BuildingSize,0)+1,FALSE),IF(IFERROR(SEARCH(\"Oil\",$H$5),0)>0,VLOOKUP(\"Oil\",HVACg_Lookup,MATCH($H$6,BuildingSize,0)+1,FALSE),IF(IFERROR(SEARCH(\"Propane\",$H$5),0)>0,VLOOKUP(\"Propane\",HVACg_Lookup,MATCH(Worksheet!$H$6,BuildingSize,0)+1,FALSE),0)))","v":0},0,0,{"$f":"IF(OR($B$4=\"\",$B$5=\"\",$H$4=\"\",$H$6=\"\",$H$5=\"\",A28=\"\",F28=\"\",J28=\"\",O28=\"\",P28=\"\")=TRUE,\"\",IF(C28=\"OSW\",IF(J28>=2,1,0),IF(C28=\"OSR\",IF(AND(J28>=2,P28>60)=TRUE,1,0),IF(C28=\"OSRH\",IF(AND(J28>=1,P28>90)=TRUE,1,0),IF(C28=\"OHLC\",IF(AND(N28=\"Y\",P28>60)=TRUE,1,0),IF(C28=\"DDC\",IF(AND(J28>=4,N28=\"Y\",P28>120)=TRUE,1,0),0))))))","v":""},{"$f":"IF(OR($B$4=\"\",$B$5=\"\",$H$4=\"\",$H$6=\"\",$H$5=\"\",A28=\"\",F28=\"\",K28=\"\",O28=\"\",P28=\"\")=TRUE,\"\",IF(C28=\"OSW\",IF(K28>=2,1,0),IF(C28=\"OSR\",IF(AND(K28>=2,Q28>60)=TRUE,1,0),IF(C28=\"OSRH\",IF(AND(K28>=1,Q28>90)=TRUE,1,0),IF(C28=\"OHLC\",IF(AND(N28=\"Y\",Q28>60)=TRUE,1,0),IF(C28=\"DDC\",IF(AND(K28>=4,N28=\"Y\",Q28>120)=TRUE,1,0),0))))))","v":""}]
[null,null,"",null,null,null,null,null,null,null,null,null,null,null,null,0,0,0,0,"",0,0,0,0,0,{"$f":"IF($H$4=\"\",0,VLOOKUP($H$4,BuildingType_Lookup,3,FALSE))","v":0},{"$f":"IF($H$4=\"\",0,VLOOKUP($H$4,BuildingType_Lookup,2,FALSE))","v":0},{"$f":"IF(AND(OR(AN29=\"\",AN29=0)=TRUE,OR(AO29=\"\",AO29=0))=TRUE,0,IF(AO29=\"\",(IF(OR(C29=\"DDC\",C29=\"OHLC\")=TRUE,O29,P29)/1000)*Y29*Z29*(1+VLOOKUP($H$4,BuildingType_Lookup,4,FALSE)),IF(AO29=0,0,(IF(OR(C29=\"DDC\",C29=\"OHLC\")=TRUE,O29,Q29)/1000)*Y29*Z29*(1+VLOOKUP($H$4,BuildingType_Lookup,4,FALSE)))))","v":0},{"$f":"IF(AND(OR(AN29=\"\",AN29=0)=TRUE,OR(AO29=\"\",AO29=0))=TRUE,0,IF(AO29=\"\",(IF(OR(C29=\"DDC\",C29=\"OHLC\")=TRUE,O29,P29)/1000)*Y29*AA29*(1+VLOOKUP($H$4,BuildingType_Lookup,MATCH($H$5,HVAC,0)+4,FALSE)),IF(AO29=0,0,(IF(OR(C29=\"DDC\",C29=\"OHLC\")=TRUE,O29,Q29)/1000)*Y29*AA29*(1+VLOOKUP($H$4,BuildingType_Lookup,MATCH($H$5,HVAC,0)+4,FALSE)))))","v":0},0,0,0,0,0,0,{"$f":"W29/1000*Y29*AA29*IF(IFERROR(SEARCH(\"Gas\",$H$5),0)>0,VLOOKUP(\"Gas\",HVACg_Lookup,MATCH($H$6,BuildingSize,0)+1,FALSE),IF(IFERROR(SEARCH(\"Oil\",$H$5),0)>0,VLOOKUP(\"Oil\",HVACg_Lookup,MATCH($H$6,BuildingSize,0)+1,FALSE),IF(IFERROR(SEARCH(\"Propane\",$H$5),0)>0,VLOOKUP(\"Propane\",HVACg_Lookup,MATCH(Worksheet!$H$6,BuildingSize,0)+1,FALSE),0)))","v":0},{"$f":"X29/1000*Y29*AA29*IF(IFERROR(SEARCH(\"Gas\",$H$5),0)>0,VLOOKUP(\"Gas\",HVACg_Lookup,MATCH($H$6,BuildingSize,0)+1,FALSE),IF(IFERROR(SEARCH(\"Oil\",$H$5),0)>0,VLOOKUP(\"Oil\",HVACg_Lookup,MATCH($H$6,BuildingSize,0)+1,FALSE),IF(IFERROR(SEARCH(\"Propane\",$H$5),0)>0,VLOOKUP(\"Propane\",HVACg_Lookup,MATCH(Worksheet!$H$6,BuildingSize,0)+1,FALSE),0)))","v":0},0,0,{"$f":"IF(OR($B$4=\"\",$B$5=\"\",$H$4=\"\",$H$6=\"\",$H$5=\"\",A29=\"\",F29=\"\",J29=\"\",O29=\"\",P29=\"\")=TRUE,\"\",IF(C29=\"OSW\",IF(J29>=2,1,0),IF(C29=\"OSR\",IF(AND(J29>=2,P29>60)=TRUE,1,0),IF(C29=\"OSRH\",IF(AND(J29>=1,P29>90)=TRUE,1,0),IF(C29=\"OHLC\",IF(AND(N29=\"Y\",P29>60)=TRUE,1,0),IF(C29=\"DDC\",IF(AND(J29>=4,N29=\"Y\",P29>120)=TRUE,1,0),0))))))","v":""},{"$f":"IF(OR($B$4=\"\",$B$5=\"\",$H$4=\"\",$H$6=\"\",$H$5=\"\",A29=\"\",F29=\"\",K29=\"\",O29=\"\",P29=\"\")=TRUE,\"\",IF(C29=\"OSW\",IF(K29>=2,1,0),IF(C29=\"OSR\",IF(AND(K29>=2,Q29>60)=TRUE,1,0),IF(C29=\"OSRH\",IF(AND(K29>=1,Q29>90)=TRUE,1,0),IF(C29=\"OHLC\",IF(AND(N29=\"Y\",Q29>60)=TRUE,1,0),IF(C29=\"DDC\",IF(AND(K29>=4,N29=\"Y\",Q29>120)=TRUE,1,0),0))))))","v":""}]
[null,null,"",null,null,null,null,null,null,null,null,null,null,null,null,0,0,0,0,"",0,0,0,0,0,{"$f":"IF($H$4=\"\",0,VLOOKUP($H$4,BuildingType_Lookup,3,FALSE))","v":0},{"$f":"IF($H$4=\"\",0,VLOOKUP($H$4,BuildingType_Lookup,2,FALSE))","v":0},{"$f":"IF(AND(OR(AN30=\"\",AN30=0)=TRUE,OR(AO30=\"\",AO30=0))=TRUE,0,IF(AO30=\"\",(IF(OR(C30=\"DDC\",C30=\"OHLC\")=TRUE,O30,P30)/1000)*Y30*Z30*(1+VLOOKUP($H$4,BuildingType_Lookup,4,FALSE)),IF(AO30=0,0,(IF(OR(C30=\"DDC\",C30=\"OHLC\")=TRUE,O30,Q30)/1000)*Y30*Z30*(1+VLOOKUP($H$4,BuildingType_Lookup,4,FALSE)))))","v":0},{"$f":"IF(AND(OR(AN30=\"\",AN30=0)=TRUE,OR(AO30=\"\",AO30=0))=TRUE,0,IF(AO30=\"\",(IF(OR(C30=\"DDC\",C30=\"OHLC\")=TRUE,O30,P30)/1000)*Y30*AA30*(1+VLOOKUP($H$4,BuildingType_Lookup,MATCH($H$5,HVAC,0)+4,FALSE)),IF(AO30=0,0,(IF(OR(C30=\"DDC\",C30=\"OHLC\")=TRUE,O30,Q30)/1000)*Y30*AA30*(1+VLOOKUP($H$4,BuildingType_Lookup,MATCH($H$5,HVAC,0)+4,FALSE)))))","v":0},0,0,0,0,0,0,{"$f":"W30/1000*Y30*AA30*IF(IFERROR(SEARCH(\"Gas\",$H$5),0)>0,VLOOKUP(\"Gas\",HVACg_Lookup,MATCH($H$6,BuildingSize,0)+1,FALSE),IF(IFERROR(SEARCH(\"Oil\",$H$5),0)>0,VLOOKUP(\"Oil\",HVACg_Lookup,MATCH($H$6,BuildingSize,0)+1,FALSE),IF(IFERROR(SEARCH(\"Propane\",$H$5),0)>0,VLOOKUP(\"Propane\",HVACg_Lookup,MATCH(Worksheet!$H$6,BuildingSize,0)+1,FALSE),0)))","v":0},{"$f":"X30/1000*Y30*AA30*IF(IFERROR(SEARCH(\"Gas\",$H$5),0)>0,VLOOKUP(\"Gas\",HVACg_Lookup,MATCH($H$6,BuildingSize,0)+1,FALSE),IF(IFERROR(SEARCH(\"Oil\",$H$5),0)>0,VLOOKUP(\"Oil\",HVACg_Lookup,MATCH($H$6,BuildingSize,0)+1,FALSE),IF(IFERROR(SEARCH(\"Propane\",$H$5),0)>0,VLOOKUP(\"Propane\",HVACg_Lookup,MATCH(Worksheet!$H$6,BuildingSize,0)+1,FALSE),0)))","v":0},0,0,{"$f":"IF(OR($B$4=\"\",$B$5=\"\",$H$4=\"\",$H$6=\"\",$H$5=\"\",A30=\"\",F30=\"\",J30=\"\",O30=\"\",P30=\"\")=TRUE,\"\",IF(C30=\"OSW\",IF(J30>=2,1,0),IF(C30=\"OSR\",IF(AND(J30>=2,P30>60)=TRUE,1,0),IF(C30=\"OSRH\",IF(AND(J30>=1,P30>90)=TRUE,1,0),IF(C30=\"OHLC\",IF(AND(N30=\"Y\",P30>60)=TRUE,1,0),IF(C30=\"DDC\",IF(AND(J30>=4,N30=\"Y\",P30>120)=TRUE,1,0),0))))))","v":""},{"$f":"IF(OR($B$4=\"\",$B$5=\"\",$H$4=\"\",$H$6=\"\",$H$5=\"\",A30=\"\",F30=\"\",K30=\"\",O30=\"\",P30=\"\")=TRUE,\"\",IF(C30=\"OSW\",IF(K30>=2,1,0),IF(C30=\"OSR\",IF(AND(K30>=2,Q30>60)=TRUE,1,0),IF(C30=\"OSRH\",IF(AND(K30>=1,Q30>90)=TRUE,1,0),IF(C30=\"OHLC\",IF(AND(N30=\"Y\",Q30>60)=TRUE,1,0),IF(C30=\"DDC\",IF(AND(K30>=4,N30=\"Y\",Q30>120)=TRUE,1,0),0))))))","v":""}]
[null,null,"",null,null,null,null,null,null,null,null,null,null,null,null,0,0,0,0,"",0,0,0,0,0,{"$f":"IF($H$4=\"\",0,VLOOKUP($H$4,BuildingType_Lookup,3,FALSE))","v":0},{"$f":"IF($H$4=\"\",0,VLOOKUP($H$4,BuildingType_Lookup,2,FALSE))","v":0},{"$f":"IF(AND(OR(AN31=\"\",AN31=0)=TRUE,OR(AO31=\"\",AO31=0))=TRUE,0,IF(AO31=\"\",(IF(OR(C31=\"DDC\",C31=\"OHLC\")=TRUE,O31,P31)/1000)*Y31*Z31*(1+VLOOKUP($H$4,BuildingType_Lookup,4,FALSE)),IF(AO31=0,0,(IF(OR(C31=\"DDC\",C31=\"OHLC\")=TRUE,O31,Q31)/1000)*Y31*Z31*(1+VLOOKUP($H$4,BuildingType_Lookup,4,FALSE)))))","v":0},{"$f":"IF(AND(OR(AN31=\"\",AN31=0)=TRUE,OR(AO31=\"\",AO31=0))=TRUE,0,IF(AO31=\"\",(IF(OR(C31=\"DDC\",C31=\"OHLC\")=TRUE,O31,P31)/1000)*Y31*AA31*(1+VLOOKUP($H$4,BuildingType_Lookup,MATCH($H$5,HVAC,0)+4,FALSE)),IF(AO31=0,0,(IF(OR(C31=\"DDC\",C31=\"OHLC\")=TRUE,O31,Q31)/1000)*Y31*AA31*(1+VLOOKUP($H$4,BuildingType_Lookup,MATCH($H$5,HVAC,0)+4,FALSE)))))","v":0},0,0,0,0,0,0,{"$f":"W31/1000*Y31*AA31*IF(IFERROR(SEARCH(\"Gas\",$H$5),0)>0,VLOOKUP(\"Gas\",HVACg_Lookup,MATCH($H$6,BuildingSize,0)+1,FALSE),IF(IFERROR(SEARCH(\"Oil\",$H$5),0)>0,VLOOKUP(\"Oil\",HVACg_Lookup,MATCH($H$6,BuildingSize,0)+1,FALSE),IF(IFERROR(SEARCH(\"Propane\",$H$5),0)>0,VLOOKUP(\"Propane\",HVACg_Lookup,MATCH(Worksheet!$H$6,BuildingSize,0)+1,FALSE),0)))","v":0},{"$f":"X31/1000*Y31*AA31*IF(IFERROR(SEARCH(\"Gas\",$H$5),0)>0,VLOOKUP(\"Gas\",HVACg_Lookup,MATCH($H$6,BuildingSize,0)+1,FALSE),IF(IFERROR(SEARCH(\"Oil\",$H$5),0)>0,VLOOKUP(\"Oil\",HVACg_Lookup,MATCH($H$6,BuildingSize,0)+1,FALSE),IF(IFERROR(SEARCH(\"Propane\",$H$5),0)>0,VLOOKUP(\"Propane\",HVACg_Lookup,MATCH(Worksheet!$H$6,BuildingSize,0)+1,FALSE),0)))","v":0},0,0,{"$f":"IF(OR($B$4=\"\",$B$5=\"\",$H$4=\"\",$H$6=\"\",$H$5=\"\",A31=\"\",F31=\"\",J31=\"\",O31=\"\",P31=\"\")=TRUE,\"\",IF(C31=\"OSW\",IF(J31>=2,1,0),IF(C31=\"OSR\",IF(AND(J31>=2,P31>60)=TRUE,1,0),IF(C31=\"OSRH\",IF(AND(J31>=1,P31>90)=TRUE,1,0),IF(C31=\"OHLC\",IF(AND(N31=\"Y\",P31>60)=TRUE,1,0),IF(C31=\"DDC\",IF(AND(J31>=4,N31=\"Y\",P31>120)=TRUE,1,0),0))))))","v":""},{"$f":"IF(OR($B$4=\"\",$B$5=\"\",$H$4=\"\",$H$6=\"\",$H$5=\"\",A31=\"\",F31=\"\",K31=\"\",O31=\"\",P31=\"\")=TRUE,\"\",IF(C31=\"OSW\",IF(K31>=2,1,0),IF(C31=\"OSR\",IF(AND(K31>=2,Q31>60)=TRUE,1,0),IF(C31=\"OSRH\",IF(AND(K31>=1,Q31>90)=TRUE,1,0),IF(C31=\"OHLC\",IF(AND(N31=\"Y\",Q31>60)=TRUE,1,0),IF(C31=\"DDC\",IF(AND(K31>=4,N31=\"Y\",Q31>120)=TRUE,1,0),0))))))","v":""}]
[null,null,"",null,null,null,null,null,null,null,null,null,null,null,null,0,0,0,0,"",0,0,0,0,0,{"$f":"IF($H$4=\"\",0,VLOOKUP($H$4,BuildingType_Lookup,3,FALSE))","v":0},{"$f":"IF($H$4=\"\",0,VLOOKUP($H$4,BuildingType_Lookup,2,FALSE))","v":0},{"$f":"IF(AND(OR(AN32=\"\",AN32=0)=TRUE,OR(AO32=\"\",AO32=0))=TRUE,0,IF(AO32=\"\",(IF(OR(C32=\"DDC\",C32=\"OHLC\")=TRUE,O32,P32)/1000)*Y32*Z32*(1+VLOOKUP($H$4,BuildingType_Lookup,4,FALSE)),IF(AO32=0,0,(IF(OR(C32=\"DDC\",C32=\"OHLC\")=TRUE,O32,Q32)/1000)*Y32*Z32*(1+VLOOKUP($H$4,BuildingType_Lookup,4,FALSE)))))","v":0},{"$f":"IF(AND(OR(AN32=\"\",AN32=0)=TRUE,OR(AO32=\"\",AO32=0))=TRUE,0,IF(AO32=\"\",(IF(OR(C32=\"DDC\",C32=\"OHLC\")=TRUE,O32,P32)/1000)*Y32*AA32*(1+VLOOKUP($H$4,BuildingType_Lookup,MATCH($H$5,HVAC,0)+4,FALSE)),IF(AO32=0,0,(IF(OR(C32=\"DDC\",C32=\"OHLC\")=TRUE,O32,Q32)/1000)*Y32*AA32*(1+VLOOKUP($H$4,BuildingType_Lookup,MATCH($H$5,HVAC,0)+4,FALSE)))))","v":0},0,0,0,0,0,0,{"$f":"W32/1000*Y32*AA32*IF(IFERROR(SEARCH(\"Gas\",$H$5),0)>0,VLOOKUP(\"Gas\",HVACg_Lookup,MATCH($H$6,BuildingSize,0)+1,FALSE),IF(IFERROR(SEARCH(\"Oil\",$H$5),0)>0,VLOOKUP(\"Oil\",HVACg_Lookup,MATCH($H$6,BuildingSize,0)+1,FALSE),IF(IFERROR(SEARCH(\"Propane\",$H$5),0)>0,VLOOKUP(\"Propane\",HVACg_Lookup,MATCH(Worksheet!$H$6,BuildingSize,0)+1,FALSE),0)))","v":0},{"$f":"X32/1000*Y32*AA32*IF(IFERROR(SEARCH(\"Gas\",$H$5),0)>0,VLOOKUP(\"Gas\",HVACg_Lookup,MATCH($H$6,BuildingSize,0)+1,FALSE),IF(IFERROR(SEARCH(\"Oil\",$H$5),0)>0,VLOOKUP(\"Oil\",HVACg_Lookup,MATCH($H$6,BuildingSize,0)+1,FALSE),IF(IFERROR(SEARCH(\"Propane\",$H$5),0)>0,VLOOKUP(\"Propane\",HVACg_Lookup,MATCH(Worksheet!$H$6,BuildingSize,0)+1,FALSE),0)))","v":0},0,0,{"$f":"IF(OR($B$4=\"\",$B$5=\"\",$H$4=\"\",$H$6=\"\",$H$5=\"\",A32=\"\",F32=\"\",J32=\"\",O32=\"\",P32=\"\")=TRUE,\"\",IF(C32=\"OSW\",IF(J32>=2,1,0),IF(C32=\"OSR\",IF(AND(J32>=2,P32>60)=TRUE,1,0),IF(C32=\"OSRH\",IF(AND(J32>=1,P32>90)=TRUE,1,0),IF(C32=\"OHLC\",IF(AND(N32=\"Y\",P32>60)=TRUE,1,0),IF(C32=\"DDC\",IF(AND(J32>=4,N32=\"Y\",P32>120)=TRUE,1,0),0))))))","v":""},{"$f":"IF(OR($B$4=\"\",$B$5=\"\",$H$4=\"\",$H$6=\"\",$H$5=\"\",A32=\"\",F32=\"\",K32=\"\",O32=\"\",P32=\"\")=TRUE,\"\",IF(C32=\"OSW\",IF(K32>=2,1,0),IF(C32=\"OSR\",IF(AND(K32>=2,Q32>60)=TRUE,1,0),IF(C32=\"OSRH\",IF(AND(K32>=1,Q32>90)=TRUE,1,0),IF(C32=\"OHLC\",IF(AND(N32=\"Y\",Q32>60)=TRUE,1,0),IF(C32=\"DDC\",IF(AND(K32>=4,N32=\"Y\",Q32>120)=TRUE,1,0),0))))))","v":""}]
[null,null,"",null,null,null,null,null,null,null,null,null,null,null,null,0,0,0,0,"",0,0,0,0,0,{"$f":"IF($H$4=\"\",0,VLOOKUP($H$4,BuildingType_Lookup,3,FALSE))","v":0},{"$f":"IF($H$4=\"\",0,VLOOKUP($H$4,BuildingType_Lookup,2,FALSE))","v":0},{"$f":"IF(AND(OR(AN33=\"\",AN33=0)=TRUE,OR(AO33=\"\",AO33=0))=TRUE,0,IF(AO33=\"\",(IF(OR(C33=\"DDC\",C33=\"OHLC\")=TRUE,O33,P33)/1000)*Y33*Z33*(1+VLOOKUP($H$4,BuildingType_Lookup,4,FALSE)),IF(AO33=0,0,(IF(OR(C33=\"DDC\",C33=\"OHLC\")=TRUE,O33,Q33)/1000)*Y33*Z33*(1+VLOOKUP($H$4,BuildingType_Lookup,4,FALSE)))))","v":0},{"$f":"IF(AND(OR(AN33=\"\",AN33=0)=TRUE,OR(AO33=\"\",AO33=0))=TRUE,0,IF(AO33=\"\",(IF(OR(C33=\"DDC\",C33=\"OHLC\")=TRUE,O33,P33)/1000)*Y33*AA33*(1+VLOOKUP($H$4,BuildingType_Lookup,MATCH($H$5,HVAC,0)+4,FALSE)),IF(AO33=0,0,(IF(OR(C33=\"DDC\",C33=\"OHLC\")=TRUE,O33,Q33)/1000)*Y33*AA33*(1+VLOOKUP($H$4,BuildingType_Lookup,MATCH($H$5,HVAC,0)+4,FALSE)))))","v":0},0,0,0,0,0,0,{"$f":"W33/1000*Y33*AA33*IF(IFERROR(SEARCH(\"Gas\",$H$5),0)>0,VLOOKUP(\"Gas\",HVACg_Lookup,MATCH($H$6,BuildingSize,0)+1,FALSE),IF(IFERROR(SEARCH(\"Oil\",$H$5),0)>0,VLOOKUP(\"Oil\",HVACg_Lookup,MATCH($H$6,BuildingSize,0)+1,FALSE),IF(IFERROR(SEARCH(\"Propane\",$H$5),0)>0,VLOOKUP(\"Propane\",HVACg_Lookup,MATCH(Worksheet!$H$6,BuildingSize,0)+1,FALSE),0)))","v":0},{"$f":"X33/1000*Y33*AA33*IF(IFERROR(SEARCH(\"Gas\",$H$5),0)>0,VLOOKUP(\"Gas\",HVACg_Lookup,MATCH($H$6,BuildingSize,0)+1,FALSE),IF(IFERROR(SEARCH(\"Oil\",$H$5),0)>0,VLOOKUP(\"Oil\",HVACg_Lookup,MATCH($H$6,BuildingSize,0)+1,FALSE),IF(IFERROR(SEARCH(\"Propane\",$H$5),0)>0,VLOOKUP(\"Propane\",HVACg_Lookup,MATCH(Worksheet!$H$6,BuildingSize,0)+1,FALSE),0)))","v":0},0,0,{"$f":"IF(OR($B$4=\"\",$B$5=\"\",$H$4=\"\",$H$6=\"\",$H$5=\"\",A33=\"\",F33=\"\",J33=\"\",O33=\"\",P33=\"\")=TRUE,\"\",IF(C33=\"OSW\",IF(J33>=2,1,0),IF(C33=\"OSR\",IF(AND(J33>=2,P33>60)=TRUE,1,0),IF(C33=\"OSRH\",IF(AND(J33>=1,P33>90)=TRUE,1,0),IF(C33=\"OHLC\",IF(AND(N33=\"Y\",P33>60)=TRUE,1,0),IF(C33=\"DDC\",IF(AND(J33>=4,N33=\"Y\",P33>120)=TRUE,1,0),0))))))","v":""},{"$f":"IF(OR($B$4=\"\",$B$5=\"\",$H$4=\"\",$H$6=\"\",$H$5=\"\",A33=\"\",F33=\"\",K33=\"\",O33=\"\",P33=\"\")=TRUE,\"\",IF(C33=\"OSW\",IF(K33>=2,1,0),IF(C33=\"OSR\",IF(AND(K33>=2,Q33>60)=TRUE,1,0),IF(C33=\"OSRH\",IF(AND(K33>=1,Q33>90)=TRUE,1,0),IF(C33=\"OHLC\",IF(AND(N33=\"Y\",Q33>60)=TRUE,1,0),IF(C33=\"DDC\",IF(AND(K33>=4,N33=\"Y\",Q33>120)=TRUE,1,0),0))))))","v":""}]
[null,null,"",null,null,null,null,null,null,null,null,null,null,null,null,0,0,0,0,"",0,0,0,0,0,{"$f":"IF($H$4=\"\",0,VLOOKUP($H$4,BuildingType_Lookup,3,FALSE))","v":0},{"$f":"IF($H$4=\"\",0,VLOOKUP($H$4,BuildingType_Lookup,2,FALSE))","v":0},{"$f":"IF(AND(OR(AN34=\"\",AN34=0)=TRUE,OR(AO34=\"\",AO34=0))=TRUE,0,IF(AO34=\"\",(IF(OR(C34=\"DDC\",C34=\"OHLC\")=TRUE,O34,P34)/1000)*Y34*Z34*(1+VLOOKUP($H$4,BuildingType_Lookup,4,FALSE)),IF(AO34=0,0,(IF(OR(C34=\"DDC\",C34=\"OHLC\")=TRUE,O34,Q34)/1000)*Y34*Z34*(1+VLOOKUP($H$4,BuildingType_Lookup,4,FALSE)))))","v":0},{"$f":"IF(AND(OR(AN34=\"\",AN34=0)=TRUE,OR(AO34=\"\",AO34=0))=TRUE,0,IF(AO34=\"\",(IF(OR(C34=\"DDC\",C34=\"OHLC\")=TRUE,O34,P34)/1000)*Y34*AA34*(1+VLOOKUP($H$4,BuildingType_Lookup,MATCH($H$5,HVAC,0)+4,FALSE)),IF(AO34=0,0,(IF(OR(C34=\"DDC\",C34=\"OHLC\")=TRUE,O34,Q34)/1000)*Y34*AA34*(1+VLOOKUP($H$4,BuildingType_Lookup,MATCH($H$5,HVAC,0)+4,FALSE)))))","v":0},0,0,0,0,0,0,{"$f":"W34/1000*Y34*AA34*IF(IFERROR(SEARCH(\"Gas\",$H$5),0)>0,VLOOKUP(\"Gas\",HVACg_Lookup,MATCH($H$6,BuildingSize,0)+1,FALSE),IF(IFERROR(SEARCH(\"Oil\",$H$5),0)>0,VLOOKUP(\"Oil\",HVACg_Lookup,MATCH($H$6,BuildingSize,0)+1,FALSE),IF(IFERROR(SEARCH(\"Propane\",$H$5),0)>0,VLOOKUP(\"Propane\",HVACg_Lookup,MATCH(Worksheet!$H$6,BuildingSize,0)+1,FALSE),0)))","v":0},{"$f":"X34/1000*Y34*AA34*IF(IFERROR(SEARCH(\"Gas\",$H$5),0)>0,VLOOKUP(\"Gas\",HVACg_Lookup,MATCH($H$6,BuildingSize,0)+1,FALSE),IF(IFERROR(SEARCH(\"Oil\",$H$5),0)>0,VLOOKUP(\"Oil\",HVACg_Lookup,MATCH($H$6,BuildingSize,0)+1,FALSE),IF(IFERROR(SEARCH(\"Propane\",$H$5),0)>0,VLOOKUP(\"Propane\",HVACg_Lookup,MATCH(Worksheet!$H$6,BuildingSize,0)+1,FALSE),0)))","v":0},0,0,{"$f":"IF(OR($B$4=\"\",$B$5=\"\",$H$4=\"\",$H$6=\"\",$H$5=\"\",A34=\"\",F34=\"\",J34=\"\",O34=\"\",P34=\"\")=TRUE,\"\",IF(C34=\"OSW\",IF(J34>=2,1,0),IF(C34=\"OSR\",IF(AND(J34>=2,P34>60)=TRUE,1,0),IF(C34=\"OSRH\",IF(AND(J34>=1,P34>90)=TRUE,1,0),IF(C34=\"OHLC\",IF(AND(N34=\"Y\",P34>60)=TRUE,1,0),IF(C34=\"DDC\",IF(AND(J34>=4,N34=\"Y\",P34>120)=TRUE,1,0),0))))))","v":""},{"$f":"IF(OR($B$4=\"\",$B$5=\"\",$H$4=\"\",$H$6=\"\",$H$5=\"\",A34=\"\",F34=\"\",K34=\"\",O34=\"\",P34=\"\")=TRUE,\"\",IF(C34=\"OSW\",IF(K34>=2,1,0),IF(C34=\"OSR\",IF(AND(K34>=2,Q34>60)=TRUE,1,0),IF(C34=\"OSRH\",IF(AND(K34>=1,Q34>90)=TRUE,1,0),IF(C34=\"OHLC\",IF(AND(N34=\"Y\",Q34>60)=TRUE,1,0),IF(C34=\"DDC\",IF(AND(K34>=4,N34=\"Y\",Q34>120)=TRUE,1,0),0))))))","v":""}]
[null,null,"",null,null,null,null,null,null,null,null,null,null,null,null,0,0,0,0,"",0,0,0,0,0,{"$f":"IF($H$4=\"\",0,VLOOKUP($H$4,BuildingType_Lookup,3,FALSE))","v":0},{"$f":"IF($H$4=\"\",0,VLOOKUP($H$4,BuildingType_Lookup,2,FALSE))","v":0},{"$f":"IF(AND(OR(AN35=\"\",AN35=0)=TRUE,OR(AO35=\"\",AO35=0))=TRUE,0,IF(AO35=\"\",(IF(OR(C35=\"DDC\",C35=\"OHLC\")=TRUE,O35,P35)/1000)*Y35*Z35*(1+VLOOKUP($H$4,BuildingType_Lookup,4,FALSE)),IF(AO35=0,0,(IF(OR(C35=\"DDC\",C35=\"OHLC\")=TRUE,O35,Q35)/1000)*Y35*Z35*(1+VLOOKUP($H$4,BuildingType_Lookup,4,FALSE)))))","v":0},{"$f":"IF(AND(OR(AN35=\"\",AN35=0)=TRUE,OR(AO35=\"\",AO35=0))=TRUE,0,IF(AO35=\"\",(IF(OR(C35=\"DDC\",C35=\"OHLC\")=TRUE,O35,P35)/1000)*Y35*AA35*(1+VLOOKUP($H$4,BuildingType_Lookup,MATCH($H$5,HVAC,0)+4,FALSE)),IF(AO35=0,0,(IF(OR(C35=\"DDC\",C35=\"OHLC\")=TRUE,O35,Q35)/1000)*Y35*AA35*(1+VLOOKUP($H$4,BuildingType_Lookup,MATCH($H$5,HVAC,0)+4,FALSE)))))","v":0},0,0,0,0,0,0,{"$f":"W35/1000*Y35*AA35*IF(IFERROR(SEARCH(\"Gas\",$H$5),0)>0,VLOOKUP(\"Gas\",HVACg_Lookup,MATCH($H$6,BuildingSize,0)+1,FALSE),IF(IFERROR(SEARCH(\"Oil\",$H$5),0)>0,VLOOKUP(\"Oil\",HVACg_Lookup,MATCH($H$6,BuildingSize,0)+1,FALSE),IF(IFERROR(SEARCH(\"Propane\",$H$5),0)>0,VLOOKUP(\"Propane\",HVACg_Lookup,MATCH(Worksheet!$H$6,BuildingSize,0)+1,FALSE),0)))","v":0},{"$f":"X35/1000*Y35*AA35*IF(IFERROR(SEARCH(\"Gas\",$H$5),0)>0,VLOOKUP(\"Gas\",HVACg_Lookup,MATCH($H$6,BuildingSize,0)+1,FALSE),IF(IFERROR(SEARCH(\"Oil\",$H$5),0)>0,VLOOKUP(\"Oil\",HVACg_Lookup,MATCH($H$6,BuildingSize,0)+1,FALSE),IF(IFERROR(SEARCH(\"Propane\",$H$5),0)>0,VLOOKUP(\"Propane\",HVACg_Lookup,MATCH(Worksheet!$H$6,BuildingSize,0)+1,FALSE),0)))","v":0},0,0,{"$f":"IF(OR($B$4=\"\",$B$5=\"\",$H$4=\"\",$H$6=\"\",$H$5=\"\",A35=\"\",F35=\"\",J35=\"\",O35=\"\",P35=\"\")=TRUE,\"\",IF(C35=\"OSW\",IF(J35>=2,1,0),IF(C35=\"OSR\",IF(AND(J35>=2,P35>60)=TRUE,1,0),IF(C35=\"OSRH\",IF(AND(J35>=1,P35>90)=TRUE,1,0),IF(C35=\"OHLC\",IF(AND(N35=\"Y\",P35>60)=TRUE,1,0),IF(C35=\"DDC\",IF(AND(J35>=4,N35=\"Y\",P35>120)=TRUE,1,0),0))))))","v":""},{"$f":"IF(OR($B$4=\"\",$B$5=\"\",$H$4=\"\",$H$6=\"\",$H$5=\"\",A35=\"\",F35=\"\",K35=\"\",O35=\"\",P35=\"\")=TRUE,\"\",IF(C35=\"OSW\",IF(K35>=2,1,0),IF(C35=\"OSR\",IF(AND(K35>=2,Q35>60)=TRUE,1,0),IF(C35=\"OSRH\",IF(AND(K35>=1,Q35>90)=TRUE,1,0),IF(C35=\"OHLC\",IF(AND(N35=\"Y\",Q35>60)=TRUE,1,0),IF(C35=\"DDC\",IF(AND(K35>=4,N35=\"Y\",Q35>120)=TRUE,1,0),0))))))","v":""}]
[null,null,"",null,null,null,null,null,null,null,null,null,null,null,null,0,0,0,0,"",0,0,0,0,0,{"$f":"IF($H$4=\"\",0,VLOOKUP($H$4,BuildingType_Lookup,3,FALSE))","v":0},{"$f":"IF($H$4=\"\",0,VLOOKUP($H$4,BuildingType_Lookup,2,FALSE))","v":0},{"$f":"IF(AND(OR(AN36=\"\",AN36=0)=TRUE,OR(AO36=\"\",AO36=0))=TRUE,0,IF(AO36=\"\",(IF(OR(C36=\"DDC\",C36=\"OHLC\")=TRUE,O36,P36)/1000)*Y36*Z36*(1+VLOOKUP($H$4,BuildingType_Lookup,4,FALSE)),IF(AO36=0,0,(IF(OR(C36=\"DDC\",C36=\"OHLC\")=TRUE,O36,Q36)/1000)*Y36*Z36*(1+VLOOKUP($H$4,BuildingType_Lookup,4,FALSE)))))","v":0},{"$f":"IF(AND(OR(AN36=\"\",AN36=0)=TRUE,OR(AO36=\"\",AO36=0))=TRUE,0,IF(AO36=\"\",(IF(OR(C36=\"DDC\",C36=\"OHLC\")=TRUE,O36,P36)/1000)*Y36*AA36*(1+VLOOKUP($H$4,BuildingType_Lookup,MATCH($H$5,HVAC,0)+4,FALSE)),IF(AO36=0,0,(IF(OR(C36=\"DDC\",C36=\"OHLC\")=TRUE,O36,Q36)/1000)*Y36*AA36*(1+VLOOKUP($H$4,BuildingType_Lookup,MATCH($H$5,HVAC,0)+4,FALSE)))))","v":0},0,0,0,0,0,0,{"$f":"W36/1000*Y36*AA36*IF(IFERROR(SEARCH(\"Gas\",$H$5),0)>0,VLOOKUP(\"Gas\",HVACg_Lookup,MATCH($H$6,BuildingSize,0)+1,FALSE),IF(IFERROR(SEARCH(\"Oil\",$H$5),0)>0,VLOOKUP(\"Oil\",HVACg_Lookup,MATCH($H$6,BuildingSize,0)+1,FALSE),IF(IFERROR(SEARCH(\"Propane\",$H$5),0)>0,VLOOKUP(\"Propane\",HVACg_Lookup,MATCH(Worksheet!$H$6,BuildingSize,0)+1,FALSE),0)))","v":0},{"$f":"X36/1000*Y36*AA36*IF(IFERROR(SEARCH(\"Gas\",$H$5),0)>0,VLOOKUP(\"Gas\",HVACg_Lookup,MATCH($H$6,BuildingSize,0)+1,FALSE),IF(IFERROR(SEARCH(\"Oil\",$H$5),0)>0,VLOOKUP(\"Oil\",HVACg_Lookup,MATCH($H$6,BuildingSize,0)+1,FALSE),IF(IFERROR(SEARCH(\"Propane\",$H$5),0)>0,VLOOKUP(\"Propane\",HVACg_Lookup,MATCH(Worksheet!$H$6,BuildingSize,0)+1,FALSE),0)))","v":0},0,0,{"$f":"IF(OR($B$4=\"\",$B$5=\"\",$H$4=\"\",$H$6=\"\",$H$5=\"\",A36=\"\",F36=\"\",J36=\"\",O36=\"\",P36=\"\")=TRUE,\"\",IF(C36=\"OSW\",IF(J36>=2,1,0),IF(C36=\"OSR\",IF(AND(J36>=2,P36>60)=TRUE,1,0),IF(C36=\"OSRH\",IF(AND(J36>=1,P36>90)=TRUE,1,0),IF(C36=\"OHLC\",IF(AND(N36=\"Y\",P36>60)=TRUE,1,0),IF(C36=\"DDC\",IF(AND(J36>=4,N36=\"Y\",P36>120)=TRUE,1,0),0))))))","v":""},{"$f":"IF(OR($B$4=\"\",$B$5=\"\",$H$4=\"\",$H$6=\"\",$H$5=\"\",A36=\"\",F36=\"\",K36=\"\",O36=\"\",P36=\"\")=TRUE,\"\",IF(C36=\"OSW\",IF(K36>=2,1,0),IF(C36=\"OSR\",IF(AND(K36>=2,Q36>60)=TRUE,1,0),IF(C36=\"OSRH\",IF(AND(K36>=1,Q36>90)=TRUE,1,0),IF(C36=\"OHLC\",IF(AND(N36=\"Y\",Q36>60)=TRUE,1,0),IF(C36=\"DDC\",IF(AND(K36>=4,N36=\"Y\",Q36>120)=TRUE,1,0),0))))))","v":""}]
[null,null,"",null,null,null,null,null,null,null,null,null,null,null,null,0,0,0,0,"",0,0,0,0,0,{"$f":"IF($H$4=\"\",0,VLOOKUP($H$4,BuildingType_Lookup,3,FALSE))","v":0},{"$f":"IF($H$4=\"\",0,VLOOKUP($H$4,BuildingType_Lookup,2,FALSE))","v":0},{"$f":"IF(AND(OR(AN37=\"\",AN37=0)=TRUE,OR(AO37=\"\",AO37=0))=TRUE,0,IF(AO37=\"\",(IF(OR(C37=\"DDC\",C37=\"OHLC\")=TRUE,O37,P37)/1000)*Y37*Z37*(1+VLOOKUP($H$4,BuildingType_Lookup,4,FALSE)),IF(AO37=0,0,(IF(OR(C37=\"DDC\",C37=\"OHLC\")=TRUE,O37,Q37)/1000)*Y37*Z37*(1+VLOOKUP($H$4,BuildingType_Lookup,4,FALSE)))))","v":0},{"$f":"IF(AND(OR(AN37=\"\",AN37=0)=TRUE,OR(AO37=\"\",AO37=0))=TRUE,0,IF(AO37=\"\",(IF(OR(C37=\"DDC\",C37=\"OHLC\")=TRUE,O37,P37)/1000)*Y37*AA37*(1+VLOOKUP($H$4,BuildingType_Lookup,MATCH($H$5,HVAC,0)+4,FALSE)),IF(AO37=0,0,(IF(OR(C37=\"DDC\",C37=\"OHLC\")=TRUE,O37,Q37)/1000)*Y37*AA37*(1+VLOOKUP($H$4,BuildingType_Lookup,MATCH($H$5,HVAC,0)+4,FALSE)))))","v":0},0,0,0,0,0,0,{"$f":"W37/1000*Y37*AA37*IF(IFERROR(SEARCH(\"Gas\",$H$5),0)>0,VLOOKUP(\"Gas\",HVACg_Lookup,MATCH($H$6,BuildingSize,0)+1,FALSE),IF(IFERROR(SEARCH(\"Oil\",$H$5),0)>0,VLOOKUP(\"Oil\",HVACg_Lookup,MATCH($H$6,BuildingSize,0)+1,FALSE),IF(IFERROR(SEARCH(\"Propane\",$H$5),0)>0,VLOOKUP(\"Propane\",HVACg_Lookup,MATCH(Worksheet!$H$6,BuildingSize,0)+1,FALSE),0)))","v":0},{"$f":"X37/1000*Y37*AA37*IF(IFERROR(SEARCH(\"Gas\",$H$5),0)>0,VLOOKUP(\"Gas\",HVACg_Lookup,MATCH($H$6,BuildingSize,0)+1,FALSE),IF(IFERROR(SEARCH(\"Oil\",$H$5),0)>0,VLOOKUP(\"Oil\",HVACg_Lookup,MATCH($H$6,BuildingSize,0)+1,FALSE),IF(IFERROR(SEARCH(\"Propane\",$H$5),0)>0,VLOOKUP(\"Propane\",HVACg_Lookup,MATCH(Worksheet!$H$6,BuildingSize,0)+1,FALSE),0)))","v":0},0,0,{"$f":"IF(OR($B$4=\"\",$B$5=\"\",$H$4=\"\",$H$6=\"\",$H$5=\"\",A37=\"\",F37=\"\",J37=\"\",O37=\"\",P37=\"\")=TRUE,\"\",IF(C37=\"OSW\",IF(J37>=2,1,0),IF(C37=\"OSR\",IF(AND(J37>=2,P37>60)=TRUE,1,0),IF(C37=\"OSRH\",IF(AND(J37>=1,P37>90)=TRUE,1,0),IF(C37=\"OHLC\",IF(AND(N37=\"Y\",P37>60)=TRUE,1,0),IF(C37=\"DDC\",IF(AND(J37>=4,N37=\"Y\",P37>120)=TRUE,1,0),0))))))","v":""},{"$f":"IF(OR($B$4=\"\",$B$5=\"\",$H$4=\"\",$H$6=\"\",$H$5=\"\",A37=\"\",F37=\"\",K37=\"\",O37=\"\",P37=\"\")=TRUE,\"\",IF(C37=\"OSW\",IF(K37>=2,1,0),IF(C37=\"OSR\",IF(AND(K37>=2,Q37>60)=TRUE,1,0),IF(C37=\"OSRH\",IF(AND(K37>=1,Q37>90)=TRUE,1,0),IF(C37=\"OHLC\",IF(AND(N37=\"Y\",Q37>60)=TRUE,1,0),IF(C37=\"DDC\",IF(AND(K37>=4,N37=\"Y\",Q37>120)=TRUE,1,0),0))))))","v":""}]
[null,null,"",null,null,null,null,null,null,null,null,null,null,null,null,0,0,0,0,"",0,0,0,0,0,{"$f":"IF($H$4=\"\",0,VLOOKUP($H$4,BuildingType_Lookup,3,FALSE))","v":0},{"$f":"IF($H$4=\"\",0,VLOOKUP($H$4,BuildingType_Lookup,2,FALSE))","v":0},{"$f":"IF(AND(OR(AN38=\"\",AN38=0)=TRUE,OR(AO38=\"\",AO38=0))=TRUE,0,IF(AO38=\"\",(IF(OR(C38=\"DDC\",C38=\"OHLC\")=TRUE,O38,P38)/1000)*Y38*Z38*(1+VLOOKUP($H$4,BuildingType_Lookup,4,FALSE)),IF(AO38=0,0,(IF(OR(C38=\"DDC\",C38=\"OHLC\")=TRUE,O38,Q38)/1000)*Y38*Z38*(1+VLOOKUP($H$4,BuildingType_Lookup,4,FALSE)))))","v":0},{"$f":"IF(AND(OR(AN38=\"\",AN38=0)=TRUE,OR(AO38=\"\",AO38=0))=TRUE,0,IF(AO38=\"\",(IF(OR(C38=\"DDC\",C38=\"OHLC\")=TRUE,O38,P38)/1000)*Y38*AA38*(1+VLOOKUP($H$4,BuildingType_Lookup,MATCH($H$5,HVAC,0)+4,FALSE)),IF(AO38=0,0,(IF(OR(C38=\"DDC\",C38=\"OHLC\")=TRUE,O38,Q38)/1000)*Y38*AA38*(1+VLOOKUP($H$4,BuildingType_Lookup,MATCH($H$5,HVAC,0)+4,FALSE)))))","v":0},0,0,0,0,0,0,{"$f":"W38/1000*Y38*AA38*IF(IFERROR(SEARCH(\"Gas\",$H$5),0)>0,VLOOKUP(\"Gas\",HVACg_Lookup,MATCH($H$6,BuildingSize,0)+1,FALSE),IF(IFERROR(SEARCH(\"Oil\",$H$5),0)>0,VLOOKUP(\"Oil\",HVACg_Lookup,MATCH($H$6,BuildingSize,0)+1,FALSE),IF(IFERROR(SEARCH(\"Propane\",$H$5),0)>0,VLOOKUP(\"Propane\",HVACg_Lookup,MATCH(Worksheet!$H$6,BuildingSize,0)+1,FALSE),0)))","v":0},{"$f":"X38/1000*Y38*AA38*IF(IFERROR(SEARCH(\"Gas\",$H$5),0)>0,VLOOKUP(\"Gas\",HVACg_Lookup,MATCH($H$6,BuildingSize,0)+1,FALSE),IF(IFERROR(SEARCH(\"Oil\",$H$5),0)>0,VLOOKUP(\"Oil\",HVACg_Lookup,MATCH($H$6,BuildingSize,0)+1,FALSE),IF(IFERROR(SEARCH(\"Propane\",$H$5),0)>0,VLOOKUP(\"Propane\",HVACg_Lookup,MATCH(Worksheet!$H$6,BuildingSize,0)+1,FALSE),0)))","v":0},0,0,{"$f":"IF(OR($B$4=\"\",$B$5=\"\",$H$4=\"\",$H$6=\"\",$H$5=\"\",A38=\"\",F38=\"\",J38=\"\",O38=\"\",P38=\"\")=TRUE,\"\",IF(C38=\"OSW\",IF(J38>=2,1,0),IF(C38=\"OSR\",IF(AND(J38>=2,P38>60)=TRUE,1,0),IF(C38=\"OSRH\",IF(AND(J38>=1,P38>90)=TRUE,1,0),IF(C38=\"OHLC\",IF(AND(N38=\"Y\",P38>60)=TRUE,1,0),IF(C38=\"DDC\",IF(AND(J38>=4,N38=\"Y\",P38>120)=TRUE,1,0),0))))))","v":""},{"$f":"IF(OR($B$4=\"\",$B$5=\"\",$H$4=\"\",$H$6=\"\",$H$5=\"\",A38=\"\",F38=\"\",K38=\"\",O38=\"\",P38=\"\")=TRUE,\"\",IF(C38=\"OSW\",IF(K38>=2,1,0),IF(C38=\"OSR\",IF(AND(K38>=2,Q38>60)=TRUE,1,0),IF(C38=\"OSRH\",IF(AND(K38>=1,Q38>90)=TRUE,1,0),IF(C38=\"OHLC\",IF(AND(N38=\"Y\",Q38>60)=TRUE,1,0),IF(C38=\"DDC\",IF(AND(K38>=4,N38=\"Y\",Q38>120)=TRUE,1,0),0))))))","v":""}]
[null,null,"",null,null,null,null,null,null,null,null,null,null,null,null,0,0,0,0,"",0,0,0,0,0,{"$f":"IF($H$4=\"\",0,VLOOKUP($H$4,BuildingType_Lookup,3,FALSE))","v":0},{"$f":"IF($H$4=\"\",0,VLOOKUP($H$4,BuildingType_Lookup,2,FALSE))","v":0},{"$f":"IF(AND(OR(AN39=\"\",AN39=0)=TRUE,OR(AO39=\"\",AO39=0))=TRUE,0,IF(AO39=\"\",(IF(OR(C39=\"DDC\",C39=\"OHLC\")=TRUE,O39,P39)/1000)*Y39*Z39*(1+VLOOKUP($H$4,BuildingType_Lookup,4,FALSE)),IF(AO39=0,0,(IF(OR(C39=\"DDC\",C39=\"OHLC\")=TRUE,O39,Q39)/1000)*Y39*Z39*(1+VLOOKUP($H$4,BuildingType_Lookup,4,FALSE)))))","v":0},{"$f":"IF(AND(OR(AN39=\"\",AN39=0)=TRUE,OR(AO39=\"\",AO39=0))=TRUE,0,IF(AO39=\"\",(IF(OR(C39=\"DDC\",C39=\"OHLC\")=TRUE,O39,P39)/1000)*Y39*AA39*(1+VLOOKUP($H$4,BuildingType_Lookup,MATCH($H$5,HVAC,0)+4,FALSE)),IF(AO39=0,0,(IF(OR(C39=\"DDC\",C39=\"OHLC\")=TRUE,O39,Q39)/1000)*Y39*AA39*(1+VLOOKUP($H$4,BuildingType_Lookup,MATCH($H$5,HVAC,0)+4,FALSE)))))","v":0},0,0,0,0,0,0,{"$f":"W39/1000*Y39*AA39*IF(IFERROR(SEARCH(\"Gas\",$H$5),0)>0,VLOOKUP(\"Gas\",HVACg_Lookup,MATCH($H$6,BuildingSize,0)+1,FALSE),IF(IFERROR(SEARCH(\"Oil\",$H$5),0)>0,VLOOKUP(\"Oil\",HVACg_Lookup,MATCH($H$6,BuildingSize,0)+1,FALSE),IF(IFERROR(SEARCH(\"Propane\",$H$5),0)>0,VLOOKUP(\"Propane\",HVACg_Lookup,MATCH(Worksheet!$H$6,BuildingSize,0)+1,FALSE),0)))","v":0},{"$f":"X39/1000*Y39*AA39*IF(IFERROR(SEARCH(\"Gas\",$H$5),0)>0,VLOOKUP(\"Gas\",HVACg_Lookup,MATCH($H$6,BuildingSize,0)+1,FALSE),IF(IFERROR(SEARCH(\"Oil\",$H$5),0)>0,VLOOKUP(\"Oil\",HVACg_Lookup,MATCH($H$6,BuildingSize,0)+1,FALSE),IF(IFERROR(SEARCH(\"Propane\",$H$5),0)>0,VLOOKUP(\"Propane\",HVACg_Lookup,MATCH(Worksheet!$H$6,BuildingSize,0)+1,FALSE),0)))","v":0},0,0,{"$f":"IF(OR($B$4=\"\",$B$5=\"\",$H$4=\"\",$H$6=\"\",$H$5=\"\",A39=\"\",F39=\"\",J39=\"\",O39=\"\",P39=\"\")=TRUE,\"\",IF(C39=\"OSW\",IF(J39>=2,1,0),IF(C39=\"OSR\",IF(AND(J39>=2,P39>60)=TRUE,1,0),IF(C39=\"OSRH\",IF(AND(J39>=1,P39>90)=TRUE,1,0),IF(C39=\"OHLC\",IF(AND(N39=\"Y\",P39>60)=TRUE,1,0),IF(C39=\"DDC\",IF(AND(J39>=4,N39=\"Y\",P39>120)=TRUE,1,0),0))))))","v":""},{"$f":"IF(OR($B$4=\"\",$B$5=\"\",$H$4=\"\",$H$6=\"\",$H$5=\"\",A39=\"\",F39=\"\",K39=\"\",O39=\"\",P39=\"\")=TRUE,\"\",IF(C39=\"OSW\",IF(K39>=2,1,0),IF(C39=\"OSR\",IF(AND(K39>=2,Q39>60)=TRUE,1,0),IF(C39=\"OSRH\",IF(AND(K39>=1,Q39>90)=TRUE,1,0),IF(C39=\"OHLC\",IF(AND(N39=\"Y\",Q39>60)=TRUE,1,0),IF(C39=\"DDC\",IF(AND(K39>=4,N39=\"Y\",Q39>120)=TRUE,1,0),0))))))","v":""}]
[null,null,"",null,null,null,null,null,null,null,null,null,null,null,null,0,0,0,0,"",0,0,0,0,0,{"$f":"IF($H$4=\"\",0,VLOOKUP($H$4,BuildingType_Lookup,3,FALSE))","v":0},{"$f":"IF($H$4=\"\",0,VLOOKUP($H$4,BuildingType_Lookup,2,FALSE))","v":0},{"$f":"IF(AND(OR(AN40=\"\",AN40=0)=TRUE,OR(AO40=\"\",AO40=0))=TRUE,0,IF(AO40=\"\",(IF(OR(C40=\"DDC\",C40=\"OHLC\")=TRUE,O40,P40)/1000)*Y40*Z40*(1+VLOOKUP($H$4,BuildingType_Lookup,4,FALSE)),IF(AO40=0,0,(IF(OR(C40=\"DDC\",C40=\"OHLC\")=TRUE,O40,Q40)/1000)*Y40*Z40*(1+VLOOKUP($H$4,BuildingType_Lookup,4,FALSE)))))","v":0},{"$f":"IF(AND(OR(AN40=\"\",AN40=0)=TRUE,OR(AO40=\"\",AO40=0))=TRUE,0,IF(AO40=\"\",(IF(OR(C40=\"DDC\",C40=\"OHLC\")=TRUE,O40,P40)/1000)*Y40*AA40*(1+VLOOKUP($H$4,BuildingType_Lookup,MATCH($H$5,HVAC,0)+4,FALSE)),IF(AO40=0,0,(IF(OR(C40=\"DDC\",C40=\"OHLC\")=TRUE,O40,Q40)/1000)*Y40*AA40*(1+VLOOKUP($H$4,BuildingType_Lookup,MATCH($H$5,HVAC,0)+4,FALSE)))))","v":0},0,0,0,0,0,0,{"$f":"W40/1000*Y40*AA40*IF(IFERROR(SEARCH(\"Gas\",$H$5),0)>0,VLOOKUP(\"Gas\",HVACg_Lookup,MATCH($H$6,BuildingSize,0)+1,FALSE),IF(IFERROR(SEARCH(\"Oil\",$H$5),0)>0,VLOOKUP(\"Oil\",HVACg_Lookup,MATCH($H$6,BuildingSize,0)+1,FALSE),IF(IFERROR(SEARCH(\"Propane\",$H$5),0)>0,VLOOKUP(\"Propane\",HVACg_Lookup,MATCH(Worksheet!$H$6,BuildingSize,0)+1,FALSE),0)))","v":0},{"$f":"X40/1000*Y40*AA40*IF(IFERROR(SEARCH(\"Gas\",$H$5),0)>0,VLOOKUP(\"Gas\",HVACg_Lookup,MATCH($H$6,BuildingSize,0)+1,FALSE),IF(IFERROR(SEARCH(\"Oil\",$H$5),0)>0,VLOOKUP(\"Oil\",HVACg_Lookup,MATCH($H$6,BuildingSize,0)+1,FALSE),IF(IFERROR(SEARCH(\"Propane\",$H$5),0)>0,VLOOKUP(\"Propane\",HVACg_Lookup,MATCH(Worksheet!$H$6,BuildingSize,0)+1,FALSE),0)))","v":0},0,0,{"$f":"IF(OR($B$4=\"\",$B$5=\"\",$H$4=\"\",$H$6=\"\",$H$5=\"\",A40=\"\",F40=\"\",J40=\"\",O40=\"\",P40=\"\")=TRUE,\"\",IF(C40=\"OSW\",IF(J40>=2,1,0),IF(C40=\"OSR\",IF(AND(J40>=2,P40>60)=TRUE,1,0),IF(C40=\"OSRH\",IF(AND(J40>=1,P40>90)=TRUE,1,0),IF(C40=\"OHLC\",IF(AND(N40=\"Y\",P40>60)=TRUE,1,0),IF(C40=\"DDC\",IF(AND(J40>=4,N40=\"Y\",P40>120)=TRUE,1,0),0))))))","v":""},{"$f":"IF(OR($B$4=\"\",$B$5=\"\",$H$4=\"\",$H$6=\"\",$H$5=\"\",A40=\"\",F40=\"\",K40=\"\",O40=\"\",P40=\"\")=TRUE,\"\",IF(C40=\"OSW\",IF(K40>=2,1,0),IF(C40=\"OSR\",IF(AND(K40>=2,Q40>60)=TRUE,1,0),IF(C40=\"OSRH\",IF(AND(K40>=1,Q40>90)=TRUE,1,0),IF(C40=\"OHLC\",IF(AND(N40=\"Y\",Q40>60)=TRUE,1,0),IF(C40=\"DDC\",IF(AND(K40>=4,N40=\"Y\",Q40>120)=TRUE,1,0),0))))))","v":""}]
[null,null,"",null,null,null,null,null,null,null,null,null,null,null,null,0,0,0,0,"",0,0,0,0,0,{"$f":"IF($H$4=\"\",0,VLOOKUP($H$4,BuildingType_Lookup,3,FALSE))","v":0},{"$f":"IF($H$4=\"\",0,VLOOKUP($H$4,BuildingType_Lookup,2,FALSE))","v":0},{"$f":"IF(AND(OR(AN41=\"\",AN41=0)=TRUE,OR(AO41=\"\",AO41=0))=TRUE,0,IF(AO41=\"\",(IF(OR(C41=\"DDC\",C41=\"OHLC\")=TRUE,O41,P41)/1000)*Y41*Z41*(1+VLOOKUP($H$4,BuildingType_Lookup,4,FALSE)),IF(AO41=0,0,(IF(OR(C41=\"DDC\",C41=\"OHLC\")=TRUE,O41,Q41)/1000)*Y41*Z41*(1+VLOOKUP($H$4,BuildingType_Lookup,4,FALSE)))))","v":0},{"$f":"IF(AND(OR(AN41=\"\",AN41=0)=TRUE,OR(AO41=\"\",AO41=0))=TRUE,0,IF(AO41=\"\",(IF(OR(C41=\"DDC\",C41=\"OHLC\")=TRUE,O41,P41)/1000)*Y41*AA41*(1+VLOOKUP($H$4,BuildingType_Lookup,MATCH($H$5,HVAC,0)+4,FALSE)),IF(AO41=0,0,(IF(OR(C41=\"DDC\",C41=\"OHLC\")=TRUE,O41,Q41)/1000)*Y41*AA41*(1+VLOOKUP($H$4,BuildingType_Lookup,MATCH($H$5,HVAC,0)+4,FALSE)))))","v":0},0,0,0,0,0,0,{"$f":"W41/1000*Y41*AA41*IF(IFERROR(SEARCH(\"Gas\",$H$5),0)>0,VLOOKUP(\"Gas\",HVACg_Lookup,MATCH($H$6,BuildingSize,0)+1,FALSE),IF(IFERROR(SEARCH(\"Oil\",$H$5),0)>0,VLOOKUP(\"Oil\",HVACg_Lookup,MATCH($H$6,BuildingSize,0)+1,FALSE),IF(IFERROR(SEARCH(\"Propane\",$H$5),0)>0,VLOOKUP(\"Propane\",HVACg_Lookup,MATCH(Worksheet!$H$6,BuildingSize,0)+1,FALSE),0)))","v":0},{"$f":"X41/1000*Y41*AA41*IF(IFERROR(SEARCH(\"Gas\",$H$5),0)>0,VLOOKUP(\"Gas\",HVACg_Lookup,MATCH($H$6,BuildingSize,0)+1,FALSE),IF(IFERROR(SEARCH(\"Oil\",$H$5),0)>0,VLOOKUP(\"Oil\",HVACg_Lookup,MATCH($H$6,BuildingSize,0)+1,FALSE),IF(IFERROR(SEARCH(\"Propane\",$H$5),0)>0,VLOOKUP(\"Propane\",HVACg_Lookup,MATCH(Worksheet!$H$6,BuildingSize,0)+1,FALSE),0)))","v":0},0,0,{"$f":"IF(OR($B$4=\"\",$B$5=\"\",$H$4=\"\",$H$6=\"\",$H$5=\"\",A41=\"\",F41=\"\",J41=\"\",O41=\"\",P41=\"\")=TRUE,\"\",IF(C41=\"OSW\",IF(J41>=2,1,0),IF(C41=\"OSR\",IF(AND(J41>=2,P41>60)=TRUE,1,0),IF(C41=\"OSRH\",IF(AND(J41>=1,P41>90)=TRUE,1,0),IF(C41=\"OHLC\",IF(AND(N41=\"Y\",P41>60)=TRUE,1,0),IF(C41=\"DDC\",IF(AND(J41>=4,N41=\"Y\",P41>120)=TRUE,1,0),0))))))","v":""},{"$f":"IF(OR($B$4=\"\",$B$5=\"\",$H$4=\"\",$H$6=\"\",$H$5=\"\",A41=\"\",F41=\"\",K41=\"\",O41=\"\",P41=\"\")=TRUE,\"\",IF(C41=\"OSW\",IF(K41>=2,1,0),IF(C41=\"OSR\",IF(AND(K41>=2,Q41>60)=TRUE,1,0),IF(C41=\"OSRH\",IF(AND(K41>=1,Q41>90)=TRUE,1,0),IF(C41=\"OHLC\",IF(AND(N41=\"Y\",Q41>60)=TRUE,1,0),IF(C41=\"DDC\",IF(AND(K41>=4,N41=\"Y\",Q41>120)=TRUE,1,0),0))))))","v":""}]
[null,null,"",null,null,null,null,null,null,null,null,null,null,null,null,0,0,0,0,"",0,0,0,0,0,{"$f":"IF($H$4=\"\",0,VLOOKUP($H$4,BuildingType_Lookup,3,FALSE))","v":0},{"$f":"IF($H$4=\"\",0,VLOOKUP($H$4,BuildingType_Lookup,2,FALSE))","v":0},{"$f":"IF(AND(OR(AN42=\"\",AN42=0)=TRUE,OR(AO42=\"\",AO42=0))=TRUE,0,IF(AO42=\"\",(IF(OR(C42=\"DDC\",C42=\"OHLC\")=TRUE,O42,P42)/1000)*Y42*Z42*(1+VLOOKUP($H$4,BuildingType_Lookup,4,FALSE)),IF(AO42=0,0,(IF(OR(C42=\"DDC\",C42=\"OHLC\")=TRUE,O42,Q42)/1000)*Y42*Z42*(1+VLOOKUP($H$4,BuildingType_Lookup,4,FALSE)))))","v":0},{"$f":"IF(AND(OR(AN42=\"\",AN42=0)=TRUE,OR(AO42=\"\",AO42=0))=TRUE,0,IF(AO42=\"\",(IF(OR(C42=\"DDC\",C42=\"OHLC\")=TRUE,O42,P42)/1000)*Y42*AA42*(1+VLOOKUP($H$4,BuildingType_Lookup,MATCH($H$5,HVAC,0)+4,FALSE)),IF(AO42=0,0,(IF(OR(C42=\"DDC\",C42=\"OHLC\")=TRUE,O42,Q42)/1000)*Y42*AA42*(1+VLOOKUP($H$4,BuildingType_Lookup,MATCH($H$5,HVAC,0)+4,FALSE)))))","v":0},0,0,0,0,0,0,{"$f":"W42/1000*Y42*AA42*IF(IFERROR(SEARCH(\"Gas\",$H$5),0)>0,VLOOKUP(\"Gas\",HVACg_Lookup,MATCH($H$6,BuildingSize,0)+1,FALSE),IF(IFERROR(SEARCH(\"Oil\",$H$5),0)>0,VLOOKUP(\"Oil\",HVACg_Lookup,MATCH($H$6,BuildingSize,0)+1,FALSE),IF(IFERROR(SEARCH(\"Propane\",$H$5),0)>0,VLOOKUP(\"Propane\",HVACg_Lookup,MATCH(Worksheet!$H$6,BuildingSize,0)+1,FALSE),0)))","v":0},{"$f":"X42/1000*Y42*AA42*IF(IFERROR(SEARCH(\"Gas\",$H$5),0)>0,VLOOKUP(\"Gas\",HVACg_Lookup,MATCH($H$6,BuildingSize,0)+1,FALSE),IF(IFERROR(SEARCH(\"Oil\",$H$5),0)>0,VLOOKUP(\"Oil\",HVACg_Lookup,MATCH($H$6,BuildingSize,0)+1,FALSE),IF(IFERROR(SEARCH(\"Propane\",$H$5),0)>0,VLOOKUP(\"Propane\",HVACg_Lookup,MATCH(Worksheet!$H$6,BuildingSize,0)+1,FALSE),0)))","v":0},0,0,{"$f":"IF(OR($B$4=\"\",$B$5=\"\",$H$4=\"\",$H$6=\"\",$H$5=\"\",A42=\"\",F42=\"\",J42=\"\",O42=\"\",P42=\"\")=TRUE,\"\",IF(C42=\"OSW\",IF(J42>=2,1,0),IF(C42=\"OSR\",IF(AND(J42>=2,P42>60)=TRUE,1,0),IF(C42=\"OSRH\",IF(AND(J42>=1,P42>90)=TRUE,1,0),IF(C42=\"OHLC\",IF(AND(N42=\"Y\",P42>60)=TRUE,1,0),IF(C42=\"DDC\",IF(AND(J42>=4,N42=\"Y\",P42>120)=TRUE,1,0),0))))))","v":""},{"$f":"IF(OR($B$4=\"\",$B$5=\"\",$H$4=\"\",$H$6=\"\",$H$5=\"\",A42=\"\",F42=\"\",K42=\"\",O42=\"\",P42=\"\")=TRUE,\"\",IF(C42=\"OSW\",IF(K42>=2,1,0),IF(C42=\"OSR\",IF(AND(K42>=2,Q42>60)=TRUE,1,0),IF(C42=\"OSRH\",IF(AND(K42>=1,Q42>90)=TRUE,1,0),IF(C42=\"OHLC\",IF(AND(N42=\"Y\",Q42>60)=TRUE,1,0),IF(C42=\"DDC\",IF(AND(K42>=4,N42=\"Y\",Q42>120)=TRUE,1,0),0))))))","v":""}]
[null,null,"",null,null,null,null,null,null,null,null,null,null,null,null,0,0,0,0,"",0,0,0,0,0,{"$f":"IF($H$4=\"\",0,VLOOKUP($H$4,BuildingType_Lookup,3,FALSE))","v":0},{"$f":"IF($H$4=\"\",0,VLOOKUP($H$4,BuildingType_Lookup,2,FALSE))","v":0},{"$f":"IF(AND(OR(AN43=\"\",AN43=0)=TRUE,OR(AO43=\"\",AO43=0))=TRUE,0,IF(AO43=\"\",(IF(OR(C43=\"DDC\",C43=\"OHLC\")=TRUE,O43,P43)/1000)*Y43*Z43*(1+VLOOKUP($H$4,BuildingType_Lookup,4,FALSE)),IF(AO43=0,0,(IF(OR(C43=\"DDC\",C43=\"OHLC\")=TRUE,O43,Q43)/1000)*Y43*Z43*(1+VLOOKUP($H$4,BuildingType_Lookup,4,FALSE)))))","v":0},{"$f":"IF(AND(OR(AN43=\"\",AN43=0)=TRUE,OR(AO43=\"\",AO43=0))=TRUE,0,IF(AO43=\"\",(IF(OR(C43=\"DDC\",C43=\"OHLC\")=TRUE,O43,P43)/1000)*Y43*AA43*(1+VLOOKUP($H$4,BuildingType_Lookup,MATCH($H$5,HVAC,0)+4,FALSE)),IF(AO43=0,0,(IF(OR(C43=\"DDC\",C43=\"OHLC\")=TRUE,O43,Q43)/1000)*Y43*AA43*(1+VLOOKUP($H$4,BuildingType_Lookup,MATCH($H$5,HVAC,0)+4,FALSE)))))","v":0},0,0,0,0,0,0,{"$f":"W43/1000*Y43*AA43*IF(IFERROR(SEARCH(\"Gas\",$H$5),0)>0,VLOOKUP(\"Gas\",HVACg_Lookup,MATCH($H$6,BuildingSize,0)+1,FALSE),IF(IFERROR(SEARCH(\"Oil\",$H$5),0)>0,VLOOKUP(\"Oil\",HVACg_Lookup,MATCH($H$6,BuildingSize,0)+1,FALSE),IF(IFERROR(SEARCH(\"Propane\",$H$5),0)>0,VLOOKUP(\"Propane\",HVACg_Lookup,MATCH(Worksheet!$H$6,BuildingSize,0)+1,FALSE),0)))","v":0},{"$f":"X43/1000*Y43*AA43*IF(IFERROR(SEARCH(\"Gas\",$H$5),0)>0,VLOOKUP(\"Gas\",HVACg_Lookup,MATCH($H$6,BuildingSize,0)+1,FALSE),IF(IFERROR(SEARCH(\"Oil\",$H$5),0)>0,VLOOKUP(\"Oil\",HVACg_Lookup,MATCH($H$6,BuildingSize,0)+1,FALSE),IF(IFERROR(SEARCH(\"Propane\",$H$5),0)>0,VLOOKUP(\"Propane\",HVACg_Lookup,MATCH(Worksheet!$H$6,BuildingSize,0)+1,FALSE),0)))","v":0},0,0,{"$f":"IF(OR($B$4=\"\",$B$5=\"\",$H$4=\"\",$H$6=\"\",$H$5=\"\",A43=\"\",F43=\"\",J43=\"\",O43=\"\",P43=\"\")=TRUE,\"\",IF(C43=\"OSW\",IF(J43>=2,1,0),IF(C43=\"OSR\",IF(AND(J43>=2,P43>60)=TRUE,1,0),IF(C43=\"OSRH\",IF(AND(J43>=1,P43>90)=TRUE,1,0),IF(C43=\"OHLC\",IF(AND(N43=\"Y\",P43>60)=TRUE,1,0),IF(C43=\"DDC\",IF(AND(J43>=4,N43=\"Y\",P43>120)=TRUE,1,0),0))))))","v":""},{"$f":"IF(OR($B$4=\"\",$B$5=\"\",$H$4=\"\",$H$6=\"\",$H$5=\"\",A43=\"\",F43=\"\",K43=\"\",O43=\"\",P43=\"\")=TRUE,\"\",IF(C43=\"OSW\",IF(K43>=2,1,0),IF(C43=\"OSR\",IF(AND(K43>=2,Q43>60)=TRUE,1,0),IF(C43=\"OSRH\",IF(AND(K43>=1,Q43>90)=TRUE,1,0),IF(C43=\"OHLC\",IF(AND(N43=\"Y\",Q43>60)=TRUE,1,0),IF(C43=\"DDC\",IF(AND(K43>=4,N43=\"Y\",Q43>120)=TRUE,1,0),0))))))","v":""}]
[null,null,"",null,null,null,null,null,null,null,null,null,null,null,null,0,0,0,0,"",0,0,0,0,0,{"$f":"IF($H$4=\"\",0,VLOOKUP($H$4,BuildingType_Lookup,3,FALSE))","v":0},{"$f":"IF($H$4=\"\",0,VLOOKUP($H$4,BuildingType_Lookup,2,FALSE))","v":0},{"$f":"IF(AND(OR(AN44=\"\",AN44=0)=TRUE,OR(AO44=\"\",AO44=0))=TRUE,0,IF(AO44=\"\",(IF(OR(C44=\"DDC\",C44=\"OHLC\")=TRUE,O44,P44)/1000)*Y44*Z44*(1+VLOOKUP($H$4,BuildingType_Lookup,4,FALSE)),IF(AO44=0,0,(IF(OR(C44=\"DDC\",C44=\"OHLC\")=TRUE,O44,Q44)/1000)*Y44*Z44*(1+VLOOKUP($H$4,BuildingType_Lookup,4,FALSE)))))","v":0},{"$f":"IF(AND(OR(AN44=\"\",AN44=0)=TRUE,OR(AO44=\"\",AO44=0))=TRUE,0,IF(AO44=\"\",(IF(OR(C44=\"DDC\",C44=\"OHLC\")=TRUE,O44,P44)/1000)*Y44*AA44*(1+VLOOKUP($H$4,BuildingType_Lookup,MATCH($H$5,HVAC,0)+4,FALSE)),IF(AO44=0,0,(IF(OR(C44=\"DDC\",C44=\"OHLC\")=TRUE,O44,Q44)/1000)*Y44*AA44*(1+VLOOKUP($H$4,BuildingType_Lookup,MATCH($H$5,HVAC,0)+4,FALSE)))))","v":0},0,0,0,0,0,0,{"$f":"W44/1000*Y44*AA44*IF(IFERROR(SEARCH(\"Gas\",$H$5),0)>0,VLOOKUP(\"Gas\",HVACg_Lookup,MATCH($H$6,BuildingSize,0)+1,FALSE),IF(IFERROR(SEARCH(\"Oil\",$H$5),0)>0,VLOOKUP(\"Oil\",HVACg_Lookup,MATCH($H$6,BuildingSize,0)+1,FALSE),IF(IFERROR(SEARCH(\"Propane\",$H$5),0)>0,VLOOKUP(\"Propane\",HVACg_Lookup,MATCH(Worksheet!$H$6,BuildingSize,0)+1,FALSE),0)))","v":0},{"$f":"X44/1000*Y44*AA44*IF(IFERROR(SEARCH(\"Gas\",$H$5),0)>0,VLOOKUP(\"Gas\",HVACg_Lookup,MATCH($H$6,BuildingSize,0)+1,FALSE),IF(IFERROR(SEARCH(\"Oil\",$H$5),0)>0,VLOOKUP(\"Oil\",HVACg_Lookup,MATCH($H$6,BuildingSize,0)+1,FALSE),IF(IFERROR(SEARCH(\"Propane\",$H$5),0)>0,VLOOKUP(\"Propane\",HVACg_Lookup,MATCH(Worksheet!$H$6,BuildingSize,0)+1,FALSE),0)))","v":0},0,0,{"$f":"IF(OR($B$4=\"\",$B$5=\"\",$H$4=\"\",$H$6=\"\",$H$5=\"\",A44=\"\",F44=\"\",J44=\"\",O44=\"\",P44=\"\")=TRUE,\"\",IF(C44=\"OSW\",IF(J44>=2,1,0),IF(C44=\"OSR\",IF(AND(J44>=2,P44>60)=TRUE,1,0),IF(C44=\"OSRH\",IF(AND(J44>=1,P44>90)=TRUE,1,0),IF(C44=\"OHLC\",IF(AND(N44=\"Y\",P44>60)=TRUE,1,0),IF(C44=\"DDC\",IF(AND(J44>=4,N44=\"Y\",P44>120)=TRUE,1,0),0))))))","v":""},{"$f":"IF(OR($B$4=\"\",$B$5=\"\",$H$4=\"\",$H$6=\"\",$H$5=\"\",A44=\"\",F44=\"\",K44=\"\",O44=\"\",P44=\"\")=TRUE,\"\",IF(C44=\"OSW\",IF(K44>=2,1,0),IF(C44=\"OSR\",IF(AND(K44>=2,Q44>60)=TRUE,1,0),IF(C44=\"OSRH\",IF(AND(K44>=1,Q44>90)=TRUE,1,0),IF(C44=\"OHLC\",IF(AND(N44=\"Y\",Q44>60)=TRUE,1,0),IF(C44=\"DDC\",IF(AND(K44>=4,N44=\"Y\",Q44>120)=TRUE,1,0),0))))))","v":""}]
[null,null,"",null,null,null,null,null,null,null,null,null,null,null,null,0,0,0,0,"",0,0,0,0,0,{"$f":"IF($H$4=\"\",0,VLOOKUP($H$4,BuildingType_Lookup,3,FALSE))","v":0},{"$f":"IF($H$4=\"\",0,VLOOKUP($H$4,BuildingType_Lookup,2,FALSE))","v":0},{"$f":"IF(AND(OR(AN45=\"\",AN45=0)=TRUE,OR(AO45=\"\",AO45=0))=TRUE,0,IF(AO45=\"\",(IF(OR(C45=\"DDC\",C45=\"OHLC\")=TRUE,O45,P45)/1000)*Y45*Z45*(1+VLOOKUP($H$4,BuildingType_Lookup,4,FALSE)),IF(AO45=0,0,(IF(OR(C45=\"DDC\",C45=\"OHLC\")=TRUE,O45,Q45)/1000)*Y45*Z45*(1+VLOOKUP($H$4,BuildingType_Lookup,4,FALSE)))))","v":0},{"$f":"IF(AND(OR(AN45=\"\",AN45=0)=TRUE,OR(AO45=\"\",AO45=0))=TRUE,0,IF(AO45=\"\",(IF(OR(C45=\"DDC\",C45=\"OHLC\")=TRUE,O45,P45)/1000)*Y45*AA45*(1+VLOOKUP($H$4,BuildingType_Lookup,MATCH($H$5,HVAC,0)+4,FALSE)),IF(AO45=0,0,(IF(OR(C45=\"DDC\",C45=\"OHLC\")=TRUE,O45,Q45)/1000)*Y45*AA45*(1+VLOOKUP($H$4,BuildingType_Lookup,MATCH($H$5,HVAC,0)+4,FALSE)))))","v":0},0,0,0,0,0,0,{"$f":"W45/1000*Y45*AA45*IF(IFERROR(SEARCH(\"Gas\",$H$5),0)>0,VLOOKUP(\"Gas\",HVACg_Lookup,MATCH($H$6,BuildingSize,0)+1,FALSE),IF(IFERROR(SEARCH(\"Oil\",$H$5),0)>0,VLOOKUP(\"Oil\",HVACg_Lookup,MATCH($H$6,BuildingSize,0)+1,FALSE),IF(IFERROR(SEARCH(\"Propane\",$H$5),0)>0,VLOOKUP(\"Propane\",HVACg_Lookup,MATCH(Worksheet!$H$6,BuildingSize,0)+1,FALSE),0)))","v":0},{"$f":"X45/1000*Y45*AA45*IF(IFERROR(SEARCH(\"Gas\",$H$5),0)>0,VLOOKUP(\"Gas\",HVACg_Lookup,MATCH($H$6,BuildingSize,0)+1,FALSE),IF(IFERROR(SEARCH(\"Oil\",$H$5),0)>0,VLOOKUP(\"Oil\",HVACg_Lookup,MATCH($H$6,BuildingSize,0)+1,FALSE),IF(IFERROR(SEARCH(\"Propane\",$H$5),0)>0,VLOOKUP(\"Propane\",HVACg_Lookup,MATCH(Worksheet!$H$6,BuildingSize,0)+1,FALSE),0)))","v":0},0,0,{"$f":"IF(OR($B$4=\"\",$B$5=\"\",$H$4=\"\",$H$6=\"\",$H$5=\"\",A45=\"\",F45=\"\",J45=\"\",O45=\"\",P45=\"\")=TRUE,\"\",IF(C45=\"OSW\",IF(J45>=2,1,0),IF(C45=\"OSR\",IF(AND(J45>=2,P45>60)=TRUE,1,0),IF(C45=\"OSRH\",IF(AND(J45>=1,P45>90)=TRUE,1,0),IF(C45=\"OHLC\",IF(AND(N45=\"Y\",P45>60)=TRUE,1,0),IF(C45=\"DDC\",IF(AND(J45>=4,N45=\"Y\",P45>120)=TRUE,1,0),0))))))","v":""},{"$f":"IF(OR($B$4=\"\",$B$5=\"\",$H$4=\"\",$H$6=\"\",$H$5=\"\",A45=\"\",F45=\"\",K45=\"\",O45=\"\",P45=\"\")=TRUE,\"\",IF(C45=\"OSW\",IF(K45>=2,1,0),IF(C45=\"OSR\",IF(AND(K45>=2,Q45>60)=TRUE,1,0),IF(C45=\"OSRH\",IF(AND(K45>=1,Q45>90)=TRUE,1,0),IF(C45=\"OHLC\",IF(AND(N45=\"Y\",Q45>60)=TRUE,1,0),IF(C45=\"DDC\",IF(AND(K45>=4,N45=\"Y\",Q45>120)=TRUE,1,0),0))))))","v":""}]
[null,null,"",null,null,null,null,null,null,null,null,null,null,null,null,0,0,0,0,"",0,0,0,0,0,{"$f":"IF($H$4=\"\",0,VLOOKUP($H$4,BuildingType_Lookup,3,FALSE))","v":0},{"$f":"IF($H$4=\"\",0,VLOOKUP($H$4,BuildingType_Lookup,2,FALSE))","v":0},{"$f":"IF(AND(OR(AN46=\"\",AN46=0)=TRUE,OR(AO46=\"\",AO46=0))=TRUE,0,IF(AO46=\"\",(IF(OR(C46=\"DDC\",C46=\"OHLC\")=TRUE,O46,P46)/1000)*Y46*Z46*(1+VLOOKUP($H$4,BuildingType_Lookup,4,FALSE)),IF(AO46=0,0,(IF(OR(C46=\"DDC\",C46=\"OHLC\")=TRUE,O46,Q46)/1000)*Y46*Z46*(1+VLOOKUP($H$4,BuildingType_Lookup,4,FALSE)))))","v":0},{"$f":"IF(AND(OR(AN46=\"\",AN46=0)=TRUE,OR(AO46=\"\",AO46=0))=TRUE,0,IF(AO46=\"\",(IF(OR(C46=\"DDC\",C46=\"OHLC\")=TRUE,O46,P46)/1000)*Y46*AA46*(1+VLOOKUP($H$4,BuildingType_Lookup,MATCH($H$5,HVAC,0)+4,FALSE)),IF(AO46=0,0,(IF(OR(C46=\"DDC\",C46=\"OHLC\")=TRUE,O46,Q46)/1000)*Y46*AA46*(1+VLOOKUP($H$4,BuildingType_Lookup,MATCH($H$5,HVAC,0)+4,FALSE)))))","v":0},0,0,0,0,0,0,{"$f":"W46/1000*Y46*AA46*IF(IFERROR(SEARCH(\"Gas\",$H$5),0)>0,VLOOKUP(\"Gas\",HVACg_Lookup,MATCH($H$6,BuildingSize,0)+1,FALSE),IF(IFERROR(SEARCH(\"Oil\",$H$5),0)>0,VLOOKUP(\"Oil\",HVACg_Lookup,MATCH($H$6,BuildingSize,0)+1,FALSE),IF(IFERROR(SEARCH(\"Propane\",$H$5),0)>0,VLOOKUP(\"Propane\",HVACg_Lookup,MATCH(Worksheet!$H$6,BuildingSize,0)+1,FALSE),0)))","v":0},{"$f":"X46/1000*Y46*AA46*IF(IFERROR(SEARCH(\"Gas\",$H$5),0)>0,VLOOKUP(\"Gas\",HVACg_Lookup,MATCH($H$6,BuildingSize,0)+1,FALSE),IF(IFERROR(SEARCH(\"Oil\",$H$5),0)>0,VLOOKUP(\"Oil\",HVACg_Lookup,MATCH($H$6,BuildingSize,0)+1,FALSE),IF(IFERROR(SEARCH(\"Propane\",$H$5),0)>0,VLOOKUP(\"Propane\",HVACg_Lookup,MATCH(Worksheet!$H$6,BuildingSize,0)+1,FALSE),0)))","v":0},0,0,{"$f":"IF(OR($B$4=\"\",$B$5=\"\",$H$4=\"\",$H$6=\"\",$H$5=\"\",A46=\"\",F46=\"\",J46=\"\",O46=\"\",P46=\"\")=TRUE,\"\",IF(C46=\"OSW\",IF(J46>=2,1,0),IF(C46=\"OSR\",IF(AND(J46>=2,P46>60)=TRUE,1,0),IF(C46=\"OSRH\",IF(AND(J46>=1,P46>90)=TRUE,1,0),IF(C46=\"OHLC\",IF(AND(N46=\"Y\",P46>60)=TRUE,1,0),IF(C46=\"DDC\",IF(AND(J46>=4,N46=\"Y\",P46>120)=TRUE,1,0),0))))))","v":""},{"$f":"IF(OR($B$4=\"\",$B$5=\"\",$H$4=\"\",$H$6=\"\",$H$5=\"\",A46=\"\",F46=\"\",K46=\"\",O46=\"\",P46=\"\")=TRUE,\"\",IF(C46=\"OSW\",IF(K46>=2,1,0),IF(C46=\"OSR\",IF(AND(K46>=2,Q46>60)=TRUE,1,0),IF(C46=\"OSRH\",IF(AND(K46>=1,Q46>90)=TRUE,1,0),IF(C46=\"OHLC\",IF(AND(N46=\"Y\",Q46>60)=TRUE,1,0),IF(C46=\"DDC\",IF(AND(K46>=4,N46=\"Y\",Q46>120)=TRUE,1,0),0))))))","v":""}]
[null,null,"",null,null,null,null,null,null,null,null,null,null,null,null,0,0,0,0,"",0,0,0,0,0,{"$f":"IF($H$4=\"\",0,VLOOKUP($H$4,BuildingType_Lookup,3,FALSE))","v":0},{"$f":"IF($H$4=\"\",0,VLOOKUP($H$4,BuildingType_Lookup,2,FALSE))","v":0},{"$f":"IF(AND(OR(AN47=\"\",AN47=0)=TRUE,OR(AO47=\"\",AO47=0))=TRUE,0,IF(AO47=\"\",(IF(OR(C47=\"DDC\",C47=\"OHLC\")=TRUE,O47,P47)/1000)*Y47*Z47*(1+VLOOKUP($H$4,BuildingType_Lookup,4,FALSE)),IF(AO47=0,0,(IF(OR(C47=\"DDC\",C47=\"OHLC\")=TRUE,O47,Q47)/1000)*Y47*Z47*(1+VLOOKUP($H$4,BuildingType_Lookup,4,FALSE)))))","v":0},{"$f":"IF(AND(OR(AN47=\"\",AN47=0)=TRUE,OR(AO47=\"\",AO47=0))=TRUE,0,IF(AO47=\"\",(IF(OR(C47=\"DDC\",C47=\"OHLC\")=TRUE,O47,P47)/1000)*Y47*AA47*(1+VLOOKUP($H$4,BuildingType_Lookup,MATCH($H$5,HVAC,0)+4,FALSE)),IF(AO47=0,0,(IF(OR(C47=\"DDC\",C47=\"OHLC\")=TRUE,O47,Q47)/1000)*Y47*AA47*(1+VLOOKUP($H$4,BuildingType_Lookup,MATCH($H$5,HVAC,0)+4,FALSE)))))","v":0},0,0,0,0,0,0,{"$f":"W47/1000*Y47*AA47*IF(IFERROR(SEARCH(\"Gas\",$H$5),0)>0,VLOOKUP(\"Gas\",HVACg_Lookup,MATCH($H$6,BuildingSize,0)+1,FALSE),IF(IFERROR(SEARCH(\"Oil\",$H$5),0)>0,VLOOKUP(\"Oil\",HVACg_Lookup,MATCH($H$6,BuildingSize,0)+1,FALSE),IF(IFERROR(SEARCH(\"Propane\",$H$5),0)>0,VLOOKUP(\"Propane\",HVACg_Lookup,MATCH(Worksheet!$H$6,BuildingSize,0)+1,FALSE),0)))","v":0},{"$f":"X47/1000*Y47*AA47*IF(IFERROR(SEARCH(\"Gas\",$H$5),0)>0,VLOOKUP(\"Gas\",HVACg_Lookup,MATCH($H$6,BuildingSize,0)+1,FALSE),IF(IFERROR(SEARCH(\"Oil\",$H$5),0)>0,VLOOKUP(\"Oil\",HVACg_Lookup,MATCH($H$6,BuildingSize,0)+1,FALSE),IF(IFERROR(SEARCH(\"Propane\",$H$5),0)>0,VLOOKUP(\"Propane\",HVACg_Lookup,MATCH(Worksheet!$H$6,BuildingSize,0)+1,FALSE),0)))","v":0},0,0,{"$f":"IF(OR($B$4=\"\",$B$5=\"\",$H$4=\"\",$H$6=\"\",$H$5=\"\",A47=\"\",F47=\"\",J47=\"\",O47=\"\",P47=\"\")=TRUE,\"\",IF(C47=\"OSW\",IF(J47>=2,1,0),IF(C47=\"OSR\",IF(AND(J47>=2,P47>60)=TRUE,1,0),IF(C47=\"OSRH\",IF(AND(J47>=1,P47>90)=TRUE,1,0),IF(C47=\"OHLC\",IF(AND(N47=\"Y\",P47>60)=TRUE,1,0),IF(C47=\"DDC\",IF(AND(J47>=4,N47=\"Y\",P47>120)=TRUE,1,0),0))))))","v":""},{"$f":"IF(OR($B$4=\"\",$B$5=\"\",$H$4=\"\",$H$6=\"\",$H$5=\"\",A47=\"\",F47=\"\",K47=\"\",O47=\"\",P47=\"\")=TRUE,\"\",IF(C47=\"OSW\",IF(K47>=2,1,0),IF(C47=\"OSR\",IF(AND(K47>=2,Q47>60)=TRUE,1,0),IF(C47=\"OSRH\",IF(AND(K47>=1,Q47>90)=TRUE,1,0),IF(C47=\"OHLC\",IF(AND(N47=\"Y\",Q47>60)=TRUE,1,0),IF(C47=\"DDC\",IF(AND(K47>=4,N47=\"Y\",Q47>120)=TRUE,1,0),0))))))","v":""}]
[null,null,"",null,null,null,null,null,null,null,null,null,null,null,null,0,0,0,0,"",0,0,0,0,0,{"$f":"IF($H$4=\"\",0,VLOOKUP($H$4,BuildingType_Lookup,3,FALSE))","v":0},{"$f":"IF($H$4=\"\",0,VLOOKUP($H$4,BuildingType_Lookup,2,FALSE))","v":0},{"$f":"IF(AND(OR(AN48=\"\",AN48=0)=TRUE,OR(AO48=\"\",AO48=0))=TRUE,0,IF(AO48=\"\",(IF(OR(C48=\"DDC\",C48=\"OHLC\")=TRUE,O48,P48)/1000)*Y48*Z48*(1+VLOOKUP($H$4,BuildingType_Lookup,4,FALSE)),IF(AO48=0,0,(IF(OR(C48=\"DDC\",C48=\"OHLC\")=TRUE,O48,Q48)/1000)*Y48*Z48*(1+VLOOKUP($H$4,BuildingType_Lookup,4,FALSE)))))","v":0},{"$f":"IF(AND(OR(AN48=\"\",AN48=0)=TRUE,OR(AO48=\"\",AO48=0))=TRUE,0,IF(AO48=\"\",(IF(OR(C48=\"DDC\",C48=\"OHLC\")=TRUE,O48,P48)/1000)*Y48*AA48*(1+VLOOKUP($H$4,BuildingType_Lookup,MATCH($H$5,HVAC,0)+4,FALSE)),IF(AO48=0,0,(IF(OR(C48=\"DDC\",C48=\"OHLC\")=TRUE,O48,Q48)/1000)*Y48*AA48*(1+VLOOKUP($H$4,BuildingType_Lookup,MATCH($H$5,HVAC,0)+4,FALSE)))))","v":0},0,0,0,0,0,0,{"$f":"W48/1000*Y48*AA48*IF(IFERROR(SEARCH(\"Gas\",$H$5),0)>0,VLOOKUP(\"Gas\",HVACg_Lookup,MATCH($H$6,BuildingSize,0)+1,FALSE),IF(IFERROR(SEARCH(\"Oil\",$H$5),0)>0,VLOOKUP(\"Oil\",HVACg_Lookup,MATCH($H$6,BuildingSize,0)+1,FALSE),IF(IFERROR(SEARCH(\"Propane\",$H$5),0)>0,VLOOKUP(\"Propane\",HVACg_Lookup,MATCH(Worksheet!$H$6,BuildingSize,0)+1,FALSE),0)))","v":0},{"$f":"X48/1000*Y48*AA48*IF(IFERROR(SEARCH(\"Gas\",$H$5),0)>0,VLOOKUP(\"Gas\",HVACg_Lookup,MATCH($H$6,BuildingSize,0)+1,FALSE),IF(IFERROR(SEARCH(\"Oil\",$H$5),0)>0,VLOOKUP(\"Oil\",HVACg_Lookup,MATCH($H$6,BuildingSize,0)+1,FALSE),IF(IFERROR(SEARCH(\"Propane\",$H$5),0)>0,VLOOKUP(\"Propane\",HVACg_Lookup,MATCH(Worksheet!$H$6,BuildingSize,0)+1,FALSE),0)))","v":0},0,0,{"$f":"IF(OR($B$4=\"\",$B$5=\"\",$H$4=\"\",$H$6=\"\",$H$5=\"\",A48=\"\",F48=\"\",J48=\"\",O48=\"\",P48=\"\")=TRUE,\"\",IF(C48=\"OSW\",IF(J48>=2,1,0),IF(C48=\"OSR\",IF(AND(J48>=2,P48>60)=TRUE,1,0),IF(C48=\"OSRH\",IF(AND(J48>=1,P48>90)=TRUE,1,0),IF(C48=\"OHLC\",IF(AND(N48=\"Y\",P48>60)=TRUE,1,0),IF(C48=\"DDC\",IF(AND(J48>=4,N48=\"Y\",P48>120)=TRUE,1,0),0))))))","v":""},{"$f":"IF(OR($B$4=\"\",$B$5=\"\",$H$4=\"\",$H$6=\"\",$H$5=\"\",A48=\"\",F48=\"\",K48=\"\",O48=\"\",P48=\"\")=TRUE,\"\",IF(C48=\"OSW\",IF(K48>=2,1,0),IF(C48=\"OSR\",IF(AND(K48>=2,Q48>60)=TRUE,1,0),IF(C48=\"OSRH\",IF(AND(K48>=1,Q48>90)=TRUE,1,0),IF(C48=\"OHLC\",IF(AND(N48=\"Y\",Q48>60)=TRUE,1,0),IF(C48=\"DDC\",IF(AND(K48>=4,N48=\"Y\",Q48>120)=TRUE,1,0),0))))))","v":""}]
[null,null,"",null,null,null,null,null,null,null,null,null,null,null,null,0,0,0,0,"",0,0,0,0,0,{"$f":"IF($H$4=\"\",0,VLOOKUP($H$4,BuildingType_Lookup,3,FALSE))","v":0},{"$f":"IF($H$4=\"\",0,VLOOKUP($H$4,BuildingType_Lookup,2,FALSE))","v":0},{"$f":"IF(AND(OR(AN49=\"\",AN49=0)=TRUE,OR(AO49=\"\",AO49=0))=TRUE,0,IF(AO49=\"\",(IF(OR(C49=\"DDC\",C49=\"OHLC\")=TRUE,O49,P49)/1000)*Y49*Z49*(1+VLOOKUP($H$4,BuildingType_Lookup,4,FALSE)),IF(AO49=0,0,(IF(OR(C49=\"DDC\",C49=\"OHLC\")=TRUE,O49,Q49)/1000)*Y49*Z49*(1+VLOOKUP($H$4,BuildingType_Lookup,4,FALSE)))))","v":0},{"$f":"IF(AND(OR(AN49=\"\",AN49=0)=TRUE,OR(AO49=\"\",AO49=0))=TRUE,0,IF(AO49=\"\",(IF(OR(C49=\"DDC\",C49=\"OHLC\")=TRUE,O49,P49)/1000)*Y49*AA49*(1+VLOOKUP($H$4,BuildingType_Lookup,MATCH($H$5,HVAC,0)+4,FALSE)),IF(AO49=0,0,(IF(OR(C49=\"DDC\",C49=\"OHLC\")=TRUE,O49,Q49)/1000)*Y49*AA49*(1+VLOOKUP($H$4,BuildingType_Lookup,MATCH($H$5,HVAC,0)+4,FALSE)))))","v":0},0,0,0,0,0,0,{"$f":"W49/1000*Y49*AA49*IF(IFERROR(SEARCH(\"Gas\",$H$5),0)>0,VLOOKUP(\"Gas\",HVACg_Lookup,MATCH($H$6,BuildingSize,0)+1,FALSE),IF(IFERROR(SEARCH(\"Oil\",$H$5),0)>0,VLOOKUP(\"Oil\",HVACg_Lookup,MATCH($H$6,BuildingSize,0)+1,FALSE),IF(IFERROR(SEARCH(\"Propane\",$H$5),0)>0,VLOOKUP(\"Propane\",HVACg_Lookup,MATCH(Worksheet!$H$6,BuildingSize,0)+1,FALSE),0)))","v":0},{"$f":"X49/1000*Y49*AA49*IF(IFERROR(SEARCH(\"Gas\",$H$5),0)>0,VLOOKUP(\"Gas\",HVACg_Lookup,MATCH($H$6,BuildingSize,0)+1,FALSE),IF(IFERROR(SEARCH(\"Oil\",$H$5),0)>0,VLOOKUP(\"Oil\",HVACg_Lookup,MATCH($H$6,BuildingSize,0)+1,FALSE),IF(IFERROR(SEARCH(\"Propane\",$H$5),0)>0,VLOOKUP(\"Propane\",HVACg_Lookup,MATCH(Worksheet!$H$6,BuildingSize,0)+1,FALSE),0)))","v":0},0,0,{"$f":"IF(OR($B$4=\"\",$B$5=\"\",$H$4=\"\",$H$6=\"\",$H$5=\"\",A49=\"\",F49=\"\",J49=\"\",O49=\"\",P49=\"\")=TRUE,\"\",IF(C49=\"OSW\",IF(J49>=2,1,0),IF(C49=\"OSR\",IF(AND(J49>=2,P49>60)=TRUE,1,0),IF(C49=\"OSRH\",IF(AND(J49>=1,P49>90)=TRUE,1,0),IF(C49=\"OHLC\",IF(AND(N49=\"Y\",P49>60)=TRUE,1,0),IF(C49=\"DDC\",IF(AND(J49>=4,N49=\"Y\",P49>120)=TRUE,1,0),0))))))","v":""},{"$f":"IF(OR($B$4=\"\",$B$5=\"\",$H$4=\"\",$H$6=\"\",$H$5=\"\",A49=\"\",F49=\"\",K49=\"\",O49=\"\",P49=\"\")=TRUE,\"\",IF(C49=\"OSW\",IF(K49>=2,1,0),IF(C49=\"OSR\",IF(AND(K49>=2,Q49>60)=TRUE,1,0),IF(C49=\"OSRH\",IF(AND(K49>=1,Q49>90)=TRUE,1,0),IF(C49=\"OHLC\",IF(AND(N49=\"Y\",Q49>60)=TRUE,1,0),IF(C49=\"DDC\",IF(AND(K49>=4,N49=\"Y\",Q49>120)=TRUE,1,0),0))))))","v":""}]
[null,null,"",null,null,null,null,null,null,null,null,null,null,null,null,0,0,0,0,"",0,0,0,0,0,{"$f":"IF($H$4=\"\",0,VLOOKUP($H$4,BuildingType_Lookup,3,FALSE))","v":0},{"$f":"IF($H$4=\"\",0,VLOOKUP($H$4,BuildingType_Lookup,2,FALSE))","v":0},{"$f":"IF(AND(OR(AN50=\"\",AN50=0)=TRUE,OR(AO50=\"\",AO50=0))=TRUE,0,IF(AO50=\"\",(IF(OR(C50=\"DDC\",C50=\"OHLC\")=TRUE,O50,P50)/1000)*Y50*Z50*(1+VLOOKUP($H$4,BuildingType_Lookup,4,FALSE)),IF(AO50=0,0,(IF(OR(C50=\"DDC\",C50=\"OHLC\")=TRUE,O50,Q50)/1000)*Y50*Z50*(1+VLOOKUP($H$4,BuildingType_Lookup,4,FALSE)))))","v":0},{"$f":"IF(AND(OR(AN50=\"\",AN50=0)=TRUE,OR(AO50=\"\",AO50=0))=TRUE,0,IF(AO50=\"\",(IF(OR(C50=\"DDC\",C50=\"OHLC\")=TRUE,O50,P50)/1000)*Y50*AA50*(1+VLOOKUP($H$4,BuildingType_Lookup,MATCH($H$5,HVAC,0)+4,FALSE)),IF(AO50=0,0,(IF(OR(C50=\"DDC\",C50=\"OHLC\")=TRUE,O50,Q50)/1000)*Y50*AA50*(1+VLOOKUP($H$4,BuildingType_Lookup,MATCH($H$5,HVAC,0)+4,FALSE)))))","v":0},0,0,0,0,0,0,{"$f":"W50/1000*Y50*AA50*IF(IFERROR(SEARCH(\"Gas\",$H$5),0)>0,VLOOKUP(\"Gas\",HVACg_Lookup,MATCH($H$6,BuildingSize,0)+1,FALSE),IF(IFERROR(SEARCH(\"Oil\",$H$5),0)>0,VLOOKUP(\"Oil\",HVACg_Lookup,MATCH($H$6,BuildingSize,0)+1,FALSE),IF(IFERROR(SEARCH(\"Propane\",$H$5),0)>0,VLOOKUP(\"Propane\",HVACg_Lookup,MATCH(Worksheet!$H$6,BuildingSize,0)+1,FALSE),0)))","v":0},{"$f":"X50/1000*Y50*AA50*IF(IFERROR(SEARCH(\"Gas\",$H$5),0)>0,VLOOKUP(\"Gas\",HVACg_Lookup,MATCH($H$6,BuildingSize,0)+1,FALSE),IF(IFERROR(SEARCH(\"Oil\",$H$5),0)>0,VLOOKUP(\"Oil\",HVACg_Lookup,MATCH($H$6,BuildingSize,0)+1,FALSE),IF(IFERROR(SEARCH(\"Propane\",$H$5),0)>0,VLOOKUP(\"Propane\",HVACg_Lookup,MATCH(Worksheet!$H$6,BuildingSize,0)+1,FALSE),0)))","v":0},0,0,{"$f":"IF(OR($B$4=\"\",$B$5=\"\",$H$4=\"\",$H$6=\"\",$H$5=\"\",A50=\"\",F50=\"\",J50=\"\",O50=\"\",P50=\"\")=TRUE,\"\",IF(C50=\"OSW\",IF(J50>=2,1,0),IF(C50=\"OSR\",IF(AND(J50>=2,P50>60)=TRUE,1,0),IF(C50=\"OSRH\",IF(AND(J50>=1,P50>90)=TRUE,1,0),IF(C50=\"OHLC\",IF(AND(N50=\"Y\",P50>60)=TRUE,1,0),IF(C50=\"DDC\",IF(AND(J50>=4,N50=\"Y\",P50>120)=TRUE,1,0),0))))))","v":""},{"$f":"IF(OR($B$4=\"\",$B$5=\"\",$H$4=\"\",$H$6=\"\",$H$5=\"\",A50=\"\",F50=\"\",K50=\"\",O50=\"\",P50=\"\")=TRUE,\"\",IF(C50=\"OSW\",IF(K50>=2,1,0),IF(C50=\"OSR\",IF(AND(K50>=2,Q50>60)=TRUE,1,0),IF(C50=\"OSRH\",IF(AND(K50>=1,Q50>90)=TRUE,1,0),IF(C50=\"OHLC\",IF(AND(N50=\"Y\",Q50>60)=TRUE,1,0),IF(C50=\"DDC\",IF(AND(K50>=4,N50=\"Y\",Q50>120)=TRUE,1,0),0))))))","v":""}]
[null,null,"",null,null,null,null,null,null,null,null,null,null,null,null,0,0,0,0,"",0,0,0,0,0,{"$f":"IF($H$4=\"\",0,VLOOKUP($H$4,BuildingType_Lookup,3,FALSE))","v":0},{"$f":"IF($H$4=\"\",0,VLOOKUP($H$4,BuildingType_Lookup,2,FALSE))","v":0},{"$f":"IF(AND(OR(AN51=\"\",AN51=0)=TRUE,OR(AO51=\"\",AO51=0))=TRUE,0,IF(AO51=\"\",(IF(OR(C51=\"DDC\",C51=\"OHLC\")=TRUE,O51,P51)/1000)*Y51*Z51*(1+VLOOKUP($H$4,BuildingType_Lookup,4,FALSE)),IF(AO51=0,0,(IF(OR(C51=\"DDC\",C51=\"OHLC\")=TRUE,O51,Q51)/1000)*Y51*Z51*(1+VLOOKUP($H$4,BuildingType_Lookup,4,FALSE)))))","v":0},{"$f":"IF(AND(OR(AN51=\"\",AN51=0)=TRUE,OR(AO51=\"\",AO51=0))=TRUE,0,IF(AO51=\"\",(IF(OR(C51=\"DDC\",C51=\"OHLC\")=TRUE,O51,P51)/1000)*Y51*AA51*(1+VLOOKUP($H$4,BuildingType_Lookup,MATCH($H$5,HVAC,0)+4,FALSE)),IF(AO51=0,0,(IF(OR(C51=\"DDC\",C51=\"OHLC\")=TRUE,O51,Q51)/1000)*Y51*AA51*(1+VLOOKUP($H$4,BuildingType_Lookup,MATCH($H$5,HVAC,0)+4,FALSE)))))","v":0},0,0,0,0,0,0,{"$f":"W51/1000*Y51*AA51*IF(IFERROR(SEARCH(\"Gas\",$H$5),0)>0,VLOOKUP(\"Gas\",HVACg_Lookup,MATCH($H$6,BuildingSize,0)+1,FALSE),IF(IFERROR(SEARCH(\"Oil\",$H$5),0)>0,VLOOKUP(\"Oil\",HVACg_Lookup,MATCH($H$6,BuildingSize,0)+1,FALSE),IF(IFERROR(SEARCH(\"Propane\",$H$5),0)>0,VLOOKUP(\"Propane\",HVACg_Lookup,MATCH(Worksheet!$H$6,BuildingSize,0)+1,FALSE),0)))","v":0},{"$f":"X51/1000*Y51*AA51*IF(IFERROR(SEARCH(\"Gas\",$H$5),0)>0,VLOOKUP(\"Gas\",HVACg_Lookup,MATCH($H$6,BuildingSize,0)+1,FALSE),IF(IFERROR(SEARCH(\"Oil\",$H$5),0)>0,VLOOKUP(\"Oil\",HVACg_Lookup,MATCH($H$6,BuildingSize,0)+1,FALSE),IF(IFERROR(SEARCH(\"Propane\",$H$5),0)>0,VLOOKUP(\"Propane\",HVACg_Lookup,MATCH(Worksheet!$H$6,BuildingSize,0)+1,FALSE),0)))","v":0},0,0,{"$f":"IF(OR($B$4=\"\",$B$5=\"\",$H$4=\"\",$H$6=\"\",$H$5=\"\",A51=\"\",F51=\"\",J51=\"\",O51=\"\",P51=\"\")=TRUE,\"\",IF(C51=\"OSW\",IF(J51>=2,1,0),IF(C51=\"OSR\",IF(AND(J51>=2,P51>60)=TRUE,1,0),IF(C51=\"OSRH\",IF(AND(J51>=1,P51>90)=TRUE,1,0),IF(C51=\"OHLC\",IF(AND(N51=\"Y\",P51>60)=TRUE,1,0),IF(C51=\"DDC\",IF(AND(J51>=4,N51=\"Y\",P51>120)=TRUE,1,0),0))))))","v":""},{"$f":"IF(OR($B$4=\"\",$B$5=\"\",$H$4=\"\",$H$6=\"\",$H$5=\"\",A51=\"\",F51=\"\",K51=\"\",O51=\"\",P51=\"\")=TRUE,\"\",IF(C51=\"OSW\",IF(K51>=2,1,0),IF(C51=\"OSR\",IF(AND(K51>=2,Q51>60)=TRUE,1,0),IF(C51=\"OSRH\",IF(AND(K51>=1,Q51>90)=TRUE,1,0),IF(C51=\"OHLC\",IF(AND(N51=\"Y\",Q51>60)=TRUE,1,0),IF(C51=\"DDC\",IF(AND(K51>=4,N51=\"Y\",Q51>120)=TRUE,1,0),0))))))","v":""}]
[null,null,"",null,null,null,null,null,null,null,null,null,null,null,null,0,0,0,0,"",0,0,0,0,0,{"$f":"IF($H$4=\"\",0,VLOOKUP($H$4,BuildingType_Lookup,3,FALSE))","v":0},{"$f":"IF($H$4=\"\",0,VLOOKUP($H$4,BuildingType_Lookup,2,FALSE))","v":0},{"$f":"IF(AND(OR(AN52=\"\",AN52=0)=TRUE,OR(AO52=\"\",AO52=0))=TRUE,0,IF(AO52=\"\",(IF(OR(C52=\"DDC\",C52=\"OHLC\")=TRUE,O52,P52)/1000)*Y52*Z52*(1+VLOOKUP($H$4,BuildingType_Lookup,4,FALSE)),IF(AO52=0,0,(IF(OR(C52=\"DDC\",C52=\"OHLC\")=TRUE,O52,Q52)/1000)*Y52*Z52*(1+VLOOKUP($H$4,BuildingType_Lookup,4,FALSE)))))","v":0},{"$f":"IF(AND(OR(AN52=\"\",AN52=0)=TRUE,OR(AO52=\"\",AO52=0))=TRUE,0,IF(AO52=\"\",(IF(OR(C52=\"DDC\",C52=\"OHLC\")=TRUE,O52,P52)/1000)*Y52*AA52*(1+VLOOKUP($H$4,BuildingType_Lookup,MATCH($H$5,HVAC,0)+4,FALSE)),IF(AO52=0,0,(IF(OR(C52=\"DDC\",C52=\"OHLC\")=TRUE,O52,Q52)/1000)*Y52*AA52*(1+VLOOKUP($H$4,BuildingType_Lookup,MATCH($H$5,HVAC,0)+4,FALSE)))))","v":0},0,0,0,0,0,0,{"$f":"W52/1000*Y52*AA52*IF(IFERROR(SEARCH(\"Gas\",$H$5),0)>0,VLOOKUP(\"Gas\",HVACg_Lookup,MATCH($H$6,BuildingSize,0)+1,FALSE),IF(IFERROR(SEARCH(\"Oil\",$H$5),0)>0,VLOOKUP(\"Oil\",HVACg_Lookup,MATCH($H$6,BuildingSize,0)+1,FALSE),IF(IFERROR(SEARCH(\"Propane\",$H$5),0)>0,VLOOKUP(\"Propane\",HVACg_Lookup,MATCH(Worksheet!$H$6,BuildingSize,0)+1,FALSE),0)))","v":0},{"$f":"X52/1000*Y52*AA52*IF(IFERROR(SEARCH(\"Gas\",$H$5),0)>0,VLOOKUP(\"Gas\",HVACg_Lookup,MATCH($H$6,BuildingSize,0)+1,FALSE),IF(IFERROR(SEARCH(\"Oil\",$H$5),0)>0,VLOOKUP(\"Oil\",HVACg_Lookup,MATCH($H$6,BuildingSize,0)+1,FALSE),IF(IFERROR(SEARCH(\"Propane\",$H$5),0)>0,VLOOKUP(\"Propane\",HVACg_Lookup,MATCH(Worksheet!$H$6,BuildingSize,0)+1,FALSE),0)))","v":0},0,0,{"$f":"IF(OR($B$4=\"\",$B$5=\"\",$H$4=\"\",$H$6=\"\",$H$5=\"\",A52=\"\",F52=\"\",J52=\"\",O52=\"\",P52=\"\")=TRUE,\"\",IF(C52=\"OSW\",IF(J52>=2,1,0),IF(C52=\"OSR\",IF(AND(J52>=2,P52>60)=TRUE,1,0),IF(C52=\"OSRH\",IF(AND(J52>=1,P52>90)=TRUE,1,0),IF(C52=\"OHLC\",IF(AND(N52=\"Y\",P52>60)=TRUE,1,0),IF(C52=\"DDC\",IF(AND(J52>=4,N52=\"Y\",P52>120)=TRUE,1,0),0))))))","v":""},{"$f":"IF(OR($B$4=\"\",$B$5=\"\",$H$4=\"\",$H$6=\"\",$H$5=\"\",A52=\"\",F52=\"\",K52=\"\",O52=\"\",P52=\"\")=TRUE,\"\",IF(C52=\"OSW\",IF(K52>=2,1,0),IF(C52=\"OSR\",IF(AND(K52>=2,Q52>60)=TRUE,1,0),IF(C52=\"OSRH\",IF(AND(K52>=1,Q52>90)=TRUE,1,0),IF(C52=\"OHLC\",IF(AND(N52=\"Y\",Q52>60)=TRUE,1,0),IF(C52=\"DDC\",IF(AND(K52>=4,N52=\"Y\",Q52>120)=TRUE,1,0),0))))))","v":""}]
[null,null,"",null,null,null,null,null,null,null,null,null,null,null,null,0,0,0,0,"",0,0,0,0,0,{"$f":"IF($H$4=\"\",0,VLOOKUP($H$4,BuildingType_Lookup,3,FALSE))","v":0},{"$f":"IF($H$4=\"\",0,VLOOKUP($H$4,BuildingType_Lookup,2,FALSE))","v":0},{"$f":"IF(AND(OR(AN53=\"\",AN53=0)=TRUE,OR(AO53=\"\",AO53=0))=TRUE,0,IF(AO53=\"\",(IF(OR(C53=\"DDC\",C53=\"OHLC\")=TRUE,O53,P53)/1000)*Y53*Z53*(1+VLOOKUP($H$4,BuildingType_Lookup,4,FALSE)),IF(AO53=0,0,(IF(OR(C53=\"DDC\",C53=\"OHLC\")=TRUE,O53,Q53)/1000)*Y53*Z53*(1+VLOOKUP($H$4,BuildingType_Lookup,4,FALSE)))))","v":0},{"$f":"IF(AND(OR(AN53=\"\",AN53=0)=TRUE,OR(AO53=\"\",AO53=0))=TRUE,0,IF(AO53=\"\",(IF(OR(C53=\"DDC\",C53=\"OHLC\")=TRUE,O53,P53)/1000)*Y53*AA53*(1+VLOOKUP($H$4,BuildingType_Lookup,MATCH($H$5,HVAC,0)+4,FALSE)),IF(AO53=0,0,(IF(OR(C53=\"DDC\",C53=\"OHLC\")=TRUE,O53,Q53)/1000)*Y53*AA53*(1+VLOOKUP($H$4,BuildingType_Lookup,MATCH($H$5,HVAC,0)+4,FALSE)))))","v":0},0,0,0,0,0,0,{"$f":"W53/1000*Y53*AA53*IF(IFERROR(SEARCH(\"Gas\",$H$5),0)>0,VLOOKUP(\"Gas\",HVACg_Lookup,MATCH($H$6,BuildingSize,0)+1,FALSE),IF(IFERROR(SEARCH(\"Oil\",$H$5),0)>0,VLOOKUP(\"Oil\",HVACg_Lookup,MATCH($H$6,BuildingSize,0)+1,FALSE),IF(IFERROR(SEARCH(\"Propane\",$H$5),0)>0,VLOOKUP(\"Propane\",HVACg_Lookup,MATCH(Worksheet!$H$6,BuildingSize,0)+1,FALSE),0)))","v":0},{"$f":"X53/1000*Y53*AA53*IF(IFERROR(SEARCH(\"Gas\",$H$5),0)>0,VLOOKUP(\"Gas\",HVACg_Lookup,MATCH($H$6,BuildingSize,0)+1,FALSE),IF(IFERROR(SEARCH(\"Oil\",$H$5),0)>0,VLOOKUP(\"Oil\",HVACg_Lookup,MATCH($H$6,BuildingSize,0)+1,FALSE),IF(IFERROR(SEARCH(\"Propane\",$H$5),0)>0,VLOOKUP(\"Propane\",HVACg_Lookup,MATCH(Worksheet!$H$6,BuildingSize,0)+1,FALSE),0)))","v":0},0,0,{"$f":"IF(OR($B$4=\"\",$B$5=\"\",$H$4=\"\",$H$6=\"\",$H$5=\"\",A53=\"\",F53=\"\",J53=\"\",O53=\"\",P53=\"\")=TRUE,\"\",IF(C53=\"OSW\",IF(J53>=2,1,0),IF(C53=\"OSR\",IF(AND(J53>=2,P53>60)=TRUE,1,0),IF(C53=\"OSRH\",IF(AND(J53>=1,P53>90)=TRUE,1,0),IF(C53=\"OHLC\",IF(AND(N53=\"Y\",P53>60)=TRUE,1,0),IF(C53=\"DDC\",IF(AND(J53>=4,N53=\"Y\",P53>120)=TRUE,1,0),0))))))","v":""},{"$f":"IF(OR($B$4=\"\",$B$5=\"\",$H$4=\"\",$H$6=\"\",$H$5=\"\",A53=\"\",F53=\"\",K53=\"\",O53=\"\",P53=\"\")=TRUE,\"\",IF(C53=\"OSW\",IF(K53>=2,1,0),IF(C53=\"OSR\",IF(AND(K53>=2,Q53>60)=TRUE,1,0),IF(C53=\"OSRH\",IF(AND(K53>=1,Q53>90)=TRUE,1,0),IF(C53=\"OHLC\",IF(AND(N53=\"Y\",Q53>60)=TRUE,1,0),IF(C53=\"DDC\",IF(AND(K53>=4,N53=\"Y\",Q53>120)=TRUE,1,0),0))))))","v":""}]
[null,null,"",null,null,null,null,null,null,null,null,null,null,null,null,0,0,0,0,"",0,0,0,0,0,{"$f":"IF($H$4=\"\",0,VLOOKUP($H$4,BuildingType_Lookup,3,FALSE))","v":0},{"$f":"IF($H$4=\"\",0,VLOOKUP($H$4,BuildingType_Lookup,2,FALSE))","v":0},{"$f":"IF(AND(OR(AN54=\"\",AN54=0)=TRUE,OR(AO54=\"\",AO54=0))=TRUE,0,IF(AO54=\"\",(IF(OR(C54=\"DDC\",C54=\"OHLC\")=TRUE,O54,P54)/1000)*Y54*Z54*(1+VLOOKUP($H$4,BuildingType_Lookup,4,FALSE)),IF(AO54=0,0,(IF(OR(C54=\"DDC\",C54=\"OHLC\")=TRUE,O54,Q54)/1000)*Y54*Z54*(1+VLOOKUP($H$4,BuildingType_Lookup,4,FALSE)))))","v":0},{"$f":"IF(AND(OR(AN54=\"\",AN54=0)=TRUE,OR(AO54=\"\",AO54=0))=TRUE,0,IF(AO54=\"\",(IF(OR(C54=\"DDC\",C54=\"OHLC\")=TRUE,O54,P54)/1000)*Y54*AA54*(1+VLOOKUP($H$4,BuildingType_Lookup,MATCH($H$5,HVAC,0)+4,FALSE)),IF(AO54=0,0,(IF(OR(C54=\"DDC\",C54=\"OHLC\")=TRUE,O54,Q54)/1000)*Y54*AA54*(1+VLOOKUP($H$4,BuildingType_Lookup,MATCH($H$5,HVAC,0)+4,FALSE)))))","v":0},0,0,0,0,0,0,{"$f":"W54/1000*Y54*AA54*IF(IFERROR(SEARCH(\"Gas\",$H$5),0)>0,VLOOKUP(\"Gas\",HVACg_Lookup,MATCH($H$6,BuildingSize,0)+1,FALSE),IF(IFERROR(SEARCH(\"Oil\",$H$5),0)>0,VLOOKUP(\"Oil\",HVACg_Lookup,MATCH($H$6,BuildingSize,0)+1,FALSE),IF(IFERROR(SEARCH(\"Propane\",$H$5),0)>0,VLOOKUP(\"Propane\",HVACg_Lookup,MATCH(Worksheet!$H$6,BuildingSize,0)+1,FALSE),0)))","v":0},{"$f":"X54/1000*Y54*AA54*IF(IFERROR(SEARCH(\"Gas\",$H$5),0)>0,VLOOKUP(\"Gas\",HVACg_Lookup,MATCH($H$6,BuildingSize,0)+1,FALSE),IF(IFERROR(SEARCH(\"Oil\",$H$5),0)>0,VLOOKUP(\"Oil\",HVACg_Lookup,MATCH($H$6,BuildingSize,0)+1,FALSE),IF(IFERROR(SEARCH(\"Propane\",$H$5),0)>0,VLOOKUP(\"Propane\",HVACg_Lookup,MATCH(Worksheet!$H$6,BuildingSize,0)+1,FALSE),0)))","v":0},0,0,{"$f":"IF(OR($B$4=\"\",$B$5=\"\",$H$4=\"\",$H$6=\"\",$H$5=\"\",A54=\"\",F54=\"\",J54=\"\",O54=\"\",P54=\"\")=TRUE,\"\",IF(C54=\"OSW\",IF(J54>=2,1,0),IF(C54=\"OSR\",IF(AND(J54>=2,P54>60)=TRUE,1,0),IF(C54=\"OSRH\",IF(AND(J54>=1,P54>90)=TRUE,1,0),IF(C54=\"OHLC\",IF(AND(N54=\"Y\",P54>60)=TRUE,1,0),IF(C54=\"DDC\",IF(AND(J54>=4,N54=\"Y\",P54>120)=TRUE,1,0),0))))))","v":""},{"$f":"IF(OR($B$4=\"\",$B$5=\"\",$H$4=\"\",$H$6=\"\",$H$5=\"\",A54=\"\",F54=\"\",K54=\"\",O54=\"\",P54=\"\")=TRUE,\"\",IF(C54=\"OSW\",IF(K54>=2,1,0),IF(C54=\"OSR\",IF(AND(K54>=2,Q54>60)=TRUE,1,0),IF(C54=\"OSRH\",IF(AND(K54>=1,Q54>90)=TRUE,1,0),IF(C54=\"OHLC\",IF(AND(N54=\"Y\",Q54>60)=TRUE,1,0),IF(C54=\"DDC\",IF(AND(K54>=4,N54=\"Y\",Q54>120)=TRUE,1,0),0))))))","v":""}]
[null,null,"",null,null,null,null,null,null,null,null,null,null,null,null,0,0,0,0,"",0,0,0,0,0,{"$f":"IF($H$4=\"\",0,VLOOKUP($H$4,BuildingType_Lookup,3,FALSE))","v":0},{"$f":"IF($H$4=\"\",0,VLOOKUP($H$4,BuildingType_Lookup,2,FALSE))","v":0},{"$f":"IF(AND(OR(AN55=\"\",AN55=0)=TRUE,OR(AO55=\"\",AO55=0))=TRUE,0,IF(AO55=\"\",(IF(OR(C55=\"DDC\",C55=\"OHLC\")=TRUE,O55,P55)/1000)*Y55*Z55*(1+VLOOKUP($H$4,BuildingType_Lookup,4,FALSE)),IF(AO55=0,0,(IF(OR(C55=\"DDC\",C55=\"OHLC\")=TRUE,O55,Q55)/1000)*Y55*Z55*(1+VLOOKUP($H$4,BuildingType_Lookup,4,FALSE)))))","v":0},{"$f":"IF(AND(OR(AN55=\"\",AN55=0)=TRUE,OR(AO55=\"\",AO55=0))=TRUE,0,IF(AO55=\"\",(IF(OR(C55=\"DDC\",C55=\"OHLC\")=TRUE,O55,P55)/1000)*Y55*AA55*(1+VLOOKUP($H$4,BuildingType_Lookup,MATCH($H$5,HVAC,0)+4,FALSE)),IF(AO55=0,0,(IF(OR(C55=\"DDC\",C55=\"OHLC\")=TRUE,O55,Q55)/1000)*Y55*AA55*(1+VLOOKUP($H$4,BuildingType_Lookup,MATCH($H$5,HVAC,0)+4,FALSE)))))","v":0},0,0,0,0,0,0,{"$f":"W55/1000*Y55*AA55*IF(IFERROR(SEARCH(\"Gas\",$H$5),0)>0,VLOOKUP(\"Gas\",HVACg_Lookup,MATCH($H$6,BuildingSize,0)+1,FALSE),IF(IFERROR(SEARCH(\"Oil\",$H$5),0)>0,VLOOKUP(\"Oil\",HVACg_Lookup,MATCH($H$6,BuildingSize,0)+1,FALSE),IF(IFERROR(SEARCH(\"Propane\",$H$5),0)>0,VLOOKUP(\"Propane\",HVACg_Lookup,MATCH(Worksheet!$H$6,BuildingSize,0)+1,FALSE),0)))","v":0},{"$f":"X55/1000*Y55*AA55*IF(IFERROR(SEARCH(\"Gas\",$H$5),0)>0,VLOOKUP(\"Gas\",HVACg_Lookup,MATCH($H$6,BuildingSize,0)+1,FALSE),IF(IFERROR(SEARCH(\"Oil\",$H$5),0)>0,VLOOKUP(\"Oil\",HVACg_Lookup,MATCH($H$6,BuildingSize,0)+1,FALSE),IF(IFERROR(SEARCH(\"Propane\",$H$5),0)>0,VLOOKUP(\"Propane\",HVACg_Lookup,MATCH(Worksheet!$H$6,BuildingSize,0)+1,FALSE),0)))","v":0},0,0,{"$f":"IF(OR($B$4=\"\",$B$5=\"\",$H$4=\"\",$H$6=\"\",$H$5=\"\",A55=\"\",F55=\"\",J55=\"\",O55=\"\",P55=\"\")=TRUE,\"\",IF(C55=\"OSW\",IF(J55>=2,1,0),IF(C55=\"OSR\",IF(AND(J55>=2,P55>60)=TRUE,1,0),IF(C55=\"OSRH\",IF(AND(J55>=1,P55>90)=TRUE,1,0),IF(C55=\"OHLC\",IF(AND(N55=\"Y\",P55>60)=TRUE,1,0),IF(C55=\"DDC\",IF(AND(J55>=4,N55=\"Y\",P55>120)=TRUE,1,0),0))))))","v":""},{"$f":"IF(OR($B$4=\"\",$B$5=\"\",$H$4=\"\",$H$6=\"\",$H$5=\"\",A55=\"\",F55=\"\",K55=\"\",O55=\"\",P55=\"\")=TRUE,\"\",IF(C55=\"OSW\",IF(K55>=2,1,0),IF(C55=\"OSR\",IF(AND(K55>=2,Q55>60)=TRUE,1,0),IF(C55=\"OSRH\",IF(AND(K55>=1,Q55>90)=TRUE,1,0),IF(C55=\"OHLC\",IF(AND(N55=\"Y\",Q55>60)=TRUE,1,0),IF(C55=\"DDC\",IF(AND(K55>=4,N55=\"Y\",Q55>120)=TRUE,1,0),0))))))","v":""}]
[null,null,"",null,null,null,null,null,null,null,null,null,null,null,null,0,0,0,0,"",0,0,0,0,0,{"$f":"IF($H$4=\"\",0,VLOOKUP($H$4,BuildingType_Lookup,3,FALSE))","v":0},{"$f":"IF($H$4=\"\",0,VLOOKUP($H$4,BuildingType_Lookup,2,FALSE))","v":0},{"$f":"IF(AND(OR(AN56=\"\",AN56=0)=TRUE,OR(AO56=\"\",AO56=0))=TRUE,0,IF(AO56=\"\",(IF(OR(C56=\"DDC\",C56=\"OHLC\")=TRUE,O56,P56)/1000)*Y56*Z56*(1+VLOOKUP($H$4,BuildingType_Lookup,4,FALSE)),IF(AO56=0,0,(IF(OR(C56=\"DDC\",C56=\"OHLC\")=TRUE,O56,Q56)/1000)*Y56*Z56*(1+VLOOKUP($H$4,BuildingType_Lookup,4,FALSE)))))","v":0},{"$f":"IF(AND(OR(AN56=\"\",AN56=0)=TRUE,OR(AO56=\"\",AO56=0))=TRUE,0,IF(AO56=\"\",(IF(OR(C56=\"DDC\",C56=\"OHLC\")=TRUE,O56,P56)/1000)*Y56*AA56*(1+VLOOKUP($H$4,BuildingType_Lookup,MATCH($H$5,HVAC,0)+4,FALSE)),IF(AO56=0,0,(IF(OR(C56=\"DDC\",C56=\"OHLC\")=TRUE,O56,Q56)/1000)*Y56*AA56*(1+VLOOKUP($H$4,BuildingType_Lookup,MATCH($H$5,HVAC,0)+4,FALSE)))))","v":0},0,0,0,0,0,0,{"$f":"W56/1000*Y56*AA56*IF(IFERROR(SEARCH(\"Gas\",$H$5),0)>0,VLOOKUP(\"Gas\",HVACg_Lookup,MATCH($H$6,BuildingSize,0)+1,FALSE),IF(IFERROR(SEARCH(\"Oil\",$H$5),0)>0,VLOOKUP(\"Oil\",HVACg_Lookup,MATCH($H$6,BuildingSize,0)+1,FALSE),IF(IFERROR(SEARCH(\"Propane\",$H$5),0)>0,VLOOKUP(\"Propane\",HVACg_Lookup,MATCH(Worksheet!$H$6,BuildingSize,0)+1,FALSE),0)))","v":0},{"$f":"X56/1000*Y56*AA56*IF(IFERROR(SEARCH(\"Gas\",$H$5),0)>0,VLOOKUP(\"Gas\",HVACg_Lookup,MATCH($H$6,BuildingSize,0)+1,FALSE),IF(IFERROR(SEARCH(\"Oil\",$H$5),0)>0,VLOOKUP(\"Oil\",HVACg_Lookup,MATCH($H$6,BuildingSize,0)+1,FALSE),IF(IFERROR(SEARCH(\"Propane\",$H$5),0)>0,VLOOKUP(\"Propane\",HVACg_Lookup,MATCH(Worksheet!$H$6,BuildingSize,0)+1,FALSE),0)))","v":0},0,0,{"$f":"IF(OR($B$4=\"\",$B$5=\"\",$H$4=\"\",$H$6=\"\",$H$5=\"\",A56=\"\",F56=\"\",J56=\"\",O56=\"\",P56=\"\")=TRUE,\"\",IF(C56=\"OSW\",IF(J56>=2,1,0),IF(C56=\"OSR\",IF(AND(J56>=2,P56>60)=TRUE,1,0),IF(C56=\"OSRH\",IF(AND(J56>=1,P56>90)=TRUE,1,0),IF(C56=\"OHLC\",IF(AND(N56=\"Y\",P56>60)=TRUE,1,0),IF(C56=\"DDC\",IF(AND(J56>=4,N56=\"Y\",P56>120)=TRUE,1,0),0))))))","v":""},{"$f":"IF(OR($B$4=\"\",$B$5=\"\",$H$4=\"\",$H$6=\"\",$H$5=\"\",A56=\"\",F56=\"\",K56=\"\",O56=\"\",P56=\"\")=TRUE,\"\",IF(C56=\"OSW\",IF(K56>=2,1,0),IF(C56=\"OSR\",IF(AND(K56>=2,Q56>60)=TRUE,1,0),IF(C56=\"OSRH\",IF(AND(K56>=1,Q56>90)=TRUE,1,0),IF(C56=\"OHLC\",IF(AND(N56=\"Y\",Q56>60)=TRUE,1,0),IF(C56=\"DDC\",IF(AND(K56>=4,N56=\"Y\",Q56>120)=TRUE,1,0),0))))))","v":""}]
[null,null,"",null,null,null,null,null,null,null,null,null,null,null,null,0,0,0,0,"",0,0,0,0,0,{"$f":"IF($H$4=\"\",0,VLOOKUP($H$4,BuildingType_Lookup,3,FALSE))","v":0},{"$f":"IF($H$4=\"\",0,VLOOKUP($H$4,BuildingType_Lookup,2,FALSE))","v":0},{"$f":"IF(AND(OR(AN57=\"\",AN57=0)=TRUE,OR(AO57=\"\",AO57=0))=TRUE,0,IF(AO57=\"\",(IF(OR(C57=\"DDC\",C57=\"OHLC\")=TRUE,O57,P57)/1000)*Y57*Z57*(1+VLOOKUP($H$4,BuildingType_Lookup,4,FALSE)),IF(AO57=0,0,(IF(OR(C57=\"DDC\",C57=\"OHLC\")=TRUE,O57,Q57)/1000)*Y57*Z57*(1+VLOOKUP($H$4,BuildingType_Lookup,4,FALSE)))))","v":0},{"$f":"IF(AND(OR(AN57=\"\",AN57=0)=TRUE,OR(AO57=\"\",AO57=0))=TRUE,0,IF(AO57=\"\",(IF(OR(C57=\"DDC\",C57=\"OHLC\")=TRUE,O57,P57)/1000)*Y57*AA57*(1+VLOOKUP($H$4,BuildingType_Lookup,MATCH($H$5,HVAC,0)+4,FALSE)),IF(AO57=0,0,(IF(OR(C57=\"DDC\",C57=\"OHLC\")=TRUE,O57,Q57)/1000)*Y57*AA57*(1+VLOOKUP($H$4,BuildingType_Lookup,MATCH($H$5,HVAC,0)+4,FALSE)))))","v":0},0,0,0,0,0,0,{"$f":"W57/1000*Y57*AA57*IF(IFERROR(SEARCH(\"Gas\",$H$5),0)>0,VLOOKUP(\"Gas\",HVACg_Lookup,MATCH($H$6,BuildingSize,0)+1,FALSE),IF(IFERROR(SEARCH(\"Oil\",$H$5),0)>0,VLOOKUP(\"Oil\",HVACg_Lookup,MATCH($H$6,BuildingSize,0)+1,FALSE),IF(IFERROR(SEARCH(\"Propane\",$H$5),0)>0,VLOOKUP(\"Propane\",HVACg_Lookup,MATCH(Worksheet!$H$6,BuildingSize,0)+1,FALSE),0)))","v":0},{"$f":"X57/1000*Y57*AA57*IF(IFERROR(SEARCH(\"Gas\",$H$5),0)>0,VLOOKUP(\"Gas\",HVACg_Lookup,MATCH($H$6,BuildingSize,0)+1,FALSE),IF(IFERROR(SEARCH(\"Oil\",$H$5),0)>0,VLOOKUP(\"Oil\",HVACg_Lookup,MATCH($H$6,BuildingSize,0)+1,FALSE),IF(IFERROR(SEARCH(\"Propane\",$H$5),0)>0,VLOOKUP(\"Propane\",HVACg_Lookup,MATCH(Worksheet!$H$6,BuildingSize,0)+1,FALSE),0)))","v":0},0,0,{"$f":"IF(OR($B$4=\"\",$B$5=\"\",$H$4=\"\",$H$6=\"\",$H$5=\"\",A57=\"\",F57=\"\",J57=\"\",O57=\"\",P57=\"\")=TRUE,\"\",IF(C57=\"OSW\",IF(J57>=2,1,0),IF(C57=\"OSR\",IF(AND(J57>=2,P57>60)=TRUE,1,0),IF(C57=\"OSRH\",IF(AND(J57>=1,P57>90)=TRUE,1,0),IF(C57=\"OHLC\",IF(AND(N57=\"Y\",P57>60)=TRUE,1,0),IF(C57=\"DDC\",IF(AND(J57>=4,N57=\"Y\",P57>120)=TRUE,1,0),0))))))","v":""},{"$f":"IF(OR($B$4=\"\",$B$5=\"\",$H$4=\"\",$H$6=\"\",$H$5=\"\",A57=\"\",F57=\"\",K57=\"\",O57=\"\",P57=\"\")=TRUE,\"\",IF(C57=\"OSW\",IF(K57>=2,1,0),IF(C57=\"OSR\",IF(AND(K57>=2,Q57>60)=TRUE,1,0),IF(C57=\"OSRH\",IF(AND(K57>=1,Q57>90)=TRUE,1,0),IF(C57=\"OHLC\",IF(AND(N57=\"Y\",Q57>60)=TRUE,1,0),IF(C57=\"DDC\",IF(AND(K57>=4,N57=\"Y\",Q57>120)=TRUE,1,0),0))))))","v":""}]
[null,null,"",null,null,null,null,null,null,null,null,null,null,null,null,0,0,0,0,"",0,0,0,0,0,{"$f":"IF($H$4=\"\",0,VLOOKUP($H$4,BuildingType_Lookup,3,FALSE))","v":0},{"$f":"IF($H$4=\"\",0,VLOOKUP($H$4,BuildingType_Lookup,2,FALSE))","v":0},{"$f":"IF(AND(OR(AN58=\"\",AN58=0)=TRUE,OR(AO58=\"\",AO58=0))=TRUE,0,IF(AO58=\"\",(IF(OR(C58=\"DDC\",C58=\"OHLC\")=TRUE,O58,P58)/1000)*Y58*Z58*(1+VLOOKUP($H$4,BuildingType_Lookup,4,FALSE)),IF(AO58=0,0,(IF(OR(C58=\"DDC\",C58=\"OHLC\")=TRUE,O58,Q58)/1000)*Y58*Z58*(1+VLOOKUP($H$4,BuildingType_Lookup,4,FALSE)))))","v":0},{"$f":"IF(AND(OR(AN58=\"\",AN58=0)=TRUE,OR(AO58=\"\",AO58=0))=TRUE,0,IF(AO58=\"\",(IF(OR(C58=\"DDC\",C58=\"OHLC\")=TRUE,O58,P58)/1000)*Y58*AA58*(1+VLOOKUP($H$4,BuildingType_Lookup,MATCH($H$5,HVAC,0)+4,FALSE)),IF(AO58=0,0,(IF(OR(C58=\"DDC\",C58=\"OHLC\")=TRUE,O58,Q58)/1000)*Y58*AA58*(1+VLOOKUP($H$4,BuildingType_Lookup,MATCH($H$5,HVAC,0)+4,FALSE)))))","v":0},0,0,0,0,0,0,{"$f":"W58/1000*Y58*AA58*IF(IFERROR(SEARCH(\"Gas\",$H$5),0)>0,VLOOKUP(\"Gas\",HVACg_Lookup,MATCH($H$6,BuildingSize,0)+1,FALSE),IF(IFERROR(SEARCH(\"Oil\",$H$5),0)>0,VLOOKUP(\"Oil\",HVACg_Lookup,MATCH($H$6,BuildingSize,0)+1,FALSE),IF(IFERROR(SEARCH(\"Propane\",$H$5),0)>0,VLOOKUP(\"Propane\",HVACg_Lookup,MATCH(Worksheet!$H$6,BuildingSize,0)+1,FALSE),0)))","v":0},{"$f":"X58/1000*Y58*AA58*IF(IFERROR(SEARCH(\"Gas\",$H$5),0)>0,VLOOKUP(\"Gas\",HVACg_Lookup,MATCH($H$6,BuildingSize,0)+1,FALSE),IF(IFERROR(SEARCH(\"Oil\",$H$5),0)>0,VLOOKUP(\"Oil\",HVACg_Lookup,MATCH($H$6,BuildingSize,0)+1,FALSE),IF(IFERROR(SEARCH(\"Propane\",$H$5),0)>0,VLOOKUP(\"Propane\",HVACg_Lookup,MATCH(Worksheet!$H$6,BuildingSize,0)+1,FALSE),0)))","v":0},0,0,{"$f":"IF(OR($B$4=\"\",$B$5=\"\",$H$4=\"\",$H$6=\"\",$H$5=\"\",A58=\"\",F58=\"\",J58=\"\",O58=\"\",P58=\"\")=TRUE,\"\",IF(C58=\"OSW\",IF(J58>=2,1,0),IF(C58=\"OSR\",IF(AND(J58>=2,P58>60)=TRUE,1,0),IF(C58=\"OSRH\",IF(AND(J58>=1,P58>90)=TRUE,1,0),IF(C58=\"OHLC\",IF(AND(N58=\"Y\",P58>60)=TRUE,1,0),IF(C58=\"DDC\",IF(AND(J58>=4,N58=\"Y\",P58>120)=TRUE,1,0),0))))))","v":""},{"$f":"IF(OR($B$4=\"\",$B$5=\"\",$H$4=\"\",$H$6=\"\",$H$5=\"\",A58=\"\",F58=\"\",K58=\"\",O58=\"\",P58=\"\")=TRUE,\"\",IF(C58=\"OSW\",IF(K58>=2,1,0),IF(C58=\"OSR\",IF(AND(K58>=2,Q58>60)=TRUE,1,0),IF(C58=\"OSRH\",IF(AND(K58>=1,Q58>90)=TRUE,1,0),IF(C58=\"OHLC\",IF(AND(N58=\"Y\",Q58>60)=TRUE,1,0),IF(C58=\"DDC\",IF(AND(K58>=4,N58=\"Y\",Q58>120)=TRUE,1,0),0))))))","v":""}]
[null,null,"",null,null,null,null,null,null,null,null,null,null,null,null,0,0,0,0,"",0,0,0,0,0,{"$f":"IF($H$4=\"\",0,VLOOKUP($H$4,BuildingType_Lookup,3,FALSE))","v":0},{"$f":"IF($H$4=\"\",0,VLOOKUP($H$4,BuildingType_Lookup,2,FALSE))","v":0},{"$f":"IF(AND(OR(AN59=\"\",AN59=0)=TRUE,OR(AO59=\"\",AO59=0))=TRUE,0,IF(AO59=\"\",(IF(OR(C59=\"DDC\",C59=\"OHLC\")=TRUE,O59,P59)/1000)*Y59*Z59*(1+VLOOKUP($H$4,BuildingType_Lookup,4,FALSE)),IF(AO59=0,0,(IF(OR(C59=\"DDC\",C59=\"OHLC\")=TRUE,O59,Q59)/1000)*Y59*Z59*(1+VLOOKUP($H$4,BuildingType_Lookup,4,FALSE)))))","v":0},{"$f":"IF(AND(OR(AN59=\"\",AN59=0)=TRUE,OR(AO59=\"\",AO59=0))=TRUE,0,IF(AO59=\"\",(IF(OR(C59=\"DDC\",C59=\"OHLC\")=TRUE,O59,P59)/1000)*Y59*AA59*(1+VLOOKUP($H$4,BuildingType_Lookup,MATCH($H$5,HVAC,0)+4,FALSE)),IF(AO59=0,0,(IF(OR(C59=\"DDC\",C59=\"OHLC\")=TRUE,O59,Q59)/1000)*Y59*AA59*(1+VLOOKUP($H$4,BuildingType_Lookup,MATCH($H$5,HVAC,0)+4,FALSE)))))","v":0},0,0,0,0,0,0,{"$f":"W59/1000*Y59*AA59*IF(IFERROR(SEARCH(\"Gas\",$H$5),0)>0,VLOOKUP(\"Gas\",HVACg_Lookup,MATCH($H$6,BuildingSize,0)+1,FALSE),IF(IFERROR(SEARCH(\"Oil\",$H$5),0)>0,VLOOKUP(\"Oil\",HVACg_Lookup,MATCH($H$6,BuildingSize,0)+1,FALSE),IF(IFERROR(SEARCH(\"Propane\",$H$5),0)>0,VLOOKUP(\"Propane\",HVACg_Lookup,MATCH(Worksheet!$H$6,BuildingSize,0)+1,FALSE),0)))","v":0},{"$f":"X59/1000*Y59*AA59*IF(IFERROR(SEARCH(\"Gas\",$H$5),0)>0,VLOOKUP(\"Gas\",HVACg_Lookup,MATCH($H$6,BuildingSize,0)+1,FALSE),IF(IFERROR(SEARCH(\"Oil\",$H$5),0)>0,VLOOKUP(\"Oil\",HVACg_Lookup,MATCH($H$6,BuildingSize,0)+1,FALSE),IF(IFERROR(SEARCH(\"Propane\",$H$5),0)>0,VLOOKUP(\"Propane\",HVACg_Lookup,MATCH(Worksheet!$H$6,BuildingSize,0)+1,FALSE),0)))","v":0},0,0,{"$f":"IF(OR($B$4=\"\",$B$5=\"\",$H$4=\"\",$H$6=\"\",$H$5=\"\",A59=\"\",F59=\"\",J59=\"\",O59=\"\",P59=\"\")=TRUE,\"\",IF(C59=\"OSW\",IF(J59>=2,1,0),IF(C59=\"OSR\",IF(AND(J59>=2,P59>60)=TRUE,1,0),IF(C59=\"OSRH\",IF(AND(J59>=1,P59>90)=TRUE,1,0),IF(C59=\"OHLC\",IF(AND(N59=\"Y\",P59>60)=TRUE,1,0),IF(C59=\"DDC\",IF(AND(J59>=4,N59=\"Y\",P59>120)=TRUE,1,0),0))))))","v":""},{"$f":"IF(OR($B$4=\"\",$B$5=\"\",$H$4=\"\",$H$6=\"\",$H$5=\"\",A59=\"\",F59=\"\",K59=\"\",O59=\"\",P59=\"\")=TRUE,\"\",IF(C59=\"OSW\",IF(K59>=2,1,0),IF(C59=\"OSR\",IF(AND(K59>=2,Q59>60)=TRUE,1,0),IF(C59=\"OSRH\",IF(AND(K59>=1,Q59>90)=TRUE,1,0),IF(C59=\"OHLC\",IF(AND(N59=\"Y\",Q59>60)=TRUE,1,0),IF(C59=\"DDC\",IF(AND(K59>=4,N59=\"Y\",Q59>120)=TRUE,1,0),0))))))","v":""}]
[null,null,"",null,null,null,null,null,null,null,null,null,null,null,null,0,0,0,0,"",0,0,0,0,0,{"$f":"IF($H$4=\"\",0,VLOOKUP($H$4,BuildingType_Lookup,3,FALSE))","v":0},{"$f":"IF($H$4=\"\",0,VLOOKUP($H$4,BuildingType_Lookup,2,FALSE))","v":0},{"$f":"IF(AND(OR(AN60=\"\",AN60=0)=TRUE,OR(AO60=\"\",AO60=0))=TRUE,0,IF(AO60=\"\",(IF(OR(C60=\"DDC\",C60=\"OHLC\")=TRUE,O60,P60)/1000)*Y60*Z60*(1+VLOOKUP($H$4,BuildingType_Lookup,4,FALSE)),IF(AO60=0,0,(IF(OR(C60=\"DDC\",C60=\"OHLC\")=TRUE,O60,Q60)/1000)*Y60*Z60*(1+VLOOKUP($H$4,BuildingType_Lookup,4,FALSE)))))","v":0},{"$f":"IF(AND(OR(AN60=\"\",AN60=0)=TRUE,OR(AO60=\"\",AO60=0))=TRUE,0,IF(AO60=\"\",(IF(OR(C60=\"DDC\",C60=\"OHLC\")=TRUE,O60,P60)/1000)*Y60*AA60*(1+VLOOKUP($H$4,BuildingType_Lookup,MATCH($H$5,HVAC,0)+4,FALSE)),IF(AO60=0,0,(IF(OR(C60=\"DDC\",C60=\"OHLC\")=TRUE,O60,Q60)/1000)*Y60*AA60*(1+VLOOKUP($H$4,BuildingType_Lookup,MATCH($H$5,HVAC,0)+4,FALSE)))))","v":0},0,0,0,0,0,0,{"$f":"W60/1000*Y60*AA60*IF(IFERROR(SEARCH(\"Gas\",$H$5),0)>0,VLOOKUP(\"Gas\",HVACg_Lookup,MATCH($H$6,BuildingSize,0)+1,FALSE),IF(IFERROR(SEARCH(\"Oil\",$H$5),0)>0,VLOOKUP(\"Oil\",HVACg_Lookup,MATCH($H$6,BuildingSize,0)+1,FALSE),IF(IFERROR(SEARCH(\"Propane\",$H$5),0)>0,VLOOKUP(\"Propane\",HVACg_Lookup,MATCH(Worksheet!$H$6,BuildingSize,0)+1,FALSE),0)))","v":0},{"$f":"X60/1000*Y60*AA60*IF(IFERROR(SEARCH(\"Gas\",$H$5),0)>0,VLOOKUP(\"Gas\",HVACg_Lookup,MATCH($H$6,BuildingSize,0)+1,FALSE),IF(IFERROR(SEARCH(\"Oil\",$H$5),0)>0,VLOOKUP(\"Oil\",HVACg_Lookup,MATCH($H$6,BuildingSize,0)+1,FALSE),IF(IFERROR(SEARCH(\"Propane\",$H$5),0)>0,VLOOKUP(\"Propane\",HVACg_Lookup,MATCH(Worksheet!$H$6,BuildingSize,0)+1,FALSE),0)))","v":0},0,0,{"$f":"IF(OR($B$4=\"\",$B$5=\"\",$H$4=\"\",$H$6=\"\",$H$5=\"\",A60=\"\",F60=\"\",J60=\"\",O60=\"\",P60=\"\")=TRUE,\"\",IF(C60=\"OSW\",IF(J60>=2,1,0),IF(C60=\"OSR\",IF(AND(J60>=2,P60>60)=TRUE,1,0),IF(C60=\"OSRH\",IF(AND(J60>=1,P60>90)=TRUE,1,0),IF(C60=\"OHLC\",IF(AND(N60=\"Y\",P60>60)=TRUE,1,0),IF(C60=\"DDC\",IF(AND(J60>=4,N60=\"Y\",P60>120)=TRUE,1,0),0))))))","v":""},{"$f":"IF(OR($B$4=\"\",$B$5=\"\",$H$4=\"\",$H$6=\"\",$H$5=\"\",A60=\"\",F60=\"\",K60=\"\",O60=\"\",P60=\"\")=TRUE,\"\",IF(C60=\"OSW\",IF(K60>=2,1,0),IF(C60=\"OSR\",IF(AND(K60>=2,Q60>60)=TRUE,1,0),IF(C60=\"OSRH\",IF(AND(K60>=1,Q60>90)=TRUE,1,0),IF(C60=\"OHLC\",IF(AND(N60=\"Y\",Q60>60)=TRUE,1,0),IF(C60=\"DDC\",IF(AND(K60>=4,N60=\"Y\",Q60>120)=TRUE,1,0),0))))))","v":""}]
[null,null,"",null,null,null,null,null,null,null,null,null,null,null,null,0,0,0,0,"",0,0,0,0,0,{"$f":"IF($H$4=\"\",0,VLOOKUP($H$4,BuildingType_Lookup,3,FALSE))","v":0},{"$f":"IF($H$4=\"\",0,VLOOKUP($H$4,BuildingType_Lookup,2,FALSE))","v":0},{"$f":"IF(AND(OR(AN61=\"\",AN61=0)=TRUE,OR(AO61=\"\",AO61=0))=TRUE,0,IF(AO61=\"\",(IF(OR(C61=\"DDC\",C61=\"OHLC\")=TRUE,O61,P61)/1000)*Y61*Z61*(1+VLOOKUP($H$4,BuildingType_Lookup,4,FALSE)),IF(AO61=0,0,(IF(OR(C61=\"DDC\",C61=\"OHLC\")=TRUE,O61,Q61)/1000)*Y61*Z61*(1+VLOOKUP($H$4,BuildingType_Lookup,4,FALSE)))))","v":0},{"$f":"IF(AND(OR(AN61=\"\",AN61=0)=TRUE,OR(AO61=\"\",AO61=0))=TRUE,0,IF(AO61=\"\",(IF(OR(C61=\"DDC\",C61=\"OHLC\")=TRUE,O61,P61)/1000)*Y61*AA61*(1+VLOOKUP($H$4,BuildingType_Lookup,MATCH($H$5,HVAC,0)+4,FALSE)),IF(AO61=0,0,(IF(OR(C61=\"DDC\",C61=\"OHLC\")=TRUE,O61,Q61)/1000)*Y61*AA61*(1+VLOOKUP($H$4,BuildingType_Lookup,MATCH($H$5,HVAC,0)+4,FALSE)))))","v":0},0,0,0,0,0,0,{"$f":"W61/1000*Y61*AA61*IF(IFERROR(SEARCH(\"Gas\",$H$5),0)>0,VLOOKUP(\"Gas\",HVACg_Lookup,MATCH($H$6,BuildingSize,0)+1,FALSE),IF(IFERROR(SEARCH(\"Oil\",$H$5),0)>0,VLOOKUP(\"Oil\",HVACg_Lookup,MATCH($H$6,BuildingSize,0)+1,FALSE),IF(IFERROR(SEARCH(\"Propane\",$H$5),0)>0,VLOOKUP(\"Propane\",HVACg_Lookup,MATCH(Worksheet!$H$6,BuildingSize,0)+1,FALSE),0)))","v":0},{"$f":"X61/1000*Y61*AA61*IF(IFERROR(SEARCH(\"Gas\",$H$5),0)>0,VLOOKUP(\"Gas\",HVACg_Lookup,MATCH($H$6,BuildingSize,0)+1,FALSE),IF(IFERROR(SEARCH(\"Oil\",$H$5),0)>0,VLOOKUP(\"Oil\",HVACg_Lookup,MATCH($H$6,BuildingSize,0)+1,FALSE),IF(IFERROR(SEARCH(\"Propane\",$H$5),0)>0,VLOOKUP(\"Propane\",HVACg_Lookup,MATCH(Worksheet!$H$6,BuildingSize,0)+1,FALSE),0)))","v":0},0,0,{"$f":"IF(OR($B$4=\"\",$B$5=\"\",$H$4=\"\",$H$6=\"\",$H$5=\"\",A61=\"\",F61=\"\",J61=\"\",O61=\"\",P61=\"\")=TRUE,\"\",IF(C61=\"OSW\",IF(J61>=2,1,0),IF(C61=\"OSR\",IF(AND(J61>=2,P61>60)=TRUE,1,0),IF(C61=\"OSRH\",IF(AND(J61>=1,P61>90)=TRUE,1,0),IF(C61=\"OHLC\",IF(AND(N61=\"Y\",P61>60)=TRUE,1,0),IF(C61=\"DDC\",IF(AND(J61>=4,N61=\"Y\",P61>120)=TRUE,1,0),0))))))","v":""},{"$f":"IF(OR($B$4=\"\",$B$5=\"\",$H$4=\"\",$H$6=\"\",$H$5=\"\",A61=\"\",F61=\"\",K61=\"\",O61=\"\",P61=\"\")=TRUE,\"\",IF(C61=\"OSW\",IF(K61>=2,1,0),IF(C61=\"OSR\",IF(AND(K61>=2,Q61>60)=TRUE,1,0),IF(C61=\"OSRH\",IF(AND(K61>=1,Q61>90)=TRUE,1,0),IF(C61=\"OHLC\",IF(AND(N61=\"Y\",Q61>60)=TRUE,1,0),IF(C61=\"DDC\",IF(AND(K61>=4,N61=\"Y\",Q61>120)=TRUE,1,0),0))))))","v":""}]
[null,null,"",null,null,null,null,null,null,null,null,null,null,null,null,0,0,0,0,"",0,0,0,0,0,{"$f":"IF($H$4=\"\",0,VLOOKUP($H$4,BuildingType_Lookup,3,FALSE))","v":0},{"$f":"IF($H$4=\"\",0,VLOOKUP($H$4,BuildingType_Lookup,2,FALSE))","v":0},{"$f":"IF(AND(OR(AN62=\"\",AN62=0)=TRUE,OR(AO62=\"\",AO62=0))=TRUE,0,IF(AO62=\"\",(IF(OR(C62=\"DDC\",C62=\"OHLC\")=TRUE,O62,P62)/1000)*Y62*Z62*(1+VLOOKUP($H$4,BuildingType_Lookup,4,FALSE)),IF(AO62=0,0,(IF(OR(C62=\"DDC\",C62=\"OHLC\")=TRUE,O62,Q62)/1000)*Y62*Z62*(1+VLOOKUP($H$4,BuildingType_Lookup,4,FALSE)))))","v":0},{"$f":"IF(AND(OR(AN62=\"\",AN62=0)=TRUE,OR(AO62=\"\",AO62=0))=TRUE,0,IF(AO62=\"\",(IF(OR(C62=\"DDC\",C62=\"OHLC\")=TRUE,O62,P62)/1000)*Y62*AA62*(1+VLOOKUP($H$4,BuildingType_Lookup,MATCH($H$5,HVAC,0)+4,FALSE)),IF(AO62=0,0,(IF(OR(C62=\"DDC\",C62=\"OHLC\")=TRUE,O62,Q62)/1000)*Y62*AA62*(1+VLOOKUP($H$4,BuildingType_Lookup,MATCH($H$5,HVAC,0)+4,FALSE)))))","v":0},0,0,0,0,0,0,{"$f":"W62/1000*Y62*AA62*IF(IFERROR(SEARCH(\"Gas\",$H$5),0)>0,VLOOKUP(\"Gas\",HVACg_Lookup,MATCH($H$6,BuildingSize,0)+1,FALSE),IF(IFERROR(SEARCH(\"Oil\",$H$5),0)>0,VLOOKUP(\"Oil\",HVACg_Lookup,MATCH($H$6,BuildingSize,0)+1,FALSE),IF(IFERROR(SEARCH(\"Propane\",$H$5),0)>0,VLOOKUP(\"Propane\",HVACg_Lookup,MATCH(Worksheet!$H$6,BuildingSize,0)+1,FALSE),0)))","v":0},{"$f":"X62/1000*Y62*AA62*IF(IFERROR(SEARCH(\"Gas\",$H$5),0)>0,VLOOKUP(\"Gas\",HVACg_Lookup,MATCH($H$6,BuildingSize,0)+1,FALSE),IF(IFERROR(SEARCH(\"Oil\",$H$5),0)>0,VLOOKUP(\"Oil\",HVACg_Lookup,MATCH($H$6,BuildingSize,0)+1,FALSE),IF(IFERROR(SEARCH(\"Propane\",$H$5),0)>0,VLOOKUP(\"Propane\",HVACg_Lookup,MATCH(Worksheet!$H$6,BuildingSize,0)+1,FALSE),0)))","v":0},0,0,{"$f":"IF(OR($B$4=\"\",$B$5=\"\",$H$4=\"\",$H$6=\"\",$H$5=\"\",A62=\"\",F62=\"\",J62=\"\",O62=\"\",P62=\"\")=TRUE,\"\",IF(C62=\"OSW\",IF(J62>=2,1,0),IF(C62=\"OSR\",IF(AND(J62>=2,P62>60)=TRUE,1,0),IF(C62=\"OSRH\",IF(AND(J62>=1,P62>90)=TRUE,1,0),IF(C62=\"OHLC\",IF(AND(N62=\"Y\",P62>60)=TRUE,1,0),IF(C62=\"DDC\",IF(AND(J62>=4,N62=\"Y\",P62>120)=TRUE,1,0),0))))))","v":""},{"$f":"IF(OR($B$4=\"\",$B$5=\"\",$H$4=\"\",$H$6=\"\",$H$5=\"\",A62=\"\",F62=\"\",K62=\"\",O62=\"\",P62=\"\")=TRUE,\"\",IF(C62=\"OSW\",IF(K62>=2,1,0),IF(C62=\"OSR\",IF(AND(K62>=2,Q62>60)=TRUE,1,0),IF(C62=\"OSRH\",IF(AND(K62>=1,Q62>90)=TRUE,1,0),IF(C62=\"OHLC\",IF(AND(N62=\"Y\",Q62>60)=TRUE,1,0),IF(C62=\"DDC\",IF(AND(K62>=4,N62=\"Y\",Q62>120)=TRUE,1,0),0))))))","v":""}]
[null,null,"",null,null,null,null,null,null,null,null,null,null,null,null,0,0,0,0,"",0,0,0,0,0,{"$f":"IF($H$4=\"\",0,VLOOKUP($H$4,BuildingType_Lookup,3,FALSE))","v":0},{"$f":"IF($H$4=\"\",0,VLOOKUP($H$4,BuildingType_Lookup,2,FALSE))","v":0},{"$f":"IF(AND(OR(AN63=\"\",AN63=0)=TRUE,OR(AO63=\"\",AO63=0))=TRUE,0,IF(AO63=\"\",(IF(OR(C63=\"DDC\",C63=\"OHLC\")=TRUE,O63,P63)/1000)*Y63*Z63*(1+VLOOKUP($H$4,BuildingType_Lookup,4,FALSE)),IF(AO63=0,0,(IF(OR(C63=\"DDC\",C63=\"OHLC\")=TRUE,O63,Q63)/1000)*Y63*Z63*(1+VLOOKUP($H$4,BuildingType_Lookup,4,FALSE)))))","v":0},{"$f":"IF(AND(OR(AN63=\"\",AN63=0)=TRUE,OR(AO63=\"\",AO63=0))=TRUE,0,IF(AO63=\"\",(IF(OR(C63=\"DDC\",C63=\"OHLC\")=TRUE,O63,P63)/1000)*Y63*AA63*(1+VLOOKUP($H$4,BuildingType_Lookup,MATCH($H$5,HVAC,0)+4,FALSE)),IF(AO63=0,0,(IF(OR(C63=\"DDC\",C63=\"OHLC\")=TRUE,O63,Q63)/1000)*Y63*AA63*(1+VLOOKUP($H$4,BuildingType_Lookup,MATCH($H$5,HVAC,0)+4,FALSE)))))","v":0},0,0,0,0,0,0,{"$f":"W63/1000*Y63*AA63*IF(IFERROR(SEARCH(\"Gas\",$H$5),0)>0,VLOOKUP(\"Gas\",HVACg_Lookup,MATCH($H$6,BuildingSize,0)+1,FALSE),IF(IFERROR(SEARCH(\"Oil\",$H$5),0)>0,VLOOKUP(\"Oil\",HVACg_Lookup,MATCH($H$6,BuildingSize,0)+1,FALSE),IF(IFERROR(SEARCH(\"Propane\",$H$5),0)>0,VLOOKUP(\"Propane\",HVACg_Lookup,MATCH(Worksheet!$H$6,BuildingSize,0)+1,FALSE),0)))","v":0},{"$f":"X63/1000*Y63*AA63*IF(IFERROR(SEARCH(\"Gas\",$H$5),0)>0,VLOOKUP(\"Gas\",HVACg_Lookup,MATCH($H$6,BuildingSize,0)+1,FALSE),IF(IFERROR(SEARCH(\"Oil\",$H$5),0)>0,VLOOKUP(\"Oil\",HVACg_Lookup,MATCH($H$6,BuildingSize,0)+1,FALSE),IF(IFERROR(SEARCH(\"Propane\",$H$5),0)>0,VLOOKUP(\"Propane\",HVACg_Lookup,MATCH(Worksheet!$H$6,BuildingSize,0)+1,FALSE),0)))","v":0},0,0,{"$f":"IF(OR($B$4=\"\",$B$5=\"\",$H$4=\"\",$H$6=\"\",$H$5=\"\",A63=\"\",F63=\"\",J63=\"\",O63=\"\",P63=\"\")=TRUE,\"\",IF(C63=\"OSW\",IF(J63>=2,1,0),IF(C63=\"OSR\",IF(AND(J63>=2,P63>60)=TRUE,1,0),IF(C63=\"OSRH\",IF(AND(J63>=1,P63>90)=TRUE,1,0),IF(C63=\"OHLC\",IF(AND(N63=\"Y\",P63>60)=TRUE,1,0),IF(C63=\"DDC\",IF(AND(J63>=4,N63=\"Y\",P63>120)=TRUE,1,0),0))))))","v":""},{"$f":"IF(OR($B$4=\"\",$B$5=\"\",$H$4=\"\",$H$6=\"\",$H$5=\"\",A63=\"\",F63=\"\",K63=\"\",O63=\"\",P63=\"\")=TRUE,\"\",IF(C63=\"OSW\",IF(K63>=2,1,0),IF(C63=\"OSR\",IF(AND(K63>=2,Q63>60)=TRUE,1,0),IF(C63=\"OSRH\",IF(AND(K63>=1,Q63>90)=TRUE,1,0),IF(C63=\"OHLC\",IF(AND(N63=\"Y\",Q63>60)=TRUE,1,0),IF(C63=\"DDC\",IF(AND(K63>=4,N63=\"Y\",Q63>120)=TRUE,1,0),0))))))","v":""}]
[null,null,"",null,null,null,null,null,null,null,null,null,null,null,null,0,0,0,0,"",0,0,0,0,0,{"$f":"IF($H$4=\"\",0,VLOOKUP($H$4,BuildingType_Lookup,3,FALSE))","v":0},{"$f":"IF($H$4=\"\",0,VLOOKUP($H$4,BuildingType_Lookup,2,FALSE))","v":0},{"$f":"IF(AND(OR(AN64=\"\",AN64=0)=TRUE,OR(AO64=\"\",AO64=0))=TRUE,0,IF(AO64=\"\",(IF(OR(C64=\"DDC\",C64=\"OHLC\")=TRUE,O64,P64)/1000)*Y64*Z64*(1+VLOOKUP($H$4,BuildingType_Lookup,4,FALSE)),IF(AO64=0,0,(IF(OR(C64=\"DDC\",C64=\"OHLC\")=TRUE,O64,Q64)/1000)*Y64*Z64*(1+VLOOKUP($H$4,BuildingType_Lookup,4,FALSE)))))","v":0},{"$f":"IF(AND(OR(AN64=\"\",AN64=0)=TRUE,OR(AO64=\"\",AO64=0))=TRUE,0,IF(AO64=\"\",(IF(OR(C64=\"DDC\",C64=\"OHLC\")=TRUE,O64,P64)/1000)*Y64*AA64*(1+VLOOKUP($H$4,BuildingType_Lookup,MATCH($H$5,HVAC,0)+4,FALSE)),IF(AO64=0,0,(IF(OR(C64=\"DDC\",C64=\"OHLC\")=TRUE,O64,Q64)/1000)*Y64*AA64*(1+VLOOKUP($H$4,BuildingType_Lookup,MATCH($H$5,HVAC,0)+4,FALSE)))))","v":0},0,0,0,0,0,0,{"$f":"W64/1000*Y64*AA64*IF(IFERROR(SEARCH(\"Gas\",$H$5),0)>0,VLOOKUP(\"Gas\",HVACg_Lookup,MATCH($H$6,BuildingSize,0)+1,FALSE),IF(IFERROR(SEARCH(\"Oil\",$H$5),0)>0,VLOOKUP(\"Oil\",HVACg_Lookup,MATCH($H$6,BuildingSize,0)+1,FALSE),IF(IFERROR(SEARCH(\"Propane\",$H$5),0)>0,VLOOKUP(\"Propane\",HVACg_Lookup,MATCH(Worksheet!$H$6,BuildingSize,0)+1,FALSE),0)))","v":0},{"$f":"X64/1000*Y64*AA64*IF(IFERROR(SEARCH(\"Gas\",$H$5),0)>0,VLOOKUP(\"Gas\",HVACg_Lookup,MATCH($H$6,BuildingSize,0)+1,FALSE),IF(IFERROR(SEARCH(\"Oil\",$H$5),0)>0,VLOOKUP(\"Oil\",HVACg_Lookup,MATCH($H$6,BuildingSize,0)+1,FALSE),IF(IFERROR(SEARCH(\"Propane\",$H$5),0)>0,VLOOKUP(\"Propane\",HVACg_Lookup,MATCH(Worksheet!$H$6,BuildingSize,0)+1,FALSE),0)))","v":0},0,0,{"$f":"IF(OR($B$4=\"\",$B$5=\"\",$H$4=\"\",$H$6=\"\",$H$5=\"\",A64=\"\",F64=\"\",J64=\"\",O64=\"\",P64=\"\")=TRUE,\"\",IF(C64=\"OSW\",IF(J64>=2,1,0),IF(C64=\"OSR\",IF(AND(J64>=2,P64>60)=TRUE,1,0),IF(C64=\"OSRH\",IF(AND(J64>=1,P64>90)=TRUE,1,0),IF(C64=\"OHLC\",IF(AND(N64=\"Y\",P64>60)=TRUE,1,0),IF(C64=\"DDC\",IF(AND(J64>=4,N64=\"Y\",P64>120)=TRUE,1,0),0))))))","v":""},{"$f":"IF(OR($B$4=\"\",$B$5=\"\",$H$4=\"\",$H$6=\"\",$H$5=\"\",A64=\"\",F64=\"\",K64=\"\",O64=\"\",P64=\"\")=TRUE,\"\",IF(C64=\"OSW\",IF(K64>=2,1,0),IF(C64=\"OSR\",IF(AND(K64>=2,Q64>60)=TRUE,1,0),IF(C64=\"OSRH\",IF(AND(K64>=1,Q64>90)=TRUE,1,0),IF(C64=\"OHLC\",IF(AND(N64=\"Y\",Q64>60)=TRUE,1,0),IF(C64=\"DDC\",IF(AND(K64>=4,N64=\"Y\",Q64>120)=TRUE,1,0),0))))))","v":""}]
[null,null,"",null,null,null,null,null,null,null,null,null,null,null,null,0,0,0,0,"",0,0,0,0,0,{"$f":"IF($H$4=\"\",0,VLOOKUP($H$4,BuildingType_Lookup,3,FALSE))","v":0},{"$f":"IF($H$4=\"\",0,VLOOKUP($H$4,BuildingType_Lookup,2,FALSE))","v":0},{"$f":"IF(AND(OR(AN65=\"\",AN65=0)=TRUE,OR(AO65=\"\",AO65=0))=TRUE,0,IF(AO65=\"\",(IF(OR(C65=\"DDC\",C65=\"OHLC\")=TRUE,O65,P65)/1000)*Y65*Z65*(1+VLOOKUP($H$4,BuildingType_Lookup,4,FALSE)),IF(AO65=0,0,(IF(OR(C65=\"DDC\",C65=\"OHLC\")=TRUE,O65,Q65)/1000)*Y65*Z65*(1+VLOOKUP($H$4,BuildingType_Lookup,4,FALSE)))))","v":0},{"$f":"IF(AND(OR(AN65=\"\",AN65=0)=TRUE,OR(AO65=\"\",AO65=0))=TRUE,0,IF(AO65=\"\",(IF(OR(C65=\"DDC\",C65=\"OHLC\")=TRUE,O65,P65)/1000)*Y65*AA65*(1+VLOOKUP($H$4,BuildingType_Lookup,MATCH($H$5,HVAC,0)+4,FALSE)),IF(AO65=0,0,(IF(OR(C65=\"DDC\",C65=\"OHLC\")=TRUE,O65,Q65)/1000)*Y65*AA65*(1+VLOOKUP($H$4,BuildingType_Lookup,MATCH($H$5,HVAC,0)+4,FALSE)))))","v":0},0,0,0,0,0,0,{"$f":"W65/1000*Y65*AA65*IF(IFERROR(SEARCH(\"Gas\",$H$5),0)>0,VLOOKUP(\"Gas\",HVACg_Lookup,MATCH($H$6,BuildingSize,0)+1,FALSE),IF(IFERROR(SEARCH(\"Oil\",$H$5),0)>0,VLOOKUP(\"Oil\",HVACg_Lookup,MATCH($H$6,BuildingSize,0)+1,FALSE),IF(IFERROR(SEARCH(\"Propane\",$H$5),0)>0,VLOOKUP(\"Propane\",HVACg_Lookup,MATCH(Worksheet!$H$6,BuildingSize,0)+1,FALSE),0)))","v":0},{"$f":"X65/1000*Y65*AA65*IF(IFERROR(SEARCH(\"Gas\",$H$5),0)>0,VLOOKUP(\"Gas\",HVACg_Lookup,MATCH($H$6,BuildingSize,0)+1,FALSE),IF(IFERROR(SEARCH(\"Oil\",$H$5),0)>0,VLOOKUP(\"Oil\",HVACg_Lookup,MATCH($H$6,BuildingSize,0)+1,FALSE),IF(IFERROR(SEARCH(\"Propane\",$H$5),0)>0,VLOOKUP(\"Propane\",HVACg_Lookup,MATCH(Worksheet!$H$6,BuildingSize,0)+1,FALSE),0)))","v":0},0,0,{"$f":"IF(OR($B$4=\"\",$B$5=\"\",$H$4=\"\",$H$6=\"\",$H$5=\"\",A65=\"\",F65=\"\",J65=\"\",O65=\"\",P65=\"\")=TRUE,\"\",IF(C65=\"OSW\",IF(J65>=2,1,0),IF(C65=\"OSR\",IF(AND(J65>=2,P65>60)=TRUE,1,0),IF(C65=\"OSRH\",IF(AND(J65>=1,P65>90)=TRUE,1,0),IF(C65=\"OHLC\",IF(AND(N65=\"Y\",P65>60)=TRUE,1,0),IF(C65=\"DDC\",IF(AND(J65>=4,N65=\"Y\",P65>120)=TRUE,1,0),0))))))","v":""},{"$f":"IF(OR($B$4=\"\",$B$5=\"\",$H$4=\"\",$H$6=\"\",$H$5=\"\",A65=\"\",F65=\"\",K65=\"\",O65=\"\",P65=\"\")=TRUE,\"\",IF(C65=\"OSW\",IF(K65>=2,1,0),IF(C65=\"OSR\",IF(AND(K65>=2,Q65>60)=TRUE,1,0),IF(C65=\"OSRH\",IF(AND(K65>=1,Q65>90)=TRUE,1,0),IF(C65=\"OHLC\",IF(AND(N65=\"Y\",Q65>60)=TRUE,1,0),IF(C65=\"DDC\",IF(AND(K65>=4,N65=\"Y\",Q65>120)=TRUE,1,0),0))))))","v":""}]
[null,null,"",null,null,null,null,null,null,null,null,null,null,null,null,0,0,0,0,"",0,0,0,0,0,{"$f":"IF($H$4=\"\",0,VLOOKUP($H$4,BuildingType_Lookup,3,FALSE))","v":0},{"$f":"IF($H$4=\"\",0,VLOOKUP($H$4,BuildingType_Lookup,2,FALSE))","v":0},{"$f":"IF(AND(OR(AN66=\"\",AN66=0)=TRUE,OR(AO66=\"\",AO66=0))=TRUE,0,IF(AO66=\"\",(IF(OR(C66=\"DDC\",C66=\"OHLC\")=TRUE,O66,P66)/1000)*Y66*Z66*(1+VLOOKUP($H$4,BuildingType_Lookup,4,FALSE)),IF(AO66=0,0,(IF(OR(C66=\"DDC\",C66=\"OHLC\")=TRUE,O66,Q66)/1000)*Y66*Z66*(1+VLOOKUP($H$4,BuildingType_Lookup,4,FALSE)))))","v":0},{"$f":"IF(AND(OR(AN66=\"\",AN66=0)=TRUE,OR(AO66=\"\",AO66=0))=TRUE,0,IF(AO66=\"\",(IF(OR(C66=\"DDC\",C66=\"OHLC\")=TRUE,O66,P66)/1000)*Y66*AA66*(1+VLOOKUP($H$4,BuildingType_Lookup,MATCH($H$5,HVAC,0)+4,FALSE)),IF(AO66=0,0,(IF(OR(C66=\"DDC\",C66=\"OHLC\")=TRUE,O66,Q66)/1000)*Y66*AA66*(1+VLOOKUP($H$4,BuildingType_Lookup,MATCH($H$5,HVAC,0)+4,FALSE)))))","v":0},0,0,0,0,0,0,{"$f":"W66/1000*Y66*AA66*IF(IFERROR(SEARCH(\"Gas\",$H$5),0)>0,VLOOKUP(\"Gas\",HVACg_Lookup,MATCH($H$6,BuildingSize,0)+1,FALSE),IF(IFERROR(SEARCH(\"Oil\",$H$5),0)>0,VLOOKUP(\"Oil\",HVACg_Lookup,MATCH($H$6,BuildingSize,0)+1,FALSE),IF(IFERROR(SEARCH(\"Propane\",$H$5),0)>0,VLOOKUP(\"Propane\",HVACg_Lookup,MATCH(Worksheet!$H$6,BuildingSize,0)+1,FALSE),0)))","v":0},{"$f":"X66/1000*Y66*AA66*IF(IFERROR(SEARCH(\"Gas\",$H$5),0)>0,VLOOKUP(\"Gas\",HVACg_Lookup,MATCH($H$6,BuildingSize,0)+1,FALSE),IF(IFERROR(SEARCH(\"Oil\",$H$5),0)>0,VLOOKUP(\"Oil\",HVACg_Lookup,MATCH($H$6,BuildingSize,0)+1,FALSE),IF(IFERROR(SEARCH(\"Propane\",$H$5),0)>0,VLOOKUP(\"Propane\",HVACg_Lookup,MATCH(Worksheet!$H$6,BuildingSize,0)+1,FALSE),0)))","v":0},0,0,{"$f":"IF(OR($B$4=\"\",$B$5=\"\",$H$4=\"\",$H$6=\"\",$H$5=\"\",A66=\"\",F66=\"\",J66=\"\",O66=\"\",P66=\"\")=TRUE,\"\",IF(C66=\"OSW\",IF(J66>=2,1,0),IF(C66=\"OSR\",IF(AND(J66>=2,P66>60)=TRUE,1,0),IF(C66=\"OSRH\",IF(AND(J66>=1,P66>90)=TRUE,1,0),IF(C66=\"OHLC\",IF(AND(N66=\"Y\",P66>60)=TRUE,1,0),IF(C66=\"DDC\",IF(AND(J66>=4,N66=\"Y\",P66>120)=TRUE,1,0),0))))))","v":""},{"$f":"IF(OR($B$4=\"\",$B$5=\"\",$H$4=\"\",$H$6=\"\",$H$5=\"\",A66=\"\",F66=\"\",K66=\"\",O66=\"\",P66=\"\")=TRUE,\"\",IF(C66=\"OSW\",IF(K66>=2,1,0),IF(C66=\"OSR\",IF(AND(K66>=2,Q66>60)=TRUE,1,0),IF(C66=\"OSRH\",IF(AND(K66>=1,Q66>90)=TRUE,1,0),IF(C66=\"OHLC\",IF(AND(N66=\"Y\",Q66>60)=TRUE,1,0),IF(C66=\"DDC\",IF(AND(K66>=4,N66=\"Y\",Q66>120)=TRUE,1,0),0))))))","v":""}]
[null,null,"",null,null,null,null,null,null,null,null,null,null,null,null,0,0,0,0,"",0,0,0,0,0,{"$f":"IF($H$4=\"\",0,VLOOKUP($H$4,BuildingType_Lookup,3,FALSE))","v":0},{"$f":"IF($H$4=\"\",0,VLOOKUP($H$4,BuildingType_Lookup,2,FALSE))","v":0},{"$f":"IF(AND(OR(AN67=\"\",AN67=0)=TRUE,OR(AO67=\"\",AO67=0))=TRUE,0,IF(AO67=\"\",(IF(OR(C67=\"DDC\",C67=\"OHLC\")=TRUE,O67,P67)/1000)*Y67*Z67*(1+VLOOKUP($H$4,BuildingType_Lookup,4,FALSE)),IF(AO67=0,0,(IF(OR(C67=\"DDC\",C67=\"OHLC\")=TRUE,O67,Q67)/1000)*Y67*Z67*(1+VLOOKUP($H$4,BuildingType_Lookup,4,FALSE)))))","v":0},{"$f":"IF(AND(OR(AN67=\"\",AN67=0)=TRUE,OR(AO67=\"\",AO67=0))=TRUE,0,IF(AO67=\"\",(IF(OR(C67=\"DDC\",C67=\"OHLC\")=TRUE,O67,P67)/1000)*Y67*AA67*(1+VLOOKUP($H$4,BuildingType_Lookup,MATCH($H$5,HVAC,0)+4,FALSE)),IF(AO67=0,0,(IF(OR(C67=\"DDC\",C67=\"OHLC\")=TRUE,O67,Q67)/1000)*Y67*AA67*(1+VLOOKUP($H$4,BuildingType_Lookup,MATCH($H$5,HVAC,0)+4,FALSE)))))","v":0},0,0,0,0,0,0,{"$f":"W67/1000*Y67*AA67*IF(IFERROR(SEARCH(\"Gas\",$H$5),0)>0,VLOOKUP(\"Gas\",HVACg_Lookup,MATCH($H$6,BuildingSize,0)+1,FALSE),IF(IFERROR(SEARCH(\"Oil\",$H$5),0)>0,VLOOKUP(\"Oil\",HVACg_Lookup,MATCH($H$6,BuildingSize,0)+1,FALSE),IF(IFERROR(SEARCH(\"Propane\",$H$5),0)>0,VLOOKUP(\"Propane\",HVACg_Lookup,MATCH(Worksheet!$H$6,BuildingSize,0)+1,FALSE),0)))","v":0},{"$f":"X67/1000*Y67*AA67*IF(IFERROR(SEARCH(\"Gas\",$H$5),0)>0,VLOOKUP(\"Gas\",HVACg_Lookup,MATCH($H$6,BuildingSize,0)+1,FALSE),IF(IFERROR(SEARCH(\"Oil\",$H$5),0)>0,VLOOKUP(\"Oil\",HVACg_Lookup,MATCH($H$6,BuildingSize,0)+1,FALSE),IF(IFERROR(SEARCH(\"Propane\",$H$5),0)>0,VLOOKUP(\"Propane\",HVACg_Lookup,MATCH(Worksheet!$H$6,BuildingSize,0)+1,FALSE),0)))","v":0},0,0,{"$f":"IF(OR($B$4=\"\",$B$5=\"\",$H$4=\"\",$H$6=\"\",$H$5=\"\",A67=\"\",F67=\"\",J67=\"\",O67=\"\",P67=\"\")=TRUE,\"\",IF(C67=\"OSW\",IF(J67>=2,1,0),IF(C67=\"OSR\",IF(AND(J67>=2,P67>60)=TRUE,1,0),IF(C67=\"OSRH\",IF(AND(J67>=1,P67>90)=TRUE,1,0),IF(C67=\"OHLC\",IF(AND(N67=\"Y\",P67>60)=TRUE,1,0),IF(C67=\"DDC\",IF(AND(J67>=4,N67=\"Y\",P67>120)=TRUE,1,0),0))))))","v":""},{"$f":"IF(OR($B$4=\"\",$B$5=\"\",$H$4=\"\",$H$6=\"\",$H$5=\"\",A67=\"\",F67=\"\",K67=\"\",O67=\"\",P67=\"\")=TRUE,\"\",IF(C67=\"OSW\",IF(K67>=2,1,0),IF(C67=\"OSR\",IF(AND(K67>=2,Q67>60)=TRUE,1,0),IF(C67=\"OSRH\",IF(AND(K67>=1,Q67>90)=TRUE,1,0),IF(C67=\"OHLC\",IF(AND(N67=\"Y\",Q67>60)=TRUE,1,0),IF(C67=\"DDC\",IF(AND(K67>=4,N67=\"Y\",Q67>120)=TRUE,1,0),0))))))","v":""}]
[null,null,"",null,null,null,null,null,null,null,null,null,null,null,null,0,0,0,0,"",0,0,0,0,0,{"$f":"IF($H$4=\"\",0,VLOOKUP($H$4,BuildingType_Lookup,3,FALSE))","v":0},{"$f":"IF($H$4=\"\",0,VLOOKUP($H$4,BuildingType_Lookup,2,FALSE))","v":0},{"$f":"IF(AND(OR(AN68=\"\",AN68=0)=TRUE,OR(AO68=\"\",AO68=0))=TRUE,0,IF(AO68=\"\",(IF(OR(C68=\"DDC\",C68=\"OHLC\")=TRUE,O68,P68)/1000)*Y68*Z68*(1+VLOOKUP($H$4,BuildingType_Lookup,4,FALSE)),IF(AO68=0,0,(IF(OR(C68=\"DDC\",C68=\"OHLC\")=TRUE,O68,Q68)/1000)*Y68*Z68*(1+VLOOKUP($H$4,BuildingType_Lookup,4,FALSE)))))","v":0},{"$f":"IF(AND(OR(AN68=\"\",AN68=0)=TRUE,OR(AO68=\"\",AO68=0))=TRUE,0,IF(AO68=\"\",(IF(OR(C68=\"DDC\",C68=\"OHLC\")=TRUE,O68,P68)/1000)*Y68*AA68*(1+VLOOKUP($H$4,BuildingType_Lookup,MATCH($H$5,HVAC,0)+4,FALSE)),IF(AO68=0,0,(IF(OR(C68=\"DDC\",C68=\"OHLC\")=TRUE,O68,Q68)/1000)*Y68*AA68*(1+VLOOKUP($H$4,BuildingType_Lookup,MATCH($H$5,HVAC,0)+4,FALSE)))))","v":0},0,0,0,0,0,0,{"$f":"W68/1000*Y68*AA68*IF(IFERROR(SEARCH(\"Gas\",$H$5),0)>0,VLOOKUP(\"Gas\",HVACg_Lookup,MATCH($H$6,BuildingSize,0)+1,FALSE),IF(IFERROR(SEARCH(\"Oil\",$H$5),0)>0,VLOOKUP(\"Oil\",HVACg_Lookup,MATCH($H$6,BuildingSize,0)+1,FALSE),IF(IFERROR(SEARCH(\"Propane\",$H$5),0)>0,VLOOKUP(\"Propane\",HVACg_Lookup,MATCH(Worksheet!$H$6,BuildingSize,0)+1,FALSE),0)))","v":0},{"$f":"X68/1000*Y68*AA68*IF(IFERROR(SEARCH(\"Gas\",$H$5),0)>0,VLOOKUP(\"Gas\",HVACg_Lookup,MATCH($H$6,BuildingSize,0)+1,FALSE),IF(IFERROR(SEARCH(\"Oil\",$H$5),0)>0,VLOOKUP(\"Oil\",HVACg_Lookup,MATCH($H$6,BuildingSize,0)+1,FALSE),IF(IFERROR(SEARCH(\"Propane\",$H$5),0)>0,VLOOKUP(\"Propane\",HVACg_Lookup,MATCH(Worksheet!$H$6,BuildingSize,0)+1,FALSE),0)))","v":0},0,0,{"$f":"IF(OR($B$4=\"\",$B$5=\"\",$H$4=\"\",$H$6=\"\",$H$5=\"\",A68=\"\",F68=\"\",J68=\"\",O68=\"\",P68=\"\")=TRUE,\"\",IF(C68=\"OSW\",IF(J68>=2,1,0),IF(C68=\"OSR\",IF(AND(J68>=2,P68>60)=TRUE,1,0),IF(C68=\"OSRH\",IF(AND(J68>=1,P68>90)=TRUE,1,0),IF(C68=\"OHLC\",IF(AND(N68=\"Y\",P68>60)=TRUE,1,0),IF(C68=\"DDC\",IF(AND(J68>=4,N68=\"Y\",P68>120)=TRUE,1,0),0))))))","v":""},{"$f":"IF(OR($B$4=\"\",$B$5=\"\",$H$4=\"\",$H$6=\"\",$H$5=\"\",A68=\"\",F68=\"\",K68=\"\",O68=\"\",P68=\"\")=TRUE,\"\",IF(C68=\"OSW\",IF(K68>=2,1,0),IF(C68=\"OSR\",IF(AND(K68>=2,Q68>60)=TRUE,1,0),IF(C68=\"OSRH\",IF(AND(K68>=1,Q68>90)=TRUE,1,0),IF(C68=\"OHLC\",IF(AND(N68=\"Y\",Q68>60)=TRUE,1,0),IF(C68=\"DDC\",IF(AND(K68>=4,N68=\"Y\",Q68>120)=TRUE,1,0),0))))))","v":""}]
[null,null,"",null,null,null,null,null,null,null,null,null,null,null,null,0,0,0,0,"",0,0,0,0,0,{"$f":"IF($H$4=\"\",0,VLOOKUP($H$4,BuildingType_Lookup,3,FALSE))","v":0},{"$f":"IF($H$4=\"\",0,VLOOKUP($H$4,BuildingType_Lookup,2,FALSE))","v":0},{"$f":"IF(AND(OR(AN69=\"\",AN69=0)=TRUE,OR(AO69=\"\",AO69=0))=TRUE,0,IF(AO69=\"\",(IF(OR(C69=\"DDC\",C69=\"OHLC\")=TRUE,O69,P69)/1000)*Y69*Z69*(1+VLOOKUP($H$4,BuildingType_Lookup,4,FALSE)),IF(AO69=0,0,(IF(OR(C69=\"DDC\",C69=\"OHLC\")=TRUE,O69,Q69)/1000)*Y69*Z69*(1+VLOOKUP($H$4,BuildingType_Lookup,4,FALSE)))))","v":0},{"$f":"IF(AND(OR(AN69=\"\",AN69=0)=TRUE,OR(AO69=\"\",AO69=0))=TRUE,0,IF(AO69=\"\",(IF(OR(C69=\"DDC\",C69=\"OHLC\")=TRUE,O69,P69)/1000)*Y69*AA69*(1+VLOOKUP($H$4,BuildingType_Lookup,MATCH($H$5,HVAC,0)+4,FALSE)),IF(AO69=0,0,(IF(OR(C69=\"DDC\",C69=\"OHLC\")=TRUE,O69,Q69)/1000)*Y69*AA69*(1+VLOOKUP($H$4,BuildingType_Lookup,MATCH($H$5,HVAC,0)+4,FALSE)))))","v":0},0,0,0,0,0,0,{"$f":"W69/1000*Y69*AA69*IF(IFERROR(SEARCH(\"Gas\",$H$5),0)>0,VLOOKUP(\"Gas\",HVACg_Lookup,MATCH($H$6,BuildingSize,0)+1,FALSE),IF(IFERROR(SEARCH(\"Oil\",$H$5),0)>0,VLOOKUP(\"Oil\",HVACg_Lookup,MATCH($H$6,BuildingSize,0)+1,FALSE),IF(IFERROR(SEARCH(\"Propane\",$H$5),0)>0,VLOOKUP(\"Propane\",HVACg_Lookup,MATCH(Worksheet!$H$6,BuildingSize,0)+1,FALSE),0)))","v":0},{"$f":"X69/1000*Y69*AA69*IF(IFERROR(SEARCH(\"Gas\",$H$5),0)>0,VLOOKUP(\"Gas\",HVACg_Lookup,MATCH($H$6,BuildingSize,0)+1,FALSE),IF(IFERROR(SEARCH(\"Oil\",$H$5),0)>0,VLOOKUP(\"Oil\",HVACg_Lookup,MATCH($H$6,BuildingSize,0)+1,FALSE),IF(IFERROR(SEARCH(\"Propane\",$H$5),0)>0,VLOOKUP(\"Propane\",HVACg_Lookup,MATCH(Worksheet!$H$6,BuildingSize,0)+1,FALSE),0)))","v":0},0,0,{"$f":"IF(OR($B$4=\"\",$B$5=\"\",$H$4=\"\",$H$6=\"\",$H$5=\"\",A69=\"\",F69=\"\",J69=\"\",O69=\"\",P69=\"\")=TRUE,\"\",IF(C69=\"OSW\",IF(J69>=2,1,0),IF(C69=\"OSR\",IF(AND(J69>=2,P69>60)=TRUE,1,0),IF(C69=\"OSRH\",IF(AND(J69>=1,P69>90)=TRUE,1,0),IF(C69=\"OHLC\",IF(AND(N69=\"Y\",P69>60)=TRUE,1,0),IF(C69=\"DDC\",IF(AND(J69>=4,N69=\"Y\",P69>120)=TRUE,1,0),0))))))","v":""},{"$f":"IF(OR($B$4=\"\",$B$5=\"\",$H$4=\"\",$H$6=\"\",$H$5=\"\",A69=\"\",F69=\"\",K69=\"\",O69=\"\",P69=\"\")=TRUE,\"\",IF(C69=\"OSW\",IF(K69>=2,1,0),IF(C69=\"OSR\",IF(AND(K69>=2,Q69>60)=TRUE,1,0),IF(C69=\"OSRH\",IF(AND(K69>=1,Q69>90)=TRUE,1,0),IF(C69=\"OHLC\",IF(AND(N69=\"Y\",Q69>60)=TRUE,1,0),IF(C69=\"DDC\",IF(AND(K69>=4,N69=\"Y\",Q69>120)=TRUE,1,0),0))))))","v":""}]
[null,null,"",null,null,null,null,null,null,null,null,null,null,null,null,0,0,0,0,"",0,0,0,0,0,{"$f":"IF($H$4=\"\",0,VLOOKUP($H$4,BuildingType_Lookup,3,FALSE))","v":0},{"$f":"IF($H$4=\"\",0,VLOOKUP($H$4,BuildingType_Lookup,2,FALSE))","v":0},{"$f":"IF(AND(OR(AN70=\"\",AN70=0)=TRUE,OR(AO70=\"\",AO70=0))=TRUE,0,IF(AO70=\"\",(IF(OR(C70=\"DDC\",C70=\"OHLC\")=TRUE,O70,P70)/1000)*Y70*Z70*(1+VLOOKUP($H$4,BuildingType_Lookup,4,FALSE)),IF(AO70=0,0,(IF(OR(C70=\"DDC\",C70=\"OHLC\")=TRUE,O70,Q70)/1000)*Y70*Z70*(1+VLOOKUP($H$4,BuildingType_Lookup,4,FALSE)))))","v":0},{"$f":"IF(AND(OR(AN70=\"\",AN70=0)=TRUE,OR(AO70=\"\",AO70=0))=TRUE,0,IF(AO70=\"\",(IF(OR(C70=\"DDC\",C70=\"OHLC\")=TRUE,O70,P70)/1000)*Y70*AA70*(1+VLOOKUP($H$4,BuildingType_Lookup,MATCH($H$5,HVAC,0)+4,FALSE)),IF(AO70=0,0,(IF(OR(C70=\"DDC\",C70=\"OHLC\")=TRUE,O70,Q70)/1000)*Y70*AA70*(1+VLOOKUP($H$4,BuildingType_Lookup,MATCH($H$5,HVAC,0)+4,FALSE)))))","v":0},0,0,0,0,0,0,{"$f":"W70/1000*Y70*AA70*IF(IFERROR(SEARCH(\"Gas\",$H$5),0)>0,VLOOKUP(\"Gas\",HVACg_Lookup,MATCH($H$6,BuildingSize,0)+1,FALSE),IF(IFERROR(SEARCH(\"Oil\",$H$5),0)>0,VLOOKUP(\"Oil\",HVACg_Lookup,MATCH($H$6,BuildingSize,0)+1,FALSE),IF(IFERROR(SEARCH(\"Propane\",$H$5),0)>0,VLOOKUP(\"Propane\",HVACg_Lookup,MATCH(Worksheet!$H$6,BuildingSize,0)+1,FALSE),0)))","v":0},{"$f":"X70/1000*Y70*AA70*IF(IFERROR(SEARCH(\"Gas\",$H$5),0)>0,VLOOKUP(\"Gas\",HVACg_Lookup,MATCH($H$6,BuildingSize,0)+1,FALSE),IF(IFERROR(SEARCH(\"Oil\",$H$5),0)>0,VLOOKUP(\"Oil\",HVACg_Lookup,MATCH($H$6,BuildingSize,0)+1,FALSE),IF(IFERROR(SEARCH(\"Propane\",$H$5),0)>0,VLOOKUP(\"Propane\",HVACg_Lookup,MATCH(Worksheet!$H$6,BuildingSize,0)+1,FALSE),0)))","v":0},0,0,{"$f":"IF(OR($B$4=\"\",$B$5=\"\",$H$4=\"\",$H$6=\"\",$H$5=\"\",A70=\"\",F70=\"\",J70=\"\",O70=\"\",P70=\"\")=TRUE,\"\",IF(C70=\"OSW\",IF(J70>=2,1,0),IF(C70=\"OSR\",IF(AND(J70>=2,P70>60)=TRUE,1,0),IF(C70=\"OSRH\",IF(AND(J70>=1,P70>90)=TRUE,1,0),IF(C70=\"OHLC\",IF(AND(N70=\"Y\",P70>60)=TRUE,1,0),IF(C70=\"DDC\",IF(AND(J70>=4,N70=\"Y\",P70>120)=TRUE,1,0),0))))))","v":""},{"$f":"IF(OR($B$4=\"\",$B$5=\"\",$H$4=\"\",$H$6=\"\",$H$5=\"\",A70=\"\",F70=\"\",K70=\"\",O70=\"\",P70=\"\")=TRUE,\"\",IF(C70=\"OSW\",IF(K70>=2,1,0),IF(C70=\"OSR\",IF(AND(K70>=2,Q70>60)=TRUE,1,0),IF(C70=\"OSRH\",IF(AND(K70>=1,Q70>90)=TRUE,1,0),IF(C70=\"OHLC\",IF(AND(N70=\"Y\",Q70>60)=TRUE,1,0),IF(C70=\"DDC\",IF(AND(K70>=4,N70=\"Y\",Q70>120)=TRUE,1,0),0))))))","v":""}]
[null,null,"",null,null,null,null,null,null,null,null,null,null,null,null,0,0,0,0,"",0,0,0,0,0,{"$f":"IF($H$4=\"\",0,VLOOKUP($H$4,BuildingType_Lookup,3,FALSE))","v":0},{"$f":"IF($H$4=\"\",0,VLOOKUP($H$4,BuildingType_Lookup,2,FALSE))","v":0},{"$f":"IF(AND(OR(AN71=\"\",AN71=0)=TRUE,OR(AO71=\"\",AO71=0))=TRUE,0,IF(AO71=\"\",(IF(OR(C71=\"DDC\",C71=\"OHLC\")=TRUE,O71,P71)/1000)*Y71*Z71*(1+VLOOKUP($H$4,BuildingType_Lookup,4,FALSE)),IF(AO71=0,0,(IF(OR(C71=\"DDC\",C71=\"OHLC\")=TRUE,O71,Q71)/1000)*Y71*Z71*(1+VLOOKUP($H$4,BuildingType_Lookup,4,FALSE)))))","v":0},{"$f":"IF(AND(OR(AN71=\"\",AN71=0)=TRUE,OR(AO71=\"\",AO71=0))=TRUE,0,IF(AO71=\"\",(IF(OR(C71=\"DDC\",C71=\"OHLC\")=TRUE,O71,P71)/1000)*Y71*AA71*(1+VLOOKUP($H$4,BuildingType_Lookup,MATCH($H$5,HVAC,0)+4,FALSE)),IF(AO71=0,0,(IF(OR(C71=\"DDC\",C71=\"OHLC\")=TRUE,O71,Q71)/1000)*Y71*AA71*(1+VLOOKUP($H$4,BuildingType_Lookup,MATCH($H$5,HVAC,0)+4,FALSE)))))","v":0},0,0,0,0,0,0,{"$f":"W71/1000*Y71*AA71*IF(IFERROR(SEARCH(\"Gas\",$H$5),0)>0,VLOOKUP(\"Gas\",HVACg_Lookup,MATCH($H$6,BuildingSize,0)+1,FALSE),IF(IFERROR(SEARCH(\"Oil\",$H$5),0)>0,VLOOKUP(\"Oil\",HVACg_Lookup,MATCH($H$6,BuildingSize,0)+1,FALSE),IF(IFERROR(SEARCH(\"Propane\",$H$5),0)>0,VLOOKUP(\"Propane\",HVACg_Lookup,MATCH(Worksheet!$H$6,BuildingSize,0)+1,FALSE),0)))","v":0},{"$f":"X71/1000*Y71*AA71*IF(IFERROR(SEARCH(\"Gas\",$H$5),0)>0,VLOOKUP(\"Gas\",HVACg_Lookup,MATCH($H$6,BuildingSize,0)+1,FALSE),IF(IFERROR(SEARCH(\"Oil\",$H$5),0)>0,VLOOKUP(\"Oil\",HVACg_Lookup,MATCH($H$6,BuildingSize,0)+1,FALSE),IF(IFERROR(SEARCH(\"Propane\",$H$5),0)>0,VLOOKUP(\"Propane\",HVACg_Lookup,MATCH(Worksheet!$H$6,BuildingSize,0)+1,FALSE),0)))","v":0},0,0,{"$f":"IF(OR($B$4=\"\",$B$5=\"\",$H$4=\"\",$H$6=\"\",$H$5=\"\",A71=\"\",F71=\"\",J71=\"\",O71=\"\",P71=\"\")=TRUE,\"\",IF(C71=\"OSW\",IF(J71>=2,1,0),IF(C71=\"OSR\",IF(AND(J71>=2,P71>60)=TRUE,1,0),IF(C71=\"OSRH\",IF(AND(J71>=1,P71>90)=TRUE,1,0),IF(C71=\"OHLC\",IF(AND(N71=\"Y\",P71>60)=TRUE,1,0),IF(C71=\"DDC\",IF(AND(J71>=4,N71=\"Y\",P71>120)=TRUE,1,0),0))))))","v":""},{"$f":"IF(OR($B$4=\"\",$B$5=\"\",$H$4=\"\",$H$6=\"\",$H$5=\"\",A71=\"\",F71=\"\",K71=\"\",O71=\"\",P71=\"\")=TRUE,\"\",IF(C71=\"OSW\",IF(K71>=2,1,0),IF(C71=\"OSR\",IF(AND(K71>=2,Q71>60)=TRUE,1,0),IF(C71=\"OSRH\",IF(AND(K71>=1,Q71>90)=TRUE,1,0),IF(C71=\"OHLC\",IF(AND(N71=\"Y\",Q71>60)=TRUE,1,0),IF(C71=\"DDC\",IF(AND(K71>=4,N71=\"Y\",Q71>120)=TRUE,1,0),0))))))","v":""}]
[null,null,"",null,null,null,null,null,null,null,null,null,null,null,null,0,0,0,0,"",0,0,0,0,0,{"$f":"IF($H$4=\"\",0,VLOOKUP($H$4,BuildingType_Lookup,3,FALSE))","v":0},{"$f":"IF($H$4=\"\",0,VLOOKUP($H$4,BuildingType_Lookup,2,FALSE))","v":0},{"$f":"IF(AND(OR(AN72=\"\",AN72=0)=TRUE,OR(AO72=\"\",AO72=0))=TRUE,0,IF(AO72=\"\",(IF(OR(C72=\"DDC\",C72=\"OHLC\")=TRUE,O72,P72)/1000)*Y72*Z72*(1+VLOOKUP($H$4,BuildingType_Lookup,4,FALSE)),IF(AO72=0,0,(IF(OR(C72=\"DDC\",C72=\"OHLC\")=TRUE,O72,Q72)/1000)*Y72*Z72*(1+VLOOKUP($H$4,BuildingType_Lookup,4,FALSE)))))","v":0},{"$f":"IF(AND(OR(AN72=\"\",AN72=0)=TRUE,OR(AO72=\"\",AO72=0))=TRUE,0,IF(AO72=\"\",(IF(OR(C72=\"DDC\",C72=\"OHLC\")=TRUE,O72,P72)/1000)*Y72*AA72*(1+VLOOKUP($H$4,BuildingType_Lookup,MATCH($H$5,HVAC,0)+4,FALSE)),IF(AO72=0,0,(IF(OR(C72=\"DDC\",C72=\"OHLC\")=TRUE,O72,Q72)/1000)*Y72*AA72*(1+VLOOKUP($H$4,BuildingType_Lookup,MATCH($H$5,HVAC,0)+4,FALSE)))))","v":0},0,0,0,0,0,0,{"$f":"W72/1000*Y72*AA72*IF(IFERROR(SEARCH(\"Gas\",$H$5),0)>0,VLOOKUP(\"Gas\",HVACg_Lookup,MATCH($H$6,BuildingSize,0)+1,FALSE),IF(IFERROR(SEARCH(\"Oil\",$H$5),0)>0,VLOOKUP(\"Oil\",HVACg_Lookup,MATCH($H$6,BuildingSize,0)+1,FALSE),IF(IFERROR(SEARCH(\"Propane\",$H$5),0)>0,VLOOKUP(\"Propane\",HVACg_Lookup,MATCH(Worksheet!$H$6,BuildingSize,0)+1,FALSE),0)))","v":0},{"$f":"X72/1000*Y72*AA72*IF(IFERROR(SEARCH(\"Gas\",$H$5),0)>0,VLOOKUP(\"Gas\",HVACg_Lookup,MATCH($H$6,BuildingSize,0)+1,FALSE),IF(IFERROR(SEARCH(\"Oil\",$H$5),0)>0,VLOOKUP(\"Oil\",HVACg_Lookup,MATCH($H$6,BuildingSize,0)+1,FALSE),IF(IFERROR(SEARCH(\"Propane\",$H$5),0)>0,VLOOKUP(\"Propane\",HVACg_Lookup,MATCH(Worksheet!$H$6,BuildingSize,0)+1,FALSE),0)))","v":0},0,0,{"$f":"IF(OR($B$4=\"\",$B$5=\"\",$H$4=\"\",$H$6=\"\",$H$5=\"\",A72=\"\",F72=\"\",J72=\"\",O72=\"\",P72=\"\")=TRUE,\"\",IF(C72=\"OSW\",IF(J72>=2,1,0),IF(C72=\"OSR\",IF(AND(J72>=2,P72>60)=TRUE,1,0),IF(C72=\"OSRH\",IF(AND(J72>=1,P72>90)=TRUE,1,0),IF(C72=\"OHLC\",IF(AND(N72=\"Y\",P72>60)=TRUE,1,0),IF(C72=\"DDC\",IF(AND(J72>=4,N72=\"Y\",P72>120)=TRUE,1,0),0))))))","v":""},{"$f":"IF(OR($B$4=\"\",$B$5=\"\",$H$4=\"\",$H$6=\"\",$H$5=\"\",A72=\"\",F72=\"\",K72=\"\",O72=\"\",P72=\"\")=TRUE,\"\",IF(C72=\"OSW\",IF(K72>=2,1,0),IF(C72=\"OSR\",IF(AND(K72>=2,Q72>60)=TRUE,1,0),IF(C72=\"OSRH\",IF(AND(K72>=1,Q72>90)=TRUE,1,0),IF(C72=\"OHLC\",IF(AND(N72=\"Y\",Q72>60)=TRUE,1,0),IF(C72=\"DDC\",IF(AND(K72>=4,N72=\"Y\",Q72>120)=TRUE,1,0),0))))))","v":""}]
[null,null,"",null,null,null,null,null,null,null,null,null,null,null,null,0,0,0,0,"",0,0,0,0,0,{"$f":"IF($H$4=\"\",0,VLOOKUP($H$4,BuildingType_Lookup,3,FALSE))","v":0},{"$f":"IF($H$4=\"\",0,VLOOKUP($H$4,BuildingType_Lookup,2,FALSE))","v":0},{"$f":"IF(AND(OR(AN73=\"\",AN73=0)=TRUE,OR(AO73=\"\",AO73=0))=TRUE,0,IF(AO73=\"\",(IF(OR(C73=\"DDC\",C73=\"OHLC\")=TRUE,O73,P73)/1000)*Y73*Z73*(1+VLOOKUP($H$4,BuildingType_Lookup,4,FALSE)),IF(AO73=0,0,(IF(OR(C73=\"DDC\",C73=\"OHLC\")=TRUE,O73,Q73)/1000)*Y73*Z73*(1+VLOOKUP($H$4,BuildingType_Lookup,4,FALSE)))))","v":0},{"$f":"IF(AND(OR(AN73=\"\",AN73=0)=TRUE,OR(AO73=\"\",AO73=0))=TRUE,0,IF(AO73=\"\",(IF(OR(C73=\"DDC\",C73=\"OHLC\")=TRUE,O73,P73)/1000)*Y73*AA73*(1+VLOOKUP($H$4,BuildingType_Lookup,MATCH($H$5,HVAC,0)+4,FALSE)),IF(AO73=0,0,(IF(OR(C73=\"DDC\",C73=\"OHLC\")=TRUE,O73,Q73)/1000)*Y73*AA73*(1+VLOOKUP($H$4,BuildingType_Lookup,MATCH($H$5,HVAC,0)+4,FALSE)))))","v":0},0,0,0,0,0,0,{"$f":"W73/1000*Y73*AA73*IF(IFERROR(SEARCH(\"Gas\",$H$5),0)>0,VLOOKUP(\"Gas\",HVACg_Lookup,MATCH($H$6,BuildingSize,0)+1,FALSE),IF(IFERROR(SEARCH(\"Oil\",$H$5),0)>0,VLOOKUP(\"Oil\",HVACg_Lookup,MATCH($H$6,BuildingSize,0)+1,FALSE),IF(IFERROR(SEARCH(\"Propane\",$H$5),0)>0,VLOOKUP(\"Propane\",HVACg_Lookup,MATCH(Worksheet!$H$6,BuildingSize,0)+1,FALSE),0)))","v":0},{"$f":"X73/1000*Y73*AA73*IF(IFERROR(SEARCH(\"Gas\",$H$5),0)>0,VLOOKUP(\"Gas\",HVACg_Lookup,MATCH($H$6,BuildingSize,0)+1,FALSE),IF(IFERROR(SEARCH(\"Oil\",$H$5),0)>0,VLOOKUP(\"Oil\",HVACg_Lookup,MATCH($H$6,BuildingSize,0)+1,FALSE),IF(IFERROR(SEARCH(\"Propane\",$H$5),0)>0,VLOOKUP(\"Propane\",HVACg_Lookup,MATCH(Worksheet!$H$6,BuildingSize,0)+1,FALSE),0)))","v":0},0,0,{"$f":"IF(OR($B$4=\"\",$B$5=\"\",$H$4=\"\",$H$6=\"\",$H$5=\"\",A73=\"\",F73=\"\",J73=\"\",O73=\"\",P73=\"\")=TRUE,\"\",IF(C73=\"OSW\",IF(J73>=2,1,0),IF(C73=\"OSR\",IF(AND(J73>=2,P73>60)=TRUE,1,0),IF(C73=\"OSRH\",IF(AND(J73>=1,P73>90)=TRUE,1,0),IF(C73=\"OHLC\",IF(AND(N73=\"Y\",P73>60)=TRUE,1,0),IF(C73=\"DDC\",IF(AND(J73>=4,N73=\"Y\",P73>120)=TRUE,1,0),0))))))","v":""},{"$f":"IF(OR($B$4=\"\",$B$5=\"\",$H$4=\"\",$H$6=\"\",$H$5=\"\",A73=\"\",F73=\"\",K73=\"\",O73=\"\",P73=\"\")=TRUE,\"\",IF(C73=\"OSW\",IF(K73>=2,1,0),IF(C73=\"OSR\",IF(AND(K73>=2,Q73>60)=TRUE,1,0),IF(C73=\"OSRH\",IF(AND(K73>=1,Q73>90)=TRUE,1,0),IF(C73=\"OHLC\",IF(AND(N73=\"Y\",Q73>60)=TRUE,1,0),IF(C73=\"DDC\",IF(AND(K73>=4,N73=\"Y\",Q73>120)=TRUE,1,0),0))))))","v":""}]
[null,null,"",null,null,null,null,null,null,null,null,null,null,null,null,0,0,0,0,"",0,0,0,0,0,{"$f":"IF($H$4=\"\",0,VLOOKUP($H$4,BuildingType_Lookup,3,FALSE))","v":0},{"$f":"IF($H$4=\"\",0,VLOOKUP($H$4,BuildingType_Lookup,2,FALSE))","v":0},{"$f":"IF(AND(OR(AN74=\"\",AN74=0)=TRUE,OR(AO74=\"\",AO74=0))=TRUE,0,IF(AO74=\"\",(IF(OR(C74=\"DDC\",C74=\"OHLC\")=TRUE,O74,P74)/1000)*Y74*Z74*(1+VLOOKUP($H$4,BuildingType_Lookup,4,FALSE)),IF(AO74=0,0,(IF(OR(C74=\"DDC\",C74=\"OHLC\")=TRUE,O74,Q74)/1000)*Y74*Z74*(1+VLOOKUP($H$4,BuildingType_Lookup,4,FALSE)))))","v":0},{"$f":"IF(AND(OR(AN74=\"\",AN74=0)=TRUE,OR(AO74=\"\",AO74=0))=TRUE,0,IF(AO74=\"\",(IF(OR(C74=\"DDC\",C74=\"OHLC\")=TRUE,O74,P74)/1000)*Y74*AA74*(1+VLOOKUP($H$4,BuildingType_Lookup,MATCH($H$5,HVAC,0)+4,FALSE)),IF(AO74=0,0,(IF(OR(C74=\"DDC\",C74=\"OHLC\")=TRUE,O74,Q74)/1000)*Y74*AA74*(1+VLOOKUP($H$4,BuildingType_Lookup,MATCH($H$5,HVAC,0)+4,FALSE)))))","v":0},0,0,0,0,0,0,{"$f":"W74/1000*Y74*AA74*IF(IFERROR(SEARCH(\"Gas\",$H$5),0)>0,VLOOKUP(\"Gas\",HVACg_Lookup,MATCH($H$6,BuildingSize,0)+1,FALSE),IF(IFERROR(SEARCH(\"Oil\",$H$5),0)>0,VLOOKUP(\"Oil\",HVACg_Lookup,MATCH($H$6,BuildingSize,0)+1,FALSE),IF(IFERROR(SEARCH(\"Propane\",$H$5),0)>0,VLOOKUP(\"Propane\",HVACg_Lookup,MATCH(Worksheet!$H$6,BuildingSize,0)+1,FALSE),0)))","v":0},{"$f":"X74/1000*Y74*AA74*IF(IFERROR(SEARCH(\"Gas\",$H$5),0)>0,VLOOKUP(\"Gas\",HVACg_Lookup,MATCH($H$6,BuildingSize,0)+1,FALSE),IF(IFERROR(SEARCH(\"Oil\",$H$5),0)>0,VLOOKUP(\"Oil\",HVACg_Lookup,MATCH($H$6,BuildingSize,0)+1,FALSE),IF(IFERROR(SEARCH(\"Propane\",$H$5),0)>0,VLOOKUP(\"Propane\",HVACg_Lookup,MATCH(Worksheet!$H$6,BuildingSize,0)+1,FALSE),0)))","v":0},0,0,{"$f":"IF(OR($B$4=\"\",$B$5=\"\",$H$4=\"\",$H$6=\"\",$H$5=\"\",A74=\"\",F74=\"\",J74=\"\",O74=\"\",P74=\"\")=TRUE,\"\",IF(C74=\"OSW\",IF(J74>=2,1,0),IF(C74=\"OSR\",IF(AND(J74>=2,P74>60)=TRUE,1,0),IF(C74=\"OSRH\",IF(AND(J74>=1,P74>90)=TRUE,1,0),IF(C74=\"OHLC\",IF(AND(N74=\"Y\",P74>60)=TRUE,1,0),IF(C74=\"DDC\",IF(AND(J74>=4,N74=\"Y\",P74>120)=TRUE,1,0),0))))))","v":""},{"$f":"IF(OR($B$4=\"\",$B$5=\"\",$H$4=\"\",$H$6=\"\",$H$5=\"\",A74=\"\",F74=\"\",K74=\"\",O74=\"\",P74=\"\")=TRUE,\"\",IF(C74=\"OSW\",IF(K74>=2,1,0),IF(C74=\"OSR\",IF(AND(K74>=2,Q74>60)=TRUE,1,0),IF(C74=\"OSRH\",IF(AND(K74>=1,Q74>90)=TRUE,1,0),IF(C74=\"OHLC\",IF(AND(N74=\"Y\",Q74>60)=TRUE,1,0),IF(C74=\"DDC\",IF(AND(K74>=4,N74=\"Y\",Q74>120)=TRUE,1,0),0))))))","v":""}]
[null,null,"",null,null,null,null,null,null,null,null,null,null,null,null,0,0,0,0,"",0,0,0,0,0,{"$f":"IF($H$4=\"\",0,VLOOKUP($H$4,BuildingType_Lookup,3,FALSE))","v":0},{"$f":"IF($H$4=\"\",0,VLOOKUP($H$4,BuildingType_Lookup,2,FALSE))","v":0},{"$f":"IF(AND(OR(AN75=\"\",AN75=0)=TRUE,OR(AO75=\"\",AO75=0))=TRUE,0,IF(AO75=\"\",(IF(OR(C75=\"DDC\",C75=\"OHLC\")=TRUE,O75,P75)/1000)*Y75*Z75*(1+VLOOKUP($H$4,BuildingType_Lookup,4,FALSE)),IF(AO75=0,0,(IF(OR(C75=\"DDC\",C75=\"OHLC\")=TRUE,O75,Q75)/1000)*Y75*Z75*(1+VLOOKUP($H$4,BuildingType_Lookup,4,FALSE)))))","v":0},{"$f":"IF(AND(OR(AN75=\"\",AN75=0)=TRUE,OR(AO75=\"\",AO75=0))=TRUE,0,IF(AO75=\"\",(IF(OR(C75=\"DDC\",C75=\"OHLC\")=TRUE,O75,P75)/1000)*Y75*AA75*(1+VLOOKUP($H$4,BuildingType_Lookup,MATCH($H$5,HVAC,0)+4,FALSE)),IF(AO75=0,0,(IF(OR(C75=\"DDC\",C75=\"OHLC\")=TRUE,O75,Q75)/1000)*Y75*AA75*(1+VLOOKUP($H$4,BuildingType_Lookup,MATCH($H$5,HVAC,0)+4,FALSE)))))","v":0},0,0,0,0,0,0,{"$f":"W75/1000*Y75*AA75*IF(IFERROR(SEARCH(\"Gas\",$H$5),0)>0,VLOOKUP(\"Gas\",HVACg_Lookup,MATCH($H$6,BuildingSize,0)+1,FALSE),IF(IFERROR(SEARCH(\"Oil\",$H$5),0)>0,VLOOKUP(\"Oil\",HVACg_Lookup,MATCH($H$6,BuildingSize,0)+1,FALSE),IF(IFERROR(SEARCH(\"Propane\",$H$5),0)>0,VLOOKUP(\"Propane\",HVACg_Lookup,MATCH(Worksheet!$H$6,BuildingSize,0)+1,FALSE),0)))","v":0},{"$f":"X75/1000*Y75*AA75*IF(IFERROR(SEARCH(\"Gas\",$H$5),0)>0,VLOOKUP(\"Gas\",HVACg_Lookup,MATCH($H$6,BuildingSize,0)+1,FALSE),IF(IFERROR(SEARCH(\"Oil\",$H$5),0)>0,VLOOKUP(\"Oil\",HVACg_Lookup,MATCH($H$6,BuildingSize,0)+1,FALSE),IF(IFERROR(SEARCH(\"Propane\",$H$5),0)>0,VLOOKUP(\"Propane\",HVACg_Lookup,MATCH(Worksheet!$H$6,BuildingSize,0)+1,FALSE),0)))","v":0},0,0,{"$f":"IF(OR($B$4=\"\",$B$5=\"\",$H$4=\"\",$H$6=\"\",$H$5=\"\",A75=\"\",F75=\"\",J75=\"\",O75=\"\",P75=\"\")=TRUE,\"\",IF(C75=\"OSW\",IF(J75>=2,1,0),IF(C75=\"OSR\",IF(AND(J75>=2,P75>60)=TRUE,1,0),IF(C75=\"OSRH\",IF(AND(J75>=1,P75>90)=TRUE,1,0),IF(C75=\"OHLC\",IF(AND(N75=\"Y\",P75>60)=TRUE,1,0),IF(C75=\"DDC\",IF(AND(J75>=4,N75=\"Y\",P75>120)=TRUE,1,0),0))))))","v":""},{"$f":"IF(OR($B$4=\"\",$B$5=\"\",$H$4=\"\",$H$6=\"\",$H$5=\"\",A75=\"\",F75=\"\",K75=\"\",O75=\"\",P75=\"\")=TRUE,\"\",IF(C75=\"OSW\",IF(K75>=2,1,0),IF(C75=\"OSR\",IF(AND(K75>=2,Q75>60)=TRUE,1,0),IF(C75=\"OSRH\",IF(AND(K75>=1,Q75>90)=TRUE,1,0),IF(C75=\"OHLC\",IF(AND(N75=\"Y\",Q75>60)=TRUE,1,0),IF(C75=\"DDC\",IF(AND(K75>=4,N75=\"Y\",Q75>120)=TRUE,1,0),0))))))","v":""}]
[null,null,"",null,null,null,null,null,null,null,null,null,null,null,null,0,0,0,0,"",0,0,0,0,0,{"$f":"IF($H$4=\"\",0,VLOOKUP($H$4,BuildingType_Lookup,3,FALSE))","v":0},{"$f":"IF($H$4=\"\",0,VLOOKUP($H$4,BuildingType_Lookup,2,FALSE))","v":0},{"$f":"IF(AND(OR(AN76=\"\",AN76=0)=TRUE,OR(AO76=\"\",AO76=0))=TRUE,0,IF(AO76=\"\",(IF(OR(C76=\"DDC\",C76=\"OHLC\")=TRUE,O76,P76)/1000)*Y76*Z76*(1+VLOOKUP($H$4,BuildingType_Lookup,4,FALSE)),IF(AO76=0,0,(IF(OR(C76=\"DDC\",C76=\"OHLC\")=TRUE,O76,Q76)/1000)*Y76*Z76*(1+VLOOKUP($H$4,BuildingType_Lookup,4,FALSE)))))","v":0},{"$f":"IF(AND(OR(AN76=\"\",AN76=0)=TRUE,OR(AO76=\"\",AO76=0))=TRUE,0,IF(AO76=\"\",(IF(OR(C76=\"DDC\",C76=\"OHLC\")=TRUE,O76,P76)/1000)*Y76*AA76*(1+VLOOKUP($H$4,BuildingType_Lookup,MATCH($H$5,HVAC,0)+4,FALSE)),IF(AO76=0,0,(IF(OR(C76=\"DDC\",C76=\"OHLC\")=TRUE,O76,Q76)/1000)*Y76*AA76*(1+VLOOKUP($H$4,BuildingType_Lookup,MATCH($H$5,HVAC,0)+4,FALSE)))))","v":0},0,0,0,0,0,0,{"$f":"W76/1000*Y76*AA76*IF(IFERROR(SEARCH(\"Gas\",$H$5),0)>0,VLOOKUP(\"Gas\",HVACg_Lookup,MATCH($H$6,BuildingSize,0)+1,FALSE),IF(IFERROR(SEARCH(\"Oil\",$H$5),0)>0,VLOOKUP(\"Oil\",HVACg_Lookup,MATCH($H$6,BuildingSize,0)+1,FALSE),IF(IFERROR(SEARCH(\"Propane\",$H$5),0)>0,VLOOKUP(\"Propane\",HVACg_Lookup,MATCH(Worksheet!$H$6,BuildingSize,0)+1,FALSE),0)))","v":0},{"$f":"X76/1000*Y76*AA76*IF(IFERROR(SEARCH(\"Gas\",$H$5),0)>0,VLOOKUP(\"Gas\",HVACg_Lookup,MATCH($H$6,BuildingSize,0)+1,FALSE),IF(IFERROR(SEARCH(\"Oil\",$H$5),0)>0,VLOOKUP(\"Oil\",HVACg_Lookup,MATCH($H$6,BuildingSize,0)+1,FALSE),IF(IFERROR(SEARCH(\"Propane\",$H$5),0)>0,VLOOKUP(\"Propane\",HVACg_Lookup,MATCH(Worksheet!$H$6,BuildingSize,0)+1,FALSE),0)))","v":0},0,0,{"$f":"IF(OR($B$4=\"\",$B$5=\"\",$H$4=\"\",$H$6=\"\",$H$5=\"\",A76=\"\",F76=\"\",J76=\"\",O76=\"\",P76=\"\")=TRUE,\"\",IF(C76=\"OSW\",IF(J76>=2,1,0),IF(C76=\"OSR\",IF(AND(J76>=2,P76>60)=TRUE,1,0),IF(C76=\"OSRH\",IF(AND(J76>=1,P76>90)=TRUE,1,0),IF(C76=\"OHLC\",IF(AND(N76=\"Y\",P76>60)=TRUE,1,0),IF(C76=\"DDC\",IF(AND(J76>=4,N76=\"Y\",P76>120)=TRUE,1,0),0))))))","v":""},{"$f":"IF(OR($B$4=\"\",$B$5=\"\",$H$4=\"\",$H$6=\"\",$H$5=\"\",A76=\"\",F76=\"\",K76=\"\",O76=\"\",P76=\"\")=TRUE,\"\",IF(C76=\"OSW\",IF(K76>=2,1,0),IF(C76=\"OSR\",IF(AND(K76>=2,Q76>60)=TRUE,1,0),IF(C76=\"OSRH\",IF(AND(K76>=1,Q76>90)=TRUE,1,0),IF(C76=\"OHLC\",IF(AND(N76=\"Y\",Q76>60)=TRUE,1,0),IF(C76=\"DDC\",IF(AND(K76>=4,N76=\"Y\",Q76>120)=TRUE,1,0),0))))))","v":""}]
[null,null,"",null,null,null,null,null,null,null,null,null,null,null,null,0,0,0,0,"",0,0,0,0,0,{"$f":"IF($H$4=\"\",0,VLOOKUP($H$4,BuildingType_Lookup,3,FALSE))","v":0},{"$f":"IF($H$4=\"\",0,VLOOKUP($H$4,BuildingType_Lookup,2,FALSE))","v":0},{"$f":"IF(AND(OR(AN77=\"\",AN77=0)=TRUE,OR(AO77=\"\",AO77=0))=TRUE,0,IF(AO77=\"\",(IF(OR(C77=\"DDC\",C77=\"OHLC\")=TRUE,O77,P77)/1000)*Y77*Z77*(1+VLOOKUP($H$4,BuildingType_Lookup,4,FALSE)),IF(AO77=0,0,(IF(OR(C77=\"DDC\",C77=\"OHLC\")=TRUE,O77,Q77)/1000)*Y77*Z77*(1+VLOOKUP($H$4,BuildingType_Lookup,4,FALSE)))))","v":0},{"$f":"IF(AND(OR(AN77=\"\",AN77=0)=TRUE,OR(AO77=\"\",AO77=0))=TRUE,0,IF(AO77=\"\",(IF(OR(C77=\"DDC\",C77=\"OHLC\")=TRUE,O77,P77)/1000)*Y77*AA77*(1+VLOOKUP($H$4,BuildingType_Lookup,MATCH($H$5,HVAC,0)+4,FALSE)),IF(AO77=0,0,(IF(OR(C77=\"DDC\",C77=\"OHLC\")=TRUE,O77,Q77)/1000)*Y77*AA77*(1+VLOOKUP($H$4,BuildingType_Lookup,MATCH($H$5,HVAC,0)+4,FALSE)))))","v":0},0,0,0,0,0,0,{"$f":"W77/1000*Y77*AA77*IF(IFERROR(SEARCH(\"Gas\",$H$5),0)>0,VLOOKUP(\"Gas\",HVACg_Lookup,MATCH($H$6,BuildingSize,0)+1,FALSE),IF(IFERROR(SEARCH(\"Oil\",$H$5),0)>0,VLOOKUP(\"Oil\",HVACg_Lookup,MATCH($H$6,BuildingSize,0)+1,FALSE),IF(IFERROR(SEARCH(\"Propane\",$H$5),0)>0,VLOOKUP(\"Propane\",HVACg_Lookup,MATCH(Worksheet!$H$6,BuildingSize,0)+1,FALSE),0)))","v":0},{"$f":"X77/1000*Y77*AA77*IF(IFERROR(SEARCH(\"Gas\",$H$5),0)>0,VLOOKUP(\"Gas\",HVACg_Lookup,MATCH($H$6,BuildingSize,0)+1,FALSE),IF(IFERROR(SEARCH(\"Oil\",$H$5),0)>0,VLOOKUP(\"Oil\",HVACg_Lookup,MATCH($H$6,BuildingSize,0)+1,FALSE),IF(IFERROR(SEARCH(\"Propane\",$H$5),0)>0,VLOOKUP(\"Propane\",HVACg_Lookup,MATCH(Worksheet!$H$6,BuildingSize,0)+1,FALSE),0)))","v":0},0,0,{"$f":"IF(OR($B$4=\"\",$B$5=\"\",$H$4=\"\",$H$6=\"\",$H$5=\"\",A77=\"\",F77=\"\",J77=\"\",O77=\"\",P77=\"\")=TRUE,\"\",IF(C77=\"OSW\",IF(J77>=2,1,0),IF(C77=\"OSR\",IF(AND(J77>=2,P77>60)=TRUE,1,0),IF(C77=\"OSRH\",IF(AND(J77>=1,P77>90)=TRUE,1,0),IF(C77=\"OHLC\",IF(AND(N77=\"Y\",P77>60)=TRUE,1,0),IF(C77=\"DDC\",IF(AND(J77>=4,N77=\"Y\",P77>120)=TRUE,1,0),0))))))","v":""},{"$f":"IF(OR($B$4=\"\",$B$5=\"\",$H$4=\"\",$H$6=\"\",$H$5=\"\",A77=\"\",F77=\"\",K77=\"\",O77=\"\",P77=\"\")=TRUE,\"\",IF(C77=\"OSW\",IF(K77>=2,1,0),IF(C77=\"OSR\",IF(AND(K77>=2,Q77>60)=TRUE,1,0),IF(C77=\"OSRH\",IF(AND(K77>=1,Q77>90)=TRUE,1,0),IF(C77=\"OHLC\",IF(AND(N77=\"Y\",Q77>60)=TRUE,1,0),IF(C77=\"DDC\",IF(AND(K77>=4,N77=\"Y\",Q77>120)=TRUE,1,0),0))))))","v":""}]
[null,null,"",null,null,null,null,null,null,null,null,null,null,null,null,0,0,0,0,"",0,0,0,0,0,{"$f":"IF($H$4=\"\",0,VLOOKUP($H$4,BuildingType_Lookup,3,FALSE))","v":0},{"$f":"IF($H$4=\"\",0,VLOOKUP($H$4,BuildingType_Lookup,2,FALSE))","v":0},{"$f":"IF(AND(OR(AN78=\"\",AN78=0)=TRUE,OR(AO78=\"\",AO78=0))=TRUE,0,IF(AO78=\"\",(IF(OR(C78=\"DDC\",C78=\"OHLC\")=TRUE,O78,P78)/1000)*Y78*Z78*(1+VLOOKUP($H$4,BuildingType_Lookup,4,FALSE)),IF(AO78=0,0,(IF(OR(C78=\"DDC\",C78=\"OHLC\")=TRUE,O78,Q78)/1000)*Y78*Z78*(1+VLOOKUP($H$4,BuildingType_Lookup,4,FALSE)))))","v":0},{"$f":"IF(AND(OR(AN78=\"\",AN78=0)=TRUE,OR(AO78=\"\",AO78=0))=TRUE,0,IF(AO78=\"\",(IF(OR(C78=\"DDC\",C78=\"OHLC\")=TRUE,O78,P78)/1000)*Y78*AA78*(1+VLOOKUP($H$4,BuildingType_Lookup,MATCH($H$5,HVAC,0)+4,FALSE)),IF(AO78=0,0,(IF(OR(C78=\"DDC\",C78=\"OHLC\")=TRUE,O78,Q78)/1000)*Y78*AA78*(1+VLOOKUP($H$4,BuildingType_Lookup,MATCH($H$5,HVAC,0)+4,FALSE)))))","v":0},0,0,0,0,0,0,{"$f":"W78/1000*Y78*AA78*IF(IFERROR(SEARCH(\"Gas\",$H$5),0)>0,VLOOKUP(\"Gas\",HVACg_Lookup,MATCH($H$6,BuildingSize,0)+1,FALSE),IF(IFERROR(SEARCH(\"Oil\",$H$5),0)>0,VLOOKUP(\"Oil\",HVACg_Lookup,MATCH($H$6,BuildingSize,0)+1,FALSE),IF(IFERROR(SEARCH(\"Propane\",$H$5),0)>0,VLOOKUP(\"Propane\",HVACg_Lookup,MATCH(Worksheet!$H$6,BuildingSize,0)+1,FALSE),0)))","v":0},{"$f":"X78/1000*Y78*AA78*IF(IFERROR(SEARCH(\"Gas\",$H$5),0)>0,VLOOKUP(\"Gas\",HVACg_Lookup,MATCH($H$6,BuildingSize,0)+1,FALSE),IF(IFERROR(SEARCH(\"Oil\",$H$5),0)>0,VLOOKUP(\"Oil\",HVACg_Lookup,MATCH($H$6,BuildingSize,0)+1,FALSE),IF(IFERROR(SEARCH(\"Propane\",$H$5),0)>0,VLOOKUP(\"Propane\",HVACg_Lookup,MATCH(Worksheet!$H$6,BuildingSize,0)+1,FALSE),0)))","v":0},0,0,{"$f":"IF(OR($B$4=\"\",$B$5=\"\",$H$4=\"\",$H$6=\"\",$H$5=\"\",A78=\"\",F78=\"\",J78=\"\",O78=\"\",P78=\"\")=TRUE,\"\",IF(C78=\"OSW\",IF(J78>=2,1,0),IF(C78=\"OSR\",IF(AND(J78>=2,P78>60)=TRUE,1,0),IF(C78=\"OSRH\",IF(AND(J78>=1,P78>90)=TRUE,1,0),IF(C78=\"OHLC\",IF(AND(N78=\"Y\",P78>60)=TRUE,1,0),IF(C78=\"DDC\",IF(AND(J78>=4,N78=\"Y\",P78>120)=TRUE,1,0),0))))))","v":""},{"$f":"IF(OR($B$4=\"\",$B$5=\"\",$H$4=\"\",$H$6=\"\",$H$5=\"\",A78=\"\",F78=\"\",K78=\"\",O78=\"\",P78=\"\")=TRUE,\"\",IF(C78=\"OSW\",IF(K78>=2,1,0),IF(C78=\"OSR\",IF(AND(K78>=2,Q78>60)=TRUE,1,0),IF(C78=\"OSRH\",IF(AND(K78>=1,Q78>90)=TRUE,1,0),IF(C78=\"OHLC\",IF(AND(N78=\"Y\",Q78>60)=TRUE,1,0),IF(C78=\"DDC\",IF(AND(K78>=4,N78=\"Y\",Q78>120)=TRUE,1,0),0))))))","v":""}]
[null,null,"",null,null,null,null,null,null,null,null,null,null,null,null,0,0,0,0,"",0,0,0,0,0,{"$f":"IF($H$4=\"\",0,VLOOKUP($H$4,BuildingType_Lookup,3,FALSE))","v":0},{"$f":"IF($H$4=\"\",0,VLOOKUP($H$4,BuildingType_Lookup,2,FALSE))","v":0},{"$f":"IF(AND(OR(AN79=\"\",AN79=0)=TRUE,OR(AO79=\"\",AO79=0))=TRUE,0,IF(AO79=\"\",(IF(OR(C79=\"DDC\",C79=\"OHLC\")=TRUE,O79,P79)/1000)*Y79*Z79*(1+VLOOKUP($H$4,BuildingType_Lookup,4,FALSE)),IF(AO79=0,0,(IF(OR(C79=\"DDC\",C79=\"OHLC\")=TRUE,O79,Q79)/1000)*Y79*Z79*(1+VLOOKUP($H$4,BuildingType_Lookup,4,FALSE)))))","v":0},{"$f":"IF(AND(OR(AN79=\"\",AN79=0)=TRUE,OR(AO79=\"\",AO79=0))=TRUE,0,IF(AO79=\"\",(IF(OR(C79=\"DDC\",C79=\"OHLC\")=TRUE,O79,P79)/1000)*Y79*AA79*(1+VLOOKUP($H$4,BuildingType_Lookup,MATCH($H$5,HVAC,0)+4,FALSE)),IF(AO79=0,0,(IF(OR(C79=\"DDC\",C79=\"OHLC\")=TRUE,O79,Q79)/1000)*Y79*AA79*(1+VLOOKUP($H$4,BuildingType_Lookup,MATCH($H$5,HVAC,0)+4,FALSE)))))","v":0},0,0,0,0,0,0,{"$f":"W79/1000*Y79*AA79*IF(IFERROR(SEARCH(\"Gas\",$H$5),0)>0,VLOOKUP(\"Gas\",HVACg_Lookup,MATCH($H$6,BuildingSize,0)+1,FALSE),IF(IFERROR(SEARCH(\"Oil\",$H$5),0)>0,VLOOKUP(\"Oil\",HVACg_Lookup,MATCH($H$6,BuildingSize,0)+1,FALSE),IF(IFERROR(SEARCH(\"Propane\",$H$5),0)>0,VLOOKUP(\"Propane\",HVACg_Lookup,MATCH(Worksheet!$H$6,BuildingSize,0)+1,FALSE),0)))","v":0},{"$f":"X79/1000*Y79*AA79*IF(IFERROR(SEARCH(\"Gas\",$H$5),0)>0,VLOOKUP(\"Gas\",HVACg_Lookup,MATCH($H$6,BuildingSize,0)+1,FALSE),IF(IFERROR(SEARCH(\"Oil\",$H$5),0)>0,VLOOKUP(\"Oil\",HVACg_Lookup,MATCH($H$6,BuildingSize,0)+1,FALSE),IF(IFERROR(SEARCH(\"Propane\",$H$5),0)>0,VLOOKUP(\"Propane\",HVACg_Lookup,MATCH(Worksheet!$H$6,BuildingSize,0)+1,FALSE),0)))","v":0},0,0,{"$f":"IF(OR($B$4=\"\",$B$5=\"\",$H$4=\"\",$H$6=\"\",$H$5=\"\",A79=\"\",F79=\"\",J79=\"\",O79=\"\",P79=\"\")=TRUE,\"\",IF(C79=\"OSW\",IF(J79>=2,1,0),IF(C79=\"OSR\",IF(AND(J79>=2,P79>60)=TRUE,1,0),IF(C79=\"OSRH\",IF(AND(J79>=1,P79>90)=TRUE,1,0),IF(C79=\"OHLC\",IF(AND(N79=\"Y\",P79>60)=TRUE,1,0),IF(C79=\"DDC\",IF(AND(J79>=4,N79=\"Y\",P79>120)=TRUE,1,0),0))))))","v":""},{"$f":"IF(OR($B$4=\"\",$B$5=\"\",$H$4=\"\",$H$6=\"\",$H$5=\"\",A79=\"\",F79=\"\",K79=\"\",O79=\"\",P79=\"\")=TRUE,\"\",IF(C79=\"OSW\",IF(K79>=2,1,0),IF(C79=\"OSR\",IF(AND(K79>=2,Q79>60)=TRUE,1,0),IF(C79=\"OSRH\",IF(AND(K79>=1,Q79>90)=TRUE,1,0),IF(C79=\"OHLC\",IF(AND(N79=\"Y\",Q79>60)=TRUE,1,0),IF(C79=\"DDC\",IF(AND(K79>=4,N79=\"Y\",Q79>120)=TRUE,1,0),0))))))","v":""}]
[null,null,"",null,null,null,null,null,null,null,null,null,null,null,null,0,0,0,0,"",0,0,0,0,0,{"$f":"IF($H$4=\"\",0,VLOOKUP($H$4,BuildingType_Lookup,3,FALSE))","v":0},{"$f":"IF($H$4=\"\",0,VLOOKUP($H$4,BuildingType_Lookup,2,FALSE))","v":0},{"$f":"IF(AND(OR(AN80=\"\",AN80=0)=TRUE,OR(AO80=\"\",AO80=0))=TRUE,0,IF(AO80=\"\",(IF(OR(C80=\"DDC\",C80=\"OHLC\")=TRUE,O80,P80)/1000)*Y80*Z80*(1+VLOOKUP($H$4,BuildingType_Lookup,4,FALSE)),IF(AO80=0,0,(IF(OR(C80=\"DDC\",C80=\"OHLC\")=TRUE,O80,Q80)/1000)*Y80*Z80*(1+VLOOKUP($H$4,BuildingType_Lookup,4,FALSE)))))","v":0},{"$f":"IF(AND(OR(AN80=\"\",AN80=0)=TRUE,OR(AO80=\"\",AO80=0))=TRUE,0,IF(AO80=\"\",(IF(OR(C80=\"DDC\",C80=\"OHLC\")=TRUE,O80,P80)/1000)*Y80*AA80*(1+VLOOKUP($H$4,BuildingType_Lookup,MATCH($H$5,HVAC,0)+4,FALSE)),IF(AO80=0,0,(IF(OR(C80=\"DDC\",C80=\"OHLC\")=TRUE,O80,Q80)/1000)*Y80*AA80*(1+VLOOKUP($H$4,BuildingType_Lookup,MATCH($H$5,HVAC,0)+4,FALSE)))))","v":0},0,0,0,0,0,0,{"$f":"W80/1000*Y80*AA80*IF(IFERROR(SEARCH(\"Gas\",$H$5),0)>0,VLOOKUP(\"Gas\",HVACg_Lookup,MATCH($H$6,BuildingSize,0)+1,FALSE),IF(IFERROR(SEARCH(\"Oil\",$H$5),0)>0,VLOOKUP(\"Oil\",HVACg_Lookup,MATCH($H$6,BuildingSize,0)+1,FALSE),IF(IFERROR(SEARCH(\"Propane\",$H$5),0)>0,VLOOKUP(\"Propane\",HVACg_Lookup,MATCH(Worksheet!$H$6,BuildingSize,0)+1,FALSE),0)))","v":0},{"$f":"X80/1000*Y80*AA80*IF(IFERROR(SEARCH(\"Gas\",$H$5),0)>0,VLOOKUP(\"Gas\",HVACg_Lookup,MATCH($H$6,BuildingSize,0)+1,FALSE),IF(IFERROR(SEARCH(\"Oil\",$H$5),0)>0,VLOOKUP(\"Oil\",HVACg_Lookup,MATCH($H$6,BuildingSize,0)+1,FALSE),IF(IFERROR(SEARCH(\"Propane\",$H$5),0)>0,VLOOKUP(\"Propane\",HVACg_Lookup,MATCH(Worksheet!$H$6,BuildingSize,0)+1,FALSE),0)))","v":0},0,0,{"$f":"IF(OR($B$4=\"\",$B$5=\"\",$H$4=\"\",$H$6=\"\",$H$5=\"\",A80=\"\",F80=\"\",J80=\"\",O80=\"\",P80=\"\")=TRUE,\"\",IF(C80=\"OSW\",IF(J80>=2,1,0),IF(C80=\"OSR\",IF(AND(J80>=2,P80>60)=TRUE,1,0),IF(C80=\"OSRH\",IF(AND(J80>=1,P80>90)=TRUE,1,0),IF(C80=\"OHLC\",IF(AND(N80=\"Y\",P80>60)=TRUE,1,0),IF(C80=\"DDC\",IF(AND(J80>=4,N80=\"Y\",P80>120)=TRUE,1,0),0))))))","v":""},{"$f":"IF(OR($B$4=\"\",$B$5=\"\",$H$4=\"\",$H$6=\"\",$H$5=\"\",A80=\"\",F80=\"\",K80=\"\",O80=\"\",P80=\"\")=TRUE,\"\",IF(C80=\"OSW\",IF(K80>=2,1,0),IF(C80=\"OSR\",IF(AND(K80>=2,Q80>60)=TRUE,1,0),IF(C80=\"OSRH\",IF(AND(K80>=1,Q80>90)=TRUE,1,0),IF(C80=\"OHLC\",IF(AND(N80=\"Y\",Q80>60)=TRUE,1,0),IF(C80=\"DDC\",IF(AND(K80>=4,N80=\"Y\",Q80>120)=TRUE,1,0),0))))))","v":""}]
[null,null,"",null,null,null,null,null,null,null,null,null,null,null,null,0,0,0,0,"",0,0,0,0,0,{"$f":"IF($H$4=\"\",0,VLOOKUP($H$4,BuildingType_Lookup,3,FALSE))","v":0},{"$f":"IF($H$4=\"\",0,VLOOKUP($H$4,BuildingType_Lookup,2,FALSE))","v":0},{"$f":"IF(AND(OR(AN81=\"\",AN81=0)=TRUE,OR(AO81=\"\",AO81=0))=TRUE,0,IF(AO81=\"\",(IF(OR(C81=\"DDC\",C81=\"OHLC\")=TRUE,O81,P81)/1000)*Y81*Z81*(1+VLOOKUP($H$4,BuildingType_Lookup,4,FALSE)),IF(AO81=0,0,(IF(OR(C81=\"DDC\",C81=\"OHLC\")=TRUE,O81,Q81)/1000)*Y81*Z81*(1+VLOOKUP($H$4,BuildingType_Lookup,4,FALSE)))))","v":0},{"$f":"IF(AND(OR(AN81=\"\",AN81=0)=TRUE,OR(AO81=\"\",AO81=0))=TRUE,0,IF(AO81=\"\",(IF(OR(C81=\"DDC\",C81=\"OHLC\")=TRUE,O81,P81)/1000)*Y81*AA81*(1+VLOOKUP($H$4,BuildingType_Lookup,MATCH($H$5,HVAC,0)+4,FALSE)),IF(AO81=0,0,(IF(OR(C81=\"DDC\",C81=\"OHLC\")=TRUE,O81,Q81)/1000)*Y81*AA81*(1+VLOOKUP($H$4,BuildingType_Lookup,MATCH($H$5,HVAC,0)+4,FALSE)))))","v":0},0,0,0,0,0,0,{"$f":"W81/1000*Y81*AA81*IF(IFERROR(SEARCH(\"Gas\",$H$5),0)>0,VLOOKUP(\"Gas\",HVACg_Lookup,MATCH($H$6,BuildingSize,0)+1,FALSE),IF(IFERROR(SEARCH(\"Oil\",$H$5),0)>0,VLOOKUP(\"Oil\",HVACg_Lookup,MATCH($H$6,BuildingSize,0)+1,FALSE),IF(IFERROR(SEARCH(\"Propane\",$H$5),0)>0,VLOOKUP(\"Propane\",HVACg_Lookup,MATCH(Worksheet!$H$6,BuildingSize,0)+1,FALSE),0)))","v":0},{"$f":"X81/1000*Y81*AA81*IF(IFERROR(SEARCH(\"Gas\",$H$5),0)>0,VLOOKUP(\"Gas\",HVACg_Lookup,MATCH($H$6,BuildingSize,0)+1,FALSE),IF(IFERROR(SEARCH(\"Oil\",$H$5),0)>0,VLOOKUP(\"Oil\",HVACg_Lookup,MATCH($H$6,BuildingSize,0)+1,FALSE),IF(IFERROR(SEARCH(\"Propane\",$H$5),0)>0,VLOOKUP(\"Propane\",HVACg_Lookup,MATCH(Worksheet!$H$6,BuildingSize,0)+1,FALSE),0)))","v":0},0,0,{"$f":"IF(OR($B$4=\"\",$B$5=\"\",$H$4=\"\",$H$6=\"\",$H$5=\"\",A81=\"\",F81=\"\",J81=\"\",O81=\"\",P81=\"\")=TRUE,\"\",IF(C81=\"OSW\",IF(J81>=2,1,0),IF(C81=\"OSR\",IF(AND(J81>=2,P81>60)=TRUE,1,0),IF(C81=\"OSRH\",IF(AND(J81>=1,P81>90)=TRUE,1,0),IF(C81=\"OHLC\",IF(AND(N81=\"Y\",P81>60)=TRUE,1,0),IF(C81=\"DDC\",IF(AND(J81>=4,N81=\"Y\",P81>120)=TRUE,1,0),0))))))","v":""},{"$f":"IF(OR($B$4=\"\",$B$5=\"\",$H$4=\"\",$H$6=\"\",$H$5=\"\",A81=\"\",F81=\"\",K81=\"\",O81=\"\",P81=\"\")=TRUE,\"\",IF(C81=\"OSW\",IF(K81>=2,1,0),IF(C81=\"OSR\",IF(AND(K81>=2,Q81>60)=TRUE,1,0),IF(C81=\"OSRH\",IF(AND(K81>=1,Q81>90)=TRUE,1,0),IF(C81=\"OHLC\",IF(AND(N81=\"Y\",Q81>60)=TRUE,1,0),IF(C81=\"DDC\",IF(AND(K81>=4,N81=\"Y\",Q81>120)=TRUE,1,0),0))))))","v":""}]
[null,null,"",null,null,null,null,null,null,null,null,null,null,null,null,0,0,0,0,"",0,0,0,0,0,{"$f":"IF($H$4=\"\",0,VLOOKUP($H$4,BuildingType_Lookup,3,FALSE))","v":0},{"$f":"IF($H$4=\"\",0,VLOOKUP($H$4,BuildingType_Lookup,2,FALSE))","v":0},{"$f":"IF(AND(OR(AN82=\"\",AN82=0)=TRUE,OR(AO82=\"\",AO82=0))=TRUE,0,IF(AO82=\"\",(IF(OR(C82=\"DDC\",C82=\"OHLC\")=TRUE,O82,P82)/1000)*Y82*Z82*(1+VLOOKUP($H$4,BuildingType_Lookup,4,FALSE)),IF(AO82=0,0,(IF(OR(C82=\"DDC\",C82=\"OHLC\")=TRUE,O82,Q82)/1000)*Y82*Z82*(1+VLOOKUP($H$4,BuildingType_Lookup,4,FALSE)))))","v":0},{"$f":"IF(AND(OR(AN82=\"\",AN82=0)=TRUE,OR(AO82=\"\",AO82=0))=TRUE,0,IF(AO82=\"\",(IF(OR(C82=\"DDC\",C82=\"OHLC\")=TRUE,O82,P82)/1000)*Y82*AA82*(1+VLOOKUP($H$4,BuildingType_Lookup,MATCH($H$5,HVAC,0)+4,FALSE)),IF(AO82=0,0,(IF(OR(C82=\"DDC\",C82=\"OHLC\")=TRUE,O82,Q82)/1000)*Y82*AA82*(1+VLOOKUP($H$4,BuildingType_Lookup,MATCH($H$5,HVAC,0)+4,FALSE)))))","v":0},0,0,0,0,0,0,{"$f":"W82/1000*Y82*AA82*IF(IFERROR(SEARCH(\"Gas\",$H$5),0)>0,VLOOKUP(\"Gas\",HVACg_Lookup,MATCH($H$6,BuildingSize,0)+1,FALSE),IF(IFERROR(SEARCH(\"Oil\",$H$5),0)>0,VLOOKUP(\"Oil\",HVACg_Lookup,MATCH($H$6,BuildingSize,0)+1,FALSE),IF(IFERROR(SEARCH(\"Propane\",$H$5),0)>0,VLOOKUP(\"Propane\",HVACg_Lookup,MATCH(Worksheet!$H$6,BuildingSize,0)+1,FALSE),0)))","v":0},{"$f":"X82/1000*Y82*AA82*IF(IFERROR(SEARCH(\"Gas\",$H$5),0)>0,VLOOKUP(\"Gas\",HVACg_Lookup,MATCH($H$6,BuildingSize,0)+1,FALSE),IF(IFERROR(SEARCH(\"Oil\",$H$5),0)>0,VLOOKUP(\"Oil\",HVACg_Lookup,MATCH($H$6,BuildingSize,0)+1,FALSE),IF(IFERROR(SEARCH(\"Propane\",$H$5),0)>0,VLOOKUP(\"Propane\",HVACg_Lookup,MATCH(Worksheet!$H$6,BuildingSize,0)+1,FALSE),0)))","v":0},0,0,{"$f":"IF(OR($B$4=\"\",$B$5=\"\",$H$4=\"\",$H$6=\"\",$H$5=\"\",A82=\"\",F82=\"\",J82=\"\",O82=\"\",P82=\"\")=TRUE,\"\",IF(C82=\"OSW\",IF(J82>=2,1,0),IF(C82=\"OSR\",IF(AND(J82>=2,P82>60)=TRUE,1,0),IF(C82=\"OSRH\",IF(AND(J82>=1,P82>90)=TRUE,1,0),IF(C82=\"OHLC\",IF(AND(N82=\"Y\",P82>60)=TRUE,1,0),IF(C82=\"DDC\",IF(AND(J82>=4,N82=\"Y\",P82>120)=TRUE,1,0),0))))))","v":""},{"$f":"IF(OR($B$4=\"\",$B$5=\"\",$H$4=\"\",$H$6=\"\",$H$5=\"\",A82=\"\",F82=\"\",K82=\"\",O82=\"\",P82=\"\")=TRUE,\"\",IF(C82=\"OSW\",IF(K82>=2,1,0),IF(C82=\"OSR\",IF(AND(K82>=2,Q82>60)=TRUE,1,0),IF(C82=\"OSRH\",IF(AND(K82>=1,Q82>90)=TRUE,1,0),IF(C82=\"OHLC\",IF(AND(N82=\"Y\",Q82>60)=TRUE,1,0),IF(C82=\"DDC\",IF(AND(K82>=4,N82=\"Y\",Q82>120)=TRUE,1,0),0))))))","v":""}]
[null,null,"",null,null,null,null,null,null,null,null,null,null,null,null,0,0,0,0,"",0,0,0,0,0,{"$f":"IF($H$4=\"\",0,VLOOKUP($H$4,BuildingType_Lookup,3,FALSE))","v":0},{"$f":"IF($H$4=\"\",0,VLOOKUP($H$4,BuildingType_Lookup,2,FALSE))","v":0},{"$f":"IF(AND(OR(AN83=\"\",AN83=0)=TRUE,OR(AO83=\"\",AO83=0))=TRUE,0,IF(AO83=\"\",(IF(OR(C83=\"DDC\",C83=\"OHLC\")=TRUE,O83,P83)/1000)*Y83*Z83*(1+VLOOKUP($H$4,BuildingType_Lookup,4,FALSE)),IF(AO83=0,0,(IF(OR(C83=\"DDC\",C83=\"OHLC\")=TRUE,O83,Q83)/1000)*Y83*Z83*(1+VLOOKUP($H$4,BuildingType_Lookup,4,FALSE)))))","v":0},{"$f":"IF(AND(OR(AN83=\"\",AN83=0)=TRUE,OR(AO83=\"\",AO83=0))=TRUE,0,IF(AO83=\"\",(IF(OR(C83=\"DDC\",C83=\"OHLC\")=TRUE,O83,P83)/1000)*Y83*AA83*(1+VLOOKUP($H$4,BuildingType_Lookup,MATCH($H$5,HVAC,0)+4,FALSE)),IF(AO83=0,0,(IF(OR(C83=\"DDC\",C83=\"OHLC\")=TRUE,O83,Q83)/1000)*Y83*AA83*(1+VLOOKUP($H$4,BuildingType_Lookup,MATCH($H$5,HVAC,0)+4,FALSE)))))","v":0},0,0,0,0,0,0,{"$f":"W83/1000*Y83*AA83*IF(IFERROR(SEARCH(\"Gas\",$H$5),0)>0,VLOOKUP(\"Gas\",HVACg_Lookup,MATCH($H$6,BuildingSize,0)+1,FALSE),IF(IFERROR(SEARCH(\"Oil\",$H$5),0)>0,VLOOKUP(\"Oil\",HVACg_Lookup,MATCH($H$6,BuildingSize,0)+1,FALSE),IF(IFERROR(SEARCH(\"Propane\",$H$5),0)>0,VLOOKUP(\"Propane\",HVACg_Lookup,MATCH(Worksheet!$H$6,BuildingSize,0)+1,FALSE),0)))","v":0},{"$f":"X83/1000*Y83*AA83*IF(IFERROR(SEARCH(\"Gas\",$H$5),0)>0,VLOOKUP(\"Gas\",HVACg_Lookup,MATCH($H$6,BuildingSize,0)+1,FALSE),IF(IFERROR(SEARCH(\"Oil\",$H$5),0)>0,VLOOKUP(\"Oil\",HVACg_Lookup,MATCH($H$6,BuildingSize,0)+1,FALSE),IF(IFERROR(SEARCH(\"Propane\",$H$5),0)>0,VLOOKUP(\"Propane\",HVACg_Lookup,MATCH(Worksheet!$H$6,BuildingSize,0)+1,FALSE),0)))","v":0},0,0,{"$f":"IF(OR($B$4=\"\",$B$5=\"\",$H$4=\"\",$H$6=\"\",$H$5=\"\",A83=\"\",F83=\"\",J83=\"\",O83=\"\",P83=\"\")=TRUE,\"\",IF(C83=\"OSW\",IF(J83>=2,1,0),IF(C83=\"OSR\",IF(AND(J83>=2,P83>60)=TRUE,1,0),IF(C83=\"OSRH\",IF(AND(J83>=1,P83>90)=TRUE,1,0),IF(C83=\"OHLC\",IF(AND(N83=\"Y\",P83>60)=TRUE,1,0),IF(C83=\"DDC\",IF(AND(J83>=4,N83=\"Y\",P83>120)=TRUE,1,0),0))))))","v":""},{"$f":"IF(OR($B$4=\"\",$B$5=\"\",$H$4=\"\",$H$6=\"\",$H$5=\"\",A83=\"\",F83=\"\",K83=\"\",O83=\"\",P83=\"\")=TRUE,\"\",IF(C83=\"OSW\",IF(K83>=2,1,0),IF(C83=\"OSR\",IF(AND(K83>=2,Q83>60)=TRUE,1,0),IF(C83=\"OSRH\",IF(AND(K83>=1,Q83>90)=TRUE,1,0),IF(C83=\"OHLC\",IF(AND(N83=\"Y\",Q83>60)=TRUE,1,0),IF(C83=\"DDC\",IF(AND(K83>=4,N83=\"Y\",Q83>120)=TRUE,1,0),0))))))","v":""}]
[null,null,"",null,null,null,null,null,null,null,null,null,null,null,null,0,0,0,0,"",0,0,0,0,0,{"$f":"IF($H$4=\"\",0,VLOOKUP($H$4,BuildingType_Lookup,3,FALSE))","v":0},{"$f":"IF($H$4=\"\",0,VLOOKUP($H$4,BuildingType_Lookup,2,FALSE))","v":0},{"$f":"IF(AND(OR(AN84=\"\",AN84=0)=TRUE,OR(AO84=\"\",AO84=0))=TRUE,0,IF(AO84=\"\",(IF(OR(C84=\"DDC\",C84=\"OHLC\")=TRUE,O84,P84)/1000)*Y84*Z84*(1+VLOOKUP($H$4,BuildingType_Lookup,4,FALSE)),IF(AO84=0,0,(IF(OR(C84=\"DDC\",C84=\"OHLC\")=TRUE,O84,Q84)/1000)*Y84*Z84*(1+VLOOKUP($H$4,BuildingType_Lookup,4,FALSE)))))","v":0},{"$f":"IF(AND(OR(AN84=\"\",AN84=0)=TRUE,OR(AO84=\"\",AO84=0))=TRUE,0,IF(AO84=\"\",(IF(OR(C84=\"DDC\",C84=\"OHLC\")=TRUE,O84,P84)/1000)*Y84*AA84*(1+VLOOKUP($H$4,BuildingType_Lookup,MATCH($H$5,HVAC,0)+4,FALSE)),IF(AO84=0,0,(IF(OR(C84=\"DDC\",C84=\"OHLC\")=TRUE,O84,Q84)/1000)*Y84*AA84*(1+VLOOKUP($H$4,BuildingType_Lookup,MATCH($H$5,HVAC,0)+4,FALSE)))))","v":0},0,0,0,0,0,0,{"$f":"W84/1000*Y84*AA84*IF(IFERROR(SEARCH(\"Gas\",$H$5),0)>0,VLOOKUP(\"Gas\",HVACg_Lookup,MATCH($H$6,BuildingSize,0)+1,FALSE),IF(IFERROR(SEARCH(\"Oil\",$H$5),0)>0,VLOOKUP(\"Oil\",HVACg_Lookup,MATCH($H$6,BuildingSize,0)+1,FALSE),IF(IFERROR(SEARCH(\"Propane\",$H$5),0)>0,VLOOKUP(\"Propane\",HVACg_Lookup,MATCH(Worksheet!$H$6,BuildingSize,0)+1,FALSE),0)))","v":0},{"$f":"X84/1000*Y84*AA84*IF(IFERROR(SEARCH(\"Gas\",$H$5),0)>0,VLOOKUP(\"Gas\",HVACg_Lookup,MATCH($H$6,BuildingSize,0)+1,FALSE),IF(IFERROR(SEARCH(\"Oil\",$H$5),0)>0,VLOOKUP(\"Oil\",HVACg_Lookup,MATCH($H$6,BuildingSize,0)+1,FALSE),IF(IFERROR(SEARCH(\"Propane\",$H$5),0)>0,VLOOKUP(\"Propane\",HVACg_Lookup,MATCH(Worksheet!$H$6,BuildingSize,0)+1,FALSE),0)))","v":0},0,0,{"$f":"IF(OR($B$4=\"\",$B$5=\"\",$H$4=\"\",$H$6=\"\",$H$5=\"\",A84=\"\",F84=\"\",J84=\"\",O84=\"\",P84=\"\")=TRUE,\"\",IF(C84=\"OSW\",IF(J84>=2,1,0),IF(C84=\"OSR\",IF(AND(J84>=2,P84>60)=TRUE,1,0),IF(C84=\"OSRH\",IF(AND(J84>=1,P84>90)=TRUE,1,0),IF(C84=\"OHLC\",IF(AND(N84=\"Y\",P84>60)=TRUE,1,0),IF(C84=\"DDC\",IF(AND(J84>=4,N84=\"Y\",P84>120)=TRUE,1,0),0))))))","v":""},{"$f":"IF(OR($B$4=\"\",$B$5=\"\",$H$4=\"\",$H$6=\"\",$H$5=\"\",A84=\"\",F84=\"\",K84=\"\",O84=\"\",P84=\"\")=TRUE,\"\",IF(C84=\"OSW\",IF(K84>=2,1,0),IF(C84=\"OSR\",IF(AND(K84>=2,Q84>60)=TRUE,1,0),IF(C84=\"OSRH\",IF(AND(K84>=1,Q84>90)=TRUE,1,0),IF(C84=\"OHLC\",IF(AND(N84=\"Y\",Q84>60)=TRUE,1,0),IF(C84=\"DDC\",IF(AND(K84>=4,N84=\"Y\",Q84>120)=TRUE,1,0),0))))))","v":""}]
[null,null,"",null,null,null,null,null,null,null,null,null,null,null,null,0,0,{"$f":"IF(AN85=\"\",0,IF(AN85=1,VLOOKUP(A85,MeasureCode_Lookup,3,FALSE),\"DNQ\"))","v":0},{"$f":"IF(AO85=\"\",0,IF(AO85=1,VLOOKUP(A85,MeasureCode_Lookup,3,FALSE),\"DNQ\"))","v":0},{"$f":"IF(A85=\"\",\"\",VLOOKUP(A85,MeasureCode_Lookup,4,FALSE))","v":""},0,0,{"$f":"IF(N(R85)=0,0,F85*P85)","v":0},{"$f":"IF(N(S85)=0,0,G85*Q85)","v":0},{"$f":"IF(A85=\"\",0,VLOOKUP(A85,MeasureCode_Lookup,5,FALSE))","v":0},{"$f":"IF($H$4=\"\",0,VLOOKUP($H$4,BuildingType_Lookup,3,FALSE))","v":0},{"$f":"IF($H$4=\"\",0,VLOOKUP($H$4,BuildingType_Lookup,2,FALSE))","v":0},{"$f":"IF(AND(OR(AN85=\"\",AN85=0)=TRUE,OR(AO85=\"\",AO85=0))=TRUE,0,IF(AO85=\"\",(IF(OR(C85=\"DDC\",C85=\"OHLC\")=TRUE,O85,P85)/1000)*Y85*Z85*(1+VLOOKUP($H$4,BuildingType_Lookup,4,FALSE)),IF(AO85=0,0,(IF(OR(C85=\"DDC\",C85=\"OHLC\")=TRUE,O85,Q85)/1000)*Y85*Z85*(1+VLOOKUP($H$4,BuildingType_Lookup,4,FALSE)))))","v":0},{"$f":"IF(AND(OR(AN85=\"\",AN85=0)=TRUE,OR(AO85=\"\",AO85=0))=TRUE,0,IF(AO85=\"\",(IF(OR(C85=\"DDC\",C85=\"OHLC\")=TRUE,O85,P85)/1000)*Y85*AA85*(1+VLOOKUP($H$4,BuildingType_Lookup,MATCH($H$5,HVAC,0)+4,FALSE)),IF(AO85=0,0,(IF(OR(C85=\"DDC\",C85=\"OHLC\")=TRUE,O85,Q85)/1000)*Y85*AA85*(1+VLOOKUP($H$4,BuildingType_Lookup,MATCH($H$5,HVAC,0)+4,FALSE)))))","v":0},{"$f":"IFERROR(IF(OR(C85=\"DDC\",C85=\"OHLC\")=TRUE,F85*J85*AB85,F85*AB85),0)","v":0},{"$f":"IFERROR(IF(OR(C85=\"DDC\",C85=\"OHLC\")=TRUE,G85*K85*AB85,G85*AB85),0)","v":0},{"$f":"IFERROR(IF(OR(C85=\"DDC\",C85=\"OHLC\")=TRUE,F85*J85*AC85,F85*AC85),0)","v":0},{"$f":"IFERROR(IF(OR(C85=\"DDC\",C85=\"OHLC\")=TRUE,G85*K85*AC85,G85*AC85),0)","v":0},0,0,{"$f":"W85/1000*Y85*AA85*IF(IFERROR(SEARCH(\"Gas\",$H$5),0)>0,VLOOKUP(\"Gas\",HVACg_Lookup,MATCH($H$6,BuildingSize,0)+1,FALSE),IF(IFERROR(SEARCH(\"Oil\",$H$5),0)>0,VLOOKUP(\"Oil\",HVACg_Lookup,MATCH($H$6,BuildingSize,0)+1,FALSE),IF(IFERROR(SEARCH(\"Propane\",$H$5),0)>0,VLOOKUP(\"Propane\",HVACg_Lookup,MATCH(Worksheet!$H$6,BuildingSize,0)+1,FALSE),0)))","v":0},{"$f":"X85/1000*Y85*AA85*IF(IFERROR(SEARCH(\"Gas\",$H$5),0)>0,VLOOKUP(\"Gas\",HVACg_Lookup,MATCH($H$6,BuildingSize,0)+1,FALSE),IF(IFERROR(SEARCH(\"Oil\",$H$5),0)>0,VLOOKUP(\"Oil\",HVACg_Lookup,MATCH($H$6,BuildingSize,0)+1,FALSE),IF(IFERROR(SEARCH(\"Propane\",$H$5),0)>0,VLOOKUP(\"Propane\",HVACg_Lookup,MATCH(Worksheet!$H$6,BuildingSize,0)+1,FALSE),0)))","v":0},0,0,{"$f":"IF(OR($B$4=\"\",$B$5=\"\",$H$4=\"\",$H$6=\"\",$H$5=\"\",A85=\"\",F85=\"\",J85=\"\",O85=\"\",P85=\"\")=TRUE,\"\",IF(C85=\"OSW\",IF(J85>=2,1,0),IF(C85=\"OSR\",IF(AND(J85>=2,P85>60)=TRUE,1,0),IF(C85=\"OSRH\",IF(AND(J85>=1,P85>90)=TRUE,1,0),IF(C85=\"OHLC\",IF(AND(N85=\"Y\",P85>60)=TRUE,1,0),IF(C85=\"DDC\",IF(AND(J85>=4,N85=\"Y\",P85>120)=TRUE,1,0),0))))))","v":""},{"$f":"IF(OR($B$4=\"\",$B$5=\"\",$H$4=\"\",$H$6=\"\",$H$5=\"\",A85=\"\",F85=\"\",K85=\"\",O85=\"\",P85=\"\")=TRUE,\"\",IF(C85=\"OSW\",IF(K85>=2,1,0),IF(C85=\"OSR\",IF(AND(K85>=2,Q85>60)=TRUE,1,0),IF(C85=\"OSRH\",IF(AND(K85>=1,Q85>90)=TRUE,1,0),IF(C85=\"OHLC\",IF(AND(N85=\"Y\",Q85>60)=TRUE,1,0),IF(C85=\"DDC\",IF(AND(K85>=4,N85=\"Y\",Q85>120)=TRUE,1,0),0))))))","v":""}]
[null,null,{"$f":"IF(A86=\"\",\"\",VLOOKUP(A86,MeasureCode_Lookup,2,FALSE))","v":""},null,null,null,null,null,null,null,null,null,null,null,null,{"$f":"IF(OR(A86=\"\",F86=\"\",J86=\"\",O86=\"\")=TRUE,0,J86*O86)","v":0},{"$f":"IF(OR(A86=\"\",G86=\"\",K86=\"\",O86=\"\")=TRUE,0,K86*O86)","v":0},0,0,"",{"$f":"IF(N(R86)=0,0,F86*R86*IF(T86=\"per Fixture Controlled\",J86,1))","v":0},{"$f":"IF(N(S86)=0,0,G86*S86*IF(T86=\"per Fixture Controlled\",K86,1))","v":0},0,0,0,{"$f":"IF($H$4=\"\",0,VLOOKUP($H$4,BuildingType_Lookup,3,FALSE))","v":0},{"$f":"IF($H$4=\"\",0,VLOOKUP($H$4,BuildingType_Lookup,2,FALSE))","v":0},{"$f":"IF(AND(OR(AN86=\"\",AN86=0)=TRUE,OR(AO86=\"\",AO86=0))=TRUE,0,IF(AO86=\"\",(IF(OR(C86=\"DDC\",C86=\"OHLC\")=TRUE,O86,P86)/1000)*Y86*Z86*(1+VLOOKUP($H$4,BuildingType_Lookup,4,FALSE)),IF(AO86=0,0,(IF(OR(C86=\"DDC\",C86=\"OHLC\")=TRUE,O86,Q86)/1000)*Y86*Z86*(1+VLOOKUP($H$4,BuildingType_Lookup,4,FALSE)))))","v":0},{"$f":"IF(AND(OR(AN86=\"\",AN86=0)=TRUE,OR(AO86=\"\",AO86=0))=TRUE,0,IF(AO86=\"\",(IF(OR(C86=\"DDC\",C86=\"OHLC\")=TRUE,O86,P86)/1000)*Y86*AA86*(1+VLOOKUP($H$4,BuildingType_Lookup,MATCH($H$5,HVAC,0)+4,FALSE)),IF(AO86=0,0,(IF(OR(C86=\"DDC\",C86=\"OHLC\")=TRUE,O86,Q86)/1000)*Y86*AA86*(1+VLOOKUP($H$4,BuildingType_Lookup,MATCH($H$5,HVAC,0)+4,FALSE)))))","v":0},0,0,0,0,{"$f":"AF86*8","v":0},{"$f":"AG86*8","v":0},{"$f":"W86/1000*Y86*AA86*IF(IFERROR(SEARCH(\"Gas\",$H$5),0)>0,VLOOKUP(\"Gas\",HVACg_Lookup,MATCH($H$6,BuildingSize,0)+1,FALSE),IF(IFERROR(SEARCH(\"Oil\",$H$5),0)>0,VLOOKUP(\"Oil\",HVACg_Lookup,MATCH($H$6,BuildingSize,0)+1,FALSE),IF(IFERROR(SEARCH(\"Propane\",$H$5),0)>0,VLOOKUP(\"Propane\",HVACg_Lookup,MATCH(Worksheet!$H$6,BuildingSize,0)+1,FALSE),0)))","v":0},{"$f":"X86/1000*Y86*AA86*IF(IFERROR(SEARCH(\"Gas\",$H$5),0)>0,VLOOKUP(\"Gas\",HVACg_Lookup,MATCH($H$6,BuildingSize,0)+1,FALSE),IF(IFERROR(SEARCH(\"Oil\",$H$5),0)>0,VLOOKUP(\"Oil\",HVACg_Lookup,MATCH($H$6,BuildingSize,0)+1,FALSE),IF(IFERROR(SEARCH(\"Propane\",$H$5),0)>0,VLOOKUP(\"Propane\",HVACg_Lookup,MATCH(Worksheet!$H$6,BuildingSize,0)+1,FALSE),0)))","v":0},{"$f":"AJ86*8","v":0},{"$f":"AK86*8","v":0},{"$f":"IF(OR($B$4=\"\",$B$5=\"\",$H$4=\"\",$H$6=\"\",$H$5=\"\",A86=\"\",F86=\"\",J86=\"\",O86=\"\",P86=\"\")=TRUE,\"\",IF(C86=\"OSW\",IF(J86>=2,1,0),IF(C86=\"OSR\",IF(AND(J86>=2,P86>60)=TRUE,1,0),IF(C86=\"OSRH\",IF(AND(J86>=1,P86>90)=TRUE,1,0),IF(C86=\"OHLC\",IF(AND(N86=\"Y\",P86>60)=TRUE,1,0),IF(C86=\"DDC\",IF(AND(J86>=4,N86=\"Y\",P86>120)=TRUE,1,0),0))))))","v":""},{"$f":"IF(OR($B$4=\"\",$B$5=\"\",$H$4=\"\",$H$6=\"\",$H$5=\"\",A86=\"\",F86=\"\",K86=\"\",O86=\"\",P86=\"\")=TRUE,\"\",IF(C86=\"OSW\",IF(K86>=2,1,0),IF(C86=\"OSR\",IF(AND(K86>=2,Q86>60)=TRUE,1,0),IF(C86=\"OSRH\",IF(AND(K86>=1,Q86>90)=TRUE,1,0),IF(C86=\"OHLC\",IF(AND(N86=\"Y\",Q86>60)=TRUE,1,0),IF(C86=\"DDC\",IF(AND(K86>=4,N86=\"Y\",Q86>120)=TRUE,1,0),0))))))","v":""}]
[null,null,"",null,null,null,null,null,null,null,null,null,null,null,null,0,0,0,0,"",0,0,0,0,0,{"$f":"IF($H$4=\"\",0,VLOOKUP($H$4,BuildingType_Lookup,3,FALSE))","v":0},{"$f":"IF($H$4=\"\",0,VLOOKUP($H$4,BuildingType_Lookup,2,FALSE))","v":0},{"$f":"IF(AND(OR(AN87=\"\",AN87=0)=TRUE,OR(AO87=\"\",AO87=0))=TRUE,0,IF(AO87=\"\",(IF(OR(C87=\"DDC\",C87=\"OHLC\")=TRUE,O87,P87)/1000)*Y87*Z87*(1+VLOOKUP($H$4,BuildingType_Lookup,4,FALSE)),IF(AO87=0,0,(IF(OR(C87=\"DDC\",C87=\"OHLC\")=TRUE,O87,Q87)/1000)*Y87*Z87*(1+VLOOKUP($H$4,BuildingType_Lookup,4,FALSE)))))","v":0},{"$f":"IF(AND(OR(AN87=\"\",AN87=0)=TRUE,OR(AO87=\"\",AO87=0))=TRUE,0,IF(AO87=\"\",(IF(OR(C87=\"DDC\",C87=\"OHLC\")=TRUE,O87,P87)/1000)*Y87*AA87*(1+VLOOKUP($H$4,BuildingType_Lookup,MATCH($H$5,HVAC,0)+4,FALSE)),IF(AO87=0,0,(IF(OR(C87=\"DDC\",C87=\"OHLC\")=TRUE,O87,Q87)/1000)*Y87*AA87*(1+VLOOKUP($H$4,BuildingType_Lookup,MATCH($H$5,HVAC,0)+4,FALSE)))))","v":0},0,0,0,0,0,0,{"$f":"W87/1000*Y87*AA87*IF(IFERROR(SEARCH(\"Gas\",$H$5),0)>0,VLOOKUP(\"Gas\",HVACg_Lookup,MATCH($H$6,BuildingSize,0)+1,FALSE),IF(IFERROR(SEARCH(\"Oil\",$H$5),0)>0,VLOOKUP(\"Oil\",HVACg_Lookup,MATCH($H$6,BuildingSize,0)+1,FALSE),IF(IFERROR(SEARCH(\"Propane\",$H$5),0)>0,VLOOKUP(\"Propane\",HVACg_Lookup,MATCH(Worksheet!$H$6,BuildingSize,0)+1,FALSE),0)))","v":0},{"$f":"X87/1000*Y87*AA87*IF(IFERROR(SEARCH(\"Gas\",$H$5),0)>0,VLOOKUP(\"Gas\",HVACg_Lookup,MATCH($H$6,BuildingSize,0)+1,FALSE),IF(IFERROR(SEARCH(\"Oil\",$H$5),0)>0,VLOOKUP(\"Oil\",HVACg_Lookup,MATCH($H$6,BuildingSize,0)+1,FALSE),IF(IFERROR(SEARCH(\"Propane\",$H$5),0)>0,VLOOKUP(\"Propane\",HVACg_Lookup,MATCH(Worksheet!$H$6,BuildingSize,0)+1,FALSE),0)))","v":0},0,0,{"$f":"IF(OR($B$4=\"\",$B$5=\"\",$H$4=\"\",$H$6=\"\",$H$5=\"\",A87=\"\",F87=\"\",J87=\"\",O87=\"\",P87=\"\")=TRUE,\"\",IF(C87=\"OSW\",IF(J87>=2,1,0),IF(C87=\"OSR\",IF(AND(J87>=2,P87>60)=TRUE,1,0),IF(C87=\"OSRH\",IF(AND(J87>=1,P87>90)=TRUE,1,0),IF(C87=\"OHLC\",IF(AND(N87=\"Y\",P87>60)=TRUE,1,0),IF(C87=\"DDC\",IF(AND(J87>=4,N87=\"Y\",P87>120)=TRUE,1,0),0))))))","v":""},{"$f":"IF(OR($B$4=\"\",$B$5=\"\",$H$4=\"\",$H$6=\"\",$H$5=\"\",A87=\"\",F87=\"\",K87=\"\",O87=\"\",P87=\"\")=TRUE,\"\",IF(C87=\"OSW\",IF(K87>=2,1,0),IF(C87=\"OSR\",IF(AND(K87>=2,Q87>60)=TRUE,1,0),IF(C87=\"OSRH\",IF(AND(K87>=1,Q87>90)=TRUE,1,0),IF(C87=\"OHLC\",IF(AND(N87=\"Y\",Q87>60)=TRUE,1,0),IF(C87=\"DDC\",IF(AND(K87>=4,N87=\"Y\",Q87>120)=TRUE,1,0),0))))))","v":""}]
[null,null,"",null,null,null,null,null,null,null,null,null,null,null,null,0,0,0,0,"",0,0,0,0,0,{"$f":"IF($H$4=\"\",0,VLOOKUP($H$4,BuildingType_Lookup,3,FALSE))","v":0},{"$f":"IF($H$4=\"\",0,VLOOKUP($H$4,BuildingType_Lookup,2,FALSE))","v":0},{"$f":"IF(AND(OR(AN88=\"\",AN88=0)=TRUE,OR(AO88=\"\",AO88=0))=TRUE,0,IF(AO88=\"\",(IF(OR(C88=\"DDC\",C88=\"OHLC\")=TRUE,O88,P88)/1000)*Y88*Z88*(1+VLOOKUP($H$4,BuildingType_Lookup,4,FALSE)),IF(AO88=0,0,(IF(OR(C88=\"DDC\",C88=\"OHLC\")=TRUE,O88,Q88)/1000)*Y88*Z88*(1+VLOOKUP($H$4,BuildingType_Lookup,4,FALSE)))))","v":0},{"$f":"IF(AND(OR(AN88=\"\",AN88=0)=TRUE,OR(AO88=\"\",AO88=0))=TRUE,0,IF(AO88=\"\",(IF(OR(C88=\"DDC\",C88=\"OHLC\")=TRUE,O88,P88)/1000)*Y88*AA88*(1+VLOOKUP($H$4,BuildingType_Lookup,MATCH($H$5,HVAC,0)+4,FALSE)),IF(AO88=0,0,(IF(OR(C88=\"DDC\",C88=\"OHLC\")=TRUE,O88,Q88)/1000)*Y88*AA88*(1+VLOOKUP($H$4,BuildingType_Lookup,MATCH($H$5,HVAC,0)+4,FALSE)))))","v":0},0,0,0,0,0,0,{"$f":"W88/1000*Y88*AA88*IF(IFERROR(SEARCH(\"Gas\",$H$5),0)>0,VLOOKUP(\"Gas\",HVACg_Lookup,MATCH($H$6,BuildingSize,0)+1,FALSE),IF(IFERROR(SEARCH(\"Oil\",$H$5),0)>0,VLOOKUP(\"Oil\",HVACg_Lookup,MATCH($H$6,BuildingSize,0)+1,FALSE),IF(IFERROR(SEARCH(\"Propane\",$H$5),0)>0,VLOOKUP(\"Propane\",HVACg_Lookup,MATCH(Worksheet!$H$6,BuildingSize,0)+1,FALSE),0)))","v":0},{"$f":"X88/1000*Y88*AA88*IF(IFERROR(SEARCH(\"Gas\",$H$5),0)>0,VLOOKUP(\"Gas\",HVACg_Lookup,MATCH($H$6,BuildingSize,0)+1,FALSE),IF(IFERROR(SEARCH(\"Oil\",$H$5),0)>0,VLOOKUP(\"Oil\",HVACg_Lookup,MATCH($H$6,BuildingSize,0)+1,FALSE),IF(IFERROR(SEARCH(\"Propane\",$H$5),0)>0,VLOOKUP(\"Propane\",HVACg_Lookup,MATCH(Worksheet!$H$6,BuildingSize,0)+1,FALSE),0)))","v":0},0,0,{"$f":"IF(OR($B$4=\"\",$B$5=\"\",$H$4=\"\",$H$6=\"\",$H$5=\"\",A88=\"\",F88=\"\",J88=\"\",O88=\"\",P88=\"\")=TRUE,\"\",IF(C88=\"OSW\",IF(J88>=2,1,0),IF(C88=\"OSR\",IF(AND(J88>=2,P88>60)=TRUE,1,0),IF(C88=\"OSRH\",IF(AND(J88>=1,P88>90)=TRUE,1,0),IF(C88=\"OHLC\",IF(AND(N88=\"Y\",P88>60)=TRUE,1,0),IF(C88=\"DDC\",IF(AND(J88>=4,N88=\"Y\",P88>120)=TRUE,1,0),0))))))","v":""},{"$f":"IF(OR($B$4=\"\",$B$5=\"\",$H$4=\"\",$H$6=\"\",$H$5=\"\",A88=\"\",F88=\"\",K88=\"\",O88=\"\",P88=\"\")=TRUE,\"\",IF(C88=\"OSW\",IF(K88>=2,1,0),IF(C88=\"OSR\",IF(AND(K88>=2,Q88>60)=TRUE,1,0),IF(C88=\"OSRH\",IF(AND(K88>=1,Q88>90)=TRUE,1,0),IF(C88=\"OHLC\",IF(AND(N88=\"Y\",Q88>60)=TRUE,1,0),IF(C88=\"DDC\",IF(AND(K88>=4,N88=\"Y\",Q88>120)=TRUE,1,0),0))))))","v":""}]
[null,null,"",null,null,null,null,null,null,null,null,null,null,null,null,0,0,0,0,"",0,0,0,0,0,{"$f":"IF($H$4=\"\",0,VLOOKUP($H$4,BuildingType_Lookup,3,FALSE))","v":0},{"$f":"IF($H$4=\"\",0,VLOOKUP($H$4,BuildingType_Lookup,2,FALSE))","v":0},{"$f":"IF(AND(OR(AN89=\"\",AN89=0)=TRUE,OR(AO89=\"\",AO89=0))=TRUE,0,IF(AO89=\"\",(IF(OR(C89=\"DDC\",C89=\"OHLC\")=TRUE,O89,P89)/1000)*Y89*Z89*(1+VLOOKUP($H$4,BuildingType_Lookup,4,FALSE)),IF(AO89=0,0,(IF(OR(C89=\"DDC\",C89=\"OHLC\")=TRUE,O89,Q89)/1000)*Y89*Z89*(1+VLOOKUP($H$4,BuildingType_Lookup,4,FALSE)))))","v":0},{"$f":"IF(AND(OR(AN89=\"\",AN89=0)=TRUE,OR(AO89=\"\",AO89=0))=TRUE,0,IF(AO89=\"\",(IF(OR(C89=\"DDC\",C89=\"OHLC\")=TRUE,O89,P89)/1000)*Y89*AA89*(1+VLOOKUP($H$4,BuildingType_Lookup,MATCH($H$5,HVAC,0)+4,FALSE)),IF(AO89=0,0,(IF(OR(C89=\"DDC\",C89=\"OHLC\")=TRUE,O89,Q89)/1000)*Y89*AA89*(1+VLOOKUP($H$4,BuildingType_Lookup,MATCH($H$5,HVAC,0)+4,FALSE)))))","v":0},0,0,0,0,0,0,{"$f":"W89/1000*Y89*AA89*IF(IFERROR(SEARCH(\"Gas\",$H$5),0)>0,VLOOKUP(\"Gas\",HVACg_Lookup,MATCH($H$6,BuildingSize,0)+1,FALSE),IF(IFERROR(SEARCH(\"Oil\",$H$5),0)>0,VLOOKUP(\"Oil\",HVACg_Lookup,MATCH($H$6,BuildingSize,0)+1,FALSE),IF(IFERROR(SEARCH(\"Propane\",$H$5),0)>0,VLOOKUP(\"Propane\",HVACg_Lookup,MATCH(Worksheet!$H$6,BuildingSize,0)+1,FALSE),0)))","v":0},{"$f":"X89/1000*Y89*AA89*IF(IFERROR(SEARCH(\"Gas\",$H$5),0)>0,VLOOKUP(\"Gas\",HVACg_Lookup,MATCH($H$6,BuildingSize,0)+1,FALSE),IF(IFERROR(SEARCH(\"Oil\",$H$5),0)>0,VLOOKUP(\"Oil\",HVACg_Lookup,MATCH($H$6,BuildingSize,0)+1,FALSE),IF(IFERROR(SEARCH(\"Propane\",$H$5),0)>0,VLOOKUP(\"Propane\",HVACg_Lookup,MATCH(Worksheet!$H$6,BuildingSize,0)+1,FALSE),0)))","v":0},0,0,{"$f":"IF(OR($B$4=\"\",$B$5=\"\",$H$4=\"\",$H$6=\"\",$H$5=\"\",A89=\"\",F89=\"\",J89=\"\",O89=\"\",P89=\"\")=TRUE,\"\",IF(C89=\"OSW\",IF(J89>=2,1,0),IF(C89=\"OSR\",IF(AND(J89>=2,P89>60)=TRUE,1,0),IF(C89=\"OSRH\",IF(AND(J89>=1,P89>90)=TRUE,1,0),IF(C89=\"OHLC\",IF(AND(N89=\"Y\",P89>60)=TRUE,1,0),IF(C89=\"DDC\",IF(AND(J89>=4,N89=\"Y\",P89>120)=TRUE,1,0),0))))))","v":""},{"$f":"IF(OR($B$4=\"\",$B$5=\"\",$H$4=\"\",$H$6=\"\",$H$5=\"\",A89=\"\",F89=\"\",K89=\"\",O89=\"\",P89=\"\")=TRUE,\"\",IF(C89=\"OSW\",IF(K89>=2,1,0),IF(C89=\"OSR\",IF(AND(K89>=2,Q89>60)=TRUE,1,0),IF(C89=\"OSRH\",IF(AND(K89>=1,Q89>90)=TRUE,1,0),IF(C89=\"OHLC\",IF(AND(N89=\"Y\",Q89>60)=TRUE,1,0),IF(C89=\"DDC\",IF(AND(K89>=4,N89=\"Y\",Q89>120)=TRUE,1,0),0))))))","v":""}]
[null,null,"",null,null,null,null,null,null,null,null,null,null,null,null,0,0,0,0,"",0,0,0,0,0,{"$f":"IF($H$4=\"\",0,VLOOKUP($H$4,BuildingType_Lookup,3,FALSE))","v":0},{"$f":"IF($H$4=\"\",0,VLOOKUP($H$4,BuildingType_Lookup,2,FALSE))","v":0},{"$f":"IF(AND(OR(AN90=\"\",AN90=0)=TRUE,OR(AO90=\"\",AO90=0))=TRUE,0,IF(AO90=\"\",(IF(OR(C90=\"DDC\",C90=\"OHLC\")=TRUE,O90,P90)/1000)*Y90*Z90*(1+VLOOKUP($H$4,BuildingType_Lookup,4,FALSE)),IF(AO90=0,0,(IF(OR(C90=\"DDC\",C90=\"OHLC\")=TRUE,O90,Q90)/1000)*Y90*Z90*(1+VLOOKUP($H$4,BuildingType_Lookup,4,FALSE)))))","v":0},{"$f":"IF(AND(OR(AN90=\"\",AN90=0)=TRUE,OR(AO90=\"\",AO90=0))=TRUE,0,IF(AO90=\"\",(IF(OR(C90=\"DDC\",C90=\"OHLC\")=TRUE,O90,P90)/1000)*Y90*AA90*(1+VLOOKUP($H$4,BuildingType_Lookup,MATCH($H$5,HVAC,0)+4,FALSE)),IF(AO90=0,0,(IF(OR(C90=\"DDC\",C90=\"OHLC\")=TRUE,O90,Q90)/1000)*Y90*AA90*(1+VLOOKUP($H$4,BuildingType_Lookup,MATCH($H$5,HVAC,0)+4,FALSE)))))","v":0},0,0,0,0,0,0,{"$f":"W90/1000*Y90*AA90*IF(IFERROR(SEARCH(\"Gas\",$H$5),0)>0,VLOOKUP(\"Gas\",HVACg_Lookup,MATCH($H$6,BuildingSize,0)+1,FALSE),IF(IFERROR(SEARCH(\"Oil\",$H$5),0)>0,VLOOKUP(\"Oil\",HVACg_Lookup,MATCH($H$6,BuildingSize,0)+1,FALSE),IF(IFERROR(SEARCH(\"Propane\",$H$5),0)>0,VLOOKUP(\"Propane\",HVACg_Lookup,MATCH(Worksheet!$H$6,BuildingSize,0)+1,FALSE),0)))","v":0},{"$f":"X90/1000*Y90*AA90*IF(IFERROR(SEARCH(\"Gas\",$H$5),0)>0,VLOOKUP(\"Gas\",HVACg_Lookup,MATCH($H$6,BuildingSize,0)+1,FALSE),IF(IFERROR(SEARCH(\"Oil\",$H$5),0)>0,VLOOKUP(\"Oil\",HVACg_Lookup,MATCH($H$6,BuildingSize,0)+1,FALSE),IF(IFERROR(SEARCH(\"Propane\",$H$5),0)>0,VLOOKUP(\"Propane\",HVACg_Lookup,MATCH(Worksheet!$H$6,BuildingSize,0)+1,FALSE),0)))","v":0},0,0,{"$f":"IF(OR($B$4=\"\",$B$5=\"\",$H$4=\"\",$H$6=\"\",$H$5=\"\",A90=\"\",F90=\"\",J90=\"\",O90=\"\",P90=\"\")=TRUE,\"\",IF(C90=\"OSW\",IF(J90>=2,1,0),IF(C90=\"OSR\",IF(AND(J90>=2,P90>60)=TRUE,1,0),IF(C90=\"OSRH\",IF(AND(J90>=1,P90>90)=TRUE,1,0),IF(C90=\"OHLC\",IF(AND(N90=\"Y\",P90>60)=TRUE,1,0),IF(C90=\"DDC\",IF(AND(J90>=4,N90=\"Y\",P90>120)=TRUE,1,0),0))))))","v":""},{"$f":"IF(OR($B$4=\"\",$B$5=\"\",$H$4=\"\",$H$6=\"\",$H$5=\"\",A90=\"\",F90=\"\",K90=\"\",O90=\"\",P90=\"\")=TRUE,\"\",IF(C90=\"OSW\",IF(K90>=2,1,0),IF(C90=\"OSR\",IF(AND(K90>=2,Q90>60)=TRUE,1,0),IF(C90=\"OSRH\",IF(AND(K90>=1,Q90>90)=TRUE,1,0),IF(C90=\"OHLC\",IF(AND(N90=\"Y\",Q90>60)=TRUE,1,0),IF(C90=\"DDC\",IF(AND(K90>=4,N90=\"Y\",Q90>120)=TRUE,1,0),0))))))","v":""}]
[null,null,"",null,null,null,null,null,null,null,null,null,null,null,null,0,0,0,0,"",0,0,0,0,0,{"$f":"IF($H$4=\"\",0,VLOOKUP($H$4,BuildingType_Lookup,3,FALSE))","v":0},{"$f":"IF($H$4=\"\",0,VLOOKUP($H$4,BuildingType_Lookup,2,FALSE))","v":0},{"$f":"IF(AND(OR(AN91=\"\",AN91=0)=TRUE,OR(AO91=\"\",AO91=0))=TRUE,0,IF(AO91=\"\",(IF(OR(C91=\"DDC\",C91=\"OHLC\")=TRUE,O91,P91)/1000)*Y91*Z91*(1+VLOOKUP($H$4,BuildingType_Lookup,4,FALSE)),IF(AO91=0,0,(IF(OR(C91=\"DDC\",C91=\"OHLC\")=TRUE,O91,Q91)/1000)*Y91*Z91*(1+VLOOKUP($H$4,BuildingType_Lookup,4,FALSE)))))","v":0},{"$f":"IF(AND(OR(AN91=\"\",AN91=0)=TRUE,OR(AO91=\"\",AO91=0))=TRUE,0,IF(AO91=\"\",(IF(OR(C91=\"DDC\",C91=\"OHLC\")=TRUE,O91,P91)/1000)*Y91*AA91*(1+VLOOKUP($H$4,BuildingType_Lookup,MATCH($H$5,HVAC,0)+4,FALSE)),IF(AO91=0,0,(IF(OR(C91=\"DDC\",C91=\"OHLC\")=TRUE,O91,Q91)/1000)*Y91*AA91*(1+VLOOKUP($H$4,BuildingType_Lookup,MATCH($H$5,HVAC,0)+4,FALSE)))))","v":0},0,0,0,0,0,0,{"$f":"W91/1000*Y91*AA91*IF(IFERROR(SEARCH(\"Gas\",$H$5),0)>0,VLOOKUP(\"Gas\",HVACg_Lookup,MATCH($H$6,BuildingSize,0)+1,FALSE),IF(IFERROR(SEARCH(\"Oil\",$H$5),0)>0,VLOOKUP(\"Oil\",HVACg_Lookup,MATCH($H$6,BuildingSize,0)+1,FALSE),IF(IFERROR(SEARCH(\"Propane\",$H$5),0)>0,VLOOKUP(\"Propane\",HVACg_Lookup,MATCH(Worksheet!$H$6,BuildingSize,0)+1,FALSE),0)))","v":0},{"$f":"X91/1000*Y91*AA91*IF(IFERROR(SEARCH(\"Gas\",$H$5),0)>0,VLOOKUP(\"Gas\",HVACg_Lookup,MATCH($H$6,BuildingSize,0)+1,FALSE),IF(IFERROR(SEARCH(\"Oil\",$H$5),0)>0,VLOOKUP(\"Oil\",HVACg_Lookup,MATCH($H$6,BuildingSize,0)+1,FALSE),IF(IFERROR(SEARCH(\"Propane\",$H$5),0)>0,VLOOKUP(\"Propane\",HVACg_Lookup,MATCH(Worksheet!$H$6,BuildingSize,0)+1,FALSE),0)))","v":0},0,0,{"$f":"IF(OR($B$4=\"\",$B$5=\"\",$H$4=\"\",$H$6=\"\",$H$5=\"\",A91=\"\",F91=\"\",J91=\"\",O91=\"\",P91=\"\")=TRUE,\"\",IF(C91=\"OSW\",IF(J91>=2,1,0),IF(C91=\"OSR\",IF(AND(J91>=2,P91>60)=TRUE,1,0),IF(C91=\"OSRH\",IF(AND(J91>=1,P91>90)=TRUE,1,0),IF(C91=\"OHLC\",IF(AND(N91=\"Y\",P91>60)=TRUE,1,0),IF(C91=\"DDC\",IF(AND(J91>=4,N91=\"Y\",P91>120)=TRUE,1,0),0))))))","v":""},{"$f":"IF(OR($B$4=\"\",$B$5=\"\",$H$4=\"\",$H$6=\"\",$H$5=\"\",A91=\"\",F91=\"\",K91=\"\",O91=\"\",P91=\"\")=TRUE,\"\",IF(C91=\"OSW\",IF(K91>=2,1,0),IF(C91=\"OSR\",IF(AND(K91>=2,Q91>60)=TRUE,1,0),IF(C91=\"OSRH\",IF(AND(K91>=1,Q91>90)=TRUE,1,0),IF(C91=\"OHLC\",IF(AND(N91=\"Y\",Q91>60)=TRUE,1,0),IF(C91=\"DDC\",IF(AND(K91>=4,N91=\"Y\",Q91>120)=TRUE,1,0),0))))))","v":""}]
[null,null,"",null,null,null,null,null,null,null,null,null,null,null,null,0,0,0,0,"",0,0,0,0,0,{"$f":"IF($H$4=\"\",0,VLOOKUP($H$4,BuildingType_Lookup,3,FALSE))","v":0},{"$f":"IF($H$4=\"\",0,VLOOKUP($H$4,BuildingType_Lookup,2,FALSE))","v":0},{"$f":"IF(AND(OR(AN92=\"\",AN92=0)=TRUE,OR(AO92=\"\",AO92=0))=TRUE,0,IF(AO92=\"\",(IF(OR(C92=\"DDC\",C92=\"OHLC\")=TRUE,O92,P92)/1000)*Y92*Z92*(1+VLOOKUP($H$4,BuildingType_Lookup,4,FALSE)),IF(AO92=0,0,(IF(OR(C92=\"DDC\",C92=\"OHLC\")=TRUE,O92,Q92)/1000)*Y92*Z92*(1+VLOOKUP($H$4,BuildingType_Lookup,4,FALSE)))))","v":0},{"$f":"IF(AND(OR(AN92=\"\",AN92=0)=TRUE,OR(AO92=\"\",AO92=0))=TRUE,0,IF(AO92=\"\",(IF(OR(C92=\"DDC\",C92=\"OHLC\")=TRUE,O92,P92)/1000)*Y92*AA92*(1+VLOOKUP($H$4,BuildingType_Lookup,MATCH($H$5,HVAC,0)+4,FALSE)),IF(AO92=0,0,(IF(OR(C92=\"DDC\",C92=\"OHLC\")=TRUE,O92,Q92)/1000)*Y92*AA92*(1+VLOOKUP($H$4,BuildingType_Lookup,MATCH($H$5,HVAC,0)+4,FALSE)))))","v":0},0,0,0,0,0,0,{"$f":"W92/1000*Y92*AA92*IF(IFERROR(SEARCH(\"Gas\",$H$5),0)>0,VLOOKUP(\"Gas\",HVACg_Lookup,MATCH($H$6,BuildingSize,0)+1,FALSE),IF(IFERROR(SEARCH(\"Oil\",$H$5),0)>0,VLOOKUP(\"Oil\",HVACg_Lookup,MATCH($H$6,BuildingSize,0)+1,FALSE),IF(IFERROR(SEARCH(\"Propane\",$H$5),0)>0,VLOOKUP(\"Propane\",HVACg_Lookup,MATCH(Worksheet!$H$6,BuildingSize,0)+1,FALSE),0)))","v":0},{"$f":"X92/1000*Y92*AA92*IF(IFERROR(SEARCH(\"Gas\",$H$5),0)>0,VLOOKUP(\"Gas\",HVACg_Lookup,MATCH($H$6,BuildingSize,0)+1,FALSE),IF(IFERROR(SEARCH(\"Oil\",$H$5),0)>0,VLOOKUP(\"Oil\",HVACg_Lookup,MATCH($H$6,BuildingSize,0)+1,FALSE),IF(IFERROR(SEARCH(\"Propane\",$H$5),0)>0,VLOOKUP(\"Propane\",HVACg_Lookup,MATCH(Worksheet!$H$6,BuildingSize,0)+1,FALSE),0)))","v":0},0,0,{"$f":"IF(OR($B$4=\"\",$B$5=\"\",$H$4=\"\",$H$6=\"\",$H$5=\"\",A92=\"\",F92=\"\",J92=\"\",O92=\"\",P92=\"\")=TRUE,\"\",IF(C92=\"OSW\",IF(J92>=2,1,0),IF(C92=\"OSR\",IF(AND(J92>=2,P92>60)=TRUE,1,0),IF(C92=\"OSRH\",IF(AND(J92>=1,P92>90)=TRUE,1,0),IF(C92=\"OHLC\",IF(AND(N92=\"Y\",P92>60)=TRUE,1,0),IF(C92=\"DDC\",IF(AND(J92>=4,N92=\"Y\",P92>120)=TRUE,1,0),0))))))","v":""},{"$f":"IF(OR($B$4=\"\",$B$5=\"\",$H$4=\"\",$H$6=\"\",$H$5=\"\",A92=\"\",F92=\"\",K92=\"\",O92=\"\",P92=\"\")=TRUE,\"\",IF(C92=\"OSW\",IF(K92>=2,1,0),IF(C92=\"OSR\",IF(AND(K92>=2,Q92>60)=TRUE,1,0),IF(C92=\"OSRH\",IF(AND(K92>=1,Q92>90)=TRUE,1,0),IF(C92=\"OHLC\",IF(AND(N92=\"Y\",Q92>60)=TRUE,1,0),IF(C92=\"DDC\",IF(AND(K92>=4,N92=\"Y\",Q92>120)=TRUE,1,0),0))))))","v":""}]
[null,null,"",null,null,null,null,null,null,null,null,null,null,null,null,0,0,0,0,"",0,0,0,0,0,{"$f":"IF($H$4=\"\",0,VLOOKUP($H$4,BuildingType_Lookup,3,FALSE))","v":0},{"$f":"IF($H$4=\"\",0,VLOOKUP($H$4,BuildingType_Lookup,2,FALSE))","v":0},{"$f":"IF(AND(OR(AN93=\"\",AN93=0)=TRUE,OR(AO93=\"\",AO93=0))=TRUE,0,IF(AO93=\"\",(IF(OR(C93=\"DDC\",C93=\"OHLC\")=TRUE,O93,P93)/1000)*Y93*Z93*(1+VLOOKUP($H$4,BuildingType_Lookup,4,FALSE)),IF(AO93=0,0,(IF(OR(C93=\"DDC\",C93=\"OHLC\")=TRUE,O93,Q93)/1000)*Y93*Z93*(1+VLOOKUP($H$4,BuildingType_Lookup,4,FALSE)))))","v":0},{"$f":"IF(AND(OR(AN93=\"\",AN93=0)=TRUE,OR(AO93=\"\",AO93=0))=TRUE,0,IF(AO93=\"\",(IF(OR(C93=\"DDC\",C93=\"OHLC\")=TRUE,O93,P93)/1000)*Y93*AA93*(1+VLOOKUP($H$4,BuildingType_Lookup,MATCH($H$5,HVAC,0)+4,FALSE)),IF(AO93=0,0,(IF(OR(C93=\"DDC\",C93=\"OHLC\")=TRUE,O93,Q93)/1000)*Y93*AA93*(1+VLOOKUP($H$4,BuildingType_Lookup,MATCH($H$5,HVAC,0)+4,FALSE)))))","v":0},0,0,0,0,0,0,{"$f":"W93/1000*Y93*AA93*IF(IFERROR(SEARCH(\"Gas\",$H$5),0)>0,VLOOKUP(\"Gas\",HVACg_Lookup,MATCH($H$6,BuildingSize,0)+1,FALSE),IF(IFERROR(SEARCH(\"Oil\",$H$5),0)>0,VLOOKUP(\"Oil\",HVACg_Lookup,MATCH($H$6,BuildingSize,0)+1,FALSE),IF(IFERROR(SEARCH(\"Propane\",$H$5),0)>0,VLOOKUP(\"Propane\",HVACg_Lookup,MATCH(Worksheet!$H$6,BuildingSize,0)+1,FALSE),0)))","v":0},{"$f":"X93/1000*Y93*AA93*IF(IFERROR(SEARCH(\"Gas\",$H$5),0)>0,VLOOKUP(\"Gas\",HVACg_Lookup,MATCH($H$6,BuildingSize,0)+1,FALSE),IF(IFERROR(SEARCH(\"Oil\",$H$5),0)>0,VLOOKUP(\"Oil\",HVACg_Lookup,MATCH($H$6,BuildingSize,0)+1,FALSE),IF(IFERROR(SEARCH(\"Propane\",$H$5),0)>0,VLOOKUP(\"Propane\",HVACg_Lookup,MATCH(Worksheet!$H$6,BuildingSize,0)+1,FALSE),0)))","v":0},0,0,{"$f":"IF(OR($B$4=\"\",$B$5=\"\",$H$4=\"\",$H$6=\"\",$H$5=\"\",A93=\"\",F93=\"\",J93=\"\",O93=\"\",P93=\"\")=TRUE,\"\",IF(C93=\"OSW\",IF(J93>=2,1,0),IF(C93=\"OSR\",IF(AND(J93>=2,P93>60)=TRUE,1,0),IF(C93=\"OSRH\",IF(AND(J93>=1,P93>90)=TRUE,1,0),IF(C93=\"OHLC\",IF(AND(N93=\"Y\",P93>60)=TRUE,1,0),IF(C93=\"DDC\",IF(AND(J93>=4,N93=\"Y\",P93>120)=TRUE,1,0),0))))))","v":""},{"$f":"IF(OR($B$4=\"\",$B$5=\"\",$H$4=\"\",$H$6=\"\",$H$5=\"\",A93=\"\",F93=\"\",K93=\"\",O93=\"\",P93=\"\")=TRUE,\"\",IF(C93=\"OSW\",IF(K93>=2,1,0),IF(C93=\"OSR\",IF(AND(K93>=2,Q93>60)=TRUE,1,0),IF(C93=\"OSRH\",IF(AND(K93>=1,Q93>90)=TRUE,1,0),IF(C93=\"OHLC\",IF(AND(N93=\"Y\",Q93>60)=TRUE,1,0),IF(C93=\"DDC\",IF(AND(K93>=4,N93=\"Y\",Q93>120)=TRUE,1,0),0))))))","v":""}]
[null,null,"",null,null,null,null,null,null,null,null,null,null,null,null,0,0,0,0,"",0,0,0,0,0,{"$f":"IF($H$4=\"\",0,VLOOKUP($H$4,BuildingType_Lookup,3,FALSE))","v":0},{"$f":"IF($H$4=\"\",0,VLOOKUP($H$4,BuildingType_Lookup,2,FALSE))","v":0},{"$f":"IF(AND(OR(AN94=\"\",AN94=0)=TRUE,OR(AO94=\"\",AO94=0))=TRUE,0,IF(AO94=\"\",(IF(OR(C94=\"DDC\",C94=\"OHLC\")=TRUE,O94,P94)/1000)*Y94*Z94*(1+VLOOKUP($H$4,BuildingType_Lookup,4,FALSE)),IF(AO94=0,0,(IF(OR(C94=\"DDC\",C94=\"OHLC\")=TRUE,O94,Q94)/1000)*Y94*Z94*(1+VLOOKUP($H$4,BuildingType_Lookup,4,FALSE)))))","v":0},{"$f":"IF(AND(OR(AN94=\"\",AN94=0)=TRUE,OR(AO94=\"\",AO94=0))=TRUE,0,IF(AO94=\"\",(IF(OR(C94=\"DDC\",C94=\"OHLC\")=TRUE,O94,P94)/1000)*Y94*AA94*(1+VLOOKUP($H$4,BuildingType_Lookup,MATCH($H$5,HVAC,0)+4,FALSE)),IF(AO94=0,0,(IF(OR(C94=\"DDC\",C94=\"OHLC\")=TRUE,O94,Q94)/1000)*Y94*AA94*(1+VLOOKUP($H$4,BuildingType_Lookup,MATCH($H$5,HVAC,0)+4,FALSE)))))","v":0},0,0,0,0,0,0,{"$f":"W94/1000*Y94*AA94*IF(IFERROR(SEARCH(\"Gas\",$H$5),0)>0,VLOOKUP(\"Gas\",HVACg_Lookup,MATCH($H$6,BuildingSize,0)+1,FALSE),IF(IFERROR(SEARCH(\"Oil\",$H$5),0)>0,VLOOKUP(\"Oil\",HVACg_Lookup,MATCH($H$6,BuildingSize,0)+1,FALSE),IF(IFERROR(SEARCH(\"Propane\",$H$5),0)>0,VLOOKUP(\"Propane\",HVACg_Lookup,MATCH(Worksheet!$H$6,BuildingSize,0)+1,FALSE),0)))","v":0},{"$f":"X94/1000*Y94*AA94*IF(IFERROR(SEARCH(\"Gas\",$H$5),0)>0,VLOOKUP(\"Gas\",HVACg_Lookup,MATCH($H$6,BuildingSize,0)+1,FALSE),IF(IFERROR(SEARCH(\"Oil\",$H$5),0)>0,VLOOKUP(\"Oil\",HVACg_Lookup,MATCH($H$6,BuildingSize,0)+1,FALSE),IF(IFERROR(SEARCH(\"Propane\",$H$5),0)>0,VLOOKUP(\"Propane\",HVACg_Lookup,MATCH(Worksheet!$H$6,BuildingSize,0)+1,FALSE),0)))","v":0},0,0,{"$f":"IF(OR($B$4=\"\",$B$5=\"\",$H$4=\"\",$H$6=\"\",$H$5=\"\",A94=\"\",F94=\"\",J94=\"\",O94=\"\",P94=\"\")=TRUE,\"\",IF(C94=\"OSW\",IF(J94>=2,1,0),IF(C94=\"OSR\",IF(AND(J94>=2,P94>60)=TRUE,1,0),IF(C94=\"OSRH\",IF(AND(J94>=1,P94>90)=TRUE,1,0),IF(C94=\"OHLC\",IF(AND(N94=\"Y\",P94>60)=TRUE,1,0),IF(C94=\"DDC\",IF(AND(J94>=4,N94=\"Y\",P94>120)=TRUE,1,0),0))))))","v":""},{"$f":"IF(OR($B$4=\"\",$B$5=\"\",$H$4=\"\",$H$6=\"\",$H$5=\"\",A94=\"\",F94=\"\",K94=\"\",O94=\"\",P94=\"\")=TRUE,\"\",IF(C94=\"OSW\",IF(K94>=2,1,0),IF(C94=\"OSR\",IF(AND(K94>=2,Q94>60)=TRUE,1,0),IF(C94=\"OSRH\",IF(AND(K94>=1,Q94>90)=TRUE,1,0),IF(C94=\"OHLC\",IF(AND(N94=\"Y\",Q94>60)=TRUE,1,0),IF(C94=\"DDC\",IF(AND(K94>=4,N94=\"Y\",Q94>120)=TRUE,1,0),0))))))","v":""}]
[null,null,"",null,null,null,null,null,null,null,null,null,null,null,null,0,0,0,0,"",0,0,0,0,0,{"$f":"IF($H$4=\"\",0,VLOOKUP($H$4,BuildingType_Lookup,3,FALSE))","v":0},{"$f":"IF($H$4=\"\",0,VLOOKUP($H$4,BuildingType_Lookup,2,FALSE))","v":0},{"$f":"IF(AND(OR(AN95=\"\",AN95=0)=TRUE,OR(AO95=\"\",AO95=0))=TRUE,0,IF(AO95=\"\",(IF(OR(C95=\"DDC\",C95=\"OHLC\")=TRUE,O95,P95)/1000)*Y95*Z95*(1+VLOOKUP($H$4,BuildingType_Lookup,4,FALSE)),IF(AO95=0,0,(IF(OR(C95=\"DDC\",C95=\"OHLC\")=TRUE,O95,Q95)/1000)*Y95*Z95*(1+VLOOKUP($H$4,BuildingType_Lookup,4,FALSE)))))","v":0},{"$f":"IF(AND(OR(AN95=\"\",AN95=0)=TRUE,OR(AO95=\"\",AO95=0))=TRUE,0,IF(AO95=\"\",(IF(OR(C95=\"DDC\",C95=\"OHLC\")=TRUE,O95,P95)/1000)*Y95*AA95*(1+VLOOKUP($H$4,BuildingType_Lookup,MATCH($H$5,HVAC,0)+4,FALSE)),IF(AO95=0,0,(IF(OR(C95=\"DDC\",C95=\"OHLC\")=TRUE,O95,Q95)/1000)*Y95*AA95*(1+VLOOKUP($H$4,BuildingType_Lookup,MATCH($H$5,HVAC,0)+4,FALSE)))))","v":0},0,0,0,0,0,0,{"$f":"W95/1000*Y95*AA95*IF(IFERROR(SEARCH(\"Gas\",$H$5),0)>0,VLOOKUP(\"Gas\",HVACg_Lookup,MATCH($H$6,BuildingSize,0)+1,FALSE),IF(IFERROR(SEARCH(\"Oil\",$H$5),0)>0,VLOOKUP(\"Oil\",HVACg_Lookup,MATCH($H$6,BuildingSize,0)+1,FALSE),IF(IFERROR(SEARCH(\"Propane\",$H$5),0)>0,VLOOKUP(\"Propane\",HVACg_Lookup,MATCH(Worksheet!$H$6,BuildingSize,0)+1,FALSE),0)))","v":0},{"$f":"X95/1000*Y95*AA95*IF(IFERROR(SEARCH(\"Gas\",$H$5),0)>0,VLOOKUP(\"Gas\",HVACg_Lookup,MATCH($H$6,BuildingSize,0)+1,FALSE),IF(IFERROR(SEARCH(\"Oil\",$H$5),0)>0,VLOOKUP(\"Oil\",HVACg_Lookup,MATCH($H$6,BuildingSize,0)+1,FALSE),IF(IFERROR(SEARCH(\"Propane\",$H$5),0)>0,VLOOKUP(\"Propane\",HVACg_Lookup,MATCH(Worksheet!$H$6,BuildingSize,0)+1,FALSE),0)))","v":0},0,0,{"$f":"IF(OR($B$4=\"\",$B$5=\"\",$H$4=\"\",$H$6=\"\",$H$5=\"\",A95=\"\",F95=\"\",J95=\"\",O95=\"\",P95=\"\")=TRUE,\"\",IF(C95=\"OSW\",IF(J95>=2,1,0),IF(C95=\"OSR\",IF(AND(J95>=2,P95>60)=TRUE,1,0),IF(C95=\"OSRH\",IF(AND(J95>=1,P95>90)=TRUE,1,0),IF(C95=\"OHLC\",IF(AND(N95=\"Y\",P95>60)=TRUE,1,0),IF(C95=\"DDC\",IF(AND(J95>=4,N95=\"Y\",P95>120)=TRUE,1,0),0))))))","v":""},{"$f":"IF(OR($B$4=\"\",$B$5=\"\",$H$4=\"\",$H$6=\"\",$H$5=\"\",A95=\"\",F95=\"\",K95=\"\",O95=\"\",P95=\"\")=TRUE,\"\",IF(C95=\"OSW\",IF(K95>=2,1,0),IF(C95=\"OSR\",IF(AND(K95>=2,Q95>60)=TRUE,1,0),IF(C95=\"OSRH\",IF(AND(K95>=1,Q95>90)=TRUE,1,0),IF(C95=\"OHLC\",IF(AND(N95=\"Y\",Q95>60)=TRUE,1,0),IF(C95=\"DDC\",IF(AND(K95>=4,N95=\"Y\",Q95>120)=TRUE,1,0),0))))))","v":""}]
[null,null,"",null,null,null,null,null,null,null,null,null,null,null,null,0,0,0,0,"",0,0,0,0,0,{"$f":"IF($H$4=\"\",0,VLOOKUP($H$4,BuildingType_Lookup,3,FALSE))","v":0},{"$f":"IF($H$4=\"\",0,VLOOKUP($H$4,BuildingType_Lookup,2,FALSE))","v":0},{"$f":"IF(AND(OR(AN96=\"\",AN96=0)=TRUE,OR(AO96=\"\",AO96=0))=TRUE,0,IF(AO96=\"\",(IF(OR(C96=\"DDC\",C96=\"OHLC\")=TRUE,O96,P96)/1000)*Y96*Z96*(1+VLOOKUP($H$4,BuildingType_Lookup,4,FALSE)),IF(AO96=0,0,(IF(OR(C96=\"DDC\",C96=\"OHLC\")=TRUE,O96,Q96)/1000)*Y96*Z96*(1+VLOOKUP($H$4,BuildingType_Lookup,4,FALSE)))))","v":0},{"$f":"IF(AND(OR(AN96=\"\",AN96=0)=TRUE,OR(AO96=\"\",AO96=0))=TRUE,0,IF(AO96=\"\",(IF(OR(C96=\"DDC\",C96=\"OHLC\")=TRUE,O96,P96)/1000)*Y96*AA96*(1+VLOOKUP($H$4,BuildingType_Lookup,MATCH($H$5,HVAC,0)+4,FALSE)),IF(AO96=0,0,(IF(OR(C96=\"DDC\",C96=\"OHLC\")=TRUE,O96,Q96)/1000)*Y96*AA96*(1+VLOOKUP($H$4,BuildingType_Lookup,MATCH($H$5,HVAC,0)+4,FALSE)))))","v":0},0,0,0,0,0,0,{"$f":"W96/1000*Y96*AA96*IF(IFERROR(SEARCH(\"Gas\",$H$5),0)>0,VLOOKUP(\"Gas\",HVACg_Lookup,MATCH($H$6,BuildingSize,0)+1,FALSE),IF(IFERROR(SEARCH(\"Oil\",$H$5),0)>0,VLOOKUP(\"Oil\",HVACg_Lookup,MATCH($H$6,BuildingSize,0)+1,FALSE),IF(IFERROR(SEARCH(\"Propane\",$H$5),0)>0,VLOOKUP(\"Propane\",HVACg_Lookup,MATCH(Worksheet!$H$6,BuildingSize,0)+1,FALSE),0)))","v":0},{"$f":"X96/1000*Y96*AA96*IF(IFERROR(SEARCH(\"Gas\",$H$5),0)>0,VLOOKUP(\"Gas\",HVACg_Lookup,MATCH($H$6,BuildingSize,0)+1,FALSE),IF(IFERROR(SEARCH(\"Oil\",$H$5),0)>0,VLOOKUP(\"Oil\",HVACg_Lookup,MATCH($H$6,BuildingSize,0)+1,FALSE),IF(IFERROR(SEARCH(\"Propane\",$H$5),0)>0,VLOOKUP(\"Propane\",HVACg_Lookup,MATCH(Worksheet!$H$6,BuildingSize,0)+1,FALSE),0)))","v":0},0,0,{"$f":"IF(OR($B$4=\"\",$B$5=\"\",$H$4=\"\",$H$6=\"\",$H$5=\"\",A96=\"\",F96=\"\",J96=\"\",O96=\"\",P96=\"\")=TRUE,\"\",IF(C96=\"OSW\",IF(J96>=2,1,0),IF(C96=\"OSR\",IF(AND(J96>=2,P96>60)=TRUE,1,0),IF(C96=\"OSRH\",IF(AND(J96>=1,P96>90)=TRUE,1,0),IF(C96=\"OHLC\",IF(AND(N96=\"Y\",P96>60)=TRUE,1,0),IF(C96=\"DDC\",IF(AND(J96>=4,N96=\"Y\",P96>120)=TRUE,1,0),0))))))","v":""},{"$f":"IF(OR($B$4=\"\",$B$5=\"\",$H$4=\"\",$H$6=\"\",$H$5=\"\",A96=\"\",F96=\"\",K96=\"\",O96=\"\",P96=\"\")=TRUE,\"\",IF(C96=\"OSW\",IF(K96>=2,1,0),IF(C96=\"OSR\",IF(AND(K96>=2,Q96>60)=TRUE,1,0),IF(C96=\"OSRH\",IF(AND(K96>=1,Q96>90)=TRUE,1,0),IF(C96=\"OHLC\",IF(AND(N96=\"Y\",Q96>60)=TRUE,1,0),IF(C96=\"DDC\",IF(AND(K96>=4,N96=\"Y\",Q96>120)=TRUE,1,0),0))))))","v":""}]
[null,null,"",null,null,null,null,null,null,null,null,null,null,null,null,0,0,0,0,"",0,0,0,0,0,{"$f":"IF($H$4=\"\",0,VLOOKUP($H$4,BuildingType_Lookup,3,FALSE))","v":0},{"$f":"IF($H$4=\"\",0,VLOOKUP($H$4,BuildingType_Lookup,2,FALSE))","v":0},{"$f":"IF(AND(OR(AN97=\"\",AN97=0)=TRUE,OR(AO97=\"\",AO97=0))=TRUE,0,IF(AO97=\"\",(IF(OR(C97=\"DDC\",C97=\"OHLC\")=TRUE,O97,P97)/1000)*Y97*Z97*(1+VLOOKUP($H$4,BuildingType_Lookup,4,FALSE)),IF(AO97=0,0,(IF(OR(C97=\"DDC\",C97=\"OHLC\")=TRUE,O97,Q97)/1000)*Y97*Z97*(1+VLOOKUP($H$4,BuildingType_Lookup,4,FALSE)))))","v":0},{"$f":"IF(AND(OR(AN97=\"\",AN97=0)=TRUE,OR(AO97=\"\",AO97=0))=TRUE,0,IF(AO97=\"\",(IF(OR(C97=\"DDC\",C97=\"OHLC\")=TRUE,O97,P97)/1000)*Y97*AA97*(1+VLOOKUP($H$4,BuildingType_Lookup,MATCH($H$5,HVAC,0)+4,FALSE)),IF(AO97=0,0,(IF(OR(C97=\"DDC\",C97=\"OHLC\")=TRUE,O97,Q97)/1000)*Y97*AA97*(1+VLOOKUP($H$4,BuildingType_Lookup,MATCH($H$5,HVAC,0)+4,FALSE)))))","v":0},0,0,0,0,0,0,{"$f":"W97/1000*Y97*AA97*IF(IFERROR(SEARCH(\"Gas\",$H$5),0)>0,VLOOKUP(\"Gas\",HVACg_Lookup,MATCH($H$6,BuildingSize,0)+1,FALSE),IF(IFERROR(SEARCH(\"Oil\",$H$5),0)>0,VLOOKUP(\"Oil\",HVACg_Lookup,MATCH($H$6,BuildingSize,0)+1,FALSE),IF(IFERROR(SEARCH(\"Propane\",$H$5),0)>0,VLOOKUP(\"Propane\",HVACg_Lookup,MATCH(Worksheet!$H$6,BuildingSize,0)+1,FALSE),0)))","v":0},{"$f":"X97/1000*Y97*AA97*IF(IFERROR(SEARCH(\"Gas\",$H$5),0)>0,VLOOKUP(\"Gas\",HVACg_Lookup,MATCH($H$6,BuildingSize,0)+1,FALSE),IF(IFERROR(SEARCH(\"Oil\",$H$5),0)>0,VLOOKUP(\"Oil\",HVACg_Lookup,MATCH($H$6,BuildingSize,0)+1,FALSE),IF(IFERROR(SEARCH(\"Propane\",$H$5),0)>0,VLOOKUP(\"Propane\",HVACg_Lookup,MATCH(Worksheet!$H$6,BuildingSize,0)+1,FALSE),0)))","v":0},0,0,{"$f":"IF(OR($B$4=\"\",$B$5=\"\",$H$4=\"\",$H$6=\"\",$H$5=\"\",A97=\"\",F97=\"\",J97=\"\",O97=\"\",P97=\"\")=TRUE,\"\",IF(C97=\"OSW\",IF(J97>=2,1,0),IF(C97=\"OSR\",IF(AND(J97>=2,P97>60)=TRUE,1,0),IF(C97=\"OSRH\",IF(AND(J97>=1,P97>90)=TRUE,1,0),IF(C97=\"OHLC\",IF(AND(N97=\"Y\",P97>60)=TRUE,1,0),IF(C97=\"DDC\",IF(AND(J97>=4,N97=\"Y\",P97>120)=TRUE,1,0),0))))))","v":""},{"$f":"IF(OR($B$4=\"\",$B$5=\"\",$H$4=\"\",$H$6=\"\",$H$5=\"\",A97=\"\",F97=\"\",K97=\"\",O97=\"\",P97=\"\")=TRUE,\"\",IF(C97=\"OSW\",IF(K97>=2,1,0),IF(C97=\"OSR\",IF(AND(K97>=2,Q97>60)=TRUE,1,0),IF(C97=\"OSRH\",IF(AND(K97>=1,Q97>90)=TRUE,1,0),IF(C97=\"OHLC\",IF(AND(N97=\"Y\",Q97>60)=TRUE,1,0),IF(C97=\"DDC\",IF(AND(K97>=4,N97=\"Y\",Q97>120)=TRUE,1,0),0))))))","v":""}]
[null,null,"",null,null,null,null,null,null,null,null,null,null,null,null,0,0,0,0,"",0,0,0,0,0,{"$f":"IF($H$4=\"\",0,VLOOKUP($H$4,BuildingType_Lookup,3,FALSE))","v":0},{"$f":"IF($H$4=\"\",0,VLOOKUP($H$4,BuildingType_Lookup,2,FALSE))","v":0},{"$f":"IF(AND(OR(AN98=\"\",AN98=0)=TRUE,OR(AO98=\"\",AO98=0))=TRUE,0,IF(AO98=\"\",(IF(OR(C98=\"DDC\",C98=\"OHLC\")=TRUE,O98,P98)/1000)*Y98*Z98*(1+VLOOKUP($H$4,BuildingType_Lookup,4,FALSE)),IF(AO98=0,0,(IF(OR(C98=\"DDC\",C98=\"OHLC\")=TRUE,O98,Q98)/1000)*Y98*Z98*(1+VLOOKUP($H$4,BuildingType_Lookup,4,FALSE)))))","v":0},{"$f":"IF(AND(OR(AN98=\"\",AN98=0)=TRUE,OR(AO98=\"\",AO98=0))=TRUE,0,IF(AO98=\"\",(IF(OR(C98=\"DDC\",C98=\"OHLC\")=TRUE,O98,P98)/1000)*Y98*AA98*(1+VLOOKUP($H$4,BuildingType_Lookup,MATCH($H$5,HVAC,0)+4,FALSE)),IF(AO98=0,0,(IF(OR(C98=\"DDC\",C98=\"OHLC\")=TRUE,O98,Q98)/1000)*Y98*AA98*(1+VLOOKUP($H$4,BuildingType_Lookup,MATCH($H$5,HVAC,0)+4,FALSE)))))","v":0},0,0,0,0,0,0,{"$f":"W98/1000*Y98*AA98*IF(IFERROR(SEARCH(\"Gas\",$H$5),0)>0,VLOOKUP(\"Gas\",HVACg_Lookup,MATCH($H$6,BuildingSize,0)+1,FALSE),IF(IFERROR(SEARCH(\"Oil\",$H$5),0)>0,VLOOKUP(\"Oil\",HVACg_Lookup,MATCH($H$6,BuildingSize,0)+1,FALSE),IF(IFERROR(SEARCH(\"Propane\",$H$5),0)>0,VLOOKUP(\"Propane\",HVACg_Lookup,MATCH(Worksheet!$H$6,BuildingSize,0)+1,FALSE),0)))","v":0},{"$f":"X98/1000*Y98*AA98*IF(IFERROR(SEARCH(\"Gas\",$H$5),0)>0,VLOOKUP(\"Gas\",HVACg_Lookup,MATCH($H$6,BuildingSize,0)+1,FALSE),IF(IFERROR(SEARCH(\"Oil\",$H$5),0)>0,VLOOKUP(\"Oil\",HVACg_Lookup,MATCH($H$6,BuildingSize,0)+1,FALSE),IF(IFERROR(SEARCH(\"Propane\",$H$5),0)>0,VLOOKUP(\"Propane\",HVACg_Lookup,MATCH(Worksheet!$H$6,BuildingSize,0)+1,FALSE),0)))","v":0},0,0,{"$f":"IF(OR($B$4=\"\",$B$5=\"\",$H$4=\"\",$H$6=\"\",$H$5=\"\",A98=\"\",F98=\"\",J98=\"\",O98=\"\",P98=\"\")=TRUE,\"\",IF(C98=\"OSW\",IF(J98>=2,1,0),IF(C98=\"OSR\",IF(AND(J98>=2,P98>60)=TRUE,1,0),IF(C98=\"OSRH\",IF(AND(J98>=1,P98>90)=TRUE,1,0),IF(C98=\"OHLC\",IF(AND(N98=\"Y\",P98>60)=TRUE,1,0),IF(C98=\"DDC\",IF(AND(J98>=4,N98=\"Y\",P98>120)=TRUE,1,0),0))))))","v":""},{"$f":"IF(OR($B$4=\"\",$B$5=\"\",$H$4=\"\",$H$6=\"\",$H$5=\"\",A98=\"\",F98=\"\",K98=\"\",O98=\"\",P98=\"\")=TRUE,\"\",IF(C98=\"OSW\",IF(K98>=2,1,0),IF(C98=\"OSR\",IF(AND(K98>=2,Q98>60)=TRUE,1,0),IF(C98=\"OSRH\",IF(AND(K98>=1,Q98>90)=TRUE,1,0),IF(C98=\"OHLC\",IF(AND(N98=\"Y\",Q98>60)=TRUE,1,0),IF(C98=\"DDC\",IF(AND(K98>=4,N98=\"Y\",Q98>120)=TRUE,1,0),0))))))","v":""}]
[null,null,"",null,null,null,null,null,null,null,null,null,null,null,null,0,0,0,0,"",0,0,0,0,0,{"$f":"IF($H$4=\"\",0,VLOOKUP($H$4,BuildingType_Lookup,3,FALSE))","v":0},{"$f":"IF($H$4=\"\",0,VLOOKUP($H$4,BuildingType_Lookup,2,FALSE))","v":0},{"$f":"IF(AND(OR(AN99=\"\",AN99=0)=TRUE,OR(AO99=\"\",AO99=0))=TRUE,0,IF(AO99=\"\",(IF(OR(C99=\"DDC\",C99=\"OHLC\")=TRUE,O99,P99)/1000)*Y99*Z99*(1+VLOOKUP($H$4,BuildingType_Lookup,4,FALSE)),IF(AO99=0,0,(IF(OR(C99=\"DDC\",C99=\"OHLC\")=TRUE,O99,Q99)/1000)*Y99*Z99*(1+VLOOKUP($H$4,BuildingType_Lookup,4,FALSE)))))","v":0},{"$f":"IF(AND(OR(AN99=\"\",AN99=0)=TRUE,OR(AO99=\"\",AO99=0))=TRUE,0,IF(AO99=\"\",(IF(OR(C99=\"DDC\",C99=\"OHLC\")=TRUE,O99,P99)/1000)*Y99*AA99*(1+VLOOKUP($H$4,BuildingType_Lookup,MATCH($H$5,HVAC,0)+4,FALSE)),IF(AO99=0,0,(IF(OR(C99=\"DDC\",C99=\"OHLC\")=TRUE,O99,Q99)/1000)*Y99*AA99*(1+VLOOKUP($H$4,BuildingType_Lookup,MATCH($H$5,HVAC,0)+4,FALSE)))))","v":0},0,0,0,0,0,0,{"$f":"W99/1000*Y99*AA99*IF(IFERROR(SEARCH(\"Gas\",$H$5),0)>0,VLOOKUP(\"Gas\",HVACg_Lookup,MATCH($H$6,BuildingSize,0)+1,FALSE),IF(IFERROR(SEARCH(\"Oil\",$H$5),0)>0,VLOOKUP(\"Oil\",HVACg_Lookup,MATCH($H$6,BuildingSize,0)+1,FALSE),IF(IFERROR(SEARCH(\"Propane\",$H$5),0)>0,VLOOKUP(\"Propane\",HVACg_Lookup,MATCH(Worksheet!$H$6,BuildingSize,0)+1,FALSE),0)))","v":0},{"$f":"X99/1000*Y99*AA99*IF(IFERROR(SEARCH(\"Gas\",$H$5),0)>0,VLOOKUP(\"Gas\",HVACg_Lookup,MATCH($H$6,BuildingSize,0)+1,FALSE),IF(IFERROR(SEARCH(\"Oil\",$H$5),0)>0,VLOOKUP(\"Oil\",HVACg_Lookup,MATCH($H$6,BuildingSize,0)+1,FALSE),IF(IFERROR(SEARCH(\"Propane\",$H$5),0)>0,VLOOKUP(\"Propane\",HVACg_Lookup,MATCH(Worksheet!$H$6,BuildingSize,0)+1,FALSE),0)))","v":0},0,0,{"$f":"IF(OR($B$4=\"\",$B$5=\"\",$H$4=\"\",$H$6=\"\",$H$5=\"\",A99=\"\",F99=\"\",J99=\"\",O99=\"\",P99=\"\")=TRUE,\"\",IF(C99=\"OSW\",IF(J99>=2,1,0),IF(C99=\"OSR\",IF(AND(J99>=2,P99>60)=TRUE,1,0),IF(C99=\"OSRH\",IF(AND(J99>=1,P99>90)=TRUE,1,0),IF(C99=\"OHLC\",IF(AND(N99=\"Y\",P99>60)=TRUE,1,0),IF(C99=\"DDC\",IF(AND(J99>=4,N99=\"Y\",P99>120)=TRUE,1,0),0))))))","v":""},{"$f":"IF(OR($B$4=\"\",$B$5=\"\",$H$4=\"\",$H$6=\"\",$H$5=\"\",A99=\"\",F99=\"\",K99=\"\",O99=\"\",P99=\"\")=TRUE,\"\",IF(C99=\"OSW\",IF(K99>=2,1,0),IF(C99=\"OSR\",IF(AND(K99>=2,Q99>60)=TRUE,1,0),IF(C99=\"OSRH\",IF(AND(K99>=1,Q99>90)=TRUE,1,0),IF(C99=\"OHLC\",IF(AND(N99=\"Y\",Q99>60)=TRUE,1,0),IF(C99=\"DDC\",IF(AND(K99>=4,N99=\"Y\",Q99>120)=TRUE,1,0),0))))))","v":""}]
[null,null,"",null,null,null,null,null,null,null,null,null,null,null,null,0,0,0,0,"",0,0,0,0,0,{"$f":"IF($H$4=\"\",0,VLOOKUP($H$4,BuildingType_Lookup,3,FALSE))","v":0},{"$f":"IF($H$4=\"\",0,VLOOKUP($H$4,BuildingType_Lookup,2,FALSE))","v":0},{"$f":"IF(AND(OR(AN100=\"\",AN100=0)=TRUE,OR(AO100=\"\",AO100=0))=TRUE,0,IF(AO100=\"\",(IF(OR(C100=\"DDC\",C100=\"OHLC\")=TRUE,O100,P100)/1000)*Y100*Z100*(1+VLOOKUP($H$4,BuildingType_Lookup,4,FALSE)),IF(AO100=0,0,(IF(OR(C100=\"DDC\",C100=\"OHLC\")=TRUE,O100,Q100)/1000)*Y100*Z100*(1+VLOOKUP($H$4,BuildingType_Lookup,4,FALSE)))))","v":0},{"$f":"IF(AND(OR(AN100=\"\",AN100=0)=TRUE,OR(AO100=\"\",AO100=0))=TRUE,0,IF(AO100=\"\",(IF(OR(C100=\"DDC\",C100=\"OHLC\")=TRUE,O100,P100)/1000)*Y100*AA100*(1+VLOOKUP($H$4,BuildingType_Lookup,MATCH($H$5,HVAC,0)+4,FALSE)),IF(AO100=0,0,(IF(OR(C100=\"DDC\",C100=\"OHLC\")=TRUE,O100,Q100)/1000)*Y100*AA100*(1+VLOOKUP($H$4,BuildingType_Lookup,MATCH($H$5,HVAC,0)+4,FALSE)))))","v":0},0,0,0,0,0,0,{"$f":"W100/1000*Y100*AA100*IF(IFERROR(SEARCH(\"Gas\",$H$5),0)>0,VLOOKUP(\"Gas\",HVACg_Lookup,MATCH($H$6,BuildingSize,0)+1,FALSE),IF(IFERROR(SEARCH(\"Oil\",$H$5),0)>0,VLOOKUP(\"Oil\",HVACg_Lookup,MATCH($H$6,BuildingSize,0)+1,FALSE),IF(IFERROR(SEARCH(\"Propane\",$H$5),0)>0,VLOOKUP(\"Propane\",HVACg_Lookup,MATCH(Worksheet!$H$6,BuildingSize,0)+1,FALSE),0)))","v":0},{"$f":"X100/1000*Y100*AA100*IF(IFERROR(SEARCH(\"Gas\",$H$5),0)>0,VLOOKUP(\"Gas\",HVACg_Lookup,MATCH($H$6,BuildingSize,0)+1,FALSE),IF(IFERROR(SEARCH(\"Oil\",$H$5),0)>0,VLOOKUP(\"Oil\",HVACg_Lookup,MATCH($H$6,BuildingSize,0)+1,FALSE),IF(IFERROR(SEARCH(\"Propane\",$H$5),0)>0,VLOOKUP(\"Propane\",HVACg_Lookup,MATCH(Worksheet!$H$6,BuildingSize,0)+1,FALSE),0)))","v":0},0,0,{"$f":"IF(OR($B$4=\"\",$B$5=\"\",$H$4=\"\",$H$6=\"\",$H$5=\"\",A100=\"\",F100=\"\",J100=\"\",O100=\"\",P100=\"\")=TRUE,\"\",IF(C100=\"OSW\",IF(J100>=2,1,0),IF(C100=\"OSR\",IF(AND(J100>=2,P100>60)=TRUE,1,0),IF(C100=\"OSRH\",IF(AND(J100>=1,P100>90)=TRUE,1,0),IF(C100=\"OHLC\",IF(AND(N100=\"Y\",P100>60)=TRUE,1,0),IF(C100=\"DDC\",IF(AND(J100>=4,N100=\"Y\",P100>120)=TRUE,1,0),0))))))","v":""},{"$f":"IF(OR($B$4=\"\",$B$5=\"\",$H$4=\"\",$H$6=\"\",$H$5=\"\",A100=\"\",F100=\"\",K100=\"\",O100=\"\",P100=\"\")=TRUE,\"\",IF(C100=\"OSW\",IF(K100>=2,1,0),IF(C100=\"OSR\",IF(AND(K100>=2,Q100>60)=TRUE,1,0),IF(C100=\"OSRH\",IF(AND(K100>=1,Q100>90)=TRUE,1,0),IF(C100=\"OHLC\",IF(AND(N100=\"Y\",Q100>60)=TRUE,1,0),IF(C100=\"DDC\",IF(AND(K100>=4,N100=\"Y\",Q100>120)=TRUE,1,0),0))))))","v":""}]
[null,null,"",null,null,null,null,null,null,null,null,null,null,null,null,0,0,0,0,"",0,0,0,0,0,{"$f":"IF($H$4=\"\",0,VLOOKUP($H$4,BuildingType_Lookup,3,FALSE))","v":0},{"$f":"IF($H$4=\"\",0,VLOOKUP($H$4,BuildingType_Lookup,2,FALSE))","v":0},{"$f":"IF(AND(OR(AN101=\"\",AN101=0)=TRUE,OR(AO101=\"\",AO101=0))=TRUE,0,IF(AO101=\"\",(IF(OR(C101=\"DDC\",C101=\"OHLC\")=TRUE,O101,P101)/1000)*Y101*Z101*(1+VLOOKUP($H$4,BuildingType_Lookup,4,FALSE)),IF(AO101=0,0,(IF(OR(C101=\"DDC\",C101=\"OHLC\")=TRUE,O101,Q101)/1000)*Y101*Z101*(1+VLOOKUP($H$4,BuildingType_Lookup,4,FALSE)))))","v":0},{"$f":"IF(AND(OR(AN101=\"\",AN101=0)=TRUE,OR(AO101=\"\",AO101=0))=TRUE,0,IF(AO101=\"\",(IF(OR(C101=\"DDC\",C101=\"OHLC\")=TRUE,O101,P101)/1000)*Y101*AA101*(1+VLOOKUP($H$4,BuildingType_Lookup,MATCH($H$5,HVAC,0)+4,FALSE)),IF(AO101=0,0,(IF(OR(C101=\"DDC\",C101=\"OHLC\")=TRUE,O101,Q101)/1000)*Y101*AA101*(1+VLOOKUP($H$4,BuildingType_Lookup,MATCH($H$5,HVAC,0)+4,FALSE)))))","v":0},0,0,0,0,0,0,{"$f":"W101/1000*Y101*AA101*IF(IFERROR(SEARCH(\"Gas\",$H$5),0)>0,VLOOKUP(\"Gas\",HVACg_Lookup,MATCH($H$6,BuildingSize,0)+1,FALSE),IF(IFERROR(SEARCH(\"Oil\",$H$5),0)>0,VLOOKUP(\"Oil\",HVACg_Lookup,MATCH($H$6,BuildingSize,0)+1,FALSE),IF(IFERROR(SEARCH(\"Propane\",$H$5),0)>0,VLOOKUP(\"Propane\",HVACg_Lookup,MATCH(Worksheet!$H$6,BuildingSize,0)+1,FALSE),0)))","v":0},{"$f":"X101/1000*Y101*AA101*IF(IFERROR(SEARCH(\"Gas\",$H$5),0)>0,VLOOKUP(\"Gas\",HVACg_Lookup,MATCH($H$6,BuildingSize,0)+1,FALSE),IF(IFERROR(SEARCH(\"Oil\",$H$5),0)>0,VLOOKUP(\"Oil\",HVACg_Lookup,MATCH($H$6,BuildingSize,0)+1,FALSE),IF(IFERROR(SEARCH(\"Propane\",$H$5),0)>0,VLOOKUP(\"Propane\",HVACg_Lookup,MATCH(Worksheet!$H$6,BuildingSize,0)+1,FALSE),0)))","v":0},0,0,{"$f":"IF(OR($B$4=\"\",$B$5=\"\",$H$4=\"\",$H$6=\"\",$H$5=\"\",A101=\"\",F101=\"\",J101=\"\",O101=\"\",P101=\"\")=TRUE,\"\",IF(C101=\"OSW\",IF(J101>=2,1,0),IF(C101=\"OSR\",IF(AND(J101>=2,P101>60)=TRUE,1,0),IF(C101=\"OSRH\",IF(AND(J101>=1,P101>90)=TRUE,1,0),IF(C101=\"OHLC\",IF(AND(N101=\"Y\",P101>60)=TRUE,1,0),IF(C101=\"DDC\",IF(AND(J101>=4,N101=\"Y\",P101>120)=TRUE,1,0),0))))))","v":""},{"$f":"IF(OR($B$4=\"\",$B$5=\"\",$H$4=\"\",$H$6=\"\",$H$5=\"\",A101=\"\",F101=\"\",K101=\"\",O101=\"\",P101=\"\")=TRUE,\"\",IF(C101=\"OSW\",IF(K101>=2,1,0),IF(C101=\"OSR\",IF(AND(K101>=2,Q101>60)=TRUE,1,0),IF(C101=\"OSRH\",IF(AND(K101>=1,Q101>90)=TRUE,1,0),IF(C101=\"OHLC\",IF(AND(N101=\"Y\",Q101>60)=TRUE,1,0),IF(C101=\"DDC\",IF(AND(K101>=4,N101=\"Y\",Q101>120)=TRUE,1,0),0))))))","v":""}]
[null,null,"",null,null,null,null,null,null,null,null,null,null,null,null,0,0,0,0,"",0,0,0,0,0,{"$f":"IF($H$4=\"\",0,VLOOKUP($H$4,BuildingType_Lookup,3,FALSE))","v":0},{"$f":"IF($H$4=\"\",0,VLOOKUP($H$4,BuildingType_Lookup,2,FALSE))","v":0},{"$f":"IF(AND(OR(AN102=\"\",AN102=0)=TRUE,OR(AO102=\"\",AO102=0))=TRUE,0,IF(AO102=\"\",(IF(OR(C102=\"DDC\",C102=\"OHLC\")=TRUE,O102,P102)/1000)*Y102*Z102*(1+VLOOKUP($H$4,BuildingType_Lookup,4,FALSE)),IF(AO102=0,0,(IF(OR(C102=\"DDC\",C102=\"OHLC\")=TRUE,O102,Q102)/1000)*Y102*Z102*(1+VLOOKUP($H$4,BuildingType_Lookup,4,FALSE)))))","v":0},{"$f":"IF(AND(OR(AN102=\"\",AN102=0)=TRUE,OR(AO102=\"\",AO102=0))=TRUE,0,IF(AO102=\"\",(IF(OR(C102=\"DDC\",C102=\"OHLC\")=TRUE,O102,P102)/1000)*Y102*AA102*(1+VLOOKUP($H$4,BuildingType_Lookup,MATCH($H$5,HVAC,0)+4,FALSE)),IF(AO102=0,0,(IF(OR(C102=\"DDC\",C102=\"OHLC\")=TRUE,O102,Q102)/1000)*Y102*AA102*(1+VLOOKUP($H$4,BuildingType_Lookup,MATCH($H$5,HVAC,0)+4,FALSE)))))","v":0},0,0,0,0,0,0,{"$f":"W102/1000*Y102*AA102*IF(IFERROR(SEARCH(\"Gas\",$H$5),0)>0,VLOOKUP(\"Gas\",HVACg_Lookup,MATCH($H$6,BuildingSize,0)+1,FALSE),IF(IFERROR(SEARCH(\"Oil\",$H$5),0)>0,VLOOKUP(\"Oil\",HVACg_Lookup,MATCH($H$6,BuildingSize,0)+1,FALSE),IF(IFERROR(SEARCH(\"Propane\",$H$5),0)>0,VLOOKUP(\"Propane\",HVACg_Lookup,MATCH(Worksheet!$H$6,BuildingSize,0)+1,FALSE),0)))","v":0},{"$f":"X102/1000*Y102*AA102*IF(IFERROR(SEARCH(\"Gas\",$H$5),0)>0,VLOOKUP(\"Gas\",HVACg_Lookup,MATCH($H$6,BuildingSize,0)+1,FALSE),IF(IFERROR(SEARCH(\"Oil\",$H$5),0)>0,VLOOKUP(\"Oil\",HVACg_Lookup,MATCH($H$6,BuildingSize,0)+1,FALSE),IF(IFERROR(SEARCH(\"Propane\",$H$5),0)>0,VLOOKUP(\"Propane\",HVACg_Lookup,MATCH(Worksheet!$H$6,BuildingSize,0)+1,FALSE),0)))","v":0},0,0,{"$f":"IF(OR($B$4=\"\",$B$5=\"\",$H$4=\"\",$H$6=\"\",$H$5=\"\",A102=\"\",F102=\"\",J102=\"\",O102=\"\",P102=\"\")=TRUE,\"\",IF(C102=\"OSW\",IF(J102>=2,1,0),IF(C102=\"OSR\",IF(AND(J102>=2,P102>60)=TRUE,1,0),IF(C102=\"OSRH\",IF(AND(J102>=1,P102>90)=TRUE,1,0),IF(C102=\"OHLC\",IF(AND(N102=\"Y\",P102>60)=TRUE,1,0),IF(C102=\"DDC\",IF(AND(J102>=4,N102=\"Y\",P102>120)=TRUE,1,0),0))))))","v":""},{"$f":"IF(OR($B$4=\"\",$B$5=\"\",$H$4=\"\",$H$6=\"\",$H$5=\"\",A102=\"\",F102=\"\",K102=\"\",O102=\"\",P102=\"\")=TRUE,\"\",IF(C102=\"OSW\",IF(K102>=2,1,0),IF(C102=\"OSR\",IF(AND(K102>=2,Q102>60)=TRUE,1,0),IF(C102=\"OSRH\",IF(AND(K102>=1,Q102>90)=TRUE,1,0),IF(C102=\"OHLC\",IF(AND(N102=\"Y\",Q102>60)=TRUE,1,0),IF(C102=\"DDC\",IF(AND(K102>=4,N102=\"Y\",Q102>120)=TRUE,1,0),0))))))","v":""}]
[null,null,"",null,null,null,null,null,null,null,null,null,null,null,null,0,0,0,0,"",0,0,0,0,0,{"$f":"IF($H$4=\"\",0,VLOOKUP($H$4,BuildingType_Lookup,3,FALSE))","v":0},{"$f":"IF($H$4=\"\",0,VLOOKUP($H$4,BuildingType_Lookup,2,FALSE))","v":0},{"$f":"IF(AND(OR(AN103=\"\",AN103=0)=TRUE,OR(AO103=\"\",AO103=0))=TRUE,0,IF(AO103=\"\",(IF(OR(C103=\"DDC\",C103=\"OHLC\")=TRUE,O103,P103)/1000)*Y103*Z103*(1+VLOOKUP($H$4,BuildingType_Lookup,4,FALSE)),IF(AO103=0,0,(IF(OR(C103=\"DDC\",C103=\"OHLC\")=TRUE,O103,Q103)/1000)*Y103*Z103*(1+VLOOKUP($H$4,BuildingType_Lookup,4,FALSE)))))","v":0},{"$f":"IF(AND(OR(AN103=\"\",AN103=0)=TRUE,OR(AO103=\"\",AO103=0))=TRUE,0,IF(AO103=\"\",(IF(OR(C103=\"DDC\",C103=\"OHLC\")=TRUE,O103,P103)/1000)*Y103*AA103*(1+VLOOKUP($H$4,BuildingType_Lookup,MATCH($H$5,HVAC,0)+4,FALSE)),IF(AO103=0,0,(IF(OR(C103=\"DDC\",C103=\"OHLC\")=TRUE,O103,Q103)/1000)*Y103*AA103*(1+VLOOKUP($H$4,BuildingType_Lookup,MATCH($H$5,HVAC,0)+4,FALSE)))))","v":0},0,0,0,0,0,0,{"$f":"W103/1000*Y103*AA103*IF(IFERROR(SEARCH(\"Gas\",$H$5),0)>0,VLOOKUP(\"Gas\",HVACg_Lookup,MATCH($H$6,BuildingSize,0)+1,FALSE),IF(IFERROR(SEARCH(\"Oil\",$H$5),0)>0,VLOOKUP(\"Oil\",HVACg_Lookup,MATCH($H$6,BuildingSize,0)+1,FALSE),IF(IFERROR(SEARCH(\"Propane\",$H$5),0)>0,VLOOKUP(\"Propane\",HVACg_Lookup,MATCH(Worksheet!$H$6,BuildingSize,0)+1,FALSE),0)))","v":0},{"$f":"X103/1000*Y103*AA103*IF(IFERROR(SEARCH(\"Gas\",$H$5),0)>0,VLOOKUP(\"Gas\",HVACg_Lookup,MATCH($H$6,BuildingSize,0)+1,FALSE),IF(IFERROR(SEARCH(\"Oil\",$H$5),0)>0,VLOOKUP(\"Oil\",HVACg_Lookup,MATCH($H$6,BuildingSize,0)+1,FALSE),IF(IFERROR(SEARCH(\"Propane\",$H$5),0)>0,VLOOKUP(\"Propane\",HVACg_Lookup,MATCH(Worksheet!$H$6,BuildingSize,0)+1,FALSE),0)))","v":0},0,0,{"$f":"IF(OR($B$4=\"\",$B$5=\"\",$H$4=\"\",$H$6=\"\",$H$5=\"\",A103=\"\",F103=\"\",J103=\"\",O103=\"\",P103=\"\")=TRUE,\"\",IF(C103=\"OSW\",IF(J103>=2,1,0),IF(C103=\"OSR\",IF(AND(J103>=2,P103>60)=TRUE,1,0),IF(C103=\"OSRH\",IF(AND(J103>=1,P103>90)=TRUE,1,0),IF(C103=\"OHLC\",IF(AND(N103=\"Y\",P103>60)=TRUE,1,0),IF(C103=\"DDC\",IF(AND(J103>=4,N103=\"Y\",P103>120)=TRUE,1,0),0))))))","v":""},{"$f":"IF(OR($B$4=\"\",$B$5=\"\",$H$4=\"\",$H$6=\"\",$H$5=\"\",A103=\"\",F103=\"\",K103=\"\",O103=\"\",P103=\"\")=TRUE,\"\",IF(C103=\"OSW\",IF(K103>=2,1,0),IF(C103=\"OSR\",IF(AND(K103>=2,Q103>60)=TRUE,1,0),IF(C103=\"OSRH\",IF(AND(K103>=1,Q103>90)=TRUE,1,0),IF(C103=\"OHLC\",IF(AND(N103=\"Y\",Q103>60)=TRUE,1,0),IF(C103=\"DDC\",IF(AND(K103>=4,N103=\"Y\",Q103>120)=TRUE,1,0),0))))))","v":""}]
[null,null,"",null,null,null,null,null,null,null,null,null,null,null,null,0,0,0,0,"",0,0,0,0,0,{"$f":"IF($H$4=\"\",0,VLOOKUP($H$4,BuildingType_Lookup,3,FALSE))","v":0},{"$f":"IF($H$4=\"\",0,VLOOKUP($H$4,BuildingType_Lookup,2,FALSE))","v":0},{"$f":"IF(AND(OR(AN104=\"\",AN104=0)=TRUE,OR(AO104=\"\",AO104=0))=TRUE,0,IF(AO104=\"\",(IF(OR(C104=\"DDC\",C104=\"OHLC\")=TRUE,O104,P104)/1000)*Y104*Z104*(1+VLOOKUP($H$4,BuildingType_Lookup,4,FALSE)),IF(AO104=0,0,(IF(OR(C104=\"DDC\",C104=\"OHLC\")=TRUE,O104,Q104)/1000)*Y104*Z104*(1+VLOOKUP($H$4,BuildingType_Lookup,4,FALSE)))))","v":0},{"$f":"IF(AND(OR(AN104=\"\",AN104=0)=TRUE,OR(AO104=\"\",AO104=0))=TRUE,0,IF(AO104=\"\",(IF(OR(C104=\"DDC\",C104=\"OHLC\")=TRUE,O104,P104)/1000)*Y104*AA104*(1+VLOOKUP($H$4,BuildingType_Lookup,MATCH($H$5,HVAC,0)+4,FALSE)),IF(AO104=0,0,(IF(OR(C104=\"DDC\",C104=\"OHLC\")=TRUE,O104,Q104)/1000)*Y104*AA104*(1+VLOOKUP($H$4,BuildingType_Lookup,MATCH($H$5,HVAC,0)+4,FALSE)))))","v":0},0,0,0,0,0,0,{"$f":"W104/1000*Y104*AA104*IF(IFERROR(SEARCH(\"Gas\",$H$5),0)>0,VLOOKUP(\"Gas\",HVACg_Lookup,MATCH($H$6,BuildingSize,0)+1,FALSE),IF(IFERROR(SEARCH(\"Oil\",$H$5),0)>0,VLOOKUP(\"Oil\",HVACg_Lookup,MATCH($H$6,BuildingSize,0)+1,FALSE),IF(IFERROR(SEARCH(\"Propane\",$H$5),0)>0,VLOOKUP(\"Propane\",HVACg_Lookup,MATCH(Worksheet!$H$6,BuildingSize,0)+1,FALSE),0)))","v":0},{"$f":"X104/1000*Y104*AA104*IF(IFERROR(SEARCH(\"Gas\",$H$5),0)>0,VLOOKUP(\"Gas\",HVACg_Lookup,MATCH($H$6,BuildingSize,0)+1,FALSE),IF(IFERROR(SEARCH(\"Oil\",$H$5),0)>0,VLOOKUP(\"Oil\",HVACg_Lookup,MATCH($H$6,BuildingSize,0)+1,FALSE),IF(IFERROR(SEARCH(\"Propane\",$H$5),0)>0,VLOOKUP(\"Propane\",HVACg_Lookup,MATCH(Worksheet!$H$6,BuildingSize,0)+1,FALSE),0)))","v":0},0,0,{"$f":"IF(OR($B$4=\"\",$B$5=\"\",$H$4=\"\",$H$6=\"\",$H$5=\"\",A104=\"\",F104=\"\",J104=\"\",O104=\"\",P104=\"\")=TRUE,\"\",IF(C104=\"OSW\",IF(J104>=2,1,0),IF(C104=\"OSR\",IF(AND(J104>=2,P104>60)=TRUE,1,0),IF(C104=\"OSRH\",IF(AND(J104>=1,P104>90)=TRUE,1,0),IF(C104=\"OHLC\",IF(AND(N104=\"Y\",P104>60)=TRUE,1,0),IF(C104=\"DDC\",IF(AND(J104>=4,N104=\"Y\",P104>120)=TRUE,1,0),0))))))","v":""},{"$f":"IF(OR($B$4=\"\",$B$5=\"\",$H$4=\"\",$H$6=\"\",$H$5=\"\",A104=\"\",F104=\"\",K104=\"\",O104=\"\",P104=\"\")=TRUE,\"\",IF(C104=\"OSW\",IF(K104>=2,1,0),IF(C104=\"OSR\",IF(AND(K104>=2,Q104>60)=TRUE,1,0),IF(C104=\"OSRH\",IF(AND(K104>=1,Q104>90)=TRUE,1,0),IF(C104=\"OHLC\",IF(AND(N104=\"Y\",Q104>60)=TRUE,1,0),IF(C104=\"DDC\",IF(AND(K104>=4,N104=\"Y\",Q104>120)=TRUE,1,0),0))))))","v":""}]
[null,null,"",null,null,null,null,null,null,null,null,null,null,null,null,0,0,0,0,"",0,0,0,0,0,{"$f":"IF($H$4=\"\",0,VLOOKUP($H$4,BuildingType_Lookup,3,FALSE))","v":0},{"$f":"IF($H$4=\"\",0,VLOOKUP($H$4,BuildingType_Lookup,2,FALSE))","v":0},{"$f":"IF(AND(OR(AN105=\"\",AN105=0)=TRUE,OR(AO105=\"\",AO105=0))=TRUE,0,IF(AO105=\"\",(IF(OR(C105=\"DDC\",C105=\"OHLC\")=TRUE,O105,P105)/1000)*Y105*Z105*(1+VLOOKUP($H$4,BuildingType_Lookup,4,FALSE)),IF(AO105=0,0,(IF(OR(C105=\"DDC\",C105=\"OHLC\")=TRUE,O105,Q105)/1000)*Y105*Z105*(1+VLOOKUP($H$4,BuildingType_Lookup,4,FALSE)))))","v":0},{"$f":"IF(AND(OR(AN105=\"\",AN105=0)=TRUE,OR(AO105=\"\",AO105=0))=TRUE,0,IF(AO105=\"\",(IF(OR(C105=\"DDC\",C105=\"OHLC\")=TRUE,O105,P105)/1000)*Y105*AA105*(1+VLOOKUP($H$4,BuildingType_Lookup,MATCH($H$5,HVAC,0)+4,FALSE)),IF(AO105=0,0,(IF(OR(C105=\"DDC\",C105=\"OHLC\")=TRUE,O105,Q105)/1000)*Y105*AA105*(1+VLOOKUP($H$4,BuildingType_Lookup,MATCH($H$5,HVAC,0)+4,FALSE)))))","v":0},0,0,0,0,0,0,{"$f":"W105/1000*Y105*AA105*IF(IFERROR(SEARCH(\"Gas\",$H$5),0)>0,VLOOKUP(\"Gas\",HVACg_Lookup,MATCH($H$6,BuildingSize,0)+1,FALSE),IF(IFERROR(SEARCH(\"Oil\",$H$5),0)>0,VLOOKUP(\"Oil\",HVACg_Lookup,MATCH($H$6,BuildingSize,0)+1,FALSE),IF(IFERROR(SEARCH(\"Propane\",$H$5),0)>0,VLOOKUP(\"Propane\",HVACg_Lookup,MATCH(Worksheet!$H$6,BuildingSize,0)+1,FALSE),0)))","v":0},{"$f":"X105/1000*Y105*AA105*IF(IFERROR(SEARCH(\"Gas\",$H$5),0)>0,VLOOKUP(\"Gas\",HVACg_Lookup,MATCH($H$6,BuildingSize,0)+1,FALSE),IF(IFERROR(SEARCH(\"Oil\",$H$5),0)>0,VLOOKUP(\"Oil\",HVACg_Lookup,MATCH($H$6,BuildingSize,0)+1,FALSE),IF(IFERROR(SEARCH(\"Propane\",$H$5),0)>0,VLOOKUP(\"Propane\",HVACg_Lookup,MATCH(Worksheet!$H$6,BuildingSize,0)+1,FALSE),0)))","v":0},0,0,{"$f":"IF(OR($B$4=\"\",$B$5=\"\",$H$4=\"\",$H$6=\"\",$H$5=\"\",A105=\"\",F105=\"\",J105=\"\",O105=\"\",P105=\"\")=TRUE,\"\",IF(C105=\"OSW\",IF(J105>=2,1,0),IF(C105=\"OSR\",IF(AND(J105>=2,P105>60)=TRUE,1,0),IF(C105=\"OSRH\",IF(AND(J105>=1,P105>90)=TRUE,1,0),IF(C105=\"OHLC\",IF(AND(N105=\"Y\",P105>60)=TRUE,1,0),IF(C105=\"DDC\",IF(AND(J105>=4,N105=\"Y\",P105>120)=TRUE,1,0),0))))))","v":""},{"$f":"IF(OR($B$4=\"\",$B$5=\"\",$H$4=\"\",$H$6=\"\",$H$5=\"\",A105=\"\",F105=\"\",K105=\"\",O105=\"\",P105=\"\")=TRUE,\"\",IF(C105=\"OSW\",IF(K105>=2,1,0),IF(C105=\"OSR\",IF(AND(K105>=2,Q105>60)=TRUE,1,0),IF(C105=\"OSRH\",IF(AND(K105>=1,Q105>90)=TRUE,1,0),IF(C105=\"OHLC\",IF(AND(N105=\"Y\",Q105>60)=TRUE,1,0),IF(C105=\"DDC\",IF(AND(K105>=4,N105=\"Y\",Q105>120)=TRUE,1,0),0))))))","v":""}]
[null,null,"",null,null,null,null,null,null,null,null,null,null,null,null,0,0,0,0,"",0,0,0,0,0,{"$f":"IF($H$4=\"\",0,VLOOKUP($H$4,BuildingType_Lookup,3,FALSE))","v":0},{"$f":"IF($H$4=\"\",0,VLOOKUP($H$4,BuildingType_Lookup,2,FALSE))","v":0},{"$f":"IF(AND(OR(AN106=\"\",AN106=0)=TRUE,OR(AO106=\"\",AO106=0))=TRUE,0,IF(AO106=\"\",(IF(OR(C106=\"DDC\",C106=\"OHLC\")=TRUE,O106,P106)/1000)*Y106*Z106*(1+VLOOKUP($H$4,BuildingType_Lookup,4,FALSE)),IF(AO106=0,0,(IF(OR(C106=\"DDC\",C106=\"OHLC\")=TRUE,O106,Q106)/1000)*Y106*Z106*(1+VLOOKUP($H$4,BuildingType_Lookup,4,FALSE)))))","v":0},{"$f":"IF(AND(OR(AN106=\"\",AN106=0)=TRUE,OR(AO106=\"\",AO106=0))=TRUE,0,IF(AO106=\"\",(IF(OR(C106=\"DDC\",C106=\"OHLC\")=TRUE,O106,P106)/1000)*Y106*AA106*(1+VLOOKUP($H$4,BuildingType_Lookup,MATCH($H$5,HVAC,0)+4,FALSE)),IF(AO106=0,0,(IF(OR(C106=\"DDC\",C106=\"OHLC\")=TRUE,O106,Q106)/1000)*Y106*AA106*(1+VLOOKUP($H$4,BuildingType_Lookup,MATCH($H$5,HVAC,0)+4,FALSE)))))","v":0},0,0,0,0,0,0,{"$f":"W106/1000*Y106*AA106*IF(IFERROR(SEARCH(\"Gas\",$H$5),0)>0,VLOOKUP(\"Gas\",HVACg_Lookup,MATCH($H$6,BuildingSize,0)+1,FALSE),IF(IFERROR(SEARCH(\"Oil\",$H$5),0)>0,VLOOKUP(\"Oil\",HVACg_Lookup,MATCH($H$6,BuildingSize,0)+1,FALSE),IF(IFERROR(SEARCH(\"Propane\",$H$5),0)>0,VLOOKUP(\"Propane\",HVACg_Lookup,MATCH(Worksheet!$H$6,BuildingSize,0)+1,FALSE),0)))","v":0},{"$f":"X106/1000*Y106*AA106*IF(IFERROR(SEARCH(\"Gas\",$H$5),0)>0,VLOOKUP(\"Gas\",HVACg_Lookup,MATCH($H$6,BuildingSize,0)+1,FALSE),IF(IFERROR(SEARCH(\"Oil\",$H$5),0)>0,VLOOKUP(\"Oil\",HVACg_Lookup,MATCH($H$6,BuildingSize,0)+1,FALSE),IF(IFERROR(SEARCH(\"Propane\",$H$5),0)>0,VLOOKUP(\"Propane\",HVACg_Lookup,MATCH(Worksheet!$H$6,BuildingSize,0)+1,FALSE),0)))","v":0},0,0,{"$f":"IF(OR($B$4=\"\",$B$5=\"\",$H$4=\"\",$H$6=\"\",$H$5=\"\",A106=\"\",F106=\"\",J106=\"\",O106=\"\",P106=\"\")=TRUE,\"\",IF(C106=\"OSW\",IF(J106>=2,1,0),IF(C106=\"OSR\",IF(AND(J106>=2,P106>60)=TRUE,1,0),IF(C106=\"OSRH\",IF(AND(J106>=1,P106>90)=TRUE,1,0),IF(C106=\"OHLC\",IF(AND(N106=\"Y\",P106>60)=TRUE,1,0),IF(C106=\"DDC\",IF(AND(J106>=4,N106=\"Y\",P106>120)=TRUE,1,0),0))))))","v":""},{"$f":"IF(OR($B$4=\"\",$B$5=\"\",$H$4=\"\",$H$6=\"\",$H$5=\"\",A106=\"\",F106=\"\",K106=\"\",O106=\"\",P106=\"\")=TRUE,\"\",IF(C106=\"OSW\",IF(K106>=2,1,0),IF(C106=\"OSR\",IF(AND(K106>=2,Q106>60)=TRUE,1,0),IF(C106=\"OSRH\",IF(AND(K106>=1,Q106>90)=TRUE,1,0),IF(C106=\"OHLC\",IF(AND(N106=\"Y\",Q106>60)=TRUE,1,0),IF(C106=\"DDC\",IF(AND(K106>=4,N106=\"Y\",Q106>120)=TRUE,1,0),0))))))","v":""}]
[null,null,"",null,null,null,null,null,null,null,null,null,null,null,null,0,0,0,0,"",0,0,0,0,0,{"$f":"IF($H$4=\"\",0,VLOOKUP($H$4,BuildingType_Lookup,3,FALSE))","v":0},{"$f":"IF($H$4=\"\",0,VLOOKUP($H$4,BuildingType_Lookup,2,FALSE))","v":0},{"$f":"IF(AND(OR(AN107=\"\",AN107=0)=TRUE,OR(AO107=\"\",AO107=0))=TRUE,0,IF(AO107=\"\",(IF(OR(C107=\"DDC\",C107=\"OHLC\")=TRUE,O107,P107)/1000)*Y107*Z107*(1+VLOOKUP($H$4,BuildingType_Lookup,4,FALSE)),IF(AO107=0,0,(IF(OR(C107=\"DDC\",C107=\"OHLC\")=TRUE,O107,Q107)/1000)*Y107*Z107*(1+VLOOKUP($H$4,BuildingType_Lookup,4,FALSE)))))","v":0},{"$f":"IF(AND(OR(AN107=\"\",AN107=0)=TRUE,OR(AO107=\"\",AO107=0))=TRUE,0,IF(AO107=\"\",(IF(OR(C107=\"DDC\",C107=\"OHLC\")=TRUE,O107,P107)/1000)*Y107*AA107*(1+VLOOKUP($H$4,BuildingType_Lookup,MATCH($H$5,HVAC,0)+4,FALSE)),IF(AO107=0,0,(IF(OR(C107=\"DDC\",C107=\"OHLC\")=TRUE,O107,Q107)/1000)*Y107*AA107*(1+VLOOKUP($H$4,BuildingType_Lookup,MATCH($H$5,HVAC,0)+4,FALSE)))))","v":0},0,0,0,0,0,0,{"$f":"W107/1000*Y107*AA107*IF(IFERROR(SEARCH(\"Gas\",$H$5),0)>0,VLOOKUP(\"Gas\",HVACg_Lookup,MATCH($H$6,BuildingSize,0)+1,FALSE),IF(IFERROR(SEARCH(\"Oil\",$H$5),0)>0,VLOOKUP(\"Oil\",HVACg_Lookup,MATCH($H$6,BuildingSize,0)+1,FALSE),IF(IFERROR(SEARCH(\"Propane\",$H$5),0)>0,VLOOKUP(\"Propane\",HVACg_Lookup,MATCH(Worksheet!$H$6,BuildingSize,0)+1,FALSE),0)))","v":0},{"$f":"X107/1000*Y107*AA107*IF(IFERROR(SEARCH(\"Gas\",$H$5),0)>0,VLOOKUP(\"Gas\",HVACg_Lookup,MATCH($H$6,BuildingSize,0)+1,FALSE),IF(IFERROR(SEARCH(\"Oil\",$H$5),0)>0,VLOOKUP(\"Oil\",HVACg_Lookup,MATCH($H$6,BuildingSize,0)+1,FALSE),IF(IFERROR(SEARCH(\"Propane\",$H$5),0)>0,VLOOKUP(\"Propane\",HVACg_Lookup,MATCH(Worksheet!$H$6,BuildingSize,0)+1,FALSE),0)))","v":0},0,0,{"$f":"IF(OR($B$4=\"\",$B$5=\"\",$H$4=\"\",$H$6=\"\",$H$5=\"\",A107=\"\",F107=\"\",J107=\"\",O107=\"\",P107=\"\")=TRUE,\"\",IF(C107=\"OSW\",IF(J107>=2,1,0),IF(C107=\"OSR\",IF(AND(J107>=2,P107>60)=TRUE,1,0),IF(C107=\"OSRH\",IF(AND(J107>=1,P107>90)=TRUE,1,0),IF(C107=\"OHLC\",IF(AND(N107=\"Y\",P107>60)=TRUE,1,0),IF(C107=\"DDC\",IF(AND(J107>=4,N107=\"Y\",P107>120)=TRUE,1,0),0))))))","v":""},{"$f":"IF(OR($B$4=\"\",$B$5=\"\",$H$4=\"\",$H$6=\"\",$H$5=\"\",A107=\"\",F107=\"\",K107=\"\",O107=\"\",P107=\"\")=TRUE,\"\",IF(C107=\"OSW\",IF(K107>=2,1,0),IF(C107=\"OSR\",IF(AND(K107>=2,Q107>60)=TRUE,1,0),IF(C107=\"OSRH\",IF(AND(K107>=1,Q107>90)=TRUE,1,0),IF(C107=\"OHLC\",IF(AND(N107=\"Y\",Q107>60)=TRUE,1,0),IF(C107=\"DDC\",IF(AND(K107>=4,N107=\"Y\",Q107>120)=TRUE,1,0),0))))))","v":""}]
[null,null,"",null,null,null,null,null,null,null,null,null,null,null,null,0,0,0,0,"",0,0,0,0,0,{"$f":"IF($H$4=\"\",0,VLOOKUP($H$4,BuildingType_Lookup,3,FALSE))","v":0},{"$f":"IF($H$4=\"\",0,VLOOKUP($H$4,BuildingType_Lookup,2,FALSE))","v":0},{"$f":"IF(AND(OR(AN108=\"\",AN108=0)=TRUE,OR(AO108=\"\",AO108=0))=TRUE,0,IF(AO108=\"\",(IF(OR(C108=\"DDC\",C108=\"OHLC\")=TRUE,O108,P108)/1000)*Y108*Z108*(1+VLOOKUP($H$4,BuildingType_Lookup,4,FALSE)),IF(AO108=0,0,(IF(OR(C108=\"DDC\",C108=\"OHLC\")=TRUE,O108,Q108)/1000)*Y108*Z108*(1+VLOOKUP($H$4,BuildingType_Lookup,4,FALSE)))))","v":0},{"$f":"IF(AND(OR(AN108=\"\",AN108=0)=TRUE,OR(AO108=\"\",AO108=0))=TRUE,0,IF(AO108=\"\",(IF(OR(C108=\"DDC\",C108=\"OHLC\")=TRUE,O108,P108)/1000)*Y108*AA108*(1+VLOOKUP($H$4,BuildingType_Lookup,MATCH($H$5,HVAC,0)+4,FALSE)),IF(AO108=0,0,(IF(OR(C108=\"DDC\",C108=\"OHLC\")=TRUE,O108,Q108)/1000)*Y108*AA108*(1+VLOOKUP($H$4,BuildingType_Lookup,MATCH($H$5,HVAC,0)+4,FALSE)))))","v":0},0,0,0,0,0,0,{"$f":"W108/1000*Y108*AA108*IF(IFERROR(SEARCH(\"Gas\",$H$5),0)>0,VLOOKUP(\"Gas\",HVACg_Lookup,MATCH($H$6,BuildingSize,0)+1,FALSE),IF(IFERROR(SEARCH(\"Oil\",$H$5),0)>0,VLOOKUP(\"Oil\",HVACg_Lookup,MATCH($H$6,BuildingSize,0)+1,FALSE),IF(IFERROR(SEARCH(\"Propane\",$H$5),0)>0,VLOOKUP(\"Propane\",HVACg_Lookup,MATCH(Worksheet!$H$6,BuildingSize,0)+1,FALSE),0)))","v":0},{"$f":"X108/1000*Y108*AA108*IF(IFERROR(SEARCH(\"Gas\",$H$5),0)>0,VLOOKUP(\"Gas\",HVACg_Lookup,MATCH($H$6,BuildingSize,0)+1,FALSE),IF(IFERROR(SEARCH(\"Oil\",$H$5),0)>0,VLOOKUP(\"Oil\",HVACg_Lookup,MATCH($H$6,BuildingSize,0)+1,FALSE),IF(IFERROR(SEARCH(\"Propane\",$H$5),0)>0,VLOOKUP(\"Propane\",HVACg_Lookup,MATCH(Worksheet!$H$6,BuildingSize,0)+1,FALSE),0)))","v":0},0,0,{"$f":"IF(OR($B$4=\"\",$B$5=\"\",$H$4=\"\",$H$6=\"\",$H$5=\"\",A108=\"\",F108=\"\",J108=\"\",O108=\"\",P108=\"\")=TRUE,\"\",IF(C108=\"OSW\",IF(J108>=2,1,0),IF(C108=\"OSR\",IF(AND(J108>=2,P108>60)=TRUE,1,0),IF(C108=\"OSRH\",IF(AND(J108>=1,P108>90)=TRUE,1,0),IF(C108=\"OHLC\",IF(AND(N108=\"Y\",P108>60)=TRUE,1,0),IF(C108=\"DDC\",IF(AND(J108>=4,N108=\"Y\",P108>120)=TRUE,1,0),0))))))","v":""},{"$f":"IF(OR($B$4=\"\",$B$5=\"\",$H$4=\"\",$H$6=\"\",$H$5=\"\",A108=\"\",F108=\"\",K108=\"\",O108=\"\",P108=\"\")=TRUE,\"\",IF(C108=\"OSW\",IF(K108>=2,1,0),IF(C108=\"OSR\",IF(AND(K108>=2,Q108>60)=TRUE,1,0),IF(C108=\"OSRH\",IF(AND(K108>=1,Q108>90)=TRUE,1,0),IF(C108=\"OHLC\",IF(AND(N108=\"Y\",Q108>60)=TRUE,1,0),IF(C108=\"DDC\",IF(AND(K108>=4,N108=\"Y\",Q108>120)=TRUE,1,0),0))))))","v":""}]
[null,null,"",null,null,null,null,null,null,null,null,null,null,null,null,0,0,0,0,"",0,0,0,0,0,{"$f":"IF($H$4=\"\",0,VLOOKUP($H$4,BuildingType_Lookup,3,FALSE))","v":0},{"$f":"IF($H$4=\"\",0,VLOOKUP($H$4,BuildingType_Lookup,2,FALSE))","v":0},{"$f":"IF(AND(OR(AN109=\"\",AN109=0)=TRUE,OR(AO109=\"\",AO109=0))=TRUE,0,IF(AO109=\"\",(IF(OR(C109=\"DDC\",C109=\"OHLC\")=TRUE,O109,P109)/1000)*Y109*Z109*(1+VLOOKUP($H$4,BuildingType_Lookup,4,FALSE)),IF(AO109=0,0,(IF(OR(C109=\"DDC\",C109=\"OHLC\")=TRUE,O109,Q109)/1000)*Y109*Z109*(1+VLOOKUP($H$4,BuildingType_Lookup,4,FALSE)))))","v":0},{"$f":"IF(AND(OR(AN109=\"\",AN109=0)=TRUE,OR(AO109=\"\",AO109=0))=TRUE,0,IF(AO109=\"\",(IF(OR(C109=\"DDC\",C109=\"OHLC\")=TRUE,O109,P109)/1000)*Y109*AA109*(1+VLOOKUP($H$4,BuildingType_Lookup,MATCH($H$5,HVAC,0)+4,FALSE)),IF(AO109=0,0,(IF(OR(C109=\"DDC\",C109=\"OHLC\")=TRUE,O109,Q109)/1000)*Y109*AA109*(1+VLOOKUP($H$4,BuildingType_Lookup,MATCH($H$5,HVAC,0)+4,FALSE)))))","v":0},0,0,0,0,0,0,{"$f":"W109/1000*Y109*AA109*IF(IFERROR(SEARCH(\"Gas\",$H$5),0)>0,VLOOKUP(\"Gas\",HVACg_Lookup,MATCH($H$6,BuildingSize,0)+1,FALSE),IF(IFERROR(SEARCH(\"Oil\",$H$5),0)>0,VLOOKUP(\"Oil\",HVACg_Lookup,MATCH($H$6,BuildingSize,0)+1,FALSE),IF(IFERROR(SEARCH(\"Propane\",$H$5),0)>0,VLOOKUP(\"Propane\",HVACg_Lookup,MATCH(Worksheet!$H$6,BuildingSize,0)+1,FALSE),0)))","v":0},{"$f":"X109/1000*Y109*AA109*IF(IFERROR(SEARCH(\"Gas\",$H$5),0)>0,VLOOKUP(\"Gas\",HVACg_Lookup,MATCH($H$6,BuildingSize,0)+1,FALSE),IF(IFERROR(SEARCH(\"Oil\",$H$5),0)>0,VLOOKUP(\"Oil\",HVACg_Lookup,MATCH($H$6,BuildingSize,0)+1,FALSE),IF(IFERROR(SEARCH(\"Propane\",$H$5),0)>0,VLOOKUP(\"Propane\",HVACg_Lookup,MATCH(Worksheet!$H$6,BuildingSize,0)+1,FALSE),0)))","v":0},0,0,{"$f":"IF(OR($B$4=\"\",$B$5=\"\",$H$4=\"\",$H$6=\"\",$H$5=\"\",A109=\"\",F109=\"\",J109=\"\",O109=\"\",P109=\"\")=TRUE,\"\",IF(C109=\"OSW\",IF(J109>=2,1,0),IF(C109=\"OSR\",IF(AND(J109>=2,P109>60)=TRUE,1,0),IF(C109=\"OSRH\",IF(AND(J109>=1,P109>90)=TRUE,1,0),IF(C109=\"OHLC\",IF(AND(N109=\"Y\",P109>60)=TRUE,1,0),IF(C109=\"DDC\",IF(AND(J109>=4,N109=\"Y\",P109>120)=TRUE,1,0),0))))))","v":""},{"$f":"IF(OR($B$4=\"\",$B$5=\"\",$H$4=\"\",$H$6=\"\",$H$5=\"\",A109=\"\",F109=\"\",K109=\"\",O109=\"\",P109=\"\")=TRUE,\"\",IF(C109=\"OSW\",IF(K109>=2,1,0),IF(C109=\"OSR\",IF(AND(K109>=2,Q109>60)=TRUE,1,0),IF(C109=\"OSRH\",IF(AND(K109>=1,Q109>90)=TRUE,1,0),IF(C109=\"OHLC\",IF(AND(N109=\"Y\",Q109>60)=TRUE,1,0),IF(C109=\"DDC\",IF(AND(K109>=4,N109=\"Y\",Q109>120)=TRUE,1,0),0))))))","v":""}]
[null,null,"",null,null,null,null,null,null,null,null,null,null,null,null,0,0,0,0,"",0,0,0,0,0,{"$f":"IF($H$4=\"\",0,VLOOKUP($H$4,BuildingType_Lookup,3,FALSE))","v":0},{"$f":"IF($H$4=\"\",0,VLOOKUP($H$4,BuildingType_Lookup,2,FALSE))","v":0},{"$f":"IF(AND(OR(AN110=\"\",AN110=0)=TRUE,OR(AO110=\"\",AO110=0))=TRUE,0,IF(AO110=\"\",(IF(OR(C110=\"DDC\",C110=\"OHLC\")=TRUE,O110,P110)/1000)*Y110*Z110*(1+VLOOKUP($H$4,BuildingType_Lookup,4,FALSE)),IF(AO110=0,0,(IF(OR(C110=\"DDC\",C110=\"OHLC\")=TRUE,O110,Q110)/1000)*Y110*Z110*(1+VLOOKUP($H$4,BuildingType_Lookup,4,FALSE)))))","v":0},{"$f":"IF(AND(OR(AN110=\"\",AN110=0)=TRUE,OR(AO110=\"\",AO110=0))=TRUE,0,IF(AO110=\"\",(IF(OR(C110=\"DDC\",C110=\"OHLC\")=TRUE,O110,P110)/1000)*Y110*AA110*(1+VLOOKUP($H$4,BuildingType_Lookup,MATCH($H$5,HVAC,0)+4,FALSE)),IF(AO110=0,0,(IF(OR(C110=\"DDC\",C110=\"OHLC\")=TRUE,O110,Q110)/1000)*Y110*AA110*(1+VLOOKUP($H$4,BuildingType_Lookup,MATCH($H$5,HVAC,0)+4,FALSE)))))","v":0},0,0,0,0,0,0,{"$f":"W110/1000*Y110*AA110*IF(IFERROR(SEARCH(\"Gas\",$H$5),0)>0,VLOOKUP(\"Gas\",HVACg_Lookup,MATCH($H$6,BuildingSize,0)+1,FALSE),IF(IFERROR(SEARCH(\"Oil\",$H$5),0)>0,VLOOKUP(\"Oil\",HVACg_Lookup,MATCH($H$6,BuildingSize,0)+1,FALSE),IF(IFERROR(SEARCH(\"Propane\",$H$5),0)>0,VLOOKUP(\"Propane\",HVACg_Lookup,MATCH(Worksheet!$H$6,BuildingSize,0)+1,FALSE),0)))","v":0},{"$f":"X110/1000*Y110*AA110*IF(IFERROR(SEARCH(\"Gas\",$H$5),0)>0,VLOOKUP(\"Gas\",HVACg_Lookup,MATCH($H$6,BuildingSize,0)+1,FALSE),IF(IFERROR(SEARCH(\"Oil\",$H$5),0)>0,VLOOKUP(\"Oil\",HVACg_Lookup,MATCH($H$6,BuildingSize,0)+1,FALSE),IF(IFERROR(SEARCH(\"Propane\",$H$5),0)>0,VLOOKUP(\"Propane\",HVACg_Lookup,MATCH(Worksheet!$H$6,BuildingSize,0)+1,FALSE),0)))","v":0},0,0,{"$f":"IF(OR($B$4=\"\",$B$5=\"\",$H$4=\"\",$H$6=\"\",$H$5=\"\",A110=\"\",F110=\"\",J110=\"\",O110=\"\",P110=\"\")=TRUE,\"\",IF(C110=\"OSW\",IF(J110>=2,1,0),IF(C110=\"OSR\",IF(AND(J110>=2,P110>60)=TRUE,1,0),IF(C110=\"OSRH\",IF(AND(J110>=1,P110>90)=TRUE,1,0),IF(C110=\"OHLC\",IF(AND(N110=\"Y\",P110>60)=TRUE,1,0),IF(C110=\"DDC\",IF(AND(J110>=4,N110=\"Y\",P110>120)=TRUE,1,0),0))))))","v":""},{"$f":"IF(OR($B$4=\"\",$B$5=\"\",$H$4=\"\",$H$6=\"\",$H$5=\"\",A110=\"\",F110=\"\",K110=\"\",O110=\"\",P110=\"\")=TRUE,\"\",IF(C110=\"OSW\",IF(K110>=2,1,0),IF(C110=\"OSR\",IF(AND(K110>=2,Q110>60)=TRUE,1,0),IF(C110=\"OSRH\",IF(AND(K110>=1,Q110>90)=TRUE,1,0),IF(C110=\"OHLC\",IF(AND(N110=\"Y\",Q110>60)=TRUE,1,0),IF(C110=\"DDC\",IF(AND(K110>=4,N110=\"Y\",Q110>120)=TRUE,1,0),0))))))","v":""}]
[null,null,"",null,null,null,null,null,null,null,null,null,null,null,null,0,0,0,0,"",0,0,0,0,0,{"$f":"IF($H$4=\"\",0,VLOOKUP($H$4,BuildingType_Lookup,3,FALSE))","v":0},{"$f":"IF($H$4=\"\",0,VLOOKUP($H$4,BuildingType_Lookup,2,FALSE))","v":0},{"$f":"IF(AND(OR(AN111=\"\",AN111=0)=TRUE,OR(AO111=\"\",AO111=0))=TRUE,0,IF(AO111=\"\",(IF(OR(C111=\"DDC\",C111=\"OHLC\")=TRUE,O111,P111)/1000)*Y111*Z111*(1+VLOOKUP($H$4,BuildingType_Lookup,4,FALSE)),IF(AO111=0,0,(IF(OR(C111=\"DDC\",C111=\"OHLC\")=TRUE,O111,Q111)/1000)*Y111*Z111*(1+VLOOKUP($H$4,BuildingType_Lookup,4,FALSE)))))","v":0},{"$f":"IF(AND(OR(AN111=\"\",AN111=0)=TRUE,OR(AO111=\"\",AO111=0))=TRUE,0,IF(AO111=\"\",(IF(OR(C111=\"DDC\",C111=\"OHLC\")=TRUE,O111,P111)/1000)*Y111*AA111*(1+VLOOKUP($H$4,BuildingType_Lookup,MATCH($H$5,HVAC,0)+4,FALSE)),IF(AO111=0,0,(IF(OR(C111=\"DDC\",C111=\"OHLC\")=TRUE,O111,Q111)/1000)*Y111*AA111*(1+VLOOKUP($H$4,BuildingType_Lookup,MATCH($H$5,HVAC,0)+4,FALSE)))))","v":0},0,0,0,0,0,0,{"$f":"W111/1000*Y111*AA111*IF(IFERROR(SEARCH(\"Gas\",$H$5),0)>0,VLOOKUP(\"Gas\",HVACg_Lookup,MATCH($H$6,BuildingSize,0)+1,FALSE),IF(IFERROR(SEARCH(\"Oil\",$H$5),0)>0,VLOOKUP(\"Oil\",HVACg_Lookup,MATCH($H$6,BuildingSize,0)+1,FALSE),IF(IFERROR(SEARCH(\"Propane\",$H$5),0)>0,VLOOKUP(\"Propane\",HVACg_Lookup,MATCH(Worksheet!$H$6,BuildingSize,0)+1,FALSE),0)))","v":0},{"$f":"X111/1000*Y111*AA111*IF(IFERROR(SEARCH(\"Gas\",$H$5),0)>0,VLOOKUP(\"Gas\",HVACg_Lookup,MATCH($H$6,BuildingSize,0)+1,FALSE),IF(IFERROR(SEARCH(\"Oil\",$H$5),0)>0,VLOOKUP(\"Oil\",HVACg_Lookup,MATCH($H$6,BuildingSize,0)+1,FALSE),IF(IFERROR(SEARCH(\"Propane\",$H$5),0)>0,VLOOKUP(\"Propane\",HVACg_Lookup,MATCH(Worksheet!$H$6,BuildingSize,0)+1,FALSE),0)))","v":0},0,0,{"$f":"IF(OR($B$4=\"\",$B$5=\"\",$H$4=\"\",$H$6=\"\",$H$5=\"\",A111=\"\",F111=\"\",J111=\"\",O111=\"\",P111=\"\")=TRUE,\"\",IF(C111=\"OSW\",IF(J111>=2,1,0),IF(C111=\"OSR\",IF(AND(J111>=2,P111>60)=TRUE,1,0),IF(C111=\"OSRH\",IF(AND(J111>=1,P111>90)=TRUE,1,0),IF(C111=\"OHLC\",IF(AND(N111=\"Y\",P111>60)=TRUE,1,0),IF(C111=\"DDC\",IF(AND(J111>=4,N111=\"Y\",P111>120)=TRUE,1,0),0))))))","v":""},{"$f":"IF(OR($B$4=\"\",$B$5=\"\",$H$4=\"\",$H$6=\"\",$H$5=\"\",A111=\"\",F111=\"\",K111=\"\",O111=\"\",P111=\"\")=TRUE,\"\",IF(C111=\"OSW\",IF(K111>=2,1,0),IF(C111=\"OSR\",IF(AND(K111>=2,Q111>60)=TRUE,1,0),IF(C111=\"OSRH\",IF(AND(K111>=1,Q111>90)=TRUE,1,0),IF(C111=\"OHLC\",IF(AND(N111=\"Y\",Q111>60)=TRUE,1,0),IF(C111=\"DDC\",IF(AND(K111>=4,N111=\"Y\",Q111>120)=TRUE,1,0),0))))))","v":""}]
[null,null,"",null,null,null,null,null,null,null,null,null,null,null,null,0,0,0,0,"",0,0,0,0,0,{"$f":"IF($H$4=\"\",0,VLOOKUP($H$4,BuildingType_Lookup,3,FALSE))","v":0},{"$f":"IF($H$4=\"\",0,VLOOKUP($H$4,BuildingType_Lookup,2,FALSE))","v":0},{"$f":"IF(AND(OR(AN112=\"\",AN112=0)=TRUE,OR(AO112=\"\",AO112=0))=TRUE,0,IF(AO112=\"\",(IF(OR(C112=\"DDC\",C112=\"OHLC\")=TRUE,O112,P112)/1000)*Y112*Z112*(1+VLOOKUP($H$4,BuildingType_Lookup,4,FALSE)),IF(AO112=0,0,(IF(OR(C112=\"DDC\",C112=\"OHLC\")=TRUE,O112,Q112)/1000)*Y112*Z112*(1+VLOOKUP($H$4,BuildingType_Lookup,4,FALSE)))))","v":0},{"$f":"IF(AND(OR(AN112=\"\",AN112=0)=TRUE,OR(AO112=\"\",AO112=0))=TRUE,0,IF(AO112=\"\",(IF(OR(C112=\"DDC\",C112=\"OHLC\")=TRUE,O112,P112)/1000)*Y112*AA112*(1+VLOOKUP($H$4,BuildingType_Lookup,MATCH($H$5,HVAC,0)+4,FALSE)),IF(AO112=0,0,(IF(OR(C112=\"DDC\",C112=\"OHLC\")=TRUE,O112,Q112)/1000)*Y112*AA112*(1+VLOOKUP($H$4,BuildingType_Lookup,MATCH($H$5,HVAC,0)+4,FALSE)))))","v":0},0,0,0,0,0,0,{"$f":"W112/1000*Y112*AA112*IF(IFERROR(SEARCH(\"Gas\",$H$5),0)>0,VLOOKUP(\"Gas\",HVACg_Lookup,MATCH($H$6,BuildingSize,0)+1,FALSE),IF(IFERROR(SEARCH(\"Oil\",$H$5),0)>0,VLOOKUP(\"Oil\",HVACg_Lookup,MATCH($H$6,BuildingSize,0)+1,FALSE),IF(IFERROR(SEARCH(\"Propane\",$H$5),0)>0,VLOOKUP(\"Propane\",HVACg_Lookup,MATCH(Worksheet!$H$6,BuildingSize,0)+1,FALSE),0)))","v":0},{"$f":"X112/1000*Y112*AA112*IF(IFERROR(SEARCH(\"Gas\",$H$5),0)>0,VLOOKUP(\"Gas\",HVACg_Lookup,MATCH($H$6,BuildingSize,0)+1,FALSE),IF(IFERROR(SEARCH(\"Oil\",$H$5),0)>0,VLOOKUP(\"Oil\",HVACg_Lookup,MATCH($H$6,BuildingSize,0)+1,FALSE),IF(IFERROR(SEARCH(\"Propane\",$H$5),0)>0,VLOOKUP(\"Propane\",HVACg_Lookup,MATCH(Worksheet!$H$6,BuildingSize,0)+1,FALSE),0)))","v":0},0,0,{"$f":"IF(OR($B$4=\"\",$B$5=\"\",$H$4=\"\",$H$6=\"\",$H$5=\"\",A112=\"\",F112=\"\",J112=\"\",O112=\"\",P112=\"\")=TRUE,\"\",IF(C112=\"OSW\",IF(J112>=2,1,0),IF(C112=\"OSR\",IF(AND(J112>=2,P112>60)=TRUE,1,0),IF(C112=\"OSRH\",IF(AND(J112>=1,P112>90)=TRUE,1,0),IF(C112=\"OHLC\",IF(AND(N112=\"Y\",P112>60)=TRUE,1,0),IF(C112=\"DDC\",IF(AND(J112>=4,N112=\"Y\",P112>120)=TRUE,1,0),0))))))","v":""},{"$f":"IF(OR($B$4=\"\",$B$5=\"\",$H$4=\"\",$H$6=\"\",$H$5=\"\",A112=\"\",F112=\"\",K112=\"\",O112=\"\",P112=\"\")=TRUE,\"\",IF(C112=\"OSW\",IF(K112>=2,1,0),IF(C112=\"OSR\",IF(AND(K112>=2,Q112>60)=TRUE,1,0),IF(C112=\"OSRH\",IF(AND(K112>=1,Q112>90)=TRUE,1,0),IF(C112=\"OHLC\",IF(AND(N112=\"Y\",Q112>60)=TRUE,1,0),IF(C112=\"DDC\",IF(AND(K112>=4,N112=\"Y\",Q112>120)=TRUE,1,0),0))))))","v":""}]
[null,null,"",null,null,null,null,null,null,null,null,null,null,null,null,0,0,0,0,"",0,0,0,0,0,{"$f":"IF($H$4=\"\",0,VLOOKUP($H$4,BuildingType_Lookup,3,FALSE))","v":0},{"$f":"IF($H$4=\"\",0,VLOOKUP($H$4,BuildingType_Lookup,2,FALSE))","v":0},{"$f":"IF(AND(OR(AN113=\"\",AN113=0)=TRUE,OR(AO113=\"\",AO113=0))=TRUE,0,IF(AO113=\"\",(IF(OR(C113=\"DDC\",C113=\"OHLC\")=TRUE,O113,P113)/1000)*Y113*Z113*(1+VLOOKUP($H$4,BuildingType_Lookup,4,FALSE)),IF(AO113=0,0,(IF(OR(C113=\"DDC\",C113=\"OHLC\")=TRUE,O113,Q113)/1000)*Y113*Z113*(1+VLOOKUP($H$4,BuildingType_Lookup,4,FALSE)))))","v":0},{"$f":"IF(AND(OR(AN113=\"\",AN113=0)=TRUE,OR(AO113=\"\",AO113=0))=TRUE,0,IF(AO113=\"\",(IF(OR(C113=\"DDC\",C113=\"OHLC\")=TRUE,O113,P113)/1000)*Y113*AA113*(1+VLOOKUP($H$4,BuildingType_Lookup,MATCH($H$5,HVAC,0)+4,FALSE)),IF(AO113=0,0,(IF(OR(C113=\"DDC\",C113=\"OHLC\")=TRUE,O113,Q113)/1000)*Y113*AA113*(1+VLOOKUP($H$4,BuildingType_Lookup,MATCH($H$5,HVAC,0)+4,FALSE)))))","v":0},0,0,0,0,0,0,{"$f":"W113/1000*Y113*AA113*IF(IFERROR(SEARCH(\"Gas\",$H$5),0)>0,VLOOKUP(\"Gas\",HVACg_Lookup,MATCH($H$6,BuildingSize,0)+1,FALSE),IF(IFERROR(SEARCH(\"Oil\",$H$5),0)>0,VLOOKUP(\"Oil\",HVACg_Lookup,MATCH($H$6,BuildingSize,0)+1,FALSE),IF(IFERROR(SEARCH(\"Propane\",$H$5),0)>0,VLOOKUP(\"Propane\",HVACg_Lookup,MATCH(Worksheet!$H$6,BuildingSize,0)+1,FALSE),0)))","v":0},{"$f":"X113/1000*Y113*AA113*IF(IFERROR(SEARCH(\"Gas\",$H$5),0)>0,VLOOKUP(\"Gas\",HVACg_Lookup,MATCH($H$6,BuildingSize,0)+1,FALSE),IF(IFERROR(SEARCH(\"Oil\",$H$5),0)>0,VLOOKUP(\"Oil\",HVACg_Lookup,MATCH($H$6,BuildingSize,0)+1,FALSE),IF(IFERROR(SEARCH(\"Propane\",$H$5),0)>0,VLOOKUP(\"Propane\",HVACg_Lookup,MATCH(Worksheet!$H$6,BuildingSize,0)+1,FALSE),0)))","v":0},0,0,{"$f":"IF(OR($B$4=\"\",$B$5=\"\",$H$4=\"\",$H$6=\"\",$H$5=\"\",A113=\"\",F113=\"\",J113=\"\",O113=\"\",P113=\"\")=TRUE,\"\",IF(C113=\"OSW\",IF(J113>=2,1,0),IF(C113=\"OSR\",IF(AND(J113>=2,P113>60)=TRUE,1,0),IF(C113=\"OSRH\",IF(AND(J113>=1,P113>90)=TRUE,1,0),IF(C113=\"OHLC\",IF(AND(N113=\"Y\",P113>60)=TRUE,1,0),IF(C113=\"DDC\",IF(AND(J113>=4,N113=\"Y\",P113>120)=TRUE,1,0),0))))))","v":""},{"$f":"IF(OR($B$4=\"\",$B$5=\"\",$H$4=\"\",$H$6=\"\",$H$5=\"\",A113=\"\",F113=\"\",K113=\"\",O113=\"\",P113=\"\")=TRUE,\"\",IF(C113=\"OSW\",IF(K113>=2,1,0),IF(C113=\"OSR\",IF(AND(K113>=2,Q113>60)=TRUE,1,0),IF(C113=\"OSRH\",IF(AND(K113>=1,Q113>90)=TRUE,1,0),IF(C113=\"OHLC\",IF(AND(N113=\"Y\",Q113>60)=TRUE,1,0),IF(C113=\"DDC\",IF(AND(K113>=4,N113=\"Y\",Q113>120)=TRUE,1,0),0))))))","v":""}]
[null,null,"",null,null,null,null,null,null,null,null,null,null,null,null,0,0,0,0,"",0,0,0,0,0,{"$f":"IF($H$4=\"\",0,VLOOKUP($H$4,BuildingType_Lookup,3,FALSE))","v":0},{"$f":"IF($H$4=\"\",0,VLOOKUP($H$4,BuildingType_Lookup,2,FALSE))","v":0},{"$f":"IF(AND(OR(AN114=\"\",AN114=0)=TRUE,OR(AO114=\"\",AO114=0))=TRUE,0,IF(AO114=\"\",(IF(OR(C114=\"DDC\",C114=\"OHLC\")=TRUE,O114,P114)/1000)*Y114*Z114*(1+VLOOKUP($H$4,BuildingType_Lookup,4,FALSE)),IF(AO114=0,0,(IF(OR(C114=\"DDC\",C114=\"OHLC\")=TRUE,O114,Q114)/1000)*Y114*Z114*(1+VLOOKUP($H$4,BuildingType_Lookup,4,FALSE)))))","v":0},{"$f":"IF(AND(OR(AN114=\"\",AN114=0)=TRUE,OR(AO114=\"\",AO114=0))=TRUE,0,IF(AO114=\"\",(IF(OR(C114=\"DDC\",C114=\"OHLC\")=TRUE,O114,P114)/1000)*Y114*AA114*(1+VLOOKUP($H$4,BuildingType_Lookup,MATCH($H$5,HVAC,0)+4,FALSE)),IF(AO114=0,0,(IF(OR(C114=\"DDC\",C114=\"OHLC\")=TRUE,O114,Q114)/1000)*Y114*AA114*(1+VLOOKUP($H$4,BuildingType_Lookup,MATCH($H$5,HVAC,0)+4,FALSE)))))","v":0},0,0,0,0,0,0,{"$f":"W114/1000*Y114*AA114*IF(IFERROR(SEARCH(\"Gas\",$H$5),0)>0,VLOOKUP(\"Gas\",HVACg_Lookup,MATCH($H$6,BuildingSize,0)+1,FALSE),IF(IFERROR(SEARCH(\"Oil\",$H$5),0)>0,VLOOKUP(\"Oil\",HVACg_Lookup,MATCH($H$6,BuildingSize,0)+1,FALSE),IF(IFERROR(SEARCH(\"Propane\",$H$5),0)>0,VLOOKUP(\"Propane\",HVACg_Lookup,MATCH(Worksheet!$H$6,BuildingSize,0)+1,FALSE),0)))","v":0},{"$f":"X114/1000*Y114*AA114*IF(IFERROR(SEARCH(\"Gas\",$H$5),0)>0,VLOOKUP(\"Gas\",HVACg_Lookup,MATCH($H$6,BuildingSize,0)+1,FALSE),IF(IFERROR(SEARCH(\"Oil\",$H$5),0)>0,VLOOKUP(\"Oil\",HVACg_Lookup,MATCH($H$6,BuildingSize,0)+1,FALSE),IF(IFERROR(SEARCH(\"Propane\",$H$5),0)>0,VLOOKUP(\"Propane\",HVACg_Lookup,MATCH(Worksheet!$H$6,BuildingSize,0)+1,FALSE),0)))","v":0},0,0,{"$f":"IF(OR($B$4=\"\",$B$5=\"\",$H$4=\"\",$H$6=\"\",$H$5=\"\",A114=\"\",F114=\"\",J114=\"\",O114=\"\",P114=\"\")=TRUE,\"\",IF(C114=\"OSW\",IF(J114>=2,1,0),IF(C114=\"OSR\",IF(AND(J114>=2,P114>60)=TRUE,1,0),IF(C114=\"OSRH\",IF(AND(J114>=1,P114>90)=TRUE,1,0),IF(C114=\"OHLC\",IF(AND(N114=\"Y\",P114>60)=TRUE,1,0),IF(C114=\"DDC\",IF(AND(J114>=4,N114=\"Y\",P114>120)=TRUE,1,0),0))))))","v":""},{"$f":"IF(OR($B$4=\"\",$B$5=\"\",$H$4=\"\",$H$6=\"\",$H$5=\"\",A114=\"\",F114=\"\",K114=\"\",O114=\"\",P114=\"\")=TRUE,\"\",IF(C114=\"OSW\",IF(K114>=2,1,0),IF(C114=\"OSR\",IF(AND(K114>=2,Q114>60)=TRUE,1,0),IF(C114=\"OSRH\",IF(AND(K114>=1,Q114>90)=TRUE,1,0),IF(C114=\"OHLC\",IF(AND(N114=\"Y\",Q114>60)=TRUE,1,0),IF(C114=\"DDC\",IF(AND(K114>=4,N114=\"Y\",Q114>120)=TRUE,1,0),0))))))","v":""}]
[null,null,"",null,null,null,null,null,null,null,null,null,null,null,null,0,0,0,0,"",0,0,0,0,0,{"$f":"IF($H$4=\"\",0,VLOOKUP($H$4,BuildingType_Lookup,3,FALSE))","v":0},{"$f":"IF($H$4=\"\",0,VLOOKUP($H$4,BuildingType_Lookup,2,FALSE))","v":0},{"$f":"IF(AND(OR(AN115=\"\",AN115=0)=TRUE,OR(AO115=\"\",AO115=0))=TRUE,0,IF(AO115=\"\",(IF(OR(C115=\"DDC\",C115=\"OHLC\")=TRUE,O115,P115)/1000)*Y115*Z115*(1+VLOOKUP($H$4,BuildingType_Lookup,4,FALSE)),IF(AO115=0,0,(IF(OR(C115=\"DDC\",C115=\"OHLC\")=TRUE,O115,Q115)/1000)*Y115*Z115*(1+VLOOKUP($H$4,BuildingType_Lookup,4,FALSE)))))","v":0},{"$f":"IF(AND(OR(AN115=\"\",AN115=0)=TRUE,OR(AO115=\"\",AO115=0))=TRUE,0,IF(AO115=\"\",(IF(OR(C115=\"DDC\",C115=\"OHLC\")=TRUE,O115,P115)/1000)*Y115*AA115*(1+VLOOKUP($H$4,BuildingType_Lookup,MATCH($H$5,HVAC,0)+4,FALSE)),IF(AO115=0,0,(IF(OR(C115=\"DDC\",C115=\"OHLC\")=TRUE,O115,Q115)/1000)*Y115*AA115*(1+VLOOKUP($H$4,BuildingType_Lookup,MATCH($H$5,HVAC,0)+4,FALSE)))))","v":0},0,0,0,0,0,0,{"$f":"W115/1000*Y115*AA115*IF(IFERROR(SEARCH(\"Gas\",$H$5),0)>0,VLOOKUP(\"Gas\",HVACg_Lookup,MATCH($H$6,BuildingSize,0)+1,FALSE),IF(IFERROR(SEARCH(\"Oil\",$H$5),0)>0,VLOOKUP(\"Oil\",HVACg_Lookup,MATCH($H$6,BuildingSize,0)+1,FALSE),IF(IFERROR(SEARCH(\"Propane\",$H$5),0)>0,VLOOKUP(\"Propane\",HVACg_Lookup,MATCH(Worksheet!$H$6,BuildingSize,0)+1,FALSE),0)))","v":0},{"$f":"X115/1000*Y115*AA115*IF(IFERROR(SEARCH(\"Gas\",$H$5),0)>0,VLOOKUP(\"Gas\",HVACg_Lookup,MATCH($H$6,BuildingSize,0)+1,FALSE),IF(IFERROR(SEARCH(\"Oil\",$H$5),0)>0,VLOOKUP(\"Oil\",HVACg_Lookup,MATCH($H$6,BuildingSize,0)+1,FALSE),IF(IFERROR(SEARCH(\"Propane\",$H$5),0)>0,VLOOKUP(\"Propane\",HVACg_Lookup,MATCH(Worksheet!$H$6,BuildingSize,0)+1,FALSE),0)))","v":0},0,0,{"$f":"IF(OR($B$4=\"\",$B$5=\"\",$H$4=\"\",$H$6=\"\",$H$5=\"\",A115=\"\",F115=\"\",J115=\"\",O115=\"\",P115=\"\")=TRUE,\"\",IF(C115=\"OSW\",IF(J115>=2,1,0),IF(C115=\"OSR\",IF(AND(J115>=2,P115>60)=TRUE,1,0),IF(C115=\"OSRH\",IF(AND(J115>=1,P115>90)=TRUE,1,0),IF(C115=\"OHLC\",IF(AND(N115=\"Y\",P115>60)=TRUE,1,0),IF(C115=\"DDC\",IF(AND(J115>=4,N115=\"Y\",P115>120)=TRUE,1,0),0))))))","v":""},{"$f":"IF(OR($B$4=\"\",$B$5=\"\",$H$4=\"\",$H$6=\"\",$H$5=\"\",A115=\"\",F115=\"\",K115=\"\",O115=\"\",P115=\"\")=TRUE,\"\",IF(C115=\"OSW\",IF(K115>=2,1,0),IF(C115=\"OSR\",IF(AND(K115>=2,Q115>60)=TRUE,1,0),IF(C115=\"OSRH\",IF(AND(K115>=1,Q115>90)=TRUE,1,0),IF(C115=\"OHLC\",IF(AND(N115=\"Y\",Q115>60)=TRUE,1,0),IF(C115=\"DDC\",IF(AND(K115>=4,N115=\"Y\",Q115>120)=TRUE,1,0),0))))))","v":""}]
[null,null,"",null,null,null,null,null,null,null,null,null,null,null,null,0,0,0,0,"",0,0,0,0,0,{"$f":"IF($H$4=\"\",0,VLOOKUP($H$4,BuildingType_Lookup,3,FALSE))","v":0},{"$f":"IF($H$4=\"\",0,VLOOKUP($H$4,BuildingType_Lookup,2,FALSE))","v":0},{"$f":"IF(AND(OR(AN116=\"\",AN116=0)=TRUE,OR(AO116=\"\",AO116=0))=TRUE,0,IF(AO116=\"\",(IF(OR(C116=\"DDC\",C116=\"OHLC\")=TRUE,O116,P116)/1000)*Y116*Z116*(1+VLOOKUP($H$4,BuildingType_Lookup,4,FALSE)),IF(AO116=0,0,(IF(OR(C116=\"DDC\",C116=\"OHLC\")=TRUE,O116,Q116)/1000)*Y116*Z116*(1+VLOOKUP($H$4,BuildingType_Lookup,4,FALSE)))))","v":0},{"$f":"IF(AND(OR(AN116=\"\",AN116=0)=TRUE,OR(AO116=\"\",AO116=0))=TRUE,0,IF(AO116=\"\",(IF(OR(C116=\"DDC\",C116=\"OHLC\")=TRUE,O116,P116)/1000)*Y116*AA116*(1+VLOOKUP($H$4,BuildingType_Lookup,MATCH($H$5,HVAC,0)+4,FALSE)),IF(AO116=0,0,(IF(OR(C116=\"DDC\",C116=\"OHLC\")=TRUE,O116,Q116)/1000)*Y116*AA116*(1+VLOOKUP($H$4,BuildingType_Lookup,MATCH($H$5,HVAC,0)+4,FALSE)))))","v":0},0,0,0,0,0,0,{"$f":"W116/1000*Y116*AA116*IF(IFERROR(SEARCH(\"Gas\",$H$5),0)>0,VLOOKUP(\"Gas\",HVACg_Lookup,MATCH($H$6,BuildingSize,0)+1,FALSE),IF(IFERROR(SEARCH(\"Oil\",$H$5),0)>0,VLOOKUP(\"Oil\",HVACg_Lookup,MATCH($H$6,BuildingSize,0)+1,FALSE),IF(IFERROR(SEARCH(\"Propane\",$H$5),0)>0,VLOOKUP(\"Propane\",HVACg_Lookup,MATCH(Worksheet!$H$6,BuildingSize,0)+1,FALSE),0)))","v":0},{"$f":"X116/1000*Y116*AA116*IF(IFERROR(SEARCH(\"Gas\",$H$5),0)>0,VLOOKUP(\"Gas\",HVACg_Lookup,MATCH($H$6,BuildingSize,0)+1,FALSE),IF(IFERROR(SEARCH(\"Oil\",$H$5),0)>0,VLOOKUP(\"Oil\",HVACg_Lookup,MATCH($H$6,BuildingSize,0)+1,FALSE),IF(IFERROR(SEARCH(\"Propane\",$H$5),0)>0,VLOOKUP(\"Propane\",HVACg_Lookup,MATCH(Worksheet!$H$6,BuildingSize,0)+1,FALSE),0)))","v":0},0,0,{"$f":"IF(OR($B$4=\"\",$B$5=\"\",$H$4=\"\",$H$6=\"\",$H$5=\"\",A116=\"\",F116=\"\",J116=\"\",O116=\"\",P116=\"\")=TRUE,\"\",IF(C116=\"OSW\",IF(J116>=2,1,0),IF(C116=\"OSR\",IF(AND(J116>=2,P116>60)=TRUE,1,0),IF(C116=\"OSRH\",IF(AND(J116>=1,P116>90)=TRUE,1,0),IF(C116=\"OHLC\",IF(AND(N116=\"Y\",P116>60)=TRUE,1,0),IF(C116=\"DDC\",IF(AND(J116>=4,N116=\"Y\",P116>120)=TRUE,1,0),0))))))","v":""},{"$f":"IF(OR($B$4=\"\",$B$5=\"\",$H$4=\"\",$H$6=\"\",$H$5=\"\",A116=\"\",F116=\"\",K116=\"\",O116=\"\",P116=\"\")=TRUE,\"\",IF(C116=\"OSW\",IF(K116>=2,1,0),IF(C116=\"OSR\",IF(AND(K116>=2,Q116>60)=TRUE,1,0),IF(C116=\"OSRH\",IF(AND(K116>=1,Q116>90)=TRUE,1,0),IF(C116=\"OHLC\",IF(AND(N116=\"Y\",Q116>60)=TRUE,1,0),IF(C116=\"DDC\",IF(AND(K116>=4,N116=\"Y\",Q116>120)=TRUE,1,0),0))))))","v":""}]
[null,null,"",null,null,null,null,null,null,null,null,null,null,null,null,0,0,0,0,"",0,0,0,0,0,{"$f":"IF($H$4=\"\",0,VLOOKUP($H$4,BuildingType_Lookup,3,FALSE))","v":0},{"$f":"IF($H$4=\"\",0,VLOOKUP($H$4,BuildingType_Lookup,2,FALSE))","v":0},{"$f":"IF(AND(OR(AN117=\"\",AN117=0)=TRUE,OR(AO117=\"\",AO117=0))=TRUE,0,IF(AO117=\"\",(IF(OR(C117=\"DDC\",C117=\"OHLC\")=TRUE,O117,P117)/1000)*Y117*Z117*(1+VLOOKUP($H$4,BuildingType_Lookup,4,FALSE)),IF(AO117=0,0,(IF(OR(C117=\"DDC\",C117=\"OHLC\")=TRUE,O117,Q117)/1000)*Y117*Z117*(1+VLOOKUP($H$4,BuildingType_Lookup,4,FALSE)))))","v":0},{"$f":"IF(AND(OR(AN117=\"\",AN117=0)=TRUE,OR(AO117=\"\",AO117=0))=TRUE,0,IF(AO117=\"\",(IF(OR(C117=\"DDC\",C117=\"OHLC\")=TRUE,O117,P117)/1000)*Y117*AA117*(1+VLOOKUP($H$4,BuildingType_Lookup,MATCH($H$5,HVAC,0)+4,FALSE)),IF(AO117=0,0,(IF(OR(C117=\"DDC\",C117=\"OHLC\")=TRUE,O117,Q117)/1000)*Y117*AA117*(1+VLOOKUP($H$4,BuildingType_Lookup,MATCH($H$5,HVAC,0)+4,FALSE)))))","v":0},0,0,0,0,0,0,{"$f":"W117/1000*Y117*AA117*IF(IFERROR(SEARCH(\"Gas\",$H$5),0)>0,VLOOKUP(\"Gas\",HVACg_Lookup,MATCH($H$6,BuildingSize,0)+1,FALSE),IF(IFERROR(SEARCH(\"Oil\",$H$5),0)>0,VLOOKUP(\"Oil\",HVACg_Lookup,MATCH($H$6,BuildingSize,0)+1,FALSE),IF(IFERROR(SEARCH(\"Propane\",$H$5),0)>0,VLOOKUP(\"Propane\",HVACg_Lookup,MATCH(Worksheet!$H$6,BuildingSize,0)+1,FALSE),0)))","v":0},{"$f":"X117/1000*Y117*AA117*IF(IFERROR(SEARCH(\"Gas\",$H$5),0)>0,VLOOKUP(\"Gas\",HVACg_Lookup,MATCH($H$6,BuildingSize,0)+1,FALSE),IF(IFERROR(SEARCH(\"Oil\",$H$5),0)>0,VLOOKUP(\"Oil\",HVACg_Lookup,MATCH($H$6,BuildingSize,0)+1,FALSE),IF(IFERROR(SEARCH(\"Propane\",$H$5),0)>0,VLOOKUP(\"Propane\",HVACg_Lookup,MATCH(Worksheet!$H$6,BuildingSize,0)+1,FALSE),0)))","v":0},0,0,{"$f":"IF(OR($B$4=\"\",$B$5=\"\",$H$4=\"\",$H$6=\"\",$H$5=\"\",A117=\"\",F117=\"\",J117=\"\",O117=\"\",P117=\"\")=TRUE,\"\",IF(C117=\"OSW\",IF(J117>=2,1,0),IF(C117=\"OSR\",IF(AND(J117>=2,P117>60)=TRUE,1,0),IF(C117=\"OSRH\",IF(AND(J117>=1,P117>90)=TRUE,1,0),IF(C117=\"OHLC\",IF(AND(N117=\"Y\",P117>60)=TRUE,1,0),IF(C117=\"DDC\",IF(AND(J117>=4,N117=\"Y\",P117>120)=TRUE,1,0),0))))))","v":""},{"$f":"IF(OR($B$4=\"\",$B$5=\"\",$H$4=\"\",$H$6=\"\",$H$5=\"\",A117=\"\",F117=\"\",K117=\"\",O117=\"\",P117=\"\")=TRUE,\"\",IF(C117=\"OSW\",IF(K117>=2,1,0),IF(C117=\"OSR\",IF(AND(K117>=2,Q117>60)=TRUE,1,0),IF(C117=\"OSRH\",IF(AND(K117>=1,Q117>90)=TRUE,1,0),IF(C117=\"OHLC\",IF(AND(N117=\"Y\",Q117>60)=TRUE,1,0),IF(C117=\"DDC\",IF(AND(K117>=4,N117=\"Y\",Q117>120)=TRUE,1,0),0))))))","v":""}]
[null,null,"",null,null,null,null,null,null,null,null,null,null,null,null,0,0,0,0,"",0,0,0,0,0,{"$f":"IF($H$4=\"\",0,VLOOKUP($H$4,BuildingType_Lookup,3,FALSE))","v":0},{"$f":"IF($H$4=\"\",0,VLOOKUP($H$4,BuildingType_Lookup,2,FALSE))","v":0},{"$f":"IF(AND(OR(AN118=\"\",AN118=0)=TRUE,OR(AO118=\"\",AO118=0))=TRUE,0,IF(AO118=\"\",(IF(OR(C118=\"DDC\",C118=\"OHLC\")=TRUE,O118,P118)/1000)*Y118*Z118*(1+VLOOKUP($H$4,BuildingType_Lookup,4,FALSE)),IF(AO118=0,0,(IF(OR(C118=\"DDC\",C118=\"OHLC\")=TRUE,O118,Q118)/1000)*Y118*Z118*(1+VLOOKUP($H$4,BuildingType_Lookup,4,FALSE)))))","v":0},{"$f":"IF(AND(OR(AN118=\"\",AN118=0)=TRUE,OR(AO118=\"\",AO118=0))=TRUE,0,IF(AO118=\"\",(IF(OR(C118=\"DDC\",C118=\"OHLC\")=TRUE,O118,P118)/1000)*Y118*AA118*(1+VLOOKUP($H$4,BuildingType_Lookup,MATCH($H$5,HVAC,0)+4,FALSE)),IF(AO118=0,0,(IF(OR(C118=\"DDC\",C118=\"OHLC\")=TRUE,O118,Q118)/1000)*Y118*AA118*(1+VLOOKUP($H$4,BuildingType_Lookup,MATCH($H$5,HVAC,0)+4,FALSE)))))","v":0},0,0,0,0,0,0,{"$f":"W118/1000*Y118*AA118*IF(IFERROR(SEARCH(\"Gas\",$H$5),0)>0,VLOOKUP(\"Gas\",HVACg_Lookup,MATCH($H$6,BuildingSize,0)+1,FALSE),IF(IFERROR(SEARCH(\"Oil\",$H$5),0)>0,VLOOKUP(\"Oil\",HVACg_Lookup,MATCH($H$6,BuildingSize,0)+1,FALSE),IF(IFERROR(SEARCH(\"Propane\",$H$5),0)>0,VLOOKUP(\"Propane\",HVACg_Lookup,MATCH(Worksheet!$H$6,BuildingSize,0)+1,FALSE),0)))","v":0},{"$f":"X118/1000*Y118*AA118*IF(IFERROR(SEARCH(\"Gas\",$H$5),0)>0,VLOOKUP(\"Gas\",HVACg_Lookup,MATCH($H$6,BuildingSize,0)+1,FALSE),IF(IFERROR(SEARCH(\"Oil\",$H$5),0)>0,VLOOKUP(\"Oil\",HVACg_Lookup,MATCH($H$6,BuildingSize,0)+1,FALSE),IF(IFERROR(SEARCH(\"Propane\",$H$5),0)>0,VLOOKUP(\"Propane\",HVACg_Lookup,MATCH(Worksheet!$H$6,BuildingSize,0)+1,FALSE),0)))","v":0},0,0,{"$f":"IF(OR($B$4=\"\",$B$5=\"\",$H$4=\"\",$H$6=\"\",$H$5=\"\",A118=\"\",F118=\"\",J118=\"\",O118=\"\",P118=\"\")=TRUE,\"\",IF(C118=\"OSW\",IF(J118>=2,1,0),IF(C118=\"OSR\",IF(AND(J118>=2,P118>60)=TRUE,1,0),IF(C118=\"OSRH\",IF(AND(J118>=1,P118>90)=TRUE,1,0),IF(C118=\"OHLC\",IF(AND(N118=\"Y\",P118>60)=TRUE,1,0),IF(C118=\"DDC\",IF(AND(J118>=4,N118=\"Y\",P118>120)=TRUE,1,0),0))))))","v":""},{"$f":"IF(OR($B$4=\"\",$B$5=\"\",$H$4=\"\",$H$6=\"\",$H$5=\"\",A118=\"\",F118=\"\",K118=\"\",O118=\"\",P118=\"\")=TRUE,\"\",IF(C118=\"OSW\",IF(K118>=2,1,0),IF(C118=\"OSR\",IF(AND(K118>=2,Q118>60)=TRUE,1,0),IF(C118=\"OSRH\",IF(AND(K118>=1,Q118>90)=TRUE,1,0),IF(C118=\"OHLC\",IF(AND(N118=\"Y\",Q118>60)=TRUE,1,0),IF(C118=\"DDC\",IF(AND(K118>=4,N118=\"Y\",Q118>120)=TRUE,1,0),0))))))","v":""}]
[null,null,"",null,null,null,null,null,null,null,null,null,null,null,null,0,0,0,0,"",0,0,0,0,0,{"$f":"IF($H$4=\"\",0,VLOOKUP($H$4,BuildingType_Lookup,3,FALSE))","v":0},{"$f":"IF($H$4=\"\",0,VLOOKUP($H$4,BuildingType_Lookup,2,FALSE))","v":0},{"$f":"IF(AND(OR(AN119=\"\",AN119=0)=TRUE,OR(AO119=\"\",AO119=0))=TRUE,0,IF(AO119=\"\",(IF(OR(C119=\"DDC\",C119=\"OHLC\")=TRUE,O119,P119)/1000)*Y119*Z119*(1+VLOOKUP($H$4,BuildingType_Lookup,4,FALSE)),IF(AO119=0,0,(IF(OR(C119=\"DDC\",C119=\"OHLC\")=TRUE,O119,Q119)/1000)*Y119*Z119*(1+VLOOKUP($H$4,BuildingType_Lookup,4,FALSE)))))","v":0},{"$f":"IF(AND(OR(AN119=\"\",AN119=0)=TRUE,OR(AO119=\"\",AO119=0))=TRUE,0,IF(AO119=\"\",(IF(OR(C119=\"DDC\",C119=\"OHLC\")=TRUE,O119,P119)/1000)*Y119*AA119*(1+VLOOKUP($H$4,BuildingType_Lookup,MATCH($H$5,HVAC,0)+4,FALSE)),IF(AO119=0,0,(IF(OR(C119=\"DDC\",C119=\"OHLC\")=TRUE,O119,Q119)/1000)*Y119*AA119*(1+VLOOKUP($H$4,BuildingType_Lookup,MATCH($H$5,HVAC,0)+4,FALSE)))))","v":0},0,0,0,0,0,0,{"$f":"W119/1000*Y119*AA119*IF(IFERROR(SEARCH(\"Gas\",$H$5),0)>0,VLOOKUP(\"Gas\",HVACg_Lookup,MATCH($H$6,BuildingSize,0)+1,FALSE),IF(IFERROR(SEARCH(\"Oil\",$H$5),0)>0,VLOOKUP(\"Oil\",HVACg_Lookup,MATCH($H$6,BuildingSize,0)+1,FALSE),IF(IFERROR(SEARCH(\"Propane\",$H$5),0)>0,VLOOKUP(\"Propane\",HVACg_Lookup,MATCH(Worksheet!$H$6,BuildingSize,0)+1,FALSE),0)))","v":0},{"$f":"X119/1000*Y119*AA119*IF(IFERROR(SEARCH(\"Gas\",$H$5),0)>0,VLOOKUP(\"Gas\",HVACg_Lookup,MATCH($H$6,BuildingSize,0)+1,FALSE),IF(IFERROR(SEARCH(\"Oil\",$H$5),0)>0,VLOOKUP(\"Oil\",HVACg_Lookup,MATCH($H$6,BuildingSize,0)+1,FALSE),IF(IFERROR(SEARCH(\"Propane\",$H$5),0)>0,VLOOKUP(\"Propane\",HVACg_Lookup,MATCH(Worksheet!$H$6,BuildingSize,0)+1,FALSE),0)))","v":0},0,0,{"$f":"IF(OR($B$4=\"\",$B$5=\"\",$H$4=\"\",$H$6=\"\",$H$5=\"\",A119=\"\",F119=\"\",J119=\"\",O119=\"\",P119=\"\")=TRUE,\"\",IF(C119=\"OSW\",IF(J119>=2,1,0),IF(C119=\"OSR\",IF(AND(J119>=2,P119>60)=TRUE,1,0),IF(C119=\"OSRH\",IF(AND(J119>=1,P119>90)=TRUE,1,0),IF(C119=\"OHLC\",IF(AND(N119=\"Y\",P119>60)=TRUE,1,0),IF(C119=\"DDC\",IF(AND(J119>=4,N119=\"Y\",P119>120)=TRUE,1,0),0))))))","v":""},{"$f":"IF(OR($B$4=\"\",$B$5=\"\",$H$4=\"\",$H$6=\"\",$H$5=\"\",A119=\"\",F119=\"\",K119=\"\",O119=\"\",P119=\"\")=TRUE,\"\",IF(C119=\"OSW\",IF(K119>=2,1,0),IF(C119=\"OSR\",IF(AND(K119>=2,Q119>60)=TRUE,1,0),IF(C119=\"OSRH\",IF(AND(K119>=1,Q119>90)=TRUE,1,0),IF(C119=\"OHLC\",IF(AND(N119=\"Y\",Q119>60)=TRUE,1,0),IF(C119=\"DDC\",IF(AND(K119>=4,N119=\"Y\",Q119>120)=TRUE,1,0),0))))))","v":""}]
[null,null,"",null,null,null,null,null,null,null,null,null,null,null,null,0,0,0,0,"",0,0,0,0,0,{"$f":"IF($H$4=\"\",0,VLOOKUP($H$4,BuildingType_Lookup,3,FALSE))","v":0},{"$f":"IF($H$4=\"\",0,VLOOKUP($H$4,BuildingType_Lookup,2,FALSE))","v":0},{"$f":"IF(AND(OR(AN120=\"\",AN120=0)=TRUE,OR(AO120=\"\",AO120=0))=TRUE,0,IF(AO120=\"\",(IF(OR(C120=\"DDC\",C120=\"OHLC\")=TRUE,O120,P120)/1000)*Y120*Z120*(1+VLOOKUP($H$4,BuildingType_Lookup,4,FALSE)),IF(AO120=0,0,(IF(OR(C120=\"DDC\",C120=\"OHLC\")=TRUE,O120,Q120)/1000)*Y120*Z120*(1+VLOOKUP($H$4,BuildingType_Lookup,4,FALSE)))))","v":0},{"$f":"IF(AND(OR(AN120=\"\",AN120=0)=TRUE,OR(AO120=\"\",AO120=0))=TRUE,0,IF(AO120=\"\",(IF(OR(C120=\"DDC\",C120=\"OHLC\")=TRUE,O120,P120)/1000)*Y120*AA120*(1+VLOOKUP($H$4,BuildingType_Lookup,MATCH($H$5,HVAC,0)+4,FALSE)),IF(AO120=0,0,(IF(OR(C120=\"DDC\",C120=\"OHLC\")=TRUE,O120,Q120)/1000)*Y120*AA120*(1+VLOOKUP($H$4,BuildingType_Lookup,MATCH($H$5,HVAC,0)+4,FALSE)))))","v":0},0,0,0,0,0,0,{"$f":"W120/1000*Y120*AA120*IF(IFERROR(SEARCH(\"Gas\",$H$5),0)>0,VLOOKUP(\"Gas\",HVACg_Lookup,MATCH($H$6,BuildingSize,0)+1,FALSE),IF(IFERROR(SEARCH(\"Oil\",$H$5),0)>0,VLOOKUP(\"Oil\",HVACg_Lookup,MATCH($H$6,BuildingSize,0)+1,FALSE),IF(IFERROR(SEARCH(\"Propane\",$H$5),0)>0,VLOOKUP(\"Propane\",HVACg_Lookup,MATCH(Worksheet!$H$6,BuildingSize,0)+1,FALSE),0)))","v":0},{"$f":"X120/1000*Y120*AA120*IF(IFERROR(SEARCH(\"Gas\",$H$5),0)>0,VLOOKUP(\"Gas\",HVACg_Lookup,MATCH($H$6,BuildingSize,0)+1,FALSE),IF(IFERROR(SEARCH(\"Oil\",$H$5),0)>0,VLOOKUP(\"Oil\",HVACg_Lookup,MATCH($H$6,BuildingSize,0)+1,FALSE),IF(IFERROR(SEARCH(\"Propane\",$H$5),0)>0,VLOOKUP(\"Propane\",HVACg_Lookup,MATCH(Worksheet!$H$6,BuildingSize,0)+1,FALSE),0)))","v":0},0,0,{"$f":"IF(OR($B$4=\"\",$B$5=\"\",$H$4=\"\",$H$6=\"\",$H$5=\"\",A120=\"\",F120=\"\",J120=\"\",O120=\"\",P120=\"\")=TRUE,\"\",IF(C120=\"OSW\",IF(J120>=2,1,0),IF(C120=\"OSR\",IF(AND(J120>=2,P120>60)=TRUE,1,0),IF(C120=\"OSRH\",IF(AND(J120>=1,P120>90)=TRUE,1,0),IF(C120=\"OHLC\",IF(AND(N120=\"Y\",P120>60)=TRUE,1,0),IF(C120=\"DDC\",IF(AND(J120>=4,N120=\"Y\",P120>120)=TRUE,1,0),0))))))","v":""},{"$f":"IF(OR($B$4=\"\",$B$5=\"\",$H$4=\"\",$H$6=\"\",$H$5=\"\",A120=\"\",F120=\"\",K120=\"\",O120=\"\",P120=\"\")=TRUE,\"\",IF(C120=\"OSW\",IF(K120>=2,1,0),IF(C120=\"OSR\",IF(AND(K120>=2,Q120>60)=TRUE,1,0),IF(C120=\"OSRH\",IF(AND(K120>=1,Q120>90)=TRUE,1,0),IF(C120=\"OHLC\",IF(AND(N120=\"Y\",Q120>60)=TRUE,1,0),IF(C120=\"DDC\",IF(AND(K120>=4,N120=\"Y\",Q120>120)=TRUE,1,0),0))))))","v":""}]
[null,null,"",null,null,null,null,null,null,null,null,null,null,null,null,0,0,0,0,"",0,0,0,0,0,{"$f":"IF($H$4=\"\",0,VLOOKUP($H$4,BuildingType_Lookup,3,FALSE))","v":0},{"$f":"IF($H$4=\"\",0,VLOOKUP($H$4,BuildingType_Lookup,2,FALSE))","v":0},{"$f":"IF(AND(OR(AN121=\"\",AN121=0)=TRUE,OR(AO121=\"\",AO121=0))=TRUE,0,IF(AO121=\"\",(IF(OR(C121=\"DDC\",C121=\"OHLC\")=TRUE,O121,P121)/1000)*Y121*Z121*(1+VLOOKUP($H$4,BuildingType_Lookup,4,FALSE)),IF(AO121=0,0,(IF(OR(C121=\"DDC\",C121=\"OHLC\")=TRUE,O121,Q121)/1000)*Y121*Z121*(1+VLOOKUP($H$4,BuildingType_Lookup,4,FALSE)))))","v":0},{"$f":"IF(AND(OR(AN121=\"\",AN121=0)=TRUE,OR(AO121=\"\",AO121=0))=TRUE,0,IF(AO121=\"\",(IF(OR(C121=\"DDC\",C121=\"OHLC\")=TRUE,O121,P121)/1000)*Y121*AA121*(1+VLOOKUP($H$4,BuildingType_Lookup,MATCH($H$5,HVAC,0)+4,FALSE)),IF(AO121=0,0,(IF(OR(C121=\"DDC\",C121=\"OHLC\")=TRUE,O121,Q121)/1000)*Y121*AA121*(1+VLOOKUP($H$4,BuildingType_Lookup,MATCH($H$5,HVAC,0)+4,FALSE)))))","v":0},0,0,0,0,0,0,{"$f":"W121/1000*Y121*AA121*IF(IFERROR(SEARCH(\"Gas\",$H$5),0)>0,VLOOKUP(\"Gas\",HVACg_Lookup,MATCH($H$6,BuildingSize,0)+1,FALSE),IF(IFERROR(SEARCH(\"Oil\",$H$5),0)>0,VLOOKUP(\"Oil\",HVACg_Lookup,MATCH($H$6,BuildingSize,0)+1,FALSE),IF(IFERROR(SEARCH(\"Propane\",$H$5),0)>0,VLOOKUP(\"Propane\",HVACg_Lookup,MATCH(Worksheet!$H$6,BuildingSize,0)+1,FALSE),0)))","v":0},{"$f":"X121/1000*Y121*AA121*IF(IFERROR(SEARCH(\"Gas\",$H$5),0)>0,VLOOKUP(\"Gas\",HVACg_Lookup,MATCH($H$6,BuildingSize,0)+1,FALSE),IF(IFERROR(SEARCH(\"Oil\",$H$5),0)>0,VLOOKUP(\"Oil\",HVACg_Lookup,MATCH($H$6,BuildingSize,0)+1,FALSE),IF(IFERROR(SEARCH(\"Propane\",$H$5),0)>0,VLOOKUP(\"Propane\",HVACg_Lookup,MATCH(Worksheet!$H$6,BuildingSize,0)+1,FALSE),0)))","v":0},0,0,{"$f":"IF(OR($B$4=\"\",$B$5=\"\",$H$4=\"\",$H$6=\"\",$H$5=\"\",A121=\"\",F121=\"\",J121=\"\",O121=\"\",P121=\"\")=TRUE,\"\",IF(C121=\"OSW\",IF(J121>=2,1,0),IF(C121=\"OSR\",IF(AND(J121>=2,P121>60)=TRUE,1,0),IF(C121=\"OSRH\",IF(AND(J121>=1,P121>90)=TRUE,1,0),IF(C121=\"OHLC\",IF(AND(N121=\"Y\",P121>60)=TRUE,1,0),IF(C121=\"DDC\",IF(AND(J121>=4,N121=\"Y\",P121>120)=TRUE,1,0),0))))))","v":""},{"$f":"IF(OR($B$4=\"\",$B$5=\"\",$H$4=\"\",$H$6=\"\",$H$5=\"\",A121=\"\",F121=\"\",K121=\"\",O121=\"\",P121=\"\")=TRUE,\"\",IF(C121=\"OSW\",IF(K121>=2,1,0),IF(C121=\"OSR\",IF(AND(K121>=2,Q121>60)=TRUE,1,0),IF(C121=\"OSRH\",IF(AND(K121>=1,Q121>90)=TRUE,1,0),IF(C121=\"OHLC\",IF(AND(N121=\"Y\",Q121>60)=TRUE,1,0),IF(C121=\"DDC\",IF(AND(K121>=4,N121=\"Y\",Q121>120)=TRUE,1,0),0))))))","v":""}]
[null,null,"",null,null,null,null,null,null,null,null,null,null,null,null,0,0,0,0,"",0,0,0,0,0,{"$f":"IF($H$4=\"\",0,VLOOKUP($H$4,BuildingType_Lookup,3,FALSE))","v":0},{"$f":"IF($H$4=\"\",0,VLOOKUP($H$4,BuildingType_Lookup,2,FALSE))","v":0},{"$f":"IF(AND(OR(AN122=\"\",AN122=0)=TRUE,OR(AO122=\"\",AO122=0))=TRUE,0,IF(AO122=\"\",(IF(OR(C122=\"DDC\",C122=\"OHLC\")=TRUE,O122,P122)/1000)*Y122*Z122*(1+VLOOKUP($H$4,BuildingType_Lookup,4,FALSE)),IF(AO122=0,0,(IF(OR(C122=\"DDC\",C122=\"OHLC\")=TRUE,O122,Q122)/1000)*Y122*Z122*(1+VLOOKUP($H$4,BuildingType_Lookup,4,FALSE)))))","v":0},{"$f":"IF(AND(OR(AN122=\"\",AN122=0)=TRUE,OR(AO122=\"\",AO122=0))=TRUE,0,IF(AO122=\"\",(IF(OR(C122=\"DDC\",C122=\"OHLC\")=TRUE,O122,P122)/1000)*Y122*AA122*(1+VLOOKUP($H$4,BuildingType_Lookup,MATCH($H$5,HVAC,0)+4,FALSE)),IF(AO122=0,0,(IF(OR(C122=\"DDC\",C122=\"OHLC\")=TRUE,O122,Q122)/1000)*Y122*AA122*(1+VLOOKUP($H$4,BuildingType_Lookup,MATCH($H$5,HVAC,0)+4,FALSE)))))","v":0},0,0,0,0,0,0,{"$f":"W122/1000*Y122*AA122*IF(IFERROR(SEARCH(\"Gas\",$H$5),0)>0,VLOOKUP(\"Gas\",HVACg_Lookup,MATCH($H$6,BuildingSize,0)+1,FALSE),IF(IFERROR(SEARCH(\"Oil\",$H$5),0)>0,VLOOKUP(\"Oil\",HVACg_Lookup,MATCH($H$6,BuildingSize,0)+1,FALSE),IF(IFERROR(SEARCH(\"Propane\",$H$5),0)>0,VLOOKUP(\"Propane\",HVACg_Lookup,MATCH(Worksheet!$H$6,BuildingSize,0)+1,FALSE),0)))","v":0},{"$f":"X122/1000*Y122*AA122*IF(IFERROR(SEARCH(\"Gas\",$H$5),0)>0,VLOOKUP(\"Gas\",HVACg_Lookup,MATCH($H$6,BuildingSize,0)+1,FALSE),IF(IFERROR(SEARCH(\"Oil\",$H$5),0)>0,VLOOKUP(\"Oil\",HVACg_Lookup,MATCH($H$6,BuildingSize,0)+1,FALSE),IF(IFERROR(SEARCH(\"Propane\",$H$5),0)>0,VLOOKUP(\"Propane\",HVACg_Lookup,MATCH(Worksheet!$H$6,BuildingSize,0)+1,FALSE),0)))","v":0},0,0,{"$f":"IF(OR($B$4=\"\",$B$5=\"\",$H$4=\"\",$H$6=\"\",$H$5=\"\",A122=\"\",F122=\"\",J122=\"\",O122=\"\",P122=\"\")=TRUE,\"\",IF(C122=\"OSW\",IF(J122>=2,1,0),IF(C122=\"OSR\",IF(AND(J122>=2,P122>60)=TRUE,1,0),IF(C122=\"OSRH\",IF(AND(J122>=1,P122>90)=TRUE,1,0),IF(C122=\"OHLC\",IF(AND(N122=\"Y\",P122>60)=TRUE,1,0),IF(C122=\"DDC\",IF(AND(J122>=4,N122=\"Y\",P122>120)=TRUE,1,0),0))))))","v":""},{"$f":"IF(OR($B$4=\"\",$B$5=\"\",$H$4=\"\",$H$6=\"\",$H$5=\"\",A122=\"\",F122=\"\",K122=\"\",O122=\"\",P122=\"\")=TRUE,\"\",IF(C122=\"OSW\",IF(K122>=2,1,0),IF(C122=\"OSR\",IF(AND(K122>=2,Q122>60)=TRUE,1,0),IF(C122=\"OSRH\",IF(AND(K122>=1,Q122>90)=TRUE,1,0),IF(C122=\"OHLC\",IF(AND(N122=\"Y\",Q122>60)=TRUE,1,0),IF(C122=\"DDC\",IF(AND(K122>=4,N122=\"Y\",Q122>120)=TRUE,1,0),0))))))","v":""}]
[null,null,"",null,null,null,null,null,null,null,null,null,null,null,null,0,0,0,0,"",0,0,0,0,0,{"$f":"IF($H$4=\"\",0,VLOOKUP($H$4,BuildingType_Lookup,3,FALSE))","v":0},{"$f":"IF($H$4=\"\",0,VLOOKUP($H$4,BuildingType_Lookup,2,FALSE))","v":0},{"$f":"IF(AND(OR(AN123=\"\",AN123=0)=TRUE,OR(AO123=\"\",AO123=0))=TRUE,0,IF(AO123=\"\",(IF(OR(C123=\"DDC\",C123=\"OHLC\")=TRUE,O123,P123)/1000)*Y123*Z123*(1+VLOOKUP($H$4,BuildingType_Lookup,4,FALSE)),IF(AO123=0,0,(IF(OR(C123=\"DDC\",C123=\"OHLC\")=TRUE,O123,Q123)/1000)*Y123*Z123*(1+VLOOKUP($H$4,BuildingType_Lookup,4,FALSE)))))","v":0},{"$f":"IF(AND(OR(AN123=\"\",AN123=0)=TRUE,OR(AO123=\"\",AO123=0))=TRUE,0,IF(AO123=\"\",(IF(OR(C123=\"DDC\",C123=\"OHLC\")=TRUE,O123,P123)/1000)*Y123*AA123*(1+VLOOKUP($H$4,BuildingType_Lookup,MATCH($H$5,HVAC,0)+4,FALSE)),IF(AO123=0,0,(IF(OR(C123=\"DDC\",C123=\"OHLC\")=TRUE,O123,Q123)/1000)*Y123*AA123*(1+VLOOKUP($H$4,BuildingType_Lookup,MATCH($H$5,HVAC,0)+4,FALSE)))))","v":0},0,0,0,0,0,0,{"$f":"W123/1000*Y123*AA123*IF(IFERROR(SEARCH(\"Gas\",$H$5),0)>0,VLOOKUP(\"Gas\",HVACg_Lookup,MATCH($H$6,BuildingSize,0)+1,FALSE),IF(IFERROR(SEARCH(\"Oil\",$H$5),0)>0,VLOOKUP(\"Oil\",HVACg_Lookup,MATCH($H$6,BuildingSize,0)+1,FALSE),IF(IFERROR(SEARCH(\"Propane\",$H$5),0)>0,VLOOKUP(\"Propane\",HVACg_Lookup,MATCH(Worksheet!$H$6,BuildingSize,0)+1,FALSE),0)))","v":0},{"$f":"X123/1000*Y123*AA123*IF(IFERROR(SEARCH(\"Gas\",$H$5),0)>0,VLOOKUP(\"Gas\",HVACg_Lookup,MATCH($H$6,BuildingSize,0)+1,FALSE),IF(IFERROR(SEARCH(\"Oil\",$H$5),0)>0,VLOOKUP(\"Oil\",HVACg_Lookup,MATCH($H$6,BuildingSize,0)+1,FALSE),IF(IFERROR(SEARCH(\"Propane\",$H$5),0)>0,VLOOKUP(\"Propane\",HVACg_Lookup,MATCH(Worksheet!$H$6,BuildingSize,0)+1,FALSE),0)))","v":0},0,0,{"$f":"IF(OR($B$4=\"\",$B$5=\"\",$H$4=\"\",$H$6=\"\",$H$5=\"\",A123=\"\",F123=\"\",J123=\"\",O123=\"\",P123=\"\")=TRUE,\"\",IF(C123=\"OSW\",IF(J123>=2,1,0),IF(C123=\"OSR\",IF(AND(J123>=2,P123>60)=TRUE,1,0),IF(C123=\"OSRH\",IF(AND(J123>=1,P123>90)=TRUE,1,0),IF(C123=\"OHLC\",IF(AND(N123=\"Y\",P123>60)=TRUE,1,0),IF(C123=\"DDC\",IF(AND(J123>=4,N123=\"Y\",P123>120)=TRUE,1,0),0))))))","v":""},{"$f":"IF(OR($B$4=\"\",$B$5=\"\",$H$4=\"\",$H$6=\"\",$H$5=\"\",A123=\"\",F123=\"\",K123=\"\",O123=\"\",P123=\"\")=TRUE,\"\",IF(C123=\"OSW\",IF(K123>=2,1,0),IF(C123=\"OSR\",IF(AND(K123>=2,Q123>60)=TRUE,1,0),IF(C123=\"OSRH\",IF(AND(K123>=1,Q123>90)=TRUE,1,0),IF(C123=\"OHLC\",IF(AND(N123=\"Y\",Q123>60)=TRUE,1,0),IF(C123=\"DDC\",IF(AND(K123>=4,N123=\"Y\",Q123>120)=TRUE,1,0),0))))))","v":""}]
[null,null,"",null,null,null,null,null,null,null,null,null,null,null,null,0,0,0,0,"",0,0,0,0,0,{"$f":"IF($H$4=\"\",0,VLOOKUP($H$4,BuildingType_Lookup,3,FALSE))","v":0},{"$f":"IF($H$4=\"\",0,VLOOKUP($H$4,BuildingType_Lookup,2,FALSE))","v":0},{"$f":"IF(AND(OR(AN124=\"\",AN124=0)=TRUE,OR(AO124=\"\",AO124=0))=TRUE,0,IF(AO124=\"\",(IF(OR(C124=\"DDC\",C124=\"OHLC\")=TRUE,O124,P124)/1000)*Y124*Z124*(1+VLOOKUP($H$4,BuildingType_Lookup,4,FALSE)),IF(AO124=0,0,(IF(OR(C124=\"DDC\",C124=\"OHLC\")=TRUE,O124,Q124)/1000)*Y124*Z124*(1+VLOOKUP($H$4,BuildingType_Lookup,4,FALSE)))))","v":0},{"$f":"IF(AND(OR(AN124=\"\",AN124=0)=TRUE,OR(AO124=\"\",AO124=0))=TRUE,0,IF(AO124=\"\",(IF(OR(C124=\"DDC\",C124=\"OHLC\")=TRUE,O124,P124)/1000)*Y124*AA124*(1+VLOOKUP($H$4,BuildingType_Lookup,MATCH($H$5,HVAC,0)+4,FALSE)),IF(AO124=0,0,(IF(OR(C124=\"DDC\",C124=\"OHLC\")=TRUE,O124,Q124)/1000)*Y124*AA124*(1+VLOOKUP($H$4,BuildingType_Lookup,MATCH($H$5,HVAC,0)+4,FALSE)))))","v":0},0,0,0,0,0,0,{"$f":"W124/1000*Y124*AA124*IF(IFERROR(SEARCH(\"Gas\",$H$5),0)>0,VLOOKUP(\"Gas\",HVACg_Lookup,MATCH($H$6,BuildingSize,0)+1,FALSE),IF(IFERROR(SEARCH(\"Oil\",$H$5),0)>0,VLOOKUP(\"Oil\",HVACg_Lookup,MATCH($H$6,BuildingSize,0)+1,FALSE),IF(IFERROR(SEARCH(\"Propane\",$H$5),0)>0,VLOOKUP(\"Propane\",HVACg_Lookup,MATCH(Worksheet!$H$6,BuildingSize,0)+1,FALSE),0)))","v":0},{"$f":"X124/1000*Y124*AA124*IF(IFERROR(SEARCH(\"Gas\",$H$5),0)>0,VLOOKUP(\"Gas\",HVACg_Lookup,MATCH($H$6,BuildingSize,0)+1,FALSE),IF(IFERROR(SEARCH(\"Oil\",$H$5),0)>0,VLOOKUP(\"Oil\",HVACg_Lookup,MATCH($H$6,BuildingSize,0)+1,FALSE),IF(IFERROR(SEARCH(\"Propane\",$H$5),0)>0,VLOOKUP(\"Propane\",HVACg_Lookup,MATCH(Worksheet!$H$6,BuildingSize,0)+1,FALSE),0)))","v":0},0,0,{"$f":"IF(OR($B$4=\"\",$B$5=\"\",$H$4=\"\",$H$6=\"\",$H$5=\"\",A124=\"\",F124=\"\",J124=\"\",O124=\"\",P124=\"\")=TRUE,\"\",IF(C124=\"OSW\",IF(J124>=2,1,0),IF(C124=\"OSR\",IF(AND(J124>=2,P124>60)=TRUE,1,0),IF(C124=\"OSRH\",IF(AND(J124>=1,P124>90)=TRUE,1,0),IF(C124=\"OHLC\",IF(AND(N124=\"Y\",P124>60)=TRUE,1,0),IF(C124=\"DDC\",IF(AND(J124>=4,N124=\"Y\",P124>120)=TRUE,1,0),0))))))","v":""},{"$f":"IF(OR($B$4=\"\",$B$5=\"\",$H$4=\"\",$H$6=\"\",$H$5=\"\",A124=\"\",F124=\"\",K124=\"\",O124=\"\",P124=\"\")=TRUE,\"\",IF(C124=\"OSW\",IF(K124>=2,1,0),IF(C124=\"OSR\",IF(AND(K124>=2,Q124>60)=TRUE,1,0),IF(C124=\"OSRH\",IF(AND(K124>=1,Q124>90)=TRUE,1,0),IF(C124=\"OHLC\",IF(AND(N124=\"Y\",Q124>60)=TRUE,1,0),IF(C124=\"DDC\",IF(AND(K124>=4,N124=\"Y\",Q124>120)=TRUE,1,0),0))))))","v":""}]
[null,null,"",null,null,null,null,null,null,null,null,null,null,null,null,0,0,0,0,"",0,0,0,0,0,{"$f":"IF($H$4=\"\",0,VLOOKUP($H$4,BuildingType_Lookup,3,FALSE))","v":0},{"$f":"IF($H$4=\"\",0,VLOOKUP($H$4,BuildingType_Lookup,2,FALSE))","v":0},{"$f":"IF(AND(OR(AN125=\"\",AN125=0)=TRUE,OR(AO125=\"\",AO125=0))=TRUE,0,IF(AO125=\"\",(IF(OR(C125=\"DDC\",C125=\"OHLC\")=TRUE,O125,P125)/1000)*Y125*Z125*(1+VLOOKUP($H$4,BuildingType_Lookup,4,FALSE)),IF(AO125=0,0,(IF(OR(C125=\"DDC\",C125=\"OHLC\")=TRUE,O125,Q125)/1000)*Y125*Z125*(1+VLOOKUP($H$4,BuildingType_Lookup,4,FALSE)))))","v":0},{"$f":"IF(AND(OR(AN125=\"\",AN125=0)=TRUE,OR(AO125=\"\",AO125=0))=TRUE,0,IF(AO125=\"\",(IF(OR(C125=\"DDC\",C125=\"OHLC\")=TRUE,O125,P125)/1000)*Y125*AA125*(1+VLOOKUP($H$4,BuildingType_Lookup,MATCH($H$5,HVAC,0)+4,FALSE)),IF(AO125=0,0,(IF(OR(C125=\"DDC\",C125=\"OHLC\")=TRUE,O125,Q125)/1000)*Y125*AA125*(1+VLOOKUP($H$4,BuildingType_Lookup,MATCH($H$5,HVAC,0)+4,FALSE)))))","v":0},0,0,0,0,0,0,{"$f":"W125/1000*Y125*AA125*IF(IFERROR(SEARCH(\"Gas\",$H$5),0)>0,VLOOKUP(\"Gas\",HVACg_Lookup,MATCH($H$6,BuildingSize,0)+1,FALSE),IF(IFERROR(SEARCH(\"Oil\",$H$5),0)>0,VLOOKUP(\"Oil\",HVACg_Lookup,MATCH($H$6,BuildingSize,0)+1,FALSE),IF(IFERROR(SEARCH(\"Propane\",$H$5),0)>0,VLOOKUP(\"Propane\",HVACg_Lookup,MATCH(Worksheet!$H$6,BuildingSize,0)+1,FALSE),0)))","v":0},{"$f":"X125/1000*Y125*AA125*IF(IFERROR(SEARCH(\"Gas\",$H$5),0)>0,VLOOKUP(\"Gas\",HVACg_Lookup,MATCH($H$6,BuildingSize,0)+1,FALSE),IF(IFERROR(SEARCH(\"Oil\",$H$5),0)>0,VLOOKUP(\"Oil\",HVACg_Lookup,MATCH($H$6,BuildingSize,0)+1,FALSE),IF(IFERROR(SEARCH(\"Propane\",$H$5),0)>0,VLOOKUP(\"Propane\",HVACg_Lookup,MATCH(Worksheet!$H$6,BuildingSize,0)+1,FALSE),0)))","v":0},0,0,{"$f":"IF(OR($B$4=\"\",$B$5=\"\",$H$4=\"\",$H$6=\"\",$H$5=\"\",A125=\"\",F125=\"\",J125=\"\",O125=\"\",P125=\"\")=TRUE,\"\",IF(C125=\"OSW\",IF(J125>=2,1,0),IF(C125=\"OSR\",IF(AND(J125>=2,P125>60)=TRUE,1,0),IF(C125=\"OSRH\",IF(AND(J125>=1,P125>90)=TRUE,1,0),IF(C125=\"OHLC\",IF(AND(N125=\"Y\",P125>60)=TRUE,1,0),IF(C125=\"DDC\",IF(AND(J125>=4,N125=\"Y\",P125>120)=TRUE,1,0),0))))))","v":""},{"$f":"IF(OR($B$4=\"\",$B$5=\"\",$H$4=\"\",$H$6=\"\",$H$5=\"\",A125=\"\",F125=\"\",K125=\"\",O125=\"\",P125=\"\")=TRUE,\"\",IF(C125=\"OSW\",IF(K125>=2,1,0),IF(C125=\"OSR\",IF(AND(K125>=2,Q125>60)=TRUE,1,0),IF(C125=\"OSRH\",IF(AND(K125>=1,Q125>90)=TRUE,1,0),IF(C125=\"OHLC\",IF(AND(N125=\"Y\",Q125>60)=TRUE,1,0),IF(C125=\"DDC\",IF(AND(K125>=4,N125=\"Y\",Q125>120)=TRUE,1,0),0))))))","v":""}]
[null,null,"",null,null,null,null,null,null,null,null,null,null,null,null,0,0,0,0,"",0,0,0,0,0,{"$f":"IF($H$4=\"\",0,VLOOKUP($H$4,BuildingType_Lookup,3,FALSE))","v":0},{"$f":"IF($H$4=\"\",0,VLOOKUP($H$4,BuildingType_Lookup,2,FALSE))","v":0},{"$f":"IF(AND(OR(AN126=\"\",AN126=0)=TRUE,OR(AO126=\"\",AO126=0))=TRUE,0,IF(AO126=\"\",(IF(OR(C126=\"DDC\",C126=\"OHLC\")=TRUE,O126,P126)/1000)*Y126*Z126*(1+VLOOKUP($H$4,BuildingType_Lookup,4,FALSE)),IF(AO126=0,0,(IF(OR(C126=\"DDC\",C126=\"OHLC\")=TRUE,O126,Q126)/1000)*Y126*Z126*(1+VLOOKUP($H$4,BuildingType_Lookup,4,FALSE)))))","v":0},{"$f":"IF(AND(OR(AN126=\"\",AN126=0)=TRUE,OR(AO126=\"\",AO126=0))=TRUE,0,IF(AO126=\"\",(IF(OR(C126=\"DDC\",C126=\"OHLC\")=TRUE,O126,P126)/1000)*Y126*AA126*(1+VLOOKUP($H$4,BuildingType_Lookup,MATCH($H$5,HVAC,0)+4,FALSE)),IF(AO126=0,0,(IF(OR(C126=\"DDC\",C126=\"OHLC\")=TRUE,O126,Q126)/1000)*Y126*AA126*(1+VLOOKUP($H$4,BuildingType_Lookup,MATCH($H$5,HVAC,0)+4,FALSE)))))","v":0},0,0,0,0,0,0,{"$f":"W126/1000*Y126*AA126*IF(IFERROR(SEARCH(\"Gas\",$H$5),0)>0,VLOOKUP(\"Gas\",HVACg_Lookup,MATCH($H$6,BuildingSize,0)+1,FALSE),IF(IFERROR(SEARCH(\"Oil\",$H$5),0)>0,VLOOKUP(\"Oil\",HVACg_Lookup,MATCH($H$6,BuildingSize,0)+1,FALSE),IF(IFERROR(SEARCH(\"Propane\",$H$5),0)>0,VLOOKUP(\"Propane\",HVACg_Lookup,MATCH(Worksheet!$H$6,BuildingSize,0)+1,FALSE),0)))","v":0},{"$f":"X126/1000*Y126*AA126*IF(IFERROR(SEARCH(\"Gas\",$H$5),0)>0,VLOOKUP(\"Gas\",HVACg_Lookup,MATCH($H$6,BuildingSize,0)+1,FALSE),IF(IFERROR(SEARCH(\"Oil\",$H$5),0)>0,VLOOKUP(\"Oil\",HVACg_Lookup,MATCH($H$6,BuildingSize,0)+1,FALSE),IF(IFERROR(SEARCH(\"Propane\",$H$5),0)>0,VLOOKUP(\"Propane\",HVACg_Lookup,MATCH(Worksheet!$H$6,BuildingSize,0)+1,FALSE),0)))","v":0},0,0,{"$f":"IF(OR($B$4=\"\",$B$5=\"\",$H$4=\"\",$H$6=\"\",$H$5=\"\",A126=\"\",F126=\"\",J126=\"\",O126=\"\",P126=\"\")=TRUE,\"\",IF(C126=\"OSW\",IF(J126>=2,1,0),IF(C126=\"OSR\",IF(AND(J126>=2,P126>60)=TRUE,1,0),IF(C126=\"OSRH\",IF(AND(J126>=1,P126>90)=TRUE,1,0),IF(C126=\"OHLC\",IF(AND(N126=\"Y\",P126>60)=TRUE,1,0),IF(C126=\"DDC\",IF(AND(J126>=4,N126=\"Y\",P126>120)=TRUE,1,0),0))))))","v":""},{"$f":"IF(OR($B$4=\"\",$B$5=\"\",$H$4=\"\",$H$6=\"\",$H$5=\"\",A126=\"\",F126=\"\",K126=\"\",O126=\"\",P126=\"\")=TRUE,\"\",IF(C126=\"OSW\",IF(K126>=2,1,0),IF(C126=\"OSR\",IF(AND(K126>=2,Q126>60)=TRUE,1,0),IF(C126=\"OSRH\",IF(AND(K126>=1,Q126>90)=TRUE,1,0),IF(C126=\"OHLC\",IF(AND(N126=\"Y\",Q126>60)=TRUE,1,0),IF(C126=\"DDC\",IF(AND(K126>=4,N126=\"Y\",Q126>120)=TRUE,1,0),0))))))","v":""}]
[null,null,"",null,null,null,null,null,null,null,null,null,null,null,null,0,0,0,0,"",0,0,0,0,0,{"$f":"IF($H$4=\"\",0,VLOOKUP($H$4,BuildingType_Lookup,3,FALSE))","v":0},{"$f":"IF($H$4=\"\",0,VLOOKUP($H$4,BuildingType_Lookup,2,FALSE))","v":0},{"$f":"IF(AND(OR(AN127=\"\",AN127=0)=TRUE,OR(AO127=\"\",AO127=0))=TRUE,0,IF(AO127=\"\",(IF(OR(C127=\"DDC\",C127=\"OHLC\")=TRUE,O127,P127)/1000)*Y127*Z127*(1+VLOOKUP($H$4,BuildingType_Lookup,4,FALSE)),IF(AO127=0,0,(IF(OR(C127=\"DDC\",C127=\"OHLC\")=TRUE,O127,Q127)/1000)*Y127*Z127*(1+VLOOKUP($H$4,BuildingType_Lookup,4,FALSE)))))","v":0},{"$f":"IF(AND(OR(AN127=\"\",AN127=0)=TRUE,OR(AO127=\"\",AO127=0))=TRUE,0,IF(AO127=\"\",(IF(OR(C127=\"DDC\",C127=\"OHLC\")=TRUE,O127,P127)/1000)*Y127*AA127*(1+VLOOKUP($H$4,BuildingType_Lookup,MATCH($H$5,HVAC,0)+4,FALSE)),IF(AO127=0,0,(IF(OR(C127=\"DDC\",C127=\"OHLC\")=TRUE,O127,Q127)/1000)*Y127*AA127*(1+VLOOKUP($H$4,BuildingType_Lookup,MATCH($H$5,HVAC,0)+4,FALSE)))))","v":0},0,0,0,0,0,0,{"$f":"W127/1000*Y127*AA127*IF(IFERROR(SEARCH(\"Gas\",$H$5),0)>0,VLOOKUP(\"Gas\",HVACg_Lookup,MATCH($H$6,BuildingSize,0)+1,FALSE),IF(IFERROR(SEARCH(\"Oil\",$H$5),0)>0,VLOOKUP(\"Oil\",HVACg_Lookup,MATCH($H$6,BuildingSize,0)+1,FALSE),IF(IFERROR(SEARCH(\"Propane\",$H$5),0)>0,VLOOKUP(\"Propane\",HVACg_Lookup,MATCH(Worksheet!$H$6,BuildingSize,0)+1,FALSE),0)))","v":0},{"$f":"X127/1000*Y127*AA127*IF(IFERROR(SEARCH(\"Gas\",$H$5),0)>0,VLOOKUP(\"Gas\",HVACg_Lookup,MATCH($H$6,BuildingSize,0)+1,FALSE),IF(IFERROR(SEARCH(\"Oil\",$H$5),0)>0,VLOOKUP(\"Oil\",HVACg_Lookup,MATCH($H$6,BuildingSize,0)+1,FALSE),IF(IFERROR(SEARCH(\"Propane\",$H$5),0)>0,VLOOKUP(\"Propane\",HVACg_Lookup,MATCH(Worksheet!$H$6,BuildingSize,0)+1,FALSE),0)))","v":0},0,0,{"$f":"IF(OR($B$4=\"\",$B$5=\"\",$H$4=\"\",$H$6=\"\",$H$5=\"\",A127=\"\",F127=\"\",J127=\"\",O127=\"\",P127=\"\")=TRUE,\"\",IF(C127=\"OSW\",IF(J127>=2,1,0),IF(C127=\"OSR\",IF(AND(J127>=2,P127>60)=TRUE,1,0),IF(C127=\"OSRH\",IF(AND(J127>=1,P127>90)=TRUE,1,0),IF(C127=\"OHLC\",IF(AND(N127=\"Y\",P127>60)=TRUE,1,0),IF(C127=\"DDC\",IF(AND(J127>=4,N127=\"Y\",P127>120)=TRUE,1,0),0))))))","v":""},{"$f":"IF(OR($B$4=\"\",$B$5=\"\",$H$4=\"\",$H$6=\"\",$H$5=\"\",A127=\"\",F127=\"\",K127=\"\",O127=\"\",P127=\"\")=TRUE,\"\",IF(C127=\"OSW\",IF(K127>=2,1,0),IF(C127=\"OSR\",IF(AND(K127>=2,Q127>60)=TRUE,1,0),IF(C127=\"OSRH\",IF(AND(K127>=1,Q127>90)=TRUE,1,0),IF(C127=\"OHLC\",IF(AND(N127=\"Y\",Q127>60)=TRUE,1,0),IF(C127=\"DDC\",IF(AND(K127>=4,N127=\"Y\",Q127>120)=TRUE,1,0),0))))))","v":""}]
[null,null,"",null,null,null,null,null,null,null,null,null,null,null,null,0,0,0,0,"",0,0,0,0,0,{"$f":"IF($H$4=\"\",0,VLOOKUP($H$4,BuildingType_Lookup,3,FALSE))","v":0},{"$f":"IF($H$4=\"\",0,VLOOKUP($H$4,BuildingType_Lookup,2,FALSE))","v":0},{"$f":"IF(AND(OR(AN128=\"\",AN128=0)=TRUE,OR(AO128=\"\",AO128=0))=TRUE,0,IF(AO128=\"\",(IF(OR(C128=\"DDC\",C128=\"OHLC\")=TRUE,O128,P128)/1000)*Y128*Z128*(1+VLOOKUP($H$4,BuildingType_Lookup,4,FALSE)),IF(AO128=0,0,(IF(OR(C128=\"DDC\",C128=\"OHLC\")=TRUE,O128,Q128)/1000)*Y128*Z128*(1+VLOOKUP($H$4,BuildingType_Lookup,4,FALSE)))))","v":0},{"$f":"IF(AND(OR(AN128=\"\",AN128=0)=TRUE,OR(AO128=\"\",AO128=0))=TRUE,0,IF(AO128=\"\",(IF(OR(C128=\"DDC\",C128=\"OHLC\")=TRUE,O128,P128)/1000)*Y128*AA128*(1+VLOOKUP($H$4,BuildingType_Lookup,MATCH($H$5,HVAC,0)+4,FALSE)),IF(AO128=0,0,(IF(OR(C128=\"DDC\",C128=\"OHLC\")=TRUE,O128,Q128)/1000)*Y128*AA128*(1+VLOOKUP($H$4,BuildingType_Lookup,MATCH($H$5,HVAC,0)+4,FALSE)))))","v":0},0,0,0,0,0,0,{"$f":"W128/1000*Y128*AA128*IF(IFERROR(SEARCH(\"Gas\",$H$5),0)>0,VLOOKUP(\"Gas\",HVACg_Lookup,MATCH($H$6,BuildingSize,0)+1,FALSE),IF(IFERROR(SEARCH(\"Oil\",$H$5),0)>0,VLOOKUP(\"Oil\",HVACg_Lookup,MATCH($H$6,BuildingSize,0)+1,FALSE),IF(IFERROR(SEARCH(\"Propane\",$H$5),0)>0,VLOOKUP(\"Propane\",HVACg_Lookup,MATCH(Worksheet!$H$6,BuildingSize,0)+1,FALSE),0)))","v":0},{"$f":"X128/1000*Y128*AA128*IF(IFERROR(SEARCH(\"Gas\",$H$5),0)>0,VLOOKUP(\"Gas\",HVACg_Lookup,MATCH($H$6,BuildingSize,0)+1,FALSE),IF(IFERROR(SEARCH(\"Oil\",$H$5),0)>0,VLOOKUP(\"Oil\",HVACg_Lookup,MATCH($H$6,BuildingSize,0)+1,FALSE),IF(IFERROR(SEARCH(\"Propane\",$H$5),0)>0,VLOOKUP(\"Propane\",HVACg_Lookup,MATCH(Worksheet!$H$6,BuildingSize,0)+1,FALSE),0)))","v":0},0,0,{"$f":"IF(OR($B$4=\"\",$B$5=\"\",$H$4=\"\",$H$6=\"\",$H$5=\"\",A128=\"\",F128=\"\",J128=\"\",O128=\"\",P128=\"\")=TRUE,\"\",IF(C128=\"OSW\",IF(J128>=2,1,0),IF(C128=\"OSR\",IF(AND(J128>=2,P128>60)=TRUE,1,0),IF(C128=\"OSRH\",IF(AND(J128>=1,P128>90)=TRUE,1,0),IF(C128=\"OHLC\",IF(AND(N128=\"Y\",P128>60)=TRUE,1,0),IF(C128=\"DDC\",IF(AND(J128>=4,N128=\"Y\",P128>120)=TRUE,1,0),0))))))","v":""},{"$f":"IF(OR($B$4=\"\",$B$5=\"\",$H$4=\"\",$H$6=\"\",$H$5=\"\",A128=\"\",F128=\"\",K128=\"\",O128=\"\",P128=\"\")=TRUE,\"\",IF(C128=\"OSW\",IF(K128>=2,1,0),IF(C128=\"OSR\",IF(AND(K128>=2,Q128>60)=TRUE,1,0),IF(C128=\"OSRH\",IF(AND(K128>=1,Q128>90)=TRUE,1,0),IF(C128=\"OHLC\",IF(AND(N128=\"Y\",Q128>60)=TRUE,1,0),IF(C128=\"DDC\",IF(AND(K128>=4,N128=\"Y\",Q128>120)=TRUE,1,0),0))))))","v":""}]
[null,null,"",null,null,null,null,null,null,null,null,null,null,null,null,0,0,0,0,"",0,0,0,0,0,{"$f":"IF($H$4=\"\",0,VLOOKUP($H$4,BuildingType_Lookup,3,FALSE))","v":0},{"$f":"IF($H$4=\"\",0,VLOOKUP($H$4,BuildingType_Lookup,2,FALSE))","v":0},{"$f":"IF(AND(OR(AN129=\"\",AN129=0)=TRUE,OR(AO129=\"\",AO129=0))=TRUE,0,IF(AO129=\"\",(IF(OR(C129=\"DDC\",C129=\"OHLC\")=TRUE,O129,P129)/1000)*Y129*Z129*(1+VLOOKUP($H$4,BuildingType_Lookup,4,FALSE)),IF(AO129=0,0,(IF(OR(C129=\"DDC\",C129=\"OHLC\")=TRUE,O129,Q129)/1000)*Y129*Z129*(1+VLOOKUP($H$4,BuildingType_Lookup,4,FALSE)))))","v":0},{"$f":"IF(AND(OR(AN129=\"\",AN129=0)=TRUE,OR(AO129=\"\",AO129=0))=TRUE,0,IF(AO129=\"\",(IF(OR(C129=\"DDC\",C129=\"OHLC\")=TRUE,O129,P129)/1000)*Y129*AA129*(1+VLOOKUP($H$4,BuildingType_Lookup,MATCH($H$5,HVAC,0)+4,FALSE)),IF(AO129=0,0,(IF(OR(C129=\"DDC\",C129=\"OHLC\")=TRUE,O129,Q129)/1000)*Y129*AA129*(1+VLOOKUP($H$4,BuildingType_Lookup,MATCH($H$5,HVAC,0)+4,FALSE)))))","v":0},0,0,0,0,0,0,{"$f":"W129/1000*Y129*AA129*IF(IFERROR(SEARCH(\"Gas\",$H$5),0)>0,VLOOKUP(\"Gas\",HVACg_Lookup,MATCH($H$6,BuildingSize,0)+1,FALSE),IF(IFERROR(SEARCH(\"Oil\",$H$5),0)>0,VLOOKUP(\"Oil\",HVACg_Lookup,MATCH($H$6,BuildingSize,0)+1,FALSE),IF(IFERROR(SEARCH(\"Propane\",$H$5),0)>0,VLOOKUP(\"Propane\",HVACg_Lookup,MATCH(Worksheet!$H$6,BuildingSize,0)+1,FALSE),0)))","v":0},{"$f":"X129/1000*Y129*AA129*IF(IFERROR(SEARCH(\"Gas\",$H$5),0)>0,VLOOKUP(\"Gas\",HVACg_Lookup,MATCH($H$6,BuildingSize,0)+1,FALSE),IF(IFERROR(SEARCH(\"Oil\",$H$5),0)>0,VLOOKUP(\"Oil\",HVACg_Lookup,MATCH($H$6,BuildingSize,0)+1,FALSE),IF(IFERROR(SEARCH(\"Propane\",$H$5),0)>0,VLOOKUP(\"Propane\",HVACg_Lookup,MATCH(Worksheet!$H$6,BuildingSize,0)+1,FALSE),0)))","v":0},0,0,{"$f":"IF(OR($B$4=\"\",$B$5=\"\",$H$4=\"\",$H$6=\"\",$H$5=\"\",A129=\"\",F129=\"\",J129=\"\",O129=\"\",P129=\"\")=TRUE,\"\",IF(C129=\"OSW\",IF(J129>=2,1,0),IF(C129=\"OSR\",IF(AND(J129>=2,P129>60)=TRUE,1,0),IF(C129=\"OSRH\",IF(AND(J129>=1,P129>90)=TRUE,1,0),IF(C129=\"OHLC\",IF(AND(N129=\"Y\",P129>60)=TRUE,1,0),IF(C129=\"DDC\",IF(AND(J129>=4,N129=\"Y\",P129>120)=TRUE,1,0),0))))))","v":""},{"$f":"IF(OR($B$4=\"\",$B$5=\"\",$H$4=\"\",$H$6=\"\",$H$5=\"\",A129=\"\",F129=\"\",K129=\"\",O129=\"\",P129=\"\")=TRUE,\"\",IF(C129=\"OSW\",IF(K129>=2,1,0),IF(C129=\"OSR\",IF(AND(K129>=2,Q129>60)=TRUE,1,0),IF(C129=\"OSRH\",IF(AND(K129>=1,Q129>90)=TRUE,1,0),IF(C129=\"OHLC\",IF(AND(N129=\"Y\",Q129>60)=TRUE,1,0),IF(C129=\"DDC\",IF(AND(K129>=4,N129=\"Y\",Q129>120)=TRUE,1,0),0))))))","v":""}]
[null,null,"",null,null,null,null,null,null,null,null,null,null,null,null,0,0,0,0,"",0,0,0,0,0,{"$f":"IF($H$4=\"\",0,VLOOKUP($H$4,BuildingType_Lookup,3,FALSE))","v":0},{"$f":"IF($H$4=\"\",0,VLOOKUP($H$4,BuildingType_Lookup,2,FALSE))","v":0},{"$f":"IF(AND(OR(AN130=\"\",AN130=0)=TRUE,OR(AO130=\"\",AO130=0))=TRUE,0,IF(AO130=\"\",(IF(OR(C130=\"DDC\",C130=\"OHLC\")=TRUE,O130,P130)/1000)*Y130*Z130*(1+VLOOKUP($H$4,BuildingType_Lookup,4,FALSE)),IF(AO130=0,0,(IF(OR(C130=\"DDC\",C130=\"OHLC\")=TRUE,O130,Q130)/1000)*Y130*Z130*(1+VLOOKUP($H$4,BuildingType_Lookup,4,FALSE)))))","v":0},{"$f":"IF(AND(OR(AN130=\"\",AN130=0)=TRUE,OR(AO130=\"\",AO130=0))=TRUE,0,IF(AO130=\"\",(IF(OR(C130=\"DDC\",C130=\"OHLC\")=TRUE,O130,P130)/1000)*Y130*AA130*(1+VLOOKUP($H$4,BuildingType_Lookup,MATCH($H$5,HVAC,0)+4,FALSE)),IF(AO130=0,0,(IF(OR(C130=\"DDC\",C130=\"OHLC\")=TRUE,O130,Q130)/1000)*Y130*AA130*(1+VLOOKUP($H$4,BuildingType_Lookup,MATCH($H$5,HVAC,0)+4,FALSE)))))","v":0},0,0,0,0,0,0,{"$f":"W130/1000*Y130*AA130*IF(IFERROR(SEARCH(\"Gas\",$H$5),0)>0,VLOOKUP(\"Gas\",HVACg_Lookup,MATCH($H$6,BuildingSize,0)+1,FALSE),IF(IFERROR(SEARCH(\"Oil\",$H$5),0)>0,VLOOKUP(\"Oil\",HVACg_Lookup,MATCH($H$6,BuildingSize,0)+1,FALSE),IF(IFERROR(SEARCH(\"Propane\",$H$5),0)>0,VLOOKUP(\"Propane\",HVACg_Lookup,MATCH(Worksheet!$H$6,BuildingSize,0)+1,FALSE),0)))","v":0},{"$f":"X130/1000*Y130*AA130*IF(IFERROR(SEARCH(\"Gas\",$H$5),0)>0,VLOOKUP(\"Gas\",HVACg_Lookup,MATCH($H$6,BuildingSize,0)+1,FALSE),IF(IFERROR(SEARCH(\"Oil\",$H$5),0)>0,VLOOKUP(\"Oil\",HVACg_Lookup,MATCH($H$6,BuildingSize,0)+1,FALSE),IF(IFERROR(SEARCH(\"Propane\",$H$5),0)>0,VLOOKUP(\"Propane\",HVACg_Lookup,MATCH(Worksheet!$H$6,BuildingSize,0)+1,FALSE),0)))","v":0},0,0,{"$f":"IF(OR($B$4=\"\",$B$5=\"\",$H$4=\"\",$H$6=\"\",$H$5=\"\",A130=\"\",F130=\"\",J130=\"\",O130=\"\",P130=\"\")=TRUE,\"\",IF(C130=\"OSW\",IF(J130>=2,1,0),IF(C130=\"OSR\",IF(AND(J130>=2,P130>60)=TRUE,1,0),IF(C130=\"OSRH\",IF(AND(J130>=1,P130>90)=TRUE,1,0),IF(C130=\"OHLC\",IF(AND(N130=\"Y\",P130>60)=TRUE,1,0),IF(C130=\"DDC\",IF(AND(J130>=4,N130=\"Y\",P130>120)=TRUE,1,0),0))))))","v":""},{"$f":"IF(OR($B$4=\"\",$B$5=\"\",$H$4=\"\",$H$6=\"\",$H$5=\"\",A130=\"\",F130=\"\",K130=\"\",O130=\"\",P130=\"\")=TRUE,\"\",IF(C130=\"OSW\",IF(K130>=2,1,0),IF(C130=\"OSR\",IF(AND(K130>=2,Q130>60)=TRUE,1,0),IF(C130=\"OSRH\",IF(AND(K130>=1,Q130>90)=TRUE,1,0),IF(C130=\"OHLC\",IF(AND(N130=\"Y\",Q130>60)=TRUE,1,0),IF(C130=\"DDC\",IF(AND(K130>=4,N130=\"Y\",Q130>120)=TRUE,1,0),0))))))","v":""}]
[null,null,"",null,null,null,null,null,null,null,null,null,null,null,null,0,0,0,0,"",0,0,0,0,0,{"$f":"IF($H$4=\"\",0,VLOOKUP($H$4,BuildingType_Lookup,3,FALSE))","v":0},{"$f":"IF($H$4=\"\",0,VLOOKUP($H$4,BuildingType_Lookup,2,FALSE))","v":0},{"$f":"IF(AND(OR(AN131=\"\",AN131=0)=TRUE,OR(AO131=\"\",AO131=0))=TRUE,0,IF(AO131=\"\",(IF(OR(C131=\"DDC\",C131=\"OHLC\")=TRUE,O131,P131)/1000)*Y131*Z131*(1+VLOOKUP($H$4,BuildingType_Lookup,4,FALSE)),IF(AO131=0,0,(IF(OR(C131=\"DDC\",C131=\"OHLC\")=TRUE,O131,Q131)/1000)*Y131*Z131*(1+VLOOKUP($H$4,BuildingType_Lookup,4,FALSE)))))","v":0},{"$f":"IF(AND(OR(AN131=\"\",AN131=0)=TRUE,OR(AO131=\"\",AO131=0))=TRUE,0,IF(AO131=\"\",(IF(OR(C131=\"DDC\",C131=\"OHLC\")=TRUE,O131,P131)/1000)*Y131*AA131*(1+VLOOKUP($H$4,BuildingType_Lookup,MATCH($H$5,HVAC,0)+4,FALSE)),IF(AO131=0,0,(IF(OR(C131=\"DDC\",C131=\"OHLC\")=TRUE,O131,Q131)/1000)*Y131*AA131*(1+VLOOKUP($H$4,BuildingType_Lookup,MATCH($H$5,HVAC,0)+4,FALSE)))))","v":0},0,0,0,0,0,0,{"$f":"W131/1000*Y131*AA131*IF(IFERROR(SEARCH(\"Gas\",$H$5),0)>0,VLOOKUP(\"Gas\",HVACg_Lookup,MATCH($H$6,BuildingSize,0)+1,FALSE),IF(IFERROR(SEARCH(\"Oil\",$H$5),0)>0,VLOOKUP(\"Oil\",HVACg_Lookup,MATCH($H$6,BuildingSize,0)+1,FALSE),IF(IFERROR(SEARCH(\"Propane\",$H$5),0)>0,VLOOKUP(\"Propane\",HVACg_Lookup,MATCH(Worksheet!$H$6,BuildingSize,0)+1,FALSE),0)))","v":0},{"$f":"X131/1000*Y131*AA131*IF(IFERROR(SEARCH(\"Gas\",$H$5),0)>0,VLOOKUP(\"Gas\",HVACg_Lookup,MATCH($H$6,BuildingSize,0)+1,FALSE),IF(IFERROR(SEARCH(\"Oil\",$H$5),0)>0,VLOOKUP(\"Oil\",HVACg_Lookup,MATCH($H$6,BuildingSize,0)+1,FALSE),IF(IFERROR(SEARCH(\"Propane\",$H$5),0)>0,VLOOKUP(\"Propane\",HVACg_Lookup,MATCH(Worksheet!$H$6,BuildingSize,0)+1,FALSE),0)))","v":0},0,0,{"$f":"IF(OR($B$4=\"\",$B$5=\"\",$H$4=\"\",$H$6=\"\",$H$5=\"\",A131=\"\",F131=\"\",J131=\"\",O131=\"\",P131=\"\")=TRUE,\"\",IF(C131=\"OSW\",IF(J131>=2,1,0),IF(C131=\"OSR\",IF(AND(J131>=2,P131>60)=TRUE,1,0),IF(C131=\"OSRH\",IF(AND(J131>=1,P131>90)=TRUE,1,0),IF(C131=\"OHLC\",IF(AND(N131=\"Y\",P131>60)=TRUE,1,0),IF(C131=\"DDC\",IF(AND(J131>=4,N131=\"Y\",P131>120)=TRUE,1,0),0))))))","v":""},{"$f":"IF(OR($B$4=\"\",$B$5=\"\",$H$4=\"\",$H$6=\"\",$H$5=\"\",A131=\"\",F131=\"\",K131=\"\",O131=\"\",P131=\"\")=TRUE,\"\",IF(C131=\"OSW\",IF(K131>=2,1,0),IF(C131=\"OSR\",IF(AND(K131>=2,Q131>60)=TRUE,1,0),IF(C131=\"OSRH\",IF(AND(K131>=1,Q131>90)=TRUE,1,0),IF(C131=\"OHLC\",IF(AND(N131=\"Y\",Q131>60)=TRUE,1,0),IF(C131=\"DDC\",IF(AND(K131>=4,N131=\"Y\",Q131>120)=TRUE,1,0),0))))))","v":""}]
[null,null,"",null,null,null,null,null,null,null,null,null,null,null,null,0,0,0,0,"",0,0,0,0,0,{"$f":"IF($H$4=\"\",0,VLOOKUP($H$4,BuildingType_Lookup,3,FALSE))","v":0},{"$f":"IF($H$4=\"\",0,VLOOKUP($H$4,BuildingType_Lookup,2,FALSE))","v":0},{"$f":"IF(AND(OR(AN132=\"\",AN132=0)=TRUE,OR(AO132=\"\",AO132=0))=TRUE,0,IF(AO132=\"\",(IF(OR(C132=\"DDC\",C132=\"OHLC\")=TRUE,O132,P132)/1000)*Y132*Z132*(1+VLOOKUP($H$4,BuildingType_Lookup,4,FALSE)),IF(AO132=0,0,(IF(OR(C132=\"DDC\",C132=\"OHLC\")=TRUE,O132,Q132)/1000)*Y132*Z132*(1+VLOOKUP($H$4,BuildingType_Lookup,4,FALSE)))))","v":0},{"$f":"IF(AND(OR(AN132=\"\",AN132=0)=TRUE,OR(AO132=\"\",AO132=0))=TRUE,0,IF(AO132=\"\",(IF(OR(C132=\"DDC\",C132=\"OHLC\")=TRUE,O132,P132)/1000)*Y132*AA132*(1+VLOOKUP($H$4,BuildingType_Lookup,MATCH($H$5,HVAC,0)+4,FALSE)),IF(AO132=0,0,(IF(OR(C132=\"DDC\",C132=\"OHLC\")=TRUE,O132,Q132)/1000)*Y132*AA132*(1+VLOOKUP($H$4,BuildingType_Lookup,MATCH($H$5,HVAC,0)+4,FALSE)))))","v":0},0,0,0,0,0,0,{"$f":"W132/1000*Y132*AA132*IF(IFERROR(SEARCH(\"Gas\",$H$5),0)>0,VLOOKUP(\"Gas\",HVACg_Lookup,MATCH($H$6,BuildingSize,0)+1,FALSE),IF(IFERROR(SEARCH(\"Oil\",$H$5),0)>0,VLOOKUP(\"Oil\",HVACg_Lookup,MATCH($H$6,BuildingSize,0)+1,FALSE),IF(IFERROR(SEARCH(\"Propane\",$H$5),0)>0,VLOOKUP(\"Propane\",HVACg_Lookup,MATCH(Worksheet!$H$6,BuildingSize,0)+1,FALSE),0)))","v":0},{"$f":"X132/1000*Y132*AA132*IF(IFERROR(SEARCH(\"Gas\",$H$5),0)>0,VLOOKUP(\"Gas\",HVACg_Lookup,MATCH($H$6,BuildingSize,0)+1,FALSE),IF(IFERROR(SEARCH(\"Oil\",$H$5),0)>0,VLOOKUP(\"Oil\",HVACg_Lookup,MATCH($H$6,BuildingSize,0)+1,FALSE),IF(IFERROR(SEARCH(\"Propane\",$H$5),0)>0,VLOOKUP(\"Propane\",HVACg_Lookup,MATCH(Worksheet!$H$6,BuildingSize,0)+1,FALSE),0)))","v":0},0,0,{"$f":"IF(OR($B$4=\"\",$B$5=\"\",$H$4=\"\",$H$6=\"\",$H$5=\"\",A132=\"\",F132=\"\",J132=\"\",O132=\"\",P132=\"\")=TRUE,\"\",IF(C132=\"OSW\",IF(J132>=2,1,0),IF(C132=\"OSR\",IF(AND(J132>=2,P132>60)=TRUE,1,0),IF(C132=\"OSRH\",IF(AND(J132>=1,P132>90)=TRUE,1,0),IF(C132=\"OHLC\",IF(AND(N132=\"Y\",P132>60)=TRUE,1,0),IF(C132=\"DDC\",IF(AND(J132>=4,N132=\"Y\",P132>120)=TRUE,1,0),0))))))","v":""},{"$f":"IF(OR($B$4=\"\",$B$5=\"\",$H$4=\"\",$H$6=\"\",$H$5=\"\",A132=\"\",F132=\"\",K132=\"\",O132=\"\",P132=\"\")=TRUE,\"\",IF(C132=\"OSW\",IF(K132>=2,1,0),IF(C132=\"OSR\",IF(AND(K132>=2,Q132>60)=TRUE,1,0),IF(C132=\"OSRH\",IF(AND(K132>=1,Q132>90)=TRUE,1,0),IF(C132=\"OHLC\",IF(AND(N132=\"Y\",Q132>60)=TRUE,1,0),IF(C132=\"DDC\",IF(AND(K132>=4,N132=\"Y\",Q132>120)=TRUE,1,0),0))))))","v":""}]
[null,null,"",null,null,null,null,null,null,null,null,null,null,null,null,0,0,0,0,"",0,0,0,0,0,{"$f":"IF($H$4=\"\",0,VLOOKUP($H$4,BuildingType_Lookup,3,FALSE))","v":0},{"$f":"IF($H$4=\"\",0,VLOOKUP($H$4,BuildingType_Lookup,2,FALSE))","v":0},{"$f":"IF(AND(OR(AN133=\"\",AN133=0)=TRUE,OR(AO133=\"\",AO133=0))=TRUE,0,IF(AO133=\"\",(IF(OR(C133=\"DDC\",C133=\"OHLC\")=TRUE,O133,P133)/1000)*Y133*Z133*(1+VLOOKUP($H$4,BuildingType_Lookup,4,FALSE)),IF(AO133=0,0,(IF(OR(C133=\"DDC\",C133=\"OHLC\")=TRUE,O133,Q133)/1000)*Y133*Z133*(1+VLOOKUP($H$4,BuildingType_Lookup,4,FALSE)))))","v":0},{"$f":"IF(AND(OR(AN133=\"\",AN133=0)=TRUE,OR(AO133=\"\",AO133=0))=TRUE,0,IF(AO133=\"\",(IF(OR(C133=\"DDC\",C133=\"OHLC\")=TRUE,O133,P133)/1000)*Y133*AA133*(1+VLOOKUP($H$4,BuildingType_Lookup,MATCH($H$5,HVAC,0)+4,FALSE)),IF(AO133=0,0,(IF(OR(C133=\"DDC\",C133=\"OHLC\")=TRUE,O133,Q133)/1000)*Y133*AA133*(1+VLOOKUP($H$4,BuildingType_Lookup,MATCH($H$5,HVAC,0)+4,FALSE)))))","v":0},0,0,0,0,0,0,{"$f":"W133/1000*Y133*AA133*IF(IFERROR(SEARCH(\"Gas\",$H$5),0)>0,VLOOKUP(\"Gas\",HVACg_Lookup,MATCH($H$6,BuildingSize,0)+1,FALSE),IF(IFERROR(SEARCH(\"Oil\",$H$5),0)>0,VLOOKUP(\"Oil\",HVACg_Lookup,MATCH($H$6,BuildingSize,0)+1,FALSE),IF(IFERROR(SEARCH(\"Propane\",$H$5),0)>0,VLOOKUP(\"Propane\",HVACg_Lookup,MATCH(Worksheet!$H$6,BuildingSize,0)+1,FALSE),0)))","v":0},{"$f":"X133/1000*Y133*AA133*IF(IFERROR(SEARCH(\"Gas\",$H$5),0)>0,VLOOKUP(\"Gas\",HVACg_Lookup,MATCH($H$6,BuildingSize,0)+1,FALSE),IF(IFERROR(SEARCH(\"Oil\",$H$5),0)>0,VLOOKUP(\"Oil\",HVACg_Lookup,MATCH($H$6,BuildingSize,0)+1,FALSE),IF(IFERROR(SEARCH(\"Propane\",$H$5),0)>0,VLOOKUP(\"Propane\",HVACg_Lookup,MATCH(Worksheet!$H$6,BuildingSize,0)+1,FALSE),0)))","v":0},0,0,{"$f":"IF(OR($B$4=\"\",$B$5=\"\",$H$4=\"\",$H$6=\"\",$H$5=\"\",A133=\"\",F133=\"\",J133=\"\",O133=\"\",P133=\"\")=TRUE,\"\",IF(C133=\"OSW\",IF(J133>=2,1,0),IF(C133=\"OSR\",IF(AND(J133>=2,P133>60)=TRUE,1,0),IF(C133=\"OSRH\",IF(AND(J133>=1,P133>90)=TRUE,1,0),IF(C133=\"OHLC\",IF(AND(N133=\"Y\",P133>60)=TRUE,1,0),IF(C133=\"DDC\",IF(AND(J133>=4,N133=\"Y\",P133>120)=TRUE,1,0),0))))))","v":""},{"$f":"IF(OR($B$4=\"\",$B$5=\"\",$H$4=\"\",$H$6=\"\",$H$5=\"\",A133=\"\",F133=\"\",K133=\"\",O133=\"\",P133=\"\")=TRUE,\"\",IF(C133=\"OSW\",IF(K133>=2,1,0),IF(C133=\"OSR\",IF(AND(K133>=2,Q133>60)=TRUE,1,0),IF(C133=\"OSRH\",IF(AND(K133>=1,Q133>90)=TRUE,1,0),IF(C133=\"OHLC\",IF(AND(N133=\"Y\",Q133>60)=TRUE,1,0),IF(C133=\"DDC\",IF(AND(K133>=4,N133=\"Y\",Q133>120)=TRUE,1,0),0))))))","v":""}]
[null,null,"",null,null,null,null,null,null,null,null,null,null,null,null,0,0,0,0,"",0,0,0,0,0,{"$f":"IF($H$4=\"\",0,VLOOKUP($H$4,BuildingType_Lookup,3,FALSE))","v":0},{"$f":"IF($H$4=\"\",0,VLOOKUP($H$4,BuildingType_Lookup,2,FALSE))","v":0},{"$f":"IF(AND(OR(AN134=\"\",AN134=0)=TRUE,OR(AO134=\"\",AO134=0))=TRUE,0,IF(AO134=\"\",(IF(OR(C134=\"DDC\",C134=\"OHLC\")=TRUE,O134,P134)/1000)*Y134*Z134*(1+VLOOKUP($H$4,BuildingType_Lookup,4,FALSE)),IF(AO134=0,0,(IF(OR(C134=\"DDC\",C134=\"OHLC\")=TRUE,O134,Q134)/1000)*Y134*Z134*(1+VLOOKUP($H$4,BuildingType_Lookup,4,FALSE)))))","v":0},{"$f":"IF(AND(OR(AN134=\"\",AN134=0)=TRUE,OR(AO134=\"\",AO134=0))=TRUE,0,IF(AO134=\"\",(IF(OR(C134=\"DDC\",C134=\"OHLC\")=TRUE,O134,P134)/1000)*Y134*AA134*(1+VLOOKUP($H$4,BuildingType_Lookup,MATCH($H$5,HVAC,0)+4,FALSE)),IF(AO134=0,0,(IF(OR(C134=\"DDC\",C134=\"OHLC\")=TRUE,O134,Q134)/1000)*Y134*AA134*(1+VLOOKUP($H$4,BuildingType_Lookup,MATCH($H$5,HVAC,0)+4,FALSE)))))","v":0},0,0,0,0,0,0,{"$f":"W134/1000*Y134*AA134*IF(IFERROR(SEARCH(\"Gas\",$H$5),0)>0,VLOOKUP(\"Gas\",HVACg_Lookup,MATCH($H$6,BuildingSize,0)+1,FALSE),IF(IFERROR(SEARCH(\"Oil\",$H$5),0)>0,VLOOKUP(\"Oil\",HVACg_Lookup,MATCH($H$6,BuildingSize,0)+1,FALSE),IF(IFERROR(SEARCH(\"Propane\",$H$5),0)>0,VLOOKUP(\"Propane\",HVACg_Lookup,MATCH(Worksheet!$H$6,BuildingSize,0)+1,FALSE),0)))","v":0},{"$f":"X134/1000*Y134*AA134*IF(IFERROR(SEARCH(\"Gas\",$H$5),0)>0,VLOOKUP(\"Gas\",HVACg_Lookup,MATCH($H$6,BuildingSize,0)+1,FALSE),IF(IFERROR(SEARCH(\"Oil\",$H$5),0)>0,VLOOKUP(\"Oil\",HVACg_Lookup,MATCH($H$6,BuildingSize,0)+1,FALSE),IF(IFERROR(SEARCH(\"Propane\",$H$5),0)>0,VLOOKUP(\"Propane\",HVACg_Lookup,MATCH(Worksheet!$H$6,BuildingSize,0)+1,FALSE),0)))","v":0},0,0,{"$f":"IF(OR($B$4=\"\",$B$5=\"\",$H$4=\"\",$H$6=\"\",$H$5=\"\",A134=\"\",F134=\"\",J134=\"\",O134=\"\",P134=\"\")=TRUE,\"\",IF(C134=\"OSW\",IF(J134>=2,1,0),IF(C134=\"OSR\",IF(AND(J134>=2,P134>60)=TRUE,1,0),IF(C134=\"OSRH\",IF(AND(J134>=1,P134>90)=TRUE,1,0),IF(C134=\"OHLC\",IF(AND(N134=\"Y\",P134>60)=TRUE,1,0),IF(C134=\"DDC\",IF(AND(J134>=4,N134=\"Y\",P134>120)=TRUE,1,0),0))))))","v":""},{"$f":"IF(OR($B$4=\"\",$B$5=\"\",$H$4=\"\",$H$6=\"\",$H$5=\"\",A134=\"\",F134=\"\",K134=\"\",O134=\"\",P134=\"\")=TRUE,\"\",IF(C134=\"OSW\",IF(K134>=2,1,0),IF(C134=\"OSR\",IF(AND(K134>=2,Q134>60)=TRUE,1,0),IF(C134=\"OSRH\",IF(AND(K134>=1,Q134>90)=TRUE,1,0),IF(C134=\"OHLC\",IF(AND(N134=\"Y\",Q134>60)=TRUE,1,0),IF(C134=\"DDC\",IF(AND(K134>=4,N134=\"Y\",Q134>120)=TRUE,1,0),0))))))","v":""}]
[null,null,"",null,null,null,null,null,null,null,null,null,null,null,null,0,0,0,0,"",0,0,0,0,0,{"$f":"IF($H$4=\"\",0,VLOOKUP($H$4,BuildingType_Lookup,3,FALSE))","v":0},{"$f":"IF($H$4=\"\",0,VLOOKUP($H$4,BuildingType_Lookup,2,FALSE))","v":0},{"$f":"IF(AND(OR(AN135=\"\",AN135=0)=TRUE,OR(AO135=\"\",AO135=0))=TRUE,0,IF(AO135=\"\",(IF(OR(C135=\"DDC\",C135=\"OHLC\")=TRUE,O135,P135)/1000)*Y135*Z135*(1+VLOOKUP($H$4,BuildingType_Lookup,4,FALSE)),IF(AO135=0,0,(IF(OR(C135=\"DDC\",C135=\"OHLC\")=TRUE,O135,Q135)/1000)*Y135*Z135*(1+VLOOKUP($H$4,BuildingType_Lookup,4,FALSE)))))","v":0},{"$f":"IF(AND(OR(AN135=\"\",AN135=0)=TRUE,OR(AO135=\"\",AO135=0))=TRUE,0,IF(AO135=\"\",(IF(OR(C135=\"DDC\",C135=\"OHLC\")=TRUE,O135,P135)/1000)*Y135*AA135*(1+VLOOKUP($H$4,BuildingType_Lookup,MATCH($H$5,HVAC,0)+4,FALSE)),IF(AO135=0,0,(IF(OR(C135=\"DDC\",C135=\"OHLC\")=TRUE,O135,Q135)/1000)*Y135*AA135*(1+VLOOKUP($H$4,BuildingType_Lookup,MATCH($H$5,HVAC,0)+4,FALSE)))))","v":0},0,0,0,0,0,0,{"$f":"W135/1000*Y135*AA135*IF(IFERROR(SEARCH(\"Gas\",$H$5),0)>0,VLOOKUP(\"Gas\",HVACg_Lookup,MATCH($H$6,BuildingSize,0)+1,FALSE),IF(IFERROR(SEARCH(\"Oil\",$H$5),0)>0,VLOOKUP(\"Oil\",HVACg_Lookup,MATCH($H$6,BuildingSize,0)+1,FALSE),IF(IFERROR(SEARCH(\"Propane\",$H$5),0)>0,VLOOKUP(\"Propane\",HVACg_Lookup,MATCH(Worksheet!$H$6,BuildingSize,0)+1,FALSE),0)))","v":0},{"$f":"X135/1000*Y135*AA135*IF(IFERROR(SEARCH(\"Gas\",$H$5),0)>0,VLOOKUP(\"Gas\",HVACg_Lookup,MATCH($H$6,BuildingSize,0)+1,FALSE),IF(IFERROR(SEARCH(\"Oil\",$H$5),0)>0,VLOOKUP(\"Oil\",HVACg_Lookup,MATCH($H$6,BuildingSize,0)+1,FALSE),IF(IFERROR(SEARCH(\"Propane\",$H$5),0)>0,VLOOKUP(\"Propane\",HVACg_Lookup,MATCH(Worksheet!$H$6,BuildingSize,0)+1,FALSE),0)))","v":0},0,0,{"$f":"IF(OR($B$4=\"\",$B$5=\"\",$H$4=\"\",$H$6=\"\",$H$5=\"\",A135=\"\",F135=\"\",J135=\"\",O135=\"\",P135=\"\")=TRUE,\"\",IF(C135=\"OSW\",IF(J135>=2,1,0),IF(C135=\"OSR\",IF(AND(J135>=2,P135>60)=TRUE,1,0),IF(C135=\"OSRH\",IF(AND(J135>=1,P135>90)=TRUE,1,0),IF(C135=\"OHLC\",IF(AND(N135=\"Y\",P135>60)=TRUE,1,0),IF(C135=\"DDC\",IF(AND(J135>=4,N135=\"Y\",P135>120)=TRUE,1,0),0))))))","v":""},{"$f":"IF(OR($B$4=\"\",$B$5=\"\",$H$4=\"\",$H$6=\"\",$H$5=\"\",A135=\"\",F135=\"\",K135=\"\",O135=\"\",P135=\"\")=TRUE,\"\",IF(C135=\"OSW\",IF(K135>=2,1,0),IF(C135=\"OSR\",IF(AND(K135>=2,Q135>60)=TRUE,1,0),IF(C135=\"OSRH\",IF(AND(K135>=1,Q135>90)=TRUE,1,0),IF(C135=\"OHLC\",IF(AND(N135=\"Y\",Q135>60)=TRUE,1,0),IF(C135=\"DDC\",IF(AND(K135>=4,N135=\"Y\",Q135>120)=TRUE,1,0),0))))))","v":""}]
[null,null,"",null,null,null,null,null,null,null,null,null,null,null,null,0,0,0,0,"",0,0,0,0,0,{"$f":"IF($H$4=\"\",0,VLOOKUP($H$4,BuildingType_Lookup,3,FALSE))","v":0},{"$f":"IF($H$4=\"\",0,VLOOKUP($H$4,BuildingType_Lookup,2,FALSE))","v":0},{"$f":"IF(AND(OR(AN136=\"\",AN136=0)=TRUE,OR(AO136=\"\",AO136=0))=TRUE,0,IF(AO136=\"\",(IF(OR(C136=\"DDC\",C136=\"OHLC\")=TRUE,O136,P136)/1000)*Y136*Z136*(1+VLOOKUP($H$4,BuildingType_Lookup,4,FALSE)),IF(AO136=0,0,(IF(OR(C136=\"DDC\",C136=\"OHLC\")=TRUE,O136,Q136)/1000)*Y136*Z136*(1+VLOOKUP($H$4,BuildingType_Lookup,4,FALSE)))))","v":0},{"$f":"IF(AND(OR(AN136=\"\",AN136=0)=TRUE,OR(AO136=\"\",AO136=0))=TRUE,0,IF(AO136=\"\",(IF(OR(C136=\"DDC\",C136=\"OHLC\")=TRUE,O136,P136)/1000)*Y136*AA136*(1+VLOOKUP($H$4,BuildingType_Lookup,MATCH($H$5,HVAC,0)+4,FALSE)),IF(AO136=0,0,(IF(OR(C136=\"DDC\",C136=\"OHLC\")=TRUE,O136,Q136)/1000)*Y136*AA136*(1+VLOOKUP($H$4,BuildingType_Lookup,MATCH($H$5,HVAC,0)+4,FALSE)))))","v":0},0,0,0,0,0,0,{"$f":"W136/1000*Y136*AA136*IF(IFERROR(SEARCH(\"Gas\",$H$5),0)>0,VLOOKUP(\"Gas\",HVACg_Lookup,MATCH($H$6,BuildingSize,0)+1,FALSE),IF(IFERROR(SEARCH(\"Oil\",$H$5),0)>0,VLOOKUP(\"Oil\",HVACg_Lookup,MATCH($H$6,BuildingSize,0)+1,FALSE),IF(IFERROR(SEARCH(\"Propane\",$H$5),0)>0,VLOOKUP(\"Propane\",HVACg_Lookup,MATCH(Worksheet!$H$6,BuildingSize,0)+1,FALSE),0)))","v":0},{"$f":"X136/1000*Y136*AA136*IF(IFERROR(SEARCH(\"Gas\",$H$5),0)>0,VLOOKUP(\"Gas\",HVACg_Lookup,MATCH($H$6,BuildingSize,0)+1,FALSE),IF(IFERROR(SEARCH(\"Oil\",$H$5),0)>0,VLOOKUP(\"Oil\",HVACg_Lookup,MATCH($H$6,BuildingSize,0)+1,FALSE),IF(IFERROR(SEARCH(\"Propane\",$H$5),0)>0,VLOOKUP(\"Propane\",HVACg_Lookup,MATCH(Worksheet!$H$6,BuildingSize,0)+1,FALSE),0)))","v":0},0,0,{"$f":"IF(OR($B$4=\"\",$B$5=\"\",$H$4=\"\",$H$6=\"\",$H$5=\"\",A136=\"\",F136=\"\",J136=\"\",O136=\"\",P136=\"\")=TRUE,\"\",IF(C136=\"OSW\",IF(J136>=2,1,0),IF(C136=\"OSR\",IF(AND(J136>=2,P136>60)=TRUE,1,0),IF(C136=\"OSRH\",IF(AND(J136>=1,P136>90)=TRUE,1,0),IF(C136=\"OHLC\",IF(AND(N136=\"Y\",P136>60)=TRUE,1,0),IF(C136=\"DDC\",IF(AND(J136>=4,N136=\"Y\",P136>120)=TRUE,1,0),0))))))","v":""},{"$f":"IF(OR($B$4=\"\",$B$5=\"\",$H$4=\"\",$H$6=\"\",$H$5=\"\",A136=\"\",F136=\"\",K136=\"\",O136=\"\",P136=\"\")=TRUE,\"\",IF(C136=\"OSW\",IF(K136>=2,1,0),IF(C136=\"OSR\",IF(AND(K136>=2,Q136>60)=TRUE,1,0),IF(C136=\"OSRH\",IF(AND(K136>=1,Q136>90)=TRUE,1,0),IF(C136=\"OHLC\",IF(AND(N136=\"Y\",Q136>60)=TRUE,1,0),IF(C136=\"DDC\",IF(AND(K136>=4,N136=\"Y\",Q136>120)=TRUE,1,0),0))))))","v":""}]
[null,null,"",null,null,null,null,null,null,null,null,null,null,null,null,0,0,0,0,"",0,0,0,0,0,{"$f":"IF($H$4=\"\",0,VLOOKUP($H$4,BuildingType_Lookup,3,FALSE))","v":0},{"$f":"IF($H$4=\"\",0,VLOOKUP($H$4,BuildingType_Lookup,2,FALSE))","v":0},{"$f":"IF(AND(OR(AN137=\"\",AN137=0)=TRUE,OR(AO137=\"\",AO137=0))=TRUE,0,IF(AO137=\"\",(IF(OR(C137=\"DDC\",C137=\"OHLC\")=TRUE,O137,P137)/1000)*Y137*Z137*(1+VLOOKUP($H$4,BuildingType_Lookup,4,FALSE)),IF(AO137=0,0,(IF(OR(C137=\"DDC\",C137=\"OHLC\")=TRUE,O137,Q137)/1000)*Y137*Z137*(1+VLOOKUP($H$4,BuildingType_Lookup,4,FALSE)))))","v":0},{"$f":"IF(AND(OR(AN137=\"\",AN137=0)=TRUE,OR(AO137=\"\",AO137=0))=TRUE,0,IF(AO137=\"\",(IF(OR(C137=\"DDC\",C137=\"OHLC\")=TRUE,O137,P137)/1000)*Y137*AA137*(1+VLOOKUP($H$4,BuildingType_Lookup,MATCH($H$5,HVAC,0)+4,FALSE)),IF(AO137=0,0,(IF(OR(C137=\"DDC\",C137=\"OHLC\")=TRUE,O137,Q137)/1000)*Y137*AA137*(1+VLOOKUP($H$4,BuildingType_Lookup,MATCH($H$5,HVAC,0)+4,FALSE)))))","v":0},0,0,0,0,0,0,{"$f":"W137/1000*Y137*AA137*IF(IFERROR(SEARCH(\"Gas\",$H$5),0)>0,VLOOKUP(\"Gas\",HVACg_Lookup,MATCH($H$6,BuildingSize,0)+1,FALSE),IF(IFERROR(SEARCH(\"Oil\",$H$5),0)>0,VLOOKUP(\"Oil\",HVACg_Lookup,MATCH($H$6,BuildingSize,0)+1,FALSE),IF(IFERROR(SEARCH(\"Propane\",$H$5),0)>0,VLOOKUP(\"Propane\",HVACg_Lookup,MATCH(Worksheet!$H$6,BuildingSize,0)+1,FALSE),0)))","v":0},{"$f":"X137/1000*Y137*AA137*IF(IFERROR(SEARCH(\"Gas\",$H$5),0)>0,VLOOKUP(\"Gas\",HVACg_Lookup,MATCH($H$6,BuildingSize,0)+1,FALSE),IF(IFERROR(SEARCH(\"Oil\",$H$5),0)>0,VLOOKUP(\"Oil\",HVACg_Lookup,MATCH($H$6,BuildingSize,0)+1,FALSE),IF(IFERROR(SEARCH(\"Propane\",$H$5),0)>0,VLOOKUP(\"Propane\",HVACg_Lookup,MATCH(Worksheet!$H$6,BuildingSize,0)+1,FALSE),0)))","v":0},0,0,{"$f":"IF(OR($B$4=\"\",$B$5=\"\",$H$4=\"\",$H$6=\"\",$H$5=\"\",A137=\"\",F137=\"\",J137=\"\",O137=\"\",P137=\"\")=TRUE,\"\",IF(C137=\"OSW\",IF(J137>=2,1,0),IF(C137=\"OSR\",IF(AND(J137>=2,P137>60)=TRUE,1,0),IF(C137=\"OSRH\",IF(AND(J137>=1,P137>90)=TRUE,1,0),IF(C137=\"OHLC\",IF(AND(N137=\"Y\",P137>60)=TRUE,1,0),IF(C137=\"DDC\",IF(AND(J137>=4,N137=\"Y\",P137>120)=TRUE,1,0),0))))))","v":""},{"$f":"IF(OR($B$4=\"\",$B$5=\"\",$H$4=\"\",$H$6=\"\",$H$5=\"\",A137=\"\",F137=\"\",K137=\"\",O137=\"\",P137=\"\")=TRUE,\"\",IF(C137=\"OSW\",IF(K137>=2,1,0),IF(C137=\"OSR\",IF(AND(K137>=2,Q137>60)=TRUE,1,0),IF(C137=\"OSRH\",IF(AND(K137>=1,Q137>90)=TRUE,1,0),IF(C137=\"OHLC\",IF(AND(N137=\"Y\",Q137>60)=TRUE,1,0),IF(C137=\"DDC\",IF(AND(K137>=4,N137=\"Y\",Q137>120)=TRUE,1,0),0))))))","v":""}]
[null,null,"",null,null,null,null,null,null,null,null,null,null,null,null,0,0,0,0,"",0,0,0,0,0,{"$f":"IF($H$4=\"\",0,VLOOKUP($H$4,BuildingType_Lookup,3,FALSE))","v":0},{"$f":"IF($H$4=\"\",0,VLOOKUP($H$4,BuildingType_Lookup,2,FALSE))","v":0},{"$f":"IF(AND(OR(AN138=\"\",AN138=0)=TRUE,OR(AO138=\"\",AO138=0))=TRUE,0,IF(AO138=\"\",(IF(OR(C138=\"DDC\",C138=\"OHLC\")=TRUE,O138,P138)/1000)*Y138*Z138*(1+VLOOKUP($H$4,BuildingType_Lookup,4,FALSE)),IF(AO138=0,0,(IF(OR(C138=\"DDC\",C138=\"OHLC\")=TRUE,O138,Q138)/1000)*Y138*Z138*(1+VLOOKUP($H$4,BuildingType_Lookup,4,FALSE)))))","v":0},{"$f":"IF(AND(OR(AN138=\"\",AN138=0)=TRUE,OR(AO138=\"\",AO138=0))=TRUE,0,IF(AO138=\"\",(IF(OR(C138=\"DDC\",C138=\"OHLC\")=TRUE,O138,P138)/1000)*Y138*AA138*(1+VLOOKUP($H$4,BuildingType_Lookup,MATCH($H$5,HVAC,0)+4,FALSE)),IF(AO138=0,0,(IF(OR(C138=\"DDC\",C138=\"OHLC\")=TRUE,O138,Q138)/1000)*Y138*AA138*(1+VLOOKUP($H$4,BuildingType_Lookup,MATCH($H$5,HVAC,0)+4,FALSE)))))","v":0},0,0,0,0,0,0,{"$f":"W138/1000*Y138*AA138*IF(IFERROR(SEARCH(\"Gas\",$H$5),0)>0,VLOOKUP(\"Gas\",HVACg_Lookup,MATCH($H$6,BuildingSize,0)+1,FALSE),IF(IFERROR(SEARCH(\"Oil\",$H$5),0)>0,VLOOKUP(\"Oil\",HVACg_Lookup,MATCH($H$6,BuildingSize,0)+1,FALSE),IF(IFERROR(SEARCH(\"Propane\",$H$5),0)>0,VLOOKUP(\"Propane\",HVACg_Lookup,MATCH(Worksheet!$H$6,BuildingSize,0)+1,FALSE),0)))","v":0},{"$f":"X138/1000*Y138*AA138*IF(IFERROR(SEARCH(\"Gas\",$H$5),0)>0,VLOOKUP(\"Gas\",HVACg_Lookup,MATCH($H$6,BuildingSize,0)+1,FALSE),IF(IFERROR(SEARCH(\"Oil\",$H$5),0)>0,VLOOKUP(\"Oil\",HVACg_Lookup,MATCH($H$6,BuildingSize,0)+1,FALSE),IF(IFERROR(SEARCH(\"Propane\",$H$5),0)>0,VLOOKUP(\"Propane\",HVACg_Lookup,MATCH(Worksheet!$H$6,BuildingSize,0)+1,FALSE),0)))","v":0},0,0,{"$f":"IF(OR($B$4=\"\",$B$5=\"\",$H$4=\"\",$H$6=\"\",$H$5=\"\",A138=\"\",F138=\"\",J138=\"\",O138=\"\",P138=\"\")=TRUE,\"\",IF(C138=\"OSW\",IF(J138>=2,1,0),IF(C138=\"OSR\",IF(AND(J138>=2,P138>60)=TRUE,1,0),IF(C138=\"OSRH\",IF(AND(J138>=1,P138>90)=TRUE,1,0),IF(C138=\"OHLC\",IF(AND(N138=\"Y\",P138>60)=TRUE,1,0),IF(C138=\"DDC\",IF(AND(J138>=4,N138=\"Y\",P138>120)=TRUE,1,0),0))))))","v":""},{"$f":"IF(OR($B$4=\"\",$B$5=\"\",$H$4=\"\",$H$6=\"\",$H$5=\"\",A138=\"\",F138=\"\",K138=\"\",O138=\"\",P138=\"\")=TRUE,\"\",IF(C138=\"OSW\",IF(K138>=2,1,0),IF(C138=\"OSR\",IF(AND(K138>=2,Q138>60)=TRUE,1,0),IF(C138=\"OSRH\",IF(AND(K138>=1,Q138>90)=TRUE,1,0),IF(C138=\"OHLC\",IF(AND(N138=\"Y\",Q138>60)=TRUE,1,0),IF(C138=\"DDC\",IF(AND(K138>=4,N138=\"Y\",Q138>120)=TRUE,1,0),0))))))","v":""}]
[null,null,"",null,null,null,null,null,null,null,null,null,null,null,null,0,0,0,0,"",0,0,0,0,0,{"$f":"IF($H$4=\"\",0,VLOOKUP($H$4,BuildingType_Lookup,3,FALSE))","v":0},{"$f":"IF($H$4=\"\",0,VLOOKUP($H$4,BuildingType_Lookup,2,FALSE))","v":0},{"$f":"IF(AND(OR(AN139=\"\",AN139=0)=TRUE,OR(AO139=\"\",AO139=0))=TRUE,0,IF(AO139=\"\",(IF(OR(C139=\"DDC\",C139=\"OHLC\")=TRUE,O139,P139)/1000)*Y139*Z139*(1+VLOOKUP($H$4,BuildingType_Lookup,4,FALSE)),IF(AO139=0,0,(IF(OR(C139=\"DDC\",C139=\"OHLC\")=TRUE,O139,Q139)/1000)*Y139*Z139*(1+VLOOKUP($H$4,BuildingType_Lookup,4,FALSE)))))","v":0},{"$f":"IF(AND(OR(AN139=\"\",AN139=0)=TRUE,OR(AO139=\"\",AO139=0))=TRUE,0,IF(AO139=\"\",(IF(OR(C139=\"DDC\",C139=\"OHLC\")=TRUE,O139,P139)/1000)*Y139*AA139*(1+VLOOKUP($H$4,BuildingType_Lookup,MATCH($H$5,HVAC,0)+4,FALSE)),IF(AO139=0,0,(IF(OR(C139=\"DDC\",C139=\"OHLC\")=TRUE,O139,Q139)/1000)*Y139*AA139*(1+VLOOKUP($H$4,BuildingType_Lookup,MATCH($H$5,HVAC,0)+4,FALSE)))))","v":0},0,0,0,0,0,0,{"$f":"W139/1000*Y139*AA139*IF(IFERROR(SEARCH(\"Gas\",$H$5),0)>0,VLOOKUP(\"Gas\",HVACg_Lookup,MATCH($H$6,BuildingSize,0)+1,FALSE),IF(IFERROR(SEARCH(\"Oil\",$H$5),0)>0,VLOOKUP(\"Oil\",HVACg_Lookup,MATCH($H$6,BuildingSize,0)+1,FALSE),IF(IFERROR(SEARCH(\"Propane\",$H$5),0)>0,VLOOKUP(\"Propane\",HVACg_Lookup,MATCH(Worksheet!$H$6,BuildingSize,0)+1,FALSE),0)))","v":0},{"$f":"X139/1000*Y139*AA139*IF(IFERROR(SEARCH(\"Gas\",$H$5),0)>0,VLOOKUP(\"Gas\",HVACg_Lookup,MATCH($H$6,BuildingSize,0)+1,FALSE),IF(IFERROR(SEARCH(\"Oil\",$H$5),0)>0,VLOOKUP(\"Oil\",HVACg_Lookup,MATCH($H$6,BuildingSize,0)+1,FALSE),IF(IFERROR(SEARCH(\"Propane\",$H$5),0)>0,VLOOKUP(\"Propane\",HVACg_Lookup,MATCH(Worksheet!$H$6,BuildingSize,0)+1,FALSE),0)))","v":0},0,0,{"$f":"IF(OR($B$4=\"\",$B$5=\"\",$H$4=\"\",$H$6=\"\",$H$5=\"\",A139=\"\",F139=\"\",J139=\"\",O139=\"\",P139=\"\")=TRUE,\"\",IF(C139=\"OSW\",IF(J139>=2,1,0),IF(C139=\"OSR\",IF(AND(J139>=2,P139>60)=TRUE,1,0),IF(C139=\"OSRH\",IF(AND(J139>=1,P139>90)=TRUE,1,0),IF(C139=\"OHLC\",IF(AND(N139=\"Y\",P139>60)=TRUE,1,0),IF(C139=\"DDC\",IF(AND(J139>=4,N139=\"Y\",P139>120)=TRUE,1,0),0))))))","v":""},{"$f":"IF(OR($B$4=\"\",$B$5=\"\",$H$4=\"\",$H$6=\"\",$H$5=\"\",A139=\"\",F139=\"\",K139=\"\",O139=\"\",P139=\"\")=TRUE,\"\",IF(C139=\"OSW\",IF(K139>=2,1,0),IF(C139=\"OSR\",IF(AND(K139>=2,Q139>60)=TRUE,1,0),IF(C139=\"OSRH\",IF(AND(K139>=1,Q139>90)=TRUE,1,0),IF(C139=\"OHLC\",IF(AND(N139=\"Y\",Q139>60)=TRUE,1,0),IF(C139=\"DDC\",IF(AND(K139>=4,N139=\"Y\",Q139>120)=TRUE,1,0),0))))))","v":""}]
[null,null,"",null,null,null,null,null,null,null,null,null,null,null,null,0,0,0,0,"",0,0,0,0,0,{"$f":"IF($H$4=\"\",0,VLOOKUP($H$4,BuildingType_Lookup,3,FALSE))","v":0},{"$f":"IF($H$4=\"\",0,VLOOKUP($H$4,BuildingType_Lookup,2,FALSE))","v":0},{"$f":"IF(AND(OR(AN140=\"\",AN140=0)=TRUE,OR(AO140=\"\",AO140=0))=TRUE,0,IF(AO140=\"\",(IF(OR(C140=\"DDC\",C140=\"OHLC\")=TRUE,O140,P140)/1000)*Y140*Z140*(1+VLOOKUP($H$4,BuildingType_Lookup,4,FALSE)),IF(AO140=0,0,(IF(OR(C140=\"DDC\",C140=\"OHLC\")=TRUE,O140,Q140)/1000)*Y140*Z140*(1+VLOOKUP($H$4,BuildingType_Lookup,4,FALSE)))))","v":0},{"$f":"IF(AND(OR(AN140=\"\",AN140=0)=TRUE,OR(AO140=\"\",AO140=0))=TRUE,0,IF(AO140=\"\",(IF(OR(C140=\"DDC\",C140=\"OHLC\")=TRUE,O140,P140)/1000)*Y140*AA140*(1+VLOOKUP($H$4,BuildingType_Lookup,MATCH($H$5,HVAC,0)+4,FALSE)),IF(AO140=0,0,(IF(OR(C140=\"DDC\",C140=\"OHLC\")=TRUE,O140,Q140)/1000)*Y140*AA140*(1+VLOOKUP($H$4,BuildingType_Lookup,MATCH($H$5,HVAC,0)+4,FALSE)))))","v":0},0,0,0,0,0,0,{"$f":"W140/1000*Y140*AA140*IF(IFERROR(SEARCH(\"Gas\",$H$5),0)>0,VLOOKUP(\"Gas\",HVACg_Lookup,MATCH($H$6,BuildingSize,0)+1,FALSE),IF(IFERROR(SEARCH(\"Oil\",$H$5),0)>0,VLOOKUP(\"Oil\",HVACg_Lookup,MATCH($H$6,BuildingSize,0)+1,FALSE),IF(IFERROR(SEARCH(\"Propane\",$H$5),0)>0,VLOOKUP(\"Propane\",HVACg_Lookup,MATCH(Worksheet!$H$6,BuildingSize,0)+1,FALSE),0)))","v":0},{"$f":"X140/1000*Y140*AA140*IF(IFERROR(SEARCH(\"Gas\",$H$5),0)>0,VLOOKUP(\"Gas\",HVACg_Lookup,MATCH($H$6,BuildingSize,0)+1,FALSE),IF(IFERROR(SEARCH(\"Oil\",$H$5),0)>0,VLOOKUP(\"Oil\",HVACg_Lookup,MATCH($H$6,BuildingSize,0)+1,FALSE),IF(IFERROR(SEARCH(\"Propane\",$H$5),0)>0,VLOOKUP(\"Propane\",HVACg_Lookup,MATCH(Worksheet!$H$6,BuildingSize,0)+1,FALSE),0)))","v":0},0,0,{"$f":"IF(OR($B$4=\"\",$B$5=\"\",$H$4=\"\",$H$6=\"\",$H$5=\"\",A140=\"\",F140=\"\",J140=\"\",O140=\"\",P140=\"\")=TRUE,\"\",IF(C140=\"OSW\",IF(J140>=2,1,0),IF(C140=\"OSR\",IF(AND(J140>=2,P140>60)=TRUE,1,0),IF(C140=\"OSRH\",IF(AND(J140>=1,P140>90)=TRUE,1,0),IF(C140=\"OHLC\",IF(AND(N140=\"Y\",P140>60)=TRUE,1,0),IF(C140=\"DDC\",IF(AND(J140>=4,N140=\"Y\",P140>120)=TRUE,1,0),0))))))","v":""},{"$f":"IF(OR($B$4=\"\",$B$5=\"\",$H$4=\"\",$H$6=\"\",$H$5=\"\",A140=\"\",F140=\"\",K140=\"\",O140=\"\",P140=\"\")=TRUE,\"\",IF(C140=\"OSW\",IF(K140>=2,1,0),IF(C140=\"OSR\",IF(AND(K140>=2,Q140>60)=TRUE,1,0),IF(C140=\"OSRH\",IF(AND(K140>=1,Q140>90)=TRUE,1,0),IF(C140=\"OHLC\",IF(AND(N140=\"Y\",Q140>60)=TRUE,1,0),IF(C140=\"DDC\",IF(AND(K140>=4,N140=\"Y\",Q140>120)=TRUE,1,0),0))))))","v":""}]
[null,null,"",null,null,null,null,null,null,null,null,null,null,null,null,0,0,0,0,"",0,0,0,0,0,{"$f":"IF($H$4=\"\",0,VLOOKUP($H$4,BuildingType_Lookup,3,FALSE))","v":0},{"$f":"IF($H$4=\"\",0,VLOOKUP($H$4,BuildingType_Lookup,2,FALSE))","v":0},{"$f":"IF(AND(OR(AN141=\"\",AN141=0)=TRUE,OR(AO141=\"\",AO141=0))=TRUE,0,IF(AO141=\"\",(IF(OR(C141=\"DDC\",C141=\"OHLC\")=TRUE,O141,P141)/1000)*Y141*Z141*(1+VLOOKUP($H$4,BuildingType_Lookup,4,FALSE)),IF(AO141=0,0,(IF(OR(C141=\"DDC\",C141=\"OHLC\")=TRUE,O141,Q141)/1000)*Y141*Z141*(1+VLOOKUP($H$4,BuildingType_Lookup,4,FALSE)))))","v":0},{"$f":"IF(AND(OR(AN141=\"\",AN141=0)=TRUE,OR(AO141=\"\",AO141=0))=TRUE,0,IF(AO141=\"\",(IF(OR(C141=\"DDC\",C141=\"OHLC\")=TRUE,O141,P141)/1000)*Y141*AA141*(1+VLOOKUP($H$4,BuildingType_Lookup,MATCH($H$5,HVAC,0)+4,FALSE)),IF(AO141=0,0,(IF(OR(C141=\"DDC\",C141=\"OHLC\")=TRUE,O141,Q141)/1000)*Y141*AA141*(1+VLOOKUP($H$4,BuildingType_Lookup,MATCH($H$5,HVAC,0)+4,FALSE)))))","v":0},0,0,0,0,0,0,{"$f":"W141/1000*Y141*AA141*IF(IFERROR(SEARCH(\"Gas\",$H$5),0)>0,VLOOKUP(\"Gas\",HVACg_Lookup,MATCH($H$6,BuildingSize,0)+1,FALSE),IF(IFERROR(SEARCH(\"Oil\",$H$5),0)>0,VLOOKUP(\"Oil\",HVACg_Lookup,MATCH($H$6,BuildingSize,0)+1,FALSE),IF(IFERROR(SEARCH(\"Propane\",$H$5),0)>0,VLOOKUP(\"Propane\",HVACg_Lookup,MATCH(Worksheet!$H$6,BuildingSize,0)+1,FALSE),0)))","v":0},{"$f":"X141/1000*Y141*AA141*IF(IFERROR(SEARCH(\"Gas\",$H$5),0)>0,VLOOKUP(\"Gas\",HVACg_Lookup,MATCH($H$6,BuildingSize,0)+1,FALSE),IF(IFERROR(SEARCH(\"Oil\",$H$5),0)>0,VLOOKUP(\"Oil\",HVACg_Lookup,MATCH($H$6,BuildingSize,0)+1,FALSE),IF(IFERROR(SEARCH(\"Propane\",$H$5),0)>0,VLOOKUP(\"Propane\",HVACg_Lookup,MATCH(Worksheet!$H$6,BuildingSize,0)+1,FALSE),0)))","v":0},0,0,{"$f":"IF(OR($B$4=\"\",$B$5=\"\",$H$4=\"\",$H$6=\"\",$H$5=\"\",A141=\"\",F141=\"\",J141=\"\",O141=\"\",P141=\"\")=TRUE,\"\",IF(C141=\"OSW\",IF(J141>=2,1,0),IF(C141=\"OSR\",IF(AND(J141>=2,P141>60)=TRUE,1,0),IF(C141=\"OSRH\",IF(AND(J141>=1,P141>90)=TRUE,1,0),IF(C141=\"OHLC\",IF(AND(N141=\"Y\",P141>60)=TRUE,1,0),IF(C141=\"DDC\",IF(AND(J141>=4,N141=\"Y\",P141>120)=TRUE,1,0),0))))))","v":""},{"$f":"IF(OR($B$4=\"\",$B$5=\"\",$H$4=\"\",$H$6=\"\",$H$5=\"\",A141=\"\",F141=\"\",K141=\"\",O141=\"\",P141=\"\")=TRUE,\"\",IF(C141=\"OSW\",IF(K141>=2,1,0),IF(C141=\"OSR\",IF(AND(K141>=2,Q141>60)=TRUE,1,0),IF(C141=\"OSRH\",IF(AND(K141>=1,Q141>90)=TRUE,1,0),IF(C141=\"OHLC\",IF(AND(N141=\"Y\",Q141>60)=TRUE,1,0),IF(C141=\"DDC\",IF(AND(K141>=4,N141=\"Y\",Q141>120)=TRUE,1,0),0))))))","v":""}]
[null,null,"",null,null,null,null,null,null,null,null,null,null,null,null,0,0,0,0,"",0,0,0,0,0,{"$f":"IF($H$4=\"\",0,VLOOKUP($H$4,BuildingType_Lookup,3,FALSE))","v":0},{"$f":"IF($H$4=\"\",0,VLOOKUP($H$4,BuildingType_Lookup,2,FALSE))","v":0},{"$f":"IF(AND(OR(AN142=\"\",AN142=0)=TRUE,OR(AO142=\"\",AO142=0))=TRUE,0,IF(AO142=\"\",(IF(OR(C142=\"DDC\",C142=\"OHLC\")=TRUE,O142,P142)/1000)*Y142*Z142*(1+VLOOKUP($H$4,BuildingType_Lookup,4,FALSE)),IF(AO142=0,0,(IF(OR(C142=\"DDC\",C142=\"OHLC\")=TRUE,O142,Q142)/1000)*Y142*Z142*(1+VLOOKUP($H$4,BuildingType_Lookup,4,FALSE)))))","v":0},{"$f":"IF(AND(OR(AN142=\"\",AN142=0)=TRUE,OR(AO142=\"\",AO142=0))=TRUE,0,IF(AO142=\"\",(IF(OR(C142=\"DDC\",C142=\"OHLC\")=TRUE,O142,P142)/1000)*Y142*AA142*(1+VLOOKUP($H$4,BuildingType_Lookup,MATCH($H$5,HVAC,0)+4,FALSE)),IF(AO142=0,0,(IF(OR(C142=\"DDC\",C142=\"OHLC\")=TRUE,O142,Q142)/1000)*Y142*AA142*(1+VLOOKUP($H$4,BuildingType_Lookup,MATCH($H$5,HVAC,0)+4,FALSE)))))","v":0},0,0,0,0,0,0,{"$f":"W142/1000*Y142*AA142*IF(IFERROR(SEARCH(\"Gas\",$H$5),0)>0,VLOOKUP(\"Gas\",HVACg_Lookup,MATCH($H$6,BuildingSize,0)+1,FALSE),IF(IFERROR(SEARCH(\"Oil\",$H$5),0)>0,VLOOKUP(\"Oil\",HVACg_Lookup,MATCH($H$6,BuildingSize,0)+1,FALSE),IF(IFERROR(SEARCH(\"Propane\",$H$5),0)>0,VLOOKUP(\"Propane\",HVACg_Lookup,MATCH(Worksheet!$H$6,BuildingSize,0)+1,FALSE),0)))","v":0},{"$f":"X142/1000*Y142*AA142*IF(IFERROR(SEARCH(\"Gas\",$H$5),0)>0,VLOOKUP(\"Gas\",HVACg_Lookup,MATCH($H$6,BuildingSize,0)+1,FALSE),IF(IFERROR(SEARCH(\"Oil\",$H$5),0)>0,VLOOKUP(\"Oil\",HVACg_Lookup,MATCH($H$6,BuildingSize,0)+1,FALSE),IF(IFERROR(SEARCH(\"Propane\",$H$5),0)>0,VLOOKUP(\"Propane\",HVACg_Lookup,MATCH(Worksheet!$H$6,BuildingSize,0)+1,FALSE),0)))","v":0},0,0,{"$f":"IF(OR($B$4=\"\",$B$5=\"\",$H$4=\"\",$H$6=\"\",$H$5=\"\",A142=\"\",F142=\"\",J142=\"\",O142=\"\",P142=\"\")=TRUE,\"\",IF(C142=\"OSW\",IF(J142>=2,1,0),IF(C142=\"OSR\",IF(AND(J142>=2,P142>60)=TRUE,1,0),IF(C142=\"OSRH\",IF(AND(J142>=1,P142>90)=TRUE,1,0),IF(C142=\"OHLC\",IF(AND(N142=\"Y\",P142>60)=TRUE,1,0),IF(C142=\"DDC\",IF(AND(J142>=4,N142=\"Y\",P142>120)=TRUE,1,0),0))))))","v":""},{"$f":"IF(OR($B$4=\"\",$B$5=\"\",$H$4=\"\",$H$6=\"\",$H$5=\"\",A142=\"\",F142=\"\",K142=\"\",O142=\"\",P142=\"\")=TRUE,\"\",IF(C142=\"OSW\",IF(K142>=2,1,0),IF(C142=\"OSR\",IF(AND(K142>=2,Q142>60)=TRUE,1,0),IF(C142=\"OSRH\",IF(AND(K142>=1,Q142>90)=TRUE,1,0),IF(C142=\"OHLC\",IF(AND(N142=\"Y\",Q142>60)=TRUE,1,0),IF(C142=\"DDC\",IF(AND(K142>=4,N142=\"Y\",Q142>120)=TRUE,1,0),0))))))","v":""}]
[null,null,"",null,null,null,null,null,null,null,null,null,null,null,null,0,0,0,0,"",0,0,0,0,0,{"$f":"IF($H$4=\"\",0,VLOOKUP($H$4,BuildingType_Lookup,3,FALSE))","v":0},{"$f":"IF($H$4=\"\",0,VLOOKUP($H$4,BuildingType_Lookup,2,FALSE))","v":0},{"$f":"IF(AND(OR(AN143=\"\",AN143=0)=TRUE,OR(AO143=\"\",AO143=0))=TRUE,0,IF(AO143=\"\",(IF(OR(C143=\"DDC\",C143=\"OHLC\")=TRUE,O143,P143)/1000)*Y143*Z143*(1+VLOOKUP($H$4,BuildingType_Lookup,4,FALSE)),IF(AO143=0,0,(IF(OR(C143=\"DDC\",C143=\"OHLC\")=TRUE,O143,Q143)/1000)*Y143*Z143*(1+VLOOKUP($H$4,BuildingType_Lookup,4,FALSE)))))","v":0},{"$f":"IF(AND(OR(AN143=\"\",AN143=0)=TRUE,OR(AO143=\"\",AO143=0))=TRUE,0,IF(AO143=\"\",(IF(OR(C143=\"DDC\",C143=\"OHLC\")=TRUE,O143,P143)/1000)*Y143*AA143*(1+VLOOKUP($H$4,BuildingType_Lookup,MATCH($H$5,HVAC,0)+4,FALSE)),IF(AO143=0,0,(IF(OR(C143=\"DDC\",C143=\"OHLC\")=TRUE,O143,Q143)/1000)*Y143*AA143*(1+VLOOKUP($H$4,BuildingType_Lookup,MATCH($H$5,HVAC,0)+4,FALSE)))))","v":0},0,0,0,0,0,0,{"$f":"W143/1000*Y143*AA143*IF(IFERROR(SEARCH(\"Gas\",$H$5),0)>0,VLOOKUP(\"Gas\",HVACg_Lookup,MATCH($H$6,BuildingSize,0)+1,FALSE),IF(IFERROR(SEARCH(\"Oil\",$H$5),0)>0,VLOOKUP(\"Oil\",HVACg_Lookup,MATCH($H$6,BuildingSize,0)+1,FALSE),IF(IFERROR(SEARCH(\"Propane\",$H$5),0)>0,VLOOKUP(\"Propane\",HVACg_Lookup,MATCH(Worksheet!$H$6,BuildingSize,0)+1,FALSE),0)))","v":0},{"$f":"X143/1000*Y143*AA143*IF(IFERROR(SEARCH(\"Gas\",$H$5),0)>0,VLOOKUP(\"Gas\",HVACg_Lookup,MATCH($H$6,BuildingSize,0)+1,FALSE),IF(IFERROR(SEARCH(\"Oil\",$H$5),0)>0,VLOOKUP(\"Oil\",HVACg_Lookup,MATCH($H$6,BuildingSize,0)+1,FALSE),IF(IFERROR(SEARCH(\"Propane\",$H$5),0)>0,VLOOKUP(\"Propane\",HVACg_Lookup,MATCH(Worksheet!$H$6,BuildingSize,0)+1,FALSE),0)))","v":0},0,0,{"$f":"IF(OR($B$4=\"\",$B$5=\"\",$H$4=\"\",$H$6=\"\",$H$5=\"\",A143=\"\",F143=\"\",J143=\"\",O143=\"\",P143=\"\")=TRUE,\"\",IF(C143=\"OSW\",IF(J143>=2,1,0),IF(C143=\"OSR\",IF(AND(J143>=2,P143>60)=TRUE,1,0),IF(C143=\"OSRH\",IF(AND(J143>=1,P143>90)=TRUE,1,0),IF(C143=\"OHLC\",IF(AND(N143=\"Y\",P143>60)=TRUE,1,0),IF(C143=\"DDC\",IF(AND(J143>=4,N143=\"Y\",P143>120)=TRUE,1,0),0))))))","v":""},{"$f":"IF(OR($B$4=\"\",$B$5=\"\",$H$4=\"\",$H$6=\"\",$H$5=\"\",A143=\"\",F143=\"\",K143=\"\",O143=\"\",P143=\"\")=TRUE,\"\",IF(C143=\"OSW\",IF(K143>=2,1,0),IF(C143=\"OSR\",IF(AND(K143>=2,Q143>60)=TRUE,1,0),IF(C143=\"OSRH\",IF(AND(K143>=1,Q143>90)=TRUE,1,0),IF(C143=\"OHLC\",IF(AND(N143=\"Y\",Q143>60)=TRUE,1,0),IF(C143=\"DDC\",IF(AND(K143>=4,N143=\"Y\",Q143>120)=TRUE,1,0),0))))))","v":""}]
[null,null,"",null,null,null,null,null,null,null,null,null,null,null,null,0,0,0,0,"",0,0,0,0,0,{"$f":"IF($H$4=\"\",0,VLOOKUP($H$4,BuildingType_Lookup,3,FALSE))","v":0},{"$f":"IF($H$4=\"\",0,VLOOKUP($H$4,BuildingType_Lookup,2,FALSE))","v":0},{"$f":"IF(AND(OR(AN144=\"\",AN144=0)=TRUE,OR(AO144=\"\",AO144=0))=TRUE,0,IF(AO144=\"\",(IF(OR(C144=\"DDC\",C144=\"OHLC\")=TRUE,O144,P144)/1000)*Y144*Z144*(1+VLOOKUP($H$4,BuildingType_Lookup,4,FALSE)),IF(AO144=0,0,(IF(OR(C144=\"DDC\",C144=\"OHLC\")=TRUE,O144,Q144)/1000)*Y144*Z144*(1+VLOOKUP($H$4,BuildingType_Lookup,4,FALSE)))))","v":0},{"$f":"IF(AND(OR(AN144=\"\",AN144=0)=TRUE,OR(AO144=\"\",AO144=0))=TRUE,0,IF(AO144=\"\",(IF(OR(C144=\"DDC\",C144=\"OHLC\")=TRUE,O144,P144)/1000)*Y144*AA144*(1+VLOOKUP($H$4,BuildingType_Lookup,MATCH($H$5,HVAC,0)+4,FALSE)),IF(AO144=0,0,(IF(OR(C144=\"DDC\",C144=\"OHLC\")=TRUE,O144,Q144)/1000)*Y144*AA144*(1+VLOOKUP($H$4,BuildingType_Lookup,MATCH($H$5,HVAC,0)+4,FALSE)))))","v":0},0,0,0,0,0,0,{"$f":"W144/1000*Y144*AA144*IF(IFERROR(SEARCH(\"Gas\",$H$5),0)>0,VLOOKUP(\"Gas\",HVACg_Lookup,MATCH($H$6,BuildingSize,0)+1,FALSE),IF(IFERROR(SEARCH(\"Oil\",$H$5),0)>0,VLOOKUP(\"Oil\",HVACg_Lookup,MATCH($H$6,BuildingSize,0)+1,FALSE),IF(IFERROR(SEARCH(\"Propane\",$H$5),0)>0,VLOOKUP(\"Propane\",HVACg_Lookup,MATCH(Worksheet!$H$6,BuildingSize,0)+1,FALSE),0)))","v":0},{"$f":"X144/1000*Y144*AA144*IF(IFERROR(SEARCH(\"Gas\",$H$5),0)>0,VLOOKUP(\"Gas\",HVACg_Lookup,MATCH($H$6,BuildingSize,0)+1,FALSE),IF(IFERROR(SEARCH(\"Oil\",$H$5),0)>0,VLOOKUP(\"Oil\",HVACg_Lookup,MATCH($H$6,BuildingSize,0)+1,FALSE),IF(IFERROR(SEARCH(\"Propane\",$H$5),0)>0,VLOOKUP(\"Propane\",HVACg_Lookup,MATCH(Worksheet!$H$6,BuildingSize,0)+1,FALSE),0)))","v":0},0,0,{"$f":"IF(OR($B$4=\"\",$B$5=\"\",$H$4=\"\",$H$6=\"\",$H$5=\"\",A144=\"\",F144=\"\",J144=\"\",O144=\"\",P144=\"\")=TRUE,\"\",IF(C144=\"OSW\",IF(J144>=2,1,0),IF(C144=\"OSR\",IF(AND(J144>=2,P144>60)=TRUE,1,0),IF(C144=\"OSRH\",IF(AND(J144>=1,P144>90)=TRUE,1,0),IF(C144=\"OHLC\",IF(AND(N144=\"Y\",P144>60)=TRUE,1,0),IF(C144=\"DDC\",IF(AND(J144>=4,N144=\"Y\",P144>120)=TRUE,1,0),0))))))","v":""},{"$f":"IF(OR($B$4=\"\",$B$5=\"\",$H$4=\"\",$H$6=\"\",$H$5=\"\",A144=\"\",F144=\"\",K144=\"\",O144=\"\",P144=\"\")=TRUE,\"\",IF(C144=\"OSW\",IF(K144>=2,1,0),IF(C144=\"OSR\",IF(AND(K144>=2,Q144>60)=TRUE,1,0),IF(C144=\"OSRH\",IF(AND(K144>=1,Q144>90)=TRUE,1,0),IF(C144=\"OHLC\",IF(AND(N144=\"Y\",Q144>60)=TRUE,1,0),IF(C144=\"DDC\",IF(AND(K144>=4,N144=\"Y\",Q144>120)=TRUE,1,0),0))))))","v":""}]
[null,null,"",null,null,null,null,null,null,null,null,null,null,null,null,0,0,0,0,"",0,0,0,0,0,{"$f":"IF($H$4=\"\",0,VLOOKUP($H$4,BuildingType_Lookup,3,FALSE))","v":0},{"$f":"IF($H$4=\"\",0,VLOOKUP($H$4,BuildingType_Lookup,2,FALSE))","v":0},{"$f":"IF(AND(OR(AN145=\"\",AN145=0)=TRUE,OR(AO145=\"\",AO145=0))=TRUE,0,IF(AO145=\"\",(IF(OR(C145=\"DDC\",C145=\"OHLC\")=TRUE,O145,P145)/1000)*Y145*Z145*(1+VLOOKUP($H$4,BuildingType_Lookup,4,FALSE)),IF(AO145=0,0,(IF(OR(C145=\"DDC\",C145=\"OHLC\")=TRUE,O145,Q145)/1000)*Y145*Z145*(1+VLOOKUP($H$4,BuildingType_Lookup,4,FALSE)))))","v":0},{"$f":"IF(AND(OR(AN145=\"\",AN145=0)=TRUE,OR(AO145=\"\",AO145=0))=TRUE,0,IF(AO145=\"\",(IF(OR(C145=\"DDC\",C145=\"OHLC\")=TRUE,O145,P145)/1000)*Y145*AA145*(1+VLOOKUP($H$4,BuildingType_Lookup,MATCH($H$5,HVAC,0)+4,FALSE)),IF(AO145=0,0,(IF(OR(C145=\"DDC\",C145=\"OHLC\")=TRUE,O145,Q145)/1000)*Y145*AA145*(1+VLOOKUP($H$4,BuildingType_Lookup,MATCH($H$5,HVAC,0)+4,FALSE)))))","v":0},0,0,0,0,0,0,{"$f":"W145/1000*Y145*AA145*IF(IFERROR(SEARCH(\"Gas\",$H$5),0)>0,VLOOKUP(\"Gas\",HVACg_Lookup,MATCH($H$6,BuildingSize,0)+1,FALSE),IF(IFERROR(SEARCH(\"Oil\",$H$5),0)>0,VLOOKUP(\"Oil\",HVACg_Lookup,MATCH($H$6,BuildingSize,0)+1,FALSE),IF(IFERROR(SEARCH(\"Propane\",$H$5),0)>0,VLOOKUP(\"Propane\",HVACg_Lookup,MATCH(Worksheet!$H$6,BuildingSize,0)+1,FALSE),0)))","v":0},{"$f":"X145/1000*Y145*AA145*IF(IFERROR(SEARCH(\"Gas\",$H$5),0)>0,VLOOKUP(\"Gas\",HVACg_Lookup,MATCH($H$6,BuildingSize,0)+1,FALSE),IF(IFERROR(SEARCH(\"Oil\",$H$5),0)>0,VLOOKUP(\"Oil\",HVACg_Lookup,MATCH($H$6,BuildingSize,0)+1,FALSE),IF(IFERROR(SEARCH(\"Propane\",$H$5),0)>0,VLOOKUP(\"Propane\",HVACg_Lookup,MATCH(Worksheet!$H$6,BuildingSize,0)+1,FALSE),0)))","v":0},0,0,{"$f":"IF(OR($B$4=\"\",$B$5=\"\",$H$4=\"\",$H$6=\"\",$H$5=\"\",A145=\"\",F145=\"\",J145=\"\",O145=\"\",P145=\"\")=TRUE,\"\",IF(C145=\"OSW\",IF(J145>=2,1,0),IF(C145=\"OSR\",IF(AND(J145>=2,P145>60)=TRUE,1,0),IF(C145=\"OSRH\",IF(AND(J145>=1,P145>90)=TRUE,1,0),IF(C145=\"OHLC\",IF(AND(N145=\"Y\",P145>60)=TRUE,1,0),IF(C145=\"DDC\",IF(AND(J145>=4,N145=\"Y\",P145>120)=TRUE,1,0),0))))))","v":""},{"$f":"IF(OR($B$4=\"\",$B$5=\"\",$H$4=\"\",$H$6=\"\",$H$5=\"\",A145=\"\",F145=\"\",K145=\"\",O145=\"\",P145=\"\")=TRUE,\"\",IF(C145=\"OSW\",IF(K145>=2,1,0),IF(C145=\"OSR\",IF(AND(K145>=2,Q145>60)=TRUE,1,0),IF(C145=\"OSRH\",IF(AND(K145>=1,Q145>90)=TRUE,1,0),IF(C145=\"OHLC\",IF(AND(N145=\"Y\",Q145>60)=TRUE,1,0),IF(C145=\"DDC\",IF(AND(K145>=4,N145=\"Y\",Q145>120)=TRUE,1,0),0))))))","v":""}]
[null,null,"",null,null,null,null,null,null,null,null,null,null,null,null,0,0,0,0,"",0,0,0,0,0,{"$f":"IF($H$4=\"\",0,VLOOKUP($H$4,BuildingType_Lookup,3,FALSE))","v":0},{"$f":"IF($H$4=\"\",0,VLOOKUP($H$4,BuildingType_Lookup,2,FALSE))","v":0},{"$f":"IF(AND(OR(AN146=\"\",AN146=0)=TRUE,OR(AO146=\"\",AO146=0))=TRUE,0,IF(AO146=\"\",(IF(OR(C146=\"DDC\",C146=\"OHLC\")=TRUE,O146,P146)/1000)*Y146*Z146*(1+VLOOKUP($H$4,BuildingType_Lookup,4,FALSE)),IF(AO146=0,0,(IF(OR(C146=\"DDC\",C146=\"OHLC\")=TRUE,O146,Q146)/1000)*Y146*Z146*(1+VLOOKUP($H$4,BuildingType_Lookup,4,FALSE)))))","v":0},{"$f":"IF(AND(OR(AN146=\"\",AN146=0)=TRUE,OR(AO146=\"\",AO146=0))=TRUE,0,IF(AO146=\"\",(IF(OR(C146=\"DDC\",C146=\"OHLC\")=TRUE,O146,P146)/1000)*Y146*AA146*(1+VLOOKUP($H$4,BuildingType_Lookup,MATCH($H$5,HVAC,0)+4,FALSE)),IF(AO146=0,0,(IF(OR(C146=\"DDC\",C146=\"OHLC\")=TRUE,O146,Q146)/1000)*Y146*AA146*(1+VLOOKUP($H$4,BuildingType_Lookup,MATCH($H$5,HVAC,0)+4,FALSE)))))","v":0},0,0,0,0,0,0,{"$f":"W146/1000*Y146*AA146*IF(IFERROR(SEARCH(\"Gas\",$H$5),0)>0,VLOOKUP(\"Gas\",HVACg_Lookup,MATCH($H$6,BuildingSize,0)+1,FALSE),IF(IFERROR(SEARCH(\"Oil\",$H$5),0)>0,VLOOKUP(\"Oil\",HVACg_Lookup,MATCH($H$6,BuildingSize,0)+1,FALSE),IF(IFERROR(SEARCH(\"Propane\",$H$5),0)>0,VLOOKUP(\"Propane\",HVACg_Lookup,MATCH(Worksheet!$H$6,BuildingSize,0)+1,FALSE),0)))","v":0},{"$f":"X146/1000*Y146*AA146*IF(IFERROR(SEARCH(\"Gas\",$H$5),0)>0,VLOOKUP(\"Gas\",HVACg_Lookup,MATCH($H$6,BuildingSize,0)+1,FALSE),IF(IFERROR(SEARCH(\"Oil\",$H$5),0)>0,VLOOKUP(\"Oil\",HVACg_Lookup,MATCH($H$6,BuildingSize,0)+1,FALSE),IF(IFERROR(SEARCH(\"Propane\",$H$5),0)>0,VLOOKUP(\"Propane\",HVACg_Lookup,MATCH(Worksheet!$H$6,BuildingSize,0)+1,FALSE),0)))","v":0},0,0,{"$f":"IF(OR($B$4=\"\",$B$5=\"\",$H$4=\"\",$H$6=\"\",$H$5=\"\",A146=\"\",F146=\"\",J146=\"\",O146=\"\",P146=\"\")=TRUE,\"\",IF(C146=\"OSW\",IF(J146>=2,1,0),IF(C146=\"OSR\",IF(AND(J146>=2,P146>60)=TRUE,1,0),IF(C146=\"OSRH\",IF(AND(J146>=1,P146>90)=TRUE,1,0),IF(C146=\"OHLC\",IF(AND(N146=\"Y\",P146>60)=TRUE,1,0),IF(C146=\"DDC\",IF(AND(J146>=4,N146=\"Y\",P146>120)=TRUE,1,0),0))))))","v":""},{"$f":"IF(OR($B$4=\"\",$B$5=\"\",$H$4=\"\",$H$6=\"\",$H$5=\"\",A146=\"\",F146=\"\",K146=\"\",O146=\"\",P146=\"\")=TRUE,\"\",IF(C146=\"OSW\",IF(K146>=2,1,0),IF(C146=\"OSR\",IF(AND(K146>=2,Q146>60)=TRUE,1,0),IF(C146=\"OSRH\",IF(AND(K146>=1,Q146>90)=TRUE,1,0),IF(C146=\"OHLC\",IF(AND(N146=\"Y\",Q146>60)=TRUE,1,0),IF(C146=\"DDC\",IF(AND(K146>=4,N146=\"Y\",Q146>120)=TRUE,1,0),0))))))","v":""}]
[null,null,"",null,null,null,null,null,null,null,null,null,null,null,null,0,0,0,0,"",0,0,0,0,0,{"$f":"IF($H$4=\"\",0,VLOOKUP($H$4,BuildingType_Lookup,3,FALSE))","v":0},{"$f":"IF($H$4=\"\",0,VLOOKUP($H$4,BuildingType_Lookup,2,FALSE))","v":0},{"$f":"IF(AND(OR(AN147=\"\",AN147=0)=TRUE,OR(AO147=\"\",AO147=0))=TRUE,0,IF(AO147=\"\",(IF(OR(C147=\"DDC\",C147=\"OHLC\")=TRUE,O147,P147)/1000)*Y147*Z147*(1+VLOOKUP($H$4,BuildingType_Lookup,4,FALSE)),IF(AO147=0,0,(IF(OR(C147=\"DDC\",C147=\"OHLC\")=TRUE,O147,Q147)/1000)*Y147*Z147*(1+VLOOKUP($H$4,BuildingType_Lookup,4,FALSE)))))","v":0},{"$f":"IF(AND(OR(AN147=\"\",AN147=0)=TRUE,OR(AO147=\"\",AO147=0))=TRUE,0,IF(AO147=\"\",(IF(OR(C147=\"DDC\",C147=\"OHLC\")=TRUE,O147,P147)/1000)*Y147*AA147*(1+VLOOKUP($H$4,BuildingType_Lookup,MATCH($H$5,HVAC,0)+4,FALSE)),IF(AO147=0,0,(IF(OR(C147=\"DDC\",C147=\"OHLC\")=TRUE,O147,Q147)/1000)*Y147*AA147*(1+VLOOKUP($H$4,BuildingType_Lookup,MATCH($H$5,HVAC,0)+4,FALSE)))))","v":0},0,0,0,0,0,0,{"$f":"W147/1000*Y147*AA147*IF(IFERROR(SEARCH(\"Gas\",$H$5),0)>0,VLOOKUP(\"Gas\",HVACg_Lookup,MATCH($H$6,BuildingSize,0)+1,FALSE),IF(IFERROR(SEARCH(\"Oil\",$H$5),0)>0,VLOOKUP(\"Oil\",HVACg_Lookup,MATCH($H$6,BuildingSize,0)+1,FALSE),IF(IFERROR(SEARCH(\"Propane\",$H$5),0)>0,VLOOKUP(\"Propane\",HVACg_Lookup,MATCH(Worksheet!$H$6,BuildingSize,0)+1,FALSE),0)))","v":0},{"$f":"X147/1000*Y147*AA147*IF(IFERROR(SEARCH(\"Gas\",$H$5),0)>0,VLOOKUP(\"Gas\",HVACg_Lookup,MATCH($H$6,BuildingSize,0)+1,FALSE),IF(IFERROR(SEARCH(\"Oil\",$H$5),0)>0,VLOOKUP(\"Oil\",HVACg_Lookup,MATCH($H$6,BuildingSize,0)+1,FALSE),IF(IFERROR(SEARCH(\"Propane\",$H$5),0)>0,VLOOKUP(\"Propane\",HVACg_Lookup,MATCH(Worksheet!$H$6,BuildingSize,0)+1,FALSE),0)))","v":0},0,0,{"$f":"IF(OR($B$4=\"\",$B$5=\"\",$H$4=\"\",$H$6=\"\",$H$5=\"\",A147=\"\",F147=\"\",J147=\"\",O147=\"\",P147=\"\")=TRUE,\"\",IF(C147=\"OSW\",IF(J147>=2,1,0),IF(C147=\"OSR\",IF(AND(J147>=2,P147>60)=TRUE,1,0),IF(C147=\"OSRH\",IF(AND(J147>=1,P147>90)=TRUE,1,0),IF(C147=\"OHLC\",IF(AND(N147=\"Y\",P147>60)=TRUE,1,0),IF(C147=\"DDC\",IF(AND(J147>=4,N147=\"Y\",P147>120)=TRUE,1,0),0))))))","v":""},{"$f":"IF(OR($B$4=\"\",$B$5=\"\",$H$4=\"\",$H$6=\"\",$H$5=\"\",A147=\"\",F147=\"\",K147=\"\",O147=\"\",P147=\"\")=TRUE,\"\",IF(C147=\"OSW\",IF(K147>=2,1,0),IF(C147=\"OSR\",IF(AND(K147>=2,Q147>60)=TRUE,1,0),IF(C147=\"OSRH\",IF(AND(K147>=1,Q147>90)=TRUE,1,0),IF(C147=\"OHLC\",IF(AND(N147=\"Y\",Q147>60)=TRUE,1,0),IF(C147=\"DDC\",IF(AND(K147>=4,N147=\"Y\",Q147>120)=TRUE,1,0),0))))))","v":""}]
[null,null,"",null,null,null,null,null,null,null,null,null,null,null,null,0,0,0,0,"",0,0,0,0,0,{"$f":"IF($H$4=\"\",0,VLOOKUP($H$4,BuildingType_Lookup,3,FALSE))","v":0},{"$f":"IF($H$4=\"\",0,VLOOKUP($H$4,BuildingType_Lookup,2,FALSE))","v":0},{"$f":"IF(AND(OR(AN148=\"\",AN148=0)=TRUE,OR(AO148=\"\",AO148=0))=TRUE,0,IF(AO148=\"\",(IF(OR(C148=\"DDC\",C148=\"OHLC\")=TRUE,O148,P148)/1000)*Y148*Z148*(1+VLOOKUP($H$4,BuildingType_Lookup,4,FALSE)),IF(AO148=0,0,(IF(OR(C148=\"DDC\",C148=\"OHLC\")=TRUE,O148,Q148)/1000)*Y148*Z148*(1+VLOOKUP($H$4,BuildingType_Lookup,4,FALSE)))))","v":0},{"$f":"IF(AND(OR(AN148=\"\",AN148=0)=TRUE,OR(AO148=\"\",AO148=0))=TRUE,0,IF(AO148=\"\",(IF(OR(C148=\"DDC\",C148=\"OHLC\")=TRUE,O148,P148)/1000)*Y148*AA148*(1+VLOOKUP($H$4,BuildingType_Lookup,MATCH($H$5,HVAC,0)+4,FALSE)),IF(AO148=0,0,(IF(OR(C148=\"DDC\",C148=\"OHLC\")=TRUE,O148,Q148)/1000)*Y148*AA148*(1+VLOOKUP($H$4,BuildingType_Lookup,MATCH($H$5,HVAC,0)+4,FALSE)))))","v":0},0,0,0,0,0,0,{"$f":"W148/1000*Y148*AA148*IF(IFERROR(SEARCH(\"Gas\",$H$5),0)>0,VLOOKUP(\"Gas\",HVACg_Lookup,MATCH($H$6,BuildingSize,0)+1,FALSE),IF(IFERROR(SEARCH(\"Oil\",$H$5),0)>0,VLOOKUP(\"Oil\",HVACg_Lookup,MATCH($H$6,BuildingSize,0)+1,FALSE),IF(IFERROR(SEARCH(\"Propane\",$H$5),0)>0,VLOOKUP(\"Propane\",HVACg_Lookup,MATCH(Worksheet!$H$6,BuildingSize,0)+1,FALSE),0)))","v":0},{"$f":"X148/1000*Y148*AA148*IF(IFERROR(SEARCH(\"Gas\",$H$5),0)>0,VLOOKUP(\"Gas\",HVACg_Lookup,MATCH($H$6,BuildingSize,0)+1,FALSE),IF(IFERROR(SEARCH(\"Oil\",$H$5),0)>0,VLOOKUP(\"Oil\",HVACg_Lookup,MATCH($H$6,BuildingSize,0)+1,FALSE),IF(IFERROR(SEARCH(\"Propane\",$H$5),0)>0,VLOOKUP(\"Propane\",HVACg_Lookup,MATCH(Worksheet!$H$6,BuildingSize,0)+1,FALSE),0)))","v":0},0,0,{"$f":"IF(OR($B$4=\"\",$B$5=\"\",$H$4=\"\",$H$6=\"\",$H$5=\"\",A148=\"\",F148=\"\",J148=\"\",O148=\"\",P148=\"\")=TRUE,\"\",IF(C148=\"OSW\",IF(J148>=2,1,0),IF(C148=\"OSR\",IF(AND(J148>=2,P148>60)=TRUE,1,0),IF(C148=\"OSRH\",IF(AND(J148>=1,P148>90)=TRUE,1,0),IF(C148=\"OHLC\",IF(AND(N148=\"Y\",P148>60)=TRUE,1,0),IF(C148=\"DDC\",IF(AND(J148>=4,N148=\"Y\",P148>120)=TRUE,1,0),0))))))","v":""},{"$f":"IF(OR($B$4=\"\",$B$5=\"\",$H$4=\"\",$H$6=\"\",$H$5=\"\",A148=\"\",F148=\"\",K148=\"\",O148=\"\",P148=\"\")=TRUE,\"\",IF(C148=\"OSW\",IF(K148>=2,1,0),IF(C148=\"OSR\",IF(AND(K148>=2,Q148>60)=TRUE,1,0),IF(C148=\"OSRH\",IF(AND(K148>=1,Q148>90)=TRUE,1,0),IF(C148=\"OHLC\",IF(AND(N148=\"Y\",Q148>60)=TRUE,1,0),IF(C148=\"DDC\",IF(AND(K148>=4,N148=\"Y\",Q148>120)=TRUE,1,0),0))))))","v":""}]
[null,null,"",null,null,null,null,null,null,null,null,null,null,null,null,0,0,{"$f":"IF(AN149=\"\",0,IF(AN149=1,VLOOKUP(A149,MeasureCode_Lookup,3,FALSE),\"DNQ\"))","v":0},{"$f":"IF(AO149=\"\",0,IF(AO149=1,VLOOKUP(A149,MeasureCode_Lookup,3,FALSE),\"DNQ\"))","v":0},{"$f":"IF(A149=\"\",\"\",VLOOKUP(A149,MeasureCode_Lookup,4,FALSE))","v":""},0,0,{"$f":"IF(N(R149)=0,0,F149*P149)","v":0},{"$f":"IF(N(S149)=0,0,G149*Q149)","v":0},{"$f":"IF(A149=\"\",0,VLOOKUP(A149,MeasureCode_Lookup,5,FALSE))","v":0},{"$f":"IF($H$4=\"\",0,VLOOKUP($H$4,BuildingType_Lookup,3,FALSE))","v":0},{"$f":"IF($H$4=\"\",0,VLOOKUP($H$4,BuildingType_Lookup,2,FALSE))","v":0},{"$f":"IF(AND(OR(AN149=\"\",AN149=0)=TRUE,OR(AO149=\"\",AO149=0))=TRUE,0,IF(AO149=\"\",(IF(OR(C149=\"DDC\",C149=\"OHLC\")=TRUE,O149,P149)/1000)*Y149*Z149*(1+VLOOKUP($H$4,BuildingType_Lookup,4,FALSE)),IF(AO149=0,0,(IF(OR(C149=\"DDC\",C149=\"OHLC\")=TRUE,O149,Q149)/1000)*Y149*Z149*(1+VLOOKUP($H$4,BuildingType_Lookup,4,FALSE)))))","v":0},{"$f":"IF(AND(OR(AN149=\"\",AN149=0)=TRUE,OR(AO149=\"\",AO149=0))=TRUE,0,IF(AO149=\"\",(IF(OR(C149=\"DDC\",C149=\"OHLC\")=TRUE,O149,P149)/1000)*Y149*AA149*(1+VLOOKUP($H$4,BuildingType_Lookup,MATCH($H$5,HVAC,0)+4,FALSE)),IF(AO149=0,0,(IF(OR(C149=\"DDC\",C149=\"OHLC\")=TRUE,O149,Q149)/1000)*Y149*AA149*(1+VLOOKUP($H$4,BuildingType_Lookup,MATCH($H$5,HVAC,0)+4,FALSE)))))","v":0},{"$f":"IFERROR(IF(OR(C149=\"DDC\",C149=\"OHLC\")=TRUE,F149*J149*AB149,F149*AB149),0)","v":0},{"$f":"IFERROR(IF(OR(C149=\"DDC\",C149=\"OHLC\")=TRUE,G149*K149*AB149,G149*AB149),0)","v":0},{"$f":"IFERROR(IF(OR(C149=\"DDC\",C149=\"OHLC\")=TRUE,F149*J149*AC149,F149*AC149),0)","v":0},{"$f":"IFERROR(IF(OR(C149=\"DDC\",C149=\"OHLC\")=TRUE,G149*K149*AC149,G149*AC149),0)","v":0},0,0,{"$f":"W149/1000*Y149*AA149*IF(IFERROR(SEARCH(\"Gas\",$H$5),0)>0,VLOOKUP(\"Gas\",HVACg_Lookup,MATCH($H$6,BuildingSize,0)+1,FALSE),IF(IFERROR(SEARCH(\"Oil\",$H$5),0)>0,VLOOKUP(\"Oil\",HVACg_Lookup,MATCH($H$6,BuildingSize,0)+1,FALSE),IF(IFERROR(SEARCH(\"Propane\",$H$5),0)>0,VLOOKUP(\"Propane\",HVACg_Lookup,MATCH(Worksheet!$H$6,BuildingSize,0)+1,FALSE),0)))","v":0},{"$f":"X149/1000*Y149*AA149*IF(IFERROR(SEARCH(\"Gas\",$H$5),0)>0,VLOOKUP(\"Gas\",HVACg_Lookup,MATCH($H$6,BuildingSize,0)+1,FALSE),IF(IFERROR(SEARCH(\"Oil\",$H$5),0)>0,VLOOKUP(\"Oil\",HVACg_Lookup,MATCH($H$6,BuildingSize,0)+1,FALSE),IF(IFERROR(SEARCH(\"Propane\",$H$5),0)>0,VLOOKUP(\"Propane\",HVACg_Lookup,MATCH(Worksheet!$H$6,BuildingSize,0)+1,FALSE),0)))","v":0},0,0,{"$f":"IF(OR($B$4=\"\",$B$5=\"\",$H$4=\"\",$H$6=\"\",$H$5=\"\",A149=\"\",F149=\"\",J149=\"\",O149=\"\",P149=\"\")=TRUE,\"\",IF(C149=\"OSW\",IF(J149>=2,1,0),IF(C149=\"OSR\",IF(AND(J149>=2,P149>60)=TRUE,1,0),IF(C149=\"OSRH\",IF(AND(J149>=1,P149>90)=TRUE,1,0),IF(C149=\"OHLC\",IF(AND(N149=\"Y\",P149>60)=TRUE,1,0),IF(C149=\"DDC\",IF(AND(J149>=4,N149=\"Y\",P149>120)=TRUE,1,0),0))))))","v":""},{"$f":"IF(OR($B$4=\"\",$B$5=\"\",$H$4=\"\",$H$6=\"\",$H$5=\"\",A149=\"\",F149=\"\",K149=\"\",O149=\"\",P149=\"\")=TRUE,\"\",IF(C149=\"OSW\",IF(K149>=2,1,0),IF(C149=\"OSR\",IF(AND(K149>=2,Q149>60)=TRUE,1,0),IF(C149=\"OSRH\",IF(AND(K149>=1,Q149>90)=TRUE,1,0),IF(C149=\"OHLC\",IF(AND(N149=\"Y\",Q149>60)=TRUE,1,0),IF(C149=\"DDC\",IF(AND(K149>=4,N149=\"Y\",Q149>120)=TRUE,1,0),0))))))","v":""}]
[null,null,{"$f":"IF(A150=\"\",\"\",VLOOKUP(A150,MeasureCode_Lookup,2,FALSE))","v":""},null,null,null,null,null,null,null,null,null,null,null,null,{"$f":"IF(OR(A150=\"\",F150=\"\",J150=\"\",O150=\"\")=TRUE,0,J150*O150)","v":0},{"$f":"IF(OR(A150=\"\",G150=\"\",K150=\"\",O150=\"\")=TRUE,0,K150*O150)","v":0},0,0,"",{"$f":"IF(N(R150)=0,0,F150*R150*IF(T150=\"per Fixture Controlled\",J150,1))","v":0},{"$f":"IF(N(S150)=0,0,G150*S150*IF(T150=\"per Fixture Controlled\",K150,1))","v":0},0,0,0,{"$f":"IF($H$4=\"\",0,VLOOKUP($H$4,BuildingType_Lookup,3,FALSE))","v":0},{"$f":"IF($H$4=\"\",0,VLOOKUP($H$4,BuildingType_Lookup,2,FALSE))","v":0},{"$f":"IF(AND(OR(AN150=\"\",AN150=0)=TRUE,OR(AO150=\"\",AO150=0))=TRUE,0,IF(AO150=\"\",(IF(OR(C150=\"DDC\",C150=\"OHLC\")=TRUE,O150,P150)/1000)*Y150*Z150*(1+VLOOKUP($H$4,BuildingType_Lookup,4,FALSE)),IF(AO150=0,0,(IF(OR(C150=\"DDC\",C150=\"OHLC\")=TRUE,O150,Q150)/1000)*Y150*Z150*(1+VLOOKUP($H$4,BuildingType_Lookup,4,FALSE)))))","v":0},{"$f":"IF(AND(OR(AN150=\"\",AN150=0)=TRUE,OR(AO150=\"\",AO150=0))=TRUE,0,IF(AO150=\"\",(IF(OR(C150=\"DDC\",C150=\"OHLC\")=TRUE,O150,P150)/1000)*Y150*AA150*(1+VLOOKUP($H$4,BuildingType_Lookup,MATCH($H$5,HVAC,0)+4,FALSE)),IF(AO150=0,0,(IF(OR(C150=\"DDC\",C150=\"OHLC\")=TRUE,O150,Q150)/1000)*Y150*AA150*(1+VLOOKUP($H$4,BuildingType_Lookup,MATCH($H$5,HVAC,0)+4,FALSE)))))","v":0},0,0,0,0,{"$f":"AF150*8","v":0},{"$f":"AG150*8","v":0},{"$f":"W150/1000*Y150*AA150*IF(IFERROR(SEARCH(\"Gas\",$H$5),0)>0,VLOOKUP(\"Gas\",HVACg_Lookup,MATCH($H$6,BuildingSize,0)+1,FALSE),IF(IFERROR(SEARCH(\"Oil\",$H$5),0)>0,VLOOKUP(\"Oil\",HVACg_Lookup,MATCH($H$6,BuildingSize,0)+1,FALSE),IF(IFERROR(SEARCH(\"Propane\",$H$5),0)>0,VLOOKUP(\"Propane\",HVACg_Lookup,MATCH(Worksheet!$H$6,BuildingSize,0)+1,FALSE),0)))","v":0},{"$f":"X150/1000*Y150*AA150*IF(IFERROR(SEARCH(\"Gas\",$H$5),0)>0,VLOOKUP(\"Gas\",HVACg_Lookup,MATCH($H$6,BuildingSize,0)+1,FALSE),IF(IFERROR(SEARCH(\"Oil\",$H$5),0)>0,VLOOKUP(\"Oil\",HVACg_Lookup,MATCH($H$6,BuildingSize,0)+1,FALSE),IF(IFERROR(SEARCH(\"Propane\",$H$5),0)>0,VLOOKUP(\"Propane\",HVACg_Lookup,MATCH(Worksheet!$H$6,BuildingSize,0)+1,FALSE),0)))","v":0},{"$f":"AJ150*8","v":0},{"$f":"AK150*8","v":0},{"$f":"IF(OR($B$4=\"\",$B$5=\"\",$H$4=\"\",$H$6=\"\",$H$5=\"\",A150=\"\",F150=\"\",J150=\"\",O150=\"\",P150=\"\")=TRUE,\"\",IF(C150=\"OSW\",IF(J150>=2,1,0),IF(C150=\"OSR\",IF(AND(J150>=2,P150>60)=TRUE,1,0),IF(C150=\"OSRH\",IF(AND(J150>=1,P150>90)=TRUE,1,0),IF(C150=\"OHLC\",IF(AND(N150=\"Y\",P150>60)=TRUE,1,0),IF(C150=\"DDC\",IF(AND(J150>=4,N150=\"Y\",P150>120)=TRUE,1,0),0))))))","v":""},{"$f":"IF(OR($B$4=\"\",$B$5=\"\",$H$4=\"\",$H$6=\"\",$H$5=\"\",A150=\"\",F150=\"\",K150=\"\",O150=\"\",P150=\"\")=TRUE,\"\",IF(C150=\"OSW\",IF(K150>=2,1,0),IF(C150=\"OSR\",IF(AND(K150>=2,Q150>60)=TRUE,1,0),IF(C150=\"OSRH\",IF(AND(K150>=1,Q150>90)=TRUE,1,0),IF(C150=\"OHLC\",IF(AND(N150=\"Y\",Q150>60)=TRUE,1,0),IF(C150=\"DDC\",IF(AND(K150>=4,N150=\"Y\",Q150>120)=TRUE,1,0),0))))))","v":""}]
[null,null,"",null,null,null,null,null,null,null,null,null,null,null,null,0,0,0,0,"",0,0,0,0,0,{"$f":"IF($H$4=\"\",0,VLOOKUP($H$4,BuildingType_Lookup,3,FALSE))","v":0},{"$f":"IF($H$4=\"\",0,VLOOKUP($H$4,BuildingType_Lookup,2,FALSE))","v":0},{"$f":"IF(AND(OR(AN151=\"\",AN151=0)=TRUE,OR(AO151=\"\",AO151=0))=TRUE,0,IF(AO151=\"\",(IF(OR(C151=\"DDC\",C151=\"OHLC\")=TRUE,O151,P151)/1000)*Y151*Z151*(1+VLOOKUP($H$4,BuildingType_Lookup,4,FALSE)),IF(AO151=0,0,(IF(OR(C151=\"DDC\",C151=\"OHLC\")=TRUE,O151,Q151)/1000)*Y151*Z151*(1+VLOOKUP($H$4,BuildingType_Lookup,4,FALSE)))))","v":0},{"$f":"IF(AND(OR(AN151=\"\",AN151=0)=TRUE,OR(AO151=\"\",AO151=0))=TRUE,0,IF(AO151=\"\",(IF(OR(C151=\"DDC\",C151=\"OHLC\")=TRUE,O151,P151)/1000)*Y151*AA151*(1+VLOOKUP($H$4,BuildingType_Lookup,MATCH($H$5,HVAC,0)+4,FALSE)),IF(AO151=0,0,(IF(OR(C151=\"DDC\",C151=\"OHLC\")=TRUE,O151,Q151)/1000)*Y151*AA151*(1+VLOOKUP($H$4,BuildingType_Lookup,MATCH($H$5,HVAC,0)+4,FALSE)))))","v":0},0,0,0,0,0,0,{"$f":"W151/1000*Y151*AA151*IF(IFERROR(SEARCH(\"Gas\",$H$5),0)>0,VLOOKUP(\"Gas\",HVACg_Lookup,MATCH($H$6,BuildingSize,0)+1,FALSE),IF(IFERROR(SEARCH(\"Oil\",$H$5),0)>0,VLOOKUP(\"Oil\",HVACg_Lookup,MATCH($H$6,BuildingSize,0)+1,FALSE),IF(IFERROR(SEARCH(\"Propane\",$H$5),0)>0,VLOOKUP(\"Propane\",HVACg_Lookup,MATCH(Worksheet!$H$6,BuildingSize,0)+1,FALSE),0)))","v":0},{"$f":"X151/1000*Y151*AA151*IF(IFERROR(SEARCH(\"Gas\",$H$5),0)>0,VLOOKUP(\"Gas\",HVACg_Lookup,MATCH($H$6,BuildingSize,0)+1,FALSE),IF(IFERROR(SEARCH(\"Oil\",$H$5),0)>0,VLOOKUP(\"Oil\",HVACg_Lookup,MATCH($H$6,BuildingSize,0)+1,FALSE),IF(IFERROR(SEARCH(\"Propane\",$H$5),0)>0,VLOOKUP(\"Propane\",HVACg_Lookup,MATCH(Worksheet!$H$6,BuildingSize,0)+1,FALSE),0)))","v":0},0,0,{"$f":"IF(OR($B$4=\"\",$B$5=\"\",$H$4=\"\",$H$6=\"\",$H$5=\"\",A151=\"\",F151=\"\",J151=\"\",O151=\"\",P151=\"\")=TRUE,\"\",IF(C151=\"OSW\",IF(J151>=2,1,0),IF(C151=\"OSR\",IF(AND(J151>=2,P151>60)=TRUE,1,0),IF(C151=\"OSRH\",IF(AND(J151>=1,P151>90)=TRUE,1,0),IF(C151=\"OHLC\",IF(AND(N151=\"Y\",P151>60)=TRUE,1,0),IF(C151=\"DDC\",IF(AND(J151>=4,N151=\"Y\",P151>120)=TRUE,1,0),0))))))","v":""},{"$f":"IF(OR($B$4=\"\",$B$5=\"\",$H$4=\"\",$H$6=\"\",$H$5=\"\",A151=\"\",F151=\"\",K151=\"\",O151=\"\",P151=\"\")=TRUE,\"\",IF(C151=\"OSW\",IF(K151>=2,1,0),IF(C151=\"OSR\",IF(AND(K151>=2,Q151>60)=TRUE,1,0),IF(C151=\"OSRH\",IF(AND(K151>=1,Q151>90)=TRUE,1,0),IF(C151=\"OHLC\",IF(AND(N151=\"Y\",Q151>60)=TRUE,1,0),IF(C151=\"DDC\",IF(AND(K151>=4,N151=\"Y\",Q151>120)=TRUE,1,0),0))))))","v":""}]
[null,null,"",null,null,null,null,null,null,null,null,null,null,null,null,0,0,0,0,"",0,0,0,0,0,{"$f":"IF($H$4=\"\",0,VLOOKUP($H$4,BuildingType_Lookup,3,FALSE))","v":0},{"$f":"IF($H$4=\"\",0,VLOOKUP($H$4,BuildingType_Lookup,2,FALSE))","v":0},{"$f":"IF(AND(OR(AN152=\"\",AN152=0)=TRUE,OR(AO152=\"\",AO152=0))=TRUE,0,IF(AO152=\"\",(IF(OR(C152=\"DDC\",C152=\"OHLC\")=TRUE,O152,P152)/1000)*Y152*Z152*(1+VLOOKUP($H$4,BuildingType_Lookup,4,FALSE)),IF(AO152=0,0,(IF(OR(C152=\"DDC\",C152=\"OHLC\")=TRUE,O152,Q152)/1000)*Y152*Z152*(1+VLOOKUP($H$4,BuildingType_Lookup,4,FALSE)))))","v":0},{"$f":"IF(AND(OR(AN152=\"\",AN152=0)=TRUE,OR(AO152=\"\",AO152=0))=TRUE,0,IF(AO152=\"\",(IF(OR(C152=\"DDC\",C152=\"OHLC\")=TRUE,O152,P152)/1000)*Y152*AA152*(1+VLOOKUP($H$4,BuildingType_Lookup,MATCH($H$5,HVAC,0)+4,FALSE)),IF(AO152=0,0,(IF(OR(C152=\"DDC\",C152=\"OHLC\")=TRUE,O152,Q152)/1000)*Y152*AA152*(1+VLOOKUP($H$4,BuildingType_Lookup,MATCH($H$5,HVAC,0)+4,FALSE)))))","v":0},0,0,0,0,0,0,{"$f":"W152/1000*Y152*AA152*IF(IFERROR(SEARCH(\"Gas\",$H$5),0)>0,VLOOKUP(\"Gas\",HVACg_Lookup,MATCH($H$6,BuildingSize,0)+1,FALSE),IF(IFERROR(SEARCH(\"Oil\",$H$5),0)>0,VLOOKUP(\"Oil\",HVACg_Lookup,MATCH($H$6,BuildingSize,0)+1,FALSE),IF(IFERROR(SEARCH(\"Propane\",$H$5),0)>0,VLOOKUP(\"Propane\",HVACg_Lookup,MATCH(Worksheet!$H$6,BuildingSize,0)+1,FALSE),0)))","v":0},{"$f":"X152/1000*Y152*AA152*IF(IFERROR(SEARCH(\"Gas\",$H$5),0)>0,VLOOKUP(\"Gas\",HVACg_Lookup,MATCH($H$6,BuildingSize,0)+1,FALSE),IF(IFERROR(SEARCH(\"Oil\",$H$5),0)>0,VLOOKUP(\"Oil\",HVACg_Lookup,MATCH($H$6,BuildingSize,0)+1,FALSE),IF(IFERROR(SEARCH(\"Propane\",$H$5),0)>0,VLOOKUP(\"Propane\",HVACg_Lookup,MATCH(Worksheet!$H$6,BuildingSize,0)+1,FALSE),0)))","v":0},0,0,{"$f":"IF(OR($B$4=\"\",$B$5=\"\",$H$4=\"\",$H$6=\"\",$H$5=\"\",A152=\"\",F152=\"\",J152=\"\",O152=\"\",P152=\"\")=TRUE,\"\",IF(C152=\"OSW\",IF(J152>=2,1,0),IF(C152=\"OSR\",IF(AND(J152>=2,P152>60)=TRUE,1,0),IF(C152=\"OSRH\",IF(AND(J152>=1,P152>90)=TRUE,1,0),IF(C152=\"OHLC\",IF(AND(N152=\"Y\",P152>60)=TRUE,1,0),IF(C152=\"DDC\",IF(AND(J152>=4,N152=\"Y\",P152>120)=TRUE,1,0),0))))))","v":""},{"$f":"IF(OR($B$4=\"\",$B$5=\"\",$H$4=\"\",$H$6=\"\",$H$5=\"\",A152=\"\",F152=\"\",K152=\"\",O152=\"\",P152=\"\")=TRUE,\"\",IF(C152=\"OSW\",IF(K152>=2,1,0),IF(C152=\"OSR\",IF(AND(K152>=2,Q152>60)=TRUE,1,0),IF(C152=\"OSRH\",IF(AND(K152>=1,Q152>90)=TRUE,1,0),IF(C152=\"OHLC\",IF(AND(N152=\"Y\",Q152>60)=TRUE,1,0),IF(C152=\"DDC\",IF(AND(K152>=4,N152=\"Y\",Q152>120)=TRUE,1,0),0))))))","v":""}]
[null,null,"",null,null,null,null,null,null,null,null,null,null,null,null,0,0,0,0,"",0,0,0,0,0,{"$f":"IF($H$4=\"\",0,VLOOKUP($H$4,BuildingType_Lookup,3,FALSE))","v":0},{"$f":"IF($H$4=\"\",0,VLOOKUP($H$4,BuildingType_Lookup,2,FALSE))","v":0},{"$f":"IF(AND(OR(AN153=\"\",AN153=0)=TRUE,OR(AO153=\"\",AO153=0))=TRUE,0,IF(AO153=\"\",(IF(OR(C153=\"DDC\",C153=\"OHLC\")=TRUE,O153,P153)/1000)*Y153*Z153*(1+VLOOKUP($H$4,BuildingType_Lookup,4,FALSE)),IF(AO153=0,0,(IF(OR(C153=\"DDC\",C153=\"OHLC\")=TRUE,O153,Q153)/1000)*Y153*Z153*(1+VLOOKUP($H$4,BuildingType_Lookup,4,FALSE)))))","v":0},{"$f":"IF(AND(OR(AN153=\"\",AN153=0)=TRUE,OR(AO153=\"\",AO153=0))=TRUE,0,IF(AO153=\"\",(IF(OR(C153=\"DDC\",C153=\"OHLC\")=TRUE,O153,P153)/1000)*Y153*AA153*(1+VLOOKUP($H$4,BuildingType_Lookup,MATCH($H$5,HVAC,0)+4,FALSE)),IF(AO153=0,0,(IF(OR(C153=\"DDC\",C153=\"OHLC\")=TRUE,O153,Q153)/1000)*Y153*AA153*(1+VLOOKUP($H$4,BuildingType_Lookup,MATCH($H$5,HVAC,0)+4,FALSE)))))","v":0},0,0,0,0,0,0,{"$f":"W153/1000*Y153*AA153*IF(IFERROR(SEARCH(\"Gas\",$H$5),0)>0,VLOOKUP(\"Gas\",HVACg_Lookup,MATCH($H$6,BuildingSize,0)+1,FALSE),IF(IFERROR(SEARCH(\"Oil\",$H$5),0)>0,VLOOKUP(\"Oil\",HVACg_Lookup,MATCH($H$6,BuildingSize,0)+1,FALSE),IF(IFERROR(SEARCH(\"Propane\",$H$5),0)>0,VLOOKUP(\"Propane\",HVACg_Lookup,MATCH(Worksheet!$H$6,BuildingSize,0)+1,FALSE),0)))","v":0},{"$f":"X153/1000*Y153*AA153*IF(IFERROR(SEARCH(\"Gas\",$H$5),0)>0,VLOOKUP(\"Gas\",HVACg_Lookup,MATCH($H$6,BuildingSize,0)+1,FALSE),IF(IFERROR(SEARCH(\"Oil\",$H$5),0)>0,VLOOKUP(\"Oil\",HVACg_Lookup,MATCH($H$6,BuildingSize,0)+1,FALSE),IF(IFERROR(SEARCH(\"Propane\",$H$5),0)>0,VLOOKUP(\"Propane\",HVACg_Lookup,MATCH(Worksheet!$H$6,BuildingSize,0)+1,FALSE),0)))","v":0},0,0,{"$f":"IF(OR($B$4=\"\",$B$5=\"\",$H$4=\"\",$H$6=\"\",$H$5=\"\",A153=\"\",F153=\"\",J153=\"\",O153=\"\",P153=\"\")=TRUE,\"\",IF(C153=\"OSW\",IF(J153>=2,1,0),IF(C153=\"OSR\",IF(AND(J153>=2,P153>60)=TRUE,1,0),IF(C153=\"OSRH\",IF(AND(J153>=1,P153>90)=TRUE,1,0),IF(C153=\"OHLC\",IF(AND(N153=\"Y\",P153>60)=TRUE,1,0),IF(C153=\"DDC\",IF(AND(J153>=4,N153=\"Y\",P153>120)=TRUE,1,0),0))))))","v":""},{"$f":"IF(OR($B$4=\"\",$B$5=\"\",$H$4=\"\",$H$6=\"\",$H$5=\"\",A153=\"\",F153=\"\",K153=\"\",O153=\"\",P153=\"\")=TRUE,\"\",IF(C153=\"OSW\",IF(K153>=2,1,0),IF(C153=\"OSR\",IF(AND(K153>=2,Q153>60)=TRUE,1,0),IF(C153=\"OSRH\",IF(AND(K153>=1,Q153>90)=TRUE,1,0),IF(C153=\"OHLC\",IF(AND(N153=\"Y\",Q153>60)=TRUE,1,0),IF(C153=\"DDC\",IF(AND(K153>=4,N153=\"Y\",Q153>120)=TRUE,1,0),0))))))","v":""}]
[null,null,"",null,null,null,null,null,null,null,null,null,null,null,null,0,0,0,0,"",0,0,0,0,0,{"$f":"IF($H$4=\"\",0,VLOOKUP($H$4,BuildingType_Lookup,3,FALSE))","v":0},{"$f":"IF($H$4=\"\",0,VLOOKUP($H$4,BuildingType_Lookup,2,FALSE))","v":0},{"$f":"IF(AND(OR(AN154=\"\",AN154=0)=TRUE,OR(AO154=\"\",AO154=0))=TRUE,0,IF(AO154=\"\",(IF(OR(C154=\"DDC\",C154=\"OHLC\")=TRUE,O154,P154)/1000)*Y154*Z154*(1+VLOOKUP($H$4,BuildingType_Lookup,4,FALSE)),IF(AO154=0,0,(IF(OR(C154=\"DDC\",C154=\"OHLC\")=TRUE,O154,Q154)/1000)*Y154*Z154*(1+VLOOKUP($H$4,BuildingType_Lookup,4,FALSE)))))","v":0},{"$f":"IF(AND(OR(AN154=\"\",AN154=0)=TRUE,OR(AO154=\"\",AO154=0))=TRUE,0,IF(AO154=\"\",(IF(OR(C154=\"DDC\",C154=\"OHLC\")=TRUE,O154,P154)/1000)*Y154*AA154*(1+VLOOKUP($H$4,BuildingType_Lookup,MATCH($H$5,HVAC,0)+4,FALSE)),IF(AO154=0,0,(IF(OR(C154=\"DDC\",C154=\"OHLC\")=TRUE,O154,Q154)/1000)*Y154*AA154*(1+VLOOKUP($H$4,BuildingType_Lookup,MATCH($H$5,HVAC,0)+4,FALSE)))))","v":0},0,0,0,0,0,0,{"$f":"W154/1000*Y154*AA154*IF(IFERROR(SEARCH(\"Gas\",$H$5),0)>0,VLOOKUP(\"Gas\",HVACg_Lookup,MATCH($H$6,BuildingSize,0)+1,FALSE),IF(IFERROR(SEARCH(\"Oil\",$H$5),0)>0,VLOOKUP(\"Oil\",HVACg_Lookup,MATCH($H$6,BuildingSize,0)+1,FALSE),IF(IFERROR(SEARCH(\"Propane\",$H$5),0)>0,VLOOKUP(\"Propane\",HVACg_Lookup,MATCH(Worksheet!$H$6,BuildingSize,0)+1,FALSE),0)))","v":0},{"$f":"X154/1000*Y154*AA154*IF(IFERROR(SEARCH(\"Gas\",$H$5),0)>0,VLOOKUP(\"Gas\",HVACg_Lookup,MATCH($H$6,BuildingSize,0)+1,FALSE),IF(IFERROR(SEARCH(\"Oil\",$H$5),0)>0,VLOOKUP(\"Oil\",HVACg_Lookup,MATCH($H$6,BuildingSize,0)+1,FALSE),IF(IFERROR(SEARCH(\"Propane\",$H$5),0)>0,VLOOKUP(\"Propane\",HVACg_Lookup,MATCH(Worksheet!$H$6,BuildingSize,0)+1,FALSE),0)))","v":0},0,0,{"$f":"IF(OR($B$4=\"\",$B$5=\"\",$H$4=\"\",$H$6=\"\",$H$5=\"\",A154=\"\",F154=\"\",J154=\"\",O154=\"\",P154=\"\")=TRUE,\"\",IF(C154=\"OSW\",IF(J154>=2,1,0),IF(C154=\"OSR\",IF(AND(J154>=2,P154>60)=TRUE,1,0),IF(C154=\"OSRH\",IF(AND(J154>=1,P154>90)=TRUE,1,0),IF(C154=\"OHLC\",IF(AND(N154=\"Y\",P154>60)=TRUE,1,0),IF(C154=\"DDC\",IF(AND(J154>=4,N154=\"Y\",P154>120)=TRUE,1,0),0))))))","v":""},{"$f":"IF(OR($B$4=\"\",$B$5=\"\",$H$4=\"\",$H$6=\"\",$H$5=\"\",A154=\"\",F154=\"\",K154=\"\",O154=\"\",P154=\"\")=TRUE,\"\",IF(C154=\"OSW\",IF(K154>=2,1,0),IF(C154=\"OSR\",IF(AND(K154>=2,Q154>60)=TRUE,1,0),IF(C154=\"OSRH\",IF(AND(K154>=1,Q154>90)=TRUE,1,0),IF(C154=\"OHLC\",IF(AND(N154=\"Y\",Q154>60)=TRUE,1,0),IF(C154=\"DDC\",IF(AND(K154>=4,N154=\"Y\",Q154>120)=TRUE,1,0),0))))))","v":""}]
[null,null,"",null,null,null,null,null,null,null,null,null,null,null,null,0,0,0,0,"",0,0,0,0,0,{"$f":"IF($H$4=\"\",0,VLOOKUP($H$4,BuildingType_Lookup,3,FALSE))","v":0},{"$f":"IF($H$4=\"\",0,VLOOKUP($H$4,BuildingType_Lookup,2,FALSE))","v":0},{"$f":"IF(AND(OR(AN155=\"\",AN155=0)=TRUE,OR(AO155=\"\",AO155=0))=TRUE,0,IF(AO155=\"\",(IF(OR(C155=\"DDC\",C155=\"OHLC\")=TRUE,O155,P155)/1000)*Y155*Z155*(1+VLOOKUP($H$4,BuildingType_Lookup,4,FALSE)),IF(AO155=0,0,(IF(OR(C155=\"DDC\",C155=\"OHLC\")=TRUE,O155,Q155)/1000)*Y155*Z155*(1+VLOOKUP($H$4,BuildingType_Lookup,4,FALSE)))))","v":0},{"$f":"IF(AND(OR(AN155=\"\",AN155=0)=TRUE,OR(AO155=\"\",AO155=0))=TRUE,0,IF(AO155=\"\",(IF(OR(C155=\"DDC\",C155=\"OHLC\")=TRUE,O155,P155)/1000)*Y155*AA155*(1+VLOOKUP($H$4,BuildingType_Lookup,MATCH($H$5,HVAC,0)+4,FALSE)),IF(AO155=0,0,(IF(OR(C155=\"DDC\",C155=\"OHLC\")=TRUE,O155,Q155)/1000)*Y155*AA155*(1+VLOOKUP($H$4,BuildingType_Lookup,MATCH($H$5,HVAC,0)+4,FALSE)))))","v":0},0,0,0,0,0,0,{"$f":"W155/1000*Y155*AA155*IF(IFERROR(SEARCH(\"Gas\",$H$5),0)>0,VLOOKUP(\"Gas\",HVACg_Lookup,MATCH($H$6,BuildingSize,0)+1,FALSE),IF(IFERROR(SEARCH(\"Oil\",$H$5),0)>0,VLOOKUP(\"Oil\",HVACg_Lookup,MATCH($H$6,BuildingSize,0)+1,FALSE),IF(IFERROR(SEARCH(\"Propane\",$H$5),0)>0,VLOOKUP(\"Propane\",HVACg_Lookup,MATCH(Worksheet!$H$6,BuildingSize,0)+1,FALSE),0)))","v":0},{"$f":"X155/1000*Y155*AA155*IF(IFERROR(SEARCH(\"Gas\",$H$5),0)>0,VLOOKUP(\"Gas\",HVACg_Lookup,MATCH($H$6,BuildingSize,0)+1,FALSE),IF(IFERROR(SEARCH(\"Oil\",$H$5),0)>0,VLOOKUP(\"Oil\",HVACg_Lookup,MATCH($H$6,BuildingSize,0)+1,FALSE),IF(IFERROR(SEARCH(\"Propane\",$H$5),0)>0,VLOOKUP(\"Propane\",HVACg_Lookup,MATCH(Worksheet!$H$6,BuildingSize,0)+1,FALSE),0)))","v":0},0,0,{"$f":"IF(OR($B$4=\"\",$B$5=\"\",$H$4=\"\",$H$6=\"\",$H$5=\"\",A155=\"\",F155=\"\",J155=\"\",O155=\"\",P155=\"\")=TRUE,\"\",IF(C155=\"OSW\",IF(J155>=2,1,0),IF(C155=\"OSR\",IF(AND(J155>=2,P155>60)=TRUE,1,0),IF(C155=\"OSRH\",IF(AND(J155>=1,P155>90)=TRUE,1,0),IF(C155=\"OHLC\",IF(AND(N155=\"Y\",P155>60)=TRUE,1,0),IF(C155=\"DDC\",IF(AND(J155>=4,N155=\"Y\",P155>120)=TRUE,1,0),0))))))","v":""},{"$f":"IF(OR($B$4=\"\",$B$5=\"\",$H$4=\"\",$H$6=\"\",$H$5=\"\",A155=\"\",F155=\"\",K155=\"\",O155=\"\",P155=\"\")=TRUE,\"\",IF(C155=\"OSW\",IF(K155>=2,1,0),IF(C155=\"OSR\",IF(AND(K155>=2,Q155>60)=TRUE,1,0),IF(C155=\"OSRH\",IF(AND(K155>=1,Q155>90)=TRUE,1,0),IF(C155=\"OHLC\",IF(AND(N155=\"Y\",Q155>60)=TRUE,1,0),IF(C155=\"DDC\",IF(AND(K155>=4,N155=\"Y\",Q155>120)=TRUE,1,0),0))))))","v":""}]
[null,null,"",null,null,null,null,null,null,null,null,null,null,null,null,0,0,0,0,"",0,0,0,0,0,{"$f":"IF($H$4=\"\",0,VLOOKUP($H$4,BuildingType_Lookup,3,FALSE))","v":0},{"$f":"IF($H$4=\"\",0,VLOOKUP($H$4,BuildingType_Lookup,2,FALSE))","v":0},{"$f":"IF(AND(OR(AN156=\"\",AN156=0)=TRUE,OR(AO156=\"\",AO156=0))=TRUE,0,IF(AO156=\"\",(IF(OR(C156=\"DDC\",C156=\"OHLC\")=TRUE,O156,P156)/1000)*Y156*Z156*(1+VLOOKUP($H$4,BuildingType_Lookup,4,FALSE)),IF(AO156=0,0,(IF(OR(C156=\"DDC\",C156=\"OHLC\")=TRUE,O156,Q156)/1000)*Y156*Z156*(1+VLOOKUP($H$4,BuildingType_Lookup,4,FALSE)))))","v":0},{"$f":"IF(AND(OR(AN156=\"\",AN156=0)=TRUE,OR(AO156=\"\",AO156=0))=TRUE,0,IF(AO156=\"\",(IF(OR(C156=\"DDC\",C156=\"OHLC\")=TRUE,O156,P156)/1000)*Y156*AA156*(1+VLOOKUP($H$4,BuildingType_Lookup,MATCH($H$5,HVAC,0)+4,FALSE)),IF(AO156=0,0,(IF(OR(C156=\"DDC\",C156=\"OHLC\")=TRUE,O156,Q156)/1000)*Y156*AA156*(1+VLOOKUP($H$4,BuildingType_Lookup,MATCH($H$5,HVAC,0)+4,FALSE)))))","v":0},0,0,0,0,0,0,{"$f":"W156/1000*Y156*AA156*IF(IFERROR(SEARCH(\"Gas\",$H$5),0)>0,VLOOKUP(\"Gas\",HVACg_Lookup,MATCH($H$6,BuildingSize,0)+1,FALSE),IF(IFERROR(SEARCH(\"Oil\",$H$5),0)>0,VLOOKUP(\"Oil\",HVACg_Lookup,MATCH($H$6,BuildingSize,0)+1,FALSE),IF(IFERROR(SEARCH(\"Propane\",$H$5),0)>0,VLOOKUP(\"Propane\",HVACg_Lookup,MATCH(Worksheet!$H$6,BuildingSize,0)+1,FALSE),0)))","v":0},{"$f":"X156/1000*Y156*AA156*IF(IFERROR(SEARCH(\"Gas\",$H$5),0)>0,VLOOKUP(\"Gas\",HVACg_Lookup,MATCH($H$6,BuildingSize,0)+1,FALSE),IF(IFERROR(SEARCH(\"Oil\",$H$5),0)>0,VLOOKUP(\"Oil\",HVACg_Lookup,MATCH($H$6,BuildingSize,0)+1,FALSE),IF(IFERROR(SEARCH(\"Propane\",$H$5),0)>0,VLOOKUP(\"Propane\",HVACg_Lookup,MATCH(Worksheet!$H$6,BuildingSize,0)+1,FALSE),0)))","v":0},0,0,{"$f":"IF(OR($B$4=\"\",$B$5=\"\",$H$4=\"\",$H$6=\"\",$H$5=\"\",A156=\"\",F156=\"\",J156=\"\",O156=\"\",P156=\"\")=TRUE,\"\",IF(C156=\"OSW\",IF(J156>=2,1,0),IF(C156=\"OSR\",IF(AND(J156>=2,P156>60)=TRUE,1,0),IF(C156=\"OSRH\",IF(AND(J156>=1,P156>90)=TRUE,1,0),IF(C156=\"OHLC\",IF(AND(N156=\"Y\",P156>60)=TRUE,1,0),IF(C156=\"DDC\",IF(AND(J156>=4,N156=\"Y\",P156>120)=TRUE,1,0),0))))))","v":""},{"$f":"IF(OR($B$4=\"\",$B$5=\"\",$H$4=\"\",$H$6=\"\",$H$5=\"\",A156=\"\",F156=\"\",K156=\"\",O156=\"\",P156=\"\")=TRUE,\"\",IF(C156=\"OSW\",IF(K156>=2,1,0),IF(C156=\"OSR\",IF(AND(K156>=2,Q156>60)=TRUE,1,0),IF(C156=\"OSRH\",IF(AND(K156>=1,Q156>90)=TRUE,1,0),IF(C156=\"OHLC\",IF(AND(N156=\"Y\",Q156>60)=TRUE,1,0),IF(C156=\"DDC\",IF(AND(K156>=4,N156=\"Y\",Q156>120)=TRUE,1,0),0))))))","v":""}]
[null,null,"",null,null,null,null,null,null,null,null,null,null,null,null,0,0,0,0,"",0,0,0,0,0,{"$f":"IF($H$4=\"\",0,VLOOKUP($H$4,BuildingType_Lookup,3,FALSE))","v":0},{"$f":"IF($H$4=\"\",0,VLOOKUP($H$4,BuildingType_Lookup,2,FALSE))","v":0},{"$f":"IF(AND(OR(AN157=\"\",AN157=0)=TRUE,OR(AO157=\"\",AO157=0))=TRUE,0,IF(AO157=\"\",(IF(OR(C157=\"DDC\",C157=\"OHLC\")=TRUE,O157,P157)/1000)*Y157*Z157*(1+VLOOKUP($H$4,BuildingType_Lookup,4,FALSE)),IF(AO157=0,0,(IF(OR(C157=\"DDC\",C157=\"OHLC\")=TRUE,O157,Q157)/1000)*Y157*Z157*(1+VLOOKUP($H$4,BuildingType_Lookup,4,FALSE)))))","v":0},{"$f":"IF(AND(OR(AN157=\"\",AN157=0)=TRUE,OR(AO157=\"\",AO157=0))=TRUE,0,IF(AO157=\"\",(IF(OR(C157=\"DDC\",C157=\"OHLC\")=TRUE,O157,P157)/1000)*Y157*AA157*(1+VLOOKUP($H$4,BuildingType_Lookup,MATCH($H$5,HVAC,0)+4,FALSE)),IF(AO157=0,0,(IF(OR(C157=\"DDC\",C157=\"OHLC\")=TRUE,O157,Q157)/1000)*Y157*AA157*(1+VLOOKUP($H$4,BuildingType_Lookup,MATCH($H$5,HVAC,0)+4,FALSE)))))","v":0},0,0,0,0,0,0,{"$f":"W157/1000*Y157*AA157*IF(IFERROR(SEARCH(\"Gas\",$H$5),0)>0,VLOOKUP(\"Gas\",HVACg_Lookup,MATCH($H$6,BuildingSize,0)+1,FALSE),IF(IFERROR(SEARCH(\"Oil\",$H$5),0)>0,VLOOKUP(\"Oil\",HVACg_Lookup,MATCH($H$6,BuildingSize,0)+1,FALSE),IF(IFERROR(SEARCH(\"Propane\",$H$5),0)>0,VLOOKUP(\"Propane\",HVACg_Lookup,MATCH(Worksheet!$H$6,BuildingSize,0)+1,FALSE),0)))","v":0},{"$f":"X157/1000*Y157*AA157*IF(IFERROR(SEARCH(\"Gas\",$H$5),0)>0,VLOOKUP(\"Gas\",HVACg_Lookup,MATCH($H$6,BuildingSize,0)+1,FALSE),IF(IFERROR(SEARCH(\"Oil\",$H$5),0)>0,VLOOKUP(\"Oil\",HVACg_Lookup,MATCH($H$6,BuildingSize,0)+1,FALSE),IF(IFERROR(SEARCH(\"Propane\",$H$5),0)>0,VLOOKUP(\"Propane\",HVACg_Lookup,MATCH(Worksheet!$H$6,BuildingSize,0)+1,FALSE),0)))","v":0},0,0,{"$f":"IF(OR($B$4=\"\",$B$5=\"\",$H$4=\"\",$H$6=\"\",$H$5=\"\",A157=\"\",F157=\"\",J157=\"\",O157=\"\",P157=\"\")=TRUE,\"\",IF(C157=\"OSW\",IF(J157>=2,1,0),IF(C157=\"OSR\",IF(AND(J157>=2,P157>60)=TRUE,1,0),IF(C157=\"OSRH\",IF(AND(J157>=1,P157>90)=TRUE,1,0),IF(C157=\"OHLC\",IF(AND(N157=\"Y\",P157>60)=TRUE,1,0),IF(C157=\"DDC\",IF(AND(J157>=4,N157=\"Y\",P157>120)=TRUE,1,0),0))))))","v":""},{"$f":"IF(OR($B$4=\"\",$B$5=\"\",$H$4=\"\",$H$6=\"\",$H$5=\"\",A157=\"\",F157=\"\",K157=\"\",O157=\"\",P157=\"\")=TRUE,\"\",IF(C157=\"OSW\",IF(K157>=2,1,0),IF(C157=\"OSR\",IF(AND(K157>=2,Q157>60)=TRUE,1,0),IF(C157=\"OSRH\",IF(AND(K157>=1,Q157>90)=TRUE,1,0),IF(C157=\"OHLC\",IF(AND(N157=\"Y\",Q157>60)=TRUE,1,0),IF(C157=\"DDC\",IF(AND(K157>=4,N157=\"Y\",Q157>120)=TRUE,1,0),0))))))","v":""}]
[null,null,"",null,null,null,null,null,null,null,null,null,null,null,null,0,0,0,0,"",0,0,0,0,0,{"$f":"IF($H$4=\"\",0,VLOOKUP($H$4,BuildingType_Lookup,3,FALSE))","v":0},{"$f":"IF($H$4=\"\",0,VLOOKUP($H$4,BuildingType_Lookup,2,FALSE))","v":0},{"$f":"IF(AND(OR(AN158=\"\",AN158=0)=TRUE,OR(AO158=\"\",AO158=0))=TRUE,0,IF(AO158=\"\",(IF(OR(C158=\"DDC\",C158=\"OHLC\")=TRUE,O158,P158)/1000)*Y158*Z158*(1+VLOOKUP($H$4,BuildingType_Lookup,4,FALSE)),IF(AO158=0,0,(IF(OR(C158=\"DDC\",C158=\"OHLC\")=TRUE,O158,Q158)/1000)*Y158*Z158*(1+VLOOKUP($H$4,BuildingType_Lookup,4,FALSE)))))","v":0},{"$f":"IF(AND(OR(AN158=\"\",AN158=0)=TRUE,OR(AO158=\"\",AO158=0))=TRUE,0,IF(AO158=\"\",(IF(OR(C158=\"DDC\",C158=\"OHLC\")=TRUE,O158,P158)/1000)*Y158*AA158*(1+VLOOKUP($H$4,BuildingType_Lookup,MATCH($H$5,HVAC,0)+4,FALSE)),IF(AO158=0,0,(IF(OR(C158=\"DDC\",C158=\"OHLC\")=TRUE,O158,Q158)/1000)*Y158*AA158*(1+VLOOKUP($H$4,BuildingType_Lookup,MATCH($H$5,HVAC,0)+4,FALSE)))))","v":0},0,0,0,0,0,0,{"$f":"W158/1000*Y158*AA158*IF(IFERROR(SEARCH(\"Gas\",$H$5),0)>0,VLOOKUP(\"Gas\",HVACg_Lookup,MATCH($H$6,BuildingSize,0)+1,FALSE),IF(IFERROR(SEARCH(\"Oil\",$H$5),0)>0,VLOOKUP(\"Oil\",HVACg_Lookup,MATCH($H$6,BuildingSize,0)+1,FALSE),IF(IFERROR(SEARCH(\"Propane\",$H$5),0)>0,VLOOKUP(\"Propane\",HVACg_Lookup,MATCH(Worksheet!$H$6,BuildingSize,0)+1,FALSE),0)))","v":0},{"$f":"X158/1000*Y158*AA158*IF(IFERROR(SEARCH(\"Gas\",$H$5),0)>0,VLOOKUP(\"Gas\",HVACg_Lookup,MATCH($H$6,BuildingSize,0)+1,FALSE),IF(IFERROR(SEARCH(\"Oil\",$H$5),0)>0,VLOOKUP(\"Oil\",HVACg_Lookup,MATCH($H$6,BuildingSize,0)+1,FALSE),IF(IFERROR(SEARCH(\"Propane\",$H$5),0)>0,VLOOKUP(\"Propane\",HVACg_Lookup,MATCH(Worksheet!$H$6,BuildingSize,0)+1,FALSE),0)))","v":0},0,0,{"$f":"IF(OR($B$4=\"\",$B$5=\"\",$H$4=\"\",$H$6=\"\",$H$5=\"\",A158=\"\",F158=\"\",J158=\"\",O158=\"\",P158=\"\")=TRUE,\"\",IF(C158=\"OSW\",IF(J158>=2,1,0),IF(C158=\"OSR\",IF(AND(J158>=2,P158>60)=TRUE,1,0),IF(C158=\"OSRH\",IF(AND(J158>=1,P158>90)=TRUE,1,0),IF(C158=\"OHLC\",IF(AND(N158=\"Y\",P158>60)=TRUE,1,0),IF(C158=\"DDC\",IF(AND(J158>=4,N158=\"Y\",P158>120)=TRUE,1,0),0))))))","v":""},{"$f":"IF(OR($B$4=\"\",$B$5=\"\",$H$4=\"\",$H$6=\"\",$H$5=\"\",A158=\"\",F158=\"\",K158=\"\",O158=\"\",P158=\"\")=TRUE,\"\",IF(C158=\"OSW\",IF(K158>=2,1,0),IF(C158=\"OSR\",IF(AND(K158>=2,Q158>60)=TRUE,1,0),IF(C158=\"OSRH\",IF(AND(K158>=1,Q158>90)=TRUE,1,0),IF(C158=\"OHLC\",IF(AND(N158=\"Y\",Q158>60)=TRUE,1,0),IF(C158=\"DDC\",IF(AND(K158>=4,N158=\"Y\",Q158>120)=TRUE,1,0),0))))))","v":""}]
[null,null,"",null,null,null,null,null,null,null,null,null,null,null,null,0,0,0,0,"",0,0,0,0,0,{"$f":"IF($H$4=\"\",0,VLOOKUP($H$4,BuildingType_Lookup,3,FALSE))","v":0},{"$f":"IF($H$4=\"\",0,VLOOKUP($H$4,BuildingType_Lookup,2,FALSE))","v":0},{"$f":"IF(AND(OR(AN159=\"\",AN159=0)=TRUE,OR(AO159=\"\",AO159=0))=TRUE,0,IF(AO159=\"\",(IF(OR(C159=\"DDC\",C159=\"OHLC\")=TRUE,O159,P159)/1000)*Y159*Z159*(1+VLOOKUP($H$4,BuildingType_Lookup,4,FALSE)),IF(AO159=0,0,(IF(OR(C159=\"DDC\",C159=\"OHLC\")=TRUE,O159,Q159)/1000)*Y159*Z159*(1+VLOOKUP($H$4,BuildingType_Lookup,4,FALSE)))))","v":0},{"$f":"IF(AND(OR(AN159=\"\",AN159=0)=TRUE,OR(AO159=\"\",AO159=0))=TRUE,0,IF(AO159=\"\",(IF(OR(C159=\"DDC\",C159=\"OHLC\")=TRUE,O159,P159)/1000)*Y159*AA159*(1+VLOOKUP($H$4,BuildingType_Lookup,MATCH($H$5,HVAC,0)+4,FALSE)),IF(AO159=0,0,(IF(OR(C159=\"DDC\",C159=\"OHLC\")=TRUE,O159,Q159)/1000)*Y159*AA159*(1+VLOOKUP($H$4,BuildingType_Lookup,MATCH($H$5,HVAC,0)+4,FALSE)))))","v":0},0,0,0,0,0,0,{"$f":"W159/1000*Y159*AA159*IF(IFERROR(SEARCH(\"Gas\",$H$5),0)>0,VLOOKUP(\"Gas\",HVACg_Lookup,MATCH($H$6,BuildingSize,0)+1,FALSE),IF(IFERROR(SEARCH(\"Oil\",$H$5),0)>0,VLOOKUP(\"Oil\",HVACg_Lookup,MATCH($H$6,BuildingSize,0)+1,FALSE),IF(IFERROR(SEARCH(\"Propane\",$H$5),0)>0,VLOOKUP(\"Propane\",HVACg_Lookup,MATCH(Worksheet!$H$6,BuildingSize,0)+1,FALSE),0)))","v":0},{"$f":"X159/1000*Y159*AA159*IF(IFERROR(SEARCH(\"Gas\",$H$5),0)>0,VLOOKUP(\"Gas\",HVACg_Lookup,MATCH($H$6,BuildingSize,0)+1,FALSE),IF(IFERROR(SEARCH(\"Oil\",$H$5),0)>0,VLOOKUP(\"Oil\",HVACg_Lookup,MATCH($H$6,BuildingSize,0)+1,FALSE),IF(IFERROR(SEARCH(\"Propane\",$H$5),0)>0,VLOOKUP(\"Propane\",HVACg_Lookup,MATCH(Worksheet!$H$6,BuildingSize,0)+1,FALSE),0)))","v":0},0,0,{"$f":"IF(OR($B$4=\"\",$B$5=\"\",$H$4=\"\",$H$6=\"\",$H$5=\"\",A159=\"\",F159=\"\",J159=\"\",O159=\"\",P159=\"\")=TRUE,\"\",IF(C159=\"OSW\",IF(J159>=2,1,0),IF(C159=\"OSR\",IF(AND(J159>=2,P159>60)=TRUE,1,0),IF(C159=\"OSRH\",IF(AND(J159>=1,P159>90)=TRUE,1,0),IF(C159=\"OHLC\",IF(AND(N159=\"Y\",P159>60)=TRUE,1,0),IF(C159=\"DDC\",IF(AND(J159>=4,N159=\"Y\",P159>120)=TRUE,1,0),0))))))","v":""},{"$f":"IF(OR($B$4=\"\",$B$5=\"\",$H$4=\"\",$H$6=\"\",$H$5=\"\",A159=\"\",F159=\"\",K159=\"\",O159=\"\",P159=\"\")=TRUE,\"\",IF(C159=\"OSW\",IF(K159>=2,1,0),IF(C159=\"OSR\",IF(AND(K159>=2,Q159>60)=TRUE,1,0),IF(C159=\"OSRH\",IF(AND(K159>=1,Q159>90)=TRUE,1,0),IF(C159=\"OHLC\",IF(AND(N159=\"Y\",Q159>60)=TRUE,1,0),IF(C159=\"DDC\",IF(AND(K159>=4,N159=\"Y\",Q159>120)=TRUE,1,0),0))))))","v":""}]
[null,null,"",null,null,null,null,null,null,null,null,null,null,null,null,0,0,0,0,"",0,0,0,0,0,{"$f":"IF($H$4=\"\",0,VLOOKUP($H$4,BuildingType_Lookup,3,FALSE))","v":0},{"$f":"IF($H$4=\"\",0,VLOOKUP($H$4,BuildingType_Lookup,2,FALSE))","v":0},{"$f":"IF(AND(OR(AN160=\"\",AN160=0)=TRUE,OR(AO160=\"\",AO160=0))=TRUE,0,IF(AO160=\"\",(IF(OR(C160=\"DDC\",C160=\"OHLC\")=TRUE,O160,P160)/1000)*Y160*Z160*(1+VLOOKUP($H$4,BuildingType_Lookup,4,FALSE)),IF(AO160=0,0,(IF(OR(C160=\"DDC\",C160=\"OHLC\")=TRUE,O160,Q160)/1000)*Y160*Z160*(1+VLOOKUP($H$4,BuildingType_Lookup,4,FALSE)))))","v":0},{"$f":"IF(AND(OR(AN160=\"\",AN160=0)=TRUE,OR(AO160=\"\",AO160=0))=TRUE,0,IF(AO160=\"\",(IF(OR(C160=\"DDC\",C160=\"OHLC\")=TRUE,O160,P160)/1000)*Y160*AA160*(1+VLOOKUP($H$4,BuildingType_Lookup,MATCH($H$5,HVAC,0)+4,FALSE)),IF(AO160=0,0,(IF(OR(C160=\"DDC\",C160=\"OHLC\")=TRUE,O160,Q160)/1000)*Y160*AA160*(1+VLOOKUP($H$4,BuildingType_Lookup,MATCH($H$5,HVAC,0)+4,FALSE)))))","v":0},0,0,0,0,0,0,{"$f":"W160/1000*Y160*AA160*IF(IFERROR(SEARCH(\"Gas\",$H$5),0)>0,VLOOKUP(\"Gas\",HVACg_Lookup,MATCH($H$6,BuildingSize,0)+1,FALSE),IF(IFERROR(SEARCH(\"Oil\",$H$5),0)>0,VLOOKUP(\"Oil\",HVACg_Lookup,MATCH($H$6,BuildingSize,0)+1,FALSE),IF(IFERROR(SEARCH(\"Propane\",$H$5),0)>0,VLOOKUP(\"Propane\",HVACg_Lookup,MATCH(Worksheet!$H$6,BuildingSize,0)+1,FALSE),0)))","v":0},{"$f":"X160/1000*Y160*AA160*IF(IFERROR(SEARCH(\"Gas\",$H$5),0)>0,VLOOKUP(\"Gas\",HVACg_Lookup,MATCH($H$6,BuildingSize,0)+1,FALSE),IF(IFERROR(SEARCH(\"Oil\",$H$5),0)>0,VLOOKUP(\"Oil\",HVACg_Lookup,MATCH($H$6,BuildingSize,0)+1,FALSE),IF(IFERROR(SEARCH(\"Propane\",$H$5),0)>0,VLOOKUP(\"Propane\",HVACg_Lookup,MATCH(Worksheet!$H$6,BuildingSize,0)+1,FALSE),0)))","v":0},0,0,{"$f":"IF(OR($B$4=\"\",$B$5=\"\",$H$4=\"\",$H$6=\"\",$H$5=\"\",A160=\"\",F160=\"\",J160=\"\",O160=\"\",P160=\"\")=TRUE,\"\",IF(C160=\"OSW\",IF(J160>=2,1,0),IF(C160=\"OSR\",IF(AND(J160>=2,P160>60)=TRUE,1,0),IF(C160=\"OSRH\",IF(AND(J160>=1,P160>90)=TRUE,1,0),IF(C160=\"OHLC\",IF(AND(N160=\"Y\",P160>60)=TRUE,1,0),IF(C160=\"DDC\",IF(AND(J160>=4,N160=\"Y\",P160>120)=TRUE,1,0),0))))))","v":""},{"$f":"IF(OR($B$4=\"\",$B$5=\"\",$H$4=\"\",$H$6=\"\",$H$5=\"\",A160=\"\",F160=\"\",K160=\"\",O160=\"\",P160=\"\")=TRUE,\"\",IF(C160=\"OSW\",IF(K160>=2,1,0),IF(C160=\"OSR\",IF(AND(K160>=2,Q160>60)=TRUE,1,0),IF(C160=\"OSRH\",IF(AND(K160>=1,Q160>90)=TRUE,1,0),IF(C160=\"OHLC\",IF(AND(N160=\"Y\",Q160>60)=TRUE,1,0),IF(C160=\"DDC\",IF(AND(K160>=4,N160=\"Y\",Q160>120)=TRUE,1,0),0))))))","v":""}]
[null,null,"",null,null,null,null,null,null,null,null,null,null,null,null,0,0,0,0,"",0,0,0,0,0,{"$f":"IF($H$4=\"\",0,VLOOKUP($H$4,BuildingType_Lookup,3,FALSE))","v":0},{"$f":"IF($H$4=\"\",0,VLOOKUP($H$4,BuildingType_Lookup,2,FALSE))","v":0},{"$f":"IF(AND(OR(AN161=\"\",AN161=0)=TRUE,OR(AO161=\"\",AO161=0))=TRUE,0,IF(AO161=\"\",(IF(OR(C161=\"DDC\",C161=\"OHLC\")=TRUE,O161,P161)/1000)*Y161*Z161*(1+VLOOKUP($H$4,BuildingType_Lookup,4,FALSE)),IF(AO161=0,0,(IF(OR(C161=\"DDC\",C161=\"OHLC\")=TRUE,O161,Q161)/1000)*Y161*Z161*(1+VLOOKUP($H$4,BuildingType_Lookup,4,FALSE)))))","v":0},{"$f":"IF(AND(OR(AN161=\"\",AN161=0)=TRUE,OR(AO161=\"\",AO161=0))=TRUE,0,IF(AO161=\"\",(IF(OR(C161=\"DDC\",C161=\"OHLC\")=TRUE,O161,P161)/1000)*Y161*AA161*(1+VLOOKUP($H$4,BuildingType_Lookup,MATCH($H$5,HVAC,0)+4,FALSE)),IF(AO161=0,0,(IF(OR(C161=\"DDC\",C161=\"OHLC\")=TRUE,O161,Q161)/1000)*Y161*AA161*(1+VLOOKUP($H$4,BuildingType_Lookup,MATCH($H$5,HVAC,0)+4,FALSE)))))","v":0},0,0,0,0,0,0,{"$f":"W161/1000*Y161*AA161*IF(IFERROR(SEARCH(\"Gas\",$H$5),0)>0,VLOOKUP(\"Gas\",HVACg_Lookup,MATCH($H$6,BuildingSize,0)+1,FALSE),IF(IFERROR(SEARCH(\"Oil\",$H$5),0)>0,VLOOKUP(\"Oil\",HVACg_Lookup,MATCH($H$6,BuildingSize,0)+1,FALSE),IF(IFERROR(SEARCH(\"Propane\",$H$5),0)>0,VLOOKUP(\"Propane\",HVACg_Lookup,MATCH(Worksheet!$H$6,BuildingSize,0)+1,FALSE),0)))","v":0},{"$f":"X161/1000*Y161*AA161*IF(IFERROR(SEARCH(\"Gas\",$H$5),0)>0,VLOOKUP(\"Gas\",HVACg_Lookup,MATCH($H$6,BuildingSize,0)+1,FALSE),IF(IFERROR(SEARCH(\"Oil\",$H$5),0)>0,VLOOKUP(\"Oil\",HVACg_Lookup,MATCH($H$6,BuildingSize,0)+1,FALSE),IF(IFERROR(SEARCH(\"Propane\",$H$5),0)>0,VLOOKUP(\"Propane\",HVACg_Lookup,MATCH(Worksheet!$H$6,BuildingSize,0)+1,FALSE),0)))","v":0},0,0,{"$f":"IF(OR($B$4=\"\",$B$5=\"\",$H$4=\"\",$H$6=\"\",$H$5=\"\",A161=\"\",F161=\"\",J161=\"\",O161=\"\",P161=\"\")=TRUE,\"\",IF(C161=\"OSW\",IF(J161>=2,1,0),IF(C161=\"OSR\",IF(AND(J161>=2,P161>60)=TRUE,1,0),IF(C161=\"OSRH\",IF(AND(J161>=1,P161>90)=TRUE,1,0),IF(C161=\"OHLC\",IF(AND(N161=\"Y\",P161>60)=TRUE,1,0),IF(C161=\"DDC\",IF(AND(J161>=4,N161=\"Y\",P161>120)=TRUE,1,0),0))))))","v":""},{"$f":"IF(OR($B$4=\"\",$B$5=\"\",$H$4=\"\",$H$6=\"\",$H$5=\"\",A161=\"\",F161=\"\",K161=\"\",O161=\"\",P161=\"\")=TRUE,\"\",IF(C161=\"OSW\",IF(K161>=2,1,0),IF(C161=\"OSR\",IF(AND(K161>=2,Q161>60)=TRUE,1,0),IF(C161=\"OSRH\",IF(AND(K161>=1,Q161>90)=TRUE,1,0),IF(C161=\"OHLC\",IF(AND(N161=\"Y\",Q161>60)=TRUE,1,0),IF(C161=\"DDC\",IF(AND(K161>=4,N161=\"Y\",Q161>120)=TRUE,1,0),0))))))","v":""}]
[null,null,"",null,null,null,null,null,null,null,null,null,null,null,null,0,0,0,0,"",0,0,0,0,0,{"$f":"IF($H$4=\"\",0,VLOOKUP($H$4,BuildingType_Lookup,3,FALSE))","v":0},{"$f":"IF($H$4=\"\",0,VLOOKUP($H$4,BuildingType_Lookup,2,FALSE))","v":0},{"$f":"IF(AND(OR(AN162=\"\",AN162=0)=TRUE,OR(AO162=\"\",AO162=0))=TRUE,0,IF(AO162=\"\",(IF(OR(C162=\"DDC\",C162=\"OHLC\")=TRUE,O162,P162)/1000)*Y162*Z162*(1+VLOOKUP($H$4,BuildingType_Lookup,4,FALSE)),IF(AO162=0,0,(IF(OR(C162=\"DDC\",C162=\"OHLC\")=TRUE,O162,Q162)/1000)*Y162*Z162*(1+VLOOKUP($H$4,BuildingType_Lookup,4,FALSE)))))","v":0},{"$f":"IF(AND(OR(AN162=\"\",AN162=0)=TRUE,OR(AO162=\"\",AO162=0))=TRUE,0,IF(AO162=\"\",(IF(OR(C162=\"DDC\",C162=\"OHLC\")=TRUE,O162,P162)/1000)*Y162*AA162*(1+VLOOKUP($H$4,BuildingType_Lookup,MATCH($H$5,HVAC,0)+4,FALSE)),IF(AO162=0,0,(IF(OR(C162=\"DDC\",C162=\"OHLC\")=TRUE,O162,Q162)/1000)*Y162*AA162*(1+VLOOKUP($H$4,BuildingType_Lookup,MATCH($H$5,HVAC,0)+4,FALSE)))))","v":0},0,0,0,0,0,0,{"$f":"W162/1000*Y162*AA162*IF(IFERROR(SEARCH(\"Gas\",$H$5),0)>0,VLOOKUP(\"Gas\",HVACg_Lookup,MATCH($H$6,BuildingSize,0)+1,FALSE),IF(IFERROR(SEARCH(\"Oil\",$H$5),0)>0,VLOOKUP(\"Oil\",HVACg_Lookup,MATCH($H$6,BuildingSize,0)+1,FALSE),IF(IFERROR(SEARCH(\"Propane\",$H$5),0)>0,VLOOKUP(\"Propane\",HVACg_Lookup,MATCH(Worksheet!$H$6,BuildingSize,0)+1,FALSE),0)))","v":0},{"$f":"X162/1000*Y162*AA162*IF(IFERROR(SEARCH(\"Gas\",$H$5),0)>0,VLOOKUP(\"Gas\",HVACg_Lookup,MATCH($H$6,BuildingSize,0)+1,FALSE),IF(IFERROR(SEARCH(\"Oil\",$H$5),0)>0,VLOOKUP(\"Oil\",HVACg_Lookup,MATCH($H$6,BuildingSize,0)+1,FALSE),IF(IFERROR(SEARCH(\"Propane\",$H$5),0)>0,VLOOKUP(\"Propane\",HVACg_Lookup,MATCH(Worksheet!$H$6,BuildingSize,0)+1,FALSE),0)))","v":0},0,0,{"$f":"IF(OR($B$4=\"\",$B$5=\"\",$H$4=\"\",$H$6=\"\",$H$5=\"\",A162=\"\",F162=\"\",J162=\"\",O162=\"\",P162=\"\")=TRUE,\"\",IF(C162=\"OSW\",IF(J162>=2,1,0),IF(C162=\"OSR\",IF(AND(J162>=2,P162>60)=TRUE,1,0),IF(C162=\"OSRH\",IF(AND(J162>=1,P162>90)=TRUE,1,0),IF(C162=\"OHLC\",IF(AND(N162=\"Y\",P162>60)=TRUE,1,0),IF(C162=\"DDC\",IF(AND(J162>=4,N162=\"Y\",P162>120)=TRUE,1,0),0))))))","v":""},{"$f":"IF(OR($B$4=\"\",$B$5=\"\",$H$4=\"\",$H$6=\"\",$H$5=\"\",A162=\"\",F162=\"\",K162=\"\",O162=\"\",P162=\"\")=TRUE,\"\",IF(C162=\"OSW\",IF(K162>=2,1,0),IF(C162=\"OSR\",IF(AND(K162>=2,Q162>60)=TRUE,1,0),IF(C162=\"OSRH\",IF(AND(K162>=1,Q162>90)=TRUE,1,0),IF(C162=\"OHLC\",IF(AND(N162=\"Y\",Q162>60)=TRUE,1,0),IF(C162=\"DDC\",IF(AND(K162>=4,N162=\"Y\",Q162>120)=TRUE,1,0),0))))))","v":""}]
[null,null,"",null,null,null,null,null,null,null,null,null,null,null,null,0,0,0,0,"",0,0,0,0,0,{"$f":"IF($H$4=\"\",0,VLOOKUP($H$4,BuildingType_Lookup,3,FALSE))","v":0},{"$f":"IF($H$4=\"\",0,VLOOKUP($H$4,BuildingType_Lookup,2,FALSE))","v":0},{"$f":"IF(AND(OR(AN163=\"\",AN163=0)=TRUE,OR(AO163=\"\",AO163=0))=TRUE,0,IF(AO163=\"\",(IF(OR(C163=\"DDC\",C163=\"OHLC\")=TRUE,O163,P163)/1000)*Y163*Z163*(1+VLOOKUP($H$4,BuildingType_Lookup,4,FALSE)),IF(AO163=0,0,(IF(OR(C163=\"DDC\",C163=\"OHLC\")=TRUE,O163,Q163)/1000)*Y163*Z163*(1+VLOOKUP($H$4,BuildingType_Lookup,4,FALSE)))))","v":0},{"$f":"IF(AND(OR(AN163=\"\",AN163=0)=TRUE,OR(AO163=\"\",AO163=0))=TRUE,0,IF(AO163=\"\",(IF(OR(C163=\"DDC\",C163=\"OHLC\")=TRUE,O163,P163)/1000)*Y163*AA163*(1+VLOOKUP($H$4,BuildingType_Lookup,MATCH($H$5,HVAC,0)+4,FALSE)),IF(AO163=0,0,(IF(OR(C163=\"DDC\",C163=\"OHLC\")=TRUE,O163,Q163)/1000)*Y163*AA163*(1+VLOOKUP($H$4,BuildingType_Lookup,MATCH($H$5,HVAC,0)+4,FALSE)))))","v":0},0,0,0,0,0,0,{"$f":"W163/1000*Y163*AA163*IF(IFERROR(SEARCH(\"Gas\",$H$5),0)>0,VLOOKUP(\"Gas\",HVACg_Lookup,MATCH($H$6,BuildingSize,0)+1,FALSE),IF(IFERROR(SEARCH(\"Oil\",$H$5),0)>0,VLOOKUP(\"Oil\",HVACg_Lookup,MATCH($H$6,BuildingSize,0)+1,FALSE),IF(IFERROR(SEARCH(\"Propane\",$H$5),0)>0,VLOOKUP(\"Propane\",HVACg_Lookup,MATCH(Worksheet!$H$6,BuildingSize,0)+1,FALSE),0)))","v":0},{"$f":"X163/1000*Y163*AA163*IF(IFERROR(SEARCH(\"Gas\",$H$5),0)>0,VLOOKUP(\"Gas\",HVACg_Lookup,MATCH($H$6,BuildingSize,0)+1,FALSE),IF(IFERROR(SEARCH(\"Oil\",$H$5),0)>0,VLOOKUP(\"Oil\",HVACg_Lookup,MATCH($H$6,BuildingSize,0)+1,FALSE),IF(IFERROR(SEARCH(\"Propane\",$H$5),0)>0,VLOOKUP(\"Propane\",HVACg_Lookup,MATCH(Worksheet!$H$6,BuildingSize,0)+1,FALSE),0)))","v":0},0,0,{"$f":"IF(OR($B$4=\"\",$B$5=\"\",$H$4=\"\",$H$6=\"\",$H$5=\"\",A163=\"\",F163=\"\",J163=\"\",O163=\"\",P163=\"\")=TRUE,\"\",IF(C163=\"OSW\",IF(J163>=2,1,0),IF(C163=\"OSR\",IF(AND(J163>=2,P163>60)=TRUE,1,0),IF(C163=\"OSRH\",IF(AND(J163>=1,P163>90)=TRUE,1,0),IF(C163=\"OHLC\",IF(AND(N163=\"Y\",P163>60)=TRUE,1,0),IF(C163=\"DDC\",IF(AND(J163>=4,N163=\"Y\",P163>120)=TRUE,1,0),0))))))","v":""},{"$f":"IF(OR($B$4=\"\",$B$5=\"\",$H$4=\"\",$H$6=\"\",$H$5=\"\",A163=\"\",F163=\"\",K163=\"\",O163=\"\",P163=\"\")=TRUE,\"\",IF(C163=\"OSW\",IF(K163>=2,1,0),IF(C163=\"OSR\",IF(AND(K163>=2,Q163>60)=TRUE,1,0),IF(C163=\"OSRH\",IF(AND(K163>=1,Q163>90)=TRUE,1,0),IF(C163=\"OHLC\",IF(AND(N163=\"Y\",Q163>60)=TRUE,1,0),IF(C163=\"DDC\",IF(AND(K163>=4,N163=\"Y\",Q163>120)=TRUE,1,0),0))))))","v":""}]
[null,null,"",null,null,null,null,null,null,null,null,null,null,null,null,0,0,0,0,"",0,0,0,0,0,{"$f":"IF($H$4=\"\",0,VLOOKUP($H$4,BuildingType_Lookup,3,FALSE))","v":0},{"$f":"IF($H$4=\"\",0,VLOOKUP($H$4,BuildingType_Lookup,2,FALSE))","v":0},{"$f":"IF(AND(OR(AN164=\"\",AN164=0)=TRUE,OR(AO164=\"\",AO164=0))=TRUE,0,IF(AO164=\"\",(IF(OR(C164=\"DDC\",C164=\"OHLC\")=TRUE,O164,P164)/1000)*Y164*Z164*(1+VLOOKUP($H$4,BuildingType_Lookup,4,FALSE)),IF(AO164=0,0,(IF(OR(C164=\"DDC\",C164=\"OHLC\")=TRUE,O164,Q164)/1000)*Y164*Z164*(1+VLOOKUP($H$4,BuildingType_Lookup,4,FALSE)))))","v":0},{"$f":"IF(AND(OR(AN164=\"\",AN164=0)=TRUE,OR(AO164=\"\",AO164=0))=TRUE,0,IF(AO164=\"\",(IF(OR(C164=\"DDC\",C164=\"OHLC\")=TRUE,O164,P164)/1000)*Y164*AA164*(1+VLOOKUP($H$4,BuildingType_Lookup,MATCH($H$5,HVAC,0)+4,FALSE)),IF(AO164=0,0,(IF(OR(C164=\"DDC\",C164=\"OHLC\")=TRUE,O164,Q164)/1000)*Y164*AA164*(1+VLOOKUP($H$4,BuildingType_Lookup,MATCH($H$5,HVAC,0)+4,FALSE)))))","v":0},0,0,0,0,0,0,{"$f":"W164/1000*Y164*AA164*IF(IFERROR(SEARCH(\"Gas\",$H$5),0)>0,VLOOKUP(\"Gas\",HVACg_Lookup,MATCH($H$6,BuildingSize,0)+1,FALSE),IF(IFERROR(SEARCH(\"Oil\",$H$5),0)>0,VLOOKUP(\"Oil\",HVACg_Lookup,MATCH($H$6,BuildingSize,0)+1,FALSE),IF(IFERROR(SEARCH(\"Propane\",$H$5),0)>0,VLOOKUP(\"Propane\",HVACg_Lookup,MATCH(Worksheet!$H$6,BuildingSize,0)+1,FALSE),0)))","v":0},{"$f":"X164/1000*Y164*AA164*IF(IFERROR(SEARCH(\"Gas\",$H$5),0)>0,VLOOKUP(\"Gas\",HVACg_Lookup,MATCH($H$6,BuildingSize,0)+1,FALSE),IF(IFERROR(SEARCH(\"Oil\",$H$5),0)>0,VLOOKUP(\"Oil\",HVACg_Lookup,MATCH($H$6,BuildingSize,0)+1,FALSE),IF(IFERROR(SEARCH(\"Propane\",$H$5),0)>0,VLOOKUP(\"Propane\",HVACg_Lookup,MATCH(Worksheet!$H$6,BuildingSize,0)+1,FALSE),0)))","v":0},0,0,{"$f":"IF(OR($B$4=\"\",$B$5=\"\",$H$4=\"\",$H$6=\"\",$H$5=\"\",A164=\"\",F164=\"\",J164=\"\",O164=\"\",P164=\"\")=TRUE,\"\",IF(C164=\"OSW\",IF(J164>=2,1,0),IF(C164=\"OSR\",IF(AND(J164>=2,P164>60)=TRUE,1,0),IF(C164=\"OSRH\",IF(AND(J164>=1,P164>90)=TRUE,1,0),IF(C164=\"OHLC\",IF(AND(N164=\"Y\",P164>60)=TRUE,1,0),IF(C164=\"DDC\",IF(AND(J164>=4,N164=\"Y\",P164>120)=TRUE,1,0),0))))))","v":""},{"$f":"IF(OR($B$4=\"\",$B$5=\"\",$H$4=\"\",$H$6=\"\",$H$5=\"\",A164=\"\",F164=\"\",K164=\"\",O164=\"\",P164=\"\")=TRUE,\"\",IF(C164=\"OSW\",IF(K164>=2,1,0),IF(C164=\"OSR\",IF(AND(K164>=2,Q164>60)=TRUE,1,0),IF(C164=\"OSRH\",IF(AND(K164>=1,Q164>90)=TRUE,1,0),IF(C164=\"OHLC\",IF(AND(N164=\"Y\",Q164>60)=TRUE,1,0),IF(C164=\"DDC\",IF(AND(K164>=4,N164=\"Y\",Q164>120)=TRUE,1,0),0))))))","v":""}]
[null,null,"",null,null,null,null,null,null,null,null,null,null,null,null,0,0,0,0,"",0,0,0,0,0,{"$f":"IF($H$4=\"\",0,VLOOKUP($H$4,BuildingType_Lookup,3,FALSE))","v":0},{"$f":"IF($H$4=\"\",0,VLOOKUP($H$4,BuildingType_Lookup,2,FALSE))","v":0},{"$f":"IF(AND(OR(AN165=\"\",AN165=0)=TRUE,OR(AO165=\"\",AO165=0))=TRUE,0,IF(AO165=\"\",(IF(OR(C165=\"DDC\",C165=\"OHLC\")=TRUE,O165,P165)/1000)*Y165*Z165*(1+VLOOKUP($H$4,BuildingType_Lookup,4,FALSE)),IF(AO165=0,0,(IF(OR(C165=\"DDC\",C165=\"OHLC\")=TRUE,O165,Q165)/1000)*Y165*Z165*(1+VLOOKUP($H$4,BuildingType_Lookup,4,FALSE)))))","v":0},{"$f":"IF(AND(OR(AN165=\"\",AN165=0)=TRUE,OR(AO165=\"\",AO165=0))=TRUE,0,IF(AO165=\"\",(IF(OR(C165=\"DDC\",C165=\"OHLC\")=TRUE,O165,P165)/1000)*Y165*AA165*(1+VLOOKUP($H$4,BuildingType_Lookup,MATCH($H$5,HVAC,0)+4,FALSE)),IF(AO165=0,0,(IF(OR(C165=\"DDC\",C165=\"OHLC\")=TRUE,O165,Q165)/1000)*Y165*AA165*(1+VLOOKUP($H$4,BuildingType_Lookup,MATCH($H$5,HVAC,0)+4,FALSE)))))","v":0},0,0,0,0,0,0,{"$f":"W165/1000*Y165*AA165*IF(IFERROR(SEARCH(\"Gas\",$H$5),0)>0,VLOOKUP(\"Gas\",HVACg_Lookup,MATCH($H$6,BuildingSize,0)+1,FALSE),IF(IFERROR(SEARCH(\"Oil\",$H$5),0)>0,VLOOKUP(\"Oil\",HVACg_Lookup,MATCH($H$6,BuildingSize,0)+1,FALSE),IF(IFERROR(SEARCH(\"Propane\",$H$5),0)>0,VLOOKUP(\"Propane\",HVACg_Lookup,MATCH(Worksheet!$H$6,BuildingSize,0)+1,FALSE),0)))","v":0},{"$f":"X165/1000*Y165*AA165*IF(IFERROR(SEARCH(\"Gas\",$H$5),0)>0,VLOOKUP(\"Gas\",HVACg_Lookup,MATCH($H$6,BuildingSize,0)+1,FALSE),IF(IFERROR(SEARCH(\"Oil\",$H$5),0)>0,VLOOKUP(\"Oil\",HVACg_Lookup,MATCH($H$6,BuildingSize,0)+1,FALSE),IF(IFERROR(SEARCH(\"Propane\",$H$5),0)>0,VLOOKUP(\"Propane\",HVACg_Lookup,MATCH(Worksheet!$H$6,BuildingSize,0)+1,FALSE),0)))","v":0},0,0,{"$f":"IF(OR($B$4=\"\",$B$5=\"\",$H$4=\"\",$H$6=\"\",$H$5=\"\",A165=\"\",F165=\"\",J165=\"\",O165=\"\",P165=\"\")=TRUE,\"\",IF(C165=\"OSW\",IF(J165>=2,1,0),IF(C165=\"OSR\",IF(AND(J165>=2,P165>60)=TRUE,1,0),IF(C165=\"OSRH\",IF(AND(J165>=1,P165>90)=TRUE,1,0),IF(C165=\"OHLC\",IF(AND(N165=\"Y\",P165>60)=TRUE,1,0),IF(C165=\"DDC\",IF(AND(J165>=4,N165=\"Y\",P165>120)=TRUE,1,0),0))))))","v":""},{"$f":"IF(OR($B$4=\"\",$B$5=\"\",$H$4=\"\",$H$6=\"\",$H$5=\"\",A165=\"\",F165=\"\",K165=\"\",O165=\"\",P165=\"\")=TRUE,\"\",IF(C165=\"OSW\",IF(K165>=2,1,0),IF(C165=\"OSR\",IF(AND(K165>=2,Q165>60)=TRUE,1,0),IF(C165=\"OSRH\",IF(AND(K165>=1,Q165>90)=TRUE,1,0),IF(C165=\"OHLC\",IF(AND(N165=\"Y\",Q165>60)=TRUE,1,0),IF(C165=\"DDC\",IF(AND(K165>=4,N165=\"Y\",Q165>120)=TRUE,1,0),0))))))","v":""}]
[null,null,"",null,null,null,null,null,null,null,null,null,null,null,null,0,0,0,0,"",0,0,0,0,0,{"$f":"IF($H$4=\"\",0,VLOOKUP($H$4,BuildingType_Lookup,3,FALSE))","v":0},{"$f":"IF($H$4=\"\",0,VLOOKUP($H$4,BuildingType_Lookup,2,FALSE))","v":0},{"$f":"IF(AND(OR(AN166=\"\",AN166=0)=TRUE,OR(AO166=\"\",AO166=0))=TRUE,0,IF(AO166=\"\",(IF(OR(C166=\"DDC\",C166=\"OHLC\")=TRUE,O166,P166)/1000)*Y166*Z166*(1+VLOOKUP($H$4,BuildingType_Lookup,4,FALSE)),IF(AO166=0,0,(IF(OR(C166=\"DDC\",C166=\"OHLC\")=TRUE,O166,Q166)/1000)*Y166*Z166*(1+VLOOKUP($H$4,BuildingType_Lookup,4,FALSE)))))","v":0},{"$f":"IF(AND(OR(AN166=\"\",AN166=0)=TRUE,OR(AO166=\"\",AO166=0))=TRUE,0,IF(AO166=\"\",(IF(OR(C166=\"DDC\",C166=\"OHLC\")=TRUE,O166,P166)/1000)*Y166*AA166*(1+VLOOKUP($H$4,BuildingType_Lookup,MATCH($H$5,HVAC,0)+4,FALSE)),IF(AO166=0,0,(IF(OR(C166=\"DDC\",C166=\"OHLC\")=TRUE,O166,Q166)/1000)*Y166*AA166*(1+VLOOKUP($H$4,BuildingType_Lookup,MATCH($H$5,HVAC,0)+4,FALSE)))))","v":0},0,0,0,0,0,0,{"$f":"W166/1000*Y166*AA166*IF(IFERROR(SEARCH(\"Gas\",$H$5),0)>0,VLOOKUP(\"Gas\",HVACg_Lookup,MATCH($H$6,BuildingSize,0)+1,FALSE),IF(IFERROR(SEARCH(\"Oil\",$H$5),0)>0,VLOOKUP(\"Oil\",HVACg_Lookup,MATCH($H$6,BuildingSize,0)+1,FALSE),IF(IFERROR(SEARCH(\"Propane\",$H$5),0)>0,VLOOKUP(\"Propane\",HVACg_Lookup,MATCH(Worksheet!$H$6,BuildingSize,0)+1,FALSE),0)))","v":0},{"$f":"X166/1000*Y166*AA166*IF(IFERROR(SEARCH(\"Gas\",$H$5),0)>0,VLOOKUP(\"Gas\",HVACg_Lookup,MATCH($H$6,BuildingSize,0)+1,FALSE),IF(IFERROR(SEARCH(\"Oil\",$H$5),0)>0,VLOOKUP(\"Oil\",HVACg_Lookup,MATCH($H$6,BuildingSize,0)+1,FALSE),IF(IFERROR(SEARCH(\"Propane\",$H$5),0)>0,VLOOKUP(\"Propane\",HVACg_Lookup,MATCH(Worksheet!$H$6,BuildingSize,0)+1,FALSE),0)))","v":0},0,0,{"$f":"IF(OR($B$4=\"\",$B$5=\"\",$H$4=\"\",$H$6=\"\",$H$5=\"\",A166=\"\",F166=\"\",J166=\"\",O166=\"\",P166=\"\")=TRUE,\"\",IF(C166=\"OSW\",IF(J166>=2,1,0),IF(C166=\"OSR\",IF(AND(J166>=2,P166>60)=TRUE,1,0),IF(C166=\"OSRH\",IF(AND(J166>=1,P166>90)=TRUE,1,0),IF(C166=\"OHLC\",IF(AND(N166=\"Y\",P166>60)=TRUE,1,0),IF(C166=\"DDC\",IF(AND(J166>=4,N166=\"Y\",P166>120)=TRUE,1,0),0))))))","v":""},{"$f":"IF(OR($B$4=\"\",$B$5=\"\",$H$4=\"\",$H$6=\"\",$H$5=\"\",A166=\"\",F166=\"\",K166=\"\",O166=\"\",P166=\"\")=TRUE,\"\",IF(C166=\"OSW\",IF(K166>=2,1,0),IF(C166=\"OSR\",IF(AND(K166>=2,Q166>60)=TRUE,1,0),IF(C166=\"OSRH\",IF(AND(K166>=1,Q166>90)=TRUE,1,0),IF(C166=\"OHLC\",IF(AND(N166=\"Y\",Q166>60)=TRUE,1,0),IF(C166=\"DDC\",IF(AND(K166>=4,N166=\"Y\",Q166>120)=TRUE,1,0),0))))))","v":""}]
[null,null,"",null,null,null,null,null,null,null,null,null,null,null,null,0,0,0,0,"",0,0,0,0,0,{"$f":"IF($H$4=\"\",0,VLOOKUP($H$4,BuildingType_Lookup,3,FALSE))","v":0},{"$f":"IF($H$4=\"\",0,VLOOKUP($H$4,BuildingType_Lookup,2,FALSE))","v":0},{"$f":"IF(AND(OR(AN167=\"\",AN167=0)=TRUE,OR(AO167=\"\",AO167=0))=TRUE,0,IF(AO167=\"\",(IF(OR(C167=\"DDC\",C167=\"OHLC\")=TRUE,O167,P167)/1000)*Y167*Z167*(1+VLOOKUP($H$4,BuildingType_Lookup,4,FALSE)),IF(AO167=0,0,(IF(OR(C167=\"DDC\",C167=\"OHLC\")=TRUE,O167,Q167)/1000)*Y167*Z167*(1+VLOOKUP($H$4,BuildingType_Lookup,4,FALSE)))))","v":0},{"$f":"IF(AND(OR(AN167=\"\",AN167=0)=TRUE,OR(AO167=\"\",AO167=0))=TRUE,0,IF(AO167=\"\",(IF(OR(C167=\"DDC\",C167=\"OHLC\")=TRUE,O167,P167)/1000)*Y167*AA167*(1+VLOOKUP($H$4,BuildingType_Lookup,MATCH($H$5,HVAC,0)+4,FALSE)),IF(AO167=0,0,(IF(OR(C167=\"DDC\",C167=\"OHLC\")=TRUE,O167,Q167)/1000)*Y167*AA167*(1+VLOOKUP($H$4,BuildingType_Lookup,MATCH($H$5,HVAC,0)+4,FALSE)))))","v":0},0,0,0,0,0,0,{"$f":"W167/1000*Y167*AA167*IF(IFERROR(SEARCH(\"Gas\",$H$5),0)>0,VLOOKUP(\"Gas\",HVACg_Lookup,MATCH($H$6,BuildingSize,0)+1,FALSE),IF(IFERROR(SEARCH(\"Oil\",$H$5),0)>0,VLOOKUP(\"Oil\",HVACg_Lookup,MATCH($H$6,BuildingSize,0)+1,FALSE),IF(IFERROR(SEARCH(\"Propane\",$H$5),0)>0,VLOOKUP(\"Propane\",HVACg_Lookup,MATCH(Worksheet!$H$6,BuildingSize,0)+1,FALSE),0)))","v":0},{"$f":"X167/1000*Y167*AA167*IF(IFERROR(SEARCH(\"Gas\",$H$5),0)>0,VLOOKUP(\"Gas\",HVACg_Lookup,MATCH($H$6,BuildingSize,0)+1,FALSE),IF(IFERROR(SEARCH(\"Oil\",$H$5),0)>0,VLOOKUP(\"Oil\",HVACg_Lookup,MATCH($H$6,BuildingSize,0)+1,FALSE),IF(IFERROR(SEARCH(\"Propane\",$H$5),0)>0,VLOOKUP(\"Propane\",HVACg_Lookup,MATCH(Worksheet!$H$6,BuildingSize,0)+1,FALSE),0)))","v":0},0,0,{"$f":"IF(OR($B$4=\"\",$B$5=\"\",$H$4=\"\",$H$6=\"\",$H$5=\"\",A167=\"\",F167=\"\",J167=\"\",O167=\"\",P167=\"\")=TRUE,\"\",IF(C167=\"OSW\",IF(J167>=2,1,0),IF(C167=\"OSR\",IF(AND(J167>=2,P167>60)=TRUE,1,0),IF(C167=\"OSRH\",IF(AND(J167>=1,P167>90)=TRUE,1,0),IF(C167=\"OHLC\",IF(AND(N167=\"Y\",P167>60)=TRUE,1,0),IF(C167=\"DDC\",IF(AND(J167>=4,N167=\"Y\",P167>120)=TRUE,1,0),0))))))","v":""},{"$f":"IF(OR($B$4=\"\",$B$5=\"\",$H$4=\"\",$H$6=\"\",$H$5=\"\",A167=\"\",F167=\"\",K167=\"\",O167=\"\",P167=\"\")=TRUE,\"\",IF(C167=\"OSW\",IF(K167>=2,1,0),IF(C167=\"OSR\",IF(AND(K167>=2,Q167>60)=TRUE,1,0),IF(C167=\"OSRH\",IF(AND(K167>=1,Q167>90)=TRUE,1,0),IF(C167=\"OHLC\",IF(AND(N167=\"Y\",Q167>60)=TRUE,1,0),IF(C167=\"DDC\",IF(AND(K167>=4,N167=\"Y\",Q167>120)=TRUE,1,0),0))))))","v":""}]
[null,null,"",null,null,null,null,null,null,null,null,null,null,null,null,0,0,0,0,"",0,0,0,0,0,{"$f":"IF($H$4=\"\",0,VLOOKUP($H$4,BuildingType_Lookup,3,FALSE))","v":0},{"$f":"IF($H$4=\"\",0,VLOOKUP($H$4,BuildingType_Lookup,2,FALSE))","v":0},{"$f":"IF(AND(OR(AN168=\"\",AN168=0)=TRUE,OR(AO168=\"\",AO168=0))=TRUE,0,IF(AO168=\"\",(IF(OR(C168=\"DDC\",C168=\"OHLC\")=TRUE,O168,P168)/1000)*Y168*Z168*(1+VLOOKUP($H$4,BuildingType_Lookup,4,FALSE)),IF(AO168=0,0,(IF(OR(C168=\"DDC\",C168=\"OHLC\")=TRUE,O168,Q168)/1000)*Y168*Z168*(1+VLOOKUP($H$4,BuildingType_Lookup,4,FALSE)))))","v":0},{"$f":"IF(AND(OR(AN168=\"\",AN168=0)=TRUE,OR(AO168=\"\",AO168=0))=TRUE,0,IF(AO168=\"\",(IF(OR(C168=\"DDC\",C168=\"OHLC\")=TRUE,O168,P168)/1000)*Y168*AA168*(1+VLOOKUP($H$4,BuildingType_Lookup,MATCH($H$5,HVAC,0)+4,FALSE)),IF(AO168=0,0,(IF(OR(C168=\"DDC\",C168=\"OHLC\")=TRUE,O168,Q168)/1000)*Y168*AA168*(1+VLOOKUP($H$4,BuildingType_Lookup,MATCH($H$5,HVAC,0)+4,FALSE)))))","v":0},0,0,0,0,0,0,{"$f":"W168/1000*Y168*AA168*IF(IFERROR(SEARCH(\"Gas\",$H$5),0)>0,VLOOKUP(\"Gas\",HVACg_Lookup,MATCH($H$6,BuildingSize,0)+1,FALSE),IF(IFERROR(SEARCH(\"Oil\",$H$5),0)>0,VLOOKUP(\"Oil\",HVACg_Lookup,MATCH($H$6,BuildingSize,0)+1,FALSE),IF(IFERROR(SEARCH(\"Propane\",$H$5),0)>0,VLOOKUP(\"Propane\",HVACg_Lookup,MATCH(Worksheet!$H$6,BuildingSize,0)+1,FALSE),0)))","v":0},{"$f":"X168/1000*Y168*AA168*IF(IFERROR(SEARCH(\"Gas\",$H$5),0)>0,VLOOKUP(\"Gas\",HVACg_Lookup,MATCH($H$6,BuildingSize,0)+1,FALSE),IF(IFERROR(SEARCH(\"Oil\",$H$5),0)>0,VLOOKUP(\"Oil\",HVACg_Lookup,MATCH($H$6,BuildingSize,0)+1,FALSE),IF(IFERROR(SEARCH(\"Propane\",$H$5),0)>0,VLOOKUP(\"Propane\",HVACg_Lookup,MATCH(Worksheet!$H$6,BuildingSize,0)+1,FALSE),0)))","v":0},0,0,{"$f":"IF(OR($B$4=\"\",$B$5=\"\",$H$4=\"\",$H$6=\"\",$H$5=\"\",A168=\"\",F168=\"\",J168=\"\",O168=\"\",P168=\"\")=TRUE,\"\",IF(C168=\"OSW\",IF(J168>=2,1,0),IF(C168=\"OSR\",IF(AND(J168>=2,P168>60)=TRUE,1,0),IF(C168=\"OSRH\",IF(AND(J168>=1,P168>90)=TRUE,1,0),IF(C168=\"OHLC\",IF(AND(N168=\"Y\",P168>60)=TRUE,1,0),IF(C168=\"DDC\",IF(AND(J168>=4,N168=\"Y\",P168>120)=TRUE,1,0),0))))))","v":""},{"$f":"IF(OR($B$4=\"\",$B$5=\"\",$H$4=\"\",$H$6=\"\",$H$5=\"\",A168=\"\",F168=\"\",K168=\"\",O168=\"\",P168=\"\")=TRUE,\"\",IF(C168=\"OSW\",IF(K168>=2,1,0),IF(C168=\"OSR\",IF(AND(K168>=2,Q168>60)=TRUE,1,0),IF(C168=\"OSRH\",IF(AND(K168>=1,Q168>90)=TRUE,1,0),IF(C168=\"OHLC\",IF(AND(N168=\"Y\",Q168>60)=TRUE,1,0),IF(C168=\"DDC\",IF(AND(K168>=4,N168=\"Y\",Q168>120)=TRUE,1,0),0))))))","v":""}]
[null,null,"",null,null,null,null,null,null,null,null,null,null,null,null,0,0,0,0,"",0,0,0,0,0,{"$f":"IF($H$4=\"\",0,VLOOKUP($H$4,BuildingType_Lookup,3,FALSE))","v":0},{"$f":"IF($H$4=\"\",0,VLOOKUP($H$4,BuildingType_Lookup,2,FALSE))","v":0},{"$f":"IF(AND(OR(AN169=\"\",AN169=0)=TRUE,OR(AO169=\"\",AO169=0))=TRUE,0,IF(AO169=\"\",(IF(OR(C169=\"DDC\",C169=\"OHLC\")=TRUE,O169,P169)/1000)*Y169*Z169*(1+VLOOKUP($H$4,BuildingType_Lookup,4,FALSE)),IF(AO169=0,0,(IF(OR(C169=\"DDC\",C169=\"OHLC\")=TRUE,O169,Q169)/1000)*Y169*Z169*(1+VLOOKUP($H$4,BuildingType_Lookup,4,FALSE)))))","v":0},{"$f":"IF(AND(OR(AN169=\"\",AN169=0)=TRUE,OR(AO169=\"\",AO169=0))=TRUE,0,IF(AO169=\"\",(IF(OR(C169=\"DDC\",C169=\"OHLC\")=TRUE,O169,P169)/1000)*Y169*AA169*(1+VLOOKUP($H$4,BuildingType_Lookup,MATCH($H$5,HVAC,0)+4,FALSE)),IF(AO169=0,0,(IF(OR(C169=\"DDC\",C169=\"OHLC\")=TRUE,O169,Q169)/1000)*Y169*AA169*(1+VLOOKUP($H$4,BuildingType_Lookup,MATCH($H$5,HVAC,0)+4,FALSE)))))","v":0},0,0,0,0,0,0,{"$f":"W169/1000*Y169*AA169*IF(IFERROR(SEARCH(\"Gas\",$H$5),0)>0,VLOOKUP(\"Gas\",HVACg_Lookup,MATCH($H$6,BuildingSize,0)+1,FALSE),IF(IFERROR(SEARCH(\"Oil\",$H$5),0)>0,VLOOKUP(\"Oil\",HVACg_Lookup,MATCH($H$6,BuildingSize,0)+1,FALSE),IF(IFERROR(SEARCH(\"Propane\",$H$5),0)>0,VLOOKUP(\"Propane\",HVACg_Lookup,MATCH(Worksheet!$H$6,BuildingSize,0)+1,FALSE),0)))","v":0},{"$f":"X169/1000*Y169*AA169*IF(IFERROR(SEARCH(\"Gas\",$H$5),0)>0,VLOOKUP(\"Gas\",HVACg_Lookup,MATCH($H$6,BuildingSize,0)+1,FALSE),IF(IFERROR(SEARCH(\"Oil\",$H$5),0)>0,VLOOKUP(\"Oil\",HVACg_Lookup,MATCH($H$6,BuildingSize,0)+1,FALSE),IF(IFERROR(SEARCH(\"Propane\",$H$5),0)>0,VLOOKUP(\"Propane\",HVACg_Lookup,MATCH(Worksheet!$H$6,BuildingSize,0)+1,FALSE),0)))","v":0},0,0,{"$f":"IF(OR($B$4=\"\",$B$5=\"\",$H$4=\"\",$H$6=\"\",$H$5=\"\",A169=\"\",F169=\"\",J169=\"\",O169=\"\",P169=\"\")=TRUE,\"\",IF(C169=\"OSW\",IF(J169>=2,1,0),IF(C169=\"OSR\",IF(AND(J169>=2,P169>60)=TRUE,1,0),IF(C169=\"OSRH\",IF(AND(J169>=1,P169>90)=TRUE,1,0),IF(C169=\"OHLC\",IF(AND(N169=\"Y\",P169>60)=TRUE,1,0),IF(C169=\"DDC\",IF(AND(J169>=4,N169=\"Y\",P169>120)=TRUE,1,0),0))))))","v":""},{"$f":"IF(OR($B$4=\"\",$B$5=\"\",$H$4=\"\",$H$6=\"\",$H$5=\"\",A169=\"\",F169=\"\",K169=\"\",O169=\"\",P169=\"\")=TRUE,\"\",IF(C169=\"OSW\",IF(K169>=2,1,0),IF(C169=\"OSR\",IF(AND(K169>=2,Q169>60)=TRUE,1,0),IF(C169=\"OSRH\",IF(AND(K169>=1,Q169>90)=TRUE,1,0),IF(C169=\"OHLC\",IF(AND(N169=\"Y\",Q169>60)=TRUE,1,0),IF(C169=\"DDC\",IF(AND(K169>=4,N169=\"Y\",Q169>120)=TRUE,1,0),0))))))","v":""}]
[null,null,"",null,null,null,null,null,null,null,null,null,null,null,null,0,0,0,0,"",0,0,0,0,0,{"$f":"IF($H$4=\"\",0,VLOOKUP($H$4,BuildingType_Lookup,3,FALSE))","v":0},{"$f":"IF($H$4=\"\",0,VLOOKUP($H$4,BuildingType_Lookup,2,FALSE))","v":0},{"$f":"IF(AND(OR(AN170=\"\",AN170=0)=TRUE,OR(AO170=\"\",AO170=0))=TRUE,0,IF(AO170=\"\",(IF(OR(C170=\"DDC\",C170=\"OHLC\")=TRUE,O170,P170)/1000)*Y170*Z170*(1+VLOOKUP($H$4,BuildingType_Lookup,4,FALSE)),IF(AO170=0,0,(IF(OR(C170=\"DDC\",C170=\"OHLC\")=TRUE,O170,Q170)/1000)*Y170*Z170*(1+VLOOKUP($H$4,BuildingType_Lookup,4,FALSE)))))","v":0},{"$f":"IF(AND(OR(AN170=\"\",AN170=0)=TRUE,OR(AO170=\"\",AO170=0))=TRUE,0,IF(AO170=\"\",(IF(OR(C170=\"DDC\",C170=\"OHLC\")=TRUE,O170,P170)/1000)*Y170*AA170*(1+VLOOKUP($H$4,BuildingType_Lookup,MATCH($H$5,HVAC,0)+4,FALSE)),IF(AO170=0,0,(IF(OR(C170=\"DDC\",C170=\"OHLC\")=TRUE,O170,Q170)/1000)*Y170*AA170*(1+VLOOKUP($H$4,BuildingType_Lookup,MATCH($H$5,HVAC,0)+4,FALSE)))))","v":0},0,0,0,0,0,0,{"$f":"W170/1000*Y170*AA170*IF(IFERROR(SEARCH(\"Gas\",$H$5),0)>0,VLOOKUP(\"Gas\",HVACg_Lookup,MATCH($H$6,BuildingSize,0)+1,FALSE),IF(IFERROR(SEARCH(\"Oil\",$H$5),0)>0,VLOOKUP(\"Oil\",HVACg_Lookup,MATCH($H$6,BuildingSize,0)+1,FALSE),IF(IFERROR(SEARCH(\"Propane\",$H$5),0)>0,VLOOKUP(\"Propane\",HVACg_Lookup,MATCH(Worksheet!$H$6,BuildingSize,0)+1,FALSE),0)))","v":0},{"$f":"X170/1000*Y170*AA170*IF(IFERROR(SEARCH(\"Gas\",$H$5),0)>0,VLOOKUP(\"Gas\",HVACg_Lookup,MATCH($H$6,BuildingSize,0)+1,FALSE),IF(IFERROR(SEARCH(\"Oil\",$H$5),0)>0,VLOOKUP(\"Oil\",HVACg_Lookup,MATCH($H$6,BuildingSize,0)+1,FALSE),IF(IFERROR(SEARCH(\"Propane\",$H$5),0)>0,VLOOKUP(\"Propane\",HVACg_Lookup,MATCH(Worksheet!$H$6,BuildingSize,0)+1,FALSE),0)))","v":0},0,0,{"$f":"IF(OR($B$4=\"\",$B$5=\"\",$H$4=\"\",$H$6=\"\",$H$5=\"\",A170=\"\",F170=\"\",J170=\"\",O170=\"\",P170=\"\")=TRUE,\"\",IF(C170=\"OSW\",IF(J170>=2,1,0),IF(C170=\"OSR\",IF(AND(J170>=2,P170>60)=TRUE,1,0),IF(C170=\"OSRH\",IF(AND(J170>=1,P170>90)=TRUE,1,0),IF(C170=\"OHLC\",IF(AND(N170=\"Y\",P170>60)=TRUE,1,0),IF(C170=\"DDC\",IF(AND(J170>=4,N170=\"Y\",P170>120)=TRUE,1,0),0))))))","v":""},{"$f":"IF(OR($B$4=\"\",$B$5=\"\",$H$4=\"\",$H$6=\"\",$H$5=\"\",A170=\"\",F170=\"\",K170=\"\",O170=\"\",P170=\"\")=TRUE,\"\",IF(C170=\"OSW\",IF(K170>=2,1,0),IF(C170=\"OSR\",IF(AND(K170>=2,Q170>60)=TRUE,1,0),IF(C170=\"OSRH\",IF(AND(K170>=1,Q170>90)=TRUE,1,0),IF(C170=\"OHLC\",IF(AND(N170=\"Y\",Q170>60)=TRUE,1,0),IF(C170=\"DDC\",IF(AND(K170>=4,N170=\"Y\",Q170>120)=TRUE,1,0),0))))))","v":""}]
[null,null,"",null,null,null,null,null,null,null,null,null,null,null,null,0,0,0,0,"",0,0,0,0,0,{"$f":"IF($H$4=\"\",0,VLOOKUP($H$4,BuildingType_Lookup,3,FALSE))","v":0},{"$f":"IF($H$4=\"\",0,VLOOKUP($H$4,BuildingType_Lookup,2,FALSE))","v":0},{"$f":"IF(AND(OR(AN171=\"\",AN171=0)=TRUE,OR(AO171=\"\",AO171=0))=TRUE,0,IF(AO171=\"\",(IF(OR(C171=\"DDC\",C171=\"OHLC\")=TRUE,O171,P171)/1000)*Y171*Z171*(1+VLOOKUP($H$4,BuildingType_Lookup,4,FALSE)),IF(AO171=0,0,(IF(OR(C171=\"DDC\",C171=\"OHLC\")=TRUE,O171,Q171)/1000)*Y171*Z171*(1+VLOOKUP($H$4,BuildingType_Lookup,4,FALSE)))))","v":0},{"$f":"IF(AND(OR(AN171=\"\",AN171=0)=TRUE,OR(AO171=\"\",AO171=0))=TRUE,0,IF(AO171=\"\",(IF(OR(C171=\"DDC\",C171=\"OHLC\")=TRUE,O171,P171)/1000)*Y171*AA171*(1+VLOOKUP($H$4,BuildingType_Lookup,MATCH($H$5,HVAC,0)+4,FALSE)),IF(AO171=0,0,(IF(OR(C171=\"DDC\",C171=\"OHLC\")=TRUE,O171,Q171)/1000)*Y171*AA171*(1+VLOOKUP($H$4,BuildingType_Lookup,MATCH($H$5,HVAC,0)+4,FALSE)))))","v":0},0,0,0,0,0,0,{"$f":"W171/1000*Y171*AA171*IF(IFERROR(SEARCH(\"Gas\",$H$5),0)>0,VLOOKUP(\"Gas\",HVACg_Lookup,MATCH($H$6,BuildingSize,0)+1,FALSE),IF(IFERROR(SEARCH(\"Oil\",$H$5),0)>0,VLOOKUP(\"Oil\",HVACg_Lookup,MATCH($H$6,BuildingSize,0)+1,FALSE),IF(IFERROR(SEARCH(\"Propane\",$H$5),0)>0,VLOOKUP(\"Propane\",HVACg_Lookup,MATCH(Worksheet!$H$6,BuildingSize,0)+1,FALSE),0)))","v":0},{"$f":"X171/1000*Y171*AA171*IF(IFERROR(SEARCH(\"Gas\",$H$5),0)>0,VLOOKUP(\"Gas\",HVACg_Lookup,MATCH($H$6,BuildingSize,0)+1,FALSE),IF(IFERROR(SEARCH(\"Oil\",$H$5),0)>0,VLOOKUP(\"Oil\",HVACg_Lookup,MATCH($H$6,BuildingSize,0)+1,FALSE),IF(IFERROR(SEARCH(\"Propane\",$H$5),0)>0,VLOOKUP(\"Propane\",HVACg_Lookup,MATCH(Worksheet!$H$6,BuildingSize,0)+1,FALSE),0)))","v":0},0,0,{"$f":"IF(OR($B$4=\"\",$B$5=\"\",$H$4=\"\",$H$6=\"\",$H$5=\"\",A171=\"\",F171=\"\",J171=\"\",O171=\"\",P171=\"\")=TRUE,\"\",IF(C171=\"OSW\",IF(J171>=2,1,0),IF(C171=\"OSR\",IF(AND(J171>=2,P171>60)=TRUE,1,0),IF(C171=\"OSRH\",IF(AND(J171>=1,P171>90)=TRUE,1,0),IF(C171=\"OHLC\",IF(AND(N171=\"Y\",P171>60)=TRUE,1,0),IF(C171=\"DDC\",IF(AND(J171>=4,N171=\"Y\",P171>120)=TRUE,1,0),0))))))","v":""},{"$f":"IF(OR($B$4=\"\",$B$5=\"\",$H$4=\"\",$H$6=\"\",$H$5=\"\",A171=\"\",F171=\"\",K171=\"\",O171=\"\",P171=\"\")=TRUE,\"\",IF(C171=\"OSW\",IF(K171>=2,1,0),IF(C171=\"OSR\",IF(AND(K171>=2,Q171>60)=TRUE,1,0),IF(C171=\"OSRH\",IF(AND(K171>=1,Q171>90)=TRUE,1,0),IF(C171=\"OHLC\",IF(AND(N171=\"Y\",Q171>60)=TRUE,1,0),IF(C171=\"DDC\",IF(AND(K171>=4,N171=\"Y\",Q171>120)=TRUE,1,0),0))))))","v":""}]
[null,null,"",null,null,null,null,null,null,null,null,null,null,null,null,0,0,0,0,"",0,0,0,0,0,{"$f":"IF($H$4=\"\",0,VLOOKUP($H$4,BuildingType_Lookup,3,FALSE))","v":0},{"$f":"IF($H$4=\"\",0,VLOOKUP($H$4,BuildingType_Lookup,2,FALSE))","v":0},{"$f":"IF(AND(OR(AN172=\"\",AN172=0)=TRUE,OR(AO172=\"\",AO172=0))=TRUE,0,IF(AO172=\"\",(IF(OR(C172=\"DDC\",C172=\"OHLC\")=TRUE,O172,P172)/1000)*Y172*Z172*(1+VLOOKUP($H$4,BuildingType_Lookup,4,FALSE)),IF(AO172=0,0,(IF(OR(C172=\"DDC\",C172=\"OHLC\")=TRUE,O172,Q172)/1000)*Y172*Z172*(1+VLOOKUP($H$4,BuildingType_Lookup,4,FALSE)))))","v":0},{"$f":"IF(AND(OR(AN172=\"\",AN172=0)=TRUE,OR(AO172=\"\",AO172=0))=TRUE,0,IF(AO172=\"\",(IF(OR(C172=\"DDC\",C172=\"OHLC\")=TRUE,O172,P172)/1000)*Y172*AA172*(1+VLOOKUP($H$4,BuildingType_Lookup,MATCH($H$5,HVAC,0)+4,FALSE)),IF(AO172=0,0,(IF(OR(C172=\"DDC\",C172=\"OHLC\")=TRUE,O172,Q172)/1000)*Y172*AA172*(1+VLOOKUP($H$4,BuildingType_Lookup,MATCH($H$5,HVAC,0)+4,FALSE)))))","v":0},0,0,0,0,0,0,{"$f":"W172/1000*Y172*AA172*IF(IFERROR(SEARCH(\"Gas\",$H$5),0)>0,VLOOKUP(\"Gas\",HVACg_Lookup,MATCH($H$6,BuildingSize,0)+1,FALSE),IF(IFERROR(SEARCH(\"Oil\",$H$5),0)>0,VLOOKUP(\"Oil\",HVACg_Lookup,MATCH($H$6,BuildingSize,0)+1,FALSE),IF(IFERROR(SEARCH(\"Propane\",$H$5),0)>0,VLOOKUP(\"Propane\",HVACg_Lookup,MATCH(Worksheet!$H$6,BuildingSize,0)+1,FALSE),0)))","v":0},{"$f":"X172/1000*Y172*AA172*IF(IFERROR(SEARCH(\"Gas\",$H$5),0)>0,VLOOKUP(\"Gas\",HVACg_Lookup,MATCH($H$6,BuildingSize,0)+1,FALSE),IF(IFERROR(SEARCH(\"Oil\",$H$5),0)>0,VLOOKUP(\"Oil\",HVACg_Lookup,MATCH($H$6,BuildingSize,0)+1,FALSE),IF(IFERROR(SEARCH(\"Propane\",$H$5),0)>0,VLOOKUP(\"Propane\",HVACg_Lookup,MATCH(Worksheet!$H$6,BuildingSize,0)+1,FALSE),0)))","v":0},0,0,{"$f":"IF(OR($B$4=\"\",$B$5=\"\",$H$4=\"\",$H$6=\"\",$H$5=\"\",A172=\"\",F172=\"\",J172=\"\",O172=\"\",P172=\"\")=TRUE,\"\",IF(C172=\"OSW\",IF(J172>=2,1,0),IF(C172=\"OSR\",IF(AND(J172>=2,P172>60)=TRUE,1,0),IF(C172=\"OSRH\",IF(AND(J172>=1,P172>90)=TRUE,1,0),IF(C172=\"OHLC\",IF(AND(N172=\"Y\",P172>60)=TRUE,1,0),IF(C172=\"DDC\",IF(AND(J172>=4,N172=\"Y\",P172>120)=TRUE,1,0),0))))))","v":""},{"$f":"IF(OR($B$4=\"\",$B$5=\"\",$H$4=\"\",$H$6=\"\",$H$5=\"\",A172=\"\",F172=\"\",K172=\"\",O172=\"\",P172=\"\")=TRUE,\"\",IF(C172=\"OSW\",IF(K172>=2,1,0),IF(C172=\"OSR\",IF(AND(K172>=2,Q172>60)=TRUE,1,0),IF(C172=\"OSRH\",IF(AND(K172>=1,Q172>90)=TRUE,1,0),IF(C172=\"OHLC\",IF(AND(N172=\"Y\",Q172>60)=TRUE,1,0),IF(C172=\"DDC\",IF(AND(K172>=4,N172=\"Y\",Q172>120)=TRUE,1,0),0))))))","v":""}]
[null,null,"",null,null,null,null,null,null,null,null,null,null,null,null,0,0,0,0,"",0,0,0,0,0,{"$f":"IF($H$4=\"\",0,VLOOKUP($H$4,BuildingType_Lookup,3,FALSE))","v":0},{"$f":"IF($H$4=\"\",0,VLOOKUP($H$4,BuildingType_Lookup,2,FALSE))","v":0},{"$f":"IF(AND(OR(AN173=\"\",AN173=0)=TRUE,OR(AO173=\"\",AO173=0))=TRUE,0,IF(AO173=\"\",(IF(OR(C173=\"DDC\",C173=\"OHLC\")=TRUE,O173,P173)/1000)*Y173*Z173*(1+VLOOKUP($H$4,BuildingType_Lookup,4,FALSE)),IF(AO173=0,0,(IF(OR(C173=\"DDC\",C173=\"OHLC\")=TRUE,O173,Q173)/1000)*Y173*Z173*(1+VLOOKUP($H$4,BuildingType_Lookup,4,FALSE)))))","v":0},{"$f":"IF(AND(OR(AN173=\"\",AN173=0)=TRUE,OR(AO173=\"\",AO173=0))=TRUE,0,IF(AO173=\"\",(IF(OR(C173=\"DDC\",C173=\"OHLC\")=TRUE,O173,P173)/1000)*Y173*AA173*(1+VLOOKUP($H$4,BuildingType_Lookup,MATCH($H$5,HVAC,0)+4,FALSE)),IF(AO173=0,0,(IF(OR(C173=\"DDC\",C173=\"OHLC\")=TRUE,O173,Q173)/1000)*Y173*AA173*(1+VLOOKUP($H$4,BuildingType_Lookup,MATCH($H$5,HVAC,0)+4,FALSE)))))","v":0},0,0,0,0,0,0,{"$f":"W173/1000*Y173*AA173*IF(IFERROR(SEARCH(\"Gas\",$H$5),0)>0,VLOOKUP(\"Gas\",HVACg_Lookup,MATCH($H$6,BuildingSize,0)+1,FALSE),IF(IFERROR(SEARCH(\"Oil\",$H$5),0)>0,VLOOKUP(\"Oil\",HVACg_Lookup,MATCH($H$6,BuildingSize,0)+1,FALSE),IF(IFERROR(SEARCH(\"Propane\",$H$5),0)>0,VLOOKUP(\"Propane\",HVACg_Lookup,MATCH(Worksheet!$H$6,BuildingSize,0)+1,FALSE),0)))","v":0},{"$f":"X173/1000*Y173*AA173*IF(IFERROR(SEARCH(\"Gas\",$H$5),0)>0,VLOOKUP(\"Gas\",HVACg_Lookup,MATCH($H$6,BuildingSize,0)+1,FALSE),IF(IFERROR(SEARCH(\"Oil\",$H$5),0)>0,VLOOKUP(\"Oil\",HVACg_Lookup,MATCH($H$6,BuildingSize,0)+1,FALSE),IF(IFERROR(SEARCH(\"Propane\",$H$5),0)>0,VLOOKUP(\"Propane\",HVACg_Lookup,MATCH(Worksheet!$H$6,BuildingSize,0)+1,FALSE),0)))","v":0},0,0,{"$f":"IF(OR($B$4=\"\",$B$5=\"\",$H$4=\"\",$H$6=\"\",$H$5=\"\",A173=\"\",F173=\"\",J173=\"\",O173=\"\",P173=\"\")=TRUE,\"\",IF(C173=\"OSW\",IF(J173>=2,1,0),IF(C173=\"OSR\",IF(AND(J173>=2,P173>60)=TRUE,1,0),IF(C173=\"OSRH\",IF(AND(J173>=1,P173>90)=TRUE,1,0),IF(C173=\"OHLC\",IF(AND(N173=\"Y\",P173>60)=TRUE,1,0),IF(C173=\"DDC\",IF(AND(J173>=4,N173=\"Y\",P173>120)=TRUE,1,0),0))))))","v":""},{"$f":"IF(OR($B$4=\"\",$B$5=\"\",$H$4=\"\",$H$6=\"\",$H$5=\"\",A173=\"\",F173=\"\",K173=\"\",O173=\"\",P173=\"\")=TRUE,\"\",IF(C173=\"OSW\",IF(K173>=2,1,0),IF(C173=\"OSR\",IF(AND(K173>=2,Q173>60)=TRUE,1,0),IF(C173=\"OSRH\",IF(AND(K173>=1,Q173>90)=TRUE,1,0),IF(C173=\"OHLC\",IF(AND(N173=\"Y\",Q173>60)=TRUE,1,0),IF(C173=\"DDC\",IF(AND(K173>=4,N173=\"Y\",Q173>120)=TRUE,1,0),0))))))","v":""}]
[null,null,"",null,null,null,null,null,null,null,null,null,null,null,null,0,0,0,0,"",0,0,0,0,0,{"$f":"IF($H$4=\"\",0,VLOOKUP($H$4,BuildingType_Lookup,3,FALSE))","v":0},{"$f":"IF($H$4=\"\",0,VLOOKUP($H$4,BuildingType_Lookup,2,FALSE))","v":0},{"$f":"IF(AND(OR(AN174=\"\",AN174=0)=TRUE,OR(AO174=\"\",AO174=0))=TRUE,0,IF(AO174=\"\",(IF(OR(C174=\"DDC\",C174=\"OHLC\")=TRUE,O174,P174)/1000)*Y174*Z174*(1+VLOOKUP($H$4,BuildingType_Lookup,4,FALSE)),IF(AO174=0,0,(IF(OR(C174=\"DDC\",C174=\"OHLC\")=TRUE,O174,Q174)/1000)*Y174*Z174*(1+VLOOKUP($H$4,BuildingType_Lookup,4,FALSE)))))","v":0},{"$f":"IF(AND(OR(AN174=\"\",AN174=0)=TRUE,OR(AO174=\"\",AO174=0))=TRUE,0,IF(AO174=\"\",(IF(OR(C174=\"DDC\",C174=\"OHLC\")=TRUE,O174,P174)/1000)*Y174*AA174*(1+VLOOKUP($H$4,BuildingType_Lookup,MATCH($H$5,HVAC,0)+4,FALSE)),IF(AO174=0,0,(IF(OR(C174=\"DDC\",C174=\"OHLC\")=TRUE,O174,Q174)/1000)*Y174*AA174*(1+VLOOKUP($H$4,BuildingType_Lookup,MATCH($H$5,HVAC,0)+4,FALSE)))))","v":0},0,0,0,0,0,0,{"$f":"W174/1000*Y174*AA174*IF(IFERROR(SEARCH(\"Gas\",$H$5),0)>0,VLOOKUP(\"Gas\",HVACg_Lookup,MATCH($H$6,BuildingSize,0)+1,FALSE),IF(IFERROR(SEARCH(\"Oil\",$H$5),0)>0,VLOOKUP(\"Oil\",HVACg_Lookup,MATCH($H$6,BuildingSize,0)+1,FALSE),IF(IFERROR(SEARCH(\"Propane\",$H$5),0)>0,VLOOKUP(\"Propane\",HVACg_Lookup,MATCH(Worksheet!$H$6,BuildingSize,0)+1,FALSE),0)))","v":0},{"$f":"X174/1000*Y174*AA174*IF(IFERROR(SEARCH(\"Gas\",$H$5),0)>0,VLOOKUP(\"Gas\",HVACg_Lookup,MATCH($H$6,BuildingSize,0)+1,FALSE),IF(IFERROR(SEARCH(\"Oil\",$H$5),0)>0,VLOOKUP(\"Oil\",HVACg_Lookup,MATCH($H$6,BuildingSize,0)+1,FALSE),IF(IFERROR(SEARCH(\"Propane\",$H$5),0)>0,VLOOKUP(\"Propane\",HVACg_Lookup,MATCH(Worksheet!$H$6,BuildingSize,0)+1,FALSE),0)))","v":0},0,0,{"$f":"IF(OR($B$4=\"\",$B$5=\"\",$H$4=\"\",$H$6=\"\",$H$5=\"\",A174=\"\",F174=\"\",J174=\"\",O174=\"\",P174=\"\")=TRUE,\"\",IF(C174=\"OSW\",IF(J174>=2,1,0),IF(C174=\"OSR\",IF(AND(J174>=2,P174>60)=TRUE,1,0),IF(C174=\"OSRH\",IF(AND(J174>=1,P174>90)=TRUE,1,0),IF(C174=\"OHLC\",IF(AND(N174=\"Y\",P174>60)=TRUE,1,0),IF(C174=\"DDC\",IF(AND(J174>=4,N174=\"Y\",P174>120)=TRUE,1,0),0))))))","v":""},{"$f":"IF(OR($B$4=\"\",$B$5=\"\",$H$4=\"\",$H$6=\"\",$H$5=\"\",A174=\"\",F174=\"\",K174=\"\",O174=\"\",P174=\"\")=TRUE,\"\",IF(C174=\"OSW\",IF(K174>=2,1,0),IF(C174=\"OSR\",IF(AND(K174>=2,Q174>60)=TRUE,1,0),IF(C174=\"OSRH\",IF(AND(K174>=1,Q174>90)=TRUE,1,0),IF(C174=\"OHLC\",IF(AND(N174=\"Y\",Q174>60)=TRUE,1,0),IF(C174=\"DDC\",IF(AND(K174>=4,N174=\"Y\",Q174>120)=TRUE,1,0),0))))))","v":""}]
[null,null,"",null,null,null,null,null,null,null,null,null,null,null,null,0,0,0,0,"",0,0,0,0,0,{"$f":"IF($H$4=\"\",0,VLOOKUP($H$4,BuildingType_Lookup,3,FALSE))","v":0},{"$f":"IF($H$4=\"\",0,VLOOKUP($H$4,BuildingType_Lookup,2,FALSE))","v":0},{"$f":"IF(AND(OR(AN175=\"\",AN175=0)=TRUE,OR(AO175=\"\",AO175=0))=TRUE,0,IF(AO175=\"\",(IF(OR(C175=\"DDC\",C175=\"OHLC\")=TRUE,O175,P175)/1000)*Y175*Z175*(1+VLOOKUP($H$4,BuildingType_Lookup,4,FALSE)),IF(AO175=0,0,(IF(OR(C175=\"DDC\",C175=\"OHLC\")=TRUE,O175,Q175)/1000)*Y175*Z175*(1+VLOOKUP($H$4,BuildingType_Lookup,4,FALSE)))))","v":0},{"$f":"IF(AND(OR(AN175=\"\",AN175=0)=TRUE,OR(AO175=\"\",AO175=0))=TRUE,0,IF(AO175=\"\",(IF(OR(C175=\"DDC\",C175=\"OHLC\")=TRUE,O175,P175)/1000)*Y175*AA175*(1+VLOOKUP($H$4,BuildingType_Lookup,MATCH($H$5,HVAC,0)+4,FALSE)),IF(AO175=0,0,(IF(OR(C175=\"DDC\",C175=\"OHLC\")=TRUE,O175,Q175)/1000)*Y175*AA175*(1+VLOOKUP($H$4,BuildingType_Lookup,MATCH($H$5,HVAC,0)+4,FALSE)))))","v":0},0,0,0,0,0,0,{"$f":"W175/1000*Y175*AA175*IF(IFERROR(SEARCH(\"Gas\",$H$5),0)>0,VLOOKUP(\"Gas\",HVACg_Lookup,MATCH($H$6,BuildingSize,0)+1,FALSE),IF(IFERROR(SEARCH(\"Oil\",$H$5),0)>0,VLOOKUP(\"Oil\",HVACg_Lookup,MATCH($H$6,BuildingSize,0)+1,FALSE),IF(IFERROR(SEARCH(\"Propane\",$H$5),0)>0,VLOOKUP(\"Propane\",HVACg_Lookup,MATCH(Worksheet!$H$6,BuildingSize,0)+1,FALSE),0)))","v":0},{"$f":"X175/1000*Y175*AA175*IF(IFERROR(SEARCH(\"Gas\",$H$5),0)>0,VLOOKUP(\"Gas\",HVACg_Lookup,MATCH($H$6,BuildingSize,0)+1,FALSE),IF(IFERROR(SEARCH(\"Oil\",$H$5),0)>0,VLOOKUP(\"Oil\",HVACg_Lookup,MATCH($H$6,BuildingSize,0)+1,FALSE),IF(IFERROR(SEARCH(\"Propane\",$H$5),0)>0,VLOOKUP(\"Propane\",HVACg_Lookup,MATCH(Worksheet!$H$6,BuildingSize,0)+1,FALSE),0)))","v":0},0,0,{"$f":"IF(OR($B$4=\"\",$B$5=\"\",$H$4=\"\",$H$6=\"\",$H$5=\"\",A175=\"\",F175=\"\",J175=\"\",O175=\"\",P175=\"\")=TRUE,\"\",IF(C175=\"OSW\",IF(J175>=2,1,0),IF(C175=\"OSR\",IF(AND(J175>=2,P175>60)=TRUE,1,0),IF(C175=\"OSRH\",IF(AND(J175>=1,P175>90)=TRUE,1,0),IF(C175=\"OHLC\",IF(AND(N175=\"Y\",P175>60)=TRUE,1,0),IF(C175=\"DDC\",IF(AND(J175>=4,N175=\"Y\",P175>120)=TRUE,1,0),0))))))","v":""},{"$f":"IF(OR($B$4=\"\",$B$5=\"\",$H$4=\"\",$H$6=\"\",$H$5=\"\",A175=\"\",F175=\"\",K175=\"\",O175=\"\",P175=\"\")=TRUE,\"\",IF(C175=\"OSW\",IF(K175>=2,1,0),IF(C175=\"OSR\",IF(AND(K175>=2,Q175>60)=TRUE,1,0),IF(C175=\"OSRH\",IF(AND(K175>=1,Q175>90)=TRUE,1,0),IF(C175=\"OHLC\",IF(AND(N175=\"Y\",Q175>60)=TRUE,1,0),IF(C175=\"DDC\",IF(AND(K175>=4,N175=\"Y\",Q175>120)=TRUE,1,0),0))))))","v":""}]
[null,null,"",null,null,null,null,null,null,null,null,null,null,null,null,0,0,0,0,"",0,0,0,0,0,{"$f":"IF($H$4=\"\",0,VLOOKUP($H$4,BuildingType_Lookup,3,FALSE))","v":0},{"$f":"IF($H$4=\"\",0,VLOOKUP($H$4,BuildingType_Lookup,2,FALSE))","v":0},{"$f":"IF(AND(OR(AN176=\"\",AN176=0)=TRUE,OR(AO176=\"\",AO176=0))=TRUE,0,IF(AO176=\"\",(IF(OR(C176=\"DDC\",C176=\"OHLC\")=TRUE,O176,P176)/1000)*Y176*Z176*(1+VLOOKUP($H$4,BuildingType_Lookup,4,FALSE)),IF(AO176=0,0,(IF(OR(C176=\"DDC\",C176=\"OHLC\")=TRUE,O176,Q176)/1000)*Y176*Z176*(1+VLOOKUP($H$4,BuildingType_Lookup,4,FALSE)))))","v":0},{"$f":"IF(AND(OR(AN176=\"\",AN176=0)=TRUE,OR(AO176=\"\",AO176=0))=TRUE,0,IF(AO176=\"\",(IF(OR(C176=\"DDC\",C176=\"OHLC\")=TRUE,O176,P176)/1000)*Y176*AA176*(1+VLOOKUP($H$4,BuildingType_Lookup,MATCH($H$5,HVAC,0)+4,FALSE)),IF(AO176=0,0,(IF(OR(C176=\"DDC\",C176=\"OHLC\")=TRUE,O176,Q176)/1000)*Y176*AA176*(1+VLOOKUP($H$4,BuildingType_Lookup,MATCH($H$5,HVAC,0)+4,FALSE)))))","v":0},0,0,0,0,0,0,{"$f":"W176/1000*Y176*AA176*IF(IFERROR(SEARCH(\"Gas\",$H$5),0)>0,VLOOKUP(\"Gas\",HVACg_Lookup,MATCH($H$6,BuildingSize,0)+1,FALSE),IF(IFERROR(SEARCH(\"Oil\",$H$5),0)>0,VLOOKUP(\"Oil\",HVACg_Lookup,MATCH($H$6,BuildingSize,0)+1,FALSE),IF(IFERROR(SEARCH(\"Propane\",$H$5),0)>0,VLOOKUP(\"Propane\",HVACg_Lookup,MATCH(Worksheet!$H$6,BuildingSize,0)+1,FALSE),0)))","v":0},{"$f":"X176/1000*Y176*AA176*IF(IFERROR(SEARCH(\"Gas\",$H$5),0)>0,VLOOKUP(\"Gas\",HVACg_Lookup,MATCH($H$6,BuildingSize,0)+1,FALSE),IF(IFERROR(SEARCH(\"Oil\",$H$5),0)>0,VLOOKUP(\"Oil\",HVACg_Lookup,MATCH($H$6,BuildingSize,0)+1,FALSE),IF(IFERROR(SEARCH(\"Propane\",$H$5),0)>0,VLOOKUP(\"Propane\",HVACg_Lookup,MATCH(Worksheet!$H$6,BuildingSize,0)+1,FALSE),0)))","v":0},0,0,{"$f":"IF(OR($B$4=\"\",$B$5=\"\",$H$4=\"\",$H$6=\"\",$H$5=\"\",A176=\"\",F176=\"\",J176=\"\",O176=\"\",P176=\"\")=TRUE,\"\",IF(C176=\"OSW\",IF(J176>=2,1,0),IF(C176=\"OSR\",IF(AND(J176>=2,P176>60)=TRUE,1,0),IF(C176=\"OSRH\",IF(AND(J176>=1,P176>90)=TRUE,1,0),IF(C176=\"OHLC\",IF(AND(N176=\"Y\",P176>60)=TRUE,1,0),IF(C176=\"DDC\",IF(AND(J176>=4,N176=\"Y\",P176>120)=TRUE,1,0),0))))))","v":""},{"$f":"IF(OR($B$4=\"\",$B$5=\"\",$H$4=\"\",$H$6=\"\",$H$5=\"\",A176=\"\",F176=\"\",K176=\"\",O176=\"\",P176=\"\")=TRUE,\"\",IF(C176=\"OSW\",IF(K176>=2,1,0),IF(C176=\"OSR\",IF(AND(K176>=2,Q176>60)=TRUE,1,0),IF(C176=\"OSRH\",IF(AND(K176>=1,Q176>90)=TRUE,1,0),IF(C176=\"OHLC\",IF(AND(N176=\"Y\",Q176>60)=TRUE,1,0),IF(C176=\"DDC\",IF(AND(K176>=4,N176=\"Y\",Q176>120)=TRUE,1,0),0))))))","v":""}]
[null,null,"",null,null,null,null,null,null,null,null,null,null,null,null,0,0,0,0,"",0,0,0,0,0,{"$f":"IF($H$4=\"\",0,VLOOKUP($H$4,BuildingType_Lookup,3,FALSE))","v":0},{"$f":"IF($H$4=\"\",0,VLOOKUP($H$4,BuildingType_Lookup,2,FALSE))","v":0},{"$f":"IF(AND(OR(AN177=\"\",AN177=0)=TRUE,OR(AO177=\"\",AO177=0))=TRUE,0,IF(AO177=\"\",(IF(OR(C177=\"DDC\",C177=\"OHLC\")=TRUE,O177,P177)/1000)*Y177*Z177*(1+VLOOKUP($H$4,BuildingType_Lookup,4,FALSE)),IF(AO177=0,0,(IF(OR(C177=\"DDC\",C177=\"OHLC\")=TRUE,O177,Q177)/1000)*Y177*Z177*(1+VLOOKUP($H$4,BuildingType_Lookup,4,FALSE)))))","v":0},{"$f":"IF(AND(OR(AN177=\"\",AN177=0)=TRUE,OR(AO177=\"\",AO177=0))=TRUE,0,IF(AO177=\"\",(IF(OR(C177=\"DDC\",C177=\"OHLC\")=TRUE,O177,P177)/1000)*Y177*AA177*(1+VLOOKUP($H$4,BuildingType_Lookup,MATCH($H$5,HVAC,0)+4,FALSE)),IF(AO177=0,0,(IF(OR(C177=\"DDC\",C177=\"OHLC\")=TRUE,O177,Q177)/1000)*Y177*AA177*(1+VLOOKUP($H$4,BuildingType_Lookup,MATCH($H$5,HVAC,0)+4,FALSE)))))","v":0},0,0,0,0,0,0,{"$f":"W177/1000*Y177*AA177*IF(IFERROR(SEARCH(\"Gas\",$H$5),0)>0,VLOOKUP(\"Gas\",HVACg_Lookup,MATCH($H$6,BuildingSize,0)+1,FALSE),IF(IFERROR(SEARCH(\"Oil\",$H$5),0)>0,VLOOKUP(\"Oil\",HVACg_Lookup,MATCH($H$6,BuildingSize,0)+1,FALSE),IF(IFERROR(SEARCH(\"Propane\",$H$5),0)>0,VLOOKUP(\"Propane\",HVACg_Lookup,MATCH(Worksheet!$H$6,BuildingSize,0)+1,FALSE),0)))","v":0},{"$f":"X177/1000*Y177*AA177*IF(IFERROR(SEARCH(\"Gas\",$H$5),0)>0,VLOOKUP(\"Gas\",HVACg_Lookup,MATCH($H$6,BuildingSize,0)+1,FALSE),IF(IFERROR(SEARCH(\"Oil\",$H$5),0)>0,VLOOKUP(\"Oil\",HVACg_Lookup,MATCH($H$6,BuildingSize,0)+1,FALSE),IF(IFERROR(SEARCH(\"Propane\",$H$5),0)>0,VLOOKUP(\"Propane\",HVACg_Lookup,MATCH(Worksheet!$H$6,BuildingSize,0)+1,FALSE),0)))","v":0},0,0,{"$f":"IF(OR($B$4=\"\",$B$5=\"\",$H$4=\"\",$H$6=\"\",$H$5=\"\",A177=\"\",F177=\"\",J177=\"\",O177=\"\",P177=\"\")=TRUE,\"\",IF(C177=\"OSW\",IF(J177>=2,1,0),IF(C177=\"OSR\",IF(AND(J177>=2,P177>60)=TRUE,1,0),IF(C177=\"OSRH\",IF(AND(J177>=1,P177>90)=TRUE,1,0),IF(C177=\"OHLC\",IF(AND(N177=\"Y\",P177>60)=TRUE,1,0),IF(C177=\"DDC\",IF(AND(J177>=4,N177=\"Y\",P177>120)=TRUE,1,0),0))))))","v":""},{"$f":"IF(OR($B$4=\"\",$B$5=\"\",$H$4=\"\",$H$6=\"\",$H$5=\"\",A177=\"\",F177=\"\",K177=\"\",O177=\"\",P177=\"\")=TRUE,\"\",IF(C177=\"OSW\",IF(K177>=2,1,0),IF(C177=\"OSR\",IF(AND(K177>=2,Q177>60)=TRUE,1,0),IF(C177=\"OSRH\",IF(AND(K177>=1,Q177>90)=TRUE,1,0),IF(C177=\"OHLC\",IF(AND(N177=\"Y\",Q177>60)=TRUE,1,0),IF(C177=\"DDC\",IF(AND(K177>=4,N177=\"Y\",Q177>120)=TRUE,1,0),0))))))","v":""}]
[null,null,"",null,null,null,null,null,null,null,null,null,null,null,null,0,0,0,0,"",0,0,0,0,0,{"$f":"IF($H$4=\"\",0,VLOOKUP($H$4,BuildingType_Lookup,3,FALSE))","v":0},{"$f":"IF($H$4=\"\",0,VLOOKUP($H$4,BuildingType_Lookup,2,FALSE))","v":0},{"$f":"IF(AND(OR(AN178=\"\",AN178=0)=TRUE,OR(AO178=\"\",AO178=0))=TRUE,0,IF(AO178=\"\",(IF(OR(C178=\"DDC\",C178=\"OHLC\")=TRUE,O178,P178)/1000)*Y178*Z178*(1+VLOOKUP($H$4,BuildingType_Lookup,4,FALSE)),IF(AO178=0,0,(IF(OR(C178=\"DDC\",C178=\"OHLC\")=TRUE,O178,Q178)/1000)*Y178*Z178*(1+VLOOKUP($H$4,BuildingType_Lookup,4,FALSE)))))","v":0},{"$f":"IF(AND(OR(AN178=\"\",AN178=0)=TRUE,OR(AO178=\"\",AO178=0))=TRUE,0,IF(AO178=\"\",(IF(OR(C178=\"DDC\",C178=\"OHLC\")=TRUE,O178,P178)/1000)*Y178*AA178*(1+VLOOKUP($H$4,BuildingType_Lookup,MATCH($H$5,HVAC,0)+4,FALSE)),IF(AO178=0,0,(IF(OR(C178=\"DDC\",C178=\"OHLC\")=TRUE,O178,Q178)/1000)*Y178*AA178*(1+VLOOKUP($H$4,BuildingType_Lookup,MATCH($H$5,HVAC,0)+4,FALSE)))))","v":0},0,0,0,0,0,0,{"$f":"W178/1000*Y178*AA178*IF(IFERROR(SEARCH(\"Gas\",$H$5),0)>0,VLOOKUP(\"Gas\",HVACg_Lookup,MATCH($H$6,BuildingSize,0)+1,FALSE),IF(IFERROR(SEARCH(\"Oil\",$H$5),0)>0,VLOOKUP(\"Oil\",HVACg_Lookup,MATCH($H$6,BuildingSize,0)+1,FALSE),IF(IFERROR(SEARCH(\"Propane\",$H$5),0)>0,VLOOKUP(\"Propane\",HVACg_Lookup,MATCH(Worksheet!$H$6,BuildingSize,0)+1,FALSE),0)))","v":0},{"$f":"X178/1000*Y178*AA178*IF(IFERROR(SEARCH(\"Gas\",$H$5),0)>0,VLOOKUP(\"Gas\",HVACg_Lookup,MATCH($H$6,BuildingSize,0)+1,FALSE),IF(IFERROR(SEARCH(\"Oil\",$H$5),0)>0,VLOOKUP(\"Oil\",HVACg_Lookup,MATCH($H$6,BuildingSize,0)+1,FALSE),IF(IFERROR(SEARCH(\"Propane\",$H$5),0)>0,VLOOKUP(\"Propane\",HVACg_Lookup,MATCH(Worksheet!$H$6,BuildingSize,0)+1,FALSE),0)))","v":0},0,0,{"$f":"IF(OR($B$4=\"\",$B$5=\"\",$H$4=\"\",$H$6=\"\",$H$5=\"\",A178=\"\",F178=\"\",J178=\"\",O178=\"\",P178=\"\")=TRUE,\"\",IF(C178=\"OSW\",IF(J178>=2,1,0),IF(C178=\"OSR\",IF(AND(J178>=2,P178>60)=TRUE,1,0),IF(C178=\"OSRH\",IF(AND(J178>=1,P178>90)=TRUE,1,0),IF(C178=\"OHLC\",IF(AND(N178=\"Y\",P178>60)=TRUE,1,0),IF(C178=\"DDC\",IF(AND(J178>=4,N178=\"Y\",P178>120)=TRUE,1,0),0))))))","v":""},{"$f":"IF(OR($B$4=\"\",$B$5=\"\",$H$4=\"\",$H$6=\"\",$H$5=\"\",A178=\"\",F178=\"\",K178=\"\",O178=\"\",P178=\"\")=TRUE,\"\",IF(C178=\"OSW\",IF(K178>=2,1,0),IF(C178=\"OSR\",IF(AND(K178>=2,Q178>60)=TRUE,1,0),IF(C178=\"OSRH\",IF(AND(K178>=1,Q178>90)=TRUE,1,0),IF(C178=\"OHLC\",IF(AND(N178=\"Y\",Q178>60)=TRUE,1,0),IF(C178=\"DDC\",IF(AND(K178>=4,N178=\"Y\",Q178>120)=TRUE,1,0),0))))))","v":""}]
[null,null,"",null,null,null,null,null,null,null,null,null,null,null,null,0,0,0,0,"",0,0,0,0,0,{"$f":"IF($H$4=\"\",0,VLOOKUP($H$4,BuildingType_Lookup,3,FALSE))","v":0},{"$f":"IF($H$4=\"\",0,VLOOKUP($H$4,BuildingType_Lookup,2,FALSE))","v":0},{"$f":"IF(AND(OR(AN179=\"\",AN179=0)=TRUE,OR(AO179=\"\",AO179=0))=TRUE,0,IF(AO179=\"\",(IF(OR(C179=\"DDC\",C179=\"OHLC\")=TRUE,O179,P179)/1000)*Y179*Z179*(1+VLOOKUP($H$4,BuildingType_Lookup,4,FALSE)),IF(AO179=0,0,(IF(OR(C179=\"DDC\",C179=\"OHLC\")=TRUE,O179,Q179)/1000)*Y179*Z179*(1+VLOOKUP($H$4,BuildingType_Lookup,4,FALSE)))))","v":0},{"$f":"IF(AND(OR(AN179=\"\",AN179=0)=TRUE,OR(AO179=\"\",AO179=0))=TRUE,0,IF(AO179=\"\",(IF(OR(C179=\"DDC\",C179=\"OHLC\")=TRUE,O179,P179)/1000)*Y179*AA179*(1+VLOOKUP($H$4,BuildingType_Lookup,MATCH($H$5,HVAC,0)+4,FALSE)),IF(AO179=0,0,(IF(OR(C179=\"DDC\",C179=\"OHLC\")=TRUE,O179,Q179)/1000)*Y179*AA179*(1+VLOOKUP($H$4,BuildingType_Lookup,MATCH($H$5,HVAC,0)+4,FALSE)))))","v":0},0,0,0,0,0,0,{"$f":"W179/1000*Y179*AA179*IF(IFERROR(SEARCH(\"Gas\",$H$5),0)>0,VLOOKUP(\"Gas\",HVACg_Lookup,MATCH($H$6,BuildingSize,0)+1,FALSE),IF(IFERROR(SEARCH(\"Oil\",$H$5),0)>0,VLOOKUP(\"Oil\",HVACg_Lookup,MATCH($H$6,BuildingSize,0)+1,FALSE),IF(IFERROR(SEARCH(\"Propane\",$H$5),0)>0,VLOOKUP(\"Propane\",HVACg_Lookup,MATCH(Worksheet!$H$6,BuildingSize,0)+1,FALSE),0)))","v":0},{"$f":"X179/1000*Y179*AA179*IF(IFERROR(SEARCH(\"Gas\",$H$5),0)>0,VLOOKUP(\"Gas\",HVACg_Lookup,MATCH($H$6,BuildingSize,0)+1,FALSE),IF(IFERROR(SEARCH(\"Oil\",$H$5),0)>0,VLOOKUP(\"Oil\",HVACg_Lookup,MATCH($H$6,BuildingSize,0)+1,FALSE),IF(IFERROR(SEARCH(\"Propane\",$H$5),0)>0,VLOOKUP(\"Propane\",HVACg_Lookup,MATCH(Worksheet!$H$6,BuildingSize,0)+1,FALSE),0)))","v":0},0,0,{"$f":"IF(OR($B$4=\"\",$B$5=\"\",$H$4=\"\",$H$6=\"\",$H$5=\"\",A179=\"\",F179=\"\",J179=\"\",O179=\"\",P179=\"\")=TRUE,\"\",IF(C179=\"OSW\",IF(J179>=2,1,0),IF(C179=\"OSR\",IF(AND(J179>=2,P179>60)=TRUE,1,0),IF(C179=\"OSRH\",IF(AND(J179>=1,P179>90)=TRUE,1,0),IF(C179=\"OHLC\",IF(AND(N179=\"Y\",P179>60)=TRUE,1,0),IF(C179=\"DDC\",IF(AND(J179>=4,N179=\"Y\",P179>120)=TRUE,1,0),0))))))","v":""},{"$f":"IF(OR($B$4=\"\",$B$5=\"\",$H$4=\"\",$H$6=\"\",$H$5=\"\",A179=\"\",F179=\"\",K179=\"\",O179=\"\",P179=\"\")=TRUE,\"\",IF(C179=\"OSW\",IF(K179>=2,1,0),IF(C179=\"OSR\",IF(AND(K179>=2,Q179>60)=TRUE,1,0),IF(C179=\"OSRH\",IF(AND(K179>=1,Q179>90)=TRUE,1,0),IF(C179=\"OHLC\",IF(AND(N179=\"Y\",Q179>60)=TRUE,1,0),IF(C179=\"DDC\",IF(AND(K179>=4,N179=\"Y\",Q179>120)=TRUE,1,0),0))))))","v":""}]
[null,null,"",null,null,null,null,null,null,null,null,null,null,null,null,0,0,0,0,"",0,0,0,0,0,{"$f":"IF($H$4=\"\",0,VLOOKUP($H$4,BuildingType_Lookup,3,FALSE))","v":0},{"$f":"IF($H$4=\"\",0,VLOOKUP($H$4,BuildingType_Lookup,2,FALSE))","v":0},{"$f":"IF(AND(OR(AN180=\"\",AN180=0)=TRUE,OR(AO180=\"\",AO180=0))=TRUE,0,IF(AO180=\"\",(IF(OR(C180=\"DDC\",C180=\"OHLC\")=TRUE,O180,P180)/1000)*Y180*Z180*(1+VLOOKUP($H$4,BuildingType_Lookup,4,FALSE)),IF(AO180=0,0,(IF(OR(C180=\"DDC\",C180=\"OHLC\")=TRUE,O180,Q180)/1000)*Y180*Z180*(1+VLOOKUP($H$4,BuildingType_Lookup,4,FALSE)))))","v":0},{"$f":"IF(AND(OR(AN180=\"\",AN180=0)=TRUE,OR(AO180=\"\",AO180=0))=TRUE,0,IF(AO180=\"\",(IF(OR(C180=\"DDC\",C180=\"OHLC\")=TRUE,O180,P180)/1000)*Y180*AA180*(1+VLOOKUP($H$4,BuildingType_Lookup,MATCH($H$5,HVAC,0)+4,FALSE)),IF(AO180=0,0,(IF(OR(C180=\"DDC\",C180=\"OHLC\")=TRUE,O180,Q180)/1000)*Y180*AA180*(1+VLOOKUP($H$4,BuildingType_Lookup,MATCH($H$5,HVAC,0)+4,FALSE)))))","v":0},0,0,0,0,0,0,{"$f":"W180/1000*Y180*AA180*IF(IFERROR(SEARCH(\"Gas\",$H$5),0)>0,VLOOKUP(\"Gas\",HVACg_Lookup,MATCH($H$6,BuildingSize,0)+1,FALSE),IF(IFERROR(SEARCH(\"Oil\",$H$5),0)>0,VLOOKUP(\"Oil\",HVACg_Lookup,MATCH($H$6,BuildingSize,0)+1,FALSE),IF(IFERROR(SEARCH(\"Propane\",$H$5),0)>0,VLOOKUP(\"Propane\",HVACg_Lookup,MATCH(Worksheet!$H$6,BuildingSize,0)+1,FALSE),0)))","v":0},{"$f":"X180/1000*Y180*AA180*IF(IFERROR(SEARCH(\"Gas\",$H$5),0)>0,VLOOKUP(\"Gas\",HVACg_Lookup,MATCH($H$6,BuildingSize,0)+1,FALSE),IF(IFERROR(SEARCH(\"Oil\",$H$5),0)>0,VLOOKUP(\"Oil\",HVACg_Lookup,MATCH($H$6,BuildingSize,0)+1,FALSE),IF(IFERROR(SEARCH(\"Propane\",$H$5),0)>0,VLOOKUP(\"Propane\",HVACg_Lookup,MATCH(Worksheet!$H$6,BuildingSize,0)+1,FALSE),0)))","v":0},0,0,{"$f":"IF(OR($B$4=\"\",$B$5=\"\",$H$4=\"\",$H$6=\"\",$H$5=\"\",A180=\"\",F180=\"\",J180=\"\",O180=\"\",P180=\"\")=TRUE,\"\",IF(C180=\"OSW\",IF(J180>=2,1,0),IF(C180=\"OSR\",IF(AND(J180>=2,P180>60)=TRUE,1,0),IF(C180=\"OSRH\",IF(AND(J180>=1,P180>90)=TRUE,1,0),IF(C180=\"OHLC\",IF(AND(N180=\"Y\",P180>60)=TRUE,1,0),IF(C180=\"DDC\",IF(AND(J180>=4,N180=\"Y\",P180>120)=TRUE,1,0),0))))))","v":""},{"$f":"IF(OR($B$4=\"\",$B$5=\"\",$H$4=\"\",$H$6=\"\",$H$5=\"\",A180=\"\",F180=\"\",K180=\"\",O180=\"\",P180=\"\")=TRUE,\"\",IF(C180=\"OSW\",IF(K180>=2,1,0),IF(C180=\"OSR\",IF(AND(K180>=2,Q180>60)=TRUE,1,0),IF(C180=\"OSRH\",IF(AND(K180>=1,Q180>90)=TRUE,1,0),IF(C180=\"OHLC\",IF(AND(N180=\"Y\",Q180>60)=TRUE,1,0),IF(C180=\"DDC\",IF(AND(K180>=4,N180=\"Y\",Q180>120)=TRUE,1,0),0))))))","v":""}]
[null,null,"",null,null,null,null,null,null,null,null,null,null,null,null,0,0,0,0,"",0,0,0,0,0,{"$f":"IF($H$4=\"\",0,VLOOKUP($H$4,BuildingType_Lookup,3,FALSE))","v":0},{"$f":"IF($H$4=\"\",0,VLOOKUP($H$4,BuildingType_Lookup,2,FALSE))","v":0},{"$f":"IF(AND(OR(AN181=\"\",AN181=0)=TRUE,OR(AO181=\"\",AO181=0))=TRUE,0,IF(AO181=\"\",(IF(OR(C181=\"DDC\",C181=\"OHLC\")=TRUE,O181,P181)/1000)*Y181*Z181*(1+VLOOKUP($H$4,BuildingType_Lookup,4,FALSE)),IF(AO181=0,0,(IF(OR(C181=\"DDC\",C181=\"OHLC\")=TRUE,O181,Q181)/1000)*Y181*Z181*(1+VLOOKUP($H$4,BuildingType_Lookup,4,FALSE)))))","v":0},{"$f":"IF(AND(OR(AN181=\"\",AN181=0)=TRUE,OR(AO181=\"\",AO181=0))=TRUE,0,IF(AO181=\"\",(IF(OR(C181=\"DDC\",C181=\"OHLC\")=TRUE,O181,P181)/1000)*Y181*AA181*(1+VLOOKUP($H$4,BuildingType_Lookup,MATCH($H$5,HVAC,0)+4,FALSE)),IF(AO181=0,0,(IF(OR(C181=\"DDC\",C181=\"OHLC\")=TRUE,O181,Q181)/1000)*Y181*AA181*(1+VLOOKUP($H$4,BuildingType_Lookup,MATCH($H$5,HVAC,0)+4,FALSE)))))","v":0},0,0,0,0,0,0,{"$f":"W181/1000*Y181*AA181*IF(IFERROR(SEARCH(\"Gas\",$H$5),0)>0,VLOOKUP(\"Gas\",HVACg_Lookup,MATCH($H$6,BuildingSize,0)+1,FALSE),IF(IFERROR(SEARCH(\"Oil\",$H$5),0)>0,VLOOKUP(\"Oil\",HVACg_Lookup,MATCH($H$6,BuildingSize,0)+1,FALSE),IF(IFERROR(SEARCH(\"Propane\",$H$5),0)>0,VLOOKUP(\"Propane\",HVACg_Lookup,MATCH(Worksheet!$H$6,BuildingSize,0)+1,FALSE),0)))","v":0},{"$f":"X181/1000*Y181*AA181*IF(IFERROR(SEARCH(\"Gas\",$H$5),0)>0,VLOOKUP(\"Gas\",HVACg_Lookup,MATCH($H$6,BuildingSize,0)+1,FALSE),IF(IFERROR(SEARCH(\"Oil\",$H$5),0)>0,VLOOKUP(\"Oil\",HVACg_Lookup,MATCH($H$6,BuildingSize,0)+1,FALSE),IF(IFERROR(SEARCH(\"Propane\",$H$5),0)>0,VLOOKUP(\"Propane\",HVACg_Lookup,MATCH(Worksheet!$H$6,BuildingSize,0)+1,FALSE),0)))","v":0},0,0,{"$f":"IF(OR($B$4=\"\",$B$5=\"\",$H$4=\"\",$H$6=\"\",$H$5=\"\",A181=\"\",F181=\"\",J181=\"\",O181=\"\",P181=\"\")=TRUE,\"\",IF(C181=\"OSW\",IF(J181>=2,1,0),IF(C181=\"OSR\",IF(AND(J181>=2,P181>60)=TRUE,1,0),IF(C181=\"OSRH\",IF(AND(J181>=1,P181>90)=TRUE,1,0),IF(C181=\"OHLC\",IF(AND(N181=\"Y\",P181>60)=TRUE,1,0),IF(C181=\"DDC\",IF(AND(J181>=4,N181=\"Y\",P181>120)=TRUE,1,0),0))))))","v":""},{"$f":"IF(OR($B$4=\"\",$B$5=\"\",$H$4=\"\",$H$6=\"\",$H$5=\"\",A181=\"\",F181=\"\",K181=\"\",O181=\"\",P181=\"\")=TRUE,\"\",IF(C181=\"OSW\",IF(K181>=2,1,0),IF(C181=\"OSR\",IF(AND(K181>=2,Q181>60)=TRUE,1,0),IF(C181=\"OSRH\",IF(AND(K181>=1,Q181>90)=TRUE,1,0),IF(C181=\"OHLC\",IF(AND(N181=\"Y\",Q181>60)=TRUE,1,0),IF(C181=\"DDC\",IF(AND(K181>=4,N181=\"Y\",Q181>120)=TRUE,1,0),0))))))","v":""}]
[null,null,"",null,null,null,null,null,null,null,null,null,null,null,null,0,0,0,0,"",0,0,0,0,0,{"$f":"IF($H$4=\"\",0,VLOOKUP($H$4,BuildingType_Lookup,3,FALSE))","v":0},{"$f":"IF($H$4=\"\",0,VLOOKUP($H$4,BuildingType_Lookup,2,FALSE))","v":0},{"$f":"IF(AND(OR(AN182=\"\",AN182=0)=TRUE,OR(AO182=\"\",AO182=0))=TRUE,0,IF(AO182=\"\",(IF(OR(C182=\"DDC\",C182=\"OHLC\")=TRUE,O182,P182)/1000)*Y182*Z182*(1+VLOOKUP($H$4,BuildingType_Lookup,4,FALSE)),IF(AO182=0,0,(IF(OR(C182=\"DDC\",C182=\"OHLC\")=TRUE,O182,Q182)/1000)*Y182*Z182*(1+VLOOKUP($H$4,BuildingType_Lookup,4,FALSE)))))","v":0},{"$f":"IF(AND(OR(AN182=\"\",AN182=0)=TRUE,OR(AO182=\"\",AO182=0))=TRUE,0,IF(AO182=\"\",(IF(OR(C182=\"DDC\",C182=\"OHLC\")=TRUE,O182,P182)/1000)*Y182*AA182*(1+VLOOKUP($H$4,BuildingType_Lookup,MATCH($H$5,HVAC,0)+4,FALSE)),IF(AO182=0,0,(IF(OR(C182=\"DDC\",C182=\"OHLC\")=TRUE,O182,Q182)/1000)*Y182*AA182*(1+VLOOKUP($H$4,BuildingType_Lookup,MATCH($H$5,HVAC,0)+4,FALSE)))))","v":0},0,0,0,0,0,0,{"$f":"W182/1000*Y182*AA182*IF(IFERROR(SEARCH(\"Gas\",$H$5),0)>0,VLOOKUP(\"Gas\",HVACg_Lookup,MATCH($H$6,BuildingSize,0)+1,FALSE),IF(IFERROR(SEARCH(\"Oil\",$H$5),0)>0,VLOOKUP(\"Oil\",HVACg_Lookup,MATCH($H$6,BuildingSize,0)+1,FALSE),IF(IFERROR(SEARCH(\"Propane\",$H$5),0)>0,VLOOKUP(\"Propane\",HVACg_Lookup,MATCH(Worksheet!$H$6,BuildingSize,0)+1,FALSE),0)))","v":0},{"$f":"X182/1000*Y182*AA182*IF(IFERROR(SEARCH(\"Gas\",$H$5),0)>0,VLOOKUP(\"Gas\",HVACg_Lookup,MATCH($H$6,BuildingSize,0)+1,FALSE),IF(IFERROR(SEARCH(\"Oil\",$H$5),0)>0,VLOOKUP(\"Oil\",HVACg_Lookup,MATCH($H$6,BuildingSize,0)+1,FALSE),IF(IFERROR(SEARCH(\"Propane\",$H$5),0)>0,VLOOKUP(\"Propane\",HVACg_Lookup,MATCH(Worksheet!$H$6,BuildingSize,0)+1,FALSE),0)))","v":0},0,0,{"$f":"IF(OR($B$4=\"\",$B$5=\"\",$H$4=\"\",$H$6=\"\",$H$5=\"\",A182=\"\",F182=\"\",J182=\"\",O182=\"\",P182=\"\")=TRUE,\"\",IF(C182=\"OSW\",IF(J182>=2,1,0),IF(C182=\"OSR\",IF(AND(J182>=2,P182>60)=TRUE,1,0),IF(C182=\"OSRH\",IF(AND(J182>=1,P182>90)=TRUE,1,0),IF(C182=\"OHLC\",IF(AND(N182=\"Y\",P182>60)=TRUE,1,0),IF(C182=\"DDC\",IF(AND(J182>=4,N182=\"Y\",P182>120)=TRUE,1,0),0))))))","v":""},{"$f":"IF(OR($B$4=\"\",$B$5=\"\",$H$4=\"\",$H$6=\"\",$H$5=\"\",A182=\"\",F182=\"\",K182=\"\",O182=\"\",P182=\"\")=TRUE,\"\",IF(C182=\"OSW\",IF(K182>=2,1,0),IF(C182=\"OSR\",IF(AND(K182>=2,Q182>60)=TRUE,1,0),IF(C182=\"OSRH\",IF(AND(K182>=1,Q182>90)=TRUE,1,0),IF(C182=\"OHLC\",IF(AND(N182=\"Y\",Q182>60)=TRUE,1,0),IF(C182=\"DDC\",IF(AND(K182>=4,N182=\"Y\",Q182>120)=TRUE,1,0),0))))))","v":""}]
[null,null,"",null,null,null,null,null,null,null,null,null,null,null,null,0,0,0,0,"",0,0,0,0,0,{"$f":"IF($H$4=\"\",0,VLOOKUP($H$4,BuildingType_Lookup,3,FALSE))","v":0},{"$f":"IF($H$4=\"\",0,VLOOKUP($H$4,BuildingType_Lookup,2,FALSE))","v":0},{"$f":"IF(AND(OR(AN183=\"\",AN183=0)=TRUE,OR(AO183=\"\",AO183=0))=TRUE,0,IF(AO183=\"\",(IF(OR(C183=\"DDC\",C183=\"OHLC\")=TRUE,O183,P183)/1000)*Y183*Z183*(1+VLOOKUP($H$4,BuildingType_Lookup,4,FALSE)),IF(AO183=0,0,(IF(OR(C183=\"DDC\",C183=\"OHLC\")=TRUE,O183,Q183)/1000)*Y183*Z183*(1+VLOOKUP($H$4,BuildingType_Lookup,4,FALSE)))))","v":0},{"$f":"IF(AND(OR(AN183=\"\",AN183=0)=TRUE,OR(AO183=\"\",AO183=0))=TRUE,0,IF(AO183=\"\",(IF(OR(C183=\"DDC\",C183=\"OHLC\")=TRUE,O183,P183)/1000)*Y183*AA183*(1+VLOOKUP($H$4,BuildingType_Lookup,MATCH($H$5,HVAC,0)+4,FALSE)),IF(AO183=0,0,(IF(OR(C183=\"DDC\",C183=\"OHLC\")=TRUE,O183,Q183)/1000)*Y183*AA183*(1+VLOOKUP($H$4,BuildingType_Lookup,MATCH($H$5,HVAC,0)+4,FALSE)))))","v":0},0,0,0,0,0,0,{"$f":"W183/1000*Y183*AA183*IF(IFERROR(SEARCH(\"Gas\",$H$5),0)>0,VLOOKUP(\"Gas\",HVACg_Lookup,MATCH($H$6,BuildingSize,0)+1,FALSE),IF(IFERROR(SEARCH(\"Oil\",$H$5),0)>0,VLOOKUP(\"Oil\",HVACg_Lookup,MATCH($H$6,BuildingSize,0)+1,FALSE),IF(IFERROR(SEARCH(\"Propane\",$H$5),0)>0,VLOOKUP(\"Propane\",HVACg_Lookup,MATCH(Worksheet!$H$6,BuildingSize,0)+1,FALSE),0)))","v":0},{"$f":"X183/1000*Y183*AA183*IF(IFERROR(SEARCH(\"Gas\",$H$5),0)>0,VLOOKUP(\"Gas\",HVACg_Lookup,MATCH($H$6,BuildingSize,0)+1,FALSE),IF(IFERROR(SEARCH(\"Oil\",$H$5),0)>0,VLOOKUP(\"Oil\",HVACg_Lookup,MATCH($H$6,BuildingSize,0)+1,FALSE),IF(IFERROR(SEARCH(\"Propane\",$H$5),0)>0,VLOOKUP(\"Propane\",HVACg_Lookup,MATCH(Worksheet!$H$6,BuildingSize,0)+1,FALSE),0)))","v":0},0,0,{"$f":"IF(OR($B$4=\"\",$B$5=\"\",$H$4=\"\",$H$6=\"\",$H$5=\"\",A183=\"\",F183=\"\",J183=\"\",O183=\"\",P183=\"\")=TRUE,\"\",IF(C183=\"OSW\",IF(J183>=2,1,0),IF(C183=\"OSR\",IF(AND(J183>=2,P183>60)=TRUE,1,0),IF(C183=\"OSRH\",IF(AND(J183>=1,P183>90)=TRUE,1,0),IF(C183=\"OHLC\",IF(AND(N183=\"Y\",P183>60)=TRUE,1,0),IF(C183=\"DDC\",IF(AND(J183>=4,N183=\"Y\",P183>120)=TRUE,1,0),0))))))","v":""},{"$f":"IF(OR($B$4=\"\",$B$5=\"\",$H$4=\"\",$H$6=\"\",$H$5=\"\",A183=\"\",F183=\"\",K183=\"\",O183=\"\",P183=\"\")=TRUE,\"\",IF(C183=\"OSW\",IF(K183>=2,1,0),IF(C183=\"OSR\",IF(AND(K183>=2,Q183>60)=TRUE,1,0),IF(C183=\"OSRH\",IF(AND(K183>=1,Q183>90)=TRUE,1,0),IF(C183=\"OHLC\",IF(AND(N183=\"Y\",Q183>60)=TRUE,1,0),IF(C183=\"DDC\",IF(AND(K183>=4,N183=\"Y\",Q183>120)=TRUE,1,0),0))))))","v":""}]
[null,null,"",null,null,null,null,null,null,null,null,null,null,null,null,0,0,0,0,"",0,0,0,0,0,{"$f":"IF($H$4=\"\",0,VLOOKUP($H$4,BuildingType_Lookup,3,FALSE))","v":0},{"$f":"IF($H$4=\"\",0,VLOOKUP($H$4,BuildingType_Lookup,2,FALSE))","v":0},{"$f":"IF(AND(OR(AN184=\"\",AN184=0)=TRUE,OR(AO184=\"\",AO184=0))=TRUE,0,IF(AO184=\"\",(IF(OR(C184=\"DDC\",C184=\"OHLC\")=TRUE,O184,P184)/1000)*Y184*Z184*(1+VLOOKUP($H$4,BuildingType_Lookup,4,FALSE)),IF(AO184=0,0,(IF(OR(C184=\"DDC\",C184=\"OHLC\")=TRUE,O184,Q184)/1000)*Y184*Z184*(1+VLOOKUP($H$4,BuildingType_Lookup,4,FALSE)))))","v":0},{"$f":"IF(AND(OR(AN184=\"\",AN184=0)=TRUE,OR(AO184=\"\",AO184=0))=TRUE,0,IF(AO184=\"\",(IF(OR(C184=\"DDC\",C184=\"OHLC\")=TRUE,O184,P184)/1000)*Y184*AA184*(1+VLOOKUP($H$4,BuildingType_Lookup,MATCH($H$5,HVAC,0)+4,FALSE)),IF(AO184=0,0,(IF(OR(C184=\"DDC\",C184=\"OHLC\")=TRUE,O184,Q184)/1000)*Y184*AA184*(1+VLOOKUP($H$4,BuildingType_Lookup,MATCH($H$5,HVAC,0)+4,FALSE)))))","v":0},0,0,0,0,0,0,{"$f":"W184/1000*Y184*AA184*IF(IFERROR(SEARCH(\"Gas\",$H$5),0)>0,VLOOKUP(\"Gas\",HVACg_Lookup,MATCH($H$6,BuildingSize,0)+1,FALSE),IF(IFERROR(SEARCH(\"Oil\",$H$5),0)>0,VLOOKUP(\"Oil\",HVACg_Lookup,MATCH($H$6,BuildingSize,0)+1,FALSE),IF(IFERROR(SEARCH(\"Propane\",$H$5),0)>0,VLOOKUP(\"Propane\",HVACg_Lookup,MATCH(Worksheet!$H$6,BuildingSize,0)+1,FALSE),0)))","v":0},{"$f":"X184/1000*Y184*AA184*IF(IFERROR(SEARCH(\"Gas\",$H$5),0)>0,VLOOKUP(\"Gas\",HVACg_Lookup,MATCH($H$6,BuildingSize,0)+1,FALSE),IF(IFERROR(SEARCH(\"Oil\",$H$5),0)>0,VLOOKUP(\"Oil\",HVACg_Lookup,MATCH($H$6,BuildingSize,0)+1,FALSE),IF(IFERROR(SEARCH(\"Propane\",$H$5),0)>0,VLOOKUP(\"Propane\",HVACg_Lookup,MATCH(Worksheet!$H$6,BuildingSize,0)+1,FALSE),0)))","v":0},0,0,{"$f":"IF(OR($B$4=\"\",$B$5=\"\",$H$4=\"\",$H$6=\"\",$H$5=\"\",A184=\"\",F184=\"\",J184=\"\",O184=\"\",P184=\"\")=TRUE,\"\",IF(C184=\"OSW\",IF(J184>=2,1,0),IF(C184=\"OSR\",IF(AND(J184>=2,P184>60)=TRUE,1,0),IF(C184=\"OSRH\",IF(AND(J184>=1,P184>90)=TRUE,1,0),IF(C184=\"OHLC\",IF(AND(N184=\"Y\",P184>60)=TRUE,1,0),IF(C184=\"DDC\",IF(AND(J184>=4,N184=\"Y\",P184>120)=TRUE,1,0),0))))))","v":""},{"$f":"IF(OR($B$4=\"\",$B$5=\"\",$H$4=\"\",$H$6=\"\",$H$5=\"\",A184=\"\",F184=\"\",K184=\"\",O184=\"\",P184=\"\")=TRUE,\"\",IF(C184=\"OSW\",IF(K184>=2,1,0),IF(C184=\"OSR\",IF(AND(K184>=2,Q184>60)=TRUE,1,0),IF(C184=\"OSRH\",IF(AND(K184>=1,Q184>90)=TRUE,1,0),IF(C184=\"OHLC\",IF(AND(N184=\"Y\",Q184>60)=TRUE,1,0),IF(C184=\"DDC\",IF(AND(K184>=4,N184=\"Y\",Q184>120)=TRUE,1,0),0))))))","v":""}]
[null,null,"",null,null,null,null,null,null,null,null,null,null,null,null,0,0,0,0,"",0,0,0,0,0,{"$f":"IF($H$4=\"\",0,VLOOKUP($H$4,BuildingType_Lookup,3,FALSE))","v":0},{"$f":"IF($H$4=\"\",0,VLOOKUP($H$4,BuildingType_Lookup,2,FALSE))","v":0},{"$f":"IF(AND(OR(AN185=\"\",AN185=0)=TRUE,OR(AO185=\"\",AO185=0))=TRUE,0,IF(AO185=\"\",(IF(OR(C185=\"DDC\",C185=\"OHLC\")=TRUE,O185,P185)/1000)*Y185*Z185*(1+VLOOKUP($H$4,BuildingType_Lookup,4,FALSE)),IF(AO185=0,0,(IF(OR(C185=\"DDC\",C185=\"OHLC\")=TRUE,O185,Q185)/1000)*Y185*Z185*(1+VLOOKUP($H$4,BuildingType_Lookup,4,FALSE)))))","v":0},{"$f":"IF(AND(OR(AN185=\"\",AN185=0)=TRUE,OR(AO185=\"\",AO185=0))=TRUE,0,IF(AO185=\"\",(IF(OR(C185=\"DDC\",C185=\"OHLC\")=TRUE,O185,P185)/1000)*Y185*AA185*(1+VLOOKUP($H$4,BuildingType_Lookup,MATCH($H$5,HVAC,0)+4,FALSE)),IF(AO185=0,0,(IF(OR(C185=\"DDC\",C185=\"OHLC\")=TRUE,O185,Q185)/1000)*Y185*AA185*(1+VLOOKUP($H$4,BuildingType_Lookup,MATCH($H$5,HVAC,0)+4,FALSE)))))","v":0},0,0,0,0,0,0,{"$f":"W185/1000*Y185*AA185*IF(IFERROR(SEARCH(\"Gas\",$H$5),0)>0,VLOOKUP(\"Gas\",HVACg_Lookup,MATCH($H$6,BuildingSize,0)+1,FALSE),IF(IFERROR(SEARCH(\"Oil\",$H$5),0)>0,VLOOKUP(\"Oil\",HVACg_Lookup,MATCH($H$6,BuildingSize,0)+1,FALSE),IF(IFERROR(SEARCH(\"Propane\",$H$5),0)>0,VLOOKUP(\"Propane\",HVACg_Lookup,MATCH(Worksheet!$H$6,BuildingSize,0)+1,FALSE),0)))","v":0},{"$f":"X185/1000*Y185*AA185*IF(IFERROR(SEARCH(\"Gas\",$H$5),0)>0,VLOOKUP(\"Gas\",HVACg_Lookup,MATCH($H$6,BuildingSize,0)+1,FALSE),IF(IFERROR(SEARCH(\"Oil\",$H$5),0)>0,VLOOKUP(\"Oil\",HVACg_Lookup,MATCH($H$6,BuildingSize,0)+1,FALSE),IF(IFERROR(SEARCH(\"Propane\",$H$5),0)>0,VLOOKUP(\"Propane\",HVACg_Lookup,MATCH(Worksheet!$H$6,BuildingSize,0)+1,FALSE),0)))","v":0},0,0,{"$f":"IF(OR($B$4=\"\",$B$5=\"\",$H$4=\"\",$H$6=\"\",$H$5=\"\",A185=\"\",F185=\"\",J185=\"\",O185=\"\",P185=\"\")=TRUE,\"\",IF(C185=\"OSW\",IF(J185>=2,1,0),IF(C185=\"OSR\",IF(AND(J185>=2,P185>60)=TRUE,1,0),IF(C185=\"OSRH\",IF(AND(J185>=1,P185>90)=TRUE,1,0),IF(C185=\"OHLC\",IF(AND(N185=\"Y\",P185>60)=TRUE,1,0),IF(C185=\"DDC\",IF(AND(J185>=4,N185=\"Y\",P185>120)=TRUE,1,0),0))))))","v":""},{"$f":"IF(OR($B$4=\"\",$B$5=\"\",$H$4=\"\",$H$6=\"\",$H$5=\"\",A185=\"\",F185=\"\",K185=\"\",O185=\"\",P185=\"\")=TRUE,\"\",IF(C185=\"OSW\",IF(K185>=2,1,0),IF(C185=\"OSR\",IF(AND(K185>=2,Q185>60)=TRUE,1,0),IF(C185=\"OSRH\",IF(AND(K185>=1,Q185>90)=TRUE,1,0),IF(C185=\"OHLC\",IF(AND(N185=\"Y\",Q185>60)=TRUE,1,0),IF(C185=\"DDC\",IF(AND(K185>=4,N185=\"Y\",Q185>120)=TRUE,1,0),0))))))","v":""}]
[null,null,"",null,null,null,null,null,null,null,null,null,null,null,null,0,0,0,0,"",0,0,0,0,0,{"$f":"IF($H$4=\"\",0,VLOOKUP($H$4,BuildingType_Lookup,3,FALSE))","v":0},{"$f":"IF($H$4=\"\",0,VLOOKUP($H$4,BuildingType_Lookup,2,FALSE))","v":0},{"$f":"IF(AND(OR(AN186=\"\",AN186=0)=TRUE,OR(AO186=\"\",AO186=0))=TRUE,0,IF(AO186=\"\",(IF(OR(C186=\"DDC\",C186=\"OHLC\")=TRUE,O186,P186)/1000)*Y186*Z186*(1+VLOOKUP($H$4,BuildingType_Lookup,4,FALSE)),IF(AO186=0,0,(IF(OR(C186=\"DDC\",C186=\"OHLC\")=TRUE,O186,Q186)/1000)*Y186*Z186*(1+VLOOKUP($H$4,BuildingType_Lookup,4,FALSE)))))","v":0},{"$f":"IF(AND(OR(AN186=\"\",AN186=0)=TRUE,OR(AO186=\"\",AO186=0))=TRUE,0,IF(AO186=\"\",(IF(OR(C186=\"DDC\",C186=\"OHLC\")=TRUE,O186,P186)/1000)*Y186*AA186*(1+VLOOKUP($H$4,BuildingType_Lookup,MATCH($H$5,HVAC,0)+4,FALSE)),IF(AO186=0,0,(IF(OR(C186=\"DDC\",C186=\"OHLC\")=TRUE,O186,Q186)/1000)*Y186*AA186*(1+VLOOKUP($H$4,BuildingType_Lookup,MATCH($H$5,HVAC,0)+4,FALSE)))))","v":0},0,0,0,0,0,0,{"$f":"W186/1000*Y186*AA186*IF(IFERROR(SEARCH(\"Gas\",$H$5),0)>0,VLOOKUP(\"Gas\",HVACg_Lookup,MATCH($H$6,BuildingSize,0)+1,FALSE),IF(IFERROR(SEARCH(\"Oil\",$H$5),0)>0,VLOOKUP(\"Oil\",HVACg_Lookup,MATCH($H$6,BuildingSize,0)+1,FALSE),IF(IFERROR(SEARCH(\"Propane\",$H$5),0)>0,VLOOKUP(\"Propane\",HVACg_Lookup,MATCH(Worksheet!$H$6,BuildingSize,0)+1,FALSE),0)))","v":0},{"$f":"X186/1000*Y186*AA186*IF(IFERROR(SEARCH(\"Gas\",$H$5),0)>0,VLOOKUP(\"Gas\",HVACg_Lookup,MATCH($H$6,BuildingSize,0)+1,FALSE),IF(IFERROR(SEARCH(\"Oil\",$H$5),0)>0,VLOOKUP(\"Oil\",HVACg_Lookup,MATCH($H$6,BuildingSize,0)+1,FALSE),IF(IFERROR(SEARCH(\"Propane\",$H$5),0)>0,VLOOKUP(\"Propane\",HVACg_Lookup,MATCH(Worksheet!$H$6,BuildingSize,0)+1,FALSE),0)))","v":0},0,0,{"$f":"IF(OR($B$4=\"\",$B$5=\"\",$H$4=\"\",$H$6=\"\",$H$5=\"\",A186=\"\",F186=\"\",J186=\"\",O186=\"\",P186=\"\")=TRUE,\"\",IF(C186=\"OSW\",IF(J186>=2,1,0),IF(C186=\"OSR\",IF(AND(J186>=2,P186>60)=TRUE,1,0),IF(C186=\"OSRH\",IF(AND(J186>=1,P186>90)=TRUE,1,0),IF(C186=\"OHLC\",IF(AND(N186=\"Y\",P186>60)=TRUE,1,0),IF(C186=\"DDC\",IF(AND(J186>=4,N186=\"Y\",P186>120)=TRUE,1,0),0))))))","v":""},{"$f":"IF(OR($B$4=\"\",$B$5=\"\",$H$4=\"\",$H$6=\"\",$H$5=\"\",A186=\"\",F186=\"\",K186=\"\",O186=\"\",P186=\"\")=TRUE,\"\",IF(C186=\"OSW\",IF(K186>=2,1,0),IF(C186=\"OSR\",IF(AND(K186>=2,Q186>60)=TRUE,1,0),IF(C186=\"OSRH\",IF(AND(K186>=1,Q186>90)=TRUE,1,0),IF(C186=\"OHLC\",IF(AND(N186=\"Y\",Q186>60)=TRUE,1,0),IF(C186=\"DDC\",IF(AND(K186>=4,N186=\"Y\",Q186>120)=TRUE,1,0),0))))))","v":""}]
[null,null,"",null,null,null,null,null,null,null,null,null,null,null,null,0,0,0,0,"",0,0,0,0,0,{"$f":"IF($H$4=\"\",0,VLOOKUP($H$4,BuildingType_Lookup,3,FALSE))","v":0},{"$f":"IF($H$4=\"\",0,VLOOKUP($H$4,BuildingType_Lookup,2,FALSE))","v":0},{"$f":"IF(AND(OR(AN187=\"\",AN187=0)=TRUE,OR(AO187=\"\",AO187=0))=TRUE,0,IF(AO187=\"\",(IF(OR(C187=\"DDC\",C187=\"OHLC\")=TRUE,O187,P187)/1000)*Y187*Z187*(1+VLOOKUP($H$4,BuildingType_Lookup,4,FALSE)),IF(AO187=0,0,(IF(OR(C187=\"DDC\",C187=\"OHLC\")=TRUE,O187,Q187)/1000)*Y187*Z187*(1+VLOOKUP($H$4,BuildingType_Lookup,4,FALSE)))))","v":0},{"$f":"IF(AND(OR(AN187=\"\",AN187=0)=TRUE,OR(AO187=\"\",AO187=0))=TRUE,0,IF(AO187=\"\",(IF(OR(C187=\"DDC\",C187=\"OHLC\")=TRUE,O187,P187)/1000)*Y187*AA187*(1+VLOOKUP($H$4,BuildingType_Lookup,MATCH($H$5,HVAC,0)+4,FALSE)),IF(AO187=0,0,(IF(OR(C187=\"DDC\",C187=\"OHLC\")=TRUE,O187,Q187)/1000)*Y187*AA187*(1+VLOOKUP($H$4,BuildingType_Lookup,MATCH($H$5,HVAC,0)+4,FALSE)))))","v":0},0,0,0,0,0,0,{"$f":"W187/1000*Y187*AA187*IF(IFERROR(SEARCH(\"Gas\",$H$5),0)>0,VLOOKUP(\"Gas\",HVACg_Lookup,MATCH($H$6,BuildingSize,0)+1,FALSE),IF(IFERROR(SEARCH(\"Oil\",$H$5),0)>0,VLOOKUP(\"Oil\",HVACg_Lookup,MATCH($H$6,BuildingSize,0)+1,FALSE),IF(IFERROR(SEARCH(\"Propane\",$H$5),0)>0,VLOOKUP(\"Propane\",HVACg_Lookup,MATCH(Worksheet!$H$6,BuildingSize,0)+1,FALSE),0)))","v":0},{"$f":"X187/1000*Y187*AA187*IF(IFERROR(SEARCH(\"Gas\",$H$5),0)>0,VLOOKUP(\"Gas\",HVACg_Lookup,MATCH($H$6,BuildingSize,0)+1,FALSE),IF(IFERROR(SEARCH(\"Oil\",$H$5),0)>0,VLOOKUP(\"Oil\",HVACg_Lookup,MATCH($H$6,BuildingSize,0)+1,FALSE),IF(IFERROR(SEARCH(\"Propane\",$H$5),0)>0,VLOOKUP(\"Propane\",HVACg_Lookup,MATCH(Worksheet!$H$6,BuildingSize,0)+1,FALSE),0)))","v":0},0,0,{"$f":"IF(OR($B$4=\"\",$B$5=\"\",$H$4=\"\",$H$6=\"\",$H$5=\"\",A187=\"\",F187=\"\",J187=\"\",O187=\"\",P187=\"\")=TRUE,\"\",IF(C187=\"OSW\",IF(J187>=2,1,0),IF(C187=\"OSR\",IF(AND(J187>=2,P187>60)=TRUE,1,0),IF(C187=\"OSRH\",IF(AND(J187>=1,P187>90)=TRUE,1,0),IF(C187=\"OHLC\",IF(AND(N187=\"Y\",P187>60)=TRUE,1,0),IF(C187=\"DDC\",IF(AND(J187>=4,N187=\"Y\",P187>120)=TRUE,1,0),0))))))","v":""},{"$f":"IF(OR($B$4=\"\",$B$5=\"\",$H$4=\"\",$H$6=\"\",$H$5=\"\",A187=\"\",F187=\"\",K187=\"\",O187=\"\",P187=\"\")=TRUE,\"\",IF(C187=\"OSW\",IF(K187>=2,1,0),IF(C187=\"OSR\",IF(AND(K187>=2,Q187>60)=TRUE,1,0),IF(C187=\"OSRH\",IF(AND(K187>=1,Q187>90)=TRUE,1,0),IF(C187=\"OHLC\",IF(AND(N187=\"Y\",Q187>60)=TRUE,1,0),IF(C187=\"DDC\",IF(AND(K187>=4,N187=\"Y\",Q187>120)=TRUE,1,0),0))))))","v":""}]
[null,null,"",null,null,null,null,null,null,null,null,null,null,null,null,0,0,0,0,"",0,0,0,0,0,{"$f":"IF($H$4=\"\",0,VLOOKUP($H$4,BuildingType_Lookup,3,FALSE))","v":0},{"$f":"IF($H$4=\"\",0,VLOOKUP($H$4,BuildingType_Lookup,2,FALSE))","v":0},{"$f":"IF(AND(OR(AN188=\"\",AN188=0)=TRUE,OR(AO188=\"\",AO188=0))=TRUE,0,IF(AO188=\"\",(IF(OR(C188=\"DDC\",C188=\"OHLC\")=TRUE,O188,P188)/1000)*Y188*Z188*(1+VLOOKUP($H$4,BuildingType_Lookup,4,FALSE)),IF(AO188=0,0,(IF(OR(C188=\"DDC\",C188=\"OHLC\")=TRUE,O188,Q188)/1000)*Y188*Z188*(1+VLOOKUP($H$4,BuildingType_Lookup,4,FALSE)))))","v":0},{"$f":"IF(AND(OR(AN188=\"\",AN188=0)=TRUE,OR(AO188=\"\",AO188=0))=TRUE,0,IF(AO188=\"\",(IF(OR(C188=\"DDC\",C188=\"OHLC\")=TRUE,O188,P188)/1000)*Y188*AA188*(1+VLOOKUP($H$4,BuildingType_Lookup,MATCH($H$5,HVAC,0)+4,FALSE)),IF(AO188=0,0,(IF(OR(C188=\"DDC\",C188=\"OHLC\")=TRUE,O188,Q188)/1000)*Y188*AA188*(1+VLOOKUP($H$4,BuildingType_Lookup,MATCH($H$5,HVAC,0)+4,FALSE)))))","v":0},0,0,0,0,0,0,{"$f":"W188/1000*Y188*AA188*IF(IFERROR(SEARCH(\"Gas\",$H$5),0)>0,VLOOKUP(\"Gas\",HVACg_Lookup,MATCH($H$6,BuildingSize,0)+1,FALSE),IF(IFERROR(SEARCH(\"Oil\",$H$5),0)>0,VLOOKUP(\"Oil\",HVACg_Lookup,MATCH($H$6,BuildingSize,0)+1,FALSE),IF(IFERROR(SEARCH(\"Propane\",$H$5),0)>0,VLOOKUP(\"Propane\",HVACg_Lookup,MATCH(Worksheet!$H$6,BuildingSize,0)+1,FALSE),0)))","v":0},{"$f":"X188/1000*Y188*AA188*IF(IFERROR(SEARCH(\"Gas\",$H$5),0)>0,VLOOKUP(\"Gas\",HVACg_Lookup,MATCH($H$6,BuildingSize,0)+1,FALSE),IF(IFERROR(SEARCH(\"Oil\",$H$5),0)>0,VLOOKUP(\"Oil\",HVACg_Lookup,MATCH($H$6,BuildingSize,0)+1,FALSE),IF(IFERROR(SEARCH(\"Propane\",$H$5),0)>0,VLOOKUP(\"Propane\",HVACg_Lookup,MATCH(Worksheet!$H$6,BuildingSize,0)+1,FALSE),0)))","v":0},0,0,{"$f":"IF(OR($B$4=\"\",$B$5=\"\",$H$4=\"\",$H$6=\"\",$H$5=\"\",A188=\"\",F188=\"\",J188=\"\",O188=\"\",P188=\"\")=TRUE,\"\",IF(C188=\"OSW\",IF(J188>=2,1,0),IF(C188=\"OSR\",IF(AND(J188>=2,P188>60)=TRUE,1,0),IF(C188=\"OSRH\",IF(AND(J188>=1,P188>90)=TRUE,1,0),IF(C188=\"OHLC\",IF(AND(N188=\"Y\",P188>60)=TRUE,1,0),IF(C188=\"DDC\",IF(AND(J188>=4,N188=\"Y\",P188>120)=TRUE,1,0),0))))))","v":""},{"$f":"IF(OR($B$4=\"\",$B$5=\"\",$H$4=\"\",$H$6=\"\",$H$5=\"\",A188=\"\",F188=\"\",K188=\"\",O188=\"\",P188=\"\")=TRUE,\"\",IF(C188=\"OSW\",IF(K188>=2,1,0),IF(C188=\"OSR\",IF(AND(K188>=2,Q188>60)=TRUE,1,0),IF(C188=\"OSRH\",IF(AND(K188>=1,Q188>90)=TRUE,1,0),IF(C188=\"OHLC\",IF(AND(N188=\"Y\",Q188>60)=TRUE,1,0),IF(C188=\"DDC\",IF(AND(K188>=4,N188=\"Y\",Q188>120)=TRUE,1,0),0))))))","v":""}]
[null,null,"",null,null,null,null,null,null,null,null,null,null,null,null,0,0,0,0,"",0,0,0,0,0,{"$f":"IF($H$4=\"\",0,VLOOKUP($H$4,BuildingType_Lookup,3,FALSE))","v":0},{"$f":"IF($H$4=\"\",0,VLOOKUP($H$4,BuildingType_Lookup,2,FALSE))","v":0},{"$f":"IF(AND(OR(AN189=\"\",AN189=0)=TRUE,OR(AO189=\"\",AO189=0))=TRUE,0,IF(AO189=\"\",(IF(OR(C189=\"DDC\",C189=\"OHLC\")=TRUE,O189,P189)/1000)*Y189*Z189*(1+VLOOKUP($H$4,BuildingType_Lookup,4,FALSE)),IF(AO189=0,0,(IF(OR(C189=\"DDC\",C189=\"OHLC\")=TRUE,O189,Q189)/1000)*Y189*Z189*(1+VLOOKUP($H$4,BuildingType_Lookup,4,FALSE)))))","v":0},{"$f":"IF(AND(OR(AN189=\"\",AN189=0)=TRUE,OR(AO189=\"\",AO189=0))=TRUE,0,IF(AO189=\"\",(IF(OR(C189=\"DDC\",C189=\"OHLC\")=TRUE,O189,P189)/1000)*Y189*AA189*(1+VLOOKUP($H$4,BuildingType_Lookup,MATCH($H$5,HVAC,0)+4,FALSE)),IF(AO189=0,0,(IF(OR(C189=\"DDC\",C189=\"OHLC\")=TRUE,O189,Q189)/1000)*Y189*AA189*(1+VLOOKUP($H$4,BuildingType_Lookup,MATCH($H$5,HVAC,0)+4,FALSE)))))","v":0},0,0,0,0,0,0,{"$f":"W189/1000*Y189*AA189*IF(IFERROR(SEARCH(\"Gas\",$H$5),0)>0,VLOOKUP(\"Gas\",HVACg_Lookup,MATCH($H$6,BuildingSize,0)+1,FALSE),IF(IFERROR(SEARCH(\"Oil\",$H$5),0)>0,VLOOKUP(\"Oil\",HVACg_Lookup,MATCH($H$6,BuildingSize,0)+1,FALSE),IF(IFERROR(SEARCH(\"Propane\",$H$5),0)>0,VLOOKUP(\"Propane\",HVACg_Lookup,MATCH(Worksheet!$H$6,BuildingSize,0)+1,FALSE),0)))","v":0},{"$f":"X189/1000*Y189*AA189*IF(IFERROR(SEARCH(\"Gas\",$H$5),0)>0,VLOOKUP(\"Gas\",HVACg_Lookup,MATCH($H$6,BuildingSize,0)+1,FALSE),IF(IFERROR(SEARCH(\"Oil\",$H$5),0)>0,VLOOKUP(\"Oil\",HVACg_Lookup,MATCH($H$6,BuildingSize,0)+1,FALSE),IF(IFERROR(SEARCH(\"Propane\",$H$5),0)>0,VLOOKUP(\"Propane\",HVACg_Lookup,MATCH(Worksheet!$H$6,BuildingSize,0)+1,FALSE),0)))","v":0},0,0,{"$f":"IF(OR($B$4=\"\",$B$5=\"\",$H$4=\"\",$H$6=\"\",$H$5=\"\",A189=\"\",F189=\"\",J189=\"\",O189=\"\",P189=\"\")=TRUE,\"\",IF(C189=\"OSW\",IF(J189>=2,1,0),IF(C189=\"OSR\",IF(AND(J189>=2,P189>60)=TRUE,1,0),IF(C189=\"OSRH\",IF(AND(J189>=1,P189>90)=TRUE,1,0),IF(C189=\"OHLC\",IF(AND(N189=\"Y\",P189>60)=TRUE,1,0),IF(C189=\"DDC\",IF(AND(J189>=4,N189=\"Y\",P189>120)=TRUE,1,0),0))))))","v":""},{"$f":"IF(OR($B$4=\"\",$B$5=\"\",$H$4=\"\",$H$6=\"\",$H$5=\"\",A189=\"\",F189=\"\",K189=\"\",O189=\"\",P189=\"\")=TRUE,\"\",IF(C189=\"OSW\",IF(K189>=2,1,0),IF(C189=\"OSR\",IF(AND(K189>=2,Q189>60)=TRUE,1,0),IF(C189=\"OSRH\",IF(AND(K189>=1,Q189>90)=TRUE,1,0),IF(C189=\"OHLC\",IF(AND(N189=\"Y\",Q189>60)=TRUE,1,0),IF(C189=\"DDC\",IF(AND(K189>=4,N189=\"Y\",Q189>120)=TRUE,1,0),0))))))","v":""}]
[null,null,"",null,null,null,null,null,null,null,null,null,null,null,null,0,0,0,0,"",0,0,0,0,0,{"$f":"IF($H$4=\"\",0,VLOOKUP($H$4,BuildingType_Lookup,3,FALSE))","v":0},{"$f":"IF($H$4=\"\",0,VLOOKUP($H$4,BuildingType_Lookup,2,FALSE))","v":0},{"$f":"IF(AND(OR(AN190=\"\",AN190=0)=TRUE,OR(AO190=\"\",AO190=0))=TRUE,0,IF(AO190=\"\",(IF(OR(C190=\"DDC\",C190=\"OHLC\")=TRUE,O190,P190)/1000)*Y190*Z190*(1+VLOOKUP($H$4,BuildingType_Lookup,4,FALSE)),IF(AO190=0,0,(IF(OR(C190=\"DDC\",C190=\"OHLC\")=TRUE,O190,Q190)/1000)*Y190*Z190*(1+VLOOKUP($H$4,BuildingType_Lookup,4,FALSE)))))","v":0},{"$f":"IF(AND(OR(AN190=\"\",AN190=0)=TRUE,OR(AO190=\"\",AO190=0))=TRUE,0,IF(AO190=\"\",(IF(OR(C190=\"DDC\",C190=\"OHLC\")=TRUE,O190,P190)/1000)*Y190*AA190*(1+VLOOKUP($H$4,BuildingType_Lookup,MATCH($H$5,HVAC,0)+4,FALSE)),IF(AO190=0,0,(IF(OR(C190=\"DDC\",C190=\"OHLC\")=TRUE,O190,Q190)/1000)*Y190*AA190*(1+VLOOKUP($H$4,BuildingType_Lookup,MATCH($H$5,HVAC,0)+4,FALSE)))))","v":0},0,0,0,0,0,0,{"$f":"W190/1000*Y190*AA190*IF(IFERROR(SEARCH(\"Gas\",$H$5),0)>0,VLOOKUP(\"Gas\",HVACg_Lookup,MATCH($H$6,BuildingSize,0)+1,FALSE),IF(IFERROR(SEARCH(\"Oil\",$H$5),0)>0,VLOOKUP(\"Oil\",HVACg_Lookup,MATCH($H$6,BuildingSize,0)+1,FALSE),IF(IFERROR(SEARCH(\"Propane\",$H$5),0)>0,VLOOKUP(\"Propane\",HVACg_Lookup,MATCH(Worksheet!$H$6,BuildingSize,0)+1,FALSE),0)))","v":0},{"$f":"X190/1000*Y190*AA190*IF(IFERROR(SEARCH(\"Gas\",$H$5),0)>0,VLOOKUP(\"Gas\",HVACg_Lookup,MATCH($H$6,BuildingSize,0)+1,FALSE),IF(IFERROR(SEARCH(\"Oil\",$H$5),0)>0,VLOOKUP(\"Oil\",HVACg_Lookup,MATCH($H$6,BuildingSize,0)+1,FALSE),IF(IFERROR(SEARCH(\"Propane\",$H$5),0)>0,VLOOKUP(\"Propane\",HVACg_Lookup,MATCH(Worksheet!$H$6,BuildingSize,0)+1,FALSE),0)))","v":0},0,0,{"$f":"IF(OR($B$4=\"\",$B$5=\"\",$H$4=\"\",$H$6=\"\",$H$5=\"\",A190=\"\",F190=\"\",J190=\"\",O190=\"\",P190=\"\")=TRUE,\"\",IF(C190=\"OSW\",IF(J190>=2,1,0),IF(C190=\"OSR\",IF(AND(J190>=2,P190>60)=TRUE,1,0),IF(C190=\"OSRH\",IF(AND(J190>=1,P190>90)=TRUE,1,0),IF(C190=\"OHLC\",IF(AND(N190=\"Y\",P190>60)=TRUE,1,0),IF(C190=\"DDC\",IF(AND(J190>=4,N190=\"Y\",P190>120)=TRUE,1,0),0))))))","v":""},{"$f":"IF(OR($B$4=\"\",$B$5=\"\",$H$4=\"\",$H$6=\"\",$H$5=\"\",A190=\"\",F190=\"\",K190=\"\",O190=\"\",P190=\"\")=TRUE,\"\",IF(C190=\"OSW\",IF(K190>=2,1,0),IF(C190=\"OSR\",IF(AND(K190>=2,Q190>60)=TRUE,1,0),IF(C190=\"OSRH\",IF(AND(K190>=1,Q190>90)=TRUE,1,0),IF(C190=\"OHLC\",IF(AND(N190=\"Y\",Q190>60)=TRUE,1,0),IF(C190=\"DDC\",IF(AND(K190>=4,N190=\"Y\",Q190>120)=TRUE,1,0),0))))))","v":""}]
[null,null,"",null,null,null,null,null,null,null,null,null,null,null,null,0,0,0,0,"",0,0,0,0,0,{"$f":"IF($H$4=\"\",0,VLOOKUP($H$4,BuildingType_Lookup,3,FALSE))","v":0},{"$f":"IF($H$4=\"\",0,VLOOKUP($H$4,BuildingType_Lookup,2,FALSE))","v":0},{"$f":"IF(AND(OR(AN191=\"\",AN191=0)=TRUE,OR(AO191=\"\",AO191=0))=TRUE,0,IF(AO191=\"\",(IF(OR(C191=\"DDC\",C191=\"OHLC\")=TRUE,O191,P191)/1000)*Y191*Z191*(1+VLOOKUP($H$4,BuildingType_Lookup,4,FALSE)),IF(AO191=0,0,(IF(OR(C191=\"DDC\",C191=\"OHLC\")=TRUE,O191,Q191)/1000)*Y191*Z191*(1+VLOOKUP($H$4,BuildingType_Lookup,4,FALSE)))))","v":0},{"$f":"IF(AND(OR(AN191=\"\",AN191=0)=TRUE,OR(AO191=\"\",AO191=0))=TRUE,0,IF(AO191=\"\",(IF(OR(C191=\"DDC\",C191=\"OHLC\")=TRUE,O191,P191)/1000)*Y191*AA191*(1+VLOOKUP($H$4,BuildingType_Lookup,MATCH($H$5,HVAC,0)+4,FALSE)),IF(AO191=0,0,(IF(OR(C191=\"DDC\",C191=\"OHLC\")=TRUE,O191,Q191)/1000)*Y191*AA191*(1+VLOOKUP($H$4,BuildingType_Lookup,MATCH($H$5,HVAC,0)+4,FALSE)))))","v":0},0,0,0,0,0,0,{"$f":"W191/1000*Y191*AA191*IF(IFERROR(SEARCH(\"Gas\",$H$5),0)>0,VLOOKUP(\"Gas\",HVACg_Lookup,MATCH($H$6,BuildingSize,0)+1,FALSE),IF(IFERROR(SEARCH(\"Oil\",$H$5),0)>0,VLOOKUP(\"Oil\",HVACg_Lookup,MATCH($H$6,BuildingSize,0)+1,FALSE),IF(IFERROR(SEARCH(\"Propane\",$H$5),0)>0,VLOOKUP(\"Propane\",HVACg_Lookup,MATCH(Worksheet!$H$6,BuildingSize,0)+1,FALSE),0)))","v":0},{"$f":"X191/1000*Y191*AA191*IF(IFERROR(SEARCH(\"Gas\",$H$5),0)>0,VLOOKUP(\"Gas\",HVACg_Lookup,MATCH($H$6,BuildingSize,0)+1,FALSE),IF(IFERROR(SEARCH(\"Oil\",$H$5),0)>0,VLOOKUP(\"Oil\",HVACg_Lookup,MATCH($H$6,BuildingSize,0)+1,FALSE),IF(IFERROR(SEARCH(\"Propane\",$H$5),0)>0,VLOOKUP(\"Propane\",HVACg_Lookup,MATCH(Worksheet!$H$6,BuildingSize,0)+1,FALSE),0)))","v":0},0,0,{"$f":"IF(OR($B$4=\"\",$B$5=\"\",$H$4=\"\",$H$6=\"\",$H$5=\"\",A191=\"\",F191=\"\",J191=\"\",O191=\"\",P191=\"\")=TRUE,\"\",IF(C191=\"OSW\",IF(J191>=2,1,0),IF(C191=\"OSR\",IF(AND(J191>=2,P191>60)=TRUE,1,0),IF(C191=\"OSRH\",IF(AND(J191>=1,P191>90)=TRUE,1,0),IF(C191=\"OHLC\",IF(AND(N191=\"Y\",P191>60)=TRUE,1,0),IF(C191=\"DDC\",IF(AND(J191>=4,N191=\"Y\",P191>120)=TRUE,1,0),0))))))","v":""},{"$f":"IF(OR($B$4=\"\",$B$5=\"\",$H$4=\"\",$H$6=\"\",$H$5=\"\",A191=\"\",F191=\"\",K191=\"\",O191=\"\",P191=\"\")=TRUE,\"\",IF(C191=\"OSW\",IF(K191>=2,1,0),IF(C191=\"OSR\",IF(AND(K191>=2,Q191>60)=TRUE,1,0),IF(C191=\"OSRH\",IF(AND(K191>=1,Q191>90)=TRUE,1,0),IF(C191=\"OHLC\",IF(AND(N191=\"Y\",Q191>60)=TRUE,1,0),IF(C191=\"DDC\",IF(AND(K191>=4,N191=\"Y\",Q191>120)=TRUE,1,0),0))))))","v":""}]
[null,null,"",null,null,null,null,null,null,null,null,null,null,null,null,0,0,0,0,"",0,0,0,0,0,{"$f":"IF($H$4=\"\",0,VLOOKUP($H$4,BuildingType_Lookup,3,FALSE))","v":0},{"$f":"IF($H$4=\"\",0,VLOOKUP($H$4,BuildingType_Lookup,2,FALSE))","v":0},{"$f":"IF(AND(OR(AN192=\"\",AN192=0)=TRUE,OR(AO192=\"\",AO192=0))=TRUE,0,IF(AO192=\"\",(IF(OR(C192=\"DDC\",C192=\"OHLC\")=TRUE,O192,P192)/1000)*Y192*Z192*(1+VLOOKUP($H$4,BuildingType_Lookup,4,FALSE)),IF(AO192=0,0,(IF(OR(C192=\"DDC\",C192=\"OHLC\")=TRUE,O192,Q192)/1000)*Y192*Z192*(1+VLOOKUP($H$4,BuildingType_Lookup,4,FALSE)))))","v":0},{"$f":"IF(AND(OR(AN192=\"\",AN192=0)=TRUE,OR(AO192=\"\",AO192=0))=TRUE,0,IF(AO192=\"\",(IF(OR(C192=\"DDC\",C192=\"OHLC\")=TRUE,O192,P192)/1000)*Y192*AA192*(1+VLOOKUP($H$4,BuildingType_Lookup,MATCH($H$5,HVAC,0)+4,FALSE)),IF(AO192=0,0,(IF(OR(C192=\"DDC\",C192=\"OHLC\")=TRUE,O192,Q192)/1000)*Y192*AA192*(1+VLOOKUP($H$4,BuildingType_Lookup,MATCH($H$5,HVAC,0)+4,FALSE)))))","v":0},0,0,0,0,0,0,{"$f":"W192/1000*Y192*AA192*IF(IFERROR(SEARCH(\"Gas\",$H$5),0)>0,VLOOKUP(\"Gas\",HVACg_Lookup,MATCH($H$6,BuildingSize,0)+1,FALSE),IF(IFERROR(SEARCH(\"Oil\",$H$5),0)>0,VLOOKUP(\"Oil\",HVACg_Lookup,MATCH($H$6,BuildingSize,0)+1,FALSE),IF(IFERROR(SEARCH(\"Propane\",$H$5),0)>0,VLOOKUP(\"Propane\",HVACg_Lookup,MATCH(Worksheet!$H$6,BuildingSize,0)+1,FALSE),0)))","v":0},{"$f":"X192/1000*Y192*AA192*IF(IFERROR(SEARCH(\"Gas\",$H$5),0)>0,VLOOKUP(\"Gas\",HVACg_Lookup,MATCH($H$6,BuildingSize,0)+1,FALSE),IF(IFERROR(SEARCH(\"Oil\",$H$5),0)>0,VLOOKUP(\"Oil\",HVACg_Lookup,MATCH($H$6,BuildingSize,0)+1,FALSE),IF(IFERROR(SEARCH(\"Propane\",$H$5),0)>0,VLOOKUP(\"Propane\",HVACg_Lookup,MATCH(Worksheet!$H$6,BuildingSize,0)+1,FALSE),0)))","v":0},0,0,{"$f":"IF(OR($B$4=\"\",$B$5=\"\",$H$4=\"\",$H$6=\"\",$H$5=\"\",A192=\"\",F192=\"\",J192=\"\",O192=\"\",P192=\"\")=TRUE,\"\",IF(C192=\"OSW\",IF(J192>=2,1,0),IF(C192=\"OSR\",IF(AND(J192>=2,P192>60)=TRUE,1,0),IF(C192=\"OSRH\",IF(AND(J192>=1,P192>90)=TRUE,1,0),IF(C192=\"OHLC\",IF(AND(N192=\"Y\",P192>60)=TRUE,1,0),IF(C192=\"DDC\",IF(AND(J192>=4,N192=\"Y\",P192>120)=TRUE,1,0),0))))))","v":""},{"$f":"IF(OR($B$4=\"\",$B$5=\"\",$H$4=\"\",$H$6=\"\",$H$5=\"\",A192=\"\",F192=\"\",K192=\"\",O192=\"\",P192=\"\")=TRUE,\"\",IF(C192=\"OSW\",IF(K192>=2,1,0),IF(C192=\"OSR\",IF(AND(K192>=2,Q192>60)=TRUE,1,0),IF(C192=\"OSRH\",IF(AND(K192>=1,Q192>90)=TRUE,1,0),IF(C192=\"OHLC\",IF(AND(N192=\"Y\",Q192>60)=TRUE,1,0),IF(C192=\"DDC\",IF(AND(K192>=4,N192=\"Y\",Q192>120)=TRUE,1,0),0))))))","v":""}]
[null,null,"",null,null,null,null,null,null,null,null,null,null,null,null,0,0,0,0,"",0,0,0,0,0,{"$f":"IF($H$4=\"\",0,VLOOKUP($H$4,BuildingType_Lookup,3,FALSE))","v":0},{"$f":"IF($H$4=\"\",0,VLOOKUP($H$4,BuildingType_Lookup,2,FALSE))","v":0},{"$f":"IF(AND(OR(AN193=\"\",AN193=0)=TRUE,OR(AO193=\"\",AO193=0))=TRUE,0,IF(AO193=\"\",(IF(OR(C193=\"DDC\",C193=\"OHLC\")=TRUE,O193,P193)/1000)*Y193*Z193*(1+VLOOKUP($H$4,BuildingType_Lookup,4,FALSE)),IF(AO193=0,0,(IF(OR(C193=\"DDC\",C193=\"OHLC\")=TRUE,O193,Q193)/1000)*Y193*Z193*(1+VLOOKUP($H$4,BuildingType_Lookup,4,FALSE)))))","v":0},{"$f":"IF(AND(OR(AN193=\"\",AN193=0)=TRUE,OR(AO193=\"\",AO193=0))=TRUE,0,IF(AO193=\"\",(IF(OR(C193=\"DDC\",C193=\"OHLC\")=TRUE,O193,P193)/1000)*Y193*AA193*(1+VLOOKUP($H$4,BuildingType_Lookup,MATCH($H$5,HVAC,0)+4,FALSE)),IF(AO193=0,0,(IF(OR(C193=\"DDC\",C193=\"OHLC\")=TRUE,O193,Q193)/1000)*Y193*AA193*(1+VLOOKUP($H$4,BuildingType_Lookup,MATCH($H$5,HVAC,0)+4,FALSE)))))","v":0},0,0,0,0,0,0,{"$f":"W193/1000*Y193*AA193*IF(IFERROR(SEARCH(\"Gas\",$H$5),0)>0,VLOOKUP(\"Gas\",HVACg_Lookup,MATCH($H$6,BuildingSize,0)+1,FALSE),IF(IFERROR(SEARCH(\"Oil\",$H$5),0)>0,VLOOKUP(\"Oil\",HVACg_Lookup,MATCH($H$6,BuildingSize,0)+1,FALSE),IF(IFERROR(SEARCH(\"Propane\",$H$5),0)>0,VLOOKUP(\"Propane\",HVACg_Lookup,MATCH(Worksheet!$H$6,BuildingSize,0)+1,FALSE),0)))","v":0},{"$f":"X193/1000*Y193*AA193*IF(IFERROR(SEARCH(\"Gas\",$H$5),0)>0,VLOOKUP(\"Gas\",HVACg_Lookup,MATCH($H$6,BuildingSize,0)+1,FALSE),IF(IFERROR(SEARCH(\"Oil\",$H$5),0)>0,VLOOKUP(\"Oil\",HVACg_Lookup,MATCH($H$6,BuildingSize,0)+1,FALSE),IF(IFERROR(SEARCH(\"Propane\",$H$5),0)>0,VLOOKUP(\"Propane\",HVACg_Lookup,MATCH(Worksheet!$H$6,BuildingSize,0)+1,FALSE),0)))","v":0},0,0,{"$f":"IF(OR($B$4=\"\",$B$5=\"\",$H$4=\"\",$H$6=\"\",$H$5=\"\",A193=\"\",F193=\"\",J193=\"\",O193=\"\",P193=\"\")=TRUE,\"\",IF(C193=\"OSW\",IF(J193>=2,1,0),IF(C193=\"OSR\",IF(AND(J193>=2,P193>60)=TRUE,1,0),IF(C193=\"OSRH\",IF(AND(J193>=1,P193>90)=TRUE,1,0),IF(C193=\"OHLC\",IF(AND(N193=\"Y\",P193>60)=TRUE,1,0),IF(C193=\"DDC\",IF(AND(J193>=4,N193=\"Y\",P193>120)=TRUE,1,0),0))))))","v":""},{"$f":"IF(OR($B$4=\"\",$B$5=\"\",$H$4=\"\",$H$6=\"\",$H$5=\"\",A193=\"\",F193=\"\",K193=\"\",O193=\"\",P193=\"\")=TRUE,\"\",IF(C193=\"OSW\",IF(K193>=2,1,0),IF(C193=\"OSR\",IF(AND(K193>=2,Q193>60)=TRUE,1,0),IF(C193=\"OSRH\",IF(AND(K193>=1,Q193>90)=TRUE,1,0),IF(C193=\"OHLC\",IF(AND(N193=\"Y\",Q193>60)=TRUE,1,0),IF(C193=\"DDC\",IF(AND(K193>=4,N193=\"Y\",Q193>120)=TRUE,1,0),0))))))","v":""}]
[null,null,"",null,null,null,null,null,null,null,null,null,null,null,null,0,0,0,0,"",0,0,0,0,0,{"$f":"IF($H$4=\"\",0,VLOOKUP($H$4,BuildingType_Lookup,3,FALSE))","v":0},{"$f":"IF($H$4=\"\",0,VLOOKUP($H$4,BuildingType_Lookup,2,FALSE))","v":0},{"$f":"IF(AND(OR(AN194=\"\",AN194=0)=TRUE,OR(AO194=\"\",AO194=0))=TRUE,0,IF(AO194=\"\",(IF(OR(C194=\"DDC\",C194=\"OHLC\")=TRUE,O194,P194)/1000)*Y194*Z194*(1+VLOOKUP($H$4,BuildingType_Lookup,4,FALSE)),IF(AO194=0,0,(IF(OR(C194=\"DDC\",C194=\"OHLC\")=TRUE,O194,Q194)/1000)*Y194*Z194*(1+VLOOKUP($H$4,BuildingType_Lookup,4,FALSE)))))","v":0},{"$f":"IF(AND(OR(AN194=\"\",AN194=0)=TRUE,OR(AO194=\"\",AO194=0))=TRUE,0,IF(AO194=\"\",(IF(OR(C194=\"DDC\",C194=\"OHLC\")=TRUE,O194,P194)/1000)*Y194*AA194*(1+VLOOKUP($H$4,BuildingType_Lookup,MATCH($H$5,HVAC,0)+4,FALSE)),IF(AO194=0,0,(IF(OR(C194=\"DDC\",C194=\"OHLC\")=TRUE,O194,Q194)/1000)*Y194*AA194*(1+VLOOKUP($H$4,BuildingType_Lookup,MATCH($H$5,HVAC,0)+4,FALSE)))))","v":0},0,0,0,0,0,0,{"$f":"W194/1000*Y194*AA194*IF(IFERROR(SEARCH(\"Gas\",$H$5),0)>0,VLOOKUP(\"Gas\",HVACg_Lookup,MATCH($H$6,BuildingSize,0)+1,FALSE),IF(IFERROR(SEARCH(\"Oil\",$H$5),0)>0,VLOOKUP(\"Oil\",HVACg_Lookup,MATCH($H$6,BuildingSize,0)+1,FALSE),IF(IFERROR(SEARCH(\"Propane\",$H$5),0)>0,VLOOKUP(\"Propane\",HVACg_Lookup,MATCH(Worksheet!$H$6,BuildingSize,0)+1,FALSE),0)))","v":0},{"$f":"X194/1000*Y194*AA194*IF(IFERROR(SEARCH(\"Gas\",$H$5),0)>0,VLOOKUP(\"Gas\",HVACg_Lookup,MATCH($H$6,BuildingSize,0)+1,FALSE),IF(IFERROR(SEARCH(\"Oil\",$H$5),0)>0,VLOOKUP(\"Oil\",HVACg_Lookup,MATCH($H$6,BuildingSize,0)+1,FALSE),IF(IFERROR(SEARCH(\"Propane\",$H$5),0)>0,VLOOKUP(\"Propane\",HVACg_Lookup,MATCH(Worksheet!$H$6,BuildingSize,0)+1,FALSE),0)))","v":0},0,0,{"$f":"IF(OR($B$4=\"\",$B$5=\"\",$H$4=\"\",$H$6=\"\",$H$5=\"\",A194=\"\",F194=\"\",J194=\"\",O194=\"\",P194=\"\")=TRUE,\"\",IF(C194=\"OSW\",IF(J194>=2,1,0),IF(C194=\"OSR\",IF(AND(J194>=2,P194>60)=TRUE,1,0),IF(C194=\"OSRH\",IF(AND(J194>=1,P194>90)=TRUE,1,0),IF(C194=\"OHLC\",IF(AND(N194=\"Y\",P194>60)=TRUE,1,0),IF(C194=\"DDC\",IF(AND(J194>=4,N194=\"Y\",P194>120)=TRUE,1,0),0))))))","v":""},{"$f":"IF(OR($B$4=\"\",$B$5=\"\",$H$4=\"\",$H$6=\"\",$H$5=\"\",A194=\"\",F194=\"\",K194=\"\",O194=\"\",P194=\"\")=TRUE,\"\",IF(C194=\"OSW\",IF(K194>=2,1,0),IF(C194=\"OSR\",IF(AND(K194>=2,Q194>60)=TRUE,1,0),IF(C194=\"OSRH\",IF(AND(K194>=1,Q194>90)=TRUE,1,0),IF(C194=\"OHLC\",IF(AND(N194=\"Y\",Q194>60)=TRUE,1,0),IF(C194=\"DDC\",IF(AND(K194>=4,N194=\"Y\",Q194>120)=TRUE,1,0),0))))))","v":""}]
[null,null,"",null,null,null,null,null,null,null,null,null,null,null,null,0,0,0,0,"",0,0,0,0,0,{"$f":"IF($H$4=\"\",0,VLOOKUP($H$4,BuildingType_Lookup,3,FALSE))","v":0},{"$f":"IF($H$4=\"\",0,VLOOKUP($H$4,BuildingType_Lookup,2,FALSE))","v":0},{"$f":"IF(AND(OR(AN195=\"\",AN195=0)=TRUE,OR(AO195=\"\",AO195=0))=TRUE,0,IF(AO195=\"\",(IF(OR(C195=\"DDC\",C195=\"OHLC\")=TRUE,O195,P195)/1000)*Y195*Z195*(1+VLOOKUP($H$4,BuildingType_Lookup,4,FALSE)),IF(AO195=0,0,(IF(OR(C195=\"DDC\",C195=\"OHLC\")=TRUE,O195,Q195)/1000)*Y195*Z195*(1+VLOOKUP($H$4,BuildingType_Lookup,4,FALSE)))))","v":0},{"$f":"IF(AND(OR(AN195=\"\",AN195=0)=TRUE,OR(AO195=\"\",AO195=0))=TRUE,0,IF(AO195=\"\",(IF(OR(C195=\"DDC\",C195=\"OHLC\")=TRUE,O195,P195)/1000)*Y195*AA195*(1+VLOOKUP($H$4,BuildingType_Lookup,MATCH($H$5,HVAC,0)+4,FALSE)),IF(AO195=0,0,(IF(OR(C195=\"DDC\",C195=\"OHLC\")=TRUE,O195,Q195)/1000)*Y195*AA195*(1+VLOOKUP($H$4,BuildingType_Lookup,MATCH($H$5,HVAC,0)+4,FALSE)))))","v":0},0,0,0,0,0,0,{"$f":"W195/1000*Y195*AA195*IF(IFERROR(SEARCH(\"Gas\",$H$5),0)>0,VLOOKUP(\"Gas\",HVACg_Lookup,MATCH($H$6,BuildingSize,0)+1,FALSE),IF(IFERROR(SEARCH(\"Oil\",$H$5),0)>0,VLOOKUP(\"Oil\",HVACg_Lookup,MATCH($H$6,BuildingSize,0)+1,FALSE),IF(IFERROR(SEARCH(\"Propane\",$H$5),0)>0,VLOOKUP(\"Propane\",HVACg_Lookup,MATCH(Worksheet!$H$6,BuildingSize,0)+1,FALSE),0)))","v":0},{"$f":"X195/1000*Y195*AA195*IF(IFERROR(SEARCH(\"Gas\",$H$5),0)>0,VLOOKUP(\"Gas\",HVACg_Lookup,MATCH($H$6,BuildingSize,0)+1,FALSE),IF(IFERROR(SEARCH(\"Oil\",$H$5),0)>0,VLOOKUP(\"Oil\",HVACg_Lookup,MATCH($H$6,BuildingSize,0)+1,FALSE),IF(IFERROR(SEARCH(\"Propane\",$H$5),0)>0,VLOOKUP(\"Propane\",HVACg_Lookup,MATCH(Worksheet!$H$6,BuildingSize,0)+1,FALSE),0)))","v":0},0,0,{"$f":"IF(OR($B$4=\"\",$B$5=\"\",$H$4=\"\",$H$6=\"\",$H$5=\"\",A195=\"\",F195=\"\",J195=\"\",O195=\"\",P195=\"\")=TRUE,\"\",IF(C195=\"OSW\",IF(J195>=2,1,0),IF(C195=\"OSR\",IF(AND(J195>=2,P195>60)=TRUE,1,0),IF(C195=\"OSRH\",IF(AND(J195>=1,P195>90)=TRUE,1,0),IF(C195=\"OHLC\",IF(AND(N195=\"Y\",P195>60)=TRUE,1,0),IF(C195=\"DDC\",IF(AND(J195>=4,N195=\"Y\",P195>120)=TRUE,1,0),0))))))","v":""},{"$f":"IF(OR($B$4=\"\",$B$5=\"\",$H$4=\"\",$H$6=\"\",$H$5=\"\",A195=\"\",F195=\"\",K195=\"\",O195=\"\",P195=\"\")=TRUE,\"\",IF(C195=\"OSW\",IF(K195>=2,1,0),IF(C195=\"OSR\",IF(AND(K195>=2,Q195>60)=TRUE,1,0),IF(C195=\"OSRH\",IF(AND(K195>=1,Q195>90)=TRUE,1,0),IF(C195=\"OHLC\",IF(AND(N195=\"Y\",Q195>60)=TRUE,1,0),IF(C195=\"DDC\",IF(AND(K195>=4,N195=\"Y\",Q195>120)=TRUE,1,0),0))))))","v":""}]
[null,null,"",null,null,null,null,null,null,null,null,null,null,null,null,0,0,0,0,"",0,0,0,0,0,{"$f":"IF($H$4=\"\",0,VLOOKUP($H$4,BuildingType_Lookup,3,FALSE))","v":0},{"$f":"IF($H$4=\"\",0,VLOOKUP($H$4,BuildingType_Lookup,2,FALSE))","v":0},{"$f":"IF(AND(OR(AN196=\"\",AN196=0)=TRUE,OR(AO196=\"\",AO196=0))=TRUE,0,IF(AO196=\"\",(IF(OR(C196=\"DDC\",C196=\"OHLC\")=TRUE,O196,P196)/1000)*Y196*Z196*(1+VLOOKUP($H$4,BuildingType_Lookup,4,FALSE)),IF(AO196=0,0,(IF(OR(C196=\"DDC\",C196=\"OHLC\")=TRUE,O196,Q196)/1000)*Y196*Z196*(1+VLOOKUP($H$4,BuildingType_Lookup,4,FALSE)))))","v":0},{"$f":"IF(AND(OR(AN196=\"\",AN196=0)=TRUE,OR(AO196=\"\",AO196=0))=TRUE,0,IF(AO196=\"\",(IF(OR(C196=\"DDC\",C196=\"OHLC\")=TRUE,O196,P196)/1000)*Y196*AA196*(1+VLOOKUP($H$4,BuildingType_Lookup,MATCH($H$5,HVAC,0)+4,FALSE)),IF(AO196=0,0,(IF(OR(C196=\"DDC\",C196=\"OHLC\")=TRUE,O196,Q196)/1000)*Y196*AA196*(1+VLOOKUP($H$4,BuildingType_Lookup,MATCH($H$5,HVAC,0)+4,FALSE)))))","v":0},0,0,0,0,0,0,{"$f":"W196/1000*Y196*AA196*IF(IFERROR(SEARCH(\"Gas\",$H$5),0)>0,VLOOKUP(\"Gas\",HVACg_Lookup,MATCH($H$6,BuildingSize,0)+1,FALSE),IF(IFERROR(SEARCH(\"Oil\",$H$5),0)>0,VLOOKUP(\"Oil\",HVACg_Lookup,MATCH($H$6,BuildingSize,0)+1,FALSE),IF(IFERROR(SEARCH(\"Propane\",$H$5),0)>0,VLOOKUP(\"Propane\",HVACg_Lookup,MATCH(Worksheet!$H$6,BuildingSize,0)+1,FALSE),0)))","v":0},{"$f":"X196/1000*Y196*AA196*IF(IFERROR(SEARCH(\"Gas\",$H$5),0)>0,VLOOKUP(\"Gas\",HVACg_Lookup,MATCH($H$6,BuildingSize,0)+1,FALSE),IF(IFERROR(SEARCH(\"Oil\",$H$5),0)>0,VLOOKUP(\"Oil\",HVACg_Lookup,MATCH($H$6,BuildingSize,0)+1,FALSE),IF(IFERROR(SEARCH(\"Propane\",$H$5),0)>0,VLOOKUP(\"Propane\",HVACg_Lookup,MATCH(Worksheet!$H$6,BuildingSize,0)+1,FALSE),0)))","v":0},0,0,{"$f":"IF(OR($B$4=\"\",$B$5=\"\",$H$4=\"\",$H$6=\"\",$H$5=\"\",A196=\"\",F196=\"\",J196=\"\",O196=\"\",P196=\"\")=TRUE,\"\",IF(C196=\"OSW\",IF(J196>=2,1,0),IF(C196=\"OSR\",IF(AND(J196>=2,P196>60)=TRUE,1,0),IF(C196=\"OSRH\",IF(AND(J196>=1,P196>90)=TRUE,1,0),IF(C196=\"OHLC\",IF(AND(N196=\"Y\",P196>60)=TRUE,1,0),IF(C196=\"DDC\",IF(AND(J196>=4,N196=\"Y\",P196>120)=TRUE,1,0),0))))))","v":""},{"$f":"IF(OR($B$4=\"\",$B$5=\"\",$H$4=\"\",$H$6=\"\",$H$5=\"\",A196=\"\",F196=\"\",K196=\"\",O196=\"\",P196=\"\")=TRUE,\"\",IF(C196=\"OSW\",IF(K196>=2,1,0),IF(C196=\"OSR\",IF(AND(K196>=2,Q196>60)=TRUE,1,0),IF(C196=\"OSRH\",IF(AND(K196>=1,Q196>90)=TRUE,1,0),IF(C196=\"OHLC\",IF(AND(N196=\"Y\",Q196>60)=TRUE,1,0),IF(C196=\"DDC\",IF(AND(K196>=4,N196=\"Y\",Q196>120)=TRUE,1,0),0))))))","v":""}]
[null,null,"",null,null,null,null,null,null,null,null,null,null,null,null,0,0,0,0,"",0,0,0,0,0,{"$f":"IF($H$4=\"\",0,VLOOKUP($H$4,BuildingType_Lookup,3,FALSE))","v":0},{"$f":"IF($H$4=\"\",0,VLOOKUP($H$4,BuildingType_Lookup,2,FALSE))","v":0},{"$f":"IF(AND(OR(AN197=\"\",AN197=0)=TRUE,OR(AO197=\"\",AO197=0))=TRUE,0,IF(AO197=\"\",(IF(OR(C197=\"DDC\",C197=\"OHLC\")=TRUE,O197,P197)/1000)*Y197*Z197*(1+VLOOKUP($H$4,BuildingType_Lookup,4,FALSE)),IF(AO197=0,0,(IF(OR(C197=\"DDC\",C197=\"OHLC\")=TRUE,O197,Q197)/1000)*Y197*Z197*(1+VLOOKUP($H$4,BuildingType_Lookup,4,FALSE)))))","v":0},{"$f":"IF(AND(OR(AN197=\"\",AN197=0)=TRUE,OR(AO197=\"\",AO197=0))=TRUE,0,IF(AO197=\"\",(IF(OR(C197=\"DDC\",C197=\"OHLC\")=TRUE,O197,P197)/1000)*Y197*AA197*(1+VLOOKUP($H$4,BuildingType_Lookup,MATCH($H$5,HVAC,0)+4,FALSE)),IF(AO197=0,0,(IF(OR(C197=\"DDC\",C197=\"OHLC\")=TRUE,O197,Q197)/1000)*Y197*AA197*(1+VLOOKUP($H$4,BuildingType_Lookup,MATCH($H$5,HVAC,0)+4,FALSE)))))","v":0},0,0,0,0,0,0,{"$f":"W197/1000*Y197*AA197*IF(IFERROR(SEARCH(\"Gas\",$H$5),0)>0,VLOOKUP(\"Gas\",HVACg_Lookup,MATCH($H$6,BuildingSize,0)+1,FALSE),IF(IFERROR(SEARCH(\"Oil\",$H$5),0)>0,VLOOKUP(\"Oil\",HVACg_Lookup,MATCH($H$6,BuildingSize,0)+1,FALSE),IF(IFERROR(SEARCH(\"Propane\",$H$5),0)>0,VLOOKUP(\"Propane\",HVACg_Lookup,MATCH(Worksheet!$H$6,BuildingSize,0)+1,FALSE),0)))","v":0},{"$f":"X197/1000*Y197*AA197*IF(IFERROR(SEARCH(\"Gas\",$H$5),0)>0,VLOOKUP(\"Gas\",HVACg_Lookup,MATCH($H$6,BuildingSize,0)+1,FALSE),IF(IFERROR(SEARCH(\"Oil\",$H$5),0)>0,VLOOKUP(\"Oil\",HVACg_Lookup,MATCH($H$6,BuildingSize,0)+1,FALSE),IF(IFERROR(SEARCH(\"Propane\",$H$5),0)>0,VLOOKUP(\"Propane\",HVACg_Lookup,MATCH(Worksheet!$H$6,BuildingSize,0)+1,FALSE),0)))","v":0},0,0,{"$f":"IF(OR($B$4=\"\",$B$5=\"\",$H$4=\"\",$H$6=\"\",$H$5=\"\",A197=\"\",F197=\"\",J197=\"\",O197=\"\",P197=\"\")=TRUE,\"\",IF(C197=\"OSW\",IF(J197>=2,1,0),IF(C197=\"OSR\",IF(AND(J197>=2,P197>60)=TRUE,1,0),IF(C197=\"OSRH\",IF(AND(J197>=1,P197>90)=TRUE,1,0),IF(C197=\"OHLC\",IF(AND(N197=\"Y\",P197>60)=TRUE,1,0),IF(C197=\"DDC\",IF(AND(J197>=4,N197=\"Y\",P197>120)=TRUE,1,0),0))))))","v":""},{"$f":"IF(OR($B$4=\"\",$B$5=\"\",$H$4=\"\",$H$6=\"\",$H$5=\"\",A197=\"\",F197=\"\",K197=\"\",O197=\"\",P197=\"\")=TRUE,\"\",IF(C197=\"OSW\",IF(K197>=2,1,0),IF(C197=\"OSR\",IF(AND(K197>=2,Q197>60)=TRUE,1,0),IF(C197=\"OSRH\",IF(AND(K197>=1,Q197>90)=TRUE,1,0),IF(C197=\"OHLC\",IF(AND(N197=\"Y\",Q197>60)=TRUE,1,0),IF(C197=\"DDC\",IF(AND(K197>=4,N197=\"Y\",Q197>120)=TRUE,1,0),0))))))","v":""}]
[null,null,"",null,null,null,null,null,null,null,null,null,null,null,null,0,0,0,0,"",0,0,0,0,0,{"$f":"IF($H$4=\"\",0,VLOOKUP($H$4,BuildingType_Lookup,3,FALSE))","v":0},{"$f":"IF($H$4=\"\",0,VLOOKUP($H$4,BuildingType_Lookup,2,FALSE))","v":0},{"$f":"IF(AND(OR(AN198=\"\",AN198=0)=TRUE,OR(AO198=\"\",AO198=0))=TRUE,0,IF(AO198=\"\",(IF(OR(C198=\"DDC\",C198=\"OHLC\")=TRUE,O198,P198)/1000)*Y198*Z198*(1+VLOOKUP($H$4,BuildingType_Lookup,4,FALSE)),IF(AO198=0,0,(IF(OR(C198=\"DDC\",C198=\"OHLC\")=TRUE,O198,Q198)/1000)*Y198*Z198*(1+VLOOKUP($H$4,BuildingType_Lookup,4,FALSE)))))","v":0},{"$f":"IF(AND(OR(AN198=\"\",AN198=0)=TRUE,OR(AO198=\"\",AO198=0))=TRUE,0,IF(AO198=\"\",(IF(OR(C198=\"DDC\",C198=\"OHLC\")=TRUE,O198,P198)/1000)*Y198*AA198*(1+VLOOKUP($H$4,BuildingType_Lookup,MATCH($H$5,HVAC,0)+4,FALSE)),IF(AO198=0,0,(IF(OR(C198=\"DDC\",C198=\"OHLC\")=TRUE,O198,Q198)/1000)*Y198*AA198*(1+VLOOKUP($H$4,BuildingType_Lookup,MATCH($H$5,HVAC,0)+4,FALSE)))))","v":0},0,0,0,0,0,0,{"$f":"W198/1000*Y198*AA198*IF(IFERROR(SEARCH(\"Gas\",$H$5),0)>0,VLOOKUP(\"Gas\",HVACg_Lookup,MATCH($H$6,BuildingSize,0)+1,FALSE),IF(IFERROR(SEARCH(\"Oil\",$H$5),0)>0,VLOOKUP(\"Oil\",HVACg_Lookup,MATCH($H$6,BuildingSize,0)+1,FALSE),IF(IFERROR(SEARCH(\"Propane\",$H$5),0)>0,VLOOKUP(\"Propane\",HVACg_Lookup,MATCH(Worksheet!$H$6,BuildingSize,0)+1,FALSE),0)))","v":0},{"$f":"X198/1000*Y198*AA198*IF(IFERROR(SEARCH(\"Gas\",$H$5),0)>0,VLOOKUP(\"Gas\",HVACg_Lookup,MATCH($H$6,BuildingSize,0)+1,FALSE),IF(IFERROR(SEARCH(\"Oil\",$H$5),0)>0,VLOOKUP(\"Oil\",HVACg_Lookup,MATCH($H$6,BuildingSize,0)+1,FALSE),IF(IFERROR(SEARCH(\"Propane\",$H$5),0)>0,VLOOKUP(\"Propane\",HVACg_Lookup,MATCH(Worksheet!$H$6,BuildingSize,0)+1,FALSE),0)))","v":0},0,0,{"$f":"IF(OR($B$4=\"\",$B$5=\"\",$H$4=\"\",$H$6=\"\",$H$5=\"\",A198=\"\",F198=\"\",J198=\"\",O198=\"\",P198=\"\")=TRUE,\"\",IF(C198=\"OSW\",IF(J198>=2,1,0),IF(C198=\"OSR\",IF(AND(J198>=2,P198>60)=TRUE,1,0),IF(C198=\"OSRH\",IF(AND(J198>=1,P198>90)=TRUE,1,0),IF(C198=\"OHLC\",IF(AND(N198=\"Y\",P198>60)=TRUE,1,0),IF(C198=\"DDC\",IF(AND(J198>=4,N198=\"Y\",P198>120)=TRUE,1,0),0))))))","v":""},{"$f":"IF(OR($B$4=\"\",$B$5=\"\",$H$4=\"\",$H$6=\"\",$H$5=\"\",A198=\"\",F198=\"\",K198=\"\",O198=\"\",P198=\"\")=TRUE,\"\",IF(C198=\"OSW\",IF(K198>=2,1,0),IF(C198=\"OSR\",IF(AND(K198>=2,Q198>60)=TRUE,1,0),IF(C198=\"OSRH\",IF(AND(K198>=1,Q198>90)=TRUE,1,0),IF(C198=\"OHLC\",IF(AND(N198=\"Y\",Q198>60)=TRUE,1,0),IF(C198=\"DDC\",IF(AND(K198>=4,N198=\"Y\",Q198>120)=TRUE,1,0),0))))))","v":""}]
[null,null,"",null,null,null,null,null,null,null,null,null,null,null,null,0,0,0,0,"",0,0,0,0,0,{"$f":"IF($H$4=\"\",0,VLOOKUP($H$4,BuildingType_Lookup,3,FALSE))","v":0},{"$f":"IF($H$4=\"\",0,VLOOKUP($H$4,BuildingType_Lookup,2,FALSE))","v":0},{"$f":"IF(AND(OR(AN199=\"\",AN199=0)=TRUE,OR(AO199=\"\",AO199=0))=TRUE,0,IF(AO199=\"\",(IF(OR(C199=\"DDC\",C199=\"OHLC\")=TRUE,O199,P199)/1000)*Y199*Z199*(1+VLOOKUP($H$4,BuildingType_Lookup,4,FALSE)),IF(AO199=0,0,(IF(OR(C199=\"DDC\",C199=\"OHLC\")=TRUE,O199,Q199)/1000)*Y199*Z199*(1+VLOOKUP($H$4,BuildingType_Lookup,4,FALSE)))))","v":0},{"$f":"IF(AND(OR(AN199=\"\",AN199=0)=TRUE,OR(AO199=\"\",AO199=0))=TRUE,0,IF(AO199=\"\",(IF(OR(C199=\"DDC\",C199=\"OHLC\")=TRUE,O199,P199)/1000)*Y199*AA199*(1+VLOOKUP($H$4,BuildingType_Lookup,MATCH($H$5,HVAC,0)+4,FALSE)),IF(AO199=0,0,(IF(OR(C199=\"DDC\",C199=\"OHLC\")=TRUE,O199,Q199)/1000)*Y199*AA199*(1+VLOOKUP($H$4,BuildingType_Lookup,MATCH($H$5,HVAC,0)+4,FALSE)))))","v":0},0,0,0,0,0,0,{"$f":"W199/1000*Y199*AA199*IF(IFERROR(SEARCH(\"Gas\",$H$5),0)>0,VLOOKUP(\"Gas\",HVACg_Lookup,MATCH($H$6,BuildingSize,0)+1,FALSE),IF(IFERROR(SEARCH(\"Oil\",$H$5),0)>0,VLOOKUP(\"Oil\",HVACg_Lookup,MATCH($H$6,BuildingSize,0)+1,FALSE),IF(IFERROR(SEARCH(\"Propane\",$H$5),0)>0,VLOOKUP(\"Propane\",HVACg_Lookup,MATCH(Worksheet!$H$6,BuildingSize,0)+1,FALSE),0)))","v":0},{"$f":"X199/1000*Y199*AA199*IF(IFERROR(SEARCH(\"Gas\",$H$5),0)>0,VLOOKUP(\"Gas\",HVACg_Lookup,MATCH($H$6,BuildingSize,0)+1,FALSE),IF(IFERROR(SEARCH(\"Oil\",$H$5),0)>0,VLOOKUP(\"Oil\",HVACg_Lookup,MATCH($H$6,BuildingSize,0)+1,FALSE),IF(IFERROR(SEARCH(\"Propane\",$H$5),0)>0,VLOOKUP(\"Propane\",HVACg_Lookup,MATCH(Worksheet!$H$6,BuildingSize,0)+1,FALSE),0)))","v":0},0,0,{"$f":"IF(OR($B$4=\"\",$B$5=\"\",$H$4=\"\",$H$6=\"\",$H$5=\"\",A199=\"\",F199=\"\",J199=\"\",O199=\"\",P199=\"\")=TRUE,\"\",IF(C199=\"OSW\",IF(J199>=2,1,0),IF(C199=\"OSR\",IF(AND(J199>=2,P199>60)=TRUE,1,0),IF(C199=\"OSRH\",IF(AND(J199>=1,P199>90)=TRUE,1,0),IF(C199=\"OHLC\",IF(AND(N199=\"Y\",P199>60)=TRUE,1,0),IF(C199=\"DDC\",IF(AND(J199>=4,N199=\"Y\",P199>120)=TRUE,1,0),0))))))","v":""},{"$f":"IF(OR($B$4=\"\",$B$5=\"\",$H$4=\"\",$H$6=\"\",$H$5=\"\",A199=\"\",F199=\"\",K199=\"\",O199=\"\",P199=\"\")=TRUE,\"\",IF(C199=\"OSW\",IF(K199>=2,1,0),IF(C199=\"OSR\",IF(AND(K199>=2,Q199>60)=TRUE,1,0),IF(C199=\"OSRH\",IF(AND(K199>=1,Q199>90)=TRUE,1,0),IF(C199=\"OHLC\",IF(AND(N199=\"Y\",Q199>60)=TRUE,1,0),IF(C199=\"DDC\",IF(AND(K199>=4,N199=\"Y\",Q199>120)=TRUE,1,0),0))))))","v":""}]
[null,null,"",null,null,null,null,null,null,null,null,null,null,null,null,0,0,0,0,"",0,0,0,0,0,{"$f":"IF($H$4=\"\",0,VLOOKUP($H$4,BuildingType_Lookup,3,FALSE))","v":0},{"$f":"IF($H$4=\"\",0,VLOOKUP($H$4,BuildingType_Lookup,2,FALSE))","v":0},{"$f":"IF(AND(OR(AN200=\"\",AN200=0)=TRUE,OR(AO200=\"\",AO200=0))=TRUE,0,IF(AO200=\"\",(IF(OR(C200=\"DDC\",C200=\"OHLC\")=TRUE,O200,P200)/1000)*Y200*Z200*(1+VLOOKUP($H$4,BuildingType_Lookup,4,FALSE)),IF(AO200=0,0,(IF(OR(C200=\"DDC\",C200=\"OHLC\")=TRUE,O200,Q200)/1000)*Y200*Z200*(1+VLOOKUP($H$4,BuildingType_Lookup,4,FALSE)))))","v":0},{"$f":"IF(AND(OR(AN200=\"\",AN200=0)=TRUE,OR(AO200=\"\",AO200=0))=TRUE,0,IF(AO200=\"\",(IF(OR(C200=\"DDC\",C200=\"OHLC\")=TRUE,O200,P200)/1000)*Y200*AA200*(1+VLOOKUP($H$4,BuildingType_Lookup,MATCH($H$5,HVAC,0)+4,FALSE)),IF(AO200=0,0,(IF(OR(C200=\"DDC\",C200=\"OHLC\")=TRUE,O200,Q200)/1000)*Y200*AA200*(1+VLOOKUP($H$4,BuildingType_Lookup,MATCH($H$5,HVAC,0)+4,FALSE)))))","v":0},0,0,0,0,0,0,{"$f":"W200/1000*Y200*AA200*IF(IFERROR(SEARCH(\"Gas\",$H$5),0)>0,VLOOKUP(\"Gas\",HVACg_Lookup,MATCH($H$6,BuildingSize,0)+1,FALSE),IF(IFERROR(SEARCH(\"Oil\",$H$5),0)>0,VLOOKUP(\"Oil\",HVACg_Lookup,MATCH($H$6,BuildingSize,0)+1,FALSE),IF(IFERROR(SEARCH(\"Propane\",$H$5),0)>0,VLOOKUP(\"Propane\",HVACg_Lookup,MATCH(Worksheet!$H$6,BuildingSize,0)+1,FALSE),0)))","v":0},{"$f":"X200/1000*Y200*AA200*IF(IFERROR(SEARCH(\"Gas\",$H$5),0)>0,VLOOKUP(\"Gas\",HVACg_Lookup,MATCH($H$6,BuildingSize,0)+1,FALSE),IF(IFERROR(SEARCH(\"Oil\",$H$5),0)>0,VLOOKUP(\"Oil\",HVACg_Lookup,MATCH($H$6,BuildingSize,0)+1,FALSE),IF(IFERROR(SEARCH(\"Propane\",$H$5),0)>0,VLOOKUP(\"Propane\",HVACg_Lookup,MATCH(Worksheet!$H$6,BuildingSize,0)+1,FALSE),0)))","v":0},0,0,{"$f":"IF(OR($B$4=\"\",$B$5=\"\",$H$4=\"\",$H$6=\"\",$H$5=\"\",A200=\"\",F200=\"\",J200=\"\",O200=\"\",P200=\"\")=TRUE,\"\",IF(C200=\"OSW\",IF(J200>=2,1,0),IF(C200=\"OSR\",IF(AND(J200>=2,P200>60)=TRUE,1,0),IF(C200=\"OSRH\",IF(AND(J200>=1,P200>90)=TRUE,1,0),IF(C200=\"OHLC\",IF(AND(N200=\"Y\",P200>60)=TRUE,1,0),IF(C200=\"DDC\",IF(AND(J200>=4,N200=\"Y\",P200>120)=TRUE,1,0),0))))))","v":""},{"$f":"IF(OR($B$4=\"\",$B$5=\"\",$H$4=\"\",$H$6=\"\",$H$5=\"\",A200=\"\",F200=\"\",K200=\"\",O200=\"\",P200=\"\")=TRUE,\"\",IF(C200=\"OSW\",IF(K200>=2,1,0),IF(C200=\"OSR\",IF(AND(K200>=2,Q200>60)=TRUE,1,0),IF(C200=\"OSRH\",IF(AND(K200>=1,Q200>90)=TRUE,1,0),IF(C200=\"OHLC\",IF(AND(N200=\"Y\",Q200>60)=TRUE,1,0),IF(C200=\"DDC\",IF(AND(K200>=4,N200=\"Y\",Q200>120)=TRUE,1,0),0))))))","v":""}]
[null,null,"",null,null,null,null,null,null,null,null,null,null,null,null,0,0,0,0,"",0,0,0,0,0,{"$f":"IF($H$4=\"\",0,VLOOKUP($H$4,BuildingType_Lookup,3,FALSE))","v":0},{"$f":"IF($H$4=\"\",0,VLOOKUP($H$4,BuildingType_Lookup,2,FALSE))","v":0},{"$f":"IF(AND(OR(AN201=\"\",AN201=0)=TRUE,OR(AO201=\"\",AO201=0))=TRUE,0,IF(AO201=\"\",(IF(OR(C201=\"DDC\",C201=\"OHLC\")=TRUE,O201,P201)/1000)*Y201*Z201*(1+VLOOKUP($H$4,BuildingType_Lookup,4,FALSE)),IF(AO201=0,0,(IF(OR(C201=\"DDC\",C201=\"OHLC\")=TRUE,O201,Q201)/1000)*Y201*Z201*(1+VLOOKUP($H$4,BuildingType_Lookup,4,FALSE)))))","v":0},{"$f":"IF(AND(OR(AN201=\"\",AN201=0)=TRUE,OR(AO201=\"\",AO201=0))=TRUE,0,IF(AO201=\"\",(IF(OR(C201=\"DDC\",C201=\"OHLC\")=TRUE,O201,P201)/1000)*Y201*AA201*(1+VLOOKUP($H$4,BuildingType_Lookup,MATCH($H$5,HVAC,0)+4,FALSE)),IF(AO201=0,0,(IF(OR(C201=\"DDC\",C201=\"OHLC\")=TRUE,O201,Q201)/1000)*Y201*AA201*(1+VLOOKUP($H$4,BuildingType_Lookup,MATCH($H$5,HVAC,0)+4,FALSE)))))","v":0},0,0,0,0,0,0,{"$f":"W201/1000*Y201*AA201*IF(IFERROR(SEARCH(\"Gas\",$H$5),0)>0,VLOOKUP(\"Gas\",HVACg_Lookup,MATCH($H$6,BuildingSize,0)+1,FALSE),IF(IFERROR(SEARCH(\"Oil\",$H$5),0)>0,VLOOKUP(\"Oil\",HVACg_Lookup,MATCH($H$6,BuildingSize,0)+1,FALSE),IF(IFERROR(SEARCH(\"Propane\",$H$5),0)>0,VLOOKUP(\"Propane\",HVACg_Lookup,MATCH(Worksheet!$H$6,BuildingSize,0)+1,FALSE),0)))","v":0},{"$f":"X201/1000*Y201*AA201*IF(IFERROR(SEARCH(\"Gas\",$H$5),0)>0,VLOOKUP(\"Gas\",HVACg_Lookup,MATCH($H$6,BuildingSize,0)+1,FALSE),IF(IFERROR(SEARCH(\"Oil\",$H$5),0)>0,VLOOKUP(\"Oil\",HVACg_Lookup,MATCH($H$6,BuildingSize,0)+1,FALSE),IF(IFERROR(SEARCH(\"Propane\",$H$5),0)>0,VLOOKUP(\"Propane\",HVACg_Lookup,MATCH(Worksheet!$H$6,BuildingSize,0)+1,FALSE),0)))","v":0},0,0,{"$f":"IF(OR($B$4=\"\",$B$5=\"\",$H$4=\"\",$H$6=\"\",$H$5=\"\",A201=\"\",F201=\"\",J201=\"\",O201=\"\",P201=\"\")=TRUE,\"\",IF(C201=\"OSW\",IF(J201>=2,1,0),IF(C201=\"OSR\",IF(AND(J201>=2,P201>60)=TRUE,1,0),IF(C201=\"OSRH\",IF(AND(J201>=1,P201>90)=TRUE,1,0),IF(C201=\"OHLC\",IF(AND(N201=\"Y\",P201>60)=TRUE,1,0),IF(C201=\"DDC\",IF(AND(J201>=4,N201=\"Y\",P201>120)=TRUE,1,0),0))))))","v":""},{"$f":"IF(OR($B$4=\"\",$B$5=\"\",$H$4=\"\",$H$6=\"\",$H$5=\"\",A201=\"\",F201=\"\",K201=\"\",O201=\"\",P201=\"\")=TRUE,\"\",IF(C201=\"OSW\",IF(K201>=2,1,0),IF(C201=\"OSR\",IF(AND(K201>=2,Q201>60)=TRUE,1,0),IF(C201=\"OSRH\",IF(AND(K201>=1,Q201>90)=TRUE,1,0),IF(C201=\"OHLC\",IF(AND(N201=\"Y\",Q201>60)=TRUE,1,0),IF(C201=\"DDC\",IF(AND(K201>=4,N201=\"Y\",Q201>120)=TRUE,1,0),0))))))","v":""}]
[null,null,"",null,null,null,null,null,null,null,null,null,null,null,null,0,0,0,0,"",0,0,0,0,0,{"$f":"IF($H$4=\"\",0,VLOOKUP($H$4,BuildingType_Lookup,3,FALSE))","v":0},{"$f":"IF($H$4=\"\",0,VLOOKUP($H$4,BuildingType_Lookup,2,FALSE))","v":0},{"$f":"IF(AND(OR(AN202=\"\",AN202=0)=TRUE,OR(AO202=\"\",AO202=0))=TRUE,0,IF(AO202=\"\",(IF(OR(C202=\"DDC\",C202=\"OHLC\")=TRUE,O202,P202)/1000)*Y202*Z202*(1+VLOOKUP($H$4,BuildingType_Lookup,4,FALSE)),IF(AO202=0,0,(IF(OR(C202=\"DDC\",C202=\"OHLC\")=TRUE,O202,Q202)/1000)*Y202*Z202*(1+VLOOKUP($H$4,BuildingType_Lookup,4,FALSE)))))","v":0},{"$f":"IF(AND(OR(AN202=\"\",AN202=0)=TRUE,OR(AO202=\"\",AO202=0))=TRUE,0,IF(AO202=\"\",(IF(OR(C202=\"DDC\",C202=\"OHLC\")=TRUE,O202,P202)/1000)*Y202*AA202*(1+VLOOKUP($H$4,BuildingType_Lookup,MATCH($H$5,HVAC,0)+4,FALSE)),IF(AO202=0,0,(IF(OR(C202=\"DDC\",C202=\"OHLC\")=TRUE,O202,Q202)/1000)*Y202*AA202*(1+VLOOKUP($H$4,BuildingType_Lookup,MATCH($H$5,HVAC,0)+4,FALSE)))))","v":0},0,0,0,0,0,0,{"$f":"W202/1000*Y202*AA202*IF(IFERROR(SEARCH(\"Gas\",$H$5),0)>0,VLOOKUP(\"Gas\",HVACg_Lookup,MATCH($H$6,BuildingSize,0)+1,FALSE),IF(IFERROR(SEARCH(\"Oil\",$H$5),0)>0,VLOOKUP(\"Oil\",HVACg_Lookup,MATCH($H$6,BuildingSize,0)+1,FALSE),IF(IFERROR(SEARCH(\"Propane\",$H$5),0)>0,VLOOKUP(\"Propane\",HVACg_Lookup,MATCH(Worksheet!$H$6,BuildingSize,0)+1,FALSE),0)))","v":0},{"$f":"X202/1000*Y202*AA202*IF(IFERROR(SEARCH(\"Gas\",$H$5),0)>0,VLOOKUP(\"Gas\",HVACg_Lookup,MATCH($H$6,BuildingSize,0)+1,FALSE),IF(IFERROR(SEARCH(\"Oil\",$H$5),0)>0,VLOOKUP(\"Oil\",HVACg_Lookup,MATCH($H$6,BuildingSize,0)+1,FALSE),IF(IFERROR(SEARCH(\"Propane\",$H$5),0)>0,VLOOKUP(\"Propane\",HVACg_Lookup,MATCH(Worksheet!$H$6,BuildingSize,0)+1,FALSE),0)))","v":0},0,0,{"$f":"IF(OR($B$4=\"\",$B$5=\"\",$H$4=\"\",$H$6=\"\",$H$5=\"\",A202=\"\",F202=\"\",J202=\"\",O202=\"\",P202=\"\")=TRUE,\"\",IF(C202=\"OSW\",IF(J202>=2,1,0),IF(C202=\"OSR\",IF(AND(J202>=2,P202>60)=TRUE,1,0),IF(C202=\"OSRH\",IF(AND(J202>=1,P202>90)=TRUE,1,0),IF(C202=\"OHLC\",IF(AND(N202=\"Y\",P202>60)=TRUE,1,0),IF(C202=\"DDC\",IF(AND(J202>=4,N202=\"Y\",P202>120)=TRUE,1,0),0))))))","v":""},{"$f":"IF(OR($B$4=\"\",$B$5=\"\",$H$4=\"\",$H$6=\"\",$H$5=\"\",A202=\"\",F202=\"\",K202=\"\",O202=\"\",P202=\"\")=TRUE,\"\",IF(C202=\"OSW\",IF(K202>=2,1,0),IF(C202=\"OSR\",IF(AND(K202>=2,Q202>60)=TRUE,1,0),IF(C202=\"OSRH\",IF(AND(K202>=1,Q202>90)=TRUE,1,0),IF(C202=\"OHLC\",IF(AND(N202=\"Y\",Q202>60)=TRUE,1,0),IF(C202=\"DDC\",IF(AND(K202>=4,N202=\"Y\",Q202>120)=TRUE,1,0),0))))))","v":""}]
[null,null,"",null,null,null,null,null,null,null,null,null,null,null,null,0,0,0,0,"",0,0,0,0,0,{"$f":"IF($H$4=\"\",0,VLOOKUP($H$4,BuildingType_Lookup,3,FALSE))","v":0},{"$f":"IF($H$4=\"\",0,VLOOKUP($H$4,BuildingType_Lookup,2,FALSE))","v":0},{"$f":"IF(AND(OR(AN203=\"\",AN203=0)=TRUE,OR(AO203=\"\",AO203=0))=TRUE,0,IF(AO203=\"\",(IF(OR(C203=\"DDC\",C203=\"OHLC\")=TRUE,O203,P203)/1000)*Y203*Z203*(1+VLOOKUP($H$4,BuildingType_Lookup,4,FALSE)),IF(AO203=0,0,(IF(OR(C203=\"DDC\",C203=\"OHLC\")=TRUE,O203,Q203)/1000)*Y203*Z203*(1+VLOOKUP($H$4,BuildingType_Lookup,4,FALSE)))))","v":0},{"$f":"IF(AND(OR(AN203=\"\",AN203=0)=TRUE,OR(AO203=\"\",AO203=0))=TRUE,0,IF(AO203=\"\",(IF(OR(C203=\"DDC\",C203=\"OHLC\")=TRUE,O203,P203)/1000)*Y203*AA203*(1+VLOOKUP($H$4,BuildingType_Lookup,MATCH($H$5,HVAC,0)+4,FALSE)),IF(AO203=0,0,(IF(OR(C203=\"DDC\",C203=\"OHLC\")=TRUE,O203,Q203)/1000)*Y203*AA203*(1+VLOOKUP($H$4,BuildingType_Lookup,MATCH($H$5,HVAC,0)+4,FALSE)))))","v":0},0,0,0,0,0,0,{"$f":"W203/1000*Y203*AA203*IF(IFERROR(SEARCH(\"Gas\",$H$5),0)>0,VLOOKUP(\"Gas\",HVACg_Lookup,MATCH($H$6,BuildingSize,0)+1,FALSE),IF(IFERROR(SEARCH(\"Oil\",$H$5),0)>0,VLOOKUP(\"Oil\",HVACg_Lookup,MATCH($H$6,BuildingSize,0)+1,FALSE),IF(IFERROR(SEARCH(\"Propane\",$H$5),0)>0,VLOOKUP(\"Propane\",HVACg_Lookup,MATCH(Worksheet!$H$6,BuildingSize,0)+1,FALSE),0)))","v":0},{"$f":"X203/1000*Y203*AA203*IF(IFERROR(SEARCH(\"Gas\",$H$5),0)>0,VLOOKUP(\"Gas\",HVACg_Lookup,MATCH($H$6,BuildingSize,0)+1,FALSE),IF(IFERROR(SEARCH(\"Oil\",$H$5),0)>0,VLOOKUP(\"Oil\",HVACg_Lookup,MATCH($H$6,BuildingSize,0)+1,FALSE),IF(IFERROR(SEARCH(\"Propane\",$H$5),0)>0,VLOOKUP(\"Propane\",HVACg_Lookup,MATCH(Worksheet!$H$6,BuildingSize,0)+1,FALSE),0)))","v":0},0,0,{"$f":"IF(OR($B$4=\"\",$B$5=\"\",$H$4=\"\",$H$6=\"\",$H$5=\"\",A203=\"\",F203=\"\",J203=\"\",O203=\"\",P203=\"\")=TRUE,\"\",IF(C203=\"OSW\",IF(J203>=2,1,0),IF(C203=\"OSR\",IF(AND(J203>=2,P203>60)=TRUE,1,0),IF(C203=\"OSRH\",IF(AND(J203>=1,P203>90)=TRUE,1,0),IF(C203=\"OHLC\",IF(AND(N203=\"Y\",P203>60)=TRUE,1,0),IF(C203=\"DDC\",IF(AND(J203>=4,N203=\"Y\",P203>120)=TRUE,1,0),0))))))","v":""},{"$f":"IF(OR($B$4=\"\",$B$5=\"\",$H$4=\"\",$H$6=\"\",$H$5=\"\",A203=\"\",F203=\"\",K203=\"\",O203=\"\",P203=\"\")=TRUE,\"\",IF(C203=\"OSW\",IF(K203>=2,1,0),IF(C203=\"OSR\",IF(AND(K203>=2,Q203>60)=TRUE,1,0),IF(C203=\"OSRH\",IF(AND(K203>=1,Q203>90)=TRUE,1,0),IF(C203=\"OHLC\",IF(AND(N203=\"Y\",Q203>60)=TRUE,1,0),IF(C203=\"DDC\",IF(AND(K203>=4,N203=\"Y\",Q203>120)=TRUE,1,0),0))))))","v":""}]
[null,null,"",null,null,null,null,null,null,null,null,null,null,null,null,0,0,0,0,"",0,0,0,0,0,{"$f":"IF($H$4=\"\",0,VLOOKUP($H$4,BuildingType_Lookup,3,FALSE))","v":0},{"$f":"IF($H$4=\"\",0,VLOOKUP($H$4,BuildingType_Lookup,2,FALSE))","v":0},{"$f":"IF(AND(OR(AN204=\"\",AN204=0)=TRUE,OR(AO204=\"\",AO204=0))=TRUE,0,IF(AO204=\"\",(IF(OR(C204=\"DDC\",C204=\"OHLC\")=TRUE,O204,P204)/1000)*Y204*Z204*(1+VLOOKUP($H$4,BuildingType_Lookup,4,FALSE)),IF(AO204=0,0,(IF(OR(C204=\"DDC\",C204=\"OHLC\")=TRUE,O204,Q204)/1000)*Y204*Z204*(1+VLOOKUP($H$4,BuildingType_Lookup,4,FALSE)))))","v":0},{"$f":"IF(AND(OR(AN204=\"\",AN204=0)=TRUE,OR(AO204=\"\",AO204=0))=TRUE,0,IF(AO204=\"\",(IF(OR(C204=\"DDC\",C204=\"OHLC\")=TRUE,O204,P204)/1000)*Y204*AA204*(1+VLOOKUP($H$4,BuildingType_Lookup,MATCH($H$5,HVAC,0)+4,FALSE)),IF(AO204=0,0,(IF(OR(C204=\"DDC\",C204=\"OHLC\")=TRUE,O204,Q204)/1000)*Y204*AA204*(1+VLOOKUP($H$4,BuildingType_Lookup,MATCH($H$5,HVAC,0)+4,FALSE)))))","v":0},0,0,0,0,0,0,{"$f":"W204/1000*Y204*AA204*IF(IFERROR(SEARCH(\"Gas\",$H$5),0)>0,VLOOKUP(\"Gas\",HVACg_Lookup,MATCH($H$6,BuildingSize,0)+1,FALSE),IF(IFERROR(SEARCH(\"Oil\",$H$5),0)>0,VLOOKUP(\"Oil\",HVACg_Lookup,MATCH($H$6,BuildingSize,0)+1,FALSE),IF(IFERROR(SEARCH(\"Propane\",$H$5),0)>0,VLOOKUP(\"Propane\",HVACg_Lookup,MATCH(Worksheet!$H$6,BuildingSize,0)+1,FALSE),0)))","v":0},{"$f":"X204/1000*Y204*AA204*IF(IFERROR(SEARCH(\"Gas\",$H$5),0)>0,VLOOKUP(\"Gas\",HVACg_Lookup,MATCH($H$6,BuildingSize,0)+1,FALSE),IF(IFERROR(SEARCH(\"Oil\",$H$5),0)>0,VLOOKUP(\"Oil\",HVACg_Lookup,MATCH($H$6,BuildingSize,0)+1,FALSE),IF(IFERROR(SEARCH(\"Propane\",$H$5),0)>0,VLOOKUP(\"Propane\",HVACg_Lookup,MATCH(Worksheet!$H$6,BuildingSize,0)+1,FALSE),0)))","v":0},0,0,{"$f":"IF(OR($B$4=\"\",$B$5=\"\",$H$4=\"\",$H$6=\"\",$H$5=\"\",A204=\"\",F204=\"\",J204=\"\",O204=\"\",P204=\"\")=TRUE,\"\",IF(C204=\"OSW\",IF(J204>=2,1,0),IF(C204=\"OSR\",IF(AND(J204>=2,P204>60)=TRUE,1,0),IF(C204=\"OSRH\",IF(AND(J204>=1,P204>90)=TRUE,1,0),IF(C204=\"OHLC\",IF(AND(N204=\"Y\",P204>60)=TRUE,1,0),IF(C204=\"DDC\",IF(AND(J204>=4,N204=\"Y\",P204>120)=TRUE,1,0),0))))))","v":""},{"$f":"IF(OR($B$4=\"\",$B$5=\"\",$H$4=\"\",$H$6=\"\",$H$5=\"\",A204=\"\",F204=\"\",K204=\"\",O204=\"\",P204=\"\")=TRUE,\"\",IF(C204=\"OSW\",IF(K204>=2,1,0),IF(C204=\"OSR\",IF(AND(K204>=2,Q204>60)=TRUE,1,0),IF(C204=\"OSRH\",IF(AND(K204>=1,Q204>90)=TRUE,1,0),IF(C204=\"OHLC\",IF(AND(N204=\"Y\",Q204>60)=TRUE,1,0),IF(C204=\"DDC\",IF(AND(K204>=4,N204=\"Y\",Q204>120)=TRUE,1,0),0))))))","v":""}]
[null,null,"",null,null,null,null,null,null,null,null,null,null,null,null,0,0,0,0,"",0,0,0,0,0,{"$f":"IF($H$4=\"\",0,VLOOKUP($H$4,BuildingType_Lookup,3,FALSE))","v":0},{"$f":"IF($H$4=\"\",0,VLOOKUP($H$4,BuildingType_Lookup,2,FALSE))","v":0},{"$f":"IF(AND(OR(AN205=\"\",AN205=0)=TRUE,OR(AO205=\"\",AO205=0))=TRUE,0,IF(AO205=\"\",(IF(OR(C205=\"DDC\",C205=\"OHLC\")=TRUE,O205,P205)/1000)*Y205*Z205*(1+VLOOKUP($H$4,BuildingType_Lookup,4,FALSE)),IF(AO205=0,0,(IF(OR(C205=\"DDC\",C205=\"OHLC\")=TRUE,O205,Q205)/1000)*Y205*Z205*(1+VLOOKUP($H$4,BuildingType_Lookup,4,FALSE)))))","v":0},{"$f":"IF(AND(OR(AN205=\"\",AN205=0)=TRUE,OR(AO205=\"\",AO205=0))=TRUE,0,IF(AO205=\"\",(IF(OR(C205=\"DDC\",C205=\"OHLC\")=TRUE,O205,P205)/1000)*Y205*AA205*(1+VLOOKUP($H$4,BuildingType_Lookup,MATCH($H$5,HVAC,0)+4,FALSE)),IF(AO205=0,0,(IF(OR(C205=\"DDC\",C205=\"OHLC\")=TRUE,O205,Q205)/1000)*Y205*AA205*(1+VLOOKUP($H$4,BuildingType_Lookup,MATCH($H$5,HVAC,0)+4,FALSE)))))","v":0},0,0,0,0,0,0,{"$f":"W205/1000*Y205*AA205*IF(IFERROR(SEARCH(\"Gas\",$H$5),0)>0,VLOOKUP(\"Gas\",HVACg_Lookup,MATCH($H$6,BuildingSize,0)+1,FALSE),IF(IFERROR(SEARCH(\"Oil\",$H$5),0)>0,VLOOKUP(\"Oil\",HVACg_Lookup,MATCH($H$6,BuildingSize,0)+1,FALSE),IF(IFERROR(SEARCH(\"Propane\",$H$5),0)>0,VLOOKUP(\"Propane\",HVACg_Lookup,MATCH(Worksheet!$H$6,BuildingSize,0)+1,FALSE),0)))","v":0},{"$f":"X205/1000*Y205*AA205*IF(IFERROR(SEARCH(\"Gas\",$H$5),0)>0,VLOOKUP(\"Gas\",HVACg_Lookup,MATCH($H$6,BuildingSize,0)+1,FALSE),IF(IFERROR(SEARCH(\"Oil\",$H$5),0)>0,VLOOKUP(\"Oil\",HVACg_Lookup,MATCH($H$6,BuildingSize,0)+1,FALSE),IF(IFERROR(SEARCH(\"Propane\",$H$5),0)>0,VLOOKUP(\"Propane\",HVACg_Lookup,MATCH(Worksheet!$H$6,BuildingSize,0)+1,FALSE),0)))","v":0},0,0,{"$f":"IF(OR($B$4=\"\",$B$5=\"\",$H$4=\"\",$H$6=\"\",$H$5=\"\",A205=\"\",F205=\"\",J205=\"\",O205=\"\",P205=\"\")=TRUE,\"\",IF(C205=\"OSW\",IF(J205>=2,1,0),IF(C205=\"OSR\",IF(AND(J205>=2,P205>60)=TRUE,1,0),IF(C205=\"OSRH\",IF(AND(J205>=1,P205>90)=TRUE,1,0),IF(C205=\"OHLC\",IF(AND(N205=\"Y\",P205>60)=TRUE,1,0),IF(C205=\"DDC\",IF(AND(J205>=4,N205=\"Y\",P205>120)=TRUE,1,0),0))))))","v":""},{"$f":"IF(OR($B$4=\"\",$B$5=\"\",$H$4=\"\",$H$6=\"\",$H$5=\"\",A205=\"\",F205=\"\",K205=\"\",O205=\"\",P205=\"\")=TRUE,\"\",IF(C205=\"OSW\",IF(K205>=2,1,0),IF(C205=\"OSR\",IF(AND(K205>=2,Q205>60)=TRUE,1,0),IF(C205=\"OSRH\",IF(AND(K205>=1,Q205>90)=TRUE,1,0),IF(C205=\"OHLC\",IF(AND(N205=\"Y\",Q205>60)=TRUE,1,0),IF(C205=\"DDC\",IF(AND(K205>=4,N205=\"Y\",Q205>120)=TRUE,1,0),0))))))","v":""}]
[null,null,"",null,null,null,null,null,null,null,null,null,null,null,null,0,0,0,0,"",0,0,0,0,0,{"$f":"IF($H$4=\"\",0,VLOOKUP($H$4,BuildingType_Lookup,3,FALSE))","v":0},{"$f":"IF($H$4=\"\",0,VLOOKUP($H$4,BuildingType_Lookup,2,FALSE))","v":0},{"$f":"IF(AND(OR(AN206=\"\",AN206=0)=TRUE,OR(AO206=\"\",AO206=0))=TRUE,0,IF(AO206=\"\",(IF(OR(C206=\"DDC\",C206=\"OHLC\")=TRUE,O206,P206)/1000)*Y206*Z206*(1+VLOOKUP($H$4,BuildingType_Lookup,4,FALSE)),IF(AO206=0,0,(IF(OR(C206=\"DDC\",C206=\"OHLC\")=TRUE,O206,Q206)/1000)*Y206*Z206*(1+VLOOKUP($H$4,BuildingType_Lookup,4,FALSE)))))","v":0},{"$f":"IF(AND(OR(AN206=\"\",AN206=0)=TRUE,OR(AO206=\"\",AO206=0))=TRUE,0,IF(AO206=\"\",(IF(OR(C206=\"DDC\",C206=\"OHLC\")=TRUE,O206,P206)/1000)*Y206*AA206*(1+VLOOKUP($H$4,BuildingType_Lookup,MATCH($H$5,HVAC,0)+4,FALSE)),IF(AO206=0,0,(IF(OR(C206=\"DDC\",C206=\"OHLC\")=TRUE,O206,Q206)/1000)*Y206*AA206*(1+VLOOKUP($H$4,BuildingType_Lookup,MATCH($H$5,HVAC,0)+4,FALSE)))))","v":0},0,0,0,0,0,0,{"$f":"W206/1000*Y206*AA206*IF(IFERROR(SEARCH(\"Gas\",$H$5),0)>0,VLOOKUP(\"Gas\",HVACg_Lookup,MATCH($H$6,BuildingSize,0)+1,FALSE),IF(IFERROR(SEARCH(\"Oil\",$H$5),0)>0,VLOOKUP(\"Oil\",HVACg_Lookup,MATCH($H$6,BuildingSize,0)+1,FALSE),IF(IFERROR(SEARCH(\"Propane\",$H$5),0)>0,VLOOKUP(\"Propane\",HVACg_Lookup,MATCH(Worksheet!$H$6,BuildingSize,0)+1,FALSE),0)))","v":0},{"$f":"X206/1000*Y206*AA206*IF(IFERROR(SEARCH(\"Gas\",$H$5),0)>0,VLOOKUP(\"Gas\",HVACg_Lookup,MATCH($H$6,BuildingSize,0)+1,FALSE),IF(IFERROR(SEARCH(\"Oil\",$H$5),0)>0,VLOOKUP(\"Oil\",HVACg_Lookup,MATCH($H$6,BuildingSize,0)+1,FALSE),IF(IFERROR(SEARCH(\"Propane\",$H$5),0)>0,VLOOKUP(\"Propane\",HVACg_Lookup,MATCH(Worksheet!$H$6,BuildingSize,0)+1,FALSE),0)))","v":0},0,0,{"$f":"IF(OR($B$4=\"\",$B$5=\"\",$H$4=\"\",$H$6=\"\",$H$5=\"\",A206=\"\",F206=\"\",J206=\"\",O206=\"\",P206=\"\")=TRUE,\"\",IF(C206=\"OSW\",IF(J206>=2,1,0),IF(C206=\"OSR\",IF(AND(J206>=2,P206>60)=TRUE,1,0),IF(C206=\"OSRH\",IF(AND(J206>=1,P206>90)=TRUE,1,0),IF(C206=\"OHLC\",IF(AND(N206=\"Y\",P206>60)=TRUE,1,0),IF(C206=\"DDC\",IF(AND(J206>=4,N206=\"Y\",P206>120)=TRUE,1,0),0))))))","v":""},{"$f":"IF(OR($B$4=\"\",$B$5=\"\",$H$4=\"\",$H$6=\"\",$H$5=\"\",A206=\"\",F206=\"\",K206=\"\",O206=\"\",P206=\"\")=TRUE,\"\",IF(C206=\"OSW\",IF(K206>=2,1,0),IF(C206=\"OSR\",IF(AND(K206>=2,Q206>60)=TRUE,1,0),IF(C206=\"OSRH\",IF(AND(K206>=1,Q206>90)=TRUE,1,0),IF(C206=\"OHLC\",IF(AND(N206=\"Y\",Q206>60)=TRUE,1,0),IF(C206=\"DDC\",IF(AND(K206>=4,N206=\"Y\",Q206>120)=TRUE,1,0),0))))))","v":""}]
[null,null,"",null,null,null,null,null,null,null,null,null,null,null,null,0,0,0,0,"",0,0,0,0,0,{"$f":"IF($H$4=\"\",0,VLOOKUP($H$4,BuildingType_Lookup,3,FALSE))","v":0},{"$f":"IF($H$4=\"\",0,VLOOKUP($H$4,BuildingType_Lookup,2,FALSE))","v":0},{"$f":"IF(AND(OR(AN207=\"\",AN207=0)=TRUE,OR(AO207=\"\",AO207=0))=TRUE,0,IF(AO207=\"\",(IF(OR(C207=\"DDC\",C207=\"OHLC\")=TRUE,O207,P207)/1000)*Y207*Z207*(1+VLOOKUP($H$4,BuildingType_Lookup,4,FALSE)),IF(AO207=0,0,(IF(OR(C207=\"DDC\",C207=\"OHLC\")=TRUE,O207,Q207)/1000)*Y207*Z207*(1+VLOOKUP($H$4,BuildingType_Lookup,4,FALSE)))))","v":0},{"$f":"IF(AND(OR(AN207=\"\",AN207=0)=TRUE,OR(AO207=\"\",AO207=0))=TRUE,0,IF(AO207=\"\",(IF(OR(C207=\"DDC\",C207=\"OHLC\")=TRUE,O207,P207)/1000)*Y207*AA207*(1+VLOOKUP($H$4,BuildingType_Lookup,MATCH($H$5,HVAC,0)+4,FALSE)),IF(AO207=0,0,(IF(OR(C207=\"DDC\",C207=\"OHLC\")=TRUE,O207,Q207)/1000)*Y207*AA207*(1+VLOOKUP($H$4,BuildingType_Lookup,MATCH($H$5,HVAC,0)+4,FALSE)))))","v":0},0,0,0,0,0,0,{"$f":"W207/1000*Y207*AA207*IF(IFERROR(SEARCH(\"Gas\",$H$5),0)>0,VLOOKUP(\"Gas\",HVACg_Lookup,MATCH($H$6,BuildingSize,0)+1,FALSE),IF(IFERROR(SEARCH(\"Oil\",$H$5),0)>0,VLOOKUP(\"Oil\",HVACg_Lookup,MATCH($H$6,BuildingSize,0)+1,FALSE),IF(IFERROR(SEARCH(\"Propane\",$H$5),0)>0,VLOOKUP(\"Propane\",HVACg_Lookup,MATCH(Worksheet!$H$6,BuildingSize,0)+1,FALSE),0)))","v":0},{"$f":"X207/1000*Y207*AA207*IF(IFERROR(SEARCH(\"Gas\",$H$5),0)>0,VLOOKUP(\"Gas\",HVACg_Lookup,MATCH($H$6,BuildingSize,0)+1,FALSE),IF(IFERROR(SEARCH(\"Oil\",$H$5),0)>0,VLOOKUP(\"Oil\",HVACg_Lookup,MATCH($H$6,BuildingSize,0)+1,FALSE),IF(IFERROR(SEARCH(\"Propane\",$H$5),0)>0,VLOOKUP(\"Propane\",HVACg_Lookup,MATCH(Worksheet!$H$6,BuildingSize,0)+1,FALSE),0)))","v":0},0,0,{"$f":"IF(OR($B$4=\"\",$B$5=\"\",$H$4=\"\",$H$6=\"\",$H$5=\"\",A207=\"\",F207=\"\",J207=\"\",O207=\"\",P207=\"\")=TRUE,\"\",IF(C207=\"OSW\",IF(J207>=2,1,0),IF(C207=\"OSR\",IF(AND(J207>=2,P207>60)=TRUE,1,0),IF(C207=\"OSRH\",IF(AND(J207>=1,P207>90)=TRUE,1,0),IF(C207=\"OHLC\",IF(AND(N207=\"Y\",P207>60)=TRUE,1,0),IF(C207=\"DDC\",IF(AND(J207>=4,N207=\"Y\",P207>120)=TRUE,1,0),0))))))","v":""},{"$f":"IF(OR($B$4=\"\",$B$5=\"\",$H$4=\"\",$H$6=\"\",$H$5=\"\",A207=\"\",F207=\"\",K207=\"\",O207=\"\",P207=\"\")=TRUE,\"\",IF(C207=\"OSW\",IF(K207>=2,1,0),IF(C207=\"OSR\",IF(AND(K207>=2,Q207>60)=TRUE,1,0),IF(C207=\"OSRH\",IF(AND(K207>=1,Q207>90)=TRUE,1,0),IF(C207=\"OHLC\",IF(AND(N207=\"Y\",Q207>60)=TRUE,1,0),IF(C207=\"DDC\",IF(AND(K207>=4,N207=\"Y\",Q207>120)=TRUE,1,0),0))))))","v":""}]
[null,null,"",null,null,null,null,null,null,null,null,null,null,null,null,0,0,0,0,"",0,0,0,0,0,{"$f":"IF($H$4=\"\",0,VLOOKUP($H$4,BuildingType_Lookup,3,FALSE))","v":0},{"$f":"IF($H$4=\"\",0,VLOOKUP($H$4,BuildingType_Lookup,2,FALSE))","v":0},{"$f":"IF(AND(OR(AN208=\"\",AN208=0)=TRUE,OR(AO208=\"\",AO208=0))=TRUE,0,IF(AO208=\"\",(IF(OR(C208=\"DDC\",C208=\"OHLC\")=TRUE,O208,P208)/1000)*Y208*Z208*(1+VLOOKUP($H$4,BuildingType_Lookup,4,FALSE)),IF(AO208=0,0,(IF(OR(C208=\"DDC\",C208=\"OHLC\")=TRUE,O208,Q208)/1000)*Y208*Z208*(1+VLOOKUP($H$4,BuildingType_Lookup,4,FALSE)))))","v":0},{"$f":"IF(AND(OR(AN208=\"\",AN208=0)=TRUE,OR(AO208=\"\",AO208=0))=TRUE,0,IF(AO208=\"\",(IF(OR(C208=\"DDC\",C208=\"OHLC\")=TRUE,O208,P208)/1000)*Y208*AA208*(1+VLOOKUP($H$4,BuildingType_Lookup,MATCH($H$5,HVAC,0)+4,FALSE)),IF(AO208=0,0,(IF(OR(C208=\"DDC\",C208=\"OHLC\")=TRUE,O208,Q208)/1000)*Y208*AA208*(1+VLOOKUP($H$4,BuildingType_Lookup,MATCH($H$5,HVAC,0)+4,FALSE)))))","v":0},0,0,0,0,0,0,{"$f":"W208/1000*Y208*AA208*IF(IFERROR(SEARCH(\"Gas\",$H$5),0)>0,VLOOKUP(\"Gas\",HVACg_Lookup,MATCH($H$6,BuildingSize,0)+1,FALSE),IF(IFERROR(SEARCH(\"Oil\",$H$5),0)>0,VLOOKUP(\"Oil\",HVACg_Lookup,MATCH($H$6,BuildingSize,0)+1,FALSE),IF(IFERROR(SEARCH(\"Propane\",$H$5),0)>0,VLOOKUP(\"Propane\",HVACg_Lookup,MATCH(Worksheet!$H$6,BuildingSize,0)+1,FALSE),0)))","v":0},{"$f":"X208/1000*Y208*AA208*IF(IFERROR(SEARCH(\"Gas\",$H$5),0)>0,VLOOKUP(\"Gas\",HVACg_Lookup,MATCH($H$6,BuildingSize,0)+1,FALSE),IF(IFERROR(SEARCH(\"Oil\",$H$5),0)>0,VLOOKUP(\"Oil\",HVACg_Lookup,MATCH($H$6,BuildingSize,0)+1,FALSE),IF(IFERROR(SEARCH(\"Propane\",$H$5),0)>0,VLOOKUP(\"Propane\",HVACg_Lookup,MATCH(Worksheet!$H$6,BuildingSize,0)+1,FALSE),0)))","v":0},0,0,{"$f":"IF(OR($B$4=\"\",$B$5=\"\",$H$4=\"\",$H$6=\"\",$H$5=\"\",A208=\"\",F208=\"\",J208=\"\",O208=\"\",P208=\"\")=TRUE,\"\",IF(C208=\"OSW\",IF(J208>=2,1,0),IF(C208=\"OSR\",IF(AND(J208>=2,P208>60)=TRUE,1,0),IF(C208=\"OSRH\",IF(AND(J208>=1,P208>90)=TRUE,1,0),IF(C208=\"OHLC\",IF(AND(N208=\"Y\",P208>60)=TRUE,1,0),IF(C208=\"DDC\",IF(AND(J208>=4,N208=\"Y\",P208>120)=TRUE,1,0),0))))))","v":""},{"$f":"IF(OR($B$4=\"\",$B$5=\"\",$H$4=\"\",$H$6=\"\",$H$5=\"\",A208=\"\",F208=\"\",K208=\"\",O208=\"\",P208=\"\")=TRUE,\"\",IF(C208=\"OSW\",IF(K208>=2,1,0),IF(C208=\"OSR\",IF(AND(K208>=2,Q208>60)=TRUE,1,0),IF(C208=\"OSRH\",IF(AND(K208>=1,Q208>90)=TRUE,1,0),IF(C208=\"OHLC\",IF(AND(N208=\"Y\",Q208>60)=TRUE,1,0),IF(C208=\"DDC\",IF(AND(K208>=4,N208=\"Y\",Q208>120)=TRUE,1,0),0))))))","v":""}]
[null,null,"",null,null,null,null,null,null,null,null,null,null,null,null,0,0,0,0,"",0,0,0,0,0,{"$f":"IF($H$4=\"\",0,VLOOKUP($H$4,BuildingType_Lookup,3,FALSE))","v":0},{"$f":"IF($H$4=\"\",0,VLOOKUP($H$4,BuildingType_Lookup,2,FALSE))","v":0},{"$f":"IF(AND(OR(AN209=\"\",AN209=0)=TRUE,OR(AO209=\"\",AO209=0))=TRUE,0,IF(AO209=\"\",(IF(OR(C209=\"DDC\",C209=\"OHLC\")=TRUE,O209,P209)/1000)*Y209*Z209*(1+VLOOKUP($H$4,BuildingType_Lookup,4,FALSE)),IF(AO209=0,0,(IF(OR(C209=\"DDC\",C209=\"OHLC\")=TRUE,O209,Q209)/1000)*Y209*Z209*(1+VLOOKUP($H$4,BuildingType_Lookup,4,FALSE)))))","v":0},{"$f":"IF(AND(OR(AN209=\"\",AN209=0)=TRUE,OR(AO209=\"\",AO209=0))=TRUE,0,IF(AO209=\"\",(IF(OR(C209=\"DDC\",C209=\"OHLC\")=TRUE,O209,P209)/1000)*Y209*AA209*(1+VLOOKUP($H$4,BuildingType_Lookup,MATCH($H$5,HVAC,0)+4,FALSE)),IF(AO209=0,0,(IF(OR(C209=\"DDC\",C209=\"OHLC\")=TRUE,O209,Q209)/1000)*Y209*AA209*(1+VLOOKUP($H$4,BuildingType_Lookup,MATCH($H$5,HVAC,0)+4,FALSE)))))","v":0},0,0,0,0,0,0,{"$f":"W209/1000*Y209*AA209*IF(IFERROR(SEARCH(\"Gas\",$H$5),0)>0,VLOOKUP(\"Gas\",HVACg_Lookup,MATCH($H$6,BuildingSize,0)+1,FALSE),IF(IFERROR(SEARCH(\"Oil\",$H$5),0)>0,VLOOKUP(\"Oil\",HVACg_Lookup,MATCH($H$6,BuildingSize,0)+1,FALSE),IF(IFERROR(SEARCH(\"Propane\",$H$5),0)>0,VLOOKUP(\"Propane\",HVACg_Lookup,MATCH(Worksheet!$H$6,BuildingSize,0)+1,FALSE),0)))","v":0},{"$f":"X209/1000*Y209*AA209*IF(IFERROR(SEARCH(\"Gas\",$H$5),0)>0,VLOOKUP(\"Gas\",HVACg_Lookup,MATCH($H$6,BuildingSize,0)+1,FALSE),IF(IFERROR(SEARCH(\"Oil\",$H$5),0)>0,VLOOKUP(\"Oil\",HVACg_Lookup,MATCH($H$6,BuildingSize,0)+1,FALSE),IF(IFERROR(SEARCH(\"Propane\",$H$5),0)>0,VLOOKUP(\"Propane\",HVACg_Lookup,MATCH(Worksheet!$H$6,BuildingSize,0)+1,FALSE),0)))","v":0},0,0,{"$f":"IF(OR($B$4=\"\",$B$5=\"\",$H$4=\"\",$H$6=\"\",$H$5=\"\",A209=\"\",F209=\"\",J209=\"\",O209=\"\",P209=\"\")=TRUE,\"\",IF(C209=\"OSW\",IF(J209>=2,1,0),IF(C209=\"OSR\",IF(AND(J209>=2,P209>60)=TRUE,1,0),IF(C209=\"OSRH\",IF(AND(J209>=1,P209>90)=TRUE,1,0),IF(C209=\"OHLC\",IF(AND(N209=\"Y\",P209>60)=TRUE,1,0),IF(C209=\"DDC\",IF(AND(J209>=4,N209=\"Y\",P209>120)=TRUE,1,0),0))))))","v":""},{"$f":"IF(OR($B$4=\"\",$B$5=\"\",$H$4=\"\",$H$6=\"\",$H$5=\"\",A209=\"\",F209=\"\",K209=\"\",O209=\"\",P209=\"\")=TRUE,\"\",IF(C209=\"OSW\",IF(K209>=2,1,0),IF(C209=\"OSR\",IF(AND(K209>=2,Q209>60)=TRUE,1,0),IF(C209=\"OSRH\",IF(AND(K209>=1,Q209>90)=TRUE,1,0),IF(C209=\"OHLC\",IF(AND(N209=\"Y\",Q209>60)=TRUE,1,0),IF(C209=\"DDC\",IF(AND(K209>=4,N209=\"Y\",Q209>120)=TRUE,1,0),0))))))","v":""}]
[null,null,"",null,null,null,null,null,null,null,null,null,null,null,null,0,0,0,0,"",0,0,0,0,0,{"$f":"IF($H$4=\"\",0,VLOOKUP($H$4,BuildingType_Lookup,3,FALSE))","v":0},{"$f":"IF($H$4=\"\",0,VLOOKUP($H$4,BuildingType_Lookup,2,FALSE))","v":0},{"$f":"IF(AND(OR(AN210=\"\",AN210=0)=TRUE,OR(AO210=\"\",AO210=0))=TRUE,0,IF(AO210=\"\",(IF(OR(C210=\"DDC\",C210=\"OHLC\")=TRUE,O210,P210)/1000)*Y210*Z210*(1+VLOOKUP($H$4,BuildingType_Lookup,4,FALSE)),IF(AO210=0,0,(IF(OR(C210=\"DDC\",C210=\"OHLC\")=TRUE,O210,Q210)/1000)*Y210*Z210*(1+VLOOKUP($H$4,BuildingType_Lookup,4,FALSE)))))","v":0},{"$f":"IF(AND(OR(AN210=\"\",AN210=0)=TRUE,OR(AO210=\"\",AO210=0))=TRUE,0,IF(AO210=\"\",(IF(OR(C210=\"DDC\",C210=\"OHLC\")=TRUE,O210,P210)/1000)*Y210*AA210*(1+VLOOKUP($H$4,BuildingType_Lookup,MATCH($H$5,HVAC,0)+4,FALSE)),IF(AO210=0,0,(IF(OR(C210=\"DDC\",C210=\"OHLC\")=TRUE,O210,Q210)/1000)*Y210*AA210*(1+VLOOKUP($H$4,BuildingType_Lookup,MATCH($H$5,HVAC,0)+4,FALSE)))))","v":0},0,0,0,0,0,0,{"$f":"W210/1000*Y210*AA210*IF(IFERROR(SEARCH(\"Gas\",$H$5),0)>0,VLOOKUP(\"Gas\",HVACg_Lookup,MATCH($H$6,BuildingSize,0)+1,FALSE),IF(IFERROR(SEARCH(\"Oil\",$H$5),0)>0,VLOOKUP(\"Oil\",HVACg_Lookup,MATCH($H$6,BuildingSize,0)+1,FALSE),IF(IFERROR(SEARCH(\"Propane\",$H$5),0)>0,VLOOKUP(\"Propane\",HVACg_Lookup,MATCH(Worksheet!$H$6,BuildingSize,0)+1,FALSE),0)))","v":0},{"$f":"X210/1000*Y210*AA210*IF(IFERROR(SEARCH(\"Gas\",$H$5),0)>0,VLOOKUP(\"Gas\",HVACg_Lookup,MATCH($H$6,BuildingSize,0)+1,FALSE),IF(IFERROR(SEARCH(\"Oil\",$H$5),0)>0,VLOOKUP(\"Oil\",HVACg_Lookup,MATCH($H$6,BuildingSize,0)+1,FALSE),IF(IFERROR(SEARCH(\"Propane\",$H$5),0)>0,VLOOKUP(\"Propane\",HVACg_Lookup,MATCH(Worksheet!$H$6,BuildingSize,0)+1,FALSE),0)))","v":0},0,0,{"$f":"IF(OR($B$4=\"\",$B$5=\"\",$H$4=\"\",$H$6=\"\",$H$5=\"\",A210=\"\",F210=\"\",J210=\"\",O210=\"\",P210=\"\")=TRUE,\"\",IF(C210=\"OSW\",IF(J210>=2,1,0),IF(C210=\"OSR\",IF(AND(J210>=2,P210>60)=TRUE,1,0),IF(C210=\"OSRH\",IF(AND(J210>=1,P210>90)=TRUE,1,0),IF(C210=\"OHLC\",IF(AND(N210=\"Y\",P210>60)=TRUE,1,0),IF(C210=\"DDC\",IF(AND(J210>=4,N210=\"Y\",P210>120)=TRUE,1,0),0))))))","v":""},{"$f":"IF(OR($B$4=\"\",$B$5=\"\",$H$4=\"\",$H$6=\"\",$H$5=\"\",A210=\"\",F210=\"\",K210=\"\",O210=\"\",P210=\"\")=TRUE,\"\",IF(C210=\"OSW\",IF(K210>=2,1,0),IF(C210=\"OSR\",IF(AND(K210>=2,Q210>60)=TRUE,1,0),IF(C210=\"OSRH\",IF(AND(K210>=1,Q210>90)=TRUE,1,0),IF(C210=\"OHLC\",IF(AND(N210=\"Y\",Q210>60)=TRUE,1,0),IF(C210=\"DDC\",IF(AND(K210>=4,N210=\"Y\",Q210>120)=TRUE,1,0),0))))))","v":""}]
[null,null,"",null,null,null,null,null,null,null,null,null,null,null,null,0,0,0,0,"",0,0,0,0,0,{"$f":"IF($H$4=\"\",0,VLOOKUP($H$4,BuildingType_Lookup,3,FALSE))","v":0},{"$f":"IF($H$4=\"\",0,VLOOKUP($H$4,BuildingType_Lookup,2,FALSE))","v":0},{"$f":"IF(AND(OR(AN211=\"\",AN211=0)=TRUE,OR(AO211=\"\",AO211=0))=TRUE,0,IF(AO211=\"\",(IF(OR(C211=\"DDC\",C211=\"OHLC\")=TRUE,O211,P211)/1000)*Y211*Z211*(1+VLOOKUP($H$4,BuildingType_Lookup,4,FALSE)),IF(AO211=0,0,(IF(OR(C211=\"DDC\",C211=\"OHLC\")=TRUE,O211,Q211)/1000)*Y211*Z211*(1+VLOOKUP($H$4,BuildingType_Lookup,4,FALSE)))))","v":0},{"$f":"IF(AND(OR(AN211=\"\",AN211=0)=TRUE,OR(AO211=\"\",AO211=0))=TRUE,0,IF(AO211=\"\",(IF(OR(C211=\"DDC\",C211=\"OHLC\")=TRUE,O211,P211)/1000)*Y211*AA211*(1+VLOOKUP($H$4,BuildingType_Lookup,MATCH($H$5,HVAC,0)+4,FALSE)),IF(AO211=0,0,(IF(OR(C211=\"DDC\",C211=\"OHLC\")=TRUE,O211,Q211)/1000)*Y211*AA211*(1+VLOOKUP($H$4,BuildingType_Lookup,MATCH($H$5,HVAC,0)+4,FALSE)))))","v":0},0,0,0,0,0,0,{"$f":"W211/1000*Y211*AA211*IF(IFERROR(SEARCH(\"Gas\",$H$5),0)>0,VLOOKUP(\"Gas\",HVACg_Lookup,MATCH($H$6,BuildingSize,0)+1,FALSE),IF(IFERROR(SEARCH(\"Oil\",$H$5),0)>0,VLOOKUP(\"Oil\",HVACg_Lookup,MATCH($H$6,BuildingSize,0)+1,FALSE),IF(IFERROR(SEARCH(\"Propane\",$H$5),0)>0,VLOOKUP(\"Propane\",HVACg_Lookup,MATCH(Worksheet!$H$6,BuildingSize,0)+1,FALSE),0)))","v":0},{"$f":"X211/1000*Y211*AA211*IF(IFERROR(SEARCH(\"Gas\",$H$5),0)>0,VLOOKUP(\"Gas\",HVACg_Lookup,MATCH($H$6,BuildingSize,0)+1,FALSE),IF(IFERROR(SEARCH(\"Oil\",$H$5),0)>0,VLOOKUP(\"Oil\",HVACg_Lookup,MATCH($H$6,BuildingSize,0)+1,FALSE),IF(IFERROR(SEARCH(\"Propane\",$H$5),0)>0,VLOOKUP(\"Propane\",HVACg_Lookup,MATCH(Worksheet!$H$6,BuildingSize,0)+1,FALSE),0)))","v":0},0,0,{"$f":"IF(OR($B$4=\"\",$B$5=\"\",$H$4=\"\",$H$6=\"\",$H$5=\"\",A211=\"\",F211=\"\",J211=\"\",O211=\"\",P211=\"\")=TRUE,\"\",IF(C211=\"OSW\",IF(J211>=2,1,0),IF(C211=\"OSR\",IF(AND(J211>=2,P211>60)=TRUE,1,0),IF(C211=\"OSRH\",IF(AND(J211>=1,P211>90)=TRUE,1,0),IF(C211=\"OHLC\",IF(AND(N211=\"Y\",P211>60)=TRUE,1,0),IF(C211=\"DDC\",IF(AND(J211>=4,N211=\"Y\",P211>120)=TRUE,1,0),0))))))","v":""},{"$f":"IF(OR($B$4=\"\",$B$5=\"\",$H$4=\"\",$H$6=\"\",$H$5=\"\",A211=\"\",F211=\"\",K211=\"\",O211=\"\",P211=\"\")=TRUE,\"\",IF(C211=\"OSW\",IF(K211>=2,1,0),IF(C211=\"OSR\",IF(AND(K211>=2,Q211>60)=TRUE,1,0),IF(C211=\"OSRH\",IF(AND(K211>=1,Q211>90)=TRUE,1,0),IF(C211=\"OHLC\",IF(AND(N211=\"Y\",Q211>60)=TRUE,1,0),IF(C211=\"DDC\",IF(AND(K211>=4,N211=\"Y\",Q211>120)=TRUE,1,0),0))))))","v":""}]
[null,null,"",null,null,null,null,null,null,null,null,null,null,null,null,0,0,0,0,"",0,0,0,0,0,{"$f":"IF($H$4=\"\",0,VLOOKUP($H$4,BuildingType_Lookup,3,FALSE))","v":0},{"$f":"IF($H$4=\"\",0,VLOOKUP($H$4,BuildingType_Lookup,2,FALSE))","v":0},{"$f":"IF(AND(OR(AN212=\"\",AN212=0)=TRUE,OR(AO212=\"\",AO212=0))=TRUE,0,IF(AO212=\"\",(IF(OR(C212=\"DDC\",C212=\"OHLC\")=TRUE,O212,P212)/1000)*Y212*Z212*(1+VLOOKUP($H$4,BuildingType_Lookup,4,FALSE)),IF(AO212=0,0,(IF(OR(C212=\"DDC\",C212=\"OHLC\")=TRUE,O212,Q212)/1000)*Y212*Z212*(1+VLOOKUP($H$4,BuildingType_Lookup,4,FALSE)))))","v":0},{"$f":"IF(AND(OR(AN212=\"\",AN212=0)=TRUE,OR(AO212=\"\",AO212=0))=TRUE,0,IF(AO212=\"\",(IF(OR(C212=\"DDC\",C212=\"OHLC\")=TRUE,O212,P212)/1000)*Y212*AA212*(1+VLOOKUP($H$4,BuildingType_Lookup,MATCH($H$5,HVAC,0)+4,FALSE)),IF(AO212=0,0,(IF(OR(C212=\"DDC\",C212=\"OHLC\")=TRUE,O212,Q212)/1000)*Y212*AA212*(1+VLOOKUP($H$4,BuildingType_Lookup,MATCH($H$5,HVAC,0)+4,FALSE)))))","v":0},0,0,0,0,0,0,{"$f":"W212/1000*Y212*AA212*IF(IFERROR(SEARCH(\"Gas\",$H$5),0)>0,VLOOKUP(\"Gas\",HVACg_Lookup,MATCH($H$6,BuildingSize,0)+1,FALSE),IF(IFERROR(SEARCH(\"Oil\",$H$5),0)>0,VLOOKUP(\"Oil\",HVACg_Lookup,MATCH($H$6,BuildingSize,0)+1,FALSE),IF(IFERROR(SEARCH(\"Propane\",$H$5),0)>0,VLOOKUP(\"Propane\",HVACg_Lookup,MATCH(Worksheet!$H$6,BuildingSize,0)+1,FALSE),0)))","v":0},{"$f":"X212/1000*Y212*AA212*IF(IFERROR(SEARCH(\"Gas\",$H$5),0)>0,VLOOKUP(\"Gas\",HVACg_Lookup,MATCH($H$6,BuildingSize,0)+1,FALSE),IF(IFERROR(SEARCH(\"Oil\",$H$5),0)>0,VLOOKUP(\"Oil\",HVACg_Lookup,MATCH($H$6,BuildingSize,0)+1,FALSE),IF(IFERROR(SEARCH(\"Propane\",$H$5),0)>0,VLOOKUP(\"Propane\",HVACg_Lookup,MATCH(Worksheet!$H$6,BuildingSize,0)+1,FALSE),0)))","v":0},0,0,{"$f":"IF(OR($B$4=\"\",$B$5=\"\",$H$4=\"\",$H$6=\"\",$H$5=\"\",A212=\"\",F212=\"\",J212=\"\",O212=\"\",P212=\"\")=TRUE,\"\",IF(C212=\"OSW\",IF(J212>=2,1,0),IF(C212=\"OSR\",IF(AND(J212>=2,P212>60)=TRUE,1,0),IF(C212=\"OSRH\",IF(AND(J212>=1,P212>90)=TRUE,1,0),IF(C212=\"OHLC\",IF(AND(N212=\"Y\",P212>60)=TRUE,1,0),IF(C212=\"DDC\",IF(AND(J212>=4,N212=\"Y\",P212>120)=TRUE,1,0),0))))))","v":""},{"$f":"IF(OR($B$4=\"\",$B$5=\"\",$H$4=\"\",$H$6=\"\",$H$5=\"\",A212=\"\",F212=\"\",K212=\"\",O212=\"\",P212=\"\")=TRUE,\"\",IF(C212=\"OSW\",IF(K212>=2,1,0),IF(C212=\"OSR\",IF(AND(K212>=2,Q212>60)=TRUE,1,0),IF(C212=\"OSRH\",IF(AND(K212>=1,Q212>90)=TRUE,1,0),IF(C212=\"OHLC\",IF(AND(N212=\"Y\",Q212>60)=TRUE,1,0),IF(C212=\"DDC\",IF(AND(K212>=4,N212=\"Y\",Q212>120)=TRUE,1,0),0))))))","v":""}]
[null,null,"",null,null,null,null,null,null,null,null,null,null,null,null,0,0,{"$f":"IF(AN213=\"\",0,IF(AN213=1,VLOOKUP(A213,MeasureCode_Lookup,3,FALSE),\"DNQ\"))","v":0},{"$f":"IF(AO213=\"\",0,IF(AO213=1,VLOOKUP(A213,MeasureCode_Lookup,3,FALSE),\"DNQ\"))","v":0},{"$f":"IF(A213=\"\",\"\",VLOOKUP(A213,MeasureCode_Lookup,4,FALSE))","v":""},0,0,{"$f":"IF(N(R213)=0,0,F213*P213)","v":0},{"$f":"IF(N(S213)=0,0,G213*Q213)","v":0},{"$f":"IF(A213=\"\",0,VLOOKUP(A213,MeasureCode_Lookup,5,FALSE))","v":0},{"$f":"IF($H$4=\"\",0,VLOOKUP($H$4,BuildingType_Lookup,3,FALSE))","v":0},{"$f":"IF($H$4=\"\",0,VLOOKUP($H$4,BuildingType_Lookup,2,FALSE))","v":0},{"$f":"IF(AND(OR(AN213=\"\",AN213=0)=TRUE,OR(AO213=\"\",AO213=0))=TRUE,0,IF(AO213=\"\",(IF(OR(C213=\"DDC\",C213=\"OHLC\")=TRUE,O213,P213)/1000)*Y213*Z213*(1+VLOOKUP($H$4,BuildingType_Lookup,4,FALSE)),IF(AO213=0,0,(IF(OR(C213=\"DDC\",C213=\"OHLC\")=TRUE,O213,Q213)/1000)*Y213*Z213*(1+VLOOKUP($H$4,BuildingType_Lookup,4,FALSE)))))","v":0},{"$f":"IF(AND(OR(AN213=\"\",AN213=0)=TRUE,OR(AO213=\"\",AO213=0))=TRUE,0,IF(AO213=\"\",(IF(OR(C213=\"DDC\",C213=\"OHLC\")=TRUE,O213,P213)/1000)*Y213*AA213*(1+VLOOKUP($H$4,BuildingType_Lookup,MATCH($H$5,HVAC,0)+4,FALSE)),IF(AO213=0,0,(IF(OR(C213=\"DDC\",C213=\"OHLC\")=TRUE,O213,Q213)/1000)*Y213*AA213*(1+VLOOKUP($H$4,BuildingType_Lookup,MATCH($H$5,HVAC,0)+4,FALSE)))))","v":0},{"$f":"IFERROR(IF(OR(C213=\"DDC\",C213=\"OHLC\")=TRUE,F213*J213*AB213,F213*AB213),0)","v":0},{"$f":"IFERROR(IF(OR(C213=\"DDC\",C213=\"OHLC\")=TRUE,G213*K213*AB213,G213*AB213),0)","v":0},{"$f":"IFERROR(IF(OR(C213=\"DDC\",C213=\"OHLC\")=TRUE,F213*J213*AC213,F213*AC213),0)","v":0},{"$f":"IFERROR(IF(OR(C213=\"DDC\",C213=\"OHLC\")=TRUE,G213*K213*AC213,G213*AC213),0)","v":0},0,0,{"$f":"W213/1000*Y213*AA213*IF(IFERROR(SEARCH(\"Gas\",$H$5),0)>0,VLOOKUP(\"Gas\",HVACg_Lookup,MATCH($H$6,BuildingSize,0)+1,FALSE),IF(IFERROR(SEARCH(\"Oil\",$H$5),0)>0,VLOOKUP(\"Oil\",HVACg_Lookup,MATCH($H$6,BuildingSize,0)+1,FALSE),IF(IFERROR(SEARCH(\"Propane\",$H$5),0)>0,VLOOKUP(\"Propane\",HVACg_Lookup,MATCH(Worksheet!$H$6,BuildingSize,0)+1,FALSE),0)))","v":0},{"$f":"X213/1000*Y213*AA213*IF(IFERROR(SEARCH(\"Gas\",$H$5),0)>0,VLOOKUP(\"Gas\",HVACg_Lookup,MATCH($H$6,BuildingSize,0)+1,FALSE),IF(IFERROR(SEARCH(\"Oil\",$H$5),0)>0,VLOOKUP(\"Oil\",HVACg_Lookup,MATCH($H$6,BuildingSize,0)+1,FALSE),IF(IFERROR(SEARCH(\"Propane\",$H$5),0)>0,VLOOKUP(\"Propane\",HVACg_Lookup,MATCH(Worksheet!$H$6,BuildingSize,0)+1,FALSE),0)))","v":0},0,0,{"$f":"IF(OR($B$4=\"\",$B$5=\"\",$H$4=\"\",$H$6=\"\",$H$5=\"\",A213=\"\",F213=\"\",J213=\"\",O213=\"\",P213=\"\")=TRUE,\"\",IF(C213=\"OSW\",IF(J213>=2,1,0),IF(C213=\"OSR\",IF(AND(J213>=2,P213>60)=TRUE,1,0),IF(C213=\"OSRH\",IF(AND(J213>=1,P213>90)=TRUE,1,0),IF(C213=\"OHLC\",IF(AND(N213=\"Y\",P213>60)=TRUE,1,0),IF(C213=\"DDC\",IF(AND(J213>=4,N213=\"Y\",P213>120)=TRUE,1,0),0))))))","v":""},{"$f":"IF(OR($B$4=\"\",$B$5=\"\",$H$4=\"\",$H$6=\"\",$H$5=\"\",A213=\"\",F213=\"\",K213=\"\",O213=\"\",P213=\"\")=TRUE,\"\",IF(C213=\"OSW\",IF(K213>=2,1,0),IF(C213=\"OSR\",IF(AND(K213>=2,Q213>60)=TRUE,1,0),IF(C213=\"OSRH\",IF(AND(K213>=1,Q213>90)=TRUE,1,0),IF(C213=\"OHLC\",IF(AND(N213=\"Y\",Q213>60)=TRUE,1,0),IF(C213=\"DDC\",IF(AND(K213>=4,N213=\"Y\",Q213>120)=TRUE,1,0),0))))))","v":""}]
[null,null,{"$f":"IF(A214=\"\",\"\",VLOOKUP(A214,MeasureCode_Lookup,2,FALSE))","v":""},null,null,null,null,null,null,null,null,null,null,null,null,{"$f":"IF(OR(A214=\"\",F214=\"\",J214=\"\",O214=\"\")=TRUE,0,J214*O214)","v":0},{"$f":"IF(OR(A214=\"\",G214=\"\",K214=\"\",O214=\"\")=TRUE,0,K214*O214)","v":0},0,0,"",{"$f":"IF(N(R214)=0,0,F214*R214*IF(T214=\"per Fixture Controlled\",J214,1))","v":0},{"$f":"IF(N(S214)=0,0,G214*S214*IF(T214=\"per Fixture Controlled\",K214,1))","v":0},0,0,0,{"$f":"IF($H$4=\"\",0,VLOOKUP($H$4,BuildingType_Lookup,3,FALSE))","v":0},{"$f":"IF($H$4=\"\",0,VLOOKUP($H$4,BuildingType_Lookup,2,FALSE))","v":0},{"$f":"IF(AND(OR(AN214=\"\",AN214=0)=TRUE,OR(AO214=\"\",AO214=0))=TRUE,0,IF(AO214=\"\",(IF(OR(C214=\"DDC\",C214=\"OHLC\")=TRUE,O214,P214)/1000)*Y214*Z214*(1+VLOOKUP($H$4,BuildingType_Lookup,4,FALSE)),IF(AO214=0,0,(IF(OR(C214=\"DDC\",C214=\"OHLC\")=TRUE,O214,Q214)/1000)*Y214*Z214*(1+VLOOKUP($H$4,BuildingType_Lookup,4,FALSE)))))","v":0},{"$f":"IF(AND(OR(AN214=\"\",AN214=0)=TRUE,OR(AO214=\"\",AO214=0))=TRUE,0,IF(AO214=\"\",(IF(OR(C214=\"DDC\",C214=\"OHLC\")=TRUE,O214,P214)/1000)*Y214*AA214*(1+VLOOKUP($H$4,BuildingType_Lookup,MATCH($H$5,HVAC,0)+4,FALSE)),IF(AO214=0,0,(IF(OR(C214=\"DDC\",C214=\"OHLC\")=TRUE,O214,Q214)/1000)*Y214*AA214*(1+VLOOKUP($H$4,BuildingType_Lookup,MATCH($H$5,HVAC,0)+4,FALSE)))))","v":0},0,0,0,0,{"$f":"AF214*8","v":0},{"$f":"AG214*8","v":0},{"$f":"W214/1000*Y214*AA214*IF(IFERROR(SEARCH(\"Gas\",$H$5),0)>0,VLOOKUP(\"Gas\",HVACg_Lookup,MATCH($H$6,BuildingSize,0)+1,FALSE),IF(IFERROR(SEARCH(\"Oil\",$H$5),0)>0,VLOOKUP(\"Oil\",HVACg_Lookup,MATCH($H$6,BuildingSize,0)+1,FALSE),IF(IFERROR(SEARCH(\"Propane\",$H$5),0)>0,VLOOKUP(\"Propane\",HVACg_Lookup,MATCH(Worksheet!$H$6,BuildingSize,0)+1,FALSE),0)))","v":0},{"$f":"X214/1000*Y214*AA214*IF(IFERROR(SEARCH(\"Gas\",$H$5),0)>0,VLOOKUP(\"Gas\",HVACg_Lookup,MATCH($H$6,BuildingSize,0)+1,FALSE),IF(IFERROR(SEARCH(\"Oil\",$H$5),0)>0,VLOOKUP(\"Oil\",HVACg_Lookup,MATCH($H$6,BuildingSize,0)+1,FALSE),IF(IFERROR(SEARCH(\"Propane\",$H$5),0)>0,VLOOKUP(\"Propane\",HVACg_Lookup,MATCH(Worksheet!$H$6,BuildingSize,0)+1,FALSE),0)))","v":0},{"$f":"AJ214*8","v":0},{"$f":"AK214*8","v":0},{"$f":"IF(OR($B$4=\"\",$B$5=\"\",$H$4=\"\",$H$6=\"\",$H$5=\"\",A214=\"\",F214=\"\",J214=\"\",O214=\"\",P214=\"\")=TRUE,\"\",IF(C214=\"OSW\",IF(J214>=2,1,0),IF(C214=\"OSR\",IF(AND(J214>=2,P214>60)=TRUE,1,0),IF(C214=\"OSRH\",IF(AND(J214>=1,P214>90)=TRUE,1,0),IF(C214=\"OHLC\",IF(AND(N214=\"Y\",P214>60)=TRUE,1,0),IF(C214=\"DDC\",IF(AND(J214>=4,N214=\"Y\",P214>120)=TRUE,1,0),0))))))","v":""},{"$f":"IF(OR($B$4=\"\",$B$5=\"\",$H$4=\"\",$H$6=\"\",$H$5=\"\",A214=\"\",F214=\"\",K214=\"\",O214=\"\",P214=\"\")=TRUE,\"\",IF(C214=\"OSW\",IF(K214>=2,1,0),IF(C214=\"OSR\",IF(AND(K214>=2,Q214>60)=TRUE,1,0),IF(C214=\"OSRH\",IF(AND(K214>=1,Q214>90)=TRUE,1,0),IF(C214=\"OHLC\",IF(AND(N214=\"Y\",Q214>60)=TRUE,1,0),IF(C214=\"DDC\",IF(AND(K214>=4,N214=\"Y\",Q214>120)=TRUE,1,0),0))))))","v":""}]
[null,null,"",null,null,null,null,null,null,null,null,null,null,null,null,0,0,0,0,"",0,0,0,0,0,{"$f":"IF($H$4=\"\",0,VLOOKUP($H$4,BuildingType_Lookup,3,FALSE))","v":0},{"$f":"IF($H$4=\"\",0,VLOOKUP($H$4,BuildingType_Lookup,2,FALSE))","v":0},{"$f":"IF(AND(OR(AN215=\"\",AN215=0)=TRUE,OR(AO215=\"\",AO215=0))=TRUE,0,IF(AO215=\"\",(IF(OR(C215=\"DDC\",C215=\"OHLC\")=TRUE,O215,P215)/1000)*Y215*Z215*(1+VLOOKUP($H$4,BuildingType_Lookup,4,FALSE)),IF(AO215=0,0,(IF(OR(C215=\"DDC\",C215=\"OHLC\")=TRUE,O215,Q215)/1000)*Y215*Z215*(1+VLOOKUP($H$4,BuildingType_Lookup,4,FALSE)))))","v":0},{"$f":"IF(AND(OR(AN215=\"\",AN215=0)=TRUE,OR(AO215=\"\",AO215=0))=TRUE,0,IF(AO215=\"\",(IF(OR(C215=\"DDC\",C215=\"OHLC\")=TRUE,O215,P215)/1000)*Y215*AA215*(1+VLOOKUP($H$4,BuildingType_Lookup,MATCH($H$5,HVAC,0)+4,FALSE)),IF(AO215=0,0,(IF(OR(C215=\"DDC\",C215=\"OHLC\")=TRUE,O215,Q215)/1000)*Y215*AA215*(1+VLOOKUP($H$4,BuildingType_Lookup,MATCH($H$5,HVAC,0)+4,FALSE)))))","v":0},0,0,0,0,0,0,{"$f":"W215/1000*Y215*AA215*IF(IFERROR(SEARCH(\"Gas\",$H$5),0)>0,VLOOKUP(\"Gas\",HVACg_Lookup,MATCH($H$6,BuildingSize,0)+1,FALSE),IF(IFERROR(SEARCH(\"Oil\",$H$5),0)>0,VLOOKUP(\"Oil\",HVACg_Lookup,MATCH($H$6,BuildingSize,0)+1,FALSE),IF(IFERROR(SEARCH(\"Propane\",$H$5),0)>0,VLOOKUP(\"Propane\",HVACg_Lookup,MATCH(Worksheet!$H$6,BuildingSize,0)+1,FALSE),0)))","v":0},{"$f":"X215/1000*Y215*AA215*IF(IFERROR(SEARCH(\"Gas\",$H$5),0)>0,VLOOKUP(\"Gas\",HVACg_Lookup,MATCH($H$6,BuildingSize,0)+1,FALSE),IF(IFERROR(SEARCH(\"Oil\",$H$5),0)>0,VLOOKUP(\"Oil\",HVACg_Lookup,MATCH($H$6,BuildingSize,0)+1,FALSE),IF(IFERROR(SEARCH(\"Propane\",$H$5),0)>0,VLOOKUP(\"Propane\",HVACg_Lookup,MATCH(Worksheet!$H$6,BuildingSize,0)+1,FALSE),0)))","v":0},0,0,{"$f":"IF(OR($B$4=\"\",$B$5=\"\",$H$4=\"\",$H$6=\"\",$H$5=\"\",A215=\"\",F215=\"\",J215=\"\",O215=\"\",P215=\"\")=TRUE,\"\",IF(C215=\"OSW\",IF(J215>=2,1,0),IF(C215=\"OSR\",IF(AND(J215>=2,P215>60)=TRUE,1,0),IF(C215=\"OSRH\",IF(AND(J215>=1,P215>90)=TRUE,1,0),IF(C215=\"OHLC\",IF(AND(N215=\"Y\",P215>60)=TRUE,1,0),IF(C215=\"DDC\",IF(AND(J215>=4,N215=\"Y\",P215>120)=TRUE,1,0),0))))))","v":""},{"$f":"IF(OR($B$4=\"\",$B$5=\"\",$H$4=\"\",$H$6=\"\",$H$5=\"\",A215=\"\",F215=\"\",K215=\"\",O215=\"\",P215=\"\")=TRUE,\"\",IF(C215=\"OSW\",IF(K215>=2,1,0),IF(C215=\"OSR\",IF(AND(K215>=2,Q215>60)=TRUE,1,0),IF(C215=\"OSRH\",IF(AND(K215>=1,Q215>90)=TRUE,1,0),IF(C215=\"OHLC\",IF(AND(N215=\"Y\",Q215>60)=TRUE,1,0),IF(C215=\"DDC\",IF(AND(K215>=4,N215=\"Y\",Q215>120)=TRUE,1,0),0))))))","v":""}]
[null,null,"",null,null,null,null,null,null,null,null,null,null,null,null,0,0,0,0,"",0,0,0,0,0,{"$f":"IF($H$4=\"\",0,VLOOKUP($H$4,BuildingType_Lookup,3,FALSE))","v":0},{"$f":"IF($H$4=\"\",0,VLOOKUP($H$4,BuildingType_Lookup,2,FALSE))","v":0},{"$f":"IF(AND(OR(AN216=\"\",AN216=0)=TRUE,OR(AO216=\"\",AO216=0))=TRUE,0,IF(AO216=\"\",(IF(OR(C216=\"DDC\",C216=\"OHLC\")=TRUE,O216,P216)/1000)*Y216*Z216*(1+VLOOKUP($H$4,BuildingType_Lookup,4,FALSE)),IF(AO216=0,0,(IF(OR(C216=\"DDC\",C216=\"OHLC\")=TRUE,O216,Q216)/1000)*Y216*Z216*(1+VLOOKUP($H$4,BuildingType_Lookup,4,FALSE)))))","v":0},{"$f":"IF(AND(OR(AN216=\"\",AN216=0)=TRUE,OR(AO216=\"\",AO216=0))=TRUE,0,IF(AO216=\"\",(IF(OR(C216=\"DDC\",C216=\"OHLC\")=TRUE,O216,P216)/1000)*Y216*AA216*(1+VLOOKUP($H$4,BuildingType_Lookup,MATCH($H$5,HVAC,0)+4,FALSE)),IF(AO216=0,0,(IF(OR(C216=\"DDC\",C216=\"OHLC\")=TRUE,O216,Q216)/1000)*Y216*AA216*(1+VLOOKUP($H$4,BuildingType_Lookup,MATCH($H$5,HVAC,0)+4,FALSE)))))","v":0},0,0,0,0,0,0,{"$f":"W216/1000*Y216*AA216*IF(IFERROR(SEARCH(\"Gas\",$H$5),0)>0,VLOOKUP(\"Gas\",HVACg_Lookup,MATCH($H$6,BuildingSize,0)+1,FALSE),IF(IFERROR(SEARCH(\"Oil\",$H$5),0)>0,VLOOKUP(\"Oil\",HVACg_Lookup,MATCH($H$6,BuildingSize,0)+1,FALSE),IF(IFERROR(SEARCH(\"Propane\",$H$5),0)>0,VLOOKUP(\"Propane\",HVACg_Lookup,MATCH(Worksheet!$H$6,BuildingSize,0)+1,FALSE),0)))","v":0},{"$f":"X216/1000*Y216*AA216*IF(IFERROR(SEARCH(\"Gas\",$H$5),0)>0,VLOOKUP(\"Gas\",HVACg_Lookup,MATCH($H$6,BuildingSize,0)+1,FALSE),IF(IFERROR(SEARCH(\"Oil\",$H$5),0)>0,VLOOKUP(\"Oil\",HVACg_Lookup,MATCH($H$6,BuildingSize,0)+1,FALSE),IF(IFERROR(SEARCH(\"Propane\",$H$5),0)>0,VLOOKUP(\"Propane\",HVACg_Lookup,MATCH(Worksheet!$H$6,BuildingSize,0)+1,FALSE),0)))","v":0},0,0,{"$f":"IF(OR($B$4=\"\",$B$5=\"\",$H$4=\"\",$H$6=\"\",$H$5=\"\",A216=\"\",F216=\"\",J216=\"\",O216=\"\",P216=\"\")=TRUE,\"\",IF(C216=\"OSW\",IF(J216>=2,1,0),IF(C216=\"OSR\",IF(AND(J216>=2,P216>60)=TRUE,1,0),IF(C216=\"OSRH\",IF(AND(J216>=1,P216>90)=TRUE,1,0),IF(C216=\"OHLC\",IF(AND(N216=\"Y\",P216>60)=TRUE,1,0),IF(C216=\"DDC\",IF(AND(J216>=4,N216=\"Y\",P216>120)=TRUE,1,0),0))))))","v":""},{"$f":"IF(OR($B$4=\"\",$B$5=\"\",$H$4=\"\",$H$6=\"\",$H$5=\"\",A216=\"\",F216=\"\",K216=\"\",O216=\"\",P216=\"\")=TRUE,\"\",IF(C216=\"OSW\",IF(K216>=2,1,0),IF(C216=\"OSR\",IF(AND(K216>=2,Q216>60)=TRUE,1,0),IF(C216=\"OSRH\",IF(AND(K216>=1,Q216>90)=TRUE,1,0),IF(C216=\"OHLC\",IF(AND(N216=\"Y\",Q216>60)=TRUE,1,0),IF(C216=\"DDC\",IF(AND(K216>=4,N216=\"Y\",Q216>120)=TRUE,1,0),0))))))","v":""}]
[null,null,"",null,null,null,null,null,null,null,null,null,null,null,null,0,0,0,0,"",0,0,0,0,0,{"$f":"IF($H$4=\"\",0,VLOOKUP($H$4,BuildingType_Lookup,3,FALSE))","v":0},{"$f":"IF($H$4=\"\",0,VLOOKUP($H$4,BuildingType_Lookup,2,FALSE))","v":0},{"$f":"IF(AND(OR(AN217=\"\",AN217=0)=TRUE,OR(AO217=\"\",AO217=0))=TRUE,0,IF(AO217=\"\",(IF(OR(C217=\"DDC\",C217=\"OHLC\")=TRUE,O217,P217)/1000)*Y217*Z217*(1+VLOOKUP($H$4,BuildingType_Lookup,4,FALSE)),IF(AO217=0,0,(IF(OR(C217=\"DDC\",C217=\"OHLC\")=TRUE,O217,Q217)/1000)*Y217*Z217*(1+VLOOKUP($H$4,BuildingType_Lookup,4,FALSE)))))","v":0},{"$f":"IF(AND(OR(AN217=\"\",AN217=0)=TRUE,OR(AO217=\"\",AO217=0))=TRUE,0,IF(AO217=\"\",(IF(OR(C217=\"DDC\",C217=\"OHLC\")=TRUE,O217,P217)/1000)*Y217*AA217*(1+VLOOKUP($H$4,BuildingType_Lookup,MATCH($H$5,HVAC,0)+4,FALSE)),IF(AO217=0,0,(IF(OR(C217=\"DDC\",C217=\"OHLC\")=TRUE,O217,Q217)/1000)*Y217*AA217*(1+VLOOKUP($H$4,BuildingType_Lookup,MATCH($H$5,HVAC,0)+4,FALSE)))))","v":0},0,0,0,0,0,0,{"$f":"W217/1000*Y217*AA217*IF(IFERROR(SEARCH(\"Gas\",$H$5),0)>0,VLOOKUP(\"Gas\",HVACg_Lookup,MATCH($H$6,BuildingSize,0)+1,FALSE),IF(IFERROR(SEARCH(\"Oil\",$H$5),0)>0,VLOOKUP(\"Oil\",HVACg_Lookup,MATCH($H$6,BuildingSize,0)+1,FALSE),IF(IFERROR(SEARCH(\"Propane\",$H$5),0)>0,VLOOKUP(\"Propane\",HVACg_Lookup,MATCH(Worksheet!$H$6,BuildingSize,0)+1,FALSE),0)))","v":0},{"$f":"X217/1000*Y217*AA217*IF(IFERROR(SEARCH(\"Gas\",$H$5),0)>0,VLOOKUP(\"Gas\",HVACg_Lookup,MATCH($H$6,BuildingSize,0)+1,FALSE),IF(IFERROR(SEARCH(\"Oil\",$H$5),0)>0,VLOOKUP(\"Oil\",HVACg_Lookup,MATCH($H$6,BuildingSize,0)+1,FALSE),IF(IFERROR(SEARCH(\"Propane\",$H$5),0)>0,VLOOKUP(\"Propane\",HVACg_Lookup,MATCH(Worksheet!$H$6,BuildingSize,0)+1,FALSE),0)))","v":0},0,0,{"$f":"IF(OR($B$4=\"\",$B$5=\"\",$H$4=\"\",$H$6=\"\",$H$5=\"\",A217=\"\",F217=\"\",J217=\"\",O217=\"\",P217=\"\")=TRUE,\"\",IF(C217=\"OSW\",IF(J217>=2,1,0),IF(C217=\"OSR\",IF(AND(J217>=2,P217>60)=TRUE,1,0),IF(C217=\"OSRH\",IF(AND(J217>=1,P217>90)=TRUE,1,0),IF(C217=\"OHLC\",IF(AND(N217=\"Y\",P217>60)=TRUE,1,0),IF(C217=\"DDC\",IF(AND(J217>=4,N217=\"Y\",P217>120)=TRUE,1,0),0))))))","v":""},{"$f":"IF(OR($B$4=\"\",$B$5=\"\",$H$4=\"\",$H$6=\"\",$H$5=\"\",A217=\"\",F217=\"\",K217=\"\",O217=\"\",P217=\"\")=TRUE,\"\",IF(C217=\"OSW\",IF(K217>=2,1,0),IF(C217=\"OSR\",IF(AND(K217>=2,Q217>60)=TRUE,1,0),IF(C217=\"OSRH\",IF(AND(K217>=1,Q217>90)=TRUE,1,0),IF(C217=\"OHLC\",IF(AND(N217=\"Y\",Q217>60)=TRUE,1,0),IF(C217=\"DDC\",IF(AND(K217>=4,N217=\"Y\",Q217>120)=TRUE,1,0),0))))))","v":""}]
[null,null,"",null,null,null,null,null,null,null,null,null,null,null,null,0,0,0,0,"",0,0,0,0,0,{"$f":"IF($H$4=\"\",0,VLOOKUP($H$4,BuildingType_Lookup,3,FALSE))","v":0},{"$f":"IF($H$4=\"\",0,VLOOKUP($H$4,BuildingType_Lookup,2,FALSE))","v":0},{"$f":"IF(AND(OR(AN218=\"\",AN218=0)=TRUE,OR(AO218=\"\",AO218=0))=TRUE,0,IF(AO218=\"\",(IF(OR(C218=\"DDC\",C218=\"OHLC\")=TRUE,O218,P218)/1000)*Y218*Z218*(1+VLOOKUP($H$4,BuildingType_Lookup,4,FALSE)),IF(AO218=0,0,(IF(OR(C218=\"DDC\",C218=\"OHLC\")=TRUE,O218,Q218)/1000)*Y218*Z218*(1+VLOOKUP($H$4,BuildingType_Lookup,4,FALSE)))))","v":0},{"$f":"IF(AND(OR(AN218=\"\",AN218=0)=TRUE,OR(AO218=\"\",AO218=0))=TRUE,0,IF(AO218=\"\",(IF(OR(C218=\"DDC\",C218=\"OHLC\")=TRUE,O218,P218)/1000)*Y218*AA218*(1+VLOOKUP($H$4,BuildingType_Lookup,MATCH($H$5,HVAC,0)+4,FALSE)),IF(AO218=0,0,(IF(OR(C218=\"DDC\",C218=\"OHLC\")=TRUE,O218,Q218)/1000)*Y218*AA218*(1+VLOOKUP($H$4,BuildingType_Lookup,MATCH($H$5,HVAC,0)+4,FALSE)))))","v":0},0,0,0,0,0,0,{"$f":"W218/1000*Y218*AA218*IF(IFERROR(SEARCH(\"Gas\",$H$5),0)>0,VLOOKUP(\"Gas\",HVACg_Lookup,MATCH($H$6,BuildingSize,0)+1,FALSE),IF(IFERROR(SEARCH(\"Oil\",$H$5),0)>0,VLOOKUP(\"Oil\",HVACg_Lookup,MATCH($H$6,BuildingSize,0)+1,FALSE),IF(IFERROR(SEARCH(\"Propane\",$H$5),0)>0,VLOOKUP(\"Propane\",HVACg_Lookup,MATCH(Worksheet!$H$6,BuildingSize,0)+1,FALSE),0)))","v":0},{"$f":"X218/1000*Y218*AA218*IF(IFERROR(SEARCH(\"Gas\",$H$5),0)>0,VLOOKUP(\"Gas\",HVACg_Lookup,MATCH($H$6,BuildingSize,0)+1,FALSE),IF(IFERROR(SEARCH(\"Oil\",$H$5),0)>0,VLOOKUP(\"Oil\",HVACg_Lookup,MATCH($H$6,BuildingSize,0)+1,FALSE),IF(IFERROR(SEARCH(\"Propane\",$H$5),0)>0,VLOOKUP(\"Propane\",HVACg_Lookup,MATCH(Worksheet!$H$6,BuildingSize,0)+1,FALSE),0)))","v":0},0,0,{"$f":"IF(OR($B$4=\"\",$B$5=\"\",$H$4=\"\",$H$6=\"\",$H$5=\"\",A218=\"\",F218=\"\",J218=\"\",O218=\"\",P218=\"\")=TRUE,\"\",IF(C218=\"OSW\",IF(J218>=2,1,0),IF(C218=\"OSR\",IF(AND(J218>=2,P218>60)=TRUE,1,0),IF(C218=\"OSRH\",IF(AND(J218>=1,P218>90)=TRUE,1,0),IF(C218=\"OHLC\",IF(AND(N218=\"Y\",P218>60)=TRUE,1,0),IF(C218=\"DDC\",IF(AND(J218>=4,N218=\"Y\",P218>120)=TRUE,1,0),0))))))","v":""},{"$f":"IF(OR($B$4=\"\",$B$5=\"\",$H$4=\"\",$H$6=\"\",$H$5=\"\",A218=\"\",F218=\"\",K218=\"\",O218=\"\",P218=\"\")=TRUE,\"\",IF(C218=\"OSW\",IF(K218>=2,1,0),IF(C218=\"OSR\",IF(AND(K218>=2,Q218>60)=TRUE,1,0),IF(C218=\"OSRH\",IF(AND(K218>=1,Q218>90)=TRUE,1,0),IF(C218=\"OHLC\",IF(AND(N218=\"Y\",Q218>60)=TRUE,1,0),IF(C218=\"DDC\",IF(AND(K218>=4,N218=\"Y\",Q218>120)=TRUE,1,0),0))))))","v":""}]
[null,null,"",null,null,null,null,null,null,null,null,null,null,null,null,0,0,0,0,"",0,0,0,0,0,{"$f":"IF($H$4=\"\",0,VLOOKUP($H$4,BuildingType_Lookup,3,FALSE))","v":0},{"$f":"IF($H$4=\"\",0,VLOOKUP($H$4,BuildingType_Lookup,2,FALSE))","v":0},{"$f":"IF(AND(OR(AN219=\"\",AN219=0)=TRUE,OR(AO219=\"\",AO219=0))=TRUE,0,IF(AO219=\"\",(IF(OR(C219=\"DDC\",C219=\"OHLC\")=TRUE,O219,P219)/1000)*Y219*Z219*(1+VLOOKUP($H$4,BuildingType_Lookup,4,FALSE)),IF(AO219=0,0,(IF(OR(C219=\"DDC\",C219=\"OHLC\")=TRUE,O219,Q219)/1000)*Y219*Z219*(1+VLOOKUP($H$4,BuildingType_Lookup,4,FALSE)))))","v":0},{"$f":"IF(AND(OR(AN219=\"\",AN219=0)=TRUE,OR(AO219=\"\",AO219=0))=TRUE,0,IF(AO219=\"\",(IF(OR(C219=\"DDC\",C219=\"OHLC\")=TRUE,O219,P219)/1000)*Y219*AA219*(1+VLOOKUP($H$4,BuildingType_Lookup,MATCH($H$5,HVAC,0)+4,FALSE)),IF(AO219=0,0,(IF(OR(C219=\"DDC\",C219=\"OHLC\")=TRUE,O219,Q219)/1000)*Y219*AA219*(1+VLOOKUP($H$4,BuildingType_Lookup,MATCH($H$5,HVAC,0)+4,FALSE)))))","v":0},0,0,0,0,0,0,{"$f":"W219/1000*Y219*AA219*IF(IFERROR(SEARCH(\"Gas\",$H$5),0)>0,VLOOKUP(\"Gas\",HVACg_Lookup,MATCH($H$6,BuildingSize,0)+1,FALSE),IF(IFERROR(SEARCH(\"Oil\",$H$5),0)>0,VLOOKUP(\"Oil\",HVACg_Lookup,MATCH($H$6,BuildingSize,0)+1,FALSE),IF(IFERROR(SEARCH(\"Propane\",$H$5),0)>0,VLOOKUP(\"Propane\",HVACg_Lookup,MATCH(Worksheet!$H$6,BuildingSize,0)+1,FALSE),0)))","v":0},{"$f":"X219/1000*Y219*AA219*IF(IFERROR(SEARCH(\"Gas\",$H$5),0)>0,VLOOKUP(\"Gas\",HVACg_Lookup,MATCH($H$6,BuildingSize,0)+1,FALSE),IF(IFERROR(SEARCH(\"Oil\",$H$5),0)>0,VLOOKUP(\"Oil\",HVACg_Lookup,MATCH($H$6,BuildingSize,0)+1,FALSE),IF(IFERROR(SEARCH(\"Propane\",$H$5),0)>0,VLOOKUP(\"Propane\",HVACg_Lookup,MATCH(Worksheet!$H$6,BuildingSize,0)+1,FALSE),0)))","v":0},0,0,{"$f":"IF(OR($B$4=\"\",$B$5=\"\",$H$4=\"\",$H$6=\"\",$H$5=\"\",A219=\"\",F219=\"\",J219=\"\",O219=\"\",P219=\"\")=TRUE,\"\",IF(C219=\"OSW\",IF(J219>=2,1,0),IF(C219=\"OSR\",IF(AND(J219>=2,P219>60)=TRUE,1,0),IF(C219=\"OSRH\",IF(AND(J219>=1,P219>90)=TRUE,1,0),IF(C219=\"OHLC\",IF(AND(N219=\"Y\",P219>60)=TRUE,1,0),IF(C219=\"DDC\",IF(AND(J219>=4,N219=\"Y\",P219>120)=TRUE,1,0),0))))))","v":""},{"$f":"IF(OR($B$4=\"\",$B$5=\"\",$H$4=\"\",$H$6=\"\",$H$5=\"\",A219=\"\",F219=\"\",K219=\"\",O219=\"\",P219=\"\")=TRUE,\"\",IF(C219=\"OSW\",IF(K219>=2,1,0),IF(C219=\"OSR\",IF(AND(K219>=2,Q219>60)=TRUE,1,0),IF(C219=\"OSRH\",IF(AND(K219>=1,Q219>90)=TRUE,1,0),IF(C219=\"OHLC\",IF(AND(N219=\"Y\",Q219>60)=TRUE,1,0),IF(C219=\"DDC\",IF(AND(K219>=4,N219=\"Y\",Q219>120)=TRUE,1,0),0))))))","v":""}]
[null,null,"",null,null,null,null,null,null,null,null,null,null,null,null,0,0,0,0,"",0,0,0,0,0,{"$f":"IF($H$4=\"\",0,VLOOKUP($H$4,BuildingType_Lookup,3,FALSE))","v":0},{"$f":"IF($H$4=\"\",0,VLOOKUP($H$4,BuildingType_Lookup,2,FALSE))","v":0},{"$f":"IF(AND(OR(AN220=\"\",AN220=0)=TRUE,OR(AO220=\"\",AO220=0))=TRUE,0,IF(AO220=\"\",(IF(OR(C220=\"DDC\",C220=\"OHLC\")=TRUE,O220,P220)/1000)*Y220*Z220*(1+VLOOKUP($H$4,BuildingType_Lookup,4,FALSE)),IF(AO220=0,0,(IF(OR(C220=\"DDC\",C220=\"OHLC\")=TRUE,O220,Q220)/1000)*Y220*Z220*(1+VLOOKUP($H$4,BuildingType_Lookup,4,FALSE)))))","v":0},{"$f":"IF(AND(OR(AN220=\"\",AN220=0)=TRUE,OR(AO220=\"\",AO220=0))=TRUE,0,IF(AO220=\"\",(IF(OR(C220=\"DDC\",C220=\"OHLC\")=TRUE,O220,P220)/1000)*Y220*AA220*(1+VLOOKUP($H$4,BuildingType_Lookup,MATCH($H$5,HVAC,0)+4,FALSE)),IF(AO220=0,0,(IF(OR(C220=\"DDC\",C220=\"OHLC\")=TRUE,O220,Q220)/1000)*Y220*AA220*(1+VLOOKUP($H$4,BuildingType_Lookup,MATCH($H$5,HVAC,0)+4,FALSE)))))","v":0},0,0,0,0,0,0,{"$f":"W220/1000*Y220*AA220*IF(IFERROR(SEARCH(\"Gas\",$H$5),0)>0,VLOOKUP(\"Gas\",HVACg_Lookup,MATCH($H$6,BuildingSize,0)+1,FALSE),IF(IFERROR(SEARCH(\"Oil\",$H$5),0)>0,VLOOKUP(\"Oil\",HVACg_Lookup,MATCH($H$6,BuildingSize,0)+1,FALSE),IF(IFERROR(SEARCH(\"Propane\",$H$5),0)>0,VLOOKUP(\"Propane\",HVACg_Lookup,MATCH(Worksheet!$H$6,BuildingSize,0)+1,FALSE),0)))","v":0},{"$f":"X220/1000*Y220*AA220*IF(IFERROR(SEARCH(\"Gas\",$H$5),0)>0,VLOOKUP(\"Gas\",HVACg_Lookup,MATCH($H$6,BuildingSize,0)+1,FALSE),IF(IFERROR(SEARCH(\"Oil\",$H$5),0)>0,VLOOKUP(\"Oil\",HVACg_Lookup,MATCH($H$6,BuildingSize,0)+1,FALSE),IF(IFERROR(SEARCH(\"Propane\",$H$5),0)>0,VLOOKUP(\"Propane\",HVACg_Lookup,MATCH(Worksheet!$H$6,BuildingSize,0)+1,FALSE),0)))","v":0},0,0,{"$f":"IF(OR($B$4=\"\",$B$5=\"\",$H$4=\"\",$H$6=\"\",$H$5=\"\",A220=\"\",F220=\"\",J220=\"\",O220=\"\",P220=\"\")=TRUE,\"\",IF(C220=\"OSW\",IF(J220>=2,1,0),IF(C220=\"OSR\",IF(AND(J220>=2,P220>60)=TRUE,1,0),IF(C220=\"OSRH\",IF(AND(J220>=1,P220>90)=TRUE,1,0),IF(C220=\"OHLC\",IF(AND(N220=\"Y\",P220>60)=TRUE,1,0),IF(C220=\"DDC\",IF(AND(J220>=4,N220=\"Y\",P220>120)=TRUE,1,0),0))))))","v":""},{"$f":"IF(OR($B$4=\"\",$B$5=\"\",$H$4=\"\",$H$6=\"\",$H$5=\"\",A220=\"\",F220=\"\",K220=\"\",O220=\"\",P220=\"\")=TRUE,\"\",IF(C220=\"OSW\",IF(K220>=2,1,0),IF(C220=\"OSR\",IF(AND(K220>=2,Q220>60)=TRUE,1,0),IF(C220=\"OSRH\",IF(AND(K220>=1,Q220>90)=TRUE,1,0),IF(C220=\"OHLC\",IF(AND(N220=\"Y\",Q220>60)=TRUE,1,0),IF(C220=\"DDC\",IF(AND(K220>=4,N220=\"Y\",Q220>120)=TRUE,1,0),0))))))","v":""}]
[null,null,"",null,null,null,null,null,null,null,null,null,null,null,null,0,0,0,0,"",0,0,0,0,0,{"$f":"IF($H$4=\"\",0,VLOOKUP($H$4,BuildingType_Lookup,3,FALSE))","v":0},{"$f":"IF($H$4=\"\",0,VLOOKUP($H$4,BuildingType_Lookup,2,FALSE))","v":0},{"$f":"IF(AND(OR(AN221=\"\",AN221=0)=TRUE,OR(AO221=\"\",AO221=0))=TRUE,0,IF(AO221=\"\",(IF(OR(C221=\"DDC\",C221=\"OHLC\")=TRUE,O221,P221)/1000)*Y221*Z221*(1+VLOOKUP($H$4,BuildingType_Lookup,4,FALSE)),IF(AO221=0,0,(IF(OR(C221=\"DDC\",C221=\"OHLC\")=TRUE,O221,Q221)/1000)*Y221*Z221*(1+VLOOKUP($H$4,BuildingType_Lookup,4,FALSE)))))","v":0},{"$f":"IF(AND(OR(AN221=\"\",AN221=0)=TRUE,OR(AO221=\"\",AO221=0))=TRUE,0,IF(AO221=\"\",(IF(OR(C221=\"DDC\",C221=\"OHLC\")=TRUE,O221,P221)/1000)*Y221*AA221*(1+VLOOKUP($H$4,BuildingType_Lookup,MATCH($H$5,HVAC,0)+4,FALSE)),IF(AO221=0,0,(IF(OR(C221=\"DDC\",C221=\"OHLC\")=TRUE,O221,Q221)/1000)*Y221*AA221*(1+VLOOKUP($H$4,BuildingType_Lookup,MATCH($H$5,HVAC,0)+4,FALSE)))))","v":0},0,0,0,0,0,0,{"$f":"W221/1000*Y221*AA221*IF(IFERROR(SEARCH(\"Gas\",$H$5),0)>0,VLOOKUP(\"Gas\",HVACg_Lookup,MATCH($H$6,BuildingSize,0)+1,FALSE),IF(IFERROR(SEARCH(\"Oil\",$H$5),0)>0,VLOOKUP(\"Oil\",HVACg_Lookup,MATCH($H$6,BuildingSize,0)+1,FALSE),IF(IFERROR(SEARCH(\"Propane\",$H$5),0)>0,VLOOKUP(\"Propane\",HVACg_Lookup,MATCH(Worksheet!$H$6,BuildingSize,0)+1,FALSE),0)))","v":0},{"$f":"X221/1000*Y221*AA221*IF(IFERROR(SEARCH(\"Gas\",$H$5),0)>0,VLOOKUP(\"Gas\",HVACg_Lookup,MATCH($H$6,BuildingSize,0)+1,FALSE),IF(IFERROR(SEARCH(\"Oil\",$H$5),0)>0,VLOOKUP(\"Oil\",HVACg_Lookup,MATCH($H$6,BuildingSize,0)+1,FALSE),IF(IFERROR(SEARCH(\"Propane\",$H$5),0)>0,VLOOKUP(\"Propane\",HVACg_Lookup,MATCH(Worksheet!$H$6,BuildingSize,0)+1,FALSE),0)))","v":0},0,0,{"$f":"IF(OR($B$4=\"\",$B$5=\"\",$H$4=\"\",$H$6=\"\",$H$5=\"\",A221=\"\",F221=\"\",J221=\"\",O221=\"\",P221=\"\")=TRUE,\"\",IF(C221=\"OSW\",IF(J221>=2,1,0),IF(C221=\"OSR\",IF(AND(J221>=2,P221>60)=TRUE,1,0),IF(C221=\"OSRH\",IF(AND(J221>=1,P221>90)=TRUE,1,0),IF(C221=\"OHLC\",IF(AND(N221=\"Y\",P221>60)=TRUE,1,0),IF(C221=\"DDC\",IF(AND(J221>=4,N221=\"Y\",P221>120)=TRUE,1,0),0))))))","v":""},{"$f":"IF(OR($B$4=\"\",$B$5=\"\",$H$4=\"\",$H$6=\"\",$H$5=\"\",A221=\"\",F221=\"\",K221=\"\",O221=\"\",P221=\"\")=TRUE,\"\",IF(C221=\"OSW\",IF(K221>=2,1,0),IF(C221=\"OSR\",IF(AND(K221>=2,Q221>60)=TRUE,1,0),IF(C221=\"OSRH\",IF(AND(K221>=1,Q221>90)=TRUE,1,0),IF(C221=\"OHLC\",IF(AND(N221=\"Y\",Q221>60)=TRUE,1,0),IF(C221=\"DDC\",IF(AND(K221>=4,N221=\"Y\",Q221>120)=TRUE,1,0),0))))))","v":""}]
[null,null,"",null,null,null,null,null,null,null,null,null,null,null,null,0,0,0,0,"",0,0,0,0,0,{"$f":"IF($H$4=\"\",0,VLOOKUP($H$4,BuildingType_Lookup,3,FALSE))","v":0},{"$f":"IF($H$4=\"\",0,VLOOKUP($H$4,BuildingType_Lookup,2,FALSE))","v":0},{"$f":"IF(AND(OR(AN222=\"\",AN222=0)=TRUE,OR(AO222=\"\",AO222=0))=TRUE,0,IF(AO222=\"\",(IF(OR(C222=\"DDC\",C222=\"OHLC\")=TRUE,O222,P222)/1000)*Y222*Z222*(1+VLOOKUP($H$4,BuildingType_Lookup,4,FALSE)),IF(AO222=0,0,(IF(OR(C222=\"DDC\",C222=\"OHLC\")=TRUE,O222,Q222)/1000)*Y222*Z222*(1+VLOOKUP($H$4,BuildingType_Lookup,4,FALSE)))))","v":0},{"$f":"IF(AND(OR(AN222=\"\",AN222=0)=TRUE,OR(AO222=\"\",AO222=0))=TRUE,0,IF(AO222=\"\",(IF(OR(C222=\"DDC\",C222=\"OHLC\")=TRUE,O222,P222)/1000)*Y222*AA222*(1+VLOOKUP($H$4,BuildingType_Lookup,MATCH($H$5,HVAC,0)+4,FALSE)),IF(AO222=0,0,(IF(OR(C222=\"DDC\",C222=\"OHLC\")=TRUE,O222,Q222)/1000)*Y222*AA222*(1+VLOOKUP($H$4,BuildingType_Lookup,MATCH($H$5,HVAC,0)+4,FALSE)))))","v":0},0,0,0,0,0,0,{"$f":"W222/1000*Y222*AA222*IF(IFERROR(SEARCH(\"Gas\",$H$5),0)>0,VLOOKUP(\"Gas\",HVACg_Lookup,MATCH($H$6,BuildingSize,0)+1,FALSE),IF(IFERROR(SEARCH(\"Oil\",$H$5),0)>0,VLOOKUP(\"Oil\",HVACg_Lookup,MATCH($H$6,BuildingSize,0)+1,FALSE),IF(IFERROR(SEARCH(\"Propane\",$H$5),0)>0,VLOOKUP(\"Propane\",HVACg_Lookup,MATCH(Worksheet!$H$6,BuildingSize,0)+1,FALSE),0)))","v":0},{"$f":"X222/1000*Y222*AA222*IF(IFERROR(SEARCH(\"Gas\",$H$5),0)>0,VLOOKUP(\"Gas\",HVACg_Lookup,MATCH($H$6,BuildingSize,0)+1,FALSE),IF(IFERROR(SEARCH(\"Oil\",$H$5),0)>0,VLOOKUP(\"Oil\",HVACg_Lookup,MATCH($H$6,BuildingSize,0)+1,FALSE),IF(IFERROR(SEARCH(\"Propane\",$H$5),0)>0,VLOOKUP(\"Propane\",HVACg_Lookup,MATCH(Worksheet!$H$6,BuildingSize,0)+1,FALSE),0)))","v":0},0,0,{"$f":"IF(OR($B$4=\"\",$B$5=\"\",$H$4=\"\",$H$6=\"\",$H$5=\"\",A222=\"\",F222=\"\",J222=\"\",O222=\"\",P222=\"\")=TRUE,\"\",IF(C222=\"OSW\",IF(J222>=2,1,0),IF(C222=\"OSR\",IF(AND(J222>=2,P222>60)=TRUE,1,0),IF(C222=\"OSRH\",IF(AND(J222>=1,P222>90)=TRUE,1,0),IF(C222=\"OHLC\",IF(AND(N222=\"Y\",P222>60)=TRUE,1,0),IF(C222=\"DDC\",IF(AND(J222>=4,N222=\"Y\",P222>120)=TRUE,1,0),0))))))","v":""},{"$f":"IF(OR($B$4=\"\",$B$5=\"\",$H$4=\"\",$H$6=\"\",$H$5=\"\",A222=\"\",F222=\"\",K222=\"\",O222=\"\",P222=\"\")=TRUE,\"\",IF(C222=\"OSW\",IF(K222>=2,1,0),IF(C222=\"OSR\",IF(AND(K222>=2,Q222>60)=TRUE,1,0),IF(C222=\"OSRH\",IF(AND(K222>=1,Q222>90)=TRUE,1,0),IF(C222=\"OHLC\",IF(AND(N222=\"Y\",Q222>60)=TRUE,1,0),IF(C222=\"DDC\",IF(AND(K222>=4,N222=\"Y\",Q222>120)=TRUE,1,0),0))))))","v":""}]
[null,null,"",null,null,null,null,null,null,null,null,null,null,null,null,0,0,0,0,"",0,0,0,0,0,{"$f":"IF($H$4=\"\",0,VLOOKUP($H$4,BuildingType_Lookup,3,FALSE))","v":0},{"$f":"IF($H$4=\"\",0,VLOOKUP($H$4,BuildingType_Lookup,2,FALSE))","v":0},{"$f":"IF(AND(OR(AN223=\"\",AN223=0)=TRUE,OR(AO223=\"\",AO223=0))=TRUE,0,IF(AO223=\"\",(IF(OR(C223=\"DDC\",C223=\"OHLC\")=TRUE,O223,P223)/1000)*Y223*Z223*(1+VLOOKUP($H$4,BuildingType_Lookup,4,FALSE)),IF(AO223=0,0,(IF(OR(C223=\"DDC\",C223=\"OHLC\")=TRUE,O223,Q223)/1000)*Y223*Z223*(1+VLOOKUP($H$4,BuildingType_Lookup,4,FALSE)))))","v":0},{"$f":"IF(AND(OR(AN223=\"\",AN223=0)=TRUE,OR(AO223=\"\",AO223=0))=TRUE,0,IF(AO223=\"\",(IF(OR(C223=\"DDC\",C223=\"OHLC\")=TRUE,O223,P223)/1000)*Y223*AA223*(1+VLOOKUP($H$4,BuildingType_Lookup,MATCH($H$5,HVAC,0)+4,FALSE)),IF(AO223=0,0,(IF(OR(C223=\"DDC\",C223=\"OHLC\")=TRUE,O223,Q223)/1000)*Y223*AA223*(1+VLOOKUP($H$4,BuildingType_Lookup,MATCH($H$5,HVAC,0)+4,FALSE)))))","v":0},0,0,0,0,0,0,{"$f":"W223/1000*Y223*AA223*IF(IFERROR(SEARCH(\"Gas\",$H$5),0)>0,VLOOKUP(\"Gas\",HVACg_Lookup,MATCH($H$6,BuildingSize,0)+1,FALSE),IF(IFERROR(SEARCH(\"Oil\",$H$5),0)>0,VLOOKUP(\"Oil\",HVACg_Lookup,MATCH($H$6,BuildingSize,0)+1,FALSE),IF(IFERROR(SEARCH(\"Propane\",$H$5),0)>0,VLOOKUP(\"Propane\",HVACg_Lookup,MATCH(Worksheet!$H$6,BuildingSize,0)+1,FALSE),0)))","v":0},{"$f":"X223/1000*Y223*AA223*IF(IFERROR(SEARCH(\"Gas\",$H$5),0)>0,VLOOKUP(\"Gas\",HVACg_Lookup,MATCH($H$6,BuildingSize,0)+1,FALSE),IF(IFERROR(SEARCH(\"Oil\",$H$5),0)>0,VLOOKUP(\"Oil\",HVACg_Lookup,MATCH($H$6,BuildingSize,0)+1,FALSE),IF(IFERROR(SEARCH(\"Propane\",$H$5),0)>0,VLOOKUP(\"Propane\",HVACg_Lookup,MATCH(Worksheet!$H$6,BuildingSize,0)+1,FALSE),0)))","v":0},0,0,{"$f":"IF(OR($B$4=\"\",$B$5=\"\",$H$4=\"\",$H$6=\"\",$H$5=\"\",A223=\"\",F223=\"\",J223=\"\",O223=\"\",P223=\"\")=TRUE,\"\",IF(C223=\"OSW\",IF(J223>=2,1,0),IF(C223=\"OSR\",IF(AND(J223>=2,P223>60)=TRUE,1,0),IF(C223=\"OSRH\",IF(AND(J223>=1,P223>90)=TRUE,1,0),IF(C223=\"OHLC\",IF(AND(N223=\"Y\",P223>60)=TRUE,1,0),IF(C223=\"DDC\",IF(AND(J223>=4,N223=\"Y\",P223>120)=TRUE,1,0),0))))))","v":""},{"$f":"IF(OR($B$4=\"\",$B$5=\"\",$H$4=\"\",$H$6=\"\",$H$5=\"\",A223=\"\",F223=\"\",K223=\"\",O223=\"\",P223=\"\")=TRUE,\"\",IF(C223=\"OSW\",IF(K223>=2,1,0),IF(C223=\"OSR\",IF(AND(K223>=2,Q223>60)=TRUE,1,0),IF(C223=\"OSRH\",IF(AND(K223>=1,Q223>90)=TRUE,1,0),IF(C223=\"OHLC\",IF(AND(N223=\"Y\",Q223>60)=TRUE,1,0),IF(C223=\"DDC\",IF(AND(K223>=4,N223=\"Y\",Q223>120)=TRUE,1,0),0))))))","v":""}]
[null,null,"",null,null,null,null,null,null,null,null,null,null,null,null,0,0,0,0,"",0,0,0,0,0,{"$f":"IF($H$4=\"\",0,VLOOKUP($H$4,BuildingType_Lookup,3,FALSE))","v":0},{"$f":"IF($H$4=\"\",0,VLOOKUP($H$4,BuildingType_Lookup,2,FALSE))","v":0},{"$f":"IF(AND(OR(AN224=\"\",AN224=0)=TRUE,OR(AO224=\"\",AO224=0))=TRUE,0,IF(AO224=\"\",(IF(OR(C224=\"DDC\",C224=\"OHLC\")=TRUE,O224,P224)/1000)*Y224*Z224*(1+VLOOKUP($H$4,BuildingType_Lookup,4,FALSE)),IF(AO224=0,0,(IF(OR(C224=\"DDC\",C224=\"OHLC\")=TRUE,O224,Q224)/1000)*Y224*Z224*(1+VLOOKUP($H$4,BuildingType_Lookup,4,FALSE)))))","v":0},{"$f":"IF(AND(OR(AN224=\"\",AN224=0)=TRUE,OR(AO224=\"\",AO224=0))=TRUE,0,IF(AO224=\"\",(IF(OR(C224=\"DDC\",C224=\"OHLC\")=TRUE,O224,P224)/1000)*Y224*AA224*(1+VLOOKUP($H$4,BuildingType_Lookup,MATCH($H$5,HVAC,0)+4,FALSE)),IF(AO224=0,0,(IF(OR(C224=\"DDC\",C224=\"OHLC\")=TRUE,O224,Q224)/1000)*Y224*AA224*(1+VLOOKUP($H$4,BuildingType_Lookup,MATCH($H$5,HVAC,0)+4,FALSE)))))","v":0},0,0,0,0,0,0,{"$f":"W224/1000*Y224*AA224*IF(IFERROR(SEARCH(\"Gas\",$H$5),0)>0,VLOOKUP(\"Gas\",HVACg_Lookup,MATCH($H$6,BuildingSize,0)+1,FALSE),IF(IFERROR(SEARCH(\"Oil\",$H$5),0)>0,VLOOKUP(\"Oil\",HVACg_Lookup,MATCH($H$6,BuildingSize,0)+1,FALSE),IF(IFERROR(SEARCH(\"Propane\",$H$5),0)>0,VLOOKUP(\"Propane\",HVACg_Lookup,MATCH(Worksheet!$H$6,BuildingSize,0)+1,FALSE),0)))","v":0},{"$f":"X224/1000*Y224*AA224*IF(IFERROR(SEARCH(\"Gas\",$H$5),0)>0,VLOOKUP(\"Gas\",HVACg_Lookup,MATCH($H$6,BuildingSize,0)+1,FALSE),IF(IFERROR(SEARCH(\"Oil\",$H$5),0)>0,VLOOKUP(\"Oil\",HVACg_Lookup,MATCH($H$6,BuildingSize,0)+1,FALSE),IF(IFERROR(SEARCH(\"Propane\",$H$5),0)>0,VLOOKUP(\"Propane\",HVACg_Lookup,MATCH(Worksheet!$H$6,BuildingSize,0)+1,FALSE),0)))","v":0},0,0,{"$f":"IF(OR($B$4=\"\",$B$5=\"\",$H$4=\"\",$H$6=\"\",$H$5=\"\",A224=\"\",F224=\"\",J224=\"\",O224=\"\",P224=\"\")=TRUE,\"\",IF(C224=\"OSW\",IF(J224>=2,1,0),IF(C224=\"OSR\",IF(AND(J224>=2,P224>60)=TRUE,1,0),IF(C224=\"OSRH\",IF(AND(J224>=1,P224>90)=TRUE,1,0),IF(C224=\"OHLC\",IF(AND(N224=\"Y\",P224>60)=TRUE,1,0),IF(C224=\"DDC\",IF(AND(J224>=4,N224=\"Y\",P224>120)=TRUE,1,0),0))))))","v":""},{"$f":"IF(OR($B$4=\"\",$B$5=\"\",$H$4=\"\",$H$6=\"\",$H$5=\"\",A224=\"\",F224=\"\",K224=\"\",O224=\"\",P224=\"\")=TRUE,\"\",IF(C224=\"OSW\",IF(K224>=2,1,0),IF(C224=\"OSR\",IF(AND(K224>=2,Q224>60)=TRUE,1,0),IF(C224=\"OSRH\",IF(AND(K224>=1,Q224>90)=TRUE,1,0),IF(C224=\"OHLC\",IF(AND(N224=\"Y\",Q224>60)=TRUE,1,0),IF(C224=\"DDC\",IF(AND(K224>=4,N224=\"Y\",Q224>120)=TRUE,1,0),0))))))","v":""}]
[null,null,"",null,null,null,null,null,null,null,null,null,null,null,null,0,0,0,0,"",0,0,0,0,0,{"$f":"IF($H$4=\"\",0,VLOOKUP($H$4,BuildingType_Lookup,3,FALSE))","v":0},{"$f":"IF($H$4=\"\",0,VLOOKUP($H$4,BuildingType_Lookup,2,FALSE))","v":0},{"$f":"IF(AND(OR(AN225=\"\",AN225=0)=TRUE,OR(AO225=\"\",AO225=0))=TRUE,0,IF(AO225=\"\",(IF(OR(C225=\"DDC\",C225=\"OHLC\")=TRUE,O225,P225)/1000)*Y225*Z225*(1+VLOOKUP($H$4,BuildingType_Lookup,4,FALSE)),IF(AO225=0,0,(IF(OR(C225=\"DDC\",C225=\"OHLC\")=TRUE,O225,Q225)/1000)*Y225*Z225*(1+VLOOKUP($H$4,BuildingType_Lookup,4,FALSE)))))","v":0},{"$f":"IF(AND(OR(AN225=\"\",AN225=0)=TRUE,OR(AO225=\"\",AO225=0))=TRUE,0,IF(AO225=\"\",(IF(OR(C225=\"DDC\",C225=\"OHLC\")=TRUE,O225,P225)/1000)*Y225*AA225*(1+VLOOKUP($H$4,BuildingType_Lookup,MATCH($H$5,HVAC,0)+4,FALSE)),IF(AO225=0,0,(IF(OR(C225=\"DDC\",C225=\"OHLC\")=TRUE,O225,Q225)/1000)*Y225*AA225*(1+VLOOKUP($H$4,BuildingType_Lookup,MATCH($H$5,HVAC,0)+4,FALSE)))))","v":0},0,0,0,0,0,0,{"$f":"W225/1000*Y225*AA225*IF(IFERROR(SEARCH(\"Gas\",$H$5),0)>0,VLOOKUP(\"Gas\",HVACg_Lookup,MATCH($H$6,BuildingSize,0)+1,FALSE),IF(IFERROR(SEARCH(\"Oil\",$H$5),0)>0,VLOOKUP(\"Oil\",HVACg_Lookup,MATCH($H$6,BuildingSize,0)+1,FALSE),IF(IFERROR(SEARCH(\"Propane\",$H$5),0)>0,VLOOKUP(\"Propane\",HVACg_Lookup,MATCH(Worksheet!$H$6,BuildingSize,0)+1,FALSE),0)))","v":0},{"$f":"X225/1000*Y225*AA225*IF(IFERROR(SEARCH(\"Gas\",$H$5),0)>0,VLOOKUP(\"Gas\",HVACg_Lookup,MATCH($H$6,BuildingSize,0)+1,FALSE),IF(IFERROR(SEARCH(\"Oil\",$H$5),0)>0,VLOOKUP(\"Oil\",HVACg_Lookup,MATCH($H$6,BuildingSize,0)+1,FALSE),IF(IFERROR(SEARCH(\"Propane\",$H$5),0)>0,VLOOKUP(\"Propane\",HVACg_Lookup,MATCH(Worksheet!$H$6,BuildingSize,0)+1,FALSE),0)))","v":0},0,0,{"$f":"IF(OR($B$4=\"\",$B$5=\"\",$H$4=\"\",$H$6=\"\",$H$5=\"\",A225=\"\",F225=\"\",J225=\"\",O225=\"\",P225=\"\")=TRUE,\"\",IF(C225=\"OSW\",IF(J225>=2,1,0),IF(C225=\"OSR\",IF(AND(J225>=2,P225>60)=TRUE,1,0),IF(C225=\"OSRH\",IF(AND(J225>=1,P225>90)=TRUE,1,0),IF(C225=\"OHLC\",IF(AND(N225=\"Y\",P225>60)=TRUE,1,0),IF(C225=\"DDC\",IF(AND(J225>=4,N225=\"Y\",P225>120)=TRUE,1,0),0))))))","v":""},{"$f":"IF(OR($B$4=\"\",$B$5=\"\",$H$4=\"\",$H$6=\"\",$H$5=\"\",A225=\"\",F225=\"\",K225=\"\",O225=\"\",P225=\"\")=TRUE,\"\",IF(C225=\"OSW\",IF(K225>=2,1,0),IF(C225=\"OSR\",IF(AND(K225>=2,Q225>60)=TRUE,1,0),IF(C225=\"OSRH\",IF(AND(K225>=1,Q225>90)=TRUE,1,0),IF(C225=\"OHLC\",IF(AND(N225=\"Y\",Q225>60)=TRUE,1,0),IF(C225=\"DDC\",IF(AND(K225>=4,N225=\"Y\",Q225>120)=TRUE,1,0),0))))))","v":""}]
[null,null,"",null,null,null,null,null,null,null,null,null,null,null,null,0,0,0,0,"",0,0,0,0,0,{"$f":"IF($H$4=\"\",0,VLOOKUP($H$4,BuildingType_Lookup,3,FALSE))","v":0},{"$f":"IF($H$4=\"\",0,VLOOKUP($H$4,BuildingType_Lookup,2,FALSE))","v":0},{"$f":"IF(AND(OR(AN226=\"\",AN226=0)=TRUE,OR(AO226=\"\",AO226=0))=TRUE,0,IF(AO226=\"\",(IF(OR(C226=\"DDC\",C226=\"OHLC\")=TRUE,O226,P226)/1000)*Y226*Z226*(1+VLOOKUP($H$4,BuildingType_Lookup,4,FALSE)),IF(AO226=0,0,(IF(OR(C226=\"DDC\",C226=\"OHLC\")=TRUE,O226,Q226)/1000)*Y226*Z226*(1+VLOOKUP($H$4,BuildingType_Lookup,4,FALSE)))))","v":0},{"$f":"IF(AND(OR(AN226=\"\",AN226=0)=TRUE,OR(AO226=\"\",AO226=0))=TRUE,0,IF(AO226=\"\",(IF(OR(C226=\"DDC\",C226=\"OHLC\")=TRUE,O226,P226)/1000)*Y226*AA226*(1+VLOOKUP($H$4,BuildingType_Lookup,MATCH($H$5,HVAC,0)+4,FALSE)),IF(AO226=0,0,(IF(OR(C226=\"DDC\",C226=\"OHLC\")=TRUE,O226,Q226)/1000)*Y226*AA226*(1+VLOOKUP($H$4,BuildingType_Lookup,MATCH($H$5,HVAC,0)+4,FALSE)))))","v":0},0,0,0,0,0,0,{"$f":"W226/1000*Y226*AA226*IF(IFERROR(SEARCH(\"Gas\",$H$5),0)>0,VLOOKUP(\"Gas\",HVACg_Lookup,MATCH($H$6,BuildingSize,0)+1,FALSE),IF(IFERROR(SEARCH(\"Oil\",$H$5),0)>0,VLOOKUP(\"Oil\",HVACg_Lookup,MATCH($H$6,BuildingSize,0)+1,FALSE),IF(IFERROR(SEARCH(\"Propane\",$H$5),0)>0,VLOOKUP(\"Propane\",HVACg_Lookup,MATCH(Worksheet!$H$6,BuildingSize,0)+1,FALSE),0)))","v":0},{"$f":"X226/1000*Y226*AA226*IF(IFERROR(SEARCH(\"Gas\",$H$5),0)>0,VLOOKUP(\"Gas\",HVACg_Lookup,MATCH($H$6,BuildingSize,0)+1,FALSE),IF(IFERROR(SEARCH(\"Oil\",$H$5),0)>0,VLOOKUP(\"Oil\",HVACg_Lookup,MATCH($H$6,BuildingSize,0)+1,FALSE),IF(IFERROR(SEARCH(\"Propane\",$H$5),0)>0,VLOOKUP(\"Propane\",HVACg_Lookup,MATCH(Worksheet!$H$6,BuildingSize,0)+1,FALSE),0)))","v":0},0,0,{"$f":"IF(OR($B$4=\"\",$B$5=\"\",$H$4=\"\",$H$6=\"\",$H$5=\"\",A226=\"\",F226=\"\",J226=\"\",O226=\"\",P226=\"\")=TRUE,\"\",IF(C226=\"OSW\",IF(J226>=2,1,0),IF(C226=\"OSR\",IF(AND(J226>=2,P226>60)=TRUE,1,0),IF(C226=\"OSRH\",IF(AND(J226>=1,P226>90)=TRUE,1,0),IF(C226=\"OHLC\",IF(AND(N226=\"Y\",P226>60)=TRUE,1,0),IF(C226=\"DDC\",IF(AND(J226>=4,N226=\"Y\",P226>120)=TRUE,1,0),0))))))","v":""},{"$f":"IF(OR($B$4=\"\",$B$5=\"\",$H$4=\"\",$H$6=\"\",$H$5=\"\",A226=\"\",F226=\"\",K226=\"\",O226=\"\",P226=\"\")=TRUE,\"\",IF(C226=\"OSW\",IF(K226>=2,1,0),IF(C226=\"OSR\",IF(AND(K226>=2,Q226>60)=TRUE,1,0),IF(C226=\"OSRH\",IF(AND(K226>=1,Q226>90)=TRUE,1,0),IF(C226=\"OHLC\",IF(AND(N226=\"Y\",Q226>60)=TRUE,1,0),IF(C226=\"DDC\",IF(AND(K226>=4,N226=\"Y\",Q226>120)=TRUE,1,0),0))))))","v":""}]
[null,null,"",null,null,null,null,null,null,null,null,null,null,null,null,0,0,0,0,"",0,0,0,0,0,{"$f":"IF($H$4=\"\",0,VLOOKUP($H$4,BuildingType_Lookup,3,FALSE))","v":0},{"$f":"IF($H$4=\"\",0,VLOOKUP($H$4,BuildingType_Lookup,2,FALSE))","v":0},{"$f":"IF(AND(OR(AN227=\"\",AN227=0)=TRUE,OR(AO227=\"\",AO227=0))=TRUE,0,IF(AO227=\"\",(IF(OR(C227=\"DDC\",C227=\"OHLC\")=TRUE,O227,P227)/1000)*Y227*Z227*(1+VLOOKUP($H$4,BuildingType_Lookup,4,FALSE)),IF(AO227=0,0,(IF(OR(C227=\"DDC\",C227=\"OHLC\")=TRUE,O227,Q227)/1000)*Y227*Z227*(1+VLOOKUP($H$4,BuildingType_Lookup,4,FALSE)))))","v":0},{"$f":"IF(AND(OR(AN227=\"\",AN227=0)=TRUE,OR(AO227=\"\",AO227=0))=TRUE,0,IF(AO227=\"\",(IF(OR(C227=\"DDC\",C227=\"OHLC\")=TRUE,O227,P227)/1000)*Y227*AA227*(1+VLOOKUP($H$4,BuildingType_Lookup,MATCH($H$5,HVAC,0)+4,FALSE)),IF(AO227=0,0,(IF(OR(C227=\"DDC\",C227=\"OHLC\")=TRUE,O227,Q227)/1000)*Y227*AA227*(1+VLOOKUP($H$4,BuildingType_Lookup,MATCH($H$5,HVAC,0)+4,FALSE)))))","v":0},0,0,0,0,0,0,{"$f":"W227/1000*Y227*AA227*IF(IFERROR(SEARCH(\"Gas\",$H$5),0)>0,VLOOKUP(\"Gas\",HVACg_Lookup,MATCH($H$6,BuildingSize,0)+1,FALSE),IF(IFERROR(SEARCH(\"Oil\",$H$5),0)>0,VLOOKUP(\"Oil\",HVACg_Lookup,MATCH($H$6,BuildingSize,0)+1,FALSE),IF(IFERROR(SEARCH(\"Propane\",$H$5),0)>0,VLOOKUP(\"Propane\",HVACg_Lookup,MATCH(Worksheet!$H$6,BuildingSize,0)+1,FALSE),0)))","v":0},{"$f":"X227/1000*Y227*AA227*IF(IFERROR(SEARCH(\"Gas\",$H$5),0)>0,VLOOKUP(\"Gas\",HVACg_Lookup,MATCH($H$6,BuildingSize,0)+1,FALSE),IF(IFERROR(SEARCH(\"Oil\",$H$5),0)>0,VLOOKUP(\"Oil\",HVACg_Lookup,MATCH($H$6,BuildingSize,0)+1,FALSE),IF(IFERROR(SEARCH(\"Propane\",$H$5),0)>0,VLOOKUP(\"Propane\",HVACg_Lookup,MATCH(Worksheet!$H$6,BuildingSize,0)+1,FALSE),0)))","v":0},0,0,{"$f":"IF(OR($B$4=\"\",$B$5=\"\",$H$4=\"\",$H$6=\"\",$H$5=\"\",A227=\"\",F227=\"\",J227=\"\",O227=\"\",P227=\"\")=TRUE,\"\",IF(C227=\"OSW\",IF(J227>=2,1,0),IF(C227=\"OSR\",IF(AND(J227>=2,P227>60)=TRUE,1,0),IF(C227=\"OSRH\",IF(AND(J227>=1,P227>90)=TRUE,1,0),IF(C227=\"OHLC\",IF(AND(N227=\"Y\",P227>60)=TRUE,1,0),IF(C227=\"DDC\",IF(AND(J227>=4,N227=\"Y\",P227>120)=TRUE,1,0),0))))))","v":""},{"$f":"IF(OR($B$4=\"\",$B$5=\"\",$H$4=\"\",$H$6=\"\",$H$5=\"\",A227=\"\",F227=\"\",K227=\"\",O227=\"\",P227=\"\")=TRUE,\"\",IF(C227=\"OSW\",IF(K227>=2,1,0),IF(C227=\"OSR\",IF(AND(K227>=2,Q227>60)=TRUE,1,0),IF(C227=\"OSRH\",IF(AND(K227>=1,Q227>90)=TRUE,1,0),IF(C227=\"OHLC\",IF(AND(N227=\"Y\",Q227>60)=TRUE,1,0),IF(C227=\"DDC\",IF(AND(K227>=4,N227=\"Y\",Q227>120)=TRUE,1,0),0))))))","v":""}]
[null,null,"",null,null,null,null,null,null,null,null,null,null,null,null,0,0,0,0,"",0,0,0,0,0,{"$f":"IF($H$4=\"\",0,VLOOKUP($H$4,BuildingType_Lookup,3,FALSE))","v":0},{"$f":"IF($H$4=\"\",0,VLOOKUP($H$4,BuildingType_Lookup,2,FALSE))","v":0},{"$f":"IF(AND(OR(AN228=\"\",AN228=0)=TRUE,OR(AO228=\"\",AO228=0))=TRUE,0,IF(AO228=\"\",(IF(OR(C228=\"DDC\",C228=\"OHLC\")=TRUE,O228,P228)/1000)*Y228*Z228*(1+VLOOKUP($H$4,BuildingType_Lookup,4,FALSE)),IF(AO228=0,0,(IF(OR(C228=\"DDC\",C228=\"OHLC\")=TRUE,O228,Q228)/1000)*Y228*Z228*(1+VLOOKUP($H$4,BuildingType_Lookup,4,FALSE)))))","v":0},{"$f":"IF(AND(OR(AN228=\"\",AN228=0)=TRUE,OR(AO228=\"\",AO228=0))=TRUE,0,IF(AO228=\"\",(IF(OR(C228=\"DDC\",C228=\"OHLC\")=TRUE,O228,P228)/1000)*Y228*AA228*(1+VLOOKUP($H$4,BuildingType_Lookup,MATCH($H$5,HVAC,0)+4,FALSE)),IF(AO228=0,0,(IF(OR(C228=\"DDC\",C228=\"OHLC\")=TRUE,O228,Q228)/1000)*Y228*AA228*(1+VLOOKUP($H$4,BuildingType_Lookup,MATCH($H$5,HVAC,0)+4,FALSE)))))","v":0},0,0,0,0,0,0,{"$f":"W228/1000*Y228*AA228*IF(IFERROR(SEARCH(\"Gas\",$H$5),0)>0,VLOOKUP(\"Gas\",HVACg_Lookup,MATCH($H$6,BuildingSize,0)+1,FALSE),IF(IFERROR(SEARCH(\"Oil\",$H$5),0)>0,VLOOKUP(\"Oil\",HVACg_Lookup,MATCH($H$6,BuildingSize,0)+1,FALSE),IF(IFERROR(SEARCH(\"Propane\",$H$5),0)>0,VLOOKUP(\"Propane\",HVACg_Lookup,MATCH(Worksheet!$H$6,BuildingSize,0)+1,FALSE),0)))","v":0},{"$f":"X228/1000*Y228*AA228*IF(IFERROR(SEARCH(\"Gas\",$H$5),0)>0,VLOOKUP(\"Gas\",HVACg_Lookup,MATCH($H$6,BuildingSize,0)+1,FALSE),IF(IFERROR(SEARCH(\"Oil\",$H$5),0)>0,VLOOKUP(\"Oil\",HVACg_Lookup,MATCH($H$6,BuildingSize,0)+1,FALSE),IF(IFERROR(SEARCH(\"Propane\",$H$5),0)>0,VLOOKUP(\"Propane\",HVACg_Lookup,MATCH(Worksheet!$H$6,BuildingSize,0)+1,FALSE),0)))","v":0},0,0,{"$f":"IF(OR($B$4=\"\",$B$5=\"\",$H$4=\"\",$H$6=\"\",$H$5=\"\",A228=\"\",F228=\"\",J228=\"\",O228=\"\",P228=\"\")=TRUE,\"\",IF(C228=\"OSW\",IF(J228>=2,1,0),IF(C228=\"OSR\",IF(AND(J228>=2,P228>60)=TRUE,1,0),IF(C228=\"OSRH\",IF(AND(J228>=1,P228>90)=TRUE,1,0),IF(C228=\"OHLC\",IF(AND(N228=\"Y\",P228>60)=TRUE,1,0),IF(C228=\"DDC\",IF(AND(J228>=4,N228=\"Y\",P228>120)=TRUE,1,0),0))))))","v":""},{"$f":"IF(OR($B$4=\"\",$B$5=\"\",$H$4=\"\",$H$6=\"\",$H$5=\"\",A228=\"\",F228=\"\",K228=\"\",O228=\"\",P228=\"\")=TRUE,\"\",IF(C228=\"OSW\",IF(K228>=2,1,0),IF(C228=\"OSR\",IF(AND(K228>=2,Q228>60)=TRUE,1,0),IF(C228=\"OSRH\",IF(AND(K228>=1,Q228>90)=TRUE,1,0),IF(C228=\"OHLC\",IF(AND(N228=\"Y\",Q228>60)=TRUE,1,0),IF(C228=\"DDC\",IF(AND(K228>=4,N228=\"Y\",Q228>120)=TRUE,1,0),0))))))","v":""}]
[null,null,"",null,null,null,null,null,null,null,null,null,null,null,null,0,0,0,0,"",0,0,0,0,0,{"$f":"IF($H$4=\"\",0,VLOOKUP($H$4,BuildingType_Lookup,3,FALSE))","v":0},{"$f":"IF($H$4=\"\",0,VLOOKUP($H$4,BuildingType_Lookup,2,FALSE))","v":0},{"$f":"IF(AND(OR(AN229=\"\",AN229=0)=TRUE,OR(AO229=\"\",AO229=0))=TRUE,0,IF(AO229=\"\",(IF(OR(C229=\"DDC\",C229=\"OHLC\")=TRUE,O229,P229)/1000)*Y229*Z229*(1+VLOOKUP($H$4,BuildingType_Lookup,4,FALSE)),IF(AO229=0,0,(IF(OR(C229=\"DDC\",C229=\"OHLC\")=TRUE,O229,Q229)/1000)*Y229*Z229*(1+VLOOKUP($H$4,BuildingType_Lookup,4,FALSE)))))","v":0},{"$f":"IF(AND(OR(AN229=\"\",AN229=0)=TRUE,OR(AO229=\"\",AO229=0))=TRUE,0,IF(AO229=\"\",(IF(OR(C229=\"DDC\",C229=\"OHLC\")=TRUE,O229,P229)/1000)*Y229*AA229*(1+VLOOKUP($H$4,BuildingType_Lookup,MATCH($H$5,HVAC,0)+4,FALSE)),IF(AO229=0,0,(IF(OR(C229=\"DDC\",C229=\"OHLC\")=TRUE,O229,Q229)/1000)*Y229*AA229*(1+VLOOKUP($H$4,BuildingType_Lookup,MATCH($H$5,HVAC,0)+4,FALSE)))))","v":0},0,0,0,0,0,0,{"$f":"W229/1000*Y229*AA229*IF(IFERROR(SEARCH(\"Gas\",$H$5),0)>0,VLOOKUP(\"Gas\",HVACg_Lookup,MATCH($H$6,BuildingSize,0)+1,FALSE),IF(IFERROR(SEARCH(\"Oil\",$H$5),0)>0,VLOOKUP(\"Oil\",HVACg_Lookup,MATCH($H$6,BuildingSize,0)+1,FALSE),IF(IFERROR(SEARCH(\"Propane\",$H$5),0)>0,VLOOKUP(\"Propane\",HVACg_Lookup,MATCH(Worksheet!$H$6,BuildingSize,0)+1,FALSE),0)))","v":0},{"$f":"X229/1000*Y229*AA229*IF(IFERROR(SEARCH(\"Gas\",$H$5),0)>0,VLOOKUP(\"Gas\",HVACg_Lookup,MATCH($H$6,BuildingSize,0)+1,FALSE),IF(IFERROR(SEARCH(\"Oil\",$H$5),0)>0,VLOOKUP(\"Oil\",HVACg_Lookup,MATCH($H$6,BuildingSize,0)+1,FALSE),IF(IFERROR(SEARCH(\"Propane\",$H$5),0)>0,VLOOKUP(\"Propane\",HVACg_Lookup,MATCH(Worksheet!$H$6,BuildingSize,0)+1,FALSE),0)))","v":0},0,0,{"$f":"IF(OR($B$4=\"\",$B$5=\"\",$H$4=\"\",$H$6=\"\",$H$5=\"\",A229=\"\",F229=\"\",J229=\"\",O229=\"\",P229=\"\")=TRUE,\"\",IF(C229=\"OSW\",IF(J229>=2,1,0),IF(C229=\"OSR\",IF(AND(J229>=2,P229>60)=TRUE,1,0),IF(C229=\"OSRH\",IF(AND(J229>=1,P229>90)=TRUE,1,0),IF(C229=\"OHLC\",IF(AND(N229=\"Y\",P229>60)=TRUE,1,0),IF(C229=\"DDC\",IF(AND(J229>=4,N229=\"Y\",P229>120)=TRUE,1,0),0))))))","v":""},{"$f":"IF(OR($B$4=\"\",$B$5=\"\",$H$4=\"\",$H$6=\"\",$H$5=\"\",A229=\"\",F229=\"\",K229=\"\",O229=\"\",P229=\"\")=TRUE,\"\",IF(C229=\"OSW\",IF(K229>=2,1,0),IF(C229=\"OSR\",IF(AND(K229>=2,Q229>60)=TRUE,1,0),IF(C229=\"OSRH\",IF(AND(K229>=1,Q229>90)=TRUE,1,0),IF(C229=\"OHLC\",IF(AND(N229=\"Y\",Q229>60)=TRUE,1,0),IF(C229=\"DDC\",IF(AND(K229>=4,N229=\"Y\",Q229>120)=TRUE,1,0),0))))))","v":""}]
[null,null,"",null,null,null,null,null,null,null,null,null,null,null,null,0,0,0,0,"",0,0,0,0,0,{"$f":"IF($H$4=\"\",0,VLOOKUP($H$4,BuildingType_Lookup,3,FALSE))","v":0},{"$f":"IF($H$4=\"\",0,VLOOKUP($H$4,BuildingType_Lookup,2,FALSE))","v":0},{"$f":"IF(AND(OR(AN230=\"\",AN230=0)=TRUE,OR(AO230=\"\",AO230=0))=TRUE,0,IF(AO230=\"\",(IF(OR(C230=\"DDC\",C230=\"OHLC\")=TRUE,O230,P230)/1000)*Y230*Z230*(1+VLOOKUP($H$4,BuildingType_Lookup,4,FALSE)),IF(AO230=0,0,(IF(OR(C230=\"DDC\",C230=\"OHLC\")=TRUE,O230,Q230)/1000)*Y230*Z230*(1+VLOOKUP($H$4,BuildingType_Lookup,4,FALSE)))))","v":0},{"$f":"IF(AND(OR(AN230=\"\",AN230=0)=TRUE,OR(AO230=\"\",AO230=0))=TRUE,0,IF(AO230=\"\",(IF(OR(C230=\"DDC\",C230=\"OHLC\")=TRUE,O230,P230)/1000)*Y230*AA230*(1+VLOOKUP($H$4,BuildingType_Lookup,MATCH($H$5,HVAC,0)+4,FALSE)),IF(AO230=0,0,(IF(OR(C230=\"DDC\",C230=\"OHLC\")=TRUE,O230,Q230)/1000)*Y230*AA230*(1+VLOOKUP($H$4,BuildingType_Lookup,MATCH($H$5,HVAC,0)+4,FALSE)))))","v":0},0,0,0,0,0,0,{"$f":"W230/1000*Y230*AA230*IF(IFERROR(SEARCH(\"Gas\",$H$5),0)>0,VLOOKUP(\"Gas\",HVACg_Lookup,MATCH($H$6,BuildingSize,0)+1,FALSE),IF(IFERROR(SEARCH(\"Oil\",$H$5),0)>0,VLOOKUP(\"Oil\",HVACg_Lookup,MATCH($H$6,BuildingSize,0)+1,FALSE),IF(IFERROR(SEARCH(\"Propane\",$H$5),0)>0,VLOOKUP(\"Propane\",HVACg_Lookup,MATCH(Worksheet!$H$6,BuildingSize,0)+1,FALSE),0)))","v":0},{"$f":"X230/1000*Y230*AA230*IF(IFERROR(SEARCH(\"Gas\",$H$5),0)>0,VLOOKUP(\"Gas\",HVACg_Lookup,MATCH($H$6,BuildingSize,0)+1,FALSE),IF(IFERROR(SEARCH(\"Oil\",$H$5),0)>0,VLOOKUP(\"Oil\",HVACg_Lookup,MATCH($H$6,BuildingSize,0)+1,FALSE),IF(IFERROR(SEARCH(\"Propane\",$H$5),0)>0,VLOOKUP(\"Propane\",HVACg_Lookup,MATCH(Worksheet!$H$6,BuildingSize,0)+1,FALSE),0)))","v":0},0,0,{"$f":"IF(OR($B$4=\"\",$B$5=\"\",$H$4=\"\",$H$6=\"\",$H$5=\"\",A230=\"\",F230=\"\",J230=\"\",O230=\"\",P230=\"\")=TRUE,\"\",IF(C230=\"OSW\",IF(J230>=2,1,0),IF(C230=\"OSR\",IF(AND(J230>=2,P230>60)=TRUE,1,0),IF(C230=\"OSRH\",IF(AND(J230>=1,P230>90)=TRUE,1,0),IF(C230=\"OHLC\",IF(AND(N230=\"Y\",P230>60)=TRUE,1,0),IF(C230=\"DDC\",IF(AND(J230>=4,N230=\"Y\",P230>120)=TRUE,1,0),0))))))","v":""},{"$f":"IF(OR($B$4=\"\",$B$5=\"\",$H$4=\"\",$H$6=\"\",$H$5=\"\",A230=\"\",F230=\"\",K230=\"\",O230=\"\",P230=\"\")=TRUE,\"\",IF(C230=\"OSW\",IF(K230>=2,1,0),IF(C230=\"OSR\",IF(AND(K230>=2,Q230>60)=TRUE,1,0),IF(C230=\"OSRH\",IF(AND(K230>=1,Q230>90)=TRUE,1,0),IF(C230=\"OHLC\",IF(AND(N230=\"Y\",Q230>60)=TRUE,1,0),IF(C230=\"DDC\",IF(AND(K230>=4,N230=\"Y\",Q230>120)=TRUE,1,0),0))))))","v":""}]
[null,null,"",null,null,null,null,null,null,null,null,null,null,null,null,0,0,0,0,"",0,0,0,0,0,{"$f":"IF($H$4=\"\",0,VLOOKUP($H$4,BuildingType_Lookup,3,FALSE))","v":0},{"$f":"IF($H$4=\"\",0,VLOOKUP($H$4,BuildingType_Lookup,2,FALSE))","v":0},{"$f":"IF(AND(OR(AN231=\"\",AN231=0)=TRUE,OR(AO231=\"\",AO231=0))=TRUE,0,IF(AO231=\"\",(IF(OR(C231=\"DDC\",C231=\"OHLC\")=TRUE,O231,P231)/1000)*Y231*Z231*(1+VLOOKUP($H$4,BuildingType_Lookup,4,FALSE)),IF(AO231=0,0,(IF(OR(C231=\"DDC\",C231=\"OHLC\")=TRUE,O231,Q231)/1000)*Y231*Z231*(1+VLOOKUP($H$4,BuildingType_Lookup,4,FALSE)))))","v":0},{"$f":"IF(AND(OR(AN231=\"\",AN231=0)=TRUE,OR(AO231=\"\",AO231=0))=TRUE,0,IF(AO231=\"\",(IF(OR(C231=\"DDC\",C231=\"OHLC\")=TRUE,O231,P231)/1000)*Y231*AA231*(1+VLOOKUP($H$4,BuildingType_Lookup,MATCH($H$5,HVAC,0)+4,FALSE)),IF(AO231=0,0,(IF(OR(C231=\"DDC\",C231=\"OHLC\")=TRUE,O231,Q231)/1000)*Y231*AA231*(1+VLOOKUP($H$4,BuildingType_Lookup,MATCH($H$5,HVAC,0)+4,FALSE)))))","v":0},0,0,0,0,0,0,{"$f":"W231/1000*Y231*AA231*IF(IFERROR(SEARCH(\"Gas\",$H$5),0)>0,VLOOKUP(\"Gas\",HVACg_Lookup,MATCH($H$6,BuildingSize,0)+1,FALSE),IF(IFERROR(SEARCH(\"Oil\",$H$5),0)>0,VLOOKUP(\"Oil\",HVACg_Lookup,MATCH($H$6,BuildingSize,0)+1,FALSE),IF(IFERROR(SEARCH(\"Propane\",$H$5),0)>0,VLOOKUP(\"Propane\",HVACg_Lookup,MATCH(Worksheet!$H$6,BuildingSize,0)+1,FALSE),0)))","v":0},{"$f":"X231/1000*Y231*AA231*IF(IFERROR(SEARCH(\"Gas\",$H$5),0)>0,VLOOKUP(\"Gas\",HVACg_Lookup,MATCH($H$6,BuildingSize,0)+1,FALSE),IF(IFERROR(SEARCH(\"Oil\",$H$5),0)>0,VLOOKUP(\"Oil\",HVACg_Lookup,MATCH($H$6,BuildingSize,0)+1,FALSE),IF(IFERROR(SEARCH(\"Propane\",$H$5),0)>0,VLOOKUP(\"Propane\",HVACg_Lookup,MATCH(Worksheet!$H$6,BuildingSize,0)+1,FALSE),0)))","v":0},0,0,{"$f":"IF(OR($B$4=\"\",$B$5=\"\",$H$4=\"\",$H$6=\"\",$H$5=\"\",A231=\"\",F231=\"\",J231=\"\",O231=\"\",P231=\"\")=TRUE,\"\",IF(C231=\"OSW\",IF(J231>=2,1,0),IF(C231=\"OSR\",IF(AND(J231>=2,P231>60)=TRUE,1,0),IF(C231=\"OSRH\",IF(AND(J231>=1,P231>90)=TRUE,1,0),IF(C231=\"OHLC\",IF(AND(N231=\"Y\",P231>60)=TRUE,1,0),IF(C231=\"DDC\",IF(AND(J231>=4,N231=\"Y\",P231>120)=TRUE,1,0),0))))))","v":""},{"$f":"IF(OR($B$4=\"\",$B$5=\"\",$H$4=\"\",$H$6=\"\",$H$5=\"\",A231=\"\",F231=\"\",K231=\"\",O231=\"\",P231=\"\")=TRUE,\"\",IF(C231=\"OSW\",IF(K231>=2,1,0),IF(C231=\"OSR\",IF(AND(K231>=2,Q231>60)=TRUE,1,0),IF(C231=\"OSRH\",IF(AND(K231>=1,Q231>90)=TRUE,1,0),IF(C231=\"OHLC\",IF(AND(N231=\"Y\",Q231>60)=TRUE,1,0),IF(C231=\"DDC\",IF(AND(K231>=4,N231=\"Y\",Q231>120)=TRUE,1,0),0))))))","v":""}]
[null,null,"",null,null,null,null,null,null,null,null,null,null,null,null,0,0,0,0,"",0,0,0,0,0,{"$f":"IF($H$4=\"\",0,VLOOKUP($H$4,BuildingType_Lookup,3,FALSE))","v":0},{"$f":"IF($H$4=\"\",0,VLOOKUP($H$4,BuildingType_Lookup,2,FALSE))","v":0},{"$f":"IF(AND(OR(AN232=\"\",AN232=0)=TRUE,OR(AO232=\"\",AO232=0))=TRUE,0,IF(AO232=\"\",(IF(OR(C232=\"DDC\",C232=\"OHLC\")=TRUE,O232,P232)/1000)*Y232*Z232*(1+VLOOKUP($H$4,BuildingType_Lookup,4,FALSE)),IF(AO232=0,0,(IF(OR(C232=\"DDC\",C232=\"OHLC\")=TRUE,O232,Q232)/1000)*Y232*Z232*(1+VLOOKUP($H$4,BuildingType_Lookup,4,FALSE)))))","v":0},{"$f":"IF(AND(OR(AN232=\"\",AN232=0)=TRUE,OR(AO232=\"\",AO232=0))=TRUE,0,IF(AO232=\"\",(IF(OR(C232=\"DDC\",C232=\"OHLC\")=TRUE,O232,P232)/1000)*Y232*AA232*(1+VLOOKUP($H$4,BuildingType_Lookup,MATCH($H$5,HVAC,0)+4,FALSE)),IF(AO232=0,0,(IF(OR(C232=\"DDC\",C232=\"OHLC\")=TRUE,O232,Q232)/1000)*Y232*AA232*(1+VLOOKUP($H$4,BuildingType_Lookup,MATCH($H$5,HVAC,0)+4,FALSE)))))","v":0},0,0,0,0,0,0,{"$f":"W232/1000*Y232*AA232*IF(IFERROR(SEARCH(\"Gas\",$H$5),0)>0,VLOOKUP(\"Gas\",HVACg_Lookup,MATCH($H$6,BuildingSize,0)+1,FALSE),IF(IFERROR(SEARCH(\"Oil\",$H$5),0)>0,VLOOKUP(\"Oil\",HVACg_Lookup,MATCH($H$6,BuildingSize,0)+1,FALSE),IF(IFERROR(SEARCH(\"Propane\",$H$5),0)>0,VLOOKUP(\"Propane\",HVACg_Lookup,MATCH(Worksheet!$H$6,BuildingSize,0)+1,FALSE),0)))","v":0},{"$f":"X232/1000*Y232*AA232*IF(IFERROR(SEARCH(\"Gas\",$H$5),0)>0,VLOOKUP(\"Gas\",HVACg_Lookup,MATCH($H$6,BuildingSize,0)+1,FALSE),IF(IFERROR(SEARCH(\"Oil\",$H$5),0)>0,VLOOKUP(\"Oil\",HVACg_Lookup,MATCH($H$6,BuildingSize,0)+1,FALSE),IF(IFERROR(SEARCH(\"Propane\",$H$5),0)>0,VLOOKUP(\"Propane\",HVACg_Lookup,MATCH(Worksheet!$H$6,BuildingSize,0)+1,FALSE),0)))","v":0},0,0,{"$f":"IF(OR($B$4=\"\",$B$5=\"\",$H$4=\"\",$H$6=\"\",$H$5=\"\",A232=\"\",F232=\"\",J232=\"\",O232=\"\",P232=\"\")=TRUE,\"\",IF(C232=\"OSW\",IF(J232>=2,1,0),IF(C232=\"OSR\",IF(AND(J232>=2,P232>60)=TRUE,1,0),IF(C232=\"OSRH\",IF(AND(J232>=1,P232>90)=TRUE,1,0),IF(C232=\"OHLC\",IF(AND(N232=\"Y\",P232>60)=TRUE,1,0),IF(C232=\"DDC\",IF(AND(J232>=4,N232=\"Y\",P232>120)=TRUE,1,0),0))))))","v":""},{"$f":"IF(OR($B$4=\"\",$B$5=\"\",$H$4=\"\",$H$6=\"\",$H$5=\"\",A232=\"\",F232=\"\",K232=\"\",O232=\"\",P232=\"\")=TRUE,\"\",IF(C232=\"OSW\",IF(K232>=2,1,0),IF(C232=\"OSR\",IF(AND(K232>=2,Q232>60)=TRUE,1,0),IF(C232=\"OSRH\",IF(AND(K232>=1,Q232>90)=TRUE,1,0),IF(C232=\"OHLC\",IF(AND(N232=\"Y\",Q232>60)=TRUE,1,0),IF(C232=\"DDC\",IF(AND(K232>=4,N232=\"Y\",Q232>120)=TRUE,1,0),0))))))","v":""}]
[null,null,"",null,null,null,null,null,null,null,null,null,null,null,null,0,0,0,0,"",0,0,0,0,0,{"$f":"IF($H$4=\"\",0,VLOOKUP($H$4,BuildingType_Lookup,3,FALSE))","v":0},{"$f":"IF($H$4=\"\",0,VLOOKUP($H$4,BuildingType_Lookup,2,FALSE))","v":0},{"$f":"IF(AND(OR(AN233=\"\",AN233=0)=TRUE,OR(AO233=\"\",AO233=0))=TRUE,0,IF(AO233=\"\",(IF(OR(C233=\"DDC\",C233=\"OHLC\")=TRUE,O233,P233)/1000)*Y233*Z233*(1+VLOOKUP($H$4,BuildingType_Lookup,4,FALSE)),IF(AO233=0,0,(IF(OR(C233=\"DDC\",C233=\"OHLC\")=TRUE,O233,Q233)/1000)*Y233*Z233*(1+VLOOKUP($H$4,BuildingType_Lookup,4,FALSE)))))","v":0},{"$f":"IF(AND(OR(AN233=\"\",AN233=0)=TRUE,OR(AO233=\"\",AO233=0))=TRUE,0,IF(AO233=\"\",(IF(OR(C233=\"DDC\",C233=\"OHLC\")=TRUE,O233,P233)/1000)*Y233*AA233*(1+VLOOKUP($H$4,BuildingType_Lookup,MATCH($H$5,HVAC,0)+4,FALSE)),IF(AO233=0,0,(IF(OR(C233=\"DDC\",C233=\"OHLC\")=TRUE,O233,Q233)/1000)*Y233*AA233*(1+VLOOKUP($H$4,BuildingType_Lookup,MATCH($H$5,HVAC,0)+4,FALSE)))))","v":0},0,0,0,0,0,0,{"$f":"W233/1000*Y233*AA233*IF(IFERROR(SEARCH(\"Gas\",$H$5),0)>0,VLOOKUP(\"Gas\",HVACg_Lookup,MATCH($H$6,BuildingSize,0)+1,FALSE),IF(IFERROR(SEARCH(\"Oil\",$H$5),0)>0,VLOOKUP(\"Oil\",HVACg_Lookup,MATCH($H$6,BuildingSize,0)+1,FALSE),IF(IFERROR(SEARCH(\"Propane\",$H$5),0)>0,VLOOKUP(\"Propane\",HVACg_Lookup,MATCH(Worksheet!$H$6,BuildingSize,0)+1,FALSE),0)))","v":0},{"$f":"X233/1000*Y233*AA233*IF(IFERROR(SEARCH(\"Gas\",$H$5),0)>0,VLOOKUP(\"Gas\",HVACg_Lookup,MATCH($H$6,BuildingSize,0)+1,FALSE),IF(IFERROR(SEARCH(\"Oil\",$H$5),0)>0,VLOOKUP(\"Oil\",HVACg_Lookup,MATCH($H$6,BuildingSize,0)+1,FALSE),IF(IFERROR(SEARCH(\"Propane\",$H$5),0)>0,VLOOKUP(\"Propane\",HVACg_Lookup,MATCH(Worksheet!$H$6,BuildingSize,0)+1,FALSE),0)))","v":0},0,0,{"$f":"IF(OR($B$4=\"\",$B$5=\"\",$H$4=\"\",$H$6=\"\",$H$5=\"\",A233=\"\",F233=\"\",J233=\"\",O233=\"\",P233=\"\")=TRUE,\"\",IF(C233=\"OSW\",IF(J233>=2,1,0),IF(C233=\"OSR\",IF(AND(J233>=2,P233>60)=TRUE,1,0),IF(C233=\"OSRH\",IF(AND(J233>=1,P233>90)=TRUE,1,0),IF(C233=\"OHLC\",IF(AND(N233=\"Y\",P233>60)=TRUE,1,0),IF(C233=\"DDC\",IF(AND(J233>=4,N233=\"Y\",P233>120)=TRUE,1,0),0))))))","v":""},{"$f":"IF(OR($B$4=\"\",$B$5=\"\",$H$4=\"\",$H$6=\"\",$H$5=\"\",A233=\"\",F233=\"\",K233=\"\",O233=\"\",P233=\"\")=TRUE,\"\",IF(C233=\"OSW\",IF(K233>=2,1,0),IF(C233=\"OSR\",IF(AND(K233>=2,Q233>60)=TRUE,1,0),IF(C233=\"OSRH\",IF(AND(K233>=1,Q233>90)=TRUE,1,0),IF(C233=\"OHLC\",IF(AND(N233=\"Y\",Q233>60)=TRUE,1,0),IF(C233=\"DDC\",IF(AND(K233>=4,N233=\"Y\",Q233>120)=TRUE,1,0),0))))))","v":""}]
[null,null,"",null,null,null,null,null,null,null,null,null,null,null,null,0,0,0,0,"",0,0,0,0,0,{"$f":"IF($H$4=\"\",0,VLOOKUP($H$4,BuildingType_Lookup,3,FALSE))","v":0},{"$f":"IF($H$4=\"\",0,VLOOKUP($H$4,BuildingType_Lookup,2,FALSE))","v":0},{"$f":"IF(AND(OR(AN234=\"\",AN234=0)=TRUE,OR(AO234=\"\",AO234=0))=TRUE,0,IF(AO234=\"\",(IF(OR(C234=\"DDC\",C234=\"OHLC\")=TRUE,O234,P234)/1000)*Y234*Z234*(1+VLOOKUP($H$4,BuildingType_Lookup,4,FALSE)),IF(AO234=0,0,(IF(OR(C234=\"DDC\",C234=\"OHLC\")=TRUE,O234,Q234)/1000)*Y234*Z234*(1+VLOOKUP($H$4,BuildingType_Lookup,4,FALSE)))))","v":0},{"$f":"IF(AND(OR(AN234=\"\",AN234=0)=TRUE,OR(AO234=\"\",AO234=0))=TRUE,0,IF(AO234=\"\",(IF(OR(C234=\"DDC\",C234=\"OHLC\")=TRUE,O234,P234)/1000)*Y234*AA234*(1+VLOOKUP($H$4,BuildingType_Lookup,MATCH($H$5,HVAC,0)+4,FALSE)),IF(AO234=0,0,(IF(OR(C234=\"DDC\",C234=\"OHLC\")=TRUE,O234,Q234)/1000)*Y234*AA234*(1+VLOOKUP($H$4,BuildingType_Lookup,MATCH($H$5,HVAC,0)+4,FALSE)))))","v":0},0,0,0,0,0,0,{"$f":"W234/1000*Y234*AA234*IF(IFERROR(SEARCH(\"Gas\",$H$5),0)>0,VLOOKUP(\"Gas\",HVACg_Lookup,MATCH($H$6,BuildingSize,0)+1,FALSE),IF(IFERROR(SEARCH(\"Oil\",$H$5),0)>0,VLOOKUP(\"Oil\",HVACg_Lookup,MATCH($H$6,BuildingSize,0)+1,FALSE),IF(IFERROR(SEARCH(\"Propane\",$H$5),0)>0,VLOOKUP(\"Propane\",HVACg_Lookup,MATCH(Worksheet!$H$6,BuildingSize,0)+1,FALSE),0)))","v":0},{"$f":"X234/1000*Y234*AA234*IF(IFERROR(SEARCH(\"Gas\",$H$5),0)>0,VLOOKUP(\"Gas\",HVACg_Lookup,MATCH($H$6,BuildingSize,0)+1,FALSE),IF(IFERROR(SEARCH(\"Oil\",$H$5),0)>0,VLOOKUP(\"Oil\",HVACg_Lookup,MATCH($H$6,BuildingSize,0)+1,FALSE),IF(IFERROR(SEARCH(\"Propane\",$H$5),0)>0,VLOOKUP(\"Propane\",HVACg_Lookup,MATCH(Worksheet!$H$6,BuildingSize,0)+1,FALSE),0)))","v":0},0,0,{"$f":"IF(OR($B$4=\"\",$B$5=\"\",$H$4=\"\",$H$6=\"\",$H$5=\"\",A234=\"\",F234=\"\",J234=\"\",O234=\"\",P234=\"\")=TRUE,\"\",IF(C234=\"OSW\",IF(J234>=2,1,0),IF(C234=\"OSR\",IF(AND(J234>=2,P234>60)=TRUE,1,0),IF(C234=\"OSRH\",IF(AND(J234>=1,P234>90)=TRUE,1,0),IF(C234=\"OHLC\",IF(AND(N234=\"Y\",P234>60)=TRUE,1,0),IF(C234=\"DDC\",IF(AND(J234>=4,N234=\"Y\",P234>120)=TRUE,1,0),0))))))","v":""},{"$f":"IF(OR($B$4=\"\",$B$5=\"\",$H$4=\"\",$H$6=\"\",$H$5=\"\",A234=\"\",F234=\"\",K234=\"\",O234=\"\",P234=\"\")=TRUE,\"\",IF(C234=\"OSW\",IF(K234>=2,1,0),IF(C234=\"OSR\",IF(AND(K234>=2,Q234>60)=TRUE,1,0),IF(C234=\"OSRH\",IF(AND(K234>=1,Q234>90)=TRUE,1,0),IF(C234=\"OHLC\",IF(AND(N234=\"Y\",Q234>60)=TRUE,1,0),IF(C234=\"DDC\",IF(AND(K234>=4,N234=\"Y\",Q234>120)=TRUE,1,0),0))))))","v":""}]
[null,null,"",null,null,null,null,null,null,null,null,null,null,null,null,0,0,0,0,"",0,0,0,0,0,{"$f":"IF($H$4=\"\",0,VLOOKUP($H$4,BuildingType_Lookup,3,FALSE))","v":0},{"$f":"IF($H$4=\"\",0,VLOOKUP($H$4,BuildingType_Lookup,2,FALSE))","v":0},{"$f":"IF(AND(OR(AN235=\"\",AN235=0)=TRUE,OR(AO235=\"\",AO235=0))=TRUE,0,IF(AO235=\"\",(IF(OR(C235=\"DDC\",C235=\"OHLC\")=TRUE,O235,P235)/1000)*Y235*Z235*(1+VLOOKUP($H$4,BuildingType_Lookup,4,FALSE)),IF(AO235=0,0,(IF(OR(C235=\"DDC\",C235=\"OHLC\")=TRUE,O235,Q235)/1000)*Y235*Z235*(1+VLOOKUP($H$4,BuildingType_Lookup,4,FALSE)))))","v":0},{"$f":"IF(AND(OR(AN235=\"\",AN235=0)=TRUE,OR(AO235=\"\",AO235=0))=TRUE,0,IF(AO235=\"\",(IF(OR(C235=\"DDC\",C235=\"OHLC\")=TRUE,O235,P235)/1000)*Y235*AA235*(1+VLOOKUP($H$4,BuildingType_Lookup,MATCH($H$5,HVAC,0)+4,FALSE)),IF(AO235=0,0,(IF(OR(C235=\"DDC\",C235=\"OHLC\")=TRUE,O235,Q235)/1000)*Y235*AA235*(1+VLOOKUP($H$4,BuildingType_Lookup,MATCH($H$5,HVAC,0)+4,FALSE)))))","v":0},0,0,0,0,0,0,{"$f":"W235/1000*Y235*AA235*IF(IFERROR(SEARCH(\"Gas\",$H$5),0)>0,VLOOKUP(\"Gas\",HVACg_Lookup,MATCH($H$6,BuildingSize,0)+1,FALSE),IF(IFERROR(SEARCH(\"Oil\",$H$5),0)>0,VLOOKUP(\"Oil\",HVACg_Lookup,MATCH($H$6,BuildingSize,0)+1,FALSE),IF(IFERROR(SEARCH(\"Propane\",$H$5),0)>0,VLOOKUP(\"Propane\",HVACg_Lookup,MATCH(Worksheet!$H$6,BuildingSize,0)+1,FALSE),0)))","v":0},{"$f":"X235/1000*Y235*AA235*IF(IFERROR(SEARCH(\"Gas\",$H$5),0)>0,VLOOKUP(\"Gas\",HVACg_Lookup,MATCH($H$6,BuildingSize,0)+1,FALSE),IF(IFERROR(SEARCH(\"Oil\",$H$5),0)>0,VLOOKUP(\"Oil\",HVACg_Lookup,MATCH($H$6,BuildingSize,0)+1,FALSE),IF(IFERROR(SEARCH(\"Propane\",$H$5),0)>0,VLOOKUP(\"Propane\",HVACg_Lookup,MATCH(Worksheet!$H$6,BuildingSize,0)+1,FALSE),0)))","v":0},0,0,{"$f":"IF(OR($B$4=\"\",$B$5=\"\",$H$4=\"\",$H$6=\"\",$H$5=\"\",A235=\"\",F235=\"\",J235=\"\",O235=\"\",P235=\"\")=TRUE,\"\",IF(C235=\"OSW\",IF(J235>=2,1,0),IF(C235=\"OSR\",IF(AND(J235>=2,P235>60)=TRUE,1,0),IF(C235=\"OSRH\",IF(AND(J235>=1,P235>90)=TRUE,1,0),IF(C235=\"OHLC\",IF(AND(N235=\"Y\",P235>60)=TRUE,1,0),IF(C235=\"DDC\",IF(AND(J235>=4,N235=\"Y\",P235>120)=TRUE,1,0),0))))))","v":""},{"$f":"IF(OR($B$4=\"\",$B$5=\"\",$H$4=\"\",$H$6=\"\",$H$5=\"\",A235=\"\",F235=\"\",K235=\"\",O235=\"\",P235=\"\")=TRUE,\"\",IF(C235=\"OSW\",IF(K235>=2,1,0),IF(C235=\"OSR\",IF(AND(K235>=2,Q235>60)=TRUE,1,0),IF(C235=\"OSRH\",IF(AND(K235>=1,Q235>90)=TRUE,1,0),IF(C235=\"OHLC\",IF(AND(N235=\"Y\",Q235>60)=TRUE,1,0),IF(C235=\"DDC\",IF(AND(K235>=4,N235=\"Y\",Q235>120)=TRUE,1,0),0))))))","v":""}]
[null,null,"",null,null,null,null,null,null,null,null,null,null,null,null,0,0,0,0,"",0,0,0,0,0,{"$f":"IF($H$4=\"\",0,VLOOKUP($H$4,BuildingType_Lookup,3,FALSE))","v":0},{"$f":"IF($H$4=\"\",0,VLOOKUP($H$4,BuildingType_Lookup,2,FALSE))","v":0},{"$f":"IF(AND(OR(AN236=\"\",AN236=0)=TRUE,OR(AO236=\"\",AO236=0))=TRUE,0,IF(AO236=\"\",(IF(OR(C236=\"DDC\",C236=\"OHLC\")=TRUE,O236,P236)/1000)*Y236*Z236*(1+VLOOKUP($H$4,BuildingType_Lookup,4,FALSE)),IF(AO236=0,0,(IF(OR(C236=\"DDC\",C236=\"OHLC\")=TRUE,O236,Q236)/1000)*Y236*Z236*(1+VLOOKUP($H$4,BuildingType_Lookup,4,FALSE)))))","v":0},{"$f":"IF(AND(OR(AN236=\"\",AN236=0)=TRUE,OR(AO236=\"\",AO236=0))=TRUE,0,IF(AO236=\"\",(IF(OR(C236=\"DDC\",C236=\"OHLC\")=TRUE,O236,P236)/1000)*Y236*AA236*(1+VLOOKUP($H$4,BuildingType_Lookup,MATCH($H$5,HVAC,0)+4,FALSE)),IF(AO236=0,0,(IF(OR(C236=\"DDC\",C236=\"OHLC\")=TRUE,O236,Q236)/1000)*Y236*AA236*(1+VLOOKUP($H$4,BuildingType_Lookup,MATCH($H$5,HVAC,0)+4,FALSE)))))","v":0},0,0,0,0,0,0,{"$f":"W236/1000*Y236*AA236*IF(IFERROR(SEARCH(\"Gas\",$H$5),0)>0,VLOOKUP(\"Gas\",HVACg_Lookup,MATCH($H$6,BuildingSize,0)+1,FALSE),IF(IFERROR(SEARCH(\"Oil\",$H$5),0)>0,VLOOKUP(\"Oil\",HVACg_Lookup,MATCH($H$6,BuildingSize,0)+1,FALSE),IF(IFERROR(SEARCH(\"Propane\",$H$5),0)>0,VLOOKUP(\"Propane\",HVACg_Lookup,MATCH(Worksheet!$H$6,BuildingSize,0)+1,FALSE),0)))","v":0},{"$f":"X236/1000*Y236*AA236*IF(IFERROR(SEARCH(\"Gas\",$H$5),0)>0,VLOOKUP(\"Gas\",HVACg_Lookup,MATCH($H$6,BuildingSize,0)+1,FALSE),IF(IFERROR(SEARCH(\"Oil\",$H$5),0)>0,VLOOKUP(\"Oil\",HVACg_Lookup,MATCH($H$6,BuildingSize,0)+1,FALSE),IF(IFERROR(SEARCH(\"Propane\",$H$5),0)>0,VLOOKUP(\"Propane\",HVACg_Lookup,MATCH(Worksheet!$H$6,BuildingSize,0)+1,FALSE),0)))","v":0},0,0,{"$f":"IF(OR($B$4=\"\",$B$5=\"\",$H$4=\"\",$H$6=\"\",$H$5=\"\",A236=\"\",F236=\"\",J236=\"\",O236=\"\",P236=\"\")=TRUE,\"\",IF(C236=\"OSW\",IF(J236>=2,1,0),IF(C236=\"OSR\",IF(AND(J236>=2,P236>60)=TRUE,1,0),IF(C236=\"OSRH\",IF(AND(J236>=1,P236>90)=TRUE,1,0),IF(C236=\"OHLC\",IF(AND(N236=\"Y\",P236>60)=TRUE,1,0),IF(C236=\"DDC\",IF(AND(J236>=4,N236=\"Y\",P236>120)=TRUE,1,0),0))))))","v":""},{"$f":"IF(OR($B$4=\"\",$B$5=\"\",$H$4=\"\",$H$6=\"\",$H$5=\"\",A236=\"\",F236=\"\",K236=\"\",O236=\"\",P236=\"\")=TRUE,\"\",IF(C236=\"OSW\",IF(K236>=2,1,0),IF(C236=\"OSR\",IF(AND(K236>=2,Q236>60)=TRUE,1,0),IF(C236=\"OSRH\",IF(AND(K236>=1,Q236>90)=TRUE,1,0),IF(C236=\"OHLC\",IF(AND(N236=\"Y\",Q236>60)=TRUE,1,0),IF(C236=\"DDC\",IF(AND(K236>=4,N236=\"Y\",Q236>120)=TRUE,1,0),0))))))","v":""}]
[null,null,"",null,null,null,null,null,null,null,null,null,null,null,null,0,0,0,0,"",0,0,0,0,0,{"$f":"IF($H$4=\"\",0,VLOOKUP($H$4,BuildingType_Lookup,3,FALSE))","v":0},{"$f":"IF($H$4=\"\",0,VLOOKUP($H$4,BuildingType_Lookup,2,FALSE))","v":0},{"$f":"IF(AND(OR(AN237=\"\",AN237=0)=TRUE,OR(AO237=\"\",AO237=0))=TRUE,0,IF(AO237=\"\",(IF(OR(C237=\"DDC\",C237=\"OHLC\")=TRUE,O237,P237)/1000)*Y237*Z237*(1+VLOOKUP($H$4,BuildingType_Lookup,4,FALSE)),IF(AO237=0,0,(IF(OR(C237=\"DDC\",C237=\"OHLC\")=TRUE,O237,Q237)/1000)*Y237*Z237*(1+VLOOKUP($H$4,BuildingType_Lookup,4,FALSE)))))","v":0},{"$f":"IF(AND(OR(AN237=\"\",AN237=0)=TRUE,OR(AO237=\"\",AO237=0))=TRUE,0,IF(AO237=\"\",(IF(OR(C237=\"DDC\",C237=\"OHLC\")=TRUE,O237,P237)/1000)*Y237*AA237*(1+VLOOKUP($H$4,BuildingType_Lookup,MATCH($H$5,HVAC,0)+4,FALSE)),IF(AO237=0,0,(IF(OR(C237=\"DDC\",C237=\"OHLC\")=TRUE,O237,Q237)/1000)*Y237*AA237*(1+VLOOKUP($H$4,BuildingType_Lookup,MATCH($H$5,HVAC,0)+4,FALSE)))))","v":0},0,0,0,0,0,0,{"$f":"W237/1000*Y237*AA237*IF(IFERROR(SEARCH(\"Gas\",$H$5),0)>0,VLOOKUP(\"Gas\",HVACg_Lookup,MATCH($H$6,BuildingSize,0)+1,FALSE),IF(IFERROR(SEARCH(\"Oil\",$H$5),0)>0,VLOOKUP(\"Oil\",HVACg_Lookup,MATCH($H$6,BuildingSize,0)+1,FALSE),IF(IFERROR(SEARCH(\"Propane\",$H$5),0)>0,VLOOKUP(\"Propane\",HVACg_Lookup,MATCH(Worksheet!$H$6,BuildingSize,0)+1,FALSE),0)))","v":0},{"$f":"X237/1000*Y237*AA237*IF(IFERROR(SEARCH(\"Gas\",$H$5),0)>0,VLOOKUP(\"Gas\",HVACg_Lookup,MATCH($H$6,BuildingSize,0)+1,FALSE),IF(IFERROR(SEARCH(\"Oil\",$H$5),0)>0,VLOOKUP(\"Oil\",HVACg_Lookup,MATCH($H$6,BuildingSize,0)+1,FALSE),IF(IFERROR(SEARCH(\"Propane\",$H$5),0)>0,VLOOKUP(\"Propane\",HVACg_Lookup,MATCH(Worksheet!$H$6,BuildingSize,0)+1,FALSE),0)))","v":0},0,0,{"$f":"IF(OR($B$4=\"\",$B$5=\"\",$H$4=\"\",$H$6=\"\",$H$5=\"\",A237=\"\",F237=\"\",J237=\"\",O237=\"\",P237=\"\")=TRUE,\"\",IF(C237=\"OSW\",IF(J237>=2,1,0),IF(C237=\"OSR\",IF(AND(J237>=2,P237>60)=TRUE,1,0),IF(C237=\"OSRH\",IF(AND(J237>=1,P237>90)=TRUE,1,0),IF(C237=\"OHLC\",IF(AND(N237=\"Y\",P237>60)=TRUE,1,0),IF(C237=\"DDC\",IF(AND(J237>=4,N237=\"Y\",P237>120)=TRUE,1,0),0))))))","v":""},{"$f":"IF(OR($B$4=\"\",$B$5=\"\",$H$4=\"\",$H$6=\"\",$H$5=\"\",A237=\"\",F237=\"\",K237=\"\",O237=\"\",P237=\"\")=TRUE,\"\",IF(C237=\"OSW\",IF(K237>=2,1,0),IF(C237=\"OSR\",IF(AND(K237>=2,Q237>60)=TRUE,1,0),IF(C237=\"OSRH\",IF(AND(K237>=1,Q237>90)=TRUE,1,0),IF(C237=\"OHLC\",IF(AND(N237=\"Y\",Q237>60)=TRUE,1,0),IF(C237=\"DDC\",IF(AND(K237>=4,N237=\"Y\",Q237>120)=TRUE,1,0),0))))))","v":""}]
[null,null,"",null,null,null,null,null,null,null,null,null,null,null,null,0,0,0,0,"",0,0,0,0,0,{"$f":"IF($H$4=\"\",0,VLOOKUP($H$4,BuildingType_Lookup,3,FALSE))","v":0},{"$f":"IF($H$4=\"\",0,VLOOKUP($H$4,BuildingType_Lookup,2,FALSE))","v":0},{"$f":"IF(AND(OR(AN238=\"\",AN238=0)=TRUE,OR(AO238=\"\",AO238=0))=TRUE,0,IF(AO238=\"\",(IF(OR(C238=\"DDC\",C238=\"OHLC\")=TRUE,O238,P238)/1000)*Y238*Z238*(1+VLOOKUP($H$4,BuildingType_Lookup,4,FALSE)),IF(AO238=0,0,(IF(OR(C238=\"DDC\",C238=\"OHLC\")=TRUE,O238,Q238)/1000)*Y238*Z238*(1+VLOOKUP($H$4,BuildingType_Lookup,4,FALSE)))))","v":0},{"$f":"IF(AND(OR(AN238=\"\",AN238=0)=TRUE,OR(AO238=\"\",AO238=0))=TRUE,0,IF(AO238=\"\",(IF(OR(C238=\"DDC\",C238=\"OHLC\")=TRUE,O238,P238)/1000)*Y238*AA238*(1+VLOOKUP($H$4,BuildingType_Lookup,MATCH($H$5,HVAC,0)+4,FALSE)),IF(AO238=0,0,(IF(OR(C238=\"DDC\",C238=\"OHLC\")=TRUE,O238,Q238)/1000)*Y238*AA238*(1+VLOOKUP($H$4,BuildingType_Lookup,MATCH($H$5,HVAC,0)+4,FALSE)))))","v":0},0,0,0,0,0,0,{"$f":"W238/1000*Y238*AA238*IF(IFERROR(SEARCH(\"Gas\",$H$5),0)>0,VLOOKUP(\"Gas\",HVACg_Lookup,MATCH($H$6,BuildingSize,0)+1,FALSE),IF(IFERROR(SEARCH(\"Oil\",$H$5),0)>0,VLOOKUP(\"Oil\",HVACg_Lookup,MATCH($H$6,BuildingSize,0)+1,FALSE),IF(IFERROR(SEARCH(\"Propane\",$H$5),0)>0,VLOOKUP(\"Propane\",HVACg_Lookup,MATCH(Worksheet!$H$6,BuildingSize,0)+1,FALSE),0)))","v":0},{"$f":"X238/1000*Y238*AA238*IF(IFERROR(SEARCH(\"Gas\",$H$5),0)>0,VLOOKUP(\"Gas\",HVACg_Lookup,MATCH($H$6,BuildingSize,0)+1,FALSE),IF(IFERROR(SEARCH(\"Oil\",$H$5),0)>0,VLOOKUP(\"Oil\",HVACg_Lookup,MATCH($H$6,BuildingSize,0)+1,FALSE),IF(IFERROR(SEARCH(\"Propane\",$H$5),0)>0,VLOOKUP(\"Propane\",HVACg_Lookup,MATCH(Worksheet!$H$6,BuildingSize,0)+1,FALSE),0)))","v":0},0,0,{"$f":"IF(OR($B$4=\"\",$B$5=\"\",$H$4=\"\",$H$6=\"\",$H$5=\"\",A238=\"\",F238=\"\",J238=\"\",O238=\"\",P238=\"\")=TRUE,\"\",IF(C238=\"OSW\",IF(J238>=2,1,0),IF(C238=\"OSR\",IF(AND(J238>=2,P238>60)=TRUE,1,0),IF(C238=\"OSRH\",IF(AND(J238>=1,P238>90)=TRUE,1,0),IF(C238=\"OHLC\",IF(AND(N238=\"Y\",P238>60)=TRUE,1,0),IF(C238=\"DDC\",IF(AND(J238>=4,N238=\"Y\",P238>120)=TRUE,1,0),0))))))","v":""},{"$f":"IF(OR($B$4=\"\",$B$5=\"\",$H$4=\"\",$H$6=\"\",$H$5=\"\",A238=\"\",F238=\"\",K238=\"\",O238=\"\",P238=\"\")=TRUE,\"\",IF(C238=\"OSW\",IF(K238>=2,1,0),IF(C238=\"OSR\",IF(AND(K238>=2,Q238>60)=TRUE,1,0),IF(C238=\"OSRH\",IF(AND(K238>=1,Q238>90)=TRUE,1,0),IF(C238=\"OHLC\",IF(AND(N238=\"Y\",Q238>60)=TRUE,1,0),IF(C238=\"DDC\",IF(AND(K238>=4,N238=\"Y\",Q238>120)=TRUE,1,0),0))))))","v":""}]
[null,null,"",null,null,null,null,null,null,null,null,null,null,null,null,0,0,0,0,"",0,0,0,0,0,{"$f":"IF($H$4=\"\",0,VLOOKUP($H$4,BuildingType_Lookup,3,FALSE))","v":0},{"$f":"IF($H$4=\"\",0,VLOOKUP($H$4,BuildingType_Lookup,2,FALSE))","v":0},{"$f":"IF(AND(OR(AN239=\"\",AN239=0)=TRUE,OR(AO239=\"\",AO239=0))=TRUE,0,IF(AO239=\"\",(IF(OR(C239=\"DDC\",C239=\"OHLC\")=TRUE,O239,P239)/1000)*Y239*Z239*(1+VLOOKUP($H$4,BuildingType_Lookup,4,FALSE)),IF(AO239=0,0,(IF(OR(C239=\"DDC\",C239=\"OHLC\")=TRUE,O239,Q239)/1000)*Y239*Z239*(1+VLOOKUP($H$4,BuildingType_Lookup,4,FALSE)))))","v":0},{"$f":"IF(AND(OR(AN239=\"\",AN239=0)=TRUE,OR(AO239=\"\",AO239=0))=TRUE,0,IF(AO239=\"\",(IF(OR(C239=\"DDC\",C239=\"OHLC\")=TRUE,O239,P239)/1000)*Y239*AA239*(1+VLOOKUP($H$4,BuildingType_Lookup,MATCH($H$5,HVAC,0)+4,FALSE)),IF(AO239=0,0,(IF(OR(C239=\"DDC\",C239=\"OHLC\")=TRUE,O239,Q239)/1000)*Y239*AA239*(1+VLOOKUP($H$4,BuildingType_Lookup,MATCH($H$5,HVAC,0)+4,FALSE)))))","v":0},0,0,0,0,0,0,{"$f":"W239/1000*Y239*AA239*IF(IFERROR(SEARCH(\"Gas\",$H$5),0)>0,VLOOKUP(\"Gas\",HVACg_Lookup,MATCH($H$6,BuildingSize,0)+1,FALSE),IF(IFERROR(SEARCH(\"Oil\",$H$5),0)>0,VLOOKUP(\"Oil\",HVACg_Lookup,MATCH($H$6,BuildingSize,0)+1,FALSE),IF(IFERROR(SEARCH(\"Propane\",$H$5),0)>0,VLOOKUP(\"Propane\",HVACg_Lookup,MATCH(Worksheet!$H$6,BuildingSize,0)+1,FALSE),0)))","v":0},{"$f":"X239/1000*Y239*AA239*IF(IFERROR(SEARCH(\"Gas\",$H$5),0)>0,VLOOKUP(\"Gas\",HVACg_Lookup,MATCH($H$6,BuildingSize,0)+1,FALSE),IF(IFERROR(SEARCH(\"Oil\",$H$5),0)>0,VLOOKUP(\"Oil\",HVACg_Lookup,MATCH($H$6,BuildingSize,0)+1,FALSE),IF(IFERROR(SEARCH(\"Propane\",$H$5),0)>0,VLOOKUP(\"Propane\",HVACg_Lookup,MATCH(Worksheet!$H$6,BuildingSize,0)+1,FALSE),0)))","v":0},0,0,{"$f":"IF(OR($B$4=\"\",$B$5=\"\",$H$4=\"\",$H$6=\"\",$H$5=\"\",A239=\"\",F239=\"\",J239=\"\",O239=\"\",P239=\"\")=TRUE,\"\",IF(C239=\"OSW\",IF(J239>=2,1,0),IF(C239=\"OSR\",IF(AND(J239>=2,P239>60)=TRUE,1,0),IF(C239=\"OSRH\",IF(AND(J239>=1,P239>90)=TRUE,1,0),IF(C239=\"OHLC\",IF(AND(N239=\"Y\",P239>60)=TRUE,1,0),IF(C239=\"DDC\",IF(AND(J239>=4,N239=\"Y\",P239>120)=TRUE,1,0),0))))))","v":""},{"$f":"IF(OR($B$4=\"\",$B$5=\"\",$H$4=\"\",$H$6=\"\",$H$5=\"\",A239=\"\",F239=\"\",K239=\"\",O239=\"\",P239=\"\")=TRUE,\"\",IF(C239=\"OSW\",IF(K239>=2,1,0),IF(C239=\"OSR\",IF(AND(K239>=2,Q239>60)=TRUE,1,0),IF(C239=\"OSRH\",IF(AND(K239>=1,Q239>90)=TRUE,1,0),IF(C239=\"OHLC\",IF(AND(N239=\"Y\",Q239>60)=TRUE,1,0),IF(C239=\"DDC\",IF(AND(K239>=4,N239=\"Y\",Q239>120)=TRUE,1,0),0))))))","v":""}]
[null,null,"",null,null,null,null,null,null,null,null,null,null,null,null,0,0,0,0,"",0,0,0,0,0,{"$f":"IF($H$4=\"\",0,VLOOKUP($H$4,BuildingType_Lookup,3,FALSE))","v":0},{"$f":"IF($H$4=\"\",0,VLOOKUP($H$4,BuildingType_Lookup,2,FALSE))","v":0},{"$f":"IF(AND(OR(AN240=\"\",AN240=0)=TRUE,OR(AO240=\"\",AO240=0))=TRUE,0,IF(AO240=\"\",(IF(OR(C240=\"DDC\",C240=\"OHLC\")=TRUE,O240,P240)/1000)*Y240*Z240*(1+VLOOKUP($H$4,BuildingType_Lookup,4,FALSE)),IF(AO240=0,0,(IF(OR(C240=\"DDC\",C240=\"OHLC\")=TRUE,O240,Q240)/1000)*Y240*Z240*(1+VLOOKUP($H$4,BuildingType_Lookup,4,FALSE)))))","v":0},{"$f":"IF(AND(OR(AN240=\"\",AN240=0)=TRUE,OR(AO240=\"\",AO240=0))=TRUE,0,IF(AO240=\"\",(IF(OR(C240=\"DDC\",C240=\"OHLC\")=TRUE,O240,P240)/1000)*Y240*AA240*(1+VLOOKUP($H$4,BuildingType_Lookup,MATCH($H$5,HVAC,0)+4,FALSE)),IF(AO240=0,0,(IF(OR(C240=\"DDC\",C240=\"OHLC\")=TRUE,O240,Q240)/1000)*Y240*AA240*(1+VLOOKUP($H$4,BuildingType_Lookup,MATCH($H$5,HVAC,0)+4,FALSE)))))","v":0},0,0,0,0,0,0,{"$f":"W240/1000*Y240*AA240*IF(IFERROR(SEARCH(\"Gas\",$H$5),0)>0,VLOOKUP(\"Gas\",HVACg_Lookup,MATCH($H$6,BuildingSize,0)+1,FALSE),IF(IFERROR(SEARCH(\"Oil\",$H$5),0)>0,VLOOKUP(\"Oil\",HVACg_Lookup,MATCH($H$6,BuildingSize,0)+1,FALSE),IF(IFERROR(SEARCH(\"Propane\",$H$5),0)>0,VLOOKUP(\"Propane\",HVACg_Lookup,MATCH(Worksheet!$H$6,BuildingSize,0)+1,FALSE),0)))","v":0},{"$f":"X240/1000*Y240*AA240*IF(IFERROR(SEARCH(\"Gas\",$H$5),0)>0,VLOOKUP(\"Gas\",HVACg_Lookup,MATCH($H$6,BuildingSize,0)+1,FALSE),IF(IFERROR(SEARCH(\"Oil\",$H$5),0)>0,VLOOKUP(\"Oil\",HVACg_Lookup,MATCH($H$6,BuildingSize,0)+1,FALSE),IF(IFERROR(SEARCH(\"Propane\",$H$5),0)>0,VLOOKUP(\"Propane\",HVACg_Lookup,MATCH(Worksheet!$H$6,BuildingSize,0)+1,FALSE),0)))","v":0},0,0,{"$f":"IF(OR($B$4=\"\",$B$5=\"\",$H$4=\"\",$H$6=\"\",$H$5=\"\",A240=\"\",F240=\"\",J240=\"\",O240=\"\",P240=\"\")=TRUE,\"\",IF(C240=\"OSW\",IF(J240>=2,1,0),IF(C240=\"OSR\",IF(AND(J240>=2,P240>60)=TRUE,1,0),IF(C240=\"OSRH\",IF(AND(J240>=1,P240>90)=TRUE,1,0),IF(C240=\"OHLC\",IF(AND(N240=\"Y\",P240>60)=TRUE,1,0),IF(C240=\"DDC\",IF(AND(J240>=4,N240=\"Y\",P240>120)=TRUE,1,0),0))))))","v":""},{"$f":"IF(OR($B$4=\"\",$B$5=\"\",$H$4=\"\",$H$6=\"\",$H$5=\"\",A240=\"\",F240=\"\",K240=\"\",O240=\"\",P240=\"\")=TRUE,\"\",IF(C240=\"OSW\",IF(K240>=2,1,0),IF(C240=\"OSR\",IF(AND(K240>=2,Q240>60)=TRUE,1,0),IF(C240=\"OSRH\",IF(AND(K240>=1,Q240>90)=TRUE,1,0),IF(C240=\"OHLC\",IF(AND(N240=\"Y\",Q240>60)=TRUE,1,0),IF(C240=\"DDC\",IF(AND(K240>=4,N240=\"Y\",Q240>120)=TRUE,1,0),0))))))","v":""}]
[null,null,"",null,null,null,null,null,null,null,null,null,null,null,null,0,0,0,0,"",0,0,0,0,0,{"$f":"IF($H$4=\"\",0,VLOOKUP($H$4,BuildingType_Lookup,3,FALSE))","v":0},{"$f":"IF($H$4=\"\",0,VLOOKUP($H$4,BuildingType_Lookup,2,FALSE))","v":0},{"$f":"IF(AND(OR(AN241=\"\",AN241=0)=TRUE,OR(AO241=\"\",AO241=0))=TRUE,0,IF(AO241=\"\",(IF(OR(C241=\"DDC\",C241=\"OHLC\")=TRUE,O241,P241)/1000)*Y241*Z241*(1+VLOOKUP($H$4,BuildingType_Lookup,4,FALSE)),IF(AO241=0,0,(IF(OR(C241=\"DDC\",C241=\"OHLC\")=TRUE,O241,Q241)/1000)*Y241*Z241*(1+VLOOKUP($H$4,BuildingType_Lookup,4,FALSE)))))","v":0},{"$f":"IF(AND(OR(AN241=\"\",AN241=0)=TRUE,OR(AO241=\"\",AO241=0))=TRUE,0,IF(AO241=\"\",(IF(OR(C241=\"DDC\",C241=\"OHLC\")=TRUE,O241,P241)/1000)*Y241*AA241*(1+VLOOKUP($H$4,BuildingType_Lookup,MATCH($H$5,HVAC,0)+4,FALSE)),IF(AO241=0,0,(IF(OR(C241=\"DDC\",C241=\"OHLC\")=TRUE,O241,Q241)/1000)*Y241*AA241*(1+VLOOKUP($H$4,BuildingType_Lookup,MATCH($H$5,HVAC,0)+4,FALSE)))))","v":0},0,0,0,0,0,0,{"$f":"W241/1000*Y241*AA241*IF(IFERROR(SEARCH(\"Gas\",$H$5),0)>0,VLOOKUP(\"Gas\",HVACg_Lookup,MATCH($H$6,BuildingSize,0)+1,FALSE),IF(IFERROR(SEARCH(\"Oil\",$H$5),0)>0,VLOOKUP(\"Oil\",HVACg_Lookup,MATCH($H$6,BuildingSize,0)+1,FALSE),IF(IFERROR(SEARCH(\"Propane\",$H$5),0)>0,VLOOKUP(\"Propane\",HVACg_Lookup,MATCH(Worksheet!$H$6,BuildingSize,0)+1,FALSE),0)))","v":0},{"$f":"X241/1000*Y241*AA241*IF(IFERROR(SEARCH(\"Gas\",$H$5),0)>0,VLOOKUP(\"Gas\",HVACg_Lookup,MATCH($H$6,BuildingSize,0)+1,FALSE),IF(IFERROR(SEARCH(\"Oil\",$H$5),0)>0,VLOOKUP(\"Oil\",HVACg_Lookup,MATCH($H$6,BuildingSize,0)+1,FALSE),IF(IFERROR(SEARCH(\"Propane\",$H$5),0)>0,VLOOKUP(\"Propane\",HVACg_Lookup,MATCH(Worksheet!$H$6,BuildingSize,0)+1,FALSE),0)))","v":0},0,0,{"$f":"IF(OR($B$4=\"\",$B$5=\"\",$H$4=\"\",$H$6=\"\",$H$5=\"\",A241=\"\",F241=\"\",J241=\"\",O241=\"\",P241=\"\")=TRUE,\"\",IF(C241=\"OSW\",IF(J241>=2,1,0),IF(C241=\"OSR\",IF(AND(J241>=2,P241>60)=TRUE,1,0),IF(C241=\"OSRH\",IF(AND(J241>=1,P241>90)=TRUE,1,0),IF(C241=\"OHLC\",IF(AND(N241=\"Y\",P241>60)=TRUE,1,0),IF(C241=\"DDC\",IF(AND(J241>=4,N241=\"Y\",P241>120)=TRUE,1,0),0))))))","v":""},{"$f":"IF(OR($B$4=\"\",$B$5=\"\",$H$4=\"\",$H$6=\"\",$H$5=\"\",A241=\"\",F241=\"\",K241=\"\",O241=\"\",P241=\"\")=TRUE,\"\",IF(C241=\"OSW\",IF(K241>=2,1,0),IF(C241=\"OSR\",IF(AND(K241>=2,Q241>60)=TRUE,1,0),IF(C241=\"OSRH\",IF(AND(K241>=1,Q241>90)=TRUE,1,0),IF(C241=\"OHLC\",IF(AND(N241=\"Y\",Q241>60)=TRUE,1,0),IF(C241=\"DDC\",IF(AND(K241>=4,N241=\"Y\",Q241>120)=TRUE,1,0),0))))))","v":""}]
[null,null,"",null,null,null,null,null,null,null,null,null,null,null,null,0,0,0,0,"",0,0,0,0,0,{"$f":"IF($H$4=\"\",0,VLOOKUP($H$4,BuildingType_Lookup,3,FALSE))","v":0},{"$f":"IF($H$4=\"\",0,VLOOKUP($H$4,BuildingType_Lookup,2,FALSE))","v":0},{"$f":"IF(AND(OR(AN242=\"\",AN242=0)=TRUE,OR(AO242=\"\",AO242=0))=TRUE,0,IF(AO242=\"\",(IF(OR(C242=\"DDC\",C242=\"OHLC\")=TRUE,O242,P242)/1000)*Y242*Z242*(1+VLOOKUP($H$4,BuildingType_Lookup,4,FALSE)),IF(AO242=0,0,(IF(OR(C242=\"DDC\",C242=\"OHLC\")=TRUE,O242,Q242)/1000)*Y242*Z242*(1+VLOOKUP($H$4,BuildingType_Lookup,4,FALSE)))))","v":0},{"$f":"IF(AND(OR(AN242=\"\",AN242=0)=TRUE,OR(AO242=\"\",AO242=0))=TRUE,0,IF(AO242=\"\",(IF(OR(C242=\"DDC\",C242=\"OHLC\")=TRUE,O242,P242)/1000)*Y242*AA242*(1+VLOOKUP($H$4,BuildingType_Lookup,MATCH($H$5,HVAC,0)+4,FALSE)),IF(AO242=0,0,(IF(OR(C242=\"DDC\",C242=\"OHLC\")=TRUE,O242,Q242)/1000)*Y242*AA242*(1+VLOOKUP($H$4,BuildingType_Lookup,MATCH($H$5,HVAC,0)+4,FALSE)))))","v":0},0,0,0,0,0,0,{"$f":"W242/1000*Y242*AA242*IF(IFERROR(SEARCH(\"Gas\",$H$5),0)>0,VLOOKUP(\"Gas\",HVACg_Lookup,MATCH($H$6,BuildingSize,0)+1,FALSE),IF(IFERROR(SEARCH(\"Oil\",$H$5),0)>0,VLOOKUP(\"Oil\",HVACg_Lookup,MATCH($H$6,BuildingSize,0)+1,FALSE),IF(IFERROR(SEARCH(\"Propane\",$H$5),0)>0,VLOOKUP(\"Propane\",HVACg_Lookup,MATCH(Worksheet!$H$6,BuildingSize,0)+1,FALSE),0)))","v":0},{"$f":"X242/1000*Y242*AA242*IF(IFERROR(SEARCH(\"Gas\",$H$5),0)>0,VLOOKUP(\"Gas\",HVACg_Lookup,MATCH($H$6,BuildingSize,0)+1,FALSE),IF(IFERROR(SEARCH(\"Oil\",$H$5),0)>0,VLOOKUP(\"Oil\",HVACg_Lookup,MATCH($H$6,BuildingSize,0)+1,FALSE),IF(IFERROR(SEARCH(\"Propane\",$H$5),0)>0,VLOOKUP(\"Propane\",HVACg_Lookup,MATCH(Worksheet!$H$6,BuildingSize,0)+1,FALSE),0)))","v":0},0,0,{"$f":"IF(OR($B$4=\"\",$B$5=\"\",$H$4=\"\",$H$6=\"\",$H$5=\"\",A242=\"\",F242=\"\",J242=\"\",O242=\"\",P242=\"\")=TRUE,\"\",IF(C242=\"OSW\",IF(J242>=2,1,0),IF(C242=\"OSR\",IF(AND(J242>=2,P242>60)=TRUE,1,0),IF(C242=\"OSRH\",IF(AND(J242>=1,P242>90)=TRUE,1,0),IF(C242=\"OHLC\",IF(AND(N242=\"Y\",P242>60)=TRUE,1,0),IF(C242=\"DDC\",IF(AND(J242>=4,N242=\"Y\",P242>120)=TRUE,1,0),0))))))","v":""},{"$f":"IF(OR($B$4=\"\",$B$5=\"\",$H$4=\"\",$H$6=\"\",$H$5=\"\",A242=\"\",F242=\"\",K242=\"\",O242=\"\",P242=\"\")=TRUE,\"\",IF(C242=\"OSW\",IF(K242>=2,1,0),IF(C242=\"OSR\",IF(AND(K242>=2,Q242>60)=TRUE,1,0),IF(C242=\"OSRH\",IF(AND(K242>=1,Q242>90)=TRUE,1,0),IF(C242=\"OHLC\",IF(AND(N242=\"Y\",Q242>60)=TRUE,1,0),IF(C242=\"DDC\",IF(AND(K242>=4,N242=\"Y\",Q242>120)=TRUE,1,0),0))))))","v":""}]
[null,null,"",null,null,null,null,null,null,null,null,null,null,null,null,0,0,0,0,"",0,0,0,0,0,{"$f":"IF($H$4=\"\",0,VLOOKUP($H$4,BuildingType_Lookup,3,FALSE))","v":0},{"$f":"IF($H$4=\"\",0,VLOOKUP($H$4,BuildingType_Lookup,2,FALSE))","v":0},{"$f":"IF(AND(OR(AN243=\"\",AN243=0)=TRUE,OR(AO243=\"\",AO243=0))=TRUE,0,IF(AO243=\"\",(IF(OR(C243=\"DDC\",C243=\"OHLC\")=TRUE,O243,P243)/1000)*Y243*Z243*(1+VLOOKUP($H$4,BuildingType_Lookup,4,FALSE)),IF(AO243=0,0,(IF(OR(C243=\"DDC\",C243=\"OHLC\")=TRUE,O243,Q243)/1000)*Y243*Z243*(1+VLOOKUP($H$4,BuildingType_Lookup,4,FALSE)))))","v":0},{"$f":"IF(AND(OR(AN243=\"\",AN243=0)=TRUE,OR(AO243=\"\",AO243=0))=TRUE,0,IF(AO243=\"\",(IF(OR(C243=\"DDC\",C243=\"OHLC\")=TRUE,O243,P243)/1000)*Y243*AA243*(1+VLOOKUP($H$4,BuildingType_Lookup,MATCH($H$5,HVAC,0)+4,FALSE)),IF(AO243=0,0,(IF(OR(C243=\"DDC\",C243=\"OHLC\")=TRUE,O243,Q243)/1000)*Y243*AA243*(1+VLOOKUP($H$4,BuildingType_Lookup,MATCH($H$5,HVAC,0)+4,FALSE)))))","v":0},0,0,0,0,0,0,{"$f":"W243/1000*Y243*AA243*IF(IFERROR(SEARCH(\"Gas\",$H$5),0)>0,VLOOKUP(\"Gas\",HVACg_Lookup,MATCH($H$6,BuildingSize,0)+1,FALSE),IF(IFERROR(SEARCH(\"Oil\",$H$5),0)>0,VLOOKUP(\"Oil\",HVACg_Lookup,MATCH($H$6,BuildingSize,0)+1,FALSE),IF(IFERROR(SEARCH(\"Propane\",$H$5),0)>0,VLOOKUP(\"Propane\",HVACg_Lookup,MATCH(Worksheet!$H$6,BuildingSize,0)+1,FALSE),0)))","v":0},{"$f":"X243/1000*Y243*AA243*IF(IFERROR(SEARCH(\"Gas\",$H$5),0)>0,VLOOKUP(\"Gas\",HVACg_Lookup,MATCH($H$6,BuildingSize,0)+1,FALSE),IF(IFERROR(SEARCH(\"Oil\",$H$5),0)>0,VLOOKUP(\"Oil\",HVACg_Lookup,MATCH($H$6,BuildingSize,0)+1,FALSE),IF(IFERROR(SEARCH(\"Propane\",$H$5),0)>0,VLOOKUP(\"Propane\",HVACg_Lookup,MATCH(Worksheet!$H$6,BuildingSize,0)+1,FALSE),0)))","v":0},0,0,{"$f":"IF(OR($B$4=\"\",$B$5=\"\",$H$4=\"\",$H$6=\"\",$H$5=\"\",A243=\"\",F243=\"\",J243=\"\",O243=\"\",P243=\"\")=TRUE,\"\",IF(C243=\"OSW\",IF(J243>=2,1,0),IF(C243=\"OSR\",IF(AND(J243>=2,P243>60)=TRUE,1,0),IF(C243=\"OSRH\",IF(AND(J243>=1,P243>90)=TRUE,1,0),IF(C243=\"OHLC\",IF(AND(N243=\"Y\",P243>60)=TRUE,1,0),IF(C243=\"DDC\",IF(AND(J243>=4,N243=\"Y\",P243>120)=TRUE,1,0),0))))))","v":""},{"$f":"IF(OR($B$4=\"\",$B$5=\"\",$H$4=\"\",$H$6=\"\",$H$5=\"\",A243=\"\",F243=\"\",K243=\"\",O243=\"\",P243=\"\")=TRUE,\"\",IF(C243=\"OSW\",IF(K243>=2,1,0),IF(C243=\"OSR\",IF(AND(K243>=2,Q243>60)=TRUE,1,0),IF(C243=\"OSRH\",IF(AND(K243>=1,Q243>90)=TRUE,1,0),IF(C243=\"OHLC\",IF(AND(N243=\"Y\",Q243>60)=TRUE,1,0),IF(C243=\"DDC\",IF(AND(K243>=4,N243=\"Y\",Q243>120)=TRUE,1,0),0))))))","v":""}]
[null,null,"",null,null,null,null,null,null,null,null,null,null,null,null,0,0,0,0,"",0,0,0,0,0,{"$f":"IF($H$4=\"\",0,VLOOKUP($H$4,BuildingType_Lookup,3,FALSE))","v":0},{"$f":"IF($H$4=\"\",0,VLOOKUP($H$4,BuildingType_Lookup,2,FALSE))","v":0},{"$f":"IF(AND(OR(AN244=\"\",AN244=0)=TRUE,OR(AO244=\"\",AO244=0))=TRUE,0,IF(AO244=\"\",(IF(OR(C244=\"DDC\",C244=\"OHLC\")=TRUE,O244,P244)/1000)*Y244*Z244*(1+VLOOKUP($H$4,BuildingType_Lookup,4,FALSE)),IF(AO244=0,0,(IF(OR(C244=\"DDC\",C244=\"OHLC\")=TRUE,O244,Q244)/1000)*Y244*Z244*(1+VLOOKUP($H$4,BuildingType_Lookup,4,FALSE)))))","v":0},{"$f":"IF(AND(OR(AN244=\"\",AN244=0)=TRUE,OR(AO244=\"\",AO244=0))=TRUE,0,IF(AO244=\"\",(IF(OR(C244=\"DDC\",C244=\"OHLC\")=TRUE,O244,P244)/1000)*Y244*AA244*(1+VLOOKUP($H$4,BuildingType_Lookup,MATCH($H$5,HVAC,0)+4,FALSE)),IF(AO244=0,0,(IF(OR(C244=\"DDC\",C244=\"OHLC\")=TRUE,O244,Q244)/1000)*Y244*AA244*(1+VLOOKUP($H$4,BuildingType_Lookup,MATCH($H$5,HVAC,0)+4,FALSE)))))","v":0},0,0,0,0,0,0,{"$f":"W244/1000*Y244*AA244*IF(IFERROR(SEARCH(\"Gas\",$H$5),0)>0,VLOOKUP(\"Gas\",HVACg_Lookup,MATCH($H$6,BuildingSize,0)+1,FALSE),IF(IFERROR(SEARCH(\"Oil\",$H$5),0)>0,VLOOKUP(\"Oil\",HVACg_Lookup,MATCH($H$6,BuildingSize,0)+1,FALSE),IF(IFERROR(SEARCH(\"Propane\",$H$5),0)>0,VLOOKUP(\"Propane\",HVACg_Lookup,MATCH(Worksheet!$H$6,BuildingSize,0)+1,FALSE),0)))","v":0},{"$f":"X244/1000*Y244*AA244*IF(IFERROR(SEARCH(\"Gas\",$H$5),0)>0,VLOOKUP(\"Gas\",HVACg_Lookup,MATCH($H$6,BuildingSize,0)+1,FALSE),IF(IFERROR(SEARCH(\"Oil\",$H$5),0)>0,VLOOKUP(\"Oil\",HVACg_Lookup,MATCH($H$6,BuildingSize,0)+1,FALSE),IF(IFERROR(SEARCH(\"Propane\",$H$5),0)>0,VLOOKUP(\"Propane\",HVACg_Lookup,MATCH(Worksheet!$H$6,BuildingSize,0)+1,FALSE),0)))","v":0},0,0,{"$f":"IF(OR($B$4=\"\",$B$5=\"\",$H$4=\"\",$H$6=\"\",$H$5=\"\",A244=\"\",F244=\"\",J244=\"\",O244=\"\",P244=\"\")=TRUE,\"\",IF(C244=\"OSW\",IF(J244>=2,1,0),IF(C244=\"OSR\",IF(AND(J244>=2,P244>60)=TRUE,1,0),IF(C244=\"OSRH\",IF(AND(J244>=1,P244>90)=TRUE,1,0),IF(C244=\"OHLC\",IF(AND(N244=\"Y\",P244>60)=TRUE,1,0),IF(C244=\"DDC\",IF(AND(J244>=4,N244=\"Y\",P244>120)=TRUE,1,0),0))))))","v":""},{"$f":"IF(OR($B$4=\"\",$B$5=\"\",$H$4=\"\",$H$6=\"\",$H$5=\"\",A244=\"\",F244=\"\",K244=\"\",O244=\"\",P244=\"\")=TRUE,\"\",IF(C244=\"OSW\",IF(K244>=2,1,0),IF(C244=\"OSR\",IF(AND(K244>=2,Q244>60)=TRUE,1,0),IF(C244=\"OSRH\",IF(AND(K244>=1,Q244>90)=TRUE,1,0),IF(C244=\"OHLC\",IF(AND(N244=\"Y\",Q244>60)=TRUE,1,0),IF(C244=\"DDC\",IF(AND(K244>=4,N244=\"Y\",Q244>120)=TRUE,1,0),0))))))","v":""}]
[null,null,"",null,null,null,null,null,null,null,null,null,null,null,null,0,0,0,0,"",0,0,0,0,0,{"$f":"IF($H$4=\"\",0,VLOOKUP($H$4,BuildingType_Lookup,3,FALSE))","v":0},{"$f":"IF($H$4=\"\",0,VLOOKUP($H$4,BuildingType_Lookup,2,FALSE))","v":0},{"$f":"IF(AND(OR(AN245=\"\",AN245=0)=TRUE,OR(AO245=\"\",AO245=0))=TRUE,0,IF(AO245=\"\",(IF(OR(C245=\"DDC\",C245=\"OHLC\")=TRUE,O245,P245)/1000)*Y245*Z245*(1+VLOOKUP($H$4,BuildingType_Lookup,4,FALSE)),IF(AO245=0,0,(IF(OR(C245=\"DDC\",C245=\"OHLC\")=TRUE,O245,Q245)/1000)*Y245*Z245*(1+VLOOKUP($H$4,BuildingType_Lookup,4,FALSE)))))","v":0},{"$f":"IF(AND(OR(AN245=\"\",AN245=0)=TRUE,OR(AO245=\"\",AO245=0))=TRUE,0,IF(AO245=\"\",(IF(OR(C245=\"DDC\",C245=\"OHLC\")=TRUE,O245,P245)/1000)*Y245*AA245*(1+VLOOKUP($H$4,BuildingType_Lookup,MATCH($H$5,HVAC,0)+4,FALSE)),IF(AO245=0,0,(IF(OR(C245=\"DDC\",C245=\"OHLC\")=TRUE,O245,Q245)/1000)*Y245*AA245*(1+VLOOKUP($H$4,BuildingType_Lookup,MATCH($H$5,HVAC,0)+4,FALSE)))))","v":0},0,0,0,0,0,0,{"$f":"W245/1000*Y245*AA245*IF(IFERROR(SEARCH(\"Gas\",$H$5),0)>0,VLOOKUP(\"Gas\",HVACg_Lookup,MATCH($H$6,BuildingSize,0)+1,FALSE),IF(IFERROR(SEARCH(\"Oil\",$H$5),0)>0,VLOOKUP(\"Oil\",HVACg_Lookup,MATCH($H$6,BuildingSize,0)+1,FALSE),IF(IFERROR(SEARCH(\"Propane\",$H$5),0)>0,VLOOKUP(\"Propane\",HVACg_Lookup,MATCH(Worksheet!$H$6,BuildingSize,0)+1,FALSE),0)))","v":0},{"$f":"X245/1000*Y245*AA245*IF(IFERROR(SEARCH(\"Gas\",$H$5),0)>0,VLOOKUP(\"Gas\",HVACg_Lookup,MATCH($H$6,BuildingSize,0)+1,FALSE),IF(IFERROR(SEARCH(\"Oil\",$H$5),0)>0,VLOOKUP(\"Oil\",HVACg_Lookup,MATCH($H$6,BuildingSize,0)+1,FALSE),IF(IFERROR(SEARCH(\"Propane\",$H$5),0)>0,VLOOKUP(\"Propane\",HVACg_Lookup,MATCH(Worksheet!$H$6,BuildingSize,0)+1,FALSE),0)))","v":0},0,0,{"$f":"IF(OR($B$4=\"\",$B$5=\"\",$H$4=\"\",$H$6=\"\",$H$5=\"\",A245=\"\",F245=\"\",J245=\"\",O245=\"\",P245=\"\")=TRUE,\"\",IF(C245=\"OSW\",IF(J245>=2,1,0),IF(C245=\"OSR\",IF(AND(J245>=2,P245>60)=TRUE,1,0),IF(C245=\"OSRH\",IF(AND(J245>=1,P245>90)=TRUE,1,0),IF(C245=\"OHLC\",IF(AND(N245=\"Y\",P245>60)=TRUE,1,0),IF(C245=\"DDC\",IF(AND(J245>=4,N245=\"Y\",P245>120)=TRUE,1,0),0))))))","v":""},{"$f":"IF(OR($B$4=\"\",$B$5=\"\",$H$4=\"\",$H$6=\"\",$H$5=\"\",A245=\"\",F245=\"\",K245=\"\",O245=\"\",P245=\"\")=TRUE,\"\",IF(C245=\"OSW\",IF(K245>=2,1,0),IF(C245=\"OSR\",IF(AND(K245>=2,Q245>60)=TRUE,1,0),IF(C245=\"OSRH\",IF(AND(K245>=1,Q245>90)=TRUE,1,0),IF(C245=\"OHLC\",IF(AND(N245=\"Y\",Q245>60)=TRUE,1,0),IF(C245=\"DDC\",IF(AND(K245>=4,N245=\"Y\",Q245>120)=TRUE,1,0),0))))))","v":""}]
[null,null,"",null,null,null,null,null,null,null,null,null,null,null,null,0,0,0,0,"",0,0,0,0,0,{"$f":"IF($H$4=\"\",0,VLOOKUP($H$4,BuildingType_Lookup,3,FALSE))","v":0},{"$f":"IF($H$4=\"\",0,VLOOKUP($H$4,BuildingType_Lookup,2,FALSE))","v":0},{"$f":"IF(AND(OR(AN246=\"\",AN246=0)=TRUE,OR(AO246=\"\",AO246=0))=TRUE,0,IF(AO246=\"\",(IF(OR(C246=\"DDC\",C246=\"OHLC\")=TRUE,O246,P246)/1000)*Y246*Z246*(1+VLOOKUP($H$4,BuildingType_Lookup,4,FALSE)),IF(AO246=0,0,(IF(OR(C246=\"DDC\",C246=\"OHLC\")=TRUE,O246,Q246)/1000)*Y246*Z246*(1+VLOOKUP($H$4,BuildingType_Lookup,4,FALSE)))))","v":0},{"$f":"IF(AND(OR(AN246=\"\",AN246=0)=TRUE,OR(AO246=\"\",AO246=0))=TRUE,0,IF(AO246=\"\",(IF(OR(C246=\"DDC\",C246=\"OHLC\")=TRUE,O246,P246)/1000)*Y246*AA246*(1+VLOOKUP($H$4,BuildingType_Lookup,MATCH($H$5,HVAC,0)+4,FALSE)),IF(AO246=0,0,(IF(OR(C246=\"DDC\",C246=\"OHLC\")=TRUE,O246,Q246)/1000)*Y246*AA246*(1+VLOOKUP($H$4,BuildingType_Lookup,MATCH($H$5,HVAC,0)+4,FALSE)))))","v":0},0,0,0,0,0,0,{"$f":"W246/1000*Y246*AA246*IF(IFERROR(SEARCH(\"Gas\",$H$5),0)>0,VLOOKUP(\"Gas\",HVACg_Lookup,MATCH($H$6,BuildingSize,0)+1,FALSE),IF(IFERROR(SEARCH(\"Oil\",$H$5),0)>0,VLOOKUP(\"Oil\",HVACg_Lookup,MATCH($H$6,BuildingSize,0)+1,FALSE),IF(IFERROR(SEARCH(\"Propane\",$H$5),0)>0,VLOOKUP(\"Propane\",HVACg_Lookup,MATCH(Worksheet!$H$6,BuildingSize,0)+1,FALSE),0)))","v":0},{"$f":"X246/1000*Y246*AA246*IF(IFERROR(SEARCH(\"Gas\",$H$5),0)>0,VLOOKUP(\"Gas\",HVACg_Lookup,MATCH($H$6,BuildingSize,0)+1,FALSE),IF(IFERROR(SEARCH(\"Oil\",$H$5),0)>0,VLOOKUP(\"Oil\",HVACg_Lookup,MATCH($H$6,BuildingSize,0)+1,FALSE),IF(IFERROR(SEARCH(\"Propane\",$H$5),0)>0,VLOOKUP(\"Propane\",HVACg_Lookup,MATCH(Worksheet!$H$6,BuildingSize,0)+1,FALSE),0)))","v":0},0,0,{"$f":"IF(OR($B$4=\"\",$B$5=\"\",$H$4=\"\",$H$6=\"\",$H$5=\"\",A246=\"\",F246=\"\",J246=\"\",O246=\"\",P246=\"\")=TRUE,\"\",IF(C246=\"OSW\",IF(J246>=2,1,0),IF(C246=\"OSR\",IF(AND(J246>=2,P246>60)=TRUE,1,0),IF(C246=\"OSRH\",IF(AND(J246>=1,P246>90)=TRUE,1,0),IF(C246=\"OHLC\",IF(AND(N246=\"Y\",P246>60)=TRUE,1,0),IF(C246=\"DDC\",IF(AND(J246>=4,N246=\"Y\",P246>120)=TRUE,1,0),0))))))","v":""},{"$f":"IF(OR($B$4=\"\",$B$5=\"\",$H$4=\"\",$H$6=\"\",$H$5=\"\",A246=\"\",F246=\"\",K246=\"\",O246=\"\",P246=\"\")=TRUE,\"\",IF(C246=\"OSW\",IF(K246>=2,1,0),IF(C246=\"OSR\",IF(AND(K246>=2,Q246>60)=TRUE,1,0),IF(C246=\"OSRH\",IF(AND(K246>=1,Q246>90)=TRUE,1,0),IF(C246=\"OHLC\",IF(AND(N246=\"Y\",Q246>60)=TRUE,1,0),IF(C246=\"DDC\",IF(AND(K246>=4,N246=\"Y\",Q246>120)=TRUE,1,0),0))))))","v":""}]
[null,null,"",null,null,null,null,null,null,null,null,null,null,null,null,0,0,0,0,"",0,0,0,0,0,{"$f":"IF($H$4=\"\",0,VLOOKUP($H$4,BuildingType_Lookup,3,FALSE))","v":0},{"$f":"IF($H$4=\"\",0,VLOOKUP($H$4,BuildingType_Lookup,2,FALSE))","v":0},{"$f":"IF(AND(OR(AN247=\"\",AN247=0)=TRUE,OR(AO247=\"\",AO247=0))=TRUE,0,IF(AO247=\"\",(IF(OR(C247=\"DDC\",C247=\"OHLC\")=TRUE,O247,P247)/1000)*Y247*Z247*(1+VLOOKUP($H$4,BuildingType_Lookup,4,FALSE)),IF(AO247=0,0,(IF(OR(C247=\"DDC\",C247=\"OHLC\")=TRUE,O247,Q247)/1000)*Y247*Z247*(1+VLOOKUP($H$4,BuildingType_Lookup,4,FALSE)))))","v":0},{"$f":"IF(AND(OR(AN247=\"\",AN247=0)=TRUE,OR(AO247=\"\",AO247=0))=TRUE,0,IF(AO247=\"\",(IF(OR(C247=\"DDC\",C247=\"OHLC\")=TRUE,O247,P247)/1000)*Y247*AA247*(1+VLOOKUP($H$4,BuildingType_Lookup,MATCH($H$5,HVAC,0)+4,FALSE)),IF(AO247=0,0,(IF(OR(C247=\"DDC\",C247=\"OHLC\")=TRUE,O247,Q247)/1000)*Y247*AA247*(1+VLOOKUP($H$4,BuildingType_Lookup,MATCH($H$5,HVAC,0)+4,FALSE)))))","v":0},0,0,0,0,0,0,{"$f":"W247/1000*Y247*AA247*IF(IFERROR(SEARCH(\"Gas\",$H$5),0)>0,VLOOKUP(\"Gas\",HVACg_Lookup,MATCH($H$6,BuildingSize,0)+1,FALSE),IF(IFERROR(SEARCH(\"Oil\",$H$5),0)>0,VLOOKUP(\"Oil\",HVACg_Lookup,MATCH($H$6,BuildingSize,0)+1,FALSE),IF(IFERROR(SEARCH(\"Propane\",$H$5),0)>0,VLOOKUP(\"Propane\",HVACg_Lookup,MATCH(Worksheet!$H$6,BuildingSize,0)+1,FALSE),0)))","v":0},{"$f":"X247/1000*Y247*AA247*IF(IFERROR(SEARCH(\"Gas\",$H$5),0)>0,VLOOKUP(\"Gas\",HVACg_Lookup,MATCH($H$6,BuildingSize,0)+1,FALSE),IF(IFERROR(SEARCH(\"Oil\",$H$5),0)>0,VLOOKUP(\"Oil\",HVACg_Lookup,MATCH($H$6,BuildingSize,0)+1,FALSE),IF(IFERROR(SEARCH(\"Propane\",$H$5),0)>0,VLOOKUP(\"Propane\",HVACg_Lookup,MATCH(Worksheet!$H$6,BuildingSize,0)+1,FALSE),0)))","v":0},0,0,{"$f":"IF(OR($B$4=\"\",$B$5=\"\",$H$4=\"\",$H$6=\"\",$H$5=\"\",A247=\"\",F247=\"\",J247=\"\",O247=\"\",P247=\"\")=TRUE,\"\",IF(C247=\"OSW\",IF(J247>=2,1,0),IF(C247=\"OSR\",IF(AND(J247>=2,P247>60)=TRUE,1,0),IF(C247=\"OSRH\",IF(AND(J247>=1,P247>90)=TRUE,1,0),IF(C247=\"OHLC\",IF(AND(N247=\"Y\",P247>60)=TRUE,1,0),IF(C247=\"DDC\",IF(AND(J247>=4,N247=\"Y\",P247>120)=TRUE,1,0),0))))))","v":""},{"$f":"IF(OR($B$4=\"\",$B$5=\"\",$H$4=\"\",$H$6=\"\",$H$5=\"\",A247=\"\",F247=\"\",K247=\"\",O247=\"\",P247=\"\")=TRUE,\"\",IF(C247=\"OSW\",IF(K247>=2,1,0),IF(C247=\"OSR\",IF(AND(K247>=2,Q247>60)=TRUE,1,0),IF(C247=\"OSRH\",IF(AND(K247>=1,Q247>90)=TRUE,1,0),IF(C247=\"OHLC\",IF(AND(N247=\"Y\",Q247>60)=TRUE,1,0),IF(C247=\"DDC\",IF(AND(K247>=4,N247=\"Y\",Q247>120)=TRUE,1,0),0))))))","v":""}]
[null,null,"",null,null,null,null,null,null,null,null,null,null,null,null,0,0,0,0,"",0,0,0,0,0,{"$f":"IF($H$4=\"\",0,VLOOKUP($H$4,BuildingType_Lookup,3,FALSE))","v":0},{"$f":"IF($H$4=\"\",0,VLOOKUP($H$4,BuildingType_Lookup,2,FALSE))","v":0},{"$f":"IF(AND(OR(AN248=\"\",AN248=0)=TRUE,OR(AO248=\"\",AO248=0))=TRUE,0,IF(AO248=\"\",(IF(OR(C248=\"DDC\",C248=\"OHLC\")=TRUE,O248,P248)/1000)*Y248*Z248*(1+VLOOKUP($H$4,BuildingType_Lookup,4,FALSE)),IF(AO248=0,0,(IF(OR(C248=\"DDC\",C248=\"OHLC\")=TRUE,O248,Q248)/1000)*Y248*Z248*(1+VLOOKUP($H$4,BuildingType_Lookup,4,FALSE)))))","v":0},{"$f":"IF(AND(OR(AN248=\"\",AN248=0)=TRUE,OR(AO248=\"\",AO248=0))=TRUE,0,IF(AO248=\"\",(IF(OR(C248=\"DDC\",C248=\"OHLC\")=TRUE,O248,P248)/1000)*Y248*AA248*(1+VLOOKUP($H$4,BuildingType_Lookup,MATCH($H$5,HVAC,0)+4,FALSE)),IF(AO248=0,0,(IF(OR(C248=\"DDC\",C248=\"OHLC\")=TRUE,O248,Q248)/1000)*Y248*AA248*(1+VLOOKUP($H$4,BuildingType_Lookup,MATCH($H$5,HVAC,0)+4,FALSE)))))","v":0},0,0,0,0,0,0,{"$f":"W248/1000*Y248*AA248*IF(IFERROR(SEARCH(\"Gas\",$H$5),0)>0,VLOOKUP(\"Gas\",HVACg_Lookup,MATCH($H$6,BuildingSize,0)+1,FALSE),IF(IFERROR(SEARCH(\"Oil\",$H$5),0)>0,VLOOKUP(\"Oil\",HVACg_Lookup,MATCH($H$6,BuildingSize,0)+1,FALSE),IF(IFERROR(SEARCH(\"Propane\",$H$5),0)>0,VLOOKUP(\"Propane\",HVACg_Lookup,MATCH(Worksheet!$H$6,BuildingSize,0)+1,FALSE),0)))","v":0},{"$f":"X248/1000*Y248*AA248*IF(IFERROR(SEARCH(\"Gas\",$H$5),0)>0,VLOOKUP(\"Gas\",HVACg_Lookup,MATCH($H$6,BuildingSize,0)+1,FALSE),IF(IFERROR(SEARCH(\"Oil\",$H$5),0)>0,VLOOKUP(\"Oil\",HVACg_Lookup,MATCH($H$6,BuildingSize,0)+1,FALSE),IF(IFERROR(SEARCH(\"Propane\",$H$5),0)>0,VLOOKUP(\"Propane\",HVACg_Lookup,MATCH(Worksheet!$H$6,BuildingSize,0)+1,FALSE),0)))","v":0},0,0,{"$f":"IF(OR($B$4=\"\",$B$5=\"\",$H$4=\"\",$H$6=\"\",$H$5=\"\",A248=\"\",F248=\"\",J248=\"\",O248=\"\",P248=\"\")=TRUE,\"\",IF(C248=\"OSW\",IF(J248>=2,1,0),IF(C248=\"OSR\",IF(AND(J248>=2,P248>60)=TRUE,1,0),IF(C248=\"OSRH\",IF(AND(J248>=1,P248>90)=TRUE,1,0),IF(C248=\"OHLC\",IF(AND(N248=\"Y\",P248>60)=TRUE,1,0),IF(C248=\"DDC\",IF(AND(J248>=4,N248=\"Y\",P248>120)=TRUE,1,0),0))))))","v":""},{"$f":"IF(OR($B$4=\"\",$B$5=\"\",$H$4=\"\",$H$6=\"\",$H$5=\"\",A248=\"\",F248=\"\",K248=\"\",O248=\"\",P248=\"\")=TRUE,\"\",IF(C248=\"OSW\",IF(K248>=2,1,0),IF(C248=\"OSR\",IF(AND(K248>=2,Q248>60)=TRUE,1,0),IF(C248=\"OSRH\",IF(AND(K248>=1,Q248>90)=TRUE,1,0),IF(C248=\"OHLC\",IF(AND(N248=\"Y\",Q248>60)=TRUE,1,0),IF(C248=\"DDC\",IF(AND(K248>=4,N248=\"Y\",Q248>120)=TRUE,1,0),0))))))","v":""}]
[null,null,"",null,null,null,null,null,null,null,null,null,null,null,null,0,0,0,0,"",0,0,0,0,0,{"$f":"IF($H$4=\"\",0,VLOOKUP($H$4,BuildingType_Lookup,3,FALSE))","v":0},{"$f":"IF($H$4=\"\",0,VLOOKUP($H$4,BuildingType_Lookup,2,FALSE))","v":0},{"$f":"IF(AND(OR(AN249=\"\",AN249=0)=TRUE,OR(AO249=\"\",AO249=0))=TRUE,0,IF(AO249=\"\",(IF(OR(C249=\"DDC\",C249=\"OHLC\")=TRUE,O249,P249)/1000)*Y249*Z249*(1+VLOOKUP($H$4,BuildingType_Lookup,4,FALSE)),IF(AO249=0,0,(IF(OR(C249=\"DDC\",C249=\"OHLC\")=TRUE,O249,Q249)/1000)*Y249*Z249*(1+VLOOKUP($H$4,BuildingType_Lookup,4,FALSE)))))","v":0},{"$f":"IF(AND(OR(AN249=\"\",AN249=0)=TRUE,OR(AO249=\"\",AO249=0))=TRUE,0,IF(AO249=\"\",(IF(OR(C249=\"DDC\",C249=\"OHLC\")=TRUE,O249,P249)/1000)*Y249*AA249*(1+VLOOKUP($H$4,BuildingType_Lookup,MATCH($H$5,HVAC,0)+4,FALSE)),IF(AO249=0,0,(IF(OR(C249=\"DDC\",C249=\"OHLC\")=TRUE,O249,Q249)/1000)*Y249*AA249*(1+VLOOKUP($H$4,BuildingType_Lookup,MATCH($H$5,HVAC,0)+4,FALSE)))))","v":0},0,0,0,0,0,0,{"$f":"W249/1000*Y249*AA249*IF(IFERROR(SEARCH(\"Gas\",$H$5),0)>0,VLOOKUP(\"Gas\",HVACg_Lookup,MATCH($H$6,BuildingSize,0)+1,FALSE),IF(IFERROR(SEARCH(\"Oil\",$H$5),0)>0,VLOOKUP(\"Oil\",HVACg_Lookup,MATCH($H$6,BuildingSize,0)+1,FALSE),IF(IFERROR(SEARCH(\"Propane\",$H$5),0)>0,VLOOKUP(\"Propane\",HVACg_Lookup,MATCH(Worksheet!$H$6,BuildingSize,0)+1,FALSE),0)))","v":0},{"$f":"X249/1000*Y249*AA249*IF(IFERROR(SEARCH(\"Gas\",$H$5),0)>0,VLOOKUP(\"Gas\",HVACg_Lookup,MATCH($H$6,BuildingSize,0)+1,FALSE),IF(IFERROR(SEARCH(\"Oil\",$H$5),0)>0,VLOOKUP(\"Oil\",HVACg_Lookup,MATCH($H$6,BuildingSize,0)+1,FALSE),IF(IFERROR(SEARCH(\"Propane\",$H$5),0)>0,VLOOKUP(\"Propane\",HVACg_Lookup,MATCH(Worksheet!$H$6,BuildingSize,0)+1,FALSE),0)))","v":0},0,0,{"$f":"IF(OR($B$4=\"\",$B$5=\"\",$H$4=\"\",$H$6=\"\",$H$5=\"\",A249=\"\",F249=\"\",J249=\"\",O249=\"\",P249=\"\")=TRUE,\"\",IF(C249=\"OSW\",IF(J249>=2,1,0),IF(C249=\"OSR\",IF(AND(J249>=2,P249>60)=TRUE,1,0),IF(C249=\"OSRH\",IF(AND(J249>=1,P249>90)=TRUE,1,0),IF(C249=\"OHLC\",IF(AND(N249=\"Y\",P249>60)=TRUE,1,0),IF(C249=\"DDC\",IF(AND(J249>=4,N249=\"Y\",P249>120)=TRUE,1,0),0))))))","v":""},{"$f":"IF(OR($B$4=\"\",$B$5=\"\",$H$4=\"\",$H$6=\"\",$H$5=\"\",A249=\"\",F249=\"\",K249=\"\",O249=\"\",P249=\"\")=TRUE,\"\",IF(C249=\"OSW\",IF(K249>=2,1,0),IF(C249=\"OSR\",IF(AND(K249>=2,Q249>60)=TRUE,1,0),IF(C249=\"OSRH\",IF(AND(K249>=1,Q249>90)=TRUE,1,0),IF(C249=\"OHLC\",IF(AND(N249=\"Y\",Q249>60)=TRUE,1,0),IF(C249=\"DDC\",IF(AND(K249>=4,N249=\"Y\",Q249>120)=TRUE,1,0),0))))))","v":""}]
[null,null,"",null,null,null,null,null,null,null,null,null,null,null,null,0,0,0,0,"",0,0,0,0,0,{"$f":"IF($H$4=\"\",0,VLOOKUP($H$4,BuildingType_Lookup,3,FALSE))","v":0},{"$f":"IF($H$4=\"\",0,VLOOKUP($H$4,BuildingType_Lookup,2,FALSE))","v":0},{"$f":"IF(AND(OR(AN250=\"\",AN250=0)=TRUE,OR(AO250=\"\",AO250=0))=TRUE,0,IF(AO250=\"\",(IF(OR(C250=\"DDC\",C250=\"OHLC\")=TRUE,O250,P250)/1000)*Y250*Z250*(1+VLOOKUP($H$4,BuildingType_Lookup,4,FALSE)),IF(AO250=0,0,(IF(OR(C250=\"DDC\",C250=\"OHLC\")=TRUE,O250,Q250)/1000)*Y250*Z250*(1+VLOOKUP($H$4,BuildingType_Lookup,4,FALSE)))))","v":0},{"$f":"IF(AND(OR(AN250=\"\",AN250=0)=TRUE,OR(AO250=\"\",AO250=0))=TRUE,0,IF(AO250=\"\",(IF(OR(C250=\"DDC\",C250=\"OHLC\")=TRUE,O250,P250)/1000)*Y250*AA250*(1+VLOOKUP($H$4,BuildingType_Lookup,MATCH($H$5,HVAC,0)+4,FALSE)),IF(AO250=0,0,(IF(OR(C250=\"DDC\",C250=\"OHLC\")=TRUE,O250,Q250)/1000)*Y250*AA250*(1+VLOOKUP($H$4,BuildingType_Lookup,MATCH($H$5,HVAC,0)+4,FALSE)))))","v":0},0,0,0,0,0,0,{"$f":"W250/1000*Y250*AA250*IF(IFERROR(SEARCH(\"Gas\",$H$5),0)>0,VLOOKUP(\"Gas\",HVACg_Lookup,MATCH($H$6,BuildingSize,0)+1,FALSE),IF(IFERROR(SEARCH(\"Oil\",$H$5),0)>0,VLOOKUP(\"Oil\",HVACg_Lookup,MATCH($H$6,BuildingSize,0)+1,FALSE),IF(IFERROR(SEARCH(\"Propane\",$H$5),0)>0,VLOOKUP(\"Propane\",HVACg_Lookup,MATCH(Worksheet!$H$6,BuildingSize,0)+1,FALSE),0)))","v":0},{"$f":"X250/1000*Y250*AA250*IF(IFERROR(SEARCH(\"Gas\",$H$5),0)>0,VLOOKUP(\"Gas\",HVACg_Lookup,MATCH($H$6,BuildingSize,0)+1,FALSE),IF(IFERROR(SEARCH(\"Oil\",$H$5),0)>0,VLOOKUP(\"Oil\",HVACg_Lookup,MATCH($H$6,BuildingSize,0)+1,FALSE),IF(IFERROR(SEARCH(\"Propane\",$H$5),0)>0,VLOOKUP(\"Propane\",HVACg_Lookup,MATCH(Worksheet!$H$6,BuildingSize,0)+1,FALSE),0)))","v":0},0,0,{"$f":"IF(OR($B$4=\"\",$B$5=\"\",$H$4=\"\",$H$6=\"\",$H$5=\"\",A250=\"\",F250=\"\",J250=\"\",O250=\"\",P250=\"\")=TRUE,\"\",IF(C250=\"OSW\",IF(J250>=2,1,0),IF(C250=\"OSR\",IF(AND(J250>=2,P250>60)=TRUE,1,0),IF(C250=\"OSRH\",IF(AND(J250>=1,P250>90)=TRUE,1,0),IF(C250=\"OHLC\",IF(AND(N250=\"Y\",P250>60)=TRUE,1,0),IF(C250=\"DDC\",IF(AND(J250>=4,N250=\"Y\",P250>120)=TRUE,1,0),0))))))","v":""},{"$f":"IF(OR($B$4=\"\",$B$5=\"\",$H$4=\"\",$H$6=\"\",$H$5=\"\",A250=\"\",F250=\"\",K250=\"\",O250=\"\",P250=\"\")=TRUE,\"\",IF(C250=\"OSW\",IF(K250>=2,1,0),IF(C250=\"OSR\",IF(AND(K250>=2,Q250>60)=TRUE,1,0),IF(C250=\"OSRH\",IF(AND(K250>=1,Q250>90)=TRUE,1,0),IF(C250=\"OHLC\",IF(AND(N250=\"Y\",Q250>60)=TRUE,1,0),IF(C250=\"DDC\",IF(AND(K250>=4,N250=\"Y\",Q250>120)=TRUE,1,0),0))))))","v":""}]
[null,null,"",null,null,null,null,null,null,null,null,null,null,null,null,0,0,0,0,"",0,0,0,0,0,{"$f":"IF($H$4=\"\",0,VLOOKUP($H$4,BuildingType_Lookup,3,FALSE))","v":0},{"$f":"IF($H$4=\"\",0,VLOOKUP($H$4,BuildingType_Lookup,2,FALSE))","v":0},{"$f":"IF(AND(OR(AN251=\"\",AN251=0)=TRUE,OR(AO251=\"\",AO251=0))=TRUE,0,IF(AO251=\"\",(IF(OR(C251=\"DDC\",C251=\"OHLC\")=TRUE,O251,P251)/1000)*Y251*Z251*(1+VLOOKUP($H$4,BuildingType_Lookup,4,FALSE)),IF(AO251=0,0,(IF(OR(C251=\"DDC\",C251=\"OHLC\")=TRUE,O251,Q251)/1000)*Y251*Z251*(1+VLOOKUP($H$4,BuildingType_Lookup,4,FALSE)))))","v":0},{"$f":"IF(AND(OR(AN251=\"\",AN251=0)=TRUE,OR(AO251=\"\",AO251=0))=TRUE,0,IF(AO251=\"\",(IF(OR(C251=\"DDC\",C251=\"OHLC\")=TRUE,O251,P251)/1000)*Y251*AA251*(1+VLOOKUP($H$4,BuildingType_Lookup,MATCH($H$5,HVAC,0)+4,FALSE)),IF(AO251=0,0,(IF(OR(C251=\"DDC\",C251=\"OHLC\")=TRUE,O251,Q251)/1000)*Y251*AA251*(1+VLOOKUP($H$4,BuildingType_Lookup,MATCH($H$5,HVAC,0)+4,FALSE)))))","v":0},0,0,0,0,0,0,{"$f":"W251/1000*Y251*AA251*IF(IFERROR(SEARCH(\"Gas\",$H$5),0)>0,VLOOKUP(\"Gas\",HVACg_Lookup,MATCH($H$6,BuildingSize,0)+1,FALSE),IF(IFERROR(SEARCH(\"Oil\",$H$5),0)>0,VLOOKUP(\"Oil\",HVACg_Lookup,MATCH($H$6,BuildingSize,0)+1,FALSE),IF(IFERROR(SEARCH(\"Propane\",$H$5),0)>0,VLOOKUP(\"Propane\",HVACg_Lookup,MATCH(Worksheet!$H$6,BuildingSize,0)+1,FALSE),0)))","v":0},{"$f":"X251/1000*Y251*AA251*IF(IFERROR(SEARCH(\"Gas\",$H$5),0)>0,VLOOKUP(\"Gas\",HVACg_Lookup,MATCH($H$6,BuildingSize,0)+1,FALSE),IF(IFERROR(SEARCH(\"Oil\",$H$5),0)>0,VLOOKUP(\"Oil\",HVACg_Lookup,MATCH($H$6,BuildingSize,0)+1,FALSE),IF(IFERROR(SEARCH(\"Propane\",$H$5),0)>0,VLOOKUP(\"Propane\",HVACg_Lookup,MATCH(Worksheet!$H$6,BuildingSize,0)+1,FALSE),0)))","v":0},0,0,{"$f":"IF(OR($B$4=\"\",$B$5=\"\",$H$4=\"\",$H$6=\"\",$H$5=\"\",A251=\"\",F251=\"\",J251=\"\",O251=\"\",P251=\"\")=TRUE,\"\",IF(C251=\"OSW\",IF(J251>=2,1,0),IF(C251=\"OSR\",IF(AND(J251>=2,P251>60)=TRUE,1,0),IF(C251=\"OSRH\",IF(AND(J251>=1,P251>90)=TRUE,1,0),IF(C251=\"OHLC\",IF(AND(N251=\"Y\",P251>60)=TRUE,1,0),IF(C251=\"DDC\",IF(AND(J251>=4,N251=\"Y\",P251>120)=TRUE,1,0),0))))))","v":""},{"$f":"IF(OR($B$4=\"\",$B$5=\"\",$H$4=\"\",$H$6=\"\",$H$5=\"\",A251=\"\",F251=\"\",K251=\"\",O251=\"\",P251=\"\")=TRUE,\"\",IF(C251=\"OSW\",IF(K251>=2,1,0),IF(C251=\"OSR\",IF(AND(K251>=2,Q251>60)=TRUE,1,0),IF(C251=\"OSRH\",IF(AND(K251>=1,Q251>90)=TRUE,1,0),IF(C251=\"OHLC\",IF(AND(N251=\"Y\",Q251>60)=TRUE,1,0),IF(C251=\"DDC\",IF(AND(K251>=4,N251=\"Y\",Q251>120)=TRUE,1,0),0))))))","v":""}]
[null,null,"",null,null,null,null,null,null,null,null,null,null,null,null,0,0,0,0,"",0,0,0,0,0,{"$f":"IF($H$4=\"\",0,VLOOKUP($H$4,BuildingType_Lookup,3,FALSE))","v":0},{"$f":"IF($H$4=\"\",0,VLOOKUP($H$4,BuildingType_Lookup,2,FALSE))","v":0},{"$f":"IF(AND(OR(AN252=\"\",AN252=0)=TRUE,OR(AO252=\"\",AO252=0))=TRUE,0,IF(AO252=\"\",(IF(OR(C252=\"DDC\",C252=\"OHLC\")=TRUE,O252,P252)/1000)*Y252*Z252*(1+VLOOKUP($H$4,BuildingType_Lookup,4,FALSE)),IF(AO252=0,0,(IF(OR(C252=\"DDC\",C252=\"OHLC\")=TRUE,O252,Q252)/1000)*Y252*Z252*(1+VLOOKUP($H$4,BuildingType_Lookup,4,FALSE)))))","v":0},{"$f":"IF(AND(OR(AN252=\"\",AN252=0)=TRUE,OR(AO252=\"\",AO252=0))=TRUE,0,IF(AO252=\"\",(IF(OR(C252=\"DDC\",C252=\"OHLC\")=TRUE,O252,P252)/1000)*Y252*AA252*(1+VLOOKUP($H$4,BuildingType_Lookup,MATCH($H$5,HVAC,0)+4,FALSE)),IF(AO252=0,0,(IF(OR(C252=\"DDC\",C252=\"OHLC\")=TRUE,O252,Q252)/1000)*Y252*AA252*(1+VLOOKUP($H$4,BuildingType_Lookup,MATCH($H$5,HVAC,0)+4,FALSE)))))","v":0},0,0,0,0,0,0,{"$f":"W252/1000*Y252*AA252*IF(IFERROR(SEARCH(\"Gas\",$H$5),0)>0,VLOOKUP(\"Gas\",HVACg_Lookup,MATCH($H$6,BuildingSize,0)+1,FALSE),IF(IFERROR(SEARCH(\"Oil\",$H$5),0)>0,VLOOKUP(\"Oil\",HVACg_Lookup,MATCH($H$6,BuildingSize,0)+1,FALSE),IF(IFERROR(SEARCH(\"Propane\",$H$5),0)>0,VLOOKUP(\"Propane\",HVACg_Lookup,MATCH(Worksheet!$H$6,BuildingSize,0)+1,FALSE),0)))","v":0},{"$f":"X252/1000*Y252*AA252*IF(IFERROR(SEARCH(\"Gas\",$H$5),0)>0,VLOOKUP(\"Gas\",HVACg_Lookup,MATCH($H$6,BuildingSize,0)+1,FALSE),IF(IFERROR(SEARCH(\"Oil\",$H$5),0)>0,VLOOKUP(\"Oil\",HVACg_Lookup,MATCH($H$6,BuildingSize,0)+1,FALSE),IF(IFERROR(SEARCH(\"Propane\",$H$5),0)>0,VLOOKUP(\"Propane\",HVACg_Lookup,MATCH(Worksheet!$H$6,BuildingSize,0)+1,FALSE),0)))","v":0},0,0,{"$f":"IF(OR($B$4=\"\",$B$5=\"\",$H$4=\"\",$H$6=\"\",$H$5=\"\",A252=\"\",F252=\"\",J252=\"\",O252=\"\",P252=\"\")=TRUE,\"\",IF(C252=\"OSW\",IF(J252>=2,1,0),IF(C252=\"OSR\",IF(AND(J252>=2,P252>60)=TRUE,1,0),IF(C252=\"OSRH\",IF(AND(J252>=1,P252>90)=TRUE,1,0),IF(C252=\"OHLC\",IF(AND(N252=\"Y\",P252>60)=TRUE,1,0),IF(C252=\"DDC\",IF(AND(J252>=4,N252=\"Y\",P252>120)=TRUE,1,0),0))))))","v":""},{"$f":"IF(OR($B$4=\"\",$B$5=\"\",$H$4=\"\",$H$6=\"\",$H$5=\"\",A252=\"\",F252=\"\",K252=\"\",O252=\"\",P252=\"\")=TRUE,\"\",IF(C252=\"OSW\",IF(K252>=2,1,0),IF(C252=\"OSR\",IF(AND(K252>=2,Q252>60)=TRUE,1,0),IF(C252=\"OSRH\",IF(AND(K252>=1,Q252>90)=TRUE,1,0),IF(C252=\"OHLC\",IF(AND(N252=\"Y\",Q252>60)=TRUE,1,0),IF(C252=\"DDC\",IF(AND(K252>=4,N252=\"Y\",Q252>120)=TRUE,1,0),0))))))","v":""}]
[null,null,"",null,null,null,null,null,null,null,null,null,null,null,null,0,0,0,0,"",0,0,0,0,0,{"$f":"IF($H$4=\"\",0,VLOOKUP($H$4,BuildingType_Lookup,3,FALSE))","v":0},{"$f":"IF($H$4=\"\",0,VLOOKUP($H$4,BuildingType_Lookup,2,FALSE))","v":0},{"$f":"IF(AND(OR(AN253=\"\",AN253=0)=TRUE,OR(AO253=\"\",AO253=0))=TRUE,0,IF(AO253=\"\",(IF(OR(C253=\"DDC\",C253=\"OHLC\")=TRUE,O253,P253)/1000)*Y253*Z253*(1+VLOOKUP($H$4,BuildingType_Lookup,4,FALSE)),IF(AO253=0,0,(IF(OR(C253=\"DDC\",C253=\"OHLC\")=TRUE,O253,Q253)/1000)*Y253*Z253*(1+VLOOKUP($H$4,BuildingType_Lookup,4,FALSE)))))","v":0},{"$f":"IF(AND(OR(AN253=\"\",AN253=0)=TRUE,OR(AO253=\"\",AO253=0))=TRUE,0,IF(AO253=\"\",(IF(OR(C253=\"DDC\",C253=\"OHLC\")=TRUE,O253,P253)/1000)*Y253*AA253*(1+VLOOKUP($H$4,BuildingType_Lookup,MATCH($H$5,HVAC,0)+4,FALSE)),IF(AO253=0,0,(IF(OR(C253=\"DDC\",C253=\"OHLC\")=TRUE,O253,Q253)/1000)*Y253*AA253*(1+VLOOKUP($H$4,BuildingType_Lookup,MATCH($H$5,HVAC,0)+4,FALSE)))))","v":0},0,0,0,0,0,0,{"$f":"W253/1000*Y253*AA253*IF(IFERROR(SEARCH(\"Gas\",$H$5),0)>0,VLOOKUP(\"Gas\",HVACg_Lookup,MATCH($H$6,BuildingSize,0)+1,FALSE),IF(IFERROR(SEARCH(\"Oil\",$H$5),0)>0,VLOOKUP(\"Oil\",HVACg_Lookup,MATCH($H$6,BuildingSize,0)+1,FALSE),IF(IFERROR(SEARCH(\"Propane\",$H$5),0)>0,VLOOKUP(\"Propane\",HVACg_Lookup,MATCH(Worksheet!$H$6,BuildingSize,0)+1,FALSE),0)))","v":0},{"$f":"X253/1000*Y253*AA253*IF(IFERROR(SEARCH(\"Gas\",$H$5),0)>0,VLOOKUP(\"Gas\",HVACg_Lookup,MATCH($H$6,BuildingSize,0)+1,FALSE),IF(IFERROR(SEARCH(\"Oil\",$H$5),0)>0,VLOOKUP(\"Oil\",HVACg_Lookup,MATCH($H$6,BuildingSize,0)+1,FALSE),IF(IFERROR(SEARCH(\"Propane\",$H$5),0)>0,VLOOKUP(\"Propane\",HVACg_Lookup,MATCH(Worksheet!$H$6,BuildingSize,0)+1,FALSE),0)))","v":0},0,0,{"$f":"IF(OR($B$4=\"\",$B$5=\"\",$H$4=\"\",$H$6=\"\",$H$5=\"\",A253=\"\",F253=\"\",J253=\"\",O253=\"\",P253=\"\")=TRUE,\"\",IF(C253=\"OSW\",IF(J253>=2,1,0),IF(C253=\"OSR\",IF(AND(J253>=2,P253>60)=TRUE,1,0),IF(C253=\"OSRH\",IF(AND(J253>=1,P253>90)=TRUE,1,0),IF(C253=\"OHLC\",IF(AND(N253=\"Y\",P253>60)=TRUE,1,0),IF(C253=\"DDC\",IF(AND(J253>=4,N253=\"Y\",P253>120)=TRUE,1,0),0))))))","v":""},{"$f":"IF(OR($B$4=\"\",$B$5=\"\",$H$4=\"\",$H$6=\"\",$H$5=\"\",A253=\"\",F253=\"\",K253=\"\",O253=\"\",P253=\"\")=TRUE,\"\",IF(C253=\"OSW\",IF(K253>=2,1,0),IF(C253=\"OSR\",IF(AND(K253>=2,Q253>60)=TRUE,1,0),IF(C253=\"OSRH\",IF(AND(K253>=1,Q253>90)=TRUE,1,0),IF(C253=\"OHLC\",IF(AND(N253=\"Y\",Q253>60)=TRUE,1,0),IF(C253=\"DDC\",IF(AND(K253>=4,N253=\"Y\",Q253>120)=TRUE,1,0),0))))))","v":""}]
[null,null,"",null,null,null,null,null,null,null,null,null,null,null,null,0,0,0,0,"",0,0,0,0,0,{"$f":"IF($H$4=\"\",0,VLOOKUP($H$4,BuildingType_Lookup,3,FALSE))","v":0},{"$f":"IF($H$4=\"\",0,VLOOKUP($H$4,BuildingType_Lookup,2,FALSE))","v":0},{"$f":"IF(AND(OR(AN254=\"\",AN254=0)=TRUE,OR(AO254=\"\",AO254=0))=TRUE,0,IF(AO254=\"\",(IF(OR(C254=\"DDC\",C254=\"OHLC\")=TRUE,O254,P254)/1000)*Y254*Z254*(1+VLOOKUP($H$4,BuildingType_Lookup,4,FALSE)),IF(AO254=0,0,(IF(OR(C254=\"DDC\",C254=\"OHLC\")=TRUE,O254,Q254)/1000)*Y254*Z254*(1+VLOOKUP($H$4,BuildingType_Lookup,4,FALSE)))))","v":0},{"$f":"IF(AND(OR(AN254=\"\",AN254=0)=TRUE,OR(AO254=\"\",AO254=0))=TRUE,0,IF(AO254=\"\",(IF(OR(C254=\"DDC\",C254=\"OHLC\")=TRUE,O254,P254)/1000)*Y254*AA254*(1+VLOOKUP($H$4,BuildingType_Lookup,MATCH($H$5,HVAC,0)+4,FALSE)),IF(AO254=0,0,(IF(OR(C254=\"DDC\",C254=\"OHLC\")=TRUE,O254,Q254)/1000)*Y254*AA254*(1+VLOOKUP($H$4,BuildingType_Lookup,MATCH($H$5,HVAC,0)+4,FALSE)))))","v":0},0,0,0,0,0,0,{"$f":"W254/1000*Y254*AA254*IF(IFERROR(SEARCH(\"Gas\",$H$5),0)>0,VLOOKUP(\"Gas\",HVACg_Lookup,MATCH($H$6,BuildingSize,0)+1,FALSE),IF(IFERROR(SEARCH(\"Oil\",$H$5),0)>0,VLOOKUP(\"Oil\",HVACg_Lookup,MATCH($H$6,BuildingSize,0)+1,FALSE),IF(IFERROR(SEARCH(\"Propane\",$H$5),0)>0,VLOOKUP(\"Propane\",HVACg_Lookup,MATCH(Worksheet!$H$6,BuildingSize,0)+1,FALSE),0)))","v":0},{"$f":"X254/1000*Y254*AA254*IF(IFERROR(SEARCH(\"Gas\",$H$5),0)>0,VLOOKUP(\"Gas\",HVACg_Lookup,MATCH($H$6,BuildingSize,0)+1,FALSE),IF(IFERROR(SEARCH(\"Oil\",$H$5),0)>0,VLOOKUP(\"Oil\",HVACg_Lookup,MATCH($H$6,BuildingSize,0)+1,FALSE),IF(IFERROR(SEARCH(\"Propane\",$H$5),0)>0,VLOOKUP(\"Propane\",HVACg_Lookup,MATCH(Worksheet!$H$6,BuildingSize,0)+1,FALSE),0)))","v":0},0,0,{"$f":"IF(OR($B$4=\"\",$B$5=\"\",$H$4=\"\",$H$6=\"\",$H$5=\"\",A254=\"\",F254=\"\",J254=\"\",O254=\"\",P254=\"\")=TRUE,\"\",IF(C254=\"OSW\",IF(J254>=2,1,0),IF(C254=\"OSR\",IF(AND(J254>=2,P254>60)=TRUE,1,0),IF(C254=\"OSRH\",IF(AND(J254>=1,P254>90)=TRUE,1,0),IF(C254=\"OHLC\",IF(AND(N254=\"Y\",P254>60)=TRUE,1,0),IF(C254=\"DDC\",IF(AND(J254>=4,N254=\"Y\",P254>120)=TRUE,1,0),0))))))","v":""},{"$f":"IF(OR($B$4=\"\",$B$5=\"\",$H$4=\"\",$H$6=\"\",$H$5=\"\",A254=\"\",F254=\"\",K254=\"\",O254=\"\",P254=\"\")=TRUE,\"\",IF(C254=\"OSW\",IF(K254>=2,1,0),IF(C254=\"OSR\",IF(AND(K254>=2,Q254>60)=TRUE,1,0),IF(C254=\"OSRH\",IF(AND(K254>=1,Q254>90)=TRUE,1,0),IF(C254=\"OHLC\",IF(AND(N254=\"Y\",Q254>60)=TRUE,1,0),IF(C254=\"DDC\",IF(AND(K254>=4,N254=\"Y\",Q254>120)=TRUE,1,0),0))))))","v":""}]
[null,null,"",null,null,null,null,null,null,null,null,null,null,null,null,0,0,0,0,"",0,0,0,0,0,{"$f":"IF($H$4=\"\",0,VLOOKUP($H$4,BuildingType_Lookup,3,FALSE))","v":0},{"$f":"IF($H$4=\"\",0,VLOOKUP($H$4,BuildingType_Lookup,2,FALSE))","v":0},{"$f":"IF(AND(OR(AN255=\"\",AN255=0)=TRUE,OR(AO255=\"\",AO255=0))=TRUE,0,IF(AO255=\"\",(IF(OR(C255=\"DDC\",C255=\"OHLC\")=TRUE,O255,P255)/1000)*Y255*Z255*(1+VLOOKUP($H$4,BuildingType_Lookup,4,FALSE)),IF(AO255=0,0,(IF(OR(C255=\"DDC\",C255=\"OHLC\")=TRUE,O255,Q255)/1000)*Y255*Z255*(1+VLOOKUP($H$4,BuildingType_Lookup,4,FALSE)))))","v":0},{"$f":"IF(AND(OR(AN255=\"\",AN255=0)=TRUE,OR(AO255=\"\",AO255=0))=TRUE,0,IF(AO255=\"\",(IF(OR(C255=\"DDC\",C255=\"OHLC\")=TRUE,O255,P255)/1000)*Y255*AA255*(1+VLOOKUP($H$4,BuildingType_Lookup,MATCH($H$5,HVAC,0)+4,FALSE)),IF(AO255=0,0,(IF(OR(C255=\"DDC\",C255=\"OHLC\")=TRUE,O255,Q255)/1000)*Y255*AA255*(1+VLOOKUP($H$4,BuildingType_Lookup,MATCH($H$5,HVAC,0)+4,FALSE)))))","v":0},0,0,0,0,0,0,{"$f":"W255/1000*Y255*AA255*IF(IFERROR(SEARCH(\"Gas\",$H$5),0)>0,VLOOKUP(\"Gas\",HVACg_Lookup,MATCH($H$6,BuildingSize,0)+1,FALSE),IF(IFERROR(SEARCH(\"Oil\",$H$5),0)>0,VLOOKUP(\"Oil\",HVACg_Lookup,MATCH($H$6,BuildingSize,0)+1,FALSE),IF(IFERROR(SEARCH(\"Propane\",$H$5),0)>0,VLOOKUP(\"Propane\",HVACg_Lookup,MATCH(Worksheet!$H$6,BuildingSize,0)+1,FALSE),0)))","v":0},{"$f":"X255/1000*Y255*AA255*IF(IFERROR(SEARCH(\"Gas\",$H$5),0)>0,VLOOKUP(\"Gas\",HVACg_Lookup,MATCH($H$6,BuildingSize,0)+1,FALSE),IF(IFERROR(SEARCH(\"Oil\",$H$5),0)>0,VLOOKUP(\"Oil\",HVACg_Lookup,MATCH($H$6,BuildingSize,0)+1,FALSE),IF(IFERROR(SEARCH(\"Propane\",$H$5),0)>0,VLOOKUP(\"Propane\",HVACg_Lookup,MATCH(Worksheet!$H$6,BuildingSize,0)+1,FALSE),0)))","v":0},0,0,{"$f":"IF(OR($B$4=\"\",$B$5=\"\",$H$4=\"\",$H$6=\"\",$H$5=\"\",A255=\"\",F255=\"\",J255=\"\",O255=\"\",P255=\"\")=TRUE,\"\",IF(C255=\"OSW\",IF(J255>=2,1,0),IF(C255=\"OSR\",IF(AND(J255>=2,P255>60)=TRUE,1,0),IF(C255=\"OSRH\",IF(AND(J255>=1,P255>90)=TRUE,1,0),IF(C255=\"OHLC\",IF(AND(N255=\"Y\",P255>60)=TRUE,1,0),IF(C255=\"DDC\",IF(AND(J255>=4,N255=\"Y\",P255>120)=TRUE,1,0),0))))))","v":""},{"$f":"IF(OR($B$4=\"\",$B$5=\"\",$H$4=\"\",$H$6=\"\",$H$5=\"\",A255=\"\",F255=\"\",K255=\"\",O255=\"\",P255=\"\")=TRUE,\"\",IF(C255=\"OSW\",IF(K255>=2,1,0),IF(C255=\"OSR\",IF(AND(K255>=2,Q255>60)=TRUE,1,0),IF(C255=\"OSRH\",IF(AND(K255>=1,Q255>90)=TRUE,1,0),IF(C255=\"OHLC\",IF(AND(N255=\"Y\",Q255>60)=TRUE,1,0),IF(C255=\"DDC\",IF(AND(K255>=4,N255=\"Y\",Q255>120)=TRUE,1,0),0))))))","v":""}]
[null,null,"",null,null,null,null,null,null,null,null,null,null,null,null,0,0,0,0,"",0,0,0,0,0,{"$f":"IF($H$4=\"\",0,VLOOKUP($H$4,BuildingType_Lookup,3,FALSE))","v":0},{"$f":"IF($H$4=\"\",0,VLOOKUP($H$4,BuildingType_Lookup,2,FALSE))","v":0},{"$f":"IF(AND(OR(AN256=\"\",AN256=0)=TRUE,OR(AO256=\"\",AO256=0))=TRUE,0,IF(AO256=\"\",(IF(OR(C256=\"DDC\",C256=\"OHLC\")=TRUE,O256,P256)/1000)*Y256*Z256*(1+VLOOKUP($H$4,BuildingType_Lookup,4,FALSE)),IF(AO256=0,0,(IF(OR(C256=\"DDC\",C256=\"OHLC\")=TRUE,O256,Q256)/1000)*Y256*Z256*(1+VLOOKUP($H$4,BuildingType_Lookup,4,FALSE)))))","v":0},{"$f":"IF(AND(OR(AN256=\"\",AN256=0)=TRUE,OR(AO256=\"\",AO256=0))=TRUE,0,IF(AO256=\"\",(IF(OR(C256=\"DDC\",C256=\"OHLC\")=TRUE,O256,P256)/1000)*Y256*AA256*(1+VLOOKUP($H$4,BuildingType_Lookup,MATCH($H$5,HVAC,0)+4,FALSE)),IF(AO256=0,0,(IF(OR(C256=\"DDC\",C256=\"OHLC\")=TRUE,O256,Q256)/1000)*Y256*AA256*(1+VLOOKUP($H$4,BuildingType_Lookup,MATCH($H$5,HVAC,0)+4,FALSE)))))","v":0},0,0,0,0,0,0,{"$f":"W256/1000*Y256*AA256*IF(IFERROR(SEARCH(\"Gas\",$H$5),0)>0,VLOOKUP(\"Gas\",HVACg_Lookup,MATCH($H$6,BuildingSize,0)+1,FALSE),IF(IFERROR(SEARCH(\"Oil\",$H$5),0)>0,VLOOKUP(\"Oil\",HVACg_Lookup,MATCH($H$6,BuildingSize,0)+1,FALSE),IF(IFERROR(SEARCH(\"Propane\",$H$5),0)>0,VLOOKUP(\"Propane\",HVACg_Lookup,MATCH(Worksheet!$H$6,BuildingSize,0)+1,FALSE),0)))","v":0},{"$f":"X256/1000*Y256*AA256*IF(IFERROR(SEARCH(\"Gas\",$H$5),0)>0,VLOOKUP(\"Gas\",HVACg_Lookup,MATCH($H$6,BuildingSize,0)+1,FALSE),IF(IFERROR(SEARCH(\"Oil\",$H$5),0)>0,VLOOKUP(\"Oil\",HVACg_Lookup,MATCH($H$6,BuildingSize,0)+1,FALSE),IF(IFERROR(SEARCH(\"Propane\",$H$5),0)>0,VLOOKUP(\"Propane\",HVACg_Lookup,MATCH(Worksheet!$H$6,BuildingSize,0)+1,FALSE),0)))","v":0},0,0,{"$f":"IF(OR($B$4=\"\",$B$5=\"\",$H$4=\"\",$H$6=\"\",$H$5=\"\",A256=\"\",F256=\"\",J256=\"\",O256=\"\",P256=\"\")=TRUE,\"\",IF(C256=\"OSW\",IF(J256>=2,1,0),IF(C256=\"OSR\",IF(AND(J256>=2,P256>60)=TRUE,1,0),IF(C256=\"OSRH\",IF(AND(J256>=1,P256>90)=TRUE,1,0),IF(C256=\"OHLC\",IF(AND(N256=\"Y\",P256>60)=TRUE,1,0),IF(C256=\"DDC\",IF(AND(J256>=4,N256=\"Y\",P256>120)=TRUE,1,0),0))))))","v":""},{"$f":"IF(OR($B$4=\"\",$B$5=\"\",$H$4=\"\",$H$6=\"\",$H$5=\"\",A256=\"\",F256=\"\",K256=\"\",O256=\"\",P256=\"\")=TRUE,\"\",IF(C256=\"OSW\",IF(K256>=2,1,0),IF(C256=\"OSR\",IF(AND(K256>=2,Q256>60)=TRUE,1,0),IF(C256=\"OSRH\",IF(AND(K256>=1,Q256>90)=TRUE,1,0),IF(C256=\"OHLC\",IF(AND(N256=\"Y\",Q256>60)=TRUE,1,0),IF(C256=\"DDC\",IF(AND(K256>=4,N256=\"Y\",Q256>120)=TRUE,1,0),0))))))","v":""}]
[null,null,"",null,null,null,null,null,null,null,null,null,null,null,null,0,0,0,0,"",0,0,0,0,0,{"$f":"IF($H$4=\"\",0,VLOOKUP($H$4,BuildingType_Lookup,3,FALSE))","v":0},{"$f":"IF($H$4=\"\",0,VLOOKUP($H$4,BuildingType_Lookup,2,FALSE))","v":0},{"$f":"IF(AND(OR(AN257=\"\",AN257=0)=TRUE,OR(AO257=\"\",AO257=0))=TRUE,0,IF(AO257=\"\",(IF(OR(C257=\"DDC\",C257=\"OHLC\")=TRUE,O257,P257)/1000)*Y257*Z257*(1+VLOOKUP($H$4,BuildingType_Lookup,4,FALSE)),IF(AO257=0,0,(IF(OR(C257=\"DDC\",C257=\"OHLC\")=TRUE,O257,Q257)/1000)*Y257*Z257*(1+VLOOKUP($H$4,BuildingType_Lookup,4,FALSE)))))","v":0},{"$f":"IF(AND(OR(AN257=\"\",AN257=0)=TRUE,OR(AO257=\"\",AO257=0))=TRUE,0,IF(AO257=\"\",(IF(OR(C257=\"DDC\",C257=\"OHLC\")=TRUE,O257,P257)/1000)*Y257*AA257*(1+VLOOKUP($H$4,BuildingType_Lookup,MATCH($H$5,HVAC,0)+4,FALSE)),IF(AO257=0,0,(IF(OR(C257=\"DDC\",C257=\"OHLC\")=TRUE,O257,Q257)/1000)*Y257*AA257*(1+VLOOKUP($H$4,BuildingType_Lookup,MATCH($H$5,HVAC,0)+4,FALSE)))))","v":0},0,0,0,0,0,0,{"$f":"W257/1000*Y257*AA257*IF(IFERROR(SEARCH(\"Gas\",$H$5),0)>0,VLOOKUP(\"Gas\",HVACg_Lookup,MATCH($H$6,BuildingSize,0)+1,FALSE),IF(IFERROR(SEARCH(\"Oil\",$H$5),0)>0,VLOOKUP(\"Oil\",HVACg_Lookup,MATCH($H$6,BuildingSize,0)+1,FALSE),IF(IFERROR(SEARCH(\"Propane\",$H$5),0)>0,VLOOKUP(\"Propane\",HVACg_Lookup,MATCH(Worksheet!$H$6,BuildingSize,0)+1,FALSE),0)))","v":0},{"$f":"X257/1000*Y257*AA257*IF(IFERROR(SEARCH(\"Gas\",$H$5),0)>0,VLOOKUP(\"Gas\",HVACg_Lookup,MATCH($H$6,BuildingSize,0)+1,FALSE),IF(IFERROR(SEARCH(\"Oil\",$H$5),0)>0,VLOOKUP(\"Oil\",HVACg_Lookup,MATCH($H$6,BuildingSize,0)+1,FALSE),IF(IFERROR(SEARCH(\"Propane\",$H$5),0)>0,VLOOKUP(\"Propane\",HVACg_Lookup,MATCH(Worksheet!$H$6,BuildingSize,0)+1,FALSE),0)))","v":0},0,0,{"$f":"IF(OR($B$4=\"\",$B$5=\"\",$H$4=\"\",$H$6=\"\",$H$5=\"\",A257=\"\",F257=\"\",J257=\"\",O257=\"\",P257=\"\")=TRUE,\"\",IF(C257=\"OSW\",IF(J257>=2,1,0),IF(C257=\"OSR\",IF(AND(J257>=2,P257>60)=TRUE,1,0),IF(C257=\"OSRH\",IF(AND(J257>=1,P257>90)=TRUE,1,0),IF(C257=\"OHLC\",IF(AND(N257=\"Y\",P257>60)=TRUE,1,0),IF(C257=\"DDC\",IF(AND(J257>=4,N257=\"Y\",P257>120)=TRUE,1,0),0))))))","v":""},{"$f":"IF(OR($B$4=\"\",$B$5=\"\",$H$4=\"\",$H$6=\"\",$H$5=\"\",A257=\"\",F257=\"\",K257=\"\",O257=\"\",P257=\"\")=TRUE,\"\",IF(C257=\"OSW\",IF(K257>=2,1,0),IF(C257=\"OSR\",IF(AND(K257>=2,Q257>60)=TRUE,1,0),IF(C257=\"OSRH\",IF(AND(K257>=1,Q257>90)=TRUE,1,0),IF(C257=\"OHLC\",IF(AND(N257=\"Y\",Q257>60)=TRUE,1,0),IF(C257=\"DDC\",IF(AND(K257>=4,N257=\"Y\",Q257>120)=TRUE,1,0),0))))))","v":""}]
[null,null,"",null,null,null,null,null,null,null,null,null,null,null,null,0,0,0,0,"",0,0,0,0,0,{"$f":"IF($H$4=\"\",0,VLOOKUP($H$4,BuildingType_Lookup,3,FALSE))","v":0},{"$f":"IF($H$4=\"\",0,VLOOKUP($H$4,BuildingType_Lookup,2,FALSE))","v":0},{"$f":"IF(AND(OR(AN258=\"\",AN258=0)=TRUE,OR(AO258=\"\",AO258=0))=TRUE,0,IF(AO258=\"\",(IF(OR(C258=\"DDC\",C258=\"OHLC\")=TRUE,O258,P258)/1000)*Y258*Z258*(1+VLOOKUP($H$4,BuildingType_Lookup,4,FALSE)),IF(AO258=0,0,(IF(OR(C258=\"DDC\",C258=\"OHLC\")=TRUE,O258,Q258)/1000)*Y258*Z258*(1+VLOOKUP($H$4,BuildingType_Lookup,4,FALSE)))))","v":0},{"$f":"IF(AND(OR(AN258=\"\",AN258=0)=TRUE,OR(AO258=\"\",AO258=0))=TRUE,0,IF(AO258=\"\",(IF(OR(C258=\"DDC\",C258=\"OHLC\")=TRUE,O258,P258)/1000)*Y258*AA258*(1+VLOOKUP($H$4,BuildingType_Lookup,MATCH($H$5,HVAC,0)+4,FALSE)),IF(AO258=0,0,(IF(OR(C258=\"DDC\",C258=\"OHLC\")=TRUE,O258,Q258)/1000)*Y258*AA258*(1+VLOOKUP($H$4,BuildingType_Lookup,MATCH($H$5,HVAC,0)+4,FALSE)))))","v":0},0,0,0,0,0,0,{"$f":"W258/1000*Y258*AA258*IF(IFERROR(SEARCH(\"Gas\",$H$5),0)>0,VLOOKUP(\"Gas\",HVACg_Lookup,MATCH($H$6,BuildingSize,0)+1,FALSE),IF(IFERROR(SEARCH(\"Oil\",$H$5),0)>0,VLOOKUP(\"Oil\",HVACg_Lookup,MATCH($H$6,BuildingSize,0)+1,FALSE),IF(IFERROR(SEARCH(\"Propane\",$H$5),0)>0,VLOOKUP(\"Propane\",HVACg_Lookup,MATCH(Worksheet!$H$6,BuildingSize,0)+1,FALSE),0)))","v":0},{"$f":"X258/1000*Y258*AA258*IF(IFERROR(SEARCH(\"Gas\",$H$5),0)>0,VLOOKUP(\"Gas\",HVACg_Lookup,MATCH($H$6,BuildingSize,0)+1,FALSE),IF(IFERROR(SEARCH(\"Oil\",$H$5),0)>0,VLOOKUP(\"Oil\",HVACg_Lookup,MATCH($H$6,BuildingSize,0)+1,FALSE),IF(IFERROR(SEARCH(\"Propane\",$H$5),0)>0,VLOOKUP(\"Propane\",HVACg_Lookup,MATCH(Worksheet!$H$6,BuildingSize,0)+1,FALSE),0)))","v":0},0,0,{"$f":"IF(OR($B$4=\"\",$B$5=\"\",$H$4=\"\",$H$6=\"\",$H$5=\"\",A258=\"\",F258=\"\",J258=\"\",O258=\"\",P258=\"\")=TRUE,\"\",IF(C258=\"OSW\",IF(J258>=2,1,0),IF(C258=\"OSR\",IF(AND(J258>=2,P258>60)=TRUE,1,0),IF(C258=\"OSRH\",IF(AND(J258>=1,P258>90)=TRUE,1,0),IF(C258=\"OHLC\",IF(AND(N258=\"Y\",P258>60)=TRUE,1,0),IF(C258=\"DDC\",IF(AND(J258>=4,N258=\"Y\",P258>120)=TRUE,1,0),0))))))","v":""},{"$f":"IF(OR($B$4=\"\",$B$5=\"\",$H$4=\"\",$H$6=\"\",$H$5=\"\",A258=\"\",F258=\"\",K258=\"\",O258=\"\",P258=\"\")=TRUE,\"\",IF(C258=\"OSW\",IF(K258>=2,1,0),IF(C258=\"OSR\",IF(AND(K258>=2,Q258>60)=TRUE,1,0),IF(C258=\"OSRH\",IF(AND(K258>=1,Q258>90)=TRUE,1,0),IF(C258=\"OHLC\",IF(AND(N258=\"Y\",Q258>60)=TRUE,1,0),IF(C258=\"DDC\",IF(AND(K258>=4,N258=\"Y\",Q258>120)=TRUE,1,0),0))))))","v":""}]
[null,null,"",null,null,null,null,null,null,null,null,null,null,null,null,0,0,0,0,"",0,0,0,0,0,{"$f":"IF($H$4=\"\",0,VLOOKUP($H$4,BuildingType_Lookup,3,FALSE))","v":0},{"$f":"IF($H$4=\"\",0,VLOOKUP($H$4,BuildingType_Lookup,2,FALSE))","v":0},{"$f":"IF(AND(OR(AN259=\"\",AN259=0)=TRUE,OR(AO259=\"\",AO259=0))=TRUE,0,IF(AO259=\"\",(IF(OR(C259=\"DDC\",C259=\"OHLC\")=TRUE,O259,P259)/1000)*Y259*Z259*(1+VLOOKUP($H$4,BuildingType_Lookup,4,FALSE)),IF(AO259=0,0,(IF(OR(C259=\"DDC\",C259=\"OHLC\")=TRUE,O259,Q259)/1000)*Y259*Z259*(1+VLOOKUP($H$4,BuildingType_Lookup,4,FALSE)))))","v":0},{"$f":"IF(AND(OR(AN259=\"\",AN259=0)=TRUE,OR(AO259=\"\",AO259=0))=TRUE,0,IF(AO259=\"\",(IF(OR(C259=\"DDC\",C259=\"OHLC\")=TRUE,O259,P259)/1000)*Y259*AA259*(1+VLOOKUP($H$4,BuildingType_Lookup,MATCH($H$5,HVAC,0)+4,FALSE)),IF(AO259=0,0,(IF(OR(C259=\"DDC\",C259=\"OHLC\")=TRUE,O259,Q259)/1000)*Y259*AA259*(1+VLOOKUP($H$4,BuildingType_Lookup,MATCH($H$5,HVAC,0)+4,FALSE)))))","v":0},0,0,0,0,0,0,{"$f":"W259/1000*Y259*AA259*IF(IFERROR(SEARCH(\"Gas\",$H$5),0)>0,VLOOKUP(\"Gas\",HVACg_Lookup,MATCH($H$6,BuildingSize,0)+1,FALSE),IF(IFERROR(SEARCH(\"Oil\",$H$5),0)>0,VLOOKUP(\"Oil\",HVACg_Lookup,MATCH($H$6,BuildingSize,0)+1,FALSE),IF(IFERROR(SEARCH(\"Propane\",$H$5),0)>0,VLOOKUP(\"Propane\",HVACg_Lookup,MATCH(Worksheet!$H$6,BuildingSize,0)+1,FALSE),0)))","v":0},{"$f":"X259/1000*Y259*AA259*IF(IFERROR(SEARCH(\"Gas\",$H$5),0)>0,VLOOKUP(\"Gas\",HVACg_Lookup,MATCH($H$6,BuildingSize,0)+1,FALSE),IF(IFERROR(SEARCH(\"Oil\",$H$5),0)>0,VLOOKUP(\"Oil\",HVACg_Lookup,MATCH($H$6,BuildingSize,0)+1,FALSE),IF(IFERROR(SEARCH(\"Propane\",$H$5),0)>0,VLOOKUP(\"Propane\",HVACg_Lookup,MATCH(Worksheet!$H$6,BuildingSize,0)+1,FALSE),0)))","v":0},0,0,{"$f":"IF(OR($B$4=\"\",$B$5=\"\",$H$4=\"\",$H$6=\"\",$H$5=\"\",A259=\"\",F259=\"\",J259=\"\",O259=\"\",P259=\"\")=TRUE,\"\",IF(C259=\"OSW\",IF(J259>=2,1,0),IF(C259=\"OSR\",IF(AND(J259>=2,P259>60)=TRUE,1,0),IF(C259=\"OSRH\",IF(AND(J259>=1,P259>90)=TRUE,1,0),IF(C259=\"OHLC\",IF(AND(N259=\"Y\",P259>60)=TRUE,1,0),IF(C259=\"DDC\",IF(AND(J259>=4,N259=\"Y\",P259>120)=TRUE,1,0),0))))))","v":""},{"$f":"IF(OR($B$4=\"\",$B$5=\"\",$H$4=\"\",$H$6=\"\",$H$5=\"\",A259=\"\",F259=\"\",K259=\"\",O259=\"\",P259=\"\")=TRUE,\"\",IF(C259=\"OSW\",IF(K259>=2,1,0),IF(C259=\"OSR\",IF(AND(K259>=2,Q259>60)=TRUE,1,0),IF(C259=\"OSRH\",IF(AND(K259>=1,Q259>90)=TRUE,1,0),IF(C259=\"OHLC\",IF(AND(N259=\"Y\",Q259>60)=TRUE,1,0),IF(C259=\"DDC\",IF(AND(K259>=4,N259=\"Y\",Q259>120)=TRUE,1,0),0))))))","v":""}]
[null,null,"",null,null,null,null,null,null,null,null,null,null,null,null,0,0,0,0,"",0,0,0,0,0,{"$f":"IF($H$4=\"\",0,VLOOKUP($H$4,BuildingType_Lookup,3,FALSE))","v":0},{"$f":"IF($H$4=\"\",0,VLOOKUP($H$4,BuildingType_Lookup,2,FALSE))","v":0},{"$f":"IF(AND(OR(AN260=\"\",AN260=0)=TRUE,OR(AO260=\"\",AO260=0))=TRUE,0,IF(AO260=\"\",(IF(OR(C260=\"DDC\",C260=\"OHLC\")=TRUE,O260,P260)/1000)*Y260*Z260*(1+VLOOKUP($H$4,BuildingType_Lookup,4,FALSE)),IF(AO260=0,0,(IF(OR(C260=\"DDC\",C260=\"OHLC\")=TRUE,O260,Q260)/1000)*Y260*Z260*(1+VLOOKUP($H$4,BuildingType_Lookup,4,FALSE)))))","v":0},{"$f":"IF(AND(OR(AN260=\"\",AN260=0)=TRUE,OR(AO260=\"\",AO260=0))=TRUE,0,IF(AO260=\"\",(IF(OR(C260=\"DDC\",C260=\"OHLC\")=TRUE,O260,P260)/1000)*Y260*AA260*(1+VLOOKUP($H$4,BuildingType_Lookup,MATCH($H$5,HVAC,0)+4,FALSE)),IF(AO260=0,0,(IF(OR(C260=\"DDC\",C260=\"OHLC\")=TRUE,O260,Q260)/1000)*Y260*AA260*(1+VLOOKUP($H$4,BuildingType_Lookup,MATCH($H$5,HVAC,0)+4,FALSE)))))","v":0},0,0,0,0,0,0,{"$f":"W260/1000*Y260*AA260*IF(IFERROR(SEARCH(\"Gas\",$H$5),0)>0,VLOOKUP(\"Gas\",HVACg_Lookup,MATCH($H$6,BuildingSize,0)+1,FALSE),IF(IFERROR(SEARCH(\"Oil\",$H$5),0)>0,VLOOKUP(\"Oil\",HVACg_Lookup,MATCH($H$6,BuildingSize,0)+1,FALSE),IF(IFERROR(SEARCH(\"Propane\",$H$5),0)>0,VLOOKUP(\"Propane\",HVACg_Lookup,MATCH(Worksheet!$H$6,BuildingSize,0)+1,FALSE),0)))","v":0},{"$f":"X260/1000*Y260*AA260*IF(IFERROR(SEARCH(\"Gas\",$H$5),0)>0,VLOOKUP(\"Gas\",HVACg_Lookup,MATCH($H$6,BuildingSize,0)+1,FALSE),IF(IFERROR(SEARCH(\"Oil\",$H$5),0)>0,VLOOKUP(\"Oil\",HVACg_Lookup,MATCH($H$6,BuildingSize,0)+1,FALSE),IF(IFERROR(SEARCH(\"Propane\",$H$5),0)>0,VLOOKUP(\"Propane\",HVACg_Lookup,MATCH(Worksheet!$H$6,BuildingSize,0)+1,FALSE),0)))","v":0},0,0,{"$f":"IF(OR($B$4=\"\",$B$5=\"\",$H$4=\"\",$H$6=\"\",$H$5=\"\",A260=\"\",F260=\"\",J260=\"\",O260=\"\",P260=\"\")=TRUE,\"\",IF(C260=\"OSW\",IF(J260>=2,1,0),IF(C260=\"OSR\",IF(AND(J260>=2,P260>60)=TRUE,1,0),IF(C260=\"OSRH\",IF(AND(J260>=1,P260>90)=TRUE,1,0),IF(C260=\"OHLC\",IF(AND(N260=\"Y\",P260>60)=TRUE,1,0),IF(C260=\"DDC\",IF(AND(J260>=4,N260=\"Y\",P260>120)=TRUE,1,0),0))))))","v":""},{"$f":"IF(OR($B$4=\"\",$B$5=\"\",$H$4=\"\",$H$6=\"\",$H$5=\"\",A260=\"\",F260=\"\",K260=\"\",O260=\"\",P260=\"\")=TRUE,\"\",IF(C260=\"OSW\",IF(K260>=2,1,0),IF(C260=\"OSR\",IF(AND(K260>=2,Q260>60)=TRUE,1,0),IF(C260=\"OSRH\",IF(AND(K260>=1,Q260>90)=TRUE,1,0),IF(C260=\"OHLC\",IF(AND(N260=\"Y\",Q260>60)=TRUE,1,0),IF(C260=\"DDC\",IF(AND(K260>=4,N260=\"Y\",Q260>120)=TRUE,1,0),0))))))","v":""}]
[null,null,"",null,null,null,null,null,null,null,null,null,null,null,null,0,0,0,0,"",0,0,0,0,0,{"$f":"IF($H$4=\"\",0,VLOOKUP($H$4,BuildingType_Lookup,3,FALSE))","v":0},{"$f":"IF($H$4=\"\",0,VLOOKUP($H$4,BuildingType_Lookup,2,FALSE))","v":0},{"$f":"IF(AND(OR(AN261=\"\",AN261=0)=TRUE,OR(AO261=\"\",AO261=0))=TRUE,0,IF(AO261=\"\",(IF(OR(C261=\"DDC\",C261=\"OHLC\")=TRUE,O261,P261)/1000)*Y261*Z261*(1+VLOOKUP($H$4,BuildingType_Lookup,4,FALSE)),IF(AO261=0,0,(IF(OR(C261=\"DDC\",C261=\"OHLC\")=TRUE,O261,Q261)/1000)*Y261*Z261*(1+VLOOKUP($H$4,BuildingType_Lookup,4,FALSE)))))","v":0},{"$f":"IF(AND(OR(AN261=\"\",AN261=0)=TRUE,OR(AO261=\"\",AO261=0))=TRUE,0,IF(AO261=\"\",(IF(OR(C261=\"DDC\",C261=\"OHLC\")=TRUE,O261,P261)/1000)*Y261*AA261*(1+VLOOKUP($H$4,BuildingType_Lookup,MATCH($H$5,HVAC,0)+4,FALSE)),IF(AO261=0,0,(IF(OR(C261=\"DDC\",C261=\"OHLC\")=TRUE,O261,Q261)/1000)*Y261*AA261*(1+VLOOKUP($H$4,BuildingType_Lookup,MATCH($H$5,HVAC,0)+4,FALSE)))))","v":0},0,0,0,0,0,0,{"$f":"W261/1000*Y261*AA261*IF(IFERROR(SEARCH(\"Gas\",$H$5),0)>0,VLOOKUP(\"Gas\",HVACg_Lookup,MATCH($H$6,BuildingSize,0)+1,FALSE),IF(IFERROR(SEARCH(\"Oil\",$H$5),0)>0,VLOOKUP(\"Oil\",HVACg_Lookup,MATCH($H$6,BuildingSize,0)+1,FALSE),IF(IFERROR(SEARCH(\"Propane\",$H$5),0)>0,VLOOKUP(\"Propane\",HVACg_Lookup,MATCH(Worksheet!$H$6,BuildingSize,0)+1,FALSE),0)))","v":0},{"$f":"X261/1000*Y261*AA261*IF(IFERROR(SEARCH(\"Gas\",$H$5),0)>0,VLOOKUP(\"Gas\",HVACg_Lookup,MATCH($H$6,BuildingSize,0)+1,FALSE),IF(IFERROR(SEARCH(\"Oil\",$H$5),0)>0,VLOOKUP(\"Oil\",HVACg_Lookup,MATCH($H$6,BuildingSize,0)+1,FALSE),IF(IFERROR(SEARCH(\"Propane\",$H$5),0)>0,VLOOKUP(\"Propane\",HVACg_Lookup,MATCH(Worksheet!$H$6,BuildingSize,0)+1,FALSE),0)))","v":0},0,0,{"$f":"IF(OR($B$4=\"\",$B$5=\"\",$H$4=\"\",$H$6=\"\",$H$5=\"\",A261=\"\",F261=\"\",J261=\"\",O261=\"\",P261=\"\")=TRUE,\"\",IF(C261=\"OSW\",IF(J261>=2,1,0),IF(C261=\"OSR\",IF(AND(J261>=2,P261>60)=TRUE,1,0),IF(C261=\"OSRH\",IF(AND(J261>=1,P261>90)=TRUE,1,0),IF(C261=\"OHLC\",IF(AND(N261=\"Y\",P261>60)=TRUE,1,0),IF(C261=\"DDC\",IF(AND(J261>=4,N261=\"Y\",P261>120)=TRUE,1,0),0))))))","v":""},{"$f":"IF(OR($B$4=\"\",$B$5=\"\",$H$4=\"\",$H$6=\"\",$H$5=\"\",A261=\"\",F261=\"\",K261=\"\",O261=\"\",P261=\"\")=TRUE,\"\",IF(C261=\"OSW\",IF(K261>=2,1,0),IF(C261=\"OSR\",IF(AND(K261>=2,Q261>60)=TRUE,1,0),IF(C261=\"OSRH\",IF(AND(K261>=1,Q261>90)=TRUE,1,0),IF(C261=\"OHLC\",IF(AND(N261=\"Y\",Q261>60)=TRUE,1,0),IF(C261=\"DDC\",IF(AND(K261>=4,N261=\"Y\",Q261>120)=TRUE,1,0),0))))))","v":""}]
[null,null,"",null,null,null,null,null,null,null,null,null,null,null,null,0,0,0,0,"",0,0,0,0,0,{"$f":"IF($H$4=\"\",0,VLOOKUP($H$4,BuildingType_Lookup,3,FALSE))","v":0},{"$f":"IF($H$4=\"\",0,VLOOKUP($H$4,BuildingType_Lookup,2,FALSE))","v":0},{"$f":"IF(AND(OR(AN262=\"\",AN262=0)=TRUE,OR(AO262=\"\",AO262=0))=TRUE,0,IF(AO262=\"\",(IF(OR(C262=\"DDC\",C262=\"OHLC\")=TRUE,O262,P262)/1000)*Y262*Z262*(1+VLOOKUP($H$4,BuildingType_Lookup,4,FALSE)),IF(AO262=0,0,(IF(OR(C262=\"DDC\",C262=\"OHLC\")=TRUE,O262,Q262)/1000)*Y262*Z262*(1+VLOOKUP($H$4,BuildingType_Lookup,4,FALSE)))))","v":0},{"$f":"IF(AND(OR(AN262=\"\",AN262=0)=TRUE,OR(AO262=\"\",AO262=0))=TRUE,0,IF(AO262=\"\",(IF(OR(C262=\"DDC\",C262=\"OHLC\")=TRUE,O262,P262)/1000)*Y262*AA262*(1+VLOOKUP($H$4,BuildingType_Lookup,MATCH($H$5,HVAC,0)+4,FALSE)),IF(AO262=0,0,(IF(OR(C262=\"DDC\",C262=\"OHLC\")=TRUE,O262,Q262)/1000)*Y262*AA262*(1+VLOOKUP($H$4,BuildingType_Lookup,MATCH($H$5,HVAC,0)+4,FALSE)))))","v":0},0,0,0,0,0,0,{"$f":"W262/1000*Y262*AA262*IF(IFERROR(SEARCH(\"Gas\",$H$5),0)>0,VLOOKUP(\"Gas\",HVACg_Lookup,MATCH($H$6,BuildingSize,0)+1,FALSE),IF(IFERROR(SEARCH(\"Oil\",$H$5),0)>0,VLOOKUP(\"Oil\",HVACg_Lookup,MATCH($H$6,BuildingSize,0)+1,FALSE),IF(IFERROR(SEARCH(\"Propane\",$H$5),0)>0,VLOOKUP(\"Propane\",HVACg_Lookup,MATCH(Worksheet!$H$6,BuildingSize,0)+1,FALSE),0)))","v":0},{"$f":"X262/1000*Y262*AA262*IF(IFERROR(SEARCH(\"Gas\",$H$5),0)>0,VLOOKUP(\"Gas\",HVACg_Lookup,MATCH($H$6,BuildingSize,0)+1,FALSE),IF(IFERROR(SEARCH(\"Oil\",$H$5),0)>0,VLOOKUP(\"Oil\",HVACg_Lookup,MATCH($H$6,BuildingSize,0)+1,FALSE),IF(IFERROR(SEARCH(\"Propane\",$H$5),0)>0,VLOOKUP(\"Propane\",HVACg_Lookup,MATCH(Worksheet!$H$6,BuildingSize,0)+1,FALSE),0)))","v":0},0,0,{"$f":"IF(OR($B$4=\"\",$B$5=\"\",$H$4=\"\",$H$6=\"\",$H$5=\"\",A262=\"\",F262=\"\",J262=\"\",O262=\"\",P262=\"\")=TRUE,\"\",IF(C262=\"OSW\",IF(J262>=2,1,0),IF(C262=\"OSR\",IF(AND(J262>=2,P262>60)=TRUE,1,0),IF(C262=\"OSRH\",IF(AND(J262>=1,P262>90)=TRUE,1,0),IF(C262=\"OHLC\",IF(AND(N262=\"Y\",P262>60)=TRUE,1,0),IF(C262=\"DDC\",IF(AND(J262>=4,N262=\"Y\",P262>120)=TRUE,1,0),0))))))","v":""},{"$f":"IF(OR($B$4=\"\",$B$5=\"\",$H$4=\"\",$H$6=\"\",$H$5=\"\",A262=\"\",F262=\"\",K262=\"\",O262=\"\",P262=\"\")=TRUE,\"\",IF(C262=\"OSW\",IF(K262>=2,1,0),IF(C262=\"OSR\",IF(AND(K262>=2,Q262>60)=TRUE,1,0),IF(C262=\"OSRH\",IF(AND(K262>=1,Q262>90)=TRUE,1,0),IF(C262=\"OHLC\",IF(AND(N262=\"Y\",Q262>60)=TRUE,1,0),IF(C262=\"DDC\",IF(AND(K262>=4,N262=\"Y\",Q262>120)=TRUE,1,0),0))))))","v":""}]
[null,null,"",null,null,null,null,null,null,null,null,null,null,null,null,0,0,0,0,"",0,0,0,0,0,{"$f":"IF($H$4=\"\",0,VLOOKUP($H$4,BuildingType_Lookup,3,FALSE))","v":0},{"$f":"IF($H$4=\"\",0,VLOOKUP($H$4,BuildingType_Lookup,2,FALSE))","v":0},{"$f":"IF(AND(OR(AN263=\"\",AN263=0)=TRUE,OR(AO263=\"\",AO263=0))=TRUE,0,IF(AO263=\"\",(IF(OR(C263=\"DDC\",C263=\"OHLC\")=TRUE,O263,P263)/1000)*Y263*Z263*(1+VLOOKUP($H$4,BuildingType_Lookup,4,FALSE)),IF(AO263=0,0,(IF(OR(C263=\"DDC\",C263=\"OHLC\")=TRUE,O263,Q263)/1000)*Y263*Z263*(1+VLOOKUP($H$4,BuildingType_Lookup,4,FALSE)))))","v":0},{"$f":"IF(AND(OR(AN263=\"\",AN263=0)=TRUE,OR(AO263=\"\",AO263=0))=TRUE,0,IF(AO263=\"\",(IF(OR(C263=\"DDC\",C263=\"OHLC\")=TRUE,O263,P263)/1000)*Y263*AA263*(1+VLOOKUP($H$4,BuildingType_Lookup,MATCH($H$5,HVAC,0)+4,FALSE)),IF(AO263=0,0,(IF(OR(C263=\"DDC\",C263=\"OHLC\")=TRUE,O263,Q263)/1000)*Y263*AA263*(1+VLOOKUP($H$4,BuildingType_Lookup,MATCH($H$5,HVAC,0)+4,FALSE)))))","v":0},0,0,0,0,0,0,{"$f":"W263/1000*Y263*AA263*IF(IFERROR(SEARCH(\"Gas\",$H$5),0)>0,VLOOKUP(\"Gas\",HVACg_Lookup,MATCH($H$6,BuildingSize,0)+1,FALSE),IF(IFERROR(SEARCH(\"Oil\",$H$5),0)>0,VLOOKUP(\"Oil\",HVACg_Lookup,MATCH($H$6,BuildingSize,0)+1,FALSE),IF(IFERROR(SEARCH(\"Propane\",$H$5),0)>0,VLOOKUP(\"Propane\",HVACg_Lookup,MATCH(Worksheet!$H$6,BuildingSize,0)+1,FALSE),0)))","v":0},{"$f":"X263/1000*Y263*AA263*IF(IFERROR(SEARCH(\"Gas\",$H$5),0)>0,VLOOKUP(\"Gas\",HVACg_Lookup,MATCH($H$6,BuildingSize,0)+1,FALSE),IF(IFERROR(SEARCH(\"Oil\",$H$5),0)>0,VLOOKUP(\"Oil\",HVACg_Lookup,MATCH($H$6,BuildingSize,0)+1,FALSE),IF(IFERROR(SEARCH(\"Propane\",$H$5),0)>0,VLOOKUP(\"Propane\",HVACg_Lookup,MATCH(Worksheet!$H$6,BuildingSize,0)+1,FALSE),0)))","v":0},0,0,{"$f":"IF(OR($B$4=\"\",$B$5=\"\",$H$4=\"\",$H$6=\"\",$H$5=\"\",A263=\"\",F263=\"\",J263=\"\",O263=\"\",P263=\"\")=TRUE,\"\",IF(C263=\"OSW\",IF(J263>=2,1,0),IF(C263=\"OSR\",IF(AND(J263>=2,P263>60)=TRUE,1,0),IF(C263=\"OSRH\",IF(AND(J263>=1,P263>90)=TRUE,1,0),IF(C263=\"OHLC\",IF(AND(N263=\"Y\",P263>60)=TRUE,1,0),IF(C263=\"DDC\",IF(AND(J263>=4,N263=\"Y\",P263>120)=TRUE,1,0),0))))))","v":""},{"$f":"IF(OR($B$4=\"\",$B$5=\"\",$H$4=\"\",$H$6=\"\",$H$5=\"\",A263=\"\",F263=\"\",K263=\"\",O263=\"\",P263=\"\")=TRUE,\"\",IF(C263=\"OSW\",IF(K263>=2,1,0),IF(C263=\"OSR\",IF(AND(K263>=2,Q263>60)=TRUE,1,0),IF(C263=\"OSRH\",IF(AND(K263>=1,Q263>90)=TRUE,1,0),IF(C263=\"OHLC\",IF(AND(N263=\"Y\",Q263>60)=TRUE,1,0),IF(C263=\"DDC\",IF(AND(K263>=4,N263=\"Y\",Q263>120)=TRUE,1,0),0))))))","v":""}]
[null,null,"",null,null,null,null,null,null,null,null,null,null,null,null,0,0,0,0,"",0,0,0,0,0,{"$f":"IF($H$4=\"\",0,VLOOKUP($H$4,BuildingType_Lookup,3,FALSE))","v":0},{"$f":"IF($H$4=\"\",0,VLOOKUP($H$4,BuildingType_Lookup,2,FALSE))","v":0},{"$f":"IF(AND(OR(AN264=\"\",AN264=0)=TRUE,OR(AO264=\"\",AO264=0))=TRUE,0,IF(AO264=\"\",(IF(OR(C264=\"DDC\",C264=\"OHLC\")=TRUE,O264,P264)/1000)*Y264*Z264*(1+VLOOKUP($H$4,BuildingType_Lookup,4,FALSE)),IF(AO264=0,0,(IF(OR(C264=\"DDC\",C264=\"OHLC\")=TRUE,O264,Q264)/1000)*Y264*Z264*(1+VLOOKUP($H$4,BuildingType_Lookup,4,FALSE)))))","v":0},{"$f":"IF(AND(OR(AN264=\"\",AN264=0)=TRUE,OR(AO264=\"\",AO264=0))=TRUE,0,IF(AO264=\"\",(IF(OR(C264=\"DDC\",C264=\"OHLC\")=TRUE,O264,P264)/1000)*Y264*AA264*(1+VLOOKUP($H$4,BuildingType_Lookup,MATCH($H$5,HVAC,0)+4,FALSE)),IF(AO264=0,0,(IF(OR(C264=\"DDC\",C264=\"OHLC\")=TRUE,O264,Q264)/1000)*Y264*AA264*(1+VLOOKUP($H$4,BuildingType_Lookup,MATCH($H$5,HVAC,0)+4,FALSE)))))","v":0},0,0,0,0,0,0,{"$f":"W264/1000*Y264*AA264*IF(IFERROR(SEARCH(\"Gas\",$H$5),0)>0,VLOOKUP(\"Gas\",HVACg_Lookup,MATCH($H$6,BuildingSize,0)+1,FALSE),IF(IFERROR(SEARCH(\"Oil\",$H$5),0)>0,VLOOKUP(\"Oil\",HVACg_Lookup,MATCH($H$6,BuildingSize,0)+1,FALSE),IF(IFERROR(SEARCH(\"Propane\",$H$5),0)>0,VLOOKUP(\"Propane\",HVACg_Lookup,MATCH(Worksheet!$H$6,BuildingSize,0)+1,FALSE),0)))","v":0},{"$f":"X264/1000*Y264*AA264*IF(IFERROR(SEARCH(\"Gas\",$H$5),0)>0,VLOOKUP(\"Gas\",HVACg_Lookup,MATCH($H$6,BuildingSize,0)+1,FALSE),IF(IFERROR(SEARCH(\"Oil\",$H$5),0)>0,VLOOKUP(\"Oil\",HVACg_Lookup,MATCH($H$6,BuildingSize,0)+1,FALSE),IF(IFERROR(SEARCH(\"Propane\",$H$5),0)>0,VLOOKUP(\"Propane\",HVACg_Lookup,MATCH(Worksheet!$H$6,BuildingSize,0)+1,FALSE),0)))","v":0},0,0,{"$f":"IF(OR($B$4=\"\",$B$5=\"\",$H$4=\"\",$H$6=\"\",$H$5=\"\",A264=\"\",F264=\"\",J264=\"\",O264=\"\",P264=\"\")=TRUE,\"\",IF(C264=\"OSW\",IF(J264>=2,1,0),IF(C264=\"OSR\",IF(AND(J264>=2,P264>60)=TRUE,1,0),IF(C264=\"OSRH\",IF(AND(J264>=1,P264>90)=TRUE,1,0),IF(C264=\"OHLC\",IF(AND(N264=\"Y\",P264>60)=TRUE,1,0),IF(C264=\"DDC\",IF(AND(J264>=4,N264=\"Y\",P264>120)=TRUE,1,0),0))))))","v":""},{"$f":"IF(OR($B$4=\"\",$B$5=\"\",$H$4=\"\",$H$6=\"\",$H$5=\"\",A264=\"\",F264=\"\",K264=\"\",O264=\"\",P264=\"\")=TRUE,\"\",IF(C264=\"OSW\",IF(K264>=2,1,0),IF(C264=\"OSR\",IF(AND(K264>=2,Q264>60)=TRUE,1,0),IF(C264=\"OSRH\",IF(AND(K264>=1,Q264>90)=TRUE,1,0),IF(C264=\"OHLC\",IF(AND(N264=\"Y\",Q264>60)=TRUE,1,0),IF(C264=\"DDC\",IF(AND(K264>=4,N264=\"Y\",Q264>120)=TRUE,1,0),0))))))","v":""}]
[null,null,"",null,null,null,null,null,null,null,null,null,null,null,null,0,0,0,0,"",0,0,0,0,0,{"$f":"IF($H$4=\"\",0,VLOOKUP($H$4,BuildingType_Lookup,3,FALSE))","v":0},{"$f":"IF($H$4=\"\",0,VLOOKUP($H$4,BuildingType_Lookup,2,FALSE))","v":0},{"$f":"IF(AND(OR(AN265=\"\",AN265=0)=TRUE,OR(AO265=\"\",AO265=0))=TRUE,0,IF(AO265=\"\",(IF(OR(C265=\"DDC\",C265=\"OHLC\")=TRUE,O265,P265)/1000)*Y265*Z265*(1+VLOOKUP($H$4,BuildingType_Lookup,4,FALSE)),IF(AO265=0,0,(IF(OR(C265=\"DDC\",C265=\"OHLC\")=TRUE,O265,Q265)/1000)*Y265*Z265*(1+VLOOKUP($H$4,BuildingType_Lookup,4,FALSE)))))","v":0},{"$f":"IF(AND(OR(AN265=\"\",AN265=0)=TRUE,OR(AO265=\"\",AO265=0))=TRUE,0,IF(AO265=\"\",(IF(OR(C265=\"DDC\",C265=\"OHLC\")=TRUE,O265,P265)/1000)*Y265*AA265*(1+VLOOKUP($H$4,BuildingType_Lookup,MATCH($H$5,HVAC,0)+4,FALSE)),IF(AO265=0,0,(IF(OR(C265=\"DDC\",C265=\"OHLC\")=TRUE,O265,Q265)/1000)*Y265*AA265*(1+VLOOKUP($H$4,BuildingType_Lookup,MATCH($H$5,HVAC,0)+4,FALSE)))))","v":0},0,0,0,0,0,0,{"$f":"W265/1000*Y265*AA265*IF(IFERROR(SEARCH(\"Gas\",$H$5),0)>0,VLOOKUP(\"Gas\",HVACg_Lookup,MATCH($H$6,BuildingSize,0)+1,FALSE),IF(IFERROR(SEARCH(\"Oil\",$H$5),0)>0,VLOOKUP(\"Oil\",HVACg_Lookup,MATCH($H$6,BuildingSize,0)+1,FALSE),IF(IFERROR(SEARCH(\"Propane\",$H$5),0)>0,VLOOKUP(\"Propane\",HVACg_Lookup,MATCH(Worksheet!$H$6,BuildingSize,0)+1,FALSE),0)))","v":0},{"$f":"X265/1000*Y265*AA265*IF(IFERROR(SEARCH(\"Gas\",$H$5),0)>0,VLOOKUP(\"Gas\",HVACg_Lookup,MATCH($H$6,BuildingSize,0)+1,FALSE),IF(IFERROR(SEARCH(\"Oil\",$H$5),0)>0,VLOOKUP(\"Oil\",HVACg_Lookup,MATCH($H$6,BuildingSize,0)+1,FALSE),IF(IFERROR(SEARCH(\"Propane\",$H$5),0)>0,VLOOKUP(\"Propane\",HVACg_Lookup,MATCH(Worksheet!$H$6,BuildingSize,0)+1,FALSE),0)))","v":0},0,0,{"$f":"IF(OR($B$4=\"\",$B$5=\"\",$H$4=\"\",$H$6=\"\",$H$5=\"\",A265=\"\",F265=\"\",J265=\"\",O265=\"\",P265=\"\")=TRUE,\"\",IF(C265=\"OSW\",IF(J265>=2,1,0),IF(C265=\"OSR\",IF(AND(J265>=2,P265>60)=TRUE,1,0),IF(C265=\"OSRH\",IF(AND(J265>=1,P265>90)=TRUE,1,0),IF(C265=\"OHLC\",IF(AND(N265=\"Y\",P265>60)=TRUE,1,0),IF(C265=\"DDC\",IF(AND(J265>=4,N265=\"Y\",P265>120)=TRUE,1,0),0))))))","v":""},{"$f":"IF(OR($B$4=\"\",$B$5=\"\",$H$4=\"\",$H$6=\"\",$H$5=\"\",A265=\"\",F265=\"\",K265=\"\",O265=\"\",P265=\"\")=TRUE,\"\",IF(C265=\"OSW\",IF(K265>=2,1,0),IF(C265=\"OSR\",IF(AND(K265>=2,Q265>60)=TRUE,1,0),IF(C265=\"OSRH\",IF(AND(K265>=1,Q265>90)=TRUE,1,0),IF(C265=\"OHLC\",IF(AND(N265=\"Y\",Q265>60)=TRUE,1,0),IF(C265=\"DDC\",IF(AND(K265>=4,N265=\"Y\",Q265>120)=TRUE,1,0),0))))))","v":""}]
[null,null,"",null,null,null,null,null,null,null,null,null,null,null,null,0,0,0,0,"",0,0,0,0,0,{"$f":"IF($H$4=\"\",0,VLOOKUP($H$4,BuildingType_Lookup,3,FALSE))","v":0},{"$f":"IF($H$4=\"\",0,VLOOKUP($H$4,BuildingType_Lookup,2,FALSE))","v":0},{"$f":"IF(AND(OR(AN266=\"\",AN266=0)=TRUE,OR(AO266=\"\",AO266=0))=TRUE,0,IF(AO266=\"\",(IF(OR(C266=\"DDC\",C266=\"OHLC\")=TRUE,O266,P266)/1000)*Y266*Z266*(1+VLOOKUP($H$4,BuildingType_Lookup,4,FALSE)),IF(AO266=0,0,(IF(OR(C266=\"DDC\",C266=\"OHLC\")=TRUE,O266,Q266)/1000)*Y266*Z266*(1+VLOOKUP($H$4,BuildingType_Lookup,4,FALSE)))))","v":0},{"$f":"IF(AND(OR(AN266=\"\",AN266=0)=TRUE,OR(AO266=\"\",AO266=0))=TRUE,0,IF(AO266=\"\",(IF(OR(C266=\"DDC\",C266=\"OHLC\")=TRUE,O266,P266)/1000)*Y266*AA266*(1+VLOOKUP($H$4,BuildingType_Lookup,MATCH($H$5,HVAC,0)+4,FALSE)),IF(AO266=0,0,(IF(OR(C266=\"DDC\",C266=\"OHLC\")=TRUE,O266,Q266)/1000)*Y266*AA266*(1+VLOOKUP($H$4,BuildingType_Lookup,MATCH($H$5,HVAC,0)+4,FALSE)))))","v":0},0,0,0,0,0,0,{"$f":"W266/1000*Y266*AA266*IF(IFERROR(SEARCH(\"Gas\",$H$5),0)>0,VLOOKUP(\"Gas\",HVACg_Lookup,MATCH($H$6,BuildingSize,0)+1,FALSE),IF(IFERROR(SEARCH(\"Oil\",$H$5),0)>0,VLOOKUP(\"Oil\",HVACg_Lookup,MATCH($H$6,BuildingSize,0)+1,FALSE),IF(IFERROR(SEARCH(\"Propane\",$H$5),0)>0,VLOOKUP(\"Propane\",HVACg_Lookup,MATCH(Worksheet!$H$6,BuildingSize,0)+1,FALSE),0)))","v":0},{"$f":"X266/1000*Y266*AA266*IF(IFERROR(SEARCH(\"Gas\",$H$5),0)>0,VLOOKUP(\"Gas\",HVACg_Lookup,MATCH($H$6,BuildingSize,0)+1,FALSE),IF(IFERROR(SEARCH(\"Oil\",$H$5),0)>0,VLOOKUP(\"Oil\",HVACg_Lookup,MATCH($H$6,BuildingSize,0)+1,FALSE),IF(IFERROR(SEARCH(\"Propane\",$H$5),0)>0,VLOOKUP(\"Propane\",HVACg_Lookup,MATCH(Worksheet!$H$6,BuildingSize,0)+1,FALSE),0)))","v":0},0,0,{"$f":"IF(OR($B$4=\"\",$B$5=\"\",$H$4=\"\",$H$6=\"\",$H$5=\"\",A266=\"\",F266=\"\",J266=\"\",O266=\"\",P266=\"\")=TRUE,\"\",IF(C266=\"OSW\",IF(J266>=2,1,0),IF(C266=\"OSR\",IF(AND(J266>=2,P266>60)=TRUE,1,0),IF(C266=\"OSRH\",IF(AND(J266>=1,P266>90)=TRUE,1,0),IF(C266=\"OHLC\",IF(AND(N266=\"Y\",P266>60)=TRUE,1,0),IF(C266=\"DDC\",IF(AND(J266>=4,N266=\"Y\",P266>120)=TRUE,1,0),0))))))","v":""},{"$f":"IF(OR($B$4=\"\",$B$5=\"\",$H$4=\"\",$H$6=\"\",$H$5=\"\",A266=\"\",F266=\"\",K266=\"\",O266=\"\",P266=\"\")=TRUE,\"\",IF(C266=\"OSW\",IF(K266>=2,1,0),IF(C266=\"OSR\",IF(AND(K266>=2,Q266>60)=TRUE,1,0),IF(C266=\"OSRH\",IF(AND(K266>=1,Q266>90)=TRUE,1,0),IF(C266=\"OHLC\",IF(AND(N266=\"Y\",Q266>60)=TRUE,1,0),IF(C266=\"DDC\",IF(AND(K266>=4,N266=\"Y\",Q266>120)=TRUE,1,0),0))))))","v":""}]
[null,null,"",null,null,null,null,null,null,null,null,null,null,null,null,0,0,0,0,"",0,0,0,0,0,{"$f":"IF($H$4=\"\",0,VLOOKUP($H$4,BuildingType_Lookup,3,FALSE))","v":0},{"$f":"IF($H$4=\"\",0,VLOOKUP($H$4,BuildingType_Lookup,2,FALSE))","v":0},{"$f":"IF(AND(OR(AN267=\"\",AN267=0)=TRUE,OR(AO267=\"\",AO267=0))=TRUE,0,IF(AO267=\"\",(IF(OR(C267=\"DDC\",C267=\"OHLC\")=TRUE,O267,P267)/1000)*Y267*Z267*(1+VLOOKUP($H$4,BuildingType_Lookup,4,FALSE)),IF(AO267=0,0,(IF(OR(C267=\"DDC\",C267=\"OHLC\")=TRUE,O267,Q267)/1000)*Y267*Z267*(1+VLOOKUP($H$4,BuildingType_Lookup,4,FALSE)))))","v":0},{"$f":"IF(AND(OR(AN267=\"\",AN267=0)=TRUE,OR(AO267=\"\",AO267=0))=TRUE,0,IF(AO267=\"\",(IF(OR(C267=\"DDC\",C267=\"OHLC\")=TRUE,O267,P267)/1000)*Y267*AA267*(1+VLOOKUP($H$4,BuildingType_Lookup,MATCH($H$5,HVAC,0)+4,FALSE)),IF(AO267=0,0,(IF(OR(C267=\"DDC\",C267=\"OHLC\")=TRUE,O267,Q267)/1000)*Y267*AA267*(1+VLOOKUP($H$4,BuildingType_Lookup,MATCH($H$5,HVAC,0)+4,FALSE)))))","v":0},0,0,0,0,0,0,{"$f":"W267/1000*Y267*AA267*IF(IFERROR(SEARCH(\"Gas\",$H$5),0)>0,VLOOKUP(\"Gas\",HVACg_Lookup,MATCH($H$6,BuildingSize,0)+1,FALSE),IF(IFERROR(SEARCH(\"Oil\",$H$5),0)>0,VLOOKUP(\"Oil\",HVACg_Lookup,MATCH($H$6,BuildingSize,0)+1,FALSE),IF(IFERROR(SEARCH(\"Propane\",$H$5),0)>0,VLOOKUP(\"Propane\",HVACg_Lookup,MATCH(Worksheet!$H$6,BuildingSize,0)+1,FALSE),0)))","v":0},{"$f":"X267/1000*Y267*AA267*IF(IFERROR(SEARCH(\"Gas\",$H$5),0)>0,VLOOKUP(\"Gas\",HVACg_Lookup,MATCH($H$6,BuildingSize,0)+1,FALSE),IF(IFERROR(SEARCH(\"Oil\",$H$5),0)>0,VLOOKUP(\"Oil\",HVACg_Lookup,MATCH($H$6,BuildingSize,0)+1,FALSE),IF(IFERROR(SEARCH(\"Propane\",$H$5),0)>0,VLOOKUP(\"Propane\",HVACg_Lookup,MATCH(Worksheet!$H$6,BuildingSize,0)+1,FALSE),0)))","v":0},0,0,{"$f":"IF(OR($B$4=\"\",$B$5=\"\",$H$4=\"\",$H$6=\"\",$H$5=\"\",A267=\"\",F267=\"\",J267=\"\",O267=\"\",P267=\"\")=TRUE,\"\",IF(C267=\"OSW\",IF(J267>=2,1,0),IF(C267=\"OSR\",IF(AND(J267>=2,P267>60)=TRUE,1,0),IF(C267=\"OSRH\",IF(AND(J267>=1,P267>90)=TRUE,1,0),IF(C267=\"OHLC\",IF(AND(N267=\"Y\",P267>60)=TRUE,1,0),IF(C267=\"DDC\",IF(AND(J267>=4,N267=\"Y\",P267>120)=TRUE,1,0),0))))))","v":""},{"$f":"IF(OR($B$4=\"\",$B$5=\"\",$H$4=\"\",$H$6=\"\",$H$5=\"\",A267=\"\",F267=\"\",K267=\"\",O267=\"\",P267=\"\")=TRUE,\"\",IF(C267=\"OSW\",IF(K267>=2,1,0),IF(C267=\"OSR\",IF(AND(K267>=2,Q267>60)=TRUE,1,0),IF(C267=\"OSRH\",IF(AND(K267>=1,Q267>90)=TRUE,1,0),IF(C267=\"OHLC\",IF(AND(N267=\"Y\",Q267>60)=TRUE,1,0),IF(C267=\"DDC\",IF(AND(K267>=4,N267=\"Y\",Q267>120)=TRUE,1,0),0))))))","v":""}]
[null,null,"",null,null,null,null,null,null,null,null,null,null,null,null,0,0,0,0,"",0,0,0,0,0,{"$f":"IF($H$4=\"\",0,VLOOKUP($H$4,BuildingType_Lookup,3,FALSE))","v":0},{"$f":"IF($H$4=\"\",0,VLOOKUP($H$4,BuildingType_Lookup,2,FALSE))","v":0},{"$f":"IF(AND(OR(AN268=\"\",AN268=0)=TRUE,OR(AO268=\"\",AO268=0))=TRUE,0,IF(AO268=\"\",(IF(OR(C268=\"DDC\",C268=\"OHLC\")=TRUE,O268,P268)/1000)*Y268*Z268*(1+VLOOKUP($H$4,BuildingType_Lookup,4,FALSE)),IF(AO268=0,0,(IF(OR(C268=\"DDC\",C268=\"OHLC\")=TRUE,O268,Q268)/1000)*Y268*Z268*(1+VLOOKUP($H$4,BuildingType_Lookup,4,FALSE)))))","v":0},{"$f":"IF(AND(OR(AN268=\"\",AN268=0)=TRUE,OR(AO268=\"\",AO268=0))=TRUE,0,IF(AO268=\"\",(IF(OR(C268=\"DDC\",C268=\"OHLC\")=TRUE,O268,P268)/1000)*Y268*AA268*(1+VLOOKUP($H$4,BuildingType_Lookup,MATCH($H$5,HVAC,0)+4,FALSE)),IF(AO268=0,0,(IF(OR(C268=\"DDC\",C268=\"OHLC\")=TRUE,O268,Q268)/1000)*Y268*AA268*(1+VLOOKUP($H$4,BuildingType_Lookup,MATCH($H$5,HVAC,0)+4,FALSE)))))","v":0},0,0,0,0,0,0,{"$f":"W268/1000*Y268*AA268*IF(IFERROR(SEARCH(\"Gas\",$H$5),0)>0,VLOOKUP(\"Gas\",HVACg_Lookup,MATCH($H$6,BuildingSize,0)+1,FALSE),IF(IFERROR(SEARCH(\"Oil\",$H$5),0)>0,VLOOKUP(\"Oil\",HVACg_Lookup,MATCH($H$6,BuildingSize,0)+1,FALSE),IF(IFERROR(SEARCH(\"Propane\",$H$5),0)>0,VLOOKUP(\"Propane\",HVACg_Lookup,MATCH(Worksheet!$H$6,BuildingSize,0)+1,FALSE),0)))","v":0},{"$f":"X268/1000*Y268*AA268*IF(IFERROR(SEARCH(\"Gas\",$H$5),0)>0,VLOOKUP(\"Gas\",HVACg_Lookup,MATCH($H$6,BuildingSize,0)+1,FALSE),IF(IFERROR(SEARCH(\"Oil\",$H$5),0)>0,VLOOKUP(\"Oil\",HVACg_Lookup,MATCH($H$6,BuildingSize,0)+1,FALSE),IF(IFERROR(SEARCH(\"Propane\",$H$5),0)>0,VLOOKUP(\"Propane\",HVACg_Lookup,MATCH(Worksheet!$H$6,BuildingSize,0)+1,FALSE),0)))","v":0},0,0,{"$f":"IF(OR($B$4=\"\",$B$5=\"\",$H$4=\"\",$H$6=\"\",$H$5=\"\",A268=\"\",F268=\"\",J268=\"\",O268=\"\",P268=\"\")=TRUE,\"\",IF(C268=\"OSW\",IF(J268>=2,1,0),IF(C268=\"OSR\",IF(AND(J268>=2,P268>60)=TRUE,1,0),IF(C268=\"OSRH\",IF(AND(J268>=1,P268>90)=TRUE,1,0),IF(C268=\"OHLC\",IF(AND(N268=\"Y\",P268>60)=TRUE,1,0),IF(C268=\"DDC\",IF(AND(J268>=4,N268=\"Y\",P268>120)=TRUE,1,0),0))))))","v":""},{"$f":"IF(OR($B$4=\"\",$B$5=\"\",$H$4=\"\",$H$6=\"\",$H$5=\"\",A268=\"\",F268=\"\",K268=\"\",O268=\"\",P268=\"\")=TRUE,\"\",IF(C268=\"OSW\",IF(K268>=2,1,0),IF(C268=\"OSR\",IF(AND(K268>=2,Q268>60)=TRUE,1,0),IF(C268=\"OSRH\",IF(AND(K268>=1,Q268>90)=TRUE,1,0),IF(C268=\"OHLC\",IF(AND(N268=\"Y\",Q268>60)=TRUE,1,0),IF(C268=\"DDC\",IF(AND(K268>=4,N268=\"Y\",Q268>120)=TRUE,1,0),0))))))","v":""}]
[null,null,"",null,null,null,null,null,null,null,null,null,null,null,null,0,0,0,0,"",0,0,0,0,0,{"$f":"IF($H$4=\"\",0,VLOOKUP($H$4,BuildingType_Lookup,3,FALSE))","v":0},{"$f":"IF($H$4=\"\",0,VLOOKUP($H$4,BuildingType_Lookup,2,FALSE))","v":0},{"$f":"IF(AND(OR(AN269=\"\",AN269=0)=TRUE,OR(AO269=\"\",AO269=0))=TRUE,0,IF(AO269=\"\",(IF(OR(C269=\"DDC\",C269=\"OHLC\")=TRUE,O269,P269)/1000)*Y269*Z269*(1+VLOOKUP($H$4,BuildingType_Lookup,4,FALSE)),IF(AO269=0,0,(IF(OR(C269=\"DDC\",C269=\"OHLC\")=TRUE,O269,Q269)/1000)*Y269*Z269*(1+VLOOKUP($H$4,BuildingType_Lookup,4,FALSE)))))","v":0},{"$f":"IF(AND(OR(AN269=\"\",AN269=0)=TRUE,OR(AO269=\"\",AO269=0))=TRUE,0,IF(AO269=\"\",(IF(OR(C269=\"DDC\",C269=\"OHLC\")=TRUE,O269,P269)/1000)*Y269*AA269*(1+VLOOKUP($H$4,BuildingType_Lookup,MATCH($H$5,HVAC,0)+4,FALSE)),IF(AO269=0,0,(IF(OR(C269=\"DDC\",C269=\"OHLC\")=TRUE,O269,Q269)/1000)*Y269*AA269*(1+VLOOKUP($H$4,BuildingType_Lookup,MATCH($H$5,HVAC,0)+4,FALSE)))))","v":0},0,0,0,0,0,0,{"$f":"W269/1000*Y269*AA269*IF(IFERROR(SEARCH(\"Gas\",$H$5),0)>0,VLOOKUP(\"Gas\",HVACg_Lookup,MATCH($H$6,BuildingSize,0)+1,FALSE),IF(IFERROR(SEARCH(\"Oil\",$H$5),0)>0,VLOOKUP(\"Oil\",HVACg_Lookup,MATCH($H$6,BuildingSize,0)+1,FALSE),IF(IFERROR(SEARCH(\"Propane\",$H$5),0)>0,VLOOKUP(\"Propane\",HVACg_Lookup,MATCH(Worksheet!$H$6,BuildingSize,0)+1,FALSE),0)))","v":0},{"$f":"X269/1000*Y269*AA269*IF(IFERROR(SEARCH(\"Gas\",$H$5),0)>0,VLOOKUP(\"Gas\",HVACg_Lookup,MATCH($H$6,BuildingSize,0)+1,FALSE),IF(IFERROR(SEARCH(\"Oil\",$H$5),0)>0,VLOOKUP(\"Oil\",HVACg_Lookup,MATCH($H$6,BuildingSize,0)+1,FALSE),IF(IFERROR(SEARCH(\"Propane\",$H$5),0)>0,VLOOKUP(\"Propane\",HVACg_Lookup,MATCH(Worksheet!$H$6,BuildingSize,0)+1,FALSE),0)))","v":0},0,0,{"$f":"IF(OR($B$4=\"\",$B$5=\"\",$H$4=\"\",$H$6=\"\",$H$5=\"\",A269=\"\",F269=\"\",J269=\"\",O269=\"\",P269=\"\")=TRUE,\"\",IF(C269=\"OSW\",IF(J269>=2,1,0),IF(C269=\"OSR\",IF(AND(J269>=2,P269>60)=TRUE,1,0),IF(C269=\"OSRH\",IF(AND(J269>=1,P269>90)=TRUE,1,0),IF(C269=\"OHLC\",IF(AND(N269=\"Y\",P269>60)=TRUE,1,0),IF(C269=\"DDC\",IF(AND(J269>=4,N269=\"Y\",P269>120)=TRUE,1,0),0))))))","v":""},{"$f":"IF(OR($B$4=\"\",$B$5=\"\",$H$4=\"\",$H$6=\"\",$H$5=\"\",A269=\"\",F269=\"\",K269=\"\",O269=\"\",P269=\"\")=TRUE,\"\",IF(C269=\"OSW\",IF(K269>=2,1,0),IF(C269=\"OSR\",IF(AND(K269>=2,Q269>60)=TRUE,1,0),IF(C269=\"OSRH\",IF(AND(K269>=1,Q269>90)=TRUE,1,0),IF(C269=\"OHLC\",IF(AND(N269=\"Y\",Q269>60)=TRUE,1,0),IF(C269=\"DDC\",IF(AND(K269>=4,N269=\"Y\",Q269>120)=TRUE,1,0),0))))))","v":""}]
[null,null,"",null,null,null,null,null,null,null,null,null,null,null,null,0,0,0,0,"",0,0,0,0,0,{"$f":"IF($H$4=\"\",0,VLOOKUP($H$4,BuildingType_Lookup,3,FALSE))","v":0},{"$f":"IF($H$4=\"\",0,VLOOKUP($H$4,BuildingType_Lookup,2,FALSE))","v":0},{"$f":"IF(AND(OR(AN270=\"\",AN270=0)=TRUE,OR(AO270=\"\",AO270=0))=TRUE,0,IF(AO270=\"\",(IF(OR(C270=\"DDC\",C270=\"OHLC\")=TRUE,O270,P270)/1000)*Y270*Z270*(1+VLOOKUP($H$4,BuildingType_Lookup,4,FALSE)),IF(AO270=0,0,(IF(OR(C270=\"DDC\",C270=\"OHLC\")=TRUE,O270,Q270)/1000)*Y270*Z270*(1+VLOOKUP($H$4,BuildingType_Lookup,4,FALSE)))))","v":0},{"$f":"IF(AND(OR(AN270=\"\",AN270=0)=TRUE,OR(AO270=\"\",AO270=0))=TRUE,0,IF(AO270=\"\",(IF(OR(C270=\"DDC\",C270=\"OHLC\")=TRUE,O270,P270)/1000)*Y270*AA270*(1+VLOOKUP($H$4,BuildingType_Lookup,MATCH($H$5,HVAC,0)+4,FALSE)),IF(AO270=0,0,(IF(OR(C270=\"DDC\",C270=\"OHLC\")=TRUE,O270,Q270)/1000)*Y270*AA270*(1+VLOOKUP($H$4,BuildingType_Lookup,MATCH($H$5,HVAC,0)+4,FALSE)))))","v":0},0,0,0,0,0,0,{"$f":"W270/1000*Y270*AA270*IF(IFERROR(SEARCH(\"Gas\",$H$5),0)>0,VLOOKUP(\"Gas\",HVACg_Lookup,MATCH($H$6,BuildingSize,0)+1,FALSE),IF(IFERROR(SEARCH(\"Oil\",$H$5),0)>0,VLOOKUP(\"Oil\",HVACg_Lookup,MATCH($H$6,BuildingSize,0)+1,FALSE),IF(IFERROR(SEARCH(\"Propane\",$H$5),0)>0,VLOOKUP(\"Propane\",HVACg_Lookup,MATCH(Worksheet!$H$6,BuildingSize,0)+1,FALSE),0)))","v":0},{"$f":"X270/1000*Y270*AA270*IF(IFERROR(SEARCH(\"Gas\",$H$5),0)>0,VLOOKUP(\"Gas\",HVACg_Lookup,MATCH($H$6,BuildingSize,0)+1,FALSE),IF(IFERROR(SEARCH(\"Oil\",$H$5),0)>0,VLOOKUP(\"Oil\",HVACg_Lookup,MATCH($H$6,BuildingSize,0)+1,FALSE),IF(IFERROR(SEARCH(\"Propane\",$H$5),0)>0,VLOOKUP(\"Propane\",HVACg_Lookup,MATCH(Worksheet!$H$6,BuildingSize,0)+1,FALSE),0)))","v":0},0,0,{"$f":"IF(OR($B$4=\"\",$B$5=\"\",$H$4=\"\",$H$6=\"\",$H$5=\"\",A270=\"\",F270=\"\",J270=\"\",O270=\"\",P270=\"\")=TRUE,\"\",IF(C270=\"OSW\",IF(J270>=2,1,0),IF(C270=\"OSR\",IF(AND(J270>=2,P270>60)=TRUE,1,0),IF(C270=\"OSRH\",IF(AND(J270>=1,P270>90)=TRUE,1,0),IF(C270=\"OHLC\",IF(AND(N270=\"Y\",P270>60)=TRUE,1,0),IF(C270=\"DDC\",IF(AND(J270>=4,N270=\"Y\",P270>120)=TRUE,1,0),0))))))","v":""},{"$f":"IF(OR($B$4=\"\",$B$5=\"\",$H$4=\"\",$H$6=\"\",$H$5=\"\",A270=\"\",F270=\"\",K270=\"\",O270=\"\",P270=\"\")=TRUE,\"\",IF(C270=\"OSW\",IF(K270>=2,1,0),IF(C270=\"OSR\",IF(AND(K270>=2,Q270>60)=TRUE,1,0),IF(C270=\"OSRH\",IF(AND(K270>=1,Q270>90)=TRUE,1,0),IF(C270=\"OHLC\",IF(AND(N270=\"Y\",Q270>60)=TRUE,1,0),IF(C270=\"DDC\",IF(AND(K270>=4,N270=\"Y\",Q270>120)=TRUE,1,0),0))))))","v":""}]
[null,null,"",null,null,null,null,null,null,null,null,null,null,null,null,0,0,0,0,"",0,0,0,0,0,{"$f":"IF($H$4=\"\",0,VLOOKUP($H$4,BuildingType_Lookup,3,FALSE))","v":0},{"$f":"IF($H$4=\"\",0,VLOOKUP($H$4,BuildingType_Lookup,2,FALSE))","v":0},{"$f":"IF(AND(OR(AN271=\"\",AN271=0)=TRUE,OR(AO271=\"\",AO271=0))=TRUE,0,IF(AO271=\"\",(IF(OR(C271=\"DDC\",C271=\"OHLC\")=TRUE,O271,P271)/1000)*Y271*Z271*(1+VLOOKUP($H$4,BuildingType_Lookup,4,FALSE)),IF(AO271=0,0,(IF(OR(C271=\"DDC\",C271=\"OHLC\")=TRUE,O271,Q271)/1000)*Y271*Z271*(1+VLOOKUP($H$4,BuildingType_Lookup,4,FALSE)))))","v":0},{"$f":"IF(AND(OR(AN271=\"\",AN271=0)=TRUE,OR(AO271=\"\",AO271=0))=TRUE,0,IF(AO271=\"\",(IF(OR(C271=\"DDC\",C271=\"OHLC\")=TRUE,O271,P271)/1000)*Y271*AA271*(1+VLOOKUP($H$4,BuildingType_Lookup,MATCH($H$5,HVAC,0)+4,FALSE)),IF(AO271=0,0,(IF(OR(C271=\"DDC\",C271=\"OHLC\")=TRUE,O271,Q271)/1000)*Y271*AA271*(1+VLOOKUP($H$4,BuildingType_Lookup,MATCH($H$5,HVAC,0)+4,FALSE)))))","v":0},0,0,0,0,0,0,{"$f":"W271/1000*Y271*AA271*IF(IFERROR(SEARCH(\"Gas\",$H$5),0)>0,VLOOKUP(\"Gas\",HVACg_Lookup,MATCH($H$6,BuildingSize,0)+1,FALSE),IF(IFERROR(SEARCH(\"Oil\",$H$5),0)>0,VLOOKUP(\"Oil\",HVACg_Lookup,MATCH($H$6,BuildingSize,0)+1,FALSE),IF(IFERROR(SEARCH(\"Propane\",$H$5),0)>0,VLOOKUP(\"Propane\",HVACg_Lookup,MATCH(Worksheet!$H$6,BuildingSize,0)+1,FALSE),0)))","v":0},{"$f":"X271/1000*Y271*AA271*IF(IFERROR(SEARCH(\"Gas\",$H$5),0)>0,VLOOKUP(\"Gas\",HVACg_Lookup,MATCH($H$6,BuildingSize,0)+1,FALSE),IF(IFERROR(SEARCH(\"Oil\",$H$5),0)>0,VLOOKUP(\"Oil\",HVACg_Lookup,MATCH($H$6,BuildingSize,0)+1,FALSE),IF(IFERROR(SEARCH(\"Propane\",$H$5),0)>0,VLOOKUP(\"Propane\",HVACg_Lookup,MATCH(Worksheet!$H$6,BuildingSize,0)+1,FALSE),0)))","v":0},0,0,{"$f":"IF(OR($B$4=\"\",$B$5=\"\",$H$4=\"\",$H$6=\"\",$H$5=\"\",A271=\"\",F271=\"\",J271=\"\",O271=\"\",P271=\"\")=TRUE,\"\",IF(C271=\"OSW\",IF(J271>=2,1,0),IF(C271=\"OSR\",IF(AND(J271>=2,P271>60)=TRUE,1,0),IF(C271=\"OSRH\",IF(AND(J271>=1,P271>90)=TRUE,1,0),IF(C271=\"OHLC\",IF(AND(N271=\"Y\",P271>60)=TRUE,1,0),IF(C271=\"DDC\",IF(AND(J271>=4,N271=\"Y\",P271>120)=TRUE,1,0),0))))))","v":""},{"$f":"IF(OR($B$4=\"\",$B$5=\"\",$H$4=\"\",$H$6=\"\",$H$5=\"\",A271=\"\",F271=\"\",K271=\"\",O271=\"\",P271=\"\")=TRUE,\"\",IF(C271=\"OSW\",IF(K271>=2,1,0),IF(C271=\"OSR\",IF(AND(K271>=2,Q271>60)=TRUE,1,0),IF(C271=\"OSRH\",IF(AND(K271>=1,Q271>90)=TRUE,1,0),IF(C271=\"OHLC\",IF(AND(N271=\"Y\",Q271>60)=TRUE,1,0),IF(C271=\"DDC\",IF(AND(K271>=4,N271=\"Y\",Q271>120)=TRUE,1,0),0))))))","v":""}]
[null,null,"",null,null,null,null,null,null,null,null,null,null,null,null,0,0,0,0,"",0,0,0,0,0,{"$f":"IF($H$4=\"\",0,VLOOKUP($H$4,BuildingType_Lookup,3,FALSE))","v":0},{"$f":"IF($H$4=\"\",0,VLOOKUP($H$4,BuildingType_Lookup,2,FALSE))","v":0},{"$f":"IF(AND(OR(AN272=\"\",AN272=0)=TRUE,OR(AO272=\"\",AO272=0))=TRUE,0,IF(AO272=\"\",(IF(OR(C272=\"DDC\",C272=\"OHLC\")=TRUE,O272,P272)/1000)*Y272*Z272*(1+VLOOKUP($H$4,BuildingType_Lookup,4,FALSE)),IF(AO272=0,0,(IF(OR(C272=\"DDC\",C272=\"OHLC\")=TRUE,O272,Q272)/1000)*Y272*Z272*(1+VLOOKUP($H$4,BuildingType_Lookup,4,FALSE)))))","v":0},{"$f":"IF(AND(OR(AN272=\"\",AN272=0)=TRUE,OR(AO272=\"\",AO272=0))=TRUE,0,IF(AO272=\"\",(IF(OR(C272=\"DDC\",C272=\"OHLC\")=TRUE,O272,P272)/1000)*Y272*AA272*(1+VLOOKUP($H$4,BuildingType_Lookup,MATCH($H$5,HVAC,0)+4,FALSE)),IF(AO272=0,0,(IF(OR(C272=\"DDC\",C272=\"OHLC\")=TRUE,O272,Q272)/1000)*Y272*AA272*(1+VLOOKUP($H$4,BuildingType_Lookup,MATCH($H$5,HVAC,0)+4,FALSE)))))","v":0},0,0,0,0,0,0,{"$f":"W272/1000*Y272*AA272*IF(IFERROR(SEARCH(\"Gas\",$H$5),0)>0,VLOOKUP(\"Gas\",HVACg_Lookup,MATCH($H$6,BuildingSize,0)+1,FALSE),IF(IFERROR(SEARCH(\"Oil\",$H$5),0)>0,VLOOKUP(\"Oil\",HVACg_Lookup,MATCH($H$6,BuildingSize,0)+1,FALSE),IF(IFERROR(SEARCH(\"Propane\",$H$5),0)>0,VLOOKUP(\"Propane\",HVACg_Lookup,MATCH(Worksheet!$H$6,BuildingSize,0)+1,FALSE),0)))","v":0},{"$f":"X272/1000*Y272*AA272*IF(IFERROR(SEARCH(\"Gas\",$H$5),0)>0,VLOOKUP(\"Gas\",HVACg_Lookup,MATCH($H$6,BuildingSize,0)+1,FALSE),IF(IFERROR(SEARCH(\"Oil\",$H$5),0)>0,VLOOKUP(\"Oil\",HVACg_Lookup,MATCH($H$6,BuildingSize,0)+1,FALSE),IF(IFERROR(SEARCH(\"Propane\",$H$5),0)>0,VLOOKUP(\"Propane\",HVACg_Lookup,MATCH(Worksheet!$H$6,BuildingSize,0)+1,FALSE),0)))","v":0},0,0,{"$f":"IF(OR($B$4=\"\",$B$5=\"\",$H$4=\"\",$H$6=\"\",$H$5=\"\",A272=\"\",F272=\"\",J272=\"\",O272=\"\",P272=\"\")=TRUE,\"\",IF(C272=\"OSW\",IF(J272>=2,1,0),IF(C272=\"OSR\",IF(AND(J272>=2,P272>60)=TRUE,1,0),IF(C272=\"OSRH\",IF(AND(J272>=1,P272>90)=TRUE,1,0),IF(C272=\"OHLC\",IF(AND(N272=\"Y\",P272>60)=TRUE,1,0),IF(C272=\"DDC\",IF(AND(J272>=4,N272=\"Y\",P272>120)=TRUE,1,0),0))))))","v":""},{"$f":"IF(OR($B$4=\"\",$B$5=\"\",$H$4=\"\",$H$6=\"\",$H$5=\"\",A272=\"\",F272=\"\",K272=\"\",O272=\"\",P272=\"\")=TRUE,\"\",IF(C272=\"OSW\",IF(K272>=2,1,0),IF(C272=\"OSR\",IF(AND(K272>=2,Q272>60)=TRUE,1,0),IF(C272=\"OSRH\",IF(AND(K272>=1,Q272>90)=TRUE,1,0),IF(C272=\"OHLC\",IF(AND(N272=\"Y\",Q272>60)=TRUE,1,0),IF(C272=\"DDC\",IF(AND(K272>=4,N272=\"Y\",Q272>120)=TRUE,1,0),0))))))","v":""}]
[null,null,"",null,null,null,null,null,null,null,null,null,null,null,null,0,0,0,0,"",0,0,0,0,0,{"$f":"IF($H$4=\"\",0,VLOOKUP($H$4,BuildingType_Lookup,3,FALSE))","v":0},{"$f":"IF($H$4=\"\",0,VLOOKUP($H$4,BuildingType_Lookup,2,FALSE))","v":0},{"$f":"IF(AND(OR(AN273=\"\",AN273=0)=TRUE,OR(AO273=\"\",AO273=0))=TRUE,0,IF(AO273=\"\",(IF(OR(C273=\"DDC\",C273=\"OHLC\")=TRUE,O273,P273)/1000)*Y273*Z273*(1+VLOOKUP($H$4,BuildingType_Lookup,4,FALSE)),IF(AO273=0,0,(IF(OR(C273=\"DDC\",C273=\"OHLC\")=TRUE,O273,Q273)/1000)*Y273*Z273*(1+VLOOKUP($H$4,BuildingType_Lookup,4,FALSE)))))","v":0},{"$f":"IF(AND(OR(AN273=\"\",AN273=0)=TRUE,OR(AO273=\"\",AO273=0))=TRUE,0,IF(AO273=\"\",(IF(OR(C273=\"DDC\",C273=\"OHLC\")=TRUE,O273,P273)/1000)*Y273*AA273*(1+VLOOKUP($H$4,BuildingType_Lookup,MATCH($H$5,HVAC,0)+4,FALSE)),IF(AO273=0,0,(IF(OR(C273=\"DDC\",C273=\"OHLC\")=TRUE,O273,Q273)/1000)*Y273*AA273*(1+VLOOKUP($H$4,BuildingType_Lookup,MATCH($H$5,HVAC,0)+4,FALSE)))))","v":0},0,0,0,0,0,0,{"$f":"W273/1000*Y273*AA273*IF(IFERROR(SEARCH(\"Gas\",$H$5),0)>0,VLOOKUP(\"Gas\",HVACg_Lookup,MATCH($H$6,BuildingSize,0)+1,FALSE),IF(IFERROR(SEARCH(\"Oil\",$H$5),0)>0,VLOOKUP(\"Oil\",HVACg_Lookup,MATCH($H$6,BuildingSize,0)+1,FALSE),IF(IFERROR(SEARCH(\"Propane\",$H$5),0)>0,VLOOKUP(\"Propane\",HVACg_Lookup,MATCH(Worksheet!$H$6,BuildingSize,0)+1,FALSE),0)))","v":0},{"$f":"X273/1000*Y273*AA273*IF(IFERROR(SEARCH(\"Gas\",$H$5),0)>0,VLOOKUP(\"Gas\",HVACg_Lookup,MATCH($H$6,BuildingSize,0)+1,FALSE),IF(IFERROR(SEARCH(\"Oil\",$H$5),0)>0,VLOOKUP(\"Oil\",HVACg_Lookup,MATCH($H$6,BuildingSize,0)+1,FALSE),IF(IFERROR(SEARCH(\"Propane\",$H$5),0)>0,VLOOKUP(\"Propane\",HVACg_Lookup,MATCH(Worksheet!$H$6,BuildingSize,0)+1,FALSE),0)))","v":0},0,0,{"$f":"IF(OR($B$4=\"\",$B$5=\"\",$H$4=\"\",$H$6=\"\",$H$5=\"\",A273=\"\",F273=\"\",J273=\"\",O273=\"\",P273=\"\")=TRUE,\"\",IF(C273=\"OSW\",IF(J273>=2,1,0),IF(C273=\"OSR\",IF(AND(J273>=2,P273>60)=TRUE,1,0),IF(C273=\"OSRH\",IF(AND(J273>=1,P273>90)=TRUE,1,0),IF(C273=\"OHLC\",IF(AND(N273=\"Y\",P273>60)=TRUE,1,0),IF(C273=\"DDC\",IF(AND(J273>=4,N273=\"Y\",P273>120)=TRUE,1,0),0))))))","v":""},{"$f":"IF(OR($B$4=\"\",$B$5=\"\",$H$4=\"\",$H$6=\"\",$H$5=\"\",A273=\"\",F273=\"\",K273=\"\",O273=\"\",P273=\"\")=TRUE,\"\",IF(C273=\"OSW\",IF(K273>=2,1,0),IF(C273=\"OSR\",IF(AND(K273>=2,Q273>60)=TRUE,1,0),IF(C273=\"OSRH\",IF(AND(K273>=1,Q273>90)=TRUE,1,0),IF(C273=\"OHLC\",IF(AND(N273=\"Y\",Q273>60)=TRUE,1,0),IF(C273=\"DDC\",IF(AND(K273>=4,N273=\"Y\",Q273>120)=TRUE,1,0),0))))))","v":""}]
[null,null,"",null,null,null,null,null,null,null,null,null,null,null,null,0,0,0,0,"",0,0,0,0,0,{"$f":"IF($H$4=\"\",0,VLOOKUP($H$4,BuildingType_Lookup,3,FALSE))","v":0},{"$f":"IF($H$4=\"\",0,VLOOKUP($H$4,BuildingType_Lookup,2,FALSE))","v":0},{"$f":"IF(AND(OR(AN274=\"\",AN274=0)=TRUE,OR(AO274=\"\",AO274=0))=TRUE,0,IF(AO274=\"\",(IF(OR(C274=\"DDC\",C274=\"OHLC\")=TRUE,O274,P274)/1000)*Y274*Z274*(1+VLOOKUP($H$4,BuildingType_Lookup,4,FALSE)),IF(AO274=0,0,(IF(OR(C274=\"DDC\",C274=\"OHLC\")=TRUE,O274,Q274)/1000)*Y274*Z274*(1+VLOOKUP($H$4,BuildingType_Lookup,4,FALSE)))))","v":0},{"$f":"IF(AND(OR(AN274=\"\",AN274=0)=TRUE,OR(AO274=\"\",AO274=0))=TRUE,0,IF(AO274=\"\",(IF(OR(C274=\"DDC\",C274=\"OHLC\")=TRUE,O274,P274)/1000)*Y274*AA274*(1+VLOOKUP($H$4,BuildingType_Lookup,MATCH($H$5,HVAC,0)+4,FALSE)),IF(AO274=0,0,(IF(OR(C274=\"DDC\",C274=\"OHLC\")=TRUE,O274,Q274)/1000)*Y274*AA274*(1+VLOOKUP($H$4,BuildingType_Lookup,MATCH($H$5,HVAC,0)+4,FALSE)))))","v":0},0,0,0,0,0,0,{"$f":"W274/1000*Y274*AA274*IF(IFERROR(SEARCH(\"Gas\",$H$5),0)>0,VLOOKUP(\"Gas\",HVACg_Lookup,MATCH($H$6,BuildingSize,0)+1,FALSE),IF(IFERROR(SEARCH(\"Oil\",$H$5),0)>0,VLOOKUP(\"Oil\",HVACg_Lookup,MATCH($H$6,BuildingSize,0)+1,FALSE),IF(IFERROR(SEARCH(\"Propane\",$H$5),0)>0,VLOOKUP(\"Propane\",HVACg_Lookup,MATCH(Worksheet!$H$6,BuildingSize,0)+1,FALSE),0)))","v":0},{"$f":"X274/1000*Y274*AA274*IF(IFERROR(SEARCH(\"Gas\",$H$5),0)>0,VLOOKUP(\"Gas\",HVACg_Lookup,MATCH($H$6,BuildingSize,0)+1,FALSE),IF(IFERROR(SEARCH(\"Oil\",$H$5),0)>0,VLOOKUP(\"Oil\",HVACg_Lookup,MATCH($H$6,BuildingSize,0)+1,FALSE),IF(IFERROR(SEARCH(\"Propane\",$H$5),0)>0,VLOOKUP(\"Propane\",HVACg_Lookup,MATCH(Worksheet!$H$6,BuildingSize,0)+1,FALSE),0)))","v":0},0,0,{"$f":"IF(OR($B$4=\"\",$B$5=\"\",$H$4=\"\",$H$6=\"\",$H$5=\"\",A274=\"\",F274=\"\",J274=\"\",O274=\"\",P274=\"\")=TRUE,\"\",IF(C274=\"OSW\",IF(J274>=2,1,0),IF(C274=\"OSR\",IF(AND(J274>=2,P274>60)=TRUE,1,0),IF(C274=\"OSRH\",IF(AND(J274>=1,P274>90)=TRUE,1,0),IF(C274=\"OHLC\",IF(AND(N274=\"Y\",P274>60)=TRUE,1,0),IF(C274=\"DDC\",IF(AND(J274>=4,N274=\"Y\",P274>120)=TRUE,1,0),0))))))","v":""},{"$f":"IF(OR($B$4=\"\",$B$5=\"\",$H$4=\"\",$H$6=\"\",$H$5=\"\",A274=\"\",F274=\"\",K274=\"\",O274=\"\",P274=\"\")=TRUE,\"\",IF(C274=\"OSW\",IF(K274>=2,1,0),IF(C274=\"OSR\",IF(AND(K274>=2,Q274>60)=TRUE,1,0),IF(C274=\"OSRH\",IF(AND(K274>=1,Q274>90)=TRUE,1,0),IF(C274=\"OHLC\",IF(AND(N274=\"Y\",Q274>60)=TRUE,1,0),IF(C274=\"DDC\",IF(AND(K274>=4,N274=\"Y\",Q274>120)=TRUE,1,0),0))))))","v":""}]
[null,null,"",null,null,null,null,null,null,null,null,null,null,null,null,0,0,0,0,"",0,0,0,0,0,{"$f":"IF($H$4=\"\",0,VLOOKUP($H$4,BuildingType_Lookup,3,FALSE))","v":0},{"$f":"IF($H$4=\"\",0,VLOOKUP($H$4,BuildingType_Lookup,2,FALSE))","v":0},{"$f":"IF(AND(OR(AN275=\"\",AN275=0)=TRUE,OR(AO275=\"\",AO275=0))=TRUE,0,IF(AO275=\"\",(IF(OR(C275=\"DDC\",C275=\"OHLC\")=TRUE,O275,P275)/1000)*Y275*Z275*(1+VLOOKUP($H$4,BuildingType_Lookup,4,FALSE)),IF(AO275=0,0,(IF(OR(C275=\"DDC\",C275=\"OHLC\")=TRUE,O275,Q275)/1000)*Y275*Z275*(1+VLOOKUP($H$4,BuildingType_Lookup,4,FALSE)))))","v":0},{"$f":"IF(AND(OR(AN275=\"\",AN275=0)=TRUE,OR(AO275=\"\",AO275=0))=TRUE,0,IF(AO275=\"\",(IF(OR(C275=\"DDC\",C275=\"OHLC\")=TRUE,O275,P275)/1000)*Y275*AA275*(1+VLOOKUP($H$4,BuildingType_Lookup,MATCH($H$5,HVAC,0)+4,FALSE)),IF(AO275=0,0,(IF(OR(C275=\"DDC\",C275=\"OHLC\")=TRUE,O275,Q275)/1000)*Y275*AA275*(1+VLOOKUP($H$4,BuildingType_Lookup,MATCH($H$5,HVAC,0)+4,FALSE)))))","v":0},0,0,0,0,0,0,{"$f":"W275/1000*Y275*AA275*IF(IFERROR(SEARCH(\"Gas\",$H$5),0)>0,VLOOKUP(\"Gas\",HVACg_Lookup,MATCH($H$6,BuildingSize,0)+1,FALSE),IF(IFERROR(SEARCH(\"Oil\",$H$5),0)>0,VLOOKUP(\"Oil\",HVACg_Lookup,MATCH($H$6,BuildingSize,0)+1,FALSE),IF(IFERROR(SEARCH(\"Propane\",$H$5),0)>0,VLOOKUP(\"Propane\",HVACg_Lookup,MATCH(Worksheet!$H$6,BuildingSize,0)+1,FALSE),0)))","v":0},{"$f":"X275/1000*Y275*AA275*IF(IFERROR(SEARCH(\"Gas\",$H$5),0)>0,VLOOKUP(\"Gas\",HVACg_Lookup,MATCH($H$6,BuildingSize,0)+1,FALSE),IF(IFERROR(SEARCH(\"Oil\",$H$5),0)>0,VLOOKUP(\"Oil\",HVACg_Lookup,MATCH($H$6,BuildingSize,0)+1,FALSE),IF(IFERROR(SEARCH(\"Propane\",$H$5),0)>0,VLOOKUP(\"Propane\",HVACg_Lookup,MATCH(Worksheet!$H$6,BuildingSize,0)+1,FALSE),0)))","v":0},0,0,{"$f":"IF(OR($B$4=\"\",$B$5=\"\",$H$4=\"\",$H$6=\"\",$H$5=\"\",A275=\"\",F275=\"\",J275=\"\",O275=\"\",P275=\"\")=TRUE,\"\",IF(C275=\"OSW\",IF(J275>=2,1,0),IF(C275=\"OSR\",IF(AND(J275>=2,P275>60)=TRUE,1,0),IF(C275=\"OSRH\",IF(AND(J275>=1,P275>90)=TRUE,1,0),IF(C275=\"OHLC\",IF(AND(N275=\"Y\",P275>60)=TRUE,1,0),IF(C275=\"DDC\",IF(AND(J275>=4,N275=\"Y\",P275>120)=TRUE,1,0),0))))))","v":""},{"$f":"IF(OR($B$4=\"\",$B$5=\"\",$H$4=\"\",$H$6=\"\",$H$5=\"\",A275=\"\",F275=\"\",K275=\"\",O275=\"\",P275=\"\")=TRUE,\"\",IF(C275=\"OSW\",IF(K275>=2,1,0),IF(C275=\"OSR\",IF(AND(K275>=2,Q275>60)=TRUE,1,0),IF(C275=\"OSRH\",IF(AND(K275>=1,Q275>90)=TRUE,1,0),IF(C275=\"OHLC\",IF(AND(N275=\"Y\",Q275>60)=TRUE,1,0),IF(C275=\"DDC\",IF(AND(K275>=4,N275=\"Y\",Q275>120)=TRUE,1,0),0))))))","v":""}]
[null,null,"",null,null,null,null,null,null,null,null,null,null,null,null,0,0,0,0,"",0,0,0,0,0,{"$f":"IF($H$4=\"\",0,VLOOKUP($H$4,BuildingType_Lookup,3,FALSE))","v":0},{"$f":"IF($H$4=\"\",0,VLOOKUP($H$4,BuildingType_Lookup,2,FALSE))","v":0},{"$f":"IF(AND(OR(AN276=\"\",AN276=0)=TRUE,OR(AO276=\"\",AO276=0))=TRUE,0,IF(AO276=\"\",(IF(OR(C276=\"DDC\",C276=\"OHLC\")=TRUE,O276,P276)/1000)*Y276*Z276*(1+VLOOKUP($H$4,BuildingType_Lookup,4,FALSE)),IF(AO276=0,0,(IF(OR(C276=\"DDC\",C276=\"OHLC\")=TRUE,O276,Q276)/1000)*Y276*Z276*(1+VLOOKUP($H$4,BuildingType_Lookup,4,FALSE)))))","v":0},{"$f":"IF(AND(OR(AN276=\"\",AN276=0)=TRUE,OR(AO276=\"\",AO276=0))=TRUE,0,IF(AO276=\"\",(IF(OR(C276=\"DDC\",C276=\"OHLC\")=TRUE,O276,P276)/1000)*Y276*AA276*(1+VLOOKUP($H$4,BuildingType_Lookup,MATCH($H$5,HVAC,0)+4,FALSE)),IF(AO276=0,0,(IF(OR(C276=\"DDC\",C276=\"OHLC\")=TRUE,O276,Q276)/1000)*Y276*AA276*(1+VLOOKUP($H$4,BuildingType_Lookup,MATCH($H$5,HVAC,0)+4,FALSE)))))","v":0},0,0,0,0,0,0,{"$f":"W276/1000*Y276*AA276*IF(IFERROR(SEARCH(\"Gas\",$H$5),0)>0,VLOOKUP(\"Gas\",HVACg_Lookup,MATCH($H$6,BuildingSize,0)+1,FALSE),IF(IFERROR(SEARCH(\"Oil\",$H$5),0)>0,VLOOKUP(\"Oil\",HVACg_Lookup,MATCH($H$6,BuildingSize,0)+1,FALSE),IF(IFERROR(SEARCH(\"Propane\",$H$5),0)>0,VLOOKUP(\"Propane\",HVACg_Lookup,MATCH(Worksheet!$H$6,BuildingSize,0)+1,FALSE),0)))","v":0},{"$f":"X276/1000*Y276*AA276*IF(IFERROR(SEARCH(\"Gas\",$H$5),0)>0,VLOOKUP(\"Gas\",HVACg_Lookup,MATCH($H$6,BuildingSize,0)+1,FALSE),IF(IFERROR(SEARCH(\"Oil\",$H$5),0)>0,VLOOKUP(\"Oil\",HVACg_Lookup,MATCH($H$6,BuildingSize,0)+1,FALSE),IF(IFERROR(SEARCH(\"Propane\",$H$5),0)>0,VLOOKUP(\"Propane\",HVACg_Lookup,MATCH(Worksheet!$H$6,BuildingSize,0)+1,FALSE),0)))","v":0},0,0,{"$f":"IF(OR($B$4=\"\",$B$5=\"\",$H$4=\"\",$H$6=\"\",$H$5=\"\",A276=\"\",F276=\"\",J276=\"\",O276=\"\",P276=\"\")=TRUE,\"\",IF(C276=\"OSW\",IF(J276>=2,1,0),IF(C276=\"OSR\",IF(AND(J276>=2,P276>60)=TRUE,1,0),IF(C276=\"OSRH\",IF(AND(J276>=1,P276>90)=TRUE,1,0),IF(C276=\"OHLC\",IF(AND(N276=\"Y\",P276>60)=TRUE,1,0),IF(C276=\"DDC\",IF(AND(J276>=4,N276=\"Y\",P276>120)=TRUE,1,0),0))))))","v":""},{"$f":"IF(OR($B$4=\"\",$B$5=\"\",$H$4=\"\",$H$6=\"\",$H$5=\"\",A276=\"\",F276=\"\",K276=\"\",O276=\"\",P276=\"\")=TRUE,\"\",IF(C276=\"OSW\",IF(K276>=2,1,0),IF(C276=\"OSR\",IF(AND(K276>=2,Q276>60)=TRUE,1,0),IF(C276=\"OSRH\",IF(AND(K276>=1,Q276>90)=TRUE,1,0),IF(C276=\"OHLC\",IF(AND(N276=\"Y\",Q276>60)=TRUE,1,0),IF(C276=\"DDC\",IF(AND(K276>=4,N276=\"Y\",Q276>120)=TRUE,1,0),0))))))","v":""}]
[null,null,"",null,null,null,null,null,null,null,null,null,null,null,null,0,0,{"$f":"IF(AN277=\"\",0,IF(AN277=1,VLOOKUP(A277,MeasureCode_Lookup,3,FALSE),\"DNQ\"))","v":0},{"$f":"IF(AO277=\"\",0,IF(AO277=1,VLOOKUP(A277,MeasureCode_Lookup,3,FALSE),\"DNQ\"))","v":0},{"$f":"IF(A277=\"\",\"\",VLOOKUP(A277,MeasureCode_Lookup,4,FALSE))","v":""},0,0,{"$f":"IF(N(R277)=0,0,F277*P277)","v":0},{"$f":"IF(N(S277)=0,0,G277*Q277)","v":0},{"$f":"IF(A277=\"\",0,VLOOKUP(A277,MeasureCode_Lookup,5,FALSE))","v":0},{"$f":"IF($H$4=\"\",0,VLOOKUP($H$4,BuildingType_Lookup,3,FALSE))","v":0},{"$f":"IF($H$4=\"\",0,VLOOKUP($H$4,BuildingType_Lookup,2,FALSE))","v":0},{"$f":"IF(AND(OR(AN277=\"\",AN277=0)=TRUE,OR(AO277=\"\",AO277=0))=TRUE,0,IF(AO277=\"\",(IF(OR(C277=\"DDC\",C277=\"OHLC\")=TRUE,O277,P277)/1000)*Y277*Z277*(1+VLOOKUP($H$4,BuildingType_Lookup,4,FALSE)),IF(AO277=0,0,(IF(OR(C277=\"DDC\",C277=\"OHLC\")=TRUE,O277,Q277)/1000)*Y277*Z277*(1+VLOOKUP($H$4,BuildingType_Lookup,4,FALSE)))))","v":0},{"$f":"IF(AND(OR(AN277=\"\",AN277=0)=TRUE,OR(AO277=\"\",AO277=0))=TRUE,0,IF(AO277=\"\",(IF(OR(C277=\"DDC\",C277=\"OHLC\")=TRUE,O277,P277)/1000)*Y277*AA277*(1+VLOOKUP($H$4,BuildingType_Lookup,MATCH($H$5,HVAC,0)+4,FALSE)),IF(AO277=0,0,(IF(OR(C277=\"DDC\",C277=\"OHLC\")=TRUE,O277,Q277)/1000)*Y277*AA277*(1+VLOOKUP($H$4,BuildingType_Lookup,MATCH($H$5,HVAC,0)+4,FALSE)))))","v":0},{"$f":"IFERROR(IF(OR(C277=\"DDC\",C277=\"OHLC\")=TRUE,F277*J277*AB277,F277*AB277),0)","v":0},{"$f":"IFERROR(IF(OR(C277=\"DDC\",C277=\"OHLC\")=TRUE,G277*K277*AB277,G277*AB277),0)","v":0},{"$f":"IFERROR(IF(OR(C277=\"DDC\",C277=\"OHLC\")=TRUE,F277*J277*AC277,F277*AC277),0)","v":0},{"$f":"IFERROR(IF(OR(C277=\"DDC\",C277=\"OHLC\")=TRUE,G277*K277*AC277,G277*AC277),0)","v":0},0,0,{"$f":"W277/1000*Y277*AA277*IF(IFERROR(SEARCH(\"Gas\",$H$5),0)>0,VLOOKUP(\"Gas\",HVACg_Lookup,MATCH($H$6,BuildingSize,0)+1,FALSE),IF(IFERROR(SEARCH(\"Oil\",$H$5),0)>0,VLOOKUP(\"Oil\",HVACg_Lookup,MATCH($H$6,BuildingSize,0)+1,FALSE),IF(IFERROR(SEARCH(\"Propane\",$H$5),0)>0,VLOOKUP(\"Propane\",HVACg_Lookup,MATCH(Worksheet!$H$6,BuildingSize,0)+1,FALSE),0)))","v":0},{"$f":"X277/1000*Y277*AA277*IF(IFERROR(SEARCH(\"Gas\",$H$5),0)>0,VLOOKUP(\"Gas\",HVACg_Lookup,MATCH($H$6,BuildingSize,0)+1,FALSE),IF(IFERROR(SEARCH(\"Oil\",$H$5),0)>0,VLOOKUP(\"Oil\",HVACg_Lookup,MATCH($H$6,BuildingSize,0)+1,FALSE),IF(IFERROR(SEARCH(\"Propane\",$H$5),0)>0,VLOOKUP(\"Propane\",HVACg_Lookup,MATCH(Worksheet!$H$6,BuildingSize,0)+1,FALSE),0)))","v":0},0,0,{"$f":"IF(OR($B$4=\"\",$B$5=\"\",$H$4=\"\",$H$6=\"\",$H$5=\"\",A277=\"\",F277=\"\",J277=\"\",O277=\"\",P277=\"\")=TRUE,\"\",IF(C277=\"OSW\",IF(J277>=2,1,0),IF(C277=\"OSR\",IF(AND(J277>=2,P277>60)=TRUE,1,0),IF(C277=\"OSRH\",IF(AND(J277>=1,P277>90)=TRUE,1,0),IF(C277=\"OHLC\",IF(AND(N277=\"Y\",P277>60)=TRUE,1,0),IF(C277=\"DDC\",IF(AND(J277>=4,N277=\"Y\",P277>120)=TRUE,1,0),0))))))","v":""},{"$f":"IF(OR($B$4=\"\",$B$5=\"\",$H$4=\"\",$H$6=\"\",$H$5=\"\",A277=\"\",F277=\"\",K277=\"\",O277=\"\",P277=\"\")=TRUE,\"\",IF(C277=\"OSW\",IF(K277>=2,1,0),IF(C277=\"OSR\",IF(AND(K277>=2,Q277>60)=TRUE,1,0),IF(C277=\"OSRH\",IF(AND(K277>=1,Q277>90)=TRUE,1,0),IF(C277=\"OHLC\",IF(AND(N277=\"Y\",Q277>60)=TRUE,1,0),IF(C277=\"DDC\",IF(AND(K277>=4,N277=\"Y\",Q277>120)=TRUE,1,0),0))))))","v":""}]
[null,null,{"$f":"IF(A278=\"\",\"\",VLOOKUP(A278,MeasureCode_Lookup,2,FALSE))","v":""},null,null,null,null,null,null,null,null,null,null,null,null,{"$f":"IF(OR(A278=\"\",F278=\"\",J278=\"\",O278=\"\")=TRUE,0,J278*O278)","v":0},{"$f":"IF(OR(A278=\"\",G278=\"\",K278=\"\",O278=\"\")=TRUE,0,K278*O278)","v":0},0,0,"",{"$f":"IF(N(R278)=0,0,F278*R278*IF(T278=\"per Fixture Controlled\",J278,1))","v":0},{"$f":"IF(N(S278)=0,0,G278*S278*IF(T278=\"per Fixture Controlled\",K278,1))","v":0},0,0,0,{"$f":"IF($H$4=\"\",0,VLOOKUP($H$4,BuildingType_Lookup,3,FALSE))","v":0},{"$f":"IF($H$4=\"\",0,VLOOKUP($H$4,BuildingType_Lookup,2,FALSE))","v":0},{"$f":"IF(AND(OR(AN278=\"\",AN278=0)=TRUE,OR(AO278=\"\",AO278=0))=TRUE,0,IF(AO278=\"\",(IF(OR(C278=\"DDC\",C278=\"OHLC\")=TRUE,O278,P278)/1000)*Y278*Z278*(1+VLOOKUP($H$4,BuildingType_Lookup,4,FALSE)),IF(AO278=0,0,(IF(OR(C278=\"DDC\",C278=\"OHLC\")=TRUE,O278,Q278)/1000)*Y278*Z278*(1+VLOOKUP($H$4,BuildingType_Lookup,4,FALSE)))))","v":0},{"$f":"IF(AND(OR(AN278=\"\",AN278=0)=TRUE,OR(AO278=\"\",AO278=0))=TRUE,0,IF(AO278=\"\",(IF(OR(C278=\"DDC\",C278=\"OHLC\")=TRUE,O278,P278)/1000)*Y278*AA278*(1+VLOOKUP($H$4,BuildingType_Lookup,MATCH($H$5,HVAC,0)+4,FALSE)),IF(AO278=0,0,(IF(OR(C278=\"DDC\",C278=\"OHLC\")=TRUE,O278,Q278)/1000)*Y278*AA278*(1+VLOOKUP($H$4,BuildingType_Lookup,MATCH($H$5,HVAC,0)+4,FALSE)))))","v":0},0,0,0,0,{"$f":"AF278*8","v":0},{"$f":"AG278*8","v":0},{"$f":"W278/1000*Y278*AA278*IF(IFERROR(SEARCH(\"Gas\",$H$5),0)>0,VLOOKUP(\"Gas\",HVACg_Lookup,MATCH($H$6,BuildingSize,0)+1,FALSE),IF(IFERROR(SEARCH(\"Oil\",$H$5),0)>0,VLOOKUP(\"Oil\",HVACg_Lookup,MATCH($H$6,BuildingSize,0)+1,FALSE),IF(IFERROR(SEARCH(\"Propane\",$H$5),0)>0,VLOOKUP(\"Propane\",HVACg_Lookup,MATCH(Worksheet!$H$6,BuildingSize,0)+1,FALSE),0)))","v":0},{"$f":"X278/1000*Y278*AA278*IF(IFERROR(SEARCH(\"Gas\",$H$5),0)>0,VLOOKUP(\"Gas\",HVACg_Lookup,MATCH($H$6,BuildingSize,0)+1,FALSE),IF(IFERROR(SEARCH(\"Oil\",$H$5),0)>0,VLOOKUP(\"Oil\",HVACg_Lookup,MATCH($H$6,BuildingSize,0)+1,FALSE),IF(IFERROR(SEARCH(\"Propane\",$H$5),0)>0,VLOOKUP(\"Propane\",HVACg_Lookup,MATCH(Worksheet!$H$6,BuildingSize,0)+1,FALSE),0)))","v":0},{"$f":"AJ278*8","v":0},{"$f":"AK278*8","v":0},{"$f":"IF(OR($B$4=\"\",$B$5=\"\",$H$4=\"\",$H$6=\"\",$H$5=\"\",A278=\"\",F278=\"\",J278=\"\",O278=\"\",P278=\"\")=TRUE,\"\",IF(C278=\"OSW\",IF(J278>=2,1,0),IF(C278=\"OSR\",IF(AND(J278>=2,P278>60)=TRUE,1,0),IF(C278=\"OSRH\",IF(AND(J278>=1,P278>90)=TRUE,1,0),IF(C278=\"OHLC\",IF(AND(N278=\"Y\",P278>60)=TRUE,1,0),IF(C278=\"DDC\",IF(AND(J278>=4,N278=\"Y\",P278>120)=TRUE,1,0),0))))))","v":""},{"$f":"IF(OR($B$4=\"\",$B$5=\"\",$H$4=\"\",$H$6=\"\",$H$5=\"\",A278=\"\",F278=\"\",K278=\"\",O278=\"\",P278=\"\")=TRUE,\"\",IF(C278=\"OSW\",IF(K278>=2,1,0),IF(C278=\"OSR\",IF(AND(K278>=2,Q278>60)=TRUE,1,0),IF(C278=\"OSRH\",IF(AND(K278>=1,Q278>90)=TRUE,1,0),IF(C278=\"OHLC\",IF(AND(N278=\"Y\",Q278>60)=TRUE,1,0),IF(C278=\"DDC\",IF(AND(K278>=4,N278=\"Y\",Q278>120)=TRUE,1,0),0))))))","v":""}]
[null,null,"",null,null,null,null,null,null,null,null,null,null,null,null,0,0,0,0,"",0,0,0,0,0,{"$f":"IF($H$4=\"\",0,VLOOKUP($H$4,BuildingType_Lookup,3,FALSE))","v":0},{"$f":"IF($H$4=\"\",0,VLOOKUP($H$4,BuildingType_Lookup,2,FALSE))","v":0},{"$f":"IF(AND(OR(AN279=\"\",AN279=0)=TRUE,OR(AO279=\"\",AO279=0))=TRUE,0,IF(AO279=\"\",(IF(OR(C279=\"DDC\",C279=\"OHLC\")=TRUE,O279,P279)/1000)*Y279*Z279*(1+VLOOKUP($H$4,BuildingType_Lookup,4,FALSE)),IF(AO279=0,0,(IF(OR(C279=\"DDC\",C279=\"OHLC\")=TRUE,O279,Q279)/1000)*Y279*Z279*(1+VLOOKUP($H$4,BuildingType_Lookup,4,FALSE)))))","v":0},{"$f":"IF(AND(OR(AN279=\"\",AN279=0)=TRUE,OR(AO279=\"\",AO279=0))=TRUE,0,IF(AO279=\"\",(IF(OR(C279=\"DDC\",C279=\"OHLC\")=TRUE,O279,P279)/1000)*Y279*AA279*(1+VLOOKUP($H$4,BuildingType_Lookup,MATCH($H$5,HVAC,0)+4,FALSE)),IF(AO279=0,0,(IF(OR(C279=\"DDC\",C279=\"OHLC\")=TRUE,O279,Q279)/1000)*Y279*AA279*(1+VLOOKUP($H$4,BuildingType_Lookup,MATCH($H$5,HVAC,0)+4,FALSE)))))","v":0},0,0,0,0,0,0,{"$f":"W279/1000*Y279*AA279*IF(IFERROR(SEARCH(\"Gas\",$H$5),0)>0,VLOOKUP(\"Gas\",HVACg_Lookup,MATCH($H$6,BuildingSize,0)+1,FALSE),IF(IFERROR(SEARCH(\"Oil\",$H$5),0)>0,VLOOKUP(\"Oil\",HVACg_Lookup,MATCH($H$6,BuildingSize,0)+1,FALSE),IF(IFERROR(SEARCH(\"Propane\",$H$5),0)>0,VLOOKUP(\"Propane\",HVACg_Lookup,MATCH(Worksheet!$H$6,BuildingSize,0)+1,FALSE),0)))","v":0},{"$f":"X279/1000*Y279*AA279*IF(IFERROR(SEARCH(\"Gas\",$H$5),0)>0,VLOOKUP(\"Gas\",HVACg_Lookup,MATCH($H$6,BuildingSize,0)+1,FALSE),IF(IFERROR(SEARCH(\"Oil\",$H$5),0)>0,VLOOKUP(\"Oil\",HVACg_Lookup,MATCH($H$6,BuildingSize,0)+1,FALSE),IF(IFERROR(SEARCH(\"Propane\",$H$5),0)>0,VLOOKUP(\"Propane\",HVACg_Lookup,MATCH(Worksheet!$H$6,BuildingSize,0)+1,FALSE),0)))","v":0},0,0,{"$f":"IF(OR($B$4=\"\",$B$5=\"\",$H$4=\"\",$H$6=\"\",$H$5=\"\",A279=\"\",F279=\"\",J279=\"\",O279=\"\",P279=\"\")=TRUE,\"\",IF(C279=\"OSW\",IF(J279>=2,1,0),IF(C279=\"OSR\",IF(AND(J279>=2,P279>60)=TRUE,1,0),IF(C279=\"OSRH\",IF(AND(J279>=1,P279>90)=TRUE,1,0),IF(C279=\"OHLC\",IF(AND(N279=\"Y\",P279>60)=TRUE,1,0),IF(C279=\"DDC\",IF(AND(J279>=4,N279=\"Y\",P279>120)=TRUE,1,0),0))))))","v":""},{"$f":"IF(OR($B$4=\"\",$B$5=\"\",$H$4=\"\",$H$6=\"\",$H$5=\"\",A279=\"\",F279=\"\",K279=\"\",O279=\"\",P279=\"\")=TRUE,\"\",IF(C279=\"OSW\",IF(K279>=2,1,0),IF(C279=\"OSR\",IF(AND(K279>=2,Q279>60)=TRUE,1,0),IF(C279=\"OSRH\",IF(AND(K279>=1,Q279>90)=TRUE,1,0),IF(C279=\"OHLC\",IF(AND(N279=\"Y\",Q279>60)=TRUE,1,0),IF(C279=\"DDC\",IF(AND(K279>=4,N279=\"Y\",Q279>120)=TRUE,1,0),0))))))","v":""}]
[null,null,"",null,null,null,null,null,null,null,null,null,null,null,null,0,0,0,0,"",0,0,0,0,0,{"$f":"IF($H$4=\"\",0,VLOOKUP($H$4,BuildingType_Lookup,3,FALSE))","v":0},{"$f":"IF($H$4=\"\",0,VLOOKUP($H$4,BuildingType_Lookup,2,FALSE))","v":0},{"$f":"IF(AND(OR(AN280=\"\",AN280=0)=TRUE,OR(AO280=\"\",AO280=0))=TRUE,0,IF(AO280=\"\",(IF(OR(C280=\"DDC\",C280=\"OHLC\")=TRUE,O280,P280)/1000)*Y280*Z280*(1+VLOOKUP($H$4,BuildingType_Lookup,4,FALSE)),IF(AO280=0,0,(IF(OR(C280=\"DDC\",C280=\"OHLC\")=TRUE,O280,Q280)/1000)*Y280*Z280*(1+VLOOKUP($H$4,BuildingType_Lookup,4,FALSE)))))","v":0},{"$f":"IF(AND(OR(AN280=\"\",AN280=0)=TRUE,OR(AO280=\"\",AO280=0))=TRUE,0,IF(AO280=\"\",(IF(OR(C280=\"DDC\",C280=\"OHLC\")=TRUE,O280,P280)/1000)*Y280*AA280*(1+VLOOKUP($H$4,BuildingType_Lookup,MATCH($H$5,HVAC,0)+4,FALSE)),IF(AO280=0,0,(IF(OR(C280=\"DDC\",C280=\"OHLC\")=TRUE,O280,Q280)/1000)*Y280*AA280*(1+VLOOKUP($H$4,BuildingType_Lookup,MATCH($H$5,HVAC,0)+4,FALSE)))))","v":0},0,0,0,0,0,0,{"$f":"W280/1000*Y280*AA280*IF(IFERROR(SEARCH(\"Gas\",$H$5),0)>0,VLOOKUP(\"Gas\",HVACg_Lookup,MATCH($H$6,BuildingSize,0)+1,FALSE),IF(IFERROR(SEARCH(\"Oil\",$H$5),0)>0,VLOOKUP(\"Oil\",HVACg_Lookup,MATCH($H$6,BuildingSize,0)+1,FALSE),IF(IFERROR(SEARCH(\"Propane\",$H$5),0)>0,VLOOKUP(\"Propane\",HVACg_Lookup,MATCH(Worksheet!$H$6,BuildingSize,0)+1,FALSE),0)))","v":0},{"$f":"X280/1000*Y280*AA280*IF(IFERROR(SEARCH(\"Gas\",$H$5),0)>0,VLOOKUP(\"Gas\",HVACg_Lookup,MATCH($H$6,BuildingSize,0)+1,FALSE),IF(IFERROR(SEARCH(\"Oil\",$H$5),0)>0,VLOOKUP(\"Oil\",HVACg_Lookup,MATCH($H$6,BuildingSize,0)+1,FALSE),IF(IFERROR(SEARCH(\"Propane\",$H$5),0)>0,VLOOKUP(\"Propane\",HVACg_Lookup,MATCH(Worksheet!$H$6,BuildingSize,0)+1,FALSE),0)))","v":0},0,0,{"$f":"IF(OR($B$4=\"\",$B$5=\"\",$H$4=\"\",$H$6=\"\",$H$5=\"\",A280=\"\",F280=\"\",J280=\"\",O280=\"\",P280=\"\")=TRUE,\"\",IF(C280=\"OSW\",IF(J280>=2,1,0),IF(C280=\"OSR\",IF(AND(J280>=2,P280>60)=TRUE,1,0),IF(C280=\"OSRH\",IF(AND(J280>=1,P280>90)=TRUE,1,0),IF(C280=\"OHLC\",IF(AND(N280=\"Y\",P280>60)=TRUE,1,0),IF(C280=\"DDC\",IF(AND(J280>=4,N280=\"Y\",P280>120)=TRUE,1,0),0))))))","v":""},{"$f":"IF(OR($B$4=\"\",$B$5=\"\",$H$4=\"\",$H$6=\"\",$H$5=\"\",A280=\"\",F280=\"\",K280=\"\",O280=\"\",P280=\"\")=TRUE,\"\",IF(C280=\"OSW\",IF(K280>=2,1,0),IF(C280=\"OSR\",IF(AND(K280>=2,Q280>60)=TRUE,1,0),IF(C280=\"OSRH\",IF(AND(K280>=1,Q280>90)=TRUE,1,0),IF(C280=\"OHLC\",IF(AND(N280=\"Y\",Q280>60)=TRUE,1,0),IF(C280=\"DDC\",IF(AND(K280>=4,N280=\"Y\",Q280>120)=TRUE,1,0),0))))))","v":""}]
[null,null,"",null,null,null,null,null,null,null,null,null,null,null,null,0,0,0,0,"",0,0,0,0,0,{"$f":"IF($H$4=\"\",0,VLOOKUP($H$4,BuildingType_Lookup,3,FALSE))","v":0},{"$f":"IF($H$4=\"\",0,VLOOKUP($H$4,BuildingType_Lookup,2,FALSE))","v":0},{"$f":"IF(AND(OR(AN281=\"\",AN281=0)=TRUE,OR(AO281=\"\",AO281=0))=TRUE,0,IF(AO281=\"\",(IF(OR(C281=\"DDC\",C281=\"OHLC\")=TRUE,O281,P281)/1000)*Y281*Z281*(1+VLOOKUP($H$4,BuildingType_Lookup,4,FALSE)),IF(AO281=0,0,(IF(OR(C281=\"DDC\",C281=\"OHLC\")=TRUE,O281,Q281)/1000)*Y281*Z281*(1+VLOOKUP($H$4,BuildingType_Lookup,4,FALSE)))))","v":0},{"$f":"IF(AND(OR(AN281=\"\",AN281=0)=TRUE,OR(AO281=\"\",AO281=0))=TRUE,0,IF(AO281=\"\",(IF(OR(C281=\"DDC\",C281=\"OHLC\")=TRUE,O281,P281)/1000)*Y281*AA281*(1+VLOOKUP($H$4,BuildingType_Lookup,MATCH($H$5,HVAC,0)+4,FALSE)),IF(AO281=0,0,(IF(OR(C281=\"DDC\",C281=\"OHLC\")=TRUE,O281,Q281)/1000)*Y281*AA281*(1+VLOOKUP($H$4,BuildingType_Lookup,MATCH($H$5,HVAC,0)+4,FALSE)))))","v":0},0,0,0,0,0,0,{"$f":"W281/1000*Y281*AA281*IF(IFERROR(SEARCH(\"Gas\",$H$5),0)>0,VLOOKUP(\"Gas\",HVACg_Lookup,MATCH($H$6,BuildingSize,0)+1,FALSE),IF(IFERROR(SEARCH(\"Oil\",$H$5),0)>0,VLOOKUP(\"Oil\",HVACg_Lookup,MATCH($H$6,BuildingSize,0)+1,FALSE),IF(IFERROR(SEARCH(\"Propane\",$H$5),0)>0,VLOOKUP(\"Propane\",HVACg_Lookup,MATCH(Worksheet!$H$6,BuildingSize,0)+1,FALSE),0)))","v":0},{"$f":"X281/1000*Y281*AA281*IF(IFERROR(SEARCH(\"Gas\",$H$5),0)>0,VLOOKUP(\"Gas\",HVACg_Lookup,MATCH($H$6,BuildingSize,0)+1,FALSE),IF(IFERROR(SEARCH(\"Oil\",$H$5),0)>0,VLOOKUP(\"Oil\",HVACg_Lookup,MATCH($H$6,BuildingSize,0)+1,FALSE),IF(IFERROR(SEARCH(\"Propane\",$H$5),0)>0,VLOOKUP(\"Propane\",HVACg_Lookup,MATCH(Worksheet!$H$6,BuildingSize,0)+1,FALSE),0)))","v":0},0,0,{"$f":"IF(OR($B$4=\"\",$B$5=\"\",$H$4=\"\",$H$6=\"\",$H$5=\"\",A281=\"\",F281=\"\",J281=\"\",O281=\"\",P281=\"\")=TRUE,\"\",IF(C281=\"OSW\",IF(J281>=2,1,0),IF(C281=\"OSR\",IF(AND(J281>=2,P281>60)=TRUE,1,0),IF(C281=\"OSRH\",IF(AND(J281>=1,P281>90)=TRUE,1,0),IF(C281=\"OHLC\",IF(AND(N281=\"Y\",P281>60)=TRUE,1,0),IF(C281=\"DDC\",IF(AND(J281>=4,N281=\"Y\",P281>120)=TRUE,1,0),0))))))","v":""},{"$f":"IF(OR($B$4=\"\",$B$5=\"\",$H$4=\"\",$H$6=\"\",$H$5=\"\",A281=\"\",F281=\"\",K281=\"\",O281=\"\",P281=\"\")=TRUE,\"\",IF(C281=\"OSW\",IF(K281>=2,1,0),IF(C281=\"OSR\",IF(AND(K281>=2,Q281>60)=TRUE,1,0),IF(C281=\"OSRH\",IF(AND(K281>=1,Q281>90)=TRUE,1,0),IF(C281=\"OHLC\",IF(AND(N281=\"Y\",Q281>60)=TRUE,1,0),IF(C281=\"DDC\",IF(AND(K281>=4,N281=\"Y\",Q281>120)=TRUE,1,0),0))))))","v":""}]
[null,null,"",null,null,null,null,null,null,null,null,null,null,null,null,0,0,0,0,"",0,0,0,0,0,{"$f":"IF($H$4=\"\",0,VLOOKUP($H$4,BuildingType_Lookup,3,FALSE))","v":0},{"$f":"IF($H$4=\"\",0,VLOOKUP($H$4,BuildingType_Lookup,2,FALSE))","v":0},{"$f":"IF(AND(OR(AN282=\"\",AN282=0)=TRUE,OR(AO282=\"\",AO282=0))=TRUE,0,IF(AO282=\"\",(IF(OR(C282=\"DDC\",C282=\"OHLC\")=TRUE,O282,P282)/1000)*Y282*Z282*(1+VLOOKUP($H$4,BuildingType_Lookup,4,FALSE)),IF(AO282=0,0,(IF(OR(C282=\"DDC\",C282=\"OHLC\")=TRUE,O282,Q282)/1000)*Y282*Z282*(1+VLOOKUP($H$4,BuildingType_Lookup,4,FALSE)))))","v":0},{"$f":"IF(AND(OR(AN282=\"\",AN282=0)=TRUE,OR(AO282=\"\",AO282=0))=TRUE,0,IF(AO282=\"\",(IF(OR(C282=\"DDC\",C282=\"OHLC\")=TRUE,O282,P282)/1000)*Y282*AA282*(1+VLOOKUP($H$4,BuildingType_Lookup,MATCH($H$5,HVAC,0)+4,FALSE)),IF(AO282=0,0,(IF(OR(C282=\"DDC\",C282=\"OHLC\")=TRUE,O282,Q282)/1000)*Y282*AA282*(1+VLOOKUP($H$4,BuildingType_Lookup,MATCH($H$5,HVAC,0)+4,FALSE)))))","v":0},0,0,0,0,0,0,{"$f":"W282/1000*Y282*AA282*IF(IFERROR(SEARCH(\"Gas\",$H$5),0)>0,VLOOKUP(\"Gas\",HVACg_Lookup,MATCH($H$6,BuildingSize,0)+1,FALSE),IF(IFERROR(SEARCH(\"Oil\",$H$5),0)>0,VLOOKUP(\"Oil\",HVACg_Lookup,MATCH($H$6,BuildingSize,0)+1,FALSE),IF(IFERROR(SEARCH(\"Propane\",$H$5),0)>0,VLOOKUP(\"Propane\",HVACg_Lookup,MATCH(Worksheet!$H$6,BuildingSize,0)+1,FALSE),0)))","v":0},{"$f":"X282/1000*Y282*AA282*IF(IFERROR(SEARCH(\"Gas\",$H$5),0)>0,VLOOKUP(\"Gas\",HVACg_Lookup,MATCH($H$6,BuildingSize,0)+1,FALSE),IF(IFERROR(SEARCH(\"Oil\",$H$5),0)>0,VLOOKUP(\"Oil\",HVACg_Lookup,MATCH($H$6,BuildingSize,0)+1,FALSE),IF(IFERROR(SEARCH(\"Propane\",$H$5),0)>0,VLOOKUP(\"Propane\",HVACg_Lookup,MATCH(Worksheet!$H$6,BuildingSize,0)+1,FALSE),0)))","v":0},0,0,{"$f":"IF(OR($B$4=\"\",$B$5=\"\",$H$4=\"\",$H$6=\"\",$H$5=\"\",A282=\"\",F282=\"\",J282=\"\",O282=\"\",P282=\"\")=TRUE,\"\",IF(C282=\"OSW\",IF(J282>=2,1,0),IF(C282=\"OSR\",IF(AND(J282>=2,P282>60)=TRUE,1,0),IF(C282=\"OSRH\",IF(AND(J282>=1,P282>90)=TRUE,1,0),IF(C282=\"OHLC\",IF(AND(N282=\"Y\",P282>60)=TRUE,1,0),IF(C282=\"DDC\",IF(AND(J282>=4,N282=\"Y\",P282>120)=TRUE,1,0),0))))))","v":""},{"$f":"IF(OR($B$4=\"\",$B$5=\"\",$H$4=\"\",$H$6=\"\",$H$5=\"\",A282=\"\",F282=\"\",K282=\"\",O282=\"\",P282=\"\")=TRUE,\"\",IF(C282=\"OSW\",IF(K282>=2,1,0),IF(C282=\"OSR\",IF(AND(K282>=2,Q282>60)=TRUE,1,0),IF(C282=\"OSRH\",IF(AND(K282>=1,Q282>90)=TRUE,1,0),IF(C282=\"OHLC\",IF(AND(N282=\"Y\",Q282>60)=TRUE,1,0),IF(C282=\"DDC\",IF(AND(K282>=4,N282=\"Y\",Q282>120)=TRUE,1,0),0))))))","v":""}]
[null,null,"",null,null,null,null,null,null,null,null,null,null,null,null,0,0,0,0,"",0,0,0,0,0,{"$f":"IF($H$4=\"\",0,VLOOKUP($H$4,BuildingType_Lookup,3,FALSE))","v":0},{"$f":"IF($H$4=\"\",0,VLOOKUP($H$4,BuildingType_Lookup,2,FALSE))","v":0},{"$f":"IF(AND(OR(AN283=\"\",AN283=0)=TRUE,OR(AO283=\"\",AO283=0))=TRUE,0,IF(AO283=\"\",(IF(OR(C283=\"DDC\",C283=\"OHLC\")=TRUE,O283,P283)/1000)*Y283*Z283*(1+VLOOKUP($H$4,BuildingType_Lookup,4,FALSE)),IF(AO283=0,0,(IF(OR(C283=\"DDC\",C283=\"OHLC\")=TRUE,O283,Q283)/1000)*Y283*Z283*(1+VLOOKUP($H$4,BuildingType_Lookup,4,FALSE)))))","v":0},{"$f":"IF(AND(OR(AN283=\"\",AN283=0)=TRUE,OR(AO283=\"\",AO283=0))=TRUE,0,IF(AO283=\"\",(IF(OR(C283=\"DDC\",C283=\"OHLC\")=TRUE,O283,P283)/1000)*Y283*AA283*(1+VLOOKUP($H$4,BuildingType_Lookup,MATCH($H$5,HVAC,0)+4,FALSE)),IF(AO283=0,0,(IF(OR(C283=\"DDC\",C283=\"OHLC\")=TRUE,O283,Q283)/1000)*Y283*AA283*(1+VLOOKUP($H$4,BuildingType_Lookup,MATCH($H$5,HVAC,0)+4,FALSE)))))","v":0},0,0,0,0,0,0,{"$f":"W283/1000*Y283*AA283*IF(IFERROR(SEARCH(\"Gas\",$H$5),0)>0,VLOOKUP(\"Gas\",HVACg_Lookup,MATCH($H$6,BuildingSize,0)+1,FALSE),IF(IFERROR(SEARCH(\"Oil\",$H$5),0)>0,VLOOKUP(\"Oil\",HVACg_Lookup,MATCH($H$6,BuildingSize,0)+1,FALSE),IF(IFERROR(SEARCH(\"Propane\",$H$5),0)>0,VLOOKUP(\"Propane\",HVACg_Lookup,MATCH(Worksheet!$H$6,BuildingSize,0)+1,FALSE),0)))","v":0},{"$f":"X283/1000*Y283*AA283*IF(IFERROR(SEARCH(\"Gas\",$H$5),0)>0,VLOOKUP(\"Gas\",HVACg_Lookup,MATCH($H$6,BuildingSize,0)+1,FALSE),IF(IFERROR(SEARCH(\"Oil\",$H$5),0)>0,VLOOKUP(\"Oil\",HVACg_Lookup,MATCH($H$6,BuildingSize,0)+1,FALSE),IF(IFERROR(SEARCH(\"Propane\",$H$5),0)>0,VLOOKUP(\"Propane\",HVACg_Lookup,MATCH(Worksheet!$H$6,BuildingSize,0)+1,FALSE),0)))","v":0},0,0,{"$f":"IF(OR($B$4=\"\",$B$5=\"\",$H$4=\"\",$H$6=\"\",$H$5=\"\",A283=\"\",F283=\"\",J283=\"\",O283=\"\",P283=\"\")=TRUE,\"\",IF(C283=\"OSW\",IF(J283>=2,1,0),IF(C283=\"OSR\",IF(AND(J283>=2,P283>60)=TRUE,1,0),IF(C283=\"OSRH\",IF(AND(J283>=1,P283>90)=TRUE,1,0),IF(C283=\"OHLC\",IF(AND(N283=\"Y\",P283>60)=TRUE,1,0),IF(C283=\"DDC\",IF(AND(J283>=4,N283=\"Y\",P283>120)=TRUE,1,0),0))))))","v":""},{"$f":"IF(OR($B$4=\"\",$B$5=\"\",$H$4=\"\",$H$6=\"\",$H$5=\"\",A283=\"\",F283=\"\",K283=\"\",O283=\"\",P283=\"\")=TRUE,\"\",IF(C283=\"OSW\",IF(K283>=2,1,0),IF(C283=\"OSR\",IF(AND(K283>=2,Q283>60)=TRUE,1,0),IF(C283=\"OSRH\",IF(AND(K283>=1,Q283>90)=TRUE,1,0),IF(C283=\"OHLC\",IF(AND(N283=\"Y\",Q283>60)=TRUE,1,0),IF(C283=\"DDC\",IF(AND(K283>=4,N283=\"Y\",Q283>120)=TRUE,1,0),0))))))","v":""}]
[null,null,"",null,null,null,null,null,null,null,null,null,null,null,null,0,0,0,0,"",0,0,0,0,0,{"$f":"IF($H$4=\"\",0,VLOOKUP($H$4,BuildingType_Lookup,3,FALSE))","v":0},{"$f":"IF($H$4=\"\",0,VLOOKUP($H$4,BuildingType_Lookup,2,FALSE))","v":0},{"$f":"IF(AND(OR(AN284=\"\",AN284=0)=TRUE,OR(AO284=\"\",AO284=0))=TRUE,0,IF(AO284=\"\",(IF(OR(C284=\"DDC\",C284=\"OHLC\")=TRUE,O284,P284)/1000)*Y284*Z284*(1+VLOOKUP($H$4,BuildingType_Lookup,4,FALSE)),IF(AO284=0,0,(IF(OR(C284=\"DDC\",C284=\"OHLC\")=TRUE,O284,Q284)/1000)*Y284*Z284*(1+VLOOKUP($H$4,BuildingType_Lookup,4,FALSE)))))","v":0},{"$f":"IF(AND(OR(AN284=\"\",AN284=0)=TRUE,OR(AO284=\"\",AO284=0))=TRUE,0,IF(AO284=\"\",(IF(OR(C284=\"DDC\",C284=\"OHLC\")=TRUE,O284,P284)/1000)*Y284*AA284*(1+VLOOKUP($H$4,BuildingType_Lookup,MATCH($H$5,HVAC,0)+4,FALSE)),IF(AO284=0,0,(IF(OR(C284=\"DDC\",C284=\"OHLC\")=TRUE,O284,Q284)/1000)*Y284*AA284*(1+VLOOKUP($H$4,BuildingType_Lookup,MATCH($H$5,HVAC,0)+4,FALSE)))))","v":0},0,0,0,0,0,0,{"$f":"W284/1000*Y284*AA284*IF(IFERROR(SEARCH(\"Gas\",$H$5),0)>0,VLOOKUP(\"Gas\",HVACg_Lookup,MATCH($H$6,BuildingSize,0)+1,FALSE),IF(IFERROR(SEARCH(\"Oil\",$H$5),0)>0,VLOOKUP(\"Oil\",HVACg_Lookup,MATCH($H$6,BuildingSize,0)+1,FALSE),IF(IFERROR(SEARCH(\"Propane\",$H$5),0)>0,VLOOKUP(\"Propane\",HVACg_Lookup,MATCH(Worksheet!$H$6,BuildingSize,0)+1,FALSE),0)))","v":0},{"$f":"X284/1000*Y284*AA284*IF(IFERROR(SEARCH(\"Gas\",$H$5),0)>0,VLOOKUP(\"Gas\",HVACg_Lookup,MATCH($H$6,BuildingSize,0)+1,FALSE),IF(IFERROR(SEARCH(\"Oil\",$H$5),0)>0,VLOOKUP(\"Oil\",HVACg_Lookup,MATCH($H$6,BuildingSize,0)+1,FALSE),IF(IFERROR(SEARCH(\"Propane\",$H$5),0)>0,VLOOKUP(\"Propane\",HVACg_Lookup,MATCH(Worksheet!$H$6,BuildingSize,0)+1,FALSE),0)))","v":0},0,0,{"$f":"IF(OR($B$4=\"\",$B$5=\"\",$H$4=\"\",$H$6=\"\",$H$5=\"\",A284=\"\",F284=\"\",J284=\"\",O284=\"\",P284=\"\")=TRUE,\"\",IF(C284=\"OSW\",IF(J284>=2,1,0),IF(C284=\"OSR\",IF(AND(J284>=2,P284>60)=TRUE,1,0),IF(C284=\"OSRH\",IF(AND(J284>=1,P284>90)=TRUE,1,0),IF(C284=\"OHLC\",IF(AND(N284=\"Y\",P284>60)=TRUE,1,0),IF(C284=\"DDC\",IF(AND(J284>=4,N284=\"Y\",P284>120)=TRUE,1,0),0))))))","v":""},{"$f":"IF(OR($B$4=\"\",$B$5=\"\",$H$4=\"\",$H$6=\"\",$H$5=\"\",A284=\"\",F284=\"\",K284=\"\",O284=\"\",P284=\"\")=TRUE,\"\",IF(C284=\"OSW\",IF(K284>=2,1,0),IF(C284=\"OSR\",IF(AND(K284>=2,Q284>60)=TRUE,1,0),IF(C284=\"OSRH\",IF(AND(K284>=1,Q284>90)=TRUE,1,0),IF(C284=\"OHLC\",IF(AND(N284=\"Y\",Q284>60)=TRUE,1,0),IF(C284=\"DDC\",IF(AND(K284>=4,N284=\"Y\",Q284>120)=TRUE,1,0),0))))))","v":""}]
[null,null,"",null,null,null,null,null,null,null,null,null,null,null,null,0,0,0,0,"",0,0,0,0,0,{"$f":"IF($H$4=\"\",0,VLOOKUP($H$4,BuildingType_Lookup,3,FALSE))","v":0},{"$f":"IF($H$4=\"\",0,VLOOKUP($H$4,BuildingType_Lookup,2,FALSE))","v":0},{"$f":"IF(AND(OR(AN285=\"\",AN285=0)=TRUE,OR(AO285=\"\",AO285=0))=TRUE,0,IF(AO285=\"\",(IF(OR(C285=\"DDC\",C285=\"OHLC\")=TRUE,O285,P285)/1000)*Y285*Z285*(1+VLOOKUP($H$4,BuildingType_Lookup,4,FALSE)),IF(AO285=0,0,(IF(OR(C285=\"DDC\",C285=\"OHLC\")=TRUE,O285,Q285)/1000)*Y285*Z285*(1+VLOOKUP($H$4,BuildingType_Lookup,4,FALSE)))))","v":0},{"$f":"IF(AND(OR(AN285=\"\",AN285=0)=TRUE,OR(AO285=\"\",AO285=0))=TRUE,0,IF(AO285=\"\",(IF(OR(C285=\"DDC\",C285=\"OHLC\")=TRUE,O285,P285)/1000)*Y285*AA285*(1+VLOOKUP($H$4,BuildingType_Lookup,MATCH($H$5,HVAC,0)+4,FALSE)),IF(AO285=0,0,(IF(OR(C285=\"DDC\",C285=\"OHLC\")=TRUE,O285,Q285)/1000)*Y285*AA285*(1+VLOOKUP($H$4,BuildingType_Lookup,MATCH($H$5,HVAC,0)+4,FALSE)))))","v":0},0,0,0,0,0,0,{"$f":"W285/1000*Y285*AA285*IF(IFERROR(SEARCH(\"Gas\",$H$5),0)>0,VLOOKUP(\"Gas\",HVACg_Lookup,MATCH($H$6,BuildingSize,0)+1,FALSE),IF(IFERROR(SEARCH(\"Oil\",$H$5),0)>0,VLOOKUP(\"Oil\",HVACg_Lookup,MATCH($H$6,BuildingSize,0)+1,FALSE),IF(IFERROR(SEARCH(\"Propane\",$H$5),0)>0,VLOOKUP(\"Propane\",HVACg_Lookup,MATCH(Worksheet!$H$6,BuildingSize,0)+1,FALSE),0)))","v":0},{"$f":"X285/1000*Y285*AA285*IF(IFERROR(SEARCH(\"Gas\",$H$5),0)>0,VLOOKUP(\"Gas\",HVACg_Lookup,MATCH($H$6,BuildingSize,0)+1,FALSE),IF(IFERROR(SEARCH(\"Oil\",$H$5),0)>0,VLOOKUP(\"Oil\",HVACg_Lookup,MATCH($H$6,BuildingSize,0)+1,FALSE),IF(IFERROR(SEARCH(\"Propane\",$H$5),0)>0,VLOOKUP(\"Propane\",HVACg_Lookup,MATCH(Worksheet!$H$6,BuildingSize,0)+1,FALSE),0)))","v":0},0,0,{"$f":"IF(OR($B$4=\"\",$B$5=\"\",$H$4=\"\",$H$6=\"\",$H$5=\"\",A285=\"\",F285=\"\",J285=\"\",O285=\"\",P285=\"\")=TRUE,\"\",IF(C285=\"OSW\",IF(J285>=2,1,0),IF(C285=\"OSR\",IF(AND(J285>=2,P285>60)=TRUE,1,0),IF(C285=\"OSRH\",IF(AND(J285>=1,P285>90)=TRUE,1,0),IF(C285=\"OHLC\",IF(AND(N285=\"Y\",P285>60)=TRUE,1,0),IF(C285=\"DDC\",IF(AND(J285>=4,N285=\"Y\",P285>120)=TRUE,1,0),0))))))","v":""},{"$f":"IF(OR($B$4=\"\",$B$5=\"\",$H$4=\"\",$H$6=\"\",$H$5=\"\",A285=\"\",F285=\"\",K285=\"\",O285=\"\",P285=\"\")=TRUE,\"\",IF(C285=\"OSW\",IF(K285>=2,1,0),IF(C285=\"OSR\",IF(AND(K285>=2,Q285>60)=TRUE,1,0),IF(C285=\"OSRH\",IF(AND(K285>=1,Q285>90)=TRUE,1,0),IF(C285=\"OHLC\",IF(AND(N285=\"Y\",Q285>60)=TRUE,1,0),IF(C285=\"DDC\",IF(AND(K285>=4,N285=\"Y\",Q285>120)=TRUE,1,0),0))))))","v":""}]
[null,null,"",null,null,null,null,null,null,null,null,null,null,null,null,0,0,0,0,"",0,0,0,0,0,{"$f":"IF($H$4=\"\",0,VLOOKUP($H$4,BuildingType_Lookup,3,FALSE))","v":0},{"$f":"IF($H$4=\"\",0,VLOOKUP($H$4,BuildingType_Lookup,2,FALSE))","v":0},{"$f":"IF(AND(OR(AN286=\"\",AN286=0)=TRUE,OR(AO286=\"\",AO286=0))=TRUE,0,IF(AO286=\"\",(IF(OR(C286=\"DDC\",C286=\"OHLC\")=TRUE,O286,P286)/1000)*Y286*Z286*(1+VLOOKUP($H$4,BuildingType_Lookup,4,FALSE)),IF(AO286=0,0,(IF(OR(C286=\"DDC\",C286=\"OHLC\")=TRUE,O286,Q286)/1000)*Y286*Z286*(1+VLOOKUP($H$4,BuildingType_Lookup,4,FALSE)))))","v":0},{"$f":"IF(AND(OR(AN286=\"\",AN286=0)=TRUE,OR(AO286=\"\",AO286=0))=TRUE,0,IF(AO286=\"\",(IF(OR(C286=\"DDC\",C286=\"OHLC\")=TRUE,O286,P286)/1000)*Y286*AA286*(1+VLOOKUP($H$4,BuildingType_Lookup,MATCH($H$5,HVAC,0)+4,FALSE)),IF(AO286=0,0,(IF(OR(C286=\"DDC\",C286=\"OHLC\")=TRUE,O286,Q286)/1000)*Y286*AA286*(1+VLOOKUP($H$4,BuildingType_Lookup,MATCH($H$5,HVAC,0)+4,FALSE)))))","v":0},0,0,0,0,0,0,{"$f":"W286/1000*Y286*AA286*IF(IFERROR(SEARCH(\"Gas\",$H$5),0)>0,VLOOKUP(\"Gas\",HVACg_Lookup,MATCH($H$6,BuildingSize,0)+1,FALSE),IF(IFERROR(SEARCH(\"Oil\",$H$5),0)>0,VLOOKUP(\"Oil\",HVACg_Lookup,MATCH($H$6,BuildingSize,0)+1,FALSE),IF(IFERROR(SEARCH(\"Propane\",$H$5),0)>0,VLOOKUP(\"Propane\",HVACg_Lookup,MATCH(Worksheet!$H$6,BuildingSize,0)+1,FALSE),0)))","v":0},{"$f":"X286/1000*Y286*AA286*IF(IFERROR(SEARCH(\"Gas\",$H$5),0)>0,VLOOKUP(\"Gas\",HVACg_Lookup,MATCH($H$6,BuildingSize,0)+1,FALSE),IF(IFERROR(SEARCH(\"Oil\",$H$5),0)>0,VLOOKUP(\"Oil\",HVACg_Lookup,MATCH($H$6,BuildingSize,0)+1,FALSE),IF(IFERROR(SEARCH(\"Propane\",$H$5),0)>0,VLOOKUP(\"Propane\",HVACg_Lookup,MATCH(Worksheet!$H$6,BuildingSize,0)+1,FALSE),0)))","v":0},0,0,{"$f":"IF(OR($B$4=\"\",$B$5=\"\",$H$4=\"\",$H$6=\"\",$H$5=\"\",A286=\"\",F286=\"\",J286=\"\",O286=\"\",P286=\"\")=TRUE,\"\",IF(C286=\"OSW\",IF(J286>=2,1,0),IF(C286=\"OSR\",IF(AND(J286>=2,P286>60)=TRUE,1,0),IF(C286=\"OSRH\",IF(AND(J286>=1,P286>90)=TRUE,1,0),IF(C286=\"OHLC\",IF(AND(N286=\"Y\",P286>60)=TRUE,1,0),IF(C286=\"DDC\",IF(AND(J286>=4,N286=\"Y\",P286>120)=TRUE,1,0),0))))))","v":""},{"$f":"IF(OR($B$4=\"\",$B$5=\"\",$H$4=\"\",$H$6=\"\",$H$5=\"\",A286=\"\",F286=\"\",K286=\"\",O286=\"\",P286=\"\")=TRUE,\"\",IF(C286=\"OSW\",IF(K286>=2,1,0),IF(C286=\"OSR\",IF(AND(K286>=2,Q286>60)=TRUE,1,0),IF(C286=\"OSRH\",IF(AND(K286>=1,Q286>90)=TRUE,1,0),IF(C286=\"OHLC\",IF(AND(N286=\"Y\",Q286>60)=TRUE,1,0),IF(C286=\"DDC\",IF(AND(K286>=4,N286=\"Y\",Q286>120)=TRUE,1,0),0))))))","v":""}]
[null,null,"",null,null,null,null,null,null,null,null,null,null,null,null,0,0,0,0,"",0,0,0,0,0,{"$f":"IF($H$4=\"\",0,VLOOKUP($H$4,BuildingType_Lookup,3,FALSE))","v":0},{"$f":"IF($H$4=\"\",0,VLOOKUP($H$4,BuildingType_Lookup,2,FALSE))","v":0},{"$f":"IF(AND(OR(AN287=\"\",AN287=0)=TRUE,OR(AO287=\"\",AO287=0))=TRUE,0,IF(AO287=\"\",(IF(OR(C287=\"DDC\",C287=\"OHLC\")=TRUE,O287,P287)/1000)*Y287*Z287*(1+VLOOKUP($H$4,BuildingType_Lookup,4,FALSE)),IF(AO287=0,0,(IF(OR(C287=\"DDC\",C287=\"OHLC\")=TRUE,O287,Q287)/1000)*Y287*Z287*(1+VLOOKUP($H$4,BuildingType_Lookup,4,FALSE)))))","v":0},{"$f":"IF(AND(OR(AN287=\"\",AN287=0)=TRUE,OR(AO287=\"\",AO287=0))=TRUE,0,IF(AO287=\"\",(IF(OR(C287=\"DDC\",C287=\"OHLC\")=TRUE,O287,P287)/1000)*Y287*AA287*(1+VLOOKUP($H$4,BuildingType_Lookup,MATCH($H$5,HVAC,0)+4,FALSE)),IF(AO287=0,0,(IF(OR(C287=\"DDC\",C287=\"OHLC\")=TRUE,O287,Q287)/1000)*Y287*AA287*(1+VLOOKUP($H$4,BuildingType_Lookup,MATCH($H$5,HVAC,0)+4,FALSE)))))","v":0},0,0,0,0,0,0,{"$f":"W287/1000*Y287*AA287*IF(IFERROR(SEARCH(\"Gas\",$H$5),0)>0,VLOOKUP(\"Gas\",HVACg_Lookup,MATCH($H$6,BuildingSize,0)+1,FALSE),IF(IFERROR(SEARCH(\"Oil\",$H$5),0)>0,VLOOKUP(\"Oil\",HVACg_Lookup,MATCH($H$6,BuildingSize,0)+1,FALSE),IF(IFERROR(SEARCH(\"Propane\",$H$5),0)>0,VLOOKUP(\"Propane\",HVACg_Lookup,MATCH(Worksheet!$H$6,BuildingSize,0)+1,FALSE),0)))","v":0},{"$f":"X287/1000*Y287*AA287*IF(IFERROR(SEARCH(\"Gas\",$H$5),0)>0,VLOOKUP(\"Gas\",HVACg_Lookup,MATCH($H$6,BuildingSize,0)+1,FALSE),IF(IFERROR(SEARCH(\"Oil\",$H$5),0)>0,VLOOKUP(\"Oil\",HVACg_Lookup,MATCH($H$6,BuildingSize,0)+1,FALSE),IF(IFERROR(SEARCH(\"Propane\",$H$5),0)>0,VLOOKUP(\"Propane\",HVACg_Lookup,MATCH(Worksheet!$H$6,BuildingSize,0)+1,FALSE),0)))","v":0},0,0,{"$f":"IF(OR($B$4=\"\",$B$5=\"\",$H$4=\"\",$H$6=\"\",$H$5=\"\",A287=\"\",F287=\"\",J287=\"\",O287=\"\",P287=\"\")=TRUE,\"\",IF(C287=\"OSW\",IF(J287>=2,1,0),IF(C287=\"OSR\",IF(AND(J287>=2,P287>60)=TRUE,1,0),IF(C287=\"OSRH\",IF(AND(J287>=1,P287>90)=TRUE,1,0),IF(C287=\"OHLC\",IF(AND(N287=\"Y\",P287>60)=TRUE,1,0),IF(C287=\"DDC\",IF(AND(J287>=4,N287=\"Y\",P287>120)=TRUE,1,0),0))))))","v":""},{"$f":"IF(OR($B$4=\"\",$B$5=\"\",$H$4=\"\",$H$6=\"\",$H$5=\"\",A287=\"\",F287=\"\",K287=\"\",O287=\"\",P287=\"\")=TRUE,\"\",IF(C287=\"OSW\",IF(K287>=2,1,0),IF(C287=\"OSR\",IF(AND(K287>=2,Q287>60)=TRUE,1,0),IF(C287=\"OSRH\",IF(AND(K287>=1,Q287>90)=TRUE,1,0),IF(C287=\"OHLC\",IF(AND(N287=\"Y\",Q287>60)=TRUE,1,0),IF(C287=\"DDC\",IF(AND(K287>=4,N287=\"Y\",Q287>120)=TRUE,1,0),0))))))","v":""}]
[null,null,"",null,null,null,null,null,null,null,null,null,null,null,null,0,0,0,0,"",0,0,0,0,0,{"$f":"IF($H$4=\"\",0,VLOOKUP($H$4,BuildingType_Lookup,3,FALSE))","v":0},{"$f":"IF($H$4=\"\",0,VLOOKUP($H$4,BuildingType_Lookup,2,FALSE))","v":0},{"$f":"IF(AND(OR(AN288=\"\",AN288=0)=TRUE,OR(AO288=\"\",AO288=0))=TRUE,0,IF(AO288=\"\",(IF(OR(C288=\"DDC\",C288=\"OHLC\")=TRUE,O288,P288)/1000)*Y288*Z288*(1+VLOOKUP($H$4,BuildingType_Lookup,4,FALSE)),IF(AO288=0,0,(IF(OR(C288=\"DDC\",C288=\"OHLC\")=TRUE,O288,Q288)/1000)*Y288*Z288*(1+VLOOKUP($H$4,BuildingType_Lookup,4,FALSE)))))","v":0},{"$f":"IF(AND(OR(AN288=\"\",AN288=0)=TRUE,OR(AO288=\"\",AO288=0))=TRUE,0,IF(AO288=\"\",(IF(OR(C288=\"DDC\",C288=\"OHLC\")=TRUE,O288,P288)/1000)*Y288*AA288*(1+VLOOKUP($H$4,BuildingType_Lookup,MATCH($H$5,HVAC,0)+4,FALSE)),IF(AO288=0,0,(IF(OR(C288=\"DDC\",C288=\"OHLC\")=TRUE,O288,Q288)/1000)*Y288*AA288*(1+VLOOKUP($H$4,BuildingType_Lookup,MATCH($H$5,HVAC,0)+4,FALSE)))))","v":0},0,0,0,0,0,0,{"$f":"W288/1000*Y288*AA288*IF(IFERROR(SEARCH(\"Gas\",$H$5),0)>0,VLOOKUP(\"Gas\",HVACg_Lookup,MATCH($H$6,BuildingSize,0)+1,FALSE),IF(IFERROR(SEARCH(\"Oil\",$H$5),0)>0,VLOOKUP(\"Oil\",HVACg_Lookup,MATCH($H$6,BuildingSize,0)+1,FALSE),IF(IFERROR(SEARCH(\"Propane\",$H$5),0)>0,VLOOKUP(\"Propane\",HVACg_Lookup,MATCH(Worksheet!$H$6,BuildingSize,0)+1,FALSE),0)))","v":0},{"$f":"X288/1000*Y288*AA288*IF(IFERROR(SEARCH(\"Gas\",$H$5),0)>0,VLOOKUP(\"Gas\",HVACg_Lookup,MATCH($H$6,BuildingSize,0)+1,FALSE),IF(IFERROR(SEARCH(\"Oil\",$H$5),0)>0,VLOOKUP(\"Oil\",HVACg_Lookup,MATCH($H$6,BuildingSize,0)+1,FALSE),IF(IFERROR(SEARCH(\"Propane\",$H$5),0)>0,VLOOKUP(\"Propane\",HVACg_Lookup,MATCH(Worksheet!$H$6,BuildingSize,0)+1,FALSE),0)))","v":0},0,0,{"$f":"IF(OR($B$4=\"\",$B$5=\"\",$H$4=\"\",$H$6=\"\",$H$5=\"\",A288=\"\",F288=\"\",J288=\"\",O288=\"\",P288=\"\")=TRUE,\"\",IF(C288=\"OSW\",IF(J288>=2,1,0),IF(C288=\"OSR\",IF(AND(J288>=2,P288>60)=TRUE,1,0),IF(C288=\"OSRH\",IF(AND(J288>=1,P288>90)=TRUE,1,0),IF(C288=\"OHLC\",IF(AND(N288=\"Y\",P288>60)=TRUE,1,0),IF(C288=\"DDC\",IF(AND(J288>=4,N288=\"Y\",P288>120)=TRUE,1,0),0))))))","v":""},{"$f":"IF(OR($B$4=\"\",$B$5=\"\",$H$4=\"\",$H$6=\"\",$H$5=\"\",A288=\"\",F288=\"\",K288=\"\",O288=\"\",P288=\"\")=TRUE,\"\",IF(C288=\"OSW\",IF(K288>=2,1,0),IF(C288=\"OSR\",IF(AND(K288>=2,Q288>60)=TRUE,1,0),IF(C288=\"OSRH\",IF(AND(K288>=1,Q288>90)=TRUE,1,0),IF(C288=\"OHLC\",IF(AND(N288=\"Y\",Q288>60)=TRUE,1,0),IF(C288=\"DDC\",IF(AND(K288>=4,N288=\"Y\",Q288>120)=TRUE,1,0),0))))))","v":""}]
[null,null,"",null,null,null,null,null,null,null,null,null,null,null,null,0,0,0,0,"",0,0,0,0,0,{"$f":"IF($H$4=\"\",0,VLOOKUP($H$4,BuildingType_Lookup,3,FALSE))","v":0},{"$f":"IF($H$4=\"\",0,VLOOKUP($H$4,BuildingType_Lookup,2,FALSE))","v":0},{"$f":"IF(AND(OR(AN289=\"\",AN289=0)=TRUE,OR(AO289=\"\",AO289=0))=TRUE,0,IF(AO289=\"\",(IF(OR(C289=\"DDC\",C289=\"OHLC\")=TRUE,O289,P289)/1000)*Y289*Z289*(1+VLOOKUP($H$4,BuildingType_Lookup,4,FALSE)),IF(AO289=0,0,(IF(OR(C289=\"DDC\",C289=\"OHLC\")=TRUE,O289,Q289)/1000)*Y289*Z289*(1+VLOOKUP($H$4,BuildingType_Lookup,4,FALSE)))))","v":0},{"$f":"IF(AND(OR(AN289=\"\",AN289=0)=TRUE,OR(AO289=\"\",AO289=0))=TRUE,0,IF(AO289=\"\",(IF(OR(C289=\"DDC\",C289=\"OHLC\")=TRUE,O289,P289)/1000)*Y289*AA289*(1+VLOOKUP($H$4,BuildingType_Lookup,MATCH($H$5,HVAC,0)+4,FALSE)),IF(AO289=0,0,(IF(OR(C289=\"DDC\",C289=\"OHLC\")=TRUE,O289,Q289)/1000)*Y289*AA289*(1+VLOOKUP($H$4,BuildingType_Lookup,MATCH($H$5,HVAC,0)+4,FALSE)))))","v":0},0,0,0,0,0,0,{"$f":"W289/1000*Y289*AA289*IF(IFERROR(SEARCH(\"Gas\",$H$5),0)>0,VLOOKUP(\"Gas\",HVACg_Lookup,MATCH($H$6,BuildingSize,0)+1,FALSE),IF(IFERROR(SEARCH(\"Oil\",$H$5),0)>0,VLOOKUP(\"Oil\",HVACg_Lookup,MATCH($H$6,BuildingSize,0)+1,FALSE),IF(IFERROR(SEARCH(\"Propane\",$H$5),0)>0,VLOOKUP(\"Propane\",HVACg_Lookup,MATCH(Worksheet!$H$6,BuildingSize,0)+1,FALSE),0)))","v":0},{"$f":"X289/1000*Y289*AA289*IF(IFERROR(SEARCH(\"Gas\",$H$5),0)>0,VLOOKUP(\"Gas\",HVACg_Lookup,MATCH($H$6,BuildingSize,0)+1,FALSE),IF(IFERROR(SEARCH(\"Oil\",$H$5),0)>0,VLOOKUP(\"Oil\",HVACg_Lookup,MATCH($H$6,BuildingSize,0)+1,FALSE),IF(IFERROR(SEARCH(\"Propane\",$H$5),0)>0,VLOOKUP(\"Propane\",HVACg_Lookup,MATCH(Worksheet!$H$6,BuildingSize,0)+1,FALSE),0)))","v":0},0,0,{"$f":"IF(OR($B$4=\"\",$B$5=\"\",$H$4=\"\",$H$6=\"\",$H$5=\"\",A289=\"\",F289=\"\",J289=\"\",O289=\"\",P289=\"\")=TRUE,\"\",IF(C289=\"OSW\",IF(J289>=2,1,0),IF(C289=\"OSR\",IF(AND(J289>=2,P289>60)=TRUE,1,0),IF(C289=\"OSRH\",IF(AND(J289>=1,P289>90)=TRUE,1,0),IF(C289=\"OHLC\",IF(AND(N289=\"Y\",P289>60)=TRUE,1,0),IF(C289=\"DDC\",IF(AND(J289>=4,N289=\"Y\",P289>120)=TRUE,1,0),0))))))","v":""},{"$f":"IF(OR($B$4=\"\",$B$5=\"\",$H$4=\"\",$H$6=\"\",$H$5=\"\",A289=\"\",F289=\"\",K289=\"\",O289=\"\",P289=\"\")=TRUE,\"\",IF(C289=\"OSW\",IF(K289>=2,1,0),IF(C289=\"OSR\",IF(AND(K289>=2,Q289>60)=TRUE,1,0),IF(C289=\"OSRH\",IF(AND(K289>=1,Q289>90)=TRUE,1,0),IF(C289=\"OHLC\",IF(AND(N289=\"Y\",Q289>60)=TRUE,1,0),IF(C289=\"DDC\",IF(AND(K289>=4,N289=\"Y\",Q289>120)=TRUE,1,0),0))))))","v":""}]
[null,null,"",null,null,null,null,null,null,null,null,null,null,null,null,0,0,0,0,"",0,0,0,0,0,{"$f":"IF($H$4=\"\",0,VLOOKUP($H$4,BuildingType_Lookup,3,FALSE))","v":0},{"$f":"IF($H$4=\"\",0,VLOOKUP($H$4,BuildingType_Lookup,2,FALSE))","v":0},{"$f":"IF(AND(OR(AN290=\"\",AN290=0)=TRUE,OR(AO290=\"\",AO290=0))=TRUE,0,IF(AO290=\"\",(IF(OR(C290=\"DDC\",C290=\"OHLC\")=TRUE,O290,P290)/1000)*Y290*Z290*(1+VLOOKUP($H$4,BuildingType_Lookup,4,FALSE)),IF(AO290=0,0,(IF(OR(C290=\"DDC\",C290=\"OHLC\")=TRUE,O290,Q290)/1000)*Y290*Z290*(1+VLOOKUP($H$4,BuildingType_Lookup,4,FALSE)))))","v":0},{"$f":"IF(AND(OR(AN290=\"\",AN290=0)=TRUE,OR(AO290=\"\",AO290=0))=TRUE,0,IF(AO290=\"\",(IF(OR(C290=\"DDC\",C290=\"OHLC\")=TRUE,O290,P290)/1000)*Y290*AA290*(1+VLOOKUP($H$4,BuildingType_Lookup,MATCH($H$5,HVAC,0)+4,FALSE)),IF(AO290=0,0,(IF(OR(C290=\"DDC\",C290=\"OHLC\")=TRUE,O290,Q290)/1000)*Y290*AA290*(1+VLOOKUP($H$4,BuildingType_Lookup,MATCH($H$5,HVAC,0)+4,FALSE)))))","v":0},0,0,0,0,0,0,{"$f":"W290/1000*Y290*AA290*IF(IFERROR(SEARCH(\"Gas\",$H$5),0)>0,VLOOKUP(\"Gas\",HVACg_Lookup,MATCH($H$6,BuildingSize,0)+1,FALSE),IF(IFERROR(SEARCH(\"Oil\",$H$5),0)>0,VLOOKUP(\"Oil\",HVACg_Lookup,MATCH($H$6,BuildingSize,0)+1,FALSE),IF(IFERROR(SEARCH(\"Propane\",$H$5),0)>0,VLOOKUP(\"Propane\",HVACg_Lookup,MATCH(Worksheet!$H$6,BuildingSize,0)+1,FALSE),0)))","v":0},{"$f":"X290/1000*Y290*AA290*IF(IFERROR(SEARCH(\"Gas\",$H$5),0)>0,VLOOKUP(\"Gas\",HVACg_Lookup,MATCH($H$6,BuildingSize,0)+1,FALSE),IF(IFERROR(SEARCH(\"Oil\",$H$5),0)>0,VLOOKUP(\"Oil\",HVACg_Lookup,MATCH($H$6,BuildingSize,0)+1,FALSE),IF(IFERROR(SEARCH(\"Propane\",$H$5),0)>0,VLOOKUP(\"Propane\",HVACg_Lookup,MATCH(Worksheet!$H$6,BuildingSize,0)+1,FALSE),0)))","v":0},0,0,{"$f":"IF(OR($B$4=\"\",$B$5=\"\",$H$4=\"\",$H$6=\"\",$H$5=\"\",A290=\"\",F290=\"\",J290=\"\",O290=\"\",P290=\"\")=TRUE,\"\",IF(C290=\"OSW\",IF(J290>=2,1,0),IF(C290=\"OSR\",IF(AND(J290>=2,P290>60)=TRUE,1,0),IF(C290=\"OSRH\",IF(AND(J290>=1,P290>90)=TRUE,1,0),IF(C290=\"OHLC\",IF(AND(N290=\"Y\",P290>60)=TRUE,1,0),IF(C290=\"DDC\",IF(AND(J290>=4,N290=\"Y\",P290>120)=TRUE,1,0),0))))))","v":""},{"$f":"IF(OR($B$4=\"\",$B$5=\"\",$H$4=\"\",$H$6=\"\",$H$5=\"\",A290=\"\",F290=\"\",K290=\"\",O290=\"\",P290=\"\")=TRUE,\"\",IF(C290=\"OSW\",IF(K290>=2,1,0),IF(C290=\"OSR\",IF(AND(K290>=2,Q290>60)=TRUE,1,0),IF(C290=\"OSRH\",IF(AND(K290>=1,Q290>90)=TRUE,1,0),IF(C290=\"OHLC\",IF(AND(N290=\"Y\",Q290>60)=TRUE,1,0),IF(C290=\"DDC\",IF(AND(K290>=4,N290=\"Y\",Q290>120)=TRUE,1,0),0))))))","v":""}]
[null,null,"",null,null,null,null,null,null,null,null,null,null,null,null,0,0,0,0,"",0,0,0,0,0,{"$f":"IF($H$4=\"\",0,VLOOKUP($H$4,BuildingType_Lookup,3,FALSE))","v":0},{"$f":"IF($H$4=\"\",0,VLOOKUP($H$4,BuildingType_Lookup,2,FALSE))","v":0},{"$f":"IF(AND(OR(AN291=\"\",AN291=0)=TRUE,OR(AO291=\"\",AO291=0))=TRUE,0,IF(AO291=\"\",(IF(OR(C291=\"DDC\",C291=\"OHLC\")=TRUE,O291,P291)/1000)*Y291*Z291*(1+VLOOKUP($H$4,BuildingType_Lookup,4,FALSE)),IF(AO291=0,0,(IF(OR(C291=\"DDC\",C291=\"OHLC\")=TRUE,O291,Q291)/1000)*Y291*Z291*(1+VLOOKUP($H$4,BuildingType_Lookup,4,FALSE)))))","v":0},{"$f":"IF(AND(OR(AN291=\"\",AN291=0)=TRUE,OR(AO291=\"\",AO291=0))=TRUE,0,IF(AO291=\"\",(IF(OR(C291=\"DDC\",C291=\"OHLC\")=TRUE,O291,P291)/1000)*Y291*AA291*(1+VLOOKUP($H$4,BuildingType_Lookup,MATCH($H$5,HVAC,0)+4,FALSE)),IF(AO291=0,0,(IF(OR(C291=\"DDC\",C291=\"OHLC\")=TRUE,O291,Q291)/1000)*Y291*AA291*(1+VLOOKUP($H$4,BuildingType_Lookup,MATCH($H$5,HVAC,0)+4,FALSE)))))","v":0},0,0,0,0,0,0,{"$f":"W291/1000*Y291*AA291*IF(IFERROR(SEARCH(\"Gas\",$H$5),0)>0,VLOOKUP(\"Gas\",HVACg_Lookup,MATCH($H$6,BuildingSize,0)+1,FALSE),IF(IFERROR(SEARCH(\"Oil\",$H$5),0)>0,VLOOKUP(\"Oil\",HVACg_Lookup,MATCH($H$6,BuildingSize,0)+1,FALSE),IF(IFERROR(SEARCH(\"Propane\",$H$5),0)>0,VLOOKUP(\"Propane\",HVACg_Lookup,MATCH(Worksheet!$H$6,BuildingSize,0)+1,FALSE),0)))","v":0},{"$f":"X291/1000*Y291*AA291*IF(IFERROR(SEARCH(\"Gas\",$H$5),0)>0,VLOOKUP(\"Gas\",HVACg_Lookup,MATCH($H$6,BuildingSize,0)+1,FALSE),IF(IFERROR(SEARCH(\"Oil\",$H$5),0)>0,VLOOKUP(\"Oil\",HVACg_Lookup,MATCH($H$6,BuildingSize,0)+1,FALSE),IF(IFERROR(SEARCH(\"Propane\",$H$5),0)>0,VLOOKUP(\"Propane\",HVACg_Lookup,MATCH(Worksheet!$H$6,BuildingSize,0)+1,FALSE),0)))","v":0},0,0,{"$f":"IF(OR($B$4=\"\",$B$5=\"\",$H$4=\"\",$H$6=\"\",$H$5=\"\",A291=\"\",F291=\"\",J291=\"\",O291=\"\",P291=\"\")=TRUE,\"\",IF(C291=\"OSW\",IF(J291>=2,1,0),IF(C291=\"OSR\",IF(AND(J291>=2,P291>60)=TRUE,1,0),IF(C291=\"OSRH\",IF(AND(J291>=1,P291>90)=TRUE,1,0),IF(C291=\"OHLC\",IF(AND(N291=\"Y\",P291>60)=TRUE,1,0),IF(C291=\"DDC\",IF(AND(J291>=4,N291=\"Y\",P291>120)=TRUE,1,0),0))))))","v":""},{"$f":"IF(OR($B$4=\"\",$B$5=\"\",$H$4=\"\",$H$6=\"\",$H$5=\"\",A291=\"\",F291=\"\",K291=\"\",O291=\"\",P291=\"\")=TRUE,\"\",IF(C291=\"OSW\",IF(K291>=2,1,0),IF(C291=\"OSR\",IF(AND(K291>=2,Q291>60)=TRUE,1,0),IF(C291=\"OSRH\",IF(AND(K291>=1,Q291>90)=TRUE,1,0),IF(C291=\"OHLC\",IF(AND(N291=\"Y\",Q291>60)=TRUE,1,0),IF(C291=\"DDC\",IF(AND(K291>=4,N291=\"Y\",Q291>120)=TRUE,1,0),0))))))","v":""}]
[null,null,"",null,null,null,null,null,null,null,null,null,null,null,null,0,0,0,0,"",0,0,0,0,0,{"$f":"IF($H$4=\"\",0,VLOOKUP($H$4,BuildingType_Lookup,3,FALSE))","v":0},{"$f":"IF($H$4=\"\",0,VLOOKUP($H$4,BuildingType_Lookup,2,FALSE))","v":0},{"$f":"IF(AND(OR(AN292=\"\",AN292=0)=TRUE,OR(AO292=\"\",AO292=0))=TRUE,0,IF(AO292=\"\",(IF(OR(C292=\"DDC\",C292=\"OHLC\")=TRUE,O292,P292)/1000)*Y292*Z292*(1+VLOOKUP($H$4,BuildingType_Lookup,4,FALSE)),IF(AO292=0,0,(IF(OR(C292=\"DDC\",C292=\"OHLC\")=TRUE,O292,Q292)/1000)*Y292*Z292*(1+VLOOKUP($H$4,BuildingType_Lookup,4,FALSE)))))","v":0},{"$f":"IF(AND(OR(AN292=\"\",AN292=0)=TRUE,OR(AO292=\"\",AO292=0))=TRUE,0,IF(AO292=\"\",(IF(OR(C292=\"DDC\",C292=\"OHLC\")=TRUE,O292,P292)/1000)*Y292*AA292*(1+VLOOKUP($H$4,BuildingType_Lookup,MATCH($H$5,HVAC,0)+4,FALSE)),IF(AO292=0,0,(IF(OR(C292=\"DDC\",C292=\"OHLC\")=TRUE,O292,Q292)/1000)*Y292*AA292*(1+VLOOKUP($H$4,BuildingType_Lookup,MATCH($H$5,HVAC,0)+4,FALSE)))))","v":0},0,0,0,0,0,0,{"$f":"W292/1000*Y292*AA292*IF(IFERROR(SEARCH(\"Gas\",$H$5),0)>0,VLOOKUP(\"Gas\",HVACg_Lookup,MATCH($H$6,BuildingSize,0)+1,FALSE),IF(IFERROR(SEARCH(\"Oil\",$H$5),0)>0,VLOOKUP(\"Oil\",HVACg_Lookup,MATCH($H$6,BuildingSize,0)+1,FALSE),IF(IFERROR(SEARCH(\"Propane\",$H$5),0)>0,VLOOKUP(\"Propane\",HVACg_Lookup,MATCH(Worksheet!$H$6,BuildingSize,0)+1,FALSE),0)))","v":0},{"$f":"X292/1000*Y292*AA292*IF(IFERROR(SEARCH(\"Gas\",$H$5),0)>0,VLOOKUP(\"Gas\",HVACg_Lookup,MATCH($H$6,BuildingSize,0)+1,FALSE),IF(IFERROR(SEARCH(\"Oil\",$H$5),0)>0,VLOOKUP(\"Oil\",HVACg_Lookup,MATCH($H$6,BuildingSize,0)+1,FALSE),IF(IFERROR(SEARCH(\"Propane\",$H$5),0)>0,VLOOKUP(\"Propane\",HVACg_Lookup,MATCH(Worksheet!$H$6,BuildingSize,0)+1,FALSE),0)))","v":0},0,0,{"$f":"IF(OR($B$4=\"\",$B$5=\"\",$H$4=\"\",$H$6=\"\",$H$5=\"\",A292=\"\",F292=\"\",J292=\"\",O292=\"\",P292=\"\")=TRUE,\"\",IF(C292=\"OSW\",IF(J292>=2,1,0),IF(C292=\"OSR\",IF(AND(J292>=2,P292>60)=TRUE,1,0),IF(C292=\"OSRH\",IF(AND(J292>=1,P292>90)=TRUE,1,0),IF(C292=\"OHLC\",IF(AND(N292=\"Y\",P292>60)=TRUE,1,0),IF(C292=\"DDC\",IF(AND(J292>=4,N292=\"Y\",P292>120)=TRUE,1,0),0))))))","v":""},{"$f":"IF(OR($B$4=\"\",$B$5=\"\",$H$4=\"\",$H$6=\"\",$H$5=\"\",A292=\"\",F292=\"\",K292=\"\",O292=\"\",P292=\"\")=TRUE,\"\",IF(C292=\"OSW\",IF(K292>=2,1,0),IF(C292=\"OSR\",IF(AND(K292>=2,Q292>60)=TRUE,1,0),IF(C292=\"OSRH\",IF(AND(K292>=1,Q292>90)=TRUE,1,0),IF(C292=\"OHLC\",IF(AND(N292=\"Y\",Q292>60)=TRUE,1,0),IF(C292=\"DDC\",IF(AND(K292>=4,N292=\"Y\",Q292>120)=TRUE,1,0),0))))))","v":""}]
[null,null,"",null,null,null,null,null,null,null,null,null,null,null,null,0,0,0,0,"",0,0,0,0,0,{"$f":"IF($H$4=\"\",0,VLOOKUP($H$4,BuildingType_Lookup,3,FALSE))","v":0},{"$f":"IF($H$4=\"\",0,VLOOKUP($H$4,BuildingType_Lookup,2,FALSE))","v":0},{"$f":"IF(AND(OR(AN293=\"\",AN293=0)=TRUE,OR(AO293=\"\",AO293=0))=TRUE,0,IF(AO293=\"\",(IF(OR(C293=\"DDC\",C293=\"OHLC\")=TRUE,O293,P293)/1000)*Y293*Z293*(1+VLOOKUP($H$4,BuildingType_Lookup,4,FALSE)),IF(AO293=0,0,(IF(OR(C293=\"DDC\",C293=\"OHLC\")=TRUE,O293,Q293)/1000)*Y293*Z293*(1+VLOOKUP($H$4,BuildingType_Lookup,4,FALSE)))))","v":0},{"$f":"IF(AND(OR(AN293=\"\",AN293=0)=TRUE,OR(AO293=\"\",AO293=0))=TRUE,0,IF(AO293=\"\",(IF(OR(C293=\"DDC\",C293=\"OHLC\")=TRUE,O293,P293)/1000)*Y293*AA293*(1+VLOOKUP($H$4,BuildingType_Lookup,MATCH($H$5,HVAC,0)+4,FALSE)),IF(AO293=0,0,(IF(OR(C293=\"DDC\",C293=\"OHLC\")=TRUE,O293,Q293)/1000)*Y293*AA293*(1+VLOOKUP($H$4,BuildingType_Lookup,MATCH($H$5,HVAC,0)+4,FALSE)))))","v":0},0,0,0,0,0,0,{"$f":"W293/1000*Y293*AA293*IF(IFERROR(SEARCH(\"Gas\",$H$5),0)>0,VLOOKUP(\"Gas\",HVACg_Lookup,MATCH($H$6,BuildingSize,0)+1,FALSE),IF(IFERROR(SEARCH(\"Oil\",$H$5),0)>0,VLOOKUP(\"Oil\",HVACg_Lookup,MATCH($H$6,BuildingSize,0)+1,FALSE),IF(IFERROR(SEARCH(\"Propane\",$H$5),0)>0,VLOOKUP(\"Propane\",HVACg_Lookup,MATCH(Worksheet!$H$6,BuildingSize,0)+1,FALSE),0)))","v":0},{"$f":"X293/1000*Y293*AA293*IF(IFERROR(SEARCH(\"Gas\",$H$5),0)>0,VLOOKUP(\"Gas\",HVACg_Lookup,MATCH($H$6,BuildingSize,0)+1,FALSE),IF(IFERROR(SEARCH(\"Oil\",$H$5),0)>0,VLOOKUP(\"Oil\",HVACg_Lookup,MATCH($H$6,BuildingSize,0)+1,FALSE),IF(IFERROR(SEARCH(\"Propane\",$H$5),0)>0,VLOOKUP(\"Propane\",HVACg_Lookup,MATCH(Worksheet!$H$6,BuildingSize,0)+1,FALSE),0)))","v":0},0,0,{"$f":"IF(OR($B$4=\"\",$B$5=\"\",$H$4=\"\",$H$6=\"\",$H$5=\"\",A293=\"\",F293=\"\",J293=\"\",O293=\"\",P293=\"\")=TRUE,\"\",IF(C293=\"OSW\",IF(J293>=2,1,0),IF(C293=\"OSR\",IF(AND(J293>=2,P293>60)=TRUE,1,0),IF(C293=\"OSRH\",IF(AND(J293>=1,P293>90)=TRUE,1,0),IF(C293=\"OHLC\",IF(AND(N293=\"Y\",P293>60)=TRUE,1,0),IF(C293=\"DDC\",IF(AND(J293>=4,N293=\"Y\",P293>120)=TRUE,1,0),0))))))","v":""},{"$f":"IF(OR($B$4=\"\",$B$5=\"\",$H$4=\"\",$H$6=\"\",$H$5=\"\",A293=\"\",F293=\"\",K293=\"\",O293=\"\",P293=\"\")=TRUE,\"\",IF(C293=\"OSW\",IF(K293>=2,1,0),IF(C293=\"OSR\",IF(AND(K293>=2,Q293>60)=TRUE,1,0),IF(C293=\"OSRH\",IF(AND(K293>=1,Q293>90)=TRUE,1,0),IF(C293=\"OHLC\",IF(AND(N293=\"Y\",Q293>60)=TRUE,1,0),IF(C293=\"DDC\",IF(AND(K293>=4,N293=\"Y\",Q293>120)=TRUE,1,0),0))))))","v":""}]
[null,null,"",null,null,null,null,null,null,null,null,null,null,null,null,0,0,0,0,"",0,0,0,0,0,{"$f":"IF($H$4=\"\",0,VLOOKUP($H$4,BuildingType_Lookup,3,FALSE))","v":0},{"$f":"IF($H$4=\"\",0,VLOOKUP($H$4,BuildingType_Lookup,2,FALSE))","v":0},{"$f":"IF(AND(OR(AN294=\"\",AN294=0)=TRUE,OR(AO294=\"\",AO294=0))=TRUE,0,IF(AO294=\"\",(IF(OR(C294=\"DDC\",C294=\"OHLC\")=TRUE,O294,P294)/1000)*Y294*Z294*(1+VLOOKUP($H$4,BuildingType_Lookup,4,FALSE)),IF(AO294=0,0,(IF(OR(C294=\"DDC\",C294=\"OHLC\")=TRUE,O294,Q294)/1000)*Y294*Z294*(1+VLOOKUP($H$4,BuildingType_Lookup,4,FALSE)))))","v":0},{"$f":"IF(AND(OR(AN294=\"\",AN294=0)=TRUE,OR(AO294=\"\",AO294=0))=TRUE,0,IF(AO294=\"\",(IF(OR(C294=\"DDC\",C294=\"OHLC\")=TRUE,O294,P294)/1000)*Y294*AA294*(1+VLOOKUP($H$4,BuildingType_Lookup,MATCH($H$5,HVAC,0)+4,FALSE)),IF(AO294=0,0,(IF(OR(C294=\"DDC\",C294=\"OHLC\")=TRUE,O294,Q294)/1000)*Y294*AA294*(1+VLOOKUP($H$4,BuildingType_Lookup,MATCH($H$5,HVAC,0)+4,FALSE)))))","v":0},0,0,0,0,0,0,{"$f":"W294/1000*Y294*AA294*IF(IFERROR(SEARCH(\"Gas\",$H$5),0)>0,VLOOKUP(\"Gas\",HVACg_Lookup,MATCH($H$6,BuildingSize,0)+1,FALSE),IF(IFERROR(SEARCH(\"Oil\",$H$5),0)>0,VLOOKUP(\"Oil\",HVACg_Lookup,MATCH($H$6,BuildingSize,0)+1,FALSE),IF(IFERROR(SEARCH(\"Propane\",$H$5),0)>0,VLOOKUP(\"Propane\",HVACg_Lookup,MATCH(Worksheet!$H$6,BuildingSize,0)+1,FALSE),0)))","v":0},{"$f":"X294/1000*Y294*AA294*IF(IFERROR(SEARCH(\"Gas\",$H$5),0)>0,VLOOKUP(\"Gas\",HVACg_Lookup,MATCH($H$6,BuildingSize,0)+1,FALSE),IF(IFERROR(SEARCH(\"Oil\",$H$5),0)>0,VLOOKUP(\"Oil\",HVACg_Lookup,MATCH($H$6,BuildingSize,0)+1,FALSE),IF(IFERROR(SEARCH(\"Propane\",$H$5),0)>0,VLOOKUP(\"Propane\",HVACg_Lookup,MATCH(Worksheet!$H$6,BuildingSize,0)+1,FALSE),0)))","v":0},0,0,{"$f":"IF(OR($B$4=\"\",$B$5=\"\",$H$4=\"\",$H$6=\"\",$H$5=\"\",A294=\"\",F294=\"\",J294=\"\",O294=\"\",P294=\"\")=TRUE,\"\",IF(C294=\"OSW\",IF(J294>=2,1,0),IF(C294=\"OSR\",IF(AND(J294>=2,P294>60)=TRUE,1,0),IF(C294=\"OSRH\",IF(AND(J294>=1,P294>90)=TRUE,1,0),IF(C294=\"OHLC\",IF(AND(N294=\"Y\",P294>60)=TRUE,1,0),IF(C294=\"DDC\",IF(AND(J294>=4,N294=\"Y\",P294>120)=TRUE,1,0),0))))))","v":""},{"$f":"IF(OR($B$4=\"\",$B$5=\"\",$H$4=\"\",$H$6=\"\",$H$5=\"\",A294=\"\",F294=\"\",K294=\"\",O294=\"\",P294=\"\")=TRUE,\"\",IF(C294=\"OSW\",IF(K294>=2,1,0),IF(C294=\"OSR\",IF(AND(K294>=2,Q294>60)=TRUE,1,0),IF(C294=\"OSRH\",IF(AND(K294>=1,Q294>90)=TRUE,1,0),IF(C294=\"OHLC\",IF(AND(N294=\"Y\",Q294>60)=TRUE,1,0),IF(C294=\"DDC\",IF(AND(K294>=4,N294=\"Y\",Q294>120)=TRUE,1,0),0))))))","v":""}]
[null,null,"",null,null,null,null,null,null,null,null,null,null,null,null,0,0,0,0,"",0,0,0,0,0,{"$f":"IF($H$4=\"\",0,VLOOKUP($H$4,BuildingType_Lookup,3,FALSE))","v":0},{"$f":"IF($H$4=\"\",0,VLOOKUP($H$4,BuildingType_Lookup,2,FALSE))","v":0},{"$f":"IF(AND(OR(AN295=\"\",AN295=0)=TRUE,OR(AO295=\"\",AO295=0))=TRUE,0,IF(AO295=\"\",(IF(OR(C295=\"DDC\",C295=\"OHLC\")=TRUE,O295,P295)/1000)*Y295*Z295*(1+VLOOKUP($H$4,BuildingType_Lookup,4,FALSE)),IF(AO295=0,0,(IF(OR(C295=\"DDC\",C295=\"OHLC\")=TRUE,O295,Q295)/1000)*Y295*Z295*(1+VLOOKUP($H$4,BuildingType_Lookup,4,FALSE)))))","v":0},{"$f":"IF(AND(OR(AN295=\"\",AN295=0)=TRUE,OR(AO295=\"\",AO295=0))=TRUE,0,IF(AO295=\"\",(IF(OR(C295=\"DDC\",C295=\"OHLC\")=TRUE,O295,P295)/1000)*Y295*AA295*(1+VLOOKUP($H$4,BuildingType_Lookup,MATCH($H$5,HVAC,0)+4,FALSE)),IF(AO295=0,0,(IF(OR(C295=\"DDC\",C295=\"OHLC\")=TRUE,O295,Q295)/1000)*Y295*AA295*(1+VLOOKUP($H$4,BuildingType_Lookup,MATCH($H$5,HVAC,0)+4,FALSE)))))","v":0},0,0,0,0,0,0,{"$f":"W295/1000*Y295*AA295*IF(IFERROR(SEARCH(\"Gas\",$H$5),0)>0,VLOOKUP(\"Gas\",HVACg_Lookup,MATCH($H$6,BuildingSize,0)+1,FALSE),IF(IFERROR(SEARCH(\"Oil\",$H$5),0)>0,VLOOKUP(\"Oil\",HVACg_Lookup,MATCH($H$6,BuildingSize,0)+1,FALSE),IF(IFERROR(SEARCH(\"Propane\",$H$5),0)>0,VLOOKUP(\"Propane\",HVACg_Lookup,MATCH(Worksheet!$H$6,BuildingSize,0)+1,FALSE),0)))","v":0},{"$f":"X295/1000*Y295*AA295*IF(IFERROR(SEARCH(\"Gas\",$H$5),0)>0,VLOOKUP(\"Gas\",HVACg_Lookup,MATCH($H$6,BuildingSize,0)+1,FALSE),IF(IFERROR(SEARCH(\"Oil\",$H$5),0)>0,VLOOKUP(\"Oil\",HVACg_Lookup,MATCH($H$6,BuildingSize,0)+1,FALSE),IF(IFERROR(SEARCH(\"Propane\",$H$5),0)>0,VLOOKUP(\"Propane\",HVACg_Lookup,MATCH(Worksheet!$H$6,BuildingSize,0)+1,FALSE),0)))","v":0},0,0,{"$f":"IF(OR($B$4=\"\",$B$5=\"\",$H$4=\"\",$H$6=\"\",$H$5=\"\",A295=\"\",F295=\"\",J295=\"\",O295=\"\",P295=\"\")=TRUE,\"\",IF(C295=\"OSW\",IF(J295>=2,1,0),IF(C295=\"OSR\",IF(AND(J295>=2,P295>60)=TRUE,1,0),IF(C295=\"OSRH\",IF(AND(J295>=1,P295>90)=TRUE,1,0),IF(C295=\"OHLC\",IF(AND(N295=\"Y\",P295>60)=TRUE,1,0),IF(C295=\"DDC\",IF(AND(J295>=4,N295=\"Y\",P295>120)=TRUE,1,0),0))))))","v":""},{"$f":"IF(OR($B$4=\"\",$B$5=\"\",$H$4=\"\",$H$6=\"\",$H$5=\"\",A295=\"\",F295=\"\",K295=\"\",O295=\"\",P295=\"\")=TRUE,\"\",IF(C295=\"OSW\",IF(K295>=2,1,0),IF(C295=\"OSR\",IF(AND(K295>=2,Q295>60)=TRUE,1,0),IF(C295=\"OSRH\",IF(AND(K295>=1,Q295>90)=TRUE,1,0),IF(C295=\"OHLC\",IF(AND(N295=\"Y\",Q295>60)=TRUE,1,0),IF(C295=\"DDC\",IF(AND(K295>=4,N295=\"Y\",Q295>120)=TRUE,1,0),0))))))","v":""}]
[null,null,"",null,null,null,null,null,null,null,null,null,null,null,null,0,0,0,0,"",0,0,0,0,0,{"$f":"IF($H$4=\"\",0,VLOOKUP($H$4,BuildingType_Lookup,3,FALSE))","v":0},{"$f":"IF($H$4=\"\",0,VLOOKUP($H$4,BuildingType_Lookup,2,FALSE))","v":0},{"$f":"IF(AND(OR(AN296=\"\",AN296=0)=TRUE,OR(AO296=\"\",AO296=0))=TRUE,0,IF(AO296=\"\",(IF(OR(C296=\"DDC\",C296=\"OHLC\")=TRUE,O296,P296)/1000)*Y296*Z296*(1+VLOOKUP($H$4,BuildingType_Lookup,4,FALSE)),IF(AO296=0,0,(IF(OR(C296=\"DDC\",C296=\"OHLC\")=TRUE,O296,Q296)/1000)*Y296*Z296*(1+VLOOKUP($H$4,BuildingType_Lookup,4,FALSE)))))","v":0},{"$f":"IF(AND(OR(AN296=\"\",AN296=0)=TRUE,OR(AO296=\"\",AO296=0))=TRUE,0,IF(AO296=\"\",(IF(OR(C296=\"DDC\",C296=\"OHLC\")=TRUE,O296,P296)/1000)*Y296*AA296*(1+VLOOKUP($H$4,BuildingType_Lookup,MATCH($H$5,HVAC,0)+4,FALSE)),IF(AO296=0,0,(IF(OR(C296=\"DDC\",C296=\"OHLC\")=TRUE,O296,Q296)/1000)*Y296*AA296*(1+VLOOKUP($H$4,BuildingType_Lookup,MATCH($H$5,HVAC,0)+4,FALSE)))))","v":0},0,0,0,0,0,0,{"$f":"W296/1000*Y296*AA296*IF(IFERROR(SEARCH(\"Gas\",$H$5),0)>0,VLOOKUP(\"Gas\",HVACg_Lookup,MATCH($H$6,BuildingSize,0)+1,FALSE),IF(IFERROR(SEARCH(\"Oil\",$H$5),0)>0,VLOOKUP(\"Oil\",HVACg_Lookup,MATCH($H$6,BuildingSize,0)+1,FALSE),IF(IFERROR(SEARCH(\"Propane\",$H$5),0)>0,VLOOKUP(\"Propane\",HVACg_Lookup,MATCH(Worksheet!$H$6,BuildingSize,0)+1,FALSE),0)))","v":0},{"$f":"X296/1000*Y296*AA296*IF(IFERROR(SEARCH(\"Gas\",$H$5),0)>0,VLOOKUP(\"Gas\",HVACg_Lookup,MATCH($H$6,BuildingSize,0)+1,FALSE),IF(IFERROR(SEARCH(\"Oil\",$H$5),0)>0,VLOOKUP(\"Oil\",HVACg_Lookup,MATCH($H$6,BuildingSize,0)+1,FALSE),IF(IFERROR(SEARCH(\"Propane\",$H$5),0)>0,VLOOKUP(\"Propane\",HVACg_Lookup,MATCH(Worksheet!$H$6,BuildingSize,0)+1,FALSE),0)))","v":0},0,0,{"$f":"IF(OR($B$4=\"\",$B$5=\"\",$H$4=\"\",$H$6=\"\",$H$5=\"\",A296=\"\",F296=\"\",J296=\"\",O296=\"\",P296=\"\")=TRUE,\"\",IF(C296=\"OSW\",IF(J296>=2,1,0),IF(C296=\"OSR\",IF(AND(J296>=2,P296>60)=TRUE,1,0),IF(C296=\"OSRH\",IF(AND(J296>=1,P296>90)=TRUE,1,0),IF(C296=\"OHLC\",IF(AND(N296=\"Y\",P296>60)=TRUE,1,0),IF(C296=\"DDC\",IF(AND(J296>=4,N296=\"Y\",P296>120)=TRUE,1,0),0))))))","v":""},{"$f":"IF(OR($B$4=\"\",$B$5=\"\",$H$4=\"\",$H$6=\"\",$H$5=\"\",A296=\"\",F296=\"\",K296=\"\",O296=\"\",P296=\"\")=TRUE,\"\",IF(C296=\"OSW\",IF(K296>=2,1,0),IF(C296=\"OSR\",IF(AND(K296>=2,Q296>60)=TRUE,1,0),IF(C296=\"OSRH\",IF(AND(K296>=1,Q296>90)=TRUE,1,0),IF(C296=\"OHLC\",IF(AND(N296=\"Y\",Q296>60)=TRUE,1,0),IF(C296=\"DDC\",IF(AND(K296>=4,N296=\"Y\",Q296>120)=TRUE,1,0),0))))))","v":""}]
[null,null,"",null,null,null,null,null,null,null,null,null,null,null,null,0,0,0,0,"",0,0,0,0,0,{"$f":"IF($H$4=\"\",0,VLOOKUP($H$4,BuildingType_Lookup,3,FALSE))","v":0},{"$f":"IF($H$4=\"\",0,VLOOKUP($H$4,BuildingType_Lookup,2,FALSE))","v":0},{"$f":"IF(AND(OR(AN297=\"\",AN297=0)=TRUE,OR(AO297=\"\",AO297=0))=TRUE,0,IF(AO297=\"\",(IF(OR(C297=\"DDC\",C297=\"OHLC\")=TRUE,O297,P297)/1000)*Y297*Z297*(1+VLOOKUP($H$4,BuildingType_Lookup,4,FALSE)),IF(AO297=0,0,(IF(OR(C297=\"DDC\",C297=\"OHLC\")=TRUE,O297,Q297)/1000)*Y297*Z297*(1+VLOOKUP($H$4,BuildingType_Lookup,4,FALSE)))))","v":0},{"$f":"IF(AND(OR(AN297=\"\",AN297=0)=TRUE,OR(AO297=\"\",AO297=0))=TRUE,0,IF(AO297=\"\",(IF(OR(C297=\"DDC\",C297=\"OHLC\")=TRUE,O297,P297)/1000)*Y297*AA297*(1+VLOOKUP($H$4,BuildingType_Lookup,MATCH($H$5,HVAC,0)+4,FALSE)),IF(AO297=0,0,(IF(OR(C297=\"DDC\",C297=\"OHLC\")=TRUE,O297,Q297)/1000)*Y297*AA297*(1+VLOOKUP($H$4,BuildingType_Lookup,MATCH($H$5,HVAC,0)+4,FALSE)))))","v":0},0,0,0,0,0,0,{"$f":"W297/1000*Y297*AA297*IF(IFERROR(SEARCH(\"Gas\",$H$5),0)>0,VLOOKUP(\"Gas\",HVACg_Lookup,MATCH($H$6,BuildingSize,0)+1,FALSE),IF(IFERROR(SEARCH(\"Oil\",$H$5),0)>0,VLOOKUP(\"Oil\",HVACg_Lookup,MATCH($H$6,BuildingSize,0)+1,FALSE),IF(IFERROR(SEARCH(\"Propane\",$H$5),0)>0,VLOOKUP(\"Propane\",HVACg_Lookup,MATCH(Worksheet!$H$6,BuildingSize,0)+1,FALSE),0)))","v":0},{"$f":"X297/1000*Y297*AA297*IF(IFERROR(SEARCH(\"Gas\",$H$5),0)>0,VLOOKUP(\"Gas\",HVACg_Lookup,MATCH($H$6,BuildingSize,0)+1,FALSE),IF(IFERROR(SEARCH(\"Oil\",$H$5),0)>0,VLOOKUP(\"Oil\",HVACg_Lookup,MATCH($H$6,BuildingSize,0)+1,FALSE),IF(IFERROR(SEARCH(\"Propane\",$H$5),0)>0,VLOOKUP(\"Propane\",HVACg_Lookup,MATCH(Worksheet!$H$6,BuildingSize,0)+1,FALSE),0)))","v":0},0,0,{"$f":"IF(OR($B$4=\"\",$B$5=\"\",$H$4=\"\",$H$6=\"\",$H$5=\"\",A297=\"\",F297=\"\",J297=\"\",O297=\"\",P297=\"\")=TRUE,\"\",IF(C297=\"OSW\",IF(J297>=2,1,0),IF(C297=\"OSR\",IF(AND(J297>=2,P297>60)=TRUE,1,0),IF(C297=\"OSRH\",IF(AND(J297>=1,P297>90)=TRUE,1,0),IF(C297=\"OHLC\",IF(AND(N297=\"Y\",P297>60)=TRUE,1,0),IF(C297=\"DDC\",IF(AND(J297>=4,N297=\"Y\",P297>120)=TRUE,1,0),0))))))","v":""},{"$f":"IF(OR($B$4=\"\",$B$5=\"\",$H$4=\"\",$H$6=\"\",$H$5=\"\",A297=\"\",F297=\"\",K297=\"\",O297=\"\",P297=\"\")=TRUE,\"\",IF(C297=\"OSW\",IF(K297>=2,1,0),IF(C297=\"OSR\",IF(AND(K297>=2,Q297>60)=TRUE,1,0),IF(C297=\"OSRH\",IF(AND(K297>=1,Q297>90)=TRUE,1,0),IF(C297=\"OHLC\",IF(AND(N297=\"Y\",Q297>60)=TRUE,1,0),IF(C297=\"DDC\",IF(AND(K297>=4,N297=\"Y\",Q297>120)=TRUE,1,0),0))))))","v":""}]
[null,null,"",null,null,null,null,null,null,null,null,null,null,null,null,0,0,0,0,"",0,0,0,0,0,{"$f":"IF($H$4=\"\",0,VLOOKUP($H$4,BuildingType_Lookup,3,FALSE))","v":0},{"$f":"IF($H$4=\"\",0,VLOOKUP($H$4,BuildingType_Lookup,2,FALSE))","v":0},{"$f":"IF(AND(OR(AN298=\"\",AN298=0)=TRUE,OR(AO298=\"\",AO298=0))=TRUE,0,IF(AO298=\"\",(IF(OR(C298=\"DDC\",C298=\"OHLC\")=TRUE,O298,P298)/1000)*Y298*Z298*(1+VLOOKUP($H$4,BuildingType_Lookup,4,FALSE)),IF(AO298=0,0,(IF(OR(C298=\"DDC\",C298=\"OHLC\")=TRUE,O298,Q298)/1000)*Y298*Z298*(1+VLOOKUP($H$4,BuildingType_Lookup,4,FALSE)))))","v":0},{"$f":"IF(AND(OR(AN298=\"\",AN298=0)=TRUE,OR(AO298=\"\",AO298=0))=TRUE,0,IF(AO298=\"\",(IF(OR(C298=\"DDC\",C298=\"OHLC\")=TRUE,O298,P298)/1000)*Y298*AA298*(1+VLOOKUP($H$4,BuildingType_Lookup,MATCH($H$5,HVAC,0)+4,FALSE)),IF(AO298=0,0,(IF(OR(C298=\"DDC\",C298=\"OHLC\")=TRUE,O298,Q298)/1000)*Y298*AA298*(1+VLOOKUP($H$4,BuildingType_Lookup,MATCH($H$5,HVAC,0)+4,FALSE)))))","v":0},0,0,0,0,0,0,{"$f":"W298/1000*Y298*AA298*IF(IFERROR(SEARCH(\"Gas\",$H$5),0)>0,VLOOKUP(\"Gas\",HVACg_Lookup,MATCH($H$6,BuildingSize,0)+1,FALSE),IF(IFERROR(SEARCH(\"Oil\",$H$5),0)>0,VLOOKUP(\"Oil\",HVACg_Lookup,MATCH($H$6,BuildingSize,0)+1,FALSE),IF(IFERROR(SEARCH(\"Propane\",$H$5),0)>0,VLOOKUP(\"Propane\",HVACg_Lookup,MATCH(Worksheet!$H$6,BuildingSize,0)+1,FALSE),0)))","v":0},{"$f":"X298/1000*Y298*AA298*IF(IFERROR(SEARCH(\"Gas\",$H$5),0)>0,VLOOKUP(\"Gas\",HVACg_Lookup,MATCH($H$6,BuildingSize,0)+1,FALSE),IF(IFERROR(SEARCH(\"Oil\",$H$5),0)>0,VLOOKUP(\"Oil\",HVACg_Lookup,MATCH($H$6,BuildingSize,0)+1,FALSE),IF(IFERROR(SEARCH(\"Propane\",$H$5),0)>0,VLOOKUP(\"Propane\",HVACg_Lookup,MATCH(Worksheet!$H$6,BuildingSize,0)+1,FALSE),0)))","v":0},0,0,{"$f":"IF(OR($B$4=\"\",$B$5=\"\",$H$4=\"\",$H$6=\"\",$H$5=\"\",A298=\"\",F298=\"\",J298=\"\",O298=\"\",P298=\"\")=TRUE,\"\",IF(C298=\"OSW\",IF(J298>=2,1,0),IF(C298=\"OSR\",IF(AND(J298>=2,P298>60)=TRUE,1,0),IF(C298=\"OSRH\",IF(AND(J298>=1,P298>90)=TRUE,1,0),IF(C298=\"OHLC\",IF(AND(N298=\"Y\",P298>60)=TRUE,1,0),IF(C298=\"DDC\",IF(AND(J298>=4,N298=\"Y\",P298>120)=TRUE,1,0),0))))))","v":""},{"$f":"IF(OR($B$4=\"\",$B$5=\"\",$H$4=\"\",$H$6=\"\",$H$5=\"\",A298=\"\",F298=\"\",K298=\"\",O298=\"\",P298=\"\")=TRUE,\"\",IF(C298=\"OSW\",IF(K298>=2,1,0),IF(C298=\"OSR\",IF(AND(K298>=2,Q298>60)=TRUE,1,0),IF(C298=\"OSRH\",IF(AND(K298>=1,Q298>90)=TRUE,1,0),IF(C298=\"OHLC\",IF(AND(N298=\"Y\",Q298>60)=TRUE,1,0),IF(C298=\"DDC\",IF(AND(K298>=4,N298=\"Y\",Q298>120)=TRUE,1,0),0))))))","v":""}]
[null,null,"",null,null,null,null,null,null,null,null,null,null,null,null,0,0,0,0,"",0,0,0,0,0,{"$f":"IF($H$4=\"\",0,VLOOKUP($H$4,BuildingType_Lookup,3,FALSE))","v":0},{"$f":"IF($H$4=\"\",0,VLOOKUP($H$4,BuildingType_Lookup,2,FALSE))","v":0},{"$f":"IF(AND(OR(AN299=\"\",AN299=0)=TRUE,OR(AO299=\"\",AO299=0))=TRUE,0,IF(AO299=\"\",(IF(OR(C299=\"DDC\",C299=\"OHLC\")=TRUE,O299,P299)/1000)*Y299*Z299*(1+VLOOKUP($H$4,BuildingType_Lookup,4,FALSE)),IF(AO299=0,0,(IF(OR(C299=\"DDC\",C299=\"OHLC\")=TRUE,O299,Q299)/1000)*Y299*Z299*(1+VLOOKUP($H$4,BuildingType_Lookup,4,FALSE)))))","v":0},{"$f":"IF(AND(OR(AN299=\"\",AN299=0)=TRUE,OR(AO299=\"\",AO299=0))=TRUE,0,IF(AO299=\"\",(IF(OR(C299=\"DDC\",C299=\"OHLC\")=TRUE,O299,P299)/1000)*Y299*AA299*(1+VLOOKUP($H$4,BuildingType_Lookup,MATCH($H$5,HVAC,0)+4,FALSE)),IF(AO299=0,0,(IF(OR(C299=\"DDC\",C299=\"OHLC\")=TRUE,O299,Q299)/1000)*Y299*AA299*(1+VLOOKUP($H$4,BuildingType_Lookup,MATCH($H$5,HVAC,0)+4,FALSE)))))","v":0},0,0,0,0,0,0,{"$f":"W299/1000*Y299*AA299*IF(IFERROR(SEARCH(\"Gas\",$H$5),0)>0,VLOOKUP(\"Gas\",HVACg_Lookup,MATCH($H$6,BuildingSize,0)+1,FALSE),IF(IFERROR(SEARCH(\"Oil\",$H$5),0)>0,VLOOKUP(\"Oil\",HVACg_Lookup,MATCH($H$6,BuildingSize,0)+1,FALSE),IF(IFERROR(SEARCH(\"Propane\",$H$5),0)>0,VLOOKUP(\"Propane\",HVACg_Lookup,MATCH(Worksheet!$H$6,BuildingSize,0)+1,FALSE),0)))","v":0},{"$f":"X299/1000*Y299*AA299*IF(IFERROR(SEARCH(\"Gas\",$H$5),0)>0,VLOOKUP(\"Gas\",HVACg_Lookup,MATCH($H$6,BuildingSize,0)+1,FALSE),IF(IFERROR(SEARCH(\"Oil\",$H$5),0)>0,VLOOKUP(\"Oil\",HVACg_Lookup,MATCH($H$6,BuildingSize,0)+1,FALSE),IF(IFERROR(SEARCH(\"Propane\",$H$5),0)>0,VLOOKUP(\"Propane\",HVACg_Lookup,MATCH(Worksheet!$H$6,BuildingSize,0)+1,FALSE),0)))","v":0},0,0,{"$f":"IF(OR($B$4=\"\",$B$5=\"\",$H$4=\"\",$H$6=\"\",$H$5=\"\",A299=\"\",F299=\"\",J299=\"\",O299=\"\",P299=\"\")=TRUE,\"\",IF(C299=\"OSW\",IF(J299>=2,1,0),IF(C299=\"OSR\",IF(AND(J299>=2,P299>60)=TRUE,1,0),IF(C299=\"OSRH\",IF(AND(J299>=1,P299>90)=TRUE,1,0),IF(C299=\"OHLC\",IF(AND(N299=\"Y\",P299>60)=TRUE,1,0),IF(C299=\"DDC\",IF(AND(J299>=4,N299=\"Y\",P299>120)=TRUE,1,0),0))))))","v":""},{"$f":"IF(OR($B$4=\"\",$B$5=\"\",$H$4=\"\",$H$6=\"\",$H$5=\"\",A299=\"\",F299=\"\",K299=\"\",O299=\"\",P299=\"\")=TRUE,\"\",IF(C299=\"OSW\",IF(K299>=2,1,0),IF(C299=\"OSR\",IF(AND(K299>=2,Q299>60)=TRUE,1,0),IF(C299=\"OSRH\",IF(AND(K299>=1,Q299>90)=TRUE,1,0),IF(C299=\"OHLC\",IF(AND(N299=\"Y\",Q299>60)=TRUE,1,0),IF(C299=\"DDC\",IF(AND(K299>=4,N299=\"Y\",Q299>120)=TRUE,1,0),0))))))","v":""}]
[null,null,"",null,null,null,null,null,null,null,null,null,null,null,null,0,0,0,0,"",0,0,0,0,0,{"$f":"IF($H$4=\"\",0,VLOOKUP($H$4,BuildingType_Lookup,3,FALSE))","v":0},{"$f":"IF($H$4=\"\",0,VLOOKUP($H$4,BuildingType_Lookup,2,FALSE))","v":0},{"$f":"IF(AND(OR(AN300=\"\",AN300=0)=TRUE,OR(AO300=\"\",AO300=0))=TRUE,0,IF(AO300=\"\",(IF(OR(C300=\"DDC\",C300=\"OHLC\")=TRUE,O300,P300)/1000)*Y300*Z300*(1+VLOOKUP($H$4,BuildingType_Lookup,4,FALSE)),IF(AO300=0,0,(IF(OR(C300=\"DDC\",C300=\"OHLC\")=TRUE,O300,Q300)/1000)*Y300*Z300*(1+VLOOKUP($H$4,BuildingType_Lookup,4,FALSE)))))","v":0},{"$f":"IF(AND(OR(AN300=\"\",AN300=0)=TRUE,OR(AO300=\"\",AO300=0))=TRUE,0,IF(AO300=\"\",(IF(OR(C300=\"DDC\",C300=\"OHLC\")=TRUE,O300,P300)/1000)*Y300*AA300*(1+VLOOKUP($H$4,BuildingType_Lookup,MATCH($H$5,HVAC,0)+4,FALSE)),IF(AO300=0,0,(IF(OR(C300=\"DDC\",C300=\"OHLC\")=TRUE,O300,Q300)/1000)*Y300*AA300*(1+VLOOKUP($H$4,BuildingType_Lookup,MATCH($H$5,HVAC,0)+4,FALSE)))))","v":0},0,0,0,0,0,0,{"$f":"W300/1000*Y300*AA300*IF(IFERROR(SEARCH(\"Gas\",$H$5),0)>0,VLOOKUP(\"Gas\",HVACg_Lookup,MATCH($H$6,BuildingSize,0)+1,FALSE),IF(IFERROR(SEARCH(\"Oil\",$H$5),0)>0,VLOOKUP(\"Oil\",HVACg_Lookup,MATCH($H$6,BuildingSize,0)+1,FALSE),IF(IFERROR(SEARCH(\"Propane\",$H$5),0)>0,VLOOKUP(\"Propane\",HVACg_Lookup,MATCH(Worksheet!$H$6,BuildingSize,0)+1,FALSE),0)))","v":0},{"$f":"X300/1000*Y300*AA300*IF(IFERROR(SEARCH(\"Gas\",$H$5),0)>0,VLOOKUP(\"Gas\",HVACg_Lookup,MATCH($H$6,BuildingSize,0)+1,FALSE),IF(IFERROR(SEARCH(\"Oil\",$H$5),0)>0,VLOOKUP(\"Oil\",HVACg_Lookup,MATCH($H$6,BuildingSize,0)+1,FALSE),IF(IFERROR(SEARCH(\"Propane\",$H$5),0)>0,VLOOKUP(\"Propane\",HVACg_Lookup,MATCH(Worksheet!$H$6,BuildingSize,0)+1,FALSE),0)))","v":0},0,0,{"$f":"IF(OR($B$4=\"\",$B$5=\"\",$H$4=\"\",$H$6=\"\",$H$5=\"\",A300=\"\",F300=\"\",J300=\"\",O300=\"\",P300=\"\")=TRUE,\"\",IF(C300=\"OSW\",IF(J300>=2,1,0),IF(C300=\"OSR\",IF(AND(J300>=2,P300>60)=TRUE,1,0),IF(C300=\"OSRH\",IF(AND(J300>=1,P300>90)=TRUE,1,0),IF(C300=\"OHLC\",IF(AND(N300=\"Y\",P300>60)=TRUE,1,0),IF(C300=\"DDC\",IF(AND(J300>=4,N300=\"Y\",P300>120)=TRUE,1,0),0))))))","v":""},{"$f":"IF(OR($B$4=\"\",$B$5=\"\",$H$4=\"\",$H$6=\"\",$H$5=\"\",A300=\"\",F300=\"\",K300=\"\",O300=\"\",P300=\"\")=TRUE,\"\",IF(C300=\"OSW\",IF(K300>=2,1,0),IF(C300=\"OSR\",IF(AND(K300>=2,Q300>60)=TRUE,1,0),IF(C300=\"OSRH\",IF(AND(K300>=1,Q300>90)=TRUE,1,0),IF(C300=\"OHLC\",IF(AND(N300=\"Y\",Q300>60)=TRUE,1,0),IF(C300=\"DDC\",IF(AND(K300>=4,N300=\"Y\",Q300>120)=TRUE,1,0),0))))))","v":""}]
[null,null,"",null,null,null,null,null,null,null,null,null,null,null,null,0,0,0,0,"",0,0,0,0,0,{"$f":"IF($H$4=\"\",0,VLOOKUP($H$4,BuildingType_Lookup,3,FALSE))","v":0},{"$f":"IF($H$4=\"\",0,VLOOKUP($H$4,BuildingType_Lookup,2,FALSE))","v":0},{"$f":"IF(AND(OR(AN301=\"\",AN301=0)=TRUE,OR(AO301=\"\",AO301=0))=TRUE,0,IF(AO301=\"\",(IF(OR(C301=\"DDC\",C301=\"OHLC\")=TRUE,O301,P301)/1000)*Y301*Z301*(1+VLOOKUP($H$4,BuildingType_Lookup,4,FALSE)),IF(AO301=0,0,(IF(OR(C301=\"DDC\",C301=\"OHLC\")=TRUE,O301,Q301)/1000)*Y301*Z301*(1+VLOOKUP($H$4,BuildingType_Lookup,4,FALSE)))))","v":0},{"$f":"IF(AND(OR(AN301=\"\",AN301=0)=TRUE,OR(AO301=\"\",AO301=0))=TRUE,0,IF(AO301=\"\",(IF(OR(C301=\"DDC\",C301=\"OHLC\")=TRUE,O301,P301)/1000)*Y301*AA301*(1+VLOOKUP($H$4,BuildingType_Lookup,MATCH($H$5,HVAC,0)+4,FALSE)),IF(AO301=0,0,(IF(OR(C301=\"DDC\",C301=\"OHLC\")=TRUE,O301,Q301)/1000)*Y301*AA301*(1+VLOOKUP($H$4,BuildingType_Lookup,MATCH($H$5,HVAC,0)+4,FALSE)))))","v":0},0,0,0,0,0,0,{"$f":"W301/1000*Y301*AA301*IF(IFERROR(SEARCH(\"Gas\",$H$5),0)>0,VLOOKUP(\"Gas\",HVACg_Lookup,MATCH($H$6,BuildingSize,0)+1,FALSE),IF(IFERROR(SEARCH(\"Oil\",$H$5),0)>0,VLOOKUP(\"Oil\",HVACg_Lookup,MATCH($H$6,BuildingSize,0)+1,FALSE),IF(IFERROR(SEARCH(\"Propane\",$H$5),0)>0,VLOOKUP(\"Propane\",HVACg_Lookup,MATCH(Worksheet!$H$6,BuildingSize,0)+1,FALSE),0)))","v":0},{"$f":"X301/1000*Y301*AA301*IF(IFERROR(SEARCH(\"Gas\",$H$5),0)>0,VLOOKUP(\"Gas\",HVACg_Lookup,MATCH($H$6,BuildingSize,0)+1,FALSE),IF(IFERROR(SEARCH(\"Oil\",$H$5),0)>0,VLOOKUP(\"Oil\",HVACg_Lookup,MATCH($H$6,BuildingSize,0)+1,FALSE),IF(IFERROR(SEARCH(\"Propane\",$H$5),0)>0,VLOOKUP(\"Propane\",HVACg_Lookup,MATCH(Worksheet!$H$6,BuildingSize,0)+1,FALSE),0)))","v":0},0,0,{"$f":"IF(OR($B$4=\"\",$B$5=\"\",$H$4=\"\",$H$6=\"\",$H$5=\"\",A301=\"\",F301=\"\",J301=\"\",O301=\"\",P301=\"\")=TRUE,\"\",IF(C301=\"OSW\",IF(J301>=2,1,0),IF(C301=\"OSR\",IF(AND(J301>=2,P301>60)=TRUE,1,0),IF(C301=\"OSRH\",IF(AND(J301>=1,P301>90)=TRUE,1,0),IF(C301=\"OHLC\",IF(AND(N301=\"Y\",P301>60)=TRUE,1,0),IF(C301=\"DDC\",IF(AND(J301>=4,N301=\"Y\",P301>120)=TRUE,1,0),0))))))","v":""},{"$f":"IF(OR($B$4=\"\",$B$5=\"\",$H$4=\"\",$H$6=\"\",$H$5=\"\",A301=\"\",F301=\"\",K301=\"\",O301=\"\",P301=\"\")=TRUE,\"\",IF(C301=\"OSW\",IF(K301>=2,1,0),IF(C301=\"OSR\",IF(AND(K301>=2,Q301>60)=TRUE,1,0),IF(C301=\"OSRH\",IF(AND(K301>=1,Q301>90)=TRUE,1,0),IF(C301=\"OHLC\",IF(AND(N301=\"Y\",Q301>60)=TRUE,1,0),IF(C301=\"DDC\",IF(AND(K301>=4,N301=\"Y\",Q301>120)=TRUE,1,0),0))))))","v":""}]
[null,null,"",null,null,null,null,null,null,null,null,null,null,null,null,0,0,0,0,"",0,0,0,0,0,{"$f":"IF($H$4=\"\",0,VLOOKUP($H$4,BuildingType_Lookup,3,FALSE))","v":0},{"$f":"IF($H$4=\"\",0,VLOOKUP($H$4,BuildingType_Lookup,2,FALSE))","v":0},{"$f":"IF(AND(OR(AN302=\"\",AN302=0)=TRUE,OR(AO302=\"\",AO302=0))=TRUE,0,IF(AO302=\"\",(IF(OR(C302=\"DDC\",C302=\"OHLC\")=TRUE,O302,P302)/1000)*Y302*Z302*(1+VLOOKUP($H$4,BuildingType_Lookup,4,FALSE)),IF(AO302=0,0,(IF(OR(C302=\"DDC\",C302=\"OHLC\")=TRUE,O302,Q302)/1000)*Y302*Z302*(1+VLOOKUP($H$4,BuildingType_Lookup,4,FALSE)))))","v":0},{"$f":"IF(AND(OR(AN302=\"\",AN302=0)=TRUE,OR(AO302=\"\",AO302=0))=TRUE,0,IF(AO302=\"\",(IF(OR(C302=\"DDC\",C302=\"OHLC\")=TRUE,O302,P302)/1000)*Y302*AA302*(1+VLOOKUP($H$4,BuildingType_Lookup,MATCH($H$5,HVAC,0)+4,FALSE)),IF(AO302=0,0,(IF(OR(C302=\"DDC\",C302=\"OHLC\")=TRUE,O302,Q302)/1000)*Y302*AA302*(1+VLOOKUP($H$4,BuildingType_Lookup,MATCH($H$5,HVAC,0)+4,FALSE)))))","v":0},0,0,0,0,0,0,{"$f":"W302/1000*Y302*AA302*IF(IFERROR(SEARCH(\"Gas\",$H$5),0)>0,VLOOKUP(\"Gas\",HVACg_Lookup,MATCH($H$6,BuildingSize,0)+1,FALSE),IF(IFERROR(SEARCH(\"Oil\",$H$5),0)>0,VLOOKUP(\"Oil\",HVACg_Lookup,MATCH($H$6,BuildingSize,0)+1,FALSE),IF(IFERROR(SEARCH(\"Propane\",$H$5),0)>0,VLOOKUP(\"Propane\",HVACg_Lookup,MATCH(Worksheet!$H$6,BuildingSize,0)+1,FALSE),0)))","v":0},{"$f":"X302/1000*Y302*AA302*IF(IFERROR(SEARCH(\"Gas\",$H$5),0)>0,VLOOKUP(\"Gas\",HVACg_Lookup,MATCH($H$6,BuildingSize,0)+1,FALSE),IF(IFERROR(SEARCH(\"Oil\",$H$5),0)>0,VLOOKUP(\"Oil\",HVACg_Lookup,MATCH($H$6,BuildingSize,0)+1,FALSE),IF(IFERROR(SEARCH(\"Propane\",$H$5),0)>0,VLOOKUP(\"Propane\",HVACg_Lookup,MATCH(Worksheet!$H$6,BuildingSize,0)+1,FALSE),0)))","v":0},0,0,{"$f":"IF(OR($B$4=\"\",$B$5=\"\",$H$4=\"\",$H$6=\"\",$H$5=\"\",A302=\"\",F302=\"\",J302=\"\",O302=\"\",P302=\"\")=TRUE,\"\",IF(C302=\"OSW\",IF(J302>=2,1,0),IF(C302=\"OSR\",IF(AND(J302>=2,P302>60)=TRUE,1,0),IF(C302=\"OSRH\",IF(AND(J302>=1,P302>90)=TRUE,1,0),IF(C302=\"OHLC\",IF(AND(N302=\"Y\",P302>60)=TRUE,1,0),IF(C302=\"DDC\",IF(AND(J302>=4,N302=\"Y\",P302>120)=TRUE,1,0),0))))))","v":""},{"$f":"IF(OR($B$4=\"\",$B$5=\"\",$H$4=\"\",$H$6=\"\",$H$5=\"\",A302=\"\",F302=\"\",K302=\"\",O302=\"\",P302=\"\")=TRUE,\"\",IF(C302=\"OSW\",IF(K302>=2,1,0),IF(C302=\"OSR\",IF(AND(K302>=2,Q302>60)=TRUE,1,0),IF(C302=\"OSRH\",IF(AND(K302>=1,Q302>90)=TRUE,1,0),IF(C302=\"OHLC\",IF(AND(N302=\"Y\",Q302>60)=TRUE,1,0),IF(C302=\"DDC\",IF(AND(K302>=4,N302=\"Y\",Q302>120)=TRUE,1,0),0))))))","v":""}]
[null,null,"",null,null,null,null,null,null,null,null,null,null,null,null,0,0,0,0,"",0,0,0,0,0,{"$f":"IF($H$4=\"\",0,VLOOKUP($H$4,BuildingType_Lookup,3,FALSE))","v":0},{"$f":"IF($H$4=\"\",0,VLOOKUP($H$4,BuildingType_Lookup,2,FALSE))","v":0},{"$f":"IF(AND(OR(AN303=\"\",AN303=0)=TRUE,OR(AO303=\"\",AO303=0))=TRUE,0,IF(AO303=\"\",(IF(OR(C303=\"DDC\",C303=\"OHLC\")=TRUE,O303,P303)/1000)*Y303*Z303*(1+VLOOKUP($H$4,BuildingType_Lookup,4,FALSE)),IF(AO303=0,0,(IF(OR(C303=\"DDC\",C303=\"OHLC\")=TRUE,O303,Q303)/1000)*Y303*Z303*(1+VLOOKUP($H$4,BuildingType_Lookup,4,FALSE)))))","v":0},{"$f":"IF(AND(OR(AN303=\"\",AN303=0)=TRUE,OR(AO303=\"\",AO303=0))=TRUE,0,IF(AO303=\"\",(IF(OR(C303=\"DDC\",C303=\"OHLC\")=TRUE,O303,P303)/1000)*Y303*AA303*(1+VLOOKUP($H$4,BuildingType_Lookup,MATCH($H$5,HVAC,0)+4,FALSE)),IF(AO303=0,0,(IF(OR(C303=\"DDC\",C303=\"OHLC\")=TRUE,O303,Q303)/1000)*Y303*AA303*(1+VLOOKUP($H$4,BuildingType_Lookup,MATCH($H$5,HVAC,0)+4,FALSE)))))","v":0},0,0,0,0,0,0,{"$f":"W303/1000*Y303*AA303*IF(IFERROR(SEARCH(\"Gas\",$H$5),0)>0,VLOOKUP(\"Gas\",HVACg_Lookup,MATCH($H$6,BuildingSize,0)+1,FALSE),IF(IFERROR(SEARCH(\"Oil\",$H$5),0)>0,VLOOKUP(\"Oil\",HVACg_Lookup,MATCH($H$6,BuildingSize,0)+1,FALSE),IF(IFERROR(SEARCH(\"Propane\",$H$5),0)>0,VLOOKUP(\"Propane\",HVACg_Lookup,MATCH(Worksheet!$H$6,BuildingSize,0)+1,FALSE),0)))","v":0},{"$f":"X303/1000*Y303*AA303*IF(IFERROR(SEARCH(\"Gas\",$H$5),0)>0,VLOOKUP(\"Gas\",HVACg_Lookup,MATCH($H$6,BuildingSize,0)+1,FALSE),IF(IFERROR(SEARCH(\"Oil\",$H$5),0)>0,VLOOKUP(\"Oil\",HVACg_Lookup,MATCH($H$6,BuildingSize,0)+1,FALSE),IF(IFERROR(SEARCH(\"Propane\",$H$5),0)>0,VLOOKUP(\"Propane\",HVACg_Lookup,MATCH(Worksheet!$H$6,BuildingSize,0)+1,FALSE),0)))","v":0},0,0,{"$f":"IF(OR($B$4=\"\",$B$5=\"\",$H$4=\"\",$H$6=\"\",$H$5=\"\",A303=\"\",F303=\"\",J303=\"\",O303=\"\",P303=\"\")=TRUE,\"\",IF(C303=\"OSW\",IF(J303>=2,1,0),IF(C303=\"OSR\",IF(AND(J303>=2,P303>60)=TRUE,1,0),IF(C303=\"OSRH\",IF(AND(J303>=1,P303>90)=TRUE,1,0),IF(C303=\"OHLC\",IF(AND(N303=\"Y\",P303>60)=TRUE,1,0),IF(C303=\"DDC\",IF(AND(J303>=4,N303=\"Y\",P303>120)=TRUE,1,0),0))))))","v":""},{"$f":"IF(OR($B$4=\"\",$B$5=\"\",$H$4=\"\",$H$6=\"\",$H$5=\"\",A303=\"\",F303=\"\",K303=\"\",O303=\"\",P303=\"\")=TRUE,\"\",IF(C303=\"OSW\",IF(K303>=2,1,0),IF(C303=\"OSR\",IF(AND(K303>=2,Q303>60)=TRUE,1,0),IF(C303=\"OSRH\",IF(AND(K303>=1,Q303>90)=TRUE,1,0),IF(C303=\"OHLC\",IF(AND(N303=\"Y\",Q303>60)=TRUE,1,0),IF(C303=\"DDC\",IF(AND(K303>=4,N303=\"Y\",Q303>120)=TRUE,1,0),0))))))","v":""}]
[null,null,"",null,null,null,null,null,null,null,null,null,null,null,null,0,0,0,0,"",0,0,0,0,0,{"$f":"IF($H$4=\"\",0,VLOOKUP($H$4,BuildingType_Lookup,3,FALSE))","v":0},{"$f":"IF($H$4=\"\",0,VLOOKUP($H$4,BuildingType_Lookup,2,FALSE))","v":0},{"$f":"IF(AND(OR(AN304=\"\",AN304=0)=TRUE,OR(AO304=\"\",AO304=0))=TRUE,0,IF(AO304=\"\",(IF(OR(C304=\"DDC\",C304=\"OHLC\")=TRUE,O304,P304)/1000)*Y304*Z304*(1+VLOOKUP($H$4,BuildingType_Lookup,4,FALSE)),IF(AO304=0,0,(IF(OR(C304=\"DDC\",C304=\"OHLC\")=TRUE,O304,Q304)/1000)*Y304*Z304*(1+VLOOKUP($H$4,BuildingType_Lookup,4,FALSE)))))","v":0},{"$f":"IF(AND(OR(AN304=\"\",AN304=0)=TRUE,OR(AO304=\"\",AO304=0))=TRUE,0,IF(AO304=\"\",(IF(OR(C304=\"DDC\",C304=\"OHLC\")=TRUE,O304,P304)/1000)*Y304*AA304*(1+VLOOKUP($H$4,BuildingType_Lookup,MATCH($H$5,HVAC,0)+4,FALSE)),IF(AO304=0,0,(IF(OR(C304=\"DDC\",C304=\"OHLC\")=TRUE,O304,Q304)/1000)*Y304*AA304*(1+VLOOKUP($H$4,BuildingType_Lookup,MATCH($H$5,HVAC,0)+4,FALSE)))))","v":0},0,0,0,0,0,0,{"$f":"W304/1000*Y304*AA304*IF(IFERROR(SEARCH(\"Gas\",$H$5),0)>0,VLOOKUP(\"Gas\",HVACg_Lookup,MATCH($H$6,BuildingSize,0)+1,FALSE),IF(IFERROR(SEARCH(\"Oil\",$H$5),0)>0,VLOOKUP(\"Oil\",HVACg_Lookup,MATCH($H$6,BuildingSize,0)+1,FALSE),IF(IFERROR(SEARCH(\"Propane\",$H$5),0)>0,VLOOKUP(\"Propane\",HVACg_Lookup,MATCH(Worksheet!$H$6,BuildingSize,0)+1,FALSE),0)))","v":0},{"$f":"X304/1000*Y304*AA304*IF(IFERROR(SEARCH(\"Gas\",$H$5),0)>0,VLOOKUP(\"Gas\",HVACg_Lookup,MATCH($H$6,BuildingSize,0)+1,FALSE),IF(IFERROR(SEARCH(\"Oil\",$H$5),0)>0,VLOOKUP(\"Oil\",HVACg_Lookup,MATCH($H$6,BuildingSize,0)+1,FALSE),IF(IFERROR(SEARCH(\"Propane\",$H$5),0)>0,VLOOKUP(\"Propane\",HVACg_Lookup,MATCH(Worksheet!$H$6,BuildingSize,0)+1,FALSE),0)))","v":0},0,0,{"$f":"IF(OR($B$4=\"\",$B$5=\"\",$H$4=\"\",$H$6=\"\",$H$5=\"\",A304=\"\",F304=\"\",J304=\"\",O304=\"\",P304=\"\")=TRUE,\"\",IF(C304=\"OSW\",IF(J304>=2,1,0),IF(C304=\"OSR\",IF(AND(J304>=2,P304>60)=TRUE,1,0),IF(C304=\"OSRH\",IF(AND(J304>=1,P304>90)=TRUE,1,0),IF(C304=\"OHLC\",IF(AND(N304=\"Y\",P304>60)=TRUE,1,0),IF(C304=\"DDC\",IF(AND(J304>=4,N304=\"Y\",P304>120)=TRUE,1,0),0))))))","v":""},{"$f":"IF(OR($B$4=\"\",$B$5=\"\",$H$4=\"\",$H$6=\"\",$H$5=\"\",A304=\"\",F304=\"\",K304=\"\",O304=\"\",P304=\"\")=TRUE,\"\",IF(C304=\"OSW\",IF(K304>=2,1,0),IF(C304=\"OSR\",IF(AND(K304>=2,Q304>60)=TRUE,1,0),IF(C304=\"OSRH\",IF(AND(K304>=1,Q304>90)=TRUE,1,0),IF(C304=\"OHLC\",IF(AND(N304=\"Y\",Q304>60)=TRUE,1,0),IF(C304=\"DDC\",IF(AND(K304>=4,N304=\"Y\",Q304>120)=TRUE,1,0),0))))))","v":""}]
[null,null,"",null,null,null,null,null,null,null,null,null,null,null,null,0,0,0,0,"",0,0,0,0,0,{"$f":"IF($H$4=\"\",0,VLOOKUP($H$4,BuildingType_Lookup,3,FALSE))","v":0},{"$f":"IF($H$4=\"\",0,VLOOKUP($H$4,BuildingType_Lookup,2,FALSE))","v":0},{"$f":"IF(AND(OR(AN305=\"\",AN305=0)=TRUE,OR(AO305=\"\",AO305=0))=TRUE,0,IF(AO305=\"\",(IF(OR(C305=\"DDC\",C305=\"OHLC\")=TRUE,O305,P305)/1000)*Y305*Z305*(1+VLOOKUP($H$4,BuildingType_Lookup,4,FALSE)),IF(AO305=0,0,(IF(OR(C305=\"DDC\",C305=\"OHLC\")=TRUE,O305,Q305)/1000)*Y305*Z305*(1+VLOOKUP($H$4,BuildingType_Lookup,4,FALSE)))))","v":0},{"$f":"IF(AND(OR(AN305=\"\",AN305=0)=TRUE,OR(AO305=\"\",AO305=0))=TRUE,0,IF(AO305=\"\",(IF(OR(C305=\"DDC\",C305=\"OHLC\")=TRUE,O305,P305)/1000)*Y305*AA305*(1+VLOOKUP($H$4,BuildingType_Lookup,MATCH($H$5,HVAC,0)+4,FALSE)),IF(AO305=0,0,(IF(OR(C305=\"DDC\",C305=\"OHLC\")=TRUE,O305,Q305)/1000)*Y305*AA305*(1+VLOOKUP($H$4,BuildingType_Lookup,MATCH($H$5,HVAC,0)+4,FALSE)))))","v":0},0,0,0,0,0,0,{"$f":"W305/1000*Y305*AA305*IF(IFERROR(SEARCH(\"Gas\",$H$5),0)>0,VLOOKUP(\"Gas\",HVACg_Lookup,MATCH($H$6,BuildingSize,0)+1,FALSE),IF(IFERROR(SEARCH(\"Oil\",$H$5),0)>0,VLOOKUP(\"Oil\",HVACg_Lookup,MATCH($H$6,BuildingSize,0)+1,FALSE),IF(IFERROR(SEARCH(\"Propane\",$H$5),0)>0,VLOOKUP(\"Propane\",HVACg_Lookup,MATCH(Worksheet!$H$6,BuildingSize,0)+1,FALSE),0)))","v":0},{"$f":"X305/1000*Y305*AA305*IF(IFERROR(SEARCH(\"Gas\",$H$5),0)>0,VLOOKUP(\"Gas\",HVACg_Lookup,MATCH($H$6,BuildingSize,0)+1,FALSE),IF(IFERROR(SEARCH(\"Oil\",$H$5),0)>0,VLOOKUP(\"Oil\",HVACg_Lookup,MATCH($H$6,BuildingSize,0)+1,FALSE),IF(IFERROR(SEARCH(\"Propane\",$H$5),0)>0,VLOOKUP(\"Propane\",HVACg_Lookup,MATCH(Worksheet!$H$6,BuildingSize,0)+1,FALSE),0)))","v":0},0,0,{"$f":"IF(OR($B$4=\"\",$B$5=\"\",$H$4=\"\",$H$6=\"\",$H$5=\"\",A305=\"\",F305=\"\",J305=\"\",O305=\"\",P305=\"\")=TRUE,\"\",IF(C305=\"OSW\",IF(J305>=2,1,0),IF(C305=\"OSR\",IF(AND(J305>=2,P305>60)=TRUE,1,0),IF(C305=\"OSRH\",IF(AND(J305>=1,P305>90)=TRUE,1,0),IF(C305=\"OHLC\",IF(AND(N305=\"Y\",P305>60)=TRUE,1,0),IF(C305=\"DDC\",IF(AND(J305>=4,N305=\"Y\",P305>120)=TRUE,1,0),0))))))","v":""},{"$f":"IF(OR($B$4=\"\",$B$5=\"\",$H$4=\"\",$H$6=\"\",$H$5=\"\",A305=\"\",F305=\"\",K305=\"\",O305=\"\",P305=\"\")=TRUE,\"\",IF(C305=\"OSW\",IF(K305>=2,1,0),IF(C305=\"OSR\",IF(AND(K305>=2,Q305>60)=TRUE,1,0),IF(C305=\"OSRH\",IF(AND(K305>=1,Q305>90)=TRUE,1,0),IF(C305=\"OHLC\",IF(AND(N305=\"Y\",Q305>60)=TRUE,1,0),IF(C305=\"DDC\",IF(AND(K305>=4,N305=\"Y\",Q305>120)=TRUE,1,0),0))))))","v":""}]
[null,null,"",null,null,null,null,null,null,null,null,null,null,null,null,0,0,0,0,"",0,0,0,0,0,{"$f":"IF($H$4=\"\",0,VLOOKUP($H$4,BuildingType_Lookup,3,FALSE))","v":0},{"$f":"IF($H$4=\"\",0,VLOOKUP($H$4,BuildingType_Lookup,2,FALSE))","v":0},{"$f":"IF(AND(OR(AN306=\"\",AN306=0)=TRUE,OR(AO306=\"\",AO306=0))=TRUE,0,IF(AO306=\"\",(IF(OR(C306=\"DDC\",C306=\"OHLC\")=TRUE,O306,P306)/1000)*Y306*Z306*(1+VLOOKUP($H$4,BuildingType_Lookup,4,FALSE)),IF(AO306=0,0,(IF(OR(C306=\"DDC\",C306=\"OHLC\")=TRUE,O306,Q306)/1000)*Y306*Z306*(1+VLOOKUP($H$4,BuildingType_Lookup,4,FALSE)))))","v":0},{"$f":"IF(AND(OR(AN306=\"\",AN306=0)=TRUE,OR(AO306=\"\",AO306=0))=TRUE,0,IF(AO306=\"\",(IF(OR(C306=\"DDC\",C306=\"OHLC\")=TRUE,O306,P306)/1000)*Y306*AA306*(1+VLOOKUP($H$4,BuildingType_Lookup,MATCH($H$5,HVAC,0)+4,FALSE)),IF(AO306=0,0,(IF(OR(C306=\"DDC\",C306=\"OHLC\")=TRUE,O306,Q306)/1000)*Y306*AA306*(1+VLOOKUP($H$4,BuildingType_Lookup,MATCH($H$5,HVAC,0)+4,FALSE)))))","v":0},0,0,0,0,0,0,{"$f":"W306/1000*Y306*AA306*IF(IFERROR(SEARCH(\"Gas\",$H$5),0)>0,VLOOKUP(\"Gas\",HVACg_Lookup,MATCH($H$6,BuildingSize,0)+1,FALSE),IF(IFERROR(SEARCH(\"Oil\",$H$5),0)>0,VLOOKUP(\"Oil\",HVACg_Lookup,MATCH($H$6,BuildingSize,0)+1,FALSE),IF(IFERROR(SEARCH(\"Propane\",$H$5),0)>0,VLOOKUP(\"Propane\",HVACg_Lookup,MATCH(Worksheet!$H$6,BuildingSize,0)+1,FALSE),0)))","v":0},{"$f":"X306/1000*Y306*AA306*IF(IFERROR(SEARCH(\"Gas\",$H$5),0)>0,VLOOKUP(\"Gas\",HVACg_Lookup,MATCH($H$6,BuildingSize,0)+1,FALSE),IF(IFERROR(SEARCH(\"Oil\",$H$5),0)>0,VLOOKUP(\"Oil\",HVACg_Lookup,MATCH($H$6,BuildingSize,0)+1,FALSE),IF(IFERROR(SEARCH(\"Propane\",$H$5),0)>0,VLOOKUP(\"Propane\",HVACg_Lookup,MATCH(Worksheet!$H$6,BuildingSize,0)+1,FALSE),0)))","v":0},0,0,{"$f":"IF(OR($B$4=\"\",$B$5=\"\",$H$4=\"\",$H$6=\"\",$H$5=\"\",A306=\"\",F306=\"\",J306=\"\",O306=\"\",P306=\"\")=TRUE,\"\",IF(C306=\"OSW\",IF(J306>=2,1,0),IF(C306=\"OSR\",IF(AND(J306>=2,P306>60)=TRUE,1,0),IF(C306=\"OSRH\",IF(AND(J306>=1,P306>90)=TRUE,1,0),IF(C306=\"OHLC\",IF(AND(N306=\"Y\",P306>60)=TRUE,1,0),IF(C306=\"DDC\",IF(AND(J306>=4,N306=\"Y\",P306>120)=TRUE,1,0),0))))))","v":""},{"$f":"IF(OR($B$4=\"\",$B$5=\"\",$H$4=\"\",$H$6=\"\",$H$5=\"\",A306=\"\",F306=\"\",K306=\"\",O306=\"\",P306=\"\")=TRUE,\"\",IF(C306=\"OSW\",IF(K306>=2,1,0),IF(C306=\"OSR\",IF(AND(K306>=2,Q306>60)=TRUE,1,0),IF(C306=\"OSRH\",IF(AND(K306>=1,Q306>90)=TRUE,1,0),IF(C306=\"OHLC\",IF(AND(N306=\"Y\",Q306>60)=TRUE,1,0),IF(C306=\"DDC\",IF(AND(K306>=4,N306=\"Y\",Q306>120)=TRUE,1,0),0))))))","v":""}]
[null,null,"",null,null,null,null,null,null,null,null,null,null,null,null,0,0,0,0,"",0,0,0,0,0,{"$f":"IF($H$4=\"\",0,VLOOKUP($H$4,BuildingType_Lookup,3,FALSE))","v":0},{"$f":"IF($H$4=\"\",0,VLOOKUP($H$4,BuildingType_Lookup,2,FALSE))","v":0},{"$f":"IF(AND(OR(AN307=\"\",AN307=0)=TRUE,OR(AO307=\"\",AO307=0))=TRUE,0,IF(AO307=\"\",(IF(OR(C307=\"DDC\",C307=\"OHLC\")=TRUE,O307,P307)/1000)*Y307*Z307*(1+VLOOKUP($H$4,BuildingType_Lookup,4,FALSE)),IF(AO307=0,0,(IF(OR(C307=\"DDC\",C307=\"OHLC\")=TRUE,O307,Q307)/1000)*Y307*Z307*(1+VLOOKUP($H$4,BuildingType_Lookup,4,FALSE)))))","v":0},{"$f":"IF(AND(OR(AN307=\"\",AN307=0)=TRUE,OR(AO307=\"\",AO307=0))=TRUE,0,IF(AO307=\"\",(IF(OR(C307=\"DDC\",C307=\"OHLC\")=TRUE,O307,P307)/1000)*Y307*AA307*(1+VLOOKUP($H$4,BuildingType_Lookup,MATCH($H$5,HVAC,0)+4,FALSE)),IF(AO307=0,0,(IF(OR(C307=\"DDC\",C307=\"OHLC\")=TRUE,O307,Q307)/1000)*Y307*AA307*(1+VLOOKUP($H$4,BuildingType_Lookup,MATCH($H$5,HVAC,0)+4,FALSE)))))","v":0},0,0,0,0,0,0,{"$f":"W307/1000*Y307*AA307*IF(IFERROR(SEARCH(\"Gas\",$H$5),0)>0,VLOOKUP(\"Gas\",HVACg_Lookup,MATCH($H$6,BuildingSize,0)+1,FALSE),IF(IFERROR(SEARCH(\"Oil\",$H$5),0)>0,VLOOKUP(\"Oil\",HVACg_Lookup,MATCH($H$6,BuildingSize,0)+1,FALSE),IF(IFERROR(SEARCH(\"Propane\",$H$5),0)>0,VLOOKUP(\"Propane\",HVACg_Lookup,MATCH(Worksheet!$H$6,BuildingSize,0)+1,FALSE),0)))","v":0},{"$f":"X307/1000*Y307*AA307*IF(IFERROR(SEARCH(\"Gas\",$H$5),0)>0,VLOOKUP(\"Gas\",HVACg_Lookup,MATCH($H$6,BuildingSize,0)+1,FALSE),IF(IFERROR(SEARCH(\"Oil\",$H$5),0)>0,VLOOKUP(\"Oil\",HVACg_Lookup,MATCH($H$6,BuildingSize,0)+1,FALSE),IF(IFERROR(SEARCH(\"Propane\",$H$5),0)>0,VLOOKUP(\"Propane\",HVACg_Lookup,MATCH(Worksheet!$H$6,BuildingSize,0)+1,FALSE),0)))","v":0},0,0,{"$f":"IF(OR($B$4=\"\",$B$5=\"\",$H$4=\"\",$H$6=\"\",$H$5=\"\",A307=\"\",F307=\"\",J307=\"\",O307=\"\",P307=\"\")=TRUE,\"\",IF(C307=\"OSW\",IF(J307>=2,1,0),IF(C307=\"OSR\",IF(AND(J307>=2,P307>60)=TRUE,1,0),IF(C307=\"OSRH\",IF(AND(J307>=1,P307>90)=TRUE,1,0),IF(C307=\"OHLC\",IF(AND(N307=\"Y\",P307>60)=TRUE,1,0),IF(C307=\"DDC\",IF(AND(J307>=4,N307=\"Y\",P307>120)=TRUE,1,0),0))))))","v":""},{"$f":"IF(OR($B$4=\"\",$B$5=\"\",$H$4=\"\",$H$6=\"\",$H$5=\"\",A307=\"\",F307=\"\",K307=\"\",O307=\"\",P307=\"\")=TRUE,\"\",IF(C307=\"OSW\",IF(K307>=2,1,0),IF(C307=\"OSR\",IF(AND(K307>=2,Q307>60)=TRUE,1,0),IF(C307=\"OSRH\",IF(AND(K307>=1,Q307>90)=TRUE,1,0),IF(C307=\"OHLC\",IF(AND(N307=\"Y\",Q307>60)=TRUE,1,0),IF(C307=\"DDC\",IF(AND(K307>=4,N307=\"Y\",Q307>120)=TRUE,1,0),0))))))","v":""}]
[null,null,"",null,null,null,null,null,null,null,null,null,null,null,null,0,0,0,0,"",0,0,0,0,0,{"$f":"IF($H$4=\"\",0,VLOOKUP($H$4,BuildingType_Lookup,3,FALSE))","v":0},{"$f":"IF($H$4=\"\",0,VLOOKUP($H$4,BuildingType_Lookup,2,FALSE))","v":0},{"$f":"IF(AND(OR(AN308=\"\",AN308=0)=TRUE,OR(AO308=\"\",AO308=0))=TRUE,0,IF(AO308=\"\",(IF(OR(C308=\"DDC\",C308=\"OHLC\")=TRUE,O308,P308)/1000)*Y308*Z308*(1+VLOOKUP($H$4,BuildingType_Lookup,4,FALSE)),IF(AO308=0,0,(IF(OR(C308=\"DDC\",C308=\"OHLC\")=TRUE,O308,Q308)/1000)*Y308*Z308*(1+VLOOKUP($H$4,BuildingType_Lookup,4,FALSE)))))","v":0},{"$f":"IF(AND(OR(AN308=\"\",AN308=0)=TRUE,OR(AO308=\"\",AO308=0))=TRUE,0,IF(AO308=\"\",(IF(OR(C308=\"DDC\",C308=\"OHLC\")=TRUE,O308,P308)/1000)*Y308*AA308*(1+VLOOKUP($H$4,BuildingType_Lookup,MATCH($H$5,HVAC,0)+4,FALSE)),IF(AO308=0,0,(IF(OR(C308=\"DDC\",C308=\"OHLC\")=TRUE,O308,Q308)/1000)*Y308*AA308*(1+VLOOKUP($H$4,BuildingType_Lookup,MATCH($H$5,HVAC,0)+4,FALSE)))))","v":0},0,0,0,0,0,0,{"$f":"W308/1000*Y308*AA308*IF(IFERROR(SEARCH(\"Gas\",$H$5),0)>0,VLOOKUP(\"Gas\",HVACg_Lookup,MATCH($H$6,BuildingSize,0)+1,FALSE),IF(IFERROR(SEARCH(\"Oil\",$H$5),0)>0,VLOOKUP(\"Oil\",HVACg_Lookup,MATCH($H$6,BuildingSize,0)+1,FALSE),IF(IFERROR(SEARCH(\"Propane\",$H$5),0)>0,VLOOKUP(\"Propane\",HVACg_Lookup,MATCH(Worksheet!$H$6,BuildingSize,0)+1,FALSE),0)))","v":0},{"$f":"X308/1000*Y308*AA308*IF(IFERROR(SEARCH(\"Gas\",$H$5),0)>0,VLOOKUP(\"Gas\",HVACg_Lookup,MATCH($H$6,BuildingSize,0)+1,FALSE),IF(IFERROR(SEARCH(\"Oil\",$H$5),0)>0,VLOOKUP(\"Oil\",HVACg_Lookup,MATCH($H$6,BuildingSize,0)+1,FALSE),IF(IFERROR(SEARCH(\"Propane\",$H$5),0)>0,VLOOKUP(\"Propane\",HVACg_Lookup,MATCH(Worksheet!$H$6,BuildingSize,0)+1,FALSE),0)))","v":0},0,0,{"$f":"IF(OR($B$4=\"\",$B$5=\"\",$H$4=\"\",$H$6=\"\",$H$5=\"\",A308=\"\",F308=\"\",J308=\"\",O308=\"\",P308=\"\")=TRUE,\"\",IF(C308=\"OSW\",IF(J308>=2,1,0),IF(C308=\"OSR\",IF(AND(J308>=2,P308>60)=TRUE,1,0),IF(C308=\"OSRH\",IF(AND(J308>=1,P308>90)=TRUE,1,0),IF(C308=\"OHLC\",IF(AND(N308=\"Y\",P308>60)=TRUE,1,0),IF(C308=\"DDC\",IF(AND(J308>=4,N308=\"Y\",P308>120)=TRUE,1,0),0))))))","v":""},{"$f":"IF(OR($B$4=\"\",$B$5=\"\",$H$4=\"\",$H$6=\"\",$H$5=\"\",A308=\"\",F308=\"\",K308=\"\",O308=\"\",P308=\"\")=TRUE,\"\",IF(C308=\"OSW\",IF(K308>=2,1,0),IF(C308=\"OSR\",IF(AND(K308>=2,Q308>60)=TRUE,1,0),IF(C308=\"OSRH\",IF(AND(K308>=1,Q308>90)=TRUE,1,0),IF(C308=\"OHLC\",IF(AND(N308=\"Y\",Q308>60)=TRUE,1,0),IF(C308=\"DDC\",IF(AND(K308>=4,N308=\"Y\",Q308>120)=TRUE,1,0),0))))))","v":""}]
[null,null,"",null,null,null,null,null,null,null,null,null,null,null,null,0,0,0,0,"",0,0,0,0,0,{"$f":"IF($H$4=\"\",0,VLOOKUP($H$4,BuildingType_Lookup,3,FALSE))","v":0},{"$f":"IF($H$4=\"\",0,VLOOKUP($H$4,BuildingType_Lookup,2,FALSE))","v":0},{"$f":"IF(AND(OR(AN309=\"\",AN309=0)=TRUE,OR(AO309=\"\",AO309=0))=TRUE,0,IF(AO309=\"\",(IF(OR(C309=\"DDC\",C309=\"OHLC\")=TRUE,O309,P309)/1000)*Y309*Z309*(1+VLOOKUP($H$4,BuildingType_Lookup,4,FALSE)),IF(AO309=0,0,(IF(OR(C309=\"DDC\",C309=\"OHLC\")=TRUE,O309,Q309)/1000)*Y309*Z309*(1+VLOOKUP($H$4,BuildingType_Lookup,4,FALSE)))))","v":0},{"$f":"IF(AND(OR(AN309=\"\",AN309=0)=TRUE,OR(AO309=\"\",AO309=0))=TRUE,0,IF(AO309=\"\",(IF(OR(C309=\"DDC\",C309=\"OHLC\")=TRUE,O309,P309)/1000)*Y309*AA309*(1+VLOOKUP($H$4,BuildingType_Lookup,MATCH($H$5,HVAC,0)+4,FALSE)),IF(AO309=0,0,(IF(OR(C309=\"DDC\",C309=\"OHLC\")=TRUE,O309,Q309)/1000)*Y309*AA309*(1+VLOOKUP($H$4,BuildingType_Lookup,MATCH($H$5,HVAC,0)+4,FALSE)))))","v":0},0,0,0,0,0,0,{"$f":"W309/1000*Y309*AA309*IF(IFERROR(SEARCH(\"Gas\",$H$5),0)>0,VLOOKUP(\"Gas\",HVACg_Lookup,MATCH($H$6,BuildingSize,0)+1,FALSE),IF(IFERROR(SEARCH(\"Oil\",$H$5),0)>0,VLOOKUP(\"Oil\",HVACg_Lookup,MATCH($H$6,BuildingSize,0)+1,FALSE),IF(IFERROR(SEARCH(\"Propane\",$H$5),0)>0,VLOOKUP(\"Propane\",HVACg_Lookup,MATCH(Worksheet!$H$6,BuildingSize,0)+1,FALSE),0)))","v":0},{"$f":"X309/1000*Y309*AA309*IF(IFERROR(SEARCH(\"Gas\",$H$5),0)>0,VLOOKUP(\"Gas\",HVACg_Lookup,MATCH($H$6,BuildingSize,0)+1,FALSE),IF(IFERROR(SEARCH(\"Oil\",$H$5),0)>0,VLOOKUP(\"Oil\",HVACg_Lookup,MATCH($H$6,BuildingSize,0)+1,FALSE),IF(IFERROR(SEARCH(\"Propane\",$H$5),0)>0,VLOOKUP(\"Propane\",HVACg_Lookup,MATCH(Worksheet!$H$6,BuildingSize,0)+1,FALSE),0)))","v":0},0,0,{"$f":"IF(OR($B$4=\"\",$B$5=\"\",$H$4=\"\",$H$6=\"\",$H$5=\"\",A309=\"\",F309=\"\",J309=\"\",O309=\"\",P309=\"\")=TRUE,\"\",IF(C309=\"OSW\",IF(J309>=2,1,0),IF(C309=\"OSR\",IF(AND(J309>=2,P309>60)=TRUE,1,0),IF(C309=\"OSRH\",IF(AND(J309>=1,P309>90)=TRUE,1,0),IF(C309=\"OHLC\",IF(AND(N309=\"Y\",P309>60)=TRUE,1,0),IF(C309=\"DDC\",IF(AND(J309>=4,N309=\"Y\",P309>120)=TRUE,1,0),0))))))","v":""},{"$f":"IF(OR($B$4=\"\",$B$5=\"\",$H$4=\"\",$H$6=\"\",$H$5=\"\",A309=\"\",F309=\"\",K309=\"\",O309=\"\",P309=\"\")=TRUE,\"\",IF(C309=\"OSW\",IF(K309>=2,1,0),IF(C309=\"OSR\",IF(AND(K309>=2,Q309>60)=TRUE,1,0),IF(C309=\"OSRH\",IF(AND(K309>=1,Q309>90)=TRUE,1,0),IF(C309=\"OHLC\",IF(AND(N309=\"Y\",Q309>60)=TRUE,1,0),IF(C309=\"DDC\",IF(AND(K309>=4,N309=\"Y\",Q309>120)=TRUE,1,0),0))))))","v":""}]
[null,null,"",null,null,null,null,null,null,null,null,null,null,null,null,0,0,0,0,"",0,0,0,0,0,{"$f":"IF($H$4=\"\",0,VLOOKUP($H$4,BuildingType_Lookup,3,FALSE))","v":0},{"$f":"IF($H$4=\"\",0,VLOOKUP($H$4,BuildingType_Lookup,2,FALSE))","v":0},{"$f":"IF(AND(OR(AN310=\"\",AN310=0)=TRUE,OR(AO310=\"\",AO310=0))=TRUE,0,IF(AO310=\"\",(IF(OR(C310=\"DDC\",C310=\"OHLC\")=TRUE,O310,P310)/1000)*Y310*Z310*(1+VLOOKUP($H$4,BuildingType_Lookup,4,FALSE)),IF(AO310=0,0,(IF(OR(C310=\"DDC\",C310=\"OHLC\")=TRUE,O310,Q310)/1000)*Y310*Z310*(1+VLOOKUP($H$4,BuildingType_Lookup,4,FALSE)))))","v":0},{"$f":"IF(AND(OR(AN310=\"\",AN310=0)=TRUE,OR(AO310=\"\",AO310=0))=TRUE,0,IF(AO310=\"\",(IF(OR(C310=\"DDC\",C310=\"OHLC\")=TRUE,O310,P310)/1000)*Y310*AA310*(1+VLOOKUP($H$4,BuildingType_Lookup,MATCH($H$5,HVAC,0)+4,FALSE)),IF(AO310=0,0,(IF(OR(C310=\"DDC\",C310=\"OHLC\")=TRUE,O310,Q310)/1000)*Y310*AA310*(1+VLOOKUP($H$4,BuildingType_Lookup,MATCH($H$5,HVAC,0)+4,FALSE)))))","v":0},0,0,0,0,0,0,{"$f":"W310/1000*Y310*AA310*IF(IFERROR(SEARCH(\"Gas\",$H$5),0)>0,VLOOKUP(\"Gas\",HVACg_Lookup,MATCH($H$6,BuildingSize,0)+1,FALSE),IF(IFERROR(SEARCH(\"Oil\",$H$5),0)>0,VLOOKUP(\"Oil\",HVACg_Lookup,MATCH($H$6,BuildingSize,0)+1,FALSE),IF(IFERROR(SEARCH(\"Propane\",$H$5),0)>0,VLOOKUP(\"Propane\",HVACg_Lookup,MATCH(Worksheet!$H$6,BuildingSize,0)+1,FALSE),0)))","v":0},{"$f":"X310/1000*Y310*AA310*IF(IFERROR(SEARCH(\"Gas\",$H$5),0)>0,VLOOKUP(\"Gas\",HVACg_Lookup,MATCH($H$6,BuildingSize,0)+1,FALSE),IF(IFERROR(SEARCH(\"Oil\",$H$5),0)>0,VLOOKUP(\"Oil\",HVACg_Lookup,MATCH($H$6,BuildingSize,0)+1,FALSE),IF(IFERROR(SEARCH(\"Propane\",$H$5),0)>0,VLOOKUP(\"Propane\",HVACg_Lookup,MATCH(Worksheet!$H$6,BuildingSize,0)+1,FALSE),0)))","v":0},0,0,{"$f":"IF(OR($B$4=\"\",$B$5=\"\",$H$4=\"\",$H$6=\"\",$H$5=\"\",A310=\"\",F310=\"\",J310=\"\",O310=\"\",P310=\"\")=TRUE,\"\",IF(C310=\"OSW\",IF(J310>=2,1,0),IF(C310=\"OSR\",IF(AND(J310>=2,P310>60)=TRUE,1,0),IF(C310=\"OSRH\",IF(AND(J310>=1,P310>90)=TRUE,1,0),IF(C310=\"OHLC\",IF(AND(N310=\"Y\",P310>60)=TRUE,1,0),IF(C310=\"DDC\",IF(AND(J310>=4,N310=\"Y\",P310>120)=TRUE,1,0),0))))))","v":""},{"$f":"IF(OR($B$4=\"\",$B$5=\"\",$H$4=\"\",$H$6=\"\",$H$5=\"\",A310=\"\",F310=\"\",K310=\"\",O310=\"\",P310=\"\")=TRUE,\"\",IF(C310=\"OSW\",IF(K310>=2,1,0),IF(C310=\"OSR\",IF(AND(K310>=2,Q310>60)=TRUE,1,0),IF(C310=\"OSRH\",IF(AND(K310>=1,Q310>90)=TRUE,1,0),IF(C310=\"OHLC\",IF(AND(N310=\"Y\",Q310>60)=TRUE,1,0),IF(C310=\"DDC\",IF(AND(K310>=4,N310=\"Y\",Q310>120)=TRUE,1,0),0))))))","v":""}]
[null,null,"",null,null,null,null,null,null,null,null,null,null,null,null,0,0,0,0,"",0,0,0,0,0,{"$f":"IF($H$4=\"\",0,VLOOKUP($H$4,BuildingType_Lookup,3,FALSE))","v":0},{"$f":"IF($H$4=\"\",0,VLOOKUP($H$4,BuildingType_Lookup,2,FALSE))","v":0},{"$f":"IF(AND(OR(AN311=\"\",AN311=0)=TRUE,OR(AO311=\"\",AO311=0))=TRUE,0,IF(AO311=\"\",(IF(OR(C311=\"DDC\",C311=\"OHLC\")=TRUE,O311,P311)/1000)*Y311*Z311*(1+VLOOKUP($H$4,BuildingType_Lookup,4,FALSE)),IF(AO311=0,0,(IF(OR(C311=\"DDC\",C311=\"OHLC\")=TRUE,O311,Q311)/1000)*Y311*Z311*(1+VLOOKUP($H$4,BuildingType_Lookup,4,FALSE)))))","v":0},{"$f":"IF(AND(OR(AN311=\"\",AN311=0)=TRUE,OR(AO311=\"\",AO311=0))=TRUE,0,IF(AO311=\"\",(IF(OR(C311=\"DDC\",C311=\"OHLC\")=TRUE,O311,P311)/1000)*Y311*AA311*(1+VLOOKUP($H$4,BuildingType_Lookup,MATCH($H$5,HVAC,0)+4,FALSE)),IF(AO311=0,0,(IF(OR(C311=\"DDC\",C311=\"OHLC\")=TRUE,O311,Q311)/1000)*Y311*AA311*(1+VLOOKUP($H$4,BuildingType_Lookup,MATCH($H$5,HVAC,0)+4,FALSE)))))","v":0},0,0,0,0,0,0,{"$f":"W311/1000*Y311*AA311*IF(IFERROR(SEARCH(\"Gas\",$H$5),0)>0,VLOOKUP(\"Gas\",HVACg_Lookup,MATCH($H$6,BuildingSize,0)+1,FALSE),IF(IFERROR(SEARCH(\"Oil\",$H$5),0)>0,VLOOKUP(\"Oil\",HVACg_Lookup,MATCH($H$6,BuildingSize,0)+1,FALSE),IF(IFERROR(SEARCH(\"Propane\",$H$5),0)>0,VLOOKUP(\"Propane\",HVACg_Lookup,MATCH(Worksheet!$H$6,BuildingSize,0)+1,FALSE),0)))","v":0},{"$f":"X311/1000*Y311*AA311*IF(IFERROR(SEARCH(\"Gas\",$H$5),0)>0,VLOOKUP(\"Gas\",HVACg_Lookup,MATCH($H$6,BuildingSize,0)+1,FALSE),IF(IFERROR(SEARCH(\"Oil\",$H$5),0)>0,VLOOKUP(\"Oil\",HVACg_Lookup,MATCH($H$6,BuildingSize,0)+1,FALSE),IF(IFERROR(SEARCH(\"Propane\",$H$5),0)>0,VLOOKUP(\"Propane\",HVACg_Lookup,MATCH(Worksheet!$H$6,BuildingSize,0)+1,FALSE),0)))","v":0},0,0,{"$f":"IF(OR($B$4=\"\",$B$5=\"\",$H$4=\"\",$H$6=\"\",$H$5=\"\",A311=\"\",F311=\"\",J311=\"\",O311=\"\",P311=\"\")=TRUE,\"\",IF(C311=\"OSW\",IF(J311>=2,1,0),IF(C311=\"OSR\",IF(AND(J311>=2,P311>60)=TRUE,1,0),IF(C311=\"OSRH\",IF(AND(J311>=1,P311>90)=TRUE,1,0),IF(C311=\"OHLC\",IF(AND(N311=\"Y\",P311>60)=TRUE,1,0),IF(C311=\"DDC\",IF(AND(J311>=4,N311=\"Y\",P311>120)=TRUE,1,0),0))))))","v":""},{"$f":"IF(OR($B$4=\"\",$B$5=\"\",$H$4=\"\",$H$6=\"\",$H$5=\"\",A311=\"\",F311=\"\",K311=\"\",O311=\"\",P311=\"\")=TRUE,\"\",IF(C311=\"OSW\",IF(K311>=2,1,0),IF(C311=\"OSR\",IF(AND(K311>=2,Q311>60)=TRUE,1,0),IF(C311=\"OSRH\",IF(AND(K311>=1,Q311>90)=TRUE,1,0),IF(C311=\"OHLC\",IF(AND(N311=\"Y\",Q311>60)=TRUE,1,0),IF(C311=\"DDC\",IF(AND(K311>=4,N311=\"Y\",Q311>120)=TRUE,1,0),0))))))","v":""}]
[null,null,"",null,null,null,null,null,null,null,null,null,null,null,null,0,0,0,0,"",0,0,0,0,0,{"$f":"IF($H$4=\"\",0,VLOOKUP($H$4,BuildingType_Lookup,3,FALSE))","v":0},{"$f":"IF($H$4=\"\",0,VLOOKUP($H$4,BuildingType_Lookup,2,FALSE))","v":0},{"$f":"IF(AND(OR(AN312=\"\",AN312=0)=TRUE,OR(AO312=\"\",AO312=0))=TRUE,0,IF(AO312=\"\",(IF(OR(C312=\"DDC\",C312=\"OHLC\")=TRUE,O312,P312)/1000)*Y312*Z312*(1+VLOOKUP($H$4,BuildingType_Lookup,4,FALSE)),IF(AO312=0,0,(IF(OR(C312=\"DDC\",C312=\"OHLC\")=TRUE,O312,Q312)/1000)*Y312*Z312*(1+VLOOKUP($H$4,BuildingType_Lookup,4,FALSE)))))","v":0},{"$f":"IF(AND(OR(AN312=\"\",AN312=0)=TRUE,OR(AO312=\"\",AO312=0))=TRUE,0,IF(AO312=\"\",(IF(OR(C312=\"DDC\",C312=\"OHLC\")=TRUE,O312,P312)/1000)*Y312*AA312*(1+VLOOKUP($H$4,BuildingType_Lookup,MATCH($H$5,HVAC,0)+4,FALSE)),IF(AO312=0,0,(IF(OR(C312=\"DDC\",C312=\"OHLC\")=TRUE,O312,Q312)/1000)*Y312*AA312*(1+VLOOKUP($H$4,BuildingType_Lookup,MATCH($H$5,HVAC,0)+4,FALSE)))))","v":0},0,0,0,0,0,0,{"$f":"W312/1000*Y312*AA312*IF(IFERROR(SEARCH(\"Gas\",$H$5),0)>0,VLOOKUP(\"Gas\",HVACg_Lookup,MATCH($H$6,BuildingSize,0)+1,FALSE),IF(IFERROR(SEARCH(\"Oil\",$H$5),0)>0,VLOOKUP(\"Oil\",HVACg_Lookup,MATCH($H$6,BuildingSize,0)+1,FALSE),IF(IFERROR(SEARCH(\"Propane\",$H$5),0)>0,VLOOKUP(\"Propane\",HVACg_Lookup,MATCH(Worksheet!$H$6,BuildingSize,0)+1,FALSE),0)))","v":0},{"$f":"X312/1000*Y312*AA312*IF(IFERROR(SEARCH(\"Gas\",$H$5),0)>0,VLOOKUP(\"Gas\",HVACg_Lookup,MATCH($H$6,BuildingSize,0)+1,FALSE),IF(IFERROR(SEARCH(\"Oil\",$H$5),0)>0,VLOOKUP(\"Oil\",HVACg_Lookup,MATCH($H$6,BuildingSize,0)+1,FALSE),IF(IFERROR(SEARCH(\"Propane\",$H$5),0)>0,VLOOKUP(\"Propane\",HVACg_Lookup,MATCH(Worksheet!$H$6,BuildingSize,0)+1,FALSE),0)))","v":0},0,0,{"$f":"IF(OR($B$4=\"\",$B$5=\"\",$H$4=\"\",$H$6=\"\",$H$5=\"\",A312=\"\",F312=\"\",J312=\"\",O312=\"\",P312=\"\")=TRUE,\"\",IF(C312=\"OSW\",IF(J312>=2,1,0),IF(C312=\"OSR\",IF(AND(J312>=2,P312>60)=TRUE,1,0),IF(C312=\"OSRH\",IF(AND(J312>=1,P312>90)=TRUE,1,0),IF(C312=\"OHLC\",IF(AND(N312=\"Y\",P312>60)=TRUE,1,0),IF(C312=\"DDC\",IF(AND(J312>=4,N312=\"Y\",P312>120)=TRUE,1,0),0))))))","v":""},{"$f":"IF(OR($B$4=\"\",$B$5=\"\",$H$4=\"\",$H$6=\"\",$H$5=\"\",A312=\"\",F312=\"\",K312=\"\",O312=\"\",P312=\"\")=TRUE,\"\",IF(C312=\"OSW\",IF(K312>=2,1,0),IF(C312=\"OSR\",IF(AND(K312>=2,Q312>60)=TRUE,1,0),IF(C312=\"OSRH\",IF(AND(K312>=1,Q312>90)=TRUE,1,0),IF(C312=\"OHLC\",IF(AND(N312=\"Y\",Q312>60)=TRUE,1,0),IF(C312=\"DDC\",IF(AND(K312>=4,N312=\"Y\",Q312>120)=TRUE,1,0),0))))))","v":""}]
[null,null,"",null,null,null,null,null,null,null,null,null,null,null,null,0,0,0,0,"",0,0,0,0,0,{"$f":"IF($H$4=\"\",0,VLOOKUP($H$4,BuildingType_Lookup,3,FALSE))","v":0},{"$f":"IF($H$4=\"\",0,VLOOKUP($H$4,BuildingType_Lookup,2,FALSE))","v":0},{"$f":"IF(AND(OR(AN313=\"\",AN313=0)=TRUE,OR(AO313=\"\",AO313=0))=TRUE,0,IF(AO313=\"\",(IF(OR(C313=\"DDC\",C313=\"OHLC\")=TRUE,O313,P313)/1000)*Y313*Z313*(1+VLOOKUP($H$4,BuildingType_Lookup,4,FALSE)),IF(AO313=0,0,(IF(OR(C313=\"DDC\",C313=\"OHLC\")=TRUE,O313,Q313)/1000)*Y313*Z313*(1+VLOOKUP($H$4,BuildingType_Lookup,4,FALSE)))))","v":0},{"$f":"IF(AND(OR(AN313=\"\",AN313=0)=TRUE,OR(AO313=\"\",AO313=0))=TRUE,0,IF(AO313=\"\",(IF(OR(C313=\"DDC\",C313=\"OHLC\")=TRUE,O313,P313)/1000)*Y313*AA313*(1+VLOOKUP($H$4,BuildingType_Lookup,MATCH($H$5,HVAC,0)+4,FALSE)),IF(AO313=0,0,(IF(OR(C313=\"DDC\",C313=\"OHLC\")=TRUE,O313,Q313)/1000)*Y313*AA313*(1+VLOOKUP($H$4,BuildingType_Lookup,MATCH($H$5,HVAC,0)+4,FALSE)))))","v":0},0,0,0,0,0,0,{"$f":"W313/1000*Y313*AA313*IF(IFERROR(SEARCH(\"Gas\",$H$5),0)>0,VLOOKUP(\"Gas\",HVACg_Lookup,MATCH($H$6,BuildingSize,0)+1,FALSE),IF(IFERROR(SEARCH(\"Oil\",$H$5),0)>0,VLOOKUP(\"Oil\",HVACg_Lookup,MATCH($H$6,BuildingSize,0)+1,FALSE),IF(IFERROR(SEARCH(\"Propane\",$H$5),0)>0,VLOOKUP(\"Propane\",HVACg_Lookup,MATCH(Worksheet!$H$6,BuildingSize,0)+1,FALSE),0)))","v":0},{"$f":"X313/1000*Y313*AA313*IF(IFERROR(SEARCH(\"Gas\",$H$5),0)>0,VLOOKUP(\"Gas\",HVACg_Lookup,MATCH($H$6,BuildingSize,0)+1,FALSE),IF(IFERROR(SEARCH(\"Oil\",$H$5),0)>0,VLOOKUP(\"Oil\",HVACg_Lookup,MATCH($H$6,BuildingSize,0)+1,FALSE),IF(IFERROR(SEARCH(\"Propane\",$H$5),0)>0,VLOOKUP(\"Propane\",HVACg_Lookup,MATCH(Worksheet!$H$6,BuildingSize,0)+1,FALSE),0)))","v":0},0,0,{"$f":"IF(OR($B$4=\"\",$B$5=\"\",$H$4=\"\",$H$6=\"\",$H$5=\"\",A313=\"\",F313=\"\",J313=\"\",O313=\"\",P313=\"\")=TRUE,\"\",IF(C313=\"OSW\",IF(J313>=2,1,0),IF(C313=\"OSR\",IF(AND(J313>=2,P313>60)=TRUE,1,0),IF(C313=\"OSRH\",IF(AND(J313>=1,P313>90)=TRUE,1,0),IF(C313=\"OHLC\",IF(AND(N313=\"Y\",P313>60)=TRUE,1,0),IF(C313=\"DDC\",IF(AND(J313>=4,N313=\"Y\",P313>120)=TRUE,1,0),0))))))","v":""},{"$f":"IF(OR($B$4=\"\",$B$5=\"\",$H$4=\"\",$H$6=\"\",$H$5=\"\",A313=\"\",F313=\"\",K313=\"\",O313=\"\",P313=\"\")=TRUE,\"\",IF(C313=\"OSW\",IF(K313>=2,1,0),IF(C313=\"OSR\",IF(AND(K313>=2,Q313>60)=TRUE,1,0),IF(C313=\"OSRH\",IF(AND(K313>=1,Q313>90)=TRUE,1,0),IF(C313=\"OHLC\",IF(AND(N313=\"Y\",Q313>60)=TRUE,1,0),IF(C313=\"DDC\",IF(AND(K313>=4,N313=\"Y\",Q313>120)=TRUE,1,0),0))))))","v":""}]
[null,null,"",null,null,null,null,null,null,null,null,null,null,null,null,0,0,0,0,"",0,0,0,0,0,{"$f":"IF($H$4=\"\",0,VLOOKUP($H$4,BuildingType_Lookup,3,FALSE))","v":0},{"$f":"IF($H$4=\"\",0,VLOOKUP($H$4,BuildingType_Lookup,2,FALSE))","v":0},{"$f":"IF(AND(OR(AN314=\"\",AN314=0)=TRUE,OR(AO314=\"\",AO314=0))=TRUE,0,IF(AO314=\"\",(IF(OR(C314=\"DDC\",C314=\"OHLC\")=TRUE,O314,P314)/1000)*Y314*Z314*(1+VLOOKUP($H$4,BuildingType_Lookup,4,FALSE)),IF(AO314=0,0,(IF(OR(C314=\"DDC\",C314=\"OHLC\")=TRUE,O314,Q314)/1000)*Y314*Z314*(1+VLOOKUP($H$4,BuildingType_Lookup,4,FALSE)))))","v":0},{"$f":"IF(AND(OR(AN314=\"\",AN314=0)=TRUE,OR(AO314=\"\",AO314=0))=TRUE,0,IF(AO314=\"\",(IF(OR(C314=\"DDC\",C314=\"OHLC\")=TRUE,O314,P314)/1000)*Y314*AA314*(1+VLOOKUP($H$4,BuildingType_Lookup,MATCH($H$5,HVAC,0)+4,FALSE)),IF(AO314=0,0,(IF(OR(C314=\"DDC\",C314=\"OHLC\")=TRUE,O314,Q314)/1000)*Y314*AA314*(1+VLOOKUP($H$4,BuildingType_Lookup,MATCH($H$5,HVAC,0)+4,FALSE)))))","v":0},0,0,0,0,0,0,{"$f":"W314/1000*Y314*AA314*IF(IFERROR(SEARCH(\"Gas\",$H$5),0)>0,VLOOKUP(\"Gas\",HVACg_Lookup,MATCH($H$6,BuildingSize,0)+1,FALSE),IF(IFERROR(SEARCH(\"Oil\",$H$5),0)>0,VLOOKUP(\"Oil\",HVACg_Lookup,MATCH($H$6,BuildingSize,0)+1,FALSE),IF(IFERROR(SEARCH(\"Propane\",$H$5),0)>0,VLOOKUP(\"Propane\",HVACg_Lookup,MATCH(Worksheet!$H$6,BuildingSize,0)+1,FALSE),0)))","v":0},{"$f":"X314/1000*Y314*AA314*IF(IFERROR(SEARCH(\"Gas\",$H$5),0)>0,VLOOKUP(\"Gas\",HVACg_Lookup,MATCH($H$6,BuildingSize,0)+1,FALSE),IF(IFERROR(SEARCH(\"Oil\",$H$5),0)>0,VLOOKUP(\"Oil\",HVACg_Lookup,MATCH($H$6,BuildingSize,0)+1,FALSE),IF(IFERROR(SEARCH(\"Propane\",$H$5),0)>0,VLOOKUP(\"Propane\",HVACg_Lookup,MATCH(Worksheet!$H$6,BuildingSize,0)+1,FALSE),0)))","v":0},0,0,{"$f":"IF(OR($B$4=\"\",$B$5=\"\",$H$4=\"\",$H$6=\"\",$H$5=\"\",A314=\"\",F314=\"\",J314=\"\",O314=\"\",P314=\"\")=TRUE,\"\",IF(C314=\"OSW\",IF(J314>=2,1,0),IF(C314=\"OSR\",IF(AND(J314>=2,P314>60)=TRUE,1,0),IF(C314=\"OSRH\",IF(AND(J314>=1,P314>90)=TRUE,1,0),IF(C314=\"OHLC\",IF(AND(N314=\"Y\",P314>60)=TRUE,1,0),IF(C314=\"DDC\",IF(AND(J314>=4,N314=\"Y\",P314>120)=TRUE,1,0),0))))))","v":""},{"$f":"IF(OR($B$4=\"\",$B$5=\"\",$H$4=\"\",$H$6=\"\",$H$5=\"\",A314=\"\",F314=\"\",K314=\"\",O314=\"\",P314=\"\")=TRUE,\"\",IF(C314=\"OSW\",IF(K314>=2,1,0),IF(C314=\"OSR\",IF(AND(K314>=2,Q314>60)=TRUE,1,0),IF(C314=\"OSRH\",IF(AND(K314>=1,Q314>90)=TRUE,1,0),IF(C314=\"OHLC\",IF(AND(N314=\"Y\",Q314>60)=TRUE,1,0),IF(C314=\"DDC\",IF(AND(K314>=4,N314=\"Y\",Q314>120)=TRUE,1,0),0))))))","v":""}]
[null,null,"",null,null,null,null,null,null,null,null,null,null,null,null,0,0,0,0,"",0,0,0,0,0,{"$f":"IF($H$4=\"\",0,VLOOKUP($H$4,BuildingType_Lookup,3,FALSE))","v":0},{"$f":"IF($H$4=\"\",0,VLOOKUP($H$4,BuildingType_Lookup,2,FALSE))","v":0},{"$f":"IF(AND(OR(AN315=\"\",AN315=0)=TRUE,OR(AO315=\"\",AO315=0))=TRUE,0,IF(AO315=\"\",(IF(OR(C315=\"DDC\",C315=\"OHLC\")=TRUE,O315,P315)/1000)*Y315*Z315*(1+VLOOKUP($H$4,BuildingType_Lookup,4,FALSE)),IF(AO315=0,0,(IF(OR(C315=\"DDC\",C315=\"OHLC\")=TRUE,O315,Q315)/1000)*Y315*Z315*(1+VLOOKUP($H$4,BuildingType_Lookup,4,FALSE)))))","v":0},{"$f":"IF(AND(OR(AN315=\"\",AN315=0)=TRUE,OR(AO315=\"\",AO315=0))=TRUE,0,IF(AO315=\"\",(IF(OR(C315=\"DDC\",C315=\"OHLC\")=TRUE,O315,P315)/1000)*Y315*AA315*(1+VLOOKUP($H$4,BuildingType_Lookup,MATCH($H$5,HVAC,0)+4,FALSE)),IF(AO315=0,0,(IF(OR(C315=\"DDC\",C315=\"OHLC\")=TRUE,O315,Q315)/1000)*Y315*AA315*(1+VLOOKUP($H$4,BuildingType_Lookup,MATCH($H$5,HVAC,0)+4,FALSE)))))","v":0},0,0,0,0,0,0,{"$f":"W315/1000*Y315*AA315*IF(IFERROR(SEARCH(\"Gas\",$H$5),0)>0,VLOOKUP(\"Gas\",HVACg_Lookup,MATCH($H$6,BuildingSize,0)+1,FALSE),IF(IFERROR(SEARCH(\"Oil\",$H$5),0)>0,VLOOKUP(\"Oil\",HVACg_Lookup,MATCH($H$6,BuildingSize,0)+1,FALSE),IF(IFERROR(SEARCH(\"Propane\",$H$5),0)>0,VLOOKUP(\"Propane\",HVACg_Lookup,MATCH(Worksheet!$H$6,BuildingSize,0)+1,FALSE),0)))","v":0},{"$f":"X315/1000*Y315*AA315*IF(IFERROR(SEARCH(\"Gas\",$H$5),0)>0,VLOOKUP(\"Gas\",HVACg_Lookup,MATCH($H$6,BuildingSize,0)+1,FALSE),IF(IFERROR(SEARCH(\"Oil\",$H$5),0)>0,VLOOKUP(\"Oil\",HVACg_Lookup,MATCH($H$6,BuildingSize,0)+1,FALSE),IF(IFERROR(SEARCH(\"Propane\",$H$5),0)>0,VLOOKUP(\"Propane\",HVACg_Lookup,MATCH(Worksheet!$H$6,BuildingSize,0)+1,FALSE),0)))","v":0},0,0,{"$f":"IF(OR($B$4=\"\",$B$5=\"\",$H$4=\"\",$H$6=\"\",$H$5=\"\",A315=\"\",F315=\"\",J315=\"\",O315=\"\",P315=\"\")=TRUE,\"\",IF(C315=\"OSW\",IF(J315>=2,1,0),IF(C315=\"OSR\",IF(AND(J315>=2,P315>60)=TRUE,1,0),IF(C315=\"OSRH\",IF(AND(J315>=1,P315>90)=TRUE,1,0),IF(C315=\"OHLC\",IF(AND(N315=\"Y\",P315>60)=TRUE,1,0),IF(C315=\"DDC\",IF(AND(J315>=4,N315=\"Y\",P315>120)=TRUE,1,0),0))))))","v":""},{"$f":"IF(OR($B$4=\"\",$B$5=\"\",$H$4=\"\",$H$6=\"\",$H$5=\"\",A315=\"\",F315=\"\",K315=\"\",O315=\"\",P315=\"\")=TRUE,\"\",IF(C315=\"OSW\",IF(K315>=2,1,0),IF(C315=\"OSR\",IF(AND(K315>=2,Q315>60)=TRUE,1,0),IF(C315=\"OSRH\",IF(AND(K315>=1,Q315>90)=TRUE,1,0),IF(C315=\"OHLC\",IF(AND(N315=\"Y\",Q315>60)=TRUE,1,0),IF(C315=\"DDC\",IF(AND(K315>=4,N315=\"Y\",Q315>120)=TRUE,1,0),0))))))","v":""}]
[null,null,"",null,null,null,null,null,null,null,null,null,null,null,null,0,0,0,0,"",0,0,0,0,0,{"$f":"IF($H$4=\"\",0,VLOOKUP($H$4,BuildingType_Lookup,3,FALSE))","v":0},{"$f":"IF($H$4=\"\",0,VLOOKUP($H$4,BuildingType_Lookup,2,FALSE))","v":0},{"$f":"IF(AND(OR(AN316=\"\",AN316=0)=TRUE,OR(AO316=\"\",AO316=0))=TRUE,0,IF(AO316=\"\",(IF(OR(C316=\"DDC\",C316=\"OHLC\")=TRUE,O316,P316)/1000)*Y316*Z316*(1+VLOOKUP($H$4,BuildingType_Lookup,4,FALSE)),IF(AO316=0,0,(IF(OR(C316=\"DDC\",C316=\"OHLC\")=TRUE,O316,Q316)/1000)*Y316*Z316*(1+VLOOKUP($H$4,BuildingType_Lookup,4,FALSE)))))","v":0},{"$f":"IF(AND(OR(AN316=\"\",AN316=0)=TRUE,OR(AO316=\"\",AO316=0))=TRUE,0,IF(AO316=\"\",(IF(OR(C316=\"DDC\",C316=\"OHLC\")=TRUE,O316,P316)/1000)*Y316*AA316*(1+VLOOKUP($H$4,BuildingType_Lookup,MATCH($H$5,HVAC,0)+4,FALSE)),IF(AO316=0,0,(IF(OR(C316=\"DDC\",C316=\"OHLC\")=TRUE,O316,Q316)/1000)*Y316*AA316*(1+VLOOKUP($H$4,BuildingType_Lookup,MATCH($H$5,HVAC,0)+4,FALSE)))))","v":0},0,0,0,0,0,0,{"$f":"W316/1000*Y316*AA316*IF(IFERROR(SEARCH(\"Gas\",$H$5),0)>0,VLOOKUP(\"Gas\",HVACg_Lookup,MATCH($H$6,BuildingSize,0)+1,FALSE),IF(IFERROR(SEARCH(\"Oil\",$H$5),0)>0,VLOOKUP(\"Oil\",HVACg_Lookup,MATCH($H$6,BuildingSize,0)+1,FALSE),IF(IFERROR(SEARCH(\"Propane\",$H$5),0)>0,VLOOKUP(\"Propane\",HVACg_Lookup,MATCH(Worksheet!$H$6,BuildingSize,0)+1,FALSE),0)))","v":0},{"$f":"X316/1000*Y316*AA316*IF(IFERROR(SEARCH(\"Gas\",$H$5),0)>0,VLOOKUP(\"Gas\",HVACg_Lookup,MATCH($H$6,BuildingSize,0)+1,FALSE),IF(IFERROR(SEARCH(\"Oil\",$H$5),0)>0,VLOOKUP(\"Oil\",HVACg_Lookup,MATCH($H$6,BuildingSize,0)+1,FALSE),IF(IFERROR(SEARCH(\"Propane\",$H$5),0)>0,VLOOKUP(\"Propane\",HVACg_Lookup,MATCH(Worksheet!$H$6,BuildingSize,0)+1,FALSE),0)))","v":0},0,0,{"$f":"IF(OR($B$4=\"\",$B$5=\"\",$H$4=\"\",$H$6=\"\",$H$5=\"\",A316=\"\",F316=\"\",J316=\"\",O316=\"\",P316=\"\")=TRUE,\"\",IF(C316=\"OSW\",IF(J316>=2,1,0),IF(C316=\"OSR\",IF(AND(J316>=2,P316>60)=TRUE,1,0),IF(C316=\"OSRH\",IF(AND(J316>=1,P316>90)=TRUE,1,0),IF(C316=\"OHLC\",IF(AND(N316=\"Y\",P316>60)=TRUE,1,0),IF(C316=\"DDC\",IF(AND(J316>=4,N316=\"Y\",P316>120)=TRUE,1,0),0))))))","v":""},{"$f":"IF(OR($B$4=\"\",$B$5=\"\",$H$4=\"\",$H$6=\"\",$H$5=\"\",A316=\"\",F316=\"\",K316=\"\",O316=\"\",P316=\"\")=TRUE,\"\",IF(C316=\"OSW\",IF(K316>=2,1,0),IF(C316=\"OSR\",IF(AND(K316>=2,Q316>60)=TRUE,1,0),IF(C316=\"OSRH\",IF(AND(K316>=1,Q316>90)=TRUE,1,0),IF(C316=\"OHLC\",IF(AND(N316=\"Y\",Q316>60)=TRUE,1,0),IF(C316=\"DDC\",IF(AND(K316>=4,N316=\"Y\",Q316>120)=TRUE,1,0),0))))))","v":""}]
[null,null,"",null,null,null,null,null,null,null,null,null,null,null,null,0,0,0,0,"",0,0,0,0,0,{"$f":"IF($H$4=\"\",0,VLOOKUP($H$4,BuildingType_Lookup,3,FALSE))","v":0},{"$f":"IF($H$4=\"\",0,VLOOKUP($H$4,BuildingType_Lookup,2,FALSE))","v":0},{"$f":"IF(AND(OR(AN317=\"\",AN317=0)=TRUE,OR(AO317=\"\",AO317=0))=TRUE,0,IF(AO317=\"\",(IF(OR(C317=\"DDC\",C317=\"OHLC\")=TRUE,O317,P317)/1000)*Y317*Z317*(1+VLOOKUP($H$4,BuildingType_Lookup,4,FALSE)),IF(AO317=0,0,(IF(OR(C317=\"DDC\",C317=\"OHLC\")=TRUE,O317,Q317)/1000)*Y317*Z317*(1+VLOOKUP($H$4,BuildingType_Lookup,4,FALSE)))))","v":0},{"$f":"IF(AND(OR(AN317=\"\",AN317=0)=TRUE,OR(AO317=\"\",AO317=0))=TRUE,0,IF(AO317=\"\",(IF(OR(C317=\"DDC\",C317=\"OHLC\")=TRUE,O317,P317)/1000)*Y317*AA317*(1+VLOOKUP($H$4,BuildingType_Lookup,MATCH($H$5,HVAC,0)+4,FALSE)),IF(AO317=0,0,(IF(OR(C317=\"DDC\",C317=\"OHLC\")=TRUE,O317,Q317)/1000)*Y317*AA317*(1+VLOOKUP($H$4,BuildingType_Lookup,MATCH($H$5,HVAC,0)+4,FALSE)))))","v":0},0,0,0,0,0,0,{"$f":"W317/1000*Y317*AA317*IF(IFERROR(SEARCH(\"Gas\",$H$5),0)>0,VLOOKUP(\"Gas\",HVACg_Lookup,MATCH($H$6,BuildingSize,0)+1,FALSE),IF(IFERROR(SEARCH(\"Oil\",$H$5),0)>0,VLOOKUP(\"Oil\",HVACg_Lookup,MATCH($H$6,BuildingSize,0)+1,FALSE),IF(IFERROR(SEARCH(\"Propane\",$H$5),0)>0,VLOOKUP(\"Propane\",HVACg_Lookup,MATCH(Worksheet!$H$6,BuildingSize,0)+1,FALSE),0)))","v":0},{"$f":"X317/1000*Y317*AA317*IF(IFERROR(SEARCH(\"Gas\",$H$5),0)>0,VLOOKUP(\"Gas\",HVACg_Lookup,MATCH($H$6,BuildingSize,0)+1,FALSE),IF(IFERROR(SEARCH(\"Oil\",$H$5),0)>0,VLOOKUP(\"Oil\",HVACg_Lookup,MATCH($H$6,BuildingSize,0)+1,FALSE),IF(IFERROR(SEARCH(\"Propane\",$H$5),0)>0,VLOOKUP(\"Propane\",HVACg_Lookup,MATCH(Worksheet!$H$6,BuildingSize,0)+1,FALSE),0)))","v":0},0,0,{"$f":"IF(OR($B$4=\"\",$B$5=\"\",$H$4=\"\",$H$6=\"\",$H$5=\"\",A317=\"\",F317=\"\",J317=\"\",O317=\"\",P317=\"\")=TRUE,\"\",IF(C317=\"OSW\",IF(J317>=2,1,0),IF(C317=\"OSR\",IF(AND(J317>=2,P317>60)=TRUE,1,0),IF(C317=\"OSRH\",IF(AND(J317>=1,P317>90)=TRUE,1,0),IF(C317=\"OHLC\",IF(AND(N317=\"Y\",P317>60)=TRUE,1,0),IF(C317=\"DDC\",IF(AND(J317>=4,N317=\"Y\",P317>120)=TRUE,1,0),0))))))","v":""},{"$f":"IF(OR($B$4=\"\",$B$5=\"\",$H$4=\"\",$H$6=\"\",$H$5=\"\",A317=\"\",F317=\"\",K317=\"\",O317=\"\",P317=\"\")=TRUE,\"\",IF(C317=\"OSW\",IF(K317>=2,1,0),IF(C317=\"OSR\",IF(AND(K317>=2,Q317>60)=TRUE,1,0),IF(C317=\"OSRH\",IF(AND(K317>=1,Q317>90)=TRUE,1,0),IF(C317=\"OHLC\",IF(AND(N317=\"Y\",Q317>60)=TRUE,1,0),IF(C317=\"DDC\",IF(AND(K317>=4,N317=\"Y\",Q317>120)=TRUE,1,0),0))))))","v":""}]
[null,null,"",null,null,null,null,null,null,null,null,null,null,null,null,0,0,0,0,"",0,0,0,0,0,{"$f":"IF($H$4=\"\",0,VLOOKUP($H$4,BuildingType_Lookup,3,FALSE))","v":0},{"$f":"IF($H$4=\"\",0,VLOOKUP($H$4,BuildingType_Lookup,2,FALSE))","v":0},{"$f":"IF(AND(OR(AN318=\"\",AN318=0)=TRUE,OR(AO318=\"\",AO318=0))=TRUE,0,IF(AO318=\"\",(IF(OR(C318=\"DDC\",C318=\"OHLC\")=TRUE,O318,P318)/1000)*Y318*Z318*(1+VLOOKUP($H$4,BuildingType_Lookup,4,FALSE)),IF(AO318=0,0,(IF(OR(C318=\"DDC\",C318=\"OHLC\")=TRUE,O318,Q318)/1000)*Y318*Z318*(1+VLOOKUP($H$4,BuildingType_Lookup,4,FALSE)))))","v":0},{"$f":"IF(AND(OR(AN318=\"\",AN318=0)=TRUE,OR(AO318=\"\",AO318=0))=TRUE,0,IF(AO318=\"\",(IF(OR(C318=\"DDC\",C318=\"OHLC\")=TRUE,O318,P318)/1000)*Y318*AA318*(1+VLOOKUP($H$4,BuildingType_Lookup,MATCH($H$5,HVAC,0)+4,FALSE)),IF(AO318=0,0,(IF(OR(C318=\"DDC\",C318=\"OHLC\")=TRUE,O318,Q318)/1000)*Y318*AA318*(1+VLOOKUP($H$4,BuildingType_Lookup,MATCH($H$5,HVAC,0)+4,FALSE)))))","v":0},0,0,0,0,0,0,{"$f":"W318/1000*Y318*AA318*IF(IFERROR(SEARCH(\"Gas\",$H$5),0)>0,VLOOKUP(\"Gas\",HVACg_Lookup,MATCH($H$6,BuildingSize,0)+1,FALSE),IF(IFERROR(SEARCH(\"Oil\",$H$5),0)>0,VLOOKUP(\"Oil\",HVACg_Lookup,MATCH($H$6,BuildingSize,0)+1,FALSE),IF(IFERROR(SEARCH(\"Propane\",$H$5),0)>0,VLOOKUP(\"Propane\",HVACg_Lookup,MATCH(Worksheet!$H$6,BuildingSize,0)+1,FALSE),0)))","v":0},{"$f":"X318/1000*Y318*AA318*IF(IFERROR(SEARCH(\"Gas\",$H$5),0)>0,VLOOKUP(\"Gas\",HVACg_Lookup,MATCH($H$6,BuildingSize,0)+1,FALSE),IF(IFERROR(SEARCH(\"Oil\",$H$5),0)>0,VLOOKUP(\"Oil\",HVACg_Lookup,MATCH($H$6,BuildingSize,0)+1,FALSE),IF(IFERROR(SEARCH(\"Propane\",$H$5),0)>0,VLOOKUP(\"Propane\",HVACg_Lookup,MATCH(Worksheet!$H$6,BuildingSize,0)+1,FALSE),0)))","v":0},0,0,{"$f":"IF(OR($B$4=\"\",$B$5=\"\",$H$4=\"\",$H$6=\"\",$H$5=\"\",A318=\"\",F318=\"\",J318=\"\",O318=\"\",P318=\"\")=TRUE,\"\",IF(C318=\"OSW\",IF(J318>=2,1,0),IF(C318=\"OSR\",IF(AND(J318>=2,P318>60)=TRUE,1,0),IF(C318=\"OSRH\",IF(AND(J318>=1,P318>90)=TRUE,1,0),IF(C318=\"OHLC\",IF(AND(N318=\"Y\",P318>60)=TRUE,1,0),IF(C318=\"DDC\",IF(AND(J318>=4,N318=\"Y\",P318>120)=TRUE,1,0),0))))))","v":""},{"$f":"IF(OR($B$4=\"\",$B$5=\"\",$H$4=\"\",$H$6=\"\",$H$5=\"\",A318=\"\",F318=\"\",K318=\"\",O318=\"\",P318=\"\")=TRUE,\"\",IF(C318=\"OSW\",IF(K318>=2,1,0),IF(C318=\"OSR\",IF(AND(K318>=2,Q318>60)=TRUE,1,0),IF(C318=\"OSRH\",IF(AND(K318>=1,Q318>90)=TRUE,1,0),IF(C318=\"OHLC\",IF(AND(N318=\"Y\",Q318>60)=TRUE,1,0),IF(C318=\"DDC\",IF(AND(K318>=4,N318=\"Y\",Q318>120)=TRUE,1,0),0))))))","v":""}]
[null,null,"",null,null,null,null,null,null,null,null,null,null,null,null,0,0,0,0,"",0,0,0,0,0,{"$f":"IF($H$4=\"\",0,VLOOKUP($H$4,BuildingType_Lookup,3,FALSE))","v":0},{"$f":"IF($H$4=\"\",0,VLOOKUP($H$4,BuildingType_Lookup,2,FALSE))","v":0},{"$f":"IF(AND(OR(AN319=\"\",AN319=0)=TRUE,OR(AO319=\"\",AO319=0))=TRUE,0,IF(AO319=\"\",(IF(OR(C319=\"DDC\",C319=\"OHLC\")=TRUE,O319,P319)/1000)*Y319*Z319*(1+VLOOKUP($H$4,BuildingType_Lookup,4,FALSE)),IF(AO319=0,0,(IF(OR(C319=\"DDC\",C319=\"OHLC\")=TRUE,O319,Q319)/1000)*Y319*Z319*(1+VLOOKUP($H$4,BuildingType_Lookup,4,FALSE)))))","v":0},{"$f":"IF(AND(OR(AN319=\"\",AN319=0)=TRUE,OR(AO319=\"\",AO319=0))=TRUE,0,IF(AO319=\"\",(IF(OR(C319=\"DDC\",C319=\"OHLC\")=TRUE,O319,P319)/1000)*Y319*AA319*(1+VLOOKUP($H$4,BuildingType_Lookup,MATCH($H$5,HVAC,0)+4,FALSE)),IF(AO319=0,0,(IF(OR(C319=\"DDC\",C319=\"OHLC\")=TRUE,O319,Q319)/1000)*Y319*AA319*(1+VLOOKUP($H$4,BuildingType_Lookup,MATCH($H$5,HVAC,0)+4,FALSE)))))","v":0},0,0,0,0,0,0,{"$f":"W319/1000*Y319*AA319*IF(IFERROR(SEARCH(\"Gas\",$H$5),0)>0,VLOOKUP(\"Gas\",HVACg_Lookup,MATCH($H$6,BuildingSize,0)+1,FALSE),IF(IFERROR(SEARCH(\"Oil\",$H$5),0)>0,VLOOKUP(\"Oil\",HVACg_Lookup,MATCH($H$6,BuildingSize,0)+1,FALSE),IF(IFERROR(SEARCH(\"Propane\",$H$5),0)>0,VLOOKUP(\"Propane\",HVACg_Lookup,MATCH(Worksheet!$H$6,BuildingSize,0)+1,FALSE),0)))","v":0},{"$f":"X319/1000*Y319*AA319*IF(IFERROR(SEARCH(\"Gas\",$H$5),0)>0,VLOOKUP(\"Gas\",HVACg_Lookup,MATCH($H$6,BuildingSize,0)+1,FALSE),IF(IFERROR(SEARCH(\"Oil\",$H$5),0)>0,VLOOKUP(\"Oil\",HVACg_Lookup,MATCH($H$6,BuildingSize,0)+1,FALSE),IF(IFERROR(SEARCH(\"Propane\",$H$5),0)>0,VLOOKUP(\"Propane\",HVACg_Lookup,MATCH(Worksheet!$H$6,BuildingSize,0)+1,FALSE),0)))","v":0},0,0,{"$f":"IF(OR($B$4=\"\",$B$5=\"\",$H$4=\"\",$H$6=\"\",$H$5=\"\",A319=\"\",F319=\"\",J319=\"\",O319=\"\",P319=\"\")=TRUE,\"\",IF(C319=\"OSW\",IF(J319>=2,1,0),IF(C319=\"OSR\",IF(AND(J319>=2,P319>60)=TRUE,1,0),IF(C319=\"OSRH\",IF(AND(J319>=1,P319>90)=TRUE,1,0),IF(C319=\"OHLC\",IF(AND(N319=\"Y\",P319>60)=TRUE,1,0),IF(C319=\"DDC\",IF(AND(J319>=4,N319=\"Y\",P319>120)=TRUE,1,0),0))))))","v":""},{"$f":"IF(OR($B$4=\"\",$B$5=\"\",$H$4=\"\",$H$6=\"\",$H$5=\"\",A319=\"\",F319=\"\",K319=\"\",O319=\"\",P319=\"\")=TRUE,\"\",IF(C319=\"OSW\",IF(K319>=2,1,0),IF(C319=\"OSR\",IF(AND(K319>=2,Q319>60)=TRUE,1,0),IF(C319=\"OSRH\",IF(AND(K319>=1,Q319>90)=TRUE,1,0),IF(C319=\"OHLC\",IF(AND(N319=\"Y\",Q319>60)=TRUE,1,0),IF(C319=\"DDC\",IF(AND(K319>=4,N319=\"Y\",Q319>120)=TRUE,1,0),0))))))","v":""}]
[null,null,"",null,null,null,null,null,null,null,null,null,null,null,null,0,0,0,0,"",0,0,0,0,0,{"$f":"IF($H$4=\"\",0,VLOOKUP($H$4,BuildingType_Lookup,3,FALSE))","v":0},{"$f":"IF($H$4=\"\",0,VLOOKUP($H$4,BuildingType_Lookup,2,FALSE))","v":0},{"$f":"IF(AND(OR(AN320=\"\",AN320=0)=TRUE,OR(AO320=\"\",AO320=0))=TRUE,0,IF(AO320=\"\",(IF(OR(C320=\"DDC\",C320=\"OHLC\")=TRUE,O320,P320)/1000)*Y320*Z320*(1+VLOOKUP($H$4,BuildingType_Lookup,4,FALSE)),IF(AO320=0,0,(IF(OR(C320=\"DDC\",C320=\"OHLC\")=TRUE,O320,Q320)/1000)*Y320*Z320*(1+VLOOKUP($H$4,BuildingType_Lookup,4,FALSE)))))","v":0},{"$f":"IF(AND(OR(AN320=\"\",AN320=0)=TRUE,OR(AO320=\"\",AO320=0))=TRUE,0,IF(AO320=\"\",(IF(OR(C320=\"DDC\",C320=\"OHLC\")=TRUE,O320,P320)/1000)*Y320*AA320*(1+VLOOKUP($H$4,BuildingType_Lookup,MATCH($H$5,HVAC,0)+4,FALSE)),IF(AO320=0,0,(IF(OR(C320=\"DDC\",C320=\"OHLC\")=TRUE,O320,Q320)/1000)*Y320*AA320*(1+VLOOKUP($H$4,BuildingType_Lookup,MATCH($H$5,HVAC,0)+4,FALSE)))))","v":0},0,0,0,0,0,0,{"$f":"W320/1000*Y320*AA320*IF(IFERROR(SEARCH(\"Gas\",$H$5),0)>0,VLOOKUP(\"Gas\",HVACg_Lookup,MATCH($H$6,BuildingSize,0)+1,FALSE),IF(IFERROR(SEARCH(\"Oil\",$H$5),0)>0,VLOOKUP(\"Oil\",HVACg_Lookup,MATCH($H$6,BuildingSize,0)+1,FALSE),IF(IFERROR(SEARCH(\"Propane\",$H$5),0)>0,VLOOKUP(\"Propane\",HVACg_Lookup,MATCH(Worksheet!$H$6,BuildingSize,0)+1,FALSE),0)))","v":0},{"$f":"X320/1000*Y320*AA320*IF(IFERROR(SEARCH(\"Gas\",$H$5),0)>0,VLOOKUP(\"Gas\",HVACg_Lookup,MATCH($H$6,BuildingSize,0)+1,FALSE),IF(IFERROR(SEARCH(\"Oil\",$H$5),0)>0,VLOOKUP(\"Oil\",HVACg_Lookup,MATCH($H$6,BuildingSize,0)+1,FALSE),IF(IFERROR(SEARCH(\"Propane\",$H$5),0)>0,VLOOKUP(\"Propane\",HVACg_Lookup,MATCH(Worksheet!$H$6,BuildingSize,0)+1,FALSE),0)))","v":0},0,0,{"$f":"IF(OR($B$4=\"\",$B$5=\"\",$H$4=\"\",$H$6=\"\",$H$5=\"\",A320=\"\",F320=\"\",J320=\"\",O320=\"\",P320=\"\")=TRUE,\"\",IF(C320=\"OSW\",IF(J320>=2,1,0),IF(C320=\"OSR\",IF(AND(J320>=2,P320>60)=TRUE,1,0),IF(C320=\"OSRH\",IF(AND(J320>=1,P320>90)=TRUE,1,0),IF(C320=\"OHLC\",IF(AND(N320=\"Y\",P320>60)=TRUE,1,0),IF(C320=\"DDC\",IF(AND(J320>=4,N320=\"Y\",P320>120)=TRUE,1,0),0))))))","v":""},{"$f":"IF(OR($B$4=\"\",$B$5=\"\",$H$4=\"\",$H$6=\"\",$H$5=\"\",A320=\"\",F320=\"\",K320=\"\",O320=\"\",P320=\"\")=TRUE,\"\",IF(C320=\"OSW\",IF(K320>=2,1,0),IF(C320=\"OSR\",IF(AND(K320>=2,Q320>60)=TRUE,1,0),IF(C320=\"OSRH\",IF(AND(K320>=1,Q320>90)=TRUE,1,0),IF(C320=\"OHLC\",IF(AND(N320=\"Y\",Q320>60)=TRUE,1,0),IF(C320=\"DDC\",IF(AND(K320>=4,N320=\"Y\",Q320>120)=TRUE,1,0),0))))))","v":""}]
[null,null,"",null,null,null,null,null,null,null,null,null,null,null,null,0,0,0,0,"",0,0,0,0,0,{"$f":"IF($H$4=\"\",0,VLOOKUP($H$4,BuildingType_Lookup,3,FALSE))","v":0},{"$f":"IF($H$4=\"\",0,VLOOKUP($H$4,BuildingType_Lookup,2,FALSE))","v":0},{"$f":"IF(AND(OR(AN321=\"\",AN321=0)=TRUE,OR(AO321=\"\",AO321=0))=TRUE,0,IF(AO321=\"\",(IF(OR(C321=\"DDC\",C321=\"OHLC\")=TRUE,O321,P321)/1000)*Y321*Z321*(1+VLOOKUP($H$4,BuildingType_Lookup,4,FALSE)),IF(AO321=0,0,(IF(OR(C321=\"DDC\",C321=\"OHLC\")=TRUE,O321,Q321)/1000)*Y321*Z321*(1+VLOOKUP($H$4,BuildingType_Lookup,4,FALSE)))))","v":0},{"$f":"IF(AND(OR(AN321=\"\",AN321=0)=TRUE,OR(AO321=\"\",AO321=0))=TRUE,0,IF(AO321=\"\",(IF(OR(C321=\"DDC\",C321=\"OHLC\")=TRUE,O321,P321)/1000)*Y321*AA321*(1+VLOOKUP($H$4,BuildingType_Lookup,MATCH($H$5,HVAC,0)+4,FALSE)),IF(AO321=0,0,(IF(OR(C321=\"DDC\",C321=\"OHLC\")=TRUE,O321,Q321)/1000)*Y321*AA321*(1+VLOOKUP($H$4,BuildingType_Lookup,MATCH($H$5,HVAC,0)+4,FALSE)))))","v":0},0,0,0,0,0,0,{"$f":"W321/1000*Y321*AA321*IF(IFERROR(SEARCH(\"Gas\",$H$5),0)>0,VLOOKUP(\"Gas\",HVACg_Lookup,MATCH($H$6,BuildingSize,0)+1,FALSE),IF(IFERROR(SEARCH(\"Oil\",$H$5),0)>0,VLOOKUP(\"Oil\",HVACg_Lookup,MATCH($H$6,BuildingSize,0)+1,FALSE),IF(IFERROR(SEARCH(\"Propane\",$H$5),0)>0,VLOOKUP(\"Propane\",HVACg_Lookup,MATCH(Worksheet!$H$6,BuildingSize,0)+1,FALSE),0)))","v":0},{"$f":"X321/1000*Y321*AA321*IF(IFERROR(SEARCH(\"Gas\",$H$5),0)>0,VLOOKUP(\"Gas\",HVACg_Lookup,MATCH($H$6,BuildingSize,0)+1,FALSE),IF(IFERROR(SEARCH(\"Oil\",$H$5),0)>0,VLOOKUP(\"Oil\",HVACg_Lookup,MATCH($H$6,BuildingSize,0)+1,FALSE),IF(IFERROR(SEARCH(\"Propane\",$H$5),0)>0,VLOOKUP(\"Propane\",HVACg_Lookup,MATCH(Worksheet!$H$6,BuildingSize,0)+1,FALSE),0)))","v":0},0,0,{"$f":"IF(OR($B$4=\"\",$B$5=\"\",$H$4=\"\",$H$6=\"\",$H$5=\"\",A321=\"\",F321=\"\",J321=\"\",O321=\"\",P321=\"\")=TRUE,\"\",IF(C321=\"OSW\",IF(J321>=2,1,0),IF(C321=\"OSR\",IF(AND(J321>=2,P321>60)=TRUE,1,0),IF(C321=\"OSRH\",IF(AND(J321>=1,P321>90)=TRUE,1,0),IF(C321=\"OHLC\",IF(AND(N321=\"Y\",P321>60)=TRUE,1,0),IF(C321=\"DDC\",IF(AND(J321>=4,N321=\"Y\",P321>120)=TRUE,1,0),0))))))","v":""},{"$f":"IF(OR($B$4=\"\",$B$5=\"\",$H$4=\"\",$H$6=\"\",$H$5=\"\",A321=\"\",F321=\"\",K321=\"\",O321=\"\",P321=\"\")=TRUE,\"\",IF(C321=\"OSW\",IF(K321>=2,1,0),IF(C321=\"OSR\",IF(AND(K321>=2,Q321>60)=TRUE,1,0),IF(C321=\"OSRH\",IF(AND(K321>=1,Q321>90)=TRUE,1,0),IF(C321=\"OHLC\",IF(AND(N321=\"Y\",Q321>60)=TRUE,1,0),IF(C321=\"DDC\",IF(AND(K321>=4,N321=\"Y\",Q321>120)=TRUE,1,0),0))))))","v":""}]
[null,null,"",null,null,null,null,null,null,null,null,null,null,null,null,0,0,0,0,"",0,0,0,0,0,{"$f":"IF($H$4=\"\",0,VLOOKUP($H$4,BuildingType_Lookup,3,FALSE))","v":0},{"$f":"IF($H$4=\"\",0,VLOOKUP($H$4,BuildingType_Lookup,2,FALSE))","v":0},{"$f":"IF(AND(OR(AN322=\"\",AN322=0)=TRUE,OR(AO322=\"\",AO322=0))=TRUE,0,IF(AO322=\"\",(IF(OR(C322=\"DDC\",C322=\"OHLC\")=TRUE,O322,P322)/1000)*Y322*Z322*(1+VLOOKUP($H$4,BuildingType_Lookup,4,FALSE)),IF(AO322=0,0,(IF(OR(C322=\"DDC\",C322=\"OHLC\")=TRUE,O322,Q322)/1000)*Y322*Z322*(1+VLOOKUP($H$4,BuildingType_Lookup,4,FALSE)))))","v":0},{"$f":"IF(AND(OR(AN322=\"\",AN322=0)=TRUE,OR(AO322=\"\",AO322=0))=TRUE,0,IF(AO322=\"\",(IF(OR(C322=\"DDC\",C322=\"OHLC\")=TRUE,O322,P322)/1000)*Y322*AA322*(1+VLOOKUP($H$4,BuildingType_Lookup,MATCH($H$5,HVAC,0)+4,FALSE)),IF(AO322=0,0,(IF(OR(C322=\"DDC\",C322=\"OHLC\")=TRUE,O322,Q322)/1000)*Y322*AA322*(1+VLOOKUP($H$4,BuildingType_Lookup,MATCH($H$5,HVAC,0)+4,FALSE)))))","v":0},0,0,0,0,0,0,{"$f":"W322/1000*Y322*AA322*IF(IFERROR(SEARCH(\"Gas\",$H$5),0)>0,VLOOKUP(\"Gas\",HVACg_Lookup,MATCH($H$6,BuildingSize,0)+1,FALSE),IF(IFERROR(SEARCH(\"Oil\",$H$5),0)>0,VLOOKUP(\"Oil\",HVACg_Lookup,MATCH($H$6,BuildingSize,0)+1,FALSE),IF(IFERROR(SEARCH(\"Propane\",$H$5),0)>0,VLOOKUP(\"Propane\",HVACg_Lookup,MATCH(Worksheet!$H$6,BuildingSize,0)+1,FALSE),0)))","v":0},{"$f":"X322/1000*Y322*AA322*IF(IFERROR(SEARCH(\"Gas\",$H$5),0)>0,VLOOKUP(\"Gas\",HVACg_Lookup,MATCH($H$6,BuildingSize,0)+1,FALSE),IF(IFERROR(SEARCH(\"Oil\",$H$5),0)>0,VLOOKUP(\"Oil\",HVACg_Lookup,MATCH($H$6,BuildingSize,0)+1,FALSE),IF(IFERROR(SEARCH(\"Propane\",$H$5),0)>0,VLOOKUP(\"Propane\",HVACg_Lookup,MATCH(Worksheet!$H$6,BuildingSize,0)+1,FALSE),0)))","v":0},0,0,{"$f":"IF(OR($B$4=\"\",$B$5=\"\",$H$4=\"\",$H$6=\"\",$H$5=\"\",A322=\"\",F322=\"\",J322=\"\",O322=\"\",P322=\"\")=TRUE,\"\",IF(C322=\"OSW\",IF(J322>=2,1,0),IF(C322=\"OSR\",IF(AND(J322>=2,P322>60)=TRUE,1,0),IF(C322=\"OSRH\",IF(AND(J322>=1,P322>90)=TRUE,1,0),IF(C322=\"OHLC\",IF(AND(N322=\"Y\",P322>60)=TRUE,1,0),IF(C322=\"DDC\",IF(AND(J322>=4,N322=\"Y\",P322>120)=TRUE,1,0),0))))))","v":""},{"$f":"IF(OR($B$4=\"\",$B$5=\"\",$H$4=\"\",$H$6=\"\",$H$5=\"\",A322=\"\",F322=\"\",K322=\"\",O322=\"\",P322=\"\")=TRUE,\"\",IF(C322=\"OSW\",IF(K322>=2,1,0),IF(C322=\"OSR\",IF(AND(K322>=2,Q322>60)=TRUE,1,0),IF(C322=\"OSRH\",IF(AND(K322>=1,Q322>90)=TRUE,1,0),IF(C322=\"OHLC\",IF(AND(N322=\"Y\",Q322>60)=TRUE,1,0),IF(C322=\"DDC\",IF(AND(K322>=4,N322=\"Y\",Q322>120)=TRUE,1,0),0))))))","v":""}]
[null,null,"",null,null,null,null,null,null,null,null,null,null,null,null,0,0,0,0,"",0,0,0,0,0,{"$f":"IF($H$4=\"\",0,VLOOKUP($H$4,BuildingType_Lookup,3,FALSE))","v":0},{"$f":"IF($H$4=\"\",0,VLOOKUP($H$4,BuildingType_Lookup,2,FALSE))","v":0},{"$f":"IF(AND(OR(AN323=\"\",AN323=0)=TRUE,OR(AO323=\"\",AO323=0))=TRUE,0,IF(AO323=\"\",(IF(OR(C323=\"DDC\",C323=\"OHLC\")=TRUE,O323,P323)/1000)*Y323*Z323*(1+VLOOKUP($H$4,BuildingType_Lookup,4,FALSE)),IF(AO323=0,0,(IF(OR(C323=\"DDC\",C323=\"OHLC\")=TRUE,O323,Q323)/1000)*Y323*Z323*(1+VLOOKUP($H$4,BuildingType_Lookup,4,FALSE)))))","v":0},{"$f":"IF(AND(OR(AN323=\"\",AN323=0)=TRUE,OR(AO323=\"\",AO323=0))=TRUE,0,IF(AO323=\"\",(IF(OR(C323=\"DDC\",C323=\"OHLC\")=TRUE,O323,P323)/1000)*Y323*AA323*(1+VLOOKUP($H$4,BuildingType_Lookup,MATCH($H$5,HVAC,0)+4,FALSE)),IF(AO323=0,0,(IF(OR(C323=\"DDC\",C323=\"OHLC\")=TRUE,O323,Q323)/1000)*Y323*AA323*(1+VLOOKUP($H$4,BuildingType_Lookup,MATCH($H$5,HVAC,0)+4,FALSE)))))","v":0},0,0,0,0,0,0,{"$f":"W323/1000*Y323*AA323*IF(IFERROR(SEARCH(\"Gas\",$H$5),0)>0,VLOOKUP(\"Gas\",HVACg_Lookup,MATCH($H$6,BuildingSize,0)+1,FALSE),IF(IFERROR(SEARCH(\"Oil\",$H$5),0)>0,VLOOKUP(\"Oil\",HVACg_Lookup,MATCH($H$6,BuildingSize,0)+1,FALSE),IF(IFERROR(SEARCH(\"Propane\",$H$5),0)>0,VLOOKUP(\"Propane\",HVACg_Lookup,MATCH(Worksheet!$H$6,BuildingSize,0)+1,FALSE),0)))","v":0},{"$f":"X323/1000*Y323*AA323*IF(IFERROR(SEARCH(\"Gas\",$H$5),0)>0,VLOOKUP(\"Gas\",HVACg_Lookup,MATCH($H$6,BuildingSize,0)+1,FALSE),IF(IFERROR(SEARCH(\"Oil\",$H$5),0)>0,VLOOKUP(\"Oil\",HVACg_Lookup,MATCH($H$6,BuildingSize,0)+1,FALSE),IF(IFERROR(SEARCH(\"Propane\",$H$5),0)>0,VLOOKUP(\"Propane\",HVACg_Lookup,MATCH(Worksheet!$H$6,BuildingSize,0)+1,FALSE),0)))","v":0},0,0,{"$f":"IF(OR($B$4=\"\",$B$5=\"\",$H$4=\"\",$H$6=\"\",$H$5=\"\",A323=\"\",F323=\"\",J323=\"\",O323=\"\",P323=\"\")=TRUE,\"\",IF(C323=\"OSW\",IF(J323>=2,1,0),IF(C323=\"OSR\",IF(AND(J323>=2,P323>60)=TRUE,1,0),IF(C323=\"OSRH\",IF(AND(J323>=1,P323>90)=TRUE,1,0),IF(C323=\"OHLC\",IF(AND(N323=\"Y\",P323>60)=TRUE,1,0),IF(C323=\"DDC\",IF(AND(J323>=4,N323=\"Y\",P323>120)=TRUE,1,0),0))))))","v":""},{"$f":"IF(OR($B$4=\"\",$B$5=\"\",$H$4=\"\",$H$6=\"\",$H$5=\"\",A323=\"\",F323=\"\",K323=\"\",O323=\"\",P323=\"\")=TRUE,\"\",IF(C323=\"OSW\",IF(K323>=2,1,0),IF(C323=\"OSR\",IF(AND(K323>=2,Q323>60)=TRUE,1,0),IF(C323=\"OSRH\",IF(AND(K323>=1,Q323>90)=TRUE,1,0),IF(C323=\"OHLC\",IF(AND(N323=\"Y\",Q323>60)=TRUE,1,0),IF(C323=\"DDC\",IF(AND(K323>=4,N323=\"Y\",Q323>120)=TRUE,1,0),0))))))","v":""}]
[null,null,"",null,null,null,null,null,null,null,null,null,null,null,null,0,0,0,0,"",0,0,0,0,0,{"$f":"IF($H$4=\"\",0,VLOOKUP($H$4,BuildingType_Lookup,3,FALSE))","v":0},{"$f":"IF($H$4=\"\",0,VLOOKUP($H$4,BuildingType_Lookup,2,FALSE))","v":0},{"$f":"IF(AND(OR(AN324=\"\",AN324=0)=TRUE,OR(AO324=\"\",AO324=0))=TRUE,0,IF(AO324=\"\",(IF(OR(C324=\"DDC\",C324=\"OHLC\")=TRUE,O324,P324)/1000)*Y324*Z324*(1+VLOOKUP($H$4,BuildingType_Lookup,4,FALSE)),IF(AO324=0,0,(IF(OR(C324=\"DDC\",C324=\"OHLC\")=TRUE,O324,Q324)/1000)*Y324*Z324*(1+VLOOKUP($H$4,BuildingType_Lookup,4,FALSE)))))","v":0},{"$f":"IF(AND(OR(AN324=\"\",AN324=0)=TRUE,OR(AO324=\"\",AO324=0))=TRUE,0,IF(AO324=\"\",(IF(OR(C324=\"DDC\",C324=\"OHLC\")=TRUE,O324,P324)/1000)*Y324*AA324*(1+VLOOKUP($H$4,BuildingType_Lookup,MATCH($H$5,HVAC,0)+4,FALSE)),IF(AO324=0,0,(IF(OR(C324=\"DDC\",C324=\"OHLC\")=TRUE,O324,Q324)/1000)*Y324*AA324*(1+VLOOKUP($H$4,BuildingType_Lookup,MATCH($H$5,HVAC,0)+4,FALSE)))))","v":0},0,0,0,0,0,0,{"$f":"W324/1000*Y324*AA324*IF(IFERROR(SEARCH(\"Gas\",$H$5),0)>0,VLOOKUP(\"Gas\",HVACg_Lookup,MATCH($H$6,BuildingSize,0)+1,FALSE),IF(IFERROR(SEARCH(\"Oil\",$H$5),0)>0,VLOOKUP(\"Oil\",HVACg_Lookup,MATCH($H$6,BuildingSize,0)+1,FALSE),IF(IFERROR(SEARCH(\"Propane\",$H$5),0)>0,VLOOKUP(\"Propane\",HVACg_Lookup,MATCH(Worksheet!$H$6,BuildingSize,0)+1,FALSE),0)))","v":0},{"$f":"X324/1000*Y324*AA324*IF(IFERROR(SEARCH(\"Gas\",$H$5),0)>0,VLOOKUP(\"Gas\",HVACg_Lookup,MATCH($H$6,BuildingSize,0)+1,FALSE),IF(IFERROR(SEARCH(\"Oil\",$H$5),0)>0,VLOOKUP(\"Oil\",HVACg_Lookup,MATCH($H$6,BuildingSize,0)+1,FALSE),IF(IFERROR(SEARCH(\"Propane\",$H$5),0)>0,VLOOKUP(\"Propane\",HVACg_Lookup,MATCH(Worksheet!$H$6,BuildingSize,0)+1,FALSE),0)))","v":0},0,0,{"$f":"IF(OR($B$4=\"\",$B$5=\"\",$H$4=\"\",$H$6=\"\",$H$5=\"\",A324=\"\",F324=\"\",J324=\"\",O324=\"\",P324=\"\")=TRUE,\"\",IF(C324=\"OSW\",IF(J324>=2,1,0),IF(C324=\"OSR\",IF(AND(J324>=2,P324>60)=TRUE,1,0),IF(C324=\"OSRH\",IF(AND(J324>=1,P324>90)=TRUE,1,0),IF(C324=\"OHLC\",IF(AND(N324=\"Y\",P324>60)=TRUE,1,0),IF(C324=\"DDC\",IF(AND(J324>=4,N324=\"Y\",P324>120)=TRUE,1,0),0))))))","v":""},{"$f":"IF(OR($B$4=\"\",$B$5=\"\",$H$4=\"\",$H$6=\"\",$H$5=\"\",A324=\"\",F324=\"\",K324=\"\",O324=\"\",P324=\"\")=TRUE,\"\",IF(C324=\"OSW\",IF(K324>=2,1,0),IF(C324=\"OSR\",IF(AND(K324>=2,Q324>60)=TRUE,1,0),IF(C324=\"OSRH\",IF(AND(K324>=1,Q324>90)=TRUE,1,0),IF(C324=\"OHLC\",IF(AND(N324=\"Y\",Q324>60)=TRUE,1,0),IF(C324=\"DDC\",IF(AND(K324>=4,N324=\"Y\",Q324>120)=TRUE,1,0),0))))))","v":""}]
[null,null,"",null,null,null,null,null,null,null,null,null,null,null,null,0,0,0,0,"",0,0,0,0,0,{"$f":"IF($H$4=\"\",0,VLOOKUP($H$4,BuildingType_Lookup,3,FALSE))","v":0},{"$f":"IF($H$4=\"\",0,VLOOKUP($H$4,BuildingType_Lookup,2,FALSE))","v":0},{"$f":"IF(AND(OR(AN325=\"\",AN325=0)=TRUE,OR(AO325=\"\",AO325=0))=TRUE,0,IF(AO325=\"\",(IF(OR(C325=\"DDC\",C325=\"OHLC\")=TRUE,O325,P325)/1000)*Y325*Z325*(1+VLOOKUP($H$4,BuildingType_Lookup,4,FALSE)),IF(AO325=0,0,(IF(OR(C325=\"DDC\",C325=\"OHLC\")=TRUE,O325,Q325)/1000)*Y325*Z325*(1+VLOOKUP($H$4,BuildingType_Lookup,4,FALSE)))))","v":0},{"$f":"IF(AND(OR(AN325=\"\",AN325=0)=TRUE,OR(AO325=\"\",AO325=0))=TRUE,0,IF(AO325=\"\",(IF(OR(C325=\"DDC\",C325=\"OHLC\")=TRUE,O325,P325)/1000)*Y325*AA325*(1+VLOOKUP($H$4,BuildingType_Lookup,MATCH($H$5,HVAC,0)+4,FALSE)),IF(AO325=0,0,(IF(OR(C325=\"DDC\",C325=\"OHLC\")=TRUE,O325,Q325)/1000)*Y325*AA325*(1+VLOOKUP($H$4,BuildingType_Lookup,MATCH($H$5,HVAC,0)+4,FALSE)))))","v":0},0,0,0,0,0,0,{"$f":"W325/1000*Y325*AA325*IF(IFERROR(SEARCH(\"Gas\",$H$5),0)>0,VLOOKUP(\"Gas\",HVACg_Lookup,MATCH($H$6,BuildingSize,0)+1,FALSE),IF(IFERROR(SEARCH(\"Oil\",$H$5),0)>0,VLOOKUP(\"Oil\",HVACg_Lookup,MATCH($H$6,BuildingSize,0)+1,FALSE),IF(IFERROR(SEARCH(\"Propane\",$H$5),0)>0,VLOOKUP(\"Propane\",HVACg_Lookup,MATCH(Worksheet!$H$6,BuildingSize,0)+1,FALSE),0)))","v":0},{"$f":"X325/1000*Y325*AA325*IF(IFERROR(SEARCH(\"Gas\",$H$5),0)>0,VLOOKUP(\"Gas\",HVACg_Lookup,MATCH($H$6,BuildingSize,0)+1,FALSE),IF(IFERROR(SEARCH(\"Oil\",$H$5),0)>0,VLOOKUP(\"Oil\",HVACg_Lookup,MATCH($H$6,BuildingSize,0)+1,FALSE),IF(IFERROR(SEARCH(\"Propane\",$H$5),0)>0,VLOOKUP(\"Propane\",HVACg_Lookup,MATCH(Worksheet!$H$6,BuildingSize,0)+1,FALSE),0)))","v":0},0,0,{"$f":"IF(OR($B$4=\"\",$B$5=\"\",$H$4=\"\",$H$6=\"\",$H$5=\"\",A325=\"\",F325=\"\",J325=\"\",O325=\"\",P325=\"\")=TRUE,\"\",IF(C325=\"OSW\",IF(J325>=2,1,0),IF(C325=\"OSR\",IF(AND(J325>=2,P325>60)=TRUE,1,0),IF(C325=\"OSRH\",IF(AND(J325>=1,P325>90)=TRUE,1,0),IF(C325=\"OHLC\",IF(AND(N325=\"Y\",P325>60)=TRUE,1,0),IF(C325=\"DDC\",IF(AND(J325>=4,N325=\"Y\",P325>120)=TRUE,1,0),0))))))","v":""},{"$f":"IF(OR($B$4=\"\",$B$5=\"\",$H$4=\"\",$H$6=\"\",$H$5=\"\",A325=\"\",F325=\"\",K325=\"\",O325=\"\",P325=\"\")=TRUE,\"\",IF(C325=\"OSW\",IF(K325>=2,1,0),IF(C325=\"OSR\",IF(AND(K325>=2,Q325>60)=TRUE,1,0),IF(C325=\"OSRH\",IF(AND(K325>=1,Q325>90)=TRUE,1,0),IF(C325=\"OHLC\",IF(AND(N325=\"Y\",Q325>60)=TRUE,1,0),IF(C325=\"DDC\",IF(AND(K325>=4,N325=\"Y\",Q325>120)=TRUE,1,0),0))))))","v":""}]
[null,null,"",null,null,null,null,null,null,null,null,null,null,null,null,0,0,0,0,"",0,0,0,0,0,{"$f":"IF($H$4=\"\",0,VLOOKUP($H$4,BuildingType_Lookup,3,FALSE))","v":0},{"$f":"IF($H$4=\"\",0,VLOOKUP($H$4,BuildingType_Lookup,2,FALSE))","v":0},{"$f":"IF(AND(OR(AN326=\"\",AN326=0)=TRUE,OR(AO326=\"\",AO326=0))=TRUE,0,IF(AO326=\"\",(IF(OR(C326=\"DDC\",C326=\"OHLC\")=TRUE,O326,P326)/1000)*Y326*Z326*(1+VLOOKUP($H$4,BuildingType_Lookup,4,FALSE)),IF(AO326=0,0,(IF(OR(C326=\"DDC\",C326=\"OHLC\")=TRUE,O326,Q326)/1000)*Y326*Z326*(1+VLOOKUP($H$4,BuildingType_Lookup,4,FALSE)))))","v":0},{"$f":"IF(AND(OR(AN326=\"\",AN326=0)=TRUE,OR(AO326=\"\",AO326=0))=TRUE,0,IF(AO326=\"\",(IF(OR(C326=\"DDC\",C326=\"OHLC\")=TRUE,O326,P326)/1000)*Y326*AA326*(1+VLOOKUP($H$4,BuildingType_Lookup,MATCH($H$5,HVAC,0)+4,FALSE)),IF(AO326=0,0,(IF(OR(C326=\"DDC\",C326=\"OHLC\")=TRUE,O326,Q326)/1000)*Y326*AA326*(1+VLOOKUP($H$4,BuildingType_Lookup,MATCH($H$5,HVAC,0)+4,FALSE)))))","v":0},0,0,0,0,0,0,{"$f":"W326/1000*Y326*AA326*IF(IFERROR(SEARCH(\"Gas\",$H$5),0)>0,VLOOKUP(\"Gas\",HVACg_Lookup,MATCH($H$6,BuildingSize,0)+1,FALSE),IF(IFERROR(SEARCH(\"Oil\",$H$5),0)>0,VLOOKUP(\"Oil\",HVACg_Lookup,MATCH($H$6,BuildingSize,0)+1,FALSE),IF(IFERROR(SEARCH(\"Propane\",$H$5),0)>0,VLOOKUP(\"Propane\",HVACg_Lookup,MATCH(Worksheet!$H$6,BuildingSize,0)+1,FALSE),0)))","v":0},{"$f":"X326/1000*Y326*AA326*IF(IFERROR(SEARCH(\"Gas\",$H$5),0)>0,VLOOKUP(\"Gas\",HVACg_Lookup,MATCH($H$6,BuildingSize,0)+1,FALSE),IF(IFERROR(SEARCH(\"Oil\",$H$5),0)>0,VLOOKUP(\"Oil\",HVACg_Lookup,MATCH($H$6,BuildingSize,0)+1,FALSE),IF(IFERROR(SEARCH(\"Propane\",$H$5),0)>0,VLOOKUP(\"Propane\",HVACg_Lookup,MATCH(Worksheet!$H$6,BuildingSize,0)+1,FALSE),0)))","v":0},0,0,{"$f":"IF(OR($B$4=\"\",$B$5=\"\",$H$4=\"\",$H$6=\"\",$H$5=\"\",A326=\"\",F326=\"\",J326=\"\",O326=\"\",P326=\"\")=TRUE,\"\",IF(C326=\"OSW\",IF(J326>=2,1,0),IF(C326=\"OSR\",IF(AND(J326>=2,P326>60)=TRUE,1,0),IF(C326=\"OSRH\",IF(AND(J326>=1,P326>90)=TRUE,1,0),IF(C326=\"OHLC\",IF(AND(N326=\"Y\",P326>60)=TRUE,1,0),IF(C326=\"DDC\",IF(AND(J326>=4,N326=\"Y\",P326>120)=TRUE,1,0),0))))))","v":""},{"$f":"IF(OR($B$4=\"\",$B$5=\"\",$H$4=\"\",$H$6=\"\",$H$5=\"\",A326=\"\",F326=\"\",K326=\"\",O326=\"\",P326=\"\")=TRUE,\"\",IF(C326=\"OSW\",IF(K326>=2,1,0),IF(C326=\"OSR\",IF(AND(K326>=2,Q326>60)=TRUE,1,0),IF(C326=\"OSRH\",IF(AND(K326>=1,Q326>90)=TRUE,1,0),IF(C326=\"OHLC\",IF(AND(N326=\"Y\",Q326>60)=TRUE,1,0),IF(C326=\"DDC\",IF(AND(K326>=4,N326=\"Y\",Q326>120)=TRUE,1,0),0))))))","v":""}]
[null,null,"",null,null,null,null,null,null,null,null,null,null,null,null,0,0,0,0,"",0,0,0,0,0,{"$f":"IF($H$4=\"\",0,VLOOKUP($H$4,BuildingType_Lookup,3,FALSE))","v":0},{"$f":"IF($H$4=\"\",0,VLOOKUP($H$4,BuildingType_Lookup,2,FALSE))","v":0},{"$f":"IF(AND(OR(AN327=\"\",AN327=0)=TRUE,OR(AO327=\"\",AO327=0))=TRUE,0,IF(AO327=\"\",(IF(OR(C327=\"DDC\",C327=\"OHLC\")=TRUE,O327,P327)/1000)*Y327*Z327*(1+VLOOKUP($H$4,BuildingType_Lookup,4,FALSE)),IF(AO327=0,0,(IF(OR(C327=\"DDC\",C327=\"OHLC\")=TRUE,O327,Q327)/1000)*Y327*Z327*(1+VLOOKUP($H$4,BuildingType_Lookup,4,FALSE)))))","v":0},{"$f":"IF(AND(OR(AN327=\"\",AN327=0)=TRUE,OR(AO327=\"\",AO327=0))=TRUE,0,IF(AO327=\"\",(IF(OR(C327=\"DDC\",C327=\"OHLC\")=TRUE,O327,P327)/1000)*Y327*AA327*(1+VLOOKUP($H$4,BuildingType_Lookup,MATCH($H$5,HVAC,0)+4,FALSE)),IF(AO327=0,0,(IF(OR(C327=\"DDC\",C327=\"OHLC\")=TRUE,O327,Q327)/1000)*Y327*AA327*(1+VLOOKUP($H$4,BuildingType_Lookup,MATCH($H$5,HVAC,0)+4,FALSE)))))","v":0},0,0,0,0,0,0,{"$f":"W327/1000*Y327*AA327*IF(IFERROR(SEARCH(\"Gas\",$H$5),0)>0,VLOOKUP(\"Gas\",HVACg_Lookup,MATCH($H$6,BuildingSize,0)+1,FALSE),IF(IFERROR(SEARCH(\"Oil\",$H$5),0)>0,VLOOKUP(\"Oil\",HVACg_Lookup,MATCH($H$6,BuildingSize,0)+1,FALSE),IF(IFERROR(SEARCH(\"Propane\",$H$5),0)>0,VLOOKUP(\"Propane\",HVACg_Lookup,MATCH(Worksheet!$H$6,BuildingSize,0)+1,FALSE),0)))","v":0},{"$f":"X327/1000*Y327*AA327*IF(IFERROR(SEARCH(\"Gas\",$H$5),0)>0,VLOOKUP(\"Gas\",HVACg_Lookup,MATCH($H$6,BuildingSize,0)+1,FALSE),IF(IFERROR(SEARCH(\"Oil\",$H$5),0)>0,VLOOKUP(\"Oil\",HVACg_Lookup,MATCH($H$6,BuildingSize,0)+1,FALSE),IF(IFERROR(SEARCH(\"Propane\",$H$5),0)>0,VLOOKUP(\"Propane\",HVACg_Lookup,MATCH(Worksheet!$H$6,BuildingSize,0)+1,FALSE),0)))","v":0},0,0,{"$f":"IF(OR($B$4=\"\",$B$5=\"\",$H$4=\"\",$H$6=\"\",$H$5=\"\",A327=\"\",F327=\"\",J327=\"\",O327=\"\",P327=\"\")=TRUE,\"\",IF(C327=\"OSW\",IF(J327>=2,1,0),IF(C327=\"OSR\",IF(AND(J327>=2,P327>60)=TRUE,1,0),IF(C327=\"OSRH\",IF(AND(J327>=1,P327>90)=TRUE,1,0),IF(C327=\"OHLC\",IF(AND(N327=\"Y\",P327>60)=TRUE,1,0),IF(C327=\"DDC\",IF(AND(J327>=4,N327=\"Y\",P327>120)=TRUE,1,0),0))))))","v":""},{"$f":"IF(OR($B$4=\"\",$B$5=\"\",$H$4=\"\",$H$6=\"\",$H$5=\"\",A327=\"\",F327=\"\",K327=\"\",O327=\"\",P327=\"\")=TRUE,\"\",IF(C327=\"OSW\",IF(K327>=2,1,0),IF(C327=\"OSR\",IF(AND(K327>=2,Q327>60)=TRUE,1,0),IF(C327=\"OSRH\",IF(AND(K327>=1,Q327>90)=TRUE,1,0),IF(C327=\"OHLC\",IF(AND(N327=\"Y\",Q327>60)=TRUE,1,0),IF(C327=\"DDC\",IF(AND(K327>=4,N327=\"Y\",Q327>120)=TRUE,1,0),0))))))","v":""}]
[null,null,"",null,null,null,null,null,null,null,null,null,null,null,null,0,0,0,0,"",0,0,0,0,0,{"$f":"IF($H$4=\"\",0,VLOOKUP($H$4,BuildingType_Lookup,3,FALSE))","v":0},{"$f":"IF($H$4=\"\",0,VLOOKUP($H$4,BuildingType_Lookup,2,FALSE))","v":0},{"$f":"IF(AND(OR(AN328=\"\",AN328=0)=TRUE,OR(AO328=\"\",AO328=0))=TRUE,0,IF(AO328=\"\",(IF(OR(C328=\"DDC\",C328=\"OHLC\")=TRUE,O328,P328)/1000)*Y328*Z328*(1+VLOOKUP($H$4,BuildingType_Lookup,4,FALSE)),IF(AO328=0,0,(IF(OR(C328=\"DDC\",C328=\"OHLC\")=TRUE,O328,Q328)/1000)*Y328*Z328*(1+VLOOKUP($H$4,BuildingType_Lookup,4,FALSE)))))","v":0},{"$f":"IF(AND(OR(AN328=\"\",AN328=0)=TRUE,OR(AO328=\"\",AO328=0))=TRUE,0,IF(AO328=\"\",(IF(OR(C328=\"DDC\",C328=\"OHLC\")=TRUE,O328,P328)/1000)*Y328*AA328*(1+VLOOKUP($H$4,BuildingType_Lookup,MATCH($H$5,HVAC,0)+4,FALSE)),IF(AO328=0,0,(IF(OR(C328=\"DDC\",C328=\"OHLC\")=TRUE,O328,Q328)/1000)*Y328*AA328*(1+VLOOKUP($H$4,BuildingType_Lookup,MATCH($H$5,HVAC,0)+4,FALSE)))))","v":0},0,0,0,0,0,0,{"$f":"W328/1000*Y328*AA328*IF(IFERROR(SEARCH(\"Gas\",$H$5),0)>0,VLOOKUP(\"Gas\",HVACg_Lookup,MATCH($H$6,BuildingSize,0)+1,FALSE),IF(IFERROR(SEARCH(\"Oil\",$H$5),0)>0,VLOOKUP(\"Oil\",HVACg_Lookup,MATCH($H$6,BuildingSize,0)+1,FALSE),IF(IFERROR(SEARCH(\"Propane\",$H$5),0)>0,VLOOKUP(\"Propane\",HVACg_Lookup,MATCH(Worksheet!$H$6,BuildingSize,0)+1,FALSE),0)))","v":0},{"$f":"X328/1000*Y328*AA328*IF(IFERROR(SEARCH(\"Gas\",$H$5),0)>0,VLOOKUP(\"Gas\",HVACg_Lookup,MATCH($H$6,BuildingSize,0)+1,FALSE),IF(IFERROR(SEARCH(\"Oil\",$H$5),0)>0,VLOOKUP(\"Oil\",HVACg_Lookup,MATCH($H$6,BuildingSize,0)+1,FALSE),IF(IFERROR(SEARCH(\"Propane\",$H$5),0)>0,VLOOKUP(\"Propane\",HVACg_Lookup,MATCH(Worksheet!$H$6,BuildingSize,0)+1,FALSE),0)))","v":0},0,0,{"$f":"IF(OR($B$4=\"\",$B$5=\"\",$H$4=\"\",$H$6=\"\",$H$5=\"\",A328=\"\",F328=\"\",J328=\"\",O328=\"\",P328=\"\")=TRUE,\"\",IF(C328=\"OSW\",IF(J328>=2,1,0),IF(C328=\"OSR\",IF(AND(J328>=2,P328>60)=TRUE,1,0),IF(C328=\"OSRH\",IF(AND(J328>=1,P328>90)=TRUE,1,0),IF(C328=\"OHLC\",IF(AND(N328=\"Y\",P328>60)=TRUE,1,0),IF(C328=\"DDC\",IF(AND(J328>=4,N328=\"Y\",P328>120)=TRUE,1,0),0))))))","v":""},{"$f":"IF(OR($B$4=\"\",$B$5=\"\",$H$4=\"\",$H$6=\"\",$H$5=\"\",A328=\"\",F328=\"\",K328=\"\",O328=\"\",P328=\"\")=TRUE,\"\",IF(C328=\"OSW\",IF(K328>=2,1,0),IF(C328=\"OSR\",IF(AND(K328>=2,Q328>60)=TRUE,1,0),IF(C328=\"OSRH\",IF(AND(K328>=1,Q328>90)=TRUE,1,0),IF(C328=\"OHLC\",IF(AND(N328=\"Y\",Q328>60)=TRUE,1,0),IF(C328=\"DDC\",IF(AND(K328>=4,N328=\"Y\",Q328>120)=TRUE,1,0),0))))))","v":""}]
[null,null,"",null,null,null,null,null,null,null,null,null,null,null,null,0,0,0,0,"",0,0,0,0,0,{"$f":"IF($H$4=\"\",0,VLOOKUP($H$4,BuildingType_Lookup,3,FALSE))","v":0},{"$f":"IF($H$4=\"\",0,VLOOKUP($H$4,BuildingType_Lookup,2,FALSE))","v":0},{"$f":"IF(AND(OR(AN329=\"\",AN329=0)=TRUE,OR(AO329=\"\",AO329=0))=TRUE,0,IF(AO329=\"\",(IF(OR(C329=\"DDC\",C329=\"OHLC\")=TRUE,O329,P329)/1000)*Y329*Z329*(1+VLOOKUP($H$4,BuildingType_Lookup,4,FALSE)),IF(AO329=0,0,(IF(OR(C329=\"DDC\",C329=\"OHLC\")=TRUE,O329,Q329)/1000)*Y329*Z329*(1+VLOOKUP($H$4,BuildingType_Lookup,4,FALSE)))))","v":0},{"$f":"IF(AND(OR(AN329=\"\",AN329=0)=TRUE,OR(AO329=\"\",AO329=0))=TRUE,0,IF(AO329=\"\",(IF(OR(C329=\"DDC\",C329=\"OHLC\")=TRUE,O329,P329)/1000)*Y329*AA329*(1+VLOOKUP($H$4,BuildingType_Lookup,MATCH($H$5,HVAC,0)+4,FALSE)),IF(AO329=0,0,(IF(OR(C329=\"DDC\",C329=\"OHLC\")=TRUE,O329,Q329)/1000)*Y329*AA329*(1+VLOOKUP($H$4,BuildingType_Lookup,MATCH($H$5,HVAC,0)+4,FALSE)))))","v":0},0,0,0,0,0,0,{"$f":"W329/1000*Y329*AA329*IF(IFERROR(SEARCH(\"Gas\",$H$5),0)>0,VLOOKUP(\"Gas\",HVACg_Lookup,MATCH($H$6,BuildingSize,0)+1,FALSE),IF(IFERROR(SEARCH(\"Oil\",$H$5),0)>0,VLOOKUP(\"Oil\",HVACg_Lookup,MATCH($H$6,BuildingSize,0)+1,FALSE),IF(IFERROR(SEARCH(\"Propane\",$H$5),0)>0,VLOOKUP(\"Propane\",HVACg_Lookup,MATCH(Worksheet!$H$6,BuildingSize,0)+1,FALSE),0)))","v":0},{"$f":"X329/1000*Y329*AA329*IF(IFERROR(SEARCH(\"Gas\",$H$5),0)>0,VLOOKUP(\"Gas\",HVACg_Lookup,MATCH($H$6,BuildingSize,0)+1,FALSE),IF(IFERROR(SEARCH(\"Oil\",$H$5),0)>0,VLOOKUP(\"Oil\",HVACg_Lookup,MATCH($H$6,BuildingSize,0)+1,FALSE),IF(IFERROR(SEARCH(\"Propane\",$H$5),0)>0,VLOOKUP(\"Propane\",HVACg_Lookup,MATCH(Worksheet!$H$6,BuildingSize,0)+1,FALSE),0)))","v":0},0,0,{"$f":"IF(OR($B$4=\"\",$B$5=\"\",$H$4=\"\",$H$6=\"\",$H$5=\"\",A329=\"\",F329=\"\",J329=\"\",O329=\"\",P329=\"\")=TRUE,\"\",IF(C329=\"OSW\",IF(J329>=2,1,0),IF(C329=\"OSR\",IF(AND(J329>=2,P329>60)=TRUE,1,0),IF(C329=\"OSRH\",IF(AND(J329>=1,P329>90)=TRUE,1,0),IF(C329=\"OHLC\",IF(AND(N329=\"Y\",P329>60)=TRUE,1,0),IF(C329=\"DDC\",IF(AND(J329>=4,N329=\"Y\",P329>120)=TRUE,1,0),0))))))","v":""},{"$f":"IF(OR($B$4=\"\",$B$5=\"\",$H$4=\"\",$H$6=\"\",$H$5=\"\",A329=\"\",F329=\"\",K329=\"\",O329=\"\",P329=\"\")=TRUE,\"\",IF(C329=\"OSW\",IF(K329>=2,1,0),IF(C329=\"OSR\",IF(AND(K329>=2,Q329>60)=TRUE,1,0),IF(C329=\"OSRH\",IF(AND(K329>=1,Q329>90)=TRUE,1,0),IF(C329=\"OHLC\",IF(AND(N329=\"Y\",Q329>60)=TRUE,1,0),IF(C329=\"DDC\",IF(AND(K329>=4,N329=\"Y\",Q329>120)=TRUE,1,0),0))))))","v":""}]
[null,null,"",null,null,null,null,null,null,null,null,null,null,null,null,0,0,0,0,"",0,0,0,0,0,{"$f":"IF($H$4=\"\",0,VLOOKUP($H$4,BuildingType_Lookup,3,FALSE))","v":0},{"$f":"IF($H$4=\"\",0,VLOOKUP($H$4,BuildingType_Lookup,2,FALSE))","v":0},{"$f":"IF(AND(OR(AN330=\"\",AN330=0)=TRUE,OR(AO330=\"\",AO330=0))=TRUE,0,IF(AO330=\"\",(IF(OR(C330=\"DDC\",C330=\"OHLC\")=TRUE,O330,P330)/1000)*Y330*Z330*(1+VLOOKUP($H$4,BuildingType_Lookup,4,FALSE)),IF(AO330=0,0,(IF(OR(C330=\"DDC\",C330=\"OHLC\")=TRUE,O330,Q330)/1000)*Y330*Z330*(1+VLOOKUP($H$4,BuildingType_Lookup,4,FALSE)))))","v":0},{"$f":"IF(AND(OR(AN330=\"\",AN330=0)=TRUE,OR(AO330=\"\",AO330=0))=TRUE,0,IF(AO330=\"\",(IF(OR(C330=\"DDC\",C330=\"OHLC\")=TRUE,O330,P330)/1000)*Y330*AA330*(1+VLOOKUP($H$4,BuildingType_Lookup,MATCH($H$5,HVAC,0)+4,FALSE)),IF(AO330=0,0,(IF(OR(C330=\"DDC\",C330=\"OHLC\")=TRUE,O330,Q330)/1000)*Y330*AA330*(1+VLOOKUP($H$4,BuildingType_Lookup,MATCH($H$5,HVAC,0)+4,FALSE)))))","v":0},0,0,0,0,0,0,{"$f":"W330/1000*Y330*AA330*IF(IFERROR(SEARCH(\"Gas\",$H$5),0)>0,VLOOKUP(\"Gas\",HVACg_Lookup,MATCH($H$6,BuildingSize,0)+1,FALSE),IF(IFERROR(SEARCH(\"Oil\",$H$5),0)>0,VLOOKUP(\"Oil\",HVACg_Lookup,MATCH($H$6,BuildingSize,0)+1,FALSE),IF(IFERROR(SEARCH(\"Propane\",$H$5),0)>0,VLOOKUP(\"Propane\",HVACg_Lookup,MATCH(Worksheet!$H$6,BuildingSize,0)+1,FALSE),0)))","v":0},{"$f":"X330/1000*Y330*AA330*IF(IFERROR(SEARCH(\"Gas\",$H$5),0)>0,VLOOKUP(\"Gas\",HVACg_Lookup,MATCH($H$6,BuildingSize,0)+1,FALSE),IF(IFERROR(SEARCH(\"Oil\",$H$5),0)>0,VLOOKUP(\"Oil\",HVACg_Lookup,MATCH($H$6,BuildingSize,0)+1,FALSE),IF(IFERROR(SEARCH(\"Propane\",$H$5),0)>0,VLOOKUP(\"Propane\",HVACg_Lookup,MATCH(Worksheet!$H$6,BuildingSize,0)+1,FALSE),0)))","v":0},0,0,{"$f":"IF(OR($B$4=\"\",$B$5=\"\",$H$4=\"\",$H$6=\"\",$H$5=\"\",A330=\"\",F330=\"\",J330=\"\",O330=\"\",P330=\"\")=TRUE,\"\",IF(C330=\"OSW\",IF(J330>=2,1,0),IF(C330=\"OSR\",IF(AND(J330>=2,P330>60)=TRUE,1,0),IF(C330=\"OSRH\",IF(AND(J330>=1,P330>90)=TRUE,1,0),IF(C330=\"OHLC\",IF(AND(N330=\"Y\",P330>60)=TRUE,1,0),IF(C330=\"DDC\",IF(AND(J330>=4,N330=\"Y\",P330>120)=TRUE,1,0),0))))))","v":""},{"$f":"IF(OR($B$4=\"\",$B$5=\"\",$H$4=\"\",$H$6=\"\",$H$5=\"\",A330=\"\",F330=\"\",K330=\"\",O330=\"\",P330=\"\")=TRUE,\"\",IF(C330=\"OSW\",IF(K330>=2,1,0),IF(C330=\"OSR\",IF(AND(K330>=2,Q330>60)=TRUE,1,0),IF(C330=\"OSRH\",IF(AND(K330>=1,Q330>90)=TRUE,1,0),IF(C330=\"OHLC\",IF(AND(N330=\"Y\",Q330>60)=TRUE,1,0),IF(C330=\"DDC\",IF(AND(K330>=4,N330=\"Y\",Q330>120)=TRUE,1,0),0))))))","v":""}]
[null,null,"",null,null,null,null,null,null,null,null,null,null,null,null,0,0,0,0,"",0,0,0,0,0,{"$f":"IF($H$4=\"\",0,VLOOKUP($H$4,BuildingType_Lookup,3,FALSE))","v":0},{"$f":"IF($H$4=\"\",0,VLOOKUP($H$4,BuildingType_Lookup,2,FALSE))","v":0},{"$f":"IF(AND(OR(AN331=\"\",AN331=0)=TRUE,OR(AO331=\"\",AO331=0))=TRUE,0,IF(AO331=\"\",(IF(OR(C331=\"DDC\",C331=\"OHLC\")=TRUE,O331,P331)/1000)*Y331*Z331*(1+VLOOKUP($H$4,BuildingType_Lookup,4,FALSE)),IF(AO331=0,0,(IF(OR(C331=\"DDC\",C331=\"OHLC\")=TRUE,O331,Q331)/1000)*Y331*Z331*(1+VLOOKUP($H$4,BuildingType_Lookup,4,FALSE)))))","v":0},{"$f":"IF(AND(OR(AN331=\"\",AN331=0)=TRUE,OR(AO331=\"\",AO331=0))=TRUE,0,IF(AO331=\"\",(IF(OR(C331=\"DDC\",C331=\"OHLC\")=TRUE,O331,P331)/1000)*Y331*AA331*(1+VLOOKUP($H$4,BuildingType_Lookup,MATCH($H$5,HVAC,0)+4,FALSE)),IF(AO331=0,0,(IF(OR(C331=\"DDC\",C331=\"OHLC\")=TRUE,O331,Q331)/1000)*Y331*AA331*(1+VLOOKUP($H$4,BuildingType_Lookup,MATCH($H$5,HVAC,0)+4,FALSE)))))","v":0},0,0,0,0,0,0,{"$f":"W331/1000*Y331*AA331*IF(IFERROR(SEARCH(\"Gas\",$H$5),0)>0,VLOOKUP(\"Gas\",HVACg_Lookup,MATCH($H$6,BuildingSize,0)+1,FALSE),IF(IFERROR(SEARCH(\"Oil\",$H$5),0)>0,VLOOKUP(\"Oil\",HVACg_Lookup,MATCH($H$6,BuildingSize,0)+1,FALSE),IF(IFERROR(SEARCH(\"Propane\",$H$5),0)>0,VLOOKUP(\"Propane\",HVACg_Lookup,MATCH(Worksheet!$H$6,BuildingSize,0)+1,FALSE),0)))","v":0},{"$f":"X331/1000*Y331*AA331*IF(IFERROR(SEARCH(\"Gas\",$H$5),0)>0,VLOOKUP(\"Gas\",HVACg_Lookup,MATCH($H$6,BuildingSize,0)+1,FALSE),IF(IFERROR(SEARCH(\"Oil\",$H$5),0)>0,VLOOKUP(\"Oil\",HVACg_Lookup,MATCH($H$6,BuildingSize,0)+1,FALSE),IF(IFERROR(SEARCH(\"Propane\",$H$5),0)>0,VLOOKUP(\"Propane\",HVACg_Lookup,MATCH(Worksheet!$H$6,BuildingSize,0)+1,FALSE),0)))","v":0},0,0,{"$f":"IF(OR($B$4=\"\",$B$5=\"\",$H$4=\"\",$H$6=\"\",$H$5=\"\",A331=\"\",F331=\"\",J331=\"\",O331=\"\",P331=\"\")=TRUE,\"\",IF(C331=\"OSW\",IF(J331>=2,1,0),IF(C331=\"OSR\",IF(AND(J331>=2,P331>60)=TRUE,1,0),IF(C331=\"OSRH\",IF(AND(J331>=1,P331>90)=TRUE,1,0),IF(C331=\"OHLC\",IF(AND(N331=\"Y\",P331>60)=TRUE,1,0),IF(C331=\"DDC\",IF(AND(J331>=4,N331=\"Y\",P331>120)=TRUE,1,0),0))))))","v":""},{"$f":"IF(OR($B$4=\"\",$B$5=\"\",$H$4=\"\",$H$6=\"\",$H$5=\"\",A331=\"\",F331=\"\",K331=\"\",O331=\"\",P331=\"\")=TRUE,\"\",IF(C331=\"OSW\",IF(K331>=2,1,0),IF(C331=\"OSR\",IF(AND(K331>=2,Q331>60)=TRUE,1,0),IF(C331=\"OSRH\",IF(AND(K331>=1,Q331>90)=TRUE,1,0),IF(C331=\"OHLC\",IF(AND(N331=\"Y\",Q331>60)=TRUE,1,0),IF(C331=\"DDC\",IF(AND(K331>=4,N331=\"Y\",Q331>120)=TRUE,1,0),0))))))","v":""}]
[null,null,"",null,null,null,null,null,null,null,null,null,null,null,null,0,0,0,0,"",0,0,0,0,0,{"$f":"IF($H$4=\"\",0,VLOOKUP($H$4,BuildingType_Lookup,3,FALSE))","v":0},{"$f":"IF($H$4=\"\",0,VLOOKUP($H$4,BuildingType_Lookup,2,FALSE))","v":0},{"$f":"IF(AND(OR(AN332=\"\",AN332=0)=TRUE,OR(AO332=\"\",AO332=0))=TRUE,0,IF(AO332=\"\",(IF(OR(C332=\"DDC\",C332=\"OHLC\")=TRUE,O332,P332)/1000)*Y332*Z332*(1+VLOOKUP($H$4,BuildingType_Lookup,4,FALSE)),IF(AO332=0,0,(IF(OR(C332=\"DDC\",C332=\"OHLC\")=TRUE,O332,Q332)/1000)*Y332*Z332*(1+VLOOKUP($H$4,BuildingType_Lookup,4,FALSE)))))","v":0},{"$f":"IF(AND(OR(AN332=\"\",AN332=0)=TRUE,OR(AO332=\"\",AO332=0))=TRUE,0,IF(AO332=\"\",(IF(OR(C332=\"DDC\",C332=\"OHLC\")=TRUE,O332,P332)/1000)*Y332*AA332*(1+VLOOKUP($H$4,BuildingType_Lookup,MATCH($H$5,HVAC,0)+4,FALSE)),IF(AO332=0,0,(IF(OR(C332=\"DDC\",C332=\"OHLC\")=TRUE,O332,Q332)/1000)*Y332*AA332*(1+VLOOKUP($H$4,BuildingType_Lookup,MATCH($H$5,HVAC,0)+4,FALSE)))))","v":0},0,0,0,0,0,0,{"$f":"W332/1000*Y332*AA332*IF(IFERROR(SEARCH(\"Gas\",$H$5),0)>0,VLOOKUP(\"Gas\",HVACg_Lookup,MATCH($H$6,BuildingSize,0)+1,FALSE),IF(IFERROR(SEARCH(\"Oil\",$H$5),0)>0,VLOOKUP(\"Oil\",HVACg_Lookup,MATCH($H$6,BuildingSize,0)+1,FALSE),IF(IFERROR(SEARCH(\"Propane\",$H$5),0)>0,VLOOKUP(\"Propane\",HVACg_Lookup,MATCH(Worksheet!$H$6,BuildingSize,0)+1,FALSE),0)))","v":0},{"$f":"X332/1000*Y332*AA332*IF(IFERROR(SEARCH(\"Gas\",$H$5),0)>0,VLOOKUP(\"Gas\",HVACg_Lookup,MATCH($H$6,BuildingSize,0)+1,FALSE),IF(IFERROR(SEARCH(\"Oil\",$H$5),0)>0,VLOOKUP(\"Oil\",HVACg_Lookup,MATCH($H$6,BuildingSize,0)+1,FALSE),IF(IFERROR(SEARCH(\"Propane\",$H$5),0)>0,VLOOKUP(\"Propane\",HVACg_Lookup,MATCH(Worksheet!$H$6,BuildingSize,0)+1,FALSE),0)))","v":0},0,0,{"$f":"IF(OR($B$4=\"\",$B$5=\"\",$H$4=\"\",$H$6=\"\",$H$5=\"\",A332=\"\",F332=\"\",J332=\"\",O332=\"\",P332=\"\")=TRUE,\"\",IF(C332=\"OSW\",IF(J332>=2,1,0),IF(C332=\"OSR\",IF(AND(J332>=2,P332>60)=TRUE,1,0),IF(C332=\"OSRH\",IF(AND(J332>=1,P332>90)=TRUE,1,0),IF(C332=\"OHLC\",IF(AND(N332=\"Y\",P332>60)=TRUE,1,0),IF(C332=\"DDC\",IF(AND(J332>=4,N332=\"Y\",P332>120)=TRUE,1,0),0))))))","v":""},{"$f":"IF(OR($B$4=\"\",$B$5=\"\",$H$4=\"\",$H$6=\"\",$H$5=\"\",A332=\"\",F332=\"\",K332=\"\",O332=\"\",P332=\"\")=TRUE,\"\",IF(C332=\"OSW\",IF(K332>=2,1,0),IF(C332=\"OSR\",IF(AND(K332>=2,Q332>60)=TRUE,1,0),IF(C332=\"OSRH\",IF(AND(K332>=1,Q332>90)=TRUE,1,0),IF(C332=\"OHLC\",IF(AND(N332=\"Y\",Q332>60)=TRUE,1,0),IF(C332=\"DDC\",IF(AND(K332>=4,N332=\"Y\",Q332>120)=TRUE,1,0),0))))))","v":""}]
[null,null,"",null,null,null,null,null,null,null,null,null,null,null,null,0,0,0,0,"",0,0,0,0,0,{"$f":"IF($H$4=\"\",0,VLOOKUP($H$4,BuildingType_Lookup,3,FALSE))","v":0},{"$f":"IF($H$4=\"\",0,VLOOKUP($H$4,BuildingType_Lookup,2,FALSE))","v":0},{"$f":"IF(AND(OR(AN333=\"\",AN333=0)=TRUE,OR(AO333=\"\",AO333=0))=TRUE,0,IF(AO333=\"\",(IF(OR(C333=\"DDC\",C333=\"OHLC\")=TRUE,O333,P333)/1000)*Y333*Z333*(1+VLOOKUP($H$4,BuildingType_Lookup,4,FALSE)),IF(AO333=0,0,(IF(OR(C333=\"DDC\",C333=\"OHLC\")=TRUE,O333,Q333)/1000)*Y333*Z333*(1+VLOOKUP($H$4,BuildingType_Lookup,4,FALSE)))))","v":0},{"$f":"IF(AND(OR(AN333=\"\",AN333=0)=TRUE,OR(AO333=\"\",AO333=0))=TRUE,0,IF(AO333=\"\",(IF(OR(C333=\"DDC\",C333=\"OHLC\")=TRUE,O333,P333)/1000)*Y333*AA333*(1+VLOOKUP($H$4,BuildingType_Lookup,MATCH($H$5,HVAC,0)+4,FALSE)),IF(AO333=0,0,(IF(OR(C333=\"DDC\",C333=\"OHLC\")=TRUE,O333,Q333)/1000)*Y333*AA333*(1+VLOOKUP($H$4,BuildingType_Lookup,MATCH($H$5,HVAC,0)+4,FALSE)))))","v":0},0,0,0,0,0,0,{"$f":"W333/1000*Y333*AA333*IF(IFERROR(SEARCH(\"Gas\",$H$5),0)>0,VLOOKUP(\"Gas\",HVACg_Lookup,MATCH($H$6,BuildingSize,0)+1,FALSE),IF(IFERROR(SEARCH(\"Oil\",$H$5),0)>0,VLOOKUP(\"Oil\",HVACg_Lookup,MATCH($H$6,BuildingSize,0)+1,FALSE),IF(IFERROR(SEARCH(\"Propane\",$H$5),0)>0,VLOOKUP(\"Propane\",HVACg_Lookup,MATCH(Worksheet!$H$6,BuildingSize,0)+1,FALSE),0)))","v":0},{"$f":"X333/1000*Y333*AA333*IF(IFERROR(SEARCH(\"Gas\",$H$5),0)>0,VLOOKUP(\"Gas\",HVACg_Lookup,MATCH($H$6,BuildingSize,0)+1,FALSE),IF(IFERROR(SEARCH(\"Oil\",$H$5),0)>0,VLOOKUP(\"Oil\",HVACg_Lookup,MATCH($H$6,BuildingSize,0)+1,FALSE),IF(IFERROR(SEARCH(\"Propane\",$H$5),0)>0,VLOOKUP(\"Propane\",HVACg_Lookup,MATCH(Worksheet!$H$6,BuildingSize,0)+1,FALSE),0)))","v":0},0,0,{"$f":"IF(OR($B$4=\"\",$B$5=\"\",$H$4=\"\",$H$6=\"\",$H$5=\"\",A333=\"\",F333=\"\",J333=\"\",O333=\"\",P333=\"\")=TRUE,\"\",IF(C333=\"OSW\",IF(J333>=2,1,0),IF(C333=\"OSR\",IF(AND(J333>=2,P333>60)=TRUE,1,0),IF(C333=\"OSRH\",IF(AND(J333>=1,P333>90)=TRUE,1,0),IF(C333=\"OHLC\",IF(AND(N333=\"Y\",P333>60)=TRUE,1,0),IF(C333=\"DDC\",IF(AND(J333>=4,N333=\"Y\",P333>120)=TRUE,1,0),0))))))","v":""},{"$f":"IF(OR($B$4=\"\",$B$5=\"\",$H$4=\"\",$H$6=\"\",$H$5=\"\",A333=\"\",F333=\"\",K333=\"\",O333=\"\",P333=\"\")=TRUE,\"\",IF(C333=\"OSW\",IF(K333>=2,1,0),IF(C333=\"OSR\",IF(AND(K333>=2,Q333>60)=TRUE,1,0),IF(C333=\"OSRH\",IF(AND(K333>=1,Q333>90)=TRUE,1,0),IF(C333=\"OHLC\",IF(AND(N333=\"Y\",Q333>60)=TRUE,1,0),IF(C333=\"DDC\",IF(AND(K333>=4,N333=\"Y\",Q333>120)=TRUE,1,0),0))))))","v":""}]
[null,null,"",null,null,null,null,null,null,null,null,null,null,null,null,0,0,0,0,"",0,0,0,0,0,{"$f":"IF($H$4=\"\",0,VLOOKUP($H$4,BuildingType_Lookup,3,FALSE))","v":0},{"$f":"IF($H$4=\"\",0,VLOOKUP($H$4,BuildingType_Lookup,2,FALSE))","v":0},{"$f":"IF(AND(OR(AN334=\"\",AN334=0)=TRUE,OR(AO334=\"\",AO334=0))=TRUE,0,IF(AO334=\"\",(IF(OR(C334=\"DDC\",C334=\"OHLC\")=TRUE,O334,P334)/1000)*Y334*Z334*(1+VLOOKUP($H$4,BuildingType_Lookup,4,FALSE)),IF(AO334=0,0,(IF(OR(C334=\"DDC\",C334=\"OHLC\")=TRUE,O334,Q334)/1000)*Y334*Z334*(1+VLOOKUP($H$4,BuildingType_Lookup,4,FALSE)))))","v":0},{"$f":"IF(AND(OR(AN334=\"\",AN334=0)=TRUE,OR(AO334=\"\",AO334=0))=TRUE,0,IF(AO334=\"\",(IF(OR(C334=\"DDC\",C334=\"OHLC\")=TRUE,O334,P334)/1000)*Y334*AA334*(1+VLOOKUP($H$4,BuildingType_Lookup,MATCH($H$5,HVAC,0)+4,FALSE)),IF(AO334=0,0,(IF(OR(C334=\"DDC\",C334=\"OHLC\")=TRUE,O334,Q334)/1000)*Y334*AA334*(1+VLOOKUP($H$4,BuildingType_Lookup,MATCH($H$5,HVAC,0)+4,FALSE)))))","v":0},0,0,0,0,0,0,{"$f":"W334/1000*Y334*AA334*IF(IFERROR(SEARCH(\"Gas\",$H$5),0)>0,VLOOKUP(\"Gas\",HVACg_Lookup,MATCH($H$6,BuildingSize,0)+1,FALSE),IF(IFERROR(SEARCH(\"Oil\",$H$5),0)>0,VLOOKUP(\"Oil\",HVACg_Lookup,MATCH($H$6,BuildingSize,0)+1,FALSE),IF(IFERROR(SEARCH(\"Propane\",$H$5),0)>0,VLOOKUP(\"Propane\",HVACg_Lookup,MATCH(Worksheet!$H$6,BuildingSize,0)+1,FALSE),0)))","v":0},{"$f":"X334/1000*Y334*AA334*IF(IFERROR(SEARCH(\"Gas\",$H$5),0)>0,VLOOKUP(\"Gas\",HVACg_Lookup,MATCH($H$6,BuildingSize,0)+1,FALSE),IF(IFERROR(SEARCH(\"Oil\",$H$5),0)>0,VLOOKUP(\"Oil\",HVACg_Lookup,MATCH($H$6,BuildingSize,0)+1,FALSE),IF(IFERROR(SEARCH(\"Propane\",$H$5),0)>0,VLOOKUP(\"Propane\",HVACg_Lookup,MATCH(Worksheet!$H$6,BuildingSize,0)+1,FALSE),0)))","v":0},0,0,{"$f":"IF(OR($B$4=\"\",$B$5=\"\",$H$4=\"\",$H$6=\"\",$H$5=\"\",A334=\"\",F334=\"\",J334=\"\",O334=\"\",P334=\"\")=TRUE,\"\",IF(C334=\"OSW\",IF(J334>=2,1,0),IF(C334=\"OSR\",IF(AND(J334>=2,P334>60)=TRUE,1,0),IF(C334=\"OSRH\",IF(AND(J334>=1,P334>90)=TRUE,1,0),IF(C334=\"OHLC\",IF(AND(N334=\"Y\",P334>60)=TRUE,1,0),IF(C334=\"DDC\",IF(AND(J334>=4,N334=\"Y\",P334>120)=TRUE,1,0),0))))))","v":""},{"$f":"IF(OR($B$4=\"\",$B$5=\"\",$H$4=\"\",$H$6=\"\",$H$5=\"\",A334=\"\",F334=\"\",K334=\"\",O334=\"\",P334=\"\")=TRUE,\"\",IF(C334=\"OSW\",IF(K334>=2,1,0),IF(C334=\"OSR\",IF(AND(K334>=2,Q334>60)=TRUE,1,0),IF(C334=\"OSRH\",IF(AND(K334>=1,Q334>90)=TRUE,1,0),IF(C334=\"OHLC\",IF(AND(N334=\"Y\",Q334>60)=TRUE,1,0),IF(C334=\"DDC\",IF(AND(K334>=4,N334=\"Y\",Q334>120)=TRUE,1,0),0))))))","v":""}]
[null,null,"",null,null,null,null,null,null,null,null,null,null,null,null,0,0,0,0,"",0,0,0,0,0,{"$f":"IF($H$4=\"\",0,VLOOKUP($H$4,BuildingType_Lookup,3,FALSE))","v":0},{"$f":"IF($H$4=\"\",0,VLOOKUP($H$4,BuildingType_Lookup,2,FALSE))","v":0},{"$f":"IF(AND(OR(AN335=\"\",AN335=0)=TRUE,OR(AO335=\"\",AO335=0))=TRUE,0,IF(AO335=\"\",(IF(OR(C335=\"DDC\",C335=\"OHLC\")=TRUE,O335,P335)/1000)*Y335*Z335*(1+VLOOKUP($H$4,BuildingType_Lookup,4,FALSE)),IF(AO335=0,0,(IF(OR(C335=\"DDC\",C335=\"OHLC\")=TRUE,O335,Q335)/1000)*Y335*Z335*(1+VLOOKUP($H$4,BuildingType_Lookup,4,FALSE)))))","v":0},{"$f":"IF(AND(OR(AN335=\"\",AN335=0)=TRUE,OR(AO335=\"\",AO335=0))=TRUE,0,IF(AO335=\"\",(IF(OR(C335=\"DDC\",C335=\"OHLC\")=TRUE,O335,P335)/1000)*Y335*AA335*(1+VLOOKUP($H$4,BuildingType_Lookup,MATCH($H$5,HVAC,0)+4,FALSE)),IF(AO335=0,0,(IF(OR(C335=\"DDC\",C335=\"OHLC\")=TRUE,O335,Q335)/1000)*Y335*AA335*(1+VLOOKUP($H$4,BuildingType_Lookup,MATCH($H$5,HVAC,0)+4,FALSE)))))","v":0},0,0,0,0,0,0,{"$f":"W335/1000*Y335*AA335*IF(IFERROR(SEARCH(\"Gas\",$H$5),0)>0,VLOOKUP(\"Gas\",HVACg_Lookup,MATCH($H$6,BuildingSize,0)+1,FALSE),IF(IFERROR(SEARCH(\"Oil\",$H$5),0)>0,VLOOKUP(\"Oil\",HVACg_Lookup,MATCH($H$6,BuildingSize,0)+1,FALSE),IF(IFERROR(SEARCH(\"Propane\",$H$5),0)>0,VLOOKUP(\"Propane\",HVACg_Lookup,MATCH(Worksheet!$H$6,BuildingSize,0)+1,FALSE),0)))","v":0},{"$f":"X335/1000*Y335*AA335*IF(IFERROR(SEARCH(\"Gas\",$H$5),0)>0,VLOOKUP(\"Gas\",HVACg_Lookup,MATCH($H$6,BuildingSize,0)+1,FALSE),IF(IFERROR(SEARCH(\"Oil\",$H$5),0)>0,VLOOKUP(\"Oil\",HVACg_Lookup,MATCH($H$6,BuildingSize,0)+1,FALSE),IF(IFERROR(SEARCH(\"Propane\",$H$5),0)>0,VLOOKUP(\"Propane\",HVACg_Lookup,MATCH(Worksheet!$H$6,BuildingSize,0)+1,FALSE),0)))","v":0},0,0,{"$f":"IF(OR($B$4=\"\",$B$5=\"\",$H$4=\"\",$H$6=\"\",$H$5=\"\",A335=\"\",F335=\"\",J335=\"\",O335=\"\",P335=\"\")=TRUE,\"\",IF(C335=\"OSW\",IF(J335>=2,1,0),IF(C335=\"OSR\",IF(AND(J335>=2,P335>60)=TRUE,1,0),IF(C335=\"OSRH\",IF(AND(J335>=1,P335>90)=TRUE,1,0),IF(C335=\"OHLC\",IF(AND(N335=\"Y\",P335>60)=TRUE,1,0),IF(C335=\"DDC\",IF(AND(J335>=4,N335=\"Y\",P335>120)=TRUE,1,0),0))))))","v":""},{"$f":"IF(OR($B$4=\"\",$B$5=\"\",$H$4=\"\",$H$6=\"\",$H$5=\"\",A335=\"\",F335=\"\",K335=\"\",O335=\"\",P335=\"\")=TRUE,\"\",IF(C335=\"OSW\",IF(K335>=2,1,0),IF(C335=\"OSR\",IF(AND(K335>=2,Q335>60)=TRUE,1,0),IF(C335=\"OSRH\",IF(AND(K335>=1,Q335>90)=TRUE,1,0),IF(C335=\"OHLC\",IF(AND(N335=\"Y\",Q335>60)=TRUE,1,0),IF(C335=\"DDC\",IF(AND(K335>=4,N335=\"Y\",Q335>120)=TRUE,1,0),0))))))","v":""}]
[null,null,"",null,null,null,null,null,null,null,null,null,null,null,null,0,0,0,0,"",0,0,0,0,0,{"$f":"IF($H$4=\"\",0,VLOOKUP($H$4,BuildingType_Lookup,3,FALSE))","v":0},{"$f":"IF($H$4=\"\",0,VLOOKUP($H$4,BuildingType_Lookup,2,FALSE))","v":0},{"$f":"IF(AND(OR(AN336=\"\",AN336=0)=TRUE,OR(AO336=\"\",AO336=0))=TRUE,0,IF(AO336=\"\",(IF(OR(C336=\"DDC\",C336=\"OHLC\")=TRUE,O336,P336)/1000)*Y336*Z336*(1+VLOOKUP($H$4,BuildingType_Lookup,4,FALSE)),IF(AO336=0,0,(IF(OR(C336=\"DDC\",C336=\"OHLC\")=TRUE,O336,Q336)/1000)*Y336*Z336*(1+VLOOKUP($H$4,BuildingType_Lookup,4,FALSE)))))","v":0},{"$f":"IF(AND(OR(AN336=\"\",AN336=0)=TRUE,OR(AO336=\"\",AO336=0))=TRUE,0,IF(AO336=\"\",(IF(OR(C336=\"DDC\",C336=\"OHLC\")=TRUE,O336,P336)/1000)*Y336*AA336*(1+VLOOKUP($H$4,BuildingType_Lookup,MATCH($H$5,HVAC,0)+4,FALSE)),IF(AO336=0,0,(IF(OR(C336=\"DDC\",C336=\"OHLC\")=TRUE,O336,Q336)/1000)*Y336*AA336*(1+VLOOKUP($H$4,BuildingType_Lookup,MATCH($H$5,HVAC,0)+4,FALSE)))))","v":0},0,0,0,0,0,0,{"$f":"W336/1000*Y336*AA336*IF(IFERROR(SEARCH(\"Gas\",$H$5),0)>0,VLOOKUP(\"Gas\",HVACg_Lookup,MATCH($H$6,BuildingSize,0)+1,FALSE),IF(IFERROR(SEARCH(\"Oil\",$H$5),0)>0,VLOOKUP(\"Oil\",HVACg_Lookup,MATCH($H$6,BuildingSize,0)+1,FALSE),IF(IFERROR(SEARCH(\"Propane\",$H$5),0)>0,VLOOKUP(\"Propane\",HVACg_Lookup,MATCH(Worksheet!$H$6,BuildingSize,0)+1,FALSE),0)))","v":0},{"$f":"X336/1000*Y336*AA336*IF(IFERROR(SEARCH(\"Gas\",$H$5),0)>0,VLOOKUP(\"Gas\",HVACg_Lookup,MATCH($H$6,BuildingSize,0)+1,FALSE),IF(IFERROR(SEARCH(\"Oil\",$H$5),0)>0,VLOOKUP(\"Oil\",HVACg_Lookup,MATCH($H$6,BuildingSize,0)+1,FALSE),IF(IFERROR(SEARCH(\"Propane\",$H$5),0)>0,VLOOKUP(\"Propane\",HVACg_Lookup,MATCH(Worksheet!$H$6,BuildingSize,0)+1,FALSE),0)))","v":0},0,0,{"$f":"IF(OR($B$4=\"\",$B$5=\"\",$H$4=\"\",$H$6=\"\",$H$5=\"\",A336=\"\",F336=\"\",J336=\"\",O336=\"\",P336=\"\")=TRUE,\"\",IF(C336=\"OSW\",IF(J336>=2,1,0),IF(C336=\"OSR\",IF(AND(J336>=2,P336>60)=TRUE,1,0),IF(C336=\"OSRH\",IF(AND(J336>=1,P336>90)=TRUE,1,0),IF(C336=\"OHLC\",IF(AND(N336=\"Y\",P336>60)=TRUE,1,0),IF(C336=\"DDC\",IF(AND(J336>=4,N336=\"Y\",P336>120)=TRUE,1,0),0))))))","v":""},{"$f":"IF(OR($B$4=\"\",$B$5=\"\",$H$4=\"\",$H$6=\"\",$H$5=\"\",A336=\"\",F336=\"\",K336=\"\",O336=\"\",P336=\"\")=TRUE,\"\",IF(C336=\"OSW\",IF(K336>=2,1,0),IF(C336=\"OSR\",IF(AND(K336>=2,Q336>60)=TRUE,1,0),IF(C336=\"OSRH\",IF(AND(K336>=1,Q336>90)=TRUE,1,0),IF(C336=\"OHLC\",IF(AND(N336=\"Y\",Q336>60)=TRUE,1,0),IF(C336=\"DDC\",IF(AND(K336>=4,N336=\"Y\",Q336>120)=TRUE,1,0),0))))))","v":""}]
[null,null,"",null,null,null,null,null,null,null,null,null,null,null,null,0,0,0,0,"",0,0,0,0,0,{"$f":"IF($H$4=\"\",0,VLOOKUP($H$4,BuildingType_Lookup,3,FALSE))","v":0},{"$f":"IF($H$4=\"\",0,VLOOKUP($H$4,BuildingType_Lookup,2,FALSE))","v":0},{"$f":"IF(AND(OR(AN337=\"\",AN337=0)=TRUE,OR(AO337=\"\",AO337=0))=TRUE,0,IF(AO337=\"\",(IF(OR(C337=\"DDC\",C337=\"OHLC\")=TRUE,O337,P337)/1000)*Y337*Z337*(1+VLOOKUP($H$4,BuildingType_Lookup,4,FALSE)),IF(AO337=0,0,(IF(OR(C337=\"DDC\",C337=\"OHLC\")=TRUE,O337,Q337)/1000)*Y337*Z337*(1+VLOOKUP($H$4,BuildingType_Lookup,4,FALSE)))))","v":0},{"$f":"IF(AND(OR(AN337=\"\",AN337=0)=TRUE,OR(AO337=\"\",AO337=0))=TRUE,0,IF(AO337=\"\",(IF(OR(C337=\"DDC\",C337=\"OHLC\")=TRUE,O337,P337)/1000)*Y337*AA337*(1+VLOOKUP($H$4,BuildingType_Lookup,MATCH($H$5,HVAC,0)+4,FALSE)),IF(AO337=0,0,(IF(OR(C337=\"DDC\",C337=\"OHLC\")=TRUE,O337,Q337)/1000)*Y337*AA337*(1+VLOOKUP($H$4,BuildingType_Lookup,MATCH($H$5,HVAC,0)+4,FALSE)))))","v":0},0,0,0,0,0,0,{"$f":"W337/1000*Y337*AA337*IF(IFERROR(SEARCH(\"Gas\",$H$5),0)>0,VLOOKUP(\"Gas\",HVACg_Lookup,MATCH($H$6,BuildingSize,0)+1,FALSE),IF(IFERROR(SEARCH(\"Oil\",$H$5),0)>0,VLOOKUP(\"Oil\",HVACg_Lookup,MATCH($H$6,BuildingSize,0)+1,FALSE),IF(IFERROR(SEARCH(\"Propane\",$H$5),0)>0,VLOOKUP(\"Propane\",HVACg_Lookup,MATCH(Worksheet!$H$6,BuildingSize,0)+1,FALSE),0)))","v":0},{"$f":"X337/1000*Y337*AA337*IF(IFERROR(SEARCH(\"Gas\",$H$5),0)>0,VLOOKUP(\"Gas\",HVACg_Lookup,MATCH($H$6,BuildingSize,0)+1,FALSE),IF(IFERROR(SEARCH(\"Oil\",$H$5),0)>0,VLOOKUP(\"Oil\",HVACg_Lookup,MATCH($H$6,BuildingSize,0)+1,FALSE),IF(IFERROR(SEARCH(\"Propane\",$H$5),0)>0,VLOOKUP(\"Propane\",HVACg_Lookup,MATCH(Worksheet!$H$6,BuildingSize,0)+1,FALSE),0)))","v":0},0,0,{"$f":"IF(OR($B$4=\"\",$B$5=\"\",$H$4=\"\",$H$6=\"\",$H$5=\"\",A337=\"\",F337=\"\",J337=\"\",O337=\"\",P337=\"\")=TRUE,\"\",IF(C337=\"OSW\",IF(J337>=2,1,0),IF(C337=\"OSR\",IF(AND(J337>=2,P337>60)=TRUE,1,0),IF(C337=\"OSRH\",IF(AND(J337>=1,P337>90)=TRUE,1,0),IF(C337=\"OHLC\",IF(AND(N337=\"Y\",P337>60)=TRUE,1,0),IF(C337=\"DDC\",IF(AND(J337>=4,N337=\"Y\",P337>120)=TRUE,1,0),0))))))","v":""},{"$f":"IF(OR($B$4=\"\",$B$5=\"\",$H$4=\"\",$H$6=\"\",$H$5=\"\",A337=\"\",F337=\"\",K337=\"\",O337=\"\",P337=\"\")=TRUE,\"\",IF(C337=\"OSW\",IF(K337>=2,1,0),IF(C337=\"OSR\",IF(AND(K337>=2,Q337>60)=TRUE,1,0),IF(C337=\"OSRH\",IF(AND(K337>=1,Q337>90)=TRUE,1,0),IF(C337=\"OHLC\",IF(AND(N337=\"Y\",Q337>60)=TRUE,1,0),IF(C337=\"DDC\",IF(AND(K337>=4,N337=\"Y\",Q337>120)=TRUE,1,0),0))))))","v":""}]
[null,null,"",null,null,null,null,null,null,null,null,null,null,null,null,0,0,0,0,"",0,0,0,0,0,{"$f":"IF($H$4=\"\",0,VLOOKUP($H$4,BuildingType_Lookup,3,FALSE))","v":0},{"$f":"IF($H$4=\"\",0,VLOOKUP($H$4,BuildingType_Lookup,2,FALSE))","v":0},{"$f":"IF(AND(OR(AN338=\"\",AN338=0)=TRUE,OR(AO338=\"\",AO338=0))=TRUE,0,IF(AO338=\"\",(IF(OR(C338=\"DDC\",C338=\"OHLC\")=TRUE,O338,P338)/1000)*Y338*Z338*(1+VLOOKUP($H$4,BuildingType_Lookup,4,FALSE)),IF(AO338=0,0,(IF(OR(C338=\"DDC\",C338=\"OHLC\")=TRUE,O338,Q338)/1000)*Y338*Z338*(1+VLOOKUP($H$4,BuildingType_Lookup,4,FALSE)))))","v":0},{"$f":"IF(AND(OR(AN338=\"\",AN338=0)=TRUE,OR(AO338=\"\",AO338=0))=TRUE,0,IF(AO338=\"\",(IF(OR(C338=\"DDC\",C338=\"OHLC\")=TRUE,O338,P338)/1000)*Y338*AA338*(1+VLOOKUP($H$4,BuildingType_Lookup,MATCH($H$5,HVAC,0)+4,FALSE)),IF(AO338=0,0,(IF(OR(C338=\"DDC\",C338=\"OHLC\")=TRUE,O338,Q338)/1000)*Y338*AA338*(1+VLOOKUP($H$4,BuildingType_Lookup,MATCH($H$5,HVAC,0)+4,FALSE)))))","v":0},0,0,0,0,0,0,{"$f":"W338/1000*Y338*AA338*IF(IFERROR(SEARCH(\"Gas\",$H$5),0)>0,VLOOKUP(\"Gas\",HVACg_Lookup,MATCH($H$6,BuildingSize,0)+1,FALSE),IF(IFERROR(SEARCH(\"Oil\",$H$5),0)>0,VLOOKUP(\"Oil\",HVACg_Lookup,MATCH($H$6,BuildingSize,0)+1,FALSE),IF(IFERROR(SEARCH(\"Propane\",$H$5),0)>0,VLOOKUP(\"Propane\",HVACg_Lookup,MATCH(Worksheet!$H$6,BuildingSize,0)+1,FALSE),0)))","v":0},{"$f":"X338/1000*Y338*AA338*IF(IFERROR(SEARCH(\"Gas\",$H$5),0)>0,VLOOKUP(\"Gas\",HVACg_Lookup,MATCH($H$6,BuildingSize,0)+1,FALSE),IF(IFERROR(SEARCH(\"Oil\",$H$5),0)>0,VLOOKUP(\"Oil\",HVACg_Lookup,MATCH($H$6,BuildingSize,0)+1,FALSE),IF(IFERROR(SEARCH(\"Propane\",$H$5),0)>0,VLOOKUP(\"Propane\",HVACg_Lookup,MATCH(Worksheet!$H$6,BuildingSize,0)+1,FALSE),0)))","v":0},0,0,{"$f":"IF(OR($B$4=\"\",$B$5=\"\",$H$4=\"\",$H$6=\"\",$H$5=\"\",A338=\"\",F338=\"\",J338=\"\",O338=\"\",P338=\"\")=TRUE,\"\",IF(C338=\"OSW\",IF(J338>=2,1,0),IF(C338=\"OSR\",IF(AND(J338>=2,P338>60)=TRUE,1,0),IF(C338=\"OSRH\",IF(AND(J338>=1,P338>90)=TRUE,1,0),IF(C338=\"OHLC\",IF(AND(N338=\"Y\",P338>60)=TRUE,1,0),IF(C338=\"DDC\",IF(AND(J338>=4,N338=\"Y\",P338>120)=TRUE,1,0),0))))))","v":""},{"$f":"IF(OR($B$4=\"\",$B$5=\"\",$H$4=\"\",$H$6=\"\",$H$5=\"\",A338=\"\",F338=\"\",K338=\"\",O338=\"\",P338=\"\")=TRUE,\"\",IF(C338=\"OSW\",IF(K338>=2,1,0),IF(C338=\"OSR\",IF(AND(K338>=2,Q338>60)=TRUE,1,0),IF(C338=\"OSRH\",IF(AND(K338>=1,Q338>90)=TRUE,1,0),IF(C338=\"OHLC\",IF(AND(N338=\"Y\",Q338>60)=TRUE,1,0),IF(C338=\"DDC\",IF(AND(K338>=4,N338=\"Y\",Q338>120)=TRUE,1,0),0))))))","v":""}]
[null,null,"",null,null,null,null,null,null,null,null,null,null,null,null,0,0,0,0,"",0,0,0,0,0,{"$f":"IF($H$4=\"\",0,VLOOKUP($H$4,BuildingType_Lookup,3,FALSE))","v":0},{"$f":"IF($H$4=\"\",0,VLOOKUP($H$4,BuildingType_Lookup,2,FALSE))","v":0},{"$f":"IF(AND(OR(AN339=\"\",AN339=0)=TRUE,OR(AO339=\"\",AO339=0))=TRUE,0,IF(AO339=\"\",(IF(OR(C339=\"DDC\",C339=\"OHLC\")=TRUE,O339,P339)/1000)*Y339*Z339*(1+VLOOKUP($H$4,BuildingType_Lookup,4,FALSE)),IF(AO339=0,0,(IF(OR(C339=\"DDC\",C339=\"OHLC\")=TRUE,O339,Q339)/1000)*Y339*Z339*(1+VLOOKUP($H$4,BuildingType_Lookup,4,FALSE)))))","v":0},{"$f":"IF(AND(OR(AN339=\"\",AN339=0)=TRUE,OR(AO339=\"\",AO339=0))=TRUE,0,IF(AO339=\"\",(IF(OR(C339=\"DDC\",C339=\"OHLC\")=TRUE,O339,P339)/1000)*Y339*AA339*(1+VLOOKUP($H$4,BuildingType_Lookup,MATCH($H$5,HVAC,0)+4,FALSE)),IF(AO339=0,0,(IF(OR(C339=\"DDC\",C339=\"OHLC\")=TRUE,O339,Q339)/1000)*Y339*AA339*(1+VLOOKUP($H$4,BuildingType_Lookup,MATCH($H$5,HVAC,0)+4,FALSE)))))","v":0},0,0,0,0,0,0,{"$f":"W339/1000*Y339*AA339*IF(IFERROR(SEARCH(\"Gas\",$H$5),0)>0,VLOOKUP(\"Gas\",HVACg_Lookup,MATCH($H$6,BuildingSize,0)+1,FALSE),IF(IFERROR(SEARCH(\"Oil\",$H$5),0)>0,VLOOKUP(\"Oil\",HVACg_Lookup,MATCH($H$6,BuildingSize,0)+1,FALSE),IF(IFERROR(SEARCH(\"Propane\",$H$5),0)>0,VLOOKUP(\"Propane\",HVACg_Lookup,MATCH(Worksheet!$H$6,BuildingSize,0)+1,FALSE),0)))","v":0},{"$f":"X339/1000*Y339*AA339*IF(IFERROR(SEARCH(\"Gas\",$H$5),0)>0,VLOOKUP(\"Gas\",HVACg_Lookup,MATCH($H$6,BuildingSize,0)+1,FALSE),IF(IFERROR(SEARCH(\"Oil\",$H$5),0)>0,VLOOKUP(\"Oil\",HVACg_Lookup,MATCH($H$6,BuildingSize,0)+1,FALSE),IF(IFERROR(SEARCH(\"Propane\",$H$5),0)>0,VLOOKUP(\"Propane\",HVACg_Lookup,MATCH(Worksheet!$H$6,BuildingSize,0)+1,FALSE),0)))","v":0},0,0,{"$f":"IF(OR($B$4=\"\",$B$5=\"\",$H$4=\"\",$H$6=\"\",$H$5=\"\",A339=\"\",F339=\"\",J339=\"\",O339=\"\",P339=\"\")=TRUE,\"\",IF(C339=\"OSW\",IF(J339>=2,1,0),IF(C339=\"OSR\",IF(AND(J339>=2,P339>60)=TRUE,1,0),IF(C339=\"OSRH\",IF(AND(J339>=1,P339>90)=TRUE,1,0),IF(C339=\"OHLC\",IF(AND(N339=\"Y\",P339>60)=TRUE,1,0),IF(C339=\"DDC\",IF(AND(J339>=4,N339=\"Y\",P339>120)=TRUE,1,0),0))))))","v":""},{"$f":"IF(OR($B$4=\"\",$B$5=\"\",$H$4=\"\",$H$6=\"\",$H$5=\"\",A339=\"\",F339=\"\",K339=\"\",O339=\"\",P339=\"\")=TRUE,\"\",IF(C339=\"OSW\",IF(K339>=2,1,0),IF(C339=\"OSR\",IF(AND(K339>=2,Q339>60)=TRUE,1,0),IF(C339=\"OSRH\",IF(AND(K339>=1,Q339>90)=TRUE,1,0),IF(C339=\"OHLC\",IF(AND(N339=\"Y\",Q339>60)=TRUE,1,0),IF(C339=\"DDC\",IF(AND(K339>=4,N339=\"Y\",Q339>120)=TRUE,1,0),0))))))","v":""}]
[null,null,"",null,null,null,null,null,null,null,null,null,null,null,null,0,0,0,0,"",0,0,0,0,0,{"$f":"IF($H$4=\"\",0,VLOOKUP($H$4,BuildingType_Lookup,3,FALSE))","v":0},{"$f":"IF($H$4=\"\",0,VLOOKUP($H$4,BuildingType_Lookup,2,FALSE))","v":0},{"$f":"IF(AND(OR(AN340=\"\",AN340=0)=TRUE,OR(AO340=\"\",AO340=0))=TRUE,0,IF(AO340=\"\",(IF(OR(C340=\"DDC\",C340=\"OHLC\")=TRUE,O340,P340)/1000)*Y340*Z340*(1+VLOOKUP($H$4,BuildingType_Lookup,4,FALSE)),IF(AO340=0,0,(IF(OR(C340=\"DDC\",C340=\"OHLC\")=TRUE,O340,Q340)/1000)*Y340*Z340*(1+VLOOKUP($H$4,BuildingType_Lookup,4,FALSE)))))","v":0},{"$f":"IF(AND(OR(AN340=\"\",AN340=0)=TRUE,OR(AO340=\"\",AO340=0))=TRUE,0,IF(AO340=\"\",(IF(OR(C340=\"DDC\",C340=\"OHLC\")=TRUE,O340,P340)/1000)*Y340*AA340*(1+VLOOKUP($H$4,BuildingType_Lookup,MATCH($H$5,HVAC,0)+4,FALSE)),IF(AO340=0,0,(IF(OR(C340=\"DDC\",C340=\"OHLC\")=TRUE,O340,Q340)/1000)*Y340*AA340*(1+VLOOKUP($H$4,BuildingType_Lookup,MATCH($H$5,HVAC,0)+4,FALSE)))))","v":0},0,0,0,0,0,0,{"$f":"W340/1000*Y340*AA340*IF(IFERROR(SEARCH(\"Gas\",$H$5),0)>0,VLOOKUP(\"Gas\",HVACg_Lookup,MATCH($H$6,BuildingSize,0)+1,FALSE),IF(IFERROR(SEARCH(\"Oil\",$H$5),0)>0,VLOOKUP(\"Oil\",HVACg_Lookup,MATCH($H$6,BuildingSize,0)+1,FALSE),IF(IFERROR(SEARCH(\"Propane\",$H$5),0)>0,VLOOKUP(\"Propane\",HVACg_Lookup,MATCH(Worksheet!$H$6,BuildingSize,0)+1,FALSE),0)))","v":0},{"$f":"X340/1000*Y340*AA340*IF(IFERROR(SEARCH(\"Gas\",$H$5),0)>0,VLOOKUP(\"Gas\",HVACg_Lookup,MATCH($H$6,BuildingSize,0)+1,FALSE),IF(IFERROR(SEARCH(\"Oil\",$H$5),0)>0,VLOOKUP(\"Oil\",HVACg_Lookup,MATCH($H$6,BuildingSize,0)+1,FALSE),IF(IFERROR(SEARCH(\"Propane\",$H$5),0)>0,VLOOKUP(\"Propane\",HVACg_Lookup,MATCH(Worksheet!$H$6,BuildingSize,0)+1,FALSE),0)))","v":0},0,0,{"$f":"IF(OR($B$4=\"\",$B$5=\"\",$H$4=\"\",$H$6=\"\",$H$5=\"\",A340=\"\",F340=\"\",J340=\"\",O340=\"\",P340=\"\")=TRUE,\"\",IF(C340=\"OSW\",IF(J340>=2,1,0),IF(C340=\"OSR\",IF(AND(J340>=2,P340>60)=TRUE,1,0),IF(C340=\"OSRH\",IF(AND(J340>=1,P340>90)=TRUE,1,0),IF(C340=\"OHLC\",IF(AND(N340=\"Y\",P340>60)=TRUE,1,0),IF(C340=\"DDC\",IF(AND(J340>=4,N340=\"Y\",P340>120)=TRUE,1,0),0))))))","v":""},{"$f":"IF(OR($B$4=\"\",$B$5=\"\",$H$4=\"\",$H$6=\"\",$H$5=\"\",A340=\"\",F340=\"\",K340=\"\",O340=\"\",P340=\"\")=TRUE,\"\",IF(C340=\"OSW\",IF(K340>=2,1,0),IF(C340=\"OSR\",IF(AND(K340>=2,Q340>60)=TRUE,1,0),IF(C340=\"OSRH\",IF(AND(K340>=1,Q340>90)=TRUE,1,0),IF(C340=\"OHLC\",IF(AND(N340=\"Y\",Q340>60)=TRUE,1,0),IF(C340=\"DDC\",IF(AND(K340>=4,N340=\"Y\",Q340>120)=TRUE,1,0),0))))))","v":""}]
[null,null,"",null,null,null,null,null,null,null,null,null,null,null,null,0,0,{"$f":"IF(AN341=\"\",0,IF(AN341=1,VLOOKUP(A341,MeasureCode_Lookup,3,FALSE),\"DNQ\"))","v":0},{"$f":"IF(AO341=\"\",0,IF(AO341=1,VLOOKUP(A341,MeasureCode_Lookup,3,FALSE),\"DNQ\"))","v":0},{"$f":"IF(A341=\"\",\"\",VLOOKUP(A341,MeasureCode_Lookup,4,FALSE))","v":""},0,0,{"$f":"IF(N(R341)=0,0,F341*P341)","v":0},{"$f":"IF(N(S341)=0,0,G341*Q341)","v":0},{"$f":"IF(A341=\"\",0,VLOOKUP(A341,MeasureCode_Lookup,5,FALSE))","v":0},{"$f":"IF($H$4=\"\",0,VLOOKUP($H$4,BuildingType_Lookup,3,FALSE))","v":0},{"$f":"IF($H$4=\"\",0,VLOOKUP($H$4,BuildingType_Lookup,2,FALSE))","v":0},{"$f":"IF(AND(OR(AN341=\"\",AN341=0)=TRUE,OR(AO341=\"\",AO341=0))=TRUE,0,IF(AO341=\"\",(IF(OR(C341=\"DDC\",C341=\"OHLC\")=TRUE,O341,P341)/1000)*Y341*Z341*(1+VLOOKUP($H$4,BuildingType_Lookup,4,FALSE)),IF(AO341=0,0,(IF(OR(C341=\"DDC\",C341=\"OHLC\")=TRUE,O341,Q341)/1000)*Y341*Z341*(1+VLOOKUP($H$4,BuildingType_Lookup,4,FALSE)))))","v":0},{"$f":"IF(AND(OR(AN341=\"\",AN341=0)=TRUE,OR(AO341=\"\",AO341=0))=TRUE,0,IF(AO341=\"\",(IF(OR(C341=\"DDC\",C341=\"OHLC\")=TRUE,O341,P341)/1000)*Y341*AA341*(1+VLOOKUP($H$4,BuildingType_Lookup,MATCH($H$5,HVAC,0)+4,FALSE)),IF(AO341=0,0,(IF(OR(C341=\"DDC\",C341=\"OHLC\")=TRUE,O341,Q341)/1000)*Y341*AA341*(1+VLOOKUP($H$4,BuildingType_Lookup,MATCH($H$5,HVAC,0)+4,FALSE)))))","v":0},{"$f":"IFERROR(IF(OR(C341=\"DDC\",C341=\"OHLC\")=TRUE,F341*J341*AB341,F341*AB341),0)","v":0},{"$f":"IFERROR(IF(OR(C341=\"DDC\",C341=\"OHLC\")=TRUE,G341*K341*AB341,G341*AB341),0)","v":0},{"$f":"IFERROR(IF(OR(C341=\"DDC\",C341=\"OHLC\")=TRUE,F341*J341*AC341,F341*AC341),0)","v":0},{"$f":"IFERROR(IF(OR(C341=\"DDC\",C341=\"OHLC\")=TRUE,G341*K341*AC341,G341*AC341),0)","v":0},0,0,{"$f":"W341/1000*Y341*AA341*IF(IFERROR(SEARCH(\"Gas\",$H$5),0)>0,VLOOKUP(\"Gas\",HVACg_Lookup,MATCH($H$6,BuildingSize,0)+1,FALSE),IF(IFERROR(SEARCH(\"Oil\",$H$5),0)>0,VLOOKUP(\"Oil\",HVACg_Lookup,MATCH($H$6,BuildingSize,0)+1,FALSE),IF(IFERROR(SEARCH(\"Propane\",$H$5),0)>0,VLOOKUP(\"Propane\",HVACg_Lookup,MATCH(Worksheet!$H$6,BuildingSize,0)+1,FALSE),0)))","v":0},{"$f":"X341/1000*Y341*AA341*IF(IFERROR(SEARCH(\"Gas\",$H$5),0)>0,VLOOKUP(\"Gas\",HVACg_Lookup,MATCH($H$6,BuildingSize,0)+1,FALSE),IF(IFERROR(SEARCH(\"Oil\",$H$5),0)>0,VLOOKUP(\"Oil\",HVACg_Lookup,MATCH($H$6,BuildingSize,0)+1,FALSE),IF(IFERROR(SEARCH(\"Propane\",$H$5),0)>0,VLOOKUP(\"Propane\",HVACg_Lookup,MATCH(Worksheet!$H$6,BuildingSize,0)+1,FALSE),0)))","v":0},0,0,{"$f":"IF(OR($B$4=\"\",$B$5=\"\",$H$4=\"\",$H$6=\"\",$H$5=\"\",A341=\"\",F341=\"\",J341=\"\",O341=\"\",P341=\"\")=TRUE,\"\",IF(C341=\"OSW\",IF(J341>=2,1,0),IF(C341=\"OSR\",IF(AND(J341>=2,P341>60)=TRUE,1,0),IF(C341=\"OSRH\",IF(AND(J341>=1,P341>90)=TRUE,1,0),IF(C341=\"OHLC\",IF(AND(N341=\"Y\",P341>60)=TRUE,1,0),IF(C341=\"DDC\",IF(AND(J341>=4,N341=\"Y\",P341>120)=TRUE,1,0),0))))))","v":""},{"$f":"IF(OR($B$4=\"\",$B$5=\"\",$H$4=\"\",$H$6=\"\",$H$5=\"\",A341=\"\",F341=\"\",K341=\"\",O341=\"\",P341=\"\")=TRUE,\"\",IF(C341=\"OSW\",IF(K341>=2,1,0),IF(C341=\"OSR\",IF(AND(K341>=2,Q341>60)=TRUE,1,0),IF(C341=\"OSRH\",IF(AND(K341>=1,Q341>90)=TRUE,1,0),IF(C341=\"OHLC\",IF(AND(N341=\"Y\",Q341>60)=TRUE,1,0),IF(C341=\"DDC\",IF(AND(K341>=4,N341=\"Y\",Q341>120)=TRUE,1,0),0))))))","v":""}]
[null,null,{"$f":"IF(A342=\"\",\"\",VLOOKUP(A342,MeasureCode_Lookup,2,FALSE))","v":""},null,null,null,null,null,null,null,null,null,null,null,null,{"$f":"IF(OR(A342=\"\",F342=\"\",J342=\"\",O342=\"\")=TRUE,0,J342*O342)","v":0},{"$f":"IF(OR(A342=\"\",G342=\"\",K342=\"\",O342=\"\")=TRUE,0,K342*O342)","v":0},0,0,"",{"$f":"IF(N(R342)=0,0,F342*R342*IF(T342=\"per Fixture Controlled\",J342,1))","v":0},{"$f":"IF(N(S342)=0,0,G342*S342*IF(T342=\"per Fixture Controlled\",K342,1))","v":0},0,0,0,{"$f":"IF($H$4=\"\",0,VLOOKUP($H$4,BuildingType_Lookup,3,FALSE))","v":0},{"$f":"IF($H$4=\"\",0,VLOOKUP($H$4,BuildingType_Lookup,2,FALSE))","v":0},{"$f":"IF(AND(OR(AN342=\"\",AN342=0)=TRUE,OR(AO342=\"\",AO342=0))=TRUE,0,IF(AO342=\"\",(IF(OR(C342=\"DDC\",C342=\"OHLC\")=TRUE,O342,P342)/1000)*Y342*Z342*(1+VLOOKUP($H$4,BuildingType_Lookup,4,FALSE)),IF(AO342=0,0,(IF(OR(C342=\"DDC\",C342=\"OHLC\")=TRUE,O342,Q342)/1000)*Y342*Z342*(1+VLOOKUP($H$4,BuildingType_Lookup,4,FALSE)))))","v":0},{"$f":"IF(AND(OR(AN342=\"\",AN342=0)=TRUE,OR(AO342=\"\",AO342=0))=TRUE,0,IF(AO342=\"\",(IF(OR(C342=\"DDC\",C342=\"OHLC\")=TRUE,O342,P342)/1000)*Y342*AA342*(1+VLOOKUP($H$4,BuildingType_Lookup,MATCH($H$5,HVAC,0)+4,FALSE)),IF(AO342=0,0,(IF(OR(C342=\"DDC\",C342=\"OHLC\")=TRUE,O342,Q342)/1000)*Y342*AA342*(1+VLOOKUP($H$4,BuildingType_Lookup,MATCH($H$5,HVAC,0)+4,FALSE)))))","v":0},0,0,0,0,{"$f":"AF342*8","v":0},{"$f":"AG342*8","v":0},{"$f":"W342/1000*Y342*AA342*IF(IFERROR(SEARCH(\"Gas\",$H$5),0)>0,VLOOKUP(\"Gas\",HVACg_Lookup,MATCH($H$6,BuildingSize,0)+1,FALSE),IF(IFERROR(SEARCH(\"Oil\",$H$5),0)>0,VLOOKUP(\"Oil\",HVACg_Lookup,MATCH($H$6,BuildingSize,0)+1,FALSE),IF(IFERROR(SEARCH(\"Propane\",$H$5),0)>0,VLOOKUP(\"Propane\",HVACg_Lookup,MATCH(Worksheet!$H$6,BuildingSize,0)+1,FALSE),0)))","v":0},{"$f":"X342/1000*Y342*AA342*IF(IFERROR(SEARCH(\"Gas\",$H$5),0)>0,VLOOKUP(\"Gas\",HVACg_Lookup,MATCH($H$6,BuildingSize,0)+1,FALSE),IF(IFERROR(SEARCH(\"Oil\",$H$5),0)>0,VLOOKUP(\"Oil\",HVACg_Lookup,MATCH($H$6,BuildingSize,0)+1,FALSE),IF(IFERROR(SEARCH(\"Propane\",$H$5),0)>0,VLOOKUP(\"Propane\",HVACg_Lookup,MATCH(Worksheet!$H$6,BuildingSize,0)+1,FALSE),0)))","v":0},{"$f":"AJ342*8","v":0},{"$f":"AK342*8","v":0},{"$f":"IF(OR($B$4=\"\",$B$5=\"\",$H$4=\"\",$H$6=\"\",$H$5=\"\",A342=\"\",F342=\"\",J342=\"\",O342=\"\",P342=\"\")=TRUE,\"\",IF(C342=\"OSW\",IF(J342>=2,1,0),IF(C342=\"OSR\",IF(AND(J342>=2,P342>60)=TRUE,1,0),IF(C342=\"OSRH\",IF(AND(J342>=1,P342>90)=TRUE,1,0),IF(C342=\"OHLC\",IF(AND(N342=\"Y\",P342>60)=TRUE,1,0),IF(C342=\"DDC\",IF(AND(J342>=4,N342=\"Y\",P342>120)=TRUE,1,0),0))))))","v":""},{"$f":"IF(OR($B$4=\"\",$B$5=\"\",$H$4=\"\",$H$6=\"\",$H$5=\"\",A342=\"\",F342=\"\",K342=\"\",O342=\"\",P342=\"\")=TRUE,\"\",IF(C342=\"OSW\",IF(K342>=2,1,0),IF(C342=\"OSR\",IF(AND(K342>=2,Q342>60)=TRUE,1,0),IF(C342=\"OSRH\",IF(AND(K342>=1,Q342>90)=TRUE,1,0),IF(C342=\"OHLC\",IF(AND(N342=\"Y\",Q342>60)=TRUE,1,0),IF(C342=\"DDC\",IF(AND(K342>=4,N342=\"Y\",Q342>120)=TRUE,1,0),0))))))","v":""}]
[null,null,"",null,null,null,null,null,null,null,null,null,null,null,null,0,0,0,0,"",0,0,0,0,0,{"$f":"IF($H$4=\"\",0,VLOOKUP($H$4,BuildingType_Lookup,3,FALSE))","v":0},{"$f":"IF($H$4=\"\",0,VLOOKUP($H$4,BuildingType_Lookup,2,FALSE))","v":0},{"$f":"IF(AND(OR(AN343=\"\",AN343=0)=TRUE,OR(AO343=\"\",AO343=0))=TRUE,0,IF(AO343=\"\",(IF(OR(C343=\"DDC\",C343=\"OHLC\")=TRUE,O343,P343)/1000)*Y343*Z343*(1+VLOOKUP($H$4,BuildingType_Lookup,4,FALSE)),IF(AO343=0,0,(IF(OR(C343=\"DDC\",C343=\"OHLC\")=TRUE,O343,Q343)/1000)*Y343*Z343*(1+VLOOKUP($H$4,BuildingType_Lookup,4,FALSE)))))","v":0},{"$f":"IF(AND(OR(AN343=\"\",AN343=0)=TRUE,OR(AO343=\"\",AO343=0))=TRUE,0,IF(AO343=\"\",(IF(OR(C343=\"DDC\",C343=\"OHLC\")=TRUE,O343,P343)/1000)*Y343*AA343*(1+VLOOKUP($H$4,BuildingType_Lookup,MATCH($H$5,HVAC,0)+4,FALSE)),IF(AO343=0,0,(IF(OR(C343=\"DDC\",C343=\"OHLC\")=TRUE,O343,Q343)/1000)*Y343*AA343*(1+VLOOKUP($H$4,BuildingType_Lookup,MATCH($H$5,HVAC,0)+4,FALSE)))))","v":0},0,0,0,0,0,0,{"$f":"W343/1000*Y343*AA343*IF(IFERROR(SEARCH(\"Gas\",$H$5),0)>0,VLOOKUP(\"Gas\",HVACg_Lookup,MATCH($H$6,BuildingSize,0)+1,FALSE),IF(IFERROR(SEARCH(\"Oil\",$H$5),0)>0,VLOOKUP(\"Oil\",HVACg_Lookup,MATCH($H$6,BuildingSize,0)+1,FALSE),IF(IFERROR(SEARCH(\"Propane\",$H$5),0)>0,VLOOKUP(\"Propane\",HVACg_Lookup,MATCH(Worksheet!$H$6,BuildingSize,0)+1,FALSE),0)))","v":0},{"$f":"X343/1000*Y343*AA343*IF(IFERROR(SEARCH(\"Gas\",$H$5),0)>0,VLOOKUP(\"Gas\",HVACg_Lookup,MATCH($H$6,BuildingSize,0)+1,FALSE),IF(IFERROR(SEARCH(\"Oil\",$H$5),0)>0,VLOOKUP(\"Oil\",HVACg_Lookup,MATCH($H$6,BuildingSize,0)+1,FALSE),IF(IFERROR(SEARCH(\"Propane\",$H$5),0)>0,VLOOKUP(\"Propane\",HVACg_Lookup,MATCH(Worksheet!$H$6,BuildingSize,0)+1,FALSE),0)))","v":0},0,0,{"$f":"IF(OR($B$4=\"\",$B$5=\"\",$H$4=\"\",$H$6=\"\",$H$5=\"\",A343=\"\",F343=\"\",J343=\"\",O343=\"\",P343=\"\")=TRUE,\"\",IF(C343=\"OSW\",IF(J343>=2,1,0),IF(C343=\"OSR\",IF(AND(J343>=2,P343>60)=TRUE,1,0),IF(C343=\"OSRH\",IF(AND(J343>=1,P343>90)=TRUE,1,0),IF(C343=\"OHLC\",IF(AND(N343=\"Y\",P343>60)=TRUE,1,0),IF(C343=\"DDC\",IF(AND(J343>=4,N343=\"Y\",P343>120)=TRUE,1,0),0))))))","v":""},{"$f":"IF(OR($B$4=\"\",$B$5=\"\",$H$4=\"\",$H$6=\"\",$H$5=\"\",A343=\"\",F343=\"\",K343=\"\",O343=\"\",P343=\"\")=TRUE,\"\",IF(C343=\"OSW\",IF(K343>=2,1,0),IF(C343=\"OSR\",IF(AND(K343>=2,Q343>60)=TRUE,1,0),IF(C343=\"OSRH\",IF(AND(K343>=1,Q343>90)=TRUE,1,0),IF(C343=\"OHLC\",IF(AND(N343=\"Y\",Q343>60)=TRUE,1,0),IF(C343=\"DDC\",IF(AND(K343>=4,N343=\"Y\",Q343>120)=TRUE,1,0),0))))))","v":""}]
[null,null,"",null,null,null,null,null,null,null,null,null,null,null,null,0,0,0,0,"",0,0,0,0,0,{"$f":"IF($H$4=\"\",0,VLOOKUP($H$4,BuildingType_Lookup,3,FALSE))","v":0},{"$f":"IF($H$4=\"\",0,VLOOKUP($H$4,BuildingType_Lookup,2,FALSE))","v":0},{"$f":"IF(AND(OR(AN344=\"\",AN344=0)=TRUE,OR(AO344=\"\",AO344=0))=TRUE,0,IF(AO344=\"\",(IF(OR(C344=\"DDC\",C344=\"OHLC\")=TRUE,O344,P344)/1000)*Y344*Z344*(1+VLOOKUP($H$4,BuildingType_Lookup,4,FALSE)),IF(AO344=0,0,(IF(OR(C344=\"DDC\",C344=\"OHLC\")=TRUE,O344,Q344)/1000)*Y344*Z344*(1+VLOOKUP($H$4,BuildingType_Lookup,4,FALSE)))))","v":0},{"$f":"IF(AND(OR(AN344=\"\",AN344=0)=TRUE,OR(AO344=\"\",AO344=0))=TRUE,0,IF(AO344=\"\",(IF(OR(C344=\"DDC\",C344=\"OHLC\")=TRUE,O344,P344)/1000)*Y344*AA344*(1+VLOOKUP($H$4,BuildingType_Lookup,MATCH($H$5,HVAC,0)+4,FALSE)),IF(AO344=0,0,(IF(OR(C344=\"DDC\",C344=\"OHLC\")=TRUE,O344,Q344)/1000)*Y344*AA344*(1+VLOOKUP($H$4,BuildingType_Lookup,MATCH($H$5,HVAC,0)+4,FALSE)))))","v":0},0,0,0,0,0,0,{"$f":"W344/1000*Y344*AA344*IF(IFERROR(SEARCH(\"Gas\",$H$5),0)>0,VLOOKUP(\"Gas\",HVACg_Lookup,MATCH($H$6,BuildingSize,0)+1,FALSE),IF(IFERROR(SEARCH(\"Oil\",$H$5),0)>0,VLOOKUP(\"Oil\",HVACg_Lookup,MATCH($H$6,BuildingSize,0)+1,FALSE),IF(IFERROR(SEARCH(\"Propane\",$H$5),0)>0,VLOOKUP(\"Propane\",HVACg_Lookup,MATCH(Worksheet!$H$6,BuildingSize,0)+1,FALSE),0)))","v":0},{"$f":"X344/1000*Y344*AA344*IF(IFERROR(SEARCH(\"Gas\",$H$5),0)>0,VLOOKUP(\"Gas\",HVACg_Lookup,MATCH($H$6,BuildingSize,0)+1,FALSE),IF(IFERROR(SEARCH(\"Oil\",$H$5),0)>0,VLOOKUP(\"Oil\",HVACg_Lookup,MATCH($H$6,BuildingSize,0)+1,FALSE),IF(IFERROR(SEARCH(\"Propane\",$H$5),0)>0,VLOOKUP(\"Propane\",HVACg_Lookup,MATCH(Worksheet!$H$6,BuildingSize,0)+1,FALSE),0)))","v":0},0,0,{"$f":"IF(OR($B$4=\"\",$B$5=\"\",$H$4=\"\",$H$6=\"\",$H$5=\"\",A344=\"\",F344=\"\",J344=\"\",O344=\"\",P344=\"\")=TRUE,\"\",IF(C344=\"OSW\",IF(J344>=2,1,0),IF(C344=\"OSR\",IF(AND(J344>=2,P344>60)=TRUE,1,0),IF(C344=\"OSRH\",IF(AND(J344>=1,P344>90)=TRUE,1,0),IF(C344=\"OHLC\",IF(AND(N344=\"Y\",P344>60)=TRUE,1,0),IF(C344=\"DDC\",IF(AND(J344>=4,N344=\"Y\",P344>120)=TRUE,1,0),0))))))","v":""},{"$f":"IF(OR($B$4=\"\",$B$5=\"\",$H$4=\"\",$H$6=\"\",$H$5=\"\",A344=\"\",F344=\"\",K344=\"\",O344=\"\",P344=\"\")=TRUE,\"\",IF(C344=\"OSW\",IF(K344>=2,1,0),IF(C344=\"OSR\",IF(AND(K344>=2,Q344>60)=TRUE,1,0),IF(C344=\"OSRH\",IF(AND(K344>=1,Q344>90)=TRUE,1,0),IF(C344=\"OHLC\",IF(AND(N344=\"Y\",Q344>60)=TRUE,1,0),IF(C344=\"DDC\",IF(AND(K344>=4,N344=\"Y\",Q344>120)=TRUE,1,0),0))))))","v":""}]
[null,null,"",null,null,null,null,null,null,null,null,null,null,null,null,0,0,0,0,"",0,0,0,0,0,{"$f":"IF($H$4=\"\",0,VLOOKUP($H$4,BuildingType_Lookup,3,FALSE))","v":0},{"$f":"IF($H$4=\"\",0,VLOOKUP($H$4,BuildingType_Lookup,2,FALSE))","v":0},{"$f":"IF(AND(OR(AN345=\"\",AN345=0)=TRUE,OR(AO345=\"\",AO345=0))=TRUE,0,IF(AO345=\"\",(IF(OR(C345=\"DDC\",C345=\"OHLC\")=TRUE,O345,P345)/1000)*Y345*Z345*(1+VLOOKUP($H$4,BuildingType_Lookup,4,FALSE)),IF(AO345=0,0,(IF(OR(C345=\"DDC\",C345=\"OHLC\")=TRUE,O345,Q345)/1000)*Y345*Z345*(1+VLOOKUP($H$4,BuildingType_Lookup,4,FALSE)))))","v":0},{"$f":"IF(AND(OR(AN345=\"\",AN345=0)=TRUE,OR(AO345=\"\",AO345=0))=TRUE,0,IF(AO345=\"\",(IF(OR(C345=\"DDC\",C345=\"OHLC\")=TRUE,O345,P345)/1000)*Y345*AA345*(1+VLOOKUP($H$4,BuildingType_Lookup,MATCH($H$5,HVAC,0)+4,FALSE)),IF(AO345=0,0,(IF(OR(C345=\"DDC\",C345=\"OHLC\")=TRUE,O345,Q345)/1000)*Y345*AA345*(1+VLOOKUP($H$4,BuildingType_Lookup,MATCH($H$5,HVAC,0)+4,FALSE)))))","v":0},0,0,0,0,0,0,{"$f":"W345/1000*Y345*AA345*IF(IFERROR(SEARCH(\"Gas\",$H$5),0)>0,VLOOKUP(\"Gas\",HVACg_Lookup,MATCH($H$6,BuildingSize,0)+1,FALSE),IF(IFERROR(SEARCH(\"Oil\",$H$5),0)>0,VLOOKUP(\"Oil\",HVACg_Lookup,MATCH($H$6,BuildingSize,0)+1,FALSE),IF(IFERROR(SEARCH(\"Propane\",$H$5),0)>0,VLOOKUP(\"Propane\",HVACg_Lookup,MATCH(Worksheet!$H$6,BuildingSize,0)+1,FALSE),0)))","v":0},{"$f":"X345/1000*Y345*AA345*IF(IFERROR(SEARCH(\"Gas\",$H$5),0)>0,VLOOKUP(\"Gas\",HVACg_Lookup,MATCH($H$6,BuildingSize,0)+1,FALSE),IF(IFERROR(SEARCH(\"Oil\",$H$5),0)>0,VLOOKUP(\"Oil\",HVACg_Lookup,MATCH($H$6,BuildingSize,0)+1,FALSE),IF(IFERROR(SEARCH(\"Propane\",$H$5),0)>0,VLOOKUP(\"Propane\",HVACg_Lookup,MATCH(Worksheet!$H$6,BuildingSize,0)+1,FALSE),0)))","v":0},0,0,{"$f":"IF(OR($B$4=\"\",$B$5=\"\",$H$4=\"\",$H$6=\"\",$H$5=\"\",A345=\"\",F345=\"\",J345=\"\",O345=\"\",P345=\"\")=TRUE,\"\",IF(C345=\"OSW\",IF(J345>=2,1,0),IF(C345=\"OSR\",IF(AND(J345>=2,P345>60)=TRUE,1,0),IF(C345=\"OSRH\",IF(AND(J345>=1,P345>90)=TRUE,1,0),IF(C345=\"OHLC\",IF(AND(N345=\"Y\",P345>60)=TRUE,1,0),IF(C345=\"DDC\",IF(AND(J345>=4,N345=\"Y\",P345>120)=TRUE,1,0),0))))))","v":""},{"$f":"IF(OR($B$4=\"\",$B$5=\"\",$H$4=\"\",$H$6=\"\",$H$5=\"\",A345=\"\",F345=\"\",K345=\"\",O345=\"\",P345=\"\")=TRUE,\"\",IF(C345=\"OSW\",IF(K345>=2,1,0),IF(C345=\"OSR\",IF(AND(K345>=2,Q345>60)=TRUE,1,0),IF(C345=\"OSRH\",IF(AND(K345>=1,Q345>90)=TRUE,1,0),IF(C345=\"OHLC\",IF(AND(N345=\"Y\",Q345>60)=TRUE,1,0),IF(C345=\"DDC\",IF(AND(K345>=4,N345=\"Y\",Q345>120)=TRUE,1,0),0))))))","v":""}]
[null,null,"",null,null,null,null,null,null,null,null,null,null,null,null,0,0,0,0,"",0,0,0,0,0,{"$f":"IF($H$4=\"\",0,VLOOKUP($H$4,BuildingType_Lookup,3,FALSE))","v":0},{"$f":"IF($H$4=\"\",0,VLOOKUP($H$4,BuildingType_Lookup,2,FALSE))","v":0},{"$f":"IF(AND(OR(AN346=\"\",AN346=0)=TRUE,OR(AO346=\"\",AO346=0))=TRUE,0,IF(AO346=\"\",(IF(OR(C346=\"DDC\",C346=\"OHLC\")=TRUE,O346,P346)/1000)*Y346*Z346*(1+VLOOKUP($H$4,BuildingType_Lookup,4,FALSE)),IF(AO346=0,0,(IF(OR(C346=\"DDC\",C346=\"OHLC\")=TRUE,O346,Q346)/1000)*Y346*Z346*(1+VLOOKUP($H$4,BuildingType_Lookup,4,FALSE)))))","v":0},{"$f":"IF(AND(OR(AN346=\"\",AN346=0)=TRUE,OR(AO346=\"\",AO346=0))=TRUE,0,IF(AO346=\"\",(IF(OR(C346=\"DDC\",C346=\"OHLC\")=TRUE,O346,P346)/1000)*Y346*AA346*(1+VLOOKUP($H$4,BuildingType_Lookup,MATCH($H$5,HVAC,0)+4,FALSE)),IF(AO346=0,0,(IF(OR(C346=\"DDC\",C346=\"OHLC\")=TRUE,O346,Q346)/1000)*Y346*AA346*(1+VLOOKUP($H$4,BuildingType_Lookup,MATCH($H$5,HVAC,0)+4,FALSE)))))","v":0},0,0,0,0,0,0,{"$f":"W346/1000*Y346*AA346*IF(IFERROR(SEARCH(\"Gas\",$H$5),0)>0,VLOOKUP(\"Gas\",HVACg_Lookup,MATCH($H$6,BuildingSize,0)+1,FALSE),IF(IFERROR(SEARCH(\"Oil\",$H$5),0)>0,VLOOKUP(\"Oil\",HVACg_Lookup,MATCH($H$6,BuildingSize,0)+1,FALSE),IF(IFERROR(SEARCH(\"Propane\",$H$5),0)>0,VLOOKUP(\"Propane\",HVACg_Lookup,MATCH(Worksheet!$H$6,BuildingSize,0)+1,FALSE),0)))","v":0},{"$f":"X346/1000*Y346*AA346*IF(IFERROR(SEARCH(\"Gas\",$H$5),0)>0,VLOOKUP(\"Gas\",HVACg_Lookup,MATCH($H$6,BuildingSize,0)+1,FALSE),IF(IFERROR(SEARCH(\"Oil\",$H$5),0)>0,VLOOKUP(\"Oil\",HVACg_Lookup,MATCH($H$6,BuildingSize,0)+1,FALSE),IF(IFERROR(SEARCH(\"Propane\",$H$5),0)>0,VLOOKUP(\"Propane\",HVACg_Lookup,MATCH(Worksheet!$H$6,BuildingSize,0)+1,FALSE),0)))","v":0},0,0,{"$f":"IF(OR($B$4=\"\",$B$5=\"\",$H$4=\"\",$H$6=\"\",$H$5=\"\",A346=\"\",F346=\"\",J346=\"\",O346=\"\",P346=\"\")=TRUE,\"\",IF(C346=\"OSW\",IF(J346>=2,1,0),IF(C346=\"OSR\",IF(AND(J346>=2,P346>60)=TRUE,1,0),IF(C346=\"OSRH\",IF(AND(J346>=1,P346>90)=TRUE,1,0),IF(C346=\"OHLC\",IF(AND(N346=\"Y\",P346>60)=TRUE,1,0),IF(C346=\"DDC\",IF(AND(J346>=4,N346=\"Y\",P346>120)=TRUE,1,0),0))))))","v":""},{"$f":"IF(OR($B$4=\"\",$B$5=\"\",$H$4=\"\",$H$6=\"\",$H$5=\"\",A346=\"\",F346=\"\",K346=\"\",O346=\"\",P346=\"\")=TRUE,\"\",IF(C346=\"OSW\",IF(K346>=2,1,0),IF(C346=\"OSR\",IF(AND(K346>=2,Q346>60)=TRUE,1,0),IF(C346=\"OSRH\",IF(AND(K346>=1,Q346>90)=TRUE,1,0),IF(C346=\"OHLC\",IF(AND(N346=\"Y\",Q346>60)=TRUE,1,0),IF(C346=\"DDC\",IF(AND(K346>=4,N346=\"Y\",Q346>120)=TRUE,1,0),0))))))","v":""}]
[null,null,"",null,null,null,null,null,null,null,null,null,null,null,null,0,0,0,0,"",0,0,0,0,0,{"$f":"IF($H$4=\"\",0,VLOOKUP($H$4,BuildingType_Lookup,3,FALSE))","v":0},{"$f":"IF($H$4=\"\",0,VLOOKUP($H$4,BuildingType_Lookup,2,FALSE))","v":0},{"$f":"IF(AND(OR(AN347=\"\",AN347=0)=TRUE,OR(AO347=\"\",AO347=0))=TRUE,0,IF(AO347=\"\",(IF(OR(C347=\"DDC\",C347=\"OHLC\")=TRUE,O347,P347)/1000)*Y347*Z347*(1+VLOOKUP($H$4,BuildingType_Lookup,4,FALSE)),IF(AO347=0,0,(IF(OR(C347=\"DDC\",C347=\"OHLC\")=TRUE,O347,Q347)/1000)*Y347*Z347*(1+VLOOKUP($H$4,BuildingType_Lookup,4,FALSE)))))","v":0},{"$f":"IF(AND(OR(AN347=\"\",AN347=0)=TRUE,OR(AO347=\"\",AO347=0))=TRUE,0,IF(AO347=\"\",(IF(OR(C347=\"DDC\",C347=\"OHLC\")=TRUE,O347,P347)/1000)*Y347*AA347*(1+VLOOKUP($H$4,BuildingType_Lookup,MATCH($H$5,HVAC,0)+4,FALSE)),IF(AO347=0,0,(IF(OR(C347=\"DDC\",C347=\"OHLC\")=TRUE,O347,Q347)/1000)*Y347*AA347*(1+VLOOKUP($H$4,BuildingType_Lookup,MATCH($H$5,HVAC,0)+4,FALSE)))))","v":0},0,0,0,0,0,0,{"$f":"W347/1000*Y347*AA347*IF(IFERROR(SEARCH(\"Gas\",$H$5),0)>0,VLOOKUP(\"Gas\",HVACg_Lookup,MATCH($H$6,BuildingSize,0)+1,FALSE),IF(IFERROR(SEARCH(\"Oil\",$H$5),0)>0,VLOOKUP(\"Oil\",HVACg_Lookup,MATCH($H$6,BuildingSize,0)+1,FALSE),IF(IFERROR(SEARCH(\"Propane\",$H$5),0)>0,VLOOKUP(\"Propane\",HVACg_Lookup,MATCH(Worksheet!$H$6,BuildingSize,0)+1,FALSE),0)))","v":0},{"$f":"X347/1000*Y347*AA347*IF(IFERROR(SEARCH(\"Gas\",$H$5),0)>0,VLOOKUP(\"Gas\",HVACg_Lookup,MATCH($H$6,BuildingSize,0)+1,FALSE),IF(IFERROR(SEARCH(\"Oil\",$H$5),0)>0,VLOOKUP(\"Oil\",HVACg_Lookup,MATCH($H$6,BuildingSize,0)+1,FALSE),IF(IFERROR(SEARCH(\"Propane\",$H$5),0)>0,VLOOKUP(\"Propane\",HVACg_Lookup,MATCH(Worksheet!$H$6,BuildingSize,0)+1,FALSE),0)))","v":0},0,0,{"$f":"IF(OR($B$4=\"\",$B$5=\"\",$H$4=\"\",$H$6=\"\",$H$5=\"\",A347=\"\",F347=\"\",J347=\"\",O347=\"\",P347=\"\")=TRUE,\"\",IF(C347=\"OSW\",IF(J347>=2,1,0),IF(C347=\"OSR\",IF(AND(J347>=2,P347>60)=TRUE,1,0),IF(C347=\"OSRH\",IF(AND(J347>=1,P347>90)=TRUE,1,0),IF(C347=\"OHLC\",IF(AND(N347=\"Y\",P347>60)=TRUE,1,0),IF(C347=\"DDC\",IF(AND(J347>=4,N347=\"Y\",P347>120)=TRUE,1,0),0))))))","v":""},{"$f":"IF(OR($B$4=\"\",$B$5=\"\",$H$4=\"\",$H$6=\"\",$H$5=\"\",A347=\"\",F347=\"\",K347=\"\",O347=\"\",P347=\"\")=TRUE,\"\",IF(C347=\"OSW\",IF(K347>=2,1,0),IF(C347=\"OSR\",IF(AND(K347>=2,Q347>60)=TRUE,1,0),IF(C347=\"OSRH\",IF(AND(K347>=1,Q347>90)=TRUE,1,0),IF(C347=\"OHLC\",IF(AND(N347=\"Y\",Q347>60)=TRUE,1,0),IF(C347=\"DDC\",IF(AND(K347>=4,N347=\"Y\",Q347>120)=TRUE,1,0),0))))))","v":""}]
[null,null,"",null,null,null,null,null,null,null,null,null,null,null,null,0,0,0,0,"",0,0,0,0,0,{"$f":"IF($H$4=\"\",0,VLOOKUP($H$4,BuildingType_Lookup,3,FALSE))","v":0},{"$f":"IF($H$4=\"\",0,VLOOKUP($H$4,BuildingType_Lookup,2,FALSE))","v":0},{"$f":"IF(AND(OR(AN348=\"\",AN348=0)=TRUE,OR(AO348=\"\",AO348=0))=TRUE,0,IF(AO348=\"\",(IF(OR(C348=\"DDC\",C348=\"OHLC\")=TRUE,O348,P348)/1000)*Y348*Z348*(1+VLOOKUP($H$4,BuildingType_Lookup,4,FALSE)),IF(AO348=0,0,(IF(OR(C348=\"DDC\",C348=\"OHLC\")=TRUE,O348,Q348)/1000)*Y348*Z348*(1+VLOOKUP($H$4,BuildingType_Lookup,4,FALSE)))))","v":0},{"$f":"IF(AND(OR(AN348=\"\",AN348=0)=TRUE,OR(AO348=\"\",AO348=0))=TRUE,0,IF(AO348=\"\",(IF(OR(C348=\"DDC\",C348=\"OHLC\")=TRUE,O348,P348)/1000)*Y348*AA348*(1+VLOOKUP($H$4,BuildingType_Lookup,MATCH($H$5,HVAC,0)+4,FALSE)),IF(AO348=0,0,(IF(OR(C348=\"DDC\",C348=\"OHLC\")=TRUE,O348,Q348)/1000)*Y348*AA348*(1+VLOOKUP($H$4,BuildingType_Lookup,MATCH($H$5,HVAC,0)+4,FALSE)))))","v":0},0,0,0,0,0,0,{"$f":"W348/1000*Y348*AA348*IF(IFERROR(SEARCH(\"Gas\",$H$5),0)>0,VLOOKUP(\"Gas\",HVACg_Lookup,MATCH($H$6,BuildingSize,0)+1,FALSE),IF(IFERROR(SEARCH(\"Oil\",$H$5),0)>0,VLOOKUP(\"Oil\",HVACg_Lookup,MATCH($H$6,BuildingSize,0)+1,FALSE),IF(IFERROR(SEARCH(\"Propane\",$H$5),0)>0,VLOOKUP(\"Propane\",HVACg_Lookup,MATCH(Worksheet!$H$6,BuildingSize,0)+1,FALSE),0)))","v":0},{"$f":"X348/1000*Y348*AA348*IF(IFERROR(SEARCH(\"Gas\",$H$5),0)>0,VLOOKUP(\"Gas\",HVACg_Lookup,MATCH($H$6,BuildingSize,0)+1,FALSE),IF(IFERROR(SEARCH(\"Oil\",$H$5),0)>0,VLOOKUP(\"Oil\",HVACg_Lookup,MATCH($H$6,BuildingSize,0)+1,FALSE),IF(IFERROR(SEARCH(\"Propane\",$H$5),0)>0,VLOOKUP(\"Propane\",HVACg_Lookup,MATCH(Worksheet!$H$6,BuildingSize,0)+1,FALSE),0)))","v":0},0,0,{"$f":"IF(OR($B$4=\"\",$B$5=\"\",$H$4=\"\",$H$6=\"\",$H$5=\"\",A348=\"\",F348=\"\",J348=\"\",O348=\"\",P348=\"\")=TRUE,\"\",IF(C348=\"OSW\",IF(J348>=2,1,0),IF(C348=\"OSR\",IF(AND(J348>=2,P348>60)=TRUE,1,0),IF(C348=\"OSRH\",IF(AND(J348>=1,P348>90)=TRUE,1,0),IF(C348=\"OHLC\",IF(AND(N348=\"Y\",P348>60)=TRUE,1,0),IF(C348=\"DDC\",IF(AND(J348>=4,N348=\"Y\",P348>120)=TRUE,1,0),0))))))","v":""},{"$f":"IF(OR($B$4=\"\",$B$5=\"\",$H$4=\"\",$H$6=\"\",$H$5=\"\",A348=\"\",F348=\"\",K348=\"\",O348=\"\",P348=\"\")=TRUE,\"\",IF(C348=\"OSW\",IF(K348>=2,1,0),IF(C348=\"OSR\",IF(AND(K348>=2,Q348>60)=TRUE,1,0),IF(C348=\"OSRH\",IF(AND(K348>=1,Q348>90)=TRUE,1,0),IF(C348=\"OHLC\",IF(AND(N348=\"Y\",Q348>60)=TRUE,1,0),IF(C348=\"DDC\",IF(AND(K348>=4,N348=\"Y\",Q348>120)=TRUE,1,0),0))))))","v":""}]
[null,null,"",null,null,null,null,null,null,null,null,null,null,null,null,0,0,0,0,"",0,0,0,0,0,{"$f":"IF($H$4=\"\",0,VLOOKUP($H$4,BuildingType_Lookup,3,FALSE))","v":0},{"$f":"IF($H$4=\"\",0,VLOOKUP($H$4,BuildingType_Lookup,2,FALSE))","v":0},{"$f":"IF(AND(OR(AN349=\"\",AN349=0)=TRUE,OR(AO349=\"\",AO349=0))=TRUE,0,IF(AO349=\"\",(IF(OR(C349=\"DDC\",C349=\"OHLC\")=TRUE,O349,P349)/1000)*Y349*Z349*(1+VLOOKUP($H$4,BuildingType_Lookup,4,FALSE)),IF(AO349=0,0,(IF(OR(C349=\"DDC\",C349=\"OHLC\")=TRUE,O349,Q349)/1000)*Y349*Z349*(1+VLOOKUP($H$4,BuildingType_Lookup,4,FALSE)))))","v":0},{"$f":"IF(AND(OR(AN349=\"\",AN349=0)=TRUE,OR(AO349=\"\",AO349=0))=TRUE,0,IF(AO349=\"\",(IF(OR(C349=\"DDC\",C349=\"OHLC\")=TRUE,O349,P349)/1000)*Y349*AA349*(1+VLOOKUP($H$4,BuildingType_Lookup,MATCH($H$5,HVAC,0)+4,FALSE)),IF(AO349=0,0,(IF(OR(C349=\"DDC\",C349=\"OHLC\")=TRUE,O349,Q349)/1000)*Y349*AA349*(1+VLOOKUP($H$4,BuildingType_Lookup,MATCH($H$5,HVAC,0)+4,FALSE)))))","v":0},0,0,0,0,0,0,{"$f":"W349/1000*Y349*AA349*IF(IFERROR(SEARCH(\"Gas\",$H$5),0)>0,VLOOKUP(\"Gas\",HVACg_Lookup,MATCH($H$6,BuildingSize,0)+1,FALSE),IF(IFERROR(SEARCH(\"Oil\",$H$5),0)>0,VLOOKUP(\"Oil\",HVACg_Lookup,MATCH($H$6,BuildingSize,0)+1,FALSE),IF(IFERROR(SEARCH(\"Propane\",$H$5),0)>0,VLOOKUP(\"Propane\",HVACg_Lookup,MATCH(Worksheet!$H$6,BuildingSize,0)+1,FALSE),0)))","v":0},{"$f":"X349/1000*Y349*AA349*IF(IFERROR(SEARCH(\"Gas\",$H$5),0)>0,VLOOKUP(\"Gas\",HVACg_Lookup,MATCH($H$6,BuildingSize,0)+1,FALSE),IF(IFERROR(SEARCH(\"Oil\",$H$5),0)>0,VLOOKUP(\"Oil\",HVACg_Lookup,MATCH($H$6,BuildingSize,0)+1,FALSE),IF(IFERROR(SEARCH(\"Propane\",$H$5),0)>0,VLOOKUP(\"Propane\",HVACg_Lookup,MATCH(Worksheet!$H$6,BuildingSize,0)+1,FALSE),0)))","v":0},0,0,{"$f":"IF(OR($B$4=\"\",$B$5=\"\",$H$4=\"\",$H$6=\"\",$H$5=\"\",A349=\"\",F349=\"\",J349=\"\",O349=\"\",P349=\"\")=TRUE,\"\",IF(C349=\"OSW\",IF(J349>=2,1,0),IF(C349=\"OSR\",IF(AND(J349>=2,P349>60)=TRUE,1,0),IF(C349=\"OSRH\",IF(AND(J349>=1,P349>90)=TRUE,1,0),IF(C349=\"OHLC\",IF(AND(N349=\"Y\",P349>60)=TRUE,1,0),IF(C349=\"DDC\",IF(AND(J349>=4,N349=\"Y\",P349>120)=TRUE,1,0),0))))))","v":""},{"$f":"IF(OR($B$4=\"\",$B$5=\"\",$H$4=\"\",$H$6=\"\",$H$5=\"\",A349=\"\",F349=\"\",K349=\"\",O349=\"\",P349=\"\")=TRUE,\"\",IF(C349=\"OSW\",IF(K349>=2,1,0),IF(C349=\"OSR\",IF(AND(K349>=2,Q349>60)=TRUE,1,0),IF(C349=\"OSRH\",IF(AND(K349>=1,Q349>90)=TRUE,1,0),IF(C349=\"OHLC\",IF(AND(N349=\"Y\",Q349>60)=TRUE,1,0),IF(C349=\"DDC\",IF(AND(K349>=4,N349=\"Y\",Q349>120)=TRUE,1,0),0))))))","v":""}]
[null,null,"",null,null,null,null,null,null,null,null,null,null,null,null,0,0,0,0,"",0,0,0,0,0,{"$f":"IF($H$4=\"\",0,VLOOKUP($H$4,BuildingType_Lookup,3,FALSE))","v":0},{"$f":"IF($H$4=\"\",0,VLOOKUP($H$4,BuildingType_Lookup,2,FALSE))","v":0},{"$f":"IF(AND(OR(AN350=\"\",AN350=0)=TRUE,OR(AO350=\"\",AO350=0))=TRUE,0,IF(AO350=\"\",(IF(OR(C350=\"DDC\",C350=\"OHLC\")=TRUE,O350,P350)/1000)*Y350*Z350*(1+VLOOKUP($H$4,BuildingType_Lookup,4,FALSE)),IF(AO350=0,0,(IF(OR(C350=\"DDC\",C350=\"OHLC\")=TRUE,O350,Q350)/1000)*Y350*Z350*(1+VLOOKUP($H$4,BuildingType_Lookup,4,FALSE)))))","v":0},{"$f":"IF(AND(OR(AN350=\"\",AN350=0)=TRUE,OR(AO350=\"\",AO350=0))=TRUE,0,IF(AO350=\"\",(IF(OR(C350=\"DDC\",C350=\"OHLC\")=TRUE,O350,P350)/1000)*Y350*AA350*(1+VLOOKUP($H$4,BuildingType_Lookup,MATCH($H$5,HVAC,0)+4,FALSE)),IF(AO350=0,0,(IF(OR(C350=\"DDC\",C350=\"OHLC\")=TRUE,O350,Q350)/1000)*Y350*AA350*(1+VLOOKUP($H$4,BuildingType_Lookup,MATCH($H$5,HVAC,0)+4,FALSE)))))","v":0},0,0,0,0,0,0,{"$f":"W350/1000*Y350*AA350*IF(IFERROR(SEARCH(\"Gas\",$H$5),0)>0,VLOOKUP(\"Gas\",HVACg_Lookup,MATCH($H$6,BuildingSize,0)+1,FALSE),IF(IFERROR(SEARCH(\"Oil\",$H$5),0)>0,VLOOKUP(\"Oil\",HVACg_Lookup,MATCH($H$6,BuildingSize,0)+1,FALSE),IF(IFERROR(SEARCH(\"Propane\",$H$5),0)>0,VLOOKUP(\"Propane\",HVACg_Lookup,MATCH(Worksheet!$H$6,BuildingSize,0)+1,FALSE),0)))","v":0},{"$f":"X350/1000*Y350*AA350*IF(IFERROR(SEARCH(\"Gas\",$H$5),0)>0,VLOOKUP(\"Gas\",HVACg_Lookup,MATCH($H$6,BuildingSize,0)+1,FALSE),IF(IFERROR(SEARCH(\"Oil\",$H$5),0)>0,VLOOKUP(\"Oil\",HVACg_Lookup,MATCH($H$6,BuildingSize,0)+1,FALSE),IF(IFERROR(SEARCH(\"Propane\",$H$5),0)>0,VLOOKUP(\"Propane\",HVACg_Lookup,MATCH(Worksheet!$H$6,BuildingSize,0)+1,FALSE),0)))","v":0},0,0,{"$f":"IF(OR($B$4=\"\",$B$5=\"\",$H$4=\"\",$H$6=\"\",$H$5=\"\",A350=\"\",F350=\"\",J350=\"\",O350=\"\",P350=\"\")=TRUE,\"\",IF(C350=\"OSW\",IF(J350>=2,1,0),IF(C350=\"OSR\",IF(AND(J350>=2,P350>60)=TRUE,1,0),IF(C350=\"OSRH\",IF(AND(J350>=1,P350>90)=TRUE,1,0),IF(C350=\"OHLC\",IF(AND(N350=\"Y\",P350>60)=TRUE,1,0),IF(C350=\"DDC\",IF(AND(J350>=4,N350=\"Y\",P350>120)=TRUE,1,0),0))))))","v":""},{"$f":"IF(OR($B$4=\"\",$B$5=\"\",$H$4=\"\",$H$6=\"\",$H$5=\"\",A350=\"\",F350=\"\",K350=\"\",O350=\"\",P350=\"\")=TRUE,\"\",IF(C350=\"OSW\",IF(K350>=2,1,0),IF(C350=\"OSR\",IF(AND(K350>=2,Q350>60)=TRUE,1,0),IF(C350=\"OSRH\",IF(AND(K350>=1,Q350>90)=TRUE,1,0),IF(C350=\"OHLC\",IF(AND(N350=\"Y\",Q350>60)=TRUE,1,0),IF(C350=\"DDC\",IF(AND(K350>=4,N350=\"Y\",Q350>120)=TRUE,1,0),0))))))","v":""}]
[null,null,"",null,null,null,null,null,null,null,null,null,null,null,null,0,0,0,0,"",0,0,0,0,0,{"$f":"IF($H$4=\"\",0,VLOOKUP($H$4,BuildingType_Lookup,3,FALSE))","v":0},{"$f":"IF($H$4=\"\",0,VLOOKUP($H$4,BuildingType_Lookup,2,FALSE))","v":0},{"$f":"IF(AND(OR(AN351=\"\",AN351=0)=TRUE,OR(AO351=\"\",AO351=0))=TRUE,0,IF(AO351=\"\",(IF(OR(C351=\"DDC\",C351=\"OHLC\")=TRUE,O351,P351)/1000)*Y351*Z351*(1+VLOOKUP($H$4,BuildingType_Lookup,4,FALSE)),IF(AO351=0,0,(IF(OR(C351=\"DDC\",C351=\"OHLC\")=TRUE,O351,Q351)/1000)*Y351*Z351*(1+VLOOKUP($H$4,BuildingType_Lookup,4,FALSE)))))","v":0},{"$f":"IF(AND(OR(AN351=\"\",AN351=0)=TRUE,OR(AO351=\"\",AO351=0))=TRUE,0,IF(AO351=\"\",(IF(OR(C351=\"DDC\",C351=\"OHLC\")=TRUE,O351,P351)/1000)*Y351*AA351*(1+VLOOKUP($H$4,BuildingType_Lookup,MATCH($H$5,HVAC,0)+4,FALSE)),IF(AO351=0,0,(IF(OR(C351=\"DDC\",C351=\"OHLC\")=TRUE,O351,Q351)/1000)*Y351*AA351*(1+VLOOKUP($H$4,BuildingType_Lookup,MATCH($H$5,HVAC,0)+4,FALSE)))))","v":0},0,0,0,0,0,0,{"$f":"W351/1000*Y351*AA351*IF(IFERROR(SEARCH(\"Gas\",$H$5),0)>0,VLOOKUP(\"Gas\",HVACg_Lookup,MATCH($H$6,BuildingSize,0)+1,FALSE),IF(IFERROR(SEARCH(\"Oil\",$H$5),0)>0,VLOOKUP(\"Oil\",HVACg_Lookup,MATCH($H$6,BuildingSize,0)+1,FALSE),IF(IFERROR(SEARCH(\"Propane\",$H$5),0)>0,VLOOKUP(\"Propane\",HVACg_Lookup,MATCH(Worksheet!$H$6,BuildingSize,0)+1,FALSE),0)))","v":0},{"$f":"X351/1000*Y351*AA351*IF(IFERROR(SEARCH(\"Gas\",$H$5),0)>0,VLOOKUP(\"Gas\",HVACg_Lookup,MATCH($H$6,BuildingSize,0)+1,FALSE),IF(IFERROR(SEARCH(\"Oil\",$H$5),0)>0,VLOOKUP(\"Oil\",HVACg_Lookup,MATCH($H$6,BuildingSize,0)+1,FALSE),IF(IFERROR(SEARCH(\"Propane\",$H$5),0)>0,VLOOKUP(\"Propane\",HVACg_Lookup,MATCH(Worksheet!$H$6,BuildingSize,0)+1,FALSE),0)))","v":0},0,0,{"$f":"IF(OR($B$4=\"\",$B$5=\"\",$H$4=\"\",$H$6=\"\",$H$5=\"\",A351=\"\",F351=\"\",J351=\"\",O351=\"\",P351=\"\")=TRUE,\"\",IF(C351=\"OSW\",IF(J351>=2,1,0),IF(C351=\"OSR\",IF(AND(J351>=2,P351>60)=TRUE,1,0),IF(C351=\"OSRH\",IF(AND(J351>=1,P351>90)=TRUE,1,0),IF(C351=\"OHLC\",IF(AND(N351=\"Y\",P351>60)=TRUE,1,0),IF(C351=\"DDC\",IF(AND(J351>=4,N351=\"Y\",P351>120)=TRUE,1,0),0))))))","v":""},{"$f":"IF(OR($B$4=\"\",$B$5=\"\",$H$4=\"\",$H$6=\"\",$H$5=\"\",A351=\"\",F351=\"\",K351=\"\",O351=\"\",P351=\"\")=TRUE,\"\",IF(C351=\"OSW\",IF(K351>=2,1,0),IF(C351=\"OSR\",IF(AND(K351>=2,Q351>60)=TRUE,1,0),IF(C351=\"OSRH\",IF(AND(K351>=1,Q351>90)=TRUE,1,0),IF(C351=\"OHLC\",IF(AND(N351=\"Y\",Q351>60)=TRUE,1,0),IF(C351=\"DDC\",IF(AND(K351>=4,N351=\"Y\",Q351>120)=TRUE,1,0),0))))))","v":""}]
[null,null,"",null,null,null,null,null,null,null,null,null,null,null,null,0,0,0,0,"",0,0,0,0,0,{"$f":"IF($H$4=\"\",0,VLOOKUP($H$4,BuildingType_Lookup,3,FALSE))","v":0},{"$f":"IF($H$4=\"\",0,VLOOKUP($H$4,BuildingType_Lookup,2,FALSE))","v":0},{"$f":"IF(AND(OR(AN352=\"\",AN352=0)=TRUE,OR(AO352=\"\",AO352=0))=TRUE,0,IF(AO352=\"\",(IF(OR(C352=\"DDC\",C352=\"OHLC\")=TRUE,O352,P352)/1000)*Y352*Z352*(1+VLOOKUP($H$4,BuildingType_Lookup,4,FALSE)),IF(AO352=0,0,(IF(OR(C352=\"DDC\",C352=\"OHLC\")=TRUE,O352,Q352)/1000)*Y352*Z352*(1+VLOOKUP($H$4,BuildingType_Lookup,4,FALSE)))))","v":0},{"$f":"IF(AND(OR(AN352=\"\",AN352=0)=TRUE,OR(AO352=\"\",AO352=0))=TRUE,0,IF(AO352=\"\",(IF(OR(C352=\"DDC\",C352=\"OHLC\")=TRUE,O352,P352)/1000)*Y352*AA352*(1+VLOOKUP($H$4,BuildingType_Lookup,MATCH($H$5,HVAC,0)+4,FALSE)),IF(AO352=0,0,(IF(OR(C352=\"DDC\",C352=\"OHLC\")=TRUE,O352,Q352)/1000)*Y352*AA352*(1+VLOOKUP($H$4,BuildingType_Lookup,MATCH($H$5,HVAC,0)+4,FALSE)))))","v":0},0,0,0,0,0,0,{"$f":"W352/1000*Y352*AA352*IF(IFERROR(SEARCH(\"Gas\",$H$5),0)>0,VLOOKUP(\"Gas\",HVACg_Lookup,MATCH($H$6,BuildingSize,0)+1,FALSE),IF(IFERROR(SEARCH(\"Oil\",$H$5),0)>0,VLOOKUP(\"Oil\",HVACg_Lookup,MATCH($H$6,BuildingSize,0)+1,FALSE),IF(IFERROR(SEARCH(\"Propane\",$H$5),0)>0,VLOOKUP(\"Propane\",HVACg_Lookup,MATCH(Worksheet!$H$6,BuildingSize,0)+1,FALSE),0)))","v":0},{"$f":"X352/1000*Y352*AA352*IF(IFERROR(SEARCH(\"Gas\",$H$5),0)>0,VLOOKUP(\"Gas\",HVACg_Lookup,MATCH($H$6,BuildingSize,0)+1,FALSE),IF(IFERROR(SEARCH(\"Oil\",$H$5),0)>0,VLOOKUP(\"Oil\",HVACg_Lookup,MATCH($H$6,BuildingSize,0)+1,FALSE),IF(IFERROR(SEARCH(\"Propane\",$H$5),0)>0,VLOOKUP(\"Propane\",HVACg_Lookup,MATCH(Worksheet!$H$6,BuildingSize,0)+1,FALSE),0)))","v":0},0,0,{"$f":"IF(OR($B$4=\"\",$B$5=\"\",$H$4=\"\",$H$6=\"\",$H$5=\"\",A352=\"\",F352=\"\",J352=\"\",O352=\"\",P352=\"\")=TRUE,\"\",IF(C352=\"OSW\",IF(J352>=2,1,0),IF(C352=\"OSR\",IF(AND(J352>=2,P352>60)=TRUE,1,0),IF(C352=\"OSRH\",IF(AND(J352>=1,P352>90)=TRUE,1,0),IF(C352=\"OHLC\",IF(AND(N352=\"Y\",P352>60)=TRUE,1,0),IF(C352=\"DDC\",IF(AND(J352>=4,N352=\"Y\",P352>120)=TRUE,1,0),0))))))","v":""},{"$f":"IF(OR($B$4=\"\",$B$5=\"\",$H$4=\"\",$H$6=\"\",$H$5=\"\",A352=\"\",F352=\"\",K352=\"\",O352=\"\",P352=\"\")=TRUE,\"\",IF(C352=\"OSW\",IF(K352>=2,1,0),IF(C352=\"OSR\",IF(AND(K352>=2,Q352>60)=TRUE,1,0),IF(C352=\"OSRH\",IF(AND(K352>=1,Q352>90)=TRUE,1,0),IF(C352=\"OHLC\",IF(AND(N352=\"Y\",Q352>60)=TRUE,1,0),IF(C352=\"DDC\",IF(AND(K352>=4,N352=\"Y\",Q352>120)=TRUE,1,0),0))))))","v":""}]
[null,null,"",null,null,null,null,null,null,null,null,null,null,null,null,0,0,0,0,"",0,0,0,0,0,{"$f":"IF($H$4=\"\",0,VLOOKUP($H$4,BuildingType_Lookup,3,FALSE))","v":0},{"$f":"IF($H$4=\"\",0,VLOOKUP($H$4,BuildingType_Lookup,2,FALSE))","v":0},{"$f":"IF(AND(OR(AN353=\"\",AN353=0)=TRUE,OR(AO353=\"\",AO353=0))=TRUE,0,IF(AO353=\"\",(IF(OR(C353=\"DDC\",C353=\"OHLC\")=TRUE,O353,P353)/1000)*Y353*Z353*(1+VLOOKUP($H$4,BuildingType_Lookup,4,FALSE)),IF(AO353=0,0,(IF(OR(C353=\"DDC\",C353=\"OHLC\")=TRUE,O353,Q353)/1000)*Y353*Z353*(1+VLOOKUP($H$4,BuildingType_Lookup,4,FALSE)))))","v":0},{"$f":"IF(AND(OR(AN353=\"\",AN353=0)=TRUE,OR(AO353=\"\",AO353=0))=TRUE,0,IF(AO353=\"\",(IF(OR(C353=\"DDC\",C353=\"OHLC\")=TRUE,O353,P353)/1000)*Y353*AA353*(1+VLOOKUP($H$4,BuildingType_Lookup,MATCH($H$5,HVAC,0)+4,FALSE)),IF(AO353=0,0,(IF(OR(C353=\"DDC\",C353=\"OHLC\")=TRUE,O353,Q353)/1000)*Y353*AA353*(1+VLOOKUP($H$4,BuildingType_Lookup,MATCH($H$5,HVAC,0)+4,FALSE)))))","v":0},0,0,0,0,0,0,{"$f":"W353/1000*Y353*AA353*IF(IFERROR(SEARCH(\"Gas\",$H$5),0)>0,VLOOKUP(\"Gas\",HVACg_Lookup,MATCH($H$6,BuildingSize,0)+1,FALSE),IF(IFERROR(SEARCH(\"Oil\",$H$5),0)>0,VLOOKUP(\"Oil\",HVACg_Lookup,MATCH($H$6,BuildingSize,0)+1,FALSE),IF(IFERROR(SEARCH(\"Propane\",$H$5),0)>0,VLOOKUP(\"Propane\",HVACg_Lookup,MATCH(Worksheet!$H$6,BuildingSize,0)+1,FALSE),0)))","v":0},{"$f":"X353/1000*Y353*AA353*IF(IFERROR(SEARCH(\"Gas\",$H$5),0)>0,VLOOKUP(\"Gas\",HVACg_Lookup,MATCH($H$6,BuildingSize,0)+1,FALSE),IF(IFERROR(SEARCH(\"Oil\",$H$5),0)>0,VLOOKUP(\"Oil\",HVACg_Lookup,MATCH($H$6,BuildingSize,0)+1,FALSE),IF(IFERROR(SEARCH(\"Propane\",$H$5),0)>0,VLOOKUP(\"Propane\",HVACg_Lookup,MATCH(Worksheet!$H$6,BuildingSize,0)+1,FALSE),0)))","v":0},0,0,{"$f":"IF(OR($B$4=\"\",$B$5=\"\",$H$4=\"\",$H$6=\"\",$H$5=\"\",A353=\"\",F353=\"\",J353=\"\",O353=\"\",P353=\"\")=TRUE,\"\",IF(C353=\"OSW\",IF(J353>=2,1,0),IF(C353=\"OSR\",IF(AND(J353>=2,P353>60)=TRUE,1,0),IF(C353=\"OSRH\",IF(AND(J353>=1,P353>90)=TRUE,1,0),IF(C353=\"OHLC\",IF(AND(N353=\"Y\",P353>60)=TRUE,1,0),IF(C353=\"DDC\",IF(AND(J353>=4,N353=\"Y\",P353>120)=TRUE,1,0),0))))))","v":""},{"$f":"IF(OR($B$4=\"\",$B$5=\"\",$H$4=\"\",$H$6=\"\",$H$5=\"\",A353=\"\",F353=\"\",K353=\"\",O353=\"\",P353=\"\")=TRUE,\"\",IF(C353=\"OSW\",IF(K353>=2,1,0),IF(C353=\"OSR\",IF(AND(K353>=2,Q353>60)=TRUE,1,0),IF(C353=\"OSRH\",IF(AND(K353>=1,Q353>90)=TRUE,1,0),IF(C353=\"OHLC\",IF(AND(N353=\"Y\",Q353>60)=TRUE,1,0),IF(C353=\"DDC\",IF(AND(K353>=4,N353=\"Y\",Q353>120)=TRUE,1,0),0))))))","v":""}]
[null,null,"",null,null,null,null,null,null,null,null,null,null,null,null,0,0,0,0,"",0,0,0,0,0,{"$f":"IF($H$4=\"\",0,VLOOKUP($H$4,BuildingType_Lookup,3,FALSE))","v":0},{"$f":"IF($H$4=\"\",0,VLOOKUP($H$4,BuildingType_Lookup,2,FALSE))","v":0},{"$f":"IF(AND(OR(AN354=\"\",AN354=0)=TRUE,OR(AO354=\"\",AO354=0))=TRUE,0,IF(AO354=\"\",(IF(OR(C354=\"DDC\",C354=\"OHLC\")=TRUE,O354,P354)/1000)*Y354*Z354*(1+VLOOKUP($H$4,BuildingType_Lookup,4,FALSE)),IF(AO354=0,0,(IF(OR(C354=\"DDC\",C354=\"OHLC\")=TRUE,O354,Q354)/1000)*Y354*Z354*(1+VLOOKUP($H$4,BuildingType_Lookup,4,FALSE)))))","v":0},{"$f":"IF(AND(OR(AN354=\"\",AN354=0)=TRUE,OR(AO354=\"\",AO354=0))=TRUE,0,IF(AO354=\"\",(IF(OR(C354=\"DDC\",C354=\"OHLC\")=TRUE,O354,P354)/1000)*Y354*AA354*(1+VLOOKUP($H$4,BuildingType_Lookup,MATCH($H$5,HVAC,0)+4,FALSE)),IF(AO354=0,0,(IF(OR(C354=\"DDC\",C354=\"OHLC\")=TRUE,O354,Q354)/1000)*Y354*AA354*(1+VLOOKUP($H$4,BuildingType_Lookup,MATCH($H$5,HVAC,0)+4,FALSE)))))","v":0},0,0,0,0,0,0,{"$f":"W354/1000*Y354*AA354*IF(IFERROR(SEARCH(\"Gas\",$H$5),0)>0,VLOOKUP(\"Gas\",HVACg_Lookup,MATCH($H$6,BuildingSize,0)+1,FALSE),IF(IFERROR(SEARCH(\"Oil\",$H$5),0)>0,VLOOKUP(\"Oil\",HVACg_Lookup,MATCH($H$6,BuildingSize,0)+1,FALSE),IF(IFERROR(SEARCH(\"Propane\",$H$5),0)>0,VLOOKUP(\"Propane\",HVACg_Lookup,MATCH(Worksheet!$H$6,BuildingSize,0)+1,FALSE),0)))","v":0},{"$f":"X354/1000*Y354*AA354*IF(IFERROR(SEARCH(\"Gas\",$H$5),0)>0,VLOOKUP(\"Gas\",HVACg_Lookup,MATCH($H$6,BuildingSize,0)+1,FALSE),IF(IFERROR(SEARCH(\"Oil\",$H$5),0)>0,VLOOKUP(\"Oil\",HVACg_Lookup,MATCH($H$6,BuildingSize,0)+1,FALSE),IF(IFERROR(SEARCH(\"Propane\",$H$5),0)>0,VLOOKUP(\"Propane\",HVACg_Lookup,MATCH(Worksheet!$H$6,BuildingSize,0)+1,FALSE),0)))","v":0},0,0,{"$f":"IF(OR($B$4=\"\",$B$5=\"\",$H$4=\"\",$H$6=\"\",$H$5=\"\",A354=\"\",F354=\"\",J354=\"\",O354=\"\",P354=\"\")=TRUE,\"\",IF(C354=\"OSW\",IF(J354>=2,1,0),IF(C354=\"OSR\",IF(AND(J354>=2,P354>60)=TRUE,1,0),IF(C354=\"OSRH\",IF(AND(J354>=1,P354>90)=TRUE,1,0),IF(C354=\"OHLC\",IF(AND(N354=\"Y\",P354>60)=TRUE,1,0),IF(C354=\"DDC\",IF(AND(J354>=4,N354=\"Y\",P354>120)=TRUE,1,0),0))))))","v":""},{"$f":"IF(OR($B$4=\"\",$B$5=\"\",$H$4=\"\",$H$6=\"\",$H$5=\"\",A354=\"\",F354=\"\",K354=\"\",O354=\"\",P354=\"\")=TRUE,\"\",IF(C354=\"OSW\",IF(K354>=2,1,0),IF(C354=\"OSR\",IF(AND(K354>=2,Q354>60)=TRUE,1,0),IF(C354=\"OSRH\",IF(AND(K354>=1,Q354>90)=TRUE,1,0),IF(C354=\"OHLC\",IF(AND(N354=\"Y\",Q354>60)=TRUE,1,0),IF(C354=\"DDC\",IF(AND(K354>=4,N354=\"Y\",Q354>120)=TRUE,1,0),0))))))","v":""}]
[null,null,"",null,null,null,null,null,null,null,null,null,null,null,null,0,0,0,0,"",0,0,0,0,0,{"$f":"IF($H$4=\"\",0,VLOOKUP($H$4,BuildingType_Lookup,3,FALSE))","v":0},{"$f":"IF($H$4=\"\",0,VLOOKUP($H$4,BuildingType_Lookup,2,FALSE))","v":0},{"$f":"IF(AND(OR(AN355=\"\",AN355=0)=TRUE,OR(AO355=\"\",AO355=0))=TRUE,0,IF(AO355=\"\",(IF(OR(C355=\"DDC\",C355=\"OHLC\")=TRUE,O355,P355)/1000)*Y355*Z355*(1+VLOOKUP($H$4,BuildingType_Lookup,4,FALSE)),IF(AO355=0,0,(IF(OR(C355=\"DDC\",C355=\"OHLC\")=TRUE,O355,Q355)/1000)*Y355*Z355*(1+VLOOKUP($H$4,BuildingType_Lookup,4,FALSE)))))","v":0},{"$f":"IF(AND(OR(AN355=\"\",AN355=0)=TRUE,OR(AO355=\"\",AO355=0))=TRUE,0,IF(AO355=\"\",(IF(OR(C355=\"DDC\",C355=\"OHLC\")=TRUE,O355,P355)/1000)*Y355*AA355*(1+VLOOKUP($H$4,BuildingType_Lookup,MATCH($H$5,HVAC,0)+4,FALSE)),IF(AO355=0,0,(IF(OR(C355=\"DDC\",C355=\"OHLC\")=TRUE,O355,Q355)/1000)*Y355*AA355*(1+VLOOKUP($H$4,BuildingType_Lookup,MATCH($H$5,HVAC,0)+4,FALSE)))))","v":0},0,0,0,0,0,0,{"$f":"W355/1000*Y355*AA355*IF(IFERROR(SEARCH(\"Gas\",$H$5),0)>0,VLOOKUP(\"Gas\",HVACg_Lookup,MATCH($H$6,BuildingSize,0)+1,FALSE),IF(IFERROR(SEARCH(\"Oil\",$H$5),0)>0,VLOOKUP(\"Oil\",HVACg_Lookup,MATCH($H$6,BuildingSize,0)+1,FALSE),IF(IFERROR(SEARCH(\"Propane\",$H$5),0)>0,VLOOKUP(\"Propane\",HVACg_Lookup,MATCH(Worksheet!$H$6,BuildingSize,0)+1,FALSE),0)))","v":0},{"$f":"X355/1000*Y355*AA355*IF(IFERROR(SEARCH(\"Gas\",$H$5),0)>0,VLOOKUP(\"Gas\",HVACg_Lookup,MATCH($H$6,BuildingSize,0)+1,FALSE),IF(IFERROR(SEARCH(\"Oil\",$H$5),0)>0,VLOOKUP(\"Oil\",HVACg_Lookup,MATCH($H$6,BuildingSize,0)+1,FALSE),IF(IFERROR(SEARCH(\"Propane\",$H$5),0)>0,VLOOKUP(\"Propane\",HVACg_Lookup,MATCH(Worksheet!$H$6,BuildingSize,0)+1,FALSE),0)))","v":0},0,0,{"$f":"IF(OR($B$4=\"\",$B$5=\"\",$H$4=\"\",$H$6=\"\",$H$5=\"\",A355=\"\",F355=\"\",J355=\"\",O355=\"\",P355=\"\")=TRUE,\"\",IF(C355=\"OSW\",IF(J355>=2,1,0),IF(C355=\"OSR\",IF(AND(J355>=2,P355>60)=TRUE,1,0),IF(C355=\"OSRH\",IF(AND(J355>=1,P355>90)=TRUE,1,0),IF(C355=\"OHLC\",IF(AND(N355=\"Y\",P355>60)=TRUE,1,0),IF(C355=\"DDC\",IF(AND(J355>=4,N355=\"Y\",P355>120)=TRUE,1,0),0))))))","v":""},{"$f":"IF(OR($B$4=\"\",$B$5=\"\",$H$4=\"\",$H$6=\"\",$H$5=\"\",A355=\"\",F355=\"\",K355=\"\",O355=\"\",P355=\"\")=TRUE,\"\",IF(C355=\"OSW\",IF(K355>=2,1,0),IF(C355=\"OSR\",IF(AND(K355>=2,Q355>60)=TRUE,1,0),IF(C355=\"OSRH\",IF(AND(K355>=1,Q355>90)=TRUE,1,0),IF(C355=\"OHLC\",IF(AND(N355=\"Y\",Q355>60)=TRUE,1,0),IF(C355=\"DDC\",IF(AND(K355>=4,N355=\"Y\",Q355>120)=TRUE,1,0),0))))))","v":""}]
[null,null,"",null,null,null,null,null,null,null,null,null,null,null,null,0,0,0,0,"",0,0,0,0,0,{"$f":"IF($H$4=\"\",0,VLOOKUP($H$4,BuildingType_Lookup,3,FALSE))","v":0},{"$f":"IF($H$4=\"\",0,VLOOKUP($H$4,BuildingType_Lookup,2,FALSE))","v":0},{"$f":"IF(AND(OR(AN356=\"\",AN356=0)=TRUE,OR(AO356=\"\",AO356=0))=TRUE,0,IF(AO356=\"\",(IF(OR(C356=\"DDC\",C356=\"OHLC\")=TRUE,O356,P356)/1000)*Y356*Z356*(1+VLOOKUP($H$4,BuildingType_Lookup,4,FALSE)),IF(AO356=0,0,(IF(OR(C356=\"DDC\",C356=\"OHLC\")=TRUE,O356,Q356)/1000)*Y356*Z356*(1+VLOOKUP($H$4,BuildingType_Lookup,4,FALSE)))))","v":0},{"$f":"IF(AND(OR(AN356=\"\",AN356=0)=TRUE,OR(AO356=\"\",AO356=0))=TRUE,0,IF(AO356=\"\",(IF(OR(C356=\"DDC\",C356=\"OHLC\")=TRUE,O356,P356)/1000)*Y356*AA356*(1+VLOOKUP($H$4,BuildingType_Lookup,MATCH($H$5,HVAC,0)+4,FALSE)),IF(AO356=0,0,(IF(OR(C356=\"DDC\",C356=\"OHLC\")=TRUE,O356,Q356)/1000)*Y356*AA356*(1+VLOOKUP($H$4,BuildingType_Lookup,MATCH($H$5,HVAC,0)+4,FALSE)))))","v":0},0,0,0,0,0,0,{"$f":"W356/1000*Y356*AA356*IF(IFERROR(SEARCH(\"Gas\",$H$5),0)>0,VLOOKUP(\"Gas\",HVACg_Lookup,MATCH($H$6,BuildingSize,0)+1,FALSE),IF(IFERROR(SEARCH(\"Oil\",$H$5),0)>0,VLOOKUP(\"Oil\",HVACg_Lookup,MATCH($H$6,BuildingSize,0)+1,FALSE),IF(IFERROR(SEARCH(\"Propane\",$H$5),0)>0,VLOOKUP(\"Propane\",HVACg_Lookup,MATCH(Worksheet!$H$6,BuildingSize,0)+1,FALSE),0)))","v":0},{"$f":"X356/1000*Y356*AA356*IF(IFERROR(SEARCH(\"Gas\",$H$5),0)>0,VLOOKUP(\"Gas\",HVACg_Lookup,MATCH($H$6,BuildingSize,0)+1,FALSE),IF(IFERROR(SEARCH(\"Oil\",$H$5),0)>0,VLOOKUP(\"Oil\",HVACg_Lookup,MATCH($H$6,BuildingSize,0)+1,FALSE),IF(IFERROR(SEARCH(\"Propane\",$H$5),0)>0,VLOOKUP(\"Propane\",HVACg_Lookup,MATCH(Worksheet!$H$6,BuildingSize,0)+1,FALSE),0)))","v":0},0,0,{"$f":"IF(OR($B$4=\"\",$B$5=\"\",$H$4=\"\",$H$6=\"\",$H$5=\"\",A356=\"\",F356=\"\",J356=\"\",O356=\"\",P356=\"\")=TRUE,\"\",IF(C356=\"OSW\",IF(J356>=2,1,0),IF(C356=\"OSR\",IF(AND(J356>=2,P356>60)=TRUE,1,0),IF(C356=\"OSRH\",IF(AND(J356>=1,P356>90)=TRUE,1,0),IF(C356=\"OHLC\",IF(AND(N356=\"Y\",P356>60)=TRUE,1,0),IF(C356=\"DDC\",IF(AND(J356>=4,N356=\"Y\",P356>120)=TRUE,1,0),0))))))","v":""},{"$f":"IF(OR($B$4=\"\",$B$5=\"\",$H$4=\"\",$H$6=\"\",$H$5=\"\",A356=\"\",F356=\"\",K356=\"\",O356=\"\",P356=\"\")=TRUE,\"\",IF(C356=\"OSW\",IF(K356>=2,1,0),IF(C356=\"OSR\",IF(AND(K356>=2,Q356>60)=TRUE,1,0),IF(C356=\"OSRH\",IF(AND(K356>=1,Q356>90)=TRUE,1,0),IF(C356=\"OHLC\",IF(AND(N356=\"Y\",Q356>60)=TRUE,1,0),IF(C356=\"DDC\",IF(AND(K356>=4,N356=\"Y\",Q356>120)=TRUE,1,0),0))))))","v":""}]
[null,null,"",null,null,null,null,null,null,null,null,null,null,null,null,0,0,0,0,"",0,0,0,0,0,{"$f":"IF($H$4=\"\",0,VLOOKUP($H$4,BuildingType_Lookup,3,FALSE))","v":0},{"$f":"IF($H$4=\"\",0,VLOOKUP($H$4,BuildingType_Lookup,2,FALSE))","v":0},{"$f":"IF(AND(OR(AN357=\"\",AN357=0)=TRUE,OR(AO357=\"\",AO357=0))=TRUE,0,IF(AO357=\"\",(IF(OR(C357=\"DDC\",C357=\"OHLC\")=TRUE,O357,P357)/1000)*Y357*Z357*(1+VLOOKUP($H$4,BuildingType_Lookup,4,FALSE)),IF(AO357=0,0,(IF(OR(C357=\"DDC\",C357=\"OHLC\")=TRUE,O357,Q357)/1000)*Y357*Z357*(1+VLOOKUP($H$4,BuildingType_Lookup,4,FALSE)))))","v":0},{"$f":"IF(AND(OR(AN357=\"\",AN357=0)=TRUE,OR(AO357=\"\",AO357=0))=TRUE,0,IF(AO357=\"\",(IF(OR(C357=\"DDC\",C357=\"OHLC\")=TRUE,O357,P357)/1000)*Y357*AA357*(1+VLOOKUP($H$4,BuildingType_Lookup,MATCH($H$5,HVAC,0)+4,FALSE)),IF(AO357=0,0,(IF(OR(C357=\"DDC\",C357=\"OHLC\")=TRUE,O357,Q357)/1000)*Y357*AA357*(1+VLOOKUP($H$4,BuildingType_Lookup,MATCH($H$5,HVAC,0)+4,FALSE)))))","v":0},0,0,0,0,0,0,{"$f":"W357/1000*Y357*AA357*IF(IFERROR(SEARCH(\"Gas\",$H$5),0)>0,VLOOKUP(\"Gas\",HVACg_Lookup,MATCH($H$6,BuildingSize,0)+1,FALSE),IF(IFERROR(SEARCH(\"Oil\",$H$5),0)>0,VLOOKUP(\"Oil\",HVACg_Lookup,MATCH($H$6,BuildingSize,0)+1,FALSE),IF(IFERROR(SEARCH(\"Propane\",$H$5),0)>0,VLOOKUP(\"Propane\",HVACg_Lookup,MATCH(Worksheet!$H$6,BuildingSize,0)+1,FALSE),0)))","v":0},{"$f":"X357/1000*Y357*AA357*IF(IFERROR(SEARCH(\"Gas\",$H$5),0)>0,VLOOKUP(\"Gas\",HVACg_Lookup,MATCH($H$6,BuildingSize,0)+1,FALSE),IF(IFERROR(SEARCH(\"Oil\",$H$5),0)>0,VLOOKUP(\"Oil\",HVACg_Lookup,MATCH($H$6,BuildingSize,0)+1,FALSE),IF(IFERROR(SEARCH(\"Propane\",$H$5),0)>0,VLOOKUP(\"Propane\",HVACg_Lookup,MATCH(Worksheet!$H$6,BuildingSize,0)+1,FALSE),0)))","v":0},0,0,{"$f":"IF(OR($B$4=\"\",$B$5=\"\",$H$4=\"\",$H$6=\"\",$H$5=\"\",A357=\"\",F357=\"\",J357=\"\",O357=\"\",P357=\"\")=TRUE,\"\",IF(C357=\"OSW\",IF(J357>=2,1,0),IF(C357=\"OSR\",IF(AND(J357>=2,P357>60)=TRUE,1,0),IF(C357=\"OSRH\",IF(AND(J357>=1,P357>90)=TRUE,1,0),IF(C357=\"OHLC\",IF(AND(N357=\"Y\",P357>60)=TRUE,1,0),IF(C357=\"DDC\",IF(AND(J357>=4,N357=\"Y\",P357>120)=TRUE,1,0),0))))))","v":""},{"$f":"IF(OR($B$4=\"\",$B$5=\"\",$H$4=\"\",$H$6=\"\",$H$5=\"\",A357=\"\",F357=\"\",K357=\"\",O357=\"\",P357=\"\")=TRUE,\"\",IF(C357=\"OSW\",IF(K357>=2,1,0),IF(C357=\"OSR\",IF(AND(K357>=2,Q357>60)=TRUE,1,0),IF(C357=\"OSRH\",IF(AND(K357>=1,Q357>90)=TRUE,1,0),IF(C357=\"OHLC\",IF(AND(N357=\"Y\",Q357>60)=TRUE,1,0),IF(C357=\"DDC\",IF(AND(K357>=4,N357=\"Y\",Q357>120)=TRUE,1,0),0))))))","v":""}]
[null,null,"",null,null,null,null,null,null,null,null,null,null,null,null,0,0,0,0,"",0,0,0,0,0,{"$f":"IF($H$4=\"\",0,VLOOKUP($H$4,BuildingType_Lookup,3,FALSE))","v":0},{"$f":"IF($H$4=\"\",0,VLOOKUP($H$4,BuildingType_Lookup,2,FALSE))","v":0},{"$f":"IF(AND(OR(AN358=\"\",AN358=0)=TRUE,OR(AO358=\"\",AO358=0))=TRUE,0,IF(AO358=\"\",(IF(OR(C358=\"DDC\",C358=\"OHLC\")=TRUE,O358,P358)/1000)*Y358*Z358*(1+VLOOKUP($H$4,BuildingType_Lookup,4,FALSE)),IF(AO358=0,0,(IF(OR(C358=\"DDC\",C358=\"OHLC\")=TRUE,O358,Q358)/1000)*Y358*Z358*(1+VLOOKUP($H$4,BuildingType_Lookup,4,FALSE)))))","v":0},{"$f":"IF(AND(OR(AN358=\"\",AN358=0)=TRUE,OR(AO358=\"\",AO358=0))=TRUE,0,IF(AO358=\"\",(IF(OR(C358=\"DDC\",C358=\"OHLC\")=TRUE,O358,P358)/1000)*Y358*AA358*(1+VLOOKUP($H$4,BuildingType_Lookup,MATCH($H$5,HVAC,0)+4,FALSE)),IF(AO358=0,0,(IF(OR(C358=\"DDC\",C358=\"OHLC\")=TRUE,O358,Q358)/1000)*Y358*AA358*(1+VLOOKUP($H$4,BuildingType_Lookup,MATCH($H$5,HVAC,0)+4,FALSE)))))","v":0},0,0,0,0,0,0,{"$f":"W358/1000*Y358*AA358*IF(IFERROR(SEARCH(\"Gas\",$H$5),0)>0,VLOOKUP(\"Gas\",HVACg_Lookup,MATCH($H$6,BuildingSize,0)+1,FALSE),IF(IFERROR(SEARCH(\"Oil\",$H$5),0)>0,VLOOKUP(\"Oil\",HVACg_Lookup,MATCH($H$6,BuildingSize,0)+1,FALSE),IF(IFERROR(SEARCH(\"Propane\",$H$5),0)>0,VLOOKUP(\"Propane\",HVACg_Lookup,MATCH(Worksheet!$H$6,BuildingSize,0)+1,FALSE),0)))","v":0},{"$f":"X358/1000*Y358*AA358*IF(IFERROR(SEARCH(\"Gas\",$H$5),0)>0,VLOOKUP(\"Gas\",HVACg_Lookup,MATCH($H$6,BuildingSize,0)+1,FALSE),IF(IFERROR(SEARCH(\"Oil\",$H$5),0)>0,VLOOKUP(\"Oil\",HVACg_Lookup,MATCH($H$6,BuildingSize,0)+1,FALSE),IF(IFERROR(SEARCH(\"Propane\",$H$5),0)>0,VLOOKUP(\"Propane\",HVACg_Lookup,MATCH(Worksheet!$H$6,BuildingSize,0)+1,FALSE),0)))","v":0},0,0,{"$f":"IF(OR($B$4=\"\",$B$5=\"\",$H$4=\"\",$H$6=\"\",$H$5=\"\",A358=\"\",F358=\"\",J358=\"\",O358=\"\",P358=\"\")=TRUE,\"\",IF(C358=\"OSW\",IF(J358>=2,1,0),IF(C358=\"OSR\",IF(AND(J358>=2,P358>60)=TRUE,1,0),IF(C358=\"OSRH\",IF(AND(J358>=1,P358>90)=TRUE,1,0),IF(C358=\"OHLC\",IF(AND(N358=\"Y\",P358>60)=TRUE,1,0),IF(C358=\"DDC\",IF(AND(J358>=4,N358=\"Y\",P358>120)=TRUE,1,0),0))))))","v":""},{"$f":"IF(OR($B$4=\"\",$B$5=\"\",$H$4=\"\",$H$6=\"\",$H$5=\"\",A358=\"\",F358=\"\",K358=\"\",O358=\"\",P358=\"\")=TRUE,\"\",IF(C358=\"OSW\",IF(K358>=2,1,0),IF(C358=\"OSR\",IF(AND(K358>=2,Q358>60)=TRUE,1,0),IF(C358=\"OSRH\",IF(AND(K358>=1,Q358>90)=TRUE,1,0),IF(C358=\"OHLC\",IF(AND(N358=\"Y\",Q358>60)=TRUE,1,0),IF(C358=\"DDC\",IF(AND(K358>=4,N358=\"Y\",Q358>120)=TRUE,1,0),0))))))","v":""}]
[null,null,"",null,null,null,null,null,null,null,null,null,null,null,null,0,0,0,0,"",0,0,0,0,0,{"$f":"IF($H$4=\"\",0,VLOOKUP($H$4,BuildingType_Lookup,3,FALSE))","v":0},{"$f":"IF($H$4=\"\",0,VLOOKUP($H$4,BuildingType_Lookup,2,FALSE))","v":0},{"$f":"IF(AND(OR(AN359=\"\",AN359=0)=TRUE,OR(AO359=\"\",AO359=0))=TRUE,0,IF(AO359=\"\",(IF(OR(C359=\"DDC\",C359=\"OHLC\")=TRUE,O359,P359)/1000)*Y359*Z359*(1+VLOOKUP($H$4,BuildingType_Lookup,4,FALSE)),IF(AO359=0,0,(IF(OR(C359=\"DDC\",C359=\"OHLC\")=TRUE,O359,Q359)/1000)*Y359*Z359*(1+VLOOKUP($H$4,BuildingType_Lookup,4,FALSE)))))","v":0},{"$f":"IF(AND(OR(AN359=\"\",AN359=0)=TRUE,OR(AO359=\"\",AO359=0))=TRUE,0,IF(AO359=\"\",(IF(OR(C359=\"DDC\",C359=\"OHLC\")=TRUE,O359,P359)/1000)*Y359*AA359*(1+VLOOKUP($H$4,BuildingType_Lookup,MATCH($H$5,HVAC,0)+4,FALSE)),IF(AO359=0,0,(IF(OR(C359=\"DDC\",C359=\"OHLC\")=TRUE,O359,Q359)/1000)*Y359*AA359*(1+VLOOKUP($H$4,BuildingType_Lookup,MATCH($H$5,HVAC,0)+4,FALSE)))))","v":0},0,0,0,0,0,0,{"$f":"W359/1000*Y359*AA359*IF(IFERROR(SEARCH(\"Gas\",$H$5),0)>0,VLOOKUP(\"Gas\",HVACg_Lookup,MATCH($H$6,BuildingSize,0)+1,FALSE),IF(IFERROR(SEARCH(\"Oil\",$H$5),0)>0,VLOOKUP(\"Oil\",HVACg_Lookup,MATCH($H$6,BuildingSize,0)+1,FALSE),IF(IFERROR(SEARCH(\"Propane\",$H$5),0)>0,VLOOKUP(\"Propane\",HVACg_Lookup,MATCH(Worksheet!$H$6,BuildingSize,0)+1,FALSE),0)))","v":0},{"$f":"X359/1000*Y359*AA359*IF(IFERROR(SEARCH(\"Gas\",$H$5),0)>0,VLOOKUP(\"Gas\",HVACg_Lookup,MATCH($H$6,BuildingSize,0)+1,FALSE),IF(IFERROR(SEARCH(\"Oil\",$H$5),0)>0,VLOOKUP(\"Oil\",HVACg_Lookup,MATCH($H$6,BuildingSize,0)+1,FALSE),IF(IFERROR(SEARCH(\"Propane\",$H$5),0)>0,VLOOKUP(\"Propane\",HVACg_Lookup,MATCH(Worksheet!$H$6,BuildingSize,0)+1,FALSE),0)))","v":0},0,0,{"$f":"IF(OR($B$4=\"\",$B$5=\"\",$H$4=\"\",$H$6=\"\",$H$5=\"\",A359=\"\",F359=\"\",J359=\"\",O359=\"\",P359=\"\")=TRUE,\"\",IF(C359=\"OSW\",IF(J359>=2,1,0),IF(C359=\"OSR\",IF(AND(J359>=2,P359>60)=TRUE,1,0),IF(C359=\"OSRH\",IF(AND(J359>=1,P359>90)=TRUE,1,0),IF(C359=\"OHLC\",IF(AND(N359=\"Y\",P359>60)=TRUE,1,0),IF(C359=\"DDC\",IF(AND(J359>=4,N359=\"Y\",P359>120)=TRUE,1,0),0))))))","v":""},{"$f":"IF(OR($B$4=\"\",$B$5=\"\",$H$4=\"\",$H$6=\"\",$H$5=\"\",A359=\"\",F359=\"\",K359=\"\",O359=\"\",P359=\"\")=TRUE,\"\",IF(C359=\"OSW\",IF(K359>=2,1,0),IF(C359=\"OSR\",IF(AND(K359>=2,Q359>60)=TRUE,1,0),IF(C359=\"OSRH\",IF(AND(K359>=1,Q359>90)=TRUE,1,0),IF(C359=\"OHLC\",IF(AND(N359=\"Y\",Q359>60)=TRUE,1,0),IF(C359=\"DDC\",IF(AND(K359>=4,N359=\"Y\",Q359>120)=TRUE,1,0),0))))))","v":""}]
[null,null,"",null,null,null,null,null,null,null,null,null,null,null,null,0,0,0,0,"",0,0,0,0,0,{"$f":"IF($H$4=\"\",0,VLOOKUP($H$4,BuildingType_Lookup,3,FALSE))","v":0},{"$f":"IF($H$4=\"\",0,VLOOKUP($H$4,BuildingType_Lookup,2,FALSE))","v":0},{"$f":"IF(AND(OR(AN360=\"\",AN360=0)=TRUE,OR(AO360=\"\",AO360=0))=TRUE,0,IF(AO360=\"\",(IF(OR(C360=\"DDC\",C360=\"OHLC\")=TRUE,O360,P360)/1000)*Y360*Z360*(1+VLOOKUP($H$4,BuildingType_Lookup,4,FALSE)),IF(AO360=0,0,(IF(OR(C360=\"DDC\",C360=\"OHLC\")=TRUE,O360,Q360)/1000)*Y360*Z360*(1+VLOOKUP($H$4,BuildingType_Lookup,4,FALSE)))))","v":0},{"$f":"IF(AND(OR(AN360=\"\",AN360=0)=TRUE,OR(AO360=\"\",AO360=0))=TRUE,0,IF(AO360=\"\",(IF(OR(C360=\"DDC\",C360=\"OHLC\")=TRUE,O360,P360)/1000)*Y360*AA360*(1+VLOOKUP($H$4,BuildingType_Lookup,MATCH($H$5,HVAC,0)+4,FALSE)),IF(AO360=0,0,(IF(OR(C360=\"DDC\",C360=\"OHLC\")=TRUE,O360,Q360)/1000)*Y360*AA360*(1+VLOOKUP($H$4,BuildingType_Lookup,MATCH($H$5,HVAC,0)+4,FALSE)))))","v":0},0,0,0,0,0,0,{"$f":"W360/1000*Y360*AA360*IF(IFERROR(SEARCH(\"Gas\",$H$5),0)>0,VLOOKUP(\"Gas\",HVACg_Lookup,MATCH($H$6,BuildingSize,0)+1,FALSE),IF(IFERROR(SEARCH(\"Oil\",$H$5),0)>0,VLOOKUP(\"Oil\",HVACg_Lookup,MATCH($H$6,BuildingSize,0)+1,FALSE),IF(IFERROR(SEARCH(\"Propane\",$H$5),0)>0,VLOOKUP(\"Propane\",HVACg_Lookup,MATCH(Worksheet!$H$6,BuildingSize,0)+1,FALSE),0)))","v":0},{"$f":"X360/1000*Y360*AA360*IF(IFERROR(SEARCH(\"Gas\",$H$5),0)>0,VLOOKUP(\"Gas\",HVACg_Lookup,MATCH($H$6,BuildingSize,0)+1,FALSE),IF(IFERROR(SEARCH(\"Oil\",$H$5),0)>0,VLOOKUP(\"Oil\",HVACg_Lookup,MATCH($H$6,BuildingSize,0)+1,FALSE),IF(IFERROR(SEARCH(\"Propane\",$H$5),0)>0,VLOOKUP(\"Propane\",HVACg_Lookup,MATCH(Worksheet!$H$6,BuildingSize,0)+1,FALSE),0)))","v":0},0,0,{"$f":"IF(OR($B$4=\"\",$B$5=\"\",$H$4=\"\",$H$6=\"\",$H$5=\"\",A360=\"\",F360=\"\",J360=\"\",O360=\"\",P360=\"\")=TRUE,\"\",IF(C360=\"OSW\",IF(J360>=2,1,0),IF(C360=\"OSR\",IF(AND(J360>=2,P360>60)=TRUE,1,0),IF(C360=\"OSRH\",IF(AND(J360>=1,P360>90)=TRUE,1,0),IF(C360=\"OHLC\",IF(AND(N360=\"Y\",P360>60)=TRUE,1,0),IF(C360=\"DDC\",IF(AND(J360>=4,N360=\"Y\",P360>120)=TRUE,1,0),0))))))","v":""},{"$f":"IF(OR($B$4=\"\",$B$5=\"\",$H$4=\"\",$H$6=\"\",$H$5=\"\",A360=\"\",F360=\"\",K360=\"\",O360=\"\",P360=\"\")=TRUE,\"\",IF(C360=\"OSW\",IF(K360>=2,1,0),IF(C360=\"OSR\",IF(AND(K360>=2,Q360>60)=TRUE,1,0),IF(C360=\"OSRH\",IF(AND(K360>=1,Q360>90)=TRUE,1,0),IF(C360=\"OHLC\",IF(AND(N360=\"Y\",Q360>60)=TRUE,1,0),IF(C360=\"DDC\",IF(AND(K360>=4,N360=\"Y\",Q360>120)=TRUE,1,0),0))))))","v":""}]
[null,null,"",null,null,null,null,null,null,null,null,null,null,null,null,0,0,0,0,"",0,0,0,0,0,{"$f":"IF($H$4=\"\",0,VLOOKUP($H$4,BuildingType_Lookup,3,FALSE))","v":0},{"$f":"IF($H$4=\"\",0,VLOOKUP($H$4,BuildingType_Lookup,2,FALSE))","v":0},{"$f":"IF(AND(OR(AN361=\"\",AN361=0)=TRUE,OR(AO361=\"\",AO361=0))=TRUE,0,IF(AO361=\"\",(IF(OR(C361=\"DDC\",C361=\"OHLC\")=TRUE,O361,P361)/1000)*Y361*Z361*(1+VLOOKUP($H$4,BuildingType_Lookup,4,FALSE)),IF(AO361=0,0,(IF(OR(C361=\"DDC\",C361=\"OHLC\")=TRUE,O361,Q361)/1000)*Y361*Z361*(1+VLOOKUP($H$4,BuildingType_Lookup,4,FALSE)))))","v":0},{"$f":"IF(AND(OR(AN361=\"\",AN361=0)=TRUE,OR(AO361=\"\",AO361=0))=TRUE,0,IF(AO361=\"\",(IF(OR(C361=\"DDC\",C361=\"OHLC\")=TRUE,O361,P361)/1000)*Y361*AA361*(1+VLOOKUP($H$4,BuildingType_Lookup,MATCH($H$5,HVAC,0)+4,FALSE)),IF(AO361=0,0,(IF(OR(C361=\"DDC\",C361=\"OHLC\")=TRUE,O361,Q361)/1000)*Y361*AA361*(1+VLOOKUP($H$4,BuildingType_Lookup,MATCH($H$5,HVAC,0)+4,FALSE)))))","v":0},0,0,0,0,0,0,{"$f":"W361/1000*Y361*AA361*IF(IFERROR(SEARCH(\"Gas\",$H$5),0)>0,VLOOKUP(\"Gas\",HVACg_Lookup,MATCH($H$6,BuildingSize,0)+1,FALSE),IF(IFERROR(SEARCH(\"Oil\",$H$5),0)>0,VLOOKUP(\"Oil\",HVACg_Lookup,MATCH($H$6,BuildingSize,0)+1,FALSE),IF(IFERROR(SEARCH(\"Propane\",$H$5),0)>0,VLOOKUP(\"Propane\",HVACg_Lookup,MATCH(Worksheet!$H$6,BuildingSize,0)+1,FALSE),0)))","v":0},{"$f":"X361/1000*Y361*AA361*IF(IFERROR(SEARCH(\"Gas\",$H$5),0)>0,VLOOKUP(\"Gas\",HVACg_Lookup,MATCH($H$6,BuildingSize,0)+1,FALSE),IF(IFERROR(SEARCH(\"Oil\",$H$5),0)>0,VLOOKUP(\"Oil\",HVACg_Lookup,MATCH($H$6,BuildingSize,0)+1,FALSE),IF(IFERROR(SEARCH(\"Propane\",$H$5),0)>0,VLOOKUP(\"Propane\",HVACg_Lookup,MATCH(Worksheet!$H$6,BuildingSize,0)+1,FALSE),0)))","v":0},0,0,{"$f":"IF(OR($B$4=\"\",$B$5=\"\",$H$4=\"\",$H$6=\"\",$H$5=\"\",A361=\"\",F361=\"\",J361=\"\",O361=\"\",P361=\"\")=TRUE,\"\",IF(C361=\"OSW\",IF(J361>=2,1,0),IF(C361=\"OSR\",IF(AND(J361>=2,P361>60)=TRUE,1,0),IF(C361=\"OSRH\",IF(AND(J361>=1,P361>90)=TRUE,1,0),IF(C361=\"OHLC\",IF(AND(N361=\"Y\",P361>60)=TRUE,1,0),IF(C361=\"DDC\",IF(AND(J361>=4,N361=\"Y\",P361>120)=TRUE,1,0),0))))))","v":""},{"$f":"IF(OR($B$4=\"\",$B$5=\"\",$H$4=\"\",$H$6=\"\",$H$5=\"\",A361=\"\",F361=\"\",K361=\"\",O361=\"\",P361=\"\")=TRUE,\"\",IF(C361=\"OSW\",IF(K361>=2,1,0),IF(C361=\"OSR\",IF(AND(K361>=2,Q361>60)=TRUE,1,0),IF(C361=\"OSRH\",IF(AND(K361>=1,Q361>90)=TRUE,1,0),IF(C361=\"OHLC\",IF(AND(N361=\"Y\",Q361>60)=TRUE,1,0),IF(C361=\"DDC\",IF(AND(K361>=4,N361=\"Y\",Q361>120)=TRUE,1,0),0))))))","v":""}]
[null,null,"",null,null,null,null,null,null,null,null,null,null,null,null,0,0,0,0,"",0,0,0,0,0,{"$f":"IF($H$4=\"\",0,VLOOKUP($H$4,BuildingType_Lookup,3,FALSE))","v":0},{"$f":"IF($H$4=\"\",0,VLOOKUP($H$4,BuildingType_Lookup,2,FALSE))","v":0},{"$f":"IF(AND(OR(AN362=\"\",AN362=0)=TRUE,OR(AO362=\"\",AO362=0))=TRUE,0,IF(AO362=\"\",(IF(OR(C362=\"DDC\",C362=\"OHLC\")=TRUE,O362,P362)/1000)*Y362*Z362*(1+VLOOKUP($H$4,BuildingType_Lookup,4,FALSE)),IF(AO362=0,0,(IF(OR(C362=\"DDC\",C362=\"OHLC\")=TRUE,O362,Q362)/1000)*Y362*Z362*(1+VLOOKUP($H$4,BuildingType_Lookup,4,FALSE)))))","v":0},{"$f":"IF(AND(OR(AN362=\"\",AN362=0)=TRUE,OR(AO362=\"\",AO362=0))=TRUE,0,IF(AO362=\"\",(IF(OR(C362=\"DDC\",C362=\"OHLC\")=TRUE,O362,P362)/1000)*Y362*AA362*(1+VLOOKUP($H$4,BuildingType_Lookup,MATCH($H$5,HVAC,0)+4,FALSE)),IF(AO362=0,0,(IF(OR(C362=\"DDC\",C362=\"OHLC\")=TRUE,O362,Q362)/1000)*Y362*AA362*(1+VLOOKUP($H$4,BuildingType_Lookup,MATCH($H$5,HVAC,0)+4,FALSE)))))","v":0},0,0,0,0,0,0,{"$f":"W362/1000*Y362*AA362*IF(IFERROR(SEARCH(\"Gas\",$H$5),0)>0,VLOOKUP(\"Gas\",HVACg_Lookup,MATCH($H$6,BuildingSize,0)+1,FALSE),IF(IFERROR(SEARCH(\"Oil\",$H$5),0)>0,VLOOKUP(\"Oil\",HVACg_Lookup,MATCH($H$6,BuildingSize,0)+1,FALSE),IF(IFERROR(SEARCH(\"Propane\",$H$5),0)>0,VLOOKUP(\"Propane\",HVACg_Lookup,MATCH(Worksheet!$H$6,BuildingSize,0)+1,FALSE),0)))","v":0},{"$f":"X362/1000*Y362*AA362*IF(IFERROR(SEARCH(\"Gas\",$H$5),0)>0,VLOOKUP(\"Gas\",HVACg_Lookup,MATCH($H$6,BuildingSize,0)+1,FALSE),IF(IFERROR(SEARCH(\"Oil\",$H$5),0)>0,VLOOKUP(\"Oil\",HVACg_Lookup,MATCH($H$6,BuildingSize,0)+1,FALSE),IF(IFERROR(SEARCH(\"Propane\",$H$5),0)>0,VLOOKUP(\"Propane\",HVACg_Lookup,MATCH(Worksheet!$H$6,BuildingSize,0)+1,FALSE),0)))","v":0},0,0,{"$f":"IF(OR($B$4=\"\",$B$5=\"\",$H$4=\"\",$H$6=\"\",$H$5=\"\",A362=\"\",F362=\"\",J362=\"\",O362=\"\",P362=\"\")=TRUE,\"\",IF(C362=\"OSW\",IF(J362>=2,1,0),IF(C362=\"OSR\",IF(AND(J362>=2,P362>60)=TRUE,1,0),IF(C362=\"OSRH\",IF(AND(J362>=1,P362>90)=TRUE,1,0),IF(C362=\"OHLC\",IF(AND(N362=\"Y\",P362>60)=TRUE,1,0),IF(C362=\"DDC\",IF(AND(J362>=4,N362=\"Y\",P362>120)=TRUE,1,0),0))))))","v":""},{"$f":"IF(OR($B$4=\"\",$B$5=\"\",$H$4=\"\",$H$6=\"\",$H$5=\"\",A362=\"\",F362=\"\",K362=\"\",O362=\"\",P362=\"\")=TRUE,\"\",IF(C362=\"OSW\",IF(K362>=2,1,0),IF(C362=\"OSR\",IF(AND(K362>=2,Q362>60)=TRUE,1,0),IF(C362=\"OSRH\",IF(AND(K362>=1,Q362>90)=TRUE,1,0),IF(C362=\"OHLC\",IF(AND(N362=\"Y\",Q362>60)=TRUE,1,0),IF(C362=\"DDC\",IF(AND(K362>=4,N362=\"Y\",Q362>120)=TRUE,1,0),0))))))","v":""}]
[null,null,"",null,null,null,null,null,null,null,null,null,null,null,null,0,0,0,0,"",0,0,0,0,0,{"$f":"IF($H$4=\"\",0,VLOOKUP($H$4,BuildingType_Lookup,3,FALSE))","v":0},{"$f":"IF($H$4=\"\",0,VLOOKUP($H$4,BuildingType_Lookup,2,FALSE))","v":0},{"$f":"IF(AND(OR(AN363=\"\",AN363=0)=TRUE,OR(AO363=\"\",AO363=0))=TRUE,0,IF(AO363=\"\",(IF(OR(C363=\"DDC\",C363=\"OHLC\")=TRUE,O363,P363)/1000)*Y363*Z363*(1+VLOOKUP($H$4,BuildingType_Lookup,4,FALSE)),IF(AO363=0,0,(IF(OR(C363=\"DDC\",C363=\"OHLC\")=TRUE,O363,Q363)/1000)*Y363*Z363*(1+VLOOKUP($H$4,BuildingType_Lookup,4,FALSE)))))","v":0},{"$f":"IF(AND(OR(AN363=\"\",AN363=0)=TRUE,OR(AO363=\"\",AO363=0))=TRUE,0,IF(AO363=\"\",(IF(OR(C363=\"DDC\",C363=\"OHLC\")=TRUE,O363,P363)/1000)*Y363*AA363*(1+VLOOKUP($H$4,BuildingType_Lookup,MATCH($H$5,HVAC,0)+4,FALSE)),IF(AO363=0,0,(IF(OR(C363=\"DDC\",C363=\"OHLC\")=TRUE,O363,Q363)/1000)*Y363*AA363*(1+VLOOKUP($H$4,BuildingType_Lookup,MATCH($H$5,HVAC,0)+4,FALSE)))))","v":0},0,0,0,0,0,0,{"$f":"W363/1000*Y363*AA363*IF(IFERROR(SEARCH(\"Gas\",$H$5),0)>0,VLOOKUP(\"Gas\",HVACg_Lookup,MATCH($H$6,BuildingSize,0)+1,FALSE),IF(IFERROR(SEARCH(\"Oil\",$H$5),0)>0,VLOOKUP(\"Oil\",HVACg_Lookup,MATCH($H$6,BuildingSize,0)+1,FALSE),IF(IFERROR(SEARCH(\"Propane\",$H$5),0)>0,VLOOKUP(\"Propane\",HVACg_Lookup,MATCH(Worksheet!$H$6,BuildingSize,0)+1,FALSE),0)))","v":0},{"$f":"X363/1000*Y363*AA363*IF(IFERROR(SEARCH(\"Gas\",$H$5),0)>0,VLOOKUP(\"Gas\",HVACg_Lookup,MATCH($H$6,BuildingSize,0)+1,FALSE),IF(IFERROR(SEARCH(\"Oil\",$H$5),0)>0,VLOOKUP(\"Oil\",HVACg_Lookup,MATCH($H$6,BuildingSize,0)+1,FALSE),IF(IFERROR(SEARCH(\"Propane\",$H$5),0)>0,VLOOKUP(\"Propane\",HVACg_Lookup,MATCH(Worksheet!$H$6,BuildingSize,0)+1,FALSE),0)))","v":0},0,0,{"$f":"IF(OR($B$4=\"\",$B$5=\"\",$H$4=\"\",$H$6=\"\",$H$5=\"\",A363=\"\",F363=\"\",J363=\"\",O363=\"\",P363=\"\")=TRUE,\"\",IF(C363=\"OSW\",IF(J363>=2,1,0),IF(C363=\"OSR\",IF(AND(J363>=2,P363>60)=TRUE,1,0),IF(C363=\"OSRH\",IF(AND(J363>=1,P363>90)=TRUE,1,0),IF(C363=\"OHLC\",IF(AND(N363=\"Y\",P363>60)=TRUE,1,0),IF(C363=\"DDC\",IF(AND(J363>=4,N363=\"Y\",P363>120)=TRUE,1,0),0))))))","v":""},{"$f":"IF(OR($B$4=\"\",$B$5=\"\",$H$4=\"\",$H$6=\"\",$H$5=\"\",A363=\"\",F363=\"\",K363=\"\",O363=\"\",P363=\"\")=TRUE,\"\",IF(C363=\"OSW\",IF(K363>=2,1,0),IF(C363=\"OSR\",IF(AND(K363>=2,Q363>60)=TRUE,1,0),IF(C363=\"OSRH\",IF(AND(K363>=1,Q363>90)=TRUE,1,0),IF(C363=\"OHLC\",IF(AND(N363=\"Y\",Q363>60)=TRUE,1,0),IF(C363=\"DDC\",IF(AND(K363>=4,N363=\"Y\",Q363>120)=TRUE,1,0),0))))))","v":""}]
[null,null,"",null,null,null,null,null,null,null,null,null,null,null,null,0,0,0,0,"",0,0,0,0,0,{"$f":"IF($H$4=\"\",0,VLOOKUP($H$4,BuildingType_Lookup,3,FALSE))","v":0},{"$f":"IF($H$4=\"\",0,VLOOKUP($H$4,BuildingType_Lookup,2,FALSE))","v":0},{"$f":"IF(AND(OR(AN364=\"\",AN364=0)=TRUE,OR(AO364=\"\",AO364=0))=TRUE,0,IF(AO364=\"\",(IF(OR(C364=\"DDC\",C364=\"OHLC\")=TRUE,O364,P364)/1000)*Y364*Z364*(1+VLOOKUP($H$4,BuildingType_Lookup,4,FALSE)),IF(AO364=0,0,(IF(OR(C364=\"DDC\",C364=\"OHLC\")=TRUE,O364,Q364)/1000)*Y364*Z364*(1+VLOOKUP($H$4,BuildingType_Lookup,4,FALSE)))))","v":0},{"$f":"IF(AND(OR(AN364=\"\",AN364=0)=TRUE,OR(AO364=\"\",AO364=0))=TRUE,0,IF(AO364=\"\",(IF(OR(C364=\"DDC\",C364=\"OHLC\")=TRUE,O364,P364)/1000)*Y364*AA364*(1+VLOOKUP($H$4,BuildingType_Lookup,MATCH($H$5,HVAC,0)+4,FALSE)),IF(AO364=0,0,(IF(OR(C364=\"DDC\",C364=\"OHLC\")=TRUE,O364,Q364)/1000)*Y364*AA364*(1+VLOOKUP($H$4,BuildingType_Lookup,MATCH($H$5,HVAC,0)+4,FALSE)))))","v":0},0,0,0,0,0,0,{"$f":"W364/1000*Y364*AA364*IF(IFERROR(SEARCH(\"Gas\",$H$5),0)>0,VLOOKUP(\"Gas\",HVACg_Lookup,MATCH($H$6,BuildingSize,0)+1,FALSE),IF(IFERROR(SEARCH(\"Oil\",$H$5),0)>0,VLOOKUP(\"Oil\",HVACg_Lookup,MATCH($H$6,BuildingSize,0)+1,FALSE),IF(IFERROR(SEARCH(\"Propane\",$H$5),0)>0,VLOOKUP(\"Propane\",HVACg_Lookup,MATCH(Worksheet!$H$6,BuildingSize,0)+1,FALSE),0)))","v":0},{"$f":"X364/1000*Y364*AA364*IF(IFERROR(SEARCH(\"Gas\",$H$5),0)>0,VLOOKUP(\"Gas\",HVACg_Lookup,MATCH($H$6,BuildingSize,0)+1,FALSE),IF(IFERROR(SEARCH(\"Oil\",$H$5),0)>0,VLOOKUP(\"Oil\",HVACg_Lookup,MATCH($H$6,BuildingSize,0)+1,FALSE),IF(IFERROR(SEARCH(\"Propane\",$H$5),0)>0,VLOOKUP(\"Propane\",HVACg_Lookup,MATCH(Worksheet!$H$6,BuildingSize,0)+1,FALSE),0)))","v":0},0,0,{"$f":"IF(OR($B$4=\"\",$B$5=\"\",$H$4=\"\",$H$6=\"\",$H$5=\"\",A364=\"\",F364=\"\",J364=\"\",O364=\"\",P364=\"\")=TRUE,\"\",IF(C364=\"OSW\",IF(J364>=2,1,0),IF(C364=\"OSR\",IF(AND(J364>=2,P364>60)=TRUE,1,0),IF(C364=\"OSRH\",IF(AND(J364>=1,P364>90)=TRUE,1,0),IF(C364=\"OHLC\",IF(AND(N364=\"Y\",P364>60)=TRUE,1,0),IF(C364=\"DDC\",IF(AND(J364>=4,N364=\"Y\",P364>120)=TRUE,1,0),0))))))","v":""},{"$f":"IF(OR($B$4=\"\",$B$5=\"\",$H$4=\"\",$H$6=\"\",$H$5=\"\",A364=\"\",F364=\"\",K364=\"\",O364=\"\",P364=\"\")=TRUE,\"\",IF(C364=\"OSW\",IF(K364>=2,1,0),IF(C364=\"OSR\",IF(AND(K364>=2,Q364>60)=TRUE,1,0),IF(C364=\"OSRH\",IF(AND(K364>=1,Q364>90)=TRUE,1,0),IF(C364=\"OHLC\",IF(AND(N364=\"Y\",Q364>60)=TRUE,1,0),IF(C364=\"DDC\",IF(AND(K364>=4,N364=\"Y\",Q364>120)=TRUE,1,0),0))))))","v":""}]
[null,null,"",null,null,null,null,null,null,null,null,null,null,null,null,0,0,0,0,"",0,0,0,0,0,{"$f":"IF($H$4=\"\",0,VLOOKUP($H$4,BuildingType_Lookup,3,FALSE))","v":0},{"$f":"IF($H$4=\"\",0,VLOOKUP($H$4,BuildingType_Lookup,2,FALSE))","v":0},{"$f":"IF(AND(OR(AN365=\"\",AN365=0)=TRUE,OR(AO365=\"\",AO365=0))=TRUE,0,IF(AO365=\"\",(IF(OR(C365=\"DDC\",C365=\"OHLC\")=TRUE,O365,P365)/1000)*Y365*Z365*(1+VLOOKUP($H$4,BuildingType_Lookup,4,FALSE)),IF(AO365=0,0,(IF(OR(C365=\"DDC\",C365=\"OHLC\")=TRUE,O365,Q365)/1000)*Y365*Z365*(1+VLOOKUP($H$4,BuildingType_Lookup,4,FALSE)))))","v":0},{"$f":"IF(AND(OR(AN365=\"\",AN365=0)=TRUE,OR(AO365=\"\",AO365=0))=TRUE,0,IF(AO365=\"\",(IF(OR(C365=\"DDC\",C365=\"OHLC\")=TRUE,O365,P365)/1000)*Y365*AA365*(1+VLOOKUP($H$4,BuildingType_Lookup,MATCH($H$5,HVAC,0)+4,FALSE)),IF(AO365=0,0,(IF(OR(C365=\"DDC\",C365=\"OHLC\")=TRUE,O365,Q365)/1000)*Y365*AA365*(1+VLOOKUP($H$4,BuildingType_Lookup,MATCH($H$5,HVAC,0)+4,FALSE)))))","v":0},0,0,0,0,0,0,{"$f":"W365/1000*Y365*AA365*IF(IFERROR(SEARCH(\"Gas\",$H$5),0)>0,VLOOKUP(\"Gas\",HVACg_Lookup,MATCH($H$6,BuildingSize,0)+1,FALSE),IF(IFERROR(SEARCH(\"Oil\",$H$5),0)>0,VLOOKUP(\"Oil\",HVACg_Lookup,MATCH($H$6,BuildingSize,0)+1,FALSE),IF(IFERROR(SEARCH(\"Propane\",$H$5),0)>0,VLOOKUP(\"Propane\",HVACg_Lookup,MATCH(Worksheet!$H$6,BuildingSize,0)+1,FALSE),0)))","v":0},{"$f":"X365/1000*Y365*AA365*IF(IFERROR(SEARCH(\"Gas\",$H$5),0)>0,VLOOKUP(\"Gas\",HVACg_Lookup,MATCH($H$6,BuildingSize,0)+1,FALSE),IF(IFERROR(SEARCH(\"Oil\",$H$5),0)>0,VLOOKUP(\"Oil\",HVACg_Lookup,MATCH($H$6,BuildingSize,0)+1,FALSE),IF(IFERROR(SEARCH(\"Propane\",$H$5),0)>0,VLOOKUP(\"Propane\",HVACg_Lookup,MATCH(Worksheet!$H$6,BuildingSize,0)+1,FALSE),0)))","v":0},0,0,{"$f":"IF(OR($B$4=\"\",$B$5=\"\",$H$4=\"\",$H$6=\"\",$H$5=\"\",A365=\"\",F365=\"\",J365=\"\",O365=\"\",P365=\"\")=TRUE,\"\",IF(C365=\"OSW\",IF(J365>=2,1,0),IF(C365=\"OSR\",IF(AND(J365>=2,P365>60)=TRUE,1,0),IF(C365=\"OSRH\",IF(AND(J365>=1,P365>90)=TRUE,1,0),IF(C365=\"OHLC\",IF(AND(N365=\"Y\",P365>60)=TRUE,1,0),IF(C365=\"DDC\",IF(AND(J365>=4,N365=\"Y\",P365>120)=TRUE,1,0),0))))))","v":""},{"$f":"IF(OR($B$4=\"\",$B$5=\"\",$H$4=\"\",$H$6=\"\",$H$5=\"\",A365=\"\",F365=\"\",K365=\"\",O365=\"\",P365=\"\")=TRUE,\"\",IF(C365=\"OSW\",IF(K365>=2,1,0),IF(C365=\"OSR\",IF(AND(K365>=2,Q365>60)=TRUE,1,0),IF(C365=\"OSRH\",IF(AND(K365>=1,Q365>90)=TRUE,1,0),IF(C365=\"OHLC\",IF(AND(N365=\"Y\",Q365>60)=TRUE,1,0),IF(C365=\"DDC\",IF(AND(K365>=4,N365=\"Y\",Q365>120)=TRUE,1,0),0))))))","v":""}]
[null,null,"",null,null,null,null,null,null,null,null,null,null,null,null,0,0,0,0,"",0,0,0,0,0,{"$f":"IF($H$4=\"\",0,VLOOKUP($H$4,BuildingType_Lookup,3,FALSE))","v":0},{"$f":"IF($H$4=\"\",0,VLOOKUP($H$4,BuildingType_Lookup,2,FALSE))","v":0},{"$f":"IF(AND(OR(AN366=\"\",AN366=0)=TRUE,OR(AO366=\"\",AO366=0))=TRUE,0,IF(AO366=\"\",(IF(OR(C366=\"DDC\",C366=\"OHLC\")=TRUE,O366,P366)/1000)*Y366*Z366*(1+VLOOKUP($H$4,BuildingType_Lookup,4,FALSE)),IF(AO366=0,0,(IF(OR(C366=\"DDC\",C366=\"OHLC\")=TRUE,O366,Q366)/1000)*Y366*Z366*(1+VLOOKUP($H$4,BuildingType_Lookup,4,FALSE)))))","v":0},{"$f":"IF(AND(OR(AN366=\"\",AN366=0)=TRUE,OR(AO366=\"\",AO366=0))=TRUE,0,IF(AO366=\"\",(IF(OR(C366=\"DDC\",C366=\"OHLC\")=TRUE,O366,P366)/1000)*Y366*AA366*(1+VLOOKUP($H$4,BuildingType_Lookup,MATCH($H$5,HVAC,0)+4,FALSE)),IF(AO366=0,0,(IF(OR(C366=\"DDC\",C366=\"OHLC\")=TRUE,O366,Q366)/1000)*Y366*AA366*(1+VLOOKUP($H$4,BuildingType_Lookup,MATCH($H$5,HVAC,0)+4,FALSE)))))","v":0},0,0,0,0,0,0,{"$f":"W366/1000*Y366*AA366*IF(IFERROR(SEARCH(\"Gas\",$H$5),0)>0,VLOOKUP(\"Gas\",HVACg_Lookup,MATCH($H$6,BuildingSize,0)+1,FALSE),IF(IFERROR(SEARCH(\"Oil\",$H$5),0)>0,VLOOKUP(\"Oil\",HVACg_Lookup,MATCH($H$6,BuildingSize,0)+1,FALSE),IF(IFERROR(SEARCH(\"Propane\",$H$5),0)>0,VLOOKUP(\"Propane\",HVACg_Lookup,MATCH(Worksheet!$H$6,BuildingSize,0)+1,FALSE),0)))","v":0},{"$f":"X366/1000*Y366*AA366*IF(IFERROR(SEARCH(\"Gas\",$H$5),0)>0,VLOOKUP(\"Gas\",HVACg_Lookup,MATCH($H$6,BuildingSize,0)+1,FALSE),IF(IFERROR(SEARCH(\"Oil\",$H$5),0)>0,VLOOKUP(\"Oil\",HVACg_Lookup,MATCH($H$6,BuildingSize,0)+1,FALSE),IF(IFERROR(SEARCH(\"Propane\",$H$5),0)>0,VLOOKUP(\"Propane\",HVACg_Lookup,MATCH(Worksheet!$H$6,BuildingSize,0)+1,FALSE),0)))","v":0},0,0,{"$f":"IF(OR($B$4=\"\",$B$5=\"\",$H$4=\"\",$H$6=\"\",$H$5=\"\",A366=\"\",F366=\"\",J366=\"\",O366=\"\",P366=\"\")=TRUE,\"\",IF(C366=\"OSW\",IF(J366>=2,1,0),IF(C366=\"OSR\",IF(AND(J366>=2,P366>60)=TRUE,1,0),IF(C366=\"OSRH\",IF(AND(J366>=1,P366>90)=TRUE,1,0),IF(C366=\"OHLC\",IF(AND(N366=\"Y\",P366>60)=TRUE,1,0),IF(C366=\"DDC\",IF(AND(J366>=4,N366=\"Y\",P366>120)=TRUE,1,0),0))))))","v":""},{"$f":"IF(OR($B$4=\"\",$B$5=\"\",$H$4=\"\",$H$6=\"\",$H$5=\"\",A366=\"\",F366=\"\",K366=\"\",O366=\"\",P366=\"\")=TRUE,\"\",IF(C366=\"OSW\",IF(K366>=2,1,0),IF(C366=\"OSR\",IF(AND(K366>=2,Q366>60)=TRUE,1,0),IF(C366=\"OSRH\",IF(AND(K366>=1,Q366>90)=TRUE,1,0),IF(C366=\"OHLC\",IF(AND(N366=\"Y\",Q366>60)=TRUE,1,0),IF(C366=\"DDC\",IF(AND(K366>=4,N366=\"Y\",Q366>120)=TRUE,1,0),0))))))","v":""}]
[null,null,"",null,null,null,null,null,null,null,null,null,null,null,null,0,0,0,0,"",0,0,0,0,0,{"$f":"IF($H$4=\"\",0,VLOOKUP($H$4,BuildingType_Lookup,3,FALSE))","v":0},{"$f":"IF($H$4=\"\",0,VLOOKUP($H$4,BuildingType_Lookup,2,FALSE))","v":0},{"$f":"IF(AND(OR(AN367=\"\",AN367=0)=TRUE,OR(AO367=\"\",AO367=0))=TRUE,0,IF(AO367=\"\",(IF(OR(C367=\"DDC\",C367=\"OHLC\")=TRUE,O367,P367)/1000)*Y367*Z367*(1+VLOOKUP($H$4,BuildingType_Lookup,4,FALSE)),IF(AO367=0,0,(IF(OR(C367=\"DDC\",C367=\"OHLC\")=TRUE,O367,Q367)/1000)*Y367*Z367*(1+VLOOKUP($H$4,BuildingType_Lookup,4,FALSE)))))","v":0},{"$f":"IF(AND(OR(AN367=\"\",AN367=0)=TRUE,OR(AO367=\"\",AO367=0))=TRUE,0,IF(AO367=\"\",(IF(OR(C367=\"DDC\",C367=\"OHLC\")=TRUE,O367,P367)/1000)*Y367*AA367*(1+VLOOKUP($H$4,BuildingType_Lookup,MATCH($H$5,HVAC,0)+4,FALSE)),IF(AO367=0,0,(IF(OR(C367=\"DDC\",C367=\"OHLC\")=TRUE,O367,Q367)/1000)*Y367*AA367*(1+VLOOKUP($H$4,BuildingType_Lookup,MATCH($H$5,HVAC,0)+4,FALSE)))))","v":0},0,0,0,0,0,0,{"$f":"W367/1000*Y367*AA367*IF(IFERROR(SEARCH(\"Gas\",$H$5),0)>0,VLOOKUP(\"Gas\",HVACg_Lookup,MATCH($H$6,BuildingSize,0)+1,FALSE),IF(IFERROR(SEARCH(\"Oil\",$H$5),0)>0,VLOOKUP(\"Oil\",HVACg_Lookup,MATCH($H$6,BuildingSize,0)+1,FALSE),IF(IFERROR(SEARCH(\"Propane\",$H$5),0)>0,VLOOKUP(\"Propane\",HVACg_Lookup,MATCH(Worksheet!$H$6,BuildingSize,0)+1,FALSE),0)))","v":0},{"$f":"X367/1000*Y367*AA367*IF(IFERROR(SEARCH(\"Gas\",$H$5),0)>0,VLOOKUP(\"Gas\",HVACg_Lookup,MATCH($H$6,BuildingSize,0)+1,FALSE),IF(IFERROR(SEARCH(\"Oil\",$H$5),0)>0,VLOOKUP(\"Oil\",HVACg_Lookup,MATCH($H$6,BuildingSize,0)+1,FALSE),IF(IFERROR(SEARCH(\"Propane\",$H$5),0)>0,VLOOKUP(\"Propane\",HVACg_Lookup,MATCH(Worksheet!$H$6,BuildingSize,0)+1,FALSE),0)))","v":0},0,0,{"$f":"IF(OR($B$4=\"\",$B$5=\"\",$H$4=\"\",$H$6=\"\",$H$5=\"\",A367=\"\",F367=\"\",J367=\"\",O367=\"\",P367=\"\")=TRUE,\"\",IF(C367=\"OSW\",IF(J367>=2,1,0),IF(C367=\"OSR\",IF(AND(J367>=2,P367>60)=TRUE,1,0),IF(C367=\"OSRH\",IF(AND(J367>=1,P367>90)=TRUE,1,0),IF(C367=\"OHLC\",IF(AND(N367=\"Y\",P367>60)=TRUE,1,0),IF(C367=\"DDC\",IF(AND(J367>=4,N367=\"Y\",P367>120)=TRUE,1,0),0))))))","v":""},{"$f":"IF(OR($B$4=\"\",$B$5=\"\",$H$4=\"\",$H$6=\"\",$H$5=\"\",A367=\"\",F367=\"\",K367=\"\",O367=\"\",P367=\"\")=TRUE,\"\",IF(C367=\"OSW\",IF(K367>=2,1,0),IF(C367=\"OSR\",IF(AND(K367>=2,Q367>60)=TRUE,1,0),IF(C367=\"OSRH\",IF(AND(K367>=1,Q367>90)=TRUE,1,0),IF(C367=\"OHLC\",IF(AND(N367=\"Y\",Q367>60)=TRUE,1,0),IF(C367=\"DDC\",IF(AND(K367>=4,N367=\"Y\",Q367>120)=TRUE,1,0),0))))))","v":""}]
[null,null,"",null,null,null,null,null,null,null,null,null,null,null,null,0,0,0,0,"",0,0,0,0,0,{"$f":"IF($H$4=\"\",0,VLOOKUP($H$4,BuildingType_Lookup,3,FALSE))","v":0},{"$f":"IF($H$4=\"\",0,VLOOKUP($H$4,BuildingType_Lookup,2,FALSE))","v":0},{"$f":"IF(AND(OR(AN368=\"\",AN368=0)=TRUE,OR(AO368=\"\",AO368=0))=TRUE,0,IF(AO368=\"\",(IF(OR(C368=\"DDC\",C368=\"OHLC\")=TRUE,O368,P368)/1000)*Y368*Z368*(1+VLOOKUP($H$4,BuildingType_Lookup,4,FALSE)),IF(AO368=0,0,(IF(OR(C368=\"DDC\",C368=\"OHLC\")=TRUE,O368,Q368)/1000)*Y368*Z368*(1+VLOOKUP($H$4,BuildingType_Lookup,4,FALSE)))))","v":0},{"$f":"IF(AND(OR(AN368=\"\",AN368=0)=TRUE,OR(AO368=\"\",AO368=0))=TRUE,0,IF(AO368=\"\",(IF(OR(C368=\"DDC\",C368=\"OHLC\")=TRUE,O368,P368)/1000)*Y368*AA368*(1+VLOOKUP($H$4,BuildingType_Lookup,MATCH($H$5,HVAC,0)+4,FALSE)),IF(AO368=0,0,(IF(OR(C368=\"DDC\",C368=\"OHLC\")=TRUE,O368,Q368)/1000)*Y368*AA368*(1+VLOOKUP($H$4,BuildingType_Lookup,MATCH($H$5,HVAC,0)+4,FALSE)))))","v":0},0,0,0,0,0,0,{"$f":"W368/1000*Y368*AA368*IF(IFERROR(SEARCH(\"Gas\",$H$5),0)>0,VLOOKUP(\"Gas\",HVACg_Lookup,MATCH($H$6,BuildingSize,0)+1,FALSE),IF(IFERROR(SEARCH(\"Oil\",$H$5),0)>0,VLOOKUP(\"Oil\",HVACg_Lookup,MATCH($H$6,BuildingSize,0)+1,FALSE),IF(IFERROR(SEARCH(\"Propane\",$H$5),0)>0,VLOOKUP(\"Propane\",HVACg_Lookup,MATCH(Worksheet!$H$6,BuildingSize,0)+1,FALSE),0)))","v":0},{"$f":"X368/1000*Y368*AA368*IF(IFERROR(SEARCH(\"Gas\",$H$5),0)>0,VLOOKUP(\"Gas\",HVACg_Lookup,MATCH($H$6,BuildingSize,0)+1,FALSE),IF(IFERROR(SEARCH(\"Oil\",$H$5),0)>0,VLOOKUP(\"Oil\",HVACg_Lookup,MATCH($H$6,BuildingSize,0)+1,FALSE),IF(IFERROR(SEARCH(\"Propane\",$H$5),0)>0,VLOOKUP(\"Propane\",HVACg_Lookup,MATCH(Worksheet!$H$6,BuildingSize,0)+1,FALSE),0)))","v":0},0,0,{"$f":"IF(OR($B$4=\"\",$B$5=\"\",$H$4=\"\",$H$6=\"\",$H$5=\"\",A368=\"\",F368=\"\",J368=\"\",O368=\"\",P368=\"\")=TRUE,\"\",IF(C368=\"OSW\",IF(J368>=2,1,0),IF(C368=\"OSR\",IF(AND(J368>=2,P368>60)=TRUE,1,0),IF(C368=\"OSRH\",IF(AND(J368>=1,P368>90)=TRUE,1,0),IF(C368=\"OHLC\",IF(AND(N368=\"Y\",P368>60)=TRUE,1,0),IF(C368=\"DDC\",IF(AND(J368>=4,N368=\"Y\",P368>120)=TRUE,1,0),0))))))","v":""},{"$f":"IF(OR($B$4=\"\",$B$5=\"\",$H$4=\"\",$H$6=\"\",$H$5=\"\",A368=\"\",F368=\"\",K368=\"\",O368=\"\",P368=\"\")=TRUE,\"\",IF(C368=\"OSW\",IF(K368>=2,1,0),IF(C368=\"OSR\",IF(AND(K368>=2,Q368>60)=TRUE,1,0),IF(C368=\"OSRH\",IF(AND(K368>=1,Q368>90)=TRUE,1,0),IF(C368=\"OHLC\",IF(AND(N368=\"Y\",Q368>60)=TRUE,1,0),IF(C368=\"DDC\",IF(AND(K368>=4,N368=\"Y\",Q368>120)=TRUE,1,0),0))))))","v":""}]
[null,null,"",null,null,null,null,null,null,null,null,null,null,null,null,0,0,0,0,"",0,0,0,0,0,{"$f":"IF($H$4=\"\",0,VLOOKUP($H$4,BuildingType_Lookup,3,FALSE))","v":0},{"$f":"IF($H$4=\"\",0,VLOOKUP($H$4,BuildingType_Lookup,2,FALSE))","v":0},{"$f":"IF(AND(OR(AN369=\"\",AN369=0)=TRUE,OR(AO369=\"\",AO369=0))=TRUE,0,IF(AO369=\"\",(IF(OR(C369=\"DDC\",C369=\"OHLC\")=TRUE,O369,P369)/1000)*Y369*Z369*(1+VLOOKUP($H$4,BuildingType_Lookup,4,FALSE)),IF(AO369=0,0,(IF(OR(C369=\"DDC\",C369=\"OHLC\")=TRUE,O369,Q369)/1000)*Y369*Z369*(1+VLOOKUP($H$4,BuildingType_Lookup,4,FALSE)))))","v":0},{"$f":"IF(AND(OR(AN369=\"\",AN369=0)=TRUE,OR(AO369=\"\",AO369=0))=TRUE,0,IF(AO369=\"\",(IF(OR(C369=\"DDC\",C369=\"OHLC\")=TRUE,O369,P369)/1000)*Y369*AA369*(1+VLOOKUP($H$4,BuildingType_Lookup,MATCH($H$5,HVAC,0)+4,FALSE)),IF(AO369=0,0,(IF(OR(C369=\"DDC\",C369=\"OHLC\")=TRUE,O369,Q369)/1000)*Y369*AA369*(1+VLOOKUP($H$4,BuildingType_Lookup,MATCH($H$5,HVAC,0)+4,FALSE)))))","v":0},0,0,0,0,0,0,{"$f":"W369/1000*Y369*AA369*IF(IFERROR(SEARCH(\"Gas\",$H$5),0)>0,VLOOKUP(\"Gas\",HVACg_Lookup,MATCH($H$6,BuildingSize,0)+1,FALSE),IF(IFERROR(SEARCH(\"Oil\",$H$5),0)>0,VLOOKUP(\"Oil\",HVACg_Lookup,MATCH($H$6,BuildingSize,0)+1,FALSE),IF(IFERROR(SEARCH(\"Propane\",$H$5),0)>0,VLOOKUP(\"Propane\",HVACg_Lookup,MATCH(Worksheet!$H$6,BuildingSize,0)+1,FALSE),0)))","v":0},{"$f":"X369/1000*Y369*AA369*IF(IFERROR(SEARCH(\"Gas\",$H$5),0)>0,VLOOKUP(\"Gas\",HVACg_Lookup,MATCH($H$6,BuildingSize,0)+1,FALSE),IF(IFERROR(SEARCH(\"Oil\",$H$5),0)>0,VLOOKUP(\"Oil\",HVACg_Lookup,MATCH($H$6,BuildingSize,0)+1,FALSE),IF(IFERROR(SEARCH(\"Propane\",$H$5),0)>0,VLOOKUP(\"Propane\",HVACg_Lookup,MATCH(Worksheet!$H$6,BuildingSize,0)+1,FALSE),0)))","v":0},0,0,{"$f":"IF(OR($B$4=\"\",$B$5=\"\",$H$4=\"\",$H$6=\"\",$H$5=\"\",A369=\"\",F369=\"\",J369=\"\",O369=\"\",P369=\"\")=TRUE,\"\",IF(C369=\"OSW\",IF(J369>=2,1,0),IF(C369=\"OSR\",IF(AND(J369>=2,P369>60)=TRUE,1,0),IF(C369=\"OSRH\",IF(AND(J369>=1,P369>90)=TRUE,1,0),IF(C369=\"OHLC\",IF(AND(N369=\"Y\",P369>60)=TRUE,1,0),IF(C369=\"DDC\",IF(AND(J369>=4,N369=\"Y\",P369>120)=TRUE,1,0),0))))))","v":""},{"$f":"IF(OR($B$4=\"\",$B$5=\"\",$H$4=\"\",$H$6=\"\",$H$5=\"\",A369=\"\",F369=\"\",K369=\"\",O369=\"\",P369=\"\")=TRUE,\"\",IF(C369=\"OSW\",IF(K369>=2,1,0),IF(C369=\"OSR\",IF(AND(K369>=2,Q369>60)=TRUE,1,0),IF(C369=\"OSRH\",IF(AND(K369>=1,Q369>90)=TRUE,1,0),IF(C369=\"OHLC\",IF(AND(N369=\"Y\",Q369>60)=TRUE,1,0),IF(C369=\"DDC\",IF(AND(K369>=4,N369=\"Y\",Q369>120)=TRUE,1,0),0))))))","v":""}]
[null,null,"",null,null,null,null,null,null,null,null,null,null,null,null,0,0,0,0,"",0,0,0,0,0,{"$f":"IF($H$4=\"\",0,VLOOKUP($H$4,BuildingType_Lookup,3,FALSE))","v":0},{"$f":"IF($H$4=\"\",0,VLOOKUP($H$4,BuildingType_Lookup,2,FALSE))","v":0},{"$f":"IF(AND(OR(AN370=\"\",AN370=0)=TRUE,OR(AO370=\"\",AO370=0))=TRUE,0,IF(AO370=\"\",(IF(OR(C370=\"DDC\",C370=\"OHLC\")=TRUE,O370,P370)/1000)*Y370*Z370*(1+VLOOKUP($H$4,BuildingType_Lookup,4,FALSE)),IF(AO370=0,0,(IF(OR(C370=\"DDC\",C370=\"OHLC\")=TRUE,O370,Q370)/1000)*Y370*Z370*(1+VLOOKUP($H$4,BuildingType_Lookup,4,FALSE)))))","v":0},{"$f":"IF(AND(OR(AN370=\"\",AN370=0)=TRUE,OR(AO370=\"\",AO370=0))=TRUE,0,IF(AO370=\"\",(IF(OR(C370=\"DDC\",C370=\"OHLC\")=TRUE,O370,P370)/1000)*Y370*AA370*(1+VLOOKUP($H$4,BuildingType_Lookup,MATCH($H$5,HVAC,0)+4,FALSE)),IF(AO370=0,0,(IF(OR(C370=\"DDC\",C370=\"OHLC\")=TRUE,O370,Q370)/1000)*Y370*AA370*(1+VLOOKUP($H$4,BuildingType_Lookup,MATCH($H$5,HVAC,0)+4,FALSE)))))","v":0},0,0,0,0,0,0,{"$f":"W370/1000*Y370*AA370*IF(IFERROR(SEARCH(\"Gas\",$H$5),0)>0,VLOOKUP(\"Gas\",HVACg_Lookup,MATCH($H$6,BuildingSize,0)+1,FALSE),IF(IFERROR(SEARCH(\"Oil\",$H$5),0)>0,VLOOKUP(\"Oil\",HVACg_Lookup,MATCH($H$6,BuildingSize,0)+1,FALSE),IF(IFERROR(SEARCH(\"Propane\",$H$5),0)>0,VLOOKUP(\"Propane\",HVACg_Lookup,MATCH(Worksheet!$H$6,BuildingSize,0)+1,FALSE),0)))","v":0},{"$f":"X370/1000*Y370*AA370*IF(IFERROR(SEARCH(\"Gas\",$H$5),0)>0,VLOOKUP(\"Gas\",HVACg_Lookup,MATCH($H$6,BuildingSize,0)+1,FALSE),IF(IFERROR(SEARCH(\"Oil\",$H$5),0)>0,VLOOKUP(\"Oil\",HVACg_Lookup,MATCH($H$6,BuildingSize,0)+1,FALSE),IF(IFERROR(SEARCH(\"Propane\",$H$5),0)>0,VLOOKUP(\"Propane\",HVACg_Lookup,MATCH(Worksheet!$H$6,BuildingSize,0)+1,FALSE),0)))","v":0},0,0,{"$f":"IF(OR($B$4=\"\",$B$5=\"\",$H$4=\"\",$H$6=\"\",$H$5=\"\",A370=\"\",F370=\"\",J370=\"\",O370=\"\",P370=\"\")=TRUE,\"\",IF(C370=\"OSW\",IF(J370>=2,1,0),IF(C370=\"OSR\",IF(AND(J370>=2,P370>60)=TRUE,1,0),IF(C370=\"OSRH\",IF(AND(J370>=1,P370>90)=TRUE,1,0),IF(C370=\"OHLC\",IF(AND(N370=\"Y\",P370>60)=TRUE,1,0),IF(C370=\"DDC\",IF(AND(J370>=4,N370=\"Y\",P370>120)=TRUE,1,0),0))))))","v":""},{"$f":"IF(OR($B$4=\"\",$B$5=\"\",$H$4=\"\",$H$6=\"\",$H$5=\"\",A370=\"\",F370=\"\",K370=\"\",O370=\"\",P370=\"\")=TRUE,\"\",IF(C370=\"OSW\",IF(K370>=2,1,0),IF(C370=\"OSR\",IF(AND(K370>=2,Q370>60)=TRUE,1,0),IF(C370=\"OSRH\",IF(AND(K370>=1,Q370>90)=TRUE,1,0),IF(C370=\"OHLC\",IF(AND(N370=\"Y\",Q370>60)=TRUE,1,0),IF(C370=\"DDC\",IF(AND(K370>=4,N370=\"Y\",Q370>120)=TRUE,1,0),0))))))","v":""}]
[null,null,"",null,null,null,null,null,null,null,null,null,null,null,null,0,0,0,0,"",0,0,0,0,0,{"$f":"IF($H$4=\"\",0,VLOOKUP($H$4,BuildingType_Lookup,3,FALSE))","v":0},{"$f":"IF($H$4=\"\",0,VLOOKUP($H$4,BuildingType_Lookup,2,FALSE))","v":0},{"$f":"IF(AND(OR(AN371=\"\",AN371=0)=TRUE,OR(AO371=\"\",AO371=0))=TRUE,0,IF(AO371=\"\",(IF(OR(C371=\"DDC\",C371=\"OHLC\")=TRUE,O371,P371)/1000)*Y371*Z371*(1+VLOOKUP($H$4,BuildingType_Lookup,4,FALSE)),IF(AO371=0,0,(IF(OR(C371=\"DDC\",C371=\"OHLC\")=TRUE,O371,Q371)/1000)*Y371*Z371*(1+VLOOKUP($H$4,BuildingType_Lookup,4,FALSE)))))","v":0},{"$f":"IF(AND(OR(AN371=\"\",AN371=0)=TRUE,OR(AO371=\"\",AO371=0))=TRUE,0,IF(AO371=\"\",(IF(OR(C371=\"DDC\",C371=\"OHLC\")=TRUE,O371,P371)/1000)*Y371*AA371*(1+VLOOKUP($H$4,BuildingType_Lookup,MATCH($H$5,HVAC,0)+4,FALSE)),IF(AO371=0,0,(IF(OR(C371=\"DDC\",C371=\"OHLC\")=TRUE,O371,Q371)/1000)*Y371*AA371*(1+VLOOKUP($H$4,BuildingType_Lookup,MATCH($H$5,HVAC,0)+4,FALSE)))))","v":0},0,0,0,0,0,0,{"$f":"W371/1000*Y371*AA371*IF(IFERROR(SEARCH(\"Gas\",$H$5),0)>0,VLOOKUP(\"Gas\",HVACg_Lookup,MATCH($H$6,BuildingSize,0)+1,FALSE),IF(IFERROR(SEARCH(\"Oil\",$H$5),0)>0,VLOOKUP(\"Oil\",HVACg_Lookup,MATCH($H$6,BuildingSize,0)+1,FALSE),IF(IFERROR(SEARCH(\"Propane\",$H$5),0)>0,VLOOKUP(\"Propane\",HVACg_Lookup,MATCH(Worksheet!$H$6,BuildingSize,0)+1,FALSE),0)))","v":0},{"$f":"X371/1000*Y371*AA371*IF(IFERROR(SEARCH(\"Gas\",$H$5),0)>0,VLOOKUP(\"Gas\",HVACg_Lookup,MATCH($H$6,BuildingSize,0)+1,FALSE),IF(IFERROR(SEARCH(\"Oil\",$H$5),0)>0,VLOOKUP(\"Oil\",HVACg_Lookup,MATCH($H$6,BuildingSize,0)+1,FALSE),IF(IFERROR(SEARCH(\"Propane\",$H$5),0)>0,VLOOKUP(\"Propane\",HVACg_Lookup,MATCH(Worksheet!$H$6,BuildingSize,0)+1,FALSE),0)))","v":0},0,0,{"$f":"IF(OR($B$4=\"\",$B$5=\"\",$H$4=\"\",$H$6=\"\",$H$5=\"\",A371=\"\",F371=\"\",J371=\"\",O371=\"\",P371=\"\")=TRUE,\"\",IF(C371=\"OSW\",IF(J371>=2,1,0),IF(C371=\"OSR\",IF(AND(J371>=2,P371>60)=TRUE,1,0),IF(C371=\"OSRH\",IF(AND(J371>=1,P371>90)=TRUE,1,0),IF(C371=\"OHLC\",IF(AND(N371=\"Y\",P371>60)=TRUE,1,0),IF(C371=\"DDC\",IF(AND(J371>=4,N371=\"Y\",P371>120)=TRUE,1,0),0))))))","v":""},{"$f":"IF(OR($B$4=\"\",$B$5=\"\",$H$4=\"\",$H$6=\"\",$H$5=\"\",A371=\"\",F371=\"\",K371=\"\",O371=\"\",P371=\"\")=TRUE,\"\",IF(C371=\"OSW\",IF(K371>=2,1,0),IF(C371=\"OSR\",IF(AND(K371>=2,Q371>60)=TRUE,1,0),IF(C371=\"OSRH\",IF(AND(K371>=1,Q371>90)=TRUE,1,0),IF(C371=\"OHLC\",IF(AND(N371=\"Y\",Q371>60)=TRUE,1,0),IF(C371=\"DDC\",IF(AND(K371>=4,N371=\"Y\",Q371>120)=TRUE,1,0),0))))))","v":""}]
[null,null,"",null,null,null,null,null,null,null,null,null,null,null,null,0,0,0,0,"",0,0,0,0,0,{"$f":"IF($H$4=\"\",0,VLOOKUP($H$4,BuildingType_Lookup,3,FALSE))","v":0},{"$f":"IF($H$4=\"\",0,VLOOKUP($H$4,BuildingType_Lookup,2,FALSE))","v":0},{"$f":"IF(AND(OR(AN372=\"\",AN372=0)=TRUE,OR(AO372=\"\",AO372=0))=TRUE,0,IF(AO372=\"\",(IF(OR(C372=\"DDC\",C372=\"OHLC\")=TRUE,O372,P372)/1000)*Y372*Z372*(1+VLOOKUP($H$4,BuildingType_Lookup,4,FALSE)),IF(AO372=0,0,(IF(OR(C372=\"DDC\",C372=\"OHLC\")=TRUE,O372,Q372)/1000)*Y372*Z372*(1+VLOOKUP($H$4,BuildingType_Lookup,4,FALSE)))))","v":0},{"$f":"IF(AND(OR(AN372=\"\",AN372=0)=TRUE,OR(AO372=\"\",AO372=0))=TRUE,0,IF(AO372=\"\",(IF(OR(C372=\"DDC\",C372=\"OHLC\")=TRUE,O372,P372)/1000)*Y372*AA372*(1+VLOOKUP($H$4,BuildingType_Lookup,MATCH($H$5,HVAC,0)+4,FALSE)),IF(AO372=0,0,(IF(OR(C372=\"DDC\",C372=\"OHLC\")=TRUE,O372,Q372)/1000)*Y372*AA372*(1+VLOOKUP($H$4,BuildingType_Lookup,MATCH($H$5,HVAC,0)+4,FALSE)))))","v":0},0,0,0,0,0,0,{"$f":"W372/1000*Y372*AA372*IF(IFERROR(SEARCH(\"Gas\",$H$5),0)>0,VLOOKUP(\"Gas\",HVACg_Lookup,MATCH($H$6,BuildingSize,0)+1,FALSE),IF(IFERROR(SEARCH(\"Oil\",$H$5),0)>0,VLOOKUP(\"Oil\",HVACg_Lookup,MATCH($H$6,BuildingSize,0)+1,FALSE),IF(IFERROR(SEARCH(\"Propane\",$H$5),0)>0,VLOOKUP(\"Propane\",HVACg_Lookup,MATCH(Worksheet!$H$6,BuildingSize,0)+1,FALSE),0)))","v":0},{"$f":"X372/1000*Y372*AA372*IF(IFERROR(SEARCH(\"Gas\",$H$5),0)>0,VLOOKUP(\"Gas\",HVACg_Lookup,MATCH($H$6,BuildingSize,0)+1,FALSE),IF(IFERROR(SEARCH(\"Oil\",$H$5),0)>0,VLOOKUP(\"Oil\",HVACg_Lookup,MATCH($H$6,BuildingSize,0)+1,FALSE),IF(IFERROR(SEARCH(\"Propane\",$H$5),0)>0,VLOOKUP(\"Propane\",HVACg_Lookup,MATCH(Worksheet!$H$6,BuildingSize,0)+1,FALSE),0)))","v":0},0,0,{"$f":"IF(OR($B$4=\"\",$B$5=\"\",$H$4=\"\",$H$6=\"\",$H$5=\"\",A372=\"\",F372=\"\",J372=\"\",O372=\"\",P372=\"\")=TRUE,\"\",IF(C372=\"OSW\",IF(J372>=2,1,0),IF(C372=\"OSR\",IF(AND(J372>=2,P372>60)=TRUE,1,0),IF(C372=\"OSRH\",IF(AND(J372>=1,P372>90)=TRUE,1,0),IF(C372=\"OHLC\",IF(AND(N372=\"Y\",P372>60)=TRUE,1,0),IF(C372=\"DDC\",IF(AND(J372>=4,N372=\"Y\",P372>120)=TRUE,1,0),0))))))","v":""},{"$f":"IF(OR($B$4=\"\",$B$5=\"\",$H$4=\"\",$H$6=\"\",$H$5=\"\",A372=\"\",F372=\"\",K372=\"\",O372=\"\",P372=\"\")=TRUE,\"\",IF(C372=\"OSW\",IF(K372>=2,1,0),IF(C372=\"OSR\",IF(AND(K372>=2,Q372>60)=TRUE,1,0),IF(C372=\"OSRH\",IF(AND(K372>=1,Q372>90)=TRUE,1,0),IF(C372=\"OHLC\",IF(AND(N372=\"Y\",Q372>60)=TRUE,1,0),IF(C372=\"DDC\",IF(AND(K372>=4,N372=\"Y\",Q372>120)=TRUE,1,0),0))))))","v":""}]
[null,null,"",null,null,null,null,null,null,null,null,null,null,null,null,0,0,0,0,"",0,0,0,0,0,{"$f":"IF($H$4=\"\",0,VLOOKUP($H$4,BuildingType_Lookup,3,FALSE))","v":0},{"$f":"IF($H$4=\"\",0,VLOOKUP($H$4,BuildingType_Lookup,2,FALSE))","v":0},{"$f":"IF(AND(OR(AN373=\"\",AN373=0)=TRUE,OR(AO373=\"\",AO373=0))=TRUE,0,IF(AO373=\"\",(IF(OR(C373=\"DDC\",C373=\"OHLC\")=TRUE,O373,P373)/1000)*Y373*Z373*(1+VLOOKUP($H$4,BuildingType_Lookup,4,FALSE)),IF(AO373=0,0,(IF(OR(C373=\"DDC\",C373=\"OHLC\")=TRUE,O373,Q373)/1000)*Y373*Z373*(1+VLOOKUP($H$4,BuildingType_Lookup,4,FALSE)))))","v":0},{"$f":"IF(AND(OR(AN373=\"\",AN373=0)=TRUE,OR(AO373=\"\",AO373=0))=TRUE,0,IF(AO373=\"\",(IF(OR(C373=\"DDC\",C373=\"OHLC\")=TRUE,O373,P373)/1000)*Y373*AA373*(1+VLOOKUP($H$4,BuildingType_Lookup,MATCH($H$5,HVAC,0)+4,FALSE)),IF(AO373=0,0,(IF(OR(C373=\"DDC\",C373=\"OHLC\")=TRUE,O373,Q373)/1000)*Y373*AA373*(1+VLOOKUP($H$4,BuildingType_Lookup,MATCH($H$5,HVAC,0)+4,FALSE)))))","v":0},0,0,0,0,0,0,{"$f":"W373/1000*Y373*AA373*IF(IFERROR(SEARCH(\"Gas\",$H$5),0)>0,VLOOKUP(\"Gas\",HVACg_Lookup,MATCH($H$6,BuildingSize,0)+1,FALSE),IF(IFERROR(SEARCH(\"Oil\",$H$5),0)>0,VLOOKUP(\"Oil\",HVACg_Lookup,MATCH($H$6,BuildingSize,0)+1,FALSE),IF(IFERROR(SEARCH(\"Propane\",$H$5),0)>0,VLOOKUP(\"Propane\",HVACg_Lookup,MATCH(Worksheet!$H$6,BuildingSize,0)+1,FALSE),0)))","v":0},{"$f":"X373/1000*Y373*AA373*IF(IFERROR(SEARCH(\"Gas\",$H$5),0)>0,VLOOKUP(\"Gas\",HVACg_Lookup,MATCH($H$6,BuildingSize,0)+1,FALSE),IF(IFERROR(SEARCH(\"Oil\",$H$5),0)>0,VLOOKUP(\"Oil\",HVACg_Lookup,MATCH($H$6,BuildingSize,0)+1,FALSE),IF(IFERROR(SEARCH(\"Propane\",$H$5),0)>0,VLOOKUP(\"Propane\",HVACg_Lookup,MATCH(Worksheet!$H$6,BuildingSize,0)+1,FALSE),0)))","v":0},0,0,{"$f":"IF(OR($B$4=\"\",$B$5=\"\",$H$4=\"\",$H$6=\"\",$H$5=\"\",A373=\"\",F373=\"\",J373=\"\",O373=\"\",P373=\"\")=TRUE,\"\",IF(C373=\"OSW\",IF(J373>=2,1,0),IF(C373=\"OSR\",IF(AND(J373>=2,P373>60)=TRUE,1,0),IF(C373=\"OSRH\",IF(AND(J373>=1,P373>90)=TRUE,1,0),IF(C373=\"OHLC\",IF(AND(N373=\"Y\",P373>60)=TRUE,1,0),IF(C373=\"DDC\",IF(AND(J373>=4,N373=\"Y\",P373>120)=TRUE,1,0),0))))))","v":""},{"$f":"IF(OR($B$4=\"\",$B$5=\"\",$H$4=\"\",$H$6=\"\",$H$5=\"\",A373=\"\",F373=\"\",K373=\"\",O373=\"\",P373=\"\")=TRUE,\"\",IF(C373=\"OSW\",IF(K373>=2,1,0),IF(C373=\"OSR\",IF(AND(K373>=2,Q373>60)=TRUE,1,0),IF(C373=\"OSRH\",IF(AND(K373>=1,Q373>90)=TRUE,1,0),IF(C373=\"OHLC\",IF(AND(N373=\"Y\",Q373>60)=TRUE,1,0),IF(C373=\"DDC\",IF(AND(K373>=4,N373=\"Y\",Q373>120)=TRUE,1,0),0))))))","v":""}]
[null,null,"",null,null,null,null,null,null,null,null,null,null,null,null,0,0,0,0,"",0,0,0,0,0,{"$f":"IF($H$4=\"\",0,VLOOKUP($H$4,BuildingType_Lookup,3,FALSE))","v":0},{"$f":"IF($H$4=\"\",0,VLOOKUP($H$4,BuildingType_Lookup,2,FALSE))","v":0},{"$f":"IF(AND(OR(AN374=\"\",AN374=0)=TRUE,OR(AO374=\"\",AO374=0))=TRUE,0,IF(AO374=\"\",(IF(OR(C374=\"DDC\",C374=\"OHLC\")=TRUE,O374,P374)/1000)*Y374*Z374*(1+VLOOKUP($H$4,BuildingType_Lookup,4,FALSE)),IF(AO374=0,0,(IF(OR(C374=\"DDC\",C374=\"OHLC\")=TRUE,O374,Q374)/1000)*Y374*Z374*(1+VLOOKUP($H$4,BuildingType_Lookup,4,FALSE)))))","v":0},{"$f":"IF(AND(OR(AN374=\"\",AN374=0)=TRUE,OR(AO374=\"\",AO374=0))=TRUE,0,IF(AO374=\"\",(IF(OR(C374=\"DDC\",C374=\"OHLC\")=TRUE,O374,P374)/1000)*Y374*AA374*(1+VLOOKUP($H$4,BuildingType_Lookup,MATCH($H$5,HVAC,0)+4,FALSE)),IF(AO374=0,0,(IF(OR(C374=\"DDC\",C374=\"OHLC\")=TRUE,O374,Q374)/1000)*Y374*AA374*(1+VLOOKUP($H$4,BuildingType_Lookup,MATCH($H$5,HVAC,0)+4,FALSE)))))","v":0},0,0,0,0,0,0,{"$f":"W374/1000*Y374*AA374*IF(IFERROR(SEARCH(\"Gas\",$H$5),0)>0,VLOOKUP(\"Gas\",HVACg_Lookup,MATCH($H$6,BuildingSize,0)+1,FALSE),IF(IFERROR(SEARCH(\"Oil\",$H$5),0)>0,VLOOKUP(\"Oil\",HVACg_Lookup,MATCH($H$6,BuildingSize,0)+1,FALSE),IF(IFERROR(SEARCH(\"Propane\",$H$5),0)>0,VLOOKUP(\"Propane\",HVACg_Lookup,MATCH(Worksheet!$H$6,BuildingSize,0)+1,FALSE),0)))","v":0},{"$f":"X374/1000*Y374*AA374*IF(IFERROR(SEARCH(\"Gas\",$H$5),0)>0,VLOOKUP(\"Gas\",HVACg_Lookup,MATCH($H$6,BuildingSize,0)+1,FALSE),IF(IFERROR(SEARCH(\"Oil\",$H$5),0)>0,VLOOKUP(\"Oil\",HVACg_Lookup,MATCH($H$6,BuildingSize,0)+1,FALSE),IF(IFERROR(SEARCH(\"Propane\",$H$5),0)>0,VLOOKUP(\"Propane\",HVACg_Lookup,MATCH(Worksheet!$H$6,BuildingSize,0)+1,FALSE),0)))","v":0},0,0,{"$f":"IF(OR($B$4=\"\",$B$5=\"\",$H$4=\"\",$H$6=\"\",$H$5=\"\",A374=\"\",F374=\"\",J374=\"\",O374=\"\",P374=\"\")=TRUE,\"\",IF(C374=\"OSW\",IF(J374>=2,1,0),IF(C374=\"OSR\",IF(AND(J374>=2,P374>60)=TRUE,1,0),IF(C374=\"OSRH\",IF(AND(J374>=1,P374>90)=TRUE,1,0),IF(C374=\"OHLC\",IF(AND(N374=\"Y\",P374>60)=TRUE,1,0),IF(C374=\"DDC\",IF(AND(J374>=4,N374=\"Y\",P374>120)=TRUE,1,0),0))))))","v":""},{"$f":"IF(OR($B$4=\"\",$B$5=\"\",$H$4=\"\",$H$6=\"\",$H$5=\"\",A374=\"\",F374=\"\",K374=\"\",O374=\"\",P374=\"\")=TRUE,\"\",IF(C374=\"OSW\",IF(K374>=2,1,0),IF(C374=\"OSR\",IF(AND(K374>=2,Q374>60)=TRUE,1,0),IF(C374=\"OSRH\",IF(AND(K374>=1,Q374>90)=TRUE,1,0),IF(C374=\"OHLC\",IF(AND(N374=\"Y\",Q374>60)=TRUE,1,0),IF(C374=\"DDC\",IF(AND(K374>=4,N374=\"Y\",Q374>120)=TRUE,1,0),0))))))","v":""}]
[null,null,"",null,null,null,null,null,null,null,null,null,null,null,null,0,0,0,0,"",0,0,0,0,0,{"$f":"IF($H$4=\"\",0,VLOOKUP($H$4,BuildingType_Lookup,3,FALSE))","v":0},{"$f":"IF($H$4=\"\",0,VLOOKUP($H$4,BuildingType_Lookup,2,FALSE))","v":0},{"$f":"IF(AND(OR(AN375=\"\",AN375=0)=TRUE,OR(AO375=\"\",AO375=0))=TRUE,0,IF(AO375=\"\",(IF(OR(C375=\"DDC\",C375=\"OHLC\")=TRUE,O375,P375)/1000)*Y375*Z375*(1+VLOOKUP($H$4,BuildingType_Lookup,4,FALSE)),IF(AO375=0,0,(IF(OR(C375=\"DDC\",C375=\"OHLC\")=TRUE,O375,Q375)/1000)*Y375*Z375*(1+VLOOKUP($H$4,BuildingType_Lookup,4,FALSE)))))","v":0},{"$f":"IF(AND(OR(AN375=\"\",AN375=0)=TRUE,OR(AO375=\"\",AO375=0))=TRUE,0,IF(AO375=\"\",(IF(OR(C375=\"DDC\",C375=\"OHLC\")=TRUE,O375,P375)/1000)*Y375*AA375*(1+VLOOKUP($H$4,BuildingType_Lookup,MATCH($H$5,HVAC,0)+4,FALSE)),IF(AO375=0,0,(IF(OR(C375=\"DDC\",C375=\"OHLC\")=TRUE,O375,Q375)/1000)*Y375*AA375*(1+VLOOKUP($H$4,BuildingType_Lookup,MATCH($H$5,HVAC,0)+4,FALSE)))))","v":0},0,0,0,0,0,0,{"$f":"W375/1000*Y375*AA375*IF(IFERROR(SEARCH(\"Gas\",$H$5),0)>0,VLOOKUP(\"Gas\",HVACg_Lookup,MATCH($H$6,BuildingSize,0)+1,FALSE),IF(IFERROR(SEARCH(\"Oil\",$H$5),0)>0,VLOOKUP(\"Oil\",HVACg_Lookup,MATCH($H$6,BuildingSize,0)+1,FALSE),IF(IFERROR(SEARCH(\"Propane\",$H$5),0)>0,VLOOKUP(\"Propane\",HVACg_Lookup,MATCH(Worksheet!$H$6,BuildingSize,0)+1,FALSE),0)))","v":0},{"$f":"X375/1000*Y375*AA375*IF(IFERROR(SEARCH(\"Gas\",$H$5),0)>0,VLOOKUP(\"Gas\",HVACg_Lookup,MATCH($H$6,BuildingSize,0)+1,FALSE),IF(IFERROR(SEARCH(\"Oil\",$H$5),0)>0,VLOOKUP(\"Oil\",HVACg_Lookup,MATCH($H$6,BuildingSize,0)+1,FALSE),IF(IFERROR(SEARCH(\"Propane\",$H$5),0)>0,VLOOKUP(\"Propane\",HVACg_Lookup,MATCH(Worksheet!$H$6,BuildingSize,0)+1,FALSE),0)))","v":0},0,0,{"$f":"IF(OR($B$4=\"\",$B$5=\"\",$H$4=\"\",$H$6=\"\",$H$5=\"\",A375=\"\",F375=\"\",J375=\"\",O375=\"\",P375=\"\")=TRUE,\"\",IF(C375=\"OSW\",IF(J375>=2,1,0),IF(C375=\"OSR\",IF(AND(J375>=2,P375>60)=TRUE,1,0),IF(C375=\"OSRH\",IF(AND(J375>=1,P375>90)=TRUE,1,0),IF(C375=\"OHLC\",IF(AND(N375=\"Y\",P375>60)=TRUE,1,0),IF(C375=\"DDC\",IF(AND(J375>=4,N375=\"Y\",P375>120)=TRUE,1,0),0))))))","v":""},{"$f":"IF(OR($B$4=\"\",$B$5=\"\",$H$4=\"\",$H$6=\"\",$H$5=\"\",A375=\"\",F375=\"\",K375=\"\",O375=\"\",P375=\"\")=TRUE,\"\",IF(C375=\"OSW\",IF(K375>=2,1,0),IF(C375=\"OSR\",IF(AND(K375>=2,Q375>60)=TRUE,1,0),IF(C375=\"OSRH\",IF(AND(K375>=1,Q375>90)=TRUE,1,0),IF(C375=\"OHLC\",IF(AND(N375=\"Y\",Q375>60)=TRUE,1,0),IF(C375=\"DDC\",IF(AND(K375>=4,N375=\"Y\",Q375>120)=TRUE,1,0),0))))))","v":""}]
[null,null,"",null,null,null,null,null,null,null,null,null,null,null,null,0,0,0,0,"",0,0,0,0,0,{"$f":"IF($H$4=\"\",0,VLOOKUP($H$4,BuildingType_Lookup,3,FALSE))","v":0},{"$f":"IF($H$4=\"\",0,VLOOKUP($H$4,BuildingType_Lookup,2,FALSE))","v":0},{"$f":"IF(AND(OR(AN376=\"\",AN376=0)=TRUE,OR(AO376=\"\",AO376=0))=TRUE,0,IF(AO376=\"\",(IF(OR(C376=\"DDC\",C376=\"OHLC\")=TRUE,O376,P376)/1000)*Y376*Z376*(1+VLOOKUP($H$4,BuildingType_Lookup,4,FALSE)),IF(AO376=0,0,(IF(OR(C376=\"DDC\",C376=\"OHLC\")=TRUE,O376,Q376)/1000)*Y376*Z376*(1+VLOOKUP($H$4,BuildingType_Lookup,4,FALSE)))))","v":0},{"$f":"IF(AND(OR(AN376=\"\",AN376=0)=TRUE,OR(AO376=\"\",AO376=0))=TRUE,0,IF(AO376=\"\",(IF(OR(C376=\"DDC\",C376=\"OHLC\")=TRUE,O376,P376)/1000)*Y376*AA376*(1+VLOOKUP($H$4,BuildingType_Lookup,MATCH($H$5,HVAC,0)+4,FALSE)),IF(AO376=0,0,(IF(OR(C376=\"DDC\",C376=\"OHLC\")=TRUE,O376,Q376)/1000)*Y376*AA376*(1+VLOOKUP($H$4,BuildingType_Lookup,MATCH($H$5,HVAC,0)+4,FALSE)))))","v":0},0,0,0,0,0,0,{"$f":"W376/1000*Y376*AA376*IF(IFERROR(SEARCH(\"Gas\",$H$5),0)>0,VLOOKUP(\"Gas\",HVACg_Lookup,MATCH($H$6,BuildingSize,0)+1,FALSE),IF(IFERROR(SEARCH(\"Oil\",$H$5),0)>0,VLOOKUP(\"Oil\",HVACg_Lookup,MATCH($H$6,BuildingSize,0)+1,FALSE),IF(IFERROR(SEARCH(\"Propane\",$H$5),0)>0,VLOOKUP(\"Propane\",HVACg_Lookup,MATCH(Worksheet!$H$6,BuildingSize,0)+1,FALSE),0)))","v":0},{"$f":"X376/1000*Y376*AA376*IF(IFERROR(SEARCH(\"Gas\",$H$5),0)>0,VLOOKUP(\"Gas\",HVACg_Lookup,MATCH($H$6,BuildingSize,0)+1,FALSE),IF(IFERROR(SEARCH(\"Oil\",$H$5),0)>0,VLOOKUP(\"Oil\",HVACg_Lookup,MATCH($H$6,BuildingSize,0)+1,FALSE),IF(IFERROR(SEARCH(\"Propane\",$H$5),0)>0,VLOOKUP(\"Propane\",HVACg_Lookup,MATCH(Worksheet!$H$6,BuildingSize,0)+1,FALSE),0)))","v":0},0,0,{"$f":"IF(OR($B$4=\"\",$B$5=\"\",$H$4=\"\",$H$6=\"\",$H$5=\"\",A376=\"\",F376=\"\",J376=\"\",O376=\"\",P376=\"\")=TRUE,\"\",IF(C376=\"OSW\",IF(J376>=2,1,0),IF(C376=\"OSR\",IF(AND(J376>=2,P376>60)=TRUE,1,0),IF(C376=\"OSRH\",IF(AND(J376>=1,P376>90)=TRUE,1,0),IF(C376=\"OHLC\",IF(AND(N376=\"Y\",P376>60)=TRUE,1,0),IF(C376=\"DDC\",IF(AND(J376>=4,N376=\"Y\",P376>120)=TRUE,1,0),0))))))","v":""},{"$f":"IF(OR($B$4=\"\",$B$5=\"\",$H$4=\"\",$H$6=\"\",$H$5=\"\",A376=\"\",F376=\"\",K376=\"\",O376=\"\",P376=\"\")=TRUE,\"\",IF(C376=\"OSW\",IF(K376>=2,1,0),IF(C376=\"OSR\",IF(AND(K376>=2,Q376>60)=TRUE,1,0),IF(C376=\"OSRH\",IF(AND(K376>=1,Q376>90)=TRUE,1,0),IF(C376=\"OHLC\",IF(AND(N376=\"Y\",Q376>60)=TRUE,1,0),IF(C376=\"DDC\",IF(AND(K376>=4,N376=\"Y\",Q376>120)=TRUE,1,0),0))))))","v":""}]
[null,null,"",null,null,null,null,null,null,null,null,null,null,null,null,0,0,0,0,"",0,0,0,0,0,{"$f":"IF($H$4=\"\",0,VLOOKUP($H$4,BuildingType_Lookup,3,FALSE))","v":0},{"$f":"IF($H$4=\"\",0,VLOOKUP($H$4,BuildingType_Lookup,2,FALSE))","v":0},{"$f":"IF(AND(OR(AN377=\"\",AN377=0)=TRUE,OR(AO377=\"\",AO377=0))=TRUE,0,IF(AO377=\"\",(IF(OR(C377=\"DDC\",C377=\"OHLC\")=TRUE,O377,P377)/1000)*Y377*Z377*(1+VLOOKUP($H$4,BuildingType_Lookup,4,FALSE)),IF(AO377=0,0,(IF(OR(C377=\"DDC\",C377=\"OHLC\")=TRUE,O377,Q377)/1000)*Y377*Z377*(1+VLOOKUP($H$4,BuildingType_Lookup,4,FALSE)))))","v":0},{"$f":"IF(AND(OR(AN377=\"\",AN377=0)=TRUE,OR(AO377=\"\",AO377=0))=TRUE,0,IF(AO377=\"\",(IF(OR(C377=\"DDC\",C377=\"OHLC\")=TRUE,O377,P377)/1000)*Y377*AA377*(1+VLOOKUP($H$4,BuildingType_Lookup,MATCH($H$5,HVAC,0)+4,FALSE)),IF(AO377=0,0,(IF(OR(C377=\"DDC\",C377=\"OHLC\")=TRUE,O377,Q377)/1000)*Y377*AA377*(1+VLOOKUP($H$4,BuildingType_Lookup,MATCH($H$5,HVAC,0)+4,FALSE)))))","v":0},0,0,0,0,0,0,{"$f":"W377/1000*Y377*AA377*IF(IFERROR(SEARCH(\"Gas\",$H$5),0)>0,VLOOKUP(\"Gas\",HVACg_Lookup,MATCH($H$6,BuildingSize,0)+1,FALSE),IF(IFERROR(SEARCH(\"Oil\",$H$5),0)>0,VLOOKUP(\"Oil\",HVACg_Lookup,MATCH($H$6,BuildingSize,0)+1,FALSE),IF(IFERROR(SEARCH(\"Propane\",$H$5),0)>0,VLOOKUP(\"Propane\",HVACg_Lookup,MATCH(Worksheet!$H$6,BuildingSize,0)+1,FALSE),0)))","v":0},{"$f":"X377/1000*Y377*AA377*IF(IFERROR(SEARCH(\"Gas\",$H$5),0)>0,VLOOKUP(\"Gas\",HVACg_Lookup,MATCH($H$6,BuildingSize,0)+1,FALSE),IF(IFERROR(SEARCH(\"Oil\",$H$5),0)>0,VLOOKUP(\"Oil\",HVACg_Lookup,MATCH($H$6,BuildingSize,0)+1,FALSE),IF(IFERROR(SEARCH(\"Propane\",$H$5),0)>0,VLOOKUP(\"Propane\",HVACg_Lookup,MATCH(Worksheet!$H$6,BuildingSize,0)+1,FALSE),0)))","v":0},0,0,{"$f":"IF(OR($B$4=\"\",$B$5=\"\",$H$4=\"\",$H$6=\"\",$H$5=\"\",A377=\"\",F377=\"\",J377=\"\",O377=\"\",P377=\"\")=TRUE,\"\",IF(C377=\"OSW\",IF(J377>=2,1,0),IF(C377=\"OSR\",IF(AND(J377>=2,P377>60)=TRUE,1,0),IF(C377=\"OSRH\",IF(AND(J377>=1,P377>90)=TRUE,1,0),IF(C377=\"OHLC\",IF(AND(N377=\"Y\",P377>60)=TRUE,1,0),IF(C377=\"DDC\",IF(AND(J377>=4,N377=\"Y\",P377>120)=TRUE,1,0),0))))))","v":""},{"$f":"IF(OR($B$4=\"\",$B$5=\"\",$H$4=\"\",$H$6=\"\",$H$5=\"\",A377=\"\",F377=\"\",K377=\"\",O377=\"\",P377=\"\")=TRUE,\"\",IF(C377=\"OSW\",IF(K377>=2,1,0),IF(C377=\"OSR\",IF(AND(K377>=2,Q377>60)=TRUE,1,0),IF(C377=\"OSRH\",IF(AND(K377>=1,Q377>90)=TRUE,1,0),IF(C377=\"OHLC\",IF(AND(N377=\"Y\",Q377>60)=TRUE,1,0),IF(C377=\"DDC\",IF(AND(K377>=4,N377=\"Y\",Q377>120)=TRUE,1,0),0))))))","v":""}]
[null,null,"",null,null,null,null,null,null,null,null,null,null,null,null,0,0,0,0,"",0,0,0,0,0,{"$f":"IF($H$4=\"\",0,VLOOKUP($H$4,BuildingType_Lookup,3,FALSE))","v":0},{"$f":"IF($H$4=\"\",0,VLOOKUP($H$4,BuildingType_Lookup,2,FALSE))","v":0},{"$f":"IF(AND(OR(AN378=\"\",AN378=0)=TRUE,OR(AO378=\"\",AO378=0))=TRUE,0,IF(AO378=\"\",(IF(OR(C378=\"DDC\",C378=\"OHLC\")=TRUE,O378,P378)/1000)*Y378*Z378*(1+VLOOKUP($H$4,BuildingType_Lookup,4,FALSE)),IF(AO378=0,0,(IF(OR(C378=\"DDC\",C378=\"OHLC\")=TRUE,O378,Q378)/1000)*Y378*Z378*(1+VLOOKUP($H$4,BuildingType_Lookup,4,FALSE)))))","v":0},{"$f":"IF(AND(OR(AN378=\"\",AN378=0)=TRUE,OR(AO378=\"\",AO378=0))=TRUE,0,IF(AO378=\"\",(IF(OR(C378=\"DDC\",C378=\"OHLC\")=TRUE,O378,P378)/1000)*Y378*AA378*(1+VLOOKUP($H$4,BuildingType_Lookup,MATCH($H$5,HVAC,0)+4,FALSE)),IF(AO378=0,0,(IF(OR(C378=\"DDC\",C378=\"OHLC\")=TRUE,O378,Q378)/1000)*Y378*AA378*(1+VLOOKUP($H$4,BuildingType_Lookup,MATCH($H$5,HVAC,0)+4,FALSE)))))","v":0},0,0,0,0,0,0,{"$f":"W378/1000*Y378*AA378*IF(IFERROR(SEARCH(\"Gas\",$H$5),0)>0,VLOOKUP(\"Gas\",HVACg_Lookup,MATCH($H$6,BuildingSize,0)+1,FALSE),IF(IFERROR(SEARCH(\"Oil\",$H$5),0)>0,VLOOKUP(\"Oil\",HVACg_Lookup,MATCH($H$6,BuildingSize,0)+1,FALSE),IF(IFERROR(SEARCH(\"Propane\",$H$5),0)>0,VLOOKUP(\"Propane\",HVACg_Lookup,MATCH(Worksheet!$H$6,BuildingSize,0)+1,FALSE),0)))","v":0},{"$f":"X378/1000*Y378*AA378*IF(IFERROR(SEARCH(\"Gas\",$H$5),0)>0,VLOOKUP(\"Gas\",HVACg_Lookup,MATCH($H$6,BuildingSize,0)+1,FALSE),IF(IFERROR(SEARCH(\"Oil\",$H$5),0)>0,VLOOKUP(\"Oil\",HVACg_Lookup,MATCH($H$6,BuildingSize,0)+1,FALSE),IF(IFERROR(SEARCH(\"Propane\",$H$5),0)>0,VLOOKUP(\"Propane\",HVACg_Lookup,MATCH(Worksheet!$H$6,BuildingSize,0)+1,FALSE),0)))","v":0},0,0,{"$f":"IF(OR($B$4=\"\",$B$5=\"\",$H$4=\"\",$H$6=\"\",$H$5=\"\",A378=\"\",F378=\"\",J378=\"\",O378=\"\",P378=\"\")=TRUE,\"\",IF(C378=\"OSW\",IF(J378>=2,1,0),IF(C378=\"OSR\",IF(AND(J378>=2,P378>60)=TRUE,1,0),IF(C378=\"OSRH\",IF(AND(J378>=1,P378>90)=TRUE,1,0),IF(C378=\"OHLC\",IF(AND(N378=\"Y\",P378>60)=TRUE,1,0),IF(C378=\"DDC\",IF(AND(J378>=4,N378=\"Y\",P378>120)=TRUE,1,0),0))))))","v":""},{"$f":"IF(OR($B$4=\"\",$B$5=\"\",$H$4=\"\",$H$6=\"\",$H$5=\"\",A378=\"\",F378=\"\",K378=\"\",O378=\"\",P378=\"\")=TRUE,\"\",IF(C378=\"OSW\",IF(K378>=2,1,0),IF(C378=\"OSR\",IF(AND(K378>=2,Q378>60)=TRUE,1,0),IF(C378=\"OSRH\",IF(AND(K378>=1,Q378>90)=TRUE,1,0),IF(C378=\"OHLC\",IF(AND(N378=\"Y\",Q378>60)=TRUE,1,0),IF(C378=\"DDC\",IF(AND(K378>=4,N378=\"Y\",Q378>120)=TRUE,1,0),0))))))","v":""}]
[null,null,"",null,null,null,null,null,null,null,null,null,null,null,null,0,0,0,0,"",0,0,0,0,0,{"$f":"IF($H$4=\"\",0,VLOOKUP($H$4,BuildingType_Lookup,3,FALSE))","v":0},{"$f":"IF($H$4=\"\",0,VLOOKUP($H$4,BuildingType_Lookup,2,FALSE))","v":0},{"$f":"IF(AND(OR(AN379=\"\",AN379=0)=TRUE,OR(AO379=\"\",AO379=0))=TRUE,0,IF(AO379=\"\",(IF(OR(C379=\"DDC\",C379=\"OHLC\")=TRUE,O379,P379)/1000)*Y379*Z379*(1+VLOOKUP($H$4,BuildingType_Lookup,4,FALSE)),IF(AO379=0,0,(IF(OR(C379=\"DDC\",C379=\"OHLC\")=TRUE,O379,Q379)/1000)*Y379*Z379*(1+VLOOKUP($H$4,BuildingType_Lookup,4,FALSE)))))","v":0},{"$f":"IF(AND(OR(AN379=\"\",AN379=0)=TRUE,OR(AO379=\"\",AO379=0))=TRUE,0,IF(AO379=\"\",(IF(OR(C379=\"DDC\",C379=\"OHLC\")=TRUE,O379,P379)/1000)*Y379*AA379*(1+VLOOKUP($H$4,BuildingType_Lookup,MATCH($H$5,HVAC,0)+4,FALSE)),IF(AO379=0,0,(IF(OR(C379=\"DDC\",C379=\"OHLC\")=TRUE,O379,Q379)/1000)*Y379*AA379*(1+VLOOKUP($H$4,BuildingType_Lookup,MATCH($H$5,HVAC,0)+4,FALSE)))))","v":0},0,0,0,0,0,0,{"$f":"W379/1000*Y379*AA379*IF(IFERROR(SEARCH(\"Gas\",$H$5),0)>0,VLOOKUP(\"Gas\",HVACg_Lookup,MATCH($H$6,BuildingSize,0)+1,FALSE),IF(IFERROR(SEARCH(\"Oil\",$H$5),0)>0,VLOOKUP(\"Oil\",HVACg_Lookup,MATCH($H$6,BuildingSize,0)+1,FALSE),IF(IFERROR(SEARCH(\"Propane\",$H$5),0)>0,VLOOKUP(\"Propane\",HVACg_Lookup,MATCH(Worksheet!$H$6,BuildingSize,0)+1,FALSE),0)))","v":0},{"$f":"X379/1000*Y379*AA379*IF(IFERROR(SEARCH(\"Gas\",$H$5),0)>0,VLOOKUP(\"Gas\",HVACg_Lookup,MATCH($H$6,BuildingSize,0)+1,FALSE),IF(IFERROR(SEARCH(\"Oil\",$H$5),0)>0,VLOOKUP(\"Oil\",HVACg_Lookup,MATCH($H$6,BuildingSize,0)+1,FALSE),IF(IFERROR(SEARCH(\"Propane\",$H$5),0)>0,VLOOKUP(\"Propane\",HVACg_Lookup,MATCH(Worksheet!$H$6,BuildingSize,0)+1,FALSE),0)))","v":0},0,0,{"$f":"IF(OR($B$4=\"\",$B$5=\"\",$H$4=\"\",$H$6=\"\",$H$5=\"\",A379=\"\",F379=\"\",J379=\"\",O379=\"\",P379=\"\")=TRUE,\"\",IF(C379=\"OSW\",IF(J379>=2,1,0),IF(C379=\"OSR\",IF(AND(J379>=2,P379>60)=TRUE,1,0),IF(C379=\"OSRH\",IF(AND(J379>=1,P379>90)=TRUE,1,0),IF(C379=\"OHLC\",IF(AND(N379=\"Y\",P379>60)=TRUE,1,0),IF(C379=\"DDC\",IF(AND(J379>=4,N379=\"Y\",P379>120)=TRUE,1,0),0))))))","v":""},{"$f":"IF(OR($B$4=\"\",$B$5=\"\",$H$4=\"\",$H$6=\"\",$H$5=\"\",A379=\"\",F379=\"\",K379=\"\",O379=\"\",P379=\"\")=TRUE,\"\",IF(C379=\"OSW\",IF(K379>=2,1,0),IF(C379=\"OSR\",IF(AND(K379>=2,Q379>60)=TRUE,1,0),IF(C379=\"OSRH\",IF(AND(K379>=1,Q379>90)=TRUE,1,0),IF(C379=\"OHLC\",IF(AND(N379=\"Y\",Q379>60)=TRUE,1,0),IF(C379=\"DDC\",IF(AND(K379>=4,N379=\"Y\",Q379>120)=TRUE,1,0),0))))))","v":""}]
[null,null,"",null,null,null,null,null,null,null,null,null,null,null,null,0,0,0,0,"",0,0,0,0,0,{"$f":"IF($H$4=\"\",0,VLOOKUP($H$4,BuildingType_Lookup,3,FALSE))","v":0},{"$f":"IF($H$4=\"\",0,VLOOKUP($H$4,BuildingType_Lookup,2,FALSE))","v":0},{"$f":"IF(AND(OR(AN380=\"\",AN380=0)=TRUE,OR(AO380=\"\",AO380=0))=TRUE,0,IF(AO380=\"\",(IF(OR(C380=\"DDC\",C380=\"OHLC\")=TRUE,O380,P380)/1000)*Y380*Z380*(1+VLOOKUP($H$4,BuildingType_Lookup,4,FALSE)),IF(AO380=0,0,(IF(OR(C380=\"DDC\",C380=\"OHLC\")=TRUE,O380,Q380)/1000)*Y380*Z380*(1+VLOOKUP($H$4,BuildingType_Lookup,4,FALSE)))))","v":0},{"$f":"IF(AND(OR(AN380=\"\",AN380=0)=TRUE,OR(AO380=\"\",AO380=0))=TRUE,0,IF(AO380=\"\",(IF(OR(C380=\"DDC\",C380=\"OHLC\")=TRUE,O380,P380)/1000)*Y380*AA380*(1+VLOOKUP($H$4,BuildingType_Lookup,MATCH($H$5,HVAC,0)+4,FALSE)),IF(AO380=0,0,(IF(OR(C380=\"DDC\",C380=\"OHLC\")=TRUE,O380,Q380)/1000)*Y380*AA380*(1+VLOOKUP($H$4,BuildingType_Lookup,MATCH($H$5,HVAC,0)+4,FALSE)))))","v":0},0,0,0,0,0,0,{"$f":"W380/1000*Y380*AA380*IF(IFERROR(SEARCH(\"Gas\",$H$5),0)>0,VLOOKUP(\"Gas\",HVACg_Lookup,MATCH($H$6,BuildingSize,0)+1,FALSE),IF(IFERROR(SEARCH(\"Oil\",$H$5),0)>0,VLOOKUP(\"Oil\",HVACg_Lookup,MATCH($H$6,BuildingSize,0)+1,FALSE),IF(IFERROR(SEARCH(\"Propane\",$H$5),0)>0,VLOOKUP(\"Propane\",HVACg_Lookup,MATCH(Worksheet!$H$6,BuildingSize,0)+1,FALSE),0)))","v":0},{"$f":"X380/1000*Y380*AA380*IF(IFERROR(SEARCH(\"Gas\",$H$5),0)>0,VLOOKUP(\"Gas\",HVACg_Lookup,MATCH($H$6,BuildingSize,0)+1,FALSE),IF(IFERROR(SEARCH(\"Oil\",$H$5),0)>0,VLOOKUP(\"Oil\",HVACg_Lookup,MATCH($H$6,BuildingSize,0)+1,FALSE),IF(IFERROR(SEARCH(\"Propane\",$H$5),0)>0,VLOOKUP(\"Propane\",HVACg_Lookup,MATCH(Worksheet!$H$6,BuildingSize,0)+1,FALSE),0)))","v":0},0,0,{"$f":"IF(OR($B$4=\"\",$B$5=\"\",$H$4=\"\",$H$6=\"\",$H$5=\"\",A380=\"\",F380=\"\",J380=\"\",O380=\"\",P380=\"\")=TRUE,\"\",IF(C380=\"OSW\",IF(J380>=2,1,0),IF(C380=\"OSR\",IF(AND(J380>=2,P380>60)=TRUE,1,0),IF(C380=\"OSRH\",IF(AND(J380>=1,P380>90)=TRUE,1,0),IF(C380=\"OHLC\",IF(AND(N380=\"Y\",P380>60)=TRUE,1,0),IF(C380=\"DDC\",IF(AND(J380>=4,N380=\"Y\",P380>120)=TRUE,1,0),0))))))","v":""},{"$f":"IF(OR($B$4=\"\",$B$5=\"\",$H$4=\"\",$H$6=\"\",$H$5=\"\",A380=\"\",F380=\"\",K380=\"\",O380=\"\",P380=\"\")=TRUE,\"\",IF(C380=\"OSW\",IF(K380>=2,1,0),IF(C380=\"OSR\",IF(AND(K380>=2,Q380>60)=TRUE,1,0),IF(C380=\"OSRH\",IF(AND(K380>=1,Q380>90)=TRUE,1,0),IF(C380=\"OHLC\",IF(AND(N380=\"Y\",Q380>60)=TRUE,1,0),IF(C380=\"DDC\",IF(AND(K380>=4,N380=\"Y\",Q380>120)=TRUE,1,0),0))))))","v":""}]
[null,null,"",null,null,null,null,null,null,null,null,null,null,null,null,0,0,0,0,"",0,0,0,0,0,{"$f":"IF($H$4=\"\",0,VLOOKUP($H$4,BuildingType_Lookup,3,FALSE))","v":0},{"$f":"IF($H$4=\"\",0,VLOOKUP($H$4,BuildingType_Lookup,2,FALSE))","v":0},{"$f":"IF(AND(OR(AN381=\"\",AN381=0)=TRUE,OR(AO381=\"\",AO381=0))=TRUE,0,IF(AO381=\"\",(IF(OR(C381=\"DDC\",C381=\"OHLC\")=TRUE,O381,P381)/1000)*Y381*Z381*(1+VLOOKUP($H$4,BuildingType_Lookup,4,FALSE)),IF(AO381=0,0,(IF(OR(C381=\"DDC\",C381=\"OHLC\")=TRUE,O381,Q381)/1000)*Y381*Z381*(1+VLOOKUP($H$4,BuildingType_Lookup,4,FALSE)))))","v":0},{"$f":"IF(AND(OR(AN381=\"\",AN381=0)=TRUE,OR(AO381=\"\",AO381=0))=TRUE,0,IF(AO381=\"\",(IF(OR(C381=\"DDC\",C381=\"OHLC\")=TRUE,O381,P381)/1000)*Y381*AA381*(1+VLOOKUP($H$4,BuildingType_Lookup,MATCH($H$5,HVAC,0)+4,FALSE)),IF(AO381=0,0,(IF(OR(C381=\"DDC\",C381=\"OHLC\")=TRUE,O381,Q381)/1000)*Y381*AA381*(1+VLOOKUP($H$4,BuildingType_Lookup,MATCH($H$5,HVAC,0)+4,FALSE)))))","v":0},0,0,0,0,0,0,{"$f":"W381/1000*Y381*AA381*IF(IFERROR(SEARCH(\"Gas\",$H$5),0)>0,VLOOKUP(\"Gas\",HVACg_Lookup,MATCH($H$6,BuildingSize,0)+1,FALSE),IF(IFERROR(SEARCH(\"Oil\",$H$5),0)>0,VLOOKUP(\"Oil\",HVACg_Lookup,MATCH($H$6,BuildingSize,0)+1,FALSE),IF(IFERROR(SEARCH(\"Propane\",$H$5),0)>0,VLOOKUP(\"Propane\",HVACg_Lookup,MATCH(Worksheet!$H$6,BuildingSize,0)+1,FALSE),0)))","v":0},{"$f":"X381/1000*Y381*AA381*IF(IFERROR(SEARCH(\"Gas\",$H$5),0)>0,VLOOKUP(\"Gas\",HVACg_Lookup,MATCH($H$6,BuildingSize,0)+1,FALSE),IF(IFERROR(SEARCH(\"Oil\",$H$5),0)>0,VLOOKUP(\"Oil\",HVACg_Lookup,MATCH($H$6,BuildingSize,0)+1,FALSE),IF(IFERROR(SEARCH(\"Propane\",$H$5),0)>0,VLOOKUP(\"Propane\",HVACg_Lookup,MATCH(Worksheet!$H$6,BuildingSize,0)+1,FALSE),0)))","v":0},0,0,{"$f":"IF(OR($B$4=\"\",$B$5=\"\",$H$4=\"\",$H$6=\"\",$H$5=\"\",A381=\"\",F381=\"\",J381=\"\",O381=\"\",P381=\"\")=TRUE,\"\",IF(C381=\"OSW\",IF(J381>=2,1,0),IF(C381=\"OSR\",IF(AND(J381>=2,P381>60)=TRUE,1,0),IF(C381=\"OSRH\",IF(AND(J381>=1,P381>90)=TRUE,1,0),IF(C381=\"OHLC\",IF(AND(N381=\"Y\",P381>60)=TRUE,1,0),IF(C381=\"DDC\",IF(AND(J381>=4,N381=\"Y\",P381>120)=TRUE,1,0),0))))))","v":""},{"$f":"IF(OR($B$4=\"\",$B$5=\"\",$H$4=\"\",$H$6=\"\",$H$5=\"\",A381=\"\",F381=\"\",K381=\"\",O381=\"\",P381=\"\")=TRUE,\"\",IF(C381=\"OSW\",IF(K381>=2,1,0),IF(C381=\"OSR\",IF(AND(K381>=2,Q381>60)=TRUE,1,0),IF(C381=\"OSRH\",IF(AND(K381>=1,Q381>90)=TRUE,1,0),IF(C381=\"OHLC\",IF(AND(N381=\"Y\",Q381>60)=TRUE,1,0),IF(C381=\"DDC\",IF(AND(K381>=4,N381=\"Y\",Q381>120)=TRUE,1,0),0))))))","v":""}]
[null,null,"",null,null,null,null,null,null,null,null,null,null,null,null,0,0,0,0,"",0,0,0,0,0,{"$f":"IF($H$4=\"\",0,VLOOKUP($H$4,BuildingType_Lookup,3,FALSE))","v":0},{"$f":"IF($H$4=\"\",0,VLOOKUP($H$4,BuildingType_Lookup,2,FALSE))","v":0},{"$f":"IF(AND(OR(AN382=\"\",AN382=0)=TRUE,OR(AO382=\"\",AO382=0))=TRUE,0,IF(AO382=\"\",(IF(OR(C382=\"DDC\",C382=\"OHLC\")=TRUE,O382,P382)/1000)*Y382*Z382*(1+VLOOKUP($H$4,BuildingType_Lookup,4,FALSE)),IF(AO382=0,0,(IF(OR(C382=\"DDC\",C382=\"OHLC\")=TRUE,O382,Q382)/1000)*Y382*Z382*(1+VLOOKUP($H$4,BuildingType_Lookup,4,FALSE)))))","v":0},{"$f":"IF(AND(OR(AN382=\"\",AN382=0)=TRUE,OR(AO382=\"\",AO382=0))=TRUE,0,IF(AO382=\"\",(IF(OR(C382=\"DDC\",C382=\"OHLC\")=TRUE,O382,P382)/1000)*Y382*AA382*(1+VLOOKUP($H$4,BuildingType_Lookup,MATCH($H$5,HVAC,0)+4,FALSE)),IF(AO382=0,0,(IF(OR(C382=\"DDC\",C382=\"OHLC\")=TRUE,O382,Q382)/1000)*Y382*AA382*(1+VLOOKUP($H$4,BuildingType_Lookup,MATCH($H$5,HVAC,0)+4,FALSE)))))","v":0},0,0,0,0,0,0,{"$f":"W382/1000*Y382*AA382*IF(IFERROR(SEARCH(\"Gas\",$H$5),0)>0,VLOOKUP(\"Gas\",HVACg_Lookup,MATCH($H$6,BuildingSize,0)+1,FALSE),IF(IFERROR(SEARCH(\"Oil\",$H$5),0)>0,VLOOKUP(\"Oil\",HVACg_Lookup,MATCH($H$6,BuildingSize,0)+1,FALSE),IF(IFERROR(SEARCH(\"Propane\",$H$5),0)>0,VLOOKUP(\"Propane\",HVACg_Lookup,MATCH(Worksheet!$H$6,BuildingSize,0)+1,FALSE),0)))","v":0},{"$f":"X382/1000*Y382*AA382*IF(IFERROR(SEARCH(\"Gas\",$H$5),0)>0,VLOOKUP(\"Gas\",HVACg_Lookup,MATCH($H$6,BuildingSize,0)+1,FALSE),IF(IFERROR(SEARCH(\"Oil\",$H$5),0)>0,VLOOKUP(\"Oil\",HVACg_Lookup,MATCH($H$6,BuildingSize,0)+1,FALSE),IF(IFERROR(SEARCH(\"Propane\",$H$5),0)>0,VLOOKUP(\"Propane\",HVACg_Lookup,MATCH(Worksheet!$H$6,BuildingSize,0)+1,FALSE),0)))","v":0},0,0,{"$f":"IF(OR($B$4=\"\",$B$5=\"\",$H$4=\"\",$H$6=\"\",$H$5=\"\",A382=\"\",F382=\"\",J382=\"\",O382=\"\",P382=\"\")=TRUE,\"\",IF(C382=\"OSW\",IF(J382>=2,1,0),IF(C382=\"OSR\",IF(AND(J382>=2,P382>60)=TRUE,1,0),IF(C382=\"OSRH\",IF(AND(J382>=1,P382>90)=TRUE,1,0),IF(C382=\"OHLC\",IF(AND(N382=\"Y\",P382>60)=TRUE,1,0),IF(C382=\"DDC\",IF(AND(J382>=4,N382=\"Y\",P382>120)=TRUE,1,0),0))))))","v":""},{"$f":"IF(OR($B$4=\"\",$B$5=\"\",$H$4=\"\",$H$6=\"\",$H$5=\"\",A382=\"\",F382=\"\",K382=\"\",O382=\"\",P382=\"\")=TRUE,\"\",IF(C382=\"OSW\",IF(K382>=2,1,0),IF(C382=\"OSR\",IF(AND(K382>=2,Q382>60)=TRUE,1,0),IF(C382=\"OSRH\",IF(AND(K382>=1,Q382>90)=TRUE,1,0),IF(C382=\"OHLC\",IF(AND(N382=\"Y\",Q382>60)=TRUE,1,0),IF(C382=\"DDC\",IF(AND(K382>=4,N382=\"Y\",Q382>120)=TRUE,1,0),0))))))","v":""}]
[null,null,"",null,null,null,null,null,null,null,null,null,null,null,null,0,0,0,0,"",0,0,0,0,0,{"$f":"IF($H$4=\"\",0,VLOOKUP($H$4,BuildingType_Lookup,3,FALSE))","v":0},{"$f":"IF($H$4=\"\",0,VLOOKUP($H$4,BuildingType_Lookup,2,FALSE))","v":0},{"$f":"IF(AND(OR(AN383=\"\",AN383=0)=TRUE,OR(AO383=\"\",AO383=0))=TRUE,0,IF(AO383=\"\",(IF(OR(C383=\"DDC\",C383=\"OHLC\")=TRUE,O383,P383)/1000)*Y383*Z383*(1+VLOOKUP($H$4,BuildingType_Lookup,4,FALSE)),IF(AO383=0,0,(IF(OR(C383=\"DDC\",C383=\"OHLC\")=TRUE,O383,Q383)/1000)*Y383*Z383*(1+VLOOKUP($H$4,BuildingType_Lookup,4,FALSE)))))","v":0},{"$f":"IF(AND(OR(AN383=\"\",AN383=0)=TRUE,OR(AO383=\"\",AO383=0))=TRUE,0,IF(AO383=\"\",(IF(OR(C383=\"DDC\",C383=\"OHLC\")=TRUE,O383,P383)/1000)*Y383*AA383*(1+VLOOKUP($H$4,BuildingType_Lookup,MATCH($H$5,HVAC,0)+4,FALSE)),IF(AO383=0,0,(IF(OR(C383=\"DDC\",C383=\"OHLC\")=TRUE,O383,Q383)/1000)*Y383*AA383*(1+VLOOKUP($H$4,BuildingType_Lookup,MATCH($H$5,HVAC,0)+4,FALSE)))))","v":0},0,0,0,0,0,0,{"$f":"W383/1000*Y383*AA383*IF(IFERROR(SEARCH(\"Gas\",$H$5),0)>0,VLOOKUP(\"Gas\",HVACg_Lookup,MATCH($H$6,BuildingSize,0)+1,FALSE),IF(IFERROR(SEARCH(\"Oil\",$H$5),0)>0,VLOOKUP(\"Oil\",HVACg_Lookup,MATCH($H$6,BuildingSize,0)+1,FALSE),IF(IFERROR(SEARCH(\"Propane\",$H$5),0)>0,VLOOKUP(\"Propane\",HVACg_Lookup,MATCH(Worksheet!$H$6,BuildingSize,0)+1,FALSE),0)))","v":0},{"$f":"X383/1000*Y383*AA383*IF(IFERROR(SEARCH(\"Gas\",$H$5),0)>0,VLOOKUP(\"Gas\",HVACg_Lookup,MATCH($H$6,BuildingSize,0)+1,FALSE),IF(IFERROR(SEARCH(\"Oil\",$H$5),0)>0,VLOOKUP(\"Oil\",HVACg_Lookup,MATCH($H$6,BuildingSize,0)+1,FALSE),IF(IFERROR(SEARCH(\"Propane\",$H$5),0)>0,VLOOKUP(\"Propane\",HVACg_Lookup,MATCH(Worksheet!$H$6,BuildingSize,0)+1,FALSE),0)))","v":0},0,0,{"$f":"IF(OR($B$4=\"\",$B$5=\"\",$H$4=\"\",$H$6=\"\",$H$5=\"\",A383=\"\",F383=\"\",J383=\"\",O383=\"\",P383=\"\")=TRUE,\"\",IF(C383=\"OSW\",IF(J383>=2,1,0),IF(C383=\"OSR\",IF(AND(J383>=2,P383>60)=TRUE,1,0),IF(C383=\"OSRH\",IF(AND(J383>=1,P383>90)=TRUE,1,0),IF(C383=\"OHLC\",IF(AND(N383=\"Y\",P383>60)=TRUE,1,0),IF(C383=\"DDC\",IF(AND(J383>=4,N383=\"Y\",P383>120)=TRUE,1,0),0))))))","v":""},{"$f":"IF(OR($B$4=\"\",$B$5=\"\",$H$4=\"\",$H$6=\"\",$H$5=\"\",A383=\"\",F383=\"\",K383=\"\",O383=\"\",P383=\"\")=TRUE,\"\",IF(C383=\"OSW\",IF(K383>=2,1,0),IF(C383=\"OSR\",IF(AND(K383>=2,Q383>60)=TRUE,1,0),IF(C383=\"OSRH\",IF(AND(K383>=1,Q383>90)=TRUE,1,0),IF(C383=\"OHLC\",IF(AND(N383=\"Y\",Q383>60)=TRUE,1,0),IF(C383=\"DDC\",IF(AND(K383>=4,N383=\"Y\",Q383>120)=TRUE,1,0),0))))))","v":""}]
[null,null,"",null,null,null,null,null,null,null,null,null,null,null,null,0,0,0,0,"",0,0,0,0,0,{"$f":"IF($H$4=\"\",0,VLOOKUP($H$4,BuildingType_Lookup,3,FALSE))","v":0},{"$f":"IF($H$4=\"\",0,VLOOKUP($H$4,BuildingType_Lookup,2,FALSE))","v":0},{"$f":"IF(AND(OR(AN384=\"\",AN384=0)=TRUE,OR(AO384=\"\",AO384=0))=TRUE,0,IF(AO384=\"\",(IF(OR(C384=\"DDC\",C384=\"OHLC\")=TRUE,O384,P384)/1000)*Y384*Z384*(1+VLOOKUP($H$4,BuildingType_Lookup,4,FALSE)),IF(AO384=0,0,(IF(OR(C384=\"DDC\",C384=\"OHLC\")=TRUE,O384,Q384)/1000)*Y384*Z384*(1+VLOOKUP($H$4,BuildingType_Lookup,4,FALSE)))))","v":0},{"$f":"IF(AND(OR(AN384=\"\",AN384=0)=TRUE,OR(AO384=\"\",AO384=0))=TRUE,0,IF(AO384=\"\",(IF(OR(C384=\"DDC\",C384=\"OHLC\")=TRUE,O384,P384)/1000)*Y384*AA384*(1+VLOOKUP($H$4,BuildingType_Lookup,MATCH($H$5,HVAC,0)+4,FALSE)),IF(AO384=0,0,(IF(OR(C384=\"DDC\",C384=\"OHLC\")=TRUE,O384,Q384)/1000)*Y384*AA384*(1+VLOOKUP($H$4,BuildingType_Lookup,MATCH($H$5,HVAC,0)+4,FALSE)))))","v":0},0,0,0,0,0,0,{"$f":"W384/1000*Y384*AA384*IF(IFERROR(SEARCH(\"Gas\",$H$5),0)>0,VLOOKUP(\"Gas\",HVACg_Lookup,MATCH($H$6,BuildingSize,0)+1,FALSE),IF(IFERROR(SEARCH(\"Oil\",$H$5),0)>0,VLOOKUP(\"Oil\",HVACg_Lookup,MATCH($H$6,BuildingSize,0)+1,FALSE),IF(IFERROR(SEARCH(\"Propane\",$H$5),0)>0,VLOOKUP(\"Propane\",HVACg_Lookup,MATCH(Worksheet!$H$6,BuildingSize,0)+1,FALSE),0)))","v":0},{"$f":"X384/1000*Y384*AA384*IF(IFERROR(SEARCH(\"Gas\",$H$5),0)>0,VLOOKUP(\"Gas\",HVACg_Lookup,MATCH($H$6,BuildingSize,0)+1,FALSE),IF(IFERROR(SEARCH(\"Oil\",$H$5),0)>0,VLOOKUP(\"Oil\",HVACg_Lookup,MATCH($H$6,BuildingSize,0)+1,FALSE),IF(IFERROR(SEARCH(\"Propane\",$H$5),0)>0,VLOOKUP(\"Propane\",HVACg_Lookup,MATCH(Worksheet!$H$6,BuildingSize,0)+1,FALSE),0)))","v":0},0,0,{"$f":"IF(OR($B$4=\"\",$B$5=\"\",$H$4=\"\",$H$6=\"\",$H$5=\"\",A384=\"\",F384=\"\",J384=\"\",O384=\"\",P384=\"\")=TRUE,\"\",IF(C384=\"OSW\",IF(J384>=2,1,0),IF(C384=\"OSR\",IF(AND(J384>=2,P384>60)=TRUE,1,0),IF(C384=\"OSRH\",IF(AND(J384>=1,P384>90)=TRUE,1,0),IF(C384=\"OHLC\",IF(AND(N384=\"Y\",P384>60)=TRUE,1,0),IF(C384=\"DDC\",IF(AND(J384>=4,N384=\"Y\",P384>120)=TRUE,1,0),0))))))","v":""},{"$f":"IF(OR($B$4=\"\",$B$5=\"\",$H$4=\"\",$H$6=\"\",$H$5=\"\",A384=\"\",F384=\"\",K384=\"\",O384=\"\",P384=\"\")=TRUE,\"\",IF(C384=\"OSW\",IF(K384>=2,1,0),IF(C384=\"OSR\",IF(AND(K384>=2,Q384>60)=TRUE,1,0),IF(C384=\"OSRH\",IF(AND(K384>=1,Q384>90)=TRUE,1,0),IF(C384=\"OHLC\",IF(AND(N384=\"Y\",Q384>60)=TRUE,1,0),IF(C384=\"DDC\",IF(AND(K384>=4,N384=\"Y\",Q384>120)=TRUE,1,0),0))))))","v":""}]
[null,null,"",null,null,null,null,null,null,null,null,null,null,null,null,0,0,0,0,"",0,0,0,0,0,{"$f":"IF($H$4=\"\",0,VLOOKUP($H$4,BuildingType_Lookup,3,FALSE))","v":0},{"$f":"IF($H$4=\"\",0,VLOOKUP($H$4,BuildingType_Lookup,2,FALSE))","v":0},{"$f":"IF(AND(OR(AN385=\"\",AN385=0)=TRUE,OR(AO385=\"\",AO385=0))=TRUE,0,IF(AO385=\"\",(IF(OR(C385=\"DDC\",C385=\"OHLC\")=TRUE,O385,P385)/1000)*Y385*Z385*(1+VLOOKUP($H$4,BuildingType_Lookup,4,FALSE)),IF(AO385=0,0,(IF(OR(C385=\"DDC\",C385=\"OHLC\")=TRUE,O385,Q385)/1000)*Y385*Z385*(1+VLOOKUP($H$4,BuildingType_Lookup,4,FALSE)))))","v":0},{"$f":"IF(AND(OR(AN385=\"\",AN385=0)=TRUE,OR(AO385=\"\",AO385=0))=TRUE,0,IF(AO385=\"\",(IF(OR(C385=\"DDC\",C385=\"OHLC\")=TRUE,O385,P385)/1000)*Y385*AA385*(1+VLOOKUP($H$4,BuildingType_Lookup,MATCH($H$5,HVAC,0)+4,FALSE)),IF(AO385=0,0,(IF(OR(C385=\"DDC\",C385=\"OHLC\")=TRUE,O385,Q385)/1000)*Y385*AA385*(1+VLOOKUP($H$4,BuildingType_Lookup,MATCH($H$5,HVAC,0)+4,FALSE)))))","v":0},0,0,0,0,0,0,{"$f":"W385/1000*Y385*AA385*IF(IFERROR(SEARCH(\"Gas\",$H$5),0)>0,VLOOKUP(\"Gas\",HVACg_Lookup,MATCH($H$6,BuildingSize,0)+1,FALSE),IF(IFERROR(SEARCH(\"Oil\",$H$5),0)>0,VLOOKUP(\"Oil\",HVACg_Lookup,MATCH($H$6,BuildingSize,0)+1,FALSE),IF(IFERROR(SEARCH(\"Propane\",$H$5),0)>0,VLOOKUP(\"Propane\",HVACg_Lookup,MATCH(Worksheet!$H$6,BuildingSize,0)+1,FALSE),0)))","v":0},{"$f":"X385/1000*Y385*AA385*IF(IFERROR(SEARCH(\"Gas\",$H$5),0)>0,VLOOKUP(\"Gas\",HVACg_Lookup,MATCH($H$6,BuildingSize,0)+1,FALSE),IF(IFERROR(SEARCH(\"Oil\",$H$5),0)>0,VLOOKUP(\"Oil\",HVACg_Lookup,MATCH($H$6,BuildingSize,0)+1,FALSE),IF(IFERROR(SEARCH(\"Propane\",$H$5),0)>0,VLOOKUP(\"Propane\",HVACg_Lookup,MATCH(Worksheet!$H$6,BuildingSize,0)+1,FALSE),0)))","v":0},0,0,{"$f":"IF(OR($B$4=\"\",$B$5=\"\",$H$4=\"\",$H$6=\"\",$H$5=\"\",A385=\"\",F385=\"\",J385=\"\",O385=\"\",P385=\"\")=TRUE,\"\",IF(C385=\"OSW\",IF(J385>=2,1,0),IF(C385=\"OSR\",IF(AND(J385>=2,P385>60)=TRUE,1,0),IF(C385=\"OSRH\",IF(AND(J385>=1,P385>90)=TRUE,1,0),IF(C385=\"OHLC\",IF(AND(N385=\"Y\",P385>60)=TRUE,1,0),IF(C385=\"DDC\",IF(AND(J385>=4,N385=\"Y\",P385>120)=TRUE,1,0),0))))))","v":""},{"$f":"IF(OR($B$4=\"\",$B$5=\"\",$H$4=\"\",$H$6=\"\",$H$5=\"\",A385=\"\",F385=\"\",K385=\"\",O385=\"\",P385=\"\")=TRUE,\"\",IF(C385=\"OSW\",IF(K385>=2,1,0),IF(C385=\"OSR\",IF(AND(K385>=2,Q385>60)=TRUE,1,0),IF(C385=\"OSRH\",IF(AND(K385>=1,Q385>90)=TRUE,1,0),IF(C385=\"OHLC\",IF(AND(N385=\"Y\",Q385>60)=TRUE,1,0),IF(C385=\"DDC\",IF(AND(K385>=4,N385=\"Y\",Q385>120)=TRUE,1,0),0))))))","v":""}]
[null,null,"",null,null,null,null,null,null,null,null,null,null,null,null,0,0,0,0,"",0,0,0,0,0,{"$f":"IF($H$4=\"\",0,VLOOKUP($H$4,BuildingType_Lookup,3,FALSE))","v":0},{"$f":"IF($H$4=\"\",0,VLOOKUP($H$4,BuildingType_Lookup,2,FALSE))","v":0},{"$f":"IF(AND(OR(AN386=\"\",AN386=0)=TRUE,OR(AO386=\"\",AO386=0))=TRUE,0,IF(AO386=\"\",(IF(OR(C386=\"DDC\",C386=\"OHLC\")=TRUE,O386,P386)/1000)*Y386*Z386*(1+VLOOKUP($H$4,BuildingType_Lookup,4,FALSE)),IF(AO386=0,0,(IF(OR(C386=\"DDC\",C386=\"OHLC\")=TRUE,O386,Q386)/1000)*Y386*Z386*(1+VLOOKUP($H$4,BuildingType_Lookup,4,FALSE)))))","v":0},{"$f":"IF(AND(OR(AN386=\"\",AN386=0)=TRUE,OR(AO386=\"\",AO386=0))=TRUE,0,IF(AO386=\"\",(IF(OR(C386=\"DDC\",C386=\"OHLC\")=TRUE,O386,P386)/1000)*Y386*AA386*(1+VLOOKUP($H$4,BuildingType_Lookup,MATCH($H$5,HVAC,0)+4,FALSE)),IF(AO386=0,0,(IF(OR(C386=\"DDC\",C386=\"OHLC\")=TRUE,O386,Q386)/1000)*Y386*AA386*(1+VLOOKUP($H$4,BuildingType_Lookup,MATCH($H$5,HVAC,0)+4,FALSE)))))","v":0},0,0,0,0,0,0,{"$f":"W386/1000*Y386*AA386*IF(IFERROR(SEARCH(\"Gas\",$H$5),0)>0,VLOOKUP(\"Gas\",HVACg_Lookup,MATCH($H$6,BuildingSize,0)+1,FALSE),IF(IFERROR(SEARCH(\"Oil\",$H$5),0)>0,VLOOKUP(\"Oil\",HVACg_Lookup,MATCH($H$6,BuildingSize,0)+1,FALSE),IF(IFERROR(SEARCH(\"Propane\",$H$5),0)>0,VLOOKUP(\"Propane\",HVACg_Lookup,MATCH(Worksheet!$H$6,BuildingSize,0)+1,FALSE),0)))","v":0},{"$f":"X386/1000*Y386*AA386*IF(IFERROR(SEARCH(\"Gas\",$H$5),0)>0,VLOOKUP(\"Gas\",HVACg_Lookup,MATCH($H$6,BuildingSize,0)+1,FALSE),IF(IFERROR(SEARCH(\"Oil\",$H$5),0)>0,VLOOKUP(\"Oil\",HVACg_Lookup,MATCH($H$6,BuildingSize,0)+1,FALSE),IF(IFERROR(SEARCH(\"Propane\",$H$5),0)>0,VLOOKUP(\"Propane\",HVACg_Lookup,MATCH(Worksheet!$H$6,BuildingSize,0)+1,FALSE),0)))","v":0},0,0,{"$f":"IF(OR($B$4=\"\",$B$5=\"\",$H$4=\"\",$H$6=\"\",$H$5=\"\",A386=\"\",F386=\"\",J386=\"\",O386=\"\",P386=\"\")=TRUE,\"\",IF(C386=\"OSW\",IF(J386>=2,1,0),IF(C386=\"OSR\",IF(AND(J386>=2,P386>60)=TRUE,1,0),IF(C386=\"OSRH\",IF(AND(J386>=1,P386>90)=TRUE,1,0),IF(C386=\"OHLC\",IF(AND(N386=\"Y\",P386>60)=TRUE,1,0),IF(C386=\"DDC\",IF(AND(J386>=4,N386=\"Y\",P386>120)=TRUE,1,0),0))))))","v":""},{"$f":"IF(OR($B$4=\"\",$B$5=\"\",$H$4=\"\",$H$6=\"\",$H$5=\"\",A386=\"\",F386=\"\",K386=\"\",O386=\"\",P386=\"\")=TRUE,\"\",IF(C386=\"OSW\",IF(K386>=2,1,0),IF(C386=\"OSR\",IF(AND(K386>=2,Q386>60)=TRUE,1,0),IF(C386=\"OSRH\",IF(AND(K386>=1,Q386>90)=TRUE,1,0),IF(C386=\"OHLC\",IF(AND(N386=\"Y\",Q386>60)=TRUE,1,0),IF(C386=\"DDC\",IF(AND(K386>=4,N386=\"Y\",Q386>120)=TRUE,1,0),0))))))","v":""}]
[null,null,"",null,null,null,null,null,null,null,null,null,null,null,null,0,0,0,0,"",0,0,0,0,0,{"$f":"IF($H$4=\"\",0,VLOOKUP($H$4,BuildingType_Lookup,3,FALSE))","v":0},{"$f":"IF($H$4=\"\",0,VLOOKUP($H$4,BuildingType_Lookup,2,FALSE))","v":0},{"$f":"IF(AND(OR(AN387=\"\",AN387=0)=TRUE,OR(AO387=\"\",AO387=0))=TRUE,0,IF(AO387=\"\",(IF(OR(C387=\"DDC\",C387=\"OHLC\")=TRUE,O387,P387)/1000)*Y387*Z387*(1+VLOOKUP($H$4,BuildingType_Lookup,4,FALSE)),IF(AO387=0,0,(IF(OR(C387=\"DDC\",C387=\"OHLC\")=TRUE,O387,Q387)/1000)*Y387*Z387*(1+VLOOKUP($H$4,BuildingType_Lookup,4,FALSE)))))","v":0},{"$f":"IF(AND(OR(AN387=\"\",AN387=0)=TRUE,OR(AO387=\"\",AO387=0))=TRUE,0,IF(AO387=\"\",(IF(OR(C387=\"DDC\",C387=\"OHLC\")=TRUE,O387,P387)/1000)*Y387*AA387*(1+VLOOKUP($H$4,BuildingType_Lookup,MATCH($H$5,HVAC,0)+4,FALSE)),IF(AO387=0,0,(IF(OR(C387=\"DDC\",C387=\"OHLC\")=TRUE,O387,Q387)/1000)*Y387*AA387*(1+VLOOKUP($H$4,BuildingType_Lookup,MATCH($H$5,HVAC,0)+4,FALSE)))))","v":0},0,0,0,0,0,0,{"$f":"W387/1000*Y387*AA387*IF(IFERROR(SEARCH(\"Gas\",$H$5),0)>0,VLOOKUP(\"Gas\",HVACg_Lookup,MATCH($H$6,BuildingSize,0)+1,FALSE),IF(IFERROR(SEARCH(\"Oil\",$H$5),0)>0,VLOOKUP(\"Oil\",HVACg_Lookup,MATCH($H$6,BuildingSize,0)+1,FALSE),IF(IFERROR(SEARCH(\"Propane\",$H$5),0)>0,VLOOKUP(\"Propane\",HVACg_Lookup,MATCH(Worksheet!$H$6,BuildingSize,0)+1,FALSE),0)))","v":0},{"$f":"X387/1000*Y387*AA387*IF(IFERROR(SEARCH(\"Gas\",$H$5),0)>0,VLOOKUP(\"Gas\",HVACg_Lookup,MATCH($H$6,BuildingSize,0)+1,FALSE),IF(IFERROR(SEARCH(\"Oil\",$H$5),0)>0,VLOOKUP(\"Oil\",HVACg_Lookup,MATCH($H$6,BuildingSize,0)+1,FALSE),IF(IFERROR(SEARCH(\"Propane\",$H$5),0)>0,VLOOKUP(\"Propane\",HVACg_Lookup,MATCH(Worksheet!$H$6,BuildingSize,0)+1,FALSE),0)))","v":0},0,0,{"$f":"IF(OR($B$4=\"\",$B$5=\"\",$H$4=\"\",$H$6=\"\",$H$5=\"\",A387=\"\",F387=\"\",J387=\"\",O387=\"\",P387=\"\")=TRUE,\"\",IF(C387=\"OSW\",IF(J387>=2,1,0),IF(C387=\"OSR\",IF(AND(J387>=2,P387>60)=TRUE,1,0),IF(C387=\"OSRH\",IF(AND(J387>=1,P387>90)=TRUE,1,0),IF(C387=\"OHLC\",IF(AND(N387=\"Y\",P387>60)=TRUE,1,0),IF(C387=\"DDC\",IF(AND(J387>=4,N387=\"Y\",P387>120)=TRUE,1,0),0))))))","v":""},{"$f":"IF(OR($B$4=\"\",$B$5=\"\",$H$4=\"\",$H$6=\"\",$H$5=\"\",A387=\"\",F387=\"\",K387=\"\",O387=\"\",P387=\"\")=TRUE,\"\",IF(C387=\"OSW\",IF(K387>=2,1,0),IF(C387=\"OSR\",IF(AND(K387>=2,Q387>60)=TRUE,1,0),IF(C387=\"OSRH\",IF(AND(K387>=1,Q387>90)=TRUE,1,0),IF(C387=\"OHLC\",IF(AND(N387=\"Y\",Q387>60)=TRUE,1,0),IF(C387=\"DDC\",IF(AND(K387>=4,N387=\"Y\",Q387>120)=TRUE,1,0),0))))))","v":""}]
[null,null,"",null,null,null,null,null,null,null,null,null,null,null,null,0,0,0,0,"",0,0,0,0,0,{"$f":"IF($H$4=\"\",0,VLOOKUP($H$4,BuildingType_Lookup,3,FALSE))","v":0},{"$f":"IF($H$4=\"\",0,VLOOKUP($H$4,BuildingType_Lookup,2,FALSE))","v":0},{"$f":"IF(AND(OR(AN388=\"\",AN388=0)=TRUE,OR(AO388=\"\",AO388=0))=TRUE,0,IF(AO388=\"\",(IF(OR(C388=\"DDC\",C388=\"OHLC\")=TRUE,O388,P388)/1000)*Y388*Z388*(1+VLOOKUP($H$4,BuildingType_Lookup,4,FALSE)),IF(AO388=0,0,(IF(OR(C388=\"DDC\",C388=\"OHLC\")=TRUE,O388,Q388)/1000)*Y388*Z388*(1+VLOOKUP($H$4,BuildingType_Lookup,4,FALSE)))))","v":0},{"$f":"IF(AND(OR(AN388=\"\",AN388=0)=TRUE,OR(AO388=\"\",AO388=0))=TRUE,0,IF(AO388=\"\",(IF(OR(C388=\"DDC\",C388=\"OHLC\")=TRUE,O388,P388)/1000)*Y388*AA388*(1+VLOOKUP($H$4,BuildingType_Lookup,MATCH($H$5,HVAC,0)+4,FALSE)),IF(AO388=0,0,(IF(OR(C388=\"DDC\",C388=\"OHLC\")=TRUE,O388,Q388)/1000)*Y388*AA388*(1+VLOOKUP($H$4,BuildingType_Lookup,MATCH($H$5,HVAC,0)+4,FALSE)))))","v":0},0,0,0,0,0,0,{"$f":"W388/1000*Y388*AA388*IF(IFERROR(SEARCH(\"Gas\",$H$5),0)>0,VLOOKUP(\"Gas\",HVACg_Lookup,MATCH($H$6,BuildingSize,0)+1,FALSE),IF(IFERROR(SEARCH(\"Oil\",$H$5),0)>0,VLOOKUP(\"Oil\",HVACg_Lookup,MATCH($H$6,BuildingSize,0)+1,FALSE),IF(IFERROR(SEARCH(\"Propane\",$H$5),0)>0,VLOOKUP(\"Propane\",HVACg_Lookup,MATCH(Worksheet!$H$6,BuildingSize,0)+1,FALSE),0)))","v":0},{"$f":"X388/1000*Y388*AA388*IF(IFERROR(SEARCH(\"Gas\",$H$5),0)>0,VLOOKUP(\"Gas\",HVACg_Lookup,MATCH($H$6,BuildingSize,0)+1,FALSE),IF(IFERROR(SEARCH(\"Oil\",$H$5),0)>0,VLOOKUP(\"Oil\",HVACg_Lookup,MATCH($H$6,BuildingSize,0)+1,FALSE),IF(IFERROR(SEARCH(\"Propane\",$H$5),0)>0,VLOOKUP(\"Propane\",HVACg_Lookup,MATCH(Worksheet!$H$6,BuildingSize,0)+1,FALSE),0)))","v":0},0,0,{"$f":"IF(OR($B$4=\"\",$B$5=\"\",$H$4=\"\",$H$6=\"\",$H$5=\"\",A388=\"\",F388=\"\",J388=\"\",O388=\"\",P388=\"\")=TRUE,\"\",IF(C388=\"OSW\",IF(J388>=2,1,0),IF(C388=\"OSR\",IF(AND(J388>=2,P388>60)=TRUE,1,0),IF(C388=\"OSRH\",IF(AND(J388>=1,P388>90)=TRUE,1,0),IF(C388=\"OHLC\",IF(AND(N388=\"Y\",P388>60)=TRUE,1,0),IF(C388=\"DDC\",IF(AND(J388>=4,N388=\"Y\",P388>120)=TRUE,1,0),0))))))","v":""},{"$f":"IF(OR($B$4=\"\",$B$5=\"\",$H$4=\"\",$H$6=\"\",$H$5=\"\",A388=\"\",F388=\"\",K388=\"\",O388=\"\",P388=\"\")=TRUE,\"\",IF(C388=\"OSW\",IF(K388>=2,1,0),IF(C388=\"OSR\",IF(AND(K388>=2,Q388>60)=TRUE,1,0),IF(C388=\"OSRH\",IF(AND(K388>=1,Q388>90)=TRUE,1,0),IF(C388=\"OHLC\",IF(AND(N388=\"Y\",Q388>60)=TRUE,1,0),IF(C388=\"DDC\",IF(AND(K388>=4,N388=\"Y\",Q388>120)=TRUE,1,0),0))))))","v":""}]
[null,null,"",null,null,null,null,null,null,null,null,null,null,null,null,0,0,0,0,"",0,0,0,0,0,{"$f":"IF($H$4=\"\",0,VLOOKUP($H$4,BuildingType_Lookup,3,FALSE))","v":0},{"$f":"IF($H$4=\"\",0,VLOOKUP($H$4,BuildingType_Lookup,2,FALSE))","v":0},{"$f":"IF(AND(OR(AN389=\"\",AN389=0)=TRUE,OR(AO389=\"\",AO389=0))=TRUE,0,IF(AO389=\"\",(IF(OR(C389=\"DDC\",C389=\"OHLC\")=TRUE,O389,P389)/1000)*Y389*Z389*(1+VLOOKUP($H$4,BuildingType_Lookup,4,FALSE)),IF(AO389=0,0,(IF(OR(C389=\"DDC\",C389=\"OHLC\")=TRUE,O389,Q389)/1000)*Y389*Z389*(1+VLOOKUP($H$4,BuildingType_Lookup,4,FALSE)))))","v":0},{"$f":"IF(AND(OR(AN389=\"\",AN389=0)=TRUE,OR(AO389=\"\",AO389=0))=TRUE,0,IF(AO389=\"\",(IF(OR(C389=\"DDC\",C389=\"OHLC\")=TRUE,O389,P389)/1000)*Y389*AA389*(1+VLOOKUP($H$4,BuildingType_Lookup,MATCH($H$5,HVAC,0)+4,FALSE)),IF(AO389=0,0,(IF(OR(C389=\"DDC\",C389=\"OHLC\")=TRUE,O389,Q389)/1000)*Y389*AA389*(1+VLOOKUP($H$4,BuildingType_Lookup,MATCH($H$5,HVAC,0)+4,FALSE)))))","v":0},0,0,0,0,0,0,{"$f":"W389/1000*Y389*AA389*IF(IFERROR(SEARCH(\"Gas\",$H$5),0)>0,VLOOKUP(\"Gas\",HVACg_Lookup,MATCH($H$6,BuildingSize,0)+1,FALSE),IF(IFERROR(SEARCH(\"Oil\",$H$5),0)>0,VLOOKUP(\"Oil\",HVACg_Lookup,MATCH($H$6,BuildingSize,0)+1,FALSE),IF(IFERROR(SEARCH(\"Propane\",$H$5),0)>0,VLOOKUP(\"Propane\",HVACg_Lookup,MATCH(Worksheet!$H$6,BuildingSize,0)+1,FALSE),0)))","v":0},{"$f":"X389/1000*Y389*AA389*IF(IFERROR(SEARCH(\"Gas\",$H$5),0)>0,VLOOKUP(\"Gas\",HVACg_Lookup,MATCH($H$6,BuildingSize,0)+1,FALSE),IF(IFERROR(SEARCH(\"Oil\",$H$5),0)>0,VLOOKUP(\"Oil\",HVACg_Lookup,MATCH($H$6,BuildingSize,0)+1,FALSE),IF(IFERROR(SEARCH(\"Propane\",$H$5),0)>0,VLOOKUP(\"Propane\",HVACg_Lookup,MATCH(Worksheet!$H$6,BuildingSize,0)+1,FALSE),0)))","v":0},0,0,{"$f":"IF(OR($B$4=\"\",$B$5=\"\",$H$4=\"\",$H$6=\"\",$H$5=\"\",A389=\"\",F389=\"\",J389=\"\",O389=\"\",P389=\"\")=TRUE,\"\",IF(C389=\"OSW\",IF(J389>=2,1,0),IF(C389=\"OSR\",IF(AND(J389>=2,P389>60)=TRUE,1,0),IF(C389=\"OSRH\",IF(AND(J389>=1,P389>90)=TRUE,1,0),IF(C389=\"OHLC\",IF(AND(N389=\"Y\",P389>60)=TRUE,1,0),IF(C389=\"DDC\",IF(AND(J389>=4,N389=\"Y\",P389>120)=TRUE,1,0),0))))))","v":""},{"$f":"IF(OR($B$4=\"\",$B$5=\"\",$H$4=\"\",$H$6=\"\",$H$5=\"\",A389=\"\",F389=\"\",K389=\"\",O389=\"\",P389=\"\")=TRUE,\"\",IF(C389=\"OSW\",IF(K389>=2,1,0),IF(C389=\"OSR\",IF(AND(K389>=2,Q389>60)=TRUE,1,0),IF(C389=\"OSRH\",IF(AND(K389>=1,Q389>90)=TRUE,1,0),IF(C389=\"OHLC\",IF(AND(N389=\"Y\",Q389>60)=TRUE,1,0),IF(C389=\"DDC\",IF(AND(K389>=4,N389=\"Y\",Q389>120)=TRUE,1,0),0))))))","v":""}]
[null,null,"",null,null,null,null,null,null,null,null,null,null,null,null,0,0,0,0,"",0,0,0,0,0,{"$f":"IF($H$4=\"\",0,VLOOKUP($H$4,BuildingType_Lookup,3,FALSE))","v":0},{"$f":"IF($H$4=\"\",0,VLOOKUP($H$4,BuildingType_Lookup,2,FALSE))","v":0},{"$f":"IF(AND(OR(AN390=\"\",AN390=0)=TRUE,OR(AO390=\"\",AO390=0))=TRUE,0,IF(AO390=\"\",(IF(OR(C390=\"DDC\",C390=\"OHLC\")=TRUE,O390,P390)/1000)*Y390*Z390*(1+VLOOKUP($H$4,BuildingType_Lookup,4,FALSE)),IF(AO390=0,0,(IF(OR(C390=\"DDC\",C390=\"OHLC\")=TRUE,O390,Q390)/1000)*Y390*Z390*(1+VLOOKUP($H$4,BuildingType_Lookup,4,FALSE)))))","v":0},{"$f":"IF(AND(OR(AN390=\"\",AN390=0)=TRUE,OR(AO390=\"\",AO390=0))=TRUE,0,IF(AO390=\"\",(IF(OR(C390=\"DDC\",C390=\"OHLC\")=TRUE,O390,P390)/1000)*Y390*AA390*(1+VLOOKUP($H$4,BuildingType_Lookup,MATCH($H$5,HVAC,0)+4,FALSE)),IF(AO390=0,0,(IF(OR(C390=\"DDC\",C390=\"OHLC\")=TRUE,O390,Q390)/1000)*Y390*AA390*(1+VLOOKUP($H$4,BuildingType_Lookup,MATCH($H$5,HVAC,0)+4,FALSE)))))","v":0},0,0,0,0,0,0,{"$f":"W390/1000*Y390*AA390*IF(IFERROR(SEARCH(\"Gas\",$H$5),0)>0,VLOOKUP(\"Gas\",HVACg_Lookup,MATCH($H$6,BuildingSize,0)+1,FALSE),IF(IFERROR(SEARCH(\"Oil\",$H$5),0)>0,VLOOKUP(\"Oil\",HVACg_Lookup,MATCH($H$6,BuildingSize,0)+1,FALSE),IF(IFERROR(SEARCH(\"Propane\",$H$5),0)>0,VLOOKUP(\"Propane\",HVACg_Lookup,MATCH(Worksheet!$H$6,BuildingSize,0)+1,FALSE),0)))","v":0},{"$f":"X390/1000*Y390*AA390*IF(IFERROR(SEARCH(\"Gas\",$H$5),0)>0,VLOOKUP(\"Gas\",HVACg_Lookup,MATCH($H$6,BuildingSize,0)+1,FALSE),IF(IFERROR(SEARCH(\"Oil\",$H$5),0)>0,VLOOKUP(\"Oil\",HVACg_Lookup,MATCH($H$6,BuildingSize,0)+1,FALSE),IF(IFERROR(SEARCH(\"Propane\",$H$5),0)>0,VLOOKUP(\"Propane\",HVACg_Lookup,MATCH(Worksheet!$H$6,BuildingSize,0)+1,FALSE),0)))","v":0},0,0,{"$f":"IF(OR($B$4=\"\",$B$5=\"\",$H$4=\"\",$H$6=\"\",$H$5=\"\",A390=\"\",F390=\"\",J390=\"\",O390=\"\",P390=\"\")=TRUE,\"\",IF(C390=\"OSW\",IF(J390>=2,1,0),IF(C390=\"OSR\",IF(AND(J390>=2,P390>60)=TRUE,1,0),IF(C390=\"OSRH\",IF(AND(J390>=1,P390>90)=TRUE,1,0),IF(C390=\"OHLC\",IF(AND(N390=\"Y\",P390>60)=TRUE,1,0),IF(C390=\"DDC\",IF(AND(J390>=4,N390=\"Y\",P390>120)=TRUE,1,0),0))))))","v":""},{"$f":"IF(OR($B$4=\"\",$B$5=\"\",$H$4=\"\",$H$6=\"\",$H$5=\"\",A390=\"\",F390=\"\",K390=\"\",O390=\"\",P390=\"\")=TRUE,\"\",IF(C390=\"OSW\",IF(K390>=2,1,0),IF(C390=\"OSR\",IF(AND(K390>=2,Q390>60)=TRUE,1,0),IF(C390=\"OSRH\",IF(AND(K390>=1,Q390>90)=TRUE,1,0),IF(C390=\"OHLC\",IF(AND(N390=\"Y\",Q390>60)=TRUE,1,0),IF(C390=\"DDC\",IF(AND(K390>=4,N390=\"Y\",Q390>120)=TRUE,1,0),0))))))","v":""}]
[null,null,"",null,null,null,null,null,null,null,null,null,null,null,null,0,0,0,0,"",0,0,0,0,0,{"$f":"IF($H$4=\"\",0,VLOOKUP($H$4,BuildingType_Lookup,3,FALSE))","v":0},{"$f":"IF($H$4=\"\",0,VLOOKUP($H$4,BuildingType_Lookup,2,FALSE))","v":0},{"$f":"IF(AND(OR(AN391=\"\",AN391=0)=TRUE,OR(AO391=\"\",AO391=0))=TRUE,0,IF(AO391=\"\",(IF(OR(C391=\"DDC\",C391=\"OHLC\")=TRUE,O391,P391)/1000)*Y391*Z391*(1+VLOOKUP($H$4,BuildingType_Lookup,4,FALSE)),IF(AO391=0,0,(IF(OR(C391=\"DDC\",C391=\"OHLC\")=TRUE,O391,Q391)/1000)*Y391*Z391*(1+VLOOKUP($H$4,BuildingType_Lookup,4,FALSE)))))","v":0},{"$f":"IF(AND(OR(AN391=\"\",AN391=0)=TRUE,OR(AO391=\"\",AO391=0))=TRUE,0,IF(AO391=\"\",(IF(OR(C391=\"DDC\",C391=\"OHLC\")=TRUE,O391,P391)/1000)*Y391*AA391*(1+VLOOKUP($H$4,BuildingType_Lookup,MATCH($H$5,HVAC,0)+4,FALSE)),IF(AO391=0,0,(IF(OR(C391=\"DDC\",C391=\"OHLC\")=TRUE,O391,Q391)/1000)*Y391*AA391*(1+VLOOKUP($H$4,BuildingType_Lookup,MATCH($H$5,HVAC,0)+4,FALSE)))))","v":0},0,0,0,0,0,0,{"$f":"W391/1000*Y391*AA391*IF(IFERROR(SEARCH(\"Gas\",$H$5),0)>0,VLOOKUP(\"Gas\",HVACg_Lookup,MATCH($H$6,BuildingSize,0)+1,FALSE),IF(IFERROR(SEARCH(\"Oil\",$H$5),0)>0,VLOOKUP(\"Oil\",HVACg_Lookup,MATCH($H$6,BuildingSize,0)+1,FALSE),IF(IFERROR(SEARCH(\"Propane\",$H$5),0)>0,VLOOKUP(\"Propane\",HVACg_Lookup,MATCH(Worksheet!$H$6,BuildingSize,0)+1,FALSE),0)))","v":0},{"$f":"X391/1000*Y391*AA391*IF(IFERROR(SEARCH(\"Gas\",$H$5),0)>0,VLOOKUP(\"Gas\",HVACg_Lookup,MATCH($H$6,BuildingSize,0)+1,FALSE),IF(IFERROR(SEARCH(\"Oil\",$H$5),0)>0,VLOOKUP(\"Oil\",HVACg_Lookup,MATCH($H$6,BuildingSize,0)+1,FALSE),IF(IFERROR(SEARCH(\"Propane\",$H$5),0)>0,VLOOKUP(\"Propane\",HVACg_Lookup,MATCH(Worksheet!$H$6,BuildingSize,0)+1,FALSE),0)))","v":0},0,0,{"$f":"IF(OR($B$4=\"\",$B$5=\"\",$H$4=\"\",$H$6=\"\",$H$5=\"\",A391=\"\",F391=\"\",J391=\"\",O391=\"\",P391=\"\")=TRUE,\"\",IF(C391=\"OSW\",IF(J391>=2,1,0),IF(C391=\"OSR\",IF(AND(J391>=2,P391>60)=TRUE,1,0),IF(C391=\"OSRH\",IF(AND(J391>=1,P391>90)=TRUE,1,0),IF(C391=\"OHLC\",IF(AND(N391=\"Y\",P391>60)=TRUE,1,0),IF(C391=\"DDC\",IF(AND(J391>=4,N391=\"Y\",P391>120)=TRUE,1,0),0))))))","v":""},{"$f":"IF(OR($B$4=\"\",$B$5=\"\",$H$4=\"\",$H$6=\"\",$H$5=\"\",A391=\"\",F391=\"\",K391=\"\",O391=\"\",P391=\"\")=TRUE,\"\",IF(C391=\"OSW\",IF(K391>=2,1,0),IF(C391=\"OSR\",IF(AND(K391>=2,Q391>60)=TRUE,1,0),IF(C391=\"OSRH\",IF(AND(K391>=1,Q391>90)=TRUE,1,0),IF(C391=\"OHLC\",IF(AND(N391=\"Y\",Q391>60)=TRUE,1,0),IF(C391=\"DDC\",IF(AND(K391>=4,N391=\"Y\",Q391>120)=TRUE,1,0),0))))))","v":""}]
[null,null,"",null,null,null,null,null,null,null,null,null,null,null,null,0,0,0,0,"",0,0,0,0,0,{"$f":"IF($H$4=\"\",0,VLOOKUP($H$4,BuildingType_Lookup,3,FALSE))","v":0},{"$f":"IF($H$4=\"\",0,VLOOKUP($H$4,BuildingType_Lookup,2,FALSE))","v":0},{"$f":"IF(AND(OR(AN392=\"\",AN392=0)=TRUE,OR(AO392=\"\",AO392=0))=TRUE,0,IF(AO392=\"\",(IF(OR(C392=\"DDC\",C392=\"OHLC\")=TRUE,O392,P392)/1000)*Y392*Z392*(1+VLOOKUP($H$4,BuildingType_Lookup,4,FALSE)),IF(AO392=0,0,(IF(OR(C392=\"DDC\",C392=\"OHLC\")=TRUE,O392,Q392)/1000)*Y392*Z392*(1+VLOOKUP($H$4,BuildingType_Lookup,4,FALSE)))))","v":0},{"$f":"IF(AND(OR(AN392=\"\",AN392=0)=TRUE,OR(AO392=\"\",AO392=0))=TRUE,0,IF(AO392=\"\",(IF(OR(C392=\"DDC\",C392=\"OHLC\")=TRUE,O392,P392)/1000)*Y392*AA392*(1+VLOOKUP($H$4,BuildingType_Lookup,MATCH($H$5,HVAC,0)+4,FALSE)),IF(AO392=0,0,(IF(OR(C392=\"DDC\",C392=\"OHLC\")=TRUE,O392,Q392)/1000)*Y392*AA392*(1+VLOOKUP($H$4,BuildingType_Lookup,MATCH($H$5,HVAC,0)+4,FALSE)))))","v":0},0,0,0,0,0,0,{"$f":"W392/1000*Y392*AA392*IF(IFERROR(SEARCH(\"Gas\",$H$5),0)>0,VLOOKUP(\"Gas\",HVACg_Lookup,MATCH($H$6,BuildingSize,0)+1,FALSE),IF(IFERROR(SEARCH(\"Oil\",$H$5),0)>0,VLOOKUP(\"Oil\",HVACg_Lookup,MATCH($H$6,BuildingSize,0)+1,FALSE),IF(IFERROR(SEARCH(\"Propane\",$H$5),0)>0,VLOOKUP(\"Propane\",HVACg_Lookup,MATCH(Worksheet!$H$6,BuildingSize,0)+1,FALSE),0)))","v":0},{"$f":"X392/1000*Y392*AA392*IF(IFERROR(SEARCH(\"Gas\",$H$5),0)>0,VLOOKUP(\"Gas\",HVACg_Lookup,MATCH($H$6,BuildingSize,0)+1,FALSE),IF(IFERROR(SEARCH(\"Oil\",$H$5),0)>0,VLOOKUP(\"Oil\",HVACg_Lookup,MATCH($H$6,BuildingSize,0)+1,FALSE),IF(IFERROR(SEARCH(\"Propane\",$H$5),0)>0,VLOOKUP(\"Propane\",HVACg_Lookup,MATCH(Worksheet!$H$6,BuildingSize,0)+1,FALSE),0)))","v":0},0,0,{"$f":"IF(OR($B$4=\"\",$B$5=\"\",$H$4=\"\",$H$6=\"\",$H$5=\"\",A392=\"\",F392=\"\",J392=\"\",O392=\"\",P392=\"\")=TRUE,\"\",IF(C392=\"OSW\",IF(J392>=2,1,0),IF(C392=\"OSR\",IF(AND(J392>=2,P392>60)=TRUE,1,0),IF(C392=\"OSRH\",IF(AND(J392>=1,P392>90)=TRUE,1,0),IF(C392=\"OHLC\",IF(AND(N392=\"Y\",P392>60)=TRUE,1,0),IF(C392=\"DDC\",IF(AND(J392>=4,N392=\"Y\",P392>120)=TRUE,1,0),0))))))","v":""},{"$f":"IF(OR($B$4=\"\",$B$5=\"\",$H$4=\"\",$H$6=\"\",$H$5=\"\",A392=\"\",F392=\"\",K392=\"\",O392=\"\",P392=\"\")=TRUE,\"\",IF(C392=\"OSW\",IF(K392>=2,1,0),IF(C392=\"OSR\",IF(AND(K392>=2,Q392>60)=TRUE,1,0),IF(C392=\"OSRH\",IF(AND(K392>=1,Q392>90)=TRUE,1,0),IF(C392=\"OHLC\",IF(AND(N392=\"Y\",Q392>60)=TRUE,1,0),IF(C392=\"DDC\",IF(AND(K392>=4,N392=\"Y\",Q392>120)=TRUE,1,0),0))))))","v":""}]
[null,null,"",null,null,null,null,null,null,null,null,null,null,null,null,0,0,0,0,"",0,0,0,0,0,{"$f":"IF($H$4=\"\",0,VLOOKUP($H$4,BuildingType_Lookup,3,FALSE))","v":0},{"$f":"IF($H$4=\"\",0,VLOOKUP($H$4,BuildingType_Lookup,2,FALSE))","v":0},{"$f":"IF(AND(OR(AN393=\"\",AN393=0)=TRUE,OR(AO393=\"\",AO393=0))=TRUE,0,IF(AO393=\"\",(IF(OR(C393=\"DDC\",C393=\"OHLC\")=TRUE,O393,P393)/1000)*Y393*Z393*(1+VLOOKUP($H$4,BuildingType_Lookup,4,FALSE)),IF(AO393=0,0,(IF(OR(C393=\"DDC\",C393=\"OHLC\")=TRUE,O393,Q393)/1000)*Y393*Z393*(1+VLOOKUP($H$4,BuildingType_Lookup,4,FALSE)))))","v":0},{"$f":"IF(AND(OR(AN393=\"\",AN393=0)=TRUE,OR(AO393=\"\",AO393=0))=TRUE,0,IF(AO393=\"\",(IF(OR(C393=\"DDC\",C393=\"OHLC\")=TRUE,O393,P393)/1000)*Y393*AA393*(1+VLOOKUP($H$4,BuildingType_Lookup,MATCH($H$5,HVAC,0)+4,FALSE)),IF(AO393=0,0,(IF(OR(C393=\"DDC\",C393=\"OHLC\")=TRUE,O393,Q393)/1000)*Y393*AA393*(1+VLOOKUP($H$4,BuildingType_Lookup,MATCH($H$5,HVAC,0)+4,FALSE)))))","v":0},0,0,0,0,0,0,{"$f":"W393/1000*Y393*AA393*IF(IFERROR(SEARCH(\"Gas\",$H$5),0)>0,VLOOKUP(\"Gas\",HVACg_Lookup,MATCH($H$6,BuildingSize,0)+1,FALSE),IF(IFERROR(SEARCH(\"Oil\",$H$5),0)>0,VLOOKUP(\"Oil\",HVACg_Lookup,MATCH($H$6,BuildingSize,0)+1,FALSE),IF(IFERROR(SEARCH(\"Propane\",$H$5),0)>0,VLOOKUP(\"Propane\",HVACg_Lookup,MATCH(Worksheet!$H$6,BuildingSize,0)+1,FALSE),0)))","v":0},{"$f":"X393/1000*Y393*AA393*IF(IFERROR(SEARCH(\"Gas\",$H$5),0)>0,VLOOKUP(\"Gas\",HVACg_Lookup,MATCH($H$6,BuildingSize,0)+1,FALSE),IF(IFERROR(SEARCH(\"Oil\",$H$5),0)>0,VLOOKUP(\"Oil\",HVACg_Lookup,MATCH($H$6,BuildingSize,0)+1,FALSE),IF(IFERROR(SEARCH(\"Propane\",$H$5),0)>0,VLOOKUP(\"Propane\",HVACg_Lookup,MATCH(Worksheet!$H$6,BuildingSize,0)+1,FALSE),0)))","v":0},0,0,{"$f":"IF(OR($B$4=\"\",$B$5=\"\",$H$4=\"\",$H$6=\"\",$H$5=\"\",A393=\"\",F393=\"\",J393=\"\",O393=\"\",P393=\"\")=TRUE,\"\",IF(C393=\"OSW\",IF(J393>=2,1,0),IF(C393=\"OSR\",IF(AND(J393>=2,P393>60)=TRUE,1,0),IF(C393=\"OSRH\",IF(AND(J393>=1,P393>90)=TRUE,1,0),IF(C393=\"OHLC\",IF(AND(N393=\"Y\",P393>60)=TRUE,1,0),IF(C393=\"DDC\",IF(AND(J393>=4,N393=\"Y\",P393>120)=TRUE,1,0),0))))))","v":""},{"$f":"IF(OR($B$4=\"\",$B$5=\"\",$H$4=\"\",$H$6=\"\",$H$5=\"\",A393=\"\",F393=\"\",K393=\"\",O393=\"\",P393=\"\")=TRUE,\"\",IF(C393=\"OSW\",IF(K393>=2,1,0),IF(C393=\"OSR\",IF(AND(K393>=2,Q393>60)=TRUE,1,0),IF(C393=\"OSRH\",IF(AND(K393>=1,Q393>90)=TRUE,1,0),IF(C393=\"OHLC\",IF(AND(N393=\"Y\",Q393>60)=TRUE,1,0),IF(C393=\"DDC\",IF(AND(K393>=4,N393=\"Y\",Q393>120)=TRUE,1,0),0))))))","v":""}]
[null,null,"",null,null,null,null,null,null,null,null,null,null,null,null,0,0,0,0,"",0,0,0,0,0,{"$f":"IF($H$4=\"\",0,VLOOKUP($H$4,BuildingType_Lookup,3,FALSE))","v":0},{"$f":"IF($H$4=\"\",0,VLOOKUP($H$4,BuildingType_Lookup,2,FALSE))","v":0},{"$f":"IF(AND(OR(AN394=\"\",AN394=0)=TRUE,OR(AO394=\"\",AO394=0))=TRUE,0,IF(AO394=\"\",(IF(OR(C394=\"DDC\",C394=\"OHLC\")=TRUE,O394,P394)/1000)*Y394*Z394*(1+VLOOKUP($H$4,BuildingType_Lookup,4,FALSE)),IF(AO394=0,0,(IF(OR(C394=\"DDC\",C394=\"OHLC\")=TRUE,O394,Q394)/1000)*Y394*Z394*(1+VLOOKUP($H$4,BuildingType_Lookup,4,FALSE)))))","v":0},{"$f":"IF(AND(OR(AN394=\"\",AN394=0)=TRUE,OR(AO394=\"\",AO394=0))=TRUE,0,IF(AO394=\"\",(IF(OR(C394=\"DDC\",C394=\"OHLC\")=TRUE,O394,P394)/1000)*Y394*AA394*(1+VLOOKUP($H$4,BuildingType_Lookup,MATCH($H$5,HVAC,0)+4,FALSE)),IF(AO394=0,0,(IF(OR(C394=\"DDC\",C394=\"OHLC\")=TRUE,O394,Q394)/1000)*Y394*AA394*(1+VLOOKUP($H$4,BuildingType_Lookup,MATCH($H$5,HVAC,0)+4,FALSE)))))","v":0},0,0,0,0,0,0,{"$f":"W394/1000*Y394*AA394*IF(IFERROR(SEARCH(\"Gas\",$H$5),0)>0,VLOOKUP(\"Gas\",HVACg_Lookup,MATCH($H$6,BuildingSize,0)+1,FALSE),IF(IFERROR(SEARCH(\"Oil\",$H$5),0)>0,VLOOKUP(\"Oil\",HVACg_Lookup,MATCH($H$6,BuildingSize,0)+1,FALSE),IF(IFERROR(SEARCH(\"Propane\",$H$5),0)>0,VLOOKUP(\"Propane\",HVACg_Lookup,MATCH(Worksheet!$H$6,BuildingSize,0)+1,FALSE),0)))","v":0},{"$f":"X394/1000*Y394*AA394*IF(IFERROR(SEARCH(\"Gas\",$H$5),0)>0,VLOOKUP(\"Gas\",HVACg_Lookup,MATCH($H$6,BuildingSize,0)+1,FALSE),IF(IFERROR(SEARCH(\"Oil\",$H$5),0)>0,VLOOKUP(\"Oil\",HVACg_Lookup,MATCH($H$6,BuildingSize,0)+1,FALSE),IF(IFERROR(SEARCH(\"Propane\",$H$5),0)>0,VLOOKUP(\"Propane\",HVACg_Lookup,MATCH(Worksheet!$H$6,BuildingSize,0)+1,FALSE),0)))","v":0},0,0,{"$f":"IF(OR($B$4=\"\",$B$5=\"\",$H$4=\"\",$H$6=\"\",$H$5=\"\",A394=\"\",F394=\"\",J394=\"\",O394=\"\",P394=\"\")=TRUE,\"\",IF(C394=\"OSW\",IF(J394>=2,1,0),IF(C394=\"OSR\",IF(AND(J394>=2,P394>60)=TRUE,1,0),IF(C394=\"OSRH\",IF(AND(J394>=1,P394>90)=TRUE,1,0),IF(C394=\"OHLC\",IF(AND(N394=\"Y\",P394>60)=TRUE,1,0),IF(C394=\"DDC\",IF(AND(J394>=4,N394=\"Y\",P394>120)=TRUE,1,0),0))))))","v":""},{"$f":"IF(OR($B$4=\"\",$B$5=\"\",$H$4=\"\",$H$6=\"\",$H$5=\"\",A394=\"\",F394=\"\",K394=\"\",O394=\"\",P394=\"\")=TRUE,\"\",IF(C394=\"OSW\",IF(K394>=2,1,0),IF(C394=\"OSR\",IF(AND(K394>=2,Q394>60)=TRUE,1,0),IF(C394=\"OSRH\",IF(AND(K394>=1,Q394>90)=TRUE,1,0),IF(C394=\"OHLC\",IF(AND(N394=\"Y\",Q394>60)=TRUE,1,0),IF(C394=\"DDC\",IF(AND(K394>=4,N394=\"Y\",Q394>120)=TRUE,1,0),0))))))","v":""}]
[null,null,"",null,null,null,null,null,null,null,null,null,null,null,null,0,0,0,0,"",0,0,0,0,0,{"$f":"IF($H$4=\"\",0,VLOOKUP($H$4,BuildingType_Lookup,3,FALSE))","v":0},{"$f":"IF($H$4=\"\",0,VLOOKUP($H$4,BuildingType_Lookup,2,FALSE))","v":0},{"$f":"IF(AND(OR(AN395=\"\",AN395=0)=TRUE,OR(AO395=\"\",AO395=0))=TRUE,0,IF(AO395=\"\",(IF(OR(C395=\"DDC\",C395=\"OHLC\")=TRUE,O395,P395)/1000)*Y395*Z395*(1+VLOOKUP($H$4,BuildingType_Lookup,4,FALSE)),IF(AO395=0,0,(IF(OR(C395=\"DDC\",C395=\"OHLC\")=TRUE,O395,Q395)/1000)*Y395*Z395*(1+VLOOKUP($H$4,BuildingType_Lookup,4,FALSE)))))","v":0},{"$f":"IF(AND(OR(AN395=\"\",AN395=0)=TRUE,OR(AO395=\"\",AO395=0))=TRUE,0,IF(AO395=\"\",(IF(OR(C395=\"DDC\",C395=\"OHLC\")=TRUE,O395,P395)/1000)*Y395*AA395*(1+VLOOKUP($H$4,BuildingType_Lookup,MATCH($H$5,HVAC,0)+4,FALSE)),IF(AO395=0,0,(IF(OR(C395=\"DDC\",C395=\"OHLC\")=TRUE,O395,Q395)/1000)*Y395*AA395*(1+VLOOKUP($H$4,BuildingType_Lookup,MATCH($H$5,HVAC,0)+4,FALSE)))))","v":0},0,0,0,0,0,0,{"$f":"W395/1000*Y395*AA395*IF(IFERROR(SEARCH(\"Gas\",$H$5),0)>0,VLOOKUP(\"Gas\",HVACg_Lookup,MATCH($H$6,BuildingSize,0)+1,FALSE),IF(IFERROR(SEARCH(\"Oil\",$H$5),0)>0,VLOOKUP(\"Oil\",HVACg_Lookup,MATCH($H$6,BuildingSize,0)+1,FALSE),IF(IFERROR(SEARCH(\"Propane\",$H$5),0)>0,VLOOKUP(\"Propane\",HVACg_Lookup,MATCH(Worksheet!$H$6,BuildingSize,0)+1,FALSE),0)))","v":0},{"$f":"X395/1000*Y395*AA395*IF(IFERROR(SEARCH(\"Gas\",$H$5),0)>0,VLOOKUP(\"Gas\",HVACg_Lookup,MATCH($H$6,BuildingSize,0)+1,FALSE),IF(IFERROR(SEARCH(\"Oil\",$H$5),0)>0,VLOOKUP(\"Oil\",HVACg_Lookup,MATCH($H$6,BuildingSize,0)+1,FALSE),IF(IFERROR(SEARCH(\"Propane\",$H$5),0)>0,VLOOKUP(\"Propane\",HVACg_Lookup,MATCH(Worksheet!$H$6,BuildingSize,0)+1,FALSE),0)))","v":0},0,0,{"$f":"IF(OR($B$4=\"\",$B$5=\"\",$H$4=\"\",$H$6=\"\",$H$5=\"\",A395=\"\",F395=\"\",J395=\"\",O395=\"\",P395=\"\")=TRUE,\"\",IF(C395=\"OSW\",IF(J395>=2,1,0),IF(C395=\"OSR\",IF(AND(J395>=2,P395>60)=TRUE,1,0),IF(C395=\"OSRH\",IF(AND(J395>=1,P395>90)=TRUE,1,0),IF(C395=\"OHLC\",IF(AND(N395=\"Y\",P395>60)=TRUE,1,0),IF(C395=\"DDC\",IF(AND(J395>=4,N395=\"Y\",P395>120)=TRUE,1,0),0))))))","v":""},{"$f":"IF(OR($B$4=\"\",$B$5=\"\",$H$4=\"\",$H$6=\"\",$H$5=\"\",A395=\"\",F395=\"\",K395=\"\",O395=\"\",P395=\"\")=TRUE,\"\",IF(C395=\"OSW\",IF(K395>=2,1,0),IF(C395=\"OSR\",IF(AND(K395>=2,Q395>60)=TRUE,1,0),IF(C395=\"OSRH\",IF(AND(K395>=1,Q395>90)=TRUE,1,0),IF(C395=\"OHLC\",IF(AND(N395=\"Y\",Q395>60)=TRUE,1,0),IF(C395=\"DDC\",IF(AND(K395>=4,N395=\"Y\",Q395>120)=TRUE,1,0),0))))))","v":""}]
[null,null,"",null,null,null,null,null,null,null,null,null,null,null,null,0,0,0,0,"",0,0,0,0,0,{"$f":"IF($H$4=\"\",0,VLOOKUP($H$4,BuildingType_Lookup,3,FALSE))","v":0},{"$f":"IF($H$4=\"\",0,VLOOKUP($H$4,BuildingType_Lookup,2,FALSE))","v":0},{"$f":"IF(AND(OR(AN396=\"\",AN396=0)=TRUE,OR(AO396=\"\",AO396=0))=TRUE,0,IF(AO396=\"\",(IF(OR(C396=\"DDC\",C396=\"OHLC\")=TRUE,O396,P396)/1000)*Y396*Z396*(1+VLOOKUP($H$4,BuildingType_Lookup,4,FALSE)),IF(AO396=0,0,(IF(OR(C396=\"DDC\",C396=\"OHLC\")=TRUE,O396,Q396)/1000)*Y396*Z396*(1+VLOOKUP($H$4,BuildingType_Lookup,4,FALSE)))))","v":0},{"$f":"IF(AND(OR(AN396=\"\",AN396=0)=TRUE,OR(AO396=\"\",AO396=0))=TRUE,0,IF(AO396=\"\",(IF(OR(C396=\"DDC\",C396=\"OHLC\")=TRUE,O396,P396)/1000)*Y396*AA396*(1+VLOOKUP($H$4,BuildingType_Lookup,MATCH($H$5,HVAC,0)+4,FALSE)),IF(AO396=0,0,(IF(OR(C396=\"DDC\",C396=\"OHLC\")=TRUE,O396,Q396)/1000)*Y396*AA396*(1+VLOOKUP($H$4,BuildingType_Lookup,MATCH($H$5,HVAC,0)+4,FALSE)))))","v":0},0,0,0,0,0,0,{"$f":"W396/1000*Y396*AA396*IF(IFERROR(SEARCH(\"Gas\",$H$5),0)>0,VLOOKUP(\"Gas\",HVACg_Lookup,MATCH($H$6,BuildingSize,0)+1,FALSE),IF(IFERROR(SEARCH(\"Oil\",$H$5),0)>0,VLOOKUP(\"Oil\",HVACg_Lookup,MATCH($H$6,BuildingSize,0)+1,FALSE),IF(IFERROR(SEARCH(\"Propane\",$H$5),0)>0,VLOOKUP(\"Propane\",HVACg_Lookup,MATCH(Worksheet!$H$6,BuildingSize,0)+1,FALSE),0)))","v":0},{"$f":"X396/1000*Y396*AA396*IF(IFERROR(SEARCH(\"Gas\",$H$5),0)>0,VLOOKUP(\"Gas\",HVACg_Lookup,MATCH($H$6,BuildingSize,0)+1,FALSE),IF(IFERROR(SEARCH(\"Oil\",$H$5),0)>0,VLOOKUP(\"Oil\",HVACg_Lookup,MATCH($H$6,BuildingSize,0)+1,FALSE),IF(IFERROR(SEARCH(\"Propane\",$H$5),0)>0,VLOOKUP(\"Propane\",HVACg_Lookup,MATCH(Worksheet!$H$6,BuildingSize,0)+1,FALSE),0)))","v":0},0,0,{"$f":"IF(OR($B$4=\"\",$B$5=\"\",$H$4=\"\",$H$6=\"\",$H$5=\"\",A396=\"\",F396=\"\",J396=\"\",O396=\"\",P396=\"\")=TRUE,\"\",IF(C396=\"OSW\",IF(J396>=2,1,0),IF(C396=\"OSR\",IF(AND(J396>=2,P396>60)=TRUE,1,0),IF(C396=\"OSRH\",IF(AND(J396>=1,P396>90)=TRUE,1,0),IF(C396=\"OHLC\",IF(AND(N396=\"Y\",P396>60)=TRUE,1,0),IF(C396=\"DDC\",IF(AND(J396>=4,N396=\"Y\",P396>120)=TRUE,1,0),0))))))","v":""},{"$f":"IF(OR($B$4=\"\",$B$5=\"\",$H$4=\"\",$H$6=\"\",$H$5=\"\",A396=\"\",F396=\"\",K396=\"\",O396=\"\",P396=\"\")=TRUE,\"\",IF(C396=\"OSW\",IF(K396>=2,1,0),IF(C396=\"OSR\",IF(AND(K396>=2,Q396>60)=TRUE,1,0),IF(C396=\"OSRH\",IF(AND(K396>=1,Q396>90)=TRUE,1,0),IF(C396=\"OHLC\",IF(AND(N396=\"Y\",Q396>60)=TRUE,1,0),IF(C396=\"DDC\",IF(AND(K396>=4,N396=\"Y\",Q396>120)=TRUE,1,0),0))))))","v":""}]
[null,null,"",null,null,null,null,null,null,null,null,null,null,null,null,0,0,0,0,"",0,0,0,0,0,{"$f":"IF($H$4=\"\",0,VLOOKUP($H$4,BuildingType_Lookup,3,FALSE))","v":0},{"$f":"IF($H$4=\"\",0,VLOOKUP($H$4,BuildingType_Lookup,2,FALSE))","v":0},{"$f":"IF(AND(OR(AN397=\"\",AN397=0)=TRUE,OR(AO397=\"\",AO397=0))=TRUE,0,IF(AO397=\"\",(IF(OR(C397=\"DDC\",C397=\"OHLC\")=TRUE,O397,P397)/1000)*Y397*Z397*(1+VLOOKUP($H$4,BuildingType_Lookup,4,FALSE)),IF(AO397=0,0,(IF(OR(C397=\"DDC\",C397=\"OHLC\")=TRUE,O397,Q397)/1000)*Y397*Z397*(1+VLOOKUP($H$4,BuildingType_Lookup,4,FALSE)))))","v":0},{"$f":"IF(AND(OR(AN397=\"\",AN397=0)=TRUE,OR(AO397=\"\",AO397=0))=TRUE,0,IF(AO397=\"\",(IF(OR(C397=\"DDC\",C397=\"OHLC\")=TRUE,O397,P397)/1000)*Y397*AA397*(1+VLOOKUP($H$4,BuildingType_Lookup,MATCH($H$5,HVAC,0)+4,FALSE)),IF(AO397=0,0,(IF(OR(C397=\"DDC\",C397=\"OHLC\")=TRUE,O397,Q397)/1000)*Y397*AA397*(1+VLOOKUP($H$4,BuildingType_Lookup,MATCH($H$5,HVAC,0)+4,FALSE)))))","v":0},0,0,0,0,0,0,{"$f":"W397/1000*Y397*AA397*IF(IFERROR(SEARCH(\"Gas\",$H$5),0)>0,VLOOKUP(\"Gas\",HVACg_Lookup,MATCH($H$6,BuildingSize,0)+1,FALSE),IF(IFERROR(SEARCH(\"Oil\",$H$5),0)>0,VLOOKUP(\"Oil\",HVACg_Lookup,MATCH($H$6,BuildingSize,0)+1,FALSE),IF(IFERROR(SEARCH(\"Propane\",$H$5),0)>0,VLOOKUP(\"Propane\",HVACg_Lookup,MATCH(Worksheet!$H$6,BuildingSize,0)+1,FALSE),0)))","v":0},{"$f":"X397/1000*Y397*AA397*IF(IFERROR(SEARCH(\"Gas\",$H$5),0)>0,VLOOKUP(\"Gas\",HVACg_Lookup,MATCH($H$6,BuildingSize,0)+1,FALSE),IF(IFERROR(SEARCH(\"Oil\",$H$5),0)>0,VLOOKUP(\"Oil\",HVACg_Lookup,MATCH($H$6,BuildingSize,0)+1,FALSE),IF(IFERROR(SEARCH(\"Propane\",$H$5),0)>0,VLOOKUP(\"Propane\",HVACg_Lookup,MATCH(Worksheet!$H$6,BuildingSize,0)+1,FALSE),0)))","v":0},0,0,{"$f":"IF(OR($B$4=\"\",$B$5=\"\",$H$4=\"\",$H$6=\"\",$H$5=\"\",A397=\"\",F397=\"\",J397=\"\",O397=\"\",P397=\"\")=TRUE,\"\",IF(C397=\"OSW\",IF(J397>=2,1,0),IF(C397=\"OSR\",IF(AND(J397>=2,P397>60)=TRUE,1,0),IF(C397=\"OSRH\",IF(AND(J397>=1,P397>90)=TRUE,1,0),IF(C397=\"OHLC\",IF(AND(N397=\"Y\",P397>60)=TRUE,1,0),IF(C397=\"DDC\",IF(AND(J397>=4,N397=\"Y\",P397>120)=TRUE,1,0),0))))))","v":""},{"$f":"IF(OR($B$4=\"\",$B$5=\"\",$H$4=\"\",$H$6=\"\",$H$5=\"\",A397=\"\",F397=\"\",K397=\"\",O397=\"\",P397=\"\")=TRUE,\"\",IF(C397=\"OSW\",IF(K397>=2,1,0),IF(C397=\"OSR\",IF(AND(K397>=2,Q397>60)=TRUE,1,0),IF(C397=\"OSRH\",IF(AND(K397>=1,Q397>90)=TRUE,1,0),IF(C397=\"OHLC\",IF(AND(N397=\"Y\",Q397>60)=TRUE,1,0),IF(C397=\"DDC\",IF(AND(K397>=4,N397=\"Y\",Q397>120)=TRUE,1,0),0))))))","v":""}]
[null,null,"",null,null,null,null,null,null,null,null,null,null,null,null,0,0,0,0,"",0,0,0,0,0,{"$f":"IF($H$4=\"\",0,VLOOKUP($H$4,BuildingType_Lookup,3,FALSE))","v":0},{"$f":"IF($H$4=\"\",0,VLOOKUP($H$4,BuildingType_Lookup,2,FALSE))","v":0},{"$f":"IF(AND(OR(AN398=\"\",AN398=0)=TRUE,OR(AO398=\"\",AO398=0))=TRUE,0,IF(AO398=\"\",(IF(OR(C398=\"DDC\",C398=\"OHLC\")=TRUE,O398,P398)/1000)*Y398*Z398*(1+VLOOKUP($H$4,BuildingType_Lookup,4,FALSE)),IF(AO398=0,0,(IF(OR(C398=\"DDC\",C398=\"OHLC\")=TRUE,O398,Q398)/1000)*Y398*Z398*(1+VLOOKUP($H$4,BuildingType_Lookup,4,FALSE)))))","v":0},{"$f":"IF(AND(OR(AN398=\"\",AN398=0)=TRUE,OR(AO398=\"\",AO398=0))=TRUE,0,IF(AO398=\"\",(IF(OR(C398=\"DDC\",C398=\"OHLC\")=TRUE,O398,P398)/1000)*Y398*AA398*(1+VLOOKUP($H$4,BuildingType_Lookup,MATCH($H$5,HVAC,0)+4,FALSE)),IF(AO398=0,0,(IF(OR(C398=\"DDC\",C398=\"OHLC\")=TRUE,O398,Q398)/1000)*Y398*AA398*(1+VLOOKUP($H$4,BuildingType_Lookup,MATCH($H$5,HVAC,0)+4,FALSE)))))","v":0},0,0,0,0,0,0,{"$f":"W398/1000*Y398*AA398*IF(IFERROR(SEARCH(\"Gas\",$H$5),0)>0,VLOOKUP(\"Gas\",HVACg_Lookup,MATCH($H$6,BuildingSize,0)+1,FALSE),IF(IFERROR(SEARCH(\"Oil\",$H$5),0)>0,VLOOKUP(\"Oil\",HVACg_Lookup,MATCH($H$6,BuildingSize,0)+1,FALSE),IF(IFERROR(SEARCH(\"Propane\",$H$5),0)>0,VLOOKUP(\"Propane\",HVACg_Lookup,MATCH(Worksheet!$H$6,BuildingSize,0)+1,FALSE),0)))","v":0},{"$f":"X398/1000*Y398*AA398*IF(IFERROR(SEARCH(\"Gas\",$H$5),0)>0,VLOOKUP(\"Gas\",HVACg_Lookup,MATCH($H$6,BuildingSize,0)+1,FALSE),IF(IFERROR(SEARCH(\"Oil\",$H$5),0)>0,VLOOKUP(\"Oil\",HVACg_Lookup,MATCH($H$6,BuildingSize,0)+1,FALSE),IF(IFERROR(SEARCH(\"Propane\",$H$5),0)>0,VLOOKUP(\"Propane\",HVACg_Lookup,MATCH(Worksheet!$H$6,BuildingSize,0)+1,FALSE),0)))","v":0},0,0,{"$f":"IF(OR($B$4=\"\",$B$5=\"\",$H$4=\"\",$H$6=\"\",$H$5=\"\",A398=\"\",F398=\"\",J398=\"\",O398=\"\",P398=\"\")=TRUE,\"\",IF(C398=\"OSW\",IF(J398>=2,1,0),IF(C398=\"OSR\",IF(AND(J398>=2,P398>60)=TRUE,1,0),IF(C398=\"OSRH\",IF(AND(J398>=1,P398>90)=TRUE,1,0),IF(C398=\"OHLC\",IF(AND(N398=\"Y\",P398>60)=TRUE,1,0),IF(C398=\"DDC\",IF(AND(J398>=4,N398=\"Y\",P398>120)=TRUE,1,0),0))))))","v":""},{"$f":"IF(OR($B$4=\"\",$B$5=\"\",$H$4=\"\",$H$6=\"\",$H$5=\"\",A398=\"\",F398=\"\",K398=\"\",O398=\"\",P398=\"\")=TRUE,\"\",IF(C398=\"OSW\",IF(K398>=2,1,0),IF(C398=\"OSR\",IF(AND(K398>=2,Q398>60)=TRUE,1,0),IF(C398=\"OSRH\",IF(AND(K398>=1,Q398>90)=TRUE,1,0),IF(C398=\"OHLC\",IF(AND(N398=\"Y\",Q398>60)=TRUE,1,0),IF(C398=\"DDC\",IF(AND(K398>=4,N398=\"Y\",Q398>120)=TRUE,1,0),0))))))","v":""}]
[null,null,"",null,null,null,null,null,null,null,null,null,null,null,null,0,0,0,0,"",0,0,0,0,0,{"$f":"IF($H$4=\"\",0,VLOOKUP($H$4,BuildingType_Lookup,3,FALSE))","v":0},{"$f":"IF($H$4=\"\",0,VLOOKUP($H$4,BuildingType_Lookup,2,FALSE))","v":0},{"$f":"IF(AND(OR(AN399=\"\",AN399=0)=TRUE,OR(AO399=\"\",AO399=0))=TRUE,0,IF(AO399=\"\",(IF(OR(C399=\"DDC\",C399=\"OHLC\")=TRUE,O399,P399)/1000)*Y399*Z399*(1+VLOOKUP($H$4,BuildingType_Lookup,4,FALSE)),IF(AO399=0,0,(IF(OR(C399=\"DDC\",C399=\"OHLC\")=TRUE,O399,Q399)/1000)*Y399*Z399*(1+VLOOKUP($H$4,BuildingType_Lookup,4,FALSE)))))","v":0},{"$f":"IF(AND(OR(AN399=\"\",AN399=0)=TRUE,OR(AO399=\"\",AO399=0))=TRUE,0,IF(AO399=\"\",(IF(OR(C399=\"DDC\",C399=\"OHLC\")=TRUE,O399,P399)/1000)*Y399*AA399*(1+VLOOKUP($H$4,BuildingType_Lookup,MATCH($H$5,HVAC,0)+4,FALSE)),IF(AO399=0,0,(IF(OR(C399=\"DDC\",C399=\"OHLC\")=TRUE,O399,Q399)/1000)*Y399*AA399*(1+VLOOKUP($H$4,BuildingType_Lookup,MATCH($H$5,HVAC,0)+4,FALSE)))))","v":0},0,0,0,0,0,0,{"$f":"W399/1000*Y399*AA399*IF(IFERROR(SEARCH(\"Gas\",$H$5),0)>0,VLOOKUP(\"Gas\",HVACg_Lookup,MATCH($H$6,BuildingSize,0)+1,FALSE),IF(IFERROR(SEARCH(\"Oil\",$H$5),0)>0,VLOOKUP(\"Oil\",HVACg_Lookup,MATCH($H$6,BuildingSize,0)+1,FALSE),IF(IFERROR(SEARCH(\"Propane\",$H$5),0)>0,VLOOKUP(\"Propane\",HVACg_Lookup,MATCH(Worksheet!$H$6,BuildingSize,0)+1,FALSE),0)))","v":0},{"$f":"X399/1000*Y399*AA399*IF(IFERROR(SEARCH(\"Gas\",$H$5),0)>0,VLOOKUP(\"Gas\",HVACg_Lookup,MATCH($H$6,BuildingSize,0)+1,FALSE),IF(IFERROR(SEARCH(\"Oil\",$H$5),0)>0,VLOOKUP(\"Oil\",HVACg_Lookup,MATCH($H$6,BuildingSize,0)+1,FALSE),IF(IFERROR(SEARCH(\"Propane\",$H$5),0)>0,VLOOKUP(\"Propane\",HVACg_Lookup,MATCH(Worksheet!$H$6,BuildingSize,0)+1,FALSE),0)))","v":0},0,0,{"$f":"IF(OR($B$4=\"\",$B$5=\"\",$H$4=\"\",$H$6=\"\",$H$5=\"\",A399=\"\",F399=\"\",J399=\"\",O399=\"\",P399=\"\")=TRUE,\"\",IF(C399=\"OSW\",IF(J399>=2,1,0),IF(C399=\"OSR\",IF(AND(J399>=2,P399>60)=TRUE,1,0),IF(C399=\"OSRH\",IF(AND(J399>=1,P399>90)=TRUE,1,0),IF(C399=\"OHLC\",IF(AND(N399=\"Y\",P399>60)=TRUE,1,0),IF(C399=\"DDC\",IF(AND(J399>=4,N399=\"Y\",P399>120)=TRUE,1,0),0))))))","v":""},{"$f":"IF(OR($B$4=\"\",$B$5=\"\",$H$4=\"\",$H$6=\"\",$H$5=\"\",A399=\"\",F399=\"\",K399=\"\",O399=\"\",P399=\"\")=TRUE,\"\",IF(C399=\"OSW\",IF(K399>=2,1,0),IF(C399=\"OSR\",IF(AND(K399>=2,Q399>60)=TRUE,1,0),IF(C399=\"OSRH\",IF(AND(K399>=1,Q399>90)=TRUE,1,0),IF(C399=\"OHLC\",IF(AND(N399=\"Y\",Q399>60)=TRUE,1,0),IF(C399=\"DDC\",IF(AND(K399>=4,N399=\"Y\",Q399>120)=TRUE,1,0),0))))))","v":""}]
[null,null,"",null,null,null,null,null,null,null,null,null,null,null,null,0,0,0,0,"",0,0,0,0,0,{"$f":"IF($H$4=\"\",0,VLOOKUP($H$4,BuildingType_Lookup,3,FALSE))","v":0},{"$f":"IF($H$4=\"\",0,VLOOKUP($H$4,BuildingType_Lookup,2,FALSE))","v":0},{"$f":"IF(AND(OR(AN400=\"\",AN400=0)=TRUE,OR(AO400=\"\",AO400=0))=TRUE,0,IF(AO400=\"\",(IF(OR(C400=\"DDC\",C400=\"OHLC\")=TRUE,O400,P400)/1000)*Y400*Z400*(1+VLOOKUP($H$4,BuildingType_Lookup,4,FALSE)),IF(AO400=0,0,(IF(OR(C400=\"DDC\",C400=\"OHLC\")=TRUE,O400,Q400)/1000)*Y400*Z400*(1+VLOOKUP($H$4,BuildingType_Lookup,4,FALSE)))))","v":0},{"$f":"IF(AND(OR(AN400=\"\",AN400=0)=TRUE,OR(AO400=\"\",AO400=0))=TRUE,0,IF(AO400=\"\",(IF(OR(C400=\"DDC\",C400=\"OHLC\")=TRUE,O400,P400)/1000)*Y400*AA400*(1+VLOOKUP($H$4,BuildingType_Lookup,MATCH($H$5,HVAC,0)+4,FALSE)),IF(AO400=0,0,(IF(OR(C400=\"DDC\",C400=\"OHLC\")=TRUE,O400,Q400)/1000)*Y400*AA400*(1+VLOOKUP($H$4,BuildingType_Lookup,MATCH($H$5,HVAC,0)+4,FALSE)))))","v":0},0,0,0,0,0,0,{"$f":"W400/1000*Y400*AA400*IF(IFERROR(SEARCH(\"Gas\",$H$5),0)>0,VLOOKUP(\"Gas\",HVACg_Lookup,MATCH($H$6,BuildingSize,0)+1,FALSE),IF(IFERROR(SEARCH(\"Oil\",$H$5),0)>0,VLOOKUP(\"Oil\",HVACg_Lookup,MATCH($H$6,BuildingSize,0)+1,FALSE),IF(IFERROR(SEARCH(\"Propane\",$H$5),0)>0,VLOOKUP(\"Propane\",HVACg_Lookup,MATCH(Worksheet!$H$6,BuildingSize,0)+1,FALSE),0)))","v":0},{"$f":"X400/1000*Y400*AA400*IF(IFERROR(SEARCH(\"Gas\",$H$5),0)>0,VLOOKUP(\"Gas\",HVACg_Lookup,MATCH($H$6,BuildingSize,0)+1,FALSE),IF(IFERROR(SEARCH(\"Oil\",$H$5),0)>0,VLOOKUP(\"Oil\",HVACg_Lookup,MATCH($H$6,BuildingSize,0)+1,FALSE),IF(IFERROR(SEARCH(\"Propane\",$H$5),0)>0,VLOOKUP(\"Propane\",HVACg_Lookup,MATCH(Worksheet!$H$6,BuildingSize,0)+1,FALSE),0)))","v":0},0,0,{"$f":"IF(OR($B$4=\"\",$B$5=\"\",$H$4=\"\",$H$6=\"\",$H$5=\"\",A400=\"\",F400=\"\",J400=\"\",O400=\"\",P400=\"\")=TRUE,\"\",IF(C400=\"OSW\",IF(J400>=2,1,0),IF(C400=\"OSR\",IF(AND(J400>=2,P400>60)=TRUE,1,0),IF(C400=\"OSRH\",IF(AND(J400>=1,P400>90)=TRUE,1,0),IF(C400=\"OHLC\",IF(AND(N400=\"Y\",P400>60)=TRUE,1,0),IF(C400=\"DDC\",IF(AND(J400>=4,N400=\"Y\",P400>120)=TRUE,1,0),0))))))","v":""},{"$f":"IF(OR($B$4=\"\",$B$5=\"\",$H$4=\"\",$H$6=\"\",$H$5=\"\",A400=\"\",F400=\"\",K400=\"\",O400=\"\",P400=\"\")=TRUE,\"\",IF(C400=\"OSW\",IF(K400>=2,1,0),IF(C400=\"OSR\",IF(AND(K400>=2,Q400>60)=TRUE,1,0),IF(C400=\"OSRH\",IF(AND(K400>=1,Q400>90)=TRUE,1,0),IF(C400=\"OHLC\",IF(AND(N400=\"Y\",Q400>60)=TRUE,1,0),IF(C400=\"DDC\",IF(AND(K400>=4,N400=\"Y\",Q400>120)=TRUE,1,0),0))))))","v":""}]
[null,null,"",null,null,null,null,null,null,null,null,null,null,null,null,0,0,0,0,"",0,0,0,0,0,{"$f":"IF($H$4=\"\",0,VLOOKUP($H$4,BuildingType_Lookup,3,FALSE))","v":0},{"$f":"IF($H$4=\"\",0,VLOOKUP($H$4,BuildingType_Lookup,2,FALSE))","v":0},{"$f":"IF(AND(OR(AN401=\"\",AN401=0)=TRUE,OR(AO401=\"\",AO401=0))=TRUE,0,IF(AO401=\"\",(IF(OR(C401=\"DDC\",C401=\"OHLC\")=TRUE,O401,P401)/1000)*Y401*Z401*(1+VLOOKUP($H$4,BuildingType_Lookup,4,FALSE)),IF(AO401=0,0,(IF(OR(C401=\"DDC\",C401=\"OHLC\")=TRUE,O401,Q401)/1000)*Y401*Z401*(1+VLOOKUP($H$4,BuildingType_Lookup,4,FALSE)))))","v":0},{"$f":"IF(AND(OR(AN401=\"\",AN401=0)=TRUE,OR(AO401=\"\",AO401=0))=TRUE,0,IF(AO401=\"\",(IF(OR(C401=\"DDC\",C401=\"OHLC\")=TRUE,O401,P401)/1000)*Y401*AA401*(1+VLOOKUP($H$4,BuildingType_Lookup,MATCH($H$5,HVAC,0)+4,FALSE)),IF(AO401=0,0,(IF(OR(C401=\"DDC\",C401=\"OHLC\")=TRUE,O401,Q401)/1000)*Y401*AA401*(1+VLOOKUP($H$4,BuildingType_Lookup,MATCH($H$5,HVAC,0)+4,FALSE)))))","v":0},0,0,0,0,0,0,{"$f":"W401/1000*Y401*AA401*IF(IFERROR(SEARCH(\"Gas\",$H$5),0)>0,VLOOKUP(\"Gas\",HVACg_Lookup,MATCH($H$6,BuildingSize,0)+1,FALSE),IF(IFERROR(SEARCH(\"Oil\",$H$5),0)>0,VLOOKUP(\"Oil\",HVACg_Lookup,MATCH($H$6,BuildingSize,0)+1,FALSE),IF(IFERROR(SEARCH(\"Propane\",$H$5),0)>0,VLOOKUP(\"Propane\",HVACg_Lookup,MATCH(Worksheet!$H$6,BuildingSize,0)+1,FALSE),0)))","v":0},{"$f":"X401/1000*Y401*AA401*IF(IFERROR(SEARCH(\"Gas\",$H$5),0)>0,VLOOKUP(\"Gas\",HVACg_Lookup,MATCH($H$6,BuildingSize,0)+1,FALSE),IF(IFERROR(SEARCH(\"Oil\",$H$5),0)>0,VLOOKUP(\"Oil\",HVACg_Lookup,MATCH($H$6,BuildingSize,0)+1,FALSE),IF(IFERROR(SEARCH(\"Propane\",$H$5),0)>0,VLOOKUP(\"Propane\",HVACg_Lookup,MATCH(Worksheet!$H$6,BuildingSize,0)+1,FALSE),0)))","v":0},0,0,{"$f":"IF(OR($B$4=\"\",$B$5=\"\",$H$4=\"\",$H$6=\"\",$H$5=\"\",A401=\"\",F401=\"\",J401=\"\",O401=\"\",P401=\"\")=TRUE,\"\",IF(C401=\"OSW\",IF(J401>=2,1,0),IF(C401=\"OSR\",IF(AND(J401>=2,P401>60)=TRUE,1,0),IF(C401=\"OSRH\",IF(AND(J401>=1,P401>90)=TRUE,1,0),IF(C401=\"OHLC\",IF(AND(N401=\"Y\",P401>60)=TRUE,1,0),IF(C401=\"DDC\",IF(AND(J401>=4,N401=\"Y\",P401>120)=TRUE,1,0),0))))))","v":""},{"$f":"IF(OR($B$4=\"\",$B$5=\"\",$H$4=\"\",$H$6=\"\",$H$5=\"\",A401=\"\",F401=\"\",K401=\"\",O401=\"\",P401=\"\")=TRUE,\"\",IF(C401=\"OSW\",IF(K401>=2,1,0),IF(C401=\"OSR\",IF(AND(K401>=2,Q401>60)=TRUE,1,0),IF(C401=\"OSRH\",IF(AND(K401>=1,Q401>90)=TRUE,1,0),IF(C401=\"OHLC\",IF(AND(N401=\"Y\",Q401>60)=TRUE,1,0),IF(C401=\"DDC\",IF(AND(K401>=4,N401=\"Y\",Q401>120)=TRUE,1,0),0))))))","v":""}]
[null,null,"",null,null,null,null,null,null,null,null,null,null,null,null,0,0,0,0,"",0,0,0,0,0,{"$f":"IF($H$4=\"\",0,VLOOKUP($H$4,BuildingType_Lookup,3,FALSE))","v":0},{"$f":"IF($H$4=\"\",0,VLOOKUP($H$4,BuildingType_Lookup,2,FALSE))","v":0},{"$f":"IF(AND(OR(AN402=\"\",AN402=0)=TRUE,OR(AO402=\"\",AO402=0))=TRUE,0,IF(AO402=\"\",(IF(OR(C402=\"DDC\",C402=\"OHLC\")=TRUE,O402,P402)/1000)*Y402*Z402*(1+VLOOKUP($H$4,BuildingType_Lookup,4,FALSE)),IF(AO402=0,0,(IF(OR(C402=\"DDC\",C402=\"OHLC\")=TRUE,O402,Q402)/1000)*Y402*Z402*(1+VLOOKUP($H$4,BuildingType_Lookup,4,FALSE)))))","v":0},{"$f":"IF(AND(OR(AN402=\"\",AN402=0)=TRUE,OR(AO402=\"\",AO402=0))=TRUE,0,IF(AO402=\"\",(IF(OR(C402=\"DDC\",C402=\"OHLC\")=TRUE,O402,P402)/1000)*Y402*AA402*(1+VLOOKUP($H$4,BuildingType_Lookup,MATCH($H$5,HVAC,0)+4,FALSE)),IF(AO402=0,0,(IF(OR(C402=\"DDC\",C402=\"OHLC\")=TRUE,O402,Q402)/1000)*Y402*AA402*(1+VLOOKUP($H$4,BuildingType_Lookup,MATCH($H$5,HVAC,0)+4,FALSE)))))","v":0},0,0,0,0,0,0,{"$f":"W402/1000*Y402*AA402*IF(IFERROR(SEARCH(\"Gas\",$H$5),0)>0,VLOOKUP(\"Gas\",HVACg_Lookup,MATCH($H$6,BuildingSize,0)+1,FALSE),IF(IFERROR(SEARCH(\"Oil\",$H$5),0)>0,VLOOKUP(\"Oil\",HVACg_Lookup,MATCH($H$6,BuildingSize,0)+1,FALSE),IF(IFERROR(SEARCH(\"Propane\",$H$5),0)>0,VLOOKUP(\"Propane\",HVACg_Lookup,MATCH(Worksheet!$H$6,BuildingSize,0)+1,FALSE),0)))","v":0},{"$f":"X402/1000*Y402*AA402*IF(IFERROR(SEARCH(\"Gas\",$H$5),0)>0,VLOOKUP(\"Gas\",HVACg_Lookup,MATCH($H$6,BuildingSize,0)+1,FALSE),IF(IFERROR(SEARCH(\"Oil\",$H$5),0)>0,VLOOKUP(\"Oil\",HVACg_Lookup,MATCH($H$6,BuildingSize,0)+1,FALSE),IF(IFERROR(SEARCH(\"Propane\",$H$5),0)>0,VLOOKUP(\"Propane\",HVACg_Lookup,MATCH(Worksheet!$H$6,BuildingSize,0)+1,FALSE),0)))","v":0},0,0,{"$f":"IF(OR($B$4=\"\",$B$5=\"\",$H$4=\"\",$H$6=\"\",$H$5=\"\",A402=\"\",F402=\"\",J402=\"\",O402=\"\",P402=\"\")=TRUE,\"\",IF(C402=\"OSW\",IF(J402>=2,1,0),IF(C402=\"OSR\",IF(AND(J402>=2,P402>60)=TRUE,1,0),IF(C402=\"OSRH\",IF(AND(J402>=1,P402>90)=TRUE,1,0),IF(C402=\"OHLC\",IF(AND(N402=\"Y\",P402>60)=TRUE,1,0),IF(C402=\"DDC\",IF(AND(J402>=4,N402=\"Y\",P402>120)=TRUE,1,0),0))))))","v":""},{"$f":"IF(OR($B$4=\"\",$B$5=\"\",$H$4=\"\",$H$6=\"\",$H$5=\"\",A402=\"\",F402=\"\",K402=\"\",O402=\"\",P402=\"\")=TRUE,\"\",IF(C402=\"OSW\",IF(K402>=2,1,0),IF(C402=\"OSR\",IF(AND(K402>=2,Q402>60)=TRUE,1,0),IF(C402=\"OSRH\",IF(AND(K402>=1,Q402>90)=TRUE,1,0),IF(C402=\"OHLC\",IF(AND(N402=\"Y\",Q402>60)=TRUE,1,0),IF(C402=\"DDC\",IF(AND(K402>=4,N402=\"Y\",Q402>120)=TRUE,1,0),0))))))","v":""}]
[null,null,"",null,null,null,null,null,null,null,null,null,null,null,null,0,0,0,0,"",0,0,0,0,0,{"$f":"IF($H$4=\"\",0,VLOOKUP($H$4,BuildingType_Lookup,3,FALSE))","v":0},{"$f":"IF($H$4=\"\",0,VLOOKUP($H$4,BuildingType_Lookup,2,FALSE))","v":0},{"$f":"IF(AND(OR(AN403=\"\",AN403=0)=TRUE,OR(AO403=\"\",AO403=0))=TRUE,0,IF(AO403=\"\",(IF(OR(C403=\"DDC\",C403=\"OHLC\")=TRUE,O403,P403)/1000)*Y403*Z403*(1+VLOOKUP($H$4,BuildingType_Lookup,4,FALSE)),IF(AO403=0,0,(IF(OR(C403=\"DDC\",C403=\"OHLC\")=TRUE,O403,Q403)/1000)*Y403*Z403*(1+VLOOKUP($H$4,BuildingType_Lookup,4,FALSE)))))","v":0},{"$f":"IF(AND(OR(AN403=\"\",AN403=0)=TRUE,OR(AO403=\"\",AO403=0))=TRUE,0,IF(AO403=\"\",(IF(OR(C403=\"DDC\",C403=\"OHLC\")=TRUE,O403,P403)/1000)*Y403*AA403*(1+VLOOKUP($H$4,BuildingType_Lookup,MATCH($H$5,HVAC,0)+4,FALSE)),IF(AO403=0,0,(IF(OR(C403=\"DDC\",C403=\"OHLC\")=TRUE,O403,Q403)/1000)*Y403*AA403*(1+VLOOKUP($H$4,BuildingType_Lookup,MATCH($H$5,HVAC,0)+4,FALSE)))))","v":0},0,0,0,0,0,0,{"$f":"W403/1000*Y403*AA403*IF(IFERROR(SEARCH(\"Gas\",$H$5),0)>0,VLOOKUP(\"Gas\",HVACg_Lookup,MATCH($H$6,BuildingSize,0)+1,FALSE),IF(IFERROR(SEARCH(\"Oil\",$H$5),0)>0,VLOOKUP(\"Oil\",HVACg_Lookup,MATCH($H$6,BuildingSize,0)+1,FALSE),IF(IFERROR(SEARCH(\"Propane\",$H$5),0)>0,VLOOKUP(\"Propane\",HVACg_Lookup,MATCH(Worksheet!$H$6,BuildingSize,0)+1,FALSE),0)))","v":0},{"$f":"X403/1000*Y403*AA403*IF(IFERROR(SEARCH(\"Gas\",$H$5),0)>0,VLOOKUP(\"Gas\",HVACg_Lookup,MATCH($H$6,BuildingSize,0)+1,FALSE),IF(IFERROR(SEARCH(\"Oil\",$H$5),0)>0,VLOOKUP(\"Oil\",HVACg_Lookup,MATCH($H$6,BuildingSize,0)+1,FALSE),IF(IFERROR(SEARCH(\"Propane\",$H$5),0)>0,VLOOKUP(\"Propane\",HVACg_Lookup,MATCH(Worksheet!$H$6,BuildingSize,0)+1,FALSE),0)))","v":0},0,0,{"$f":"IF(OR($B$4=\"\",$B$5=\"\",$H$4=\"\",$H$6=\"\",$H$5=\"\",A403=\"\",F403=\"\",J403=\"\",O403=\"\",P403=\"\")=TRUE,\"\",IF(C403=\"OSW\",IF(J403>=2,1,0),IF(C403=\"OSR\",IF(AND(J403>=2,P403>60)=TRUE,1,0),IF(C403=\"OSRH\",IF(AND(J403>=1,P403>90)=TRUE,1,0),IF(C403=\"OHLC\",IF(AND(N403=\"Y\",P403>60)=TRUE,1,0),IF(C403=\"DDC\",IF(AND(J403>=4,N403=\"Y\",P403>120)=TRUE,1,0),0))))))","v":""},{"$f":"IF(OR($B$4=\"\",$B$5=\"\",$H$4=\"\",$H$6=\"\",$H$5=\"\",A403=\"\",F403=\"\",K403=\"\",O403=\"\",P403=\"\")=TRUE,\"\",IF(C403=\"OSW\",IF(K403>=2,1,0),IF(C403=\"OSR\",IF(AND(K403>=2,Q403>60)=TRUE,1,0),IF(C403=\"OSRH\",IF(AND(K403>=1,Q403>90)=TRUE,1,0),IF(C403=\"OHLC\",IF(AND(N403=\"Y\",Q403>60)=TRUE,1,0),IF(C403=\"DDC\",IF(AND(K403>=4,N403=\"Y\",Q403>120)=TRUE,1,0),0))))))","v":""}]
[null,null,"",null,null,null,null,null,null,null,null,null,null,null,null,0,0,0,0,"",0,0,0,0,0,{"$f":"IF($H$4=\"\",0,VLOOKUP($H$4,BuildingType_Lookup,3,FALSE))","v":0},{"$f":"IF($H$4=\"\",0,VLOOKUP($H$4,BuildingType_Lookup,2,FALSE))","v":0},{"$f":"IF(AND(OR(AN404=\"\",AN404=0)=TRUE,OR(AO404=\"\",AO404=0))=TRUE,0,IF(AO404=\"\",(IF(OR(C404=\"DDC\",C404=\"OHLC\")=TRUE,O404,P404)/1000)*Y404*Z404*(1+VLOOKUP($H$4,BuildingType_Lookup,4,FALSE)),IF(AO404=0,0,(IF(OR(C404=\"DDC\",C404=\"OHLC\")=TRUE,O404,Q404)/1000)*Y404*Z404*(1+VLOOKUP($H$4,BuildingType_Lookup,4,FALSE)))))","v":0},{"$f":"IF(AND(OR(AN404=\"\",AN404=0)=TRUE,OR(AO404=\"\",AO404=0))=TRUE,0,IF(AO404=\"\",(IF(OR(C404=\"DDC\",C404=\"OHLC\")=TRUE,O404,P404)/1000)*Y404*AA404*(1+VLOOKUP($H$4,BuildingType_Lookup,MATCH($H$5,HVAC,0)+4,FALSE)),IF(AO404=0,0,(IF(OR(C404=\"DDC\",C404=\"OHLC\")=TRUE,O404,Q404)/1000)*Y404*AA404*(1+VLOOKUP($H$4,BuildingType_Lookup,MATCH($H$5,HVAC,0)+4,FALSE)))))","v":0},0,0,0,0,0,0,{"$f":"W404/1000*Y404*AA404*IF(IFERROR(SEARCH(\"Gas\",$H$5),0)>0,VLOOKUP(\"Gas\",HVACg_Lookup,MATCH($H$6,BuildingSize,0)+1,FALSE),IF(IFERROR(SEARCH(\"Oil\",$H$5),0)>0,VLOOKUP(\"Oil\",HVACg_Lookup,MATCH($H$6,BuildingSize,0)+1,FALSE),IF(IFERROR(SEARCH(\"Propane\",$H$5),0)>0,VLOOKUP(\"Propane\",HVACg_Lookup,MATCH(Worksheet!$H$6,BuildingSize,0)+1,FALSE),0)))","v":0},{"$f":"X404/1000*Y404*AA404*IF(IFERROR(SEARCH(\"Gas\",$H$5),0)>0,VLOOKUP(\"Gas\",HVACg_Lookup,MATCH($H$6,BuildingSize,0)+1,FALSE),IF(IFERROR(SEARCH(\"Oil\",$H$5),0)>0,VLOOKUP(\"Oil\",HVACg_Lookup,MATCH($H$6,BuildingSize,0)+1,FALSE),IF(IFERROR(SEARCH(\"Propane\",$H$5),0)>0,VLOOKUP(\"Propane\",HVACg_Lookup,MATCH(Worksheet!$H$6,BuildingSize,0)+1,FALSE),0)))","v":0},0,0,{"$f":"IF(OR($B$4=\"\",$B$5=\"\",$H$4=\"\",$H$6=\"\",$H$5=\"\",A404=\"\",F404=\"\",J404=\"\",O404=\"\",P404=\"\")=TRUE,\"\",IF(C404=\"OSW\",IF(J404>=2,1,0),IF(C404=\"OSR\",IF(AND(J404>=2,P404>60)=TRUE,1,0),IF(C404=\"OSRH\",IF(AND(J404>=1,P404>90)=TRUE,1,0),IF(C404=\"OHLC\",IF(AND(N404=\"Y\",P404>60)=TRUE,1,0),IF(C404=\"DDC\",IF(AND(J404>=4,N404=\"Y\",P404>120)=TRUE,1,0),0))))))","v":""},{"$f":"IF(OR($B$4=\"\",$B$5=\"\",$H$4=\"\",$H$6=\"\",$H$5=\"\",A404=\"\",F404=\"\",K404=\"\",O404=\"\",P404=\"\")=TRUE,\"\",IF(C404=\"OSW\",IF(K404>=2,1,0),IF(C404=\"OSR\",IF(AND(K404>=2,Q404>60)=TRUE,1,0),IF(C404=\"OSRH\",IF(AND(K404>=1,Q404>90)=TRUE,1,0),IF(C404=\"OHLC\",IF(AND(N404=\"Y\",Q404>60)=TRUE,1,0),IF(C404=\"DDC\",IF(AND(K404>=4,N404=\"Y\",Q404>120)=TRUE,1,0),0))))))","v":""}]
[null,null,"",null,null,null,null,null,null,null,null,null,null,null,null,0,0,{"$f":"IF(AN405=\"\",0,IF(AN405=1,VLOOKUP(A405,MeasureCode_Lookup,3,FALSE),\"DNQ\"))","v":0},{"$f":"IF(AO405=\"\",0,IF(AO405=1,VLOOKUP(A405,MeasureCode_Lookup,3,FALSE),\"DNQ\"))","v":0},{"$f":"IF(A405=\"\",\"\",VLOOKUP(A405,MeasureCode_Lookup,4,FALSE))","v":""},0,0,{"$f":"IF(N(R405)=0,0,F405*P405)","v":0},{"$f":"IF(N(S405)=0,0,G405*Q405)","v":0},{"$f":"IF(A405=\"\",0,VLOOKUP(A405,MeasureCode_Lookup,5,FALSE))","v":0},{"$f":"IF($H$4=\"\",0,VLOOKUP($H$4,BuildingType_Lookup,3,FALSE))","v":0},{"$f":"IF($H$4=\"\",0,VLOOKUP($H$4,BuildingType_Lookup,2,FALSE))","v":0},{"$f":"IF(AND(OR(AN405=\"\",AN405=0)=TRUE,OR(AO405=\"\",AO405=0))=TRUE,0,IF(AO405=\"\",(IF(OR(C405=\"DDC\",C405=\"OHLC\")=TRUE,O405,P405)/1000)*Y405*Z405*(1+VLOOKUP($H$4,BuildingType_Lookup,4,FALSE)),IF(AO405=0,0,(IF(OR(C405=\"DDC\",C405=\"OHLC\")=TRUE,O405,Q405)/1000)*Y405*Z405*(1+VLOOKUP($H$4,BuildingType_Lookup,4,FALSE)))))","v":0},{"$f":"IF(AND(OR(AN405=\"\",AN405=0)=TRUE,OR(AO405=\"\",AO405=0))=TRUE,0,IF(AO405=\"\",(IF(OR(C405=\"DDC\",C405=\"OHLC\")=TRUE,O405,P405)/1000)*Y405*AA405*(1+VLOOKUP($H$4,BuildingType_Lookup,MATCH($H$5,HVAC,0)+4,FALSE)),IF(AO405=0,0,(IF(OR(C405=\"DDC\",C405=\"OHLC\")=TRUE,O405,Q405)/1000)*Y405*AA405*(1+VLOOKUP($H$4,BuildingType_Lookup,MATCH($H$5,HVAC,0)+4,FALSE)))))","v":0},{"$f":"IFERROR(IF(OR(C405=\"DDC\",C405=\"OHLC\")=TRUE,F405*J405*AB405,F405*AB405),0)","v":0},{"$f":"IFERROR(IF(OR(C405=\"DDC\",C405=\"OHLC\")=TRUE,G405*K405*AB405,G405*AB405),0)","v":0},{"$f":"IFERROR(IF(OR(C405=\"DDC\",C405=\"OHLC\")=TRUE,F405*J405*AC405,F405*AC405),0)","v":0},{"$f":"IFERROR(IF(OR(C405=\"DDC\",C405=\"OHLC\")=TRUE,G405*K405*AC405,G405*AC405),0)","v":0},0,0,{"$f":"W405/1000*Y405*AA405*IF(IFERROR(SEARCH(\"Gas\",$H$5),0)>0,VLOOKUP(\"Gas\",HVACg_Lookup,MATCH($H$6,BuildingSize,0)+1,FALSE),IF(IFERROR(SEARCH(\"Oil\",$H$5),0)>0,VLOOKUP(\"Oil\",HVACg_Lookup,MATCH($H$6,BuildingSize,0)+1,FALSE),IF(IFERROR(SEARCH(\"Propane\",$H$5),0)>0,VLOOKUP(\"Propane\",HVACg_Lookup,MATCH(Worksheet!$H$6,BuildingSize,0)+1,FALSE),0)))","v":0},{"$f":"X405/1000*Y405*AA405*IF(IFERROR(SEARCH(\"Gas\",$H$5),0)>0,VLOOKUP(\"Gas\",HVACg_Lookup,MATCH($H$6,BuildingSize,0)+1,FALSE),IF(IFERROR(SEARCH(\"Oil\",$H$5),0)>0,VLOOKUP(\"Oil\",HVACg_Lookup,MATCH($H$6,BuildingSize,0)+1,FALSE),IF(IFERROR(SEARCH(\"Propane\",$H$5),0)>0,VLOOKUP(\"Propane\",HVACg_Lookup,MATCH(Worksheet!$H$6,BuildingSize,0)+1,FALSE),0)))","v":0},0,0,{"$f":"IF(OR($B$4=\"\",$B$5=\"\",$H$4=\"\",$H$6=\"\",$H$5=\"\",A405=\"\",F405=\"\",J405=\"\",O405=\"\",P405=\"\")=TRUE,\"\",IF(C405=\"OSW\",IF(J405>=2,1,0),IF(C405=\"OSR\",IF(AND(J405>=2,P405>60)=TRUE,1,0),IF(C405=\"OSRH\",IF(AND(J405>=1,P405>90)=TRUE,1,0),IF(C405=\"OHLC\",IF(AND(N405=\"Y\",P405>60)=TRUE,1,0),IF(C405=\"DDC\",IF(AND(J405>=4,N405=\"Y\",P405>120)=TRUE,1,0),0))))))","v":""},{"$f":"IF(OR($B$4=\"\",$B$5=\"\",$H$4=\"\",$H$6=\"\",$H$5=\"\",A405=\"\",F405=\"\",K405=\"\",O405=\"\",P405=\"\")=TRUE,\"\",IF(C405=\"OSW\",IF(K405>=2,1,0),IF(C405=\"OSR\",IF(AND(K405>=2,Q405>60)=TRUE,1,0),IF(C405=\"OSRH\",IF(AND(K405>=1,Q405>90)=TRUE,1,0),IF(C405=\"OHLC\",IF(AND(N405=\"Y\",Q405>60)=TRUE,1,0),IF(C405=\"DDC\",IF(AND(K405>=4,N405=\"Y\",Q405>120)=TRUE,1,0),0))))))","v":""}]
[null,null,{"$f":"IF(A406=\"\",\"\",VLOOKUP(A406,MeasureCode_Lookup,2,FALSE))","v":""},null,null,null,null,null,null,null,null,null,null,null,null,{"$f":"IF(OR(A406=\"\",F406=\"\",J406=\"\",O406=\"\")=TRUE,0,J406*O406)","v":0},{"$f":"IF(OR(A406=\"\",G406=\"\",K406=\"\",O406=\"\")=TRUE,0,K406*O406)","v":0},0,0,"",{"$f":"IF(N(R406)=0,0,F406*R406*IF(T406=\"per Fixture Controlled\",J406,1))","v":0},{"$f":"IF(N(S406)=0,0,G406*S406*IF(T406=\"per Fixture Controlled\",K406,1))","v":0},0,0,0,{"$f":"IF($H$4=\"\",0,VLOOKUP($H$4,BuildingType_Lookup,3,FALSE))","v":0},{"$f":"IF($H$4=\"\",0,VLOOKUP($H$4,BuildingType_Lookup,2,FALSE))","v":0},{"$f":"IF(AND(OR(AN406=\"\",AN406=0)=TRUE,OR(AO406=\"\",AO406=0))=TRUE,0,IF(AO406=\"\",(IF(OR(C406=\"DDC\",C406=\"OHLC\")=TRUE,O406,P406)/1000)*Y406*Z406*(1+VLOOKUP($H$4,BuildingType_Lookup,4,FALSE)),IF(AO406=0,0,(IF(OR(C406=\"DDC\",C406=\"OHLC\")=TRUE,O406,Q406)/1000)*Y406*Z406*(1+VLOOKUP($H$4,BuildingType_Lookup,4,FALSE)))))","v":0},{"$f":"IF(AND(OR(AN406=\"\",AN406=0)=TRUE,OR(AO406=\"\",AO406=0))=TRUE,0,IF(AO406=\"\",(IF(OR(C406=\"DDC\",C406=\"OHLC\")=TRUE,O406,P406)/1000)*Y406*AA406*(1+VLOOKUP($H$4,BuildingType_Lookup,MATCH($H$5,HVAC,0)+4,FALSE)),IF(AO406=0,0,(IF(OR(C406=\"DDC\",C406=\"OHLC\")=TRUE,O406,Q406)/1000)*Y406*AA406*(1+VLOOKUP($H$4,BuildingType_Lookup,MATCH($H$5,HVAC,0)+4,FALSE)))))","v":0},0,0,0,0,{"$f":"AF406*8","v":0},{"$f":"AG406*8","v":0},{"$f":"W406/1000*Y406*AA406*IF(IFERROR(SEARCH(\"Gas\",$H$5),0)>0,VLOOKUP(\"Gas\",HVACg_Lookup,MATCH($H$6,BuildingSize,0)+1,FALSE),IF(IFERROR(SEARCH(\"Oil\",$H$5),0)>0,VLOOKUP(\"Oil\",HVACg_Lookup,MATCH($H$6,BuildingSize,0)+1,FALSE),IF(IFERROR(SEARCH(\"Propane\",$H$5),0)>0,VLOOKUP(\"Propane\",HVACg_Lookup,MATCH(Worksheet!$H$6,BuildingSize,0)+1,FALSE),0)))","v":0},{"$f":"X406/1000*Y406*AA406*IF(IFERROR(SEARCH(\"Gas\",$H$5),0)>0,VLOOKUP(\"Gas\",HVACg_Lookup,MATCH($H$6,BuildingSize,0)+1,FALSE),IF(IFERROR(SEARCH(\"Oil\",$H$5),0)>0,VLOOKUP(\"Oil\",HVACg_Lookup,MATCH($H$6,BuildingSize,0)+1,FALSE),IF(IFERROR(SEARCH(\"Propane\",$H$5),0)>0,VLOOKUP(\"Propane\",HVACg_Lookup,MATCH(Worksheet!$H$6,BuildingSize,0)+1,FALSE),0)))","v":0},{"$f":"AJ406*8","v":0},{"$f":"AK406*8","v":0},{"$f":"IF(OR($B$4=\"\",$B$5=\"\",$H$4=\"\",$H$6=\"\",$H$5=\"\",A406=\"\",F406=\"\",J406=\"\",O406=\"\",P406=\"\")=TRUE,\"\",IF(C406=\"OSW\",IF(J406>=2,1,0),IF(C406=\"OSR\",IF(AND(J406>=2,P406>60)=TRUE,1,0),IF(C406=\"OSRH\",IF(AND(J406>=1,P406>90)=TRUE,1,0),IF(C406=\"OHLC\",IF(AND(N406=\"Y\",P406>60)=TRUE,1,0),IF(C406=\"DDC\",IF(AND(J406>=4,N406=\"Y\",P406>120)=TRUE,1,0),0))))))","v":""},{"$f":"IF(OR($B$4=\"\",$B$5=\"\",$H$4=\"\",$H$6=\"\",$H$5=\"\",A406=\"\",F406=\"\",K406=\"\",O406=\"\",P406=\"\")=TRUE,\"\",IF(C406=\"OSW\",IF(K406>=2,1,0),IF(C406=\"OSR\",IF(AND(K406>=2,Q406>60)=TRUE,1,0),IF(C406=\"OSRH\",IF(AND(K406>=1,Q406>90)=TRUE,1,0),IF(C406=\"OHLC\",IF(AND(N406=\"Y\",Q406>60)=TRUE,1,0),IF(C406=\"DDC\",IF(AND(K406>=4,N406=\"Y\",Q406>120)=TRUE,1,0),0))))))","v":""}]
[null,null,"",null,null,null,null,null,null,null,null,null,null,null,null,0,0,0,0,"",0,0,0,0,0,{"$f":"IF($H$4=\"\",0,VLOOKUP($H$4,BuildingType_Lookup,3,FALSE))","v":0},{"$f":"IF($H$4=\"\",0,VLOOKUP($H$4,BuildingType_Lookup,2,FALSE))","v":0},{"$f":"IF(AND(OR(AN407=\"\",AN407=0)=TRUE,OR(AO407=\"\",AO407=0))=TRUE,0,IF(AO407=\"\",(IF(OR(C407=\"DDC\",C407=\"OHLC\")=TRUE,O407,P407)/1000)*Y407*Z407*(1+VLOOKUP($H$4,BuildingType_Lookup,4,FALSE)),IF(AO407=0,0,(IF(OR(C407=\"DDC\",C407=\"OHLC\")=TRUE,O407,Q407)/1000)*Y407*Z407*(1+VLOOKUP($H$4,BuildingType_Lookup,4,FALSE)))))","v":0},{"$f":"IF(AND(OR(AN407=\"\",AN407=0)=TRUE,OR(AO407=\"\",AO407=0))=TRUE,0,IF(AO407=\"\",(IF(OR(C407=\"DDC\",C407=\"OHLC\")=TRUE,O407,P407)/1000)*Y407*AA407*(1+VLOOKUP($H$4,BuildingType_Lookup,MATCH($H$5,HVAC,0)+4,FALSE)),IF(AO407=0,0,(IF(OR(C407=\"DDC\",C407=\"OHLC\")=TRUE,O407,Q407)/1000)*Y407*AA407*(1+VLOOKUP($H$4,BuildingType_Lookup,MATCH($H$5,HVAC,0)+4,FALSE)))))","v":0},0,0,0,0,0,0,{"$f":"W407/1000*Y407*AA407*IF(IFERROR(SEARCH(\"Gas\",$H$5),0)>0,VLOOKUP(\"Gas\",HVACg_Lookup,MATCH($H$6,BuildingSize,0)+1,FALSE),IF(IFERROR(SEARCH(\"Oil\",$H$5),0)>0,VLOOKUP(\"Oil\",HVACg_Lookup,MATCH($H$6,BuildingSize,0)+1,FALSE),IF(IFERROR(SEARCH(\"Propane\",$H$5),0)>0,VLOOKUP(\"Propane\",HVACg_Lookup,MATCH(Worksheet!$H$6,BuildingSize,0)+1,FALSE),0)))","v":0},{"$f":"X407/1000*Y407*AA407*IF(IFERROR(SEARCH(\"Gas\",$H$5),0)>0,VLOOKUP(\"Gas\",HVACg_Lookup,MATCH($H$6,BuildingSize,0)+1,FALSE),IF(IFERROR(SEARCH(\"Oil\",$H$5),0)>0,VLOOKUP(\"Oil\",HVACg_Lookup,MATCH($H$6,BuildingSize,0)+1,FALSE),IF(IFERROR(SEARCH(\"Propane\",$H$5),0)>0,VLOOKUP(\"Propane\",HVACg_Lookup,MATCH(Worksheet!$H$6,BuildingSize,0)+1,FALSE),0)))","v":0},0,0,{"$f":"IF(OR($B$4=\"\",$B$5=\"\",$H$4=\"\",$H$6=\"\",$H$5=\"\",A407=\"\",F407=\"\",J407=\"\",O407=\"\",P407=\"\")=TRUE,\"\",IF(C407=\"OSW\",IF(J407>=2,1,0),IF(C407=\"OSR\",IF(AND(J407>=2,P407>60)=TRUE,1,0),IF(C407=\"OSRH\",IF(AND(J407>=1,P407>90)=TRUE,1,0),IF(C407=\"OHLC\",IF(AND(N407=\"Y\",P407>60)=TRUE,1,0),IF(C407=\"DDC\",IF(AND(J407>=4,N407=\"Y\",P407>120)=TRUE,1,0),0))))))","v":""},{"$f":"IF(OR($B$4=\"\",$B$5=\"\",$H$4=\"\",$H$6=\"\",$H$5=\"\",A407=\"\",F407=\"\",K407=\"\",O407=\"\",P407=\"\")=TRUE,\"\",IF(C407=\"OSW\",IF(K407>=2,1,0),IF(C407=\"OSR\",IF(AND(K407>=2,Q407>60)=TRUE,1,0),IF(C407=\"OSRH\",IF(AND(K407>=1,Q407>90)=TRUE,1,0),IF(C407=\"OHLC\",IF(AND(N407=\"Y\",Q407>60)=TRUE,1,0),IF(C407=\"DDC\",IF(AND(K407>=4,N407=\"Y\",Q407>120)=TRUE,1,0),0))))))","v":""}]
[null,null,"",null,null,null,null,null,null,null,null,null,null,null,null,0,0,0,0,"",0,0,0,0,0,{"$f":"IF($H$4=\"\",0,VLOOKUP($H$4,BuildingType_Lookup,3,FALSE))","v":0},{"$f":"IF($H$4=\"\",0,VLOOKUP($H$4,BuildingType_Lookup,2,FALSE))","v":0},{"$f":"IF(AND(OR(AN408=\"\",AN408=0)=TRUE,OR(AO408=\"\",AO408=0))=TRUE,0,IF(AO408=\"\",(IF(OR(C408=\"DDC\",C408=\"OHLC\")=TRUE,O408,P408)/1000)*Y408*Z408*(1+VLOOKUP($H$4,BuildingType_Lookup,4,FALSE)),IF(AO408=0,0,(IF(OR(C408=\"DDC\",C408=\"OHLC\")=TRUE,O408,Q408)/1000)*Y408*Z408*(1+VLOOKUP($H$4,BuildingType_Lookup,4,FALSE)))))","v":0},{"$f":"IF(AND(OR(AN408=\"\",AN408=0)=TRUE,OR(AO408=\"\",AO408=0))=TRUE,0,IF(AO408=\"\",(IF(OR(C408=\"DDC\",C408=\"OHLC\")=TRUE,O408,P408)/1000)*Y408*AA408*(1+VLOOKUP($H$4,BuildingType_Lookup,MATCH($H$5,HVAC,0)+4,FALSE)),IF(AO408=0,0,(IF(OR(C408=\"DDC\",C408=\"OHLC\")=TRUE,O408,Q408)/1000)*Y408*AA408*(1+VLOOKUP($H$4,BuildingType_Lookup,MATCH($H$5,HVAC,0)+4,FALSE)))))","v":0},0,0,0,0,0,0,{"$f":"W408/1000*Y408*AA408*IF(IFERROR(SEARCH(\"Gas\",$H$5),0)>0,VLOOKUP(\"Gas\",HVACg_Lookup,MATCH($H$6,BuildingSize,0)+1,FALSE),IF(IFERROR(SEARCH(\"Oil\",$H$5),0)>0,VLOOKUP(\"Oil\",HVACg_Lookup,MATCH($H$6,BuildingSize,0)+1,FALSE),IF(IFERROR(SEARCH(\"Propane\",$H$5),0)>0,VLOOKUP(\"Propane\",HVACg_Lookup,MATCH(Worksheet!$H$6,BuildingSize,0)+1,FALSE),0)))","v":0},{"$f":"X408/1000*Y408*AA408*IF(IFERROR(SEARCH(\"Gas\",$H$5),0)>0,VLOOKUP(\"Gas\",HVACg_Lookup,MATCH($H$6,BuildingSize,0)+1,FALSE),IF(IFERROR(SEARCH(\"Oil\",$H$5),0)>0,VLOOKUP(\"Oil\",HVACg_Lookup,MATCH($H$6,BuildingSize,0)+1,FALSE),IF(IFERROR(SEARCH(\"Propane\",$H$5),0)>0,VLOOKUP(\"Propane\",HVACg_Lookup,MATCH(Worksheet!$H$6,BuildingSize,0)+1,FALSE),0)))","v":0},0,0,{"$f":"IF(OR($B$4=\"\",$B$5=\"\",$H$4=\"\",$H$6=\"\",$H$5=\"\",A408=\"\",F408=\"\",J408=\"\",O408=\"\",P408=\"\")=TRUE,\"\",IF(C408=\"OSW\",IF(J408>=2,1,0),IF(C408=\"OSR\",IF(AND(J408>=2,P408>60)=TRUE,1,0),IF(C408=\"OSRH\",IF(AND(J408>=1,P408>90)=TRUE,1,0),IF(C408=\"OHLC\",IF(AND(N408=\"Y\",P408>60)=TRUE,1,0),IF(C408=\"DDC\",IF(AND(J408>=4,N408=\"Y\",P408>120)=TRUE,1,0),0))))))","v":""},{"$f":"IF(OR($B$4=\"\",$B$5=\"\",$H$4=\"\",$H$6=\"\",$H$5=\"\",A408=\"\",F408=\"\",K408=\"\",O408=\"\",P408=\"\")=TRUE,\"\",IF(C408=\"OSW\",IF(K408>=2,1,0),IF(C408=\"OSR\",IF(AND(K408>=2,Q408>60)=TRUE,1,0),IF(C408=\"OSRH\",IF(AND(K408>=1,Q408>90)=TRUE,1,0),IF(C408=\"OHLC\",IF(AND(N408=\"Y\",Q408>60)=TRUE,1,0),IF(C408=\"DDC\",IF(AND(K408>=4,N408=\"Y\",Q408>120)=TRUE,1,0),0))))))","v":""}]
[null,null,"",null,null,null,null,null,null,null,null,null,null,null,null,0,0,0,0,"",0,0,0,0,0,{"$f":"IF($H$4=\"\",0,VLOOKUP($H$4,BuildingType_Lookup,3,FALSE))","v":0},{"$f":"IF($H$4=\"\",0,VLOOKUP($H$4,BuildingType_Lookup,2,FALSE))","v":0},{"$f":"IF(AND(OR(AN409=\"\",AN409=0)=TRUE,OR(AO409=\"\",AO409=0))=TRUE,0,IF(AO409=\"\",(IF(OR(C409=\"DDC\",C409=\"OHLC\")=TRUE,O409,P409)/1000)*Y409*Z409*(1+VLOOKUP($H$4,BuildingType_Lookup,4,FALSE)),IF(AO409=0,0,(IF(OR(C409=\"DDC\",C409=\"OHLC\")=TRUE,O409,Q409)/1000)*Y409*Z409*(1+VLOOKUP($H$4,BuildingType_Lookup,4,FALSE)))))","v":0},{"$f":"IF(AND(OR(AN409=\"\",AN409=0)=TRUE,OR(AO409=\"\",AO409=0))=TRUE,0,IF(AO409=\"\",(IF(OR(C409=\"DDC\",C409=\"OHLC\")=TRUE,O409,P409)/1000)*Y409*AA409*(1+VLOOKUP($H$4,BuildingType_Lookup,MATCH($H$5,HVAC,0)+4,FALSE)),IF(AO409=0,0,(IF(OR(C409=\"DDC\",C409=\"OHLC\")=TRUE,O409,Q409)/1000)*Y409*AA409*(1+VLOOKUP($H$4,BuildingType_Lookup,MATCH($H$5,HVAC,0)+4,FALSE)))))","v":0},0,0,0,0,0,0,{"$f":"W409/1000*Y409*AA409*IF(IFERROR(SEARCH(\"Gas\",$H$5),0)>0,VLOOKUP(\"Gas\",HVACg_Lookup,MATCH($H$6,BuildingSize,0)+1,FALSE),IF(IFERROR(SEARCH(\"Oil\",$H$5),0)>0,VLOOKUP(\"Oil\",HVACg_Lookup,MATCH($H$6,BuildingSize,0)+1,FALSE),IF(IFERROR(SEARCH(\"Propane\",$H$5),0)>0,VLOOKUP(\"Propane\",HVACg_Lookup,MATCH(Worksheet!$H$6,BuildingSize,0)+1,FALSE),0)))","v":0},{"$f":"X409/1000*Y409*AA409*IF(IFERROR(SEARCH(\"Gas\",$H$5),0)>0,VLOOKUP(\"Gas\",HVACg_Lookup,MATCH($H$6,BuildingSize,0)+1,FALSE),IF(IFERROR(SEARCH(\"Oil\",$H$5),0)>0,VLOOKUP(\"Oil\",HVACg_Lookup,MATCH($H$6,BuildingSize,0)+1,FALSE),IF(IFERROR(SEARCH(\"Propane\",$H$5),0)>0,VLOOKUP(\"Propane\",HVACg_Lookup,MATCH(Worksheet!$H$6,BuildingSize,0)+1,FALSE),0)))","v":0},0,0,{"$f":"IF(OR($B$4=\"\",$B$5=\"\",$H$4=\"\",$H$6=\"\",$H$5=\"\",A409=\"\",F409=\"\",J409=\"\",O409=\"\",P409=\"\")=TRUE,\"\",IF(C409=\"OSW\",IF(J409>=2,1,0),IF(C409=\"OSR\",IF(AND(J409>=2,P409>60)=TRUE,1,0),IF(C409=\"OSRH\",IF(AND(J409>=1,P409>90)=TRUE,1,0),IF(C409=\"OHLC\",IF(AND(N409=\"Y\",P409>60)=TRUE,1,0),IF(C409=\"DDC\",IF(AND(J409>=4,N409=\"Y\",P409>120)=TRUE,1,0),0))))))","v":""},{"$f":"IF(OR($B$4=\"\",$B$5=\"\",$H$4=\"\",$H$6=\"\",$H$5=\"\",A409=\"\",F409=\"\",K409=\"\",O409=\"\",P409=\"\")=TRUE,\"\",IF(C409=\"OSW\",IF(K409>=2,1,0),IF(C409=\"OSR\",IF(AND(K409>=2,Q409>60)=TRUE,1,0),IF(C409=\"OSRH\",IF(AND(K409>=1,Q409>90)=TRUE,1,0),IF(C409=\"OHLC\",IF(AND(N409=\"Y\",Q409>60)=TRUE,1,0),IF(C409=\"DDC\",IF(AND(K409>=4,N409=\"Y\",Q409>120)=TRUE,1,0),0))))))","v":""}]
[null,null,"",null,null,null,null,null,null,null,null,null,null,null,null,0,0,0,0,"",0,0,0,0,0,{"$f":"IF($H$4=\"\",0,VLOOKUP($H$4,BuildingType_Lookup,3,FALSE))","v":0},{"$f":"IF($H$4=\"\",0,VLOOKUP($H$4,BuildingType_Lookup,2,FALSE))","v":0},{"$f":"IF(AND(OR(AN410=\"\",AN410=0)=TRUE,OR(AO410=\"\",AO410=0))=TRUE,0,IF(AO410=\"\",(IF(OR(C410=\"DDC\",C410=\"OHLC\")=TRUE,O410,P410)/1000)*Y410*Z410*(1+VLOOKUP($H$4,BuildingType_Lookup,4,FALSE)),IF(AO410=0,0,(IF(OR(C410=\"DDC\",C410=\"OHLC\")=TRUE,O410,Q410)/1000)*Y410*Z410*(1+VLOOKUP($H$4,BuildingType_Lookup,4,FALSE)))))","v":0},{"$f":"IF(AND(OR(AN410=\"\",AN410=0)=TRUE,OR(AO410=\"\",AO410=0))=TRUE,0,IF(AO410=\"\",(IF(OR(C410=\"DDC\",C410=\"OHLC\")=TRUE,O410,P410)/1000)*Y410*AA410*(1+VLOOKUP($H$4,BuildingType_Lookup,MATCH($H$5,HVAC,0)+4,FALSE)),IF(AO410=0,0,(IF(OR(C410=\"DDC\",C410=\"OHLC\")=TRUE,O410,Q410)/1000)*Y410*AA410*(1+VLOOKUP($H$4,BuildingType_Lookup,MATCH($H$5,HVAC,0)+4,FALSE)))))","v":0},0,0,0,0,0,0,{"$f":"W410/1000*Y410*AA410*IF(IFERROR(SEARCH(\"Gas\",$H$5),0)>0,VLOOKUP(\"Gas\",HVACg_Lookup,MATCH($H$6,BuildingSize,0)+1,FALSE),IF(IFERROR(SEARCH(\"Oil\",$H$5),0)>0,VLOOKUP(\"Oil\",HVACg_Lookup,MATCH($H$6,BuildingSize,0)+1,FALSE),IF(IFERROR(SEARCH(\"Propane\",$H$5),0)>0,VLOOKUP(\"Propane\",HVACg_Lookup,MATCH(Worksheet!$H$6,BuildingSize,0)+1,FALSE),0)))","v":0},{"$f":"X410/1000*Y410*AA410*IF(IFERROR(SEARCH(\"Gas\",$H$5),0)>0,VLOOKUP(\"Gas\",HVACg_Lookup,MATCH($H$6,BuildingSize,0)+1,FALSE),IF(IFERROR(SEARCH(\"Oil\",$H$5),0)>0,VLOOKUP(\"Oil\",HVACg_Lookup,MATCH($H$6,BuildingSize,0)+1,FALSE),IF(IFERROR(SEARCH(\"Propane\",$H$5),0)>0,VLOOKUP(\"Propane\",HVACg_Lookup,MATCH(Worksheet!$H$6,BuildingSize,0)+1,FALSE),0)))","v":0},0,0,{"$f":"IF(OR($B$4=\"\",$B$5=\"\",$H$4=\"\",$H$6=\"\",$H$5=\"\",A410=\"\",F410=\"\",J410=\"\",O410=\"\",P410=\"\")=TRUE,\"\",IF(C410=\"OSW\",IF(J410>=2,1,0),IF(C410=\"OSR\",IF(AND(J410>=2,P410>60)=TRUE,1,0),IF(C410=\"OSRH\",IF(AND(J410>=1,P410>90)=TRUE,1,0),IF(C410=\"OHLC\",IF(AND(N410=\"Y\",P410>60)=TRUE,1,0),IF(C410=\"DDC\",IF(AND(J410>=4,N410=\"Y\",P410>120)=TRUE,1,0),0))))))","v":""},{"$f":"IF(OR($B$4=\"\",$B$5=\"\",$H$4=\"\",$H$6=\"\",$H$5=\"\",A410=\"\",F410=\"\",K410=\"\",O410=\"\",P410=\"\")=TRUE,\"\",IF(C410=\"OSW\",IF(K410>=2,1,0),IF(C410=\"OSR\",IF(AND(K410>=2,Q410>60)=TRUE,1,0),IF(C410=\"OSRH\",IF(AND(K410>=1,Q410>90)=TRUE,1,0),IF(C410=\"OHLC\",IF(AND(N410=\"Y\",Q410>60)=TRUE,1,0),IF(C410=\"DDC\",IF(AND(K410>=4,N410=\"Y\",Q410>120)=TRUE,1,0),0))))))","v":""}]
[null,null,"",null,null,null,null,null,null,null,null,null,null,null,null,0,0,0,0,"",0,0,0,0,0,{"$f":"IF($H$4=\"\",0,VLOOKUP($H$4,BuildingType_Lookup,3,FALSE))","v":0},{"$f":"IF($H$4=\"\",0,VLOOKUP($H$4,BuildingType_Lookup,2,FALSE))","v":0},{"$f":"IF(AND(OR(AN411=\"\",AN411=0)=TRUE,OR(AO411=\"\",AO411=0))=TRUE,0,IF(AO411=\"\",(IF(OR(C411=\"DDC\",C411=\"OHLC\")=TRUE,O411,P411)/1000)*Y411*Z411*(1+VLOOKUP($H$4,BuildingType_Lookup,4,FALSE)),IF(AO411=0,0,(IF(OR(C411=\"DDC\",C411=\"OHLC\")=TRUE,O411,Q411)/1000)*Y411*Z411*(1+VLOOKUP($H$4,BuildingType_Lookup,4,FALSE)))))","v":0},{"$f":"IF(AND(OR(AN411=\"\",AN411=0)=TRUE,OR(AO411=\"\",AO411=0))=TRUE,0,IF(AO411=\"\",(IF(OR(C411=\"DDC\",C411=\"OHLC\")=TRUE,O411,P411)/1000)*Y411*AA411*(1+VLOOKUP($H$4,BuildingType_Lookup,MATCH($H$5,HVAC,0)+4,FALSE)),IF(AO411=0,0,(IF(OR(C411=\"DDC\",C411=\"OHLC\")=TRUE,O411,Q411)/1000)*Y411*AA411*(1+VLOOKUP($H$4,BuildingType_Lookup,MATCH($H$5,HVAC,0)+4,FALSE)))))","v":0},0,0,0,0,0,0,{"$f":"W411/1000*Y411*AA411*IF(IFERROR(SEARCH(\"Gas\",$H$5),0)>0,VLOOKUP(\"Gas\",HVACg_Lookup,MATCH($H$6,BuildingSize,0)+1,FALSE),IF(IFERROR(SEARCH(\"Oil\",$H$5),0)>0,VLOOKUP(\"Oil\",HVACg_Lookup,MATCH($H$6,BuildingSize,0)+1,FALSE),IF(IFERROR(SEARCH(\"Propane\",$H$5),0)>0,VLOOKUP(\"Propane\",HVACg_Lookup,MATCH(Worksheet!$H$6,BuildingSize,0)+1,FALSE),0)))","v":0},{"$f":"X411/1000*Y411*AA411*IF(IFERROR(SEARCH(\"Gas\",$H$5),0)>0,VLOOKUP(\"Gas\",HVACg_Lookup,MATCH($H$6,BuildingSize,0)+1,FALSE),IF(IFERROR(SEARCH(\"Oil\",$H$5),0)>0,VLOOKUP(\"Oil\",HVACg_Lookup,MATCH($H$6,BuildingSize,0)+1,FALSE),IF(IFERROR(SEARCH(\"Propane\",$H$5),0)>0,VLOOKUP(\"Propane\",HVACg_Lookup,MATCH(Worksheet!$H$6,BuildingSize,0)+1,FALSE),0)))","v":0},0,0,{"$f":"IF(OR($B$4=\"\",$B$5=\"\",$H$4=\"\",$H$6=\"\",$H$5=\"\",A411=\"\",F411=\"\",J411=\"\",O411=\"\",P411=\"\")=TRUE,\"\",IF(C411=\"OSW\",IF(J411>=2,1,0),IF(C411=\"OSR\",IF(AND(J411>=2,P411>60)=TRUE,1,0),IF(C411=\"OSRH\",IF(AND(J411>=1,P411>90)=TRUE,1,0),IF(C411=\"OHLC\",IF(AND(N411=\"Y\",P411>60)=TRUE,1,0),IF(C411=\"DDC\",IF(AND(J411>=4,N411=\"Y\",P411>120)=TRUE,1,0),0))))))","v":""},{"$f":"IF(OR($B$4=\"\",$B$5=\"\",$H$4=\"\",$H$6=\"\",$H$5=\"\",A411=\"\",F411=\"\",K411=\"\",O411=\"\",P411=\"\")=TRUE,\"\",IF(C411=\"OSW\",IF(K411>=2,1,0),IF(C411=\"OSR\",IF(AND(K411>=2,Q411>60)=TRUE,1,0),IF(C411=\"OSRH\",IF(AND(K411>=1,Q411>90)=TRUE,1,0),IF(C411=\"OHLC\",IF(AND(N411=\"Y\",Q411>60)=TRUE,1,0),IF(C411=\"DDC\",IF(AND(K411>=4,N411=\"Y\",Q411>120)=TRUE,1,0),0))))))","v":""}]
[null,null,"",null,null,null,null,null,null,null,null,null,null,null,null,0,0,0,0,"",0,0,0,0,0,{"$f":"IF($H$4=\"\",0,VLOOKUP($H$4,BuildingType_Lookup,3,FALSE))","v":0},{"$f":"IF($H$4=\"\",0,VLOOKUP($H$4,BuildingType_Lookup,2,FALSE))","v":0},{"$f":"IF(AND(OR(AN412=\"\",AN412=0)=TRUE,OR(AO412=\"\",AO412=0))=TRUE,0,IF(AO412=\"\",(IF(OR(C412=\"DDC\",C412=\"OHLC\")=TRUE,O412,P412)/1000)*Y412*Z412*(1+VLOOKUP($H$4,BuildingType_Lookup,4,FALSE)),IF(AO412=0,0,(IF(OR(C412=\"DDC\",C412=\"OHLC\")=TRUE,O412,Q412)/1000)*Y412*Z412*(1+VLOOKUP($H$4,BuildingType_Lookup,4,FALSE)))))","v":0},{"$f":"IF(AND(OR(AN412=\"\",AN412=0)=TRUE,OR(AO412=\"\",AO412=0))=TRUE,0,IF(AO412=\"\",(IF(OR(C412=\"DDC\",C412=\"OHLC\")=TRUE,O412,P412)/1000)*Y412*AA412*(1+VLOOKUP($H$4,BuildingType_Lookup,MATCH($H$5,HVAC,0)+4,FALSE)),IF(AO412=0,0,(IF(OR(C412=\"DDC\",C412=\"OHLC\")=TRUE,O412,Q412)/1000)*Y412*AA412*(1+VLOOKUP($H$4,BuildingType_Lookup,MATCH($H$5,HVAC,0)+4,FALSE)))))","v":0},0,0,0,0,0,0,{"$f":"W412/1000*Y412*AA412*IF(IFERROR(SEARCH(\"Gas\",$H$5),0)>0,VLOOKUP(\"Gas\",HVACg_Lookup,MATCH($H$6,BuildingSize,0)+1,FALSE),IF(IFERROR(SEARCH(\"Oil\",$H$5),0)>0,VLOOKUP(\"Oil\",HVACg_Lookup,MATCH($H$6,BuildingSize,0)+1,FALSE),IF(IFERROR(SEARCH(\"Propane\",$H$5),0)>0,VLOOKUP(\"Propane\",HVACg_Lookup,MATCH(Worksheet!$H$6,BuildingSize,0)+1,FALSE),0)))","v":0},{"$f":"X412/1000*Y412*AA412*IF(IFERROR(SEARCH(\"Gas\",$H$5),0)>0,VLOOKUP(\"Gas\",HVACg_Lookup,MATCH($H$6,BuildingSize,0)+1,FALSE),IF(IFERROR(SEARCH(\"Oil\",$H$5),0)>0,VLOOKUP(\"Oil\",HVACg_Lookup,MATCH($H$6,BuildingSize,0)+1,FALSE),IF(IFERROR(SEARCH(\"Propane\",$H$5),0)>0,VLOOKUP(\"Propane\",HVACg_Lookup,MATCH(Worksheet!$H$6,BuildingSize,0)+1,FALSE),0)))","v":0},0,0,{"$f":"IF(OR($B$4=\"\",$B$5=\"\",$H$4=\"\",$H$6=\"\",$H$5=\"\",A412=\"\",F412=\"\",J412=\"\",O412=\"\",P412=\"\")=TRUE,\"\",IF(C412=\"OSW\",IF(J412>=2,1,0),IF(C412=\"OSR\",IF(AND(J412>=2,P412>60)=TRUE,1,0),IF(C412=\"OSRH\",IF(AND(J412>=1,P412>90)=TRUE,1,0),IF(C412=\"OHLC\",IF(AND(N412=\"Y\",P412>60)=TRUE,1,0),IF(C412=\"DDC\",IF(AND(J412>=4,N412=\"Y\",P412>120)=TRUE,1,0),0))))))","v":""},{"$f":"IF(OR($B$4=\"\",$B$5=\"\",$H$4=\"\",$H$6=\"\",$H$5=\"\",A412=\"\",F412=\"\",K412=\"\",O412=\"\",P412=\"\")=TRUE,\"\",IF(C412=\"OSW\",IF(K412>=2,1,0),IF(C412=\"OSR\",IF(AND(K412>=2,Q412>60)=TRUE,1,0),IF(C412=\"OSRH\",IF(AND(K412>=1,Q412>90)=TRUE,1,0),IF(C412=\"OHLC\",IF(AND(N412=\"Y\",Q412>60)=TRUE,1,0),IF(C412=\"DDC\",IF(AND(K412>=4,N412=\"Y\",Q412>120)=TRUE,1,0),0))))))","v":""}]
[null,null,"",null,null,null,null,null,null,null,null,null,null,null,null,0,0,0,0,"",0,0,0,0,0,{"$f":"IF($H$4=\"\",0,VLOOKUP($H$4,BuildingType_Lookup,3,FALSE))","v":0},{"$f":"IF($H$4=\"\",0,VLOOKUP($H$4,BuildingType_Lookup,2,FALSE))","v":0},{"$f":"IF(AND(OR(AN413=\"\",AN413=0)=TRUE,OR(AO413=\"\",AO413=0))=TRUE,0,IF(AO413=\"\",(IF(OR(C413=\"DDC\",C413=\"OHLC\")=TRUE,O413,P413)/1000)*Y413*Z413*(1+VLOOKUP($H$4,BuildingType_Lookup,4,FALSE)),IF(AO413=0,0,(IF(OR(C413=\"DDC\",C413=\"OHLC\")=TRUE,O413,Q413)/1000)*Y413*Z413*(1+VLOOKUP($H$4,BuildingType_Lookup,4,FALSE)))))","v":0},{"$f":"IF(AND(OR(AN413=\"\",AN413=0)=TRUE,OR(AO413=\"\",AO413=0))=TRUE,0,IF(AO413=\"\",(IF(OR(C413=\"DDC\",C413=\"OHLC\")=TRUE,O413,P413)/1000)*Y413*AA413*(1+VLOOKUP($H$4,BuildingType_Lookup,MATCH($H$5,HVAC,0)+4,FALSE)),IF(AO413=0,0,(IF(OR(C413=\"DDC\",C413=\"OHLC\")=TRUE,O413,Q413)/1000)*Y413*AA413*(1+VLOOKUP($H$4,BuildingType_Lookup,MATCH($H$5,HVAC,0)+4,FALSE)))))","v":0},0,0,0,0,0,0,{"$f":"W413/1000*Y413*AA413*IF(IFERROR(SEARCH(\"Gas\",$H$5),0)>0,VLOOKUP(\"Gas\",HVACg_Lookup,MATCH($H$6,BuildingSize,0)+1,FALSE),IF(IFERROR(SEARCH(\"Oil\",$H$5),0)>0,VLOOKUP(\"Oil\",HVACg_Lookup,MATCH($H$6,BuildingSize,0)+1,FALSE),IF(IFERROR(SEARCH(\"Propane\",$H$5),0)>0,VLOOKUP(\"Propane\",HVACg_Lookup,MATCH(Worksheet!$H$6,BuildingSize,0)+1,FALSE),0)))","v":0},{"$f":"X413/1000*Y413*AA413*IF(IFERROR(SEARCH(\"Gas\",$H$5),0)>0,VLOOKUP(\"Gas\",HVACg_Lookup,MATCH($H$6,BuildingSize,0)+1,FALSE),IF(IFERROR(SEARCH(\"Oil\",$H$5),0)>0,VLOOKUP(\"Oil\",HVACg_Lookup,MATCH($H$6,BuildingSize,0)+1,FALSE),IF(IFERROR(SEARCH(\"Propane\",$H$5),0)>0,VLOOKUP(\"Propane\",HVACg_Lookup,MATCH(Worksheet!$H$6,BuildingSize,0)+1,FALSE),0)))","v":0},0,0,{"$f":"IF(OR($B$4=\"\",$B$5=\"\",$H$4=\"\",$H$6=\"\",$H$5=\"\",A413=\"\",F413=\"\",J413=\"\",O413=\"\",P413=\"\")=TRUE,\"\",IF(C413=\"OSW\",IF(J413>=2,1,0),IF(C413=\"OSR\",IF(AND(J413>=2,P413>60)=TRUE,1,0),IF(C413=\"OSRH\",IF(AND(J413>=1,P413>90)=TRUE,1,0),IF(C413=\"OHLC\",IF(AND(N413=\"Y\",P413>60)=TRUE,1,0),IF(C413=\"DDC\",IF(AND(J413>=4,N413=\"Y\",P413>120)=TRUE,1,0),0))))))","v":""},{"$f":"IF(OR($B$4=\"\",$B$5=\"\",$H$4=\"\",$H$6=\"\",$H$5=\"\",A413=\"\",F413=\"\",K413=\"\",O413=\"\",P413=\"\")=TRUE,\"\",IF(C413=\"OSW\",IF(K413>=2,1,0),IF(C413=\"OSR\",IF(AND(K413>=2,Q413>60)=TRUE,1,0),IF(C413=\"OSRH\",IF(AND(K413>=1,Q413>90)=TRUE,1,0),IF(C413=\"OHLC\",IF(AND(N413=\"Y\",Q413>60)=TRUE,1,0),IF(C413=\"DDC\",IF(AND(K413>=4,N413=\"Y\",Q413>120)=TRUE,1,0),0))))))","v":""}]
[null,null,"",null,null,null,null,null,null,null,null,null,null,null,null,0,0,0,0,"",0,0,0,0,0,{"$f":"IF($H$4=\"\",0,VLOOKUP($H$4,BuildingType_Lookup,3,FALSE))","v":0},{"$f":"IF($H$4=\"\",0,VLOOKUP($H$4,BuildingType_Lookup,2,FALSE))","v":0},{"$f":"IF(AND(OR(AN414=\"\",AN414=0)=TRUE,OR(AO414=\"\",AO414=0))=TRUE,0,IF(AO414=\"\",(IF(OR(C414=\"DDC\",C414=\"OHLC\")=TRUE,O414,P414)/1000)*Y414*Z414*(1+VLOOKUP($H$4,BuildingType_Lookup,4,FALSE)),IF(AO414=0,0,(IF(OR(C414=\"DDC\",C414=\"OHLC\")=TRUE,O414,Q414)/1000)*Y414*Z414*(1+VLOOKUP($H$4,BuildingType_Lookup,4,FALSE)))))","v":0},{"$f":"IF(AND(OR(AN414=\"\",AN414=0)=TRUE,OR(AO414=\"\",AO414=0))=TRUE,0,IF(AO414=\"\",(IF(OR(C414=\"DDC\",C414=\"OHLC\")=TRUE,O414,P414)/1000)*Y414*AA414*(1+VLOOKUP($H$4,BuildingType_Lookup,MATCH($H$5,HVAC,0)+4,FALSE)),IF(AO414=0,0,(IF(OR(C414=\"DDC\",C414=\"OHLC\")=TRUE,O414,Q414)/1000)*Y414*AA414*(1+VLOOKUP($H$4,BuildingType_Lookup,MATCH($H$5,HVAC,0)+4,FALSE)))))","v":0},0,0,0,0,0,0,{"$f":"W414/1000*Y414*AA414*IF(IFERROR(SEARCH(\"Gas\",$H$5),0)>0,VLOOKUP(\"Gas\",HVACg_Lookup,MATCH($H$6,BuildingSize,0)+1,FALSE),IF(IFERROR(SEARCH(\"Oil\",$H$5),0)>0,VLOOKUP(\"Oil\",HVACg_Lookup,MATCH($H$6,BuildingSize,0)+1,FALSE),IF(IFERROR(SEARCH(\"Propane\",$H$5),0)>0,VLOOKUP(\"Propane\",HVACg_Lookup,MATCH(Worksheet!$H$6,BuildingSize,0)+1,FALSE),0)))","v":0},{"$f":"X414/1000*Y414*AA414*IF(IFERROR(SEARCH(\"Gas\",$H$5),0)>0,VLOOKUP(\"Gas\",HVACg_Lookup,MATCH($H$6,BuildingSize,0)+1,FALSE),IF(IFERROR(SEARCH(\"Oil\",$H$5),0)>0,VLOOKUP(\"Oil\",HVACg_Lookup,MATCH($H$6,BuildingSize,0)+1,FALSE),IF(IFERROR(SEARCH(\"Propane\",$H$5),0)>0,VLOOKUP(\"Propane\",HVACg_Lookup,MATCH(Worksheet!$H$6,BuildingSize,0)+1,FALSE),0)))","v":0},0,0,{"$f":"IF(OR($B$4=\"\",$B$5=\"\",$H$4=\"\",$H$6=\"\",$H$5=\"\",A414=\"\",F414=\"\",J414=\"\",O414=\"\",P414=\"\")=TRUE,\"\",IF(C414=\"OSW\",IF(J414>=2,1,0),IF(C414=\"OSR\",IF(AND(J414>=2,P414>60)=TRUE,1,0),IF(C414=\"OSRH\",IF(AND(J414>=1,P414>90)=TRUE,1,0),IF(C414=\"OHLC\",IF(AND(N414=\"Y\",P414>60)=TRUE,1,0),IF(C414=\"DDC\",IF(AND(J414>=4,N414=\"Y\",P414>120)=TRUE,1,0),0))))))","v":""},{"$f":"IF(OR($B$4=\"\",$B$5=\"\",$H$4=\"\",$H$6=\"\",$H$5=\"\",A414=\"\",F414=\"\",K414=\"\",O414=\"\",P414=\"\")=TRUE,\"\",IF(C414=\"OSW\",IF(K414>=2,1,0),IF(C414=\"OSR\",IF(AND(K414>=2,Q414>60)=TRUE,1,0),IF(C414=\"OSRH\",IF(AND(K414>=1,Q414>90)=TRUE,1,0),IF(C414=\"OHLC\",IF(AND(N414=\"Y\",Q414>60)=TRUE,1,0),IF(C414=\"DDC\",IF(AND(K414>=4,N414=\"Y\",Q414>120)=TRUE,1,0),0))))))","v":""}]
[null,null,"",null,null,null,null,null,null,null,null,null,null,null,null,0,0,0,0,"",0,0,0,0,0,{"$f":"IF($H$4=\"\",0,VLOOKUP($H$4,BuildingType_Lookup,3,FALSE))","v":0},{"$f":"IF($H$4=\"\",0,VLOOKUP($H$4,BuildingType_Lookup,2,FALSE))","v":0},{"$f":"IF(AND(OR(AN415=\"\",AN415=0)=TRUE,OR(AO415=\"\",AO415=0))=TRUE,0,IF(AO415=\"\",(IF(OR(C415=\"DDC\",C415=\"OHLC\")=TRUE,O415,P415)/1000)*Y415*Z415*(1+VLOOKUP($H$4,BuildingType_Lookup,4,FALSE)),IF(AO415=0,0,(IF(OR(C415=\"DDC\",C415=\"OHLC\")=TRUE,O415,Q415)/1000)*Y415*Z415*(1+VLOOKUP($H$4,BuildingType_Lookup,4,FALSE)))))","v":0},{"$f":"IF(AND(OR(AN415=\"\",AN415=0)=TRUE,OR(AO415=\"\",AO415=0))=TRUE,0,IF(AO415=\"\",(IF(OR(C415=\"DDC\",C415=\"OHLC\")=TRUE,O415,P415)/1000)*Y415*AA415*(1+VLOOKUP($H$4,BuildingType_Lookup,MATCH($H$5,HVAC,0)+4,FALSE)),IF(AO415=0,0,(IF(OR(C415=\"DDC\",C415=\"OHLC\")=TRUE,O415,Q415)/1000)*Y415*AA415*(1+VLOOKUP($H$4,BuildingType_Lookup,MATCH($H$5,HVAC,0)+4,FALSE)))))","v":0},0,0,0,0,0,0,{"$f":"W415/1000*Y415*AA415*IF(IFERROR(SEARCH(\"Gas\",$H$5),0)>0,VLOOKUP(\"Gas\",HVACg_Lookup,MATCH($H$6,BuildingSize,0)+1,FALSE),IF(IFERROR(SEARCH(\"Oil\",$H$5),0)>0,VLOOKUP(\"Oil\",HVACg_Lookup,MATCH($H$6,BuildingSize,0)+1,FALSE),IF(IFERROR(SEARCH(\"Propane\",$H$5),0)>0,VLOOKUP(\"Propane\",HVACg_Lookup,MATCH(Worksheet!$H$6,BuildingSize,0)+1,FALSE),0)))","v":0},{"$f":"X415/1000*Y415*AA415*IF(IFERROR(SEARCH(\"Gas\",$H$5),0)>0,VLOOKUP(\"Gas\",HVACg_Lookup,MATCH($H$6,BuildingSize,0)+1,FALSE),IF(IFERROR(SEARCH(\"Oil\",$H$5),0)>0,VLOOKUP(\"Oil\",HVACg_Lookup,MATCH($H$6,BuildingSize,0)+1,FALSE),IF(IFERROR(SEARCH(\"Propane\",$H$5),0)>0,VLOOKUP(\"Propane\",HVACg_Lookup,MATCH(Worksheet!$H$6,BuildingSize,0)+1,FALSE),0)))","v":0},0,0,{"$f":"IF(OR($B$4=\"\",$B$5=\"\",$H$4=\"\",$H$6=\"\",$H$5=\"\",A415=\"\",F415=\"\",J415=\"\",O415=\"\",P415=\"\")=TRUE,\"\",IF(C415=\"OSW\",IF(J415>=2,1,0),IF(C415=\"OSR\",IF(AND(J415>=2,P415>60)=TRUE,1,0),IF(C415=\"OSRH\",IF(AND(J415>=1,P415>90)=TRUE,1,0),IF(C415=\"OHLC\",IF(AND(N415=\"Y\",P415>60)=TRUE,1,0),IF(C415=\"DDC\",IF(AND(J415>=4,N415=\"Y\",P415>120)=TRUE,1,0),0))))))","v":""},{"$f":"IF(OR($B$4=\"\",$B$5=\"\",$H$4=\"\",$H$6=\"\",$H$5=\"\",A415=\"\",F415=\"\",K415=\"\",O415=\"\",P415=\"\")=TRUE,\"\",IF(C415=\"OSW\",IF(K415>=2,1,0),IF(C415=\"OSR\",IF(AND(K415>=2,Q415>60)=TRUE,1,0),IF(C415=\"OSRH\",IF(AND(K415>=1,Q415>90)=TRUE,1,0),IF(C415=\"OHLC\",IF(AND(N415=\"Y\",Q415>60)=TRUE,1,0),IF(C415=\"DDC\",IF(AND(K415>=4,N415=\"Y\",Q415>120)=TRUE,1,0),0))))))","v":""}]
[null,null,"",null,null,null,null,null,null,null,null,null,null,null,null,0,0,0,0,"",0,0,0,0,0,{"$f":"IF($H$4=\"\",0,VLOOKUP($H$4,BuildingType_Lookup,3,FALSE))","v":0},{"$f":"IF($H$4=\"\",0,VLOOKUP($H$4,BuildingType_Lookup,2,FALSE))","v":0},{"$f":"IF(AND(OR(AN416=\"\",AN416=0)=TRUE,OR(AO416=\"\",AO416=0))=TRUE,0,IF(AO416=\"\",(IF(OR(C416=\"DDC\",C416=\"OHLC\")=TRUE,O416,P416)/1000)*Y416*Z416*(1+VLOOKUP($H$4,BuildingType_Lookup,4,FALSE)),IF(AO416=0,0,(IF(OR(C416=\"DDC\",C416=\"OHLC\")=TRUE,O416,Q416)/1000)*Y416*Z416*(1+VLOOKUP($H$4,BuildingType_Lookup,4,FALSE)))))","v":0},{"$f":"IF(AND(OR(AN416=\"\",AN416=0)=TRUE,OR(AO416=\"\",AO416=0))=TRUE,0,IF(AO416=\"\",(IF(OR(C416=\"DDC\",C416=\"OHLC\")=TRUE,O416,P416)/1000)*Y416*AA416*(1+VLOOKUP($H$4,BuildingType_Lookup,MATCH($H$5,HVAC,0)+4,FALSE)),IF(AO416=0,0,(IF(OR(C416=\"DDC\",C416=\"OHLC\")=TRUE,O416,Q416)/1000)*Y416*AA416*(1+VLOOKUP($H$4,BuildingType_Lookup,MATCH($H$5,HVAC,0)+4,FALSE)))))","v":0},0,0,0,0,0,0,{"$f":"W416/1000*Y416*AA416*IF(IFERROR(SEARCH(\"Gas\",$H$5),0)>0,VLOOKUP(\"Gas\",HVACg_Lookup,MATCH($H$6,BuildingSize,0)+1,FALSE),IF(IFERROR(SEARCH(\"Oil\",$H$5),0)>0,VLOOKUP(\"Oil\",HVACg_Lookup,MATCH($H$6,BuildingSize,0)+1,FALSE),IF(IFERROR(SEARCH(\"Propane\",$H$5),0)>0,VLOOKUP(\"Propane\",HVACg_Lookup,MATCH(Worksheet!$H$6,BuildingSize,0)+1,FALSE),0)))","v":0},{"$f":"X416/1000*Y416*AA416*IF(IFERROR(SEARCH(\"Gas\",$H$5),0)>0,VLOOKUP(\"Gas\",HVACg_Lookup,MATCH($H$6,BuildingSize,0)+1,FALSE),IF(IFERROR(SEARCH(\"Oil\",$H$5),0)>0,VLOOKUP(\"Oil\",HVACg_Lookup,MATCH($H$6,BuildingSize,0)+1,FALSE),IF(IFERROR(SEARCH(\"Propane\",$H$5),0)>0,VLOOKUP(\"Propane\",HVACg_Lookup,MATCH(Worksheet!$H$6,BuildingSize,0)+1,FALSE),0)))","v":0},0,0,{"$f":"IF(OR($B$4=\"\",$B$5=\"\",$H$4=\"\",$H$6=\"\",$H$5=\"\",A416=\"\",F416=\"\",J416=\"\",O416=\"\",P416=\"\")=TRUE,\"\",IF(C416=\"OSW\",IF(J416>=2,1,0),IF(C416=\"OSR\",IF(AND(J416>=2,P416>60)=TRUE,1,0),IF(C416=\"OSRH\",IF(AND(J416>=1,P416>90)=TRUE,1,0),IF(C416=\"OHLC\",IF(AND(N416=\"Y\",P416>60)=TRUE,1,0),IF(C416=\"DDC\",IF(AND(J416>=4,N416=\"Y\",P416>120)=TRUE,1,0),0))))))","v":""},{"$f":"IF(OR($B$4=\"\",$B$5=\"\",$H$4=\"\",$H$6=\"\",$H$5=\"\",A416=\"\",F416=\"\",K416=\"\",O416=\"\",P416=\"\")=TRUE,\"\",IF(C416=\"OSW\",IF(K416>=2,1,0),IF(C416=\"OSR\",IF(AND(K416>=2,Q416>60)=TRUE,1,0),IF(C416=\"OSRH\",IF(AND(K416>=1,Q416>90)=TRUE,1,0),IF(C416=\"OHLC\",IF(AND(N416=\"Y\",Q416>60)=TRUE,1,0),IF(C416=\"DDC\",IF(AND(K416>=4,N416=\"Y\",Q416>120)=TRUE,1,0),0))))))","v":""}]
[null,null,"",null,null,null,null,null,null,null,null,null,null,null,null,0,0,0,0,"",0,0,0,0,0,{"$f":"IF($H$4=\"\",0,VLOOKUP($H$4,BuildingType_Lookup,3,FALSE))","v":0},{"$f":"IF($H$4=\"\",0,VLOOKUP($H$4,BuildingType_Lookup,2,FALSE))","v":0},{"$f":"IF(AND(OR(AN417=\"\",AN417=0)=TRUE,OR(AO417=\"\",AO417=0))=TRUE,0,IF(AO417=\"\",(IF(OR(C417=\"DDC\",C417=\"OHLC\")=TRUE,O417,P417)/1000)*Y417*Z417*(1+VLOOKUP($H$4,BuildingType_Lookup,4,FALSE)),IF(AO417=0,0,(IF(OR(C417=\"DDC\",C417=\"OHLC\")=TRUE,O417,Q417)/1000)*Y417*Z417*(1+VLOOKUP($H$4,BuildingType_Lookup,4,FALSE)))))","v":0},{"$f":"IF(AND(OR(AN417=\"\",AN417=0)=TRUE,OR(AO417=\"\",AO417=0))=TRUE,0,IF(AO417=\"\",(IF(OR(C417=\"DDC\",C417=\"OHLC\")=TRUE,O417,P417)/1000)*Y417*AA417*(1+VLOOKUP($H$4,BuildingType_Lookup,MATCH($H$5,HVAC,0)+4,FALSE)),IF(AO417=0,0,(IF(OR(C417=\"DDC\",C417=\"OHLC\")=TRUE,O417,Q417)/1000)*Y417*AA417*(1+VLOOKUP($H$4,BuildingType_Lookup,MATCH($H$5,HVAC,0)+4,FALSE)))))","v":0},0,0,0,0,0,0,{"$f":"W417/1000*Y417*AA417*IF(IFERROR(SEARCH(\"Gas\",$H$5),0)>0,VLOOKUP(\"Gas\",HVACg_Lookup,MATCH($H$6,BuildingSize,0)+1,FALSE),IF(IFERROR(SEARCH(\"Oil\",$H$5),0)>0,VLOOKUP(\"Oil\",HVACg_Lookup,MATCH($H$6,BuildingSize,0)+1,FALSE),IF(IFERROR(SEARCH(\"Propane\",$H$5),0)>0,VLOOKUP(\"Propane\",HVACg_Lookup,MATCH(Worksheet!$H$6,BuildingSize,0)+1,FALSE),0)))","v":0},{"$f":"X417/1000*Y417*AA417*IF(IFERROR(SEARCH(\"Gas\",$H$5),0)>0,VLOOKUP(\"Gas\",HVACg_Lookup,MATCH($H$6,BuildingSize,0)+1,FALSE),IF(IFERROR(SEARCH(\"Oil\",$H$5),0)>0,VLOOKUP(\"Oil\",HVACg_Lookup,MATCH($H$6,BuildingSize,0)+1,FALSE),IF(IFERROR(SEARCH(\"Propane\",$H$5),0)>0,VLOOKUP(\"Propane\",HVACg_Lookup,MATCH(Worksheet!$H$6,BuildingSize,0)+1,FALSE),0)))","v":0},0,0,{"$f":"IF(OR($B$4=\"\",$B$5=\"\",$H$4=\"\",$H$6=\"\",$H$5=\"\",A417=\"\",F417=\"\",J417=\"\",O417=\"\",P417=\"\")=TRUE,\"\",IF(C417=\"OSW\",IF(J417>=2,1,0),IF(C417=\"OSR\",IF(AND(J417>=2,P417>60)=TRUE,1,0),IF(C417=\"OSRH\",IF(AND(J417>=1,P417>90)=TRUE,1,0),IF(C417=\"OHLC\",IF(AND(N417=\"Y\",P417>60)=TRUE,1,0),IF(C417=\"DDC\",IF(AND(J417>=4,N417=\"Y\",P417>120)=TRUE,1,0),0))))))","v":""},{"$f":"IF(OR($B$4=\"\",$B$5=\"\",$H$4=\"\",$H$6=\"\",$H$5=\"\",A417=\"\",F417=\"\",K417=\"\",O417=\"\",P417=\"\")=TRUE,\"\",IF(C417=\"OSW\",IF(K417>=2,1,0),IF(C417=\"OSR\",IF(AND(K417>=2,Q417>60)=TRUE,1,0),IF(C417=\"OSRH\",IF(AND(K417>=1,Q417>90)=TRUE,1,0),IF(C417=\"OHLC\",IF(AND(N417=\"Y\",Q417>60)=TRUE,1,0),IF(C417=\"DDC\",IF(AND(K417>=4,N417=\"Y\",Q417>120)=TRUE,1,0),0))))))","v":""}]
[null,null,"",null,null,null,null,null,null,null,null,null,null,null,null,0,0,0,0,"",0,0,0,0,0,{"$f":"IF($H$4=\"\",0,VLOOKUP($H$4,BuildingType_Lookup,3,FALSE))","v":0},{"$f":"IF($H$4=\"\",0,VLOOKUP($H$4,BuildingType_Lookup,2,FALSE))","v":0},{"$f":"IF(AND(OR(AN418=\"\",AN418=0)=TRUE,OR(AO418=\"\",AO418=0))=TRUE,0,IF(AO418=\"\",(IF(OR(C418=\"DDC\",C418=\"OHLC\")=TRUE,O418,P418)/1000)*Y418*Z418*(1+VLOOKUP($H$4,BuildingType_Lookup,4,FALSE)),IF(AO418=0,0,(IF(OR(C418=\"DDC\",C418=\"OHLC\")=TRUE,O418,Q418)/1000)*Y418*Z418*(1+VLOOKUP($H$4,BuildingType_Lookup,4,FALSE)))))","v":0},{"$f":"IF(AND(OR(AN418=\"\",AN418=0)=TRUE,OR(AO418=\"\",AO418=0))=TRUE,0,IF(AO418=\"\",(IF(OR(C418=\"DDC\",C418=\"OHLC\")=TRUE,O418,P418)/1000)*Y418*AA418*(1+VLOOKUP($H$4,BuildingType_Lookup,MATCH($H$5,HVAC,0)+4,FALSE)),IF(AO418=0,0,(IF(OR(C418=\"DDC\",C418=\"OHLC\")=TRUE,O418,Q418)/1000)*Y418*AA418*(1+VLOOKUP($H$4,BuildingType_Lookup,MATCH($H$5,HVAC,0)+4,FALSE)))))","v":0},0,0,0,0,0,0,{"$f":"W418/1000*Y418*AA418*IF(IFERROR(SEARCH(\"Gas\",$H$5),0)>0,VLOOKUP(\"Gas\",HVACg_Lookup,MATCH($H$6,BuildingSize,0)+1,FALSE),IF(IFERROR(SEARCH(\"Oil\",$H$5),0)>0,VLOOKUP(\"Oil\",HVACg_Lookup,MATCH($H$6,BuildingSize,0)+1,FALSE),IF(IFERROR(SEARCH(\"Propane\",$H$5),0)>0,VLOOKUP(\"Propane\",HVACg_Lookup,MATCH(Worksheet!$H$6,BuildingSize,0)+1,FALSE),0)))","v":0},{"$f":"X418/1000*Y418*AA418*IF(IFERROR(SEARCH(\"Gas\",$H$5),0)>0,VLOOKUP(\"Gas\",HVACg_Lookup,MATCH($H$6,BuildingSize,0)+1,FALSE),IF(IFERROR(SEARCH(\"Oil\",$H$5),0)>0,VLOOKUP(\"Oil\",HVACg_Lookup,MATCH($H$6,BuildingSize,0)+1,FALSE),IF(IFERROR(SEARCH(\"Propane\",$H$5),0)>0,VLOOKUP(\"Propane\",HVACg_Lookup,MATCH(Worksheet!$H$6,BuildingSize,0)+1,FALSE),0)))","v":0},0,0,{"$f":"IF(OR($B$4=\"\",$B$5=\"\",$H$4=\"\",$H$6=\"\",$H$5=\"\",A418=\"\",F418=\"\",J418=\"\",O418=\"\",P418=\"\")=TRUE,\"\",IF(C418=\"OSW\",IF(J418>=2,1,0),IF(C418=\"OSR\",IF(AND(J418>=2,P418>60)=TRUE,1,0),IF(C418=\"OSRH\",IF(AND(J418>=1,P418>90)=TRUE,1,0),IF(C418=\"OHLC\",IF(AND(N418=\"Y\",P418>60)=TRUE,1,0),IF(C418=\"DDC\",IF(AND(J418>=4,N418=\"Y\",P418>120)=TRUE,1,0),0))))))","v":""},{"$f":"IF(OR($B$4=\"\",$B$5=\"\",$H$4=\"\",$H$6=\"\",$H$5=\"\",A418=\"\",F418=\"\",K418=\"\",O418=\"\",P418=\"\")=TRUE,\"\",IF(C418=\"OSW\",IF(K418>=2,1,0),IF(C418=\"OSR\",IF(AND(K418>=2,Q418>60)=TRUE,1,0),IF(C418=\"OSRH\",IF(AND(K418>=1,Q418>90)=TRUE,1,0),IF(C418=\"OHLC\",IF(AND(N418=\"Y\",Q418>60)=TRUE,1,0),IF(C418=\"DDC\",IF(AND(K418>=4,N418=\"Y\",Q418>120)=TRUE,1,0),0))))))","v":""}]
[null,null,"",null,null,null,null,null,null,null,null,null,null,null,null,0,0,0,0,"",0,0,0,0,0,{"$f":"IF($H$4=\"\",0,VLOOKUP($H$4,BuildingType_Lookup,3,FALSE))","v":0},{"$f":"IF($H$4=\"\",0,VLOOKUP($H$4,BuildingType_Lookup,2,FALSE))","v":0},{"$f":"IF(AND(OR(AN419=\"\",AN419=0)=TRUE,OR(AO419=\"\",AO419=0))=TRUE,0,IF(AO419=\"\",(IF(OR(C419=\"DDC\",C419=\"OHLC\")=TRUE,O419,P419)/1000)*Y419*Z419*(1+VLOOKUP($H$4,BuildingType_Lookup,4,FALSE)),IF(AO419=0,0,(IF(OR(C419=\"DDC\",C419=\"OHLC\")=TRUE,O419,Q419)/1000)*Y419*Z419*(1+VLOOKUP($H$4,BuildingType_Lookup,4,FALSE)))))","v":0},{"$f":"IF(AND(OR(AN419=\"\",AN419=0)=TRUE,OR(AO419=\"\",AO419=0))=TRUE,0,IF(AO419=\"\",(IF(OR(C419=\"DDC\",C419=\"OHLC\")=TRUE,O419,P419)/1000)*Y419*AA419*(1+VLOOKUP($H$4,BuildingType_Lookup,MATCH($H$5,HVAC,0)+4,FALSE)),IF(AO419=0,0,(IF(OR(C419=\"DDC\",C419=\"OHLC\")=TRUE,O419,Q419)/1000)*Y419*AA419*(1+VLOOKUP($H$4,BuildingType_Lookup,MATCH($H$5,HVAC,0)+4,FALSE)))))","v":0},0,0,0,0,0,0,{"$f":"W419/1000*Y419*AA419*IF(IFERROR(SEARCH(\"Gas\",$H$5),0)>0,VLOOKUP(\"Gas\",HVACg_Lookup,MATCH($H$6,BuildingSize,0)+1,FALSE),IF(IFERROR(SEARCH(\"Oil\",$H$5),0)>0,VLOOKUP(\"Oil\",HVACg_Lookup,MATCH($H$6,BuildingSize,0)+1,FALSE),IF(IFERROR(SEARCH(\"Propane\",$H$5),0)>0,VLOOKUP(\"Propane\",HVACg_Lookup,MATCH(Worksheet!$H$6,BuildingSize,0)+1,FALSE),0)))","v":0},{"$f":"X419/1000*Y419*AA419*IF(IFERROR(SEARCH(\"Gas\",$H$5),0)>0,VLOOKUP(\"Gas\",HVACg_Lookup,MATCH($H$6,BuildingSize,0)+1,FALSE),IF(IFERROR(SEARCH(\"Oil\",$H$5),0)>0,VLOOKUP(\"Oil\",HVACg_Lookup,MATCH($H$6,BuildingSize,0)+1,FALSE),IF(IFERROR(SEARCH(\"Propane\",$H$5),0)>0,VLOOKUP(\"Propane\",HVACg_Lookup,MATCH(Worksheet!$H$6,BuildingSize,0)+1,FALSE),0)))","v":0},0,0,{"$f":"IF(OR($B$4=\"\",$B$5=\"\",$H$4=\"\",$H$6=\"\",$H$5=\"\",A419=\"\",F419=\"\",J419=\"\",O419=\"\",P419=\"\")=TRUE,\"\",IF(C419=\"OSW\",IF(J419>=2,1,0),IF(C419=\"OSR\",IF(AND(J419>=2,P419>60)=TRUE,1,0),IF(C419=\"OSRH\",IF(AND(J419>=1,P419>90)=TRUE,1,0),IF(C419=\"OHLC\",IF(AND(N419=\"Y\",P419>60)=TRUE,1,0),IF(C419=\"DDC\",IF(AND(J419>=4,N419=\"Y\",P419>120)=TRUE,1,0),0))))))","v":""},{"$f":"IF(OR($B$4=\"\",$B$5=\"\",$H$4=\"\",$H$6=\"\",$H$5=\"\",A419=\"\",F419=\"\",K419=\"\",O419=\"\",P419=\"\")=TRUE,\"\",IF(C419=\"OSW\",IF(K419>=2,1,0),IF(C419=\"OSR\",IF(AND(K419>=2,Q419>60)=TRUE,1,0),IF(C419=\"OSRH\",IF(AND(K419>=1,Q419>90)=TRUE,1,0),IF(C419=\"OHLC\",IF(AND(N419=\"Y\",Q419>60)=TRUE,1,0),IF(C419=\"DDC\",IF(AND(K419>=4,N419=\"Y\",Q419>120)=TRUE,1,0),0))))))","v":""}]
[null,null,"",null,null,null,null,null,null,null,null,null,null,null,null,0,0,0,0,"",0,0,0,0,0,{"$f":"IF($H$4=\"\",0,VLOOKUP($H$4,BuildingType_Lookup,3,FALSE))","v":0},{"$f":"IF($H$4=\"\",0,VLOOKUP($H$4,BuildingType_Lookup,2,FALSE))","v":0},{"$f":"IF(AND(OR(AN420=\"\",AN420=0)=TRUE,OR(AO420=\"\",AO420=0))=TRUE,0,IF(AO420=\"\",(IF(OR(C420=\"DDC\",C420=\"OHLC\")=TRUE,O420,P420)/1000)*Y420*Z420*(1+VLOOKUP($H$4,BuildingType_Lookup,4,FALSE)),IF(AO420=0,0,(IF(OR(C420=\"DDC\",C420=\"OHLC\")=TRUE,O420,Q420)/1000)*Y420*Z420*(1+VLOOKUP($H$4,BuildingType_Lookup,4,FALSE)))))","v":0},{"$f":"IF(AND(OR(AN420=\"\",AN420=0)=TRUE,OR(AO420=\"\",AO420=0))=TRUE,0,IF(AO420=\"\",(IF(OR(C420=\"DDC\",C420=\"OHLC\")=TRUE,O420,P420)/1000)*Y420*AA420*(1+VLOOKUP($H$4,BuildingType_Lookup,MATCH($H$5,HVAC,0)+4,FALSE)),IF(AO420=0,0,(IF(OR(C420=\"DDC\",C420=\"OHLC\")=TRUE,O420,Q420)/1000)*Y420*AA420*(1+VLOOKUP($H$4,BuildingType_Lookup,MATCH($H$5,HVAC,0)+4,FALSE)))))","v":0},0,0,0,0,0,0,{"$f":"W420/1000*Y420*AA420*IF(IFERROR(SEARCH(\"Gas\",$H$5),0)>0,VLOOKUP(\"Gas\",HVACg_Lookup,MATCH($H$6,BuildingSize,0)+1,FALSE),IF(IFERROR(SEARCH(\"Oil\",$H$5),0)>0,VLOOKUP(\"Oil\",HVACg_Lookup,MATCH($H$6,BuildingSize,0)+1,FALSE),IF(IFERROR(SEARCH(\"Propane\",$H$5),0)>0,VLOOKUP(\"Propane\",HVACg_Lookup,MATCH(Worksheet!$H$6,BuildingSize,0)+1,FALSE),0)))","v":0},{"$f":"X420/1000*Y420*AA420*IF(IFERROR(SEARCH(\"Gas\",$H$5),0)>0,VLOOKUP(\"Gas\",HVACg_Lookup,MATCH($H$6,BuildingSize,0)+1,FALSE),IF(IFERROR(SEARCH(\"Oil\",$H$5),0)>0,VLOOKUP(\"Oil\",HVACg_Lookup,MATCH($H$6,BuildingSize,0)+1,FALSE),IF(IFERROR(SEARCH(\"Propane\",$H$5),0)>0,VLOOKUP(\"Propane\",HVACg_Lookup,MATCH(Worksheet!$H$6,BuildingSize,0)+1,FALSE),0)))","v":0},0,0,{"$f":"IF(OR($B$4=\"\",$B$5=\"\",$H$4=\"\",$H$6=\"\",$H$5=\"\",A420=\"\",F420=\"\",J420=\"\",O420=\"\",P420=\"\")=TRUE,\"\",IF(C420=\"OSW\",IF(J420>=2,1,0),IF(C420=\"OSR\",IF(AND(J420>=2,P420>60)=TRUE,1,0),IF(C420=\"OSRH\",IF(AND(J420>=1,P420>90)=TRUE,1,0),IF(C420=\"OHLC\",IF(AND(N420=\"Y\",P420>60)=TRUE,1,0),IF(C420=\"DDC\",IF(AND(J420>=4,N420=\"Y\",P420>120)=TRUE,1,0),0))))))","v":""},{"$f":"IF(OR($B$4=\"\",$B$5=\"\",$H$4=\"\",$H$6=\"\",$H$5=\"\",A420=\"\",F420=\"\",K420=\"\",O420=\"\",P420=\"\")=TRUE,\"\",IF(C420=\"OSW\",IF(K420>=2,1,0),IF(C420=\"OSR\",IF(AND(K420>=2,Q420>60)=TRUE,1,0),IF(C420=\"OSRH\",IF(AND(K420>=1,Q420>90)=TRUE,1,0),IF(C420=\"OHLC\",IF(AND(N420=\"Y\",Q420>60)=TRUE,1,0),IF(C420=\"DDC\",IF(AND(K420>=4,N420=\"Y\",Q420>120)=TRUE,1,0),0))))))","v":""}]
[null,null,"",null,null,null,null,null,null,null,null,null,null,null,null,0,0,0,0,"",0,0,0,0,0,{"$f":"IF($H$4=\"\",0,VLOOKUP($H$4,BuildingType_Lookup,3,FALSE))","v":0},{"$f":"IF($H$4=\"\",0,VLOOKUP($H$4,BuildingType_Lookup,2,FALSE))","v":0},{"$f":"IF(AND(OR(AN421=\"\",AN421=0)=TRUE,OR(AO421=\"\",AO421=0))=TRUE,0,IF(AO421=\"\",(IF(OR(C421=\"DDC\",C421=\"OHLC\")=TRUE,O421,P421)/1000)*Y421*Z421*(1+VLOOKUP($H$4,BuildingType_Lookup,4,FALSE)),IF(AO421=0,0,(IF(OR(C421=\"DDC\",C421=\"OHLC\")=TRUE,O421,Q421)/1000)*Y421*Z421*(1+VLOOKUP($H$4,BuildingType_Lookup,4,FALSE)))))","v":0},{"$f":"IF(AND(OR(AN421=\"\",AN421=0)=TRUE,OR(AO421=\"\",AO421=0))=TRUE,0,IF(AO421=\"\",(IF(OR(C421=\"DDC\",C421=\"OHLC\")=TRUE,O421,P421)/1000)*Y421*AA421*(1+VLOOKUP($H$4,BuildingType_Lookup,MATCH($H$5,HVAC,0)+4,FALSE)),IF(AO421=0,0,(IF(OR(C421=\"DDC\",C421=\"OHLC\")=TRUE,O421,Q421)/1000)*Y421*AA421*(1+VLOOKUP($H$4,BuildingType_Lookup,MATCH($H$5,HVAC,0)+4,FALSE)))))","v":0},0,0,0,0,0,0,{"$f":"W421/1000*Y421*AA421*IF(IFERROR(SEARCH(\"Gas\",$H$5),0)>0,VLOOKUP(\"Gas\",HVACg_Lookup,MATCH($H$6,BuildingSize,0)+1,FALSE),IF(IFERROR(SEARCH(\"Oil\",$H$5),0)>0,VLOOKUP(\"Oil\",HVACg_Lookup,MATCH($H$6,BuildingSize,0)+1,FALSE),IF(IFERROR(SEARCH(\"Propane\",$H$5),0)>0,VLOOKUP(\"Propane\",HVACg_Lookup,MATCH(Worksheet!$H$6,BuildingSize,0)+1,FALSE),0)))","v":0},{"$f":"X421/1000*Y421*AA421*IF(IFERROR(SEARCH(\"Gas\",$H$5),0)>0,VLOOKUP(\"Gas\",HVACg_Lookup,MATCH($H$6,BuildingSize,0)+1,FALSE),IF(IFERROR(SEARCH(\"Oil\",$H$5),0)>0,VLOOKUP(\"Oil\",HVACg_Lookup,MATCH($H$6,BuildingSize,0)+1,FALSE),IF(IFERROR(SEARCH(\"Propane\",$H$5),0)>0,VLOOKUP(\"Propane\",HVACg_Lookup,MATCH(Worksheet!$H$6,BuildingSize,0)+1,FALSE),0)))","v":0},0,0,{"$f":"IF(OR($B$4=\"\",$B$5=\"\",$H$4=\"\",$H$6=\"\",$H$5=\"\",A421=\"\",F421=\"\",J421=\"\",O421=\"\",P421=\"\")=TRUE,\"\",IF(C421=\"OSW\",IF(J421>=2,1,0),IF(C421=\"OSR\",IF(AND(J421>=2,P421>60)=TRUE,1,0),IF(C421=\"OSRH\",IF(AND(J421>=1,P421>90)=TRUE,1,0),IF(C421=\"OHLC\",IF(AND(N421=\"Y\",P421>60)=TRUE,1,0),IF(C421=\"DDC\",IF(AND(J421>=4,N421=\"Y\",P421>120)=TRUE,1,0),0))))))","v":""},{"$f":"IF(OR($B$4=\"\",$B$5=\"\",$H$4=\"\",$H$6=\"\",$H$5=\"\",A421=\"\",F421=\"\",K421=\"\",O421=\"\",P421=\"\")=TRUE,\"\",IF(C421=\"OSW\",IF(K421>=2,1,0),IF(C421=\"OSR\",IF(AND(K421>=2,Q421>60)=TRUE,1,0),IF(C421=\"OSRH\",IF(AND(K421>=1,Q421>90)=TRUE,1,0),IF(C421=\"OHLC\",IF(AND(N421=\"Y\",Q421>60)=TRUE,1,0),IF(C421=\"DDC\",IF(AND(K421>=4,N421=\"Y\",Q421>120)=TRUE,1,0),0))))))","v":""}]
[null,null,"",null,null,null,null,null,null,null,null,null,null,null,null,0,0,0,0,"",0,0,0,0,0,{"$f":"IF($H$4=\"\",0,VLOOKUP($H$4,BuildingType_Lookup,3,FALSE))","v":0},{"$f":"IF($H$4=\"\",0,VLOOKUP($H$4,BuildingType_Lookup,2,FALSE))","v":0},{"$f":"IF(AND(OR(AN422=\"\",AN422=0)=TRUE,OR(AO422=\"\",AO422=0))=TRUE,0,IF(AO422=\"\",(IF(OR(C422=\"DDC\",C422=\"OHLC\")=TRUE,O422,P422)/1000)*Y422*Z422*(1+VLOOKUP($H$4,BuildingType_Lookup,4,FALSE)),IF(AO422=0,0,(IF(OR(C422=\"DDC\",C422=\"OHLC\")=TRUE,O422,Q422)/1000)*Y422*Z422*(1+VLOOKUP($H$4,BuildingType_Lookup,4,FALSE)))))","v":0},{"$f":"IF(AND(OR(AN422=\"\",AN422=0)=TRUE,OR(AO422=\"\",AO422=0))=TRUE,0,IF(AO422=\"\",(IF(OR(C422=\"DDC\",C422=\"OHLC\")=TRUE,O422,P422)/1000)*Y422*AA422*(1+VLOOKUP($H$4,BuildingType_Lookup,MATCH($H$5,HVAC,0)+4,FALSE)),IF(AO422=0,0,(IF(OR(C422=\"DDC\",C422=\"OHLC\")=TRUE,O422,Q422)/1000)*Y422*AA422*(1+VLOOKUP($H$4,BuildingType_Lookup,MATCH($H$5,HVAC,0)+4,FALSE)))))","v":0},0,0,0,0,0,0,{"$f":"W422/1000*Y422*AA422*IF(IFERROR(SEARCH(\"Gas\",$H$5),0)>0,VLOOKUP(\"Gas\",HVACg_Lookup,MATCH($H$6,BuildingSize,0)+1,FALSE),IF(IFERROR(SEARCH(\"Oil\",$H$5),0)>0,VLOOKUP(\"Oil\",HVACg_Lookup,MATCH($H$6,BuildingSize,0)+1,FALSE),IF(IFERROR(SEARCH(\"Propane\",$H$5),0)>0,VLOOKUP(\"Propane\",HVACg_Lookup,MATCH(Worksheet!$H$6,BuildingSize,0)+1,FALSE),0)))","v":0},{"$f":"X422/1000*Y422*AA422*IF(IFERROR(SEARCH(\"Gas\",$H$5),0)>0,VLOOKUP(\"Gas\",HVACg_Lookup,MATCH($H$6,BuildingSize,0)+1,FALSE),IF(IFERROR(SEARCH(\"Oil\",$H$5),0)>0,VLOOKUP(\"Oil\",HVACg_Lookup,MATCH($H$6,BuildingSize,0)+1,FALSE),IF(IFERROR(SEARCH(\"Propane\",$H$5),0)>0,VLOOKUP(\"Propane\",HVACg_Lookup,MATCH(Worksheet!$H$6,BuildingSize,0)+1,FALSE),0)))","v":0},0,0,{"$f":"IF(OR($B$4=\"\",$B$5=\"\",$H$4=\"\",$H$6=\"\",$H$5=\"\",A422=\"\",F422=\"\",J422=\"\",O422=\"\",P422=\"\")=TRUE,\"\",IF(C422=\"OSW\",IF(J422>=2,1,0),IF(C422=\"OSR\",IF(AND(J422>=2,P422>60)=TRUE,1,0),IF(C422=\"OSRH\",IF(AND(J422>=1,P422>90)=TRUE,1,0),IF(C422=\"OHLC\",IF(AND(N422=\"Y\",P422>60)=TRUE,1,0),IF(C422=\"DDC\",IF(AND(J422>=4,N422=\"Y\",P422>120)=TRUE,1,0),0))))))","v":""},{"$f":"IF(OR($B$4=\"\",$B$5=\"\",$H$4=\"\",$H$6=\"\",$H$5=\"\",A422=\"\",F422=\"\",K422=\"\",O422=\"\",P422=\"\")=TRUE,\"\",IF(C422=\"OSW\",IF(K422>=2,1,0),IF(C422=\"OSR\",IF(AND(K422>=2,Q422>60)=TRUE,1,0),IF(C422=\"OSRH\",IF(AND(K422>=1,Q422>90)=TRUE,1,0),IF(C422=\"OHLC\",IF(AND(N422=\"Y\",Q422>60)=TRUE,1,0),IF(C422=\"DDC\",IF(AND(K422>=4,N422=\"Y\",Q422>120)=TRUE,1,0),0))))))","v":""}]
[null,null,"",null,null,null,null,null,null,null,null,null,null,null,null,0,0,0,0,"",0,0,0,0,0,{"$f":"IF($H$4=\"\",0,VLOOKUP($H$4,BuildingType_Lookup,3,FALSE))","v":0},{"$f":"IF($H$4=\"\",0,VLOOKUP($H$4,BuildingType_Lookup,2,FALSE))","v":0},{"$f":"IF(AND(OR(AN423=\"\",AN423=0)=TRUE,OR(AO423=\"\",AO423=0))=TRUE,0,IF(AO423=\"\",(IF(OR(C423=\"DDC\",C423=\"OHLC\")=TRUE,O423,P423)/1000)*Y423*Z423*(1+VLOOKUP($H$4,BuildingType_Lookup,4,FALSE)),IF(AO423=0,0,(IF(OR(C423=\"DDC\",C423=\"OHLC\")=TRUE,O423,Q423)/1000)*Y423*Z423*(1+VLOOKUP($H$4,BuildingType_Lookup,4,FALSE)))))","v":0},{"$f":"IF(AND(OR(AN423=\"\",AN423=0)=TRUE,OR(AO423=\"\",AO423=0))=TRUE,0,IF(AO423=\"\",(IF(OR(C423=\"DDC\",C423=\"OHLC\")=TRUE,O423,P423)/1000)*Y423*AA423*(1+VLOOKUP($H$4,BuildingType_Lookup,MATCH($H$5,HVAC,0)+4,FALSE)),IF(AO423=0,0,(IF(OR(C423=\"DDC\",C423=\"OHLC\")=TRUE,O423,Q423)/1000)*Y423*AA423*(1+VLOOKUP($H$4,BuildingType_Lookup,MATCH($H$5,HVAC,0)+4,FALSE)))))","v":0},0,0,0,0,0,0,{"$f":"W423/1000*Y423*AA423*IF(IFERROR(SEARCH(\"Gas\",$H$5),0)>0,VLOOKUP(\"Gas\",HVACg_Lookup,MATCH($H$6,BuildingSize,0)+1,FALSE),IF(IFERROR(SEARCH(\"Oil\",$H$5),0)>0,VLOOKUP(\"Oil\",HVACg_Lookup,MATCH($H$6,BuildingSize,0)+1,FALSE),IF(IFERROR(SEARCH(\"Propane\",$H$5),0)>0,VLOOKUP(\"Propane\",HVACg_Lookup,MATCH(Worksheet!$H$6,BuildingSize,0)+1,FALSE),0)))","v":0},{"$f":"X423/1000*Y423*AA423*IF(IFERROR(SEARCH(\"Gas\",$H$5),0)>0,VLOOKUP(\"Gas\",HVACg_Lookup,MATCH($H$6,BuildingSize,0)+1,FALSE),IF(IFERROR(SEARCH(\"Oil\",$H$5),0)>0,VLOOKUP(\"Oil\",HVACg_Lookup,MATCH($H$6,BuildingSize,0)+1,FALSE),IF(IFERROR(SEARCH(\"Propane\",$H$5),0)>0,VLOOKUP(\"Propane\",HVACg_Lookup,MATCH(Worksheet!$H$6,BuildingSize,0)+1,FALSE),0)))","v":0},0,0,{"$f":"IF(OR($B$4=\"\",$B$5=\"\",$H$4=\"\",$H$6=\"\",$H$5=\"\",A423=\"\",F423=\"\",J423=\"\",O423=\"\",P423=\"\")=TRUE,\"\",IF(C423=\"OSW\",IF(J423>=2,1,0),IF(C423=\"OSR\",IF(AND(J423>=2,P423>60)=TRUE,1,0),IF(C423=\"OSRH\",IF(AND(J423>=1,P423>90)=TRUE,1,0),IF(C423=\"OHLC\",IF(AND(N423=\"Y\",P423>60)=TRUE,1,0),IF(C423=\"DDC\",IF(AND(J423>=4,N423=\"Y\",P423>120)=TRUE,1,0),0))))))","v":""},{"$f":"IF(OR($B$4=\"\",$B$5=\"\",$H$4=\"\",$H$6=\"\",$H$5=\"\",A423=\"\",F423=\"\",K423=\"\",O423=\"\",P423=\"\")=TRUE,\"\",IF(C423=\"OSW\",IF(K423>=2,1,0),IF(C423=\"OSR\",IF(AND(K423>=2,Q423>60)=TRUE,1,0),IF(C423=\"OSRH\",IF(AND(K423>=1,Q423>90)=TRUE,1,0),IF(C423=\"OHLC\",IF(AND(N423=\"Y\",Q423>60)=TRUE,1,0),IF(C423=\"DDC\",IF(AND(K423>=4,N423=\"Y\",Q423>120)=TRUE,1,0),0))))))","v":""}]
[null,null,"",null,null,null,null,null,null,null,null,null,null,null,null,0,0,0,0,"",0,0,0,0,0,{"$f":"IF($H$4=\"\",0,VLOOKUP($H$4,BuildingType_Lookup,3,FALSE))","v":0},{"$f":"IF($H$4=\"\",0,VLOOKUP($H$4,BuildingType_Lookup,2,FALSE))","v":0},{"$f":"IF(AND(OR(AN424=\"\",AN424=0)=TRUE,OR(AO424=\"\",AO424=0))=TRUE,0,IF(AO424=\"\",(IF(OR(C424=\"DDC\",C424=\"OHLC\")=TRUE,O424,P424)/1000)*Y424*Z424*(1+VLOOKUP($H$4,BuildingType_Lookup,4,FALSE)),IF(AO424=0,0,(IF(OR(C424=\"DDC\",C424=\"OHLC\")=TRUE,O424,Q424)/1000)*Y424*Z424*(1+VLOOKUP($H$4,BuildingType_Lookup,4,FALSE)))))","v":0},{"$f":"IF(AND(OR(AN424=\"\",AN424=0)=TRUE,OR(AO424=\"\",AO424=0))=TRUE,0,IF(AO424=\"\",(IF(OR(C424=\"DDC\",C424=\"OHLC\")=TRUE,O424,P424)/1000)*Y424*AA424*(1+VLOOKUP($H$4,BuildingType_Lookup,MATCH($H$5,HVAC,0)+4,FALSE)),IF(AO424=0,0,(IF(OR(C424=\"DDC\",C424=\"OHLC\")=TRUE,O424,Q424)/1000)*Y424*AA424*(1+VLOOKUP($H$4,BuildingType_Lookup,MATCH($H$5,HVAC,0)+4,FALSE)))))","v":0},0,0,0,0,0,0,{"$f":"W424/1000*Y424*AA424*IF(IFERROR(SEARCH(\"Gas\",$H$5),0)>0,VLOOKUP(\"Gas\",HVACg_Lookup,MATCH($H$6,BuildingSize,0)+1,FALSE),IF(IFERROR(SEARCH(\"Oil\",$H$5),0)>0,VLOOKUP(\"Oil\",HVACg_Lookup,MATCH($H$6,BuildingSize,0)+1,FALSE),IF(IFERROR(SEARCH(\"Propane\",$H$5),0)>0,VLOOKUP(\"Propane\",HVACg_Lookup,MATCH(Worksheet!$H$6,BuildingSize,0)+1,FALSE),0)))","v":0},{"$f":"X424/1000*Y424*AA424*IF(IFERROR(SEARCH(\"Gas\",$H$5),0)>0,VLOOKUP(\"Gas\",HVACg_Lookup,MATCH($H$6,BuildingSize,0)+1,FALSE),IF(IFERROR(SEARCH(\"Oil\",$H$5),0)>0,VLOOKUP(\"Oil\",HVACg_Lookup,MATCH($H$6,BuildingSize,0)+1,FALSE),IF(IFERROR(SEARCH(\"Propane\",$H$5),0)>0,VLOOKUP(\"Propane\",HVACg_Lookup,MATCH(Worksheet!$H$6,BuildingSize,0)+1,FALSE),0)))","v":0},0,0,{"$f":"IF(OR($B$4=\"\",$B$5=\"\",$H$4=\"\",$H$6=\"\",$H$5=\"\",A424=\"\",F424=\"\",J424=\"\",O424=\"\",P424=\"\")=TRUE,\"\",IF(C424=\"OSW\",IF(J424>=2,1,0),IF(C424=\"OSR\",IF(AND(J424>=2,P424>60)=TRUE,1,0),IF(C424=\"OSRH\",IF(AND(J424>=1,P424>90)=TRUE,1,0),IF(C424=\"OHLC\",IF(AND(N424=\"Y\",P424>60)=TRUE,1,0),IF(C424=\"DDC\",IF(AND(J424>=4,N424=\"Y\",P424>120)=TRUE,1,0),0))))))","v":""},{"$f":"IF(OR($B$4=\"\",$B$5=\"\",$H$4=\"\",$H$6=\"\",$H$5=\"\",A424=\"\",F424=\"\",K424=\"\",O424=\"\",P424=\"\")=TRUE,\"\",IF(C424=\"OSW\",IF(K424>=2,1,0),IF(C424=\"OSR\",IF(AND(K424>=2,Q424>60)=TRUE,1,0),IF(C424=\"OSRH\",IF(AND(K424>=1,Q424>90)=TRUE,1,0),IF(C424=\"OHLC\",IF(AND(N424=\"Y\",Q424>60)=TRUE,1,0),IF(C424=\"DDC\",IF(AND(K424>=4,N424=\"Y\",Q424>120)=TRUE,1,0),0))))))","v":""}]
[null,null,"",null,null,null,null,null,null,null,null,null,null,null,null,0,0,0,0,"",0,0,0,0,0,{"$f":"IF($H$4=\"\",0,VLOOKUP($H$4,BuildingType_Lookup,3,FALSE))","v":0},{"$f":"IF($H$4=\"\",0,VLOOKUP($H$4,BuildingType_Lookup,2,FALSE))","v":0},{"$f":"IF(AND(OR(AN425=\"\",AN425=0)=TRUE,OR(AO425=\"\",AO425=0))=TRUE,0,IF(AO425=\"\",(IF(OR(C425=\"DDC\",C425=\"OHLC\")=TRUE,O425,P425)/1000)*Y425*Z425*(1+VLOOKUP($H$4,BuildingType_Lookup,4,FALSE)),IF(AO425=0,0,(IF(OR(C425=\"DDC\",C425=\"OHLC\")=TRUE,O425,Q425)/1000)*Y425*Z425*(1+VLOOKUP($H$4,BuildingType_Lookup,4,FALSE)))))","v":0},{"$f":"IF(AND(OR(AN425=\"\",AN425=0)=TRUE,OR(AO425=\"\",AO425=0))=TRUE,0,IF(AO425=\"\",(IF(OR(C425=\"DDC\",C425=\"OHLC\")=TRUE,O425,P425)/1000)*Y425*AA425*(1+VLOOKUP($H$4,BuildingType_Lookup,MATCH($H$5,HVAC,0)+4,FALSE)),IF(AO425=0,0,(IF(OR(C425=\"DDC\",C425=\"OHLC\")=TRUE,O425,Q425)/1000)*Y425*AA425*(1+VLOOKUP($H$4,BuildingType_Lookup,MATCH($H$5,HVAC,0)+4,FALSE)))))","v":0},0,0,0,0,0,0,{"$f":"W425/1000*Y425*AA425*IF(IFERROR(SEARCH(\"Gas\",$H$5),0)>0,VLOOKUP(\"Gas\",HVACg_Lookup,MATCH($H$6,BuildingSize,0)+1,FALSE),IF(IFERROR(SEARCH(\"Oil\",$H$5),0)>0,VLOOKUP(\"Oil\",HVACg_Lookup,MATCH($H$6,BuildingSize,0)+1,FALSE),IF(IFERROR(SEARCH(\"Propane\",$H$5),0)>0,VLOOKUP(\"Propane\",HVACg_Lookup,MATCH(Worksheet!$H$6,BuildingSize,0)+1,FALSE),0)))","v":0},{"$f":"X425/1000*Y425*AA425*IF(IFERROR(SEARCH(\"Gas\",$H$5),0)>0,VLOOKUP(\"Gas\",HVACg_Lookup,MATCH($H$6,BuildingSize,0)+1,FALSE),IF(IFERROR(SEARCH(\"Oil\",$H$5),0)>0,VLOOKUP(\"Oil\",HVACg_Lookup,MATCH($H$6,BuildingSize,0)+1,FALSE),IF(IFERROR(SEARCH(\"Propane\",$H$5),0)>0,VLOOKUP(\"Propane\",HVACg_Lookup,MATCH(Worksheet!$H$6,BuildingSize,0)+1,FALSE),0)))","v":0},0,0,{"$f":"IF(OR($B$4=\"\",$B$5=\"\",$H$4=\"\",$H$6=\"\",$H$5=\"\",A425=\"\",F425=\"\",J425=\"\",O425=\"\",P425=\"\")=TRUE,\"\",IF(C425=\"OSW\",IF(J425>=2,1,0),IF(C425=\"OSR\",IF(AND(J425>=2,P425>60)=TRUE,1,0),IF(C425=\"OSRH\",IF(AND(J425>=1,P425>90)=TRUE,1,0),IF(C425=\"OHLC\",IF(AND(N425=\"Y\",P425>60)=TRUE,1,0),IF(C425=\"DDC\",IF(AND(J425>=4,N425=\"Y\",P425>120)=TRUE,1,0),0))))))","v":""},{"$f":"IF(OR($B$4=\"\",$B$5=\"\",$H$4=\"\",$H$6=\"\",$H$5=\"\",A425=\"\",F425=\"\",K425=\"\",O425=\"\",P425=\"\")=TRUE,\"\",IF(C425=\"OSW\",IF(K425>=2,1,0),IF(C425=\"OSR\",IF(AND(K425>=2,Q425>60)=TRUE,1,0),IF(C425=\"OSRH\",IF(AND(K425>=1,Q425>90)=TRUE,1,0),IF(C425=\"OHLC\",IF(AND(N425=\"Y\",Q425>60)=TRUE,1,0),IF(C425=\"DDC\",IF(AND(K425>=4,N425=\"Y\",Q425>120)=TRUE,1,0),0))))))","v":""}]
[null,null,"",null,null,null,null,null,null,null,null,null,null,null,null,0,0,0,0,"",0,0,0,0,0,{"$f":"IF($H$4=\"\",0,VLOOKUP($H$4,BuildingType_Lookup,3,FALSE))","v":0},{"$f":"IF($H$4=\"\",0,VLOOKUP($H$4,BuildingType_Lookup,2,FALSE))","v":0},{"$f":"IF(AND(OR(AN426=\"\",AN426=0)=TRUE,OR(AO426=\"\",AO426=0))=TRUE,0,IF(AO426=\"\",(IF(OR(C426=\"DDC\",C426=\"OHLC\")=TRUE,O426,P426)/1000)*Y426*Z426*(1+VLOOKUP($H$4,BuildingType_Lookup,4,FALSE)),IF(AO426=0,0,(IF(OR(C426=\"DDC\",C426=\"OHLC\")=TRUE,O426,Q426)/1000)*Y426*Z426*(1+VLOOKUP($H$4,BuildingType_Lookup,4,FALSE)))))","v":0},{"$f":"IF(AND(OR(AN426=\"\",AN426=0)=TRUE,OR(AO426=\"\",AO426=0))=TRUE,0,IF(AO426=\"\",(IF(OR(C426=\"DDC\",C426=\"OHLC\")=TRUE,O426,P426)/1000)*Y426*AA426*(1+VLOOKUP($H$4,BuildingType_Lookup,MATCH($H$5,HVAC,0)+4,FALSE)),IF(AO426=0,0,(IF(OR(C426=\"DDC\",C426=\"OHLC\")=TRUE,O426,Q426)/1000)*Y426*AA426*(1+VLOOKUP($H$4,BuildingType_Lookup,MATCH($H$5,HVAC,0)+4,FALSE)))))","v":0},0,0,0,0,0,0,{"$f":"W426/1000*Y426*AA426*IF(IFERROR(SEARCH(\"Gas\",$H$5),0)>0,VLOOKUP(\"Gas\",HVACg_Lookup,MATCH($H$6,BuildingSize,0)+1,FALSE),IF(IFERROR(SEARCH(\"Oil\",$H$5),0)>0,VLOOKUP(\"Oil\",HVACg_Lookup,MATCH($H$6,BuildingSize,0)+1,FALSE),IF(IFERROR(SEARCH(\"Propane\",$H$5),0)>0,VLOOKUP(\"Propane\",HVACg_Lookup,MATCH(Worksheet!$H$6,BuildingSize,0)+1,FALSE),0)))","v":0},{"$f":"X426/1000*Y426*AA426*IF(IFERROR(SEARCH(\"Gas\",$H$5),0)>0,VLOOKUP(\"Gas\",HVACg_Lookup,MATCH($H$6,BuildingSize,0)+1,FALSE),IF(IFERROR(SEARCH(\"Oil\",$H$5),0)>0,VLOOKUP(\"Oil\",HVACg_Lookup,MATCH($H$6,BuildingSize,0)+1,FALSE),IF(IFERROR(SEARCH(\"Propane\",$H$5),0)>0,VLOOKUP(\"Propane\",HVACg_Lookup,MATCH(Worksheet!$H$6,BuildingSize,0)+1,FALSE),0)))","v":0},0,0,{"$f":"IF(OR($B$4=\"\",$B$5=\"\",$H$4=\"\",$H$6=\"\",$H$5=\"\",A426=\"\",F426=\"\",J426=\"\",O426=\"\",P426=\"\")=TRUE,\"\",IF(C426=\"OSW\",IF(J426>=2,1,0),IF(C426=\"OSR\",IF(AND(J426>=2,P426>60)=TRUE,1,0),IF(C426=\"OSRH\",IF(AND(J426>=1,P426>90)=TRUE,1,0),IF(C426=\"OHLC\",IF(AND(N426=\"Y\",P426>60)=TRUE,1,0),IF(C426=\"DDC\",IF(AND(J426>=4,N426=\"Y\",P426>120)=TRUE,1,0),0))))))","v":""},{"$f":"IF(OR($B$4=\"\",$B$5=\"\",$H$4=\"\",$H$6=\"\",$H$5=\"\",A426=\"\",F426=\"\",K426=\"\",O426=\"\",P426=\"\")=TRUE,\"\",IF(C426=\"OSW\",IF(K426>=2,1,0),IF(C426=\"OSR\",IF(AND(K426>=2,Q426>60)=TRUE,1,0),IF(C426=\"OSRH\",IF(AND(K426>=1,Q426>90)=TRUE,1,0),IF(C426=\"OHLC\",IF(AND(N426=\"Y\",Q426>60)=TRUE,1,0),IF(C426=\"DDC\",IF(AND(K426>=4,N426=\"Y\",Q426>120)=TRUE,1,0),0))))))","v":""}]
[null,null,"",null,null,null,null,null,null,null,null,null,null,null,null,0,0,0,0,"",0,0,0,0,0,{"$f":"IF($H$4=\"\",0,VLOOKUP($H$4,BuildingType_Lookup,3,FALSE))","v":0},{"$f":"IF($H$4=\"\",0,VLOOKUP($H$4,BuildingType_Lookup,2,FALSE))","v":0},{"$f":"IF(AND(OR(AN427=\"\",AN427=0)=TRUE,OR(AO427=\"\",AO427=0))=TRUE,0,IF(AO427=\"\",(IF(OR(C427=\"DDC\",C427=\"OHLC\")=TRUE,O427,P427)/1000)*Y427*Z427*(1+VLOOKUP($H$4,BuildingType_Lookup,4,FALSE)),IF(AO427=0,0,(IF(OR(C427=\"DDC\",C427=\"OHLC\")=TRUE,O427,Q427)/1000)*Y427*Z427*(1+VLOOKUP($H$4,BuildingType_Lookup,4,FALSE)))))","v":0},{"$f":"IF(AND(OR(AN427=\"\",AN427=0)=TRUE,OR(AO427=\"\",AO427=0))=TRUE,0,IF(AO427=\"\",(IF(OR(C427=\"DDC\",C427=\"OHLC\")=TRUE,O427,P427)/1000)*Y427*AA427*(1+VLOOKUP($H$4,BuildingType_Lookup,MATCH($H$5,HVAC,0)+4,FALSE)),IF(AO427=0,0,(IF(OR(C427=\"DDC\",C427=\"OHLC\")=TRUE,O427,Q427)/1000)*Y427*AA427*(1+VLOOKUP($H$4,BuildingType_Lookup,MATCH($H$5,HVAC,0)+4,FALSE)))))","v":0},0,0,0,0,0,0,{"$f":"W427/1000*Y427*AA427*IF(IFERROR(SEARCH(\"Gas\",$H$5),0)>0,VLOOKUP(\"Gas\",HVACg_Lookup,MATCH($H$6,BuildingSize,0)+1,FALSE),IF(IFERROR(SEARCH(\"Oil\",$H$5),0)>0,VLOOKUP(\"Oil\",HVACg_Lookup,MATCH($H$6,BuildingSize,0)+1,FALSE),IF(IFERROR(SEARCH(\"Propane\",$H$5),0)>0,VLOOKUP(\"Propane\",HVACg_Lookup,MATCH(Worksheet!$H$6,BuildingSize,0)+1,FALSE),0)))","v":0},{"$f":"X427/1000*Y427*AA427*IF(IFERROR(SEARCH(\"Gas\",$H$5),0)>0,VLOOKUP(\"Gas\",HVACg_Lookup,MATCH($H$6,BuildingSize,0)+1,FALSE),IF(IFERROR(SEARCH(\"Oil\",$H$5),0)>0,VLOOKUP(\"Oil\",HVACg_Lookup,MATCH($H$6,BuildingSize,0)+1,FALSE),IF(IFERROR(SEARCH(\"Propane\",$H$5),0)>0,VLOOKUP(\"Propane\",HVACg_Lookup,MATCH(Worksheet!$H$6,BuildingSize,0)+1,FALSE),0)))","v":0},0,0,{"$f":"IF(OR($B$4=\"\",$B$5=\"\",$H$4=\"\",$H$6=\"\",$H$5=\"\",A427=\"\",F427=\"\",J427=\"\",O427=\"\",P427=\"\")=TRUE,\"\",IF(C427=\"OSW\",IF(J427>=2,1,0),IF(C427=\"OSR\",IF(AND(J427>=2,P427>60)=TRUE,1,0),IF(C427=\"OSRH\",IF(AND(J427>=1,P427>90)=TRUE,1,0),IF(C427=\"OHLC\",IF(AND(N427=\"Y\",P427>60)=TRUE,1,0),IF(C427=\"DDC\",IF(AND(J427>=4,N427=\"Y\",P427>120)=TRUE,1,0),0))))))","v":""},{"$f":"IF(OR($B$4=\"\",$B$5=\"\",$H$4=\"\",$H$6=\"\",$H$5=\"\",A427=\"\",F427=\"\",K427=\"\",O427=\"\",P427=\"\")=TRUE,\"\",IF(C427=\"OSW\",IF(K427>=2,1,0),IF(C427=\"OSR\",IF(AND(K427>=2,Q427>60)=TRUE,1,0),IF(C427=\"OSRH\",IF(AND(K427>=1,Q427>90)=TRUE,1,0),IF(C427=\"OHLC\",IF(AND(N427=\"Y\",Q427>60)=TRUE,1,0),IF(C427=\"DDC\",IF(AND(K427>=4,N427=\"Y\",Q427>120)=TRUE,1,0),0))))))","v":""}]
[null,null,"",null,null,null,null,null,null,null,null,null,null,null,null,0,0,0,0,"",0,0,0,0,0,{"$f":"IF($H$4=\"\",0,VLOOKUP($H$4,BuildingType_Lookup,3,FALSE))","v":0},{"$f":"IF($H$4=\"\",0,VLOOKUP($H$4,BuildingType_Lookup,2,FALSE))","v":0},{"$f":"IF(AND(OR(AN428=\"\",AN428=0)=TRUE,OR(AO428=\"\",AO428=0))=TRUE,0,IF(AO428=\"\",(IF(OR(C428=\"DDC\",C428=\"OHLC\")=TRUE,O428,P428)/1000)*Y428*Z428*(1+VLOOKUP($H$4,BuildingType_Lookup,4,FALSE)),IF(AO428=0,0,(IF(OR(C428=\"DDC\",C428=\"OHLC\")=TRUE,O428,Q428)/1000)*Y428*Z428*(1+VLOOKUP($H$4,BuildingType_Lookup,4,FALSE)))))","v":0},{"$f":"IF(AND(OR(AN428=\"\",AN428=0)=TRUE,OR(AO428=\"\",AO428=0))=TRUE,0,IF(AO428=\"\",(IF(OR(C428=\"DDC\",C428=\"OHLC\")=TRUE,O428,P428)/1000)*Y428*AA428*(1+VLOOKUP($H$4,BuildingType_Lookup,MATCH($H$5,HVAC,0)+4,FALSE)),IF(AO428=0,0,(IF(OR(C428=\"DDC\",C428=\"OHLC\")=TRUE,O428,Q428)/1000)*Y428*AA428*(1+VLOOKUP($H$4,BuildingType_Lookup,MATCH($H$5,HVAC,0)+4,FALSE)))))","v":0},0,0,0,0,0,0,{"$f":"W428/1000*Y428*AA428*IF(IFERROR(SEARCH(\"Gas\",$H$5),0)>0,VLOOKUP(\"Gas\",HVACg_Lookup,MATCH($H$6,BuildingSize,0)+1,FALSE),IF(IFERROR(SEARCH(\"Oil\",$H$5),0)>0,VLOOKUP(\"Oil\",HVACg_Lookup,MATCH($H$6,BuildingSize,0)+1,FALSE),IF(IFERROR(SEARCH(\"Propane\",$H$5),0)>0,VLOOKUP(\"Propane\",HVACg_Lookup,MATCH(Worksheet!$H$6,BuildingSize,0)+1,FALSE),0)))","v":0},{"$f":"X428/1000*Y428*AA428*IF(IFERROR(SEARCH(\"Gas\",$H$5),0)>0,VLOOKUP(\"Gas\",HVACg_Lookup,MATCH($H$6,BuildingSize,0)+1,FALSE),IF(IFERROR(SEARCH(\"Oil\",$H$5),0)>0,VLOOKUP(\"Oil\",HVACg_Lookup,MATCH($H$6,BuildingSize,0)+1,FALSE),IF(IFERROR(SEARCH(\"Propane\",$H$5),0)>0,VLOOKUP(\"Propane\",HVACg_Lookup,MATCH(Worksheet!$H$6,BuildingSize,0)+1,FALSE),0)))","v":0},0,0,{"$f":"IF(OR($B$4=\"\",$B$5=\"\",$H$4=\"\",$H$6=\"\",$H$5=\"\",A428=\"\",F428=\"\",J428=\"\",O428=\"\",P428=\"\")=TRUE,\"\",IF(C428=\"OSW\",IF(J428>=2,1,0),IF(C428=\"OSR\",IF(AND(J428>=2,P428>60)=TRUE,1,0),IF(C428=\"OSRH\",IF(AND(J428>=1,P428>90)=TRUE,1,0),IF(C428=\"OHLC\",IF(AND(N428=\"Y\",P428>60)=TRUE,1,0),IF(C428=\"DDC\",IF(AND(J428>=4,N428=\"Y\",P428>120)=TRUE,1,0),0))))))","v":""},{"$f":"IF(OR($B$4=\"\",$B$5=\"\",$H$4=\"\",$H$6=\"\",$H$5=\"\",A428=\"\",F428=\"\",K428=\"\",O428=\"\",P428=\"\")=TRUE,\"\",IF(C428=\"OSW\",IF(K428>=2,1,0),IF(C428=\"OSR\",IF(AND(K428>=2,Q428>60)=TRUE,1,0),IF(C428=\"OSRH\",IF(AND(K428>=1,Q428>90)=TRUE,1,0),IF(C428=\"OHLC\",IF(AND(N428=\"Y\",Q428>60)=TRUE,1,0),IF(C428=\"DDC\",IF(AND(K428>=4,N428=\"Y\",Q428>120)=TRUE,1,0),0))))))","v":""}]
[null,null,"",null,null,null,null,null,null,null,null,null,null,null,null,0,0,0,0,"",0,0,0,0,0,{"$f":"IF($H$4=\"\",0,VLOOKUP($H$4,BuildingType_Lookup,3,FALSE))","v":0},{"$f":"IF($H$4=\"\",0,VLOOKUP($H$4,BuildingType_Lookup,2,FALSE))","v":0},{"$f":"IF(AND(OR(AN429=\"\",AN429=0)=TRUE,OR(AO429=\"\",AO429=0))=TRUE,0,IF(AO429=\"\",(IF(OR(C429=\"DDC\",C429=\"OHLC\")=TRUE,O429,P429)/1000)*Y429*Z429*(1+VLOOKUP($H$4,BuildingType_Lookup,4,FALSE)),IF(AO429=0,0,(IF(OR(C429=\"DDC\",C429=\"OHLC\")=TRUE,O429,Q429)/1000)*Y429*Z429*(1+VLOOKUP($H$4,BuildingType_Lookup,4,FALSE)))))","v":0},{"$f":"IF(AND(OR(AN429=\"\",AN429=0)=TRUE,OR(AO429=\"\",AO429=0))=TRUE,0,IF(AO429=\"\",(IF(OR(C429=\"DDC\",C429=\"OHLC\")=TRUE,O429,P429)/1000)*Y429*AA429*(1+VLOOKUP($H$4,BuildingType_Lookup,MATCH($H$5,HVAC,0)+4,FALSE)),IF(AO429=0,0,(IF(OR(C429=\"DDC\",C429=\"OHLC\")=TRUE,O429,Q429)/1000)*Y429*AA429*(1+VLOOKUP($H$4,BuildingType_Lookup,MATCH($H$5,HVAC,0)+4,FALSE)))))","v":0},0,0,0,0,0,0,{"$f":"W429/1000*Y429*AA429*IF(IFERROR(SEARCH(\"Gas\",$H$5),0)>0,VLOOKUP(\"Gas\",HVACg_Lookup,MATCH($H$6,BuildingSize,0)+1,FALSE),IF(IFERROR(SEARCH(\"Oil\",$H$5),0)>0,VLOOKUP(\"Oil\",HVACg_Lookup,MATCH($H$6,BuildingSize,0)+1,FALSE),IF(IFERROR(SEARCH(\"Propane\",$H$5),0)>0,VLOOKUP(\"Propane\",HVACg_Lookup,MATCH(Worksheet!$H$6,BuildingSize,0)+1,FALSE),0)))","v":0},{"$f":"X429/1000*Y429*AA429*IF(IFERROR(SEARCH(\"Gas\",$H$5),0)>0,VLOOKUP(\"Gas\",HVACg_Lookup,MATCH($H$6,BuildingSize,0)+1,FALSE),IF(IFERROR(SEARCH(\"Oil\",$H$5),0)>0,VLOOKUP(\"Oil\",HVACg_Lookup,MATCH($H$6,BuildingSize,0)+1,FALSE),IF(IFERROR(SEARCH(\"Propane\",$H$5),0)>0,VLOOKUP(\"Propane\",HVACg_Lookup,MATCH(Worksheet!$H$6,BuildingSize,0)+1,FALSE),0)))","v":0},0,0,{"$f":"IF(OR($B$4=\"\",$B$5=\"\",$H$4=\"\",$H$6=\"\",$H$5=\"\",A429=\"\",F429=\"\",J429=\"\",O429=\"\",P429=\"\")=TRUE,\"\",IF(C429=\"OSW\",IF(J429>=2,1,0),IF(C429=\"OSR\",IF(AND(J429>=2,P429>60)=TRUE,1,0),IF(C429=\"OSRH\",IF(AND(J429>=1,P429>90)=TRUE,1,0),IF(C429=\"OHLC\",IF(AND(N429=\"Y\",P429>60)=TRUE,1,0),IF(C429=\"DDC\",IF(AND(J429>=4,N429=\"Y\",P429>120)=TRUE,1,0),0))))))","v":""},{"$f":"IF(OR($B$4=\"\",$B$5=\"\",$H$4=\"\",$H$6=\"\",$H$5=\"\",A429=\"\",F429=\"\",K429=\"\",O429=\"\",P429=\"\")=TRUE,\"\",IF(C429=\"OSW\",IF(K429>=2,1,0),IF(C429=\"OSR\",IF(AND(K429>=2,Q429>60)=TRUE,1,0),IF(C429=\"OSRH\",IF(AND(K429>=1,Q429>90)=TRUE,1,0),IF(C429=\"OHLC\",IF(AND(N429=\"Y\",Q429>60)=TRUE,1,0),IF(C429=\"DDC\",IF(AND(K429>=4,N429=\"Y\",Q429>120)=TRUE,1,0),0))))))","v":""}]
[null,null,"",null,null,null,null,null,null,null,null,null,null,null,null,0,0,0,0,"",0,0,0,0,0,{"$f":"IF($H$4=\"\",0,VLOOKUP($H$4,BuildingType_Lookup,3,FALSE))","v":0},{"$f":"IF($H$4=\"\",0,VLOOKUP($H$4,BuildingType_Lookup,2,FALSE))","v":0},{"$f":"IF(AND(OR(AN430=\"\",AN430=0)=TRUE,OR(AO430=\"\",AO430=0))=TRUE,0,IF(AO430=\"\",(IF(OR(C430=\"DDC\",C430=\"OHLC\")=TRUE,O430,P430)/1000)*Y430*Z430*(1+VLOOKUP($H$4,BuildingType_Lookup,4,FALSE)),IF(AO430=0,0,(IF(OR(C430=\"DDC\",C430=\"OHLC\")=TRUE,O430,Q430)/1000)*Y430*Z430*(1+VLOOKUP($H$4,BuildingType_Lookup,4,FALSE)))))","v":0},{"$f":"IF(AND(OR(AN430=\"\",AN430=0)=TRUE,OR(AO430=\"\",AO430=0))=TRUE,0,IF(AO430=\"\",(IF(OR(C430=\"DDC\",C430=\"OHLC\")=TRUE,O430,P430)/1000)*Y430*AA430*(1+VLOOKUP($H$4,BuildingType_Lookup,MATCH($H$5,HVAC,0)+4,FALSE)),IF(AO430=0,0,(IF(OR(C430=\"DDC\",C430=\"OHLC\")=TRUE,O430,Q430)/1000)*Y430*AA430*(1+VLOOKUP($H$4,BuildingType_Lookup,MATCH($H$5,HVAC,0)+4,FALSE)))))","v":0},0,0,0,0,0,0,{"$f":"W430/1000*Y430*AA430*IF(IFERROR(SEARCH(\"Gas\",$H$5),0)>0,VLOOKUP(\"Gas\",HVACg_Lookup,MATCH($H$6,BuildingSize,0)+1,FALSE),IF(IFERROR(SEARCH(\"Oil\",$H$5),0)>0,VLOOKUP(\"Oil\",HVACg_Lookup,MATCH($H$6,BuildingSize,0)+1,FALSE),IF(IFERROR(SEARCH(\"Propane\",$H$5),0)>0,VLOOKUP(\"Propane\",HVACg_Lookup,MATCH(Worksheet!$H$6,BuildingSize,0)+1,FALSE),0)))","v":0},{"$f":"X430/1000*Y430*AA430*IF(IFERROR(SEARCH(\"Gas\",$H$5),0)>0,VLOOKUP(\"Gas\",HVACg_Lookup,MATCH($H$6,BuildingSize,0)+1,FALSE),IF(IFERROR(SEARCH(\"Oil\",$H$5),0)>0,VLOOKUP(\"Oil\",HVACg_Lookup,MATCH($H$6,BuildingSize,0)+1,FALSE),IF(IFERROR(SEARCH(\"Propane\",$H$5),0)>0,VLOOKUP(\"Propane\",HVACg_Lookup,MATCH(Worksheet!$H$6,BuildingSize,0)+1,FALSE),0)))","v":0},0,0,{"$f":"IF(OR($B$4=\"\",$B$5=\"\",$H$4=\"\",$H$6=\"\",$H$5=\"\",A430=\"\",F430=\"\",J430=\"\",O430=\"\",P430=\"\")=TRUE,\"\",IF(C430=\"OSW\",IF(J430>=2,1,0),IF(C430=\"OSR\",IF(AND(J430>=2,P430>60)=TRUE,1,0),IF(C430=\"OSRH\",IF(AND(J430>=1,P430>90)=TRUE,1,0),IF(C430=\"OHLC\",IF(AND(N430=\"Y\",P430>60)=TRUE,1,0),IF(C430=\"DDC\",IF(AND(J430>=4,N430=\"Y\",P430>120)=TRUE,1,0),0))))))","v":""},{"$f":"IF(OR($B$4=\"\",$B$5=\"\",$H$4=\"\",$H$6=\"\",$H$5=\"\",A430=\"\",F430=\"\",K430=\"\",O430=\"\",P430=\"\")=TRUE,\"\",IF(C430=\"OSW\",IF(K430>=2,1,0),IF(C430=\"OSR\",IF(AND(K430>=2,Q430>60)=TRUE,1,0),IF(C430=\"OSRH\",IF(AND(K430>=1,Q430>90)=TRUE,1,0),IF(C430=\"OHLC\",IF(AND(N430=\"Y\",Q430>60)=TRUE,1,0),IF(C430=\"DDC\",IF(AND(K430>=4,N430=\"Y\",Q430>120)=TRUE,1,0),0))))))","v":""}]
[null,null,"",null,null,null,null,null,null,null,null,null,null,null,null,0,0,0,0,"",0,0,0,0,0,{"$f":"IF($H$4=\"\",0,VLOOKUP($H$4,BuildingType_Lookup,3,FALSE))","v":0},{"$f":"IF($H$4=\"\",0,VLOOKUP($H$4,BuildingType_Lookup,2,FALSE))","v":0},{"$f":"IF(AND(OR(AN431=\"\",AN431=0)=TRUE,OR(AO431=\"\",AO431=0))=TRUE,0,IF(AO431=\"\",(IF(OR(C431=\"DDC\",C431=\"OHLC\")=TRUE,O431,P431)/1000)*Y431*Z431*(1+VLOOKUP($H$4,BuildingType_Lookup,4,FALSE)),IF(AO431=0,0,(IF(OR(C431=\"DDC\",C431=\"OHLC\")=TRUE,O431,Q431)/1000)*Y431*Z431*(1+VLOOKUP($H$4,BuildingType_Lookup,4,FALSE)))))","v":0},{"$f":"IF(AND(OR(AN431=\"\",AN431=0)=TRUE,OR(AO431=\"\",AO431=0))=TRUE,0,IF(AO431=\"\",(IF(OR(C431=\"DDC\",C431=\"OHLC\")=TRUE,O431,P431)/1000)*Y431*AA431*(1+VLOOKUP($H$4,BuildingType_Lookup,MATCH($H$5,HVAC,0)+4,FALSE)),IF(AO431=0,0,(IF(OR(C431=\"DDC\",C431=\"OHLC\")=TRUE,O431,Q431)/1000)*Y431*AA431*(1+VLOOKUP($H$4,BuildingType_Lookup,MATCH($H$5,HVAC,0)+4,FALSE)))))","v":0},0,0,0,0,0,0,{"$f":"W431/1000*Y431*AA431*IF(IFERROR(SEARCH(\"Gas\",$H$5),0)>0,VLOOKUP(\"Gas\",HVACg_Lookup,MATCH($H$6,BuildingSize,0)+1,FALSE),IF(IFERROR(SEARCH(\"Oil\",$H$5),0)>0,VLOOKUP(\"Oil\",HVACg_Lookup,MATCH($H$6,BuildingSize,0)+1,FALSE),IF(IFERROR(SEARCH(\"Propane\",$H$5),0)>0,VLOOKUP(\"Propane\",HVACg_Lookup,MATCH(Worksheet!$H$6,BuildingSize,0)+1,FALSE),0)))","v":0},{"$f":"X431/1000*Y431*AA431*IF(IFERROR(SEARCH(\"Gas\",$H$5),0)>0,VLOOKUP(\"Gas\",HVACg_Lookup,MATCH($H$6,BuildingSize,0)+1,FALSE),IF(IFERROR(SEARCH(\"Oil\",$H$5),0)>0,VLOOKUP(\"Oil\",HVACg_Lookup,MATCH($H$6,BuildingSize,0)+1,FALSE),IF(IFERROR(SEARCH(\"Propane\",$H$5),0)>0,VLOOKUP(\"Propane\",HVACg_Lookup,MATCH(Worksheet!$H$6,BuildingSize,0)+1,FALSE),0)))","v":0},0,0,{"$f":"IF(OR($B$4=\"\",$B$5=\"\",$H$4=\"\",$H$6=\"\",$H$5=\"\",A431=\"\",F431=\"\",J431=\"\",O431=\"\",P431=\"\")=TRUE,\"\",IF(C431=\"OSW\",IF(J431>=2,1,0),IF(C431=\"OSR\",IF(AND(J431>=2,P431>60)=TRUE,1,0),IF(C431=\"OSRH\",IF(AND(J431>=1,P431>90)=TRUE,1,0),IF(C431=\"OHLC\",IF(AND(N431=\"Y\",P431>60)=TRUE,1,0),IF(C431=\"DDC\",IF(AND(J431>=4,N431=\"Y\",P431>120)=TRUE,1,0),0))))))","v":""},{"$f":"IF(OR($B$4=\"\",$B$5=\"\",$H$4=\"\",$H$6=\"\",$H$5=\"\",A431=\"\",F431=\"\",K431=\"\",O431=\"\",P431=\"\")=TRUE,\"\",IF(C431=\"OSW\",IF(K431>=2,1,0),IF(C431=\"OSR\",IF(AND(K431>=2,Q431>60)=TRUE,1,0),IF(C431=\"OSRH\",IF(AND(K431>=1,Q431>90)=TRUE,1,0),IF(C431=\"OHLC\",IF(AND(N431=\"Y\",Q431>60)=TRUE,1,0),IF(C431=\"DDC\",IF(AND(K431>=4,N431=\"Y\",Q431>120)=TRUE,1,0),0))))))","v":""}]
[null,null,"",null,null,null,null,null,null,null,null,null,null,null,null,0,0,0,0,"",0,0,0,0,0,{"$f":"IF($H$4=\"\",0,VLOOKUP($H$4,BuildingType_Lookup,3,FALSE))","v":0},{"$f":"IF($H$4=\"\",0,VLOOKUP($H$4,BuildingType_Lookup,2,FALSE))","v":0},{"$f":"IF(AND(OR(AN432=\"\",AN432=0)=TRUE,OR(AO432=\"\",AO432=0))=TRUE,0,IF(AO432=\"\",(IF(OR(C432=\"DDC\",C432=\"OHLC\")=TRUE,O432,P432)/1000)*Y432*Z432*(1+VLOOKUP($H$4,BuildingType_Lookup,4,FALSE)),IF(AO432=0,0,(IF(OR(C432=\"DDC\",C432=\"OHLC\")=TRUE,O432,Q432)/1000)*Y432*Z432*(1+VLOOKUP($H$4,BuildingType_Lookup,4,FALSE)))))","v":0},{"$f":"IF(AND(OR(AN432=\"\",AN432=0)=TRUE,OR(AO432=\"\",AO432=0))=TRUE,0,IF(AO432=\"\",(IF(OR(C432=\"DDC\",C432=\"OHLC\")=TRUE,O432,P432)/1000)*Y432*AA432*(1+VLOOKUP($H$4,BuildingType_Lookup,MATCH($H$5,HVAC,0)+4,FALSE)),IF(AO432=0,0,(IF(OR(C432=\"DDC\",C432=\"OHLC\")=TRUE,O432,Q432)/1000)*Y432*AA432*(1+VLOOKUP($H$4,BuildingType_Lookup,MATCH($H$5,HVAC,0)+4,FALSE)))))","v":0},0,0,0,0,0,0,{"$f":"W432/1000*Y432*AA432*IF(IFERROR(SEARCH(\"Gas\",$H$5),0)>0,VLOOKUP(\"Gas\",HVACg_Lookup,MATCH($H$6,BuildingSize,0)+1,FALSE),IF(IFERROR(SEARCH(\"Oil\",$H$5),0)>0,VLOOKUP(\"Oil\",HVACg_Lookup,MATCH($H$6,BuildingSize,0)+1,FALSE),IF(IFERROR(SEARCH(\"Propane\",$H$5),0)>0,VLOOKUP(\"Propane\",HVACg_Lookup,MATCH(Worksheet!$H$6,BuildingSize,0)+1,FALSE),0)))","v":0},{"$f":"X432/1000*Y432*AA432*IF(IFERROR(SEARCH(\"Gas\",$H$5),0)>0,VLOOKUP(\"Gas\",HVACg_Lookup,MATCH($H$6,BuildingSize,0)+1,FALSE),IF(IFERROR(SEARCH(\"Oil\",$H$5),0)>0,VLOOKUP(\"Oil\",HVACg_Lookup,MATCH($H$6,BuildingSize,0)+1,FALSE),IF(IFERROR(SEARCH(\"Propane\",$H$5),0)>0,VLOOKUP(\"Propane\",HVACg_Lookup,MATCH(Worksheet!$H$6,BuildingSize,0)+1,FALSE),0)))","v":0},0,0,{"$f":"IF(OR($B$4=\"\",$B$5=\"\",$H$4=\"\",$H$6=\"\",$H$5=\"\",A432=\"\",F432=\"\",J432=\"\",O432=\"\",P432=\"\")=TRUE,\"\",IF(C432=\"OSW\",IF(J432>=2,1,0),IF(C432=\"OSR\",IF(AND(J432>=2,P432>60)=TRUE,1,0),IF(C432=\"OSRH\",IF(AND(J432>=1,P432>90)=TRUE,1,0),IF(C432=\"OHLC\",IF(AND(N432=\"Y\",P432>60)=TRUE,1,0),IF(C432=\"DDC\",IF(AND(J432>=4,N432=\"Y\",P432>120)=TRUE,1,0),0))))))","v":""},{"$f":"IF(OR($B$4=\"\",$B$5=\"\",$H$4=\"\",$H$6=\"\",$H$5=\"\",A432=\"\",F432=\"\",K432=\"\",O432=\"\",P432=\"\")=TRUE,\"\",IF(C432=\"OSW\",IF(K432>=2,1,0),IF(C432=\"OSR\",IF(AND(K432>=2,Q432>60)=TRUE,1,0),IF(C432=\"OSRH\",IF(AND(K432>=1,Q432>90)=TRUE,1,0),IF(C432=\"OHLC\",IF(AND(N432=\"Y\",Q432>60)=TRUE,1,0),IF(C432=\"DDC\",IF(AND(K432>=4,N432=\"Y\",Q432>120)=TRUE,1,0),0))))))","v":""}]
[null,null,"",null,null,null,null,null,null,null,null,null,null,null,null,0,0,0,0,"",0,0,0,0,0,{"$f":"IF($H$4=\"\",0,VLOOKUP($H$4,BuildingType_Lookup,3,FALSE))","v":0},{"$f":"IF($H$4=\"\",0,VLOOKUP($H$4,BuildingType_Lookup,2,FALSE))","v":0},{"$f":"IF(AND(OR(AN433=\"\",AN433=0)=TRUE,OR(AO433=\"\",AO433=0))=TRUE,0,IF(AO433=\"\",(IF(OR(C433=\"DDC\",C433=\"OHLC\")=TRUE,O433,P433)/1000)*Y433*Z433*(1+VLOOKUP($H$4,BuildingType_Lookup,4,FALSE)),IF(AO433=0,0,(IF(OR(C433=\"DDC\",C433=\"OHLC\")=TRUE,O433,Q433)/1000)*Y433*Z433*(1+VLOOKUP($H$4,BuildingType_Lookup,4,FALSE)))))","v":0},{"$f":"IF(AND(OR(AN433=\"\",AN433=0)=TRUE,OR(AO433=\"\",AO433=0))=TRUE,0,IF(AO433=\"\",(IF(OR(C433=\"DDC\",C433=\"OHLC\")=TRUE,O433,P433)/1000)*Y433*AA433*(1+VLOOKUP($H$4,BuildingType_Lookup,MATCH($H$5,HVAC,0)+4,FALSE)),IF(AO433=0,0,(IF(OR(C433=\"DDC\",C433=\"OHLC\")=TRUE,O433,Q433)/1000)*Y433*AA433*(1+VLOOKUP($H$4,BuildingType_Lookup,MATCH($H$5,HVAC,0)+4,FALSE)))))","v":0},0,0,0,0,0,0,{"$f":"W433/1000*Y433*AA433*IF(IFERROR(SEARCH(\"Gas\",$H$5),0)>0,VLOOKUP(\"Gas\",HVACg_Lookup,MATCH($H$6,BuildingSize,0)+1,FALSE),IF(IFERROR(SEARCH(\"Oil\",$H$5),0)>0,VLOOKUP(\"Oil\",HVACg_Lookup,MATCH($H$6,BuildingSize,0)+1,FALSE),IF(IFERROR(SEARCH(\"Propane\",$H$5),0)>0,VLOOKUP(\"Propane\",HVACg_Lookup,MATCH(Worksheet!$H$6,BuildingSize,0)+1,FALSE),0)))","v":0},{"$f":"X433/1000*Y433*AA433*IF(IFERROR(SEARCH(\"Gas\",$H$5),0)>0,VLOOKUP(\"Gas\",HVACg_Lookup,MATCH($H$6,BuildingSize,0)+1,FALSE),IF(IFERROR(SEARCH(\"Oil\",$H$5),0)>0,VLOOKUP(\"Oil\",HVACg_Lookup,MATCH($H$6,BuildingSize,0)+1,FALSE),IF(IFERROR(SEARCH(\"Propane\",$H$5),0)>0,VLOOKUP(\"Propane\",HVACg_Lookup,MATCH(Worksheet!$H$6,BuildingSize,0)+1,FALSE),0)))","v":0},0,0,{"$f":"IF(OR($B$4=\"\",$B$5=\"\",$H$4=\"\",$H$6=\"\",$H$5=\"\",A433=\"\",F433=\"\",J433=\"\",O433=\"\",P433=\"\")=TRUE,\"\",IF(C433=\"OSW\",IF(J433>=2,1,0),IF(C433=\"OSR\",IF(AND(J433>=2,P433>60)=TRUE,1,0),IF(C433=\"OSRH\",IF(AND(J433>=1,P433>90)=TRUE,1,0),IF(C433=\"OHLC\",IF(AND(N433=\"Y\",P433>60)=TRUE,1,0),IF(C433=\"DDC\",IF(AND(J433>=4,N433=\"Y\",P433>120)=TRUE,1,0),0))))))","v":""},{"$f":"IF(OR($B$4=\"\",$B$5=\"\",$H$4=\"\",$H$6=\"\",$H$5=\"\",A433=\"\",F433=\"\",K433=\"\",O433=\"\",P433=\"\")=TRUE,\"\",IF(C433=\"OSW\",IF(K433>=2,1,0),IF(C433=\"OSR\",IF(AND(K433>=2,Q433>60)=TRUE,1,0),IF(C433=\"OSRH\",IF(AND(K433>=1,Q433>90)=TRUE,1,0),IF(C433=\"OHLC\",IF(AND(N433=\"Y\",Q433>60)=TRUE,1,0),IF(C433=\"DDC\",IF(AND(K433>=4,N433=\"Y\",Q433>120)=TRUE,1,0),0))))))","v":""}]
[null,null,"",null,null,null,null,null,null,null,null,null,null,null,null,0,0,0,0,"",0,0,0,0,0,{"$f":"IF($H$4=\"\",0,VLOOKUP($H$4,BuildingType_Lookup,3,FALSE))","v":0},{"$f":"IF($H$4=\"\",0,VLOOKUP($H$4,BuildingType_Lookup,2,FALSE))","v":0},{"$f":"IF(AND(OR(AN434=\"\",AN434=0)=TRUE,OR(AO434=\"\",AO434=0))=TRUE,0,IF(AO434=\"\",(IF(OR(C434=\"DDC\",C434=\"OHLC\")=TRUE,O434,P434)/1000)*Y434*Z434*(1+VLOOKUP($H$4,BuildingType_Lookup,4,FALSE)),IF(AO434=0,0,(IF(OR(C434=\"DDC\",C434=\"OHLC\")=TRUE,O434,Q434)/1000)*Y434*Z434*(1+VLOOKUP($H$4,BuildingType_Lookup,4,FALSE)))))","v":0},{"$f":"IF(AND(OR(AN434=\"\",AN434=0)=TRUE,OR(AO434=\"\",AO434=0))=TRUE,0,IF(AO434=\"\",(IF(OR(C434=\"DDC\",C434=\"OHLC\")=TRUE,O434,P434)/1000)*Y434*AA434*(1+VLOOKUP($H$4,BuildingType_Lookup,MATCH($H$5,HVAC,0)+4,FALSE)),IF(AO434=0,0,(IF(OR(C434=\"DDC\",C434=\"OHLC\")=TRUE,O434,Q434)/1000)*Y434*AA434*(1+VLOOKUP($H$4,BuildingType_Lookup,MATCH($H$5,HVAC,0)+4,FALSE)))))","v":0},0,0,0,0,0,0,{"$f":"W434/1000*Y434*AA434*IF(IFERROR(SEARCH(\"Gas\",$H$5),0)>0,VLOOKUP(\"Gas\",HVACg_Lookup,MATCH($H$6,BuildingSize,0)+1,FALSE),IF(IFERROR(SEARCH(\"Oil\",$H$5),0)>0,VLOOKUP(\"Oil\",HVACg_Lookup,MATCH($H$6,BuildingSize,0)+1,FALSE),IF(IFERROR(SEARCH(\"Propane\",$H$5),0)>0,VLOOKUP(\"Propane\",HVACg_Lookup,MATCH(Worksheet!$H$6,BuildingSize,0)+1,FALSE),0)))","v":0},{"$f":"X434/1000*Y434*AA434*IF(IFERROR(SEARCH(\"Gas\",$H$5),0)>0,VLOOKUP(\"Gas\",HVACg_Lookup,MATCH($H$6,BuildingSize,0)+1,FALSE),IF(IFERROR(SEARCH(\"Oil\",$H$5),0)>0,VLOOKUP(\"Oil\",HVACg_Lookup,MATCH($H$6,BuildingSize,0)+1,FALSE),IF(IFERROR(SEARCH(\"Propane\",$H$5),0)>0,VLOOKUP(\"Propane\",HVACg_Lookup,MATCH(Worksheet!$H$6,BuildingSize,0)+1,FALSE),0)))","v":0},0,0,{"$f":"IF(OR($B$4=\"\",$B$5=\"\",$H$4=\"\",$H$6=\"\",$H$5=\"\",A434=\"\",F434=\"\",J434=\"\",O434=\"\",P434=\"\")=TRUE,\"\",IF(C434=\"OSW\",IF(J434>=2,1,0),IF(C434=\"OSR\",IF(AND(J434>=2,P434>60)=TRUE,1,0),IF(C434=\"OSRH\",IF(AND(J434>=1,P434>90)=TRUE,1,0),IF(C434=\"OHLC\",IF(AND(N434=\"Y\",P434>60)=TRUE,1,0),IF(C434=\"DDC\",IF(AND(J434>=4,N434=\"Y\",P434>120)=TRUE,1,0),0))))))","v":""},{"$f":"IF(OR($B$4=\"\",$B$5=\"\",$H$4=\"\",$H$6=\"\",$H$5=\"\",A434=\"\",F434=\"\",K434=\"\",O434=\"\",P434=\"\")=TRUE,\"\",IF(C434=\"OSW\",IF(K434>=2,1,0),IF(C434=\"OSR\",IF(AND(K434>=2,Q434>60)=TRUE,1,0),IF(C434=\"OSRH\",IF(AND(K434>=1,Q434>90)=TRUE,1,0),IF(C434=\"OHLC\",IF(AND(N434=\"Y\",Q434>60)=TRUE,1,0),IF(C434=\"DDC\",IF(AND(K434>=4,N434=\"Y\",Q434>120)=TRUE,1,0),0))))))","v":""}]
[null,null,"",null,null,null,null,null,null,null,null,null,null,null,null,0,0,0,0,"",0,0,0,0,0,{"$f":"IF($H$4=\"\",0,VLOOKUP($H$4,BuildingType_Lookup,3,FALSE))","v":0},{"$f":"IF($H$4=\"\",0,VLOOKUP($H$4,BuildingType_Lookup,2,FALSE))","v":0},{"$f":"IF(AND(OR(AN435=\"\",AN435=0)=TRUE,OR(AO435=\"\",AO435=0))=TRUE,0,IF(AO435=\"\",(IF(OR(C435=\"DDC\",C435=\"OHLC\")=TRUE,O435,P435)/1000)*Y435*Z435*(1+VLOOKUP($H$4,BuildingType_Lookup,4,FALSE)),IF(AO435=0,0,(IF(OR(C435=\"DDC\",C435=\"OHLC\")=TRUE,O435,Q435)/1000)*Y435*Z435*(1+VLOOKUP($H$4,BuildingType_Lookup,4,FALSE)))))","v":0},{"$f":"IF(AND(OR(AN435=\"\",AN435=0)=TRUE,OR(AO435=\"\",AO435=0))=TRUE,0,IF(AO435=\"\",(IF(OR(C435=\"DDC\",C435=\"OHLC\")=TRUE,O435,P435)/1000)*Y435*AA435*(1+VLOOKUP($H$4,BuildingType_Lookup,MATCH($H$5,HVAC,0)+4,FALSE)),IF(AO435=0,0,(IF(OR(C435=\"DDC\",C435=\"OHLC\")=TRUE,O435,Q435)/1000)*Y435*AA435*(1+VLOOKUP($H$4,BuildingType_Lookup,MATCH($H$5,HVAC,0)+4,FALSE)))))","v":0},0,0,0,0,0,0,{"$f":"W435/1000*Y435*AA435*IF(IFERROR(SEARCH(\"Gas\",$H$5),0)>0,VLOOKUP(\"Gas\",HVACg_Lookup,MATCH($H$6,BuildingSize,0)+1,FALSE),IF(IFERROR(SEARCH(\"Oil\",$H$5),0)>0,VLOOKUP(\"Oil\",HVACg_Lookup,MATCH($H$6,BuildingSize,0)+1,FALSE),IF(IFERROR(SEARCH(\"Propane\",$H$5),0)>0,VLOOKUP(\"Propane\",HVACg_Lookup,MATCH(Worksheet!$H$6,BuildingSize,0)+1,FALSE),0)))","v":0},{"$f":"X435/1000*Y435*AA435*IF(IFERROR(SEARCH(\"Gas\",$H$5),0)>0,VLOOKUP(\"Gas\",HVACg_Lookup,MATCH($H$6,BuildingSize,0)+1,FALSE),IF(IFERROR(SEARCH(\"Oil\",$H$5),0)>0,VLOOKUP(\"Oil\",HVACg_Lookup,MATCH($H$6,BuildingSize,0)+1,FALSE),IF(IFERROR(SEARCH(\"Propane\",$H$5),0)>0,VLOOKUP(\"Propane\",HVACg_Lookup,MATCH(Worksheet!$H$6,BuildingSize,0)+1,FALSE),0)))","v":0},0,0,{"$f":"IF(OR($B$4=\"\",$B$5=\"\",$H$4=\"\",$H$6=\"\",$H$5=\"\",A435=\"\",F435=\"\",J435=\"\",O435=\"\",P435=\"\")=TRUE,\"\",IF(C435=\"OSW\",IF(J435>=2,1,0),IF(C435=\"OSR\",IF(AND(J435>=2,P435>60)=TRUE,1,0),IF(C435=\"OSRH\",IF(AND(J435>=1,P435>90)=TRUE,1,0),IF(C435=\"OHLC\",IF(AND(N435=\"Y\",P435>60)=TRUE,1,0),IF(C435=\"DDC\",IF(AND(J435>=4,N435=\"Y\",P435>120)=TRUE,1,0),0))))))","v":""},{"$f":"IF(OR($B$4=\"\",$B$5=\"\",$H$4=\"\",$H$6=\"\",$H$5=\"\",A435=\"\",F435=\"\",K435=\"\",O435=\"\",P435=\"\")=TRUE,\"\",IF(C435=\"OSW\",IF(K435>=2,1,0),IF(C435=\"OSR\",IF(AND(K435>=2,Q435>60)=TRUE,1,0),IF(C435=\"OSRH\",IF(AND(K435>=1,Q435>90)=TRUE,1,0),IF(C435=\"OHLC\",IF(AND(N435=\"Y\",Q435>60)=TRUE,1,0),IF(C435=\"DDC\",IF(AND(K435>=4,N435=\"Y\",Q435>120)=TRUE,1,0),0))))))","v":""}]
[null,null,"",null,null,null,null,null,null,null,null,null,null,null,null,0,0,0,0,"",0,0,0,0,0,{"$f":"IF($H$4=\"\",0,VLOOKUP($H$4,BuildingType_Lookup,3,FALSE))","v":0},{"$f":"IF($H$4=\"\",0,VLOOKUP($H$4,BuildingType_Lookup,2,FALSE))","v":0},{"$f":"IF(AND(OR(AN436=\"\",AN436=0)=TRUE,OR(AO436=\"\",AO436=0))=TRUE,0,IF(AO436=\"\",(IF(OR(C436=\"DDC\",C436=\"OHLC\")=TRUE,O436,P436)/1000)*Y436*Z436*(1+VLOOKUP($H$4,BuildingType_Lookup,4,FALSE)),IF(AO436=0,0,(IF(OR(C436=\"DDC\",C436=\"OHLC\")=TRUE,O436,Q436)/1000)*Y436*Z436*(1+VLOOKUP($H$4,BuildingType_Lookup,4,FALSE)))))","v":0},{"$f":"IF(AND(OR(AN436=\"\",AN436=0)=TRUE,OR(AO436=\"\",AO436=0))=TRUE,0,IF(AO436=\"\",(IF(OR(C436=\"DDC\",C436=\"OHLC\")=TRUE,O436,P436)/1000)*Y436*AA436*(1+VLOOKUP($H$4,BuildingType_Lookup,MATCH($H$5,HVAC,0)+4,FALSE)),IF(AO436=0,0,(IF(OR(C436=\"DDC\",C436=\"OHLC\")=TRUE,O436,Q436)/1000)*Y436*AA436*(1+VLOOKUP($H$4,BuildingType_Lookup,MATCH($H$5,HVAC,0)+4,FALSE)))))","v":0},0,0,0,0,0,0,{"$f":"W436/1000*Y436*AA436*IF(IFERROR(SEARCH(\"Gas\",$H$5),0)>0,VLOOKUP(\"Gas\",HVACg_Lookup,MATCH($H$6,BuildingSize,0)+1,FALSE),IF(IFERROR(SEARCH(\"Oil\",$H$5),0)>0,VLOOKUP(\"Oil\",HVACg_Lookup,MATCH($H$6,BuildingSize,0)+1,FALSE),IF(IFERROR(SEARCH(\"Propane\",$H$5),0)>0,VLOOKUP(\"Propane\",HVACg_Lookup,MATCH(Worksheet!$H$6,BuildingSize,0)+1,FALSE),0)))","v":0},{"$f":"X436/1000*Y436*AA436*IF(IFERROR(SEARCH(\"Gas\",$H$5),0)>0,VLOOKUP(\"Gas\",HVACg_Lookup,MATCH($H$6,BuildingSize,0)+1,FALSE),IF(IFERROR(SEARCH(\"Oil\",$H$5),0)>0,VLOOKUP(\"Oil\",HVACg_Lookup,MATCH($H$6,BuildingSize,0)+1,FALSE),IF(IFERROR(SEARCH(\"Propane\",$H$5),0)>0,VLOOKUP(\"Propane\",HVACg_Lookup,MATCH(Worksheet!$H$6,BuildingSize,0)+1,FALSE),0)))","v":0},0,0,{"$f":"IF(OR($B$4=\"\",$B$5=\"\",$H$4=\"\",$H$6=\"\",$H$5=\"\",A436=\"\",F436=\"\",J436=\"\",O436=\"\",P436=\"\")=TRUE,\"\",IF(C436=\"OSW\",IF(J436>=2,1,0),IF(C436=\"OSR\",IF(AND(J436>=2,P436>60)=TRUE,1,0),IF(C436=\"OSRH\",IF(AND(J436>=1,P436>90)=TRUE,1,0),IF(C436=\"OHLC\",IF(AND(N436=\"Y\",P436>60)=TRUE,1,0),IF(C436=\"DDC\",IF(AND(J436>=4,N436=\"Y\",P436>120)=TRUE,1,0),0))))))","v":""},{"$f":"IF(OR($B$4=\"\",$B$5=\"\",$H$4=\"\",$H$6=\"\",$H$5=\"\",A436=\"\",F436=\"\",K436=\"\",O436=\"\",P436=\"\")=TRUE,\"\",IF(C436=\"OSW\",IF(K436>=2,1,0),IF(C436=\"OSR\",IF(AND(K436>=2,Q436>60)=TRUE,1,0),IF(C436=\"OSRH\",IF(AND(K436>=1,Q436>90)=TRUE,1,0),IF(C436=\"OHLC\",IF(AND(N436=\"Y\",Q436>60)=TRUE,1,0),IF(C436=\"DDC\",IF(AND(K436>=4,N436=\"Y\",Q436>120)=TRUE,1,0),0))))))","v":""}]
[null,null,"",null,null,null,null,null,null,null,null,null,null,null,null,0,0,0,0,"",0,0,0,0,0,{"$f":"IF($H$4=\"\",0,VLOOKUP($H$4,BuildingType_Lookup,3,FALSE))","v":0},{"$f":"IF($H$4=\"\",0,VLOOKUP($H$4,BuildingType_Lookup,2,FALSE))","v":0},{"$f":"IF(AND(OR(AN437=\"\",AN437=0)=TRUE,OR(AO437=\"\",AO437=0))=TRUE,0,IF(AO437=\"\",(IF(OR(C437=\"DDC\",C437=\"OHLC\")=TRUE,O437,P437)/1000)*Y437*Z437*(1+VLOOKUP($H$4,BuildingType_Lookup,4,FALSE)),IF(AO437=0,0,(IF(OR(C437=\"DDC\",C437=\"OHLC\")=TRUE,O437,Q437)/1000)*Y437*Z437*(1+VLOOKUP($H$4,BuildingType_Lookup,4,FALSE)))))","v":0},{"$f":"IF(AND(OR(AN437=\"\",AN437=0)=TRUE,OR(AO437=\"\",AO437=0))=TRUE,0,IF(AO437=\"\",(IF(OR(C437=\"DDC\",C437=\"OHLC\")=TRUE,O437,P437)/1000)*Y437*AA437*(1+VLOOKUP($H$4,BuildingType_Lookup,MATCH($H$5,HVAC,0)+4,FALSE)),IF(AO437=0,0,(IF(OR(C437=\"DDC\",C437=\"OHLC\")=TRUE,O437,Q437)/1000)*Y437*AA437*(1+VLOOKUP($H$4,BuildingType_Lookup,MATCH($H$5,HVAC,0)+4,FALSE)))))","v":0},0,0,0,0,0,0,{"$f":"W437/1000*Y437*AA437*IF(IFERROR(SEARCH(\"Gas\",$H$5),0)>0,VLOOKUP(\"Gas\",HVACg_Lookup,MATCH($H$6,BuildingSize,0)+1,FALSE),IF(IFERROR(SEARCH(\"Oil\",$H$5),0)>0,VLOOKUP(\"Oil\",HVACg_Lookup,MATCH($H$6,BuildingSize,0)+1,FALSE),IF(IFERROR(SEARCH(\"Propane\",$H$5),0)>0,VLOOKUP(\"Propane\",HVACg_Lookup,MATCH(Worksheet!$H$6,BuildingSize,0)+1,FALSE),0)))","v":0},{"$f":"X437/1000*Y437*AA437*IF(IFERROR(SEARCH(\"Gas\",$H$5),0)>0,VLOOKUP(\"Gas\",HVACg_Lookup,MATCH($H$6,BuildingSize,0)+1,FALSE),IF(IFERROR(SEARCH(\"Oil\",$H$5),0)>0,VLOOKUP(\"Oil\",HVACg_Lookup,MATCH($H$6,BuildingSize,0)+1,FALSE),IF(IFERROR(SEARCH(\"Propane\",$H$5),0)>0,VLOOKUP(\"Propane\",HVACg_Lookup,MATCH(Worksheet!$H$6,BuildingSize,0)+1,FALSE),0)))","v":0},0,0,{"$f":"IF(OR($B$4=\"\",$B$5=\"\",$H$4=\"\",$H$6=\"\",$H$5=\"\",A437=\"\",F437=\"\",J437=\"\",O437=\"\",P437=\"\")=TRUE,\"\",IF(C437=\"OSW\",IF(J437>=2,1,0),IF(C437=\"OSR\",IF(AND(J437>=2,P437>60)=TRUE,1,0),IF(C437=\"OSRH\",IF(AND(J437>=1,P437>90)=TRUE,1,0),IF(C437=\"OHLC\",IF(AND(N437=\"Y\",P437>60)=TRUE,1,0),IF(C437=\"DDC\",IF(AND(J437>=4,N437=\"Y\",P437>120)=TRUE,1,0),0))))))","v":""},{"$f":"IF(OR($B$4=\"\",$B$5=\"\",$H$4=\"\",$H$6=\"\",$H$5=\"\",A437=\"\",F437=\"\",K437=\"\",O437=\"\",P437=\"\")=TRUE,\"\",IF(C437=\"OSW\",IF(K437>=2,1,0),IF(C437=\"OSR\",IF(AND(K437>=2,Q437>60)=TRUE,1,0),IF(C437=\"OSRH\",IF(AND(K437>=1,Q437>90)=TRUE,1,0),IF(C437=\"OHLC\",IF(AND(N437=\"Y\",Q437>60)=TRUE,1,0),IF(C437=\"DDC\",IF(AND(K437>=4,N437=\"Y\",Q437>120)=TRUE,1,0),0))))))","v":""}]
[null,null,"",null,null,null,null,null,null,null,null,null,null,null,null,0,0,0,0,"",0,0,0,0,0,{"$f":"IF($H$4=\"\",0,VLOOKUP($H$4,BuildingType_Lookup,3,FALSE))","v":0},{"$f":"IF($H$4=\"\",0,VLOOKUP($H$4,BuildingType_Lookup,2,FALSE))","v":0},{"$f":"IF(AND(OR(AN438=\"\",AN438=0)=TRUE,OR(AO438=\"\",AO438=0))=TRUE,0,IF(AO438=\"\",(IF(OR(C438=\"DDC\",C438=\"OHLC\")=TRUE,O438,P438)/1000)*Y438*Z438*(1+VLOOKUP($H$4,BuildingType_Lookup,4,FALSE)),IF(AO438=0,0,(IF(OR(C438=\"DDC\",C438=\"OHLC\")=TRUE,O438,Q438)/1000)*Y438*Z438*(1+VLOOKUP($H$4,BuildingType_Lookup,4,FALSE)))))","v":0},{"$f":"IF(AND(OR(AN438=\"\",AN438=0)=TRUE,OR(AO438=\"\",AO438=0))=TRUE,0,IF(AO438=\"\",(IF(OR(C438=\"DDC\",C438=\"OHLC\")=TRUE,O438,P438)/1000)*Y438*AA438*(1+VLOOKUP($H$4,BuildingType_Lookup,MATCH($H$5,HVAC,0)+4,FALSE)),IF(AO438=0,0,(IF(OR(C438=\"DDC\",C438=\"OHLC\")=TRUE,O438,Q438)/1000)*Y438*AA438*(1+VLOOKUP($H$4,BuildingType_Lookup,MATCH($H$5,HVAC,0)+4,FALSE)))))","v":0},0,0,0,0,0,0,{"$f":"W438/1000*Y438*AA438*IF(IFERROR(SEARCH(\"Gas\",$H$5),0)>0,VLOOKUP(\"Gas\",HVACg_Lookup,MATCH($H$6,BuildingSize,0)+1,FALSE),IF(IFERROR(SEARCH(\"Oil\",$H$5),0)>0,VLOOKUP(\"Oil\",HVACg_Lookup,MATCH($H$6,BuildingSize,0)+1,FALSE),IF(IFERROR(SEARCH(\"Propane\",$H$5),0)>0,VLOOKUP(\"Propane\",HVACg_Lookup,MATCH(Worksheet!$H$6,BuildingSize,0)+1,FALSE),0)))","v":0},{"$f":"X438/1000*Y438*AA438*IF(IFERROR(SEARCH(\"Gas\",$H$5),0)>0,VLOOKUP(\"Gas\",HVACg_Lookup,MATCH($H$6,BuildingSize,0)+1,FALSE),IF(IFERROR(SEARCH(\"Oil\",$H$5),0)>0,VLOOKUP(\"Oil\",HVACg_Lookup,MATCH($H$6,BuildingSize,0)+1,FALSE),IF(IFERROR(SEARCH(\"Propane\",$H$5),0)>0,VLOOKUP(\"Propane\",HVACg_Lookup,MATCH(Worksheet!$H$6,BuildingSize,0)+1,FALSE),0)))","v":0},0,0,{"$f":"IF(OR($B$4=\"\",$B$5=\"\",$H$4=\"\",$H$6=\"\",$H$5=\"\",A438=\"\",F438=\"\",J438=\"\",O438=\"\",P438=\"\")=TRUE,\"\",IF(C438=\"OSW\",IF(J438>=2,1,0),IF(C438=\"OSR\",IF(AND(J438>=2,P438>60)=TRUE,1,0),IF(C438=\"OSRH\",IF(AND(J438>=1,P438>90)=TRUE,1,0),IF(C438=\"OHLC\",IF(AND(N438=\"Y\",P438>60)=TRUE,1,0),IF(C438=\"DDC\",IF(AND(J438>=4,N438=\"Y\",P438>120)=TRUE,1,0),0))))))","v":""},{"$f":"IF(OR($B$4=\"\",$B$5=\"\",$H$4=\"\",$H$6=\"\",$H$5=\"\",A438=\"\",F438=\"\",K438=\"\",O438=\"\",P438=\"\")=TRUE,\"\",IF(C438=\"OSW\",IF(K438>=2,1,0),IF(C438=\"OSR\",IF(AND(K438>=2,Q438>60)=TRUE,1,0),IF(C438=\"OSRH\",IF(AND(K438>=1,Q438>90)=TRUE,1,0),IF(C438=\"OHLC\",IF(AND(N438=\"Y\",Q438>60)=TRUE,1,0),IF(C438=\"DDC\",IF(AND(K438>=4,N438=\"Y\",Q438>120)=TRUE,1,0),0))))))","v":""}]
[null,null,"",null,null,null,null,null,null,null,null,null,null,null,null,0,0,0,0,"",0,0,0,0,0,{"$f":"IF($H$4=\"\",0,VLOOKUP($H$4,BuildingType_Lookup,3,FALSE))","v":0},{"$f":"IF($H$4=\"\",0,VLOOKUP($H$4,BuildingType_Lookup,2,FALSE))","v":0},{"$f":"IF(AND(OR(AN439=\"\",AN439=0)=TRUE,OR(AO439=\"\",AO439=0))=TRUE,0,IF(AO439=\"\",(IF(OR(C439=\"DDC\",C439=\"OHLC\")=TRUE,O439,P439)/1000)*Y439*Z439*(1+VLOOKUP($H$4,BuildingType_Lookup,4,FALSE)),IF(AO439=0,0,(IF(OR(C439=\"DDC\",C439=\"OHLC\")=TRUE,O439,Q439)/1000)*Y439*Z439*(1+VLOOKUP($H$4,BuildingType_Lookup,4,FALSE)))))","v":0},{"$f":"IF(AND(OR(AN439=\"\",AN439=0)=TRUE,OR(AO439=\"\",AO439=0))=TRUE,0,IF(AO439=\"\",(IF(OR(C439=\"DDC\",C439=\"OHLC\")=TRUE,O439,P439)/1000)*Y439*AA439*(1+VLOOKUP($H$4,BuildingType_Lookup,MATCH($H$5,HVAC,0)+4,FALSE)),IF(AO439=0,0,(IF(OR(C439=\"DDC\",C439=\"OHLC\")=TRUE,O439,Q439)/1000)*Y439*AA439*(1+VLOOKUP($H$4,BuildingType_Lookup,MATCH($H$5,HVAC,0)+4,FALSE)))))","v":0},0,0,0,0,0,0,{"$f":"W439/1000*Y439*AA439*IF(IFERROR(SEARCH(\"Gas\",$H$5),0)>0,VLOOKUP(\"Gas\",HVACg_Lookup,MATCH($H$6,BuildingSize,0)+1,FALSE),IF(IFERROR(SEARCH(\"Oil\",$H$5),0)>0,VLOOKUP(\"Oil\",HVACg_Lookup,MATCH($H$6,BuildingSize,0)+1,FALSE),IF(IFERROR(SEARCH(\"Propane\",$H$5),0)>0,VLOOKUP(\"Propane\",HVACg_Lookup,MATCH(Worksheet!$H$6,BuildingSize,0)+1,FALSE),0)))","v":0},{"$f":"X439/1000*Y439*AA439*IF(IFERROR(SEARCH(\"Gas\",$H$5),0)>0,VLOOKUP(\"Gas\",HVACg_Lookup,MATCH($H$6,BuildingSize,0)+1,FALSE),IF(IFERROR(SEARCH(\"Oil\",$H$5),0)>0,VLOOKUP(\"Oil\",HVACg_Lookup,MATCH($H$6,BuildingSize,0)+1,FALSE),IF(IFERROR(SEARCH(\"Propane\",$H$5),0)>0,VLOOKUP(\"Propane\",HVACg_Lookup,MATCH(Worksheet!$H$6,BuildingSize,0)+1,FALSE),0)))","v":0},0,0,{"$f":"IF(OR($B$4=\"\",$B$5=\"\",$H$4=\"\",$H$6=\"\",$H$5=\"\",A439=\"\",F439=\"\",J439=\"\",O439=\"\",P439=\"\")=TRUE,\"\",IF(C439=\"OSW\",IF(J439>=2,1,0),IF(C439=\"OSR\",IF(AND(J439>=2,P439>60)=TRUE,1,0),IF(C439=\"OSRH\",IF(AND(J439>=1,P439>90)=TRUE,1,0),IF(C439=\"OHLC\",IF(AND(N439=\"Y\",P439>60)=TRUE,1,0),IF(C439=\"DDC\",IF(AND(J439>=4,N439=\"Y\",P439>120)=TRUE,1,0),0))))))","v":""},{"$f":"IF(OR($B$4=\"\",$B$5=\"\",$H$4=\"\",$H$6=\"\",$H$5=\"\",A439=\"\",F439=\"\",K439=\"\",O439=\"\",P439=\"\")=TRUE,\"\",IF(C439=\"OSW\",IF(K439>=2,1,0),IF(C439=\"OSR\",IF(AND(K439>=2,Q439>60)=TRUE,1,0),IF(C439=\"OSRH\",IF(AND(K439>=1,Q439>90)=TRUE,1,0),IF(C439=\"OHLC\",IF(AND(N439=\"Y\",Q439>60)=TRUE,1,0),IF(C439=\"DDC\",IF(AND(K439>=4,N439=\"Y\",Q439>120)=TRUE,1,0),0))))))","v":""}]
[null,null,"",null,null,null,null,null,null,null,null,null,null,null,null,0,0,0,0,"",0,0,0,0,0,{"$f":"IF($H$4=\"\",0,VLOOKUP($H$4,BuildingType_Lookup,3,FALSE))","v":0},{"$f":"IF($H$4=\"\",0,VLOOKUP($H$4,BuildingType_Lookup,2,FALSE))","v":0},{"$f":"IF(AND(OR(AN440=\"\",AN440=0)=TRUE,OR(AO440=\"\",AO440=0))=TRUE,0,IF(AO440=\"\",(IF(OR(C440=\"DDC\",C440=\"OHLC\")=TRUE,O440,P440)/1000)*Y440*Z440*(1+VLOOKUP($H$4,BuildingType_Lookup,4,FALSE)),IF(AO440=0,0,(IF(OR(C440=\"DDC\",C440=\"OHLC\")=TRUE,O440,Q440)/1000)*Y440*Z440*(1+VLOOKUP($H$4,BuildingType_Lookup,4,FALSE)))))","v":0},{"$f":"IF(AND(OR(AN440=\"\",AN440=0)=TRUE,OR(AO440=\"\",AO440=0))=TRUE,0,IF(AO440=\"\",(IF(OR(C440=\"DDC\",C440=\"OHLC\")=TRUE,O440,P440)/1000)*Y440*AA440*(1+VLOOKUP($H$4,BuildingType_Lookup,MATCH($H$5,HVAC,0)+4,FALSE)),IF(AO440=0,0,(IF(OR(C440=\"DDC\",C440=\"OHLC\")=TRUE,O440,Q440)/1000)*Y440*AA440*(1+VLOOKUP($H$4,BuildingType_Lookup,MATCH($H$5,HVAC,0)+4,FALSE)))))","v":0},0,0,0,0,0,0,{"$f":"W440/1000*Y440*AA440*IF(IFERROR(SEARCH(\"Gas\",$H$5),0)>0,VLOOKUP(\"Gas\",HVACg_Lookup,MATCH($H$6,BuildingSize,0)+1,FALSE),IF(IFERROR(SEARCH(\"Oil\",$H$5),0)>0,VLOOKUP(\"Oil\",HVACg_Lookup,MATCH($H$6,BuildingSize,0)+1,FALSE),IF(IFERROR(SEARCH(\"Propane\",$H$5),0)>0,VLOOKUP(\"Propane\",HVACg_Lookup,MATCH(Worksheet!$H$6,BuildingSize,0)+1,FALSE),0)))","v":0},{"$f":"X440/1000*Y440*AA440*IF(IFERROR(SEARCH(\"Gas\",$H$5),0)>0,VLOOKUP(\"Gas\",HVACg_Lookup,MATCH($H$6,BuildingSize,0)+1,FALSE),IF(IFERROR(SEARCH(\"Oil\",$H$5),0)>0,VLOOKUP(\"Oil\",HVACg_Lookup,MATCH($H$6,BuildingSize,0)+1,FALSE),IF(IFERROR(SEARCH(\"Propane\",$H$5),0)>0,VLOOKUP(\"Propane\",HVACg_Lookup,MATCH(Worksheet!$H$6,BuildingSize,0)+1,FALSE),0)))","v":0},0,0,{"$f":"IF(OR($B$4=\"\",$B$5=\"\",$H$4=\"\",$H$6=\"\",$H$5=\"\",A440=\"\",F440=\"\",J440=\"\",O440=\"\",P440=\"\")=TRUE,\"\",IF(C440=\"OSW\",IF(J440>=2,1,0),IF(C440=\"OSR\",IF(AND(J440>=2,P440>60)=TRUE,1,0),IF(C440=\"OSRH\",IF(AND(J440>=1,P440>90)=TRUE,1,0),IF(C440=\"OHLC\",IF(AND(N440=\"Y\",P440>60)=TRUE,1,0),IF(C440=\"DDC\",IF(AND(J440>=4,N440=\"Y\",P440>120)=TRUE,1,0),0))))))","v":""},{"$f":"IF(OR($B$4=\"\",$B$5=\"\",$H$4=\"\",$H$6=\"\",$H$5=\"\",A440=\"\",F440=\"\",K440=\"\",O440=\"\",P440=\"\")=TRUE,\"\",IF(C440=\"OSW\",IF(K440>=2,1,0),IF(C440=\"OSR\",IF(AND(K440>=2,Q440>60)=TRUE,1,0),IF(C440=\"OSRH\",IF(AND(K440>=1,Q440>90)=TRUE,1,0),IF(C440=\"OHLC\",IF(AND(N440=\"Y\",Q440>60)=TRUE,1,0),IF(C440=\"DDC\",IF(AND(K440>=4,N440=\"Y\",Q440>120)=TRUE,1,0),0))))))","v":""}]
[null,null,"",null,null,null,null,null,null,null,null,null,null,null,null,0,0,0,0,"",0,0,0,0,0,{"$f":"IF($H$4=\"\",0,VLOOKUP($H$4,BuildingType_Lookup,3,FALSE))","v":0},{"$f":"IF($H$4=\"\",0,VLOOKUP($H$4,BuildingType_Lookup,2,FALSE))","v":0},{"$f":"IF(AND(OR(AN441=\"\",AN441=0)=TRUE,OR(AO441=\"\",AO441=0))=TRUE,0,IF(AO441=\"\",(IF(OR(C441=\"DDC\",C441=\"OHLC\")=TRUE,O441,P441)/1000)*Y441*Z441*(1+VLOOKUP($H$4,BuildingType_Lookup,4,FALSE)),IF(AO441=0,0,(IF(OR(C441=\"DDC\",C441=\"OHLC\")=TRUE,O441,Q441)/1000)*Y441*Z441*(1+VLOOKUP($H$4,BuildingType_Lookup,4,FALSE)))))","v":0},{"$f":"IF(AND(OR(AN441=\"\",AN441=0)=TRUE,OR(AO441=\"\",AO441=0))=TRUE,0,IF(AO441=\"\",(IF(OR(C441=\"DDC\",C441=\"OHLC\")=TRUE,O441,P441)/1000)*Y441*AA441*(1+VLOOKUP($H$4,BuildingType_Lookup,MATCH($H$5,HVAC,0)+4,FALSE)),IF(AO441=0,0,(IF(OR(C441=\"DDC\",C441=\"OHLC\")=TRUE,O441,Q441)/1000)*Y441*AA441*(1+VLOOKUP($H$4,BuildingType_Lookup,MATCH($H$5,HVAC,0)+4,FALSE)))))","v":0},0,0,0,0,0,0,{"$f":"W441/1000*Y441*AA441*IF(IFERROR(SEARCH(\"Gas\",$H$5),0)>0,VLOOKUP(\"Gas\",HVACg_Lookup,MATCH($H$6,BuildingSize,0)+1,FALSE),IF(IFERROR(SEARCH(\"Oil\",$H$5),0)>0,VLOOKUP(\"Oil\",HVACg_Lookup,MATCH($H$6,BuildingSize,0)+1,FALSE),IF(IFERROR(SEARCH(\"Propane\",$H$5),0)>0,VLOOKUP(\"Propane\",HVACg_Lookup,MATCH(Worksheet!$H$6,BuildingSize,0)+1,FALSE),0)))","v":0},{"$f":"X441/1000*Y441*AA441*IF(IFERROR(SEARCH(\"Gas\",$H$5),0)>0,VLOOKUP(\"Gas\",HVACg_Lookup,MATCH($H$6,BuildingSize,0)+1,FALSE),IF(IFERROR(SEARCH(\"Oil\",$H$5),0)>0,VLOOKUP(\"Oil\",HVACg_Lookup,MATCH($H$6,BuildingSize,0)+1,FALSE),IF(IFERROR(SEARCH(\"Propane\",$H$5),0)>0,VLOOKUP(\"Propane\",HVACg_Lookup,MATCH(Worksheet!$H$6,BuildingSize,0)+1,FALSE),0)))","v":0},0,0,{"$f":"IF(OR($B$4=\"\",$B$5=\"\",$H$4=\"\",$H$6=\"\",$H$5=\"\",A441=\"\",F441=\"\",J441=\"\",O441=\"\",P441=\"\")=TRUE,\"\",IF(C441=\"OSW\",IF(J441>=2,1,0),IF(C441=\"OSR\",IF(AND(J441>=2,P441>60)=TRUE,1,0),IF(C441=\"OSRH\",IF(AND(J441>=1,P441>90)=TRUE,1,0),IF(C441=\"OHLC\",IF(AND(N441=\"Y\",P441>60)=TRUE,1,0),IF(C441=\"DDC\",IF(AND(J441>=4,N441=\"Y\",P441>120)=TRUE,1,0),0))))))","v":""},{"$f":"IF(OR($B$4=\"\",$B$5=\"\",$H$4=\"\",$H$6=\"\",$H$5=\"\",A441=\"\",F441=\"\",K441=\"\",O441=\"\",P441=\"\")=TRUE,\"\",IF(C441=\"OSW\",IF(K441>=2,1,0),IF(C441=\"OSR\",IF(AND(K441>=2,Q441>60)=TRUE,1,0),IF(C441=\"OSRH\",IF(AND(K441>=1,Q441>90)=TRUE,1,0),IF(C441=\"OHLC\",IF(AND(N441=\"Y\",Q441>60)=TRUE,1,0),IF(C441=\"DDC\",IF(AND(K441>=4,N441=\"Y\",Q441>120)=TRUE,1,0),0))))))","v":""}]
[null,null,"",null,null,null,null,null,null,null,null,null,null,null,null,0,0,0,0,"",0,0,0,0,0,{"$f":"IF($H$4=\"\",0,VLOOKUP($H$4,BuildingType_Lookup,3,FALSE))","v":0},{"$f":"IF($H$4=\"\",0,VLOOKUP($H$4,BuildingType_Lookup,2,FALSE))","v":0},{"$f":"IF(AND(OR(AN442=\"\",AN442=0)=TRUE,OR(AO442=\"\",AO442=0))=TRUE,0,IF(AO442=\"\",(IF(OR(C442=\"DDC\",C442=\"OHLC\")=TRUE,O442,P442)/1000)*Y442*Z442*(1+VLOOKUP($H$4,BuildingType_Lookup,4,FALSE)),IF(AO442=0,0,(IF(OR(C442=\"DDC\",C442=\"OHLC\")=TRUE,O442,Q442)/1000)*Y442*Z442*(1+VLOOKUP($H$4,BuildingType_Lookup,4,FALSE)))))","v":0},{"$f":"IF(AND(OR(AN442=\"\",AN442=0)=TRUE,OR(AO442=\"\",AO442=0))=TRUE,0,IF(AO442=\"\",(IF(OR(C442=\"DDC\",C442=\"OHLC\")=TRUE,O442,P442)/1000)*Y442*AA442*(1+VLOOKUP($H$4,BuildingType_Lookup,MATCH($H$5,HVAC,0)+4,FALSE)),IF(AO442=0,0,(IF(OR(C442=\"DDC\",C442=\"OHLC\")=TRUE,O442,Q442)/1000)*Y442*AA442*(1+VLOOKUP($H$4,BuildingType_Lookup,MATCH($H$5,HVAC,0)+4,FALSE)))))","v":0},0,0,0,0,0,0,{"$f":"W442/1000*Y442*AA442*IF(IFERROR(SEARCH(\"Gas\",$H$5),0)>0,VLOOKUP(\"Gas\",HVACg_Lookup,MATCH($H$6,BuildingSize,0)+1,FALSE),IF(IFERROR(SEARCH(\"Oil\",$H$5),0)>0,VLOOKUP(\"Oil\",HVACg_Lookup,MATCH($H$6,BuildingSize,0)+1,FALSE),IF(IFERROR(SEARCH(\"Propane\",$H$5),0)>0,VLOOKUP(\"Propane\",HVACg_Lookup,MATCH(Worksheet!$H$6,BuildingSize,0)+1,FALSE),0)))","v":0},{"$f":"X442/1000*Y442*AA442*IF(IFERROR(SEARCH(\"Gas\",$H$5),0)>0,VLOOKUP(\"Gas\",HVACg_Lookup,MATCH($H$6,BuildingSize,0)+1,FALSE),IF(IFERROR(SEARCH(\"Oil\",$H$5),0)>0,VLOOKUP(\"Oil\",HVACg_Lookup,MATCH($H$6,BuildingSize,0)+1,FALSE),IF(IFERROR(SEARCH(\"Propane\",$H$5),0)>0,VLOOKUP(\"Propane\",HVACg_Lookup,MATCH(Worksheet!$H$6,BuildingSize,0)+1,FALSE),0)))","v":0},0,0,{"$f":"IF(OR($B$4=\"\",$B$5=\"\",$H$4=\"\",$H$6=\"\",$H$5=\"\",A442=\"\",F442=\"\",J442=\"\",O442=\"\",P442=\"\")=TRUE,\"\",IF(C442=\"OSW\",IF(J442>=2,1,0),IF(C442=\"OSR\",IF(AND(J442>=2,P442>60)=TRUE,1,0),IF(C442=\"OSRH\",IF(AND(J442>=1,P442>90)=TRUE,1,0),IF(C442=\"OHLC\",IF(AND(N442=\"Y\",P442>60)=TRUE,1,0),IF(C442=\"DDC\",IF(AND(J442>=4,N442=\"Y\",P442>120)=TRUE,1,0),0))))))","v":""},{"$f":"IF(OR($B$4=\"\",$B$5=\"\",$H$4=\"\",$H$6=\"\",$H$5=\"\",A442=\"\",F442=\"\",K442=\"\",O442=\"\",P442=\"\")=TRUE,\"\",IF(C442=\"OSW\",IF(K442>=2,1,0),IF(C442=\"OSR\",IF(AND(K442>=2,Q442>60)=TRUE,1,0),IF(C442=\"OSRH\",IF(AND(K442>=1,Q442>90)=TRUE,1,0),IF(C442=\"OHLC\",IF(AND(N442=\"Y\",Q442>60)=TRUE,1,0),IF(C442=\"DDC\",IF(AND(K442>=4,N442=\"Y\",Q442>120)=TRUE,1,0),0))))))","v":""}]
[null,null,"",null,null,null,null,null,null,null,null,null,null,null,null,0,0,0,0,"",0,0,0,0,0,{"$f":"IF($H$4=\"\",0,VLOOKUP($H$4,BuildingType_Lookup,3,FALSE))","v":0},{"$f":"IF($H$4=\"\",0,VLOOKUP($H$4,BuildingType_Lookup,2,FALSE))","v":0},{"$f":"IF(AND(OR(AN443=\"\",AN443=0)=TRUE,OR(AO443=\"\",AO443=0))=TRUE,0,IF(AO443=\"\",(IF(OR(C443=\"DDC\",C443=\"OHLC\")=TRUE,O443,P443)/1000)*Y443*Z443*(1+VLOOKUP($H$4,BuildingType_Lookup,4,FALSE)),IF(AO443=0,0,(IF(OR(C443=\"DDC\",C443=\"OHLC\")=TRUE,O443,Q443)/1000)*Y443*Z443*(1+VLOOKUP($H$4,BuildingType_Lookup,4,FALSE)))))","v":0},{"$f":"IF(AND(OR(AN443=\"\",AN443=0)=TRUE,OR(AO443=\"\",AO443=0))=TRUE,0,IF(AO443=\"\",(IF(OR(C443=\"DDC\",C443=\"OHLC\")=TRUE,O443,P443)/1000)*Y443*AA443*(1+VLOOKUP($H$4,BuildingType_Lookup,MATCH($H$5,HVAC,0)+4,FALSE)),IF(AO443=0,0,(IF(OR(C443=\"DDC\",C443=\"OHLC\")=TRUE,O443,Q443)/1000)*Y443*AA443*(1+VLOOKUP($H$4,BuildingType_Lookup,MATCH($H$5,HVAC,0)+4,FALSE)))))","v":0},0,0,0,0,0,0,{"$f":"W443/1000*Y443*AA443*IF(IFERROR(SEARCH(\"Gas\",$H$5),0)>0,VLOOKUP(\"Gas\",HVACg_Lookup,MATCH($H$6,BuildingSize,0)+1,FALSE),IF(IFERROR(SEARCH(\"Oil\",$H$5),0)>0,VLOOKUP(\"Oil\",HVACg_Lookup,MATCH($H$6,BuildingSize,0)+1,FALSE),IF(IFERROR(SEARCH(\"Propane\",$H$5),0)>0,VLOOKUP(\"Propane\",HVACg_Lookup,MATCH(Worksheet!$H$6,BuildingSize,0)+1,FALSE),0)))","v":0},{"$f":"X443/1000*Y443*AA443*IF(IFERROR(SEARCH(\"Gas\",$H$5),0)>0,VLOOKUP(\"Gas\",HVACg_Lookup,MATCH($H$6,BuildingSize,0)+1,FALSE),IF(IFERROR(SEARCH(\"Oil\",$H$5),0)>0,VLOOKUP(\"Oil\",HVACg_Lookup,MATCH($H$6,BuildingSize,0)+1,FALSE),IF(IFERROR(SEARCH(\"Propane\",$H$5),0)>0,VLOOKUP(\"Propane\",HVACg_Lookup,MATCH(Worksheet!$H$6,BuildingSize,0)+1,FALSE),0)))","v":0},0,0,{"$f":"IF(OR($B$4=\"\",$B$5=\"\",$H$4=\"\",$H$6=\"\",$H$5=\"\",A443=\"\",F443=\"\",J443=\"\",O443=\"\",P443=\"\")=TRUE,\"\",IF(C443=\"OSW\",IF(J443>=2,1,0),IF(C443=\"OSR\",IF(AND(J443>=2,P443>60)=TRUE,1,0),IF(C443=\"OSRH\",IF(AND(J443>=1,P443>90)=TRUE,1,0),IF(C443=\"OHLC\",IF(AND(N443=\"Y\",P443>60)=TRUE,1,0),IF(C443=\"DDC\",IF(AND(J443>=4,N443=\"Y\",P443>120)=TRUE,1,0),0))))))","v":""},{"$f":"IF(OR($B$4=\"\",$B$5=\"\",$H$4=\"\",$H$6=\"\",$H$5=\"\",A443=\"\",F443=\"\",K443=\"\",O443=\"\",P443=\"\")=TRUE,\"\",IF(C443=\"OSW\",IF(K443>=2,1,0),IF(C443=\"OSR\",IF(AND(K443>=2,Q443>60)=TRUE,1,0),IF(C443=\"OSRH\",IF(AND(K443>=1,Q443>90)=TRUE,1,0),IF(C443=\"OHLC\",IF(AND(N443=\"Y\",Q443>60)=TRUE,1,0),IF(C443=\"DDC\",IF(AND(K443>=4,N443=\"Y\",Q443>120)=TRUE,1,0),0))))))","v":""}]
[null,null,"",null,null,null,null,null,null,null,null,null,null,null,null,0,0,0,0,"",0,0,0,0,0,{"$f":"IF($H$4=\"\",0,VLOOKUP($H$4,BuildingType_Lookup,3,FALSE))","v":0},{"$f":"IF($H$4=\"\",0,VLOOKUP($H$4,BuildingType_Lookup,2,FALSE))","v":0},{"$f":"IF(AND(OR(AN444=\"\",AN444=0)=TRUE,OR(AO444=\"\",AO444=0))=TRUE,0,IF(AO444=\"\",(IF(OR(C444=\"DDC\",C444=\"OHLC\")=TRUE,O444,P444)/1000)*Y444*Z444*(1+VLOOKUP($H$4,BuildingType_Lookup,4,FALSE)),IF(AO444=0,0,(IF(OR(C444=\"DDC\",C444=\"OHLC\")=TRUE,O444,Q444)/1000)*Y444*Z444*(1+VLOOKUP($H$4,BuildingType_Lookup,4,FALSE)))))","v":0},{"$f":"IF(AND(OR(AN444=\"\",AN444=0)=TRUE,OR(AO444=\"\",AO444=0))=TRUE,0,IF(AO444=\"\",(IF(OR(C444=\"DDC\",C444=\"OHLC\")=TRUE,O444,P444)/1000)*Y444*AA444*(1+VLOOKUP($H$4,BuildingType_Lookup,MATCH($H$5,HVAC,0)+4,FALSE)),IF(AO444=0,0,(IF(OR(C444=\"DDC\",C444=\"OHLC\")=TRUE,O444,Q444)/1000)*Y444*AA444*(1+VLOOKUP($H$4,BuildingType_Lookup,MATCH($H$5,HVAC,0)+4,FALSE)))))","v":0},0,0,0,0,0,0,{"$f":"W444/1000*Y444*AA444*IF(IFERROR(SEARCH(\"Gas\",$H$5),0)>0,VLOOKUP(\"Gas\",HVACg_Lookup,MATCH($H$6,BuildingSize,0)+1,FALSE),IF(IFERROR(SEARCH(\"Oil\",$H$5),0)>0,VLOOKUP(\"Oil\",HVACg_Lookup,MATCH($H$6,BuildingSize,0)+1,FALSE),IF(IFERROR(SEARCH(\"Propane\",$H$5),0)>0,VLOOKUP(\"Propane\",HVACg_Lookup,MATCH(Worksheet!$H$6,BuildingSize,0)+1,FALSE),0)))","v":0},{"$f":"X444/1000*Y444*AA444*IF(IFERROR(SEARCH(\"Gas\",$H$5),0)>0,VLOOKUP(\"Gas\",HVACg_Lookup,MATCH($H$6,BuildingSize,0)+1,FALSE),IF(IFERROR(SEARCH(\"Oil\",$H$5),0)>0,VLOOKUP(\"Oil\",HVACg_Lookup,MATCH($H$6,BuildingSize,0)+1,FALSE),IF(IFERROR(SEARCH(\"Propane\",$H$5),0)>0,VLOOKUP(\"Propane\",HVACg_Lookup,MATCH(Worksheet!$H$6,BuildingSize,0)+1,FALSE),0)))","v":0},0,0,{"$f":"IF(OR($B$4=\"\",$B$5=\"\",$H$4=\"\",$H$6=\"\",$H$5=\"\",A444=\"\",F444=\"\",J444=\"\",O444=\"\",P444=\"\")=TRUE,\"\",IF(C444=\"OSW\",IF(J444>=2,1,0),IF(C444=\"OSR\",IF(AND(J444>=2,P444>60)=TRUE,1,0),IF(C444=\"OSRH\",IF(AND(J444>=1,P444>90)=TRUE,1,0),IF(C444=\"OHLC\",IF(AND(N444=\"Y\",P444>60)=TRUE,1,0),IF(C444=\"DDC\",IF(AND(J444>=4,N444=\"Y\",P444>120)=TRUE,1,0),0))))))","v":""},{"$f":"IF(OR($B$4=\"\",$B$5=\"\",$H$4=\"\",$H$6=\"\",$H$5=\"\",A444=\"\",F444=\"\",K444=\"\",O444=\"\",P444=\"\")=TRUE,\"\",IF(C444=\"OSW\",IF(K444>=2,1,0),IF(C444=\"OSR\",IF(AND(K444>=2,Q444>60)=TRUE,1,0),IF(C444=\"OSRH\",IF(AND(K444>=1,Q444>90)=TRUE,1,0),IF(C444=\"OHLC\",IF(AND(N444=\"Y\",Q444>60)=TRUE,1,0),IF(C444=\"DDC\",IF(AND(K444>=4,N444=\"Y\",Q444>120)=TRUE,1,0),0))))))","v":""}]
[null,null,"",null,null,null,null,null,null,null,null,null,null,null,null,0,0,0,0,"",0,0,0,0,0,{"$f":"IF($H$4=\"\",0,VLOOKUP($H$4,BuildingType_Lookup,3,FALSE))","v":0},{"$f":"IF($H$4=\"\",0,VLOOKUP($H$4,BuildingType_Lookup,2,FALSE))","v":0},{"$f":"IF(AND(OR(AN445=\"\",AN445=0)=TRUE,OR(AO445=\"\",AO445=0))=TRUE,0,IF(AO445=\"\",(IF(OR(C445=\"DDC\",C445=\"OHLC\")=TRUE,O445,P445)/1000)*Y445*Z445*(1+VLOOKUP($H$4,BuildingType_Lookup,4,FALSE)),IF(AO445=0,0,(IF(OR(C445=\"DDC\",C445=\"OHLC\")=TRUE,O445,Q445)/1000)*Y445*Z445*(1+VLOOKUP($H$4,BuildingType_Lookup,4,FALSE)))))","v":0},{"$f":"IF(AND(OR(AN445=\"\",AN445=0)=TRUE,OR(AO445=\"\",AO445=0))=TRUE,0,IF(AO445=\"\",(IF(OR(C445=\"DDC\",C445=\"OHLC\")=TRUE,O445,P445)/1000)*Y445*AA445*(1+VLOOKUP($H$4,BuildingType_Lookup,MATCH($H$5,HVAC,0)+4,FALSE)),IF(AO445=0,0,(IF(OR(C445=\"DDC\",C445=\"OHLC\")=TRUE,O445,Q445)/1000)*Y445*AA445*(1+VLOOKUP($H$4,BuildingType_Lookup,MATCH($H$5,HVAC,0)+4,FALSE)))))","v":0},0,0,0,0,0,0,{"$f":"W445/1000*Y445*AA445*IF(IFERROR(SEARCH(\"Gas\",$H$5),0)>0,VLOOKUP(\"Gas\",HVACg_Lookup,MATCH($H$6,BuildingSize,0)+1,FALSE),IF(IFERROR(SEARCH(\"Oil\",$H$5),0)>0,VLOOKUP(\"Oil\",HVACg_Lookup,MATCH($H$6,BuildingSize,0)+1,FALSE),IF(IFERROR(SEARCH(\"Propane\",$H$5),0)>0,VLOOKUP(\"Propane\",HVACg_Lookup,MATCH(Worksheet!$H$6,BuildingSize,0)+1,FALSE),0)))","v":0},{"$f":"X445/1000*Y445*AA445*IF(IFERROR(SEARCH(\"Gas\",$H$5),0)>0,VLOOKUP(\"Gas\",HVACg_Lookup,MATCH($H$6,BuildingSize,0)+1,FALSE),IF(IFERROR(SEARCH(\"Oil\",$H$5),0)>0,VLOOKUP(\"Oil\",HVACg_Lookup,MATCH($H$6,BuildingSize,0)+1,FALSE),IF(IFERROR(SEARCH(\"Propane\",$H$5),0)>0,VLOOKUP(\"Propane\",HVACg_Lookup,MATCH(Worksheet!$H$6,BuildingSize,0)+1,FALSE),0)))","v":0},0,0,{"$f":"IF(OR($B$4=\"\",$B$5=\"\",$H$4=\"\",$H$6=\"\",$H$5=\"\",A445=\"\",F445=\"\",J445=\"\",O445=\"\",P445=\"\")=TRUE,\"\",IF(C445=\"OSW\",IF(J445>=2,1,0),IF(C445=\"OSR\",IF(AND(J445>=2,P445>60)=TRUE,1,0),IF(C445=\"OSRH\",IF(AND(J445>=1,P445>90)=TRUE,1,0),IF(C445=\"OHLC\",IF(AND(N445=\"Y\",P445>60)=TRUE,1,0),IF(C445=\"DDC\",IF(AND(J445>=4,N445=\"Y\",P445>120)=TRUE,1,0),0))))))","v":""},{"$f":"IF(OR($B$4=\"\",$B$5=\"\",$H$4=\"\",$H$6=\"\",$H$5=\"\",A445=\"\",F445=\"\",K445=\"\",O445=\"\",P445=\"\")=TRUE,\"\",IF(C445=\"OSW\",IF(K445>=2,1,0),IF(C445=\"OSR\",IF(AND(K445>=2,Q445>60)=TRUE,1,0),IF(C445=\"OSRH\",IF(AND(K445>=1,Q445>90)=TRUE,1,0),IF(C445=\"OHLC\",IF(AND(N445=\"Y\",Q445>60)=TRUE,1,0),IF(C445=\"DDC\",IF(AND(K445>=4,N445=\"Y\",Q445>120)=TRUE,1,0),0))))))","v":""}]
[null,null,"",null,null,null,null,null,null,null,null,null,null,null,null,0,0,0,0,"",0,0,0,0,0,{"$f":"IF($H$4=\"\",0,VLOOKUP($H$4,BuildingType_Lookup,3,FALSE))","v":0},{"$f":"IF($H$4=\"\",0,VLOOKUP($H$4,BuildingType_Lookup,2,FALSE))","v":0},{"$f":"IF(AND(OR(AN446=\"\",AN446=0)=TRUE,OR(AO446=\"\",AO446=0))=TRUE,0,IF(AO446=\"\",(IF(OR(C446=\"DDC\",C446=\"OHLC\")=TRUE,O446,P446)/1000)*Y446*Z446*(1+VLOOKUP($H$4,BuildingType_Lookup,4,FALSE)),IF(AO446=0,0,(IF(OR(C446=\"DDC\",C446=\"OHLC\")=TRUE,O446,Q446)/1000)*Y446*Z446*(1+VLOOKUP($H$4,BuildingType_Lookup,4,FALSE)))))","v":0},{"$f":"IF(AND(OR(AN446=\"\",AN446=0)=TRUE,OR(AO446=\"\",AO446=0))=TRUE,0,IF(AO446=\"\",(IF(OR(C446=\"DDC\",C446=\"OHLC\")=TRUE,O446,P446)/1000)*Y446*AA446*(1+VLOOKUP($H$4,BuildingType_Lookup,MATCH($H$5,HVAC,0)+4,FALSE)),IF(AO446=0,0,(IF(OR(C446=\"DDC\",C446=\"OHLC\")=TRUE,O446,Q446)/1000)*Y446*AA446*(1+VLOOKUP($H$4,BuildingType_Lookup,MATCH($H$5,HVAC,0)+4,FALSE)))))","v":0},0,0,0,0,0,0,{"$f":"W446/1000*Y446*AA446*IF(IFERROR(SEARCH(\"Gas\",$H$5),0)>0,VLOOKUP(\"Gas\",HVACg_Lookup,MATCH($H$6,BuildingSize,0)+1,FALSE),IF(IFERROR(SEARCH(\"Oil\",$H$5),0)>0,VLOOKUP(\"Oil\",HVACg_Lookup,MATCH($H$6,BuildingSize,0)+1,FALSE),IF(IFERROR(SEARCH(\"Propane\",$H$5),0)>0,VLOOKUP(\"Propane\",HVACg_Lookup,MATCH(Worksheet!$H$6,BuildingSize,0)+1,FALSE),0)))","v":0},{"$f":"X446/1000*Y446*AA446*IF(IFERROR(SEARCH(\"Gas\",$H$5),0)>0,VLOOKUP(\"Gas\",HVACg_Lookup,MATCH($H$6,BuildingSize,0)+1,FALSE),IF(IFERROR(SEARCH(\"Oil\",$H$5),0)>0,VLOOKUP(\"Oil\",HVACg_Lookup,MATCH($H$6,BuildingSize,0)+1,FALSE),IF(IFERROR(SEARCH(\"Propane\",$H$5),0)>0,VLOOKUP(\"Propane\",HVACg_Lookup,MATCH(Worksheet!$H$6,BuildingSize,0)+1,FALSE),0)))","v":0},0,0,{"$f":"IF(OR($B$4=\"\",$B$5=\"\",$H$4=\"\",$H$6=\"\",$H$5=\"\",A446=\"\",F446=\"\",J446=\"\",O446=\"\",P446=\"\")=TRUE,\"\",IF(C446=\"OSW\",IF(J446>=2,1,0),IF(C446=\"OSR\",IF(AND(J446>=2,P446>60)=TRUE,1,0),IF(C446=\"OSRH\",IF(AND(J446>=1,P446>90)=TRUE,1,0),IF(C446=\"OHLC\",IF(AND(N446=\"Y\",P446>60)=TRUE,1,0),IF(C446=\"DDC\",IF(AND(J446>=4,N446=\"Y\",P446>120)=TRUE,1,0),0))))))","v":""},{"$f":"IF(OR($B$4=\"\",$B$5=\"\",$H$4=\"\",$H$6=\"\",$H$5=\"\",A446=\"\",F446=\"\",K446=\"\",O446=\"\",P446=\"\")=TRUE,\"\",IF(C446=\"OSW\",IF(K446>=2,1,0),IF(C446=\"OSR\",IF(AND(K446>=2,Q446>60)=TRUE,1,0),IF(C446=\"OSRH\",IF(AND(K446>=1,Q446>90)=TRUE,1,0),IF(C446=\"OHLC\",IF(AND(N446=\"Y\",Q446>60)=TRUE,1,0),IF(C446=\"DDC\",IF(AND(K446>=4,N446=\"Y\",Q446>120)=TRUE,1,0),0))))))","v":""}]
[null,null,"",null,null,null,null,null,null,null,null,null,null,null,null,0,0,0,0,"",0,0,0,0,0,{"$f":"IF($H$4=\"\",0,VLOOKUP($H$4,BuildingType_Lookup,3,FALSE))","v":0},{"$f":"IF($H$4=\"\",0,VLOOKUP($H$4,BuildingType_Lookup,2,FALSE))","v":0},{"$f":"IF(AND(OR(AN447=\"\",AN447=0)=TRUE,OR(AO447=\"\",AO447=0))=TRUE,0,IF(AO447=\"\",(IF(OR(C447=\"DDC\",C447=\"OHLC\")=TRUE,O447,P447)/1000)*Y447*Z447*(1+VLOOKUP($H$4,BuildingType_Lookup,4,FALSE)),IF(AO447=0,0,(IF(OR(C447=\"DDC\",C447=\"OHLC\")=TRUE,O447,Q447)/1000)*Y447*Z447*(1+VLOOKUP($H$4,BuildingType_Lookup,4,FALSE)))))","v":0},{"$f":"IF(AND(OR(AN447=\"\",AN447=0)=TRUE,OR(AO447=\"\",AO447=0))=TRUE,0,IF(AO447=\"\",(IF(OR(C447=\"DDC\",C447=\"OHLC\")=TRUE,O447,P447)/1000)*Y447*AA447*(1+VLOOKUP($H$4,BuildingType_Lookup,MATCH($H$5,HVAC,0)+4,FALSE)),IF(AO447=0,0,(IF(OR(C447=\"DDC\",C447=\"OHLC\")=TRUE,O447,Q447)/1000)*Y447*AA447*(1+VLOOKUP($H$4,BuildingType_Lookup,MATCH($H$5,HVAC,0)+4,FALSE)))))","v":0},0,0,0,0,0,0,{"$f":"W447/1000*Y447*AA447*IF(IFERROR(SEARCH(\"Gas\",$H$5),0)>0,VLOOKUP(\"Gas\",HVACg_Lookup,MATCH($H$6,BuildingSize,0)+1,FALSE),IF(IFERROR(SEARCH(\"Oil\",$H$5),0)>0,VLOOKUP(\"Oil\",HVACg_Lookup,MATCH($H$6,BuildingSize,0)+1,FALSE),IF(IFERROR(SEARCH(\"Propane\",$H$5),0)>0,VLOOKUP(\"Propane\",HVACg_Lookup,MATCH(Worksheet!$H$6,BuildingSize,0)+1,FALSE),0)))","v":0},{"$f":"X447/1000*Y447*AA447*IF(IFERROR(SEARCH(\"Gas\",$H$5),0)>0,VLOOKUP(\"Gas\",HVACg_Lookup,MATCH($H$6,BuildingSize,0)+1,FALSE),IF(IFERROR(SEARCH(\"Oil\",$H$5),0)>0,VLOOKUP(\"Oil\",HVACg_Lookup,MATCH($H$6,BuildingSize,0)+1,FALSE),IF(IFERROR(SEARCH(\"Propane\",$H$5),0)>0,VLOOKUP(\"Propane\",HVACg_Lookup,MATCH(Worksheet!$H$6,BuildingSize,0)+1,FALSE),0)))","v":0},0,0,{"$f":"IF(OR($B$4=\"\",$B$5=\"\",$H$4=\"\",$H$6=\"\",$H$5=\"\",A447=\"\",F447=\"\",J447=\"\",O447=\"\",P447=\"\")=TRUE,\"\",IF(C447=\"OSW\",IF(J447>=2,1,0),IF(C447=\"OSR\",IF(AND(J447>=2,P447>60)=TRUE,1,0),IF(C447=\"OSRH\",IF(AND(J447>=1,P447>90)=TRUE,1,0),IF(C447=\"OHLC\",IF(AND(N447=\"Y\",P447>60)=TRUE,1,0),IF(C447=\"DDC\",IF(AND(J447>=4,N447=\"Y\",P447>120)=TRUE,1,0),0))))))","v":""},{"$f":"IF(OR($B$4=\"\",$B$5=\"\",$H$4=\"\",$H$6=\"\",$H$5=\"\",A447=\"\",F447=\"\",K447=\"\",O447=\"\",P447=\"\")=TRUE,\"\",IF(C447=\"OSW\",IF(K447>=2,1,0),IF(C447=\"OSR\",IF(AND(K447>=2,Q447>60)=TRUE,1,0),IF(C447=\"OSRH\",IF(AND(K447>=1,Q447>90)=TRUE,1,0),IF(C447=\"OHLC\",IF(AND(N447=\"Y\",Q447>60)=TRUE,1,0),IF(C447=\"DDC\",IF(AND(K447>=4,N447=\"Y\",Q447>120)=TRUE,1,0),0))))))","v":""}]
[null,null,"",null,null,null,null,null,null,null,null,null,null,null,null,0,0,0,0,"",0,0,0,0,0,{"$f":"IF($H$4=\"\",0,VLOOKUP($H$4,BuildingType_Lookup,3,FALSE))","v":0},{"$f":"IF($H$4=\"\",0,VLOOKUP($H$4,BuildingType_Lookup,2,FALSE))","v":0},{"$f":"IF(AND(OR(AN448=\"\",AN448=0)=TRUE,OR(AO448=\"\",AO448=0))=TRUE,0,IF(AO448=\"\",(IF(OR(C448=\"DDC\",C448=\"OHLC\")=TRUE,O448,P448)/1000)*Y448*Z448*(1+VLOOKUP($H$4,BuildingType_Lookup,4,FALSE)),IF(AO448=0,0,(IF(OR(C448=\"DDC\",C448=\"OHLC\")=TRUE,O448,Q448)/1000)*Y448*Z448*(1+VLOOKUP($H$4,BuildingType_Lookup,4,FALSE)))))","v":0},{"$f":"IF(AND(OR(AN448=\"\",AN448=0)=TRUE,OR(AO448=\"\",AO448=0))=TRUE,0,IF(AO448=\"\",(IF(OR(C448=\"DDC\",C448=\"OHLC\")=TRUE,O448,P448)/1000)*Y448*AA448*(1+VLOOKUP($H$4,BuildingType_Lookup,MATCH($H$5,HVAC,0)+4,FALSE)),IF(AO448=0,0,(IF(OR(C448=\"DDC\",C448=\"OHLC\")=TRUE,O448,Q448)/1000)*Y448*AA448*(1+VLOOKUP($H$4,BuildingType_Lookup,MATCH($H$5,HVAC,0)+4,FALSE)))))","v":0},0,0,0,0,0,0,{"$f":"W448/1000*Y448*AA448*IF(IFERROR(SEARCH(\"Gas\",$H$5),0)>0,VLOOKUP(\"Gas\",HVACg_Lookup,MATCH($H$6,BuildingSize,0)+1,FALSE),IF(IFERROR(SEARCH(\"Oil\",$H$5),0)>0,VLOOKUP(\"Oil\",HVACg_Lookup,MATCH($H$6,BuildingSize,0)+1,FALSE),IF(IFERROR(SEARCH(\"Propane\",$H$5),0)>0,VLOOKUP(\"Propane\",HVACg_Lookup,MATCH(Worksheet!$H$6,BuildingSize,0)+1,FALSE),0)))","v":0},{"$f":"X448/1000*Y448*AA448*IF(IFERROR(SEARCH(\"Gas\",$H$5),0)>0,VLOOKUP(\"Gas\",HVACg_Lookup,MATCH($H$6,BuildingSize,0)+1,FALSE),IF(IFERROR(SEARCH(\"Oil\",$H$5),0)>0,VLOOKUP(\"Oil\",HVACg_Lookup,MATCH($H$6,BuildingSize,0)+1,FALSE),IF(IFERROR(SEARCH(\"Propane\",$H$5),0)>0,VLOOKUP(\"Propane\",HVACg_Lookup,MATCH(Worksheet!$H$6,BuildingSize,0)+1,FALSE),0)))","v":0},0,0,{"$f":"IF(OR($B$4=\"\",$B$5=\"\",$H$4=\"\",$H$6=\"\",$H$5=\"\",A448=\"\",F448=\"\",J448=\"\",O448=\"\",P448=\"\")=TRUE,\"\",IF(C448=\"OSW\",IF(J448>=2,1,0),IF(C448=\"OSR\",IF(AND(J448>=2,P448>60)=TRUE,1,0),IF(C448=\"OSRH\",IF(AND(J448>=1,P448>90)=TRUE,1,0),IF(C448=\"OHLC\",IF(AND(N448=\"Y\",P448>60)=TRUE,1,0),IF(C448=\"DDC\",IF(AND(J448>=4,N448=\"Y\",P448>120)=TRUE,1,0),0))))))","v":""},{"$f":"IF(OR($B$4=\"\",$B$5=\"\",$H$4=\"\",$H$6=\"\",$H$5=\"\",A448=\"\",F448=\"\",K448=\"\",O448=\"\",P448=\"\")=TRUE,\"\",IF(C448=\"OSW\",IF(K448>=2,1,0),IF(C448=\"OSR\",IF(AND(K448>=2,Q448>60)=TRUE,1,0),IF(C448=\"OSRH\",IF(AND(K448>=1,Q448>90)=TRUE,1,0),IF(C448=\"OHLC\",IF(AND(N448=\"Y\",Q448>60)=TRUE,1,0),IF(C448=\"DDC\",IF(AND(K448>=4,N448=\"Y\",Q448>120)=TRUE,1,0),0))))))","v":""}]
[null,null,"",null,null,null,null,null,null,null,null,null,null,null,null,0,0,0,0,"",0,0,0,0,0,{"$f":"IF($H$4=\"\",0,VLOOKUP($H$4,BuildingType_Lookup,3,FALSE))","v":0},{"$f":"IF($H$4=\"\",0,VLOOKUP($H$4,BuildingType_Lookup,2,FALSE))","v":0},{"$f":"IF(AND(OR(AN449=\"\",AN449=0)=TRUE,OR(AO449=\"\",AO449=0))=TRUE,0,IF(AO449=\"\",(IF(OR(C449=\"DDC\",C449=\"OHLC\")=TRUE,O449,P449)/1000)*Y449*Z449*(1+VLOOKUP($H$4,BuildingType_Lookup,4,FALSE)),IF(AO449=0,0,(IF(OR(C449=\"DDC\",C449=\"OHLC\")=TRUE,O449,Q449)/1000)*Y449*Z449*(1+VLOOKUP($H$4,BuildingType_Lookup,4,FALSE)))))","v":0},{"$f":"IF(AND(OR(AN449=\"\",AN449=0)=TRUE,OR(AO449=\"\",AO449=0))=TRUE,0,IF(AO449=\"\",(IF(OR(C449=\"DDC\",C449=\"OHLC\")=TRUE,O449,P449)/1000)*Y449*AA449*(1+VLOOKUP($H$4,BuildingType_Lookup,MATCH($H$5,HVAC,0)+4,FALSE)),IF(AO449=0,0,(IF(OR(C449=\"DDC\",C449=\"OHLC\")=TRUE,O449,Q449)/1000)*Y449*AA449*(1+VLOOKUP($H$4,BuildingType_Lookup,MATCH($H$5,HVAC,0)+4,FALSE)))))","v":0},0,0,0,0,0,0,{"$f":"W449/1000*Y449*AA449*IF(IFERROR(SEARCH(\"Gas\",$H$5),0)>0,VLOOKUP(\"Gas\",HVACg_Lookup,MATCH($H$6,BuildingSize,0)+1,FALSE),IF(IFERROR(SEARCH(\"Oil\",$H$5),0)>0,VLOOKUP(\"Oil\",HVACg_Lookup,MATCH($H$6,BuildingSize,0)+1,FALSE),IF(IFERROR(SEARCH(\"Propane\",$H$5),0)>0,VLOOKUP(\"Propane\",HVACg_Lookup,MATCH(Worksheet!$H$6,BuildingSize,0)+1,FALSE),0)))","v":0},{"$f":"X449/1000*Y449*AA449*IF(IFERROR(SEARCH(\"Gas\",$H$5),0)>0,VLOOKUP(\"Gas\",HVACg_Lookup,MATCH($H$6,BuildingSize,0)+1,FALSE),IF(IFERROR(SEARCH(\"Oil\",$H$5),0)>0,VLOOKUP(\"Oil\",HVACg_Lookup,MATCH($H$6,BuildingSize,0)+1,FALSE),IF(IFERROR(SEARCH(\"Propane\",$H$5),0)>0,VLOOKUP(\"Propane\",HVACg_Lookup,MATCH(Worksheet!$H$6,BuildingSize,0)+1,FALSE),0)))","v":0},0,0,{"$f":"IF(OR($B$4=\"\",$B$5=\"\",$H$4=\"\",$H$6=\"\",$H$5=\"\",A449=\"\",F449=\"\",J449=\"\",O449=\"\",P449=\"\")=TRUE,\"\",IF(C449=\"OSW\",IF(J449>=2,1,0),IF(C449=\"OSR\",IF(AND(J449>=2,P449>60)=TRUE,1,0),IF(C449=\"OSRH\",IF(AND(J449>=1,P449>90)=TRUE,1,0),IF(C449=\"OHLC\",IF(AND(N449=\"Y\",P449>60)=TRUE,1,0),IF(C449=\"DDC\",IF(AND(J449>=4,N449=\"Y\",P449>120)=TRUE,1,0),0))))))","v":""},{"$f":"IF(OR($B$4=\"\",$B$5=\"\",$H$4=\"\",$H$6=\"\",$H$5=\"\",A449=\"\",F449=\"\",K449=\"\",O449=\"\",P449=\"\")=TRUE,\"\",IF(C449=\"OSW\",IF(K449>=2,1,0),IF(C449=\"OSR\",IF(AND(K449>=2,Q449>60)=TRUE,1,0),IF(C449=\"OSRH\",IF(AND(K449>=1,Q449>90)=TRUE,1,0),IF(C449=\"OHLC\",IF(AND(N449=\"Y\",Q449>60)=TRUE,1,0),IF(C449=\"DDC\",IF(AND(K449>=4,N449=\"Y\",Q449>120)=TRUE,1,0),0))))))","v":""}]
[null,null,"",null,null,null,null,null,null,null,null,null,null,null,null,0,0,0,0,"",0,0,0,0,0,{"$f":"IF($H$4=\"\",0,VLOOKUP($H$4,BuildingType_Lookup,3,FALSE))","v":0},{"$f":"IF($H$4=\"\",0,VLOOKUP($H$4,BuildingType_Lookup,2,FALSE))","v":0},{"$f":"IF(AND(OR(AN450=\"\",AN450=0)=TRUE,OR(AO450=\"\",AO450=0))=TRUE,0,IF(AO450=\"\",(IF(OR(C450=\"DDC\",C450=\"OHLC\")=TRUE,O450,P450)/1000)*Y450*Z450*(1+VLOOKUP($H$4,BuildingType_Lookup,4,FALSE)),IF(AO450=0,0,(IF(OR(C450=\"DDC\",C450=\"OHLC\")=TRUE,O450,Q450)/1000)*Y450*Z450*(1+VLOOKUP($H$4,BuildingType_Lookup,4,FALSE)))))","v":0},{"$f":"IF(AND(OR(AN450=\"\",AN450=0)=TRUE,OR(AO450=\"\",AO450=0))=TRUE,0,IF(AO450=\"\",(IF(OR(C450=\"DDC\",C450=\"OHLC\")=TRUE,O450,P450)/1000)*Y450*AA450*(1+VLOOKUP($H$4,BuildingType_Lookup,MATCH($H$5,HVAC,0)+4,FALSE)),IF(AO450=0,0,(IF(OR(C450=\"DDC\",C450=\"OHLC\")=TRUE,O450,Q450)/1000)*Y450*AA450*(1+VLOOKUP($H$4,BuildingType_Lookup,MATCH($H$5,HVAC,0)+4,FALSE)))))","v":0},0,0,0,0,0,0,{"$f":"W450/1000*Y450*AA450*IF(IFERROR(SEARCH(\"Gas\",$H$5),0)>0,VLOOKUP(\"Gas\",HVACg_Lookup,MATCH($H$6,BuildingSize,0)+1,FALSE),IF(IFERROR(SEARCH(\"Oil\",$H$5),0)>0,VLOOKUP(\"Oil\",HVACg_Lookup,MATCH($H$6,BuildingSize,0)+1,FALSE),IF(IFERROR(SEARCH(\"Propane\",$H$5),0)>0,VLOOKUP(\"Propane\",HVACg_Lookup,MATCH(Worksheet!$H$6,BuildingSize,0)+1,FALSE),0)))","v":0},{"$f":"X450/1000*Y450*AA450*IF(IFERROR(SEARCH(\"Gas\",$H$5),0)>0,VLOOKUP(\"Gas\",HVACg_Lookup,MATCH($H$6,BuildingSize,0)+1,FALSE),IF(IFERROR(SEARCH(\"Oil\",$H$5),0)>0,VLOOKUP(\"Oil\",HVACg_Lookup,MATCH($H$6,BuildingSize,0)+1,FALSE),IF(IFERROR(SEARCH(\"Propane\",$H$5),0)>0,VLOOKUP(\"Propane\",HVACg_Lookup,MATCH(Worksheet!$H$6,BuildingSize,0)+1,FALSE),0)))","v":0},0,0,{"$f":"IF(OR($B$4=\"\",$B$5=\"\",$H$4=\"\",$H$6=\"\",$H$5=\"\",A450=\"\",F450=\"\",J450=\"\",O450=\"\",P450=\"\")=TRUE,\"\",IF(C450=\"OSW\",IF(J450>=2,1,0),IF(C450=\"OSR\",IF(AND(J450>=2,P450>60)=TRUE,1,0),IF(C450=\"OSRH\",IF(AND(J450>=1,P450>90)=TRUE,1,0),IF(C450=\"OHLC\",IF(AND(N450=\"Y\",P450>60)=TRUE,1,0),IF(C450=\"DDC\",IF(AND(J450>=4,N450=\"Y\",P450>120)=TRUE,1,0),0))))))","v":""},{"$f":"IF(OR($B$4=\"\",$B$5=\"\",$H$4=\"\",$H$6=\"\",$H$5=\"\",A450=\"\",F450=\"\",K450=\"\",O450=\"\",P450=\"\")=TRUE,\"\",IF(C450=\"OSW\",IF(K450>=2,1,0),IF(C450=\"OSR\",IF(AND(K450>=2,Q450>60)=TRUE,1,0),IF(C450=\"OSRH\",IF(AND(K450>=1,Q450>90)=TRUE,1,0),IF(C450=\"OHLC\",IF(AND(N450=\"Y\",Q450>60)=TRUE,1,0),IF(C450=\"DDC\",IF(AND(K450>=4,N450=\"Y\",Q450>120)=TRUE,1,0),0))))))","v":""}]
[null,null,"",null,null,null,null,null,null,null,null,null,null,null,null,0,0,0,0,"",0,0,0,0,0,{"$f":"IF($H$4=\"\",0,VLOOKUP($H$4,BuildingType_Lookup,3,FALSE))","v":0},{"$f":"IF($H$4=\"\",0,VLOOKUP($H$4,BuildingType_Lookup,2,FALSE))","v":0},{"$f":"IF(AND(OR(AN451=\"\",AN451=0)=TRUE,OR(AO451=\"\",AO451=0))=TRUE,0,IF(AO451=\"\",(IF(OR(C451=\"DDC\",C451=\"OHLC\")=TRUE,O451,P451)/1000)*Y451*Z451*(1+VLOOKUP($H$4,BuildingType_Lookup,4,FALSE)),IF(AO451=0,0,(IF(OR(C451=\"DDC\",C451=\"OHLC\")=TRUE,O451,Q451)/1000)*Y451*Z451*(1+VLOOKUP($H$4,BuildingType_Lookup,4,FALSE)))))","v":0},{"$f":"IF(AND(OR(AN451=\"\",AN451=0)=TRUE,OR(AO451=\"\",AO451=0))=TRUE,0,IF(AO451=\"\",(IF(OR(C451=\"DDC\",C451=\"OHLC\")=TRUE,O451,P451)/1000)*Y451*AA451*(1+VLOOKUP($H$4,BuildingType_Lookup,MATCH($H$5,HVAC,0)+4,FALSE)),IF(AO451=0,0,(IF(OR(C451=\"DDC\",C451=\"OHLC\")=TRUE,O451,Q451)/1000)*Y451*AA451*(1+VLOOKUP($H$4,BuildingType_Lookup,MATCH($H$5,HVAC,0)+4,FALSE)))))","v":0},0,0,0,0,0,0,{"$f":"W451/1000*Y451*AA451*IF(IFERROR(SEARCH(\"Gas\",$H$5),0)>0,VLOOKUP(\"Gas\",HVACg_Lookup,MATCH($H$6,BuildingSize,0)+1,FALSE),IF(IFERROR(SEARCH(\"Oil\",$H$5),0)>0,VLOOKUP(\"Oil\",HVACg_Lookup,MATCH($H$6,BuildingSize,0)+1,FALSE),IF(IFERROR(SEARCH(\"Propane\",$H$5),0)>0,VLOOKUP(\"Propane\",HVACg_Lookup,MATCH(Worksheet!$H$6,BuildingSize,0)+1,FALSE),0)))","v":0},{"$f":"X451/1000*Y451*AA451*IF(IFERROR(SEARCH(\"Gas\",$H$5),0)>0,VLOOKUP(\"Gas\",HVACg_Lookup,MATCH($H$6,BuildingSize,0)+1,FALSE),IF(IFERROR(SEARCH(\"Oil\",$H$5),0)>0,VLOOKUP(\"Oil\",HVACg_Lookup,MATCH($H$6,BuildingSize,0)+1,FALSE),IF(IFERROR(SEARCH(\"Propane\",$H$5),0)>0,VLOOKUP(\"Propane\",HVACg_Lookup,MATCH(Worksheet!$H$6,BuildingSize,0)+1,FALSE),0)))","v":0},0,0,{"$f":"IF(OR($B$4=\"\",$B$5=\"\",$H$4=\"\",$H$6=\"\",$H$5=\"\",A451=\"\",F451=\"\",J451=\"\",O451=\"\",P451=\"\")=TRUE,\"\",IF(C451=\"OSW\",IF(J451>=2,1,0),IF(C451=\"OSR\",IF(AND(J451>=2,P451>60)=TRUE,1,0),IF(C451=\"OSRH\",IF(AND(J451>=1,P451>90)=TRUE,1,0),IF(C451=\"OHLC\",IF(AND(N451=\"Y\",P451>60)=TRUE,1,0),IF(C451=\"DDC\",IF(AND(J451>=4,N451=\"Y\",P451>120)=TRUE,1,0),0))))))","v":""},{"$f":"IF(OR($B$4=\"\",$B$5=\"\",$H$4=\"\",$H$6=\"\",$H$5=\"\",A451=\"\",F451=\"\",K451=\"\",O451=\"\",P451=\"\")=TRUE,\"\",IF(C451=\"OSW\",IF(K451>=2,1,0),IF(C451=\"OSR\",IF(AND(K451>=2,Q451>60)=TRUE,1,0),IF(C451=\"OSRH\",IF(AND(K451>=1,Q451>90)=TRUE,1,0),IF(C451=\"OHLC\",IF(AND(N451=\"Y\",Q451>60)=TRUE,1,0),IF(C451=\"DDC\",IF(AND(K451>=4,N451=\"Y\",Q451>120)=TRUE,1,0),0))))))","v":""}]
[null,null,"",null,null,null,null,null,null,null,null,null,null,null,null,0,0,0,0,"",0,0,0,0,0,{"$f":"IF($H$4=\"\",0,VLOOKUP($H$4,BuildingType_Lookup,3,FALSE))","v":0},{"$f":"IF($H$4=\"\",0,VLOOKUP($H$4,BuildingType_Lookup,2,FALSE))","v":0},{"$f":"IF(AND(OR(AN452=\"\",AN452=0)=TRUE,OR(AO452=\"\",AO452=0))=TRUE,0,IF(AO452=\"\",(IF(OR(C452=\"DDC\",C452=\"OHLC\")=TRUE,O452,P452)/1000)*Y452*Z452*(1+VLOOKUP($H$4,BuildingType_Lookup,4,FALSE)),IF(AO452=0,0,(IF(OR(C452=\"DDC\",C452=\"OHLC\")=TRUE,O452,Q452)/1000)*Y452*Z452*(1+VLOOKUP($H$4,BuildingType_Lookup,4,FALSE)))))","v":0},{"$f":"IF(AND(OR(AN452=\"\",AN452=0)=TRUE,OR(AO452=\"\",AO452=0))=TRUE,0,IF(AO452=\"\",(IF(OR(C452=\"DDC\",C452=\"OHLC\")=TRUE,O452,P452)/1000)*Y452*AA452*(1+VLOOKUP($H$4,BuildingType_Lookup,MATCH($H$5,HVAC,0)+4,FALSE)),IF(AO452=0,0,(IF(OR(C452=\"DDC\",C452=\"OHLC\")=TRUE,O452,Q452)/1000)*Y452*AA452*(1+VLOOKUP($H$4,BuildingType_Lookup,MATCH($H$5,HVAC,0)+4,FALSE)))))","v":0},0,0,0,0,0,0,{"$f":"W452/1000*Y452*AA452*IF(IFERROR(SEARCH(\"Gas\",$H$5),0)>0,VLOOKUP(\"Gas\",HVACg_Lookup,MATCH($H$6,BuildingSize,0)+1,FALSE),IF(IFERROR(SEARCH(\"Oil\",$H$5),0)>0,VLOOKUP(\"Oil\",HVACg_Lookup,MATCH($H$6,BuildingSize,0)+1,FALSE),IF(IFERROR(SEARCH(\"Propane\",$H$5),0)>0,VLOOKUP(\"Propane\",HVACg_Lookup,MATCH(Worksheet!$H$6,BuildingSize,0)+1,FALSE),0)))","v":0},{"$f":"X452/1000*Y452*AA452*IF(IFERROR(SEARCH(\"Gas\",$H$5),0)>0,VLOOKUP(\"Gas\",HVACg_Lookup,MATCH($H$6,BuildingSize,0)+1,FALSE),IF(IFERROR(SEARCH(\"Oil\",$H$5),0)>0,VLOOKUP(\"Oil\",HVACg_Lookup,MATCH($H$6,BuildingSize,0)+1,FALSE),IF(IFERROR(SEARCH(\"Propane\",$H$5),0)>0,VLOOKUP(\"Propane\",HVACg_Lookup,MATCH(Worksheet!$H$6,BuildingSize,0)+1,FALSE),0)))","v":0},0,0,{"$f":"IF(OR($B$4=\"\",$B$5=\"\",$H$4=\"\",$H$6=\"\",$H$5=\"\",A452=\"\",F452=\"\",J452=\"\",O452=\"\",P452=\"\")=TRUE,\"\",IF(C452=\"OSW\",IF(J452>=2,1,0),IF(C452=\"OSR\",IF(AND(J452>=2,P452>60)=TRUE,1,0),IF(C452=\"OSRH\",IF(AND(J452>=1,P452>90)=TRUE,1,0),IF(C452=\"OHLC\",IF(AND(N452=\"Y\",P452>60)=TRUE,1,0),IF(C452=\"DDC\",IF(AND(J452>=4,N452=\"Y\",P452>120)=TRUE,1,0),0))))))","v":""},{"$f":"IF(OR($B$4=\"\",$B$5=\"\",$H$4=\"\",$H$6=\"\",$H$5=\"\",A452=\"\",F452=\"\",K452=\"\",O452=\"\",P452=\"\")=TRUE,\"\",IF(C452=\"OSW\",IF(K452>=2,1,0),IF(C452=\"OSR\",IF(AND(K452>=2,Q452>60)=TRUE,1,0),IF(C452=\"OSRH\",IF(AND(K452>=1,Q452>90)=TRUE,1,0),IF(C452=\"OHLC\",IF(AND(N452=\"Y\",Q452>60)=TRUE,1,0),IF(C452=\"DDC\",IF(AND(K452>=4,N452=\"Y\",Q452>120)=TRUE,1,0),0))))))","v":""}]
[null,null,"",null,null,null,null,null,null,null,null,null,null,null,null,0,0,0,0,"",0,0,0,0,0,{"$f":"IF($H$4=\"\",0,VLOOKUP($H$4,BuildingType_Lookup,3,FALSE))","v":0},{"$f":"IF($H$4=\"\",0,VLOOKUP($H$4,BuildingType_Lookup,2,FALSE))","v":0},{"$f":"IF(AND(OR(AN453=\"\",AN453=0)=TRUE,OR(AO453=\"\",AO453=0))=TRUE,0,IF(AO453=\"\",(IF(OR(C453=\"DDC\",C453=\"OHLC\")=TRUE,O453,P453)/1000)*Y453*Z453*(1+VLOOKUP($H$4,BuildingType_Lookup,4,FALSE)),IF(AO453=0,0,(IF(OR(C453=\"DDC\",C453=\"OHLC\")=TRUE,O453,Q453)/1000)*Y453*Z453*(1+VLOOKUP($H$4,BuildingType_Lookup,4,FALSE)))))","v":0},{"$f":"IF(AND(OR(AN453=\"\",AN453=0)=TRUE,OR(AO453=\"\",AO453=0))=TRUE,0,IF(AO453=\"\",(IF(OR(C453=\"DDC\",C453=\"OHLC\")=TRUE,O453,P453)/1000)*Y453*AA453*(1+VLOOKUP($H$4,BuildingType_Lookup,MATCH($H$5,HVAC,0)+4,FALSE)),IF(AO453=0,0,(IF(OR(C453=\"DDC\",C453=\"OHLC\")=TRUE,O453,Q453)/1000)*Y453*AA453*(1+VLOOKUP($H$4,BuildingType_Lookup,MATCH($H$5,HVAC,0)+4,FALSE)))))","v":0},0,0,0,0,0,0,{"$f":"W453/1000*Y453*AA453*IF(IFERROR(SEARCH(\"Gas\",$H$5),0)>0,VLOOKUP(\"Gas\",HVACg_Lookup,MATCH($H$6,BuildingSize,0)+1,FALSE),IF(IFERROR(SEARCH(\"Oil\",$H$5),0)>0,VLOOKUP(\"Oil\",HVACg_Lookup,MATCH($H$6,BuildingSize,0)+1,FALSE),IF(IFERROR(SEARCH(\"Propane\",$H$5),0)>0,VLOOKUP(\"Propane\",HVACg_Lookup,MATCH(Worksheet!$H$6,BuildingSize,0)+1,FALSE),0)))","v":0},{"$f":"X453/1000*Y453*AA453*IF(IFERROR(SEARCH(\"Gas\",$H$5),0)>0,VLOOKUP(\"Gas\",HVACg_Lookup,MATCH($H$6,BuildingSize,0)+1,FALSE),IF(IFERROR(SEARCH(\"Oil\",$H$5),0)>0,VLOOKUP(\"Oil\",HVACg_Lookup,MATCH($H$6,BuildingSize,0)+1,FALSE),IF(IFERROR(SEARCH(\"Propane\",$H$5),0)>0,VLOOKUP(\"Propane\",HVACg_Lookup,MATCH(Worksheet!$H$6,BuildingSize,0)+1,FALSE),0)))","v":0},0,0,{"$f":"IF(OR($B$4=\"\",$B$5=\"\",$H$4=\"\",$H$6=\"\",$H$5=\"\",A453=\"\",F453=\"\",J453=\"\",O453=\"\",P453=\"\")=TRUE,\"\",IF(C453=\"OSW\",IF(J453>=2,1,0),IF(C453=\"OSR\",IF(AND(J453>=2,P453>60)=TRUE,1,0),IF(C453=\"OSRH\",IF(AND(J453>=1,P453>90)=TRUE,1,0),IF(C453=\"OHLC\",IF(AND(N453=\"Y\",P453>60)=TRUE,1,0),IF(C453=\"DDC\",IF(AND(J453>=4,N453=\"Y\",P453>120)=TRUE,1,0),0))))))","v":""},{"$f":"IF(OR($B$4=\"\",$B$5=\"\",$H$4=\"\",$H$6=\"\",$H$5=\"\",A453=\"\",F453=\"\",K453=\"\",O453=\"\",P453=\"\")=TRUE,\"\",IF(C453=\"OSW\",IF(K453>=2,1,0),IF(C453=\"OSR\",IF(AND(K453>=2,Q453>60)=TRUE,1,0),IF(C453=\"OSRH\",IF(AND(K453>=1,Q453>90)=TRUE,1,0),IF(C453=\"OHLC\",IF(AND(N453=\"Y\",Q453>60)=TRUE,1,0),IF(C453=\"DDC\",IF(AND(K453>=4,N453=\"Y\",Q453>120)=TRUE,1,0),0))))))","v":""}]
[null,null,"",null,null,null,null,null,null,null,null,null,null,null,null,0,0,0,0,"",0,0,0,0,0,{"$f":"IF($H$4=\"\",0,VLOOKUP($H$4,BuildingType_Lookup,3,FALSE))","v":0},{"$f":"IF($H$4=\"\",0,VLOOKUP($H$4,BuildingType_Lookup,2,FALSE))","v":0},{"$f":"IF(AND(OR(AN454=\"\",AN454=0)=TRUE,OR(AO454=\"\",AO454=0))=TRUE,0,IF(AO454=\"\",(IF(OR(C454=\"DDC\",C454=\"OHLC\")=TRUE,O454,P454)/1000)*Y454*Z454*(1+VLOOKUP($H$4,BuildingType_Lookup,4,FALSE)),IF(AO454=0,0,(IF(OR(C454=\"DDC\",C454=\"OHLC\")=TRUE,O454,Q454)/1000)*Y454*Z454*(1+VLOOKUP($H$4,BuildingType_Lookup,4,FALSE)))))","v":0},{"$f":"IF(AND(OR(AN454=\"\",AN454=0)=TRUE,OR(AO454=\"\",AO454=0))=TRUE,0,IF(AO454=\"\",(IF(OR(C454=\"DDC\",C454=\"OHLC\")=TRUE,O454,P454)/1000)*Y454*AA454*(1+VLOOKUP($H$4,BuildingType_Lookup,MATCH($H$5,HVAC,0)+4,FALSE)),IF(AO454=0,0,(IF(OR(C454=\"DDC\",C454=\"OHLC\")=TRUE,O454,Q454)/1000)*Y454*AA454*(1+VLOOKUP($H$4,BuildingType_Lookup,MATCH($H$5,HVAC,0)+4,FALSE)))))","v":0},0,0,0,0,0,0,{"$f":"W454/1000*Y454*AA454*IF(IFERROR(SEARCH(\"Gas\",$H$5),0)>0,VLOOKUP(\"Gas\",HVACg_Lookup,MATCH($H$6,BuildingSize,0)+1,FALSE),IF(IFERROR(SEARCH(\"Oil\",$H$5),0)>0,VLOOKUP(\"Oil\",HVACg_Lookup,MATCH($H$6,BuildingSize,0)+1,FALSE),IF(IFERROR(SEARCH(\"Propane\",$H$5),0)>0,VLOOKUP(\"Propane\",HVACg_Lookup,MATCH(Worksheet!$H$6,BuildingSize,0)+1,FALSE),0)))","v":0},{"$f":"X454/1000*Y454*AA454*IF(IFERROR(SEARCH(\"Gas\",$H$5),0)>0,VLOOKUP(\"Gas\",HVACg_Lookup,MATCH($H$6,BuildingSize,0)+1,FALSE),IF(IFERROR(SEARCH(\"Oil\",$H$5),0)>0,VLOOKUP(\"Oil\",HVACg_Lookup,MATCH($H$6,BuildingSize,0)+1,FALSE),IF(IFERROR(SEARCH(\"Propane\",$H$5),0)>0,VLOOKUP(\"Propane\",HVACg_Lookup,MATCH(Worksheet!$H$6,BuildingSize,0)+1,FALSE),0)))","v":0},0,0,{"$f":"IF(OR($B$4=\"\",$B$5=\"\",$H$4=\"\",$H$6=\"\",$H$5=\"\",A454=\"\",F454=\"\",J454=\"\",O454=\"\",P454=\"\")=TRUE,\"\",IF(C454=\"OSW\",IF(J454>=2,1,0),IF(C454=\"OSR\",IF(AND(J454>=2,P454>60)=TRUE,1,0),IF(C454=\"OSRH\",IF(AND(J454>=1,P454>90)=TRUE,1,0),IF(C454=\"OHLC\",IF(AND(N454=\"Y\",P454>60)=TRUE,1,0),IF(C454=\"DDC\",IF(AND(J454>=4,N454=\"Y\",P454>120)=TRUE,1,0),0))))))","v":""},{"$f":"IF(OR($B$4=\"\",$B$5=\"\",$H$4=\"\",$H$6=\"\",$H$5=\"\",A454=\"\",F454=\"\",K454=\"\",O454=\"\",P454=\"\")=TRUE,\"\",IF(C454=\"OSW\",IF(K454>=2,1,0),IF(C454=\"OSR\",IF(AND(K454>=2,Q454>60)=TRUE,1,0),IF(C454=\"OSRH\",IF(AND(K454>=1,Q454>90)=TRUE,1,0),IF(C454=\"OHLC\",IF(AND(N454=\"Y\",Q454>60)=TRUE,1,0),IF(C454=\"DDC\",IF(AND(K454>=4,N454=\"Y\",Q454>120)=TRUE,1,0),0))))))","v":""}]
[null,null,"",null,null,null,null,null,null,null,null,null,null,null,null,0,0,0,0,"",0,0,0,0,0,{"$f":"IF($H$4=\"\",0,VLOOKUP($H$4,BuildingType_Lookup,3,FALSE))","v":0},{"$f":"IF($H$4=\"\",0,VLOOKUP($H$4,BuildingType_Lookup,2,FALSE))","v":0},{"$f":"IF(AND(OR(AN455=\"\",AN455=0)=TRUE,OR(AO455=\"\",AO455=0))=TRUE,0,IF(AO455=\"\",(IF(OR(C455=\"DDC\",C455=\"OHLC\")=TRUE,O455,P455)/1000)*Y455*Z455*(1+VLOOKUP($H$4,BuildingType_Lookup,4,FALSE)),IF(AO455=0,0,(IF(OR(C455=\"DDC\",C455=\"OHLC\")=TRUE,O455,Q455)/1000)*Y455*Z455*(1+VLOOKUP($H$4,BuildingType_Lookup,4,FALSE)))))","v":0},{"$f":"IF(AND(OR(AN455=\"\",AN455=0)=TRUE,OR(AO455=\"\",AO455=0))=TRUE,0,IF(AO455=\"\",(IF(OR(C455=\"DDC\",C455=\"OHLC\")=TRUE,O455,P455)/1000)*Y455*AA455*(1+VLOOKUP($H$4,BuildingType_Lookup,MATCH($H$5,HVAC,0)+4,FALSE)),IF(AO455=0,0,(IF(OR(C455=\"DDC\",C455=\"OHLC\")=TRUE,O455,Q455)/1000)*Y455*AA455*(1+VLOOKUP($H$4,BuildingType_Lookup,MATCH($H$5,HVAC,0)+4,FALSE)))))","v":0},0,0,0,0,0,0,{"$f":"W455/1000*Y455*AA455*IF(IFERROR(SEARCH(\"Gas\",$H$5),0)>0,VLOOKUP(\"Gas\",HVACg_Lookup,MATCH($H$6,BuildingSize,0)+1,FALSE),IF(IFERROR(SEARCH(\"Oil\",$H$5),0)>0,VLOOKUP(\"Oil\",HVACg_Lookup,MATCH($H$6,BuildingSize,0)+1,FALSE),IF(IFERROR(SEARCH(\"Propane\",$H$5),0)>0,VLOOKUP(\"Propane\",HVACg_Lookup,MATCH(Worksheet!$H$6,BuildingSize,0)+1,FALSE),0)))","v":0},{"$f":"X455/1000*Y455*AA455*IF(IFERROR(SEARCH(\"Gas\",$H$5),0)>0,VLOOKUP(\"Gas\",HVACg_Lookup,MATCH($H$6,BuildingSize,0)+1,FALSE),IF(IFERROR(SEARCH(\"Oil\",$H$5),0)>0,VLOOKUP(\"Oil\",HVACg_Lookup,MATCH($H$6,BuildingSize,0)+1,FALSE),IF(IFERROR(SEARCH(\"Propane\",$H$5),0)>0,VLOOKUP(\"Propane\",HVACg_Lookup,MATCH(Worksheet!$H$6,BuildingSize,0)+1,FALSE),0)))","v":0},0,0,{"$f":"IF(OR($B$4=\"\",$B$5=\"\",$H$4=\"\",$H$6=\"\",$H$5=\"\",A455=\"\",F455=\"\",J455=\"\",O455=\"\",P455=\"\")=TRUE,\"\",IF(C455=\"OSW\",IF(J455>=2,1,0),IF(C455=\"OSR\",IF(AND(J455>=2,P455>60)=TRUE,1,0),IF(C455=\"OSRH\",IF(AND(J455>=1,P455>90)=TRUE,1,0),IF(C455=\"OHLC\",IF(AND(N455=\"Y\",P455>60)=TRUE,1,0),IF(C455=\"DDC\",IF(AND(J455>=4,N455=\"Y\",P455>120)=TRUE,1,0),0))))))","v":""},{"$f":"IF(OR($B$4=\"\",$B$5=\"\",$H$4=\"\",$H$6=\"\",$H$5=\"\",A455=\"\",F455=\"\",K455=\"\",O455=\"\",P455=\"\")=TRUE,\"\",IF(C455=\"OSW\",IF(K455>=2,1,0),IF(C455=\"OSR\",IF(AND(K455>=2,Q455>60)=TRUE,1,0),IF(C455=\"OSRH\",IF(AND(K455>=1,Q455>90)=TRUE,1,0),IF(C455=\"OHLC\",IF(AND(N455=\"Y\",Q455>60)=TRUE,1,0),IF(C455=\"DDC\",IF(AND(K455>=4,N455=\"Y\",Q455>120)=TRUE,1,0),0))))))","v":""}]
[null,null,"",null,null,null,null,null,null,null,null,null,null,null,null,0,0,0,0,"",0,0,0,0,0,{"$f":"IF($H$4=\"\",0,VLOOKUP($H$4,BuildingType_Lookup,3,FALSE))","v":0},{"$f":"IF($H$4=\"\",0,VLOOKUP($H$4,BuildingType_Lookup,2,FALSE))","v":0},{"$f":"IF(AND(OR(AN456=\"\",AN456=0)=TRUE,OR(AO456=\"\",AO456=0))=TRUE,0,IF(AO456=\"\",(IF(OR(C456=\"DDC\",C456=\"OHLC\")=TRUE,O456,P456)/1000)*Y456*Z456*(1+VLOOKUP($H$4,BuildingType_Lookup,4,FALSE)),IF(AO456=0,0,(IF(OR(C456=\"DDC\",C456=\"OHLC\")=TRUE,O456,Q456)/1000)*Y456*Z456*(1+VLOOKUP($H$4,BuildingType_Lookup,4,FALSE)))))","v":0},{"$f":"IF(AND(OR(AN456=\"\",AN456=0)=TRUE,OR(AO456=\"\",AO456=0))=TRUE,0,IF(AO456=\"\",(IF(OR(C456=\"DDC\",C456=\"OHLC\")=TRUE,O456,P456)/1000)*Y456*AA456*(1+VLOOKUP($H$4,BuildingType_Lookup,MATCH($H$5,HVAC,0)+4,FALSE)),IF(AO456=0,0,(IF(OR(C456=\"DDC\",C456=\"OHLC\")=TRUE,O456,Q456)/1000)*Y456*AA456*(1+VLOOKUP($H$4,BuildingType_Lookup,MATCH($H$5,HVAC,0)+4,FALSE)))))","v":0},0,0,0,0,0,0,{"$f":"W456/1000*Y456*AA456*IF(IFERROR(SEARCH(\"Gas\",$H$5),0)>0,VLOOKUP(\"Gas\",HVACg_Lookup,MATCH($H$6,BuildingSize,0)+1,FALSE),IF(IFERROR(SEARCH(\"Oil\",$H$5),0)>0,VLOOKUP(\"Oil\",HVACg_Lookup,MATCH($H$6,BuildingSize,0)+1,FALSE),IF(IFERROR(SEARCH(\"Propane\",$H$5),0)>0,VLOOKUP(\"Propane\",HVACg_Lookup,MATCH(Worksheet!$H$6,BuildingSize,0)+1,FALSE),0)))","v":0},{"$f":"X456/1000*Y456*AA456*IF(IFERROR(SEARCH(\"Gas\",$H$5),0)>0,VLOOKUP(\"Gas\",HVACg_Lookup,MATCH($H$6,BuildingSize,0)+1,FALSE),IF(IFERROR(SEARCH(\"Oil\",$H$5),0)>0,VLOOKUP(\"Oil\",HVACg_Lookup,MATCH($H$6,BuildingSize,0)+1,FALSE),IF(IFERROR(SEARCH(\"Propane\",$H$5),0)>0,VLOOKUP(\"Propane\",HVACg_Lookup,MATCH(Worksheet!$H$6,BuildingSize,0)+1,FALSE),0)))","v":0},0,0,{"$f":"IF(OR($B$4=\"\",$B$5=\"\",$H$4=\"\",$H$6=\"\",$H$5=\"\",A456=\"\",F456=\"\",J456=\"\",O456=\"\",P456=\"\")=TRUE,\"\",IF(C456=\"OSW\",IF(J456>=2,1,0),IF(C456=\"OSR\",IF(AND(J456>=2,P456>60)=TRUE,1,0),IF(C456=\"OSRH\",IF(AND(J456>=1,P456>90)=TRUE,1,0),IF(C456=\"OHLC\",IF(AND(N456=\"Y\",P456>60)=TRUE,1,0),IF(C456=\"DDC\",IF(AND(J456>=4,N456=\"Y\",P456>120)=TRUE,1,0),0))))))","v":""},{"$f":"IF(OR($B$4=\"\",$B$5=\"\",$H$4=\"\",$H$6=\"\",$H$5=\"\",A456=\"\",F456=\"\",K456=\"\",O456=\"\",P456=\"\")=TRUE,\"\",IF(C456=\"OSW\",IF(K456>=2,1,0),IF(C456=\"OSR\",IF(AND(K456>=2,Q456>60)=TRUE,1,0),IF(C456=\"OSRH\",IF(AND(K456>=1,Q456>90)=TRUE,1,0),IF(C456=\"OHLC\",IF(AND(N456=\"Y\",Q456>60)=TRUE,1,0),IF(C456=\"DDC\",IF(AND(K456>=4,N456=\"Y\",Q456>120)=TRUE,1,0),0))))))","v":""}]
[null,null,"",null,null,null,null,null,null,null,null,null,null,null,null,0,0,0,0,"",0,0,0,0,0,{"$f":"IF($H$4=\"\",0,VLOOKUP($H$4,BuildingType_Lookup,3,FALSE))","v":0},{"$f":"IF($H$4=\"\",0,VLOOKUP($H$4,BuildingType_Lookup,2,FALSE))","v":0},{"$f":"IF(AND(OR(AN457=\"\",AN457=0)=TRUE,OR(AO457=\"\",AO457=0))=TRUE,0,IF(AO457=\"\",(IF(OR(C457=\"DDC\",C457=\"OHLC\")=TRUE,O457,P457)/1000)*Y457*Z457*(1+VLOOKUP($H$4,BuildingType_Lookup,4,FALSE)),IF(AO457=0,0,(IF(OR(C457=\"DDC\",C457=\"OHLC\")=TRUE,O457,Q457)/1000)*Y457*Z457*(1+VLOOKUP($H$4,BuildingType_Lookup,4,FALSE)))))","v":0},{"$f":"IF(AND(OR(AN457=\"\",AN457=0)=TRUE,OR(AO457=\"\",AO457=0))=TRUE,0,IF(AO457=\"\",(IF(OR(C457=\"DDC\",C457=\"OHLC\")=TRUE,O457,P457)/1000)*Y457*AA457*(1+VLOOKUP($H$4,BuildingType_Lookup,MATCH($H$5,HVAC,0)+4,FALSE)),IF(AO457=0,0,(IF(OR(C457=\"DDC\",C457=\"OHLC\")=TRUE,O457,Q457)/1000)*Y457*AA457*(1+VLOOKUP($H$4,BuildingType_Lookup,MATCH($H$5,HVAC,0)+4,FALSE)))))","v":0},0,0,0,0,0,0,{"$f":"W457/1000*Y457*AA457*IF(IFERROR(SEARCH(\"Gas\",$H$5),0)>0,VLOOKUP(\"Gas\",HVACg_Lookup,MATCH($H$6,BuildingSize,0)+1,FALSE),IF(IFERROR(SEARCH(\"Oil\",$H$5),0)>0,VLOOKUP(\"Oil\",HVACg_Lookup,MATCH($H$6,BuildingSize,0)+1,FALSE),IF(IFERROR(SEARCH(\"Propane\",$H$5),0)>0,VLOOKUP(\"Propane\",HVACg_Lookup,MATCH(Worksheet!$H$6,BuildingSize,0)+1,FALSE),0)))","v":0},{"$f":"X457/1000*Y457*AA457*IF(IFERROR(SEARCH(\"Gas\",$H$5),0)>0,VLOOKUP(\"Gas\",HVACg_Lookup,MATCH($H$6,BuildingSize,0)+1,FALSE),IF(IFERROR(SEARCH(\"Oil\",$H$5),0)>0,VLOOKUP(\"Oil\",HVACg_Lookup,MATCH($H$6,BuildingSize,0)+1,FALSE),IF(IFERROR(SEARCH(\"Propane\",$H$5),0)>0,VLOOKUP(\"Propane\",HVACg_Lookup,MATCH(Worksheet!$H$6,BuildingSize,0)+1,FALSE),0)))","v":0},0,0,{"$f":"IF(OR($B$4=\"\",$B$5=\"\",$H$4=\"\",$H$6=\"\",$H$5=\"\",A457=\"\",F457=\"\",J457=\"\",O457=\"\",P457=\"\")=TRUE,\"\",IF(C457=\"OSW\",IF(J457>=2,1,0),IF(C457=\"OSR\",IF(AND(J457>=2,P457>60)=TRUE,1,0),IF(C457=\"OSRH\",IF(AND(J457>=1,P457>90)=TRUE,1,0),IF(C457=\"OHLC\",IF(AND(N457=\"Y\",P457>60)=TRUE,1,0),IF(C457=\"DDC\",IF(AND(J457>=4,N457=\"Y\",P457>120)=TRUE,1,0),0))))))","v":""},{"$f":"IF(OR($B$4=\"\",$B$5=\"\",$H$4=\"\",$H$6=\"\",$H$5=\"\",A457=\"\",F457=\"\",K457=\"\",O457=\"\",P457=\"\")=TRUE,\"\",IF(C457=\"OSW\",IF(K457>=2,1,0),IF(C457=\"OSR\",IF(AND(K457>=2,Q457>60)=TRUE,1,0),IF(C457=\"OSRH\",IF(AND(K457>=1,Q457>90)=TRUE,1,0),IF(C457=\"OHLC\",IF(AND(N457=\"Y\",Q457>60)=TRUE,1,0),IF(C457=\"DDC\",IF(AND(K457>=4,N457=\"Y\",Q457>120)=TRUE,1,0),0))))))","v":""}]
[null,null,"",null,null,null,null,null,null,null,null,null,null,null,null,0,0,0,0,"",0,0,0,0,0,{"$f":"IF($H$4=\"\",0,VLOOKUP($H$4,BuildingType_Lookup,3,FALSE))","v":0},{"$f":"IF($H$4=\"\",0,VLOOKUP($H$4,BuildingType_Lookup,2,FALSE))","v":0},{"$f":"IF(AND(OR(AN458=\"\",AN458=0)=TRUE,OR(AO458=\"\",AO458=0))=TRUE,0,IF(AO458=\"\",(IF(OR(C458=\"DDC\",C458=\"OHLC\")=TRUE,O458,P458)/1000)*Y458*Z458*(1+VLOOKUP($H$4,BuildingType_Lookup,4,FALSE)),IF(AO458=0,0,(IF(OR(C458=\"DDC\",C458=\"OHLC\")=TRUE,O458,Q458)/1000)*Y458*Z458*(1+VLOOKUP($H$4,BuildingType_Lookup,4,FALSE)))))","v":0},{"$f":"IF(AND(OR(AN458=\"\",AN458=0)=TRUE,OR(AO458=\"\",AO458=0))=TRUE,0,IF(AO458=\"\",(IF(OR(C458=\"DDC\",C458=\"OHLC\")=TRUE,O458,P458)/1000)*Y458*AA458*(1+VLOOKUP($H$4,BuildingType_Lookup,MATCH($H$5,HVAC,0)+4,FALSE)),IF(AO458=0,0,(IF(OR(C458=\"DDC\",C458=\"OHLC\")=TRUE,O458,Q458)/1000)*Y458*AA458*(1+VLOOKUP($H$4,BuildingType_Lookup,MATCH($H$5,HVAC,0)+4,FALSE)))))","v":0},0,0,0,0,0,0,{"$f":"W458/1000*Y458*AA458*IF(IFERROR(SEARCH(\"Gas\",$H$5),0)>0,VLOOKUP(\"Gas\",HVACg_Lookup,MATCH($H$6,BuildingSize,0)+1,FALSE),IF(IFERROR(SEARCH(\"Oil\",$H$5),0)>0,VLOOKUP(\"Oil\",HVACg_Lookup,MATCH($H$6,BuildingSize,0)+1,FALSE),IF(IFERROR(SEARCH(\"Propane\",$H$5),0)>0,VLOOKUP(\"Propane\",HVACg_Lookup,MATCH(Worksheet!$H$6,BuildingSize,0)+1,FALSE),0)))","v":0},{"$f":"X458/1000*Y458*AA458*IF(IFERROR(SEARCH(\"Gas\",$H$5),0)>0,VLOOKUP(\"Gas\",HVACg_Lookup,MATCH($H$6,BuildingSize,0)+1,FALSE),IF(IFERROR(SEARCH(\"Oil\",$H$5),0)>0,VLOOKUP(\"Oil\",HVACg_Lookup,MATCH($H$6,BuildingSize,0)+1,FALSE),IF(IFERROR(SEARCH(\"Propane\",$H$5),0)>0,VLOOKUP(\"Propane\",HVACg_Lookup,MATCH(Worksheet!$H$6,BuildingSize,0)+1,FALSE),0)))","v":0},0,0,{"$f":"IF(OR($B$4=\"\",$B$5=\"\",$H$4=\"\",$H$6=\"\",$H$5=\"\",A458=\"\",F458=\"\",J458=\"\",O458=\"\",P458=\"\")=TRUE,\"\",IF(C458=\"OSW\",IF(J458>=2,1,0),IF(C458=\"OSR\",IF(AND(J458>=2,P458>60)=TRUE,1,0),IF(C458=\"OSRH\",IF(AND(J458>=1,P458>90)=TRUE,1,0),IF(C458=\"OHLC\",IF(AND(N458=\"Y\",P458>60)=TRUE,1,0),IF(C458=\"DDC\",IF(AND(J458>=4,N458=\"Y\",P458>120)=TRUE,1,0),0))))))","v":""},{"$f":"IF(OR($B$4=\"\",$B$5=\"\",$H$4=\"\",$H$6=\"\",$H$5=\"\",A458=\"\",F458=\"\",K458=\"\",O458=\"\",P458=\"\")=TRUE,\"\",IF(C458=\"OSW\",IF(K458>=2,1,0),IF(C458=\"OSR\",IF(AND(K458>=2,Q458>60)=TRUE,1,0),IF(C458=\"OSRH\",IF(AND(K458>=1,Q458>90)=TRUE,1,0),IF(C458=\"OHLC\",IF(AND(N458=\"Y\",Q458>60)=TRUE,1,0),IF(C458=\"DDC\",IF(AND(K458>=4,N458=\"Y\",Q458>120)=TRUE,1,0),0))))))","v":""}]
[null,null,"",null,null,null,null,null,null,null,null,null,null,null,null,0,0,0,0,"",0,0,0,0,0,{"$f":"IF($H$4=\"\",0,VLOOKUP($H$4,BuildingType_Lookup,3,FALSE))","v":0},{"$f":"IF($H$4=\"\",0,VLOOKUP($H$4,BuildingType_Lookup,2,FALSE))","v":0},{"$f":"IF(AND(OR(AN459=\"\",AN459=0)=TRUE,OR(AO459=\"\",AO459=0))=TRUE,0,IF(AO459=\"\",(IF(OR(C459=\"DDC\",C459=\"OHLC\")=TRUE,O459,P459)/1000)*Y459*Z459*(1+VLOOKUP($H$4,BuildingType_Lookup,4,FALSE)),IF(AO459=0,0,(IF(OR(C459=\"DDC\",C459=\"OHLC\")=TRUE,O459,Q459)/1000)*Y459*Z459*(1+VLOOKUP($H$4,BuildingType_Lookup,4,FALSE)))))","v":0},{"$f":"IF(AND(OR(AN459=\"\",AN459=0)=TRUE,OR(AO459=\"\",AO459=0))=TRUE,0,IF(AO459=\"\",(IF(OR(C459=\"DDC\",C459=\"OHLC\")=TRUE,O459,P459)/1000)*Y459*AA459*(1+VLOOKUP($H$4,BuildingType_Lookup,MATCH($H$5,HVAC,0)+4,FALSE)),IF(AO459=0,0,(IF(OR(C459=\"DDC\",C459=\"OHLC\")=TRUE,O459,Q459)/1000)*Y459*AA459*(1+VLOOKUP($H$4,BuildingType_Lookup,MATCH($H$5,HVAC,0)+4,FALSE)))))","v":0},0,0,0,0,0,0,{"$f":"W459/1000*Y459*AA459*IF(IFERROR(SEARCH(\"Gas\",$H$5),0)>0,VLOOKUP(\"Gas\",HVACg_Lookup,MATCH($H$6,BuildingSize,0)+1,FALSE),IF(IFERROR(SEARCH(\"Oil\",$H$5),0)>0,VLOOKUP(\"Oil\",HVACg_Lookup,MATCH($H$6,BuildingSize,0)+1,FALSE),IF(IFERROR(SEARCH(\"Propane\",$H$5),0)>0,VLOOKUP(\"Propane\",HVACg_Lookup,MATCH(Worksheet!$H$6,BuildingSize,0)+1,FALSE),0)))","v":0},{"$f":"X459/1000*Y459*AA459*IF(IFERROR(SEARCH(\"Gas\",$H$5),0)>0,VLOOKUP(\"Gas\",HVACg_Lookup,MATCH($H$6,BuildingSize,0)+1,FALSE),IF(IFERROR(SEARCH(\"Oil\",$H$5),0)>0,VLOOKUP(\"Oil\",HVACg_Lookup,MATCH($H$6,BuildingSize,0)+1,FALSE),IF(IFERROR(SEARCH(\"Propane\",$H$5),0)>0,VLOOKUP(\"Propane\",HVACg_Lookup,MATCH(Worksheet!$H$6,BuildingSize,0)+1,FALSE),0)))","v":0},0,0,{"$f":"IF(OR($B$4=\"\",$B$5=\"\",$H$4=\"\",$H$6=\"\",$H$5=\"\",A459=\"\",F459=\"\",J459=\"\",O459=\"\",P459=\"\")=TRUE,\"\",IF(C459=\"OSW\",IF(J459>=2,1,0),IF(C459=\"OSR\",IF(AND(J459>=2,P459>60)=TRUE,1,0),IF(C459=\"OSRH\",IF(AND(J459>=1,P459>90)=TRUE,1,0),IF(C459=\"OHLC\",IF(AND(N459=\"Y\",P459>60)=TRUE,1,0),IF(C459=\"DDC\",IF(AND(J459>=4,N459=\"Y\",P459>120)=TRUE,1,0),0))))))","v":""},{"$f":"IF(OR($B$4=\"\",$B$5=\"\",$H$4=\"\",$H$6=\"\",$H$5=\"\",A459=\"\",F459=\"\",K459=\"\",O459=\"\",P459=\"\")=TRUE,\"\",IF(C459=\"OSW\",IF(K459>=2,1,0),IF(C459=\"OSR\",IF(AND(K459>=2,Q459>60)=TRUE,1,0),IF(C459=\"OSRH\",IF(AND(K459>=1,Q459>90)=TRUE,1,0),IF(C459=\"OHLC\",IF(AND(N459=\"Y\",Q459>60)=TRUE,1,0),IF(C459=\"DDC\",IF(AND(K459>=4,N459=\"Y\",Q459>120)=TRUE,1,0),0))))))","v":""}]
[null,null,"",null,null,null,null,null,null,null,null,null,null,null,null,0,0,0,0,"",0,0,0,0,0,{"$f":"IF($H$4=\"\",0,VLOOKUP($H$4,BuildingType_Lookup,3,FALSE))","v":0},{"$f":"IF($H$4=\"\",0,VLOOKUP($H$4,BuildingType_Lookup,2,FALSE))","v":0},{"$f":"IF(AND(OR(AN460=\"\",AN460=0)=TRUE,OR(AO460=\"\",AO460=0))=TRUE,0,IF(AO460=\"\",(IF(OR(C460=\"DDC\",C460=\"OHLC\")=TRUE,O460,P460)/1000)*Y460*Z460*(1+VLOOKUP($H$4,BuildingType_Lookup,4,FALSE)),IF(AO460=0,0,(IF(OR(C460=\"DDC\",C460=\"OHLC\")=TRUE,O460,Q460)/1000)*Y460*Z460*(1+VLOOKUP($H$4,BuildingType_Lookup,4,FALSE)))))","v":0},{"$f":"IF(AND(OR(AN460=\"\",AN460=0)=TRUE,OR(AO460=\"\",AO460=0))=TRUE,0,IF(AO460=\"\",(IF(OR(C460=\"DDC\",C460=\"OHLC\")=TRUE,O460,P460)/1000)*Y460*AA460*(1+VLOOKUP($H$4,BuildingType_Lookup,MATCH($H$5,HVAC,0)+4,FALSE)),IF(AO460=0,0,(IF(OR(C460=\"DDC\",C460=\"OHLC\")=TRUE,O460,Q460)/1000)*Y460*AA460*(1+VLOOKUP($H$4,BuildingType_Lookup,MATCH($H$5,HVAC,0)+4,FALSE)))))","v":0},0,0,0,0,0,0,{"$f":"W460/1000*Y460*AA460*IF(IFERROR(SEARCH(\"Gas\",$H$5),0)>0,VLOOKUP(\"Gas\",HVACg_Lookup,MATCH($H$6,BuildingSize,0)+1,FALSE),IF(IFERROR(SEARCH(\"Oil\",$H$5),0)>0,VLOOKUP(\"Oil\",HVACg_Lookup,MATCH($H$6,BuildingSize,0)+1,FALSE),IF(IFERROR(SEARCH(\"Propane\",$H$5),0)>0,VLOOKUP(\"Propane\",HVACg_Lookup,MATCH(Worksheet!$H$6,BuildingSize,0)+1,FALSE),0)))","v":0},{"$f":"X460/1000*Y460*AA460*IF(IFERROR(SEARCH(\"Gas\",$H$5),0)>0,VLOOKUP(\"Gas\",HVACg_Lookup,MATCH($H$6,BuildingSize,0)+1,FALSE),IF(IFERROR(SEARCH(\"Oil\",$H$5),0)>0,VLOOKUP(\"Oil\",HVACg_Lookup,MATCH($H$6,BuildingSize,0)+1,FALSE),IF(IFERROR(SEARCH(\"Propane\",$H$5),0)>0,VLOOKUP(\"Propane\",HVACg_Lookup,MATCH(Worksheet!$H$6,BuildingSize,0)+1,FALSE),0)))","v":0},0,0,{"$f":"IF(OR($B$4=\"\",$B$5=\"\",$H$4=\"\",$H$6=\"\",$H$5=\"\",A460=\"\",F460=\"\",J460=\"\",O460=\"\",P460=\"\")=TRUE,\"\",IF(C460=\"OSW\",IF(J460>=2,1,0),IF(C460=\"OSR\",IF(AND(J460>=2,P460>60)=TRUE,1,0),IF(C460=\"OSRH\",IF(AND(J460>=1,P460>90)=TRUE,1,0),IF(C460=\"OHLC\",IF(AND(N460=\"Y\",P460>60)=TRUE,1,0),IF(C460=\"DDC\",IF(AND(J460>=4,N460=\"Y\",P460>120)=TRUE,1,0),0))))))","v":""},{"$f":"IF(OR($B$4=\"\",$B$5=\"\",$H$4=\"\",$H$6=\"\",$H$5=\"\",A460=\"\",F460=\"\",K460=\"\",O460=\"\",P460=\"\")=TRUE,\"\",IF(C460=\"OSW\",IF(K460>=2,1,0),IF(C460=\"OSR\",IF(AND(K460>=2,Q460>60)=TRUE,1,0),IF(C460=\"OSRH\",IF(AND(K460>=1,Q460>90)=TRUE,1,0),IF(C460=\"OHLC\",IF(AND(N460=\"Y\",Q460>60)=TRUE,1,0),IF(C460=\"DDC\",IF(AND(K460>=4,N460=\"Y\",Q460>120)=TRUE,1,0),0))))))","v":""}]
[null,null,"",null,null,null,null,null,null,null,null,null,null,null,null,0,0,0,0,"",0,0,0,0,0,{"$f":"IF($H$4=\"\",0,VLOOKUP($H$4,BuildingType_Lookup,3,FALSE))","v":0},{"$f":"IF($H$4=\"\",0,VLOOKUP($H$4,BuildingType_Lookup,2,FALSE))","v":0},{"$f":"IF(AND(OR(AN461=\"\",AN461=0)=TRUE,OR(AO461=\"\",AO461=0))=TRUE,0,IF(AO461=\"\",(IF(OR(C461=\"DDC\",C461=\"OHLC\")=TRUE,O461,P461)/1000)*Y461*Z461*(1+VLOOKUP($H$4,BuildingType_Lookup,4,FALSE)),IF(AO461=0,0,(IF(OR(C461=\"DDC\",C461=\"OHLC\")=TRUE,O461,Q461)/1000)*Y461*Z461*(1+VLOOKUP($H$4,BuildingType_Lookup,4,FALSE)))))","v":0},{"$f":"IF(AND(OR(AN461=\"\",AN461=0)=TRUE,OR(AO461=\"\",AO461=0))=TRUE,0,IF(AO461=\"\",(IF(OR(C461=\"DDC\",C461=\"OHLC\")=TRUE,O461,P461)/1000)*Y461*AA461*(1+VLOOKUP($H$4,BuildingType_Lookup,MATCH($H$5,HVAC,0)+4,FALSE)),IF(AO461=0,0,(IF(OR(C461=\"DDC\",C461=\"OHLC\")=TRUE,O461,Q461)/1000)*Y461*AA461*(1+VLOOKUP($H$4,BuildingType_Lookup,MATCH($H$5,HVAC,0)+4,FALSE)))))","v":0},0,0,0,0,0,0,{"$f":"W461/1000*Y461*AA461*IF(IFERROR(SEARCH(\"Gas\",$H$5),0)>0,VLOOKUP(\"Gas\",HVACg_Lookup,MATCH($H$6,BuildingSize,0)+1,FALSE),IF(IFERROR(SEARCH(\"Oil\",$H$5),0)>0,VLOOKUP(\"Oil\",HVACg_Lookup,MATCH($H$6,BuildingSize,0)+1,FALSE),IF(IFERROR(SEARCH(\"Propane\",$H$5),0)>0,VLOOKUP(\"Propane\",HVACg_Lookup,MATCH(Worksheet!$H$6,BuildingSize,0)+1,FALSE),0)))","v":0},{"$f":"X461/1000*Y461*AA461*IF(IFERROR(SEARCH(\"Gas\",$H$5),0)>0,VLOOKUP(\"Gas\",HVACg_Lookup,MATCH($H$6,BuildingSize,0)+1,FALSE),IF(IFERROR(SEARCH(\"Oil\",$H$5),0)>0,VLOOKUP(\"Oil\",HVACg_Lookup,MATCH($H$6,BuildingSize,0)+1,FALSE),IF(IFERROR(SEARCH(\"Propane\",$H$5),0)>0,VLOOKUP(\"Propane\",HVACg_Lookup,MATCH(Worksheet!$H$6,BuildingSize,0)+1,FALSE),0)))","v":0},0,0,{"$f":"IF(OR($B$4=\"\",$B$5=\"\",$H$4=\"\",$H$6=\"\",$H$5=\"\",A461=\"\",F461=\"\",J461=\"\",O461=\"\",P461=\"\")=TRUE,\"\",IF(C461=\"OSW\",IF(J461>=2,1,0),IF(C461=\"OSR\",IF(AND(J461>=2,P461>60)=TRUE,1,0),IF(C461=\"OSRH\",IF(AND(J461>=1,P461>90)=TRUE,1,0),IF(C461=\"OHLC\",IF(AND(N461=\"Y\",P461>60)=TRUE,1,0),IF(C461=\"DDC\",IF(AND(J461>=4,N461=\"Y\",P461>120)=TRUE,1,0),0))))))","v":""},{"$f":"IF(OR($B$4=\"\",$B$5=\"\",$H$4=\"\",$H$6=\"\",$H$5=\"\",A461=\"\",F461=\"\",K461=\"\",O461=\"\",P461=\"\")=TRUE,\"\",IF(C461=\"OSW\",IF(K461>=2,1,0),IF(C461=\"OSR\",IF(AND(K461>=2,Q461>60)=TRUE,1,0),IF(C461=\"OSRH\",IF(AND(K461>=1,Q461>90)=TRUE,1,0),IF(C461=\"OHLC\",IF(AND(N461=\"Y\",Q461>60)=TRUE,1,0),IF(C461=\"DDC\",IF(AND(K461>=4,N461=\"Y\",Q461>120)=TRUE,1,0),0))))))","v":""}]
[null,null,"",null,null,null,null,null,null,null,null,null,null,null,null,0,0,0,0,"",0,0,0,0,0,{"$f":"IF($H$4=\"\",0,VLOOKUP($H$4,BuildingType_Lookup,3,FALSE))","v":0},{"$f":"IF($H$4=\"\",0,VLOOKUP($H$4,BuildingType_Lookup,2,FALSE))","v":0},{"$f":"IF(AND(OR(AN462=\"\",AN462=0)=TRUE,OR(AO462=\"\",AO462=0))=TRUE,0,IF(AO462=\"\",(IF(OR(C462=\"DDC\",C462=\"OHLC\")=TRUE,O462,P462)/1000)*Y462*Z462*(1+VLOOKUP($H$4,BuildingType_Lookup,4,FALSE)),IF(AO462=0,0,(IF(OR(C462=\"DDC\",C462=\"OHLC\")=TRUE,O462,Q462)/1000)*Y462*Z462*(1+VLOOKUP($H$4,BuildingType_Lookup,4,FALSE)))))","v":0},{"$f":"IF(AND(OR(AN462=\"\",AN462=0)=TRUE,OR(AO462=\"\",AO462=0))=TRUE,0,IF(AO462=\"\",(IF(OR(C462=\"DDC\",C462=\"OHLC\")=TRUE,O462,P462)/1000)*Y462*AA462*(1+VLOOKUP($H$4,BuildingType_Lookup,MATCH($H$5,HVAC,0)+4,FALSE)),IF(AO462=0,0,(IF(OR(C462=\"DDC\",C462=\"OHLC\")=TRUE,O462,Q462)/1000)*Y462*AA462*(1+VLOOKUP($H$4,BuildingType_Lookup,MATCH($H$5,HVAC,0)+4,FALSE)))))","v":0},0,0,0,0,0,0,{"$f":"W462/1000*Y462*AA462*IF(IFERROR(SEARCH(\"Gas\",$H$5),0)>0,VLOOKUP(\"Gas\",HVACg_Lookup,MATCH($H$6,BuildingSize,0)+1,FALSE),IF(IFERROR(SEARCH(\"Oil\",$H$5),0)>0,VLOOKUP(\"Oil\",HVACg_Lookup,MATCH($H$6,BuildingSize,0)+1,FALSE),IF(IFERROR(SEARCH(\"Propane\",$H$5),0)>0,VLOOKUP(\"Propane\",HVACg_Lookup,MATCH(Worksheet!$H$6,BuildingSize,0)+1,FALSE),0)))","v":0},{"$f":"X462/1000*Y462*AA462*IF(IFERROR(SEARCH(\"Gas\",$H$5),0)>0,VLOOKUP(\"Gas\",HVACg_Lookup,MATCH($H$6,BuildingSize,0)+1,FALSE),IF(IFERROR(SEARCH(\"Oil\",$H$5),0)>0,VLOOKUP(\"Oil\",HVACg_Lookup,MATCH($H$6,BuildingSize,0)+1,FALSE),IF(IFERROR(SEARCH(\"Propane\",$H$5),0)>0,VLOOKUP(\"Propane\",HVACg_Lookup,MATCH(Worksheet!$H$6,BuildingSize,0)+1,FALSE),0)))","v":0},0,0,{"$f":"IF(OR($B$4=\"\",$B$5=\"\",$H$4=\"\",$H$6=\"\",$H$5=\"\",A462=\"\",F462=\"\",J462=\"\",O462=\"\",P462=\"\")=TRUE,\"\",IF(C462=\"OSW\",IF(J462>=2,1,0),IF(C462=\"OSR\",IF(AND(J462>=2,P462>60)=TRUE,1,0),IF(C462=\"OSRH\",IF(AND(J462>=1,P462>90)=TRUE,1,0),IF(C462=\"OHLC\",IF(AND(N462=\"Y\",P462>60)=TRUE,1,0),IF(C462=\"DDC\",IF(AND(J462>=4,N462=\"Y\",P462>120)=TRUE,1,0),0))))))","v":""},{"$f":"IF(OR($B$4=\"\",$B$5=\"\",$H$4=\"\",$H$6=\"\",$H$5=\"\",A462=\"\",F462=\"\",K462=\"\",O462=\"\",P462=\"\")=TRUE,\"\",IF(C462=\"OSW\",IF(K462>=2,1,0),IF(C462=\"OSR\",IF(AND(K462>=2,Q462>60)=TRUE,1,0),IF(C462=\"OSRH\",IF(AND(K462>=1,Q462>90)=TRUE,1,0),IF(C462=\"OHLC\",IF(AND(N462=\"Y\",Q462>60)=TRUE,1,0),IF(C462=\"DDC\",IF(AND(K462>=4,N462=\"Y\",Q462>120)=TRUE,1,0),0))))))","v":""}]
[null,null,"",null,null,null,null,null,null,null,null,null,null,null,null,0,0,0,0,"",0,0,0,0,0,{"$f":"IF($H$4=\"\",0,VLOOKUP($H$4,BuildingType_Lookup,3,FALSE))","v":0},{"$f":"IF($H$4=\"\",0,VLOOKUP($H$4,BuildingType_Lookup,2,FALSE))","v":0},{"$f":"IF(AND(OR(AN463=\"\",AN463=0)=TRUE,OR(AO463=\"\",AO463=0))=TRUE,0,IF(AO463=\"\",(IF(OR(C463=\"DDC\",C463=\"OHLC\")=TRUE,O463,P463)/1000)*Y463*Z463*(1+VLOOKUP($H$4,BuildingType_Lookup,4,FALSE)),IF(AO463=0,0,(IF(OR(C463=\"DDC\",C463=\"OHLC\")=TRUE,O463,Q463)/1000)*Y463*Z463*(1+VLOOKUP($H$4,BuildingType_Lookup,4,FALSE)))))","v":0},{"$f":"IF(AND(OR(AN463=\"\",AN463=0)=TRUE,OR(AO463=\"\",AO463=0))=TRUE,0,IF(AO463=\"\",(IF(OR(C463=\"DDC\",C463=\"OHLC\")=TRUE,O463,P463)/1000)*Y463*AA463*(1+VLOOKUP($H$4,BuildingType_Lookup,MATCH($H$5,HVAC,0)+4,FALSE)),IF(AO463=0,0,(IF(OR(C463=\"DDC\",C463=\"OHLC\")=TRUE,O463,Q463)/1000)*Y463*AA463*(1+VLOOKUP($H$4,BuildingType_Lookup,MATCH($H$5,HVAC,0)+4,FALSE)))))","v":0},0,0,0,0,0,0,{"$f":"W463/1000*Y463*AA463*IF(IFERROR(SEARCH(\"Gas\",$H$5),0)>0,VLOOKUP(\"Gas\",HVACg_Lookup,MATCH($H$6,BuildingSize,0)+1,FALSE),IF(IFERROR(SEARCH(\"Oil\",$H$5),0)>0,VLOOKUP(\"Oil\",HVACg_Lookup,MATCH($H$6,BuildingSize,0)+1,FALSE),IF(IFERROR(SEARCH(\"Propane\",$H$5),0)>0,VLOOKUP(\"Propane\",HVACg_Lookup,MATCH(Worksheet!$H$6,BuildingSize,0)+1,FALSE),0)))","v":0},{"$f":"X463/1000*Y463*AA463*IF(IFERROR(SEARCH(\"Gas\",$H$5),0)>0,VLOOKUP(\"Gas\",HVACg_Lookup,MATCH($H$6,BuildingSize,0)+1,FALSE),IF(IFERROR(SEARCH(\"Oil\",$H$5),0)>0,VLOOKUP(\"Oil\",HVACg_Lookup,MATCH($H$6,BuildingSize,0)+1,FALSE),IF(IFERROR(SEARCH(\"Propane\",$H$5),0)>0,VLOOKUP(\"Propane\",HVACg_Lookup,MATCH(Worksheet!$H$6,BuildingSize,0)+1,FALSE),0)))","v":0},0,0,{"$f":"IF(OR($B$4=\"\",$B$5=\"\",$H$4=\"\",$H$6=\"\",$H$5=\"\",A463=\"\",F463=\"\",J463=\"\",O463=\"\",P463=\"\")=TRUE,\"\",IF(C463=\"OSW\",IF(J463>=2,1,0),IF(C463=\"OSR\",IF(AND(J463>=2,P463>60)=TRUE,1,0),IF(C463=\"OSRH\",IF(AND(J463>=1,P463>90)=TRUE,1,0),IF(C463=\"OHLC\",IF(AND(N463=\"Y\",P463>60)=TRUE,1,0),IF(C463=\"DDC\",IF(AND(J463>=4,N463=\"Y\",P463>120)=TRUE,1,0),0))))))","v":""},{"$f":"IF(OR($B$4=\"\",$B$5=\"\",$H$4=\"\",$H$6=\"\",$H$5=\"\",A463=\"\",F463=\"\",K463=\"\",O463=\"\",P463=\"\")=TRUE,\"\",IF(C463=\"OSW\",IF(K463>=2,1,0),IF(C463=\"OSR\",IF(AND(K463>=2,Q463>60)=TRUE,1,0),IF(C463=\"OSRH\",IF(AND(K463>=1,Q463>90)=TRUE,1,0),IF(C463=\"OHLC\",IF(AND(N463=\"Y\",Q463>60)=TRUE,1,0),IF(C463=\"DDC\",IF(AND(K463>=4,N463=\"Y\",Q463>120)=TRUE,1,0),0))))))","v":""}]
[null,null,"",null,null,null,null,null,null,null,null,null,null,null,null,0,0,0,0,"",0,0,0,0,0,{"$f":"IF($H$4=\"\",0,VLOOKUP($H$4,BuildingType_Lookup,3,FALSE))","v":0},{"$f":"IF($H$4=\"\",0,VLOOKUP($H$4,BuildingType_Lookup,2,FALSE))","v":0},{"$f":"IF(AND(OR(AN464=\"\",AN464=0)=TRUE,OR(AO464=\"\",AO464=0))=TRUE,0,IF(AO464=\"\",(IF(OR(C464=\"DDC\",C464=\"OHLC\")=TRUE,O464,P464)/1000)*Y464*Z464*(1+VLOOKUP($H$4,BuildingType_Lookup,4,FALSE)),IF(AO464=0,0,(IF(OR(C464=\"DDC\",C464=\"OHLC\")=TRUE,O464,Q464)/1000)*Y464*Z464*(1+VLOOKUP($H$4,BuildingType_Lookup,4,FALSE)))))","v":0},{"$f":"IF(AND(OR(AN464=\"\",AN464=0)=TRUE,OR(AO464=\"\",AO464=0))=TRUE,0,IF(AO464=\"\",(IF(OR(C464=\"DDC\",C464=\"OHLC\")=TRUE,O464,P464)/1000)*Y464*AA464*(1+VLOOKUP($H$4,BuildingType_Lookup,MATCH($H$5,HVAC,0)+4,FALSE)),IF(AO464=0,0,(IF(OR(C464=\"DDC\",C464=\"OHLC\")=TRUE,O464,Q464)/1000)*Y464*AA464*(1+VLOOKUP($H$4,BuildingType_Lookup,MATCH($H$5,HVAC,0)+4,FALSE)))))","v":0},0,0,0,0,0,0,{"$f":"W464/1000*Y464*AA464*IF(IFERROR(SEARCH(\"Gas\",$H$5),0)>0,VLOOKUP(\"Gas\",HVACg_Lookup,MATCH($H$6,BuildingSize,0)+1,FALSE),IF(IFERROR(SEARCH(\"Oil\",$H$5),0)>0,VLOOKUP(\"Oil\",HVACg_Lookup,MATCH($H$6,BuildingSize,0)+1,FALSE),IF(IFERROR(SEARCH(\"Propane\",$H$5),0)>0,VLOOKUP(\"Propane\",HVACg_Lookup,MATCH(Worksheet!$H$6,BuildingSize,0)+1,FALSE),0)))","v":0},{"$f":"X464/1000*Y464*AA464*IF(IFERROR(SEARCH(\"Gas\",$H$5),0)>0,VLOOKUP(\"Gas\",HVACg_Lookup,MATCH($H$6,BuildingSize,0)+1,FALSE),IF(IFERROR(SEARCH(\"Oil\",$H$5),0)>0,VLOOKUP(\"Oil\",HVACg_Lookup,MATCH($H$6,BuildingSize,0)+1,FALSE),IF(IFERROR(SEARCH(\"Propane\",$H$5),0)>0,VLOOKUP(\"Propane\",HVACg_Lookup,MATCH(Worksheet!$H$6,BuildingSize,0)+1,FALSE),0)))","v":0},0,0,{"$f":"IF(OR($B$4=\"\",$B$5=\"\",$H$4=\"\",$H$6=\"\",$H$5=\"\",A464=\"\",F464=\"\",J464=\"\",O464=\"\",P464=\"\")=TRUE,\"\",IF(C464=\"OSW\",IF(J464>=2,1,0),IF(C464=\"OSR\",IF(AND(J464>=2,P464>60)=TRUE,1,0),IF(C464=\"OSRH\",IF(AND(J464>=1,P464>90)=TRUE,1,0),IF(C464=\"OHLC\",IF(AND(N464=\"Y\",P464>60)=TRUE,1,0),IF(C464=\"DDC\",IF(AND(J464>=4,N464=\"Y\",P464>120)=TRUE,1,0),0))))))","v":""},{"$f":"IF(OR($B$4=\"\",$B$5=\"\",$H$4=\"\",$H$6=\"\",$H$5=\"\",A464=\"\",F464=\"\",K464=\"\",O464=\"\",P464=\"\")=TRUE,\"\",IF(C464=\"OSW\",IF(K464>=2,1,0),IF(C464=\"OSR\",IF(AND(K464>=2,Q464>60)=TRUE,1,0),IF(C464=\"OSRH\",IF(AND(K464>=1,Q464>90)=TRUE,1,0),IF(C464=\"OHLC\",IF(AND(N464=\"Y\",Q464>60)=TRUE,1,0),IF(C464=\"DDC\",IF(AND(K464>=4,N464=\"Y\",Q464>120)=TRUE,1,0),0))))))","v":""}]
[null,null,"",null,null,null,null,null,null,null,null,null,null,null,null,0,0,0,0,"",0,0,0,0,0,{"$f":"IF($H$4=\"\",0,VLOOKUP($H$4,BuildingType_Lookup,3,FALSE))","v":0},{"$f":"IF($H$4=\"\",0,VLOOKUP($H$4,BuildingType_Lookup,2,FALSE))","v":0},{"$f":"IF(AND(OR(AN465=\"\",AN465=0)=TRUE,OR(AO465=\"\",AO465=0))=TRUE,0,IF(AO465=\"\",(IF(OR(C465=\"DDC\",C465=\"OHLC\")=TRUE,O465,P465)/1000)*Y465*Z465*(1+VLOOKUP($H$4,BuildingType_Lookup,4,FALSE)),IF(AO465=0,0,(IF(OR(C465=\"DDC\",C465=\"OHLC\")=TRUE,O465,Q465)/1000)*Y465*Z465*(1+VLOOKUP($H$4,BuildingType_Lookup,4,FALSE)))))","v":0},{"$f":"IF(AND(OR(AN465=\"\",AN465=0)=TRUE,OR(AO465=\"\",AO465=0))=TRUE,0,IF(AO465=\"\",(IF(OR(C465=\"DDC\",C465=\"OHLC\")=TRUE,O465,P465)/1000)*Y465*AA465*(1+VLOOKUP($H$4,BuildingType_Lookup,MATCH($H$5,HVAC,0)+4,FALSE)),IF(AO465=0,0,(IF(OR(C465=\"DDC\",C465=\"OHLC\")=TRUE,O465,Q465)/1000)*Y465*AA465*(1+VLOOKUP($H$4,BuildingType_Lookup,MATCH($H$5,HVAC,0)+4,FALSE)))))","v":0},0,0,0,0,0,0,{"$f":"W465/1000*Y465*AA465*IF(IFERROR(SEARCH(\"Gas\",$H$5),0)>0,VLOOKUP(\"Gas\",HVACg_Lookup,MATCH($H$6,BuildingSize,0)+1,FALSE),IF(IFERROR(SEARCH(\"Oil\",$H$5),0)>0,VLOOKUP(\"Oil\",HVACg_Lookup,MATCH($H$6,BuildingSize,0)+1,FALSE),IF(IFERROR(SEARCH(\"Propane\",$H$5),0)>0,VLOOKUP(\"Propane\",HVACg_Lookup,MATCH(Worksheet!$H$6,BuildingSize,0)+1,FALSE),0)))","v":0},{"$f":"X465/1000*Y465*AA465*IF(IFERROR(SEARCH(\"Gas\",$H$5),0)>0,VLOOKUP(\"Gas\",HVACg_Lookup,MATCH($H$6,BuildingSize,0)+1,FALSE),IF(IFERROR(SEARCH(\"Oil\",$H$5),0)>0,VLOOKUP(\"Oil\",HVACg_Lookup,MATCH($H$6,BuildingSize,0)+1,FALSE),IF(IFERROR(SEARCH(\"Propane\",$H$5),0)>0,VLOOKUP(\"Propane\",HVACg_Lookup,MATCH(Worksheet!$H$6,BuildingSize,0)+1,FALSE),0)))","v":0},0,0,{"$f":"IF(OR($B$4=\"\",$B$5=\"\",$H$4=\"\",$H$6=\"\",$H$5=\"\",A465=\"\",F465=\"\",J465=\"\",O465=\"\",P465=\"\")=TRUE,\"\",IF(C465=\"OSW\",IF(J465>=2,1,0),IF(C465=\"OSR\",IF(AND(J465>=2,P465>60)=TRUE,1,0),IF(C465=\"OSRH\",IF(AND(J465>=1,P465>90)=TRUE,1,0),IF(C465=\"OHLC\",IF(AND(N465=\"Y\",P465>60)=TRUE,1,0),IF(C465=\"DDC\",IF(AND(J465>=4,N465=\"Y\",P465>120)=TRUE,1,0),0))))))","v":""},{"$f":"IF(OR($B$4=\"\",$B$5=\"\",$H$4=\"\",$H$6=\"\",$H$5=\"\",A465=\"\",F465=\"\",K465=\"\",O465=\"\",P465=\"\")=TRUE,\"\",IF(C465=\"OSW\",IF(K465>=2,1,0),IF(C465=\"OSR\",IF(AND(K465>=2,Q465>60)=TRUE,1,0),IF(C465=\"OSRH\",IF(AND(K465>=1,Q465>90)=TRUE,1,0),IF(C465=\"OHLC\",IF(AND(N465=\"Y\",Q465>60)=TRUE,1,0),IF(C465=\"DDC\",IF(AND(K465>=4,N465=\"Y\",Q465>120)=TRUE,1,0),0))))))","v":""}]
[null,null,"",null,null,null,null,null,null,null,null,null,null,null,null,0,0,0,0,"",0,0,0,0,0,{"$f":"IF($H$4=\"\",0,VLOOKUP($H$4,BuildingType_Lookup,3,FALSE))","v":0},{"$f":"IF($H$4=\"\",0,VLOOKUP($H$4,BuildingType_Lookup,2,FALSE))","v":0},{"$f":"IF(AND(OR(AN466=\"\",AN466=0)=TRUE,OR(AO466=\"\",AO466=0))=TRUE,0,IF(AO466=\"\",(IF(OR(C466=\"DDC\",C466=\"OHLC\")=TRUE,O466,P466)/1000)*Y466*Z466*(1+VLOOKUP($H$4,BuildingType_Lookup,4,FALSE)),IF(AO466=0,0,(IF(OR(C466=\"DDC\",C466=\"OHLC\")=TRUE,O466,Q466)/1000)*Y466*Z466*(1+VLOOKUP($H$4,BuildingType_Lookup,4,FALSE)))))","v":0},{"$f":"IF(AND(OR(AN466=\"\",AN466=0)=TRUE,OR(AO466=\"\",AO466=0))=TRUE,0,IF(AO466=\"\",(IF(OR(C466=\"DDC\",C466=\"OHLC\")=TRUE,O466,P466)/1000)*Y466*AA466*(1+VLOOKUP($H$4,BuildingType_Lookup,MATCH($H$5,HVAC,0)+4,FALSE)),IF(AO466=0,0,(IF(OR(C466=\"DDC\",C466=\"OHLC\")=TRUE,O466,Q466)/1000)*Y466*AA466*(1+VLOOKUP($H$4,BuildingType_Lookup,MATCH($H$5,HVAC,0)+4,FALSE)))))","v":0},0,0,0,0,0,0,{"$f":"W466/1000*Y466*AA466*IF(IFERROR(SEARCH(\"Gas\",$H$5),0)>0,VLOOKUP(\"Gas\",HVACg_Lookup,MATCH($H$6,BuildingSize,0)+1,FALSE),IF(IFERROR(SEARCH(\"Oil\",$H$5),0)>0,VLOOKUP(\"Oil\",HVACg_Lookup,MATCH($H$6,BuildingSize,0)+1,FALSE),IF(IFERROR(SEARCH(\"Propane\",$H$5),0)>0,VLOOKUP(\"Propane\",HVACg_Lookup,MATCH(Worksheet!$H$6,BuildingSize,0)+1,FALSE),0)))","v":0},{"$f":"X466/1000*Y466*AA466*IF(IFERROR(SEARCH(\"Gas\",$H$5),0)>0,VLOOKUP(\"Gas\",HVACg_Lookup,MATCH($H$6,BuildingSize,0)+1,FALSE),IF(IFERROR(SEARCH(\"Oil\",$H$5),0)>0,VLOOKUP(\"Oil\",HVACg_Lookup,MATCH($H$6,BuildingSize,0)+1,FALSE),IF(IFERROR(SEARCH(\"Propane\",$H$5),0)>0,VLOOKUP(\"Propane\",HVACg_Lookup,MATCH(Worksheet!$H$6,BuildingSize,0)+1,FALSE),0)))","v":0},0,0,{"$f":"IF(OR($B$4=\"\",$B$5=\"\",$H$4=\"\",$H$6=\"\",$H$5=\"\",A466=\"\",F466=\"\",J466=\"\",O466=\"\",P466=\"\")=TRUE,\"\",IF(C466=\"OSW\",IF(J466>=2,1,0),IF(C466=\"OSR\",IF(AND(J466>=2,P466>60)=TRUE,1,0),IF(C466=\"OSRH\",IF(AND(J466>=1,P466>90)=TRUE,1,0),IF(C466=\"OHLC\",IF(AND(N466=\"Y\",P466>60)=TRUE,1,0),IF(C466=\"DDC\",IF(AND(J466>=4,N466=\"Y\",P466>120)=TRUE,1,0),0))))))","v":""},{"$f":"IF(OR($B$4=\"\",$B$5=\"\",$H$4=\"\",$H$6=\"\",$H$5=\"\",A466=\"\",F466=\"\",K466=\"\",O466=\"\",P466=\"\")=TRUE,\"\",IF(C466=\"OSW\",IF(K466>=2,1,0),IF(C466=\"OSR\",IF(AND(K466>=2,Q466>60)=TRUE,1,0),IF(C466=\"OSRH\",IF(AND(K466>=1,Q466>90)=TRUE,1,0),IF(C466=\"OHLC\",IF(AND(N466=\"Y\",Q466>60)=TRUE,1,0),IF(C466=\"DDC\",IF(AND(K466>=4,N466=\"Y\",Q466>120)=TRUE,1,0),0))))))","v":""}]
[null,null,"",null,null,null,null,null,null,null,null,null,null,null,null,0,0,0,0,"",0,0,0,0,0,{"$f":"IF($H$4=\"\",0,VLOOKUP($H$4,BuildingType_Lookup,3,FALSE))","v":0},{"$f":"IF($H$4=\"\",0,VLOOKUP($H$4,BuildingType_Lookup,2,FALSE))","v":0},{"$f":"IF(AND(OR(AN467=\"\",AN467=0)=TRUE,OR(AO467=\"\",AO467=0))=TRUE,0,IF(AO467=\"\",(IF(OR(C467=\"DDC\",C467=\"OHLC\")=TRUE,O467,P467)/1000)*Y467*Z467*(1+VLOOKUP($H$4,BuildingType_Lookup,4,FALSE)),IF(AO467=0,0,(IF(OR(C467=\"DDC\",C467=\"OHLC\")=TRUE,O467,Q467)/1000)*Y467*Z467*(1+VLOOKUP($H$4,BuildingType_Lookup,4,FALSE)))))","v":0},{"$f":"IF(AND(OR(AN467=\"\",AN467=0)=TRUE,OR(AO467=\"\",AO467=0))=TRUE,0,IF(AO467=\"\",(IF(OR(C467=\"DDC\",C467=\"OHLC\")=TRUE,O467,P467)/1000)*Y467*AA467*(1+VLOOKUP($H$4,BuildingType_Lookup,MATCH($H$5,HVAC,0)+4,FALSE)),IF(AO467=0,0,(IF(OR(C467=\"DDC\",C467=\"OHLC\")=TRUE,O467,Q467)/1000)*Y467*AA467*(1+VLOOKUP($H$4,BuildingType_Lookup,MATCH($H$5,HVAC,0)+4,FALSE)))))","v":0},0,0,0,0,0,0,{"$f":"W467/1000*Y467*AA467*IF(IFERROR(SEARCH(\"Gas\",$H$5),0)>0,VLOOKUP(\"Gas\",HVACg_Lookup,MATCH($H$6,BuildingSize,0)+1,FALSE),IF(IFERROR(SEARCH(\"Oil\",$H$5),0)>0,VLOOKUP(\"Oil\",HVACg_Lookup,MATCH($H$6,BuildingSize,0)+1,FALSE),IF(IFERROR(SEARCH(\"Propane\",$H$5),0)>0,VLOOKUP(\"Propane\",HVACg_Lookup,MATCH(Worksheet!$H$6,BuildingSize,0)+1,FALSE),0)))","v":0},{"$f":"X467/1000*Y467*AA467*IF(IFERROR(SEARCH(\"Gas\",$H$5),0)>0,VLOOKUP(\"Gas\",HVACg_Lookup,MATCH($H$6,BuildingSize,0)+1,FALSE),IF(IFERROR(SEARCH(\"Oil\",$H$5),0)>0,VLOOKUP(\"Oil\",HVACg_Lookup,MATCH($H$6,BuildingSize,0)+1,FALSE),IF(IFERROR(SEARCH(\"Propane\",$H$5),0)>0,VLOOKUP(\"Propane\",HVACg_Lookup,MATCH(Worksheet!$H$6,BuildingSize,0)+1,FALSE),0)))","v":0},0,0,{"$f":"IF(OR($B$4=\"\",$B$5=\"\",$H$4=\"\",$H$6=\"\",$H$5=\"\",A467=\"\",F467=\"\",J467=\"\",O467=\"\",P467=\"\")=TRUE,\"\",IF(C467=\"OSW\",IF(J467>=2,1,0),IF(C467=\"OSR\",IF(AND(J467>=2,P467>60)=TRUE,1,0),IF(C467=\"OSRH\",IF(AND(J467>=1,P467>90)=TRUE,1,0),IF(C467=\"OHLC\",IF(AND(N467=\"Y\",P467>60)=TRUE,1,0),IF(C467=\"DDC\",IF(AND(J467>=4,N467=\"Y\",P467>120)=TRUE,1,0),0))))))","v":""},{"$f":"IF(OR($B$4=\"\",$B$5=\"\",$H$4=\"\",$H$6=\"\",$H$5=\"\",A467=\"\",F467=\"\",K467=\"\",O467=\"\",P467=\"\")=TRUE,\"\",IF(C467=\"OSW\",IF(K467>=2,1,0),IF(C467=\"OSR\",IF(AND(K467>=2,Q467>60)=TRUE,1,0),IF(C467=\"OSRH\",IF(AND(K467>=1,Q467>90)=TRUE,1,0),IF(C467=\"OHLC\",IF(AND(N467=\"Y\",Q467>60)=TRUE,1,0),IF(C467=\"DDC\",IF(AND(K467>=4,N467=\"Y\",Q467>120)=TRUE,1,0),0))))))","v":""}]
[null,null,"",null,null,null,null,null,null,null,null,null,null,null,null,0,0,0,0,"",0,0,0,0,0,{"$f":"IF($H$4=\"\",0,VLOOKUP($H$4,BuildingType_Lookup,3,FALSE))","v":0},{"$f":"IF($H$4=\"\",0,VLOOKUP($H$4,BuildingType_Lookup,2,FALSE))","v":0},{"$f":"IF(AND(OR(AN468=\"\",AN468=0)=TRUE,OR(AO468=\"\",AO468=0))=TRUE,0,IF(AO468=\"\",(IF(OR(C468=\"DDC\",C468=\"OHLC\")=TRUE,O468,P468)/1000)*Y468*Z468*(1+VLOOKUP($H$4,BuildingType_Lookup,4,FALSE)),IF(AO468=0,0,(IF(OR(C468=\"DDC\",C468=\"OHLC\")=TRUE,O468,Q468)/1000)*Y468*Z468*(1+VLOOKUP($H$4,BuildingType_Lookup,4,FALSE)))))","v":0},{"$f":"IF(AND(OR(AN468=\"\",AN468=0)=TRUE,OR(AO468=\"\",AO468=0))=TRUE,0,IF(AO468=\"\",(IF(OR(C468=\"DDC\",C468=\"OHLC\")=TRUE,O468,P468)/1000)*Y468*AA468*(1+VLOOKUP($H$4,BuildingType_Lookup,MATCH($H$5,HVAC,0)+4,FALSE)),IF(AO468=0,0,(IF(OR(C468=\"DDC\",C468=\"OHLC\")=TRUE,O468,Q468)/1000)*Y468*AA468*(1+VLOOKUP($H$4,BuildingType_Lookup,MATCH($H$5,HVAC,0)+4,FALSE)))))","v":0},0,0,0,0,0,0,{"$f":"W468/1000*Y468*AA468*IF(IFERROR(SEARCH(\"Gas\",$H$5),0)>0,VLOOKUP(\"Gas\",HVACg_Lookup,MATCH($H$6,BuildingSize,0)+1,FALSE),IF(IFERROR(SEARCH(\"Oil\",$H$5),0)>0,VLOOKUP(\"Oil\",HVACg_Lookup,MATCH($H$6,BuildingSize,0)+1,FALSE),IF(IFERROR(SEARCH(\"Propane\",$H$5),0)>0,VLOOKUP(\"Propane\",HVACg_Lookup,MATCH(Worksheet!$H$6,BuildingSize,0)+1,FALSE),0)))","v":0},{"$f":"X468/1000*Y468*AA468*IF(IFERROR(SEARCH(\"Gas\",$H$5),0)>0,VLOOKUP(\"Gas\",HVACg_Lookup,MATCH($H$6,BuildingSize,0)+1,FALSE),IF(IFERROR(SEARCH(\"Oil\",$H$5),0)>0,VLOOKUP(\"Oil\",HVACg_Lookup,MATCH($H$6,BuildingSize,0)+1,FALSE),IF(IFERROR(SEARCH(\"Propane\",$H$5),0)>0,VLOOKUP(\"Propane\",HVACg_Lookup,MATCH(Worksheet!$H$6,BuildingSize,0)+1,FALSE),0)))","v":0},0,0,{"$f":"IF(OR($B$4=\"\",$B$5=\"\",$H$4=\"\",$H$6=\"\",$H$5=\"\",A468=\"\",F468=\"\",J468=\"\",O468=\"\",P468=\"\")=TRUE,\"\",IF(C468=\"OSW\",IF(J468>=2,1,0),IF(C468=\"OSR\",IF(AND(J468>=2,P468>60)=TRUE,1,0),IF(C468=\"OSRH\",IF(AND(J468>=1,P468>90)=TRUE,1,0),IF(C468=\"OHLC\",IF(AND(N468=\"Y\",P468>60)=TRUE,1,0),IF(C468=\"DDC\",IF(AND(J468>=4,N468=\"Y\",P468>120)=TRUE,1,0),0))))))","v":""},{"$f":"IF(OR($B$4=\"\",$B$5=\"\",$H$4=\"\",$H$6=\"\",$H$5=\"\",A468=\"\",F468=\"\",K468=\"\",O468=\"\",P468=\"\")=TRUE,\"\",IF(C468=\"OSW\",IF(K468>=2,1,0),IF(C468=\"OSR\",IF(AND(K468>=2,Q468>60)=TRUE,1,0),IF(C468=\"OSRH\",IF(AND(K468>=1,Q468>90)=TRUE,1,0),IF(C468=\"OHLC\",IF(AND(N468=\"Y\",Q468>60)=TRUE,1,0),IF(C468=\"DDC\",IF(AND(K468>=4,N468=\"Y\",Q468>120)=TRUE,1,0),0))))))","v":""}]
[null,null,"",null,null,null,null,null,null,null,null,null,null,null,null,0,0,{"$f":"IF(AN469=\"\",0,IF(AN469=1,VLOOKUP(A469,MeasureCode_Lookup,3,FALSE),\"DNQ\"))","v":0},{"$f":"IF(AO469=\"\",0,IF(AO469=1,VLOOKUP(A469,MeasureCode_Lookup,3,FALSE),\"DNQ\"))","v":0},{"$f":"IF(A469=\"\",\"\",VLOOKUP(A469,MeasureCode_Lookup,4,FALSE))","v":""},0,0,{"$f":"IF(N(R469)=0,0,F469*P469)","v":0},{"$f":"IF(N(S469)=0,0,G469*Q469)","v":0},{"$f":"IF(A469=\"\",0,VLOOKUP(A469,MeasureCode_Lookup,5,FALSE))","v":0},{"$f":"IF($H$4=\"\",0,VLOOKUP($H$4,BuildingType_Lookup,3,FALSE))","v":0},{"$f":"IF($H$4=\"\",0,VLOOKUP($H$4,BuildingType_Lookup,2,FALSE))","v":0},{"$f":"IF(AND(OR(AN469=\"\",AN469=0)=TRUE,OR(AO469=\"\",AO469=0))=TRUE,0,IF(AO469=\"\",(IF(OR(C469=\"DDC\",C469=\"OHLC\")=TRUE,O469,P469)/1000)*Y469*Z469*(1+VLOOKUP($H$4,BuildingType_Lookup,4,FALSE)),IF(AO469=0,0,(IF(OR(C469=\"DDC\",C469=\"OHLC\")=TRUE,O469,Q469)/1000)*Y469*Z469*(1+VLOOKUP($H$4,BuildingType_Lookup,4,FALSE)))))","v":0},{"$f":"IF(AND(OR(AN469=\"\",AN469=0)=TRUE,OR(AO469=\"\",AO469=0))=TRUE,0,IF(AO469=\"\",(IF(OR(C469=\"DDC\",C469=\"OHLC\")=TRUE,O469,P469)/1000)*Y469*AA469*(1+VLOOKUP($H$4,BuildingType_Lookup,MATCH($H$5,HVAC,0)+4,FALSE)),IF(AO469=0,0,(IF(OR(C469=\"DDC\",C469=\"OHLC\")=TRUE,O469,Q469)/1000)*Y469*AA469*(1+VLOOKUP($H$4,BuildingType_Lookup,MATCH($H$5,HVAC,0)+4,FALSE)))))","v":0},{"$f":"IFERROR(IF(OR(C469=\"DDC\",C469=\"OHLC\")=TRUE,F469*J469*AB469,F469*AB469),0)","v":0},{"$f":"IFERROR(IF(OR(C469=\"DDC\",C469=\"OHLC\")=TRUE,G469*K469*AB469,G469*AB469),0)","v":0},{"$f":"IFERROR(IF(OR(C469=\"DDC\",C469=\"OHLC\")=TRUE,F469*J469*AC469,F469*AC469),0)","v":0},{"$f":"IFERROR(IF(OR(C469=\"DDC\",C469=\"OHLC\")=TRUE,G469*K469*AC469,G469*AC469),0)","v":0},0,0,{"$f":"W469/1000*Y469*AA469*IF(IFERROR(SEARCH(\"Gas\",$H$5),0)>0,VLOOKUP(\"Gas\",HVACg_Lookup,MATCH($H$6,BuildingSize,0)+1,FALSE),IF(IFERROR(SEARCH(\"Oil\",$H$5),0)>0,VLOOKUP(\"Oil\",HVACg_Lookup,MATCH($H$6,BuildingSize,0)+1,FALSE),IF(IFERROR(SEARCH(\"Propane\",$H$5),0)>0,VLOOKUP(\"Propane\",HVACg_Lookup,MATCH(Worksheet!$H$6,BuildingSize,0)+1,FALSE),0)))","v":0},{"$f":"X469/1000*Y469*AA469*IF(IFERROR(SEARCH(\"Gas\",$H$5),0)>0,VLOOKUP(\"Gas\",HVACg_Lookup,MATCH($H$6,BuildingSize,0)+1,FALSE),IF(IFERROR(SEARCH(\"Oil\",$H$5),0)>0,VLOOKUP(\"Oil\",HVACg_Lookup,MATCH($H$6,BuildingSize,0)+1,FALSE),IF(IFERROR(SEARCH(\"Propane\",$H$5),0)>0,VLOOKUP(\"Propane\",HVACg_Lookup,MATCH(Worksheet!$H$6,BuildingSize,0)+1,FALSE),0)))","v":0},0,0,{"$f":"IF(OR($B$4=\"\",$B$5=\"\",$H$4=\"\",$H$6=\"\",$H$5=\"\",A469=\"\",F469=\"\",J469=\"\",O469=\"\",P469=\"\")=TRUE,\"\",IF(C469=\"OSW\",IF(J469>=2,1,0),IF(C469=\"OSR\",IF(AND(J469>=2,P469>60)=TRUE,1,0),IF(C469=\"OSRH\",IF(AND(J469>=1,P469>90)=TRUE,1,0),IF(C469=\"OHLC\",IF(AND(N469=\"Y\",P469>60)=TRUE,1,0),IF(C469=\"DDC\",IF(AND(J469>=4,N469=\"Y\",P469>120)=TRUE,1,0),0))))))","v":""},{"$f":"IF(OR($B$4=\"\",$B$5=\"\",$H$4=\"\",$H$6=\"\",$H$5=\"\",A469=\"\",F469=\"\",K469=\"\",O469=\"\",P469=\"\")=TRUE,\"\",IF(C469=\"OSW\",IF(K469>=2,1,0),IF(C469=\"OSR\",IF(AND(K469>=2,Q469>60)=TRUE,1,0),IF(C469=\"OSRH\",IF(AND(K469>=1,Q469>90)=TRUE,1,0),IF(C469=\"OHLC\",IF(AND(N469=\"Y\",Q469>60)=TRUE,1,0),IF(C469=\"DDC\",IF(AND(K469>=4,N469=\"Y\",Q469>120)=TRUE,1,0),0))))))","v":""}]
[null,null,{"$f":"IF(A470=\"\",\"\",VLOOKUP(A470,MeasureCode_Lookup,2,FALSE))","v":""},null,null,null,null,null,null,null,null,null,null,null,null,{"$f":"IF(OR(A470=\"\",F470=\"\",J470=\"\",O470=\"\")=TRUE,0,J470*O470)","v":0},{"$f":"IF(OR(A470=\"\",G470=\"\",K470=\"\",O470=\"\")=TRUE,0,K470*O470)","v":0},0,0,"",{"$f":"IF(N(R470)=0,0,F470*R470*IF(T470=\"per Fixture Controlled\",J470,1))","v":0},{"$f":"IF(N(S470)=0,0,G470*S470*IF(T470=\"per Fixture Controlled\",K470,1))","v":0},0,0,0,{"$f":"IF($H$4=\"\",0,VLOOKUP($H$4,BuildingType_Lookup,3,FALSE))","v":0},{"$f":"IF($H$4=\"\",0,VLOOKUP($H$4,BuildingType_Lookup,2,FALSE))","v":0},{"$f":"IF(AND(OR(AN470=\"\",AN470=0)=TRUE,OR(AO470=\"\",AO470=0))=TRUE,0,IF(AO470=\"\",(IF(OR(C470=\"DDC\",C470=\"OHLC\")=TRUE,O470,P470)/1000)*Y470*Z470*(1+VLOOKUP($H$4,BuildingType_Lookup,4,FALSE)),IF(AO470=0,0,(IF(OR(C470=\"DDC\",C470=\"OHLC\")=TRUE,O470,Q470)/1000)*Y470*Z470*(1+VLOOKUP($H$4,BuildingType_Lookup,4,FALSE)))))","v":0},{"$f":"IF(AND(OR(AN470=\"\",AN470=0)=TRUE,OR(AO470=\"\",AO470=0))=TRUE,0,IF(AO470=\"\",(IF(OR(C470=\"DDC\",C470=\"OHLC\")=TRUE,O470,P470)/1000)*Y470*AA470*(1+VLOOKUP($H$4,BuildingType_Lookup,MATCH($H$5,HVAC,0)+4,FALSE)),IF(AO470=0,0,(IF(OR(C470=\"DDC\",C470=\"OHLC\")=TRUE,O470,Q470)/1000)*Y470*AA470*(1+VLOOKUP($H$4,BuildingType_Lookup,MATCH($H$5,HVAC,0)+4,FALSE)))))","v":0},0,0,0,0,{"$f":"AF470*8","v":0},{"$f":"AG470*8","v":0},{"$f":"W470/1000*Y470*AA470*IF(IFERROR(SEARCH(\"Gas\",$H$5),0)>0,VLOOKUP(\"Gas\",HVACg_Lookup,MATCH($H$6,BuildingSize,0)+1,FALSE),IF(IFERROR(SEARCH(\"Oil\",$H$5),0)>0,VLOOKUP(\"Oil\",HVACg_Lookup,MATCH($H$6,BuildingSize,0)+1,FALSE),IF(IFERROR(SEARCH(\"Propane\",$H$5),0)>0,VLOOKUP(\"Propane\",HVACg_Lookup,MATCH(Worksheet!$H$6,BuildingSize,0)+1,FALSE),0)))","v":0},{"$f":"X470/1000*Y470*AA470*IF(IFERROR(SEARCH(\"Gas\",$H$5),0)>0,VLOOKUP(\"Gas\",HVACg_Lookup,MATCH($H$6,BuildingSize,0)+1,FALSE),IF(IFERROR(SEARCH(\"Oil\",$H$5),0)>0,VLOOKUP(\"Oil\",HVACg_Lookup,MATCH($H$6,BuildingSize,0)+1,FALSE),IF(IFERROR(SEARCH(\"Propane\",$H$5),0)>0,VLOOKUP(\"Propane\",HVACg_Lookup,MATCH(Worksheet!$H$6,BuildingSize,0)+1,FALSE),0)))","v":0},{"$f":"AJ470*8","v":0},{"$f":"AK470*8","v":0},{"$f":"IF(OR($B$4=\"\",$B$5=\"\",$H$4=\"\",$H$6=\"\",$H$5=\"\",A470=\"\",F470=\"\",J470=\"\",O470=\"\",P470=\"\")=TRUE,\"\",IF(C470=\"OSW\",IF(J470>=2,1,0),IF(C470=\"OSR\",IF(AND(J470>=2,P470>60)=TRUE,1,0),IF(C470=\"OSRH\",IF(AND(J470>=1,P470>90)=TRUE,1,0),IF(C470=\"OHLC\",IF(AND(N470=\"Y\",P470>60)=TRUE,1,0),IF(C470=\"DDC\",IF(AND(J470>=4,N470=\"Y\",P470>120)=TRUE,1,0),0))))))","v":""},{"$f":"IF(OR($B$4=\"\",$B$5=\"\",$H$4=\"\",$H$6=\"\",$H$5=\"\",A470=\"\",F470=\"\",K470=\"\",O470=\"\",P470=\"\")=TRUE,\"\",IF(C470=\"OSW\",IF(K470>=2,1,0),IF(C470=\"OSR\",IF(AND(K470>=2,Q470>60)=TRUE,1,0),IF(C470=\"OSRH\",IF(AND(K470>=1,Q470>90)=TRUE,1,0),IF(C470=\"OHLC\",IF(AND(N470=\"Y\",Q470>60)=TRUE,1,0),IF(C470=\"DDC\",IF(AND(K470>=4,N470=\"Y\",Q470>120)=TRUE,1,0),0))))))","v":""}]
[null,null,"",null,null,null,null,null,null,null,null,null,null,null,null,0,0,0,0,"",0,0,0,0,0,{"$f":"IF($H$4=\"\",0,VLOOKUP($H$4,BuildingType_Lookup,3,FALSE))","v":0},{"$f":"IF($H$4=\"\",0,VLOOKUP($H$4,BuildingType_Lookup,2,FALSE))","v":0},{"$f":"IF(AND(OR(AN471=\"\",AN471=0)=TRUE,OR(AO471=\"\",AO471=0))=TRUE,0,IF(AO471=\"\",(IF(OR(C471=\"DDC\",C471=\"OHLC\")=TRUE,O471,P471)/1000)*Y471*Z471*(1+VLOOKUP($H$4,BuildingType_Lookup,4,FALSE)),IF(AO471=0,0,(IF(OR(C471=\"DDC\",C471=\"OHLC\")=TRUE,O471,Q471)/1000)*Y471*Z471*(1+VLOOKUP($H$4,BuildingType_Lookup,4,FALSE)))))","v":0},{"$f":"IF(AND(OR(AN471=\"\",AN471=0)=TRUE,OR(AO471=\"\",AO471=0))=TRUE,0,IF(AO471=\"\",(IF(OR(C471=\"DDC\",C471=\"OHLC\")=TRUE,O471,P471)/1000)*Y471*AA471*(1+VLOOKUP($H$4,BuildingType_Lookup,MATCH($H$5,HVAC,0)+4,FALSE)),IF(AO471=0,0,(IF(OR(C471=\"DDC\",C471=\"OHLC\")=TRUE,O471,Q471)/1000)*Y471*AA471*(1+VLOOKUP($H$4,BuildingType_Lookup,MATCH($H$5,HVAC,0)+4,FALSE)))))","v":0},0,0,0,0,0,0,{"$f":"W471/1000*Y471*AA471*IF(IFERROR(SEARCH(\"Gas\",$H$5),0)>0,VLOOKUP(\"Gas\",HVACg_Lookup,MATCH($H$6,BuildingSize,0)+1,FALSE),IF(IFERROR(SEARCH(\"Oil\",$H$5),0)>0,VLOOKUP(\"Oil\",HVACg_Lookup,MATCH($H$6,BuildingSize,0)+1,FALSE),IF(IFERROR(SEARCH(\"Propane\",$H$5),0)>0,VLOOKUP(\"Propane\",HVACg_Lookup,MATCH(Worksheet!$H$6,BuildingSize,0)+1,FALSE),0)))","v":0},{"$f":"X471/1000*Y471*AA471*IF(IFERROR(SEARCH(\"Gas\",$H$5),0)>0,VLOOKUP(\"Gas\",HVACg_Lookup,MATCH($H$6,BuildingSize,0)+1,FALSE),IF(IFERROR(SEARCH(\"Oil\",$H$5),0)>0,VLOOKUP(\"Oil\",HVACg_Lookup,MATCH($H$6,BuildingSize,0)+1,FALSE),IF(IFERROR(SEARCH(\"Propane\",$H$5),0)>0,VLOOKUP(\"Propane\",HVACg_Lookup,MATCH(Worksheet!$H$6,BuildingSize,0)+1,FALSE),0)))","v":0},0,0,{"$f":"IF(OR($B$4=\"\",$B$5=\"\",$H$4=\"\",$H$6=\"\",$H$5=\"\",A471=\"\",F471=\"\",J471=\"\",O471=\"\",P471=\"\")=TRUE,\"\",IF(C471=\"OSW\",IF(J471>=2,1,0),IF(C471=\"OSR\",IF(AND(J471>=2,P471>60)=TRUE,1,0),IF(C471=\"OSRH\",IF(AND(J471>=1,P471>90)=TRUE,1,0),IF(C471=\"OHLC\",IF(AND(N471=\"Y\",P471>60)=TRUE,1,0),IF(C471=\"DDC\",IF(AND(J471>=4,N471=\"Y\",P471>120)=TRUE,1,0),0))))))","v":""},{"$f":"IF(OR($B$4=\"\",$B$5=\"\",$H$4=\"\",$H$6=\"\",$H$5=\"\",A471=\"\",F471=\"\",K471=\"\",O471=\"\",P471=\"\")=TRUE,\"\",IF(C471=\"OSW\",IF(K471>=2,1,0),IF(C471=\"OSR\",IF(AND(K471>=2,Q471>60)=TRUE,1,0),IF(C471=\"OSRH\",IF(AND(K471>=1,Q471>90)=TRUE,1,0),IF(C471=\"OHLC\",IF(AND(N471=\"Y\",Q471>60)=TRUE,1,0),IF(C471=\"DDC\",IF(AND(K471>=4,N471=\"Y\",Q471>120)=TRUE,1,0),0))))))","v":""}]
[null,null,"",null,null,null,null,null,null,null,null,null,null,null,null,0,0,0,0,"",0,0,0,0,0,{"$f":"IF($H$4=\"\",0,VLOOKUP($H$4,BuildingType_Lookup,3,FALSE))","v":0},{"$f":"IF($H$4=\"\",0,VLOOKUP($H$4,BuildingType_Lookup,2,FALSE))","v":0},{"$f":"IF(AND(OR(AN472=\"\",AN472=0)=TRUE,OR(AO472=\"\",AO472=0))=TRUE,0,IF(AO472=\"\",(IF(OR(C472=\"DDC\",C472=\"OHLC\")=TRUE,O472,P472)/1000)*Y472*Z472*(1+VLOOKUP($H$4,BuildingType_Lookup,4,FALSE)),IF(AO472=0,0,(IF(OR(C472=\"DDC\",C472=\"OHLC\")=TRUE,O472,Q472)/1000)*Y472*Z472*(1+VLOOKUP($H$4,BuildingType_Lookup,4,FALSE)))))","v":0},{"$f":"IF(AND(OR(AN472=\"\",AN472=0)=TRUE,OR(AO472=\"\",AO472=0))=TRUE,0,IF(AO472=\"\",(IF(OR(C472=\"DDC\",C472=\"OHLC\")=TRUE,O472,P472)/1000)*Y472*AA472*(1+VLOOKUP($H$4,BuildingType_Lookup,MATCH($H$5,HVAC,0)+4,FALSE)),IF(AO472=0,0,(IF(OR(C472=\"DDC\",C472=\"OHLC\")=TRUE,O472,Q472)/1000)*Y472*AA472*(1+VLOOKUP($H$4,BuildingType_Lookup,MATCH($H$5,HVAC,0)+4,FALSE)))))","v":0},0,0,0,0,0,0,{"$f":"W472/1000*Y472*AA472*IF(IFERROR(SEARCH(\"Gas\",$H$5),0)>0,VLOOKUP(\"Gas\",HVACg_Lookup,MATCH($H$6,BuildingSize,0)+1,FALSE),IF(IFERROR(SEARCH(\"Oil\",$H$5),0)>0,VLOOKUP(\"Oil\",HVACg_Lookup,MATCH($H$6,BuildingSize,0)+1,FALSE),IF(IFERROR(SEARCH(\"Propane\",$H$5),0)>0,VLOOKUP(\"Propane\",HVACg_Lookup,MATCH(Worksheet!$H$6,BuildingSize,0)+1,FALSE),0)))","v":0},{"$f":"X472/1000*Y472*AA472*IF(IFERROR(SEARCH(\"Gas\",$H$5),0)>0,VLOOKUP(\"Gas\",HVACg_Lookup,MATCH($H$6,BuildingSize,0)+1,FALSE),IF(IFERROR(SEARCH(\"Oil\",$H$5),0)>0,VLOOKUP(\"Oil\",HVACg_Lookup,MATCH($H$6,BuildingSize,0)+1,FALSE),IF(IFERROR(SEARCH(\"Propane\",$H$5),0)>0,VLOOKUP(\"Propane\",HVACg_Lookup,MATCH(Worksheet!$H$6,BuildingSize,0)+1,FALSE),0)))","v":0},0,0,{"$f":"IF(OR($B$4=\"\",$B$5=\"\",$H$4=\"\",$H$6=\"\",$H$5=\"\",A472=\"\",F472=\"\",J472=\"\",O472=\"\",P472=\"\")=TRUE,\"\",IF(C472=\"OSW\",IF(J472>=2,1,0),IF(C472=\"OSR\",IF(AND(J472>=2,P472>60)=TRUE,1,0),IF(C472=\"OSRH\",IF(AND(J472>=1,P472>90)=TRUE,1,0),IF(C472=\"OHLC\",IF(AND(N472=\"Y\",P472>60)=TRUE,1,0),IF(C472=\"DDC\",IF(AND(J472>=4,N472=\"Y\",P472>120)=TRUE,1,0),0))))))","v":""},{"$f":"IF(OR($B$4=\"\",$B$5=\"\",$H$4=\"\",$H$6=\"\",$H$5=\"\",A472=\"\",F472=\"\",K472=\"\",O472=\"\",P472=\"\")=TRUE,\"\",IF(C472=\"OSW\",IF(K472>=2,1,0),IF(C472=\"OSR\",IF(AND(K472>=2,Q472>60)=TRUE,1,0),IF(C472=\"OSRH\",IF(AND(K472>=1,Q472>90)=TRUE,1,0),IF(C472=\"OHLC\",IF(AND(N472=\"Y\",Q472>60)=TRUE,1,0),IF(C472=\"DDC\",IF(AND(K472>=4,N472=\"Y\",Q472>120)=TRUE,1,0),0))))))","v":""}]
[null,null,"",null,null,null,null,null,null,null,null,null,null,null,null,0,0,0,0,"",0,0,0,0,0,{"$f":"IF($H$4=\"\",0,VLOOKUP($H$4,BuildingType_Lookup,3,FALSE))","v":0},{"$f":"IF($H$4=\"\",0,VLOOKUP($H$4,BuildingType_Lookup,2,FALSE))","v":0},{"$f":"IF(AND(OR(AN473=\"\",AN473=0)=TRUE,OR(AO473=\"\",AO473=0))=TRUE,0,IF(AO473=\"\",(IF(OR(C473=\"DDC\",C473=\"OHLC\")=TRUE,O473,P473)/1000)*Y473*Z473*(1+VLOOKUP($H$4,BuildingType_Lookup,4,FALSE)),IF(AO473=0,0,(IF(OR(C473=\"DDC\",C473=\"OHLC\")=TRUE,O473,Q473)/1000)*Y473*Z473*(1+VLOOKUP($H$4,BuildingType_Lookup,4,FALSE)))))","v":0},{"$f":"IF(AND(OR(AN473=\"\",AN473=0)=TRUE,OR(AO473=\"\",AO473=0))=TRUE,0,IF(AO473=\"\",(IF(OR(C473=\"DDC\",C473=\"OHLC\")=TRUE,O473,P473)/1000)*Y473*AA473*(1+VLOOKUP($H$4,BuildingType_Lookup,MATCH($H$5,HVAC,0)+4,FALSE)),IF(AO473=0,0,(IF(OR(C473=\"DDC\",C473=\"OHLC\")=TRUE,O473,Q473)/1000)*Y473*AA473*(1+VLOOKUP($H$4,BuildingType_Lookup,MATCH($H$5,HVAC,0)+4,FALSE)))))","v":0},0,0,0,0,0,0,{"$f":"W473/1000*Y473*AA473*IF(IFERROR(SEARCH(\"Gas\",$H$5),0)>0,VLOOKUP(\"Gas\",HVACg_Lookup,MATCH($H$6,BuildingSize,0)+1,FALSE),IF(IFERROR(SEARCH(\"Oil\",$H$5),0)>0,VLOOKUP(\"Oil\",HVACg_Lookup,MATCH($H$6,BuildingSize,0)+1,FALSE),IF(IFERROR(SEARCH(\"Propane\",$H$5),0)>0,VLOOKUP(\"Propane\",HVACg_Lookup,MATCH(Worksheet!$H$6,BuildingSize,0)+1,FALSE),0)))","v":0},{"$f":"X473/1000*Y473*AA473*IF(IFERROR(SEARCH(\"Gas\",$H$5),0)>0,VLOOKUP(\"Gas\",HVACg_Lookup,MATCH($H$6,BuildingSize,0)+1,FALSE),IF(IFERROR(SEARCH(\"Oil\",$H$5),0)>0,VLOOKUP(\"Oil\",HVACg_Lookup,MATCH($H$6,BuildingSize,0)+1,FALSE),IF(IFERROR(SEARCH(\"Propane\",$H$5),0)>0,VLOOKUP(\"Propane\",HVACg_Lookup,MATCH(Worksheet!$H$6,BuildingSize,0)+1,FALSE),0)))","v":0},0,0,{"$f":"IF(OR($B$4=\"\",$B$5=\"\",$H$4=\"\",$H$6=\"\",$H$5=\"\",A473=\"\",F473=\"\",J473=\"\",O473=\"\",P473=\"\")=TRUE,\"\",IF(C473=\"OSW\",IF(J473>=2,1,0),IF(C473=\"OSR\",IF(AND(J473>=2,P473>60)=TRUE,1,0),IF(C473=\"OSRH\",IF(AND(J473>=1,P473>90)=TRUE,1,0),IF(C473=\"OHLC\",IF(AND(N473=\"Y\",P473>60)=TRUE,1,0),IF(C473=\"DDC\",IF(AND(J473>=4,N473=\"Y\",P473>120)=TRUE,1,0),0))))))","v":""},{"$f":"IF(OR($B$4=\"\",$B$5=\"\",$H$4=\"\",$H$6=\"\",$H$5=\"\",A473=\"\",F473=\"\",K473=\"\",O473=\"\",P473=\"\")=TRUE,\"\",IF(C473=\"OSW\",IF(K473>=2,1,0),IF(C473=\"OSR\",IF(AND(K473>=2,Q473>60)=TRUE,1,0),IF(C473=\"OSRH\",IF(AND(K473>=1,Q473>90)=TRUE,1,0),IF(C473=\"OHLC\",IF(AND(N473=\"Y\",Q473>60)=TRUE,1,0),IF(C473=\"DDC\",IF(AND(K473>=4,N473=\"Y\",Q473>120)=TRUE,1,0),0))))))","v":""}]
[null,null,"",null,null,null,null,null,null,null,null,null,null,null,null,0,0,0,0,"",0,0,0,0,0,{"$f":"IF($H$4=\"\",0,VLOOKUP($H$4,BuildingType_Lookup,3,FALSE))","v":0},{"$f":"IF($H$4=\"\",0,VLOOKUP($H$4,BuildingType_Lookup,2,FALSE))","v":0},{"$f":"IF(AND(OR(AN474=\"\",AN474=0)=TRUE,OR(AO474=\"\",AO474=0))=TRUE,0,IF(AO474=\"\",(IF(OR(C474=\"DDC\",C474=\"OHLC\")=TRUE,O474,P474)/1000)*Y474*Z474*(1+VLOOKUP($H$4,BuildingType_Lookup,4,FALSE)),IF(AO474=0,0,(IF(OR(C474=\"DDC\",C474=\"OHLC\")=TRUE,O474,Q474)/1000)*Y474*Z474*(1+VLOOKUP($H$4,BuildingType_Lookup,4,FALSE)))))","v":0},{"$f":"IF(AND(OR(AN474=\"\",AN474=0)=TRUE,OR(AO474=\"\",AO474=0))=TRUE,0,IF(AO474=\"\",(IF(OR(C474=\"DDC\",C474=\"OHLC\")=TRUE,O474,P474)/1000)*Y474*AA474*(1+VLOOKUP($H$4,BuildingType_Lookup,MATCH($H$5,HVAC,0)+4,FALSE)),IF(AO474=0,0,(IF(OR(C474=\"DDC\",C474=\"OHLC\")=TRUE,O474,Q474)/1000)*Y474*AA474*(1+VLOOKUP($H$4,BuildingType_Lookup,MATCH($H$5,HVAC,0)+4,FALSE)))))","v":0},0,0,0,0,0,0,{"$f":"W474/1000*Y474*AA474*IF(IFERROR(SEARCH(\"Gas\",$H$5),0)>0,VLOOKUP(\"Gas\",HVACg_Lookup,MATCH($H$6,BuildingSize,0)+1,FALSE),IF(IFERROR(SEARCH(\"Oil\",$H$5),0)>0,VLOOKUP(\"Oil\",HVACg_Lookup,MATCH($H$6,BuildingSize,0)+1,FALSE),IF(IFERROR(SEARCH(\"Propane\",$H$5),0)>0,VLOOKUP(\"Propane\",HVACg_Lookup,MATCH(Worksheet!$H$6,BuildingSize,0)+1,FALSE),0)))","v":0},{"$f":"X474/1000*Y474*AA474*IF(IFERROR(SEARCH(\"Gas\",$H$5),0)>0,VLOOKUP(\"Gas\",HVACg_Lookup,MATCH($H$6,BuildingSize,0)+1,FALSE),IF(IFERROR(SEARCH(\"Oil\",$H$5),0)>0,VLOOKUP(\"Oil\",HVACg_Lookup,MATCH($H$6,BuildingSize,0)+1,FALSE),IF(IFERROR(SEARCH(\"Propane\",$H$5),0)>0,VLOOKUP(\"Propane\",HVACg_Lookup,MATCH(Worksheet!$H$6,BuildingSize,0)+1,FALSE),0)))","v":0},0,0,{"$f":"IF(OR($B$4=\"\",$B$5=\"\",$H$4=\"\",$H$6=\"\",$H$5=\"\",A474=\"\",F474=\"\",J474=\"\",O474=\"\",P474=\"\")=TRUE,\"\",IF(C474=\"OSW\",IF(J474>=2,1,0),IF(C474=\"OSR\",IF(AND(J474>=2,P474>60)=TRUE,1,0),IF(C474=\"OSRH\",IF(AND(J474>=1,P474>90)=TRUE,1,0),IF(C474=\"OHLC\",IF(AND(N474=\"Y\",P474>60)=TRUE,1,0),IF(C474=\"DDC\",IF(AND(J474>=4,N474=\"Y\",P474>120)=TRUE,1,0),0))))))","v":""},{"$f":"IF(OR($B$4=\"\",$B$5=\"\",$H$4=\"\",$H$6=\"\",$H$5=\"\",A474=\"\",F474=\"\",K474=\"\",O474=\"\",P474=\"\")=TRUE,\"\",IF(C474=\"OSW\",IF(K474>=2,1,0),IF(C474=\"OSR\",IF(AND(K474>=2,Q474>60)=TRUE,1,0),IF(C474=\"OSRH\",IF(AND(K474>=1,Q474>90)=TRUE,1,0),IF(C474=\"OHLC\",IF(AND(N474=\"Y\",Q474>60)=TRUE,1,0),IF(C474=\"DDC\",IF(AND(K474>=4,N474=\"Y\",Q474>120)=TRUE,1,0),0))))))","v":""}]
[null,null,"",null,null,null,null,null,null,null,null,null,null,null,null,0,0,0,0,"",0,0,0,0,0,{"$f":"IF($H$4=\"\",0,VLOOKUP($H$4,BuildingType_Lookup,3,FALSE))","v":0},{"$f":"IF($H$4=\"\",0,VLOOKUP($H$4,BuildingType_Lookup,2,FALSE))","v":0},{"$f":"IF(AND(OR(AN475=\"\",AN475=0)=TRUE,OR(AO475=\"\",AO475=0))=TRUE,0,IF(AO475=\"\",(IF(OR(C475=\"DDC\",C475=\"OHLC\")=TRUE,O475,P475)/1000)*Y475*Z475*(1+VLOOKUP($H$4,BuildingType_Lookup,4,FALSE)),IF(AO475=0,0,(IF(OR(C475=\"DDC\",C475=\"OHLC\")=TRUE,O475,Q475)/1000)*Y475*Z475*(1+VLOOKUP($H$4,BuildingType_Lookup,4,FALSE)))))","v":0},{"$f":"IF(AND(OR(AN475=\"\",AN475=0)=TRUE,OR(AO475=\"\",AO475=0))=TRUE,0,IF(AO475=\"\",(IF(OR(C475=\"DDC\",C475=\"OHLC\")=TRUE,O475,P475)/1000)*Y475*AA475*(1+VLOOKUP($H$4,BuildingType_Lookup,MATCH($H$5,HVAC,0)+4,FALSE)),IF(AO475=0,0,(IF(OR(C475=\"DDC\",C475=\"OHLC\")=TRUE,O475,Q475)/1000)*Y475*AA475*(1+VLOOKUP($H$4,BuildingType_Lookup,MATCH($H$5,HVAC,0)+4,FALSE)))))","v":0},0,0,0,0,0,0,{"$f":"W475/1000*Y475*AA475*IF(IFERROR(SEARCH(\"Gas\",$H$5),0)>0,VLOOKUP(\"Gas\",HVACg_Lookup,MATCH($H$6,BuildingSize,0)+1,FALSE),IF(IFERROR(SEARCH(\"Oil\",$H$5),0)>0,VLOOKUP(\"Oil\",HVACg_Lookup,MATCH($H$6,BuildingSize,0)+1,FALSE),IF(IFERROR(SEARCH(\"Propane\",$H$5),0)>0,VLOOKUP(\"Propane\",HVACg_Lookup,MATCH(Worksheet!$H$6,BuildingSize,0)+1,FALSE),0)))","v":0},{"$f":"X475/1000*Y475*AA475*IF(IFERROR(SEARCH(\"Gas\",$H$5),0)>0,VLOOKUP(\"Gas\",HVACg_Lookup,MATCH($H$6,BuildingSize,0)+1,FALSE),IF(IFERROR(SEARCH(\"Oil\",$H$5),0)>0,VLOOKUP(\"Oil\",HVACg_Lookup,MATCH($H$6,BuildingSize,0)+1,FALSE),IF(IFERROR(SEARCH(\"Propane\",$H$5),0)>0,VLOOKUP(\"Propane\",HVACg_Lookup,MATCH(Worksheet!$H$6,BuildingSize,0)+1,FALSE),0)))","v":0},0,0,{"$f":"IF(OR($B$4=\"\",$B$5=\"\",$H$4=\"\",$H$6=\"\",$H$5=\"\",A475=\"\",F475=\"\",J475=\"\",O475=\"\",P475=\"\")=TRUE,\"\",IF(C475=\"OSW\",IF(J475>=2,1,0),IF(C475=\"OSR\",IF(AND(J475>=2,P475>60)=TRUE,1,0),IF(C475=\"OSRH\",IF(AND(J475>=1,P475>90)=TRUE,1,0),IF(C475=\"OHLC\",IF(AND(N475=\"Y\",P475>60)=TRUE,1,0),IF(C475=\"DDC\",IF(AND(J475>=4,N475=\"Y\",P475>120)=TRUE,1,0),0))))))","v":""},{"$f":"IF(OR($B$4=\"\",$B$5=\"\",$H$4=\"\",$H$6=\"\",$H$5=\"\",A475=\"\",F475=\"\",K475=\"\",O475=\"\",P475=\"\")=TRUE,\"\",IF(C475=\"OSW\",IF(K475>=2,1,0),IF(C475=\"OSR\",IF(AND(K475>=2,Q475>60)=TRUE,1,0),IF(C475=\"OSRH\",IF(AND(K475>=1,Q475>90)=TRUE,1,0),IF(C475=\"OHLC\",IF(AND(N475=\"Y\",Q475>60)=TRUE,1,0),IF(C475=\"DDC\",IF(AND(K475>=4,N475=\"Y\",Q475>120)=TRUE,1,0),0))))))","v":""}]
[null,null,"",null,null,null,null,null,null,null,null,null,null,null,null,0,0,0,0,"",0,0,0,0,0,{"$f":"IF($H$4=\"\",0,VLOOKUP($H$4,BuildingType_Lookup,3,FALSE))","v":0},{"$f":"IF($H$4=\"\",0,VLOOKUP($H$4,BuildingType_Lookup,2,FALSE))","v":0},{"$f":"IF(AND(OR(AN476=\"\",AN476=0)=TRUE,OR(AO476=\"\",AO476=0))=TRUE,0,IF(AO476=\"\",(IF(OR(C476=\"DDC\",C476=\"OHLC\")=TRUE,O476,P476)/1000)*Y476*Z476*(1+VLOOKUP($H$4,BuildingType_Lookup,4,FALSE)),IF(AO476=0,0,(IF(OR(C476=\"DDC\",C476=\"OHLC\")=TRUE,O476,Q476)/1000)*Y476*Z476*(1+VLOOKUP($H$4,BuildingType_Lookup,4,FALSE)))))","v":0},{"$f":"IF(AND(OR(AN476=\"\",AN476=0)=TRUE,OR(AO476=\"\",AO476=0))=TRUE,0,IF(AO476=\"\",(IF(OR(C476=\"DDC\",C476=\"OHLC\")=TRUE,O476,P476)/1000)*Y476*AA476*(1+VLOOKUP($H$4,BuildingType_Lookup,MATCH($H$5,HVAC,0)+4,FALSE)),IF(AO476=0,0,(IF(OR(C476=\"DDC\",C476=\"OHLC\")=TRUE,O476,Q476)/1000)*Y476*AA476*(1+VLOOKUP($H$4,BuildingType_Lookup,MATCH($H$5,HVAC,0)+4,FALSE)))))","v":0},0,0,0,0,0,0,{"$f":"W476/1000*Y476*AA476*IF(IFERROR(SEARCH(\"Gas\",$H$5),0)>0,VLOOKUP(\"Gas\",HVACg_Lookup,MATCH($H$6,BuildingSize,0)+1,FALSE),IF(IFERROR(SEARCH(\"Oil\",$H$5),0)>0,VLOOKUP(\"Oil\",HVACg_Lookup,MATCH($H$6,BuildingSize,0)+1,FALSE),IF(IFERROR(SEARCH(\"Propane\",$H$5),0)>0,VLOOKUP(\"Propane\",HVACg_Lookup,MATCH(Worksheet!$H$6,BuildingSize,0)+1,FALSE),0)))","v":0},{"$f":"X476/1000*Y476*AA476*IF(IFERROR(SEARCH(\"Gas\",$H$5),0)>0,VLOOKUP(\"Gas\",HVACg_Lookup,MATCH($H$6,BuildingSize,0)+1,FALSE),IF(IFERROR(SEARCH(\"Oil\",$H$5),0)>0,VLOOKUP(\"Oil\",HVACg_Lookup,MATCH($H$6,BuildingSize,0)+1,FALSE),IF(IFERROR(SEARCH(\"Propane\",$H$5),0)>0,VLOOKUP(\"Propane\",HVACg_Lookup,MATCH(Worksheet!$H$6,BuildingSize,0)+1,FALSE),0)))","v":0},0,0,{"$f":"IF(OR($B$4=\"\",$B$5=\"\",$H$4=\"\",$H$6=\"\",$H$5=\"\",A476=\"\",F476=\"\",J476=\"\",O476=\"\",P476=\"\")=TRUE,\"\",IF(C476=\"OSW\",IF(J476>=2,1,0),IF(C476=\"OSR\",IF(AND(J476>=2,P476>60)=TRUE,1,0),IF(C476=\"OSRH\",IF(AND(J476>=1,P476>90)=TRUE,1,0),IF(C476=\"OHLC\",IF(AND(N476=\"Y\",P476>60)=TRUE,1,0),IF(C476=\"DDC\",IF(AND(J476>=4,N476=\"Y\",P476>120)=TRUE,1,0),0))))))","v":""},{"$f":"IF(OR($B$4=\"\",$B$5=\"\",$H$4=\"\",$H$6=\"\",$H$5=\"\",A476=\"\",F476=\"\",K476=\"\",O476=\"\",P476=\"\")=TRUE,\"\",IF(C476=\"OSW\",IF(K476>=2,1,0),IF(C476=\"OSR\",IF(AND(K476>=2,Q476>60)=TRUE,1,0),IF(C476=\"OSRH\",IF(AND(K476>=1,Q476>90)=TRUE,1,0),IF(C476=\"OHLC\",IF(AND(N476=\"Y\",Q476>60)=TRUE,1,0),IF(C476=\"DDC\",IF(AND(K476>=4,N476=\"Y\",Q476>120)=TRUE,1,0),0))))))","v":""}]
[null,null,"",null,null,null,null,null,null,null,null,null,null,null,null,0,0,0,0,"",0,0,0,0,0,{"$f":"IF($H$4=\"\",0,VLOOKUP($H$4,BuildingType_Lookup,3,FALSE))","v":0},{"$f":"IF($H$4=\"\",0,VLOOKUP($H$4,BuildingType_Lookup,2,FALSE))","v":0},{"$f":"IF(AND(OR(AN477=\"\",AN477=0)=TRUE,OR(AO477=\"\",AO477=0))=TRUE,0,IF(AO477=\"\",(IF(OR(C477=\"DDC\",C477=\"OHLC\")=TRUE,O477,P477)/1000)*Y477*Z477*(1+VLOOKUP($H$4,BuildingType_Lookup,4,FALSE)),IF(AO477=0,0,(IF(OR(C477=\"DDC\",C477=\"OHLC\")=TRUE,O477,Q477)/1000)*Y477*Z477*(1+VLOOKUP($H$4,BuildingType_Lookup,4,FALSE)))))","v":0},{"$f":"IF(AND(OR(AN477=\"\",AN477=0)=TRUE,OR(AO477=\"\",AO477=0))=TRUE,0,IF(AO477=\"\",(IF(OR(C477=\"DDC\",C477=\"OHLC\")=TRUE,O477,P477)/1000)*Y477*AA477*(1+VLOOKUP($H$4,BuildingType_Lookup,MATCH($H$5,HVAC,0)+4,FALSE)),IF(AO477=0,0,(IF(OR(C477=\"DDC\",C477=\"OHLC\")=TRUE,O477,Q477)/1000)*Y477*AA477*(1+VLOOKUP($H$4,BuildingType_Lookup,MATCH($H$5,HVAC,0)+4,FALSE)))))","v":0},0,0,0,0,0,0,{"$f":"W477/1000*Y477*AA477*IF(IFERROR(SEARCH(\"Gas\",$H$5),0)>0,VLOOKUP(\"Gas\",HVACg_Lookup,MATCH($H$6,BuildingSize,0)+1,FALSE),IF(IFERROR(SEARCH(\"Oil\",$H$5),0)>0,VLOOKUP(\"Oil\",HVACg_Lookup,MATCH($H$6,BuildingSize,0)+1,FALSE),IF(IFERROR(SEARCH(\"Propane\",$H$5),0)>0,VLOOKUP(\"Propane\",HVACg_Lookup,MATCH(Worksheet!$H$6,BuildingSize,0)+1,FALSE),0)))","v":0},{"$f":"X477/1000*Y477*AA477*IF(IFERROR(SEARCH(\"Gas\",$H$5),0)>0,VLOOKUP(\"Gas\",HVACg_Lookup,MATCH($H$6,BuildingSize,0)+1,FALSE),IF(IFERROR(SEARCH(\"Oil\",$H$5),0)>0,VLOOKUP(\"Oil\",HVACg_Lookup,MATCH($H$6,BuildingSize,0)+1,FALSE),IF(IFERROR(SEARCH(\"Propane\",$H$5),0)>0,VLOOKUP(\"Propane\",HVACg_Lookup,MATCH(Worksheet!$H$6,BuildingSize,0)+1,FALSE),0)))","v":0},0,0,{"$f":"IF(OR($B$4=\"\",$B$5=\"\",$H$4=\"\",$H$6=\"\",$H$5=\"\",A477=\"\",F477=\"\",J477=\"\",O477=\"\",P477=\"\")=TRUE,\"\",IF(C477=\"OSW\",IF(J477>=2,1,0),IF(C477=\"OSR\",IF(AND(J477>=2,P477>60)=TRUE,1,0),IF(C477=\"OSRH\",IF(AND(J477>=1,P477>90)=TRUE,1,0),IF(C477=\"OHLC\",IF(AND(N477=\"Y\",P477>60)=TRUE,1,0),IF(C477=\"DDC\",IF(AND(J477>=4,N477=\"Y\",P477>120)=TRUE,1,0),0))))))","v":""},{"$f":"IF(OR($B$4=\"\",$B$5=\"\",$H$4=\"\",$H$6=\"\",$H$5=\"\",A477=\"\",F477=\"\",K477=\"\",O477=\"\",P477=\"\")=TRUE,\"\",IF(C477=\"OSW\",IF(K477>=2,1,0),IF(C477=\"OSR\",IF(AND(K477>=2,Q477>60)=TRUE,1,0),IF(C477=\"OSRH\",IF(AND(K477>=1,Q477>90)=TRUE,1,0),IF(C477=\"OHLC\",IF(AND(N477=\"Y\",Q477>60)=TRUE,1,0),IF(C477=\"DDC\",IF(AND(K477>=4,N477=\"Y\",Q477>120)=TRUE,1,0),0))))))","v":""}]
[null,null,"",null,null,null,null,null,null,null,null,null,null,null,null,0,0,0,0,"",0,0,0,0,0,{"$f":"IF($H$4=\"\",0,VLOOKUP($H$4,BuildingType_Lookup,3,FALSE))","v":0},{"$f":"IF($H$4=\"\",0,VLOOKUP($H$4,BuildingType_Lookup,2,FALSE))","v":0},{"$f":"IF(AND(OR(AN478=\"\",AN478=0)=TRUE,OR(AO478=\"\",AO478=0))=TRUE,0,IF(AO478=\"\",(IF(OR(C478=\"DDC\",C478=\"OHLC\")=TRUE,O478,P478)/1000)*Y478*Z478*(1+VLOOKUP($H$4,BuildingType_Lookup,4,FALSE)),IF(AO478=0,0,(IF(OR(C478=\"DDC\",C478=\"OHLC\")=TRUE,O478,Q478)/1000)*Y478*Z478*(1+VLOOKUP($H$4,BuildingType_Lookup,4,FALSE)))))","v":0},{"$f":"IF(AND(OR(AN478=\"\",AN478=0)=TRUE,OR(AO478=\"\",AO478=0))=TRUE,0,IF(AO478=\"\",(IF(OR(C478=\"DDC\",C478=\"OHLC\")=TRUE,O478,P478)/1000)*Y478*AA478*(1+VLOOKUP($H$4,BuildingType_Lookup,MATCH($H$5,HVAC,0)+4,FALSE)),IF(AO478=0,0,(IF(OR(C478=\"DDC\",C478=\"OHLC\")=TRUE,O478,Q478)/1000)*Y478*AA478*(1+VLOOKUP($H$4,BuildingType_Lookup,MATCH($H$5,HVAC,0)+4,FALSE)))))","v":0},0,0,0,0,0,0,{"$f":"W478/1000*Y478*AA478*IF(IFERROR(SEARCH(\"Gas\",$H$5),0)>0,VLOOKUP(\"Gas\",HVACg_Lookup,MATCH($H$6,BuildingSize,0)+1,FALSE),IF(IFERROR(SEARCH(\"Oil\",$H$5),0)>0,VLOOKUP(\"Oil\",HVACg_Lookup,MATCH($H$6,BuildingSize,0)+1,FALSE),IF(IFERROR(SEARCH(\"Propane\",$H$5),0)>0,VLOOKUP(\"Propane\",HVACg_Lookup,MATCH(Worksheet!$H$6,BuildingSize,0)+1,FALSE),0)))","v":0},{"$f":"X478/1000*Y478*AA478*IF(IFERROR(SEARCH(\"Gas\",$H$5),0)>0,VLOOKUP(\"Gas\",HVACg_Lookup,MATCH($H$6,BuildingSize,0)+1,FALSE),IF(IFERROR(SEARCH(\"Oil\",$H$5),0)>0,VLOOKUP(\"Oil\",HVACg_Lookup,MATCH($H$6,BuildingSize,0)+1,FALSE),IF(IFERROR(SEARCH(\"Propane\",$H$5),0)>0,VLOOKUP(\"Propane\",HVACg_Lookup,MATCH(Worksheet!$H$6,BuildingSize,0)+1,FALSE),0)))","v":0},0,0,{"$f":"IF(OR($B$4=\"\",$B$5=\"\",$H$4=\"\",$H$6=\"\",$H$5=\"\",A478=\"\",F478=\"\",J478=\"\",O478=\"\",P478=\"\")=TRUE,\"\",IF(C478=\"OSW\",IF(J478>=2,1,0),IF(C478=\"OSR\",IF(AND(J478>=2,P478>60)=TRUE,1,0),IF(C478=\"OSRH\",IF(AND(J478>=1,P478>90)=TRUE,1,0),IF(C478=\"OHLC\",IF(AND(N478=\"Y\",P478>60)=TRUE,1,0),IF(C478=\"DDC\",IF(AND(J478>=4,N478=\"Y\",P478>120)=TRUE,1,0),0))))))","v":""},{"$f":"IF(OR($B$4=\"\",$B$5=\"\",$H$4=\"\",$H$6=\"\",$H$5=\"\",A478=\"\",F478=\"\",K478=\"\",O478=\"\",P478=\"\")=TRUE,\"\",IF(C478=\"OSW\",IF(K478>=2,1,0),IF(C478=\"OSR\",IF(AND(K478>=2,Q478>60)=TRUE,1,0),IF(C478=\"OSRH\",IF(AND(K478>=1,Q478>90)=TRUE,1,0),IF(C478=\"OHLC\",IF(AND(N478=\"Y\",Q478>60)=TRUE,1,0),IF(C478=\"DDC\",IF(AND(K478>=4,N478=\"Y\",Q478>120)=TRUE,1,0),0))))))","v":""}]
[null,null,"",null,null,null,null,null,null,null,null,null,null,null,null,0,0,0,0,"",0,0,0,0,0,{"$f":"IF($H$4=\"\",0,VLOOKUP($H$4,BuildingType_Lookup,3,FALSE))","v":0},{"$f":"IF($H$4=\"\",0,VLOOKUP($H$4,BuildingType_Lookup,2,FALSE))","v":0},{"$f":"IF(AND(OR(AN479=\"\",AN479=0)=TRUE,OR(AO479=\"\",AO479=0))=TRUE,0,IF(AO479=\"\",(IF(OR(C479=\"DDC\",C479=\"OHLC\")=TRUE,O479,P479)/1000)*Y479*Z479*(1+VLOOKUP($H$4,BuildingType_Lookup,4,FALSE)),IF(AO479=0,0,(IF(OR(C479=\"DDC\",C479=\"OHLC\")=TRUE,O479,Q479)/1000)*Y479*Z479*(1+VLOOKUP($H$4,BuildingType_Lookup,4,FALSE)))))","v":0},{"$f":"IF(AND(OR(AN479=\"\",AN479=0)=TRUE,OR(AO479=\"\",AO479=0))=TRUE,0,IF(AO479=\"\",(IF(OR(C479=\"DDC\",C479=\"OHLC\")=TRUE,O479,P479)/1000)*Y479*AA479*(1+VLOOKUP($H$4,BuildingType_Lookup,MATCH($H$5,HVAC,0)+4,FALSE)),IF(AO479=0,0,(IF(OR(C479=\"DDC\",C479=\"OHLC\")=TRUE,O479,Q479)/1000)*Y479*AA479*(1+VLOOKUP($H$4,BuildingType_Lookup,MATCH($H$5,HVAC,0)+4,FALSE)))))","v":0},0,0,0,0,0,0,{"$f":"W479/1000*Y479*AA479*IF(IFERROR(SEARCH(\"Gas\",$H$5),0)>0,VLOOKUP(\"Gas\",HVACg_Lookup,MATCH($H$6,BuildingSize,0)+1,FALSE),IF(IFERROR(SEARCH(\"Oil\",$H$5),0)>0,VLOOKUP(\"Oil\",HVACg_Lookup,MATCH($H$6,BuildingSize,0)+1,FALSE),IF(IFERROR(SEARCH(\"Propane\",$H$5),0)>0,VLOOKUP(\"Propane\",HVACg_Lookup,MATCH(Worksheet!$H$6,BuildingSize,0)+1,FALSE),0)))","v":0},{"$f":"X479/1000*Y479*AA479*IF(IFERROR(SEARCH(\"Gas\",$H$5),0)>0,VLOOKUP(\"Gas\",HVACg_Lookup,MATCH($H$6,BuildingSize,0)+1,FALSE),IF(IFERROR(SEARCH(\"Oil\",$H$5),0)>0,VLOOKUP(\"Oil\",HVACg_Lookup,MATCH($H$6,BuildingSize,0)+1,FALSE),IF(IFERROR(SEARCH(\"Propane\",$H$5),0)>0,VLOOKUP(\"Propane\",HVACg_Lookup,MATCH(Worksheet!$H$6,BuildingSize,0)+1,FALSE),0)))","v":0},0,0,{"$f":"IF(OR($B$4=\"\",$B$5=\"\",$H$4=\"\",$H$6=\"\",$H$5=\"\",A479=\"\",F479=\"\",J479=\"\",O479=\"\",P479=\"\")=TRUE,\"\",IF(C479=\"OSW\",IF(J479>=2,1,0),IF(C479=\"OSR\",IF(AND(J479>=2,P479>60)=TRUE,1,0),IF(C479=\"OSRH\",IF(AND(J479>=1,P479>90)=TRUE,1,0),IF(C479=\"OHLC\",IF(AND(N479=\"Y\",P479>60)=TRUE,1,0),IF(C479=\"DDC\",IF(AND(J479>=4,N479=\"Y\",P479>120)=TRUE,1,0),0))))))","v":""},{"$f":"IF(OR($B$4=\"\",$B$5=\"\",$H$4=\"\",$H$6=\"\",$H$5=\"\",A479=\"\",F479=\"\",K479=\"\",O479=\"\",P479=\"\")=TRUE,\"\",IF(C479=\"OSW\",IF(K479>=2,1,0),IF(C479=\"OSR\",IF(AND(K479>=2,Q479>60)=TRUE,1,0),IF(C479=\"OSRH\",IF(AND(K479>=1,Q479>90)=TRUE,1,0),IF(C479=\"OHLC\",IF(AND(N479=\"Y\",Q479>60)=TRUE,1,0),IF(C479=\"DDC\",IF(AND(K479>=4,N479=\"Y\",Q479>120)=TRUE,1,0),0))))))","v":""}]
[null,null,"",null,null,null,null,null,null,null,null,null,null,null,null,0,0,0,0,"",0,0,0,0,0,{"$f":"IF($H$4=\"\",0,VLOOKUP($H$4,BuildingType_Lookup,3,FALSE))","v":0},{"$f":"IF($H$4=\"\",0,VLOOKUP($H$4,BuildingType_Lookup,2,FALSE))","v":0},{"$f":"IF(AND(OR(AN480=\"\",AN480=0)=TRUE,OR(AO480=\"\",AO480=0))=TRUE,0,IF(AO480=\"\",(IF(OR(C480=\"DDC\",C480=\"OHLC\")=TRUE,O480,P480)/1000)*Y480*Z480*(1+VLOOKUP($H$4,BuildingType_Lookup,4,FALSE)),IF(AO480=0,0,(IF(OR(C480=\"DDC\",C480=\"OHLC\")=TRUE,O480,Q480)/1000)*Y480*Z480*(1+VLOOKUP($H$4,BuildingType_Lookup,4,FALSE)))))","v":0},{"$f":"IF(AND(OR(AN480=\"\",AN480=0)=TRUE,OR(AO480=\"\",AO480=0))=TRUE,0,IF(AO480=\"\",(IF(OR(C480=\"DDC\",C480=\"OHLC\")=TRUE,O480,P480)/1000)*Y480*AA480*(1+VLOOKUP($H$4,BuildingType_Lookup,MATCH($H$5,HVAC,0)+4,FALSE)),IF(AO480=0,0,(IF(OR(C480=\"DDC\",C480=\"OHLC\")=TRUE,O480,Q480)/1000)*Y480*AA480*(1+VLOOKUP($H$4,BuildingType_Lookup,MATCH($H$5,HVAC,0)+4,FALSE)))))","v":0},0,0,0,0,0,0,{"$f":"W480/1000*Y480*AA480*IF(IFERROR(SEARCH(\"Gas\",$H$5),0)>0,VLOOKUP(\"Gas\",HVACg_Lookup,MATCH($H$6,BuildingSize,0)+1,FALSE),IF(IFERROR(SEARCH(\"Oil\",$H$5),0)>0,VLOOKUP(\"Oil\",HVACg_Lookup,MATCH($H$6,BuildingSize,0)+1,FALSE),IF(IFERROR(SEARCH(\"Propane\",$H$5),0)>0,VLOOKUP(\"Propane\",HVACg_Lookup,MATCH(Worksheet!$H$6,BuildingSize,0)+1,FALSE),0)))","v":0},{"$f":"X480/1000*Y480*AA480*IF(IFERROR(SEARCH(\"Gas\",$H$5),0)>0,VLOOKUP(\"Gas\",HVACg_Lookup,MATCH($H$6,BuildingSize,0)+1,FALSE),IF(IFERROR(SEARCH(\"Oil\",$H$5),0)>0,VLOOKUP(\"Oil\",HVACg_Lookup,MATCH($H$6,BuildingSize,0)+1,FALSE),IF(IFERROR(SEARCH(\"Propane\",$H$5),0)>0,VLOOKUP(\"Propane\",HVACg_Lookup,MATCH(Worksheet!$H$6,BuildingSize,0)+1,FALSE),0)))","v":0},0,0,{"$f":"IF(OR($B$4=\"\",$B$5=\"\",$H$4=\"\",$H$6=\"\",$H$5=\"\",A480=\"\",F480=\"\",J480=\"\",O480=\"\",P480=\"\")=TRUE,\"\",IF(C480=\"OSW\",IF(J480>=2,1,0),IF(C480=\"OSR\",IF(AND(J480>=2,P480>60)=TRUE,1,0),IF(C480=\"OSRH\",IF(AND(J480>=1,P480>90)=TRUE,1,0),IF(C480=\"OHLC\",IF(AND(N480=\"Y\",P480>60)=TRUE,1,0),IF(C480=\"DDC\",IF(AND(J480>=4,N480=\"Y\",P480>120)=TRUE,1,0),0))))))","v":""},{"$f":"IF(OR($B$4=\"\",$B$5=\"\",$H$4=\"\",$H$6=\"\",$H$5=\"\",A480=\"\",F480=\"\",K480=\"\",O480=\"\",P480=\"\")=TRUE,\"\",IF(C480=\"OSW\",IF(K480>=2,1,0),IF(C480=\"OSR\",IF(AND(K480>=2,Q480>60)=TRUE,1,0),IF(C480=\"OSRH\",IF(AND(K480>=1,Q480>90)=TRUE,1,0),IF(C480=\"OHLC\",IF(AND(N480=\"Y\",Q480>60)=TRUE,1,0),IF(C480=\"DDC\",IF(AND(K480>=4,N480=\"Y\",Q480>120)=TRUE,1,0),0))))))","v":""}]
[null,null,"",null,null,null,null,null,null,null,null,null,null,null,null,0,0,0,0,"",0,0,0,0,0,{"$f":"IF($H$4=\"\",0,VLOOKUP($H$4,BuildingType_Lookup,3,FALSE))","v":0},{"$f":"IF($H$4=\"\",0,VLOOKUP($H$4,BuildingType_Lookup,2,FALSE))","v":0},{"$f":"IF(AND(OR(AN481=\"\",AN481=0)=TRUE,OR(AO481=\"\",AO481=0))=TRUE,0,IF(AO481=\"\",(IF(OR(C481=\"DDC\",C481=\"OHLC\")=TRUE,O481,P481)/1000)*Y481*Z481*(1+VLOOKUP($H$4,BuildingType_Lookup,4,FALSE)),IF(AO481=0,0,(IF(OR(C481=\"DDC\",C481=\"OHLC\")=TRUE,O481,Q481)/1000)*Y481*Z481*(1+VLOOKUP($H$4,BuildingType_Lookup,4,FALSE)))))","v":0},{"$f":"IF(AND(OR(AN481=\"\",AN481=0)=TRUE,OR(AO481=\"\",AO481=0))=TRUE,0,IF(AO481=\"\",(IF(OR(C481=\"DDC\",C481=\"OHLC\")=TRUE,O481,P481)/1000)*Y481*AA481*(1+VLOOKUP($H$4,BuildingType_Lookup,MATCH($H$5,HVAC,0)+4,FALSE)),IF(AO481=0,0,(IF(OR(C481=\"DDC\",C481=\"OHLC\")=TRUE,O481,Q481)/1000)*Y481*AA481*(1+VLOOKUP($H$4,BuildingType_Lookup,MATCH($H$5,HVAC,0)+4,FALSE)))))","v":0},0,0,0,0,0,0,{"$f":"W481/1000*Y481*AA481*IF(IFERROR(SEARCH(\"Gas\",$H$5),0)>0,VLOOKUP(\"Gas\",HVACg_Lookup,MATCH($H$6,BuildingSize,0)+1,FALSE),IF(IFERROR(SEARCH(\"Oil\",$H$5),0)>0,VLOOKUP(\"Oil\",HVACg_Lookup,MATCH($H$6,BuildingSize,0)+1,FALSE),IF(IFERROR(SEARCH(\"Propane\",$H$5),0)>0,VLOOKUP(\"Propane\",HVACg_Lookup,MATCH(Worksheet!$H$6,BuildingSize,0)+1,FALSE),0)))","v":0},{"$f":"X481/1000*Y481*AA481*IF(IFERROR(SEARCH(\"Gas\",$H$5),0)>0,VLOOKUP(\"Gas\",HVACg_Lookup,MATCH($H$6,BuildingSize,0)+1,FALSE),IF(IFERROR(SEARCH(\"Oil\",$H$5),0)>0,VLOOKUP(\"Oil\",HVACg_Lookup,MATCH($H$6,BuildingSize,0)+1,FALSE),IF(IFERROR(SEARCH(\"Propane\",$H$5),0)>0,VLOOKUP(\"Propane\",HVACg_Lookup,MATCH(Worksheet!$H$6,BuildingSize,0)+1,FALSE),0)))","v":0},0,0,{"$f":"IF(OR($B$4=\"\",$B$5=\"\",$H$4=\"\",$H$6=\"\",$H$5=\"\",A481=\"\",F481=\"\",J481=\"\",O481=\"\",P481=\"\")=TRUE,\"\",IF(C481=\"OSW\",IF(J481>=2,1,0),IF(C481=\"OSR\",IF(AND(J481>=2,P481>60)=TRUE,1,0),IF(C481=\"OSRH\",IF(AND(J481>=1,P481>90)=TRUE,1,0),IF(C481=\"OHLC\",IF(AND(N481=\"Y\",P481>60)=TRUE,1,0),IF(C481=\"DDC\",IF(AND(J481>=4,N481=\"Y\",P481>120)=TRUE,1,0),0))))))","v":""},{"$f":"IF(OR($B$4=\"\",$B$5=\"\",$H$4=\"\",$H$6=\"\",$H$5=\"\",A481=\"\",F481=\"\",K481=\"\",O481=\"\",P481=\"\")=TRUE,\"\",IF(C481=\"OSW\",IF(K481>=2,1,0),IF(C481=\"OSR\",IF(AND(K481>=2,Q481>60)=TRUE,1,0),IF(C481=\"OSRH\",IF(AND(K481>=1,Q481>90)=TRUE,1,0),IF(C481=\"OHLC\",IF(AND(N481=\"Y\",Q481>60)=TRUE,1,0),IF(C481=\"DDC\",IF(AND(K481>=4,N481=\"Y\",Q481>120)=TRUE,1,0),0))))))","v":""}]
[null,null,"",null,null,null,null,null,null,null,null,null,null,null,null,0,0,0,0,"",0,0,0,0,0,{"$f":"IF($H$4=\"\",0,VLOOKUP($H$4,BuildingType_Lookup,3,FALSE))","v":0},{"$f":"IF($H$4=\"\",0,VLOOKUP($H$4,BuildingType_Lookup,2,FALSE))","v":0},{"$f":"IF(AND(OR(AN482=\"\",AN482=0)=TRUE,OR(AO482=\"\",AO482=0))=TRUE,0,IF(AO482=\"\",(IF(OR(C482=\"DDC\",C482=\"OHLC\")=TRUE,O482,P482)/1000)*Y482*Z482*(1+VLOOKUP($H$4,BuildingType_Lookup,4,FALSE)),IF(AO482=0,0,(IF(OR(C482=\"DDC\",C482=\"OHLC\")=TRUE,O482,Q482)/1000)*Y482*Z482*(1+VLOOKUP($H$4,BuildingType_Lookup,4,FALSE)))))","v":0},{"$f":"IF(AND(OR(AN482=\"\",AN482=0)=TRUE,OR(AO482=\"\",AO482=0))=TRUE,0,IF(AO482=\"\",(IF(OR(C482=\"DDC\",C482=\"OHLC\")=TRUE,O482,P482)/1000)*Y482*AA482*(1+VLOOKUP($H$4,BuildingType_Lookup,MATCH($H$5,HVAC,0)+4,FALSE)),IF(AO482=0,0,(IF(OR(C482=\"DDC\",C482=\"OHLC\")=TRUE,O482,Q482)/1000)*Y482*AA482*(1+VLOOKUP($H$4,BuildingType_Lookup,MATCH($H$5,HVAC,0)+4,FALSE)))))","v":0},0,0,0,0,0,0,{"$f":"W482/1000*Y482*AA482*IF(IFERROR(SEARCH(\"Gas\",$H$5),0)>0,VLOOKUP(\"Gas\",HVACg_Lookup,MATCH($H$6,BuildingSize,0)+1,FALSE),IF(IFERROR(SEARCH(\"Oil\",$H$5),0)>0,VLOOKUP(\"Oil\",HVACg_Lookup,MATCH($H$6,BuildingSize,0)+1,FALSE),IF(IFERROR(SEARCH(\"Propane\",$H$5),0)>0,VLOOKUP(\"Propane\",HVACg_Lookup,MATCH(Worksheet!$H$6,BuildingSize,0)+1,FALSE),0)))","v":0},{"$f":"X482/1000*Y482*AA482*IF(IFERROR(SEARCH(\"Gas\",$H$5),0)>0,VLOOKUP(\"Gas\",HVACg_Lookup,MATCH($H$6,BuildingSize,0)+1,FALSE),IF(IFERROR(SEARCH(\"Oil\",$H$5),0)>0,VLOOKUP(\"Oil\",HVACg_Lookup,MATCH($H$6,BuildingSize,0)+1,FALSE),IF(IFERROR(SEARCH(\"Propane\",$H$5),0)>0,VLOOKUP(\"Propane\",HVACg_Lookup,MATCH(Worksheet!$H$6,BuildingSize,0)+1,FALSE),0)))","v":0},0,0,{"$f":"IF(OR($B$4=\"\",$B$5=\"\",$H$4=\"\",$H$6=\"\",$H$5=\"\",A482=\"\",F482=\"\",J482=\"\",O482=\"\",P482=\"\")=TRUE,\"\",IF(C482=\"OSW\",IF(J482>=2,1,0),IF(C482=\"OSR\",IF(AND(J482>=2,P482>60)=TRUE,1,0),IF(C482=\"OSRH\",IF(AND(J482>=1,P482>90)=TRUE,1,0),IF(C482=\"OHLC\",IF(AND(N482=\"Y\",P482>60)=TRUE,1,0),IF(C482=\"DDC\",IF(AND(J482>=4,N482=\"Y\",P482>120)=TRUE,1,0),0))))))","v":""},{"$f":"IF(OR($B$4=\"\",$B$5=\"\",$H$4=\"\",$H$6=\"\",$H$5=\"\",A482=\"\",F482=\"\",K482=\"\",O482=\"\",P482=\"\")=TRUE,\"\",IF(C482=\"OSW\",IF(K482>=2,1,0),IF(C482=\"OSR\",IF(AND(K482>=2,Q482>60)=TRUE,1,0),IF(C482=\"OSRH\",IF(AND(K482>=1,Q482>90)=TRUE,1,0),IF(C482=\"OHLC\",IF(AND(N482=\"Y\",Q482>60)=TRUE,1,0),IF(C482=\"DDC\",IF(AND(K482>=4,N482=\"Y\",Q482>120)=TRUE,1,0),0))))))","v":""}]
[null,null,"",null,null,null,null,null,null,null,null,null,null,null,null,0,0,0,0,"",0,0,0,0,0,{"$f":"IF($H$4=\"\",0,VLOOKUP($H$4,BuildingType_Lookup,3,FALSE))","v":0},{"$f":"IF($H$4=\"\",0,VLOOKUP($H$4,BuildingType_Lookup,2,FALSE))","v":0},{"$f":"IF(AND(OR(AN483=\"\",AN483=0)=TRUE,OR(AO483=\"\",AO483=0))=TRUE,0,IF(AO483=\"\",(IF(OR(C483=\"DDC\",C483=\"OHLC\")=TRUE,O483,P483)/1000)*Y483*Z483*(1+VLOOKUP($H$4,BuildingType_Lookup,4,FALSE)),IF(AO483=0,0,(IF(OR(C483=\"DDC\",C483=\"OHLC\")=TRUE,O483,Q483)/1000)*Y483*Z483*(1+VLOOKUP($H$4,BuildingType_Lookup,4,FALSE)))))","v":0},{"$f":"IF(AND(OR(AN483=\"\",AN483=0)=TRUE,OR(AO483=\"\",AO483=0))=TRUE,0,IF(AO483=\"\",(IF(OR(C483=\"DDC\",C483=\"OHLC\")=TRUE,O483,P483)/1000)*Y483*AA483*(1+VLOOKUP($H$4,BuildingType_Lookup,MATCH($H$5,HVAC,0)+4,FALSE)),IF(AO483=0,0,(IF(OR(C483=\"DDC\",C483=\"OHLC\")=TRUE,O483,Q483)/1000)*Y483*AA483*(1+VLOOKUP($H$4,BuildingType_Lookup,MATCH($H$5,HVAC,0)+4,FALSE)))))","v":0},0,0,0,0,0,0,{"$f":"W483/1000*Y483*AA483*IF(IFERROR(SEARCH(\"Gas\",$H$5),0)>0,VLOOKUP(\"Gas\",HVACg_Lookup,MATCH($H$6,BuildingSize,0)+1,FALSE),IF(IFERROR(SEARCH(\"Oil\",$H$5),0)>0,VLOOKUP(\"Oil\",HVACg_Lookup,MATCH($H$6,BuildingSize,0)+1,FALSE),IF(IFERROR(SEARCH(\"Propane\",$H$5),0)>0,VLOOKUP(\"Propane\",HVACg_Lookup,MATCH(Worksheet!$H$6,BuildingSize,0)+1,FALSE),0)))","v":0},{"$f":"X483/1000*Y483*AA483*IF(IFERROR(SEARCH(\"Gas\",$H$5),0)>0,VLOOKUP(\"Gas\",HVACg_Lookup,MATCH($H$6,BuildingSize,0)+1,FALSE),IF(IFERROR(SEARCH(\"Oil\",$H$5),0)>0,VLOOKUP(\"Oil\",HVACg_Lookup,MATCH($H$6,BuildingSize,0)+1,FALSE),IF(IFERROR(SEARCH(\"Propane\",$H$5),0)>0,VLOOKUP(\"Propane\",HVACg_Lookup,MATCH(Worksheet!$H$6,BuildingSize,0)+1,FALSE),0)))","v":0},0,0,{"$f":"IF(OR($B$4=\"\",$B$5=\"\",$H$4=\"\",$H$6=\"\",$H$5=\"\",A483=\"\",F483=\"\",J483=\"\",O483=\"\",P483=\"\")=TRUE,\"\",IF(C483=\"OSW\",IF(J483>=2,1,0),IF(C483=\"OSR\",IF(AND(J483>=2,P483>60)=TRUE,1,0),IF(C483=\"OSRH\",IF(AND(J483>=1,P483>90)=TRUE,1,0),IF(C483=\"OHLC\",IF(AND(N483=\"Y\",P483>60)=TRUE,1,0),IF(C483=\"DDC\",IF(AND(J483>=4,N483=\"Y\",P483>120)=TRUE,1,0),0))))))","v":""},{"$f":"IF(OR($B$4=\"\",$B$5=\"\",$H$4=\"\",$H$6=\"\",$H$5=\"\",A483=\"\",F483=\"\",K483=\"\",O483=\"\",P483=\"\")=TRUE,\"\",IF(C483=\"OSW\",IF(K483>=2,1,0),IF(C483=\"OSR\",IF(AND(K483>=2,Q483>60)=TRUE,1,0),IF(C483=\"OSRH\",IF(AND(K483>=1,Q483>90)=TRUE,1,0),IF(C483=\"OHLC\",IF(AND(N483=\"Y\",Q483>60)=TRUE,1,0),IF(C483=\"DDC\",IF(AND(K483>=4,N483=\"Y\",Q483>120)=TRUE,1,0),0))))))","v":""}]
[null,null,"",null,null,null,null,null,null,null,null,null,null,null,null,0,0,0,0,"",0,0,0,0,0,{"$f":"IF($H$4=\"\",0,VLOOKUP($H$4,BuildingType_Lookup,3,FALSE))","v":0},{"$f":"IF($H$4=\"\",0,VLOOKUP($H$4,BuildingType_Lookup,2,FALSE))","v":0},{"$f":"IF(AND(OR(AN484=\"\",AN484=0)=TRUE,OR(AO484=\"\",AO484=0))=TRUE,0,IF(AO484=\"\",(IF(OR(C484=\"DDC\",C484=\"OHLC\")=TRUE,O484,P484)/1000)*Y484*Z484*(1+VLOOKUP($H$4,BuildingType_Lookup,4,FALSE)),IF(AO484=0,0,(IF(OR(C484=\"DDC\",C484=\"OHLC\")=TRUE,O484,Q484)/1000)*Y484*Z484*(1+VLOOKUP($H$4,BuildingType_Lookup,4,FALSE)))))","v":0},{"$f":"IF(AND(OR(AN484=\"\",AN484=0)=TRUE,OR(AO484=\"\",AO484=0))=TRUE,0,IF(AO484=\"\",(IF(OR(C484=\"DDC\",C484=\"OHLC\")=TRUE,O484,P484)/1000)*Y484*AA484*(1+VLOOKUP($H$4,BuildingType_Lookup,MATCH($H$5,HVAC,0)+4,FALSE)),IF(AO484=0,0,(IF(OR(C484=\"DDC\",C484=\"OHLC\")=TRUE,O484,Q484)/1000)*Y484*AA484*(1+VLOOKUP($H$4,BuildingType_Lookup,MATCH($H$5,HVAC,0)+4,FALSE)))))","v":0},0,0,0,0,0,0,{"$f":"W484/1000*Y484*AA484*IF(IFERROR(SEARCH(\"Gas\",$H$5),0)>0,VLOOKUP(\"Gas\",HVACg_Lookup,MATCH($H$6,BuildingSize,0)+1,FALSE),IF(IFERROR(SEARCH(\"Oil\",$H$5),0)>0,VLOOKUP(\"Oil\",HVACg_Lookup,MATCH($H$6,BuildingSize,0)+1,FALSE),IF(IFERROR(SEARCH(\"Propane\",$H$5),0)>0,VLOOKUP(\"Propane\",HVACg_Lookup,MATCH(Worksheet!$H$6,BuildingSize,0)+1,FALSE),0)))","v":0},{"$f":"X484/1000*Y484*AA484*IF(IFERROR(SEARCH(\"Gas\",$H$5),0)>0,VLOOKUP(\"Gas\",HVACg_Lookup,MATCH($H$6,BuildingSize,0)+1,FALSE),IF(IFERROR(SEARCH(\"Oil\",$H$5),0)>0,VLOOKUP(\"Oil\",HVACg_Lookup,MATCH($H$6,BuildingSize,0)+1,FALSE),IF(IFERROR(SEARCH(\"Propane\",$H$5),0)>0,VLOOKUP(\"Propane\",HVACg_Lookup,MATCH(Worksheet!$H$6,BuildingSize,0)+1,FALSE),0)))","v":0},0,0,{"$f":"IF(OR($B$4=\"\",$B$5=\"\",$H$4=\"\",$H$6=\"\",$H$5=\"\",A484=\"\",F484=\"\",J484=\"\",O484=\"\",P484=\"\")=TRUE,\"\",IF(C484=\"OSW\",IF(J484>=2,1,0),IF(C484=\"OSR\",IF(AND(J484>=2,P484>60)=TRUE,1,0),IF(C484=\"OSRH\",IF(AND(J484>=1,P484>90)=TRUE,1,0),IF(C484=\"OHLC\",IF(AND(N484=\"Y\",P484>60)=TRUE,1,0),IF(C484=\"DDC\",IF(AND(J484>=4,N484=\"Y\",P484>120)=TRUE,1,0),0))))))","v":""},{"$f":"IF(OR($B$4=\"\",$B$5=\"\",$H$4=\"\",$H$6=\"\",$H$5=\"\",A484=\"\",F484=\"\",K484=\"\",O484=\"\",P484=\"\")=TRUE,\"\",IF(C484=\"OSW\",IF(K484>=2,1,0),IF(C484=\"OSR\",IF(AND(K484>=2,Q484>60)=TRUE,1,0),IF(C484=\"OSRH\",IF(AND(K484>=1,Q484>90)=TRUE,1,0),IF(C484=\"OHLC\",IF(AND(N484=\"Y\",Q484>60)=TRUE,1,0),IF(C484=\"DDC\",IF(AND(K484>=4,N484=\"Y\",Q484>120)=TRUE,1,0),0))))))","v":""}]
[null,null,"",null,null,null,null,null,null,null,null,null,null,null,null,0,0,0,0,"",0,0,0,0,0,{"$f":"IF($H$4=\"\",0,VLOOKUP($H$4,BuildingType_Lookup,3,FALSE))","v":0},{"$f":"IF($H$4=\"\",0,VLOOKUP($H$4,BuildingType_Lookup,2,FALSE))","v":0},{"$f":"IF(AND(OR(AN485=\"\",AN485=0)=TRUE,OR(AO485=\"\",AO485=0))=TRUE,0,IF(AO485=\"\",(IF(OR(C485=\"DDC\",C485=\"OHLC\")=TRUE,O485,P485)/1000)*Y485*Z485*(1+VLOOKUP($H$4,BuildingType_Lookup,4,FALSE)),IF(AO485=0,0,(IF(OR(C485=\"DDC\",C485=\"OHLC\")=TRUE,O485,Q485)/1000)*Y485*Z485*(1+VLOOKUP($H$4,BuildingType_Lookup,4,FALSE)))))","v":0},{"$f":"IF(AND(OR(AN485=\"\",AN485=0)=TRUE,OR(AO485=\"\",AO485=0))=TRUE,0,IF(AO485=\"\",(IF(OR(C485=\"DDC\",C485=\"OHLC\")=TRUE,O485,P485)/1000)*Y485*AA485*(1+VLOOKUP($H$4,BuildingType_Lookup,MATCH($H$5,HVAC,0)+4,FALSE)),IF(AO485=0,0,(IF(OR(C485=\"DDC\",C485=\"OHLC\")=TRUE,O485,Q485)/1000)*Y485*AA485*(1+VLOOKUP($H$4,BuildingType_Lookup,MATCH($H$5,HVAC,0)+4,FALSE)))))","v":0},0,0,0,0,0,0,{"$f":"W485/1000*Y485*AA485*IF(IFERROR(SEARCH(\"Gas\",$H$5),0)>0,VLOOKUP(\"Gas\",HVACg_Lookup,MATCH($H$6,BuildingSize,0)+1,FALSE),IF(IFERROR(SEARCH(\"Oil\",$H$5),0)>0,VLOOKUP(\"Oil\",HVACg_Lookup,MATCH($H$6,BuildingSize,0)+1,FALSE),IF(IFERROR(SEARCH(\"Propane\",$H$5),0)>0,VLOOKUP(\"Propane\",HVACg_Lookup,MATCH(Worksheet!$H$6,BuildingSize,0)+1,FALSE),0)))","v":0},{"$f":"X485/1000*Y485*AA485*IF(IFERROR(SEARCH(\"Gas\",$H$5),0)>0,VLOOKUP(\"Gas\",HVACg_Lookup,MATCH($H$6,BuildingSize,0)+1,FALSE),IF(IFERROR(SEARCH(\"Oil\",$H$5),0)>0,VLOOKUP(\"Oil\",HVACg_Lookup,MATCH($H$6,BuildingSize,0)+1,FALSE),IF(IFERROR(SEARCH(\"Propane\",$H$5),0)>0,VLOOKUP(\"Propane\",HVACg_Lookup,MATCH(Worksheet!$H$6,BuildingSize,0)+1,FALSE),0)))","v":0},0,0,{"$f":"IF(OR($B$4=\"\",$B$5=\"\",$H$4=\"\",$H$6=\"\",$H$5=\"\",A485=\"\",F485=\"\",J485=\"\",O485=\"\",P485=\"\")=TRUE,\"\",IF(C485=\"OSW\",IF(J485>=2,1,0),IF(C485=\"OSR\",IF(AND(J485>=2,P485>60)=TRUE,1,0),IF(C485=\"OSRH\",IF(AND(J485>=1,P485>90)=TRUE,1,0),IF(C485=\"OHLC\",IF(AND(N485=\"Y\",P485>60)=TRUE,1,0),IF(C485=\"DDC\",IF(AND(J485>=4,N485=\"Y\",P485>120)=TRUE,1,0),0))))))","v":""},{"$f":"IF(OR($B$4=\"\",$B$5=\"\",$H$4=\"\",$H$6=\"\",$H$5=\"\",A485=\"\",F485=\"\",K485=\"\",O485=\"\",P485=\"\")=TRUE,\"\",IF(C485=\"OSW\",IF(K485>=2,1,0),IF(C485=\"OSR\",IF(AND(K485>=2,Q485>60)=TRUE,1,0),IF(C485=\"OSRH\",IF(AND(K485>=1,Q485>90)=TRUE,1,0),IF(C485=\"OHLC\",IF(AND(N485=\"Y\",Q485>60)=TRUE,1,0),IF(C485=\"DDC\",IF(AND(K485>=4,N485=\"Y\",Q485>120)=TRUE,1,0),0))))))","v":""}]
[null,null,"",null,null,null,null,null,null,null,null,null,null,null,null,0,0,0,0,"",0,0,0,0,0,{"$f":"IF($H$4=\"\",0,VLOOKUP($H$4,BuildingType_Lookup,3,FALSE))","v":0},{"$f":"IF($H$4=\"\",0,VLOOKUP($H$4,BuildingType_Lookup,2,FALSE))","v":0},{"$f":"IF(AND(OR(AN486=\"\",AN486=0)=TRUE,OR(AO486=\"\",AO486=0))=TRUE,0,IF(AO486=\"\",(IF(OR(C486=\"DDC\",C486=\"OHLC\")=TRUE,O486,P486)/1000)*Y486*Z486*(1+VLOOKUP($H$4,BuildingType_Lookup,4,FALSE)),IF(AO486=0,0,(IF(OR(C486=\"DDC\",C486=\"OHLC\")=TRUE,O486,Q486)/1000)*Y486*Z486*(1+VLOOKUP($H$4,BuildingType_Lookup,4,FALSE)))))","v":0},{"$f":"IF(AND(OR(AN486=\"\",AN486=0)=TRUE,OR(AO486=\"\",AO486=0))=TRUE,0,IF(AO486=\"\",(IF(OR(C486=\"DDC\",C486=\"OHLC\")=TRUE,O486,P486)/1000)*Y486*AA486*(1+VLOOKUP($H$4,BuildingType_Lookup,MATCH($H$5,HVAC,0)+4,FALSE)),IF(AO486=0,0,(IF(OR(C486=\"DDC\",C486=\"OHLC\")=TRUE,O486,Q486)/1000)*Y486*AA486*(1+VLOOKUP($H$4,BuildingType_Lookup,MATCH($H$5,HVAC,0)+4,FALSE)))))","v":0},0,0,0,0,0,0,{"$f":"W486/1000*Y486*AA486*IF(IFERROR(SEARCH(\"Gas\",$H$5),0)>0,VLOOKUP(\"Gas\",HVACg_Lookup,MATCH($H$6,BuildingSize,0)+1,FALSE),IF(IFERROR(SEARCH(\"Oil\",$H$5),0)>0,VLOOKUP(\"Oil\",HVACg_Lookup,MATCH($H$6,BuildingSize,0)+1,FALSE),IF(IFERROR(SEARCH(\"Propane\",$H$5),0)>0,VLOOKUP(\"Propane\",HVACg_Lookup,MATCH(Worksheet!$H$6,BuildingSize,0)+1,FALSE),0)))","v":0},{"$f":"X486/1000*Y486*AA486*IF(IFERROR(SEARCH(\"Gas\",$H$5),0)>0,VLOOKUP(\"Gas\",HVACg_Lookup,MATCH($H$6,BuildingSize,0)+1,FALSE),IF(IFERROR(SEARCH(\"Oil\",$H$5),0)>0,VLOOKUP(\"Oil\",HVACg_Lookup,MATCH($H$6,BuildingSize,0)+1,FALSE),IF(IFERROR(SEARCH(\"Propane\",$H$5),0)>0,VLOOKUP(\"Propane\",HVACg_Lookup,MATCH(Worksheet!$H$6,BuildingSize,0)+1,FALSE),0)))","v":0},0,0,{"$f":"IF(OR($B$4=\"\",$B$5=\"\",$H$4=\"\",$H$6=\"\",$H$5=\"\",A486=\"\",F486=\"\",J486=\"\",O486=\"\",P486=\"\")=TRUE,\"\",IF(C486=\"OSW\",IF(J486>=2,1,0),IF(C486=\"OSR\",IF(AND(J486>=2,P486>60)=TRUE,1,0),IF(C486=\"OSRH\",IF(AND(J486>=1,P486>90)=TRUE,1,0),IF(C486=\"OHLC\",IF(AND(N486=\"Y\",P486>60)=TRUE,1,0),IF(C486=\"DDC\",IF(AND(J486>=4,N486=\"Y\",P486>120)=TRUE,1,0),0))))))","v":""},{"$f":"IF(OR($B$4=\"\",$B$5=\"\",$H$4=\"\",$H$6=\"\",$H$5=\"\",A486=\"\",F486=\"\",K486=\"\",O486=\"\",P486=\"\")=TRUE,\"\",IF(C486=\"OSW\",IF(K486>=2,1,0),IF(C486=\"OSR\",IF(AND(K486>=2,Q486>60)=TRUE,1,0),IF(C486=\"OSRH\",IF(AND(K486>=1,Q486>90)=TRUE,1,0),IF(C486=\"OHLC\",IF(AND(N486=\"Y\",Q486>60)=TRUE,1,0),IF(C486=\"DDC\",IF(AND(K486>=4,N486=\"Y\",Q486>120)=TRUE,1,0),0))))))","v":""}]
[null,null,"",null,null,null,null,null,null,null,null,null,null,null,null,0,0,0,0,"",0,0,0,0,0,{"$f":"IF($H$4=\"\",0,VLOOKUP($H$4,BuildingType_Lookup,3,FALSE))","v":0},{"$f":"IF($H$4=\"\",0,VLOOKUP($H$4,BuildingType_Lookup,2,FALSE))","v":0},{"$f":"IF(AND(OR(AN487=\"\",AN487=0)=TRUE,OR(AO487=\"\",AO487=0))=TRUE,0,IF(AO487=\"\",(IF(OR(C487=\"DDC\",C487=\"OHLC\")=TRUE,O487,P487)/1000)*Y487*Z487*(1+VLOOKUP($H$4,BuildingType_Lookup,4,FALSE)),IF(AO487=0,0,(IF(OR(C487=\"DDC\",C487=\"OHLC\")=TRUE,O487,Q487)/1000)*Y487*Z487*(1+VLOOKUP($H$4,BuildingType_Lookup,4,FALSE)))))","v":0},{"$f":"IF(AND(OR(AN487=\"\",AN487=0)=TRUE,OR(AO487=\"\",AO487=0))=TRUE,0,IF(AO487=\"\",(IF(OR(C487=\"DDC\",C487=\"OHLC\")=TRUE,O487,P487)/1000)*Y487*AA487*(1+VLOOKUP($H$4,BuildingType_Lookup,MATCH($H$5,HVAC,0)+4,FALSE)),IF(AO487=0,0,(IF(OR(C487=\"DDC\",C487=\"OHLC\")=TRUE,O487,Q487)/1000)*Y487*AA487*(1+VLOOKUP($H$4,BuildingType_Lookup,MATCH($H$5,HVAC,0)+4,FALSE)))))","v":0},0,0,0,0,0,0,{"$f":"W487/1000*Y487*AA487*IF(IFERROR(SEARCH(\"Gas\",$H$5),0)>0,VLOOKUP(\"Gas\",HVACg_Lookup,MATCH($H$6,BuildingSize,0)+1,FALSE),IF(IFERROR(SEARCH(\"Oil\",$H$5),0)>0,VLOOKUP(\"Oil\",HVACg_Lookup,MATCH($H$6,BuildingSize,0)+1,FALSE),IF(IFERROR(SEARCH(\"Propane\",$H$5),0)>0,VLOOKUP(\"Propane\",HVACg_Lookup,MATCH(Worksheet!$H$6,BuildingSize,0)+1,FALSE),0)))","v":0},{"$f":"X487/1000*Y487*AA487*IF(IFERROR(SEARCH(\"Gas\",$H$5),0)>0,VLOOKUP(\"Gas\",HVACg_Lookup,MATCH($H$6,BuildingSize,0)+1,FALSE),IF(IFERROR(SEARCH(\"Oil\",$H$5),0)>0,VLOOKUP(\"Oil\",HVACg_Lookup,MATCH($H$6,BuildingSize,0)+1,FALSE),IF(IFERROR(SEARCH(\"Propane\",$H$5),0)>0,VLOOKUP(\"Propane\",HVACg_Lookup,MATCH(Worksheet!$H$6,BuildingSize,0)+1,FALSE),0)))","v":0},0,0,{"$f":"IF(OR($B$4=\"\",$B$5=\"\",$H$4=\"\",$H$6=\"\",$H$5=\"\",A487=\"\",F487=\"\",J487=\"\",O487=\"\",P487=\"\")=TRUE,\"\",IF(C487=\"OSW\",IF(J487>=2,1,0),IF(C487=\"OSR\",IF(AND(J487>=2,P487>60)=TRUE,1,0),IF(C487=\"OSRH\",IF(AND(J487>=1,P487>90)=TRUE,1,0),IF(C487=\"OHLC\",IF(AND(N487=\"Y\",P487>60)=TRUE,1,0),IF(C487=\"DDC\",IF(AND(J487>=4,N487=\"Y\",P487>120)=TRUE,1,0),0))))))","v":""},{"$f":"IF(OR($B$4=\"\",$B$5=\"\",$H$4=\"\",$H$6=\"\",$H$5=\"\",A487=\"\",F487=\"\",K487=\"\",O487=\"\",P487=\"\")=TRUE,\"\",IF(C487=\"OSW\",IF(K487>=2,1,0),IF(C487=\"OSR\",IF(AND(K487>=2,Q487>60)=TRUE,1,0),IF(C487=\"OSRH\",IF(AND(K487>=1,Q487>90)=TRUE,1,0),IF(C487=\"OHLC\",IF(AND(N487=\"Y\",Q487>60)=TRUE,1,0),IF(C487=\"DDC\",IF(AND(K487>=4,N487=\"Y\",Q487>120)=TRUE,1,0),0))))))","v":""}]
[null,null,"",null,null,null,null,null,null,null,null,null,null,null,null,0,0,0,0,"",0,0,0,0,0,{"$f":"IF($H$4=\"\",0,VLOOKUP($H$4,BuildingType_Lookup,3,FALSE))","v":0},{"$f":"IF($H$4=\"\",0,VLOOKUP($H$4,BuildingType_Lookup,2,FALSE))","v":0},{"$f":"IF(AND(OR(AN488=\"\",AN488=0)=TRUE,OR(AO488=\"\",AO488=0))=TRUE,0,IF(AO488=\"\",(IF(OR(C488=\"DDC\",C488=\"OHLC\")=TRUE,O488,P488)/1000)*Y488*Z488*(1+VLOOKUP($H$4,BuildingType_Lookup,4,FALSE)),IF(AO488=0,0,(IF(OR(C488=\"DDC\",C488=\"OHLC\")=TRUE,O488,Q488)/1000)*Y488*Z488*(1+VLOOKUP($H$4,BuildingType_Lookup,4,FALSE)))))","v":0},{"$f":"IF(AND(OR(AN488=\"\",AN488=0)=TRUE,OR(AO488=\"\",AO488=0))=TRUE,0,IF(AO488=\"\",(IF(OR(C488=\"DDC\",C488=\"OHLC\")=TRUE,O488,P488)/1000)*Y488*AA488*(1+VLOOKUP($H$4,BuildingType_Lookup,MATCH($H$5,HVAC,0)+4,FALSE)),IF(AO488=0,0,(IF(OR(C488=\"DDC\",C488=\"OHLC\")=TRUE,O488,Q488)/1000)*Y488*AA488*(1+VLOOKUP($H$4,BuildingType_Lookup,MATCH($H$5,HVAC,0)+4,FALSE)))))","v":0},0,0,0,0,0,0,{"$f":"W488/1000*Y488*AA488*IF(IFERROR(SEARCH(\"Gas\",$H$5),0)>0,VLOOKUP(\"Gas\",HVACg_Lookup,MATCH($H$6,BuildingSize,0)+1,FALSE),IF(IFERROR(SEARCH(\"Oil\",$H$5),0)>0,VLOOKUP(\"Oil\",HVACg_Lookup,MATCH($H$6,BuildingSize,0)+1,FALSE),IF(IFERROR(SEARCH(\"Propane\",$H$5),0)>0,VLOOKUP(\"Propane\",HVACg_Lookup,MATCH(Worksheet!$H$6,BuildingSize,0)+1,FALSE),0)))","v":0},{"$f":"X488/1000*Y488*AA488*IF(IFERROR(SEARCH(\"Gas\",$H$5),0)>0,VLOOKUP(\"Gas\",HVACg_Lookup,MATCH($H$6,BuildingSize,0)+1,FALSE),IF(IFERROR(SEARCH(\"Oil\",$H$5),0)>0,VLOOKUP(\"Oil\",HVACg_Lookup,MATCH($H$6,BuildingSize,0)+1,FALSE),IF(IFERROR(SEARCH(\"Propane\",$H$5),0)>0,VLOOKUP(\"Propane\",HVACg_Lookup,MATCH(Worksheet!$H$6,BuildingSize,0)+1,FALSE),0)))","v":0},0,0,{"$f":"IF(OR($B$4=\"\",$B$5=\"\",$H$4=\"\",$H$6=\"\",$H$5=\"\",A488=\"\",F488=\"\",J488=\"\",O488=\"\",P488=\"\")=TRUE,\"\",IF(C488=\"OSW\",IF(J488>=2,1,0),IF(C488=\"OSR\",IF(AND(J488>=2,P488>60)=TRUE,1,0),IF(C488=\"OSRH\",IF(AND(J488>=1,P488>90)=TRUE,1,0),IF(C488=\"OHLC\",IF(AND(N488=\"Y\",P488>60)=TRUE,1,0),IF(C488=\"DDC\",IF(AND(J488>=4,N488=\"Y\",P488>120)=TRUE,1,0),0))))))","v":""},{"$f":"IF(OR($B$4=\"\",$B$5=\"\",$H$4=\"\",$H$6=\"\",$H$5=\"\",A488=\"\",F488=\"\",K488=\"\",O488=\"\",P488=\"\")=TRUE,\"\",IF(C488=\"OSW\",IF(K488>=2,1,0),IF(C488=\"OSR\",IF(AND(K488>=2,Q488>60)=TRUE,1,0),IF(C488=\"OSRH\",IF(AND(K488>=1,Q488>90)=TRUE,1,0),IF(C488=\"OHLC\",IF(AND(N488=\"Y\",Q488>60)=TRUE,1,0),IF(C488=\"DDC\",IF(AND(K488>=4,N488=\"Y\",Q488>120)=TRUE,1,0),0))))))","v":""}]
[null,null,"",null,null,null,null,null,null,null,null,null,null,null,null,0,0,0,0,"",0,0,0,0,0,{"$f":"IF($H$4=\"\",0,VLOOKUP($H$4,BuildingType_Lookup,3,FALSE))","v":0},{"$f":"IF($H$4=\"\",0,VLOOKUP($H$4,BuildingType_Lookup,2,FALSE))","v":0},{"$f":"IF(AND(OR(AN489=\"\",AN489=0)=TRUE,OR(AO489=\"\",AO489=0))=TRUE,0,IF(AO489=\"\",(IF(OR(C489=\"DDC\",C489=\"OHLC\")=TRUE,O489,P489)/1000)*Y489*Z489*(1+VLOOKUP($H$4,BuildingType_Lookup,4,FALSE)),IF(AO489=0,0,(IF(OR(C489=\"DDC\",C489=\"OHLC\")=TRUE,O489,Q489)/1000)*Y489*Z489*(1+VLOOKUP($H$4,BuildingType_Lookup,4,FALSE)))))","v":0},{"$f":"IF(AND(OR(AN489=\"\",AN489=0)=TRUE,OR(AO489=\"\",AO489=0))=TRUE,0,IF(AO489=\"\",(IF(OR(C489=\"DDC\",C489=\"OHLC\")=TRUE,O489,P489)/1000)*Y489*AA489*(1+VLOOKUP($H$4,BuildingType_Lookup,MATCH($H$5,HVAC,0)+4,FALSE)),IF(AO489=0,0,(IF(OR(C489=\"DDC\",C489=\"OHLC\")=TRUE,O489,Q489)/1000)*Y489*AA489*(1+VLOOKUP($H$4,BuildingType_Lookup,MATCH($H$5,HVAC,0)+4,FALSE)))))","v":0},0,0,0,0,0,0,{"$f":"W489/1000*Y489*AA489*IF(IFERROR(SEARCH(\"Gas\",$H$5),0)>0,VLOOKUP(\"Gas\",HVACg_Lookup,MATCH($H$6,BuildingSize,0)+1,FALSE),IF(IFERROR(SEARCH(\"Oil\",$H$5),0)>0,VLOOKUP(\"Oil\",HVACg_Lookup,MATCH($H$6,BuildingSize,0)+1,FALSE),IF(IFERROR(SEARCH(\"Propane\",$H$5),0)>0,VLOOKUP(\"Propane\",HVACg_Lookup,MATCH(Worksheet!$H$6,BuildingSize,0)+1,FALSE),0)))","v":0},{"$f":"X489/1000*Y489*AA489*IF(IFERROR(SEARCH(\"Gas\",$H$5),0)>0,VLOOKUP(\"Gas\",HVACg_Lookup,MATCH($H$6,BuildingSize,0)+1,FALSE),IF(IFERROR(SEARCH(\"Oil\",$H$5),0)>0,VLOOKUP(\"Oil\",HVACg_Lookup,MATCH($H$6,BuildingSize,0)+1,FALSE),IF(IFERROR(SEARCH(\"Propane\",$H$5),0)>0,VLOOKUP(\"Propane\",HVACg_Lookup,MATCH(Worksheet!$H$6,BuildingSize,0)+1,FALSE),0)))","v":0},0,0,{"$f":"IF(OR($B$4=\"\",$B$5=\"\",$H$4=\"\",$H$6=\"\",$H$5=\"\",A489=\"\",F489=\"\",J489=\"\",O489=\"\",P489=\"\")=TRUE,\"\",IF(C489=\"OSW\",IF(J489>=2,1,0),IF(C489=\"OSR\",IF(AND(J489>=2,P489>60)=TRUE,1,0),IF(C489=\"OSRH\",IF(AND(J489>=1,P489>90)=TRUE,1,0),IF(C489=\"OHLC\",IF(AND(N489=\"Y\",P489>60)=TRUE,1,0),IF(C489=\"DDC\",IF(AND(J489>=4,N489=\"Y\",P489>120)=TRUE,1,0),0))))))","v":""},{"$f":"IF(OR($B$4=\"\",$B$5=\"\",$H$4=\"\",$H$6=\"\",$H$5=\"\",A489=\"\",F489=\"\",K489=\"\",O489=\"\",P489=\"\")=TRUE,\"\",IF(C489=\"OSW\",IF(K489>=2,1,0),IF(C489=\"OSR\",IF(AND(K489>=2,Q489>60)=TRUE,1,0),IF(C489=\"OSRH\",IF(AND(K489>=1,Q489>90)=TRUE,1,0),IF(C489=\"OHLC\",IF(AND(N489=\"Y\",Q489>60)=TRUE,1,0),IF(C489=\"DDC\",IF(AND(K489>=4,N489=\"Y\",Q489>120)=TRUE,1,0),0))))))","v":""}]
[null,null,"",null,null,null,null,null,null,null,null,null,null,null,null,0,0,0,0,"",0,0,0,0,0,{"$f":"IF($H$4=\"\",0,VLOOKUP($H$4,BuildingType_Lookup,3,FALSE))","v":0},{"$f":"IF($H$4=\"\",0,VLOOKUP($H$4,BuildingType_Lookup,2,FALSE))","v":0},{"$f":"IF(AND(OR(AN490=\"\",AN490=0)=TRUE,OR(AO490=\"\",AO490=0))=TRUE,0,IF(AO490=\"\",(IF(OR(C490=\"DDC\",C490=\"OHLC\")=TRUE,O490,P490)/1000)*Y490*Z490*(1+VLOOKUP($H$4,BuildingType_Lookup,4,FALSE)),IF(AO490=0,0,(IF(OR(C490=\"DDC\",C490=\"OHLC\")=TRUE,O490,Q490)/1000)*Y490*Z490*(1+VLOOKUP($H$4,BuildingType_Lookup,4,FALSE)))))","v":0},{"$f":"IF(AND(OR(AN490=\"\",AN490=0)=TRUE,OR(AO490=\"\",AO490=0))=TRUE,0,IF(AO490=\"\",(IF(OR(C490=\"DDC\",C490=\"OHLC\")=TRUE,O490,P490)/1000)*Y490*AA490*(1+VLOOKUP($H$4,BuildingType_Lookup,MATCH($H$5,HVAC,0)+4,FALSE)),IF(AO490=0,0,(IF(OR(C490=\"DDC\",C490=\"OHLC\")=TRUE,O490,Q490)/1000)*Y490*AA490*(1+VLOOKUP($H$4,BuildingType_Lookup,MATCH($H$5,HVAC,0)+4,FALSE)))))","v":0},0,0,0,0,0,0,{"$f":"W490/1000*Y490*AA490*IF(IFERROR(SEARCH(\"Gas\",$H$5),0)>0,VLOOKUP(\"Gas\",HVACg_Lookup,MATCH($H$6,BuildingSize,0)+1,FALSE),IF(IFERROR(SEARCH(\"Oil\",$H$5),0)>0,VLOOKUP(\"Oil\",HVACg_Lookup,MATCH($H$6,BuildingSize,0)+1,FALSE),IF(IFERROR(SEARCH(\"Propane\",$H$5),0)>0,VLOOKUP(\"Propane\",HVACg_Lookup,MATCH(Worksheet!$H$6,BuildingSize,0)+1,FALSE),0)))","v":0},{"$f":"X490/1000*Y490*AA490*IF(IFERROR(SEARCH(\"Gas\",$H$5),0)>0,VLOOKUP(\"Gas\",HVACg_Lookup,MATCH($H$6,BuildingSize,0)+1,FALSE),IF(IFERROR(SEARCH(\"Oil\",$H$5),0)>0,VLOOKUP(\"Oil\",HVACg_Lookup,MATCH($H$6,BuildingSize,0)+1,FALSE),IF(IFERROR(SEARCH(\"Propane\",$H$5),0)>0,VLOOKUP(\"Propane\",HVACg_Lookup,MATCH(Worksheet!$H$6,BuildingSize,0)+1,FALSE),0)))","v":0},0,0,{"$f":"IF(OR($B$4=\"\",$B$5=\"\",$H$4=\"\",$H$6=\"\",$H$5=\"\",A490=\"\",F490=\"\",J490=\"\",O490=\"\",P490=\"\")=TRUE,\"\",IF(C490=\"OSW\",IF(J490>=2,1,0),IF(C490=\"OSR\",IF(AND(J490>=2,P490>60)=TRUE,1,0),IF(C490=\"OSRH\",IF(AND(J490>=1,P490>90)=TRUE,1,0),IF(C490=\"OHLC\",IF(AND(N490=\"Y\",P490>60)=TRUE,1,0),IF(C490=\"DDC\",IF(AND(J490>=4,N490=\"Y\",P490>120)=TRUE,1,0),0))))))","v":""},{"$f":"IF(OR($B$4=\"\",$B$5=\"\",$H$4=\"\",$H$6=\"\",$H$5=\"\",A490=\"\",F490=\"\",K490=\"\",O490=\"\",P490=\"\")=TRUE,\"\",IF(C490=\"OSW\",IF(K490>=2,1,0),IF(C490=\"OSR\",IF(AND(K490>=2,Q490>60)=TRUE,1,0),IF(C490=\"OSRH\",IF(AND(K490>=1,Q490>90)=TRUE,1,0),IF(C490=\"OHLC\",IF(AND(N490=\"Y\",Q490>60)=TRUE,1,0),IF(C490=\"DDC\",IF(AND(K490>=4,N490=\"Y\",Q490>120)=TRUE,1,0),0))))))","v":""}]
[null,null,"",null,null,null,null,null,null,null,null,null,null,null,null,0,0,0,0,"",0,0,0,0,0,{"$f":"IF($H$4=\"\",0,VLOOKUP($H$4,BuildingType_Lookup,3,FALSE))","v":0},{"$f":"IF($H$4=\"\",0,VLOOKUP($H$4,BuildingType_Lookup,2,FALSE))","v":0},{"$f":"IF(AND(OR(AN491=\"\",AN491=0)=TRUE,OR(AO491=\"\",AO491=0))=TRUE,0,IF(AO491=\"\",(IF(OR(C491=\"DDC\",C491=\"OHLC\")=TRUE,O491,P491)/1000)*Y491*Z491*(1+VLOOKUP($H$4,BuildingType_Lookup,4,FALSE)),IF(AO491=0,0,(IF(OR(C491=\"DDC\",C491=\"OHLC\")=TRUE,O491,Q491)/1000)*Y491*Z491*(1+VLOOKUP($H$4,BuildingType_Lookup,4,FALSE)))))","v":0},{"$f":"IF(AND(OR(AN491=\"\",AN491=0)=TRUE,OR(AO491=\"\",AO491=0))=TRUE,0,IF(AO491=\"\",(IF(OR(C491=\"DDC\",C491=\"OHLC\")=TRUE,O491,P491)/1000)*Y491*AA491*(1+VLOOKUP($H$4,BuildingType_Lookup,MATCH($H$5,HVAC,0)+4,FALSE)),IF(AO491=0,0,(IF(OR(C491=\"DDC\",C491=\"OHLC\")=TRUE,O491,Q491)/1000)*Y491*AA491*(1+VLOOKUP($H$4,BuildingType_Lookup,MATCH($H$5,HVAC,0)+4,FALSE)))))","v":0},0,0,0,0,0,0,{"$f":"W491/1000*Y491*AA491*IF(IFERROR(SEARCH(\"Gas\",$H$5),0)>0,VLOOKUP(\"Gas\",HVACg_Lookup,MATCH($H$6,BuildingSize,0)+1,FALSE),IF(IFERROR(SEARCH(\"Oil\",$H$5),0)>0,VLOOKUP(\"Oil\",HVACg_Lookup,MATCH($H$6,BuildingSize,0)+1,FALSE),IF(IFERROR(SEARCH(\"Propane\",$H$5),0)>0,VLOOKUP(\"Propane\",HVACg_Lookup,MATCH(Worksheet!$H$6,BuildingSize,0)+1,FALSE),0)))","v":0},{"$f":"X491/1000*Y491*AA491*IF(IFERROR(SEARCH(\"Gas\",$H$5),0)>0,VLOOKUP(\"Gas\",HVACg_Lookup,MATCH($H$6,BuildingSize,0)+1,FALSE),IF(IFERROR(SEARCH(\"Oil\",$H$5),0)>0,VLOOKUP(\"Oil\",HVACg_Lookup,MATCH($H$6,BuildingSize,0)+1,FALSE),IF(IFERROR(SEARCH(\"Propane\",$H$5),0)>0,VLOOKUP(\"Propane\",HVACg_Lookup,MATCH(Worksheet!$H$6,BuildingSize,0)+1,FALSE),0)))","v":0},0,0,{"$f":"IF(OR($B$4=\"\",$B$5=\"\",$H$4=\"\",$H$6=\"\",$H$5=\"\",A491=\"\",F491=\"\",J491=\"\",O491=\"\",P491=\"\")=TRUE,\"\",IF(C491=\"OSW\",IF(J491>=2,1,0),IF(C491=\"OSR\",IF(AND(J491>=2,P491>60)=TRUE,1,0),IF(C491=\"OSRH\",IF(AND(J491>=1,P491>90)=TRUE,1,0),IF(C491=\"OHLC\",IF(AND(N491=\"Y\",P491>60)=TRUE,1,0),IF(C491=\"DDC\",IF(AND(J491>=4,N491=\"Y\",P491>120)=TRUE,1,0),0))))))","v":""},{"$f":"IF(OR($B$4=\"\",$B$5=\"\",$H$4=\"\",$H$6=\"\",$H$5=\"\",A491=\"\",F491=\"\",K491=\"\",O491=\"\",P491=\"\")=TRUE,\"\",IF(C491=\"OSW\",IF(K491>=2,1,0),IF(C491=\"OSR\",IF(AND(K491>=2,Q491>60)=TRUE,1,0),IF(C491=\"OSRH\",IF(AND(K491>=1,Q491>90)=TRUE,1,0),IF(C491=\"OHLC\",IF(AND(N491=\"Y\",Q491>60)=TRUE,1,0),IF(C491=\"DDC\",IF(AND(K491>=4,N491=\"Y\",Q491>120)=TRUE,1,0),0))))))","v":""}]
[null,null,"",null,null,null,null,null,null,null,null,null,null,null,null,0,0,0,0,"",0,0,0,0,0,{"$f":"IF($H$4=\"\",0,VLOOKUP($H$4,BuildingType_Lookup,3,FALSE))","v":0},{"$f":"IF($H$4=\"\",0,VLOOKUP($H$4,BuildingType_Lookup,2,FALSE))","v":0},{"$f":"IF(AND(OR(AN492=\"\",AN492=0)=TRUE,OR(AO492=\"\",AO492=0))=TRUE,0,IF(AO492=\"\",(IF(OR(C492=\"DDC\",C492=\"OHLC\")=TRUE,O492,P492)/1000)*Y492*Z492*(1+VLOOKUP($H$4,BuildingType_Lookup,4,FALSE)),IF(AO492=0,0,(IF(OR(C492=\"DDC\",C492=\"OHLC\")=TRUE,O492,Q492)/1000)*Y492*Z492*(1+VLOOKUP($H$4,BuildingType_Lookup,4,FALSE)))))","v":0},{"$f":"IF(AND(OR(AN492=\"\",AN492=0)=TRUE,OR(AO492=\"\",AO492=0))=TRUE,0,IF(AO492=\"\",(IF(OR(C492=\"DDC\",C492=\"OHLC\")=TRUE,O492,P492)/1000)*Y492*AA492*(1+VLOOKUP($H$4,BuildingType_Lookup,MATCH($H$5,HVAC,0)+4,FALSE)),IF(AO492=0,0,(IF(OR(C492=\"DDC\",C492=\"OHLC\")=TRUE,O492,Q492)/1000)*Y492*AA492*(1+VLOOKUP($H$4,BuildingType_Lookup,MATCH($H$5,HVAC,0)+4,FALSE)))))","v":0},0,0,0,0,0,0,{"$f":"W492/1000*Y492*AA492*IF(IFERROR(SEARCH(\"Gas\",$H$5),0)>0,VLOOKUP(\"Gas\",HVACg_Lookup,MATCH($H$6,BuildingSize,0)+1,FALSE),IF(IFERROR(SEARCH(\"Oil\",$H$5),0)>0,VLOOKUP(\"Oil\",HVACg_Lookup,MATCH($H$6,BuildingSize,0)+1,FALSE),IF(IFERROR(SEARCH(\"Propane\",$H$5),0)>0,VLOOKUP(\"Propane\",HVACg_Lookup,MATCH(Worksheet!$H$6,BuildingSize,0)+1,FALSE),0)))","v":0},{"$f":"X492/1000*Y492*AA492*IF(IFERROR(SEARCH(\"Gas\",$H$5),0)>0,VLOOKUP(\"Gas\",HVACg_Lookup,MATCH($H$6,BuildingSize,0)+1,FALSE),IF(IFERROR(SEARCH(\"Oil\",$H$5),0)>0,VLOOKUP(\"Oil\",HVACg_Lookup,MATCH($H$6,BuildingSize,0)+1,FALSE),IF(IFERROR(SEARCH(\"Propane\",$H$5),0)>0,VLOOKUP(\"Propane\",HVACg_Lookup,MATCH(Worksheet!$H$6,BuildingSize,0)+1,FALSE),0)))","v":0},0,0,{"$f":"IF(OR($B$4=\"\",$B$5=\"\",$H$4=\"\",$H$6=\"\",$H$5=\"\",A492=\"\",F492=\"\",J492=\"\",O492=\"\",P492=\"\")=TRUE,\"\",IF(C492=\"OSW\",IF(J492>=2,1,0),IF(C492=\"OSR\",IF(AND(J492>=2,P492>60)=TRUE,1,0),IF(C492=\"OSRH\",IF(AND(J492>=1,P492>90)=TRUE,1,0),IF(C492=\"OHLC\",IF(AND(N492=\"Y\",P492>60)=TRUE,1,0),IF(C492=\"DDC\",IF(AND(J492>=4,N492=\"Y\",P492>120)=TRUE,1,0),0))))))","v":""},{"$f":"IF(OR($B$4=\"\",$B$5=\"\",$H$4=\"\",$H$6=\"\",$H$5=\"\",A492=\"\",F492=\"\",K492=\"\",O492=\"\",P492=\"\")=TRUE,\"\",IF(C492=\"OSW\",IF(K492>=2,1,0),IF(C492=\"OSR\",IF(AND(K492>=2,Q492>60)=TRUE,1,0),IF(C492=\"OSRH\",IF(AND(K492>=1,Q492>90)=TRUE,1,0),IF(C492=\"OHLC\",IF(AND(N492=\"Y\",Q492>60)=TRUE,1,0),IF(C492=\"DDC\",IF(AND(K492>=4,N492=\"Y\",Q492>120)=TRUE,1,0),0))))))","v":""}]
[null,null,"",null,null,null,null,null,null,null,null,null,null,null,null,0,0,0,0,"",0,0,0,0,0,{"$f":"IF($H$4=\"\",0,VLOOKUP($H$4,BuildingType_Lookup,3,FALSE))","v":0},{"$f":"IF($H$4=\"\",0,VLOOKUP($H$4,BuildingType_Lookup,2,FALSE))","v":0},{"$f":"IF(AND(OR(AN493=\"\",AN493=0)=TRUE,OR(AO493=\"\",AO493=0))=TRUE,0,IF(AO493=\"\",(IF(OR(C493=\"DDC\",C493=\"OHLC\")=TRUE,O493,P493)/1000)*Y493*Z493*(1+VLOOKUP($H$4,BuildingType_Lookup,4,FALSE)),IF(AO493=0,0,(IF(OR(C493=\"DDC\",C493=\"OHLC\")=TRUE,O493,Q493)/1000)*Y493*Z493*(1+VLOOKUP($H$4,BuildingType_Lookup,4,FALSE)))))","v":0},{"$f":"IF(AND(OR(AN493=\"\",AN493=0)=TRUE,OR(AO493=\"\",AO493=0))=TRUE,0,IF(AO493=\"\",(IF(OR(C493=\"DDC\",C493=\"OHLC\")=TRUE,O493,P493)/1000)*Y493*AA493*(1+VLOOKUP($H$4,BuildingType_Lookup,MATCH($H$5,HVAC,0)+4,FALSE)),IF(AO493=0,0,(IF(OR(C493=\"DDC\",C493=\"OHLC\")=TRUE,O493,Q493)/1000)*Y493*AA493*(1+VLOOKUP($H$4,BuildingType_Lookup,MATCH($H$5,HVAC,0)+4,FALSE)))))","v":0},0,0,0,0,0,0,{"$f":"W493/1000*Y493*AA493*IF(IFERROR(SEARCH(\"Gas\",$H$5),0)>0,VLOOKUP(\"Gas\",HVACg_Lookup,MATCH($H$6,BuildingSize,0)+1,FALSE),IF(IFERROR(SEARCH(\"Oil\",$H$5),0)>0,VLOOKUP(\"Oil\",HVACg_Lookup,MATCH($H$6,BuildingSize,0)+1,FALSE),IF(IFERROR(SEARCH(\"Propane\",$H$5),0)>0,VLOOKUP(\"Propane\",HVACg_Lookup,MATCH(Worksheet!$H$6,BuildingSize,0)+1,FALSE),0)))","v":0},{"$f":"X493/1000*Y493*AA493*IF(IFERROR(SEARCH(\"Gas\",$H$5),0)>0,VLOOKUP(\"Gas\",HVACg_Lookup,MATCH($H$6,BuildingSize,0)+1,FALSE),IF(IFERROR(SEARCH(\"Oil\",$H$5),0)>0,VLOOKUP(\"Oil\",HVACg_Lookup,MATCH($H$6,BuildingSize,0)+1,FALSE),IF(IFERROR(SEARCH(\"Propane\",$H$5),0)>0,VLOOKUP(\"Propane\",HVACg_Lookup,MATCH(Worksheet!$H$6,BuildingSize,0)+1,FALSE),0)))","v":0},0,0,{"$f":"IF(OR($B$4=\"\",$B$5=\"\",$H$4=\"\",$H$6=\"\",$H$5=\"\",A493=\"\",F493=\"\",J493=\"\",O493=\"\",P493=\"\")=TRUE,\"\",IF(C493=\"OSW\",IF(J493>=2,1,0),IF(C493=\"OSR\",IF(AND(J493>=2,P493>60)=TRUE,1,0),IF(C493=\"OSRH\",IF(AND(J493>=1,P493>90)=TRUE,1,0),IF(C493=\"OHLC\",IF(AND(N493=\"Y\",P493>60)=TRUE,1,0),IF(C493=\"DDC\",IF(AND(J493>=4,N493=\"Y\",P493>120)=TRUE,1,0),0))))))","v":""},{"$f":"IF(OR($B$4=\"\",$B$5=\"\",$H$4=\"\",$H$6=\"\",$H$5=\"\",A493=\"\",F493=\"\",K493=\"\",O493=\"\",P493=\"\")=TRUE,\"\",IF(C493=\"OSW\",IF(K493>=2,1,0),IF(C493=\"OSR\",IF(AND(K493>=2,Q493>60)=TRUE,1,0),IF(C493=\"OSRH\",IF(AND(K493>=1,Q493>90)=TRUE,1,0),IF(C493=\"OHLC\",IF(AND(N493=\"Y\",Q493>60)=TRUE,1,0),IF(C493=\"DDC\",IF(AND(K493>=4,N493=\"Y\",Q493>120)=TRUE,1,0),0))))))","v":""}]
[null,null,"",null,null,null,null,null,null,null,null,null,null,null,null,0,0,0,0,"",0,0,0,0,0,{"$f":"IF($H$4=\"\",0,VLOOKUP($H$4,BuildingType_Lookup,3,FALSE))","v":0},{"$f":"IF($H$4=\"\",0,VLOOKUP($H$4,BuildingType_Lookup,2,FALSE))","v":0},{"$f":"IF(AND(OR(AN494=\"\",AN494=0)=TRUE,OR(AO494=\"\",AO494=0))=TRUE,0,IF(AO494=\"\",(IF(OR(C494=\"DDC\",C494=\"OHLC\")=TRUE,O494,P494)/1000)*Y494*Z494*(1+VLOOKUP($H$4,BuildingType_Lookup,4,FALSE)),IF(AO494=0,0,(IF(OR(C494=\"DDC\",C494=\"OHLC\")=TRUE,O494,Q494)/1000)*Y494*Z494*(1+VLOOKUP($H$4,BuildingType_Lookup,4,FALSE)))))","v":0},{"$f":"IF(AND(OR(AN494=\"\",AN494=0)=TRUE,OR(AO494=\"\",AO494=0))=TRUE,0,IF(AO494=\"\",(IF(OR(C494=\"DDC\",C494=\"OHLC\")=TRUE,O494,P494)/1000)*Y494*AA494*(1+VLOOKUP($H$4,BuildingType_Lookup,MATCH($H$5,HVAC,0)+4,FALSE)),IF(AO494=0,0,(IF(OR(C494=\"DDC\",C494=\"OHLC\")=TRUE,O494,Q494)/1000)*Y494*AA494*(1+VLOOKUP($H$4,BuildingType_Lookup,MATCH($H$5,HVAC,0)+4,FALSE)))))","v":0},0,0,0,0,0,0,{"$f":"W494/1000*Y494*AA494*IF(IFERROR(SEARCH(\"Gas\",$H$5),0)>0,VLOOKUP(\"Gas\",HVACg_Lookup,MATCH($H$6,BuildingSize,0)+1,FALSE),IF(IFERROR(SEARCH(\"Oil\",$H$5),0)>0,VLOOKUP(\"Oil\",HVACg_Lookup,MATCH($H$6,BuildingSize,0)+1,FALSE),IF(IFERROR(SEARCH(\"Propane\",$H$5),0)>0,VLOOKUP(\"Propane\",HVACg_Lookup,MATCH(Worksheet!$H$6,BuildingSize,0)+1,FALSE),0)))","v":0},{"$f":"X494/1000*Y494*AA494*IF(IFERROR(SEARCH(\"Gas\",$H$5),0)>0,VLOOKUP(\"Gas\",HVACg_Lookup,MATCH($H$6,BuildingSize,0)+1,FALSE),IF(IFERROR(SEARCH(\"Oil\",$H$5),0)>0,VLOOKUP(\"Oil\",HVACg_Lookup,MATCH($H$6,BuildingSize,0)+1,FALSE),IF(IFERROR(SEARCH(\"Propane\",$H$5),0)>0,VLOOKUP(\"Propane\",HVACg_Lookup,MATCH(Worksheet!$H$6,BuildingSize,0)+1,FALSE),0)))","v":0},0,0,{"$f":"IF(OR($B$4=\"\",$B$5=\"\",$H$4=\"\",$H$6=\"\",$H$5=\"\",A494=\"\",F494=\"\",J494=\"\",O494=\"\",P494=\"\")=TRUE,\"\",IF(C494=\"OSW\",IF(J494>=2,1,0),IF(C494=\"OSR\",IF(AND(J494>=2,P494>60)=TRUE,1,0),IF(C494=\"OSRH\",IF(AND(J494>=1,P494>90)=TRUE,1,0),IF(C494=\"OHLC\",IF(AND(N494=\"Y\",P494>60)=TRUE,1,0),IF(C494=\"DDC\",IF(AND(J494>=4,N494=\"Y\",P494>120)=TRUE,1,0),0))))))","v":""},{"$f":"IF(OR($B$4=\"\",$B$5=\"\",$H$4=\"\",$H$6=\"\",$H$5=\"\",A494=\"\",F494=\"\",K494=\"\",O494=\"\",P494=\"\")=TRUE,\"\",IF(C494=\"OSW\",IF(K494>=2,1,0),IF(C494=\"OSR\",IF(AND(K494>=2,Q494>60)=TRUE,1,0),IF(C494=\"OSRH\",IF(AND(K494>=1,Q494>90)=TRUE,1,0),IF(C494=\"OHLC\",IF(AND(N494=\"Y\",Q494>60)=TRUE,1,0),IF(C494=\"DDC\",IF(AND(K494>=4,N494=\"Y\",Q494>120)=TRUE,1,0),0))))))","v":""}]
[null,null,"",null,null,null,null,null,null,null,null,null,null,null,null,0,0,0,0,"",0,0,0,0,0,{"$f":"IF($H$4=\"\",0,VLOOKUP($H$4,BuildingType_Lookup,3,FALSE))","v":0},{"$f":"IF($H$4=\"\",0,VLOOKUP($H$4,BuildingType_Lookup,2,FALSE))","v":0},{"$f":"IF(AND(OR(AN495=\"\",AN495=0)=TRUE,OR(AO495=\"\",AO495=0))=TRUE,0,IF(AO495=\"\",(IF(OR(C495=\"DDC\",C495=\"OHLC\")=TRUE,O495,P495)/1000)*Y495*Z495*(1+VLOOKUP($H$4,BuildingType_Lookup,4,FALSE)),IF(AO495=0,0,(IF(OR(C495=\"DDC\",C495=\"OHLC\")=TRUE,O495,Q495)/1000)*Y495*Z495*(1+VLOOKUP($H$4,BuildingType_Lookup,4,FALSE)))))","v":0},{"$f":"IF(AND(OR(AN495=\"\",AN495=0)=TRUE,OR(AO495=\"\",AO495=0))=TRUE,0,IF(AO495=\"\",(IF(OR(C495=\"DDC\",C495=\"OHLC\")=TRUE,O495,P495)/1000)*Y495*AA495*(1+VLOOKUP($H$4,BuildingType_Lookup,MATCH($H$5,HVAC,0)+4,FALSE)),IF(AO495=0,0,(IF(OR(C495=\"DDC\",C495=\"OHLC\")=TRUE,O495,Q495)/1000)*Y495*AA495*(1+VLOOKUP($H$4,BuildingType_Lookup,MATCH($H$5,HVAC,0)+4,FALSE)))))","v":0},0,0,0,0,0,0,{"$f":"W495/1000*Y495*AA495*IF(IFERROR(SEARCH(\"Gas\",$H$5),0)>0,VLOOKUP(\"Gas\",HVACg_Lookup,MATCH($H$6,BuildingSize,0)+1,FALSE),IF(IFERROR(SEARCH(\"Oil\",$H$5),0)>0,VLOOKUP(\"Oil\",HVACg_Lookup,MATCH($H$6,BuildingSize,0)+1,FALSE),IF(IFERROR(SEARCH(\"Propane\",$H$5),0)>0,VLOOKUP(\"Propane\",HVACg_Lookup,MATCH(Worksheet!$H$6,BuildingSize,0)+1,FALSE),0)))","v":0},{"$f":"X495/1000*Y495*AA495*IF(IFERROR(SEARCH(\"Gas\",$H$5),0)>0,VLOOKUP(\"Gas\",HVACg_Lookup,MATCH($H$6,BuildingSize,0)+1,FALSE),IF(IFERROR(SEARCH(\"Oil\",$H$5),0)>0,VLOOKUP(\"Oil\",HVACg_Lookup,MATCH($H$6,BuildingSize,0)+1,FALSE),IF(IFERROR(SEARCH(\"Propane\",$H$5),0)>0,VLOOKUP(\"Propane\",HVACg_Lookup,MATCH(Worksheet!$H$6,BuildingSize,0)+1,FALSE),0)))","v":0},0,0,{"$f":"IF(OR($B$4=\"\",$B$5=\"\",$H$4=\"\",$H$6=\"\",$H$5=\"\",A495=\"\",F495=\"\",J495=\"\",O495=\"\",P495=\"\")=TRUE,\"\",IF(C495=\"OSW\",IF(J495>=2,1,0),IF(C495=\"OSR\",IF(AND(J495>=2,P495>60)=TRUE,1,0),IF(C495=\"OSRH\",IF(AND(J495>=1,P495>90)=TRUE,1,0),IF(C495=\"OHLC\",IF(AND(N495=\"Y\",P495>60)=TRUE,1,0),IF(C495=\"DDC\",IF(AND(J495>=4,N495=\"Y\",P495>120)=TRUE,1,0),0))))))","v":""},{"$f":"IF(OR($B$4=\"\",$B$5=\"\",$H$4=\"\",$H$6=\"\",$H$5=\"\",A495=\"\",F495=\"\",K495=\"\",O495=\"\",P495=\"\")=TRUE,\"\",IF(C495=\"OSW\",IF(K495>=2,1,0),IF(C495=\"OSR\",IF(AND(K495>=2,Q495>60)=TRUE,1,0),IF(C495=\"OSRH\",IF(AND(K495>=1,Q495>90)=TRUE,1,0),IF(C495=\"OHLC\",IF(AND(N495=\"Y\",Q495>60)=TRUE,1,0),IF(C495=\"DDC\",IF(AND(K495>=4,N495=\"Y\",Q495>120)=TRUE,1,0),0))))))","v":""}]
[null,null,"",null,null,null,null,null,null,null,null,null,null,null,null,0,0,0,0,"",0,0,0,0,0,{"$f":"IF($H$4=\"\",0,VLOOKUP($H$4,BuildingType_Lookup,3,FALSE))","v":0},{"$f":"IF($H$4=\"\",0,VLOOKUP($H$4,BuildingType_Lookup,2,FALSE))","v":0},{"$f":"IF(AND(OR(AN496=\"\",AN496=0)=TRUE,OR(AO496=\"\",AO496=0))=TRUE,0,IF(AO496=\"\",(IF(OR(C496=\"DDC\",C496=\"OHLC\")=TRUE,O496,P496)/1000)*Y496*Z496*(1+VLOOKUP($H$4,BuildingType_Lookup,4,FALSE)),IF(AO496=0,0,(IF(OR(C496=\"DDC\",C496=\"OHLC\")=TRUE,O496,Q496)/1000)*Y496*Z496*(1+VLOOKUP($H$4,BuildingType_Lookup,4,FALSE)))))","v":0},{"$f":"IF(AND(OR(AN496=\"\",AN496=0)=TRUE,OR(AO496=\"\",AO496=0))=TRUE,0,IF(AO496=\"\",(IF(OR(C496=\"DDC\",C496=\"OHLC\")=TRUE,O496,P496)/1000)*Y496*AA496*(1+VLOOKUP($H$4,BuildingType_Lookup,MATCH($H$5,HVAC,0)+4,FALSE)),IF(AO496=0,0,(IF(OR(C496=\"DDC\",C496=\"OHLC\")=TRUE,O496,Q496)/1000)*Y496*AA496*(1+VLOOKUP($H$4,BuildingType_Lookup,MATCH($H$5,HVAC,0)+4,FALSE)))))","v":0},0,0,0,0,0,0,{"$f":"W496/1000*Y496*AA496*IF(IFERROR(SEARCH(\"Gas\",$H$5),0)>0,VLOOKUP(\"Gas\",HVACg_Lookup,MATCH($H$6,BuildingSize,0)+1,FALSE),IF(IFERROR(SEARCH(\"Oil\",$H$5),0)>0,VLOOKUP(\"Oil\",HVACg_Lookup,MATCH($H$6,BuildingSize,0)+1,FALSE),IF(IFERROR(SEARCH(\"Propane\",$H$5),0)>0,VLOOKUP(\"Propane\",HVACg_Lookup,MATCH(Worksheet!$H$6,BuildingSize,0)+1,FALSE),0)))","v":0},{"$f":"X496/1000*Y496*AA496*IF(IFERROR(SEARCH(\"Gas\",$H$5),0)>0,VLOOKUP(\"Gas\",HVACg_Lookup,MATCH($H$6,BuildingSize,0)+1,FALSE),IF(IFERROR(SEARCH(\"Oil\",$H$5),0)>0,VLOOKUP(\"Oil\",HVACg_Lookup,MATCH($H$6,BuildingSize,0)+1,FALSE),IF(IFERROR(SEARCH(\"Propane\",$H$5),0)>0,VLOOKUP(\"Propane\",HVACg_Lookup,MATCH(Worksheet!$H$6,BuildingSize,0)+1,FALSE),0)))","v":0},0,0,{"$f":"IF(OR($B$4=\"\",$B$5=\"\",$H$4=\"\",$H$6=\"\",$H$5=\"\",A496=\"\",F496=\"\",J496=\"\",O496=\"\",P496=\"\")=TRUE,\"\",IF(C496=\"OSW\",IF(J496>=2,1,0),IF(C496=\"OSR\",IF(AND(J496>=2,P496>60)=TRUE,1,0),IF(C496=\"OSRH\",IF(AND(J496>=1,P496>90)=TRUE,1,0),IF(C496=\"OHLC\",IF(AND(N496=\"Y\",P496>60)=TRUE,1,0),IF(C496=\"DDC\",IF(AND(J496>=4,N496=\"Y\",P496>120)=TRUE,1,0),0))))))","v":""},{"$f":"IF(OR($B$4=\"\",$B$5=\"\",$H$4=\"\",$H$6=\"\",$H$5=\"\",A496=\"\",F496=\"\",K496=\"\",O496=\"\",P496=\"\")=TRUE,\"\",IF(C496=\"OSW\",IF(K496>=2,1,0),IF(C496=\"OSR\",IF(AND(K496>=2,Q496>60)=TRUE,1,0),IF(C496=\"OSRH\",IF(AND(K496>=1,Q496>90)=TRUE,1,0),IF(C496=\"OHLC\",IF(AND(N496=\"Y\",Q496>60)=TRUE,1,0),IF(C496=\"DDC\",IF(AND(K496>=4,N496=\"Y\",Q496>120)=TRUE,1,0),0))))))","v":""}]
[null,null,"",null,null,null,null,null,null,null,null,null,null,null,null,0,0,0,0,"",0,0,0,0,0,{"$f":"IF($H$4=\"\",0,VLOOKUP($H$4,BuildingType_Lookup,3,FALSE))","v":0},{"$f":"IF($H$4=\"\",0,VLOOKUP($H$4,BuildingType_Lookup,2,FALSE))","v":0},{"$f":"IF(AND(OR(AN497=\"\",AN497=0)=TRUE,OR(AO497=\"\",AO497=0))=TRUE,0,IF(AO497=\"\",(IF(OR(C497=\"DDC\",C497=\"OHLC\")=TRUE,O497,P497)/1000)*Y497*Z497*(1+VLOOKUP($H$4,BuildingType_Lookup,4,FALSE)),IF(AO497=0,0,(IF(OR(C497=\"DDC\",C497=\"OHLC\")=TRUE,O497,Q497)/1000)*Y497*Z497*(1+VLOOKUP($H$4,BuildingType_Lookup,4,FALSE)))))","v":0},{"$f":"IF(AND(OR(AN497=\"\",AN497=0)=TRUE,OR(AO497=\"\",AO497=0))=TRUE,0,IF(AO497=\"\",(IF(OR(C497=\"DDC\",C497=\"OHLC\")=TRUE,O497,P497)/1000)*Y497*AA497*(1+VLOOKUP($H$4,BuildingType_Lookup,MATCH($H$5,HVAC,0)+4,FALSE)),IF(AO497=0,0,(IF(OR(C497=\"DDC\",C497=\"OHLC\")=TRUE,O497,Q497)/1000)*Y497*AA497*(1+VLOOKUP($H$4,BuildingType_Lookup,MATCH($H$5,HVAC,0)+4,FALSE)))))","v":0},0,0,0,0,0,0,{"$f":"W497/1000*Y497*AA497*IF(IFERROR(SEARCH(\"Gas\",$H$5),0)>0,VLOOKUP(\"Gas\",HVACg_Lookup,MATCH($H$6,BuildingSize,0)+1,FALSE),IF(IFERROR(SEARCH(\"Oil\",$H$5),0)>0,VLOOKUP(\"Oil\",HVACg_Lookup,MATCH($H$6,BuildingSize,0)+1,FALSE),IF(IFERROR(SEARCH(\"Propane\",$H$5),0)>0,VLOOKUP(\"Propane\",HVACg_Lookup,MATCH(Worksheet!$H$6,BuildingSize,0)+1,FALSE),0)))","v":0},{"$f":"X497/1000*Y497*AA497*IF(IFERROR(SEARCH(\"Gas\",$H$5),0)>0,VLOOKUP(\"Gas\",HVACg_Lookup,MATCH($H$6,BuildingSize,0)+1,FALSE),IF(IFERROR(SEARCH(\"Oil\",$H$5),0)>0,VLOOKUP(\"Oil\",HVACg_Lookup,MATCH($H$6,BuildingSize,0)+1,FALSE),IF(IFERROR(SEARCH(\"Propane\",$H$5),0)>0,VLOOKUP(\"Propane\",HVACg_Lookup,MATCH(Worksheet!$H$6,BuildingSize,0)+1,FALSE),0)))","v":0},0,0,{"$f":"IF(OR($B$4=\"\",$B$5=\"\",$H$4=\"\",$H$6=\"\",$H$5=\"\",A497=\"\",F497=\"\",J497=\"\",O497=\"\",P497=\"\")=TRUE,\"\",IF(C497=\"OSW\",IF(J497>=2,1,0),IF(C497=\"OSR\",IF(AND(J497>=2,P497>60)=TRUE,1,0),IF(C497=\"OSRH\",IF(AND(J497>=1,P497>90)=TRUE,1,0),IF(C497=\"OHLC\",IF(AND(N497=\"Y\",P497>60)=TRUE,1,0),IF(C497=\"DDC\",IF(AND(J497>=4,N497=\"Y\",P497>120)=TRUE,1,0),0))))))","v":""},{"$f":"IF(OR($B$4=\"\",$B$5=\"\",$H$4=\"\",$H$6=\"\",$H$5=\"\",A497=\"\",F497=\"\",K497=\"\",O497=\"\",P497=\"\")=TRUE,\"\",IF(C497=\"OSW\",IF(K497>=2,1,0),IF(C497=\"OSR\",IF(AND(K497>=2,Q497>60)=TRUE,1,0),IF(C497=\"OSRH\",IF(AND(K497>=1,Q497>90)=TRUE,1,0),IF(C497=\"OHLC\",IF(AND(N497=\"Y\",Q497>60)=TRUE,1,0),IF(C497=\"DDC\",IF(AND(K497>=4,N497=\"Y\",Q497>120)=TRUE,1,0),0))))))","v":""}]
[null,null,"",null,null,null,null,null,null,null,null,null,null,null,null,0,0,0,0,"",0,0,0,0,0,{"$f":"IF($H$4=\"\",0,VLOOKUP($H$4,BuildingType_Lookup,3,FALSE))","v":0},{"$f":"IF($H$4=\"\",0,VLOOKUP($H$4,BuildingType_Lookup,2,FALSE))","v":0},{"$f":"IF(AND(OR(AN498=\"\",AN498=0)=TRUE,OR(AO498=\"\",AO498=0))=TRUE,0,IF(AO498=\"\",(IF(OR(C498=\"DDC\",C498=\"OHLC\")=TRUE,O498,P498)/1000)*Y498*Z498*(1+VLOOKUP($H$4,BuildingType_Lookup,4,FALSE)),IF(AO498=0,0,(IF(OR(C498=\"DDC\",C498=\"OHLC\")=TRUE,O498,Q498)/1000)*Y498*Z498*(1+VLOOKUP($H$4,BuildingType_Lookup,4,FALSE)))))","v":0},{"$f":"IF(AND(OR(AN498=\"\",AN498=0)=TRUE,OR(AO498=\"\",AO498=0))=TRUE,0,IF(AO498=\"\",(IF(OR(C498=\"DDC\",C498=\"OHLC\")=TRUE,O498,P498)/1000)*Y498*AA498*(1+VLOOKUP($H$4,BuildingType_Lookup,MATCH($H$5,HVAC,0)+4,FALSE)),IF(AO498=0,0,(IF(OR(C498=\"DDC\",C498=\"OHLC\")=TRUE,O498,Q498)/1000)*Y498*AA498*(1+VLOOKUP($H$4,BuildingType_Lookup,MATCH($H$5,HVAC,0)+4,FALSE)))))","v":0},0,0,0,0,0,0,{"$f":"W498/1000*Y498*AA498*IF(IFERROR(SEARCH(\"Gas\",$H$5),0)>0,VLOOKUP(\"Gas\",HVACg_Lookup,MATCH($H$6,BuildingSize,0)+1,FALSE),IF(IFERROR(SEARCH(\"Oil\",$H$5),0)>0,VLOOKUP(\"Oil\",HVACg_Lookup,MATCH($H$6,BuildingSize,0)+1,FALSE),IF(IFERROR(SEARCH(\"Propane\",$H$5),0)>0,VLOOKUP(\"Propane\",HVACg_Lookup,MATCH(Worksheet!$H$6,BuildingSize,0)+1,FALSE),0)))","v":0},{"$f":"X498/1000*Y498*AA498*IF(IFERROR(SEARCH(\"Gas\",$H$5),0)>0,VLOOKUP(\"Gas\",HVACg_Lookup,MATCH($H$6,BuildingSize,0)+1,FALSE),IF(IFERROR(SEARCH(\"Oil\",$H$5),0)>0,VLOOKUP(\"Oil\",HVACg_Lookup,MATCH($H$6,BuildingSize,0)+1,FALSE),IF(IFERROR(SEARCH(\"Propane\",$H$5),0)>0,VLOOKUP(\"Propane\",HVACg_Lookup,MATCH(Worksheet!$H$6,BuildingSize,0)+1,FALSE),0)))","v":0},0,0,{"$f":"IF(OR($B$4=\"\",$B$5=\"\",$H$4=\"\",$H$6=\"\",$H$5=\"\",A498=\"\",F498=\"\",J498=\"\",O498=\"\",P498=\"\")=TRUE,\"\",IF(C498=\"OSW\",IF(J498>=2,1,0),IF(C498=\"OSR\",IF(AND(J498>=2,P498>60)=TRUE,1,0),IF(C498=\"OSRH\",IF(AND(J498>=1,P498>90)=TRUE,1,0),IF(C498=\"OHLC\",IF(AND(N498=\"Y\",P498>60)=TRUE,1,0),IF(C498=\"DDC\",IF(AND(J498>=4,N498=\"Y\",P498>120)=TRUE,1,0),0))))))","v":""},{"$f":"IF(OR($B$4=\"\",$B$5=\"\",$H$4=\"\",$H$6=\"\",$H$5=\"\",A498=\"\",F498=\"\",K498=\"\",O498=\"\",P498=\"\")=TRUE,\"\",IF(C498=\"OSW\",IF(K498>=2,1,0),IF(C498=\"OSR\",IF(AND(K498>=2,Q498>60)=TRUE,1,0),IF(C498=\"OSRH\",IF(AND(K498>=1,Q498>90)=TRUE,1,0),IF(C498=\"OHLC\",IF(AND(N498=\"Y\",Q498>60)=TRUE,1,0),IF(C498=\"DDC\",IF(AND(K498>=4,N498=\"Y\",Q498>120)=TRUE,1,0),0))))))","v":""}]
[null,null,"",null,null,null,null,null,null,null,null,null,null,null,null,0,0,0,0,"",0,0,0,0,0,{"$f":"IF($H$4=\"\",0,VLOOKUP($H$4,BuildingType_Lookup,3,FALSE))","v":0},{"$f":"IF($H$4=\"\",0,VLOOKUP($H$4,BuildingType_Lookup,2,FALSE))","v":0},{"$f":"IF(AND(OR(AN499=\"\",AN499=0)=TRUE,OR(AO499=\"\",AO499=0))=TRUE,0,IF(AO499=\"\",(IF(OR(C499=\"DDC\",C499=\"OHLC\")=TRUE,O499,P499)/1000)*Y499*Z499*(1+VLOOKUP($H$4,BuildingType_Lookup,4,FALSE)),IF(AO499=0,0,(IF(OR(C499=\"DDC\",C499=\"OHLC\")=TRUE,O499,Q499)/1000)*Y499*Z499*(1+VLOOKUP($H$4,BuildingType_Lookup,4,FALSE)))))","v":0},{"$f":"IF(AND(OR(AN499=\"\",AN499=0)=TRUE,OR(AO499=\"\",AO499=0))=TRUE,0,IF(AO499=\"\",(IF(OR(C499=\"DDC\",C499=\"OHLC\")=TRUE,O499,P499)/1000)*Y499*AA499*(1+VLOOKUP($H$4,BuildingType_Lookup,MATCH($H$5,HVAC,0)+4,FALSE)),IF(AO499=0,0,(IF(OR(C499=\"DDC\",C499=\"OHLC\")=TRUE,O499,Q499)/1000)*Y499*AA499*(1+VLOOKUP($H$4,BuildingType_Lookup,MATCH($H$5,HVAC,0)+4,FALSE)))))","v":0},0,0,0,0,0,0,{"$f":"W499/1000*Y499*AA499*IF(IFERROR(SEARCH(\"Gas\",$H$5),0)>0,VLOOKUP(\"Gas\",HVACg_Lookup,MATCH($H$6,BuildingSize,0)+1,FALSE),IF(IFERROR(SEARCH(\"Oil\",$H$5),0)>0,VLOOKUP(\"Oil\",HVACg_Lookup,MATCH($H$6,BuildingSize,0)+1,FALSE),IF(IFERROR(SEARCH(\"Propane\",$H$5),0)>0,VLOOKUP(\"Propane\",HVACg_Lookup,MATCH(Worksheet!$H$6,BuildingSize,0)+1,FALSE),0)))","v":0},{"$f":"X499/1000*Y499*AA499*IF(IFERROR(SEARCH(\"Gas\",$H$5),0)>0,VLOOKUP(\"Gas\",HVACg_Lookup,MATCH($H$6,BuildingSize,0)+1,FALSE),IF(IFERROR(SEARCH(\"Oil\",$H$5),0)>0,VLOOKUP(\"Oil\",HVACg_Lookup,MATCH($H$6,BuildingSize,0)+1,FALSE),IF(IFERROR(SEARCH(\"Propane\",$H$5),0)>0,VLOOKUP(\"Propane\",HVACg_Lookup,MATCH(Worksheet!$H$6,BuildingSize,0)+1,FALSE),0)))","v":0},0,0,{"$f":"IF(OR($B$4=\"\",$B$5=\"\",$H$4=\"\",$H$6=\"\",$H$5=\"\",A499=\"\",F499=\"\",J499=\"\",O499=\"\",P499=\"\")=TRUE,\"\",IF(C499=\"OSW\",IF(J499>=2,1,0),IF(C499=\"OSR\",IF(AND(J499>=2,P499>60)=TRUE,1,0),IF(C499=\"OSRH\",IF(AND(J499>=1,P499>90)=TRUE,1,0),IF(C499=\"OHLC\",IF(AND(N499=\"Y\",P499>60)=TRUE,1,0),IF(C499=\"DDC\",IF(AND(J499>=4,N499=\"Y\",P499>120)=TRUE,1,0),0))))))","v":""},{"$f":"IF(OR($B$4=\"\",$B$5=\"\",$H$4=\"\",$H$6=\"\",$H$5=\"\",A499=\"\",F499=\"\",K499=\"\",O499=\"\",P499=\"\")=TRUE,\"\",IF(C499=\"OSW\",IF(K499>=2,1,0),IF(C499=\"OSR\",IF(AND(K499>=2,Q499>60)=TRUE,1,0),IF(C499=\"OSRH\",IF(AND(K499>=1,Q499>90)=TRUE,1,0),IF(C499=\"OHLC\",IF(AND(N499=\"Y\",Q499>60)=TRUE,1,0),IF(C499=\"DDC\",IF(AND(K499>=4,N499=\"Y\",Q499>120)=TRUE,1,0),0))))))","v":""}]
[null,null,"",null,null,null,null,null,null,null,null,null,null,null,null,0,0,0,0,"",0,0,0,0,0,{"$f":"IF($H$4=\"\",0,VLOOKUP($H$4,BuildingType_Lookup,3,FALSE))","v":0},{"$f":"IF($H$4=\"\",0,VLOOKUP($H$4,BuildingType_Lookup,2,FALSE))","v":0},{"$f":"IF(AND(OR(AN500=\"\",AN500=0)=TRUE,OR(AO500=\"\",AO500=0))=TRUE,0,IF(AO500=\"\",(IF(OR(C500=\"DDC\",C500=\"OHLC\")=TRUE,O500,P500)/1000)*Y500*Z500*(1+VLOOKUP($H$4,BuildingType_Lookup,4,FALSE)),IF(AO500=0,0,(IF(OR(C500=\"DDC\",C500=\"OHLC\")=TRUE,O500,Q500)/1000)*Y500*Z500*(1+VLOOKUP($H$4,BuildingType_Lookup,4,FALSE)))))","v":0},{"$f":"IF(AND(OR(AN500=\"\",AN500=0)=TRUE,OR(AO500=\"\",AO500=0))=TRUE,0,IF(AO500=\"\",(IF(OR(C500=\"DDC\",C500=\"OHLC\")=TRUE,O500,P500)/1000)*Y500*AA500*(1+VLOOKUP($H$4,BuildingType_Lookup,MATCH($H$5,HVAC,0)+4,FALSE)),IF(AO500=0,0,(IF(OR(C500=\"DDC\",C500=\"OHLC\")=TRUE,O500,Q500)/1000)*Y500*AA500*(1+VLOOKUP($H$4,BuildingType_Lookup,MATCH($H$5,HVAC,0)+4,FALSE)))))","v":0},0,0,0,0,0,0,{"$f":"W500/1000*Y500*AA500*IF(IFERROR(SEARCH(\"Gas\",$H$5),0)>0,VLOOKUP(\"Gas\",HVACg_Lookup,MATCH($H$6,BuildingSize,0)+1,FALSE),IF(IFERROR(SEARCH(\"Oil\",$H$5),0)>0,VLOOKUP(\"Oil\",HVACg_Lookup,MATCH($H$6,BuildingSize,0)+1,FALSE),IF(IFERROR(SEARCH(\"Propane\",$H$5),0)>0,VLOOKUP(\"Propane\",HVACg_Lookup,MATCH(Worksheet!$H$6,BuildingSize,0)+1,FALSE),0)))","v":0},{"$f":"X500/1000*Y500*AA500*IF(IFERROR(SEARCH(\"Gas\",$H$5),0)>0,VLOOKUP(\"Gas\",HVACg_Lookup,MATCH($H$6,BuildingSize,0)+1,FALSE),IF(IFERROR(SEARCH(\"Oil\",$H$5),0)>0,VLOOKUP(\"Oil\",HVACg_Lookup,MATCH($H$6,BuildingSize,0)+1,FALSE),IF(IFERROR(SEARCH(\"Propane\",$H$5),0)>0,VLOOKUP(\"Propane\",HVACg_Lookup,MATCH(Worksheet!$H$6,BuildingSize,0)+1,FALSE),0)))","v":0},0,0,{"$f":"IF(OR($B$4=\"\",$B$5=\"\",$H$4=\"\",$H$6=\"\",$H$5=\"\",A500=\"\",F500=\"\",J500=\"\",O500=\"\",P500=\"\")=TRUE,\"\",IF(C500=\"OSW\",IF(J500>=2,1,0),IF(C500=\"OSR\",IF(AND(J500>=2,P500>60)=TRUE,1,0),IF(C500=\"OSRH\",IF(AND(J500>=1,P500>90)=TRUE,1,0),IF(C500=\"OHLC\",IF(AND(N500=\"Y\",P500>60)=TRUE,1,0),IF(C500=\"DDC\",IF(AND(J500>=4,N500=\"Y\",P500>120)=TRUE,1,0),0))))))","v":""},{"$f":"IF(OR($B$4=\"\",$B$5=\"\",$H$4=\"\",$H$6=\"\",$H$5=\"\",A500=\"\",F500=\"\",K500=\"\",O500=\"\",P500=\"\")=TRUE,\"\",IF(C500=\"OSW\",IF(K500>=2,1,0),IF(C500=\"OSR\",IF(AND(K500>=2,Q500>60)=TRUE,1,0),IF(C500=\"OSRH\",IF(AND(K500>=1,Q500>90)=TRUE,1,0),IF(C500=\"OHLC\",IF(AND(N500=\"Y\",Q500>60)=TRUE,1,0),IF(C500=\"DDC\",IF(AND(K500>=4,N500=\"Y\",Q500>120)=TRUE,1,0),0))))))","v":""}]
[null,null,"",null,null,null,null,null,null,null,null,null,null,null,null,0,0,0,0,"",0,0,0,0,0,{"$f":"IF($H$4=\"\",0,VLOOKUP($H$4,BuildingType_Lookup,3,FALSE))","v":0},{"$f":"IF($H$4=\"\",0,VLOOKUP($H$4,BuildingType_Lookup,2,FALSE))","v":0},{"$f":"IF(AND(OR(AN501=\"\",AN501=0)=TRUE,OR(AO501=\"\",AO501=0))=TRUE,0,IF(AO501=\"\",(IF(OR(C501=\"DDC\",C501=\"OHLC\")=TRUE,O501,P501)/1000)*Y501*Z501*(1+VLOOKUP($H$4,BuildingType_Lookup,4,FALSE)),IF(AO501=0,0,(IF(OR(C501=\"DDC\",C501=\"OHLC\")=TRUE,O501,Q501)/1000)*Y501*Z501*(1+VLOOKUP($H$4,BuildingType_Lookup,4,FALSE)))))","v":0},{"$f":"IF(AND(OR(AN501=\"\",AN501=0)=TRUE,OR(AO501=\"\",AO501=0))=TRUE,0,IF(AO501=\"\",(IF(OR(C501=\"DDC\",C501=\"OHLC\")=TRUE,O501,P501)/1000)*Y501*AA501*(1+VLOOKUP($H$4,BuildingType_Lookup,MATCH($H$5,HVAC,0)+4,FALSE)),IF(AO501=0,0,(IF(OR(C501=\"DDC\",C501=\"OHLC\")=TRUE,O501,Q501)/1000)*Y501*AA501*(1+VLOOKUP($H$4,BuildingType_Lookup,MATCH($H$5,HVAC,0)+4,FALSE)))))","v":0},0,0,0,0,0,0,{"$f":"W501/1000*Y501*AA501*IF(IFERROR(SEARCH(\"Gas\",$H$5),0)>0,VLOOKUP(\"Gas\",HVACg_Lookup,MATCH($H$6,BuildingSize,0)+1,FALSE),IF(IFERROR(SEARCH(\"Oil\",$H$5),0)>0,VLOOKUP(\"Oil\",HVACg_Lookup,MATCH($H$6,BuildingSize,0)+1,FALSE),IF(IFERROR(SEARCH(\"Propane\",$H$5),0)>0,VLOOKUP(\"Propane\",HVACg_Lookup,MATCH(Worksheet!$H$6,BuildingSize,0)+1,FALSE),0)))","v":0},{"$f":"X501/1000*Y501*AA501*IF(IFERROR(SEARCH(\"Gas\",$H$5),0)>0,VLOOKUP(\"Gas\",HVACg_Lookup,MATCH($H$6,BuildingSize,0)+1,FALSE),IF(IFERROR(SEARCH(\"Oil\",$H$5),0)>0,VLOOKUP(\"Oil\",HVACg_Lookup,MATCH($H$6,BuildingSize,0)+1,FALSE),IF(IFERROR(SEARCH(\"Propane\",$H$5),0)>0,VLOOKUP(\"Propane\",HVACg_Lookup,MATCH(Worksheet!$H$6,BuildingSize,0)+1,FALSE),0)))","v":0},0,0,{"$f":"IF(OR($B$4=\"\",$B$5=\"\",$H$4=\"\",$H$6=\"\",$H$5=\"\",A501=\"\",F501=\"\",J501=\"\",O501=\"\",P501=\"\")=TRUE,\"\",IF(C501=\"OSW\",IF(J501>=2,1,0),IF(C501=\"OSR\",IF(AND(J501>=2,P501>60)=TRUE,1,0),IF(C501=\"OSRH\",IF(AND(J501>=1,P501>90)=TRUE,1,0),IF(C501=\"OHLC\",IF(AND(N501=\"Y\",P501>60)=TRUE,1,0),IF(C501=\"DDC\",IF(AND(J501>=4,N501=\"Y\",P501>120)=TRUE,1,0),0))))))","v":""},{"$f":"IF(OR($B$4=\"\",$B$5=\"\",$H$4=\"\",$H$6=\"\",$H$5=\"\",A501=\"\",F501=\"\",K501=\"\",O501=\"\",P501=\"\")=TRUE,\"\",IF(C501=\"OSW\",IF(K501>=2,1,0),IF(C501=\"OSR\",IF(AND(K501>=2,Q501>60)=TRUE,1,0),IF(C501=\"OSRH\",IF(AND(K501>=1,Q501>90)=TRUE,1,0),IF(C501=\"OHLC\",IF(AND(N501=\"Y\",Q501>60)=TRUE,1,0),IF(C501=\"DDC\",IF(AND(K501>=4,N501=\"Y\",Q501>120)=TRUE,1,0),0))))))","v":""}]
[null,null,"",null,null,null,null,null,null,null,null,null,null,null,null,0,0,0,0,"",0,0,0,0,0,{"$f":"IF($H$4=\"\",0,VLOOKUP($H$4,BuildingType_Lookup,3,FALSE))","v":0},{"$f":"IF($H$4=\"\",0,VLOOKUP($H$4,BuildingType_Lookup,2,FALSE))","v":0},{"$f":"IF(AND(OR(AN502=\"\",AN502=0)=TRUE,OR(AO502=\"\",AO502=0))=TRUE,0,IF(AO502=\"\",(IF(OR(C502=\"DDC\",C502=\"OHLC\")=TRUE,O502,P502)/1000)*Y502*Z502*(1+VLOOKUP($H$4,BuildingType_Lookup,4,FALSE)),IF(AO502=0,0,(IF(OR(C502=\"DDC\",C502=\"OHLC\")=TRUE,O502,Q502)/1000)*Y502*Z502*(1+VLOOKUP($H$4,BuildingType_Lookup,4,FALSE)))))","v":0},{"$f":"IF(AND(OR(AN502=\"\",AN502=0)=TRUE,OR(AO502=\"\",AO502=0))=TRUE,0,IF(AO502=\"\",(IF(OR(C502=\"DDC\",C502=\"OHLC\")=TRUE,O502,P502)/1000)*Y502*AA502*(1+VLOOKUP($H$4,BuildingType_Lookup,MATCH($H$5,HVAC,0)+4,FALSE)),IF(AO502=0,0,(IF(OR(C502=\"DDC\",C502=\"OHLC\")=TRUE,O502,Q502)/1000)*Y502*AA502*(1+VLOOKUP($H$4,BuildingType_Lookup,MATCH($H$5,HVAC,0)+4,FALSE)))))","v":0},0,0,0,0,0,0,{"$f":"W502/1000*Y502*AA502*IF(IFERROR(SEARCH(\"Gas\",$H$5),0)>0,VLOOKUP(\"Gas\",HVACg_Lookup,MATCH($H$6,BuildingSize,0)+1,FALSE),IF(IFERROR(SEARCH(\"Oil\",$H$5),0)>0,VLOOKUP(\"Oil\",HVACg_Lookup,MATCH($H$6,BuildingSize,0)+1,FALSE),IF(IFERROR(SEARCH(\"Propane\",$H$5),0)>0,VLOOKUP(\"Propane\",HVACg_Lookup,MATCH(Worksheet!$H$6,BuildingSize,0)+1,FALSE),0)))","v":0},{"$f":"X502/1000*Y502*AA502*IF(IFERROR(SEARCH(\"Gas\",$H$5),0)>0,VLOOKUP(\"Gas\",HVACg_Lookup,MATCH($H$6,BuildingSize,0)+1,FALSE),IF(IFERROR(SEARCH(\"Oil\",$H$5),0)>0,VLOOKUP(\"Oil\",HVACg_Lookup,MATCH($H$6,BuildingSize,0)+1,FALSE),IF(IFERROR(SEARCH(\"Propane\",$H$5),0)>0,VLOOKUP(\"Propane\",HVACg_Lookup,MATCH(Worksheet!$H$6,BuildingSize,0)+1,FALSE),0)))","v":0},0,0,{"$f":"IF(OR($B$4=\"\",$B$5=\"\",$H$4=\"\",$H$6=\"\",$H$5=\"\",A502=\"\",F502=\"\",J502=\"\",O502=\"\",P502=\"\")=TRUE,\"\",IF(C502=\"OSW\",IF(J502>=2,1,0),IF(C502=\"OSR\",IF(AND(J502>=2,P502>60)=TRUE,1,0),IF(C502=\"OSRH\",IF(AND(J502>=1,P502>90)=TRUE,1,0),IF(C502=\"OHLC\",IF(AND(N502=\"Y\",P502>60)=TRUE,1,0),IF(C502=\"DDC\",IF(AND(J502>=4,N502=\"Y\",P502>120)=TRUE,1,0),0))))))","v":""},{"$f":"IF(OR($B$4=\"\",$B$5=\"\",$H$4=\"\",$H$6=\"\",$H$5=\"\",A502=\"\",F502=\"\",K502=\"\",O502=\"\",P502=\"\")=TRUE,\"\",IF(C502=\"OSW\",IF(K502>=2,1,0),IF(C502=\"OSR\",IF(AND(K502>=2,Q502>60)=TRUE,1,0),IF(C502=\"OSRH\",IF(AND(K502>=1,Q502>90)=TRUE,1,0),IF(C502=\"OHLC\",IF(AND(N502=\"Y\",Q502>60)=TRUE,1,0),IF(C502=\"DDC\",IF(AND(K502>=4,N502=\"Y\",Q502>120)=TRUE,1,0),0))))))","v":""}]
[null,null,"",null,null,null,null,null,null,null,null,null,null,null,null,0,0,0,0,"",0,0,0,0,0,{"$f":"IF($H$4=\"\",0,VLOOKUP($H$4,BuildingType_Lookup,3,FALSE))","v":0},{"$f":"IF($H$4=\"\",0,VLOOKUP($H$4,BuildingType_Lookup,2,FALSE))","v":0},{"$f":"IF(AND(OR(AN503=\"\",AN503=0)=TRUE,OR(AO503=\"\",AO503=0))=TRUE,0,IF(AO503=\"\",(IF(OR(C503=\"DDC\",C503=\"OHLC\")=TRUE,O503,P503)/1000)*Y503*Z503*(1+VLOOKUP($H$4,BuildingType_Lookup,4,FALSE)),IF(AO503=0,0,(IF(OR(C503=\"DDC\",C503=\"OHLC\")=TRUE,O503,Q503)/1000)*Y503*Z503*(1+VLOOKUP($H$4,BuildingType_Lookup,4,FALSE)))))","v":0},{"$f":"IF(AND(OR(AN503=\"\",AN503=0)=TRUE,OR(AO503=\"\",AO503=0))=TRUE,0,IF(AO503=\"\",(IF(OR(C503=\"DDC\",C503=\"OHLC\")=TRUE,O503,P503)/1000)*Y503*AA503*(1+VLOOKUP($H$4,BuildingType_Lookup,MATCH($H$5,HVAC,0)+4,FALSE)),IF(AO503=0,0,(IF(OR(C503=\"DDC\",C503=\"OHLC\")=TRUE,O503,Q503)/1000)*Y503*AA503*(1+VLOOKUP($H$4,BuildingType_Lookup,MATCH($H$5,HVAC,0)+4,FALSE)))))","v":0},0,0,0,0,0,0,{"$f":"W503/1000*Y503*AA503*IF(IFERROR(SEARCH(\"Gas\",$H$5),0)>0,VLOOKUP(\"Gas\",HVACg_Lookup,MATCH($H$6,BuildingSize,0)+1,FALSE),IF(IFERROR(SEARCH(\"Oil\",$H$5),0)>0,VLOOKUP(\"Oil\",HVACg_Lookup,MATCH($H$6,BuildingSize,0)+1,FALSE),IF(IFERROR(SEARCH(\"Propane\",$H$5),0)>0,VLOOKUP(\"Propane\",HVACg_Lookup,MATCH(Worksheet!$H$6,BuildingSize,0)+1,FALSE),0)))","v":0},{"$f":"X503/1000*Y503*AA503*IF(IFERROR(SEARCH(\"Gas\",$H$5),0)>0,VLOOKUP(\"Gas\",HVACg_Lookup,MATCH($H$6,BuildingSize,0)+1,FALSE),IF(IFERROR(SEARCH(\"Oil\",$H$5),0)>0,VLOOKUP(\"Oil\",HVACg_Lookup,MATCH($H$6,BuildingSize,0)+1,FALSE),IF(IFERROR(SEARCH(\"Propane\",$H$5),0)>0,VLOOKUP(\"Propane\",HVACg_Lookup,MATCH(Worksheet!$H$6,BuildingSize,0)+1,FALSE),0)))","v":0},0,0,{"$f":"IF(OR($B$4=\"\",$B$5=\"\",$H$4=\"\",$H$6=\"\",$H$5=\"\",A503=\"\",F503=\"\",J503=\"\",O503=\"\",P503=\"\")=TRUE,\"\",IF(C503=\"OSW\",IF(J503>=2,1,0),IF(C503=\"OSR\",IF(AND(J503>=2,P503>60)=TRUE,1,0),IF(C503=\"OSRH\",IF(AND(J503>=1,P503>90)=TRUE,1,0),IF(C503=\"OHLC\",IF(AND(N503=\"Y\",P503>60)=TRUE,1,0),IF(C503=\"DDC\",IF(AND(J503>=4,N503=\"Y\",P503>120)=TRUE,1,0),0))))))","v":""},{"$f":"IF(OR($B$4=\"\",$B$5=\"\",$H$4=\"\",$H$6=\"\",$H$5=\"\",A503=\"\",F503=\"\",K503=\"\",O503=\"\",P503=\"\")=TRUE,\"\",IF(C503=\"OSW\",IF(K503>=2,1,0),IF(C503=\"OSR\",IF(AND(K503>=2,Q503>60)=TRUE,1,0),IF(C503=\"OSRH\",IF(AND(K503>=1,Q503>90)=TRUE,1,0),IF(C503=\"OHLC\",IF(AND(N503=\"Y\",Q503>60)=TRUE,1,0),IF(C503=\"DDC\",IF(AND(K503>=4,N503=\"Y\",Q503>120)=TRUE,1,0),0))))))","v":""}]
[null,null,"",null,null,null,null,null,null,null,null,null,null,null,null,0,0,0,0,"",0,0,0,0,0,{"$f":"IF($H$4=\"\",0,VLOOKUP($H$4,BuildingType_Lookup,3,FALSE))","v":0},{"$f":"IF($H$4=\"\",0,VLOOKUP($H$4,BuildingType_Lookup,2,FALSE))","v":0},{"$f":"IF(AND(OR(AN504=\"\",AN504=0)=TRUE,OR(AO504=\"\",AO504=0))=TRUE,0,IF(AO504=\"\",(IF(OR(C504=\"DDC\",C504=\"OHLC\")=TRUE,O504,P504)/1000)*Y504*Z504*(1+VLOOKUP($H$4,BuildingType_Lookup,4,FALSE)),IF(AO504=0,0,(IF(OR(C504=\"DDC\",C504=\"OHLC\")=TRUE,O504,Q504)/1000)*Y504*Z504*(1+VLOOKUP($H$4,BuildingType_Lookup,4,FALSE)))))","v":0},{"$f":"IF(AND(OR(AN504=\"\",AN504=0)=TRUE,OR(AO504=\"\",AO504=0))=TRUE,0,IF(AO504=\"\",(IF(OR(C504=\"DDC\",C504=\"OHLC\")=TRUE,O504,P504)/1000)*Y504*AA504*(1+VLOOKUP($H$4,BuildingType_Lookup,MATCH($H$5,HVAC,0)+4,FALSE)),IF(AO504=0,0,(IF(OR(C504=\"DDC\",C504=\"OHLC\")=TRUE,O504,Q504)/1000)*Y504*AA504*(1+VLOOKUP($H$4,BuildingType_Lookup,MATCH($H$5,HVAC,0)+4,FALSE)))))","v":0},0,0,0,0,0,0,{"$f":"W504/1000*Y504*AA504*IF(IFERROR(SEARCH(\"Gas\",$H$5),0)>0,VLOOKUP(\"Gas\",HVACg_Lookup,MATCH($H$6,BuildingSize,0)+1,FALSE),IF(IFERROR(SEARCH(\"Oil\",$H$5),0)>0,VLOOKUP(\"Oil\",HVACg_Lookup,MATCH($H$6,BuildingSize,0)+1,FALSE),IF(IFERROR(SEARCH(\"Propane\",$H$5),0)>0,VLOOKUP(\"Propane\",HVACg_Lookup,MATCH(Worksheet!$H$6,BuildingSize,0)+1,FALSE),0)))","v":0},{"$f":"X504/1000*Y504*AA504*IF(IFERROR(SEARCH(\"Gas\",$H$5),0)>0,VLOOKUP(\"Gas\",HVACg_Lookup,MATCH($H$6,BuildingSize,0)+1,FALSE),IF(IFERROR(SEARCH(\"Oil\",$H$5),0)>0,VLOOKUP(\"Oil\",HVACg_Lookup,MATCH($H$6,BuildingSize,0)+1,FALSE),IF(IFERROR(SEARCH(\"Propane\",$H$5),0)>0,VLOOKUP(\"Propane\",HVACg_Lookup,MATCH(Worksheet!$H$6,BuildingSize,0)+1,FALSE),0)))","v":0},0,0,{"$f":"IF(OR($B$4=\"\",$B$5=\"\",$H$4=\"\",$H$6=\"\",$H$5=\"\",A504=\"\",F504=\"\",J504=\"\",O504=\"\",P504=\"\")=TRUE,\"\",IF(C504=\"OSW\",IF(J504>=2,1,0),IF(C504=\"OSR\",IF(AND(J504>=2,P504>60)=TRUE,1,0),IF(C504=\"OSRH\",IF(AND(J504>=1,P504>90)=TRUE,1,0),IF(C504=\"OHLC\",IF(AND(N504=\"Y\",P504>60)=TRUE,1,0),IF(C504=\"DDC\",IF(AND(J504>=4,N504=\"Y\",P504>120)=TRUE,1,0),0))))))","v":""},{"$f":"IF(OR($B$4=\"\",$B$5=\"\",$H$4=\"\",$H$6=\"\",$H$5=\"\",A504=\"\",F504=\"\",K504=\"\",O504=\"\",P504=\"\")=TRUE,\"\",IF(C504=\"OSW\",IF(K504>=2,1,0),IF(C504=\"OSR\",IF(AND(K504>=2,Q504>60)=TRUE,1,0),IF(C504=\"OSRH\",IF(AND(K504>=1,Q504>90)=TRUE,1,0),IF(C504=\"OHLC\",IF(AND(N504=\"Y\",Q504>60)=TRUE,1,0),IF(C504=\"DDC\",IF(AND(K504>=4,N504=\"Y\",Q504>120)=TRUE,1,0),0))))))","v":""}]
[null,null,"",null,null,null,null,null,null,null,null,null,null,null,null,0,0,0,0,"",0,0,0,0,0,{"$f":"IF($H$4=\"\",0,VLOOKUP($H$4,BuildingType_Lookup,3,FALSE))","v":0},{"$f":"IF($H$4=\"\",0,VLOOKUP($H$4,BuildingType_Lookup,2,FALSE))","v":0},{"$f":"IF(AND(OR(AN505=\"\",AN505=0)=TRUE,OR(AO505=\"\",AO505=0))=TRUE,0,IF(AO505=\"\",(IF(OR(C505=\"DDC\",C505=\"OHLC\")=TRUE,O505,P505)/1000)*Y505*Z505*(1+VLOOKUP($H$4,BuildingType_Lookup,4,FALSE)),IF(AO505=0,0,(IF(OR(C505=\"DDC\",C505=\"OHLC\")=TRUE,O505,Q505)/1000)*Y505*Z505*(1+VLOOKUP($H$4,BuildingType_Lookup,4,FALSE)))))","v":0},{"$f":"IF(AND(OR(AN505=\"\",AN505=0)=TRUE,OR(AO505=\"\",AO505=0))=TRUE,0,IF(AO505=\"\",(IF(OR(C505=\"DDC\",C505=\"OHLC\")=TRUE,O505,P505)/1000)*Y505*AA505*(1+VLOOKUP($H$4,BuildingType_Lookup,MATCH($H$5,HVAC,0)+4,FALSE)),IF(AO505=0,0,(IF(OR(C505=\"DDC\",C505=\"OHLC\")=TRUE,O505,Q505)/1000)*Y505*AA505*(1+VLOOKUP($H$4,BuildingType_Lookup,MATCH($H$5,HVAC,0)+4,FALSE)))))","v":0},0,0,0,0,0,0,{"$f":"W505/1000*Y505*AA505*IF(IFERROR(SEARCH(\"Gas\",$H$5),0)>0,VLOOKUP(\"Gas\",HVACg_Lookup,MATCH($H$6,BuildingSize,0)+1,FALSE),IF(IFERROR(SEARCH(\"Oil\",$H$5),0)>0,VLOOKUP(\"Oil\",HVACg_Lookup,MATCH($H$6,BuildingSize,0)+1,FALSE),IF(IFERROR(SEARCH(\"Propane\",$H$5),0)>0,VLOOKUP(\"Propane\",HVACg_Lookup,MATCH(Worksheet!$H$6,BuildingSize,0)+1,FALSE),0)))","v":0},{"$f":"X505/1000*Y505*AA505*IF(IFERROR(SEARCH(\"Gas\",$H$5),0)>0,VLOOKUP(\"Gas\",HVACg_Lookup,MATCH($H$6,BuildingSize,0)+1,FALSE),IF(IFERROR(SEARCH(\"Oil\",$H$5),0)>0,VLOOKUP(\"Oil\",HVACg_Lookup,MATCH($H$6,BuildingSize,0)+1,FALSE),IF(IFERROR(SEARCH(\"Propane\",$H$5),0)>0,VLOOKUP(\"Propane\",HVACg_Lookup,MATCH(Worksheet!$H$6,BuildingSize,0)+1,FALSE),0)))","v":0},0,0,{"$f":"IF(OR($B$4=\"\",$B$5=\"\",$H$4=\"\",$H$6=\"\",$H$5=\"\",A505=\"\",F505=\"\",J505=\"\",O505=\"\",P505=\"\")=TRUE,\"\",IF(C505=\"OSW\",IF(J505>=2,1,0),IF(C505=\"OSR\",IF(AND(J505>=2,P505>60)=TRUE,1,0),IF(C505=\"OSRH\",IF(AND(J505>=1,P505>90)=TRUE,1,0),IF(C505=\"OHLC\",IF(AND(N505=\"Y\",P505>60)=TRUE,1,0),IF(C505=\"DDC\",IF(AND(J505>=4,N505=\"Y\",P505>120)=TRUE,1,0),0))))))","v":""},{"$f":"IF(OR($B$4=\"\",$B$5=\"\",$H$4=\"\",$H$6=\"\",$H$5=\"\",A505=\"\",F505=\"\",K505=\"\",O505=\"\",P505=\"\")=TRUE,\"\",IF(C505=\"OSW\",IF(K505>=2,1,0),IF(C505=\"OSR\",IF(AND(K505>=2,Q505>60)=TRUE,1,0),IF(C505=\"OSRH\",IF(AND(K505>=1,Q505>90)=TRUE,1,0),IF(C505=\"OHLC\",IF(AND(N505=\"Y\",Q505>60)=TRUE,1,0),IF(C505=\"DDC\",IF(AND(K505>=4,N505=\"Y\",Q505>120)=TRUE,1,0),0))))))","v":""}]
[null,null,"",null,null,null,null,null,null,null,null,null,null,null,null,0,0,0,0,"",0,0,0,0,0,{"$f":"IF($H$4=\"\",0,VLOOKUP($H$4,BuildingType_Lookup,3,FALSE))","v":0},{"$f":"IF($H$4=\"\",0,VLOOKUP($H$4,BuildingType_Lookup,2,FALSE))","v":0},{"$f":"IF(AND(OR(AN506=\"\",AN506=0)=TRUE,OR(AO506=\"\",AO506=0))=TRUE,0,IF(AO506=\"\",(IF(OR(C506=\"DDC\",C506=\"OHLC\")=TRUE,O506,P506)/1000)*Y506*Z506*(1+VLOOKUP($H$4,BuildingType_Lookup,4,FALSE)),IF(AO506=0,0,(IF(OR(C506=\"DDC\",C506=\"OHLC\")=TRUE,O506,Q506)/1000)*Y506*Z506*(1+VLOOKUP($H$4,BuildingType_Lookup,4,FALSE)))))","v":0},{"$f":"IF(AND(OR(AN506=\"\",AN506=0)=TRUE,OR(AO506=\"\",AO506=0))=TRUE,0,IF(AO506=\"\",(IF(OR(C506=\"DDC\",C506=\"OHLC\")=TRUE,O506,P506)/1000)*Y506*AA506*(1+VLOOKUP($H$4,BuildingType_Lookup,MATCH($H$5,HVAC,0)+4,FALSE)),IF(AO506=0,0,(IF(OR(C506=\"DDC\",C506=\"OHLC\")=TRUE,O506,Q506)/1000)*Y506*AA506*(1+VLOOKUP($H$4,BuildingType_Lookup,MATCH($H$5,HVAC,0)+4,FALSE)))))","v":0},0,0,0,0,0,0,{"$f":"W506/1000*Y506*AA506*IF(IFERROR(SEARCH(\"Gas\",$H$5),0)>0,VLOOKUP(\"Gas\",HVACg_Lookup,MATCH($H$6,BuildingSize,0)+1,FALSE),IF(IFERROR(SEARCH(\"Oil\",$H$5),0)>0,VLOOKUP(\"Oil\",HVACg_Lookup,MATCH($H$6,BuildingSize,0)+1,FALSE),IF(IFERROR(SEARCH(\"Propane\",$H$5),0)>0,VLOOKUP(\"Propane\",HVACg_Lookup,MATCH(Worksheet!$H$6,BuildingSize,0)+1,FALSE),0)))","v":0},{"$f":"X506/1000*Y506*AA506*IF(IFERROR(SEARCH(\"Gas\",$H$5),0)>0,VLOOKUP(\"Gas\",HVACg_Lookup,MATCH($H$6,BuildingSize,0)+1,FALSE),IF(IFERROR(SEARCH(\"Oil\",$H$5),0)>0,VLOOKUP(\"Oil\",HVACg_Lookup,MATCH($H$6,BuildingSize,0)+1,FALSE),IF(IFERROR(SEARCH(\"Propane\",$H$5),0)>0,VLOOKUP(\"Propane\",HVACg_Lookup,MATCH(Worksheet!$H$6,BuildingSize,0)+1,FALSE),0)))","v":0},0,0,{"$f":"IF(OR($B$4=\"\",$B$5=\"\",$H$4=\"\",$H$6=\"\",$H$5=\"\",A506=\"\",F506=\"\",J506=\"\",O506=\"\",P506=\"\")=TRUE,\"\",IF(C506=\"OSW\",IF(J506>=2,1,0),IF(C506=\"OSR\",IF(AND(J506>=2,P506>60)=TRUE,1,0),IF(C506=\"OSRH\",IF(AND(J506>=1,P506>90)=TRUE,1,0),IF(C506=\"OHLC\",IF(AND(N506=\"Y\",P506>60)=TRUE,1,0),IF(C506=\"DDC\",IF(AND(J506>=4,N506=\"Y\",P506>120)=TRUE,1,0),0))))))","v":""},{"$f":"IF(OR($B$4=\"\",$B$5=\"\",$H$4=\"\",$H$6=\"\",$H$5=\"\",A506=\"\",F506=\"\",K506=\"\",O506=\"\",P506=\"\")=TRUE,\"\",IF(C506=\"OSW\",IF(K506>=2,1,0),IF(C506=\"OSR\",IF(AND(K506>=2,Q506>60)=TRUE,1,0),IF(C506=\"OSRH\",IF(AND(K506>=1,Q506>90)=TRUE,1,0),IF(C506=\"OHLC\",IF(AND(N506=\"Y\",Q506>60)=TRUE,1,0),IF(C506=\"DDC\",IF(AND(K506>=4,N506=\"Y\",Q506>120)=TRUE,1,0),0))))))","v":""}]
[null,null,"",null,null,null,null,null,null,null,null,null,null,null,null,0,0,0,0,"",0,0,0,0,0,{"$f":"IF($H$4=\"\",0,VLOOKUP($H$4,BuildingType_Lookup,3,FALSE))","v":0},{"$f":"IF($H$4=\"\",0,VLOOKUP($H$4,BuildingType_Lookup,2,FALSE))","v":0},{"$f":"IF(AND(OR(AN507=\"\",AN507=0)=TRUE,OR(AO507=\"\",AO507=0))=TRUE,0,IF(AO507=\"\",(IF(OR(C507=\"DDC\",C507=\"OHLC\")=TRUE,O507,P507)/1000)*Y507*Z507*(1+VLOOKUP($H$4,BuildingType_Lookup,4,FALSE)),IF(AO507=0,0,(IF(OR(C507=\"DDC\",C507=\"OHLC\")=TRUE,O507,Q507)/1000)*Y507*Z507*(1+VLOOKUP($H$4,BuildingType_Lookup,4,FALSE)))))","v":0},{"$f":"IF(AND(OR(AN507=\"\",AN507=0)=TRUE,OR(AO507=\"\",AO507=0))=TRUE,0,IF(AO507=\"\",(IF(OR(C507=\"DDC\",C507=\"OHLC\")=TRUE,O507,P507)/1000)*Y507*AA507*(1+VLOOKUP($H$4,BuildingType_Lookup,MATCH($H$5,HVAC,0)+4,FALSE)),IF(AO507=0,0,(IF(OR(C507=\"DDC\",C507=\"OHLC\")=TRUE,O507,Q507)/1000)*Y507*AA507*(1+VLOOKUP($H$4,BuildingType_Lookup,MATCH($H$5,HVAC,0)+4,FALSE)))))","v":0},0,0,0,0,0,0,{"$f":"W507/1000*Y507*AA507*IF(IFERROR(SEARCH(\"Gas\",$H$5),0)>0,VLOOKUP(\"Gas\",HVACg_Lookup,MATCH($H$6,BuildingSize,0)+1,FALSE),IF(IFERROR(SEARCH(\"Oil\",$H$5),0)>0,VLOOKUP(\"Oil\",HVACg_Lookup,MATCH($H$6,BuildingSize,0)+1,FALSE),IF(IFERROR(SEARCH(\"Propane\",$H$5),0)>0,VLOOKUP(\"Propane\",HVACg_Lookup,MATCH(Worksheet!$H$6,BuildingSize,0)+1,FALSE),0)))","v":0},{"$f":"X507/1000*Y507*AA507*IF(IFERROR(SEARCH(\"Gas\",$H$5),0)>0,VLOOKUP(\"Gas\",HVACg_Lookup,MATCH($H$6,BuildingSize,0)+1,FALSE),IF(IFERROR(SEARCH(\"Oil\",$H$5),0)>0,VLOOKUP(\"Oil\",HVACg_Lookup,MATCH($H$6,BuildingSize,0)+1,FALSE),IF(IFERROR(SEARCH(\"Propane\",$H$5),0)>0,VLOOKUP(\"Propane\",HVACg_Lookup,MATCH(Worksheet!$H$6,BuildingSize,0)+1,FALSE),0)))","v":0},0,0,{"$f":"IF(OR($B$4=\"\",$B$5=\"\",$H$4=\"\",$H$6=\"\",$H$5=\"\",A507=\"\",F507=\"\",J507=\"\",O507=\"\",P507=\"\")=TRUE,\"\",IF(C507=\"OSW\",IF(J507>=2,1,0),IF(C507=\"OSR\",IF(AND(J507>=2,P507>60)=TRUE,1,0),IF(C507=\"OSRH\",IF(AND(J507>=1,P507>90)=TRUE,1,0),IF(C507=\"OHLC\",IF(AND(N507=\"Y\",P507>60)=TRUE,1,0),IF(C507=\"DDC\",IF(AND(J507>=4,N507=\"Y\",P507>120)=TRUE,1,0),0))))))","v":""},{"$f":"IF(OR($B$4=\"\",$B$5=\"\",$H$4=\"\",$H$6=\"\",$H$5=\"\",A507=\"\",F507=\"\",K507=\"\",O507=\"\",P507=\"\")=TRUE,\"\",IF(C507=\"OSW\",IF(K507>=2,1,0),IF(C507=\"OSR\",IF(AND(K507>=2,Q507>60)=TRUE,1,0),IF(C507=\"OSRH\",IF(AND(K507>=1,Q507>90)=TRUE,1,0),IF(C507=\"OHLC\",IF(AND(N507=\"Y\",Q507>60)=TRUE,1,0),IF(C507=\"DDC\",IF(AND(K507>=4,N507=\"Y\",Q507>120)=TRUE,1,0),0))))))","v":""}]
[null,null,"",null,null,null,null,null,null,null,null,null,null,null,null,0,0,0,0,"",0,0,0,0,0,{"$f":"IF($H$4=\"\",0,VLOOKUP($H$4,BuildingType_Lookup,3,FALSE))","v":0},{"$f":"IF($H$4=\"\",0,VLOOKUP($H$4,BuildingType_Lookup,2,FALSE))","v":0},{"$f":"IF(AND(OR(AN508=\"\",AN508=0)=TRUE,OR(AO508=\"\",AO508=0))=TRUE,0,IF(AO508=\"\",(IF(OR(C508=\"DDC\",C508=\"OHLC\")=TRUE,O508,P508)/1000)*Y508*Z508*(1+VLOOKUP($H$4,BuildingType_Lookup,4,FALSE)),IF(AO508=0,0,(IF(OR(C508=\"DDC\",C508=\"OHLC\")=TRUE,O508,Q508)/1000)*Y508*Z508*(1+VLOOKUP($H$4,BuildingType_Lookup,4,FALSE)))))","v":0},{"$f":"IF(AND(OR(AN508=\"\",AN508=0)=TRUE,OR(AO508=\"\",AO508=0))=TRUE,0,IF(AO508=\"\",(IF(OR(C508=\"DDC\",C508=\"OHLC\")=TRUE,O508,P508)/1000)*Y508*AA508*(1+VLOOKUP($H$4,BuildingType_Lookup,MATCH($H$5,HVAC,0)+4,FALSE)),IF(AO508=0,0,(IF(OR(C508=\"DDC\",C508=\"OHLC\")=TRUE,O508,Q508)/1000)*Y508*AA508*(1+VLOOKUP($H$4,BuildingType_Lookup,MATCH($H$5,HVAC,0)+4,FALSE)))))","v":0},0,0,0,0,0,0,{"$f":"W508/1000*Y508*AA508*IF(IFERROR(SEARCH(\"Gas\",$H$5),0)>0,VLOOKUP(\"Gas\",HVACg_Lookup,MATCH($H$6,BuildingSize,0)+1,FALSE),IF(IFERROR(SEARCH(\"Oil\",$H$5),0)>0,VLOOKUP(\"Oil\",HVACg_Lookup,MATCH($H$6,BuildingSize,0)+1,FALSE),IF(IFERROR(SEARCH(\"Propane\",$H$5),0)>0,VLOOKUP(\"Propane\",HVACg_Lookup,MATCH(Worksheet!$H$6,BuildingSize,0)+1,FALSE),0)))","v":0},{"$f":"X508/1000*Y508*AA508*IF(IFERROR(SEARCH(\"Gas\",$H$5),0)>0,VLOOKUP(\"Gas\",HVACg_Lookup,MATCH($H$6,BuildingSize,0)+1,FALSE),IF(IFERROR(SEARCH(\"Oil\",$H$5),0)>0,VLOOKUP(\"Oil\",HVACg_Lookup,MATCH($H$6,BuildingSize,0)+1,FALSE),IF(IFERROR(SEARCH(\"Propane\",$H$5),0)>0,VLOOKUP(\"Propane\",HVACg_Lookup,MATCH(Worksheet!$H$6,BuildingSize,0)+1,FALSE),0)))","v":0},0,0,{"$f":"IF(OR($B$4=\"\",$B$5=\"\",$H$4=\"\",$H$6=\"\",$H$5=\"\",A508=\"\",F508=\"\",J508=\"\",O508=\"\",P508=\"\")=TRUE,\"\",IF(C508=\"OSW\",IF(J508>=2,1,0),IF(C508=\"OSR\",IF(AND(J508>=2,P508>60)=TRUE,1,0),IF(C508=\"OSRH\",IF(AND(J508>=1,P508>90)=TRUE,1,0),IF(C508=\"OHLC\",IF(AND(N508=\"Y\",P508>60)=TRUE,1,0),IF(C508=\"DDC\",IF(AND(J508>=4,N508=\"Y\",P508>120)=TRUE,1,0),0))))))","v":""},{"$f":"IF(OR($B$4=\"\",$B$5=\"\",$H$4=\"\",$H$6=\"\",$H$5=\"\",A508=\"\",F508=\"\",K508=\"\",O508=\"\",P508=\"\")=TRUE,\"\",IF(C508=\"OSW\",IF(K508>=2,1,0),IF(C508=\"OSR\",IF(AND(K508>=2,Q508>60)=TRUE,1,0),IF(C508=\"OSRH\",IF(AND(K508>=1,Q508>90)=TRUE,1,0),IF(C508=\"OHLC\",IF(AND(N508=\"Y\",Q508>60)=TRUE,1,0),IF(C508=\"DDC\",IF(AND(K508>=4,N508=\"Y\",Q508>120)=TRUE,1,0),0))))))","v":""}]
[null,null,"",null,null,null,null,null,null,null,null,null,null,null,null,0,0,0,0,"",0,0,0,0,0,{"$f":"IF($H$4=\"\",0,VLOOKUP($H$4,BuildingType_Lookup,3,FALSE))","v":0},{"$f":"IF($H$4=\"\",0,VLOOKUP($H$4,BuildingType_Lookup,2,FALSE))","v":0},{"$f":"IF(AND(OR(AN509=\"\",AN509=0)=TRUE,OR(AO509=\"\",AO509=0))=TRUE,0,IF(AO509=\"\",(IF(OR(C509=\"DDC\",C509=\"OHLC\")=TRUE,O509,P509)/1000)*Y509*Z509*(1+VLOOKUP($H$4,BuildingType_Lookup,4,FALSE)),IF(AO509=0,0,(IF(OR(C509=\"DDC\",C509=\"OHLC\")=TRUE,O509,Q509)/1000)*Y509*Z509*(1+VLOOKUP($H$4,BuildingType_Lookup,4,FALSE)))))","v":0},{"$f":"IF(AND(OR(AN509=\"\",AN509=0)=TRUE,OR(AO509=\"\",AO509=0))=TRUE,0,IF(AO509=\"\",(IF(OR(C509=\"DDC\",C509=\"OHLC\")=TRUE,O509,P509)/1000)*Y509*AA509*(1+VLOOKUP($H$4,BuildingType_Lookup,MATCH($H$5,HVAC,0)+4,FALSE)),IF(AO509=0,0,(IF(OR(C509=\"DDC\",C509=\"OHLC\")=TRUE,O509,Q509)/1000)*Y509*AA509*(1+VLOOKUP($H$4,BuildingType_Lookup,MATCH($H$5,HVAC,0)+4,FALSE)))))","v":0},0,0,0,0,0,0,{"$f":"W509/1000*Y509*AA509*IF(IFERROR(SEARCH(\"Gas\",$H$5),0)>0,VLOOKUP(\"Gas\",HVACg_Lookup,MATCH($H$6,BuildingSize,0)+1,FALSE),IF(IFERROR(SEARCH(\"Oil\",$H$5),0)>0,VLOOKUP(\"Oil\",HVACg_Lookup,MATCH($H$6,BuildingSize,0)+1,FALSE),IF(IFERROR(SEARCH(\"Propane\",$H$5),0)>0,VLOOKUP(\"Propane\",HVACg_Lookup,MATCH(Worksheet!$H$6,BuildingSize,0)+1,FALSE),0)))","v":0},{"$f":"X509/1000*Y509*AA509*IF(IFERROR(SEARCH(\"Gas\",$H$5),0)>0,VLOOKUP(\"Gas\",HVACg_Lookup,MATCH($H$6,BuildingSize,0)+1,FALSE),IF(IFERROR(SEARCH(\"Oil\",$H$5),0)>0,VLOOKUP(\"Oil\",HVACg_Lookup,MATCH($H$6,BuildingSize,0)+1,FALSE),IF(IFERROR(SEARCH(\"Propane\",$H$5),0)>0,VLOOKUP(\"Propane\",HVACg_Lookup,MATCH(Worksheet!$H$6,BuildingSize,0)+1,FALSE),0)))","v":0},0,0,{"$f":"IF(OR($B$4=\"\",$B$5=\"\",$H$4=\"\",$H$6=\"\",$H$5=\"\",A509=\"\",F509=\"\",J509=\"\",O509=\"\",P509=\"\")=TRUE,\"\",IF(C509=\"OSW\",IF(J509>=2,1,0),IF(C509=\"OSR\",IF(AND(J509>=2,P509>60)=TRUE,1,0),IF(C509=\"OSRH\",IF(AND(J509>=1,P509>90)=TRUE,1,0),IF(C509=\"OHLC\",IF(AND(N509=\"Y\",P509>60)=TRUE,1,0),IF(C509=\"DDC\",IF(AND(J509>=4,N509=\"Y\",P509>120)=TRUE,1,0),0))))))","v":""},{"$f":"IF(OR($B$4=\"\",$B$5=\"\",$H$4=\"\",$H$6=\"\",$H$5=\"\",A509=\"\",F509=\"\",K509=\"\",O509=\"\",P509=\"\")=TRUE,\"\",IF(C509=\"OSW\",IF(K509>=2,1,0),IF(C509=\"OSR\",IF(AND(K509>=2,Q509>60)=TRUE,1,0),IF(C509=\"OSRH\",IF(AND(K509>=1,Q509>90)=TRUE,1,0),IF(C509=\"OHLC\",IF(AND(N509=\"Y\",Q509>60)=TRUE,1,0),IF(C509=\"DDC\",IF(AND(K509>=4,N509=\"Y\",Q509>120)=TRUE,1,0),0))))))","v":""}]
[null,null,"",null,null,null,null,null,null,null,null,null,null,null,null,0,0,0,0,"",0,0,0,0,0,{"$f":"IF($H$4=\"\",0,VLOOKUP($H$4,BuildingType_Lookup,3,FALSE))","v":0},{"$f":"IF($H$4=\"\",0,VLOOKUP($H$4,BuildingType_Lookup,2,FALSE))","v":0},{"$f":"IF(AND(OR(AN510=\"\",AN510=0)=TRUE,OR(AO510=\"\",AO510=0))=TRUE,0,IF(AO510=\"\",(IF(OR(C510=\"DDC\",C510=\"OHLC\")=TRUE,O510,P510)/1000)*Y510*Z510*(1+VLOOKUP($H$4,BuildingType_Lookup,4,FALSE)),IF(AO510=0,0,(IF(OR(C510=\"DDC\",C510=\"OHLC\")=TRUE,O510,Q510)/1000)*Y510*Z510*(1+VLOOKUP($H$4,BuildingType_Lookup,4,FALSE)))))","v":0},{"$f":"IF(AND(OR(AN510=\"\",AN510=0)=TRUE,OR(AO510=\"\",AO510=0))=TRUE,0,IF(AO510=\"\",(IF(OR(C510=\"DDC\",C510=\"OHLC\")=TRUE,O510,P510)/1000)*Y510*AA510*(1+VLOOKUP($H$4,BuildingType_Lookup,MATCH($H$5,HVAC,0)+4,FALSE)),IF(AO510=0,0,(IF(OR(C510=\"DDC\",C510=\"OHLC\")=TRUE,O510,Q510)/1000)*Y510*AA510*(1+VLOOKUP($H$4,BuildingType_Lookup,MATCH($H$5,HVAC,0)+4,FALSE)))))","v":0},0,0,0,0,0,0,{"$f":"W510/1000*Y510*AA510*IF(IFERROR(SEARCH(\"Gas\",$H$5),0)>0,VLOOKUP(\"Gas\",HVACg_Lookup,MATCH($H$6,BuildingSize,0)+1,FALSE),IF(IFERROR(SEARCH(\"Oil\",$H$5),0)>0,VLOOKUP(\"Oil\",HVACg_Lookup,MATCH($H$6,BuildingSize,0)+1,FALSE),IF(IFERROR(SEARCH(\"Propane\",$H$5),0)>0,VLOOKUP(\"Propane\",HVACg_Lookup,MATCH(Worksheet!$H$6,BuildingSize,0)+1,FALSE),0)))","v":0},{"$f":"X510/1000*Y510*AA510*IF(IFERROR(SEARCH(\"Gas\",$H$5),0)>0,VLOOKUP(\"Gas\",HVACg_Lookup,MATCH($H$6,BuildingSize,0)+1,FALSE),IF(IFERROR(SEARCH(\"Oil\",$H$5),0)>0,VLOOKUP(\"Oil\",HVACg_Lookup,MATCH($H$6,BuildingSize,0)+1,FALSE),IF(IFERROR(SEARCH(\"Propane\",$H$5),0)>0,VLOOKUP(\"Propane\",HVACg_Lookup,MATCH(Worksheet!$H$6,BuildingSize,0)+1,FALSE),0)))","v":0},0,0,{"$f":"IF(OR($B$4=\"\",$B$5=\"\",$H$4=\"\",$H$6=\"\",$H$5=\"\",A510=\"\",F510=\"\",J510=\"\",O510=\"\",P510=\"\")=TRUE,\"\",IF(C510=\"OSW\",IF(J510>=2,1,0),IF(C510=\"OSR\",IF(AND(J510>=2,P510>60)=TRUE,1,0),IF(C510=\"OSRH\",IF(AND(J510>=1,P510>90)=TRUE,1,0),IF(C510=\"OHLC\",IF(AND(N510=\"Y\",P510>60)=TRUE,1,0),IF(C510=\"DDC\",IF(AND(J510>=4,N510=\"Y\",P510>120)=TRUE,1,0),0))))))","v":""},{"$f":"IF(OR($B$4=\"\",$B$5=\"\",$H$4=\"\",$H$6=\"\",$H$5=\"\",A510=\"\",F510=\"\",K510=\"\",O510=\"\",P510=\"\")=TRUE,\"\",IF(C510=\"OSW\",IF(K510>=2,1,0),IF(C510=\"OSR\",IF(AND(K510>=2,Q510>60)=TRUE,1,0),IF(C510=\"OSRH\",IF(AND(K510>=1,Q510>90)=TRUE,1,0),IF(C510=\"OHLC\",IF(AND(N510=\"Y\",Q510>60)=TRUE,1,0),IF(C510=\"DDC\",IF(AND(K510>=4,N510=\"Y\",Q510>120)=TRUE,1,0),0))))))","v":""}]
[null,null,"",null,null,null,null,null,null,null,null,null,null,null,null,0,0,0,0,"",0,0,0,0,0,{"$f":"IF($H$4=\"\",0,VLOOKUP($H$4,BuildingType_Lookup,3,FALSE))","v":0},{"$f":"IF($H$4=\"\",0,VLOOKUP($H$4,BuildingType_Lookup,2,FALSE))","v":0},{"$f":"IF(AND(OR(AN511=\"\",AN511=0)=TRUE,OR(AO511=\"\",AO511=0))=TRUE,0,IF(AO511=\"\",(IF(OR(C511=\"DDC\",C511=\"OHLC\")=TRUE,O511,P511)/1000)*Y511*Z511*(1+VLOOKUP($H$4,BuildingType_Lookup,4,FALSE)),IF(AO511=0,0,(IF(OR(C511=\"DDC\",C511=\"OHLC\")=TRUE,O511,Q511)/1000)*Y511*Z511*(1+VLOOKUP($H$4,BuildingType_Lookup,4,FALSE)))))","v":0},{"$f":"IF(AND(OR(AN511=\"\",AN511=0)=TRUE,OR(AO511=\"\",AO511=0))=TRUE,0,IF(AO511=\"\",(IF(OR(C511=\"DDC\",C511=\"OHLC\")=TRUE,O511,P511)/1000)*Y511*AA511*(1+VLOOKUP($H$4,BuildingType_Lookup,MATCH($H$5,HVAC,0)+4,FALSE)),IF(AO511=0,0,(IF(OR(C511=\"DDC\",C511=\"OHLC\")=TRUE,O511,Q511)/1000)*Y511*AA511*(1+VLOOKUP($H$4,BuildingType_Lookup,MATCH($H$5,HVAC,0)+4,FALSE)))))","v":0},0,0,0,0,0,0,{"$f":"W511/1000*Y511*AA511*IF(IFERROR(SEARCH(\"Gas\",$H$5),0)>0,VLOOKUP(\"Gas\",HVACg_Lookup,MATCH($H$6,BuildingSize,0)+1,FALSE),IF(IFERROR(SEARCH(\"Oil\",$H$5),0)>0,VLOOKUP(\"Oil\",HVACg_Lookup,MATCH($H$6,BuildingSize,0)+1,FALSE),IF(IFERROR(SEARCH(\"Propane\",$H$5),0)>0,VLOOKUP(\"Propane\",HVACg_Lookup,MATCH(Worksheet!$H$6,BuildingSize,0)+1,FALSE),0)))","v":0},{"$f":"X511/1000*Y511*AA511*IF(IFERROR(SEARCH(\"Gas\",$H$5),0)>0,VLOOKUP(\"Gas\",HVACg_Lookup,MATCH($H$6,BuildingSize,0)+1,FALSE),IF(IFERROR(SEARCH(\"Oil\",$H$5),0)>0,VLOOKUP(\"Oil\",HVACg_Lookup,MATCH($H$6,BuildingSize,0)+1,FALSE),IF(IFERROR(SEARCH(\"Propane\",$H$5),0)>0,VLOOKUP(\"Propane\",HVACg_Lookup,MATCH(Worksheet!$H$6,BuildingSize,0)+1,FALSE),0)))","v":0},0,0,{"$f":"IF(OR($B$4=\"\",$B$5=\"\",$H$4=\"\",$H$6=\"\",$H$5=\"\",A511=\"\",F511=\"\",J511=\"\",O511=\"\",P511=\"\")=TRUE,\"\",IF(C511=\"OSW\",IF(J511>=2,1,0),IF(C511=\"OSR\",IF(AND(J511>=2,P511>60)=TRUE,1,0),IF(C511=\"OSRH\",IF(AND(J511>=1,P511>90)=TRUE,1,0),IF(C511=\"OHLC\",IF(AND(N511=\"Y\",P511>60)=TRUE,1,0),IF(C511=\"DDC\",IF(AND(J511>=4,N511=\"Y\",P511>120)=TRUE,1,0),0))))))","v":""},{"$f":"IF(OR($B$4=\"\",$B$5=\"\",$H$4=\"\",$H$6=\"\",$H$5=\"\",A511=\"\",F511=\"\",K511=\"\",O511=\"\",P511=\"\")=TRUE,\"\",IF(C511=\"OSW\",IF(K511>=2,1,0),IF(C511=\"OSR\",IF(AND(K511>=2,Q511>60)=TRUE,1,0),IF(C511=\"OSRH\",IF(AND(K511>=1,Q511>90)=TRUE,1,0),IF(C511=\"OHLC\",IF(AND(N511=\"Y\",Q511>60)=TRUE,1,0),IF(C511=\"DDC\",IF(AND(K511>=4,N511=\"Y\",Q511>120)=TRUE,1,0),0))))))","v":""}]
[null,null,"",null,null,null,null,null,null,null,null,null,null,null,null,0,0,0,0,"",0,0,0,0,0,{"$f":"IF($H$4=\"\",0,VLOOKUP($H$4,BuildingType_Lookup,3,FALSE))","v":0},{"$f":"IF($H$4=\"\",0,VLOOKUP($H$4,BuildingType_Lookup,2,FALSE))","v":0},{"$f":"IF(AND(OR(AN512=\"\",AN512=0)=TRUE,OR(AO512=\"\",AO512=0))=TRUE,0,IF(AO512=\"\",(IF(OR(C512=\"DDC\",C512=\"OHLC\")=TRUE,O512,P512)/1000)*Y512*Z512*(1+VLOOKUP($H$4,BuildingType_Lookup,4,FALSE)),IF(AO512=0,0,(IF(OR(C512=\"DDC\",C512=\"OHLC\")=TRUE,O512,Q512)/1000)*Y512*Z512*(1+VLOOKUP($H$4,BuildingType_Lookup,4,FALSE)))))","v":0},{"$f":"IF(AND(OR(AN512=\"\",AN512=0)=TRUE,OR(AO512=\"\",AO512=0))=TRUE,0,IF(AO512=\"\",(IF(OR(C512=\"DDC\",C512=\"OHLC\")=TRUE,O512,P512)/1000)*Y512*AA512*(1+VLOOKUP($H$4,BuildingType_Lookup,MATCH($H$5,HVAC,0)+4,FALSE)),IF(AO512=0,0,(IF(OR(C512=\"DDC\",C512=\"OHLC\")=TRUE,O512,Q512)/1000)*Y512*AA512*(1+VLOOKUP($H$4,BuildingType_Lookup,MATCH($H$5,HVAC,0)+4,FALSE)))))","v":0},0,0,0,0,0,0,{"$f":"W512/1000*Y512*AA512*IF(IFERROR(SEARCH(\"Gas\",$H$5),0)>0,VLOOKUP(\"Gas\",HVACg_Lookup,MATCH($H$6,BuildingSize,0)+1,FALSE),IF(IFERROR(SEARCH(\"Oil\",$H$5),0)>0,VLOOKUP(\"Oil\",HVACg_Lookup,MATCH($H$6,BuildingSize,0)+1,FALSE),IF(IFERROR(SEARCH(\"Propane\",$H$5),0)>0,VLOOKUP(\"Propane\",HVACg_Lookup,MATCH(Worksheet!$H$6,BuildingSize,0)+1,FALSE),0)))","v":0},{"$f":"X512/1000*Y512*AA512*IF(IFERROR(SEARCH(\"Gas\",$H$5),0)>0,VLOOKUP(\"Gas\",HVACg_Lookup,MATCH($H$6,BuildingSize,0)+1,FALSE),IF(IFERROR(SEARCH(\"Oil\",$H$5),0)>0,VLOOKUP(\"Oil\",HVACg_Lookup,MATCH($H$6,BuildingSize,0)+1,FALSE),IF(IFERROR(SEARCH(\"Propane\",$H$5),0)>0,VLOOKUP(\"Propane\",HVACg_Lookup,MATCH(Worksheet!$H$6,BuildingSize,0)+1,FALSE),0)))","v":0},0,0,{"$f":"IF(OR($B$4=\"\",$B$5=\"\",$H$4=\"\",$H$6=\"\",$H$5=\"\",A512=\"\",F512=\"\",J512=\"\",O512=\"\",P512=\"\")=TRUE,\"\",IF(C512=\"OSW\",IF(J512>=2,1,0),IF(C512=\"OSR\",IF(AND(J512>=2,P512>60)=TRUE,1,0),IF(C512=\"OSRH\",IF(AND(J512>=1,P512>90)=TRUE,1,0),IF(C512=\"OHLC\",IF(AND(N512=\"Y\",P512>60)=TRUE,1,0),IF(C512=\"DDC\",IF(AND(J512>=4,N512=\"Y\",P512>120)=TRUE,1,0),0))))))","v":""},{"$f":"IF(OR($B$4=\"\",$B$5=\"\",$H$4=\"\",$H$6=\"\",$H$5=\"\",A512=\"\",F512=\"\",K512=\"\",O512=\"\",P512=\"\")=TRUE,\"\",IF(C512=\"OSW\",IF(K512>=2,1,0),IF(C512=\"OSR\",IF(AND(K512>=2,Q512>60)=TRUE,1,0),IF(C512=\"OSRH\",IF(AND(K512>=1,Q512>90)=TRUE,1,0),IF(C512=\"OHLC\",IF(AND(N512=\"Y\",Q512>60)=TRUE,1,0),IF(C512=\"DDC\",IF(AND(K512>=4,N512=\"Y\",Q512>120)=TRUE,1,0),0))))))","v":""}]
[null,null,"",null,null,null,null,null,null,null,null,null,null,null,null,0,0,0,0,"",0,0,0,0,0,{"$f":"IF($H$4=\"\",0,VLOOKUP($H$4,BuildingType_Lookup,3,FALSE))","v":0},{"$f":"IF($H$4=\"\",0,VLOOKUP($H$4,BuildingType_Lookup,2,FALSE))","v":0},{"$f":"IF(AND(OR(AN513=\"\",AN513=0)=TRUE,OR(AO513=\"\",AO513=0))=TRUE,0,IF(AO513=\"\",(IF(OR(C513=\"DDC\",C513=\"OHLC\")=TRUE,O513,P513)/1000)*Y513*Z513*(1+VLOOKUP($H$4,BuildingType_Lookup,4,FALSE)),IF(AO513=0,0,(IF(OR(C513=\"DDC\",C513=\"OHLC\")=TRUE,O513,Q513)/1000)*Y513*Z513*(1+VLOOKUP($H$4,BuildingType_Lookup,4,FALSE)))))","v":0},{"$f":"IF(AND(OR(AN513=\"\",AN513=0)=TRUE,OR(AO513=\"\",AO513=0))=TRUE,0,IF(AO513=\"\",(IF(OR(C513=\"DDC\",C513=\"OHLC\")=TRUE,O513,P513)/1000)*Y513*AA513*(1+VLOOKUP($H$4,BuildingType_Lookup,MATCH($H$5,HVAC,0)+4,FALSE)),IF(AO513=0,0,(IF(OR(C513=\"DDC\",C513=\"OHLC\")=TRUE,O513,Q513)/1000)*Y513*AA513*(1+VLOOKUP($H$4,BuildingType_Lookup,MATCH($H$5,HVAC,0)+4,FALSE)))))","v":0},0,0,0,0,0,0,{"$f":"W513/1000*Y513*AA513*IF(IFERROR(SEARCH(\"Gas\",$H$5),0)>0,VLOOKUP(\"Gas\",HVACg_Lookup,MATCH($H$6,BuildingSize,0)+1,FALSE),IF(IFERROR(SEARCH(\"Oil\",$H$5),0)>0,VLOOKUP(\"Oil\",HVACg_Lookup,MATCH($H$6,BuildingSize,0)+1,FALSE),IF(IFERROR(SEARCH(\"Propane\",$H$5),0)>0,VLOOKUP(\"Propane\",HVACg_Lookup,MATCH(Worksheet!$H$6,BuildingSize,0)+1,FALSE),0)))","v":0},{"$f":"X513/1000*Y513*AA513*IF(IFERROR(SEARCH(\"Gas\",$H$5),0)>0,VLOOKUP(\"Gas\",HVACg_Lookup,MATCH($H$6,BuildingSize,0)+1,FALSE),IF(IFERROR(SEARCH(\"Oil\",$H$5),0)>0,VLOOKUP(\"Oil\",HVACg_Lookup,MATCH($H$6,BuildingSize,0)+1,FALSE),IF(IFERROR(SEARCH(\"Propane\",$H$5),0)>0,VLOOKUP(\"Propane\",HVACg_Lookup,MATCH(Worksheet!$H$6,BuildingSize,0)+1,FALSE),0)))","v":0},0,0,{"$f":"IF(OR($B$4=\"\",$B$5=\"\",$H$4=\"\",$H$6=\"\",$H$5=\"\",A513=\"\",F513=\"\",J513=\"\",O513=\"\",P513=\"\")=TRUE,\"\",IF(C513=\"OSW\",IF(J513>=2,1,0),IF(C513=\"OSR\",IF(AND(J513>=2,P513>60)=TRUE,1,0),IF(C513=\"OSRH\",IF(AND(J513>=1,P513>90)=TRUE,1,0),IF(C513=\"OHLC\",IF(AND(N513=\"Y\",P513>60)=TRUE,1,0),IF(C513=\"DDC\",IF(AND(J513>=4,N513=\"Y\",P513>120)=TRUE,1,0),0))))))","v":""},{"$f":"IF(OR($B$4=\"\",$B$5=\"\",$H$4=\"\",$H$6=\"\",$H$5=\"\",A513=\"\",F513=\"\",K513=\"\",O513=\"\",P513=\"\")=TRUE,\"\",IF(C513=\"OSW\",IF(K513>=2,1,0),IF(C513=\"OSR\",IF(AND(K513>=2,Q513>60)=TRUE,1,0),IF(C513=\"OSRH\",IF(AND(K513>=1,Q513>90)=TRUE,1,0),IF(C513=\"OHLC\",IF(AND(N513=\"Y\",Q513>60)=TRUE,1,0),IF(C513=\"DDC\",IF(AND(K513>=4,N513=\"Y\",Q513>120)=TRUE,1,0),0))))))","v":""}]
[null,null,"",null,null,null,null,null,null,null,null,null,null,null,null,0,0,0,0,"",0,0,0,0,0,{"$f":"IF($H$4=\"\",0,VLOOKUP($H$4,BuildingType_Lookup,3,FALSE))","v":0},{"$f":"IF($H$4=\"\",0,VLOOKUP($H$4,BuildingType_Lookup,2,FALSE))","v":0},{"$f":"IF(AND(OR(AN514=\"\",AN514=0)=TRUE,OR(AO514=\"\",AO514=0))=TRUE,0,IF(AO514=\"\",(IF(OR(C514=\"DDC\",C514=\"OHLC\")=TRUE,O514,P514)/1000)*Y514*Z514*(1+VLOOKUP($H$4,BuildingType_Lookup,4,FALSE)),IF(AO514=0,0,(IF(OR(C514=\"DDC\",C514=\"OHLC\")=TRUE,O514,Q514)/1000)*Y514*Z514*(1+VLOOKUP($H$4,BuildingType_Lookup,4,FALSE)))))","v":0},{"$f":"IF(AND(OR(AN514=\"\",AN514=0)=TRUE,OR(AO514=\"\",AO514=0))=TRUE,0,IF(AO514=\"\",(IF(OR(C514=\"DDC\",C514=\"OHLC\")=TRUE,O514,P514)/1000)*Y514*AA514*(1+VLOOKUP($H$4,BuildingType_Lookup,MATCH($H$5,HVAC,0)+4,FALSE)),IF(AO514=0,0,(IF(OR(C514=\"DDC\",C514=\"OHLC\")=TRUE,O514,Q514)/1000)*Y514*AA514*(1+VLOOKUP($H$4,BuildingType_Lookup,MATCH($H$5,HVAC,0)+4,FALSE)))))","v":0},0,0,0,0,0,0,{"$f":"W514/1000*Y514*AA514*IF(IFERROR(SEARCH(\"Gas\",$H$5),0)>0,VLOOKUP(\"Gas\",HVACg_Lookup,MATCH($H$6,BuildingSize,0)+1,FALSE),IF(IFERROR(SEARCH(\"Oil\",$H$5),0)>0,VLOOKUP(\"Oil\",HVACg_Lookup,MATCH($H$6,BuildingSize,0)+1,FALSE),IF(IFERROR(SEARCH(\"Propane\",$H$5),0)>0,VLOOKUP(\"Propane\",HVACg_Lookup,MATCH(Worksheet!$H$6,BuildingSize,0)+1,FALSE),0)))","v":0},{"$f":"X514/1000*Y514*AA514*IF(IFERROR(SEARCH(\"Gas\",$H$5),0)>0,VLOOKUP(\"Gas\",HVACg_Lookup,MATCH($H$6,BuildingSize,0)+1,FALSE),IF(IFERROR(SEARCH(\"Oil\",$H$5),0)>0,VLOOKUP(\"Oil\",HVACg_Lookup,MATCH($H$6,BuildingSize,0)+1,FALSE),IF(IFERROR(SEARCH(\"Propane\",$H$5),0)>0,VLOOKUP(\"Propane\",HVACg_Lookup,MATCH(Worksheet!$H$6,BuildingSize,0)+1,FALSE),0)))","v":0},0,0,{"$f":"IF(OR($B$4=\"\",$B$5=\"\",$H$4=\"\",$H$6=\"\",$H$5=\"\",A514=\"\",F514=\"\",J514=\"\",O514=\"\",P514=\"\")=TRUE,\"\",IF(C514=\"OSW\",IF(J514>=2,1,0),IF(C514=\"OSR\",IF(AND(J514>=2,P514>60)=TRUE,1,0),IF(C514=\"OSRH\",IF(AND(J514>=1,P514>90)=TRUE,1,0),IF(C514=\"OHLC\",IF(AND(N514=\"Y\",P514>60)=TRUE,1,0),IF(C514=\"DDC\",IF(AND(J514>=4,N514=\"Y\",P514>120)=TRUE,1,0),0))))))","v":""},{"$f":"IF(OR($B$4=\"\",$B$5=\"\",$H$4=\"\",$H$6=\"\",$H$5=\"\",A514=\"\",F514=\"\",K514=\"\",O514=\"\",P514=\"\")=TRUE,\"\",IF(C514=\"OSW\",IF(K514>=2,1,0),IF(C514=\"OSR\",IF(AND(K514>=2,Q514>60)=TRUE,1,0),IF(C514=\"OSRH\",IF(AND(K514>=1,Q514>90)=TRUE,1,0),IF(C514=\"OHLC\",IF(AND(N514=\"Y\",Q514>60)=TRUE,1,0),IF(C514=\"DDC\",IF(AND(K514>=4,N514=\"Y\",Q514>120)=TRUE,1,0),0))))))","v":""}]
[null,null,"",null,null,null,null,null,null,null,null,null,null,null,null,0,0,0,0,"",0,0,0,0,0,{"$f":"IF($H$4=\"\",0,VLOOKUP($H$4,BuildingType_Lookup,3,FALSE))","v":0},{"$f":"IF($H$4=\"\",0,VLOOKUP($H$4,BuildingType_Lookup,2,FALSE))","v":0},{"$f":"IF(AND(OR(AN515=\"\",AN515=0)=TRUE,OR(AO515=\"\",AO515=0))=TRUE,0,IF(AO515=\"\",(IF(OR(C515=\"DDC\",C515=\"OHLC\")=TRUE,O515,P515)/1000)*Y515*Z515*(1+VLOOKUP($H$4,BuildingType_Lookup,4,FALSE)),IF(AO515=0,0,(IF(OR(C515=\"DDC\",C515=\"OHLC\")=TRUE,O515,Q515)/1000)*Y515*Z515*(1+VLOOKUP($H$4,BuildingType_Lookup,4,FALSE)))))","v":0},{"$f":"IF(AND(OR(AN515=\"\",AN515=0)=TRUE,OR(AO515=\"\",AO515=0))=TRUE,0,IF(AO515=\"\",(IF(OR(C515=\"DDC\",C515=\"OHLC\")=TRUE,O515,P515)/1000)*Y515*AA515*(1+VLOOKUP($H$4,BuildingType_Lookup,MATCH($H$5,HVAC,0)+4,FALSE)),IF(AO515=0,0,(IF(OR(C515=\"DDC\",C515=\"OHLC\")=TRUE,O515,Q515)/1000)*Y515*AA515*(1+VLOOKUP($H$4,BuildingType_Lookup,MATCH($H$5,HVAC,0)+4,FALSE)))))","v":0},0,0,0,0,0,0,{"$f":"W515/1000*Y515*AA515*IF(IFERROR(SEARCH(\"Gas\",$H$5),0)>0,VLOOKUP(\"Gas\",HVACg_Lookup,MATCH($H$6,BuildingSize,0)+1,FALSE),IF(IFERROR(SEARCH(\"Oil\",$H$5),0)>0,VLOOKUP(\"Oil\",HVACg_Lookup,MATCH($H$6,BuildingSize,0)+1,FALSE),IF(IFERROR(SEARCH(\"Propane\",$H$5),0)>0,VLOOKUP(\"Propane\",HVACg_Lookup,MATCH(Worksheet!$H$6,BuildingSize,0)+1,FALSE),0)))","v":0},{"$f":"X515/1000*Y515*AA515*IF(IFERROR(SEARCH(\"Gas\",$H$5),0)>0,VLOOKUP(\"Gas\",HVACg_Lookup,MATCH($H$6,BuildingSize,0)+1,FALSE),IF(IFERROR(SEARCH(\"Oil\",$H$5),0)>0,VLOOKUP(\"Oil\",HVACg_Lookup,MATCH($H$6,BuildingSize,0)+1,FALSE),IF(IFERROR(SEARCH(\"Propane\",$H$5),0)>0,VLOOKUP(\"Propane\",HVACg_Lookup,MATCH(Worksheet!$H$6,BuildingSize,0)+1,FALSE),0)))","v":0},0,0,{"$f":"IF(OR($B$4=\"\",$B$5=\"\",$H$4=\"\",$H$6=\"\",$H$5=\"\",A515=\"\",F515=\"\",J515=\"\",O515=\"\",P515=\"\")=TRUE,\"\",IF(C515=\"OSW\",IF(J515>=2,1,0),IF(C515=\"OSR\",IF(AND(J515>=2,P515>60)=TRUE,1,0),IF(C515=\"OSRH\",IF(AND(J515>=1,P515>90)=TRUE,1,0),IF(C515=\"OHLC\",IF(AND(N515=\"Y\",P515>60)=TRUE,1,0),IF(C515=\"DDC\",IF(AND(J515>=4,N515=\"Y\",P515>120)=TRUE,1,0),0))))))","v":""},{"$f":"IF(OR($B$4=\"\",$B$5=\"\",$H$4=\"\",$H$6=\"\",$H$5=\"\",A515=\"\",F515=\"\",K515=\"\",O515=\"\",P515=\"\")=TRUE,\"\",IF(C515=\"OSW\",IF(K515>=2,1,0),IF(C515=\"OSR\",IF(AND(K515>=2,Q515>60)=TRUE,1,0),IF(C515=\"OSRH\",IF(AND(K515>=1,Q515>90)=TRUE,1,0),IF(C515=\"OHLC\",IF(AND(N515=\"Y\",Q515>60)=TRUE,1,0),IF(C515=\"DDC\",IF(AND(K515>=4,N515=\"Y\",Q515>120)=TRUE,1,0),0))))))","v":""}]
[null,null,"",null,null,null,null,null,null,null,null,null,null,null,null,0,0,0,0,"",0,0,0,0,0,{"$f":"IF($H$4=\"\",0,VLOOKUP($H$4,BuildingType_Lookup,3,FALSE))","v":0},{"$f":"IF($H$4=\"\",0,VLOOKUP($H$4,BuildingType_Lookup,2,FALSE))","v":0},{"$f":"IF(AND(OR(AN516=\"\",AN516=0)=TRUE,OR(AO516=\"\",AO516=0))=TRUE,0,IF(AO516=\"\",(IF(OR(C516=\"DDC\",C516=\"OHLC\")=TRUE,O516,P516)/1000)*Y516*Z516*(1+VLOOKUP($H$4,BuildingType_Lookup,4,FALSE)),IF(AO516=0,0,(IF(OR(C516=\"DDC\",C516=\"OHLC\")=TRUE,O516,Q516)/1000)*Y516*Z516*(1+VLOOKUP($H$4,BuildingType_Lookup,4,FALSE)))))","v":0},{"$f":"IF(AND(OR(AN516=\"\",AN516=0)=TRUE,OR(AO516=\"\",AO516=0))=TRUE,0,IF(AO516=\"\",(IF(OR(C516=\"DDC\",C516=\"OHLC\")=TRUE,O516,P516)/1000)*Y516*AA516*(1+VLOOKUP($H$4,BuildingType_Lookup,MATCH($H$5,HVAC,0)+4,FALSE)),IF(AO516=0,0,(IF(OR(C516=\"DDC\",C516=\"OHLC\")=TRUE,O516,Q516)/1000)*Y516*AA516*(1+VLOOKUP($H$4,BuildingType_Lookup,MATCH($H$5,HVAC,0)+4,FALSE)))))","v":0},0,0,0,0,0,0,{"$f":"W516/1000*Y516*AA516*IF(IFERROR(SEARCH(\"Gas\",$H$5),0)>0,VLOOKUP(\"Gas\",HVACg_Lookup,MATCH($H$6,BuildingSize,0)+1,FALSE),IF(IFERROR(SEARCH(\"Oil\",$H$5),0)>0,VLOOKUP(\"Oil\",HVACg_Lookup,MATCH($H$6,BuildingSize,0)+1,FALSE),IF(IFERROR(SEARCH(\"Propane\",$H$5),0)>0,VLOOKUP(\"Propane\",HVACg_Lookup,MATCH(Worksheet!$H$6,BuildingSize,0)+1,FALSE),0)))","v":0},{"$f":"X516/1000*Y516*AA516*IF(IFERROR(SEARCH(\"Gas\",$H$5),0)>0,VLOOKUP(\"Gas\",HVACg_Lookup,MATCH($H$6,BuildingSize,0)+1,FALSE),IF(IFERROR(SEARCH(\"Oil\",$H$5),0)>0,VLOOKUP(\"Oil\",HVACg_Lookup,MATCH($H$6,BuildingSize,0)+1,FALSE),IF(IFERROR(SEARCH(\"Propane\",$H$5),0)>0,VLOOKUP(\"Propane\",HVACg_Lookup,MATCH(Worksheet!$H$6,BuildingSize,0)+1,FALSE),0)))","v":0},0,0,{"$f":"IF(OR($B$4=\"\",$B$5=\"\",$H$4=\"\",$H$6=\"\",$H$5=\"\",A516=\"\",F516=\"\",J516=\"\",O516=\"\",P516=\"\")=TRUE,\"\",IF(C516=\"OSW\",IF(J516>=2,1,0),IF(C516=\"OSR\",IF(AND(J516>=2,P516>60)=TRUE,1,0),IF(C516=\"OSRH\",IF(AND(J516>=1,P516>90)=TRUE,1,0),IF(C516=\"OHLC\",IF(AND(N516=\"Y\",P516>60)=TRUE,1,0),IF(C516=\"DDC\",IF(AND(J516>=4,N516=\"Y\",P516>120)=TRUE,1,0),0))))))","v":""},{"$f":"IF(OR($B$4=\"\",$B$5=\"\",$H$4=\"\",$H$6=\"\",$H$5=\"\",A516=\"\",F516=\"\",K516=\"\",O516=\"\",P516=\"\")=TRUE,\"\",IF(C516=\"OSW\",IF(K516>=2,1,0),IF(C516=\"OSR\",IF(AND(K516>=2,Q516>60)=TRUE,1,0),IF(C516=\"OSRH\",IF(AND(K516>=1,Q516>90)=TRUE,1,0),IF(C516=\"OHLC\",IF(AND(N516=\"Y\",Q516>60)=TRUE,1,0),IF(C516=\"DDC\",IF(AND(K516>=4,N516=\"Y\",Q516>120)=TRUE,1,0),0))))))","v":""}]
[null,null,"",null,null,null,null,null,null,null,null,null,null,null,null,0,0,0,0,"",0,0,0,0,0,{"$f":"IF($H$4=\"\",0,VLOOKUP($H$4,BuildingType_Lookup,3,FALSE))","v":0},{"$f":"IF($H$4=\"\",0,VLOOKUP($H$4,BuildingType_Lookup,2,FALSE))","v":0},{"$f":"IF(AND(OR(AN517=\"\",AN517=0)=TRUE,OR(AO517=\"\",AO517=0))=TRUE,0,IF(AO517=\"\",(IF(OR(C517=\"DDC\",C517=\"OHLC\")=TRUE,O517,P517)/1000)*Y517*Z517*(1+VLOOKUP($H$4,BuildingType_Lookup,4,FALSE)),IF(AO517=0,0,(IF(OR(C517=\"DDC\",C517=\"OHLC\")=TRUE,O517,Q517)/1000)*Y517*Z517*(1+VLOOKUP($H$4,BuildingType_Lookup,4,FALSE)))))","v":0},{"$f":"IF(AND(OR(AN517=\"\",AN517=0)=TRUE,OR(AO517=\"\",AO517=0))=TRUE,0,IF(AO517=\"\",(IF(OR(C517=\"DDC\",C517=\"OHLC\")=TRUE,O517,P517)/1000)*Y517*AA517*(1+VLOOKUP($H$4,BuildingType_Lookup,MATCH($H$5,HVAC,0)+4,FALSE)),IF(AO517=0,0,(IF(OR(C517=\"DDC\",C517=\"OHLC\")=TRUE,O517,Q517)/1000)*Y517*AA517*(1+VLOOKUP($H$4,BuildingType_Lookup,MATCH($H$5,HVAC,0)+4,FALSE)))))","v":0},0,0,0,0,0,0,{"$f":"W517/1000*Y517*AA517*IF(IFERROR(SEARCH(\"Gas\",$H$5),0)>0,VLOOKUP(\"Gas\",HVACg_Lookup,MATCH($H$6,BuildingSize,0)+1,FALSE),IF(IFERROR(SEARCH(\"Oil\",$H$5),0)>0,VLOOKUP(\"Oil\",HVACg_Lookup,MATCH($H$6,BuildingSize,0)+1,FALSE),IF(IFERROR(SEARCH(\"Propane\",$H$5),0)>0,VLOOKUP(\"Propane\",HVACg_Lookup,MATCH(Worksheet!$H$6,BuildingSize,0)+1,FALSE),0)))","v":0},{"$f":"X517/1000*Y517*AA517*IF(IFERROR(SEARCH(\"Gas\",$H$5),0)>0,VLOOKUP(\"Gas\",HVACg_Lookup,MATCH($H$6,BuildingSize,0)+1,FALSE),IF(IFERROR(SEARCH(\"Oil\",$H$5),0)>0,VLOOKUP(\"Oil\",HVACg_Lookup,MATCH($H$6,BuildingSize,0)+1,FALSE),IF(IFERROR(SEARCH(\"Propane\",$H$5),0)>0,VLOOKUP(\"Propane\",HVACg_Lookup,MATCH(Worksheet!$H$6,BuildingSize,0)+1,FALSE),0)))","v":0},0,0,{"$f":"IF(OR($B$4=\"\",$B$5=\"\",$H$4=\"\",$H$6=\"\",$H$5=\"\",A517=\"\",F517=\"\",J517=\"\",O517=\"\",P517=\"\")=TRUE,\"\",IF(C517=\"OSW\",IF(J517>=2,1,0),IF(C517=\"OSR\",IF(AND(J517>=2,P517>60)=TRUE,1,0),IF(C517=\"OSRH\",IF(AND(J517>=1,P517>90)=TRUE,1,0),IF(C517=\"OHLC\",IF(AND(N517=\"Y\",P517>60)=TRUE,1,0),IF(C517=\"DDC\",IF(AND(J517>=4,N517=\"Y\",P517>120)=TRUE,1,0),0))))))","v":""},{"$f":"IF(OR($B$4=\"\",$B$5=\"\",$H$4=\"\",$H$6=\"\",$H$5=\"\",A517=\"\",F517=\"\",K517=\"\",O517=\"\",P517=\"\")=TRUE,\"\",IF(C517=\"OSW\",IF(K517>=2,1,0),IF(C517=\"OSR\",IF(AND(K517>=2,Q517>60)=TRUE,1,0),IF(C517=\"OSRH\",IF(AND(K517>=1,Q517>90)=TRUE,1,0),IF(C517=\"OHLC\",IF(AND(N517=\"Y\",Q517>60)=TRUE,1,0),IF(C517=\"DDC\",IF(AND(K517>=4,N517=\"Y\",Q517>120)=TRUE,1,0),0))))))","v":""}]
[null,null,"",null,null,null,null,null,null,null,null,null,null,null,null,0,0,0,0,"",0,0,0,0,0,{"$f":"IF($H$4=\"\",0,VLOOKUP($H$4,BuildingType_Lookup,3,FALSE))","v":0},{"$f":"IF($H$4=\"\",0,VLOOKUP($H$4,BuildingType_Lookup,2,FALSE))","v":0},{"$f":"IF(AND(OR(AN518=\"\",AN518=0)=TRUE,OR(AO518=\"\",AO518=0))=TRUE,0,IF(AO518=\"\",(IF(OR(C518=\"DDC\",C518=\"OHLC\")=TRUE,O518,P518)/1000)*Y518*Z518*(1+VLOOKUP($H$4,BuildingType_Lookup,4,FALSE)),IF(AO518=0,0,(IF(OR(C518=\"DDC\",C518=\"OHLC\")=TRUE,O518,Q518)/1000)*Y518*Z518*(1+VLOOKUP($H$4,BuildingType_Lookup,4,FALSE)))))","v":0},{"$f":"IF(AND(OR(AN518=\"\",AN518=0)=TRUE,OR(AO518=\"\",AO518=0))=TRUE,0,IF(AO518=\"\",(IF(OR(C518=\"DDC\",C518=\"OHLC\")=TRUE,O518,P518)/1000)*Y518*AA518*(1+VLOOKUP($H$4,BuildingType_Lookup,MATCH($H$5,HVAC,0)+4,FALSE)),IF(AO518=0,0,(IF(OR(C518=\"DDC\",C518=\"OHLC\")=TRUE,O518,Q518)/1000)*Y518*AA518*(1+VLOOKUP($H$4,BuildingType_Lookup,MATCH($H$5,HVAC,0)+4,FALSE)))))","v":0},0,0,0,0,0,0,{"$f":"W518/1000*Y518*AA518*IF(IFERROR(SEARCH(\"Gas\",$H$5),0)>0,VLOOKUP(\"Gas\",HVACg_Lookup,MATCH($H$6,BuildingSize,0)+1,FALSE),IF(IFERROR(SEARCH(\"Oil\",$H$5),0)>0,VLOOKUP(\"Oil\",HVACg_Lookup,MATCH($H$6,BuildingSize,0)+1,FALSE),IF(IFERROR(SEARCH(\"Propane\",$H$5),0)>0,VLOOKUP(\"Propane\",HVACg_Lookup,MATCH(Worksheet!$H$6,BuildingSize,0)+1,FALSE),0)))","v":0},{"$f":"X518/1000*Y518*AA518*IF(IFERROR(SEARCH(\"Gas\",$H$5),0)>0,VLOOKUP(\"Gas\",HVACg_Lookup,MATCH($H$6,BuildingSize,0)+1,FALSE),IF(IFERROR(SEARCH(\"Oil\",$H$5),0)>0,VLOOKUP(\"Oil\",HVACg_Lookup,MATCH($H$6,BuildingSize,0)+1,FALSE),IF(IFERROR(SEARCH(\"Propane\",$H$5),0)>0,VLOOKUP(\"Propane\",HVACg_Lookup,MATCH(Worksheet!$H$6,BuildingSize,0)+1,FALSE),0)))","v":0},0,0,{"$f":"IF(OR($B$4=\"\",$B$5=\"\",$H$4=\"\",$H$6=\"\",$H$5=\"\",A518=\"\",F518=\"\",J518=\"\",O518=\"\",P518=\"\")=TRUE,\"\",IF(C518=\"OSW\",IF(J518>=2,1,0),IF(C518=\"OSR\",IF(AND(J518>=2,P518>60)=TRUE,1,0),IF(C518=\"OSRH\",IF(AND(J518>=1,P518>90)=TRUE,1,0),IF(C518=\"OHLC\",IF(AND(N518=\"Y\",P518>60)=TRUE,1,0),IF(C518=\"DDC\",IF(AND(J518>=4,N518=\"Y\",P518>120)=TRUE,1,0),0))))))","v":""},{"$f":"IF(OR($B$4=\"\",$B$5=\"\",$H$4=\"\",$H$6=\"\",$H$5=\"\",A518=\"\",F518=\"\",K518=\"\",O518=\"\",P518=\"\")=TRUE,\"\",IF(C518=\"OSW\",IF(K518>=2,1,0),IF(C518=\"OSR\",IF(AND(K518>=2,Q518>60)=TRUE,1,0),IF(C518=\"OSRH\",IF(AND(K518>=1,Q518>90)=TRUE,1,0),IF(C518=\"OHLC\",IF(AND(N518=\"Y\",Q518>60)=TRUE,1,0),IF(C518=\"DDC\",IF(AND(K518>=4,N518=\"Y\",Q518>120)=TRUE,1,0),0))))))","v":""}]
[null,null,"",null,null,null,null,null,null,null,null,null,null,null,null,0,0,0,0,"",0,0,0,0,0,{"$f":"IF($H$4=\"\",0,VLOOKUP($H$4,BuildingType_Lookup,3,FALSE))","v":0},{"$f":"IF($H$4=\"\",0,VLOOKUP($H$4,BuildingType_Lookup,2,FALSE))","v":0},{"$f":"IF(AND(OR(AN519=\"\",AN519=0)=TRUE,OR(AO519=\"\",AO519=0))=TRUE,0,IF(AO519=\"\",(IF(OR(C519=\"DDC\",C519=\"OHLC\")=TRUE,O519,P519)/1000)*Y519*Z519*(1+VLOOKUP($H$4,BuildingType_Lookup,4,FALSE)),IF(AO519=0,0,(IF(OR(C519=\"DDC\",C519=\"OHLC\")=TRUE,O519,Q519)/1000)*Y519*Z519*(1+VLOOKUP($H$4,BuildingType_Lookup,4,FALSE)))))","v":0},{"$f":"IF(AND(OR(AN519=\"\",AN519=0)=TRUE,OR(AO519=\"\",AO519=0))=TRUE,0,IF(AO519=\"\",(IF(OR(C519=\"DDC\",C519=\"OHLC\")=TRUE,O519,P519)/1000)*Y519*AA519*(1+VLOOKUP($H$4,BuildingType_Lookup,MATCH($H$5,HVAC,0)+4,FALSE)),IF(AO519=0,0,(IF(OR(C519=\"DDC\",C519=\"OHLC\")=TRUE,O519,Q519)/1000)*Y519*AA519*(1+VLOOKUP($H$4,BuildingType_Lookup,MATCH($H$5,HVAC,0)+4,FALSE)))))","v":0},0,0,0,0,0,0,{"$f":"W519/1000*Y519*AA519*IF(IFERROR(SEARCH(\"Gas\",$H$5),0)>0,VLOOKUP(\"Gas\",HVACg_Lookup,MATCH($H$6,BuildingSize,0)+1,FALSE),IF(IFERROR(SEARCH(\"Oil\",$H$5),0)>0,VLOOKUP(\"Oil\",HVACg_Lookup,MATCH($H$6,BuildingSize,0)+1,FALSE),IF(IFERROR(SEARCH(\"Propane\",$H$5),0)>0,VLOOKUP(\"Propane\",HVACg_Lookup,MATCH(Worksheet!$H$6,BuildingSize,0)+1,FALSE),0)))","v":0},{"$f":"X519/1000*Y519*AA519*IF(IFERROR(SEARCH(\"Gas\",$H$5),0)>0,VLOOKUP(\"Gas\",HVACg_Lookup,MATCH($H$6,BuildingSize,0)+1,FALSE),IF(IFERROR(SEARCH(\"Oil\",$H$5),0)>0,VLOOKUP(\"Oil\",HVACg_Lookup,MATCH($H$6,BuildingSize,0)+1,FALSE),IF(IFERROR(SEARCH(\"Propane\",$H$5),0)>0,VLOOKUP(\"Propane\",HVACg_Lookup,MATCH(Worksheet!$H$6,BuildingSize,0)+1,FALSE),0)))","v":0},0,0,{"$f":"IF(OR($B$4=\"\",$B$5=\"\",$H$4=\"\",$H$6=\"\",$H$5=\"\",A519=\"\",F519=\"\",J519=\"\",O519=\"\",P519=\"\")=TRUE,\"\",IF(C519=\"OSW\",IF(J519>=2,1,0),IF(C519=\"OSR\",IF(AND(J519>=2,P519>60)=TRUE,1,0),IF(C519=\"OSRH\",IF(AND(J519>=1,P519>90)=TRUE,1,0),IF(C519=\"OHLC\",IF(AND(N519=\"Y\",P519>60)=TRUE,1,0),IF(C519=\"DDC\",IF(AND(J519>=4,N519=\"Y\",P519>120)=TRUE,1,0),0))))))","v":""},{"$f":"IF(OR($B$4=\"\",$B$5=\"\",$H$4=\"\",$H$6=\"\",$H$5=\"\",A519=\"\",F519=\"\",K519=\"\",O519=\"\",P519=\"\")=TRUE,\"\",IF(C519=\"OSW\",IF(K519>=2,1,0),IF(C519=\"OSR\",IF(AND(K519>=2,Q519>60)=TRUE,1,0),IF(C519=\"OSRH\",IF(AND(K519>=1,Q519>90)=TRUE,1,0),IF(C519=\"OHLC\",IF(AND(N519=\"Y\",Q519>60)=TRUE,1,0),IF(C519=\"DDC\",IF(AND(K519>=4,N519=\"Y\",Q519>120)=TRUE,1,0),0))))))","v":""}]
[null,null,"",null,null,null,null,null,null,null,null,null,null,null,null,0,0,0,0,"",0,0,0,0,0,{"$f":"IF($H$4=\"\",0,VLOOKUP($H$4,BuildingType_Lookup,3,FALSE))","v":0},{"$f":"IF($H$4=\"\",0,VLOOKUP($H$4,BuildingType_Lookup,2,FALSE))","v":0},{"$f":"IF(AND(OR(AN520=\"\",AN520=0)=TRUE,OR(AO520=\"\",AO520=0))=TRUE,0,IF(AO520=\"\",(IF(OR(C520=\"DDC\",C520=\"OHLC\")=TRUE,O520,P520)/1000)*Y520*Z520*(1+VLOOKUP($H$4,BuildingType_Lookup,4,FALSE)),IF(AO520=0,0,(IF(OR(C520=\"DDC\",C520=\"OHLC\")=TRUE,O520,Q520)/1000)*Y520*Z520*(1+VLOOKUP($H$4,BuildingType_Lookup,4,FALSE)))))","v":0},{"$f":"IF(AND(OR(AN520=\"\",AN520=0)=TRUE,OR(AO520=\"\",AO520=0))=TRUE,0,IF(AO520=\"\",(IF(OR(C520=\"DDC\",C520=\"OHLC\")=TRUE,O520,P520)/1000)*Y520*AA520*(1+VLOOKUP($H$4,BuildingType_Lookup,MATCH($H$5,HVAC,0)+4,FALSE)),IF(AO520=0,0,(IF(OR(C520=\"DDC\",C520=\"OHLC\")=TRUE,O520,Q520)/1000)*Y520*AA520*(1+VLOOKUP($H$4,BuildingType_Lookup,MATCH($H$5,HVAC,0)+4,FALSE)))))","v":0},0,0,0,0,0,0,{"$f":"W520/1000*Y520*AA520*IF(IFERROR(SEARCH(\"Gas\",$H$5),0)>0,VLOOKUP(\"Gas\",HVACg_Lookup,MATCH($H$6,BuildingSize,0)+1,FALSE),IF(IFERROR(SEARCH(\"Oil\",$H$5),0)>0,VLOOKUP(\"Oil\",HVACg_Lookup,MATCH($H$6,BuildingSize,0)+1,FALSE),IF(IFERROR(SEARCH(\"Propane\",$H$5),0)>0,VLOOKUP(\"Propane\",HVACg_Lookup,MATCH(Worksheet!$H$6,BuildingSize,0)+1,FALSE),0)))","v":0},{"$f":"X520/1000*Y520*AA520*IF(IFERROR(SEARCH(\"Gas\",$H$5),0)>0,VLOOKUP(\"Gas\",HVACg_Lookup,MATCH($H$6,BuildingSize,0)+1,FALSE),IF(IFERROR(SEARCH(\"Oil\",$H$5),0)>0,VLOOKUP(\"Oil\",HVACg_Lookup,MATCH($H$6,BuildingSize,0)+1,FALSE),IF(IFERROR(SEARCH(\"Propane\",$H$5),0)>0,VLOOKUP(\"Propane\",HVACg_Lookup,MATCH(Worksheet!$H$6,BuildingSize,0)+1,FALSE),0)))","v":0},0,0,{"$f":"IF(OR($B$4=\"\",$B$5=\"\",$H$4=\"\",$H$6=\"\",$H$5=\"\",A520=\"\",F520=\"\",J520=\"\",O520=\"\",P520=\"\")=TRUE,\"\",IF(C520=\"OSW\",IF(J520>=2,1,0),IF(C520=\"OSR\",IF(AND(J520>=2,P520>60)=TRUE,1,0),IF(C520=\"OSRH\",IF(AND(J520>=1,P520>90)=TRUE,1,0),IF(C520=\"OHLC\",IF(AND(N520=\"Y\",P520>60)=TRUE,1,0),IF(C520=\"DDC\",IF(AND(J520>=4,N520=\"Y\",P520>120)=TRUE,1,0),0))))))","v":""},{"$f":"IF(OR($B$4=\"\",$B$5=\"\",$H$4=\"\",$H$6=\"\",$H$5=\"\",A520=\"\",F520=\"\",K520=\"\",O520=\"\",P520=\"\")=TRUE,\"\",IF(C520=\"OSW\",IF(K520>=2,1,0),IF(C520=\"OSR\",IF(AND(K520>=2,Q520>60)=TRUE,1,0),IF(C520=\"OSRH\",IF(AND(K520>=1,Q520>90)=TRUE,1,0),IF(C520=\"OHLC\",IF(AND(N520=\"Y\",Q520>60)=TRUE,1,0),IF(C520=\"DDC\",IF(AND(K520>=4,N520=\"Y\",Q520>120)=TRUE,1,0),0))))))","v":""}]

{"sheet":"Measure Code","index":1,"n_rows":6,"n_cols":6,"rows_kept":6,"cut":false,"hidden":true,"merged":[]}
["Measure Code","Description","Incentive per Unit","Incentive Unit","Energy Savings Factor","Measure Type"]
["LC1","OSW",20,"per Control",0.31,97]
["LC2","OSR",35,"per Control",0.31,98]
["LC3","DDC",45,"per Fixture Controlled",0.4,9002]
["LC4","OHLC",35,"per Fixture Controlled",0.31,9001]
["LC5","OSRH",35,"per Control",0.31,98]

{"sheet":"Other Support","index":2,"n_rows":23,"n_cols":18,"rows_kept":23,"cut":false,"hidden":true,"merged":[[0,4,0,9],[0,12,0,13]]}
[null,null,null,"HVAC_d","HVAC_e",null,null,null,null,null,null,null,"HVAC_g"]
["Building Type","EFLH","CF","AC","Electric Cooling & Gas Heat","Electric Cooling & Oil Heat","Electric Cooling & Propane Heat","Electric Cooling & Resistance Heat","Heat Pump","No Electric Cooling (Electric Resistance Heat Only)",null,"Fuel Type","Large Commercial","Small Commercial",null,null,null,"HVAC Options"]
["Education – Primary School",2575,0.5,0.44,0.1,0.1,0.1,-0.19,-0.04,-0.28999999999999998,null,"Gas",-2.3000000000000001E-4,-1.075E-3,null,null,null,"Electric Cooling & Gas Heat"]
["Education – Secondary School",2575,0.5,0.44,0.1,0.1,0.1,-0.19,-0.04,-0.28999999999999998,null,"Oil",-4.6000000000000001E-4,-1.2E-4,null,null,null,"Electric Cooling & Oil Heat"]
["Education – Community College",2575,0.5,0.44,0.1,0.1,0.1,-0.19,-0.04,-0.28999999999999998,null,"Propane",-4.6000000000000001E-4,-1.2E-4,null,null,null,"Electric Cooling & Propane Heat"]
["Education – University",2575,0.5,0.44,0.1,0.1,0.1,-0.19,-0.04,-0.28999999999999998,null,null,null,null,null,null,null,"Electric Cooling & Resistance Heat"]
["Grocery",7134,0.96,0.27,0.06,0.06,0.06,-0.17,-0.05,-0.23,null,null,null,null,null,null,null,"No Electric Cooling (Electric Resistance Heat Only)"]
["Medical – Hospital ",8760,0.8,0.34,0.08,0.08,0.08,-0.18,-7.0000000000000007E-2,-0.26,null,null,null,null,null,null,null,"No Electric Cooling (Gas Heat Only)"]
["Medical – Clinic",3909,0.8,0.34,0.08,0.08,0.08,-0.18,-7.0000000000000007E-2,-0.26,null,null,null,null,null,null,null,"No Electric Cooling (Oil Heat Only)"]
["Lodging Hotel (Guest Rooms)",4573,0.66,0.34,0.08,0.08,0.08,-0.18,-7.0000000000000007E-2,-0.26,null,null,null,null,null,null,null,"No Electric Cooling (Propane Heat Only)"]
["Lodging Motel",4573,0.66,0.34,0.08,0.08,0.08,-0.18,-7.0000000000000007E-2,-0.26,null,null,null,null,null,null,null,"Heat Pump"]
["Manufacturing – Light Industrial",4116,0.7,0.34,0.08,0.08,0.08,-0.18,-7.0000000000000007E-2,-0.26]
["Office - Large",2969,0.7,0.35,0.1,0.1,0.1,-0.15,-0.06,-0.25]
["Office - Small",2950,0.67,0.35,0.1,0.1,0.1,-0.15,-0.06,-0.25]
["Restaurant – Sit-Down",4573,0.66,0.34,0.08,0.08,0.08,-0.18,-7.0000000000000007E-2,-0.26]
["Restaurant – Fast-Food",4573,0.66,0.34,0.08,0.08,0.08,-0.18,-7.0000000000000007E-2,-0.26]
["Retail – 3-Story Large",4920,0.96,0.27,0.06,0.06,0.06,-0.17,-0.05,-0.23]
["Retail – Single-Story Large",4920,0.96,0.27,0.06,0.06,0.06,-0.17,-0.05,-0.23]
["Retail – Small",4926,0.86,0.27,0.06,0.06,0.06,-0.17,-0.05,-0.23]
["Storage Conditioned ",4116,0.7,0.22,0.02,0.02,0.02,-0.25,-0.11,-0.27]
["Storage Unconditioned",4116,0.7,0,0,0,0,0,0,0]
["Warehouse",4116,0.7,0.22,0.02,0.02,0.02,-0.25,-0.11,-0.27]
["Average = Miscellaneous",4573,0.66,0.34,0.08,0.08,0.08,-0.18,-7.0000000000000007E-2,-0.26]

{"sheet":"Export","index":3,"n_rows":501,"n_cols":28,"rows_kept":501,"cut":false,"hidden":true,"merged":[]}
["Measure Type","Manufacturer","Model","Capacity/Size","Capacity/Size Units","EER Efficiency","SEER Efficiency","Incentive Per Unit","Quantity Committed","Annual Electricity Savings","Peak Demand Reduction","Lifetime Electricity Savings","Annual Gas Savings","Lifetime Gas Savings","Efficiency- other","Efficiency- other-type","Measure ID removed","Quantity Installed","Location","Reason (New or Replaced)","Type of Control (Wired/Wireless)","Project in UEZ","Project in OZ","Municipality","K-12 School","County","Affordable Housing","Enhanced Incentive per Unit"]
[{"$f":"IF(ISBLANK(Worksheet!F21)=FALSE,VLOOKUP(Worksheet!A21,MeasureCode_Lookup,6,FALSE),\"\")","v":""},{"$f":"Worksheet!H21","v":0},{"$f":"Worksheet!I21","v":0},{"$f":"IFERROR(IF(Worksheet!X21=0,Worksheet!W21/I2,Worksheet!X21/R2),0)","v":0},"W Controlled",null,null,{"$f":"IF(N(Worksheet!S21)=0,N(Worksheet!R21),N(Worksheet!S21))","v":0},{"$f":"IFERROR(Worksheet!U21/(Worksheet!R21),0)","v":0},{"$f":"Worksheet!AC21","v":0},{"$f":"Worksheet!AB21","v":0},{"$f":"J2*8","v":0},{"$f":"IF(Worksheet!AJ21=0,0,Worksheet!AJ21*10/I2)","v":0},{"$f":"M2*8","v":0},null,null,null,{"$f":"IFERROR(Worksheet!V21/(Worksheet!S21),0)","v":0},{"$f":"IF(Worksheet!E21=\"\",\"\",Worksheet!E21)","v":""},{"$f":"IF(Worksheet!B21=\"\",\"\",Worksheet!B21)","v":""},{"$f":"IF(Worksheet!D21=\"\",\"\",Worksheet!D21)","v":""}]
[{"$f":"IF(ISBLANK(Worksheet!F22)=FALSE,VLOOKUP(Worksheet!A22,MeasureCode_Lookup,6,FALSE),\"\")","v":""},{"$f":"Worksheet!H22","v":0},{"$f":"Worksheet!I22","v":0},{"$f":"IFERROR(IF(Worksheet!X22=0,Worksheet!W22/I3,Worksheet!X22/R3),0)","v":0},"W Controlled",null,null,{"$f":"IF(N(Worksheet!S22)=0,N(Worksheet!R22),N(Worksheet!S22))","v":0},{"$f":"IFERROR(Worksheet!U22/(Worksheet!R22),0)","v":0},{"$f":"Worksheet!AC22","v":0},{"$f":"Worksheet!AB22","v":0},{"$f":"J3*8","v":0},{"$f":"IF(Worksheet!AJ22=0,0,Worksheet!AJ22*10/I3)","v":0},{"$f":"M3*8","v":0},null,null,null,{"$f":"IFERROR(Worksheet!V22/(Worksheet!S22),0)","v":0},{"$f":"IF(Worksheet!E22=\"\",\"\",Worksheet!E22)","v":""},{"$f":"IF(Worksheet!B22=\"\",\"\",Worksheet!B22)","v":""},{"$f":"IF(Worksheet!D22=\"\",\"\",Worksheet!D22)","v":""}]
[{"$f":"IF(ISBLANK(Worksheet!F23)=FALSE,VLOOKUP(Worksheet!A23,MeasureCode_Lookup,6,FALSE),\"\")","v":""},{"$f":"Worksheet!H23","v":0},{"$f":"Worksheet!I23","v":0},{"$f":"IFERROR(IF(Worksheet!X23=0,Worksheet!W23/I4,Worksheet!X23/R4),0)","v":0},"W Controlled",null,null,{"$f":"IF(N(Worksheet!S23)=0,N(Worksheet!R23),N(Worksheet!S23))","v":0},{"$f":"IFERROR(Worksheet!U23/(Worksheet!R23),0)","v":0},{"$f":"Worksheet!AC23","v":0},{"$f":"Worksheet!AB23","v":0},0,{"$f":"IF(Worksheet!AJ23=0,0,Worksheet!AJ23*10/I4)","v":0},0,null,null,null,{"$f":"IFERROR(Worksheet!V23/(Worksheet!S23),0)","v":0},{"$f":"IF(Worksheet!E23=\"\",\"\",Worksheet!E23)","v":""},{"$f":"IF(Worksheet!B23=\"\",\"\",Worksheet!B23)","v":""},{"$f":"IF(Worksheet!D23=\"\",\"\",Worksheet!D23)","v":""}]
[{"$f":"IF(ISBLANK(Worksheet!F24)=FALSE,VLOOKUP(Worksheet!A24,MeasureCode_Lookup,6,FALSE),\"\")","v":""},{"$f":"Worksheet!H24","v":0},{"$f":"Worksheet!I24","v":0},{"$f":"IFERROR(IF(Worksheet!X24=0,Worksheet!W24/I5,Worksheet!X24/R5),0)","v":0},"W Controlled",null,null,{"$f":"IF(N(Worksheet!S24)=0,N(Worksheet!R24),N(Worksheet!S24))","v":0},{"$f":"IFERROR(Worksheet!U24/(Worksheet!R24),0)","v":0},{"$f":"Worksheet!AC24","v":0},{"$f":"Worksheet!AB24","v":0},0,{"$f":"IF(Worksheet!AJ24=0,0,Worksheet!AJ24*10/I5)","v":0},0,null,null,null,{"$f":"IFERROR(Worksheet!V24/(Worksheet!S24),0)","v":0},{"$f":"IF(Worksheet!E24=\"\",\"\",Worksheet!E24)","v":""},{"$f":"IF(Worksheet!B24=\"\",\"\",Worksheet!B24)","v":""},{"$f":"IF(Worksheet!D24=\"\",\"\",Worksheet!D24)","v":""}]
[{"$f":"IF(ISBLANK(Worksheet!F25)=FALSE,VLOOKUP(Worksheet!A25,MeasureCode_Lookup,6,FALSE),\"\")","v":""},{"$f":"Worksheet!H25","v":0},{"$f":"Worksheet!I25","v":0},{"$f":"IFERROR(IF(Worksheet!X25=0,Worksheet!W25/I6,Worksheet!X25/R6),0)","v":0},"W Controlled",null,null,{"$f":"IF(N(Worksheet!S25)=0,N(Worksheet!R25),N(Worksheet!S25))","v":0},{"$f":"IFERROR(Worksheet!U25/(Worksheet!R25),0)","v":0},{"$f":"Worksheet!AC25","v":0},{"$f":"Worksheet!AB25","v":0},0,{"$f":"IF(Worksheet!AJ25=0,0,Worksheet!AJ25*10/I6)","v":0},0,null,null,null,{"$f":"IFERROR(Worksheet!V25/(Worksheet!S25),0)","v":0},{"$f":"IF(Worksheet!E25=\"\",\"\",Worksheet!E25)","v":""},{"$f":"IF(Worksheet!B25=\"\",\"\",Worksheet!B25)","v":""},{"$f":"IF(Worksheet!D25=\"\",\"\",Worksheet!D25)","v":""}]
[{"$f":"IF(ISBLANK(Worksheet!F26)=FALSE,VLOOKUP(Worksheet!A26,MeasureCode_Lookup,6,FALSE),\"\")","v":""},{"$f":"Worksheet!H26","v":0},{"$f":"Worksheet!I26","v":0},{"$f":"IFERROR(IF(Worksheet!X26=0,Worksheet!W26/I7,Worksheet!X26/R7),0)","v":0},"W Controlled",null,null,{"$f":"IF(N(Worksheet!S26)=0,N(Worksheet!R26),N(Worksheet!S26))","v":0},{"$f":"IFERROR(Worksheet!U26/(Worksheet!R26),0)","v":0},{"$f":"Worksheet!AC26","v":0},{"$f":"Worksheet!AB26","v":0},0,{"$f":"IF(Worksheet!AJ26=0,0,Worksheet!AJ26*10/I7)","v":0},0,null,null,null,{"$f":"IFERROR(Worksheet!V26/(Worksheet!S26),0)","v":0},{"$f":"IF(Worksheet!E26=\"\",\"\",Worksheet!E26)","v":""},{"$f":"IF(Worksheet!B26=\"\",\"\",Worksheet!B26)","v":""},{"$f":"IF(Worksheet!D26=\"\",\"\",Worksheet!D26)","v":""}]
[{"$f":"IF(ISBLANK(Worksheet!F27)=FALSE,VLOOKUP(Worksheet!A27,MeasureCode_Lookup,6,FALSE),\"\")","v":""},{"$f":"Worksheet!H27","v":0},{"$f":"Worksheet!I27","v":0},{"$f":"IFERROR(IF(Worksheet!X27=0,Worksheet!W27/I8,Worksheet!X27/R8),0)","v":0},"W Controlled",null,null,{"$f":"IF(N(Worksheet!S27)=0,N(Worksheet!R27),N(Worksheet!S27))","v":0},{"$f":"IFERROR(Worksheet!U27/(Worksheet!R27),0)","v":0},{"$f":"Worksheet!AC27","v":0},{"$f":"Worksheet!AB27","v":0},0,{"$f":"IF(Worksheet!AJ27=0,0,Worksheet!AJ27*10/I8)","v":0},0,null,null,null,{"$f":"IFERROR(Worksheet!V27/(Worksheet!S27),0)","v":0},{"$f":"IF(Worksheet!E27=\"\",\"\",Worksheet!E27)","v":""},{"$f":"IF(Worksheet!B27=\"\",\"\",Worksheet!B27)","v":""},{"$f":"IF(Worksheet!D27=\"\",\"\",Worksheet!D27)","v":""}]
[{"$f":"IF(ISBLANK(Worksheet!F28)=FALSE,VLOOKUP(Worksheet!A28,MeasureCode_Lookup,6,FALSE),\"\")","v":""},{"$f":"Worksheet!H28","v":0},{"$f":"Worksheet!I28","v":0},{"$f":"IFERROR(IF(Worksheet!X28=0,Worksheet!W28/I9,Worksheet!X28/R9),0)","v":0},"W Controlled",null,null,{"$f":"IF(N(Worksheet!S28)=0,N(Worksheet!R28),N(Worksheet!S28))","v":0},{"$f":"IFERROR(Worksheet!U28/(Worksheet!R28),0)","v":0},{"$f":"Worksheet!AC28","v":0},{"$f":"Worksheet!AB28","v":0},0,{"$f":"IF(Worksheet!AJ28=0,0,Worksheet!AJ28*10/I9)","v":0},0,null,null,null,{"$f":"IFERROR(Worksheet!V28/(Worksheet!S28),0)","v":0},{"$f":"IF(Worksheet!E28=\"\",\"\",Worksheet!E28)","v":""},{"$f":"IF(Worksheet!B28=\"\",\"\",Worksheet!B28)","v":""},{"$f":"IF(Worksheet!D28=\"\",\"\",Worksheet!D28)","v":""}]
[{"$f":"IF(ISBLANK(Worksheet!F29)=FALSE,VLOOKUP(Worksheet!A29,MeasureCode_Lookup,6,FALSE),\"\")","v":""},{"$f":"Worksheet!H29","v":0},{"$f":"Worksheet!I29","v":0},{"$f":"IFERROR(IF(Worksheet!X29=0,Worksheet!W29/I10,Worksheet!X29/R10),0)","v":0},"W Controlled",null,null,{"$f":"IF(N(Worksheet!S29)=0,N(Worksheet!R29),N(Worksheet!S29))","v":0},{"$f":"IFERROR(Worksheet!U29/(Worksheet!R29),0)","v":0},{"$f":"Worksheet!AC29","v":0},{"$f":"Worksheet!AB29","v":0},0,{"$f":"IF(Worksheet!AJ29=0,0,Worksheet!AJ29*10/I10)","v":0},0,null,null,null,{"$f":"IFERROR(Worksheet!V29/(Worksheet!S29),0)","v":0},{"$f":"IF(Worksheet!E29=\"\",\"\",Worksheet!E29)","v":""},{"$f":"IF(Worksheet!B29=\"\",\"\",Worksheet!B29)","v":""},{"$f":"IF(Worksheet!D29=\"\",\"\",Worksheet!D29)","v":""}]
[{"$f":"IF(ISBLANK(Worksheet!F30)=FALSE,VLOOKUP(Worksheet!A30,MeasureCode_Lookup,6,FALSE),\"\")","v":""},{"$f":"Worksheet!H30","v":0},{"$f":"Worksheet!I30","v":0},{"$f":"IFERROR(IF(Worksheet!X30=0,Worksheet!W30/I11,Worksheet!X30/R11),0)","v":0},"W Controlled",null,null,{"$f":"IF(N(Worksheet!S30)=0,N(Worksheet!R30),N(Worksheet!S30))","v":0},{"$f":"IFERROR(Worksheet!U30/(Worksheet!R30),0)","v":0},{"$f":"Worksheet!AC30","v":0},{"$f":"Worksheet!AB30","v":0},0,{"$f":"IF(Worksheet!AJ30=0,0,Worksheet!AJ30*10/I11)","v":0},0,null,null,null,{"$f":"IFERROR(Worksheet!V30/(Worksheet!S30),0)","v":0},{"$f":"IF(Worksheet!E30=\"\",\"\",Worksheet!E30)","v":""},{"$f":"IF(Worksheet!B30=\"\",\"\",Worksheet!B30)","v":""},{"$f":"IF(Worksheet!D30=\"\",\"\",Worksheet!D30)","v":""}]
[{"$f":"IF(ISBLANK(Worksheet!F31)=FALSE,VLOOKUP(Worksheet!A31,MeasureCode_Lookup,6,FALSE),\"\")","v":""},{"$f":"Worksheet!H31","v":0},{"$f":"Worksheet!I31","v":0},{"$f":"IFERROR(IF(Worksheet!X31=0,Worksheet!W31/I12,Worksheet!X31/R12),0)","v":0},"W Controlled",null,null,{"$f":"IF(N(Worksheet!S31)=0,N(Worksheet!R31),N(Worksheet!S31))","v":0},{"$f":"IFERROR(Worksheet!U31/(Worksheet!R31),0)","v":0},{"$f":"Worksheet!AC31","v":0},{"$f":"Worksheet!AB31","v":0},0,{"$f":"IF(Worksheet!AJ31=0,0,Worksheet!AJ31*10/I12)","v":0},0,null,null,null,{"$f":"IFERROR(Worksheet!V31/(Worksheet!S31),0)","v":0},{"$f":"IF(Worksheet!E31=\"\",\"\",Worksheet!E31)","v":""},{"$f":"IF(Worksheet!B31=\"\",\"\",Worksheet!B31)","v":""},{"$f":"IF(Worksheet!D31=\"\",\"\",Worksheet!D31)","v":""}]
[{"$f":"IF(ISBLANK(Worksheet!F32)=FALSE,VLOOKUP(Worksheet!A32,MeasureCode_Lookup,6,FALSE),\"\")","v":""},{"$f":"Worksheet!H32","v":0},{"$f":"Worksheet!I32","v":0},{"$f":"IFERROR(IF(Worksheet!X32=0,Worksheet!W32/I13,Worksheet!X32/R13),0)","v":0},"W Controlled",null,null,{"$f":"IF(N(Worksheet!S32)=0,N(Worksheet!R32),N(Worksheet!S32))","v":0},{"$f":"IFERROR(Worksheet!U32/(Worksheet!R32),0)","v":0},{"$f":"Worksheet!AC32","v":0},{"$f":"Worksheet!AB32","v":0},0,{"$f":"IF(Worksheet!AJ32=0,0,Worksheet!AJ32*10/I13)","v":0},0,null,null,null,{"$f":"IFERROR(Worksheet!V32/(Worksheet!S32),0)","v":0},{"$f":"IF(Worksheet!E32=\"\",\"\",Worksheet!E32)","v":""},{"$f":"IF(Worksheet!B32=\"\",\"\",Worksheet!B32)","v":""},{"$f":"IF(Worksheet!D32=\"\",\"\",Worksheet!D32)","v":""}]
[{"$f":"IF(ISBLANK(Worksheet!F33)=FALSE,VLOOKUP(Worksheet!A33,MeasureCode_Lookup,6,FALSE),\"\")","v":""},{"$f":"Worksheet!H33","v":0},{"$f":"Worksheet!I33","v":0},{"$f":"IFERROR(IF(Worksheet!X33=0,Worksheet!W33/I14,Worksheet!X33/R14),0)","v":0},"W Controlled",null,null,{"$f":"IF(N(Worksheet!S33)=0,N(Worksheet!R33),N(Worksheet!S33))","v":0},{"$f":"IFERROR(Worksheet!U33/(Worksheet!R33),0)","v":0},{"$f":"Worksheet!AC33","v":0},{"$f":"Worksheet!AB33","v":0},0,{"$f":"IF(Worksheet!AJ33=0,0,Worksheet!AJ33*10/I14)","v":0},0,null,null,null,{"$f":"IFERROR(Worksheet!V33/(Worksheet!S33),0)","v":0},{"$f":"IF(Worksheet!E33=\"\",\"\",Worksheet!E33)","v":""},{"$f":"IF(Worksheet!B33=\"\",\"\",Worksheet!B33)","v":""},{"$f":"IF(Worksheet!D33=\"\",\"\",Worksheet!D33)","v":""}]
[{"$f":"IF(ISBLANK(Worksheet!F34)=FALSE,VLOOKUP(Worksheet!A34,MeasureCode_Lookup,6,FALSE),\"\")","v":""},{"$f":"Worksheet!H34","v":0},{"$f":"Worksheet!I34","v":0},{"$f":"IFERROR(IF(Worksheet!X34=0,Worksheet!W34/I15,Worksheet!X34/R15),0)","v":0},"W Controlled",null,null,{"$f":"IF(N(Worksheet!S34)=0,N(Worksheet!R34),N(Worksheet!S34))","v":0},{"$f":"IFERROR(Worksheet!U34/(Worksheet!R34),0)","v":0},{"$f":"Worksheet!AC34","v":0},{"$f":"Worksheet!AB34","v":0},0,{"$f":"IF(Worksheet!AJ34=0,0,Worksheet!AJ34*10/I15)","v":0},0,null,null,null,{"$f":"IFERROR(Worksheet!V34/(Worksheet!S34),0)","v":0},{"$f":"IF(Worksheet!E34=\"\",\"\",Worksheet!E34)","v":""},{"$f":"IF(Worksheet!B34=\"\",\"\",Worksheet!B34)","v":""},{"$f":"IF(Worksheet!D34=\"\",\"\",Worksheet!D34)","v":""}]
[{"$f":"IF(ISBLANK(Worksheet!F35)=FALSE,VLOOKUP(Worksheet!A35,MeasureCode_Lookup,6,FALSE),\"\")","v":""},{"$f":"Worksheet!H35","v":0},{"$f":"Worksheet!I35","v":0},{"$f":"IFERROR(IF(Worksheet!X35=0,Worksheet!W35/I16,Worksheet!X35/R16),0)","v":0},"W Controlled",null,null,{"$f":"IF(N(Worksheet!S35)=0,N(Worksheet!R35),N(Worksheet!S35))","v":0},{"$f":"IFERROR(Worksheet!U35/(Worksheet!R35),0)","v":0},{"$f":"Worksheet!AC35","v":0},{"$f":"Worksheet!AB35","v":0},0,{"$f":"IF(Worksheet!AJ35=0,0,Worksheet!AJ35*10/I16)","v":0},0,null,null,null,{"$f":"IFERROR(Worksheet!V35/(Worksheet!S35),0)","v":0},{"$f":"IF(Worksheet!E35=\"\",\"\",Worksheet!E35)","v":""},{"$f":"IF(Worksheet!B35=\"\",\"\",Worksheet!B35)","v":""},{"$f":"IF(Worksheet!D35=\"\",\"\",Worksheet!D35)","v":""}]
[{"$f":"IF(ISBLANK(Worksheet!F36)=FALSE,VLOOKUP(Worksheet!A36,MeasureCode_Lookup,6,FALSE),\"\")","v":""},{"$f":"Worksheet!H36","v":0},{"$f":"Worksheet!I36","v":0},{"$f":"IFERROR(IF(Worksheet!X36=0,Worksheet!W36/I17,Worksheet!X36/R17),0)","v":0},"W Controlled",null,null,{"$f":"IF(N(Worksheet!S36)=0,N(Worksheet!R36),N(Worksheet!S36))","v":0},{"$f":"IFERROR(Worksheet!U36/(Worksheet!R36),0)","v":0},{"$f":"Worksheet!AC36","v":0},{"$f":"Worksheet!AB36","v":0},0,{"$f":"IF(Worksheet!AJ36=0,0,Worksheet!AJ36*10/I17)","v":0},0,null,null,null,{"$f":"IFERROR(Worksheet!V36/(Worksheet!S36),0)","v":0},{"$f":"IF(Worksheet!E36=\"\",\"\",Worksheet!E36)","v":""},{"$f":"IF(Worksheet!B36=\"\",\"\",Worksheet!B36)","v":""},{"$f":"IF(Worksheet!D36=\"\",\"\",Worksheet!D36)","v":""}]
[{"$f":"IF(ISBLANK(Worksheet!F37)=FALSE,VLOOKUP(Worksheet!A37,MeasureCode_Lookup,6,FALSE),\"\")","v":""},{"$f":"Worksheet!H37","v":0},{"$f":"Worksheet!I37","v":0},{"$f":"IFERROR(IF(Worksheet!X37=0,Worksheet!W37/I18,Worksheet!X37/R18),0)","v":0},"W Controlled",null,null,{"$f":"IF(N(Worksheet!S37)=0,N(Worksheet!R37),N(Worksheet!S37))","v":0},{"$f":"IFERROR(Worksheet!U37/(Worksheet!R37),0)","v":0},{"$f":"Worksheet!AC37","v":0},{"$f":"Worksheet!AB37","v":0},0,{"$f":"IF(Worksheet!AJ37=0,0,Worksheet!AJ37*10/I18)","v":0},0,null,null,null,{"$f":"IFERROR(Worksheet!V37/(Worksheet!S37),0)","v":0},{"$f":"IF(Worksheet!E37=\"\",\"\",Worksheet!E37)","v":""},{"$f":"IF(Worksheet!B37=\"\",\"\",Worksheet!B37)","v":""},{"$f":"IF(Worksheet!D37=\"\",\"\",Worksheet!D37)","v":""}]
[{"$f":"IF(ISBLANK(Worksheet!F38)=FALSE,VLOOKUP(Worksheet!A38,MeasureCode_Lookup,6,FALSE),\"\")","v":""},{"$f":"Worksheet!H38","v":0},{"$f":"Worksheet!I38","v":0},{"$f":"IFERROR(IF(Worksheet!X38=0,Worksheet!W38/I19,Worksheet!X38/R19),0)","v":0},"W Controlled",null,null,{"$f":"IF(N(Worksheet!S38)=0,N(Worksheet!R38),N(Worksheet!S38))","v":0},{"$f":"IFERROR(Worksheet!U38/(Worksheet!R38),0)","v":0},{"$f":"Worksheet!AC38","v":0},{"$f":"Worksheet!AB38","v":0},0,{"$f":"IF(Worksheet!AJ38=0,0,Worksheet!AJ38*10/I19)","v":0},0,null,null,null,{"$f":"IFERROR(Worksheet!V38/(Worksheet!S38),0)","v":0},{"$f":"IF(Worksheet!E38=\"\",\"\",Worksheet!E38)","v":""},{"$f":"IF(Worksheet!B38=\"\",\"\",Worksheet!B38)","v":""},{"$f":"IF(Worksheet!D38=\"\",\"\",Worksheet!D38)","v":""}]
[{"$f":"IF(ISBLANK(Worksheet!F39)=FALSE,VLOOKUP(Worksheet!A39,MeasureCode_Lookup,6,FALSE),\"\")","v":""},{"$f":"Worksheet!H39","v":0},{"$f":"Worksheet!I39","v":0},{"$f":"IFERROR(IF(Worksheet!X39=0,Worksheet!W39/I20,Worksheet!X39/R20),0)","v":0},"W Controlled",null,null,{"$f":"IF(N(Worksheet!S39)=0,N(Worksheet!R39),N(Worksheet!S39))","v":0},{"$f":"IFERROR(Worksheet!U39/(Worksheet!R39),0)","v":0},{"$f":"Worksheet!AC39","v":0},{"$f":"Worksheet!AB39","v":0},0,{"$f":"IF(Worksheet!AJ39=0,0,Worksheet!AJ39*10/I20)","v":0},0,null,null,null,{"$f":"IFERROR(Worksheet!V39/(Worksheet!S39),0)","v":0},{"$f":"IF(Worksheet!E39=\"\",\"\",Worksheet!E39)","v":""},{"$f":"IF(Worksheet!B39=\"\",\"\",Worksheet!B39)","v":""},{"$f":"IF(Worksheet!D39=\"\",\"\",Worksheet!D39)","v":""}]
[{"$f":"IF(ISBLANK(Worksheet!F40)=FALSE,VLOOKUP(Worksheet!A40,MeasureCode_Lookup,6,FALSE),\"\")","v":""},{"$f":"Worksheet!H40","v":0},{"$f":"Worksheet!I40","v":0},{"$f":"IFERROR(IF(Worksheet!X40=0,Worksheet!W40/I21,Worksheet!X40/R21),0)","v":0},"W Controlled",null,null,{"$f":"IF(N(Worksheet!S40)=0,N(Worksheet!R40),N(Worksheet!S40))","v":0},{"$f":"IFERROR(Worksheet!U40/(Worksheet!R40),0)","v":0},{"$f":"Worksheet!AC40","v":0},{"$f":"Worksheet!AB40","v":0},0,{"$f":"IF(Worksheet!AJ40=0,0,Worksheet!AJ40*10/I21)","v":0},0,null,null,null,{"$f":"IFERROR(Worksheet!V40/(Worksheet!S40),0)","v":0},{"$f":"IF(Worksheet!E40=\"\",\"\",Worksheet!E40)","v":""},{"$f":"IF(Worksheet!B40=\"\",\"\",Worksheet!B40)","v":""},{"$f":"IF(Worksheet!D40=\"\",\"\",Worksheet!D40)","v":""}]
[{"$f":"IF(ISBLANK(Worksheet!F41)=FALSE,VLOOKUP(Worksheet!A41,MeasureCode_Lookup,6,FALSE),\"\")","v":""},{"$f":"Worksheet!H41","v":0},{"$f":"Worksheet!I41","v":0},{"$f":"IFERROR(IF(Worksheet!X41=0,Worksheet!W41/I22,Worksheet!X41/R22),0)","v":0},"W Controlled",null,null,{"$f":"IF(N(Worksheet!S41)=0,N(Worksheet!R41),N(Worksheet!S41))","v":0},{"$f":"IFERROR(Worksheet!U41/(Worksheet!R41),0)","v":0},{"$f":"Worksheet!AC41","v":0},{"$f":"Worksheet!AB41","v":0},0,{"$f":"IF(Worksheet!AJ41=0,0,Worksheet!AJ41*10/I22)","v":0},0,null,null,null,{"$f":"IFERROR(Worksheet!V41/(Worksheet!S41),0)","v":0},{"$f":"IF(Worksheet!E41=\"\",\"\",Worksheet!E41)","v":""},{"$f":"IF(Worksheet!B41=\"\",\"\",Worksheet!B41)","v":""},{"$f":"IF(Worksheet!D41=\"\",\"\",Worksheet!D41)","v":""}]
[{"$f":"IF(ISBLANK(Worksheet!F42)=FALSE,VLOOKUP(Worksheet!A42,MeasureCode_Lookup,6,FALSE),\"\")","v":""},{"$f":"Worksheet!H42","v":0},{"$f":"Worksheet!I42","v":0},{"$f":"IFERROR(IF(Worksheet!X42=0,Worksheet!W42/I23,Worksheet!X42/R23),0)","v":0},"W Controlled",null,null,{"$f":"IF(N(Worksheet!S42)=0,N(Worksheet!R42),N(Worksheet!S42))","v":0},{"$f":"IFERROR(Worksheet!U42/(Worksheet!R42),0)","v":0},{"$f":"Worksheet!AC42","v":0},{"$f":"Worksheet!AB42","v":0},0,{"$f":"IF(Worksheet!AJ42=0,0,Worksheet!AJ42*10/I23)","v":0},0,null,null,null,{"$f":"IFERROR(Worksheet!V42/(Worksheet!S42),0)","v":0},{"$f":"IF(Worksheet!E42=\"\",\"\",Worksheet!E42)","v":""},{"$f":"IF(Worksheet!B42=\"\",\"\",Worksheet!B42)","v":""},{"$f":"IF(Worksheet!D42=\"\",\"\",Worksheet!D42)","v":""}]
[{"$f":"IF(ISBLANK(Worksheet!F43)=FALSE,VLOOKUP(Worksheet!A43,MeasureCode_Lookup,6,FALSE),\"\")","v":""},{"$f":"Worksheet!H43","v":0},{"$f":"Worksheet!I43","v":0},{"$f":"IFERROR(IF(Worksheet!X43=0,Worksheet!W43/I24,Worksheet!X43/R24),0)","v":0},"W Controlled",null,null,{"$f":"IF(N(Worksheet!S43)=0,N(Worksheet!R43),N(Worksheet!S43))","v":0},{"$f":"IFERROR(Worksheet!U43/(Worksheet!R43),0)","v":0},{"$f":"Worksheet!AC43","v":0},{"$f":"Worksheet!AB43","v":0},0,{"$f":"IF(Worksheet!AJ43=0,0,Worksheet!AJ43*10/I24)","v":0},0,null,null,null,{"$f":"IFERROR(Worksheet!V43/(Worksheet!S43),0)","v":0},{"$f":"IF(Worksheet!E43=\"\",\"\",Worksheet!E43)","v":""},{"$f":"IF(Worksheet!B43=\"\",\"\",Worksheet!B43)","v":""},{"$f":"IF(Worksheet!D43=\"\",\"\",Worksheet!D43)","v":""}]
[{"$f":"IF(ISBLANK(Worksheet!F44)=FALSE,VLOOKUP(Worksheet!A44,MeasureCode_Lookup,6,FALSE),\"\")","v":""},{"$f":"Worksheet!H44","v":0},{"$f":"Worksheet!I44","v":0},{"$f":"IFERROR(IF(Worksheet!X44=0,Worksheet!W44/I25,Worksheet!X44/R25),0)","v":0},"W Controlled",null,null,{"$f":"IF(N(Worksheet!S44)=0,N(Worksheet!R44),N(Worksheet!S44))","v":0},{"$f":"IFERROR(Worksheet!U44/(Worksheet!R44),0)","v":0},{"$f":"Worksheet!AC44","v":0},{"$f":"Worksheet!AB44","v":0},0,{"$f":"IF(Worksheet!AJ44=0,0,Worksheet!AJ44*10/I25)","v":0},0,null,null,null,{"$f":"IFERROR(Worksheet!V44/(Worksheet!S44),0)","v":0},{"$f":"IF(Worksheet!E44=\"\",\"\",Worksheet!E44)","v":""},{"$f":"IF(Worksheet!B44=\"\",\"\",Worksheet!B44)","v":""},{"$f":"IF(Worksheet!D44=\"\",\"\",Worksheet!D44)","v":""}]
[{"$f":"IF(ISBLANK(Worksheet!F45)=FALSE,VLOOKUP(Worksheet!A45,MeasureCode_Lookup,6,FALSE),\"\")","v":""},{"$f":"Worksheet!H45","v":0},{"$f":"Worksheet!I45","v":0},{"$f":"IFERROR(IF(Worksheet!X45=0,Worksheet!W45/I26,Worksheet!X45/R26),0)","v":0},"W Controlled",null,null,{"$f":"IF(N(Worksheet!S45)=0,N(Worksheet!R45),N(Worksheet!S45))","v":0},{"$f":"IFERROR(Worksheet!U45/(Worksheet!R45),0)","v":0},{"$f":"Worksheet!AC45","v":0},{"$f":"Worksheet!AB45","v":0},0,{"$f":"IF(Worksheet!AJ45=0,0,Worksheet!AJ45*10/I26)","v":0},0,null,null,null,{"$f":"IFERROR(Worksheet!V45/(Worksheet!S45),0)","v":0},{"$f":"IF(Worksheet!E45=\"\",\"\",Worksheet!E45)","v":""},{"$f":"IF(Worksheet!B45=\"\",\"\",Worksheet!B45)","v":""},{"$f":"IF(Worksheet!D45=\"\",\"\",Worksheet!D45)","v":""}]
[{"$f":"IF(ISBLANK(Worksheet!F46)=FALSE,VLOOKUP(Worksheet!A46,MeasureCode_Lookup,6,FALSE),\"\")","v":""},{"$f":"Worksheet!H46","v":0},{"$f":"Worksheet!I46","v":0},{"$f":"IFERROR(IF(Worksheet!X46=0,Worksheet!W46/I27,Worksheet!X46/R27),0)","v":0},"W Controlled",null,null,{"$f":"IF(N(Worksheet!S46)=0,N(Worksheet!R46),N(Worksheet!S46))","v":0},{"$f":"IFERROR(Worksheet!U46/(Worksheet!R46),0)","v":0},{"$f":"Worksheet!AC46","v":0},{"$f":"Worksheet!AB46","v":0},0,{"$f":"IF(Worksheet!AJ46=0,0,Worksheet!AJ46*10/I27)","v":0},0,null,null,null,{"$f":"IFERROR(Worksheet!V46/(Worksheet!S46),0)","v":0},{"$f":"IF(Worksheet!E46=\"\",\"\",Worksheet!E46)","v":""},{"$f":"IF(Worksheet!B46=\"\",\"\",Worksheet!B46)","v":""},{"$f":"IF(Worksheet!D46=\"\",\"\",Worksheet!D46)","v":""}]
[{"$f":"IF(ISBLANK(Worksheet!F47)=FALSE,VLOOKUP(Worksheet!A47,MeasureCode_Lookup,6,FALSE),\"\")","v":""},{"$f":"Worksheet!H47","v":0},{"$f":"Worksheet!I47","v":0},{"$f":"IFERROR(IF(Worksheet!X47=0,Worksheet!W47/I28,Worksheet!X47/R28),0)","v":0},"W Controlled",null,null,{"$f":"IF(N(Worksheet!S47)=0,N(Worksheet!R47),N(Worksheet!S47))","v":0},{"$f":"IFERROR(Worksheet!U47/(Worksheet!R47),0)","v":0},{"$f":"Worksheet!AC47","v":0},{"$f":"Worksheet!AB47","v":0},0,{"$f":"IF(Worksheet!AJ47=0,0,Worksheet!AJ47*10/I28)","v":0},0,null,null,null,{"$f":"IFERROR(Worksheet!V47/(Worksheet!S47),0)","v":0},{"$f":"IF(Worksheet!E47=\"\",\"\",Worksheet!E47)","v":""},{"$f":"IF(Worksheet!B47=\"\",\"\",Worksheet!B47)","v":""},{"$f":"IF(Worksheet!D47=\"\",\"\",Worksheet!D47)","v":""}]
[{"$f":"IF(ISBLANK(Worksheet!F48)=FALSE,VLOOKUP(Worksheet!A48,MeasureCode_Lookup,6,FALSE),\"\")","v":""},{"$f":"Worksheet!H48","v":0},{"$f":"Worksheet!I48","v":0},{"$f":"IFERROR(IF(Worksheet!X48=0,Worksheet!W48/I29,Worksheet!X48/R29),0)","v":0},"W Controlled",null,null,{"$f":"IF(N(Worksheet!S48)=0,N(Worksheet!R48),N(Worksheet!S48))","v":0},{"$f":"IFERROR(Worksheet!U48/(Worksheet!R48),0)","v":0},{"$f":"Worksheet!AC48","v":0},{"$f":"Worksheet!AB48","v":0},0,{"$f":"IF(Worksheet!AJ48=0,0,Worksheet!AJ48*10/I29)","v":0},0,null,null,null,{"$f":"IFERROR(Worksheet!V48/(Worksheet!S48),0)","v":0},{"$f":"IF(Worksheet!E48=\"\",\"\",Worksheet!E48)","v":""},{"$f":"IF(Worksheet!B48=\"\",\"\",Worksheet!B48)","v":""},{"$f":"IF(Worksheet!D48=\"\",\"\",Worksheet!D48)","v":""}]
[{"$f":"IF(ISBLANK(Worksheet!F49)=FALSE,VLOOKUP(Worksheet!A49,MeasureCode_Lookup,6,FALSE),\"\")","v":""},{"$f":"Worksheet!H49","v":0},{"$f":"Worksheet!I49","v":0},{"$f":"IFERROR(IF(Worksheet!X49=0,Worksheet!W49/I30,Worksheet!X49/R30),0)","v":0},"W Controlled",null,null,{"$f":"IF(N(Worksheet!S49)=0,N(Worksheet!R49),N(Worksheet!S49))","v":0},{"$f":"IFERROR(Worksheet!U49/(Worksheet!R49),0)","v":0},{"$f":"Worksheet!AC49","v":0},{"$f":"Worksheet!AB49","v":0},0,{"$f":"IF(Worksheet!AJ49=0,0,Worksheet!AJ49*10/I30)","v":0},0,null,null,null,{"$f":"IFERROR(Worksheet!V49/(Worksheet!S49),0)","v":0},{"$f":"IF(Worksheet!E49=\"\",\"\",Worksheet!E49)","v":""},{"$f":"IF(Worksheet!B49=\"\",\"\",Worksheet!B49)","v":""},{"$f":"IF(Worksheet!D49=\"\",\"\",Worksheet!D49)","v":""}]
[{"$f":"IF(ISBLANK(Worksheet!F50)=FALSE,VLOOKUP(Worksheet!A50,MeasureCode_Lookup,6,FALSE),\"\")","v":""},{"$f":"Worksheet!H50","v":0},{"$f":"Worksheet!I50","v":0},{"$f":"IFERROR(IF(Worksheet!X50=0,Worksheet!W50/I31,Worksheet!X50/R31),0)","v":0},"W Controlled",null,null,{"$f":"IF(N(Worksheet!S50)=0,N(Worksheet!R50),N(Worksheet!S50))","v":0},{"$f":"IFERROR(Worksheet!U50/(Worksheet!R50),0)","v":0},{"$f":"Worksheet!AC50","v":0},{"$f":"Worksheet!AB50","v":0},0,{"$f":"IF(Worksheet!AJ50=0,0,Worksheet!AJ50*10/I31)","v":0},0,null,null,null,{"$f":"IFERROR(Worksheet!V50/(Worksheet!S50),0)","v":0},{"$f":"IF(Worksheet!E50=\"\",\"\",Worksheet!E50)","v":""},{"$f":"IF(Worksheet!B50=\"\",\"\",Worksheet!B50)","v":""},{"$f":"IF(Worksheet!D50=\"\",\"\",Worksheet!D50)","v":""}]
[{"$f":"IF(ISBLANK(Worksheet!F51)=FALSE,VLOOKUP(Worksheet!A51,MeasureCode_Lookup,6,FALSE),\"\")","v":""},{"$f":"Worksheet!H51","v":0},{"$f":"Worksheet!I51","v":0},{"$f":"IFERROR(IF(Worksheet!X51=0,Worksheet!W51/I32,Worksheet!X51/R32),0)","v":0},"W Controlled",null,null,{"$f":"IF(N(Worksheet!S51)=0,N(Worksheet!R51),N(Worksheet!S51))","v":0},{"$f":"IFERROR(Worksheet!U51/(Worksheet!R51),0)","v":0},{"$f":"Worksheet!AC51","v":0},{"$f":"Worksheet!AB51","v":0},0,{"$f":"IF(Worksheet!AJ51=0,0,Worksheet!AJ51*10/I32)","v":0},0,null,null,null,{"$f":"IFERROR(Worksheet!V51/(Worksheet!S51),0)","v":0},{"$f":"IF(Worksheet!E51=\"\",\"\",Worksheet!E51)","v":""},{"$f":"IF(Worksheet!B51=\"\",\"\",Worksheet!B51)","v":""},{"$f":"IF(Worksheet!D51=\"\",\"\",Worksheet!D51)","v":""}]
[{"$f":"IF(ISBLANK(Worksheet!F52)=FALSE,VLOOKUP(Worksheet!A52,MeasureCode_Lookup,6,FALSE),\"\")","v":""},{"$f":"Worksheet!H52","v":0},{"$f":"Worksheet!I52","v":0},{"$f":"IFERROR(IF(Worksheet!X52=0,Worksheet!W52/I33,Worksheet!X52/R33),0)","v":0},"W Controlled",null,null,{"$f":"IF(N(Worksheet!S52)=0,N(Worksheet!R52),N(Worksheet!S52))","v":0},{"$f":"IFERROR(Worksheet!U52/(Worksheet!R52),0)","v":0},{"$f":"Worksheet!AC52","v":0},{"$f":"Worksheet!AB52","v":0},0,{"$f":"IF(Worksheet!AJ52=0,0,Worksheet!AJ52*10/I33)","v":0},0,null,null,null,{"$f":"IFERROR(Worksheet!V52/(Worksheet!S52),0)","v":0},{"$f":"IF(Worksheet!E52=\"\",\"\",Worksheet!E52)","v":""},{"$f":"IF(Worksheet!B52=\"\",\"\",Worksheet!B52)","v":""},{"$f":"IF(Worksheet!D52=\"\",\"\",Worksheet!D52)","v":""}]
[{"$f":"IF(ISBLANK(Worksheet!F53)=FALSE,VLOOKUP(Worksheet!A53,MeasureCode_Lookup,6,FALSE),\"\")","v":""},{"$f":"Worksheet!H53","v":0},{"$f":"Worksheet!I53","v":0},{"$f":"IFERROR(IF(Worksheet!X53=0,Worksheet!W53/I34,Worksheet!X53/R34),0)","v":0},"W Controlled",null,null,{"$f":"IF(N(Worksheet!S53)=0,N(Worksheet!R53),N(Worksheet!S53))","v":0},{"$f":"IFERROR(Worksheet!U53/(Worksheet!R53),0)","v":0},{"$f":"Worksheet!AC53","v":0},{"$f":"Worksheet!AB53","v":0},0,{"$f":"IF(Worksheet!AJ53=0,0,Worksheet!AJ53*10/I34)","v":0},0,null,null,null,{"$f":"IFERROR(Worksheet!V53/(Worksheet!S53),0)","v":0},{"$f":"IF(Worksheet!E53=\"\",\"\",Worksheet!E53)","v":""},{"$f":"IF(Worksheet!B53=\"\",\"\",Worksheet!B53)","v":""},{"$f":"IF(Worksheet!D53=\"\",\"\",Worksheet!D53)","v":""}]
[{"$f":"IF(ISBLANK(Worksheet!F54)=FALSE,VLOOKUP(Worksheet!A54,MeasureCode_Lookup,6,FALSE),\"\")","v":""},{"$f":"Worksheet!H54","v":0},{"$f":"Worksheet!I54","v":0},{"$f":"IFERROR(IF(Worksheet!X54=0,Worksheet!W54/I35,Worksheet!X54/R35),0)","v":0},"W Controlled",null,null,{"$f":"IF(N(Worksheet!S54)=0,N(Worksheet!R54),N(Worksheet!S54))","v":0},{"$f":"IFERROR(Worksheet!U54/(Worksheet!R54),0)","v":0},{"$f":"Worksheet!AC54","v":0},{"$f":"Worksheet!AB54","v":0},0,{"$f":"IF(Worksheet!AJ54=0,0,Worksheet!AJ54*10/I35)","v":0},0,null,null,null,{"$f":"IFERROR(Worksheet!V54/(Worksheet!S54),0)","v":0},{"$f":"IF(Worksheet!E54=\"\",\"\",Worksheet!E54)","v":""},{"$f":"IF(Worksheet!B54=\"\",\"\",Worksheet!B54)","v":""},{"$f":"IF(Worksheet!D54=\"\",\"\",Worksheet!D54)","v":""}]
[{"$f":"IF(ISBLANK(Worksheet!F55)=FALSE,VLOOKUP(Worksheet!A55,MeasureCode_Lookup,6,FALSE),\"\")","v":""},{"$f":"Worksheet!H55","v":0},{"$f":"Worksheet!I55","v":0},{"$f":"IFERROR(IF(Worksheet!X55=0,Worksheet!W55/I36,Worksheet!X55/R36),0)","v":0},"W Controlled",null,null,{"$f":"IF(N(Worksheet!S55)=0,N(Worksheet!R55),N(Worksheet!S55))","v":0},{"$f":"IFERROR(Worksheet!U55/(Worksheet!R55),0)","v":0},{"$f":"Worksheet!AC55","v":0},{"$f":"Worksheet!AB55","v":0},0,{"$f":"IF(Worksheet!AJ55=0,0,Worksheet!AJ55*10/I36)","v":0},0,null,null,null,{"$f":"IFERROR(Worksheet!V55/(Worksheet!S55),0)","v":0},{"$f":"IF(Worksheet!E55=\"\",\"\",Worksheet!E55)","v":""},{"$f":"IF(Worksheet!B55=\"\",\"\",Worksheet!B55)","v":""},{"$f":"IF(Worksheet!D55=\"\",\"\",Worksheet!D55)","v":""}]
[{"$f":"IF(ISBLANK(Worksheet!F56)=FALSE,VLOOKUP(Worksheet!A56,MeasureCode_Lookup,6,FALSE),\"\")","v":""},{"$f":"Worksheet!H56","v":0},{"$f":"Worksheet!I56","v":0},{"$f":"IFERROR(IF(Worksheet!X56=0,Worksheet!W56/I37,Worksheet!X56/R37),0)","v":0},"W Controlled",null,null,{"$f":"IF(N(Worksheet!S56)=0,N(Worksheet!R56),N(Worksheet!S56))","v":0},{"$f":"IFERROR(Worksheet!U56/(Worksheet!R56),0)","v":0},{"$f":"Worksheet!AC56","v":0},{"$f":"Worksheet!AB56","v":0},0,{"$f":"IF(Worksheet!AJ56=0,0,Worksheet!AJ56*10/I37)","v":0},0,null,null,null,{"$f":"IFERROR(Worksheet!V56/(Worksheet!S56),0)","v":0},{"$f":"IF(Worksheet!E56=\"\",\"\",Worksheet!E56)","v":""},{"$f":"IF(Worksheet!B56=\"\",\"\",Worksheet!B56)","v":""},{"$f":"IF(Worksheet!D56=\"\",\"\",Worksheet!D56)","v":""}]
[{"$f":"IF(ISBLANK(Worksheet!F57)=FALSE,VLOOKUP(Worksheet!A57,MeasureCode_Lookup,6,FALSE),\"\")","v":""},{"$f":"Worksheet!H57","v":0},{"$f":"Worksheet!I57","v":0},{"$f":"IFERROR(IF(Worksheet!X57=0,Worksheet!W57/I38,Worksheet!X57/R38),0)","v":0},"W Controlled",null,null,{"$f":"IF(N(Worksheet!S57)=0,N(Worksheet!R57),N(Worksheet!S57))","v":0},{"$f":"IFERROR(Worksheet!U57/(Worksheet!R57),0)","v":0},{"$f":"Worksheet!AC57","v":0},{"$f":"Worksheet!AB57","v":0},0,{"$f":"IF(Worksheet!AJ57=0,0,Worksheet!AJ57*10/I38)","v":0},0,null,null,null,{"$f":"IFERROR(Worksheet!V57/(Worksheet!S57),0)","v":0},{"$f":"IF(Worksheet!E57=\"\",\"\",Worksheet!E57)","v":""},{"$f":"IF(Worksheet!B57=\"\",\"\",Worksheet!B57)","v":""},{"$f":"IF(Worksheet!D57=\"\",\"\",Worksheet!D57)","v":""}]
[{"$f":"IF(ISBLANK(Worksheet!F58)=FALSE,VLOOKUP(Worksheet!A58,MeasureCode_Lookup,6,FALSE),\"\")","v":""},{"$f":"Worksheet!H58","v":0},{"$f":"Worksheet!I58","v":0},{"$f":"IFERROR(IF(Worksheet!X58=0,Worksheet!W58/I39,Worksheet!X58/R39),0)","v":0},"W Controlled",null,null,{"$f":"IF(N(Worksheet!S58)=0,N(Worksheet!R58),N(Worksheet!S58))","v":0},{"$f":"IFERROR(Worksheet!U58/(Worksheet!R58),0)","v":0},{"$f":"Worksheet!AC58","v":0},{"$f":"Worksheet!AB58","v":0},0,{"$f":"IF(Worksheet!AJ58=0,0,Worksheet!AJ58*10/I39)","v":0},0,null,null,null,{"$f":"IFERROR(Worksheet!V58/(Worksheet!S58),0)","v":0},{"$f":"IF(Worksheet!E58=\"\",\"\",Worksheet!E58)","v":""},{"$f":"IF(Worksheet!B58=\"\",\"\",Worksheet!B58)","v":""},{"$f":"IF(Worksheet!D58=\"\",\"\",Worksheet!D58)","v":""}]
[{"$f":"IF(ISBLANK(Worksheet!F59)=FALSE,VLOOKUP(Worksheet!A59,MeasureCode_Lookup,6,FALSE),\"\")","v":""},{"$f":"Worksheet!H59","v":0},{"$f":"Worksheet!I59","v":0},{"$f":"IFERROR(IF(Worksheet!X59=0,Worksheet!W59/I40,Worksheet!X59/R40),0)","v":0},"W Controlled",null,null,{"$f":"IF(N(Worksheet!S59)=0,N(Worksheet!R59),N(Worksheet!S59))","v":0},{"$f":"IFERROR(Worksheet!U59/(Worksheet!R59),0)","v":0},{"$f":"Worksheet!AC59","v":0},{"$f":"Worksheet!AB59","v":0},0,{"$f":"IF(Worksheet!AJ59=0,0,Worksheet!AJ59*10/I40)","v":0},0,null,null,null,{"$f":"IFERROR(Worksheet!V59/(Worksheet!S59),0)","v":0},{"$f":"IF(Worksheet!E59=\"\",\"\",Worksheet!E59)","v":""},{"$f":"IF(Worksheet!B59=\"\",\"\",Worksheet!B59)","v":""},{"$f":"IF(Worksheet!D59=\"\",\"\",Worksheet!D59)","v":""}]
[{"$f":"IF(ISBLANK(Worksheet!F60)=FALSE,VLOOKUP(Worksheet!A60,MeasureCode_Lookup,6,FALSE),\"\")","v":""},{"$f":"Worksheet!H60","v":0},{"$f":"Worksheet!I60","v":0},{"$f":"IFERROR(IF(Worksheet!X60=0,Worksheet!W60/I41,Worksheet!X60/R41),0)","v":0},"W Controlled",null,null,{"$f":"IF(N(Worksheet!S60)=0,N(Worksheet!R60),N(Worksheet!S60))","v":0},{"$f":"IFERROR(Worksheet!U60/(Worksheet!R60),0)","v":0},{"$f":"Worksheet!AC60","v":0},{"$f":"Worksheet!AB60","v":0},0,{"$f":"IF(Worksheet!AJ60=0,0,Worksheet!AJ60*10/I41)","v":0},0,null,null,null,{"$f":"IFERROR(Worksheet!V60/(Worksheet!S60),0)","v":0},{"$f":"IF(Worksheet!E60=\"\",\"\",Worksheet!E60)","v":""},{"$f":"IF(Worksheet!B60=\"\",\"\",Worksheet!B60)","v":""},{"$f":"IF(Worksheet!D60=\"\",\"\",Worksheet!D60)","v":""}]
[{"$f":"IF(ISBLANK(Worksheet!F61)=FALSE,VLOOKUP(Worksheet!A61,MeasureCode_Lookup,6,FALSE),\"\")","v":""},{"$f":"Worksheet!H61","v":0},{"$f":"Worksheet!I61","v":0},{"$f":"IFERROR(IF(Worksheet!X61=0,Worksheet!W61/I42,Worksheet!X61/R42),0)","v":0},"W Controlled",null,null,{"$f":"IF(N(Worksheet!S61)=0,N(Worksheet!R61),N(Worksheet!S61))","v":0},{"$f":"IFERROR(Worksheet!U61/(Worksheet!R61),0)","v":0},{"$f":"Worksheet!AC61","v":0},{"$f":"Worksheet!AB61","v":0},0,{"$f":"IF(Worksheet!AJ61=0,0,Worksheet!AJ61*10/I42)","v":0},0,null,null,null,{"$f":"IFERROR(Worksheet!V61/(Worksheet!S61),0)","v":0},{"$f":"IF(Worksheet!E61=\"\",\"\",Worksheet!E61)","v":""},{"$f":"IF(Worksheet!B61=\"\",\"\",Worksheet!B61)","v":""},{"$f":"IF(Worksheet!D61=\"\",\"\",Worksheet!D61)","v":""}]
[{"$f":"IF(ISBLANK(Worksheet!F62)=FALSE,VLOOKUP(Worksheet!A62,MeasureCode_Lookup,6,FALSE),\"\")","v":""},{"$f":"Worksheet!H62","v":0},{"$f":"Worksheet!I62","v":0},{"$f":"IFERROR(IF(Worksheet!X62=0,Worksheet!W62/I43,Worksheet!X62/R43),0)","v":0},"W Controlled",null,null,{"$f":"IF(N(Worksheet!S62)=0,N(Worksheet!R62),N(Worksheet!S62))","v":0},{"$f":"IFERROR(Worksheet!U62/(Worksheet!R62),0)","v":0},{"$f":"Worksheet!AC62","v":0},{"$f":"Worksheet!AB62","v":0},0,{"$f":"IF(Worksheet!AJ62=0,0,Worksheet!AJ62*10/I43)","v":0},0,null,null,null,{"$f":"IFERROR(Worksheet!V62/(Worksheet!S62),0)","v":0},{"$f":"IF(Worksheet!E62=\"\",\"\",Worksheet!E62)","v":""},{"$f":"IF(Worksheet!B62=\"\",\"\",Worksheet!B62)","v":""},{"$f":"IF(Worksheet!D62=\"\",\"\",Worksheet!D62)","v":""}]
[{"$f":"IF(ISBLANK(Worksheet!F63)=FALSE,VLOOKUP(Worksheet!A63,MeasureCode_Lookup,6,FALSE),\"\")","v":""},{"$f":"Worksheet!H63","v":0},{"$f":"Worksheet!I63","v":0},{"$f":"IFERROR(IF(Worksheet!X63=0,Worksheet!W63/I44,Worksheet!X63/R44),0)","v":0},"W Controlled",null,null,{"$f":"IF(N(Worksheet!S63)=0,N(Worksheet!R63),N(Worksheet!S63))","v":0},{"$f":"IFERROR(Worksheet!U63/(Worksheet!R63),0)","v":0},{"$f":"Worksheet!AC63","v":0},{"$f":"Worksheet!AB63","v":0},0,{"$f":"IF(Worksheet!AJ63=0,0,Worksheet!AJ63*10/I44)","v":0},0,null,null,null,{"$f":"IFERROR(Worksheet!V63/(Worksheet!S63),0)","v":0},{"$f":"IF(Worksheet!E63=\"\",\"\",Worksheet!E63)","v":""},{"$f":"IF(Worksheet!B63=\"\",\"\",Worksheet!B63)","v":""},{"$f":"IF(Worksheet!D63=\"\",\"\",Worksheet!D63)","v":""}]
[{"$f":"IF(ISBLANK(Worksheet!F64)=FALSE,VLOOKUP(Worksheet!A64,MeasureCode_Lookup,6,FALSE),\"\")","v":""},{"$f":"Worksheet!H64","v":0},{"$f":"Worksheet!I64","v":0},{"$f":"IFERROR(IF(Worksheet!X64=0,Worksheet!W64/I45,Worksheet!X64/R45),0)","v":0},"W Controlled",null,null,{"$f":"IF(N(Worksheet!S64)=0,N(Worksheet!R64),N(Worksheet!S64))","v":0},{"$f":"IFERROR(Worksheet!U64/(Worksheet!R64),0)","v":0},{"$f":"Worksheet!AC64","v":0},{"$f":"Worksheet!AB64","v":0},0,{"$f":"IF(Worksheet!AJ64=0,0,Worksheet!AJ64*10/I45)","v":0},0,null,null,null,{"$f":"IFERROR(Worksheet!V64/(Worksheet!S64),0)","v":0},{"$f":"IF(Worksheet!E64=\"\",\"\",Worksheet!E64)","v":""},{"$f":"IF(Worksheet!B64=\"\",\"\",Worksheet!B64)","v":""},{"$f":"IF(Worksheet!D64=\"\",\"\",Worksheet!D64)","v":""}]
[{"$f":"IF(ISBLANK(Worksheet!F65)=FALSE,VLOOKUP(Worksheet!A65,MeasureCode_Lookup,6,FALSE),\"\")","v":""},{"$f":"Worksheet!H65","v":0},{"$f":"Worksheet!I65","v":0},{"$f":"IFERROR(IF(Worksheet!X65=0,Worksheet!W65/I46,Worksheet!X65/R46),0)","v":0},"W Controlled",null,null,{"$f":"IF(N(Worksheet!S65)=0,N(Worksheet!R65),N(Worksheet!S65))","v":0},{"$f":"IFERROR(Worksheet!U65/(Worksheet!R65),0)","v":0},{"$f":"Worksheet!AC65","v":0},{"$f":"Worksheet!AB65","v":0},0,{"$f":"IF(Worksheet!AJ65=0,0,Worksheet!AJ65*10/I46)","v":0},0,null,null,null,{"$f":"IFERROR(Worksheet!V65/(Worksheet!S65),0)","v":0},{"$f":"IF(Worksheet!E65=\"\",\"\",Worksheet!E65)","v":""},{"$f":"IF(Worksheet!B65=\"\",\"\",Worksheet!B65)","v":""},{"$f":"IF(Worksheet!D65=\"\",\"\",Worksheet!D65)","v":""}]
[{"$f":"IF(ISBLANK(Worksheet!F66)=FALSE,VLOOKUP(Worksheet!A66,MeasureCode_Lookup,6,FALSE),\"\")","v":""},{"$f":"Worksheet!H66","v":0},{"$f":"Worksheet!I66","v":0},{"$f":"IFERROR(IF(Worksheet!X66=0,Worksheet!W66/I47,Worksheet!X66/R47),0)","v":0},"W Controlled",null,null,{"$f":"IF(N(Worksheet!S66)=0,N(Worksheet!R66),N(Worksheet!S66))","v":0},{"$f":"IFERROR(Worksheet!U66/(Worksheet!R66),0)","v":0},{"$f":"Worksheet!AC66","v":0},{"$f":"Worksheet!AB66","v":0},0,{"$f":"IF(Worksheet!AJ66=0,0,Worksheet!AJ66*10/I47)","v":0},0,null,null,null,{"$f":"IFERROR(Worksheet!V66/(Worksheet!S66),0)","v":0},{"$f":"IF(Worksheet!E66=\"\",\"\",Worksheet!E66)","v":""},{"$f":"IF(Worksheet!B66=\"\",\"\",Worksheet!B66)","v":""},{"$f":"IF(Worksheet!D66=\"\",\"\",Worksheet!D66)","v":""}]
[{"$f":"IF(ISBLANK(Worksheet!F67)=FALSE,VLOOKUP(Worksheet!A67,MeasureCode_Lookup,6,FALSE),\"\")","v":""},{"$f":"Worksheet!H67","v":0},{"$f":"Worksheet!I67","v":0},{"$f":"IFERROR(IF(Worksheet!X67=0,Worksheet!W67/I48,Worksheet!X67/R48),0)","v":0},"W Controlled",null,null,{"$f":"IF(N(Worksheet!S67)=0,N(Worksheet!R67),N(Worksheet!S67))","v":0},{"$f":"IFERROR(Worksheet!U67/(Worksheet!R67),0)","v":0},{"$f":"Worksheet!AC67","v":0},{"$f":"Worksheet!AB67","v":0},0,{"$f":"IF(Worksheet!AJ67=0,0,Worksheet!AJ67*10/I48)","v":0},0,null,null,null,{"$f":"IFERROR(Worksheet!V67/(Worksheet!S67),0)","v":0},{"$f":"IF(Worksheet!E67=\"\",\"\",Worksheet!E67)","v":""},{"$f":"IF(Worksheet!B67=\"\",\"\",Worksheet!B67)","v":""},{"$f":"IF(Worksheet!D67=\"\",\"\",Worksheet!D67)","v":""}]
[{"$f":"IF(ISBLANK(Worksheet!F68)=FALSE,VLOOKUP(Worksheet!A68,MeasureCode_Lookup,6,FALSE),\"\")","v":""},{"$f":"Worksheet!H68","v":0},{"$f":"Worksheet!I68","v":0},{"$f":"IFERROR(IF(Worksheet!X68=0,Worksheet!W68/I49,Worksheet!X68/R49),0)","v":0},"W Controlled",null,null,{"$f":"IF(N(Worksheet!S68)=0,N(Worksheet!R68),N(Worksheet!S68))","v":0},{"$f":"IFERROR(Worksheet!U68/(Worksheet!R68),0)","v":0},{"$f":"Worksheet!AC68","v":0},{"$f":"Worksheet!AB68","v":0},0,{"$f":"IF(Worksheet!AJ68=0,0,Worksheet!AJ68*10/I49)","v":0},0,null,null,null,{"$f":"IFERROR(Worksheet!V68/(Worksheet!S68),0)","v":0},{"$f":"IF(Worksheet!E68=\"\",\"\",Worksheet!E68)","v":""},{"$f":"IF(Worksheet!B68=\"\",\"\",Worksheet!B68)","v":""},{"$f":"IF(Worksheet!D68=\"\",\"\",Worksheet!D68)","v":""}]
[{"$f":"IF(ISBLANK(Worksheet!F69)=FALSE,VLOOKUP(Worksheet!A69,MeasureCode_Lookup,6,FALSE),\"\")","v":""},{"$f":"Worksheet!H69","v":0},{"$f":"Worksheet!I69","v":0},{"$f":"IFERROR(IF(Worksheet!X69=0,Worksheet!W69/I50,Worksheet!X69/R50),0)","v":0},"W Controlled",null,null,{"$f":"IF(N(Worksheet!S69)=0,N(Worksheet!R69),N(Worksheet!S69))","v":0},{"$f":"IFERROR(Worksheet!U69/(Worksheet!R69),0)","v":0},{"$f":"Worksheet!AC69","v":0},{"$f":"Worksheet!AB69","v":0},0,{"$f":"IF(Worksheet!AJ69=0,0,Worksheet!AJ69*10/I50)","v":0},0,null,null,null,{"$f":"IFERROR(Worksheet!V69/(Worksheet!S69),0)","v":0},{"$f":"IF(Worksheet!E69=\"\",\"\",Worksheet!E69)","v":""},{"$f":"IF(Worksheet!B69=\"\",\"\",Worksheet!B69)","v":""},{"$f":"IF(Worksheet!D69=\"\",\"\",Worksheet!D69)","v":""}]
[{"$f":"IF(ISBLANK(Worksheet!F70)=FALSE,VLOOKUP(Worksheet!A70,MeasureCode_Lookup,6,FALSE),\"\")","v":""},{"$f":"Worksheet!H70","v":0},{"$f":"Worksheet!I70","v":0},{"$f":"IFERROR(IF(Worksheet!X70=0,Worksheet!W70/I51,Worksheet!X70/R51),0)","v":0},"W Controlled",null,null,{"$f":"IF(N(Worksheet!S70)=0,N(Worksheet!R70),N(Worksheet!S70))","v":0},{"$f":"IFERROR(Worksheet!U70/(Worksheet!R70),0)","v":0},{"$f":"Worksheet!AC70","v":0},{"$f":"Worksheet!AB70","v":0},0,{"$f":"IF(Worksheet!AJ70=0,0,Worksheet!AJ70*10/I51)","v":0},0,null,null,null,{"$f":"IFERROR(Worksheet!V70/(Worksheet!S70),0)","v":0},{"$f":"IF(Worksheet!E70=\"\",\"\",Worksheet!E70)","v":""},{"$f":"IF(Worksheet!B70=\"\",\"\",Worksheet!B70)","v":""},{"$f":"IF(Worksheet!D70=\"\",\"\",Worksheet!D70)","v":""}]
[{"$f":"IF(ISBLANK(Worksheet!F71)=FALSE,VLOOKUP(Worksheet!A71,MeasureCode_Lookup,6,FALSE),\"\")","v":""},{"$f":"Worksheet!H71","v":0},{"$f":"Worksheet!I71","v":0},{"$f":"IFERROR(IF(Worksheet!X71=0,Worksheet!W71/I52,Worksheet!X71/R52),0)","v":0},"W Controlled",null,null,{"$f":"IF(N(Worksheet!S71)=0,N(Worksheet!R71),N(Worksheet!S71))","v":0},{"$f":"IFERROR(Worksheet!U71/(Worksheet!R71),0)","v":0},{"$f":"Worksheet!AC71","v":0},{"$f":"Worksheet!AB71","v":0},0,{"$f":"IF(Worksheet!AJ71=0,0,Worksheet!AJ71*10/I52)","v":0},0,null,null,null,{"$f":"IFERROR(Worksheet!V71/(Worksheet!S71),0)","v":0},{"$f":"IF(Worksheet!E71=\"\",\"\",Worksheet!E71)","v":""},{"$f":"IF(Worksheet!B71=\"\",\"\",Worksheet!B71)","v":""},{"$f":"IF(Worksheet!D71=\"\",\"\",Worksheet!D71)","v":""}]
[{"$f":"IF(ISBLANK(Worksheet!F72)=FALSE,VLOOKUP(Worksheet!A72,MeasureCode_Lookup,6,FALSE),\"\")","v":""},{"$f":"Worksheet!H72","v":0},{"$f":"Worksheet!I72","v":0},{"$f":"IFERROR(IF(Worksheet!X72=0,Worksheet!W72/I53,Worksheet!X72/R53),0)","v":0},"W Controlled",null,null,{"$f":"IF(N(Worksheet!S72)=0,N(Worksheet!R72),N(Worksheet!S72))","v":0},{"$f":"IFERROR(Worksheet!U72/(Worksheet!R72),0)","v":0},{"$f":"Worksheet!AC72","v":0},{"$f":"Worksheet!AB72","v":0},0,{"$f":"IF(Worksheet!AJ72=0,0,Worksheet!AJ72*10/I53)","v":0},0,null,null,null,{"$f":"IFERROR(Worksheet!V72/(Worksheet!S72),0)","v":0},{"$f":"IF(Worksheet!E72=\"\",\"\",Worksheet!E72)","v":""},{"$f":"IF(Worksheet!B72=\"\",\"\",Worksheet!B72)","v":""},{"$f":"IF(Worksheet!D72=\"\",\"\",Worksheet!D72)","v":""}]
[{"$f":"IF(ISBLANK(Worksheet!F73)=FALSE,VLOOKUP(Worksheet!A73,MeasureCode_Lookup,6,FALSE),\"\")","v":""},{"$f":"Worksheet!H73","v":0},{"$f":"Worksheet!I73","v":0},{"$f":"IFERROR(IF(Worksheet!X73=0,Worksheet!W73/I54,Worksheet!X73/R54),0)","v":0},"W Controlled",null,null,{"$f":"IF(N(Worksheet!S73)=0,N(Worksheet!R73),N(Worksheet!S73))","v":0},{"$f":"IFERROR(Worksheet!U73/(Worksheet!R73),0)","v":0},{"$f":"Worksheet!AC73","v":0},{"$f":"Worksheet!AB73","v":0},0,{"$f":"IF(Worksheet!AJ73=0,0,Worksheet!AJ73*10/I54)","v":0},0,null,null,null,{"$f":"IFERROR(Worksheet!V73/(Worksheet!S73),0)","v":0},{"$f":"IF(Worksheet!E73=\"\",\"\",Worksheet!E73)","v":""},{"$f":"IF(Worksheet!B73=\"\",\"\",Worksheet!B73)","v":""},{"$f":"IF(Worksheet!D73=\"\",\"\",Worksheet!D73)","v":""}]
[{"$f":"IF(ISBLANK(Worksheet!F74)=FALSE,VLOOKUP(Worksheet!A74,MeasureCode_Lookup,6,FALSE),\"\")","v":""},{"$f":"Worksheet!H74","v":0},{"$f":"Worksheet!I74","v":0},{"$f":"IFERROR(IF(Worksheet!X74=0,Worksheet!W74/I55,Worksheet!X74/R55),0)","v":0},"W Controlled",null,null,{"$f":"IF(N(Worksheet!S74)=0,N(Worksheet!R74),N(Worksheet!S74))","v":0},{"$f":"IFERROR(Worksheet!U74/(Worksheet!R74),0)","v":0},{"$f":"Worksheet!AC74","v":0},{"$f":"Worksheet!AB74","v":0},0,{"$f":"IF(Worksheet!AJ74=0,0,Worksheet!AJ74*10/I55)","v":0},0,null,null,null,{"$f":"IFERROR(Worksheet!V74/(Worksheet!S74),0)","v":0},{"$f":"IF(Worksheet!E74=\"\",\"\",Worksheet!E74)","v":""},{"$f":"IF(Worksheet!B74=\"\",\"\",Worksheet!B74)","v":""},{"$f":"IF(Worksheet!D74=\"\",\"\",Worksheet!D74)","v":""}]
[{"$f":"IF(ISBLANK(Worksheet!F75)=FALSE,VLOOKUP(Worksheet!A75,MeasureCode_Lookup,6,FALSE),\"\")","v":""},{"$f":"Worksheet!H75","v":0},{"$f":"Worksheet!I75","v":0},{"$f":"IFERROR(IF(Worksheet!X75=0,Worksheet!W75/I56,Worksheet!X75/R56),0)","v":0},"W Controlled",null,null,{"$f":"IF(N(Worksheet!S75)=0,N(Worksheet!R75),N(Worksheet!S75))","v":0},{"$f":"IFERROR(Worksheet!U75/(Worksheet!R75),0)","v":0},{"$f":"Worksheet!AC75","v":0},{"$f":"Worksheet!AB75","v":0},0,{"$f":"IF(Worksheet!AJ75=0,0,Worksheet!AJ75*10/I56)","v":0},0,null,null,null,{"$f":"IFERROR(Worksheet!V75/(Worksheet!S75),0)","v":0},{"$f":"IF(Worksheet!E75=\"\",\"\",Worksheet!E75)","v":""},{"$f":"IF(Worksheet!B75=\"\",\"\",Worksheet!B75)","v":""},{"$f":"IF(Worksheet!D75=\"\",\"\",Worksheet!D75)","v":""}]
[{"$f":"IF(ISBLANK(Worksheet!F76)=FALSE,VLOOKUP(Worksheet!A76,MeasureCode_Lookup,6,FALSE),\"\")","v":""},{"$f":"Worksheet!H76","v":0},{"$f":"Worksheet!I76","v":0},{"$f":"IFERROR(IF(Worksheet!X76=0,Worksheet!W76/I57,Worksheet!X76/R57),0)","v":0},"W Controlled",null,null,{"$f":"IF(N(Worksheet!S76)=0,N(Worksheet!R76),N(Worksheet!S76))","v":0},{"$f":"IFERROR(Worksheet!U76/(Worksheet!R76),0)","v":0},{"$f":"Worksheet!AC76","v":0},{"$f":"Worksheet!AB76","v":0},0,{"$f":"IF(Worksheet!AJ76=0,0,Worksheet!AJ76*10/I57)","v":0},0,null,null,null,{"$f":"IFERROR(Worksheet!V76/(Worksheet!S76),0)","v":0},{"$f":"IF(Worksheet!E76=\"\",\"\",Worksheet!E76)","v":""},{"$f":"IF(Worksheet!B76=\"\",\"\",Worksheet!B76)","v":""},{"$f":"IF(Worksheet!D76=\"\",\"\",Worksheet!D76)","v":""}]
[{"$f":"IF(ISBLANK(Worksheet!F77)=FALSE,VLOOKUP(Worksheet!A77,MeasureCode_Lookup,6,FALSE),\"\")","v":""},{"$f":"Worksheet!H77","v":0},{"$f":"Worksheet!I77","v":0},{"$f":"IFERROR(IF(Worksheet!X77=0,Worksheet!W77/I58,Worksheet!X77/R58),0)","v":0},"W Controlled",null,null,{"$f":"IF(N(Worksheet!S77)=0,N(Worksheet!R77),N(Worksheet!S77))","v":0},{"$f":"IFERROR(Worksheet!U77/(Worksheet!R77),0)","v":0},{"$f":"Worksheet!AC77","v":0},{"$f":"Worksheet!AB77","v":0},0,{"$f":"IF(Worksheet!AJ77=0,0,Worksheet!AJ77*10/I58)","v":0},0,null,null,null,{"$f":"IFERROR(Worksheet!V77/(Worksheet!S77),0)","v":0},{"$f":"IF(Worksheet!E77=\"\",\"\",Worksheet!E77)","v":""},{"$f":"IF(Worksheet!B77=\"\",\"\",Worksheet!B77)","v":""},{"$f":"IF(Worksheet!D77=\"\",\"\",Worksheet!D77)","v":""}]
[{"$f":"IF(ISBLANK(Worksheet!F78)=FALSE,VLOOKUP(Worksheet!A78,MeasureCode_Lookup,6,FALSE),\"\")","v":""},{"$f":"Worksheet!H78","v":0},{"$f":"Worksheet!I78","v":0},{"$f":"IFERROR(IF(Worksheet!X78=0,Worksheet!W78/I59,Worksheet!X78/R59),0)","v":0},"W Controlled",null,null,{"$f":"IF(N(Worksheet!S78)=0,N(Worksheet!R78),N(Worksheet!S78))","v":0},{"$f":"IFERROR(Worksheet!U78/(Worksheet!R78),0)","v":0},{"$f":"Worksheet!AC78","v":0},{"$f":"Worksheet!AB78","v":0},0,{"$f":"IF(Worksheet!AJ78=0,0,Worksheet!AJ78*10/I59)","v":0},0,null,null,null,{"$f":"IFERROR(Worksheet!V78/(Worksheet!S78),0)","v":0},{"$f":"IF(Worksheet!E78=\"\",\"\",Worksheet!E78)","v":""},{"$f":"IF(Worksheet!B78=\"\",\"\",Worksheet!B78)","v":""},{"$f":"IF(Worksheet!D78=\"\",\"\",Worksheet!D78)","v":""}]
[{"$f":"IF(ISBLANK(Worksheet!F79)=FALSE,VLOOKUP(Worksheet!A79,MeasureCode_Lookup,6,FALSE),\"\")","v":""},{"$f":"Worksheet!H79","v":0},{"$f":"Worksheet!I79","v":0},{"$f":"IFERROR(IF(Worksheet!X79=0,Worksheet!W79/I60,Worksheet!X79/R60),0)","v":0},"W Controlled",null,null,{"$f":"IF(N(Worksheet!S79)=0,N(Worksheet!R79),N(Worksheet!S79))","v":0},{"$f":"IFERROR(Worksheet!U79/(Worksheet!R79),0)","v":0},{"$f":"Worksheet!AC79","v":0},{"$f":"Worksheet!AB79","v":0},0,{"$f":"IF(Worksheet!AJ79=0,0,Worksheet!AJ79*10/I60)","v":0},0,null,null,null,{"$f":"IFERROR(Worksheet!V79/(Worksheet!S79),0)","v":0},{"$f":"IF(Worksheet!E79=\"\",\"\",Worksheet!E79)","v":""},{"$f":"IF(Worksheet!B79=\"\",\"\",Worksheet!B79)","v":""},{"$f":"IF(Worksheet!D79=\"\",\"\",Worksheet!D79)","v":""}]
[{"$f":"IF(ISBLANK(Worksheet!F80)=FALSE,VLOOKUP(Worksheet!A80,MeasureCode_Lookup,6,FALSE),\"\")","v":""},{"$f":"Worksheet!H80","v":0},{"$f":"Worksheet!I80","v":0},{"$f":"IFERROR(IF(Worksheet!X80=0,Worksheet!W80/I61,Worksheet!X80/R61),0)","v":0},"W Controlled",null,null,{"$f":"IF(N(Worksheet!S80)=0,N(Worksheet!R80),N(Worksheet!S80))","v":0},{"$f":"IFERROR(Worksheet!U80/(Worksheet!R80),0)","v":0},{"$f":"Worksheet!AC80","v":0},{"$f":"Worksheet!AB80","v":0},0,{"$f":"IF(Worksheet!AJ80=0,0,Worksheet!AJ80*10/I61)","v":0},0,null,null,null,{"$f":"IFERROR(Worksheet!V80/(Worksheet!S80),0)","v":0},{"$f":"IF(Worksheet!E80=\"\",\"\",Worksheet!E80)","v":""},{"$f":"IF(Worksheet!B80=\"\",\"\",Worksheet!B80)","v":""},{"$f":"IF(Worksheet!D80=\"\",\"\",Worksheet!D80)","v":""}]
[{"$f":"IF(ISBLANK(Worksheet!F81)=FALSE,VLOOKUP(Worksheet!A81,MeasureCode_Lookup,6,FALSE),\"\")","v":""},{"$f":"Worksheet!H81","v":0},{"$f":"Worksheet!I81","v":0},{"$f":"IFERROR(IF(Worksheet!X81=0,Worksheet!W81/I62,Worksheet!X81/R62),0)","v":0},"W Controlled",null,null,{"$f":"IF(N(Worksheet!S81)=0,N(Worksheet!R81),N(Worksheet!S81))","v":0},{"$f":"IFERROR(Worksheet!U81/(Worksheet!R81),0)","v":0},{"$f":"Worksheet!AC81","v":0},{"$f":"Worksheet!AB81","v":0},0,{"$f":"IF(Worksheet!AJ81=0,0,Worksheet!AJ81*10/I62)","v":0},0,null,null,null,{"$f":"IFERROR(Worksheet!V81/(Worksheet!S81),0)","v":0},{"$f":"IF(Worksheet!E81=\"\",\"\",Worksheet!E81)","v":""},{"$f":"IF(Worksheet!B81=\"\",\"\",Worksheet!B81)","v":""},{"$f":"IF(Worksheet!D81=\"\",\"\",Worksheet!D81)","v":""}]
[{"$f":"IF(ISBLANK(Worksheet!F82)=FALSE,VLOOKUP(Worksheet!A82,MeasureCode_Lookup,6,FALSE),\"\")","v":""},{"$f":"Worksheet!H82","v":0},{"$f":"Worksheet!I82","v":0},{"$f":"IFERROR(IF(Worksheet!X82=0,Worksheet!W82/I63,Worksheet!X82/R63),0)","v":0},"W Controlled",null,null,{"$f":"IF(N(Worksheet!S82)=0,N(Worksheet!R82),N(Worksheet!S82))","v":0},{"$f":"IFERROR(Worksheet!U82/(Worksheet!R82),0)","v":0},{"$f":"Worksheet!AC82","v":0},{"$f":"Worksheet!AB82","v":0},0,{"$f":"IF(Worksheet!AJ82=0,0,Worksheet!AJ82*10/I63)","v":0},0,null,null,null,{"$f":"IFERROR(Worksheet!V82/(Worksheet!S82),0)","v":0},{"$f":"IF(Worksheet!E82=\"\",\"\",Worksheet!E82)","v":""},{"$f":"IF(Worksheet!B82=\"\",\"\",Worksheet!B82)","v":""},{"$f":"IF(Worksheet!D82=\"\",\"\",Worksheet!D82)","v":""}]
[{"$f":"IF(ISBLANK(Worksheet!F83)=FALSE,VLOOKUP(Worksheet!A83,MeasureCode_Lookup,6,FALSE),\"\")","v":""},{"$f":"Worksheet!H83","v":0},{"$f":"Worksheet!I83","v":0},{"$f":"IFERROR(IF(Worksheet!X83=0,Worksheet!W83/I64,Worksheet!X83/R64),0)","v":0},"W Controlled",null,null,{"$f":"IF(N(Worksheet!S83)=0,N(Worksheet!R83),N(Worksheet!S83))","v":0},{"$f":"IFERROR(Worksheet!U83/(Worksheet!R83),0)","v":0},{"$f":"Worksheet!AC83","v":0},{"$f":"Worksheet!AB83","v":0},0,{"$f":"IF(Worksheet!AJ83=0,0,Worksheet!AJ83*10/I64)","v":0},0,null,null,null,{"$f":"IFERROR(Worksheet!V83/(Worksheet!S83),0)","v":0},{"$f":"IF(Worksheet!E83=\"\",\"\",Worksheet!E83)","v":""},{"$f":"IF(Worksheet!B83=\"\",\"\",Worksheet!B83)","v":""},{"$f":"IF(Worksheet!D83=\"\",\"\",Worksheet!D83)","v":""}]
[{"$f":"IF(ISBLANK(Worksheet!F84)=FALSE,VLOOKUP(Worksheet!A84,MeasureCode_Lookup,6,FALSE),\"\")","v":""},{"$f":"Worksheet!H84","v":0},{"$f":"Worksheet!I84","v":0},{"$f":"IFERROR(IF(Worksheet!X84=0,Worksheet!W84/I65,Worksheet!X84/R65),0)","v":0},"W Controlled",null,null,{"$f":"IF(N(Worksheet!S84)=0,N(Worksheet!R84),N(Worksheet!S84))","v":0},{"$f":"IFERROR(Worksheet!U84/(Worksheet!R84),0)","v":0},{"$f":"Worksheet!AC84","v":0},{"$f":"Worksheet!AB84","v":0},0,{"$f":"IF(Worksheet!AJ84=0,0,Worksheet!AJ84*10/I65)","v":0},0,null,null,null,{"$f":"IFERROR(Worksheet!V84/(Worksheet!S84),0)","v":0},{"$f":"IF(Worksheet!E84=\"\",\"\",Worksheet!E84)","v":""},{"$f":"IF(Worksheet!B84=\"\",\"\",Worksheet!B84)","v":""},{"$f":"IF(Worksheet!D84=\"\",\"\",Worksheet!D84)","v":""}]
[{"$f":"IF(ISBLANK(Worksheet!F85)=FALSE,VLOOKUP(Worksheet!A85,MeasureCode_Lookup,6,FALSE),\"\")","v":""},{"$f":"Worksheet!H85","v":0},{"$f":"Worksheet!I85","v":0},{"$f":"IFERROR(IF(Worksheet!X85=0,Worksheet!W85/I66,Worksheet!X85/R66),0)","v":0},"W Controlled",null,null,{"$f":"IF(N(Worksheet!S85)=0,N(Worksheet!R85),N(Worksheet!S85))","v":0},{"$f":"IFERROR(Worksheet!U85/(Worksheet!R85),0)","v":0},{"$f":"Worksheet!AC85","v":0},{"$f":"Worksheet!AB85","v":0},0,{"$f":"IF(Worksheet!AJ85=0,0,Worksheet!AJ85*10/I66)","v":0},0,null,null,null,{"$f":"IFERROR(Worksheet!V85/(Worksheet!S85),0)","v":0},{"$f":"IF(Worksheet!E85=\"\",\"\",Worksheet!E85)","v":""},{"$f":"IF(Worksheet!B85=\"\",\"\",Worksheet!B85)","v":""},{"$f":"IF(Worksheet!D85=\"\",\"\",Worksheet!D85)","v":""}]
[{"$f":"IF(ISBLANK(Worksheet!F86)=FALSE,VLOOKUP(Worksheet!A86,MeasureCode_Lookup,6,FALSE),\"\")","v":""},{"$f":"Worksheet!H86","v":0},{"$f":"Worksheet!I86","v":0},{"$f":"IFERROR(IF(Worksheet!X86=0,Worksheet!W86/I67,Worksheet!X86/R67),0)","v":0},"W Controlled",null,null,{"$f":"IF(N(Worksheet!S86)=0,N(Worksheet!R86),N(Worksheet!S86))","v":0},{"$f":"IFERROR(Worksheet!U86/(Worksheet!R86),0)","v":0},{"$f":"Worksheet!AC86","v":0},{"$f":"Worksheet!AB86","v":0},{"$f":"J67*8","v":0},{"$f":"IF(Worksheet!AJ86=0,0,Worksheet!AJ86*10/I67)","v":0},{"$f":"M67*8","v":0},null,null,null,{"$f":"IFERROR(Worksheet!V86/(Worksheet!S86),0)","v":0},{"$f":"IF(Worksheet!E86=\"\",\"\",Worksheet!E86)","v":""},{"$f":"IF(Worksheet!B86=\"\",\"\",Worksheet!B86)","v":""},{"$f":"IF(Worksheet!D86=\"\",\"\",Worksheet!D86)","v":""}]
[{"$f":"IF(ISBLANK(Worksheet!F87)=FALSE,VLOOKUP(Worksheet!A87,MeasureCode_Lookup,6,FALSE),\"\")","v":""},{"$f":"Worksheet!H87","v":0},{"$f":"Worksheet!I87","v":0},{"$f":"IFERROR(IF(Worksheet!X87=0,Worksheet!W87/I68,Worksheet!X87/R68),0)","v":0},"W Controlled",null,null,{"$f":"IF(N(Worksheet!S87)=0,N(Worksheet!R87),N(Worksheet!S87))","v":0},{"$f":"IFERROR(Worksheet!U87/(Worksheet!R87),0)","v":0},{"$f":"Worksheet!AC87","v":0},{"$f":"Worksheet!AB87","v":0},0,{"$f":"IF(Worksheet!AJ87=0,0,Worksheet!AJ87*10/I68)","v":0},0,null,null,null,{"$f":"IFERROR(Worksheet!V87/(Worksheet!S87),0)","v":0},{"$f":"IF(Worksheet!E87=\"\",\"\",Worksheet!E87)","v":""},{"$f":"IF(Worksheet!B87=\"\",\"\",Worksheet!B87)","v":""},{"$f":"IF(Worksheet!D87=\"\",\"\",Worksheet!D87)","v":""}]
[{"$f":"IF(ISBLANK(Worksheet!F88)=FALSE,VLOOKUP(Worksheet!A88,MeasureCode_Lookup,6,FALSE),\"\")","v":""},{"$f":"Worksheet!H88","v":0},{"$f":"Worksheet!I88","v":0},{"$f":"IFERROR(IF(Worksheet!X88=0,Worksheet!W88/I69,Worksheet!X88/R69),0)","v":0},"W Controlled",null,null,{"$f":"IF(N(Worksheet!S88)=0,N(Worksheet!R88),N(Worksheet!S88))","v":0},{"$f":"IFERROR(Worksheet!U88/(Worksheet!R88),0)","v":0},{"$f":"Worksheet!AC88","v":0},{"$f":"Worksheet!AB88","v":0},0,{"$f":"IF(Worksheet!AJ88=0,0,Worksheet!AJ88*10/I69)","v":0},0,null,null,null,{"$f":"IFERROR(Worksheet!V88/(Worksheet!S88),0)","v":0},{"$f":"IF(Worksheet!E88=\"\",\"\",Worksheet!E88)","v":""},{"$f":"IF(Worksheet!B88=\"\",\"\",Worksheet!B88)","v":""},{"$f":"IF(Worksheet!D88=\"\",\"\",Worksheet!D88)","v":""}]
[{"$f":"IF(ISBLANK(Worksheet!F89)=FALSE,VLOOKUP(Worksheet!A89,MeasureCode_Lookup,6,FALSE),\"\")","v":""},{"$f":"Worksheet!H89","v":0},{"$f":"Worksheet!I89","v":0},{"$f":"IFERROR(IF(Worksheet!X89=0,Worksheet!W89/I70,Worksheet!X89/R70),0)","v":0},"W Controlled",null,null,{"$f":"IF(N(Worksheet!S89)=0,N(Worksheet!R89),N(Worksheet!S89))","v":0},{"$f":"IFERROR(Worksheet!U89/(Worksheet!R89),0)","v":0},{"$f":"Worksheet!AC89","v":0},{"$f":"Worksheet!AB89","v":0},0,{"$f":"IF(Worksheet!AJ89=0,0,Worksheet!AJ89*10/I70)","v":0},0,null,null,null,{"$f":"IFERROR(Worksheet!V89/(Worksheet!S89),0)","v":0},{"$f":"IF(Worksheet!E89=\"\",\"\",Worksheet!E89)","v":""},{"$f":"IF(Worksheet!B89=\"\",\"\",Worksheet!B89)","v":""},{"$f":"IF(Worksheet!D89=\"\",\"\",Worksheet!D89)","v":""}]
[{"$f":"IF(ISBLANK(Worksheet!F90)=FALSE,VLOOKUP(Worksheet!A90,MeasureCode_Lookup,6,FALSE),\"\")","v":""},{"$f":"Worksheet!H90","v":0},{"$f":"Worksheet!I90","v":0},{"$f":"IFERROR(IF(Worksheet!X90=0,Worksheet!W90/I71,Worksheet!X90/R71),0)","v":0},"W Controlled",null,null,{"$f":"IF(N(Worksheet!S90)=0,N(Worksheet!R90),N(Worksheet!S90))","v":0},{"$f":"IFERROR(Worksheet!U90/(Worksheet!R90),0)","v":0},{"$f":"Worksheet!AC90","v":0},{"$f":"Worksheet!AB90","v":0},0,{"$f":"IF(Worksheet!AJ90=0,0,Worksheet!AJ90*10/I71)","v":0},0,null,null,null,{"$f":"IFERROR(Worksheet!V90/(Worksheet!S90),0)","v":0},{"$f":"IF(Worksheet!E90=\"\",\"\",Worksheet!E90)","v":""},{"$f":"IF(Worksheet!B90=\"\",\"\",Worksheet!B90)","v":""},{"$f":"IF(Worksheet!D90=\"\",\"\",Worksheet!D90)","v":""}]
[{"$f":"IF(ISBLANK(Worksheet!F91)=FALSE,VLOOKUP(Worksheet!A91,MeasureCode_Lookup,6,FALSE),\"\")","v":""},{"$f":"Worksheet!H91","v":0},{"$f":"Worksheet!I91","v":0},{"$f":"IFERROR(IF(Worksheet!X91=0,Worksheet!W91/I72,Worksheet!X91/R72),0)","v":0},"W Controlled",null,null,{"$f":"IF(N(Worksheet!S91)=0,N(Worksheet!R91),N(Worksheet!S91))","v":0},{"$f":"IFERROR(Worksheet!U91/(Worksheet!R91),0)","v":0},{"$f":"Worksheet!AC91","v":0},{"$f":"Worksheet!AB91","v":0},0,{"$f":"IF(Worksheet!AJ91=0,0,Worksheet!AJ91*10/I72)","v":0},0,null,null,null,{"$f":"IFERROR(Worksheet!V91/(Worksheet!S91),0)","v":0},{"$f":"IF(Worksheet!E91=\"\",\"\",Worksheet!E91)","v":""},{"$f":"IF(Worksheet!B91=\"\",\"\",Worksheet!B91)","v":""},{"$f":"IF(Worksheet!D91=\"\",\"\",Worksheet!D91)","v":""}]
[{"$f":"IF(ISBLANK(Worksheet!F92)=FALSE,VLOOKUP(Worksheet!A92,MeasureCode_Lookup,6,FALSE),\"\")","v":""},{"$f":"Worksheet!H92","v":0},{"$f":"Worksheet!I92","v":0},{"$f":"IFERROR(IF(Worksheet!X92=0,Worksheet!W92/I73,Worksheet!X92/R73),0)","v":0},"W Controlled",null,null,{"$f":"IF(N(Worksheet!S92)=0,N(Worksheet!R92),N(Worksheet!S92))","v":0},{"$f":"IFERROR(Worksheet!U92/(Worksheet!R92),0)","v":0},{"$f":"Worksheet!AC92","v":0},{"$f":"Worksheet!AB92","v":0},0,{"$f":"IF(Worksheet!AJ92=0,0,Worksheet!AJ92*10/I73)","v":0},0,null,null,null,{"$f":"IFERROR(Worksheet!V92/(Worksheet!S92),0)","v":0},{"$f":"IF(Worksheet!E92=\"\",\"\",Worksheet!E92)","v":""},{"$f":"IF(Worksheet!B92=\"\",\"\",Worksheet!B92)","v":""},{"$f":"IF(Worksheet!D92=\"\",\"\",Worksheet!D92)","v":""}]
[{"$f":"IF(ISBLANK(Worksheet!F93)=FALSE,VLOOKUP(Worksheet!A93,MeasureCode_Lookup,6,FALSE),\"\")","v":""},{"$f":"Worksheet!H93","v":0},{"$f":"Worksheet!I93","v":0},{"$f":"IFERROR(IF(Worksheet!X93=0,Worksheet!W93/I74,Worksheet!X93/R74),0)","v":0},"W Controlled",null,null,{"$f":"IF(N(Worksheet!S93)=0,N(Worksheet!R93),N(Worksheet!S93))","v":0},{"$f":"IFERROR(Worksheet!U93/(Worksheet!R93),0)","v":0},{"$f":"Worksheet!AC93","v":0},{"$f":"Worksheet!AB93","v":0},0,{"$f":"IF(Worksheet!AJ93=0,0,Worksheet!AJ93*10/I74)","v":0},0,null,null,null,{"$f":"IFERROR(Worksheet!V93/(Worksheet!S93),0)","v":0},{"$f":"IF(Worksheet!E93=\"\",\"\",Worksheet!E93)","v":""},{"$f":"IF(Worksheet!B93=\"\",\"\",Worksheet!B93)","v":""},{"$f":"IF(Worksheet!D93=\"\",\"\",Worksheet!D93)","v":""}]
[{"$f":"IF(ISBLANK(Worksheet!F94)=FALSE,VLOOKUP(Worksheet!A94,MeasureCode_Lookup,6,FALSE),\"\")","v":""},{"$f":"Worksheet!H94","v":0},{"$f":"Worksheet!I94","v":0},{"$f":"IFERROR(IF(Worksheet!X94=0,Worksheet!W94/I75,Worksheet!X94/R75),0)","v":0},"W Controlled",null,null,{"$f":"IF(N(Worksheet!S94)=0,N(Worksheet!R94),N(Worksheet!S94))","v":0},{"$f":"IFERROR(Worksheet!U94/(Worksheet!R94),0)","v":0},{"$f":"Worksheet!AC94","v":0},{"$f":"Worksheet!AB94","v":0},0,{"$f":"IF(Worksheet!AJ94=0,0,Worksheet!AJ94*10/I75)","v":0},0,null,null,null,{"$f":"IFERROR(Worksheet!V94/(Worksheet!S94),0)","v":0},{"$f":"IF(Worksheet!E94=\"\",\"\",Worksheet!E94)","v":""},{"$f":"IF(Worksheet!B94=\"\",\"\",Worksheet!B94)","v":""},{"$f":"IF(Worksheet!D94=\"\",\"\",Worksheet!D94)","v":""}]
[{"$f":"IF(ISBLANK(Worksheet!F95)=FALSE,VLOOKUP(Worksheet!A95,MeasureCode_Lookup,6,FALSE),\"\")","v":""},{"$f":"Worksheet!H95","v":0},{"$f":"Worksheet!I95","v":0},{"$f":"IFERROR(IF(Worksheet!X95=0,Worksheet!W95/I76,Worksheet!X95/R76),0)","v":0},"W Controlled",null,null,{"$f":"IF(N(Worksheet!S95)=0,N(Worksheet!R95),N(Worksheet!S95))","v":0},{"$f":"IFERROR(Worksheet!U95/(Worksheet!R95),0)","v":0},{"$f":"Worksheet!AC95","v":0},{"$f":"Worksheet!AB95","v":0},0,{"$f":"IF(Worksheet!AJ95=0,0,Worksheet!AJ95*10/I76)","v":0},0,null,null,null,{"$f":"IFERROR(Worksheet!V95/(Worksheet!S95),0)","v":0},{"$f":"IF(Worksheet!E95=\"\",\"\",Worksheet!E95)","v":""},{"$f":"IF(Worksheet!B95=\"\",\"\",Worksheet!B95)","v":""},{"$f":"IF(Worksheet!D95=\"\",\"\",Worksheet!D95)","v":""}]
[{"$f":"IF(ISBLANK(Worksheet!F96)=FALSE,VLOOKUP(Worksheet!A96,MeasureCode_Lookup,6,FALSE),\"\")","v":""},{"$f":"Worksheet!H96","v":0},{"$f":"Worksheet!I96","v":0},{"$f":"IFERROR(IF(Worksheet!X96=0,Worksheet!W96/I77,Worksheet!X96/R77),0)","v":0},"W Controlled",null,null,{"$f":"IF(N(Worksheet!S96)=0,N(Worksheet!R96),N(Worksheet!S96))","v":0},{"$f":"IFERROR(Worksheet!U96/(Worksheet!R96),0)","v":0},{"$f":"Worksheet!AC96","v":0},{"$f":"Worksheet!AB96","v":0},0,{"$f":"IF(Worksheet!AJ96=0,0,Worksheet!AJ96*10/I77)","v":0},0,null,null,null,{"$f":"IFERROR(Worksheet!V96/(Worksheet!S96),0)","v":0},{"$f":"IF(Worksheet!E96=\"\",\"\",Worksheet!E96)","v":""},{"$f":"IF(Worksheet!B96=\"\",\"\",Worksheet!B96)","v":""},{"$f":"IF(Worksheet!D96=\"\",\"\",Worksheet!D96)","v":""}]
[{"$f":"IF(ISBLANK(Worksheet!F97)=FALSE,VLOOKUP(Worksheet!A97,MeasureCode_Lookup,6,FALSE),\"\")","v":""},{"$f":"Worksheet!H97","v":0},{"$f":"Worksheet!I97","v":0},{"$f":"IFERROR(IF(Worksheet!X97=0,Worksheet!W97/I78,Worksheet!X97/R78),0)","v":0},"W Controlled",null,null,{"$f":"IF(N(Worksheet!S97)=0,N(Worksheet!R97),N(Worksheet!S97))","v":0},{"$f":"IFERROR(Worksheet!U97/(Worksheet!R97),0)","v":0},{"$f":"Worksheet!AC97","v":0},{"$f":"Worksheet!AB97","v":0},0,{"$f":"IF(Worksheet!AJ97=0,0,Worksheet!AJ97*10/I78)","v":0},0,null,null,null,{"$f":"IFERROR(Worksheet!V97/(Worksheet!S97),0)","v":0},{"$f":"IF(Worksheet!E97=\"\",\"\",Worksheet!E97)","v":""},{"$f":"IF(Worksheet!B97=\"\",\"\",Worksheet!B97)","v":""},{"$f":"IF(Worksheet!D97=\"\",\"\",Worksheet!D97)","v":""}]
[{"$f":"IF(ISBLANK(Worksheet!F98)=FALSE,VLOOKUP(Worksheet!A98,MeasureCode_Lookup,6,FALSE),\"\")","v":""},{"$f":"Worksheet!H98","v":0},{"$f":"Worksheet!I98","v":0},{"$f":"IFERROR(IF(Worksheet!X98=0,Worksheet!W98/I79,Worksheet!X98/R79),0)","v":0},"W Controlled",null,null,{"$f":"IF(N(Worksheet!S98)=0,N(Worksheet!R98),N(Worksheet!S98))","v":0},{"$f":"IFERROR(Worksheet!U98/(Worksheet!R98),0)","v":0},{"$f":"Worksheet!AC98","v":0},{"$f":"Worksheet!AB98","v":0},0,{"$f":"IF(Worksheet!AJ98=0,0,Worksheet!AJ98*10/I79)","v":0},0,null,null,null,{"$f":"IFERROR(Worksheet!V98/(Worksheet!S98),0)","v":0},{"$f":"IF(Worksheet!E98=\"\",\"\",Worksheet!E98)","v":""},{"$f":"IF(Worksheet!B98=\"\",\"\",Worksheet!B98)","v":""},{"$f":"IF(Worksheet!D98=\"\",\"\",Worksheet!D98)","v":""}]
[{"$f":"IF(ISBLANK(Worksheet!F99)=FALSE,VLOOKUP(Worksheet!A99,MeasureCode_Lookup,6,FALSE),\"\")","v":""},{"$f":"Worksheet!H99","v":0},{"$f":"Worksheet!I99","v":0},{"$f":"IFERROR(IF(Worksheet!X99=0,Worksheet!W99/I80,Worksheet!X99/R80),0)","v":0},"W Controlled",null,null,{"$f":"IF(N(Worksheet!S99)=0,N(Worksheet!R99),N(Worksheet!S99))","v":0},{"$f":"IFERROR(Worksheet!U99/(Worksheet!R99),0)","v":0},{"$f":"Worksheet!AC99","v":0},{"$f":"Worksheet!AB99","v":0},0,{"$f":"IF(Worksheet!AJ99=0,0,Worksheet!AJ99*10/I80)","v":0},0,null,null,null,{"$f":"IFERROR(Worksheet!V99/(Worksheet!S99),0)","v":0},{"$f":"IF(Worksheet!E99=\"\",\"\",Worksheet!E99)","v":""},{"$f":"IF(Worksheet!B99=\"\",\"\",Worksheet!B99)","v":""},{"$f":"IF(Worksheet!D99=\"\",\"\",Worksheet!D99)","v":""}]
[{"$f":"IF(ISBLANK(Worksheet!F100)=FALSE,VLOOKUP(Worksheet!A100,MeasureCode_Lookup,6,FALSE),\"\")","v":""},{"$f":"Worksheet!H100","v":0},{"$f":"Worksheet!I100","v":0},{"$f":"IFERROR(IF(Worksheet!X100=0,Worksheet!W100/I81,Worksheet!X100/R81),0)","v":0},"W Controlled",null,null,{"$f":"IF(N(Worksheet!S100)=0,N(Worksheet!R100),N(Worksheet!S100))","v":0},{"$f":"IFERROR(Worksheet!U100/(Worksheet!R100),0)","v":0},{"$f":"Worksheet!AC100","v":0},{"$f":"Worksheet!AB100","v":0},0,{"$f":"IF(Worksheet!AJ100=0,0,Worksheet!AJ100*10/I81)","v":0},0,null,null,null,{"$f":"IFERROR(Worksheet!V100/(Worksheet!S100),0)","v":0},{"$f":"IF(Worksheet!E100=\"\",\"\",Worksheet!E100)","v":""},{"$f":"IF(Worksheet!B100=\"\",\"\",Worksheet!B100)","v":""},{"$f":"IF(Worksheet!D100=\"\",\"\",Worksheet!D100)","v":""}]
[{"$f":"IF(ISBLANK(Worksheet!F101)=FALSE,VLOOKUP(Worksheet!A101,MeasureCode_Lookup,6,FALSE),\"\")","v":""},{"$f":"Worksheet!H101","v":0},{"$f":"Worksheet!I101","v":0},{"$f":"IFERROR(IF(Worksheet!X101=0,Worksheet!W101/I82,Worksheet!X101/R82),0)","v":0},"W Controlled",null,null,{"$f":"IF(N(Worksheet!S101)=0,N(Worksheet!R101),N(Worksheet!S101))","v":0},{"$f":"IFERROR(Worksheet!U101/(Worksheet!R101),0)","v":0},{"$f":"Worksheet!AC101","v":0},{"$f":"Worksheet!AB101","v":0},0,{"$f":"IF(Worksheet!AJ101=0,0,Worksheet!AJ101*10/I82)","v":0},0,null,null,null,{"$f":"IFERROR(Worksheet!V101/(Worksheet!S101),0)","v":0},{"$f":"IF(Worksheet!E101=\"\",\"\",Worksheet!E101)","v":""},{"$f":"IF(Worksheet!B101=\"\",\"\",Worksheet!B101)","v":""},{"$f":"IF(Worksheet!D101=\"\",\"\",Worksheet!D101)","v":""}]
[{"$f":"IF(ISBLANK(Worksheet!F102)=FALSE,VLOOKUP(Worksheet!A102,MeasureCode_Lookup,6,FALSE),\"\")","v":""},{"$f":"Worksheet!H102","v":0},{"$f":"Worksheet!I102","v":0},{"$f":"IFERROR(IF(Worksheet!X102=0,Worksheet!W102/I83,Worksheet!X102/R83),0)","v":0},"W Controlled",null,null,{"$f":"IF(N(Worksheet!S102)=0,N(Worksheet!R102),N(Worksheet!S102))","v":0},{"$f":"IFERROR(Worksheet!U102/(Worksheet!R102),0)","v":0},{"$f":"Worksheet!AC102","v":0},{"$f":"Worksheet!AB102","v":0},0,{"$f":"IF(Worksheet!AJ102=0,0,Worksheet!AJ102*10/I83)","v":0},0,null,null,null,{"$f":"IFERROR(Worksheet!V102/(Worksheet!S102),0)","v":0},{"$f":"IF(Worksheet!E102=\"\",\"\",Worksheet!E102)","v":""},{"$f":"IF(Worksheet!B102=\"\",\"\",Worksheet!B102)","v":""},{"$f":"IF(Worksheet!D102=\"\",\"\",Worksheet!D102)","v":""}]
[{"$f":"IF(ISBLANK(Worksheet!F103)=FALSE,VLOOKUP(Worksheet!A103,MeasureCode_Lookup,6,FALSE),\"\")","v":""},{"$f":"Worksheet!H103","v":0},{"$f":"Worksheet!I103","v":0},{"$f":"IFERROR(IF(Worksheet!X103=0,Worksheet!W103/I84,Worksheet!X103/R84),0)","v":0},"W Controlled",null,null,{"$f":"IF(N(Worksheet!S103)=0,N(Worksheet!R103),N(Worksheet!S103))","v":0},{"$f":"IFERROR(Worksheet!U103/(Worksheet!R103),0)","v":0},{"$f":"Worksheet!AC103","v":0},{"$f":"Worksheet!AB103","v":0},0,{"$f":"IF(Worksheet!AJ103=0,0,Worksheet!AJ103*10/I84)","v":0},0,null,null,null,{"$f":"IFERROR(Worksheet!V103/(Worksheet!S103),0)","v":0},{"$f":"IF(Worksheet!E103=\"\",\"\",Worksheet!E103)","v":""},{"$f":"IF(Worksheet!B103=\"\",\"\",Worksheet!B103)","v":""},{"$f":"IF(Worksheet!D103=\"\",\"\",Worksheet!D103)","v":""}]
[{"$f":"IF(ISBLANK(Worksheet!F104)=FALSE,VLOOKUP(Worksheet!A104,MeasureCode_Lookup,6,FALSE),\"\")","v":""},{"$f":"Worksheet!H104","v":0},{"$f":"Worksheet!I104","v":0},{"$f":"IFERROR(IF(Worksheet!X104=0,Worksheet!W104/I85,Worksheet!X104/R85),0)","v":0},"W Controlled",null,null,{"$f":"IF(N(Worksheet!S104)=0,N(Worksheet!R104),N(Worksheet!S104))","v":0},{"$f":"IFERROR(Worksheet!U104/(Worksheet!R104),0)","v":0},{"$f":"Worksheet!AC104","v":0},{"$f":"Worksheet!AB104","v":0},0,{"$f":"IF(Worksheet!AJ104=0,0,Worksheet!AJ104*10/I85)","v":0},0,null,null,null,{"$f":"IFERROR(Worksheet!V104/(Worksheet!S104),0)","v":0},{"$f":"IF(Worksheet!E104=\"\",\"\",Worksheet!E104)","v":""},{"$f":"IF(Worksheet!B104=\"\",\"\",Worksheet!B104)","v":""},{"$f":"IF(Worksheet!D104=\"\",\"\",Worksheet!D104)","v":""}]
[{"$f":"IF(ISBLANK(Worksheet!F105)=FALSE,VLOOKUP(Worksheet!A105,MeasureCode_Lookup,6,FALSE),\"\")","v":""},{"$f":"Worksheet!H105","v":0},{"$f":"Worksheet!I105","v":0},{"$f":"IFERROR(IF(Worksheet!X105=0,Worksheet!W105/I86,Worksheet!X105/R86),0)","v":0},"W Controlled",null,null,{"$f":"IF(N(Worksheet!S105)=0,N(Worksheet!R105),N(Worksheet!S105))","v":0},{"$f":"IFERROR(Worksheet!U105/(Worksheet!R105),0)","v":0},{"$f":"Worksheet!AC105","v":0},{"$f":"Worksheet!AB105","v":0},0,{"$f":"IF(Worksheet!AJ105=0,0,Worksheet!AJ105*10/I86)","v":0},0,null,null,null,{"$f":"IFERROR(Worksheet!V105/(Worksheet!S105),0)","v":0},{"$f":"IF(Worksheet!E105=\"\",\"\",Worksheet!E105)","v":""},{"$f":"IF(Worksheet!B105=\"\",\"\",Worksheet!B105)","v":""},{"$f":"IF(Worksheet!D105=\"\",\"\",Worksheet!D105)","v":""}]
[{"$f":"IF(ISBLANK(Worksheet!F106)=FALSE,VLOOKUP(Worksheet!A106,MeasureCode_Lookup,6,FALSE),\"\")","v":""},{"$f":"Worksheet!H106","v":0},{"$f":"Worksheet!I106","v":0},{"$f":"IFERROR(IF(Worksheet!X106=0,Worksheet!W106/I87,Worksheet!X106/R87),0)","v":0},"W Controlled",null,null,{"$f":"IF(N(Worksheet!S106)=0,N(Worksheet!R106),N(Worksheet!S106))","v":0},{"$f":"IFERROR(Worksheet!U106/(Worksheet!R106),0)","v":0},{"$f":"Worksheet!AC106","v":0},{"$f":"Worksheet!AB106","v":0},0,{"$f":"IF(Worksheet!AJ106=0,0,Worksheet!AJ106*10/I87)","v":0},0,null,null,null,{"$f":"IFERROR(Worksheet!V106/(Worksheet!S106),0)","v":0},{"$f":"IF(Worksheet!E106=\"\",\"\",Worksheet!E106)","v":""},{"$f":"IF(Worksheet!B106=\"\",\"\",Worksheet!B106)","v":""},{"$f":"IF(Worksheet!D106=\"\",\"\",Worksheet!D106)","v":""}]
[{"$f":"IF(ISBLANK(Worksheet!F107)=FALSE,VLOOKUP(Worksheet!A107,MeasureCode_Lookup,6,FALSE),\"\")","v":""},{"$f":"Worksheet!H107","v":0},{"$f":"Worksheet!I107","v":0},{"$f":"IFERROR(IF(Worksheet!X107=0,Worksheet!W107/I88,Worksheet!X107/R88),0)","v":0},"W Controlled",null,null,{"$f":"IF(N(Worksheet!S107)=0,N(Worksheet!R107),N(Worksheet!S107))","v":0},{"$f":"IFERROR(Worksheet!U107/(Worksheet!R107),0)","v":0},{"$f":"Worksheet!AC107","v":0},{"$f":"Worksheet!AB107","v":0},0,{"$f":"IF(Worksheet!AJ107=0,0,Worksheet!AJ107*10/I88)","v":0},0,null,null,null,{"$f":"IFERROR(Worksheet!V107/(Worksheet!S107),0)","v":0},{"$f":"IF(Worksheet!E107=\"\",\"\",Worksheet!E107)","v":""},{"$f":"IF(Worksheet!B107=\"\",\"\",Worksheet!B107)","v":""},{"$f":"IF(Worksheet!D107=\"\",\"\",Worksheet!D107)","v":""}]
[{"$f":"IF(ISBLANK(Worksheet!F108)=FALSE,VLOOKUP(Worksheet!A108,MeasureCode_Lookup,6,FALSE),\"\")","v":""},{"$f":"Worksheet!H108","v":0},{"$f":"Worksheet!I108","v":0},{"$f":"IFERROR(IF(Worksheet!X108=0,Worksheet!W108/I89,Worksheet!X108/R89),0)","v":0},"W Controlled",null,null,{"$f":"IF(N(Worksheet!S108)=0,N(Worksheet!R108),N(Worksheet!S108))","v":0},{"$f":"IFERROR(Worksheet!U108/(Worksheet!R108),0)","v":0},{"$f":"Worksheet!AC108","v":0},{"$f":"Worksheet!AB108","v":0},0,{"$f":"IF(Worksheet!AJ108=0,0,Worksheet!AJ108*10/I89)","v":0},0,null,null,null,{"$f":"IFERROR(Worksheet!V108/(Worksheet!S108),0)","v":0},{"$f":"IF(Worksheet!E108=\"\",\"\",Worksheet!E108)","v":""},{"$f":"IF(Worksheet!B108=\"\",\"\",Worksheet!B108)","v":""},{"$f":"IF(Worksheet!D108=\"\",\"\",Worksheet!D108)","v":""}]
[{"$f":"IF(ISBLANK(Worksheet!F109)=FALSE,VLOOKUP(Worksheet!A109,MeasureCode_Lookup,6,FALSE),\"\")","v":""},{"$f":"Worksheet!H109","v":0},{"$f":"Worksheet!I109","v":0},{"$f":"IFERROR(IF(Worksheet!X109=0,Worksheet!W109/I90,Worksheet!X109/R90),0)","v":0},"W Controlled",null,null,{"$f":"IF(N(Worksheet!S109)=0,N(Worksheet!R109),N(Worksheet!S109))","v":0},{"$f":"IFERROR(Worksheet!U109/(Worksheet!R109),0)","v":0},{"$f":"Worksheet!AC109","v":0},{"$f":"Worksheet!AB109","v":0},0,{"$f":"IF(Worksheet!AJ109=0,0,Worksheet!AJ109*10/I90)","v":0},0,null,null,null,{"$f":"IFERROR(Worksheet!V109/(Worksheet!S109),0)","v":0},{"$f":"IF(Worksheet!E109=\"\",\"\",Worksheet!E109)","v":""},{"$f":"IF(Worksheet!B109=\"\",\"\",Worksheet!B109)","v":""},{"$f":"IF(Worksheet!D109=\"\",\"\",Worksheet!D109)","v":""}]
[{"$f":"IF(ISBLANK(Worksheet!F110)=FALSE,VLOOKUP(Worksheet!A110,MeasureCode_Lookup,6,FALSE),\"\")","v":""},{"$f":"Worksheet!H110","v":0},{"$f":"Worksheet!I110","v":0},{"$f":"IFERROR(IF(Worksheet!X110=0,Worksheet!W110/I91,Worksheet!X110/R91),0)","v":0},"W Controlled",null,null,{"$f":"IF(N(Worksheet!S110)=0,N(Worksheet!R110),N(Worksheet!S110))","v":0},{"$f":"IFERROR(Worksheet!U110/(Worksheet!R110),0)","v":0},{"$f":"Worksheet!AC110","v":0},{"$f":"Worksheet!AB110","v":0},0,{"$f":"IF(Worksheet!AJ110=0,0,Worksheet!AJ110*10/I91)","v":0},0,null,null,null,{"$f":"IFERROR(Worksheet!V110/(Worksheet!S110),0)","v":0},{"$f":"IF(Worksheet!E110=\"\",\"\",Worksheet!E110)","v":""},{"$f":"IF(Worksheet!B110=\"\",\"\",Worksheet!B110)","v":""},{"$f":"IF(Worksheet!D110=\"\",\"\",Worksheet!D110)","v":""}]
[{"$f":"IF(ISBLANK(Worksheet!F111)=FALSE,VLOOKUP(Worksheet!A111,MeasureCode_Lookup,6,FALSE),\"\")","v":""},{"$f":"Worksheet!H111","v":0},{"$f":"Worksheet!I111","v":0},{"$f":"IFERROR(IF(Worksheet!X111=0,Worksheet!W111/I92,Worksheet!X111/R92),0)","v":0},"W Controlled",null,null,{"$f":"IF(N(Worksheet!S111)=0,N(Worksheet!R111),N(Worksheet!S111))","v":0},{"$f":"IFERROR(Worksheet!U111/(Worksheet!R111),0)","v":0},{"$f":"Worksheet!AC111","v":0},{"$f":"Worksheet!AB111","v":0},0,{"$f":"IF(Worksheet!AJ111=0,0,Worksheet!AJ111*10/I92)","v":0},0,null,null,null,{"$f":"IFERROR(Worksheet!V111/(Worksheet!S111),0)","v":0},{"$f":"IF(Worksheet!E111=\"\",\"\",Worksheet!E111)","v":""},{"$f":"IF(Worksheet!B111=\"\",\"\",Worksheet!B111)","v":""},{"$f":"IF(Worksheet!D111=\"\",\"\",Worksheet!D111)","v":""}]
[{"$f":"IF(ISBLANK(Worksheet!F112)=FALSE,VLOOKUP(Worksheet!A112,MeasureCode_Lookup,6,FALSE),\"\")","v":""},{"$f":"Worksheet!H112","v":0},{"$f":"Worksheet!I112","v":0},{"$f":"IFERROR(IF(Worksheet!X112=0,Worksheet!W112/I93,Worksheet!X112/R93),0)","v":0},"W Controlled",null,null,{"$f":"IF(N(Worksheet!S112)=0,N(Worksheet!R112),N(Worksheet!S112))","v":0},{"$f":"IFERROR(Worksheet!U112/(Worksheet!R112),0)","v":0},{"$f":"Worksheet!AC112","v":0},{"$f":"Worksheet!AB112","v":0},0,{"$f":"IF(Worksheet!AJ112=0,0,Worksheet!AJ112*10/I93)","v":0},0,null,null,null,{"$f":"IFERROR(Worksheet!V112/(Worksheet!S112),0)","v":0},{"$f":"IF(Worksheet!E112=\"\",\"\",Worksheet!E112)","v":""},{"$f":"IF(Worksheet!B112=\"\",\"\",Worksheet!B112)","v":""},{"$f":"IF(Worksheet!D112=\"\",\"\",Worksheet!D112)","v":""}]
[{"$f":"IF(ISBLANK(Worksheet!F113)=FALSE,VLOOKUP(Worksheet!A113,MeasureCode_Lookup,6,FALSE),\"\")","v":""},{"$f":"Worksheet!H113","v":0},{"$f":"Worksheet!I113","v":0},{"$f":"IFERROR(IF(Worksheet!X113=0,Worksheet!W113/I94,Worksheet!X113/R94),0)","v":0},"W Controlled",null,null,{"$f":"IF(N(Worksheet!S113)=0,N(Worksheet!R113),N(Worksheet!S113))","v":0},{"$f":"IFERROR(Worksheet!U113/(Worksheet!R113),0)","v":0},{"$f":"Worksheet!AC113","v":0},{"$f":"Worksheet!AB113","v":0},0,{"$f":"IF(Worksheet!AJ113=0,0,Worksheet!AJ113*10/I94)","v":0},0,null,null,null,{"$f":"IFERROR(Worksheet!V113/(Worksheet!S113),0)","v":0},{"$f":"IF(Worksheet!E113=\"\",\"\",Worksheet!E113)","v":""},{"$f":"IF(Worksheet!B113=\"\",\"\",Worksheet!B113)","v":""},{"$f":"IF(Worksheet!D113=\"\",\"\",Worksheet!D113)","v":""}]
[{"$f":"IF(ISBLANK(Worksheet!F114)=FALSE,VLOOKUP(Worksheet!A114,MeasureCode_Lookup,6,FALSE),\"\")","v":""},{"$f":"Worksheet!H114","v":0},{"$f":"Worksheet!I114","v":0},{"$f":"IFERROR(IF(Worksheet!X114=0,Worksheet!W114/I95,Worksheet!X114/R95),0)","v":0},"W Controlled",null,null,{"$f":"IF(N(Worksheet!S114)=0,N(Worksheet!R114),N(Worksheet!S114))","v":0},{"$f":"IFERROR(Worksheet!U114/(Worksheet!R114),0)","v":0},{"$f":"Worksheet!AC114","v":0},{"$f":"Worksheet!AB114","v":0},0,{"$f":"IF(Worksheet!AJ114=0,0,Worksheet!AJ114*10/I95)","v":0},0,null,null,null,{"$f":"IFERROR(Worksheet!V114/(Worksheet!S114),0)","v":0},{"$f":"IF(Worksheet!E114=\"\",\"\",Worksheet!E114)","v":""},{"$f":"IF(Worksheet!B114=\"\",\"\",Worksheet!B114)","v":""},{"$f":"IF(Worksheet!D114=\"\",\"\",Worksheet!D114)","v":""}]
[{"$f":"IF(ISBLANK(Worksheet!F115)=FALSE,VLOOKUP(Worksheet!A115,MeasureCode_Lookup,6,FALSE),\"\")","v":""},{"$f":"Worksheet!H115","v":0},{"$f":"Worksheet!I115","v":0},{"$f":"IFERROR(IF(Worksheet!X115=0,Worksheet!W115/I96,Worksheet!X115/R96),0)","v":0},"W Controlled",null,null,{"$f":"IF(N(Worksheet!S115)=0,N(Worksheet!R115),N(Worksheet!S115))","v":0},{"$f":"IFERROR(Worksheet!U115/(Worksheet!R115),0)","v":0},{"$f":"Worksheet!AC115","v":0},{"$f":"Worksheet!AB115","v":0},0,{"$f":"IF(Worksheet!AJ115=0,0,Worksheet!AJ115*10/I96)","v":0},0,null,null,null,{"$f":"IFERROR(Worksheet!V115/(Worksheet!S115),0)","v":0},{"$f":"IF(Worksheet!E115=\"\",\"\",Worksheet!E115)","v":""},{"$f":"IF(Worksheet!B115=\"\",\"\",Worksheet!B115)","v":""},{"$f":"IF(Worksheet!D115=\"\",\"\",Worksheet!D115)","v":""}]
[{"$f":"IF(ISBLANK(Worksheet!F116)=FALSE,VLOOKUP(Worksheet!A116,MeasureCode_Lookup,6,FALSE),\"\")","v":""},{"$f":"Worksheet!H116","v":0},{"$f":"Worksheet!I116","v":0},{"$f":"IFERROR(IF(Worksheet!X116=0,Worksheet!W116/I97,Worksheet!X116/R97),0)","v":0},"W Controlled",null,null,{"$f":"IF(N(Worksheet!S116)=0,N(Worksheet!R116),N(Worksheet!S116))","v":0},{"$f":"IFERROR(Worksheet!U116/(Worksheet!R116),0)","v":0},{"$f":"Worksheet!AC116","v":0},{"$f":"Worksheet!AB116","v":0},0,{"$f":"IF(Worksheet!AJ116=0,0,Worksheet!AJ116*10/I97)","v":0},0,null,null,null,{"$f":"IFERROR(Worksheet!V116/(Worksheet!S116),0)","v":0},{"$f":"IF(Worksheet!E116=\"\",\"\",Worksheet!E116)","v":""},{"$f":"IF(Worksheet!B116=\"\",\"\",Worksheet!B116)","v":""},{"$f":"IF(Worksheet!D116=\"\",\"\",Worksheet!D116)","v":""}]
[{"$f":"IF(ISBLANK(Worksheet!F117)=FALSE,VLOOKUP(Worksheet!A117,MeasureCode_Lookup,6,FALSE),\"\")","v":""},{"$f":"Worksheet!H117","v":0},{"$f":"Worksheet!I117","v":0},{"$f":"IFERROR(IF(Worksheet!X117=0,Worksheet!W117/I98,Worksheet!X117/R98),0)","v":0},"W Controlled",null,null,{"$f":"IF(N(Worksheet!S117)=0,N(Worksheet!R117),N(Worksheet!S117))","v":0},{"$f":"IFERROR(Worksheet!U117/(Worksheet!R117),0)","v":0},{"$f":"Worksheet!AC117","v":0},{"$f":"Worksheet!AB117","v":0},0,{"$f":"IF(Worksheet!AJ117=0,0,Worksheet!AJ117*10/I98)","v":0},0,null,null,null,{"$f":"IFERROR(Worksheet!V117/(Worksheet!S117),0)","v":0},{"$f":"IF(Worksheet!E117=\"\",\"\",Worksheet!E117)","v":""},{"$f":"IF(Worksheet!B117=\"\",\"\",Worksheet!B117)","v":""},{"$f":"IF(Worksheet!D117=\"\",\"\",Worksheet!D117)","v":""}]
[{"$f":"IF(ISBLANK(Worksheet!F118)=FALSE,VLOOKUP(Worksheet!A118,MeasureCode_Lookup,6,FALSE),\"\")","v":""},{"$f":"Worksheet!H118","v":0},{"$f":"Worksheet!I118","v":0},{"$f":"IFERROR(IF(Worksheet!X118=0,Worksheet!W118/I99,Worksheet!X118/R99),0)","v":0},"W Controlled",null,null,{"$f":"IF(N(Worksheet!S118)=0,N(Worksheet!R118),N(Worksheet!S118))","v":0},{"$f":"IFERROR(Worksheet!U118/(Worksheet!R118),0)","v":0},{"$f":"Worksheet!AC118","v":0},{"$f":"Worksheet!AB118","v":0},0,{"$f":"IF(Worksheet!AJ118=0,0,Worksheet!AJ118*10/I99)","v":0},0,null,null,null,{"$f":"IFERROR(Worksheet!V118/(Worksheet!S118),0)","v":0},{"$f":"IF(Worksheet!E118=\"\",\"\",Worksheet!E118)","v":""},{"$f":"IF(Worksheet!B118=\"\",\"\",Worksheet!B118)","v":""},{"$f":"IF(Worksheet!D118=\"\",\"\",Worksheet!D118)","v":""}]
[{"$f":"IF(ISBLANK(Worksheet!F119)=FALSE,VLOOKUP(Worksheet!A119,MeasureCode_Lookup,6,FALSE),\"\")","v":""},{"$f":"Worksheet!H119","v":0},{"$f":"Worksheet!I119","v":0},{"$f":"IFERROR(IF(Worksheet!X119=0,Worksheet!W119/I100,Worksheet!X119/R100),0)","v":0},"W Controlled",null,null,{"$f":"IF(N(Worksheet!S119)=0,N(Worksheet!R119),N(Worksheet!S119))","v":0},{"$f":"IFERROR(Worksheet!U119/(Worksheet!R119),0)","v":0},{"$f":"Worksheet!AC119","v":0},{"$f":"Worksheet!AB119","v":0},0,{"$f":"IF(Worksheet!AJ119=0,0,Worksheet!AJ119*10/I100)","v":0},0,null,null,null,{"$f":"IFERROR(Worksheet!V119/(Worksheet!S119),0)","v":0},{"$f":"IF(Worksheet!E119=\"\",\"\",Worksheet!E119)","v":""},{"$f":"IF(Worksheet!B119=\"\",\"\",Worksheet!B119)","v":""},{"$f":"IF(Worksheet!D119=\"\",\"\",Worksheet!D119)","v":""}]
[{"$f":"IF(ISBLANK(Worksheet!F120)=FALSE,VLOOKUP(Worksheet!A120,MeasureCode_Lookup,6,FALSE),\"\")","v":""},{"$f":"Worksheet!H120","v":0},{"$f":"Worksheet!I120","v":0},{"$f":"IFERROR(IF(Worksheet!X120=0,Worksheet!W120/I101,Worksheet!X120/R101),0)","v":0},"W Controlled",null,null,{"$f":"IF(N(Worksheet!S120)=0,N(Worksheet!R120),N(Worksheet!S120))","v":0},{"$f":"IFERROR(Worksheet!U120/(Worksheet!R120),0)","v":0},{"$f":"Worksheet!AC120","v":0},{"$f":"Worksheet!AB120","v":0},0,{"$f":"IF(Worksheet!AJ120=0,0,Worksheet!AJ120*10/I101)","v":0},0,null,null,null,{"$f":"IFERROR(Worksheet!V120/(Worksheet!S120),0)","v":0},{"$f":"IF(Worksheet!E120=\"\",\"\",Worksheet!E120)","v":""},{"$f":"IF(Worksheet!B120=\"\",\"\",Worksheet!B120)","v":""},{"$f":"IF(Worksheet!D120=\"\",\"\",Worksheet!D120)","v":""}]
[{"$f":"IF(ISBLANK(Worksheet!F121)=FALSE,VLOOKUP(Worksheet!A121,MeasureCode_Lookup,6,FALSE),\"\")","v":""},{"$f":"Worksheet!H121","v":0},{"$f":"Worksheet!I121","v":0},{"$f":"IFERROR(IF(Worksheet!X121=0,Worksheet!W121/I102,Worksheet!X121/R102),0)","v":0},"W Controlled",null,null,{"$f":"IF(N(Worksheet!S121)=0,N(Worksheet!R121),N(Worksheet!S121))","v":0},{"$f":"IFERROR(Worksheet!U121/(Worksheet!R121),0)","v":0},{"$f":"Worksheet!AC121","v":0},{"$f":"Worksheet!AB121","v":0},0,{"$f":"IF(Worksheet!AJ121=0,0,Worksheet!AJ121*10/I102)","v":0},0,null,null,null,{"$f":"IFERROR(Worksheet!V121/(Worksheet!S121),0)","v":0},{"$f":"IF(Worksheet!E121=\"\",\"\",Worksheet!E121)","v":""},{"$f":"IF(Worksheet!B121=\"\",\"\",Worksheet!B121)","v":""},{"$f":"IF(Worksheet!D121=\"\",\"\",Worksheet!D121)","v":""}]
[{"$f":"IF(ISBLANK(Worksheet!F122)=FALSE,VLOOKUP(Worksheet!A122,MeasureCode_Lookup,6,FALSE),\"\")","v":""},{"$f":"Worksheet!H122","v":0},{"$f":"Worksheet!I122","v":0},{"$f":"IFERROR(IF(Worksheet!X122=0,Worksheet!W122/I103,Worksheet!X122/R103),0)","v":0},"W Controlled",null,null,{"$f":"IF(N(Worksheet!S122)=0,N(Worksheet!R122),N(Worksheet!S122))","v":0},{"$f":"IFERROR(Worksheet!U122/(Worksheet!R122),0)","v":0},{"$f":"Worksheet!AC122","v":0},{"$f":"Worksheet!AB122","v":0},0,{"$f":"IF(Worksheet!AJ122=0,0,Worksheet!AJ122*10/I103)","v":0},0,null,null,null,{"$f":"IFERROR(Worksheet!V122/(Worksheet!S122),0)","v":0},{"$f":"IF(Worksheet!E122=\"\",\"\",Worksheet!E122)","v":""},{"$f":"IF(Worksheet!B122=\"\",\"\",Worksheet!B122)","v":""},{"$f":"IF(Worksheet!D122=\"\",\"\",Worksheet!D122)","v":""}]
[{"$f":"IF(ISBLANK(Worksheet!F123)=FALSE,VLOOKUP(Worksheet!A123,MeasureCode_Lookup,6,FALSE),\"\")","v":""},{"$f":"Worksheet!H123","v":0},{"$f":"Worksheet!I123","v":0},{"$f":"IFERROR(IF(Worksheet!X123=0,Worksheet!W123/I104,Worksheet!X123/R104),0)","v":0},"W Controlled",null,null,{"$f":"IF(N(Worksheet!S123)=0,N(Worksheet!R123),N(Worksheet!S123))","v":0},{"$f":"IFERROR(Worksheet!U123/(Worksheet!R123),0)","v":0},{"$f":"Worksheet!AC123","v":0},{"$f":"Worksheet!AB123","v":0},0,{"$f":"IF(Worksheet!AJ123=0,0,Worksheet!AJ123*10/I104)","v":0},0,null,null,null,{"$f":"IFERROR(Worksheet!V123/(Worksheet!S123),0)","v":0},{"$f":"IF(Worksheet!E123=\"\",\"\",Worksheet!E123)","v":""},{"$f":"IF(Worksheet!B123=\"\",\"\",Worksheet!B123)","v":""},{"$f":"IF(Worksheet!D123=\"\",\"\",Worksheet!D123)","v":""}]
[{"$f":"IF(ISBLANK(Worksheet!F124)=FALSE,VLOOKUP(Worksheet!A124,MeasureCode_Lookup,6,FALSE),\"\")","v":""},{"$f":"Worksheet!H124","v":0},{"$f":"Worksheet!I124","v":0},{"$f":"IFERROR(IF(Worksheet!X124=0,Worksheet!W124/I105,Worksheet!X124/R105),0)","v":0},"W Controlled",null,null,{"$f":"IF(N(Worksheet!S124)=0,N(Worksheet!R124),N(Worksheet!S124))","v":0},{"$f":"IFERROR(Worksheet!U124/(Worksheet!R124),0)","v":0},{"$f":"Worksheet!AC124","v":0},{"$f":"Worksheet!AB124","v":0},0,{"$f":"IF(Worksheet!AJ124=0,0,Worksheet!AJ124*10/I105)","v":0},0,null,null,null,{"$f":"IFERROR(Worksheet!V124/(Worksheet!S124),0)","v":0},{"$f":"IF(Worksheet!E124=\"\",\"\",Worksheet!E124)","v":""},{"$f":"IF(Worksheet!B124=\"\",\"\",Worksheet!B124)","v":""},{"$f":"IF(Worksheet!D124=\"\",\"\",Worksheet!D124)","v":""}]
[{"$f":"IF(ISBLANK(Worksheet!F125)=FALSE,VLOOKUP(Worksheet!A125,MeasureCode_Lookup,6,FALSE),\"\")","v":""},{"$f":"Worksheet!H125","v":0},{"$f":"Worksheet!I125","v":0},{"$f":"IFERROR(IF(Worksheet!X125=0,Worksheet!W125/I106,Worksheet!X125/R106),0)","v":0},"W Controlled",null,null,{"$f":"IF(N(Worksheet!S125)=0,N(Worksheet!R125),N(Worksheet!S125))","v":0},{"$f":"IFERROR(Worksheet!U125/(Worksheet!R125),0)","v":0},{"$f":"Worksheet!AC125","v":0},{"$f":"Worksheet!AB125","v":0},0,{"$f":"IF(Worksheet!AJ125=0,0,Worksheet!AJ125*10/I106)","v":0},0,null,null,null,{"$f":"IFERROR(Worksheet!V125/(Worksheet!S125),0)","v":0},{"$f":"IF(Worksheet!E125=\"\",\"\",Worksheet!E125)","v":""},{"$f":"IF(Worksheet!B125=\"\",\"\",Worksheet!B125)","v":""},{"$f":"IF(Worksheet!D125=\"\",\"\",Worksheet!D125)","v":""}]
[{"$f":"IF(ISBLANK(Worksheet!F126)=FALSE,VLOOKUP(Worksheet!A126,MeasureCode_Lookup,6,FALSE),\"\")","v":""},{"$f":"Worksheet!H126","v":0},{"$f":"Worksheet!I126","v":0},{"$f":"IFERROR(IF(Worksheet!X126=0,Worksheet!W126/I107,Worksheet!X126/R107),0)","v":0},"W Controlled",null,null,{"$f":"IF(N(Worksheet!S126)=0,N(Worksheet!R126),N(Worksheet!S126))","v":0},{"$f":"IFERROR(Worksheet!U126/(Worksheet!R126),0)","v":0},{"$f":"Worksheet!AC126","v":0},{"$f":"Worksheet!AB126","v":0},0,{"$f":"IF(Worksheet!AJ126=0,0,Worksheet!AJ126*10/I107)","v":0},0,null,null,null,{"$f":"IFERROR(Worksheet!V126/(Worksheet!S126),0)","v":0},{"$f":"IF(Worksheet!E126=\"\",\"\",Worksheet!E126)","v":""},{"$f":"IF(Worksheet!B126=\"\",\"\",Worksheet!B126)","v":""},{"$f":"IF(Worksheet!D126=\"\",\"\",Worksheet!D126)","v":""}]
[{"$f":"IF(ISBLANK(Worksheet!F127)=FALSE,VLOOKUP(Worksheet!A127,MeasureCode_Lookup,6,FALSE),\"\")","v":""},{"$f":"Worksheet!H127","v":0},{"$f":"Worksheet!I127","v":0},{"$f":"IFERROR(IF(Worksheet!X127=0,Worksheet!W127/I108,Worksheet!X127/R108),0)","v":0},"W Controlled",null,null,{"$f":"IF(N(Worksheet!S127)=0,N(Worksheet!R127),N(Worksheet!S127))","v":0},{"$f":"IFERROR(Worksheet!U127/(Worksheet!R127),0)","v":0},{"$f":"Worksheet!AC127","v":0},{"$f":"Worksheet!AB127","v":0},0,{"$f":"IF(Worksheet!AJ127=0,0,Worksheet!AJ127*10/I108)","v":0},0,null,null,null,{"$f":"IFERROR(Worksheet!V127/(Worksheet!S127),0)","v":0},{"$f":"IF(Worksheet!E127=\"\",\"\",Worksheet!E127)","v":""},{"$f":"IF(Worksheet!B127=\"\",\"\",Worksheet!B127)","v":""},{"$f":"IF(Worksheet!D127=\"\",\"\",Worksheet!D127)","v":""}]
[{"$f":"IF(ISBLANK(Worksheet!F128)=FALSE,VLOOKUP(Worksheet!A128,MeasureCode_Lookup,6,FALSE),\"\")","v":""},{"$f":"Worksheet!H128","v":0},{"$f":"Worksheet!I128","v":0},{"$f":"IFERROR(IF(Worksheet!X128=0,Worksheet!W128/I109,Worksheet!X128/R109),0)","v":0},"W Controlled",null,null,{"$f":"IF(N(Worksheet!S128)=0,N(Worksheet!R128),N(Worksheet!S128))","v":0},{"$f":"IFERROR(Worksheet!U128/(Worksheet!R128),0)","v":0},{"$f":"Worksheet!AC128","v":0},{"$f":"Worksheet!AB128","v":0},0,{"$f":"IF(Worksheet!AJ128=0,0,Worksheet!AJ128*10/I109)","v":0},0,null,null,null,{"$f":"IFERROR(Worksheet!V128/(Worksheet!S128),0)","v":0},{"$f":"IF(Worksheet!E128=\"\",\"\",Worksheet!E128)","v":""},{"$f":"IF(Worksheet!B128=\"\",\"\",Worksheet!B128)","v":""},{"$f":"IF(Worksheet!D128=\"\",\"\",Worksheet!D128)","v":""}]
[{"$f":"IF(ISBLANK(Worksheet!F129)=FALSE,VLOOKUP(Worksheet!A129,MeasureCode_Lookup,6,FALSE),\"\")","v":""},{"$f":"Worksheet!H129","v":0},{"$f":"Worksheet!I129","v":0},{"$f":"IFERROR(IF(Worksheet!X129=0,Worksheet!W129/I110,Worksheet!X129/R110),0)","v":0},"W Controlled",null,null,{"$f":"IF(N(Worksheet!S129)=0,N(Worksheet!R129),N(Worksheet!S129))","v":0},{"$f":"IFERROR(Worksheet!U129/(Worksheet!R129),0)","v":0},{"$f":"Worksheet!AC129","v":0},{"$f":"Worksheet!AB129","v":0},0,{"$f":"IF(Worksheet!AJ129=0,0,Worksheet!AJ129*10/I110)","v":0},0,null,null,null,{"$f":"IFERROR(Worksheet!V129/(Worksheet!S129),0)","v":0},{"$f":"IF(Worksheet!E129=\"\",\"\",Worksheet!E129)","v":""},{"$f":"IF(Worksheet!B129=\"\",\"\",Worksheet!B129)","v":""},{"$f":"IF(Worksheet!D129=\"\",\"\",Worksheet!D129)","v":""}]
[{"$f":"IF(ISBLANK(Worksheet!F130)=FALSE,VLOOKUP(Worksheet!A130,MeasureCode_Lookup,6,FALSE),\"\")","v":""},{"$f":"Worksheet!H130","v":0},{"$f":"Worksheet!I130","v":0},{"$f":"IFERROR(IF(Worksheet!X130=0,Worksheet!W130/I111,Worksheet!X130/R111),0)","v":0},"W Controlled",null,null,{"$f":"IF(N(Worksheet!S130)=0,N(Worksheet!R130),N(Worksheet!S130))","v":0},{"$f":"IFERROR(Worksheet!U130/(Worksheet!R130),0)","v":0},{"$f":"Worksheet!AC130","v":0},{"$f":"Worksheet!AB130","v":0},0,{"$f":"IF(Worksheet!AJ130=0,0,Worksheet!AJ130*10/I111)","v":0},0,null,null,null,{"$f":"IFERROR(Worksheet!V130/(Worksheet!S130),0)","v":0},{"$f":"IF(Worksheet!E130=\"\",\"\",Worksheet!E130)","v":""},{"$f":"IF(Worksheet!B130=\"\",\"\",Worksheet!B130)","v":""},{"$f":"IF(Worksheet!D130=\"\",\"\",Worksheet!D130)","v":""}]
[{"$f":"IF(ISBLANK(Worksheet!F131)=FALSE,VLOOKUP(Worksheet!A131,MeasureCode_Lookup,6,FALSE),\"\")","v":""},{"$f":"Worksheet!H131","v":0},{"$f":"Worksheet!I131","v":0},{"$f":"IFERROR(IF(Worksheet!X131=0,Worksheet!W131/I112,Worksheet!X131/R112),0)","v":0},"W Controlled",null,null,{"$f":"IF(N(Worksheet!S131)=0,N(Worksheet!R131),N(Worksheet!S131))","v":0},{"$f":"IFERROR(Worksheet!U131/(Worksheet!R131),0)","v":0},{"$f":"Worksheet!AC131","v":0},{"$f":"Worksheet!AB131","v":0},0,{"$f":"IF(Worksheet!AJ131=0,0,Worksheet!AJ131*10/I112)","v":0},0,null,null,null,{"$f":"IFERROR(Worksheet!V131/(Worksheet!S131),0)","v":0},{"$f":"IF(Worksheet!E131=\"\",\"\",Worksheet!E131)","v":""},{"$f":"IF(Worksheet!B131=\"\",\"\",Worksheet!B131)","v":""},{"$f":"IF(Worksheet!D131=\"\",\"\",Worksheet!D131)","v":""}]
[{"$f":"IF(ISBLANK(Worksheet!F132)=FALSE,VLOOKUP(Worksheet!A132,MeasureCode_Lookup,6,FALSE),\"\")","v":""},{"$f":"Worksheet!H132","v":0},{"$f":"Worksheet!I132","v":0},{"$f":"IFERROR(IF(Worksheet!X132=0,Worksheet!W132/I113,Worksheet!X132/R113),0)","v":0},"W Controlled",null,null,{"$f":"IF(N(Worksheet!S132)=0,N(Worksheet!R132),N(Worksheet!S132))","v":0},{"$f":"IFERROR(Worksheet!U132/(Worksheet!R132),0)","v":0},{"$f":"Worksheet!AC132","v":0},{"$f":"Worksheet!AB132","v":0},0,{"$f":"IF(Worksheet!AJ132=0,0,Worksheet!AJ132*10/I113)","v":0},0,null,null,null,{"$f":"IFERROR(Worksheet!V132/(Worksheet!S132),0)","v":0},{"$f":"IF(Worksheet!E132=\"\",\"\",Worksheet!E132)","v":""},{"$f":"IF(Worksheet!B132=\"\",\"\",Worksheet!B132)","v":""},{"$f":"IF(Worksheet!D132=\"\",\"\",Worksheet!D132)","v":""}]
[{"$f":"IF(ISBLANK(Worksheet!F133)=FALSE,VLOOKUP(Worksheet!A133,MeasureCode_Lookup,6,FALSE),\"\")","v":""},{"$f":"Worksheet!H133","v":0},{"$f":"Worksheet!I133","v":0},{"$f":"IFERROR(IF(Worksheet!X133=0,Worksheet!W133/I114,Worksheet!X133/R114),0)","v":0},"W Controlled",null,null,{"$f":"IF(N(Worksheet!S133)=0,N(Worksheet!R133),N(Worksheet!S133))","v":0},{"$f":"IFERROR(Worksheet!U133/(Worksheet!R133),0)","v":0},{"$f":"Worksheet!AC133","v":0},{"$f":"Worksheet!AB133","v":0},0,{"$f":"IF(Worksheet!AJ133=0,0,Worksheet!AJ133*10/I114)","v":0},0,null,null,null,{"$f":"IFERROR(Worksheet!V133/(Worksheet!S133),0)","v":0},{"$f":"IF(Worksheet!E133=\"\",\"\",Worksheet!E133)","v":""},{"$f":"IF(Worksheet!B133=\"\",\"\",Worksheet!B133)","v":""},{"$f":"IF(Worksheet!D133=\"\",\"\",Worksheet!D133)","v":""}]
[{"$f":"IF(ISBLANK(Worksheet!F134)=FALSE,VLOOKUP(Worksheet!A134,MeasureCode_Lookup,6,FALSE),\"\")","v":""},{"$f":"Worksheet!H134","v":0},{"$f":"Worksheet!I134","v":0},{"$f":"IFERROR(IF(Worksheet!X134=0,Worksheet!W134/I115,Worksheet!X134/R115),0)","v":0},"W Controlled",null,null,{"$f":"IF(N(Worksheet!S134)=0,N(Worksheet!R134),N(Worksheet!S134))","v":0},{"$f":"IFERROR(Worksheet!U134/(Worksheet!R134),0)","v":0},{"$f":"Worksheet!AC134","v":0},{"$f":"Worksheet!AB134","v":0},0,{"$f":"IF(Worksheet!AJ134=0,0,Worksheet!AJ134*10/I115)","v":0},0,null,null,null,{"$f":"IFERROR(Worksheet!V134/(Worksheet!S134),0)","v":0},{"$f":"IF(Worksheet!E134=\"\",\"\",Worksheet!E134)","v":""},{"$f":"IF(Worksheet!B134=\"\",\"\",Worksheet!B134)","v":""},{"$f":"IF(Worksheet!D134=\"\",\"\",Worksheet!D134)","v":""}]
[{"$f":"IF(ISBLANK(Worksheet!F135)=FALSE,VLOOKUP(Worksheet!A135,MeasureCode_Lookup,6,FALSE),\"\")","v":""},{"$f":"Worksheet!H135","v":0},{"$f":"Worksheet!I135","v":0},{"$f":"IFERROR(IF(Worksheet!X135=0,Worksheet!W135/I116,Worksheet!X135/R116),0)","v":0},"W Controlled",null,null,{"$f":"IF(N(Worksheet!S135)=0,N(Worksheet!R135),N(Worksheet!S135))","v":0},{"$f":"IFERROR(Worksheet!U135/(Worksheet!R135),0)","v":0},{"$f":"Worksheet!AC135","v":0},{"$f":"Worksheet!AB135","v":0},0,{"$f":"IF(Worksheet!AJ135=0,0,Worksheet!AJ135*10/I116)","v":0},0,null,null,null,{"$f":"IFERROR(Worksheet!V135/(Worksheet!S135),0)","v":0},{"$f":"IF(Worksheet!E135=\"\",\"\",Worksheet!E135)","v":""},{"$f":"IF(Worksheet!B135=\"\",\"\",Worksheet!B135)","v":""},{"$f":"IF(Worksheet!D135=\"\",\"\",Worksheet!D135)","v":""}]
[{"$f":"IF(ISBLANK(Worksheet!F136)=FALSE,VLOOKUP(Worksheet!A136,MeasureCode_Lookup,6,FALSE),\"\")","v":""},{"$f":"Worksheet!H136","v":0},{"$f":"Worksheet!I136","v":0},{"$f":"IFERROR(IF(Worksheet!X136=0,Worksheet!W136/I117,Worksheet!X136/R117),0)","v":0},"W Controlled",null,null,{"$f":"IF(N(Worksheet!S136)=0,N(Worksheet!R136),N(Worksheet!S136))","v":0},{"$f":"IFERROR(Worksheet!U136/(Worksheet!R136),0)","v":0},{"$f":"Worksheet!AC136","v":0},{"$f":"Worksheet!AB136","v":0},0,{"$f":"IF(Worksheet!AJ136=0,0,Worksheet!AJ136*10/I117)","v":0},0,null,null,null,{"$f":"IFERROR(Worksheet!V136/(Worksheet!S136),0)","v":0},{"$f":"IF(Worksheet!E136=\"\",\"\",Worksheet!E136)","v":""},{"$f":"IF(Worksheet!B136=\"\",\"\",Worksheet!B136)","v":""},{"$f":"IF(Worksheet!D136=\"\",\"\",Worksheet!D136)","v":""}]
[{"$f":"IF(ISBLANK(Worksheet!F137)=FALSE,VLOOKUP(Worksheet!A137,MeasureCode_Lookup,6,FALSE),\"\")","v":""},{"$f":"Worksheet!H137","v":0},{"$f":"Worksheet!I137","v":0},{"$f":"IFERROR(IF(Worksheet!X137=0,Worksheet!W137/I118,Worksheet!X137/R118),0)","v":0},"W Controlled",null,null,{"$f":"IF(N(Worksheet!S137)=0,N(Worksheet!R137),N(Worksheet!S137))","v":0},{"$f":"IFERROR(Worksheet!U137/(Worksheet!R137),0)","v":0},{"$f":"Worksheet!AC137","v":0},{"$f":"Worksheet!AB137","v":0},0,{"$f":"IF(Worksheet!AJ137=0,0,Worksheet!AJ137*10/I118)","v":0},0,null,null,null,{"$f":"IFERROR(Worksheet!V137/(Worksheet!S137),0)","v":0},{"$f":"IF(Worksheet!E137=\"\",\"\",Worksheet!E137)","v":""},{"$f":"IF(Worksheet!B137=\"\",\"\",Worksheet!B137)","v":""},{"$f":"IF(Worksheet!D137=\"\",\"\",Worksheet!D137)","v":""}]
[{"$f":"IF(ISBLANK(Worksheet!F138)=FALSE,VLOOKUP(Worksheet!A138,MeasureCode_Lookup,6,FALSE),\"\")","v":""},{"$f":"Worksheet!H138","v":0},{"$f":"Worksheet!I138","v":0},{"$f":"IFERROR(IF(Worksheet!X138=0,Worksheet!W138/I119,Worksheet!X138/R119),0)","v":0},"W Controlled",null,null,{"$f":"IF(N(Worksheet!S138)=0,N(Worksheet!R138),N(Worksheet!S138))","v":0},{"$f":"IFERROR(Worksheet!U138/(Worksheet!R138),0)","v":0},{"$f":"Worksheet!AC138","v":0},{"$f":"Worksheet!AB138","v":0},0,{"$f":"IF(Worksheet!AJ138=0,0,Worksheet!AJ138*10/I119)","v":0},0,null,null,null,{"$f":"IFERROR(Worksheet!V138/(Worksheet!S138),0)","v":0},{"$f":"IF(Worksheet!E138=\"\",\"\",Worksheet!E138)","v":""},{"$f":"IF(Worksheet!B138=\"\",\"\",Worksheet!B138)","v":""},{"$f":"IF(Worksheet!D138=\"\",\"\",Worksheet!D138)","v":""}]
[{"$f":"IF(ISBLANK(Worksheet!F139)=FALSE,VLOOKUP(Worksheet!A139,MeasureCode_Lookup,6,FALSE),\"\")","v":""},{"$f":"Worksheet!H139","v":0},{"$f":"Worksheet!I139","v":0},{"$f":"IFERROR(IF(Worksheet!X139=0,Worksheet!W139/I120,Worksheet!X139/R120),0)","v":0},"W Controlled",null,null,{"$f":"IF(N(Worksheet!S139)=0,N(Worksheet!R139),N(Worksheet!S139))","v":0},{"$f":"IFERROR(Worksheet!U139/(Worksheet!R139),0)","v":0},{"$f":"Worksheet!AC139","v":0},{"$f":"Worksheet!AB139","v":0},0,{"$f":"IF(Worksheet!AJ139=0,0,Worksheet!AJ139*10/I120)","v":0},0,null,null,null,{"$f":"IFERROR(Worksheet!V139/(Worksheet!S139),0)","v":0},{"$f":"IF(Worksheet!E139=\"\",\"\",Worksheet!E139)","v":""},{"$f":"IF(Worksheet!B139=\"\",\"\",Worksheet!B139)","v":""},{"$f":"IF(Worksheet!D139=\"\",\"\",Worksheet!D139)","v":""}]
[{"$f":"IF(ISBLANK(Worksheet!F140)=FALSE,VLOOKUP(Worksheet!A140,MeasureCode_Lookup,6,FALSE),\"\")","v":""},{"$f":"Worksheet!H140","v":0},{"$f":"Worksheet!I140","v":0},{"$f":"IFERROR(IF(Worksheet!X140=0,Worksheet!W140/I121,Worksheet!X140/R121),0)","v":0},"W Controlled",null,null,{"$f":"IF(N(Worksheet!S140)=0,N(Worksheet!R140),N(Worksheet!S140))","v":0},{"$f":"IFERROR(Worksheet!U140/(Worksheet!R140),0)","v":0},{"$f":"Worksheet!AC140","v":0},{"$f":"Worksheet!AB140","v":0},0,{"$f":"IF(Worksheet!AJ140=0,0,Worksheet!AJ140*10/I121)","v":0},0,null,null,null,{"$f":"IFERROR(Worksheet!V140/(Worksheet!S140),0)","v":0},{"$f":"IF(Worksheet!E140=\"\",\"\",Worksheet!E140)","v":""},{"$f":"IF(Worksheet!B140=\"\",\"\",Worksheet!B140)","v":""},{"$f":"IF(Worksheet!D140=\"\",\"\",Worksheet!D140)","v":""}]
[{"$f":"IF(ISBLANK(Worksheet!F141)=FALSE,VLOOKUP(Worksheet!A141,MeasureCode_Lookup,6,FALSE),\"\")","v":""},{"$f":"Worksheet!H141","v":0},{"$f":"Worksheet!I141","v":0},{"$f":"IFERROR(IF(Worksheet!X141=0,Worksheet!W141/I122,Worksheet!X141/R122),0)","v":0},"W Controlled",null,null,{"$f":"IF(N(Worksheet!S141)=0,N(Worksheet!R141),N(Worksheet!S141))","v":0},{"$f":"IFERROR(Worksheet!U141/(Worksheet!R141),0)","v":0},{"$f":"Worksheet!AC141","v":0},{"$f":"Worksheet!AB141","v":0},0,{"$f":"IF(Worksheet!AJ141=0,0,Worksheet!AJ141*10/I122)","v":0},0,null,null,null,{"$f":"IFERROR(Worksheet!V141/(Worksheet!S141),0)","v":0},{"$f":"IF(Worksheet!E141=\"\",\"\",Worksheet!E141)","v":""},{"$f":"IF(Worksheet!B141=\"\",\"\",Worksheet!B141)","v":""},{"$f":"IF(Worksheet!D141=\"\",\"\",Worksheet!D141)","v":""}]
[{"$f":"IF(ISBLANK(Worksheet!F142)=FALSE,VLOOKUP(Worksheet!A142,MeasureCode_Lookup,6,FALSE),\"\")","v":""},{"$f":"Worksheet!H142","v":0},{"$f":"Worksheet!I142","v":0},{"$f":"IFERROR(IF(Worksheet!X142=0,Worksheet!W142/I123,Worksheet!X142/R123),0)","v":0},"W Controlled",null,null,{"$f":"IF(N(Worksheet!S142)=0,N(Worksheet!R142),N(Worksheet!S142))","v":0},{"$f":"IFERROR(Worksheet!U142/(Worksheet!R142),0)","v":0},{"$f":"Worksheet!AC142","v":0},{"$f":"Worksheet!AB142","v":0},0,{"$f":"IF(Worksheet!AJ142=0,0,Worksheet!AJ142*10/I123)","v":0},0,null,null,null,{"$f":"IFERROR(Worksheet!V142/(Worksheet!S142),0)","v":0},{"$f":"IF(Worksheet!E142=\"\",\"\",Worksheet!E142)","v":""},{"$f":"IF(Worksheet!B142=\"\",\"\",Worksheet!B142)","v":""},{"$f":"IF(Worksheet!D142=\"\",\"\",Worksheet!D142)","v":""}]
[{"$f":"IF(ISBLANK(Worksheet!F143)=FALSE,VLOOKUP(Worksheet!A143,MeasureCode_Lookup,6,FALSE),\"\")","v":""},{"$f":"Worksheet!H143","v":0},{"$f":"Worksheet!I143","v":0},{"$f":"IFERROR(IF(Worksheet!X143=0,Worksheet!W143/I124,Worksheet!X143/R124),0)","v":0},"W Controlled",null,null,{"$f":"IF(N(Worksheet!S143)=0,N(Worksheet!R143),N(Worksheet!S143))","v":0},{"$f":"IFERROR(Worksheet!U143/(Worksheet!R143),0)","v":0},{"$f":"Worksheet!AC143","v":0},{"$f":"Worksheet!AB143","v":0},0,{"$f":"IF(Worksheet!AJ143=0,0,Worksheet!AJ143*10/I124)","v":0},0,null,null,null,{"$f":"IFERROR(Worksheet!V143/(Worksheet!S143),0)","v":0},{"$f":"IF(Worksheet!E143=\"\",\"\",Worksheet!E143)","v":""},{"$f":"IF(Worksheet!B143=\"\",\"\",Worksheet!B143)","v":""},{"$f":"IF(Worksheet!D143=\"\",\"\",Worksheet!D143)","v":""}]
[{"$f":"IF(ISBLANK(Worksheet!F144)=FALSE,VLOOKUP(Worksheet!A144,MeasureCode_Lookup,6,FALSE),\"\")","v":""},{"$f":"Worksheet!H144","v":0},{"$f":"Worksheet!I144","v":0},{"$f":"IFERROR(IF(Worksheet!X144=0,Worksheet!W144/I125,Worksheet!X144/R125),0)","v":0},"W Controlled",null,null,{"$f":"IF(N(Worksheet!S144)=0,N(Worksheet!R144),N(Worksheet!S144))","v":0},{"$f":"IFERROR(Worksheet!U144/(Worksheet!R144),0)","v":0},{"$f":"Worksheet!AC144","v":0},{"$f":"Worksheet!AB144","v":0},0,{"$f":"IF(Worksheet!AJ144=0,0,Worksheet!AJ144*10/I125)","v":0},0,null,null,null,{"$f":"IFERROR(Worksheet!V144/(Worksheet!S144),0)","v":0},{"$f":"IF(Worksheet!E144=\"\",\"\",Worksheet!E144)","v":""},{"$f":"IF(Worksheet!B144=\"\",\"\",Worksheet!B144)","v":""},{"$f":"IF(Worksheet!D144=\"\",\"\",Worksheet!D144)","v":""}]
[{"$f":"IF(ISBLANK(Worksheet!F145)=FALSE,VLOOKUP(Worksheet!A145,MeasureCode_Lookup,6,FALSE),\"\")","v":""},{"$f":"Worksheet!H145","v":0},{"$f":"Worksheet!I145","v":0},{"$f":"IFERROR(IF(Worksheet!X145=0,Worksheet!W145/I126,Worksheet!X145/R126),0)","v":0},"W Controlled",null,null,{"$f":"IF(N(Worksheet!S145)=0,N(Worksheet!R145),N(Worksheet!S145))","v":0},{"$f":"IFERROR(Worksheet!U145/(Worksheet!R145),0)","v":0},{"$f":"Worksheet!AC145","v":0},{"$f":"Worksheet!AB145","v":0},0,{"$f":"IF(Worksheet!AJ145=0,0,Worksheet!AJ145*10/I126)","v":0},0,null,null,null,{"$f":"IFERROR(Worksheet!V145/(Worksheet!S145),0)","v":0},{"$f":"IF(Worksheet!E145=\"\",\"\",Worksheet!E145)","v":""},{"$f":"IF(Worksheet!B145=\"\",\"\",Worksheet!B145)","v":""},{"$f":"IF(Worksheet!D145=\"\",\"\",Worksheet!D145)","v":""}]
[{"$f":"IF(ISBLANK(Worksheet!F146)=FALSE,VLOOKUP(Worksheet!A146,MeasureCode_Lookup,6,FALSE),\"\")","v":""},{"$f":"Worksheet!H146","v":0},{"$f":"Worksheet!I146","v":0},{"$f":"IFERROR(IF(Worksheet!X146=0,Worksheet!W146/I127,Worksheet!X146/R127),0)","v":0},"W Controlled",null,null,{"$f":"IF(N(Worksheet!S146)=0,N(Worksheet!R146),N(Worksheet!S146))","v":0},{"$f":"IFERROR(Worksheet!U146/(Worksheet!R146),0)","v":0},{"$f":"Worksheet!AC146","v":0},{"$f":"Worksheet!AB146","v":0},0,{"$f":"IF(Worksheet!AJ146=0,0,Worksheet!AJ146*10/I127)","v":0},0,null,null,null,{"$f":"IFERROR(Worksheet!V146/(Worksheet!S146),0)","v":0},{"$f":"IF(Worksheet!E146=\"\",\"\",Worksheet!E146)","v":""},{"$f":"IF(Worksheet!B146=\"\",\"\",Worksheet!B146)","v":""},{"$f":"IF(Worksheet!D146=\"\",\"\",Worksheet!D146)","v":""}]
[{"$f":"IF(ISBLANK(Worksheet!F147)=FALSE,VLOOKUP(Worksheet!A147,MeasureCode_Lookup,6,FALSE),\"\")","v":""},{"$f":"Worksheet!H147","v":0},{"$f":"Worksheet!I147","v":0},{"$f":"IFERROR(IF(Worksheet!X147=0,Worksheet!W147/I128,Worksheet!X147/R128),0)","v":0},"W Controlled",null,null,{"$f":"IF(N(Worksheet!S147)=0,N(Worksheet!R147),N(Worksheet!S147))","v":0},{"$f":"IFERROR(Worksheet!U147/(Worksheet!R147),0)","v":0},{"$f":"Worksheet!AC147","v":0},{"$f":"Worksheet!AB147","v":0},0,{"$f":"IF(Worksheet!AJ147=0,0,Worksheet!AJ147*10/I128)","v":0},0,null,null,null,{"$f":"IFERROR(Worksheet!V147/(Worksheet!S147),0)","v":0},{"$f":"IF(Worksheet!E147=\"\",\"\",Worksheet!E147)","v":""},{"$f":"IF(Worksheet!B147=\"\",\"\",Worksheet!B147)","v":""},{"$f":"IF(Worksheet!D147=\"\",\"\",Worksheet!D147)","v":""}]
[{"$f":"IF(ISBLANK(Worksheet!F148)=FALSE,VLOOKUP(Worksheet!A148,MeasureCode_Lookup,6,FALSE),\"\")","v":""},{"$f":"Worksheet!H148","v":0},{"$f":"Worksheet!I148","v":0},{"$f":"IFERROR(IF(Worksheet!X148=0,Worksheet!W148/I129,Worksheet!X148/R129),0)","v":0},"W Controlled",null,null,{"$f":"IF(N(Worksheet!S148)=0,N(Worksheet!R148),N(Worksheet!S148))","v":0},{"$f":"IFERROR(Worksheet!U148/(Worksheet!R148),0)","v":0},{"$f":"Worksheet!AC148","v":0},{"$f":"Worksheet!AB148","v":0},0,{"$f":"IF(Worksheet!AJ148=0,0,Worksheet!AJ148*10/I129)","v":0},0,null,null,null,{"$f":"IFERROR(Worksheet!V148/(Worksheet!S148),0)","v":0},{"$f":"IF(Worksheet!E148=\"\",\"\",Worksheet!E148)","v":""},{"$f":"IF(Worksheet!B148=\"\",\"\",Worksheet!B148)","v":""},{"$f":"IF(Worksheet!D148=\"\",\"\",Worksheet!D148)","v":""}]
[{"$f":"IF(ISBLANK(Worksheet!F149)=FALSE,VLOOKUP(Worksheet!A149,MeasureCode_Lookup,6,FALSE),\"\")","v":""},{"$f":"Worksheet!H149","v":0},{"$f":"Worksheet!I149","v":0},{"$f":"IFERROR(IF(Worksheet!X149=0,Worksheet!W149/I130,Worksheet!X149/R130),0)","v":0},"W Controlled",null,null,{"$f":"IF(N(Worksheet!S149)=0,N(Worksheet!R149),N(Worksheet!S149))","v":0},{"$f":"IFERROR(Worksheet!U149/(Worksheet!R149),0)","v":0},{"$f":"Worksheet!AC149","v":0},{"$f":"Worksheet!AB149","v":0},0,{"$f":"IF(Worksheet!AJ149=0,0,Worksheet!AJ149*10/I130)","v":0},0,null,null,null,{"$f":"IFERROR(Worksheet!V149/(Worksheet!S149),0)","v":0},{"$f":"IF(Worksheet!E149=\"\",\"\",Worksheet!E149)","v":""},{"$f":"IF(Worksheet!B149=\"\",\"\",Worksheet!B149)","v":""},{"$f":"IF(Worksheet!D149=\"\",\"\",Worksheet!D149)","v":""}]
[{"$f":"IF(ISBLANK(Worksheet!F150)=FALSE,VLOOKUP(Worksheet!A150,MeasureCode_Lookup,6,FALSE),\"\")","v":""},{"$f":"Worksheet!H150","v":0},{"$f":"Worksheet!I150","v":0},{"$f":"IFERROR(IF(Worksheet!X150=0,Worksheet!W150/I131,Worksheet!X150/R131),0)","v":0},"W Controlled",null,null,{"$f":"IF(N(Worksheet!S150)=0,N(Worksheet!R150),N(Worksheet!S150))","v":0},{"$f":"IFERROR(Worksheet!U150/(Worksheet!R150),0)","v":0},{"$f":"Worksheet!AC150","v":0},{"$f":"Worksheet!AB150","v":0},{"$f":"J131*8","v":0},{"$f":"IF(Worksheet!AJ150=0,0,Worksheet!AJ150*10/I131)","v":0},{"$f":"M131*8","v":0},null,null,null,{"$f":"IFERROR(Worksheet!V150/(Worksheet!S150),0)","v":0},{"$f":"IF(Worksheet!E150=\"\",\"\",Worksheet!E150)","v":""},{"$f":"IF(Worksheet!B150=\"\",\"\",Worksheet!B150)","v":""},{"$f":"IF(Worksheet!D150=\"\",\"\",Worksheet!D150)","v":""}]
[{"$f":"IF(ISBLANK(Worksheet!F151)=FALSE,VLOOKUP(Worksheet!A151,MeasureCode_Lookup,6,FALSE),\"\")","v":""},{"$f":"Worksheet!H151","v":0},{"$f":"Worksheet!I151","v":0},{"$f":"IFERROR(IF(Worksheet!X151=0,Worksheet!W151/I132,Worksheet!X151/R132),0)","v":0},"W Controlled",null,null,{"$f":"IF(N(Worksheet!S151)=0,N(Worksheet!R151),N(Worksheet!S151))","v":0},{"$f":"IFERROR(Worksheet!U151/(Worksheet!R151),0)","v":0},{"$f":"Worksheet!AC151","v":0},{"$f":"Worksheet!AB151","v":0},0,{"$f":"IF(Worksheet!AJ151=0,0,Worksheet!AJ151*10/I132)","v":0},0,null,null,null,{"$f":"IFERROR(Worksheet!V151/(Worksheet!S151),0)","v":0},{"$f":"IF(Worksheet!E151=\"\",\"\",Worksheet!E151)","v":""},{"$f":"IF(Worksheet!B151=\"\",\"\",Worksheet!B151)","v":""},{"$f":"IF(Worksheet!D151=\"\",\"\",Worksheet!D151)","v":""}]
[{"$f":"IF(ISBLANK(Worksheet!F152)=FALSE,VLOOKUP(Worksheet!A152,MeasureCode_Lookup,6,FALSE),\"\")","v":""},{"$f":"Worksheet!H152","v":0},{"$f":"Worksheet!I152","v":0},{"$f":"IFERROR(IF(Worksheet!X152=0,Worksheet!W152/I133,Worksheet!X152/R133),0)","v":0},"W Controlled",null,null,{"$f":"IF(N(Worksheet!S152)=0,N(Worksheet!R152),N(Worksheet!S152))","v":0},{"$f":"IFERROR(Worksheet!U152/(Worksheet!R152),0)","v":0},{"$f":"Worksheet!AC152","v":0},{"$f":"Worksheet!AB152","v":0},0,{"$f":"IF(Worksheet!AJ152=0,0,Worksheet!AJ152*10/I133)","v":0},0,null,null,null,{"$f":"IFERROR(Worksheet!V152/(Worksheet!S152),0)","v":0},{"$f":"IF(Worksheet!E152=\"\",\"\",Worksheet!E152)","v":""},{"$f":"IF(Worksheet!B152=\"\",\"\",Worksheet!B152)","v":""},{"$f":"IF(Worksheet!D152=\"\",\"\",Worksheet!D152)","v":""}]
[{"$f":"IF(ISBLANK(Worksheet!F153)=FALSE,VLOOKUP(Worksheet!A153,MeasureCode_Lookup,6,FALSE),\"\")","v":""},{"$f":"Worksheet!H153","v":0},{"$f":"Worksheet!I153","v":0},{"$f":"IFERROR(IF(Worksheet!X153=0,Worksheet!W153/I134,Worksheet!X153/R134),0)","v":0},"W Controlled",null,null,{"$f":"IF(N(Worksheet!S153)=0,N(Worksheet!R153),N(Worksheet!S153))","v":0},{"$f":"IFERROR(Worksheet!U153/(Worksheet!R153),0)","v":0},{"$f":"Worksheet!AC153","v":0},{"$f":"Worksheet!AB153","v":0},0,{"$f":"IF(Worksheet!AJ153=0,0,Worksheet!AJ153*10/I134)","v":0},0,null,null,null,{"$f":"IFERROR(Worksheet!V153/(Worksheet!S153),0)","v":0},{"$f":"IF(Worksheet!E153=\"\",\"\",Worksheet!E153)","v":""},{"$f":"IF(Worksheet!B153=\"\",\"\",Worksheet!B153)","v":""},{"$f":"IF(Worksheet!D153=\"\",\"\",Worksheet!D153)","v":""}]
[{"$f":"IF(ISBLANK(Worksheet!F154)=FALSE,VLOOKUP(Worksheet!A154,MeasureCode_Lookup,6,FALSE),\"\")","v":""},{"$f":"Worksheet!H154","v":0},{"$f":"Worksheet!I154","v":0},{"$f":"IFERROR(IF(Worksheet!X154=0,Worksheet!W154/I135,Worksheet!X154/R135),0)","v":0},"W Controlled",null,null,{"$f":"IF(N(Worksheet!S154)=0,N(Worksheet!R154),N(Worksheet!S154))","v":0},{"$f":"IFERROR(Worksheet!U154/(Worksheet!R154),0)","v":0},{"$f":"Worksheet!AC154","v":0},{"$f":"Worksheet!AB154","v":0},0,{"$f":"IF(Worksheet!AJ154=0,0,Worksheet!AJ154*10/I135)","v":0},0,null,null,null,{"$f":"IFERROR(Worksheet!V154/(Worksheet!S154),0)","v":0},{"$f":"IF(Worksheet!E154=\"\",\"\",Worksheet!E154)","v":""},{"$f":"IF(Worksheet!B154=\"\",\"\",Worksheet!B154)","v":""},{"$f":"IF(Worksheet!D154=\"\",\"\",Worksheet!D154)","v":""}]
[{"$f":"IF(ISBLANK(Worksheet!F155)=FALSE,VLOOKUP(Worksheet!A155,MeasureCode_Lookup,6,FALSE),\"\")","v":""},{"$f":"Worksheet!H155","v":0},{"$f":"Worksheet!I155","v":0},{"$f":"IFERROR(IF(Worksheet!X155=0,Worksheet!W155/I136,Worksheet!X155/R136),0)","v":0},"W Controlled",null,null,{"$f":"IF(N(Worksheet!S155)=0,N(Worksheet!R155),N(Worksheet!S155))","v":0},{"$f":"IFERROR(Worksheet!U155/(Worksheet!R155),0)","v":0},{"$f":"Worksheet!AC155","v":0},{"$f":"Worksheet!AB155","v":0},0,{"$f":"IF(Worksheet!AJ155=0,0,Worksheet!AJ155*10/I136)","v":0},0,null,null,null,{"$f":"IFERROR(Worksheet!V155/(Worksheet!S155),0)","v":0},{"$f":"IF(Worksheet!E155=\"\",\"\",Worksheet!E155)","v":""},{"$f":"IF(Worksheet!B155=\"\",\"\",Worksheet!B155)","v":""},{"$f":"IF(Worksheet!D155=\"\",\"\",Worksheet!D155)","v":""}]
[{"$f":"IF(ISBLANK(Worksheet!F156)=FALSE,VLOOKUP(Worksheet!A156,MeasureCode_Lookup,6,FALSE),\"\")","v":""},{"$f":"Worksheet!H156","v":0},{"$f":"Worksheet!I156","v":0},{"$f":"IFERROR(IF(Worksheet!X156=0,Worksheet!W156/I137,Worksheet!X156/R137),0)","v":0},"W Controlled",null,null,{"$f":"IF(N(Worksheet!S156)=0,N(Worksheet!R156),N(Worksheet!S156))","v":0},{"$f":"IFERROR(Worksheet!U156/(Worksheet!R156),0)","v":0},{"$f":"Worksheet!AC156","v":0},{"$f":"Worksheet!AB156","v":0},0,{"$f":"IF(Worksheet!AJ156=0,0,Worksheet!AJ156*10/I137)","v":0},0,null,null,null,{"$f":"IFERROR(Worksheet!V156/(Worksheet!S156),0)","v":0},{"$f":"IF(Worksheet!E156=\"\",\"\",Worksheet!E156)","v":""},{"$f":"IF(Worksheet!B156=\"\",\"\",Worksheet!B156)","v":""},{"$f":"IF(Worksheet!D156=\"\",\"\",Worksheet!D156)","v":""}]
[{"$f":"IF(ISBLANK(Worksheet!F157)=FALSE,VLOOKUP(Worksheet!A157,MeasureCode_Lookup,6,FALSE),\"\")","v":""},{"$f":"Worksheet!H157","v":0},{"$f":"Worksheet!I157","v":0},{"$f":"IFERROR(IF(Worksheet!X157=0,Worksheet!W157/I138,Worksheet!X157/R138),0)","v":0},"W Controlled",null,null,{"$f":"IF(N(Worksheet!S157)=0,N(Worksheet!R157),N(Worksheet!S157))","v":0},{"$f":"IFERROR(Worksheet!U157/(Worksheet!R157),0)","v":0},{"$f":"Worksheet!AC157","v":0},{"$f":"Worksheet!AB157","v":0},0,{"$f":"IF(Worksheet!AJ157=0,0,Worksheet!AJ157*10/I138)","v":0},0,null,null,null,{"$f":"IFERROR(Worksheet!V157/(Worksheet!S157),0)","v":0},{"$f":"IF(Worksheet!E157=\"\",\"\",Worksheet!E157)","v":""},{"$f":"IF(Worksheet!B157=\"\",\"\",Worksheet!B157)","v":""},{"$f":"IF(Worksheet!D157=\"\",\"\",Worksheet!D157)","v":""}]
[{"$f":"IF(ISBLANK(Worksheet!F158)=FALSE,VLOOKUP(Worksheet!A158,MeasureCode_Lookup,6,FALSE),\"\")","v":""},{"$f":"Worksheet!H158","v":0},{"$f":"Worksheet!I158","v":0},{"$f":"IFERROR(IF(Worksheet!X158=0,Worksheet!W158/I139,Worksheet!X158/R139),0)","v":0},"W Controlled",null,null,{"$f":"IF(N(Worksheet!S158)=0,N(Worksheet!R158),N(Worksheet!S158))","v":0},{"$f":"IFERROR(Worksheet!U158/(Worksheet!R158),0)","v":0},{"$f":"Worksheet!AC158","v":0},{"$f":"Worksheet!AB158","v":0},0,{"$f":"IF(Worksheet!AJ158=0,0,Worksheet!AJ158*10/I139)","v":0},0,null,null,null,{"$f":"IFERROR(Worksheet!V158/(Worksheet!S158),0)","v":0},{"$f":"IF(Worksheet!E158=\"\",\"\",Worksheet!E158)","v":""},{"$f":"IF(Worksheet!B158=\"\",\"\",Worksheet!B158)","v":""},{"$f":"IF(Worksheet!D158=\"\",\"\",Worksheet!D158)","v":""}]
[{"$f":"IF(ISBLANK(Worksheet!F159)=FALSE,VLOOKUP(Worksheet!A159,MeasureCode_Lookup,6,FALSE),\"\")","v":""},{"$f":"Worksheet!H159","v":0},{"$f":"Worksheet!I159","v":0},{"$f":"IFERROR(IF(Worksheet!X159=0,Worksheet!W159/I140,Worksheet!X159/R140),0)","v":0},"W Controlled",null,null,{"$f":"IF(N(Worksheet!S159)=0,N(Worksheet!R159),N(Worksheet!S159))","v":0},{"$f":"IFERROR(Worksheet!U159/(Worksheet!R159),0)","v":0},{"$f":"Worksheet!AC159","v":0},{"$f":"Worksheet!AB159","v":0},0,{"$f":"IF(Worksheet!AJ159=0,0,Worksheet!AJ159*10/I140)","v":0},0,null,null,null,{"$f":"IFERROR(Worksheet!V159/(Worksheet!S159),0)","v":0},{"$f":"IF(Worksheet!E159=\"\",\"\",Worksheet!E159)","v":""},{"$f":"IF(Worksheet!B159=\"\",\"\",Worksheet!B159)","v":""},{"$f":"IF(Worksheet!D159=\"\",\"\",Worksheet!D159)","v":""}]
[{"$f":"IF(ISBLANK(Worksheet!F160)=FALSE,VLOOKUP(Worksheet!A160,MeasureCode_Lookup,6,FALSE),\"\")","v":""},{"$f":"Worksheet!H160","v":0},{"$f":"Worksheet!I160","v":0},{"$f":"IFERROR(IF(Worksheet!X160=0,Worksheet!W160/I141,Worksheet!X160/R141),0)","v":0},"W Controlled",null,null,{"$f":"IF(N(Worksheet!S160)=0,N(Worksheet!R160),N(Worksheet!S160))","v":0},{"$f":"IFERROR(Worksheet!U160/(Worksheet!R160),0)","v":0},{"$f":"Worksheet!AC160","v":0},{"$f":"Worksheet!AB160","v":0},0,{"$f":"IF(Worksheet!AJ160=0,0,Worksheet!AJ160*10/I141)","v":0},0,null,null,null,{"$f":"IFERROR(Worksheet!V160/(Worksheet!S160),0)","v":0},{"$f":"IF(Worksheet!E160=\"\",\"\",Worksheet!E160)","v":""},{"$f":"IF(Worksheet!B160=\"\",\"\",Worksheet!B160)","v":""},{"$f":"IF(Worksheet!D160=\"\",\"\",Worksheet!D160)","v":""}]
[{"$f":"IF(ISBLANK(Worksheet!F161)=FALSE,VLOOKUP(Worksheet!A161,MeasureCode_Lookup,6,FALSE),\"\")","v":""},{"$f":"Worksheet!H161","v":0},{"$f":"Worksheet!I161","v":0},{"$f":"IFERROR(IF(Worksheet!X161=0,Worksheet!W161/I142,Worksheet!X161/R142),0)","v":0},"W Controlled",null,null,{"$f":"IF(N(Worksheet!S161)=0,N(Worksheet!R161),N(Worksheet!S161))","v":0},{"$f":"IFERROR(Worksheet!U161/(Worksheet!R161),0)","v":0},{"$f":"Worksheet!AC161","v":0},{"$f":"Worksheet!AB161","v":0},0,{"$f":"IF(Worksheet!AJ161=0,0,Worksheet!AJ161*10/I142)","v":0},0,null,null,null,{"$f":"IFERROR(Worksheet!V161/(Worksheet!S161),0)","v":0},{"$f":"IF(Worksheet!E161=\"\",\"\",Worksheet!E161)","v":""},{"$f":"IF(Worksheet!B161=\"\",\"\",Worksheet!B161)","v":""},{"$f":"IF(Worksheet!D161=\"\",\"\",Worksheet!D161)","v":""}]
[{"$f":"IF(ISBLANK(Worksheet!F162)=FALSE,VLOOKUP(Worksheet!A162,MeasureCode_Lookup,6,FALSE),\"\")","v":""},{"$f":"Worksheet!H162","v":0},{"$f":"Worksheet!I162","v":0},{"$f":"IFERROR(IF(Worksheet!X162=0,Worksheet!W162/I143,Worksheet!X162/R143),0)","v":0},"W Controlled",null,null,{"$f":"IF(N(Worksheet!S162)=0,N(Worksheet!R162),N(Worksheet!S162))","v":0},{"$f":"IFERROR(Worksheet!U162/(Worksheet!R162),0)","v":0},{"$f":"Worksheet!AC162","v":0},{"$f":"Worksheet!AB162","v":0},0,{"$f":"IF(Worksheet!AJ162=0,0,Worksheet!AJ162*10/I143)","v":0},0,null,null,null,{"$f":"IFERROR(Worksheet!V162/(Worksheet!S162),0)","v":0},{"$f":"IF(Worksheet!E162=\"\",\"\",Worksheet!E162)","v":""},{"$f":"IF(Worksheet!B162=\"\",\"\",Worksheet!B162)","v":""},{"$f":"IF(Worksheet!D162=\"\",\"\",Worksheet!D162)","v":""}]
[{"$f":"IF(ISBLANK(Worksheet!F163)=FALSE,VLOOKUP(Worksheet!A163,MeasureCode_Lookup,6,FALSE),\"\")","v":""},{"$f":"Worksheet!H163","v":0},{"$f":"Worksheet!I163","v":0},{"$f":"IFERROR(IF(Worksheet!X163=0,Worksheet!W163/I144,Worksheet!X163/R144),0)","v":0},"W Controlled",null,null,{"$f":"IF(N(Worksheet!S163)=0,N(Worksheet!R163),N(Worksheet!S163))","v":0},{"$f":"IFERROR(Worksheet!U163/(Worksheet!R163),0)","v":0},{"$f":"Worksheet!AC163","v":0},{"$f":"Worksheet!AB163","v":0},0,{"$f":"IF(Worksheet!AJ163=0,0,Worksheet!AJ163*10/I144)","v":0},0,null,null,null,{"$f":"IFERROR(Worksheet!V163/(Worksheet!S163),0)","v":0},{"$f":"IF(Worksheet!E163=\"\",\"\",Worksheet!E163)","v":""},{"$f":"IF(Worksheet!B163=\"\",\"\",Worksheet!B163)","v":""},{"$f":"IF(Worksheet!D163=\"\",\"\",Worksheet!D163)","v":""}]
[{"$f":"IF(ISBLANK(Worksheet!F164)=FALSE,VLOOKUP(Worksheet!A164,MeasureCode_Lookup,6,FALSE),\"\")","v":""},{"$f":"Worksheet!H164","v":0},{"$f":"Worksheet!I164","v":0},{"$f":"IFERROR(IF(Worksheet!X164=0,Worksheet!W164/I145,Worksheet!X164/R145),0)","v":0},"W Controlled",null,null,{"$f":"IF(N(Worksheet!S164)=0,N(Worksheet!R164),N(Worksheet!S164))","v":0},{"$f":"IFERROR(Worksheet!U164/(Worksheet!R164),0)","v":0},{"$f":"Worksheet!AC164","v":0},{"$f":"Worksheet!AB164","v":0},0,{"$f":"IF(Worksheet!AJ164=0,0,Worksheet!AJ164*10/I145)","v":0},0,null,null,null,{"$f":"IFERROR(Worksheet!V164/(Worksheet!S164),0)","v":0},{"$f":"IF(Worksheet!E164=\"\",\"\",Worksheet!E164)","v":""},{"$f":"IF(Worksheet!B164=\"\",\"\",Worksheet!B164)","v":""},{"$f":"IF(Worksheet!D164=\"\",\"\",Worksheet!D164)","v":""}]
[{"$f":"IF(ISBLANK(Worksheet!F165)=FALSE,VLOOKUP(Worksheet!A165,MeasureCode_Lookup,6,FALSE),\"\")","v":""},{"$f":"Worksheet!H165","v":0},{"$f":"Worksheet!I165","v":0},{"$f":"IFERROR(IF(Worksheet!X165=0,Worksheet!W165/I146,Worksheet!X165/R146),0)","v":0},"W Controlled",null,null,{"$f":"IF(N(Worksheet!S165)=0,N(Worksheet!R165),N(Worksheet!S165))","v":0},{"$f":"IFERROR(Worksheet!U165/(Worksheet!R165),0)","v":0},{"$f":"Worksheet!AC165","v":0},{"$f":"Worksheet!AB165","v":0},0,{"$f":"IF(Worksheet!AJ165=0,0,Worksheet!AJ165*10/I146)","v":0},0,null,null,null,{"$f":"IFERROR(Worksheet!V165/(Worksheet!S165),0)","v":0},{"$f":"IF(Worksheet!E165=\"\",\"\",Worksheet!E165)","v":""},{"$f":"IF(Worksheet!B165=\"\",\"\",Worksheet!B165)","v":""},{"$f":"IF(Worksheet!D165=\"\",\"\",Worksheet!D165)","v":""}]
[{"$f":"IF(ISBLANK(Worksheet!F166)=FALSE,VLOOKUP(Worksheet!A166,MeasureCode_Lookup,6,FALSE),\"\")","v":""},{"$f":"Worksheet!H166","v":0},{"$f":"Worksheet!I166","v":0},{"$f":"IFERROR(IF(Worksheet!X166=0,Worksheet!W166/I147,Worksheet!X166/R147),0)","v":0},"W Controlled",null,null,{"$f":"IF(N(Worksheet!S166)=0,N(Worksheet!R166),N(Worksheet!S166))","v":0},{"$f":"IFERROR(Worksheet!U166/(Worksheet!R166),0)","v":0},{"$f":"Worksheet!AC166","v":0},{"$f":"Worksheet!AB166","v":0},0,{"$f":"IF(Worksheet!AJ166=0,0,Worksheet!AJ166*10/I147)","v":0},0,null,null,null,{"$f":"IFERROR(Worksheet!V166/(Worksheet!S166),0)","v":0},{"$f":"IF(Worksheet!E166=\"\",\"\",Worksheet!E166)","v":""},{"$f":"IF(Worksheet!B166=\"\",\"\",Worksheet!B166)","v":""},{"$f":"IF(Worksheet!D166=\"\",\"\",Worksheet!D166)","v":""}]
[{"$f":"IF(ISBLANK(Worksheet!F167)=FALSE,VLOOKUP(Worksheet!A167,MeasureCode_Lookup,6,FALSE),\"\")","v":""},{"$f":"Worksheet!H167","v":0},{"$f":"Worksheet!I167","v":0},{"$f":"IFERROR(IF(Worksheet!X167=0,Worksheet!W167/I148,Worksheet!X167/R148),0)","v":0},"W Controlled",null,null,{"$f":"IF(N(Worksheet!S167)=0,N(Worksheet!R167),N(Worksheet!S167))","v":0},{"$f":"IFERROR(Worksheet!U167/(Worksheet!R167),0)","v":0},{"$f":"Worksheet!AC167","v":0},{"$f":"Worksheet!AB167","v":0},0,{"$f":"IF(Worksheet!AJ167=0,0,Worksheet!AJ167*10/I148)","v":0},0,null,null,null,{"$f":"IFERROR(Worksheet!V167/(Worksheet!S167),0)","v":0},{"$f":"IF(Worksheet!E167=\"\",\"\",Worksheet!E167)","v":""},{"$f":"IF(Worksheet!B167=\"\",\"\",Worksheet!B167)","v":""},{"$f":"IF(Worksheet!D167=\"\",\"\",Worksheet!D167)","v":""}]
[{"$f":"IF(ISBLANK(Worksheet!F168)=FALSE,VLOOKUP(Worksheet!A168,MeasureCode_Lookup,6,FALSE),\"\")","v":""},{"$f":"Worksheet!H168","v":0},{"$f":"Worksheet!I168","v":0},{"$f":"IFERROR(IF(Worksheet!X168=0,Worksheet!W168/I149,Worksheet!X168/R149),0)","v":0},"W Controlled",null,null,{"$f":"IF(N(Worksheet!S168)=0,N(Worksheet!R168),N(Worksheet!S168))","v":0},{"$f":"IFERROR(Worksheet!U168/(Worksheet!R168),0)","v":0},{"$f":"Worksheet!AC168","v":0},{"$f":"Worksheet!AB168","v":0},0,{"$f":"IF(Worksheet!AJ168=0,0,Worksheet!AJ168*10/I149)","v":0},0,null,null,null,{"$f":"IFERROR(Worksheet!V168/(Worksheet!S168),0)","v":0},{"$f":"IF(Worksheet!E168=\"\",\"\",Worksheet!E168)","v":""},{"$f":"IF(Worksheet!B168=\"\",\"\",Worksheet!B168)","v":""},{"$f":"IF(Worksheet!D168=\"\",\"\",Worksheet!D168)","v":""}]
[{"$f":"IF(ISBLANK(Worksheet!F169)=FALSE,VLOOKUP(Worksheet!A169,MeasureCode_Lookup,6,FALSE),\"\")","v":""},{"$f":"Worksheet!H169","v":0},{"$f":"Worksheet!I169","v":0},{"$f":"IFERROR(IF(Worksheet!X169=0,Worksheet!W169/I150,Worksheet!X169/R150),0)","v":0},"W Controlled",null,null,{"$f":"IF(N(Worksheet!S169)=0,N(Worksheet!R169),N(Worksheet!S169))","v":0},{"$f":"IFERROR(Worksheet!U169/(Worksheet!R169),0)","v":0},{"$f":"Worksheet!AC169","v":0},{"$f":"Worksheet!AB169","v":0},0,{"$f":"IF(Worksheet!AJ169=0,0,Worksheet!AJ169*10/I150)","v":0},0,null,null,null,{"$f":"IFERROR(Worksheet!V169/(Worksheet!S169),0)","v":0},{"$f":"IF(Worksheet!E169=\"\",\"\",Worksheet!E169)","v":""},{"$f":"IF(Worksheet!B169=\"\",\"\",Worksheet!B169)","v":""},{"$f":"IF(Worksheet!D169=\"\",\"\",Worksheet!D169)","v":""}]
[{"$f":"IF(ISBLANK(Worksheet!F170)=FALSE,VLOOKUP(Worksheet!A170,MeasureCode_Lookup,6,FALSE),\"\")","v":""},{"$f":"Worksheet!H170","v":0},{"$f":"Worksheet!I170","v":0},{"$f":"IFERROR(IF(Worksheet!X170=0,Worksheet!W170/I151,Worksheet!X170/R151),0)","v":0},"W Controlled",null,null,{"$f":"IF(N(Worksheet!S170)=0,N(Worksheet!R170),N(Worksheet!S170))","v":0},{"$f":"IFERROR(Worksheet!U170/(Worksheet!R170),0)","v":0},{"$f":"Worksheet!AC170","v":0},{"$f":"Worksheet!AB170","v":0},0,{"$f":"IF(Worksheet!AJ170=0,0,Worksheet!AJ170*10/I151)","v":0},0,null,null,null,{"$f":"IFERROR(Worksheet!V170/(Worksheet!S170),0)","v":0},{"$f":"IF(Worksheet!E170=\"\",\"\",Worksheet!E170)","v":""},{"$f":"IF(Worksheet!B170=\"\",\"\",Worksheet!B170)","v":""},{"$f":"IF(Worksheet!D170=\"\",\"\",Worksheet!D170)","v":""}]
[{"$f":"IF(ISBLANK(Worksheet!F171)=FALSE,VLOOKUP(Worksheet!A171,MeasureCode_Lookup,6,FALSE),\"\")","v":""},{"$f":"Worksheet!H171","v":0},{"$f":"Worksheet!I171","v":0},{"$f":"IFERROR(IF(Worksheet!X171=0,Worksheet!W171/I152,Worksheet!X171/R152),0)","v":0},"W Controlled",null,null,{"$f":"IF(N(Worksheet!S171)=0,N(Worksheet!R171),N(Worksheet!S171))","v":0},{"$f":"IFERROR(Worksheet!U171/(Worksheet!R171),0)","v":0},{"$f":"Worksheet!AC171","v":0},{"$f":"Worksheet!AB171","v":0},0,{"$f":"IF(Worksheet!AJ171=0,0,Worksheet!AJ171*10/I152)","v":0},0,null,null,null,{"$f":"IFERROR(Worksheet!V171/(Worksheet!S171),0)","v":0},{"$f":"IF(Worksheet!E171=\"\",\"\",Worksheet!E171)","v":""},{"$f":"IF(Worksheet!B171=\"\",\"\",Worksheet!B171)","v":""},{"$f":"IF(Worksheet!D171=\"\",\"\",Worksheet!D171)","v":""}]
[{"$f":"IF(ISBLANK(Worksheet!F172)=FALSE,VLOOKUP(Worksheet!A172,MeasureCode_Lookup,6,FALSE),\"\")","v":""},{"$f":"Worksheet!H172","v":0},{"$f":"Worksheet!I172","v":0},{"$f":"IFERROR(IF(Worksheet!X172=0,Worksheet!W172/I153,Worksheet!X172/R153),0)","v":0},"W Controlled",null,null,{"$f":"IF(N(Worksheet!S172)=0,N(Worksheet!R172),N(Worksheet!S172))","v":0},{"$f":"IFERROR(Worksheet!U172/(Worksheet!R172),0)","v":0},{"$f":"Worksheet!AC172","v":0},{"$f":"Worksheet!AB172","v":0},0,{"$f":"IF(Worksheet!AJ172=0,0,Worksheet!AJ172*10/I153)","v":0},0,null,null,null,{"$f":"IFERROR(Worksheet!V172/(Worksheet!S172),0)","v":0},{"$f":"IF(Worksheet!E172=\"\",\"\",Worksheet!E172)","v":""},{"$f":"IF(Worksheet!B172=\"\",\"\",Worksheet!B172)","v":""},{"$f":"IF(Worksheet!D172=\"\",\"\",Worksheet!D172)","v":""}]
[{"$f":"IF(ISBLANK(Worksheet!F173)=FALSE,VLOOKUP(Worksheet!A173,MeasureCode_Lookup,6,FALSE),\"\")","v":""},{"$f":"Worksheet!H173","v":0},{"$f":"Worksheet!I173","v":0},{"$f":"IFERROR(IF(Worksheet!X173=0,Worksheet!W173/I154,Worksheet!X173/R154),0)","v":0},"W Controlled",null,null,{"$f":"IF(N(Worksheet!S173)=0,N(Worksheet!R173),N(Worksheet!S173))","v":0},{"$f":"IFERROR(Worksheet!U173/(Worksheet!R173),0)","v":0},{"$f":"Worksheet!AC173","v":0},{"$f":"Worksheet!AB173","v":0},0,{"$f":"IF(Worksheet!AJ173=0,0,Worksheet!AJ173*10/I154)","v":0},0,null,null,null,{"$f":"IFERROR(Worksheet!V173/(Worksheet!S173),0)","v":0},{"$f":"IF(Worksheet!E173=\"\",\"\",Worksheet!E173)","v":""},{"$f":"IF(Worksheet!B173=\"\",\"\",Worksheet!B173)","v":""},{"$f":"IF(Worksheet!D173=\"\",\"\",Worksheet!D173)","v":""}]
[{"$f":"IF(ISBLANK(Worksheet!F174)=FALSE,VLOOKUP(Worksheet!A174,MeasureCode_Lookup,6,FALSE),\"\")","v":""},{"$f":"Worksheet!H174","v":0},{"$f":"Worksheet!I174","v":0},{"$f":"IFERROR(IF(Worksheet!X174=0,Worksheet!W174/I155,Worksheet!X174/R155),0)","v":0},"W Controlled",null,null,{"$f":"IF(N(Worksheet!S174)=0,N(Worksheet!R174),N(Worksheet!S174))","v":0},{"$f":"IFERROR(Worksheet!U174/(Worksheet!R174),0)","v":0},{"$f":"Worksheet!AC174","v":0},{"$f":"Worksheet!AB174","v":0},0,{"$f":"IF(Worksheet!AJ174=0,0,Worksheet!AJ174*10/I155)","v":0},0,null,null,null,{"$f":"IFERROR(Worksheet!V174/(Worksheet!S174),0)","v":0},{"$f":"IF(Worksheet!E174=\"\",\"\",Worksheet!E174)","v":""},{"$f":"IF(Worksheet!B174=\"\",\"\",Worksheet!B174)","v":""},{"$f":"IF(Worksheet!D174=\"\",\"\",Worksheet!D174)","v":""}]
[{"$f":"IF(ISBLANK(Worksheet!F175)=FALSE,VLOOKUP(Worksheet!A175,MeasureCode_Lookup,6,FALSE),\"\")","v":""},{"$f":"Worksheet!H175","v":0},{"$f":"Worksheet!I175","v":0},{"$f":"IFERROR(IF(Worksheet!X175=0,Worksheet!W175/I156,Worksheet!X175/R156),0)","v":0},"W Controlled",null,null,{"$f":"IF(N(Worksheet!S175)=0,N(Worksheet!R175),N(Worksheet!S175))","v":0},{"$f":"IFERROR(Worksheet!U175/(Worksheet!R175),0)","v":0},{"$f":"Worksheet!AC175","v":0},{"$f":"Worksheet!AB175","v":0},0,{"$f":"IF(Worksheet!AJ175=0,0,Worksheet!AJ175*10/I156)","v":0},0,null,null,null,{"$f":"IFERROR(Worksheet!V175/(Worksheet!S175),0)","v":0},{"$f":"IF(Worksheet!E175=\"\",\"\",Worksheet!E175)","v":""},{"$f":"IF(Worksheet!B175=\"\",\"\",Worksheet!B175)","v":""},{"$f":"IF(Worksheet!D175=\"\",\"\",Worksheet!D175)","v":""}]
[{"$f":"IF(ISBLANK(Worksheet!F176)=FALSE,VLOOKUP(Worksheet!A176,MeasureCode_Lookup,6,FALSE),\"\")","v":""},{"$f":"Worksheet!H176","v":0},{"$f":"Worksheet!I176","v":0},{"$f":"IFERROR(IF(Worksheet!X176=0,Worksheet!W176/I157,Worksheet!X176/R157),0)","v":0},"W Controlled",null,null,{"$f":"IF(N(Worksheet!S176)=0,N(Worksheet!R176),N(Worksheet!S176))","v":0},{"$f":"IFERROR(Worksheet!U176/(Worksheet!R176),0)","v":0},{"$f":"Worksheet!AC176","v":0},{"$f":"Worksheet!AB176","v":0},0,{"$f":"IF(Worksheet!AJ176=0,0,Worksheet!AJ176*10/I157)","v":0},0,null,null,null,{"$f":"IFERROR(Worksheet!V176/(Worksheet!S176),0)","v":0},{"$f":"IF(Worksheet!E176=\"\",\"\",Worksheet!E176)","v":""},{"$f":"IF(Worksheet!B176=\"\",\"\",Worksheet!B176)","v":""},{"$f":"IF(Worksheet!D176=\"\",\"\",Worksheet!D176)","v":""}]
[{"$f":"IF(ISBLANK(Worksheet!F177)=FALSE,VLOOKUP(Worksheet!A177,MeasureCode_Lookup,6,FALSE),\"\")","v":""},{"$f":"Worksheet!H177","v":0},{"$f":"Worksheet!I177","v":0},{"$f":"IFERROR(IF(Worksheet!X177=0,Worksheet!W177/I158,Worksheet!X177/R158),0)","v":0},"W Controlled",null,null,{"$f":"IF(N(Worksheet!S177)=0,N(Worksheet!R177),N(Worksheet!S177))","v":0},{"$f":"IFERROR(Worksheet!U177/(Worksheet!R177),0)","v":0},{"$f":"Worksheet!AC177","v":0},{"$f":"Worksheet!AB177","v":0},0,{"$f":"IF(Worksheet!AJ177=0,0,Worksheet!AJ177*10/I158)","v":0},0,null,null,null,{"$f":"IFERROR(Worksheet!V177/(Worksheet!S177),0)","v":0},{"$f":"IF(Worksheet!E177=\"\",\"\",Worksheet!E177)","v":""},{"$f":"IF(Worksheet!B177=\"\",\"\",Worksheet!B177)","v":""},{"$f":"IF(Worksheet!D177=\"\",\"\",Worksheet!D177)","v":""}]
[{"$f":"IF(ISBLANK(Worksheet!F178)=FALSE,VLOOKUP(Worksheet!A178,MeasureCode_Lookup,6,FALSE),\"\")","v":""},{"$f":"Worksheet!H178","v":0},{"$f":"Worksheet!I178","v":0},{"$f":"IFERROR(IF(Worksheet!X178=0,Worksheet!W178/I159,Worksheet!X178/R159),0)","v":0},"W Controlled",null,null,{"$f":"IF(N(Worksheet!S178)=0,N(Worksheet!R178),N(Worksheet!S178))","v":0},{"$f":"IFERROR(Worksheet!U178/(Worksheet!R178),0)","v":0},{"$f":"Worksheet!AC178","v":0},{"$f":"Worksheet!AB178","v":0},0,{"$f":"IF(Worksheet!AJ178=0,0,Worksheet!AJ178*10/I159)","v":0},0,null,null,null,{"$f":"IFERROR(Worksheet!V178/(Worksheet!S178),0)","v":0},{"$f":"IF(Worksheet!E178=\"\",\"\",Worksheet!E178)","v":""},{"$f":"IF(Worksheet!B178=\"\",\"\",Worksheet!B178)","v":""},{"$f":"IF(Worksheet!D178=\"\",\"\",Worksheet!D178)","v":""}]
[{"$f":"IF(ISBLANK(Worksheet!F179)=FALSE,VLOOKUP(Worksheet!A179,MeasureCode_Lookup,6,FALSE),\"\")","v":""},{"$f":"Worksheet!H179","v":0},{"$f":"Worksheet!I179","v":0},{"$f":"IFERROR(IF(Worksheet!X179=0,Worksheet!W179/I160,Worksheet!X179/R160),0)","v":0},"W Controlled",null,null,{"$f":"IF(N(Worksheet!S179)=0,N(Worksheet!R179),N(Worksheet!S179))","v":0},{"$f":"IFERROR(Worksheet!U179/(Worksheet!R179),0)","v":0},{"$f":"Worksheet!AC179","v":0},{"$f":"Worksheet!AB179","v":0},0,{"$f":"IF(Worksheet!AJ179=0,0,Worksheet!AJ179*10/I160)","v":0},0,null,null,null,{"$f":"IFERROR(Worksheet!V179/(Worksheet!S179),0)","v":0},{"$f":"IF(Worksheet!E179=\"\",\"\",Worksheet!E179)","v":""},{"$f":"IF(Worksheet!B179=\"\",\"\",Worksheet!B179)","v":""},{"$f":"IF(Worksheet!D179=\"\",\"\",Worksheet!D179)","v":""}]
[{"$f":"IF(ISBLANK(Worksheet!F180)=FALSE,VLOOKUP(Worksheet!A180,MeasureCode_Lookup,6,FALSE),\"\")","v":""},{"$f":"Worksheet!H180","v":0},{"$f":"Worksheet!I180","v":0},{"$f":"IFERROR(IF(Worksheet!X180=0,Worksheet!W180/I161,Worksheet!X180/R161),0)","v":0},"W Controlled",null,null,{"$f":"IF(N(Worksheet!S180)=0,N(Worksheet!R180),N(Worksheet!S180))","v":0},{"$f":"IFERROR(Worksheet!U180/(Worksheet!R180),0)","v":0},{"$f":"Worksheet!AC180","v":0},{"$f":"Worksheet!AB180","v":0},0,{"$f":"IF(Worksheet!AJ180=0,0,Worksheet!AJ180*10/I161)","v":0},0,null,null,null,{"$f":"IFERROR(Worksheet!V180/(Worksheet!S180),0)","v":0},{"$f":"IF(Worksheet!E180=\"\",\"\",Worksheet!E180)","v":""},{"$f":"IF(Worksheet!B180=\"\",\"\",Worksheet!B180)","v":""},{"$f":"IF(Worksheet!D180=\"\",\"\",Worksheet!D180)","v":""}]
[{"$f":"IF(ISBLANK(Worksheet!F181)=FALSE,VLOOKUP(Worksheet!A181,MeasureCode_Lookup,6,FALSE),\"\")","v":""},{"$f":"Worksheet!H181","v":0},{"$f":"Worksheet!I181","v":0},{"$f":"IFERROR(IF(Worksheet!X181=0,Worksheet!W181/I162,Worksheet!X181/R162),0)","v":0},"W Controlled",null,null,{"$f":"IF(N(Worksheet!S181)=0,N(Worksheet!R181),N(Worksheet!S181))","v":0},{"$f":"IFERROR(Worksheet!U181/(Worksheet!R181),0)","v":0},{"$f":"Worksheet!AC181","v":0},{"$f":"Worksheet!AB181","v":0},0,{"$f":"IF(Worksheet!AJ181=0,0,Worksheet!AJ181*10/I162)","v":0},0,null,null,null,{"$f":"IFERROR(Worksheet!V181/(Worksheet!S181),0)","v":0},{"$f":"IF(Worksheet!E181=\"\",\"\",Worksheet!E181)","v":""},{"$f":"IF(Worksheet!B181=\"\",\"\",Worksheet!B181)","v":""},{"$f":"IF(Worksheet!D181=\"\",\"\",Worksheet!D181)","v":""}]
[{"$f":"IF(ISBLANK(Worksheet!F182)=FALSE,VLOOKUP(Worksheet!A182,MeasureCode_Lookup,6,FALSE),\"\")","v":""},{"$f":"Worksheet!H182","v":0},{"$f":"Worksheet!I182","v":0},{"$f":"IFERROR(IF(Worksheet!X182=0,Worksheet!W182/I163,Worksheet!X182/R163),0)","v":0},"W Controlled",null,null,{"$f":"IF(N(Worksheet!S182)=0,N(Worksheet!R182),N(Worksheet!S182))","v":0},{"$f":"IFERROR(Worksheet!U182/(Worksheet!R182),0)","v":0},{"$f":"Worksheet!AC182","v":0},{"$f":"Worksheet!AB182","v":0},0,{"$f":"IF(Worksheet!AJ182=0,0,Worksheet!AJ182*10/I163)","v":0},0,null,null,null,{"$f":"IFERROR(Worksheet!V182/(Worksheet!S182),0)","v":0},{"$f":"IF(Worksheet!E182=\"\",\"\",Worksheet!E182)","v":""},{"$f":"IF(Worksheet!B182=\"\",\"\",Worksheet!B182)","v":""},{"$f":"IF(Worksheet!D182=\"\",\"\",Worksheet!D182)","v":""}]
[{"$f":"IF(ISBLANK(Worksheet!F183)=FALSE,VLOOKUP(Worksheet!A183,MeasureCode_Lookup,6,FALSE),\"\")","v":""},{"$f":"Worksheet!H183","v":0},{"$f":"Worksheet!I183","v":0},{"$f":"IFERROR(IF(Worksheet!X183=0,Worksheet!W183/I164,Worksheet!X183/R164),0)","v":0},"W Controlled",null,null,{"$f":"IF(N(Worksheet!S183)=0,N(Worksheet!R183),N(Worksheet!S183))","v":0},{"$f":"IFERROR(Worksheet!U183/(Worksheet!R183),0)","v":0},{"$f":"Worksheet!AC183","v":0},{"$f":"Worksheet!AB183","v":0},0,{"$f":"IF(Worksheet!AJ183=0,0,Worksheet!AJ183*10/I164)","v":0},0,null,null,null,{"$f":"IFERROR(Worksheet!V183/(Worksheet!S183),0)","v":0},{"$f":"IF(Worksheet!E183=\"\",\"\",Worksheet!E183)","v":""},{"$f":"IF(Worksheet!B183=\"\",\"\",Worksheet!B183)","v":""},{"$f":"IF(Worksheet!D183=\"\",\"\",Worksheet!D183)","v":""}]
[{"$f":"IF(ISBLANK(Worksheet!F184)=FALSE,VLOOKUP(Worksheet!A184,MeasureCode_Lookup,6,FALSE),\"\")","v":""},{"$f":"Worksheet!H184","v":0},{"$f":"Worksheet!I184","v":0},{"$f":"IFERROR(IF(Worksheet!X184=0,Worksheet!W184/I165,Worksheet!X184/R165),0)","v":0},"W Controlled",null,null,{"$f":"IF(N(Worksheet!S184)=0,N(Worksheet!R184),N(Worksheet!S184))","v":0},{"$f":"IFERROR(Worksheet!U184/(Worksheet!R184),0)","v":0},{"$f":"Worksheet!AC184","v":0},{"$f":"Worksheet!AB184","v":0},0,{"$f":"IF(Worksheet!AJ184=0,0,Worksheet!AJ184*10/I165)","v":0},0,null,null,null,{"$f":"IFERROR(Worksheet!V184/(Worksheet!S184),0)","v":0},{"$f":"IF(Worksheet!E184=\"\",\"\",Worksheet!E184)","v":""},{"$f":"IF(Worksheet!B184=\"\",\"\",Worksheet!B184)","v":""},{"$f":"IF(Worksheet!D184=\"\",\"\",Worksheet!D184)","v":""}]
[{"$f":"IF(ISBLANK(Worksheet!F185)=FALSE,VLOOKUP(Worksheet!A185,MeasureCode_Lookup,6,FALSE),\"\")","v":""},{"$f":"Worksheet!H185","v":0},{"$f":"Worksheet!I185","v":0},{"$f":"IFERROR(IF(Worksheet!X185=0,Worksheet!W185/I166,Worksheet!X185/R166),0)","v":0},"W Controlled",null,null,{"$f":"IF(N(Worksheet!S185)=0,N(Worksheet!R185),N(Worksheet!S185))","v":0},{"$f":"IFERROR(Worksheet!U185/(Worksheet!R185),0)","v":0},{"$f":"Worksheet!AC185","v":0},{"$f":"Worksheet!AB185","v":0},0,{"$f":"IF(Worksheet!AJ185=0,0,Worksheet!AJ185*10/I166)","v":0},0,null,null,null,{"$f":"IFERROR(Worksheet!V185/(Worksheet!S185),0)","v":0},{"$f":"IF(Worksheet!E185=\"\",\"\",Worksheet!E185)","v":""},{"$f":"IF(Worksheet!B185=\"\",\"\",Worksheet!B185)","v":""},{"$f":"IF(Worksheet!D185=\"\",\"\",Worksheet!D185)","v":""}]
[{"$f":"IF(ISBLANK(Worksheet!F186)=FALSE,VLOOKUP(Worksheet!A186,MeasureCode_Lookup,6,FALSE),\"\")","v":""},{"$f":"Worksheet!H186","v":0},{"$f":"Worksheet!I186","v":0},{"$f":"IFERROR(IF(Worksheet!X186=0,Worksheet!W186/I167,Worksheet!X186/R167),0)","v":0},"W Controlled",null,null,{"$f":"IF(N(Worksheet!S186)=0,N(Worksheet!R186),N(Worksheet!S186))","v":0},{"$f":"IFERROR(Worksheet!U186/(Worksheet!R186),0)","v":0},{"$f":"Worksheet!AC186","v":0},{"$f":"Worksheet!AB186","v":0},0,{"$f":"IF(Worksheet!AJ186=0,0,Worksheet!AJ186*10/I167)","v":0},0,null,null,null,{"$f":"IFERROR(Worksheet!V186/(Worksheet!S186),0)","v":0},{"$f":"IF(Worksheet!E186=\"\",\"\",Worksheet!E186)","v":""},{"$f":"IF(Worksheet!B186=\"\",\"\",Worksheet!B186)","v":""},{"$f":"IF(Worksheet!D186=\"\",\"\",Worksheet!D186)","v":""}]
[{"$f":"IF(ISBLANK(Worksheet!F187)=FALSE,VLOOKUP(Worksheet!A187,MeasureCode_Lookup,6,FALSE),\"\")","v":""},{"$f":"Worksheet!H187","v":0},{"$f":"Worksheet!I187","v":0},{"$f":"IFERROR(IF(Worksheet!X187=0,Worksheet!W187/I168,Worksheet!X187/R168),0)","v":0},"W Controlled",null,null,{"$f":"IF(N(Worksheet!S187)=0,N(Worksheet!R187),N(Worksheet!S187))","v":0},{"$f":"IFERROR(Worksheet!U187/(Worksheet!R187),0)","v":0},{"$f":"Worksheet!AC187","v":0},{"$f":"Worksheet!AB187","v":0},0,{"$f":"IF(Worksheet!AJ187=0,0,Worksheet!AJ187*10/I168)","v":0},0,null,null,null,{"$f":"IFERROR(Worksheet!V187/(Worksheet!S187),0)","v":0},{"$f":"IF(Worksheet!E187=\"\",\"\",Worksheet!E187)","v":""},{"$f":"IF(Worksheet!B187=\"\",\"\",Worksheet!B187)","v":""},{"$f":"IF(Worksheet!D187=\"\",\"\",Worksheet!D187)","v":""}]
[{"$f":"IF(ISBLANK(Worksheet!F188)=FALSE,VLOOKUP(Worksheet!A188,MeasureCode_Lookup,6,FALSE),\"\")","v":""},{"$f":"Worksheet!H188","v":0},{"$f":"Worksheet!I188","v":0},{"$f":"IFERROR(IF(Worksheet!X188=0,Worksheet!W188/I169,Worksheet!X188/R169),0)","v":0},"W Controlled",null,null,{"$f":"IF(N(Worksheet!S188)=0,N(Worksheet!R188),N(Worksheet!S188))","v":0},{"$f":"IFERROR(Worksheet!U188/(Worksheet!R188),0)","v":0},{"$f":"Worksheet!AC188","v":0},{"$f":"Worksheet!AB188","v":0},0,{"$f":"IF(Worksheet!AJ188=0,0,Worksheet!AJ188*10/I169)","v":0},0,null,null,null,{"$f":"IFERROR(Worksheet!V188/(Worksheet!S188),0)","v":0},{"$f":"IF(Worksheet!E188=\"\",\"\",Worksheet!E188)","v":""},{"$f":"IF(Worksheet!B188=\"\",\"\",Worksheet!B188)","v":""},{"$f":"IF(Worksheet!D188=\"\",\"\",Worksheet!D188)","v":""}]
[{"$f":"IF(ISBLANK(Worksheet!F189)=FALSE,VLOOKUP(Worksheet!A189,MeasureCode_Lookup,6,FALSE),\"\")","v":""},{"$f":"Worksheet!H189","v":0},{"$f":"Worksheet!I189","v":0},{"$f":"IFERROR(IF(Worksheet!X189=0,Worksheet!W189/I170,Worksheet!X189/R170),0)","v":0},"W Controlled",null,null,{"$f":"IF(N(Worksheet!S189)=0,N(Worksheet!R189),N(Worksheet!S189))","v":0},{"$f":"IFERROR(Worksheet!U189/(Worksheet!R189),0)","v":0},{"$f":"Worksheet!AC189","v":0},{"$f":"Worksheet!AB189","v":0},0,{"$f":"IF(Worksheet!AJ189=0,0,Worksheet!AJ189*10/I170)","v":0},0,null,null,null,{"$f":"IFERROR(Worksheet!V189/(Worksheet!S189),0)","v":0},{"$f":"IF(Worksheet!E189=\"\",\"\",Worksheet!E189)","v":""},{"$f":"IF(Worksheet!B189=\"\",\"\",Worksheet!B189)","v":""},{"$f":"IF(Worksheet!D189=\"\",\"\",Worksheet!D189)","v":""}]
[{"$f":"IF(ISBLANK(Worksheet!F190)=FALSE,VLOOKUP(Worksheet!A190,MeasureCode_Lookup,6,FALSE),\"\")","v":""},{"$f":"Worksheet!H190","v":0},{"$f":"Worksheet!I190","v":0},{"$f":"IFERROR(IF(Worksheet!X190=0,Worksheet!W190/I171,Worksheet!X190/R171),0)","v":0},"W Controlled",null,null,{"$f":"IF(N(Worksheet!S190)=0,N(Worksheet!R190),N(Worksheet!S190))","v":0},{"$f":"IFERROR(Worksheet!U190/(Worksheet!R190),0)","v":0},{"$f":"Worksheet!AC190","v":0},{"$f":"Worksheet!AB190","v":0},0,{"$f":"IF(Worksheet!AJ190=0,0,Worksheet!AJ190*10/I171)","v":0},0,null,null,null,{"$f":"IFERROR(Worksheet!V190/(Worksheet!S190),0)","v":0},{"$f":"IF(Worksheet!E190=\"\",\"\",Worksheet!E190)","v":""},{"$f":"IF(Worksheet!B190=\"\",\"\",Worksheet!B190)","v":""},{"$f":"IF(Worksheet!D190=\"\",\"\",Worksheet!D190)","v":""}]
[{"$f":"IF(ISBLANK(Worksheet!F191)=FALSE,VLOOKUP(Worksheet!A191,MeasureCode_Lookup,6,FALSE),\"\")","v":""},{"$f":"Worksheet!H191","v":0},{"$f":"Worksheet!I191","v":0},{"$f":"IFERROR(IF(Worksheet!X191=0,Worksheet!W191/I172,Worksheet!X191/R172),0)","v":0},"W Controlled",null,null,{"$f":"IF(N(Worksheet!S191)=0,N(Worksheet!R191),N(Worksheet!S191))","v":0},{"$f":"IFERROR(Worksheet!U191/(Worksheet!R191),0)","v":0},{"$f":"Worksheet!AC191","v":0},{"$f":"Worksheet!AB191","v":0},0,{"$f":"IF(Worksheet!AJ191=0,0,Worksheet!AJ191*10/I172)","v":0},0,null,null,null,{"$f":"IFERROR(Worksheet!V191/(Worksheet!S191),0)","v":0},{"$f":"IF(Worksheet!E191=\"\",\"\",Worksheet!E191)","v":""},{"$f":"IF(Worksheet!B191=\"\",\"\",Worksheet!B191)","v":""},{"$f":"IF(Worksheet!D191=\"\",\"\",Worksheet!D191)","v":""}]
[{"$f":"IF(ISBLANK(Worksheet!F192)=FALSE,VLOOKUP(Worksheet!A192,MeasureCode_Lookup,6,FALSE),\"\")","v":""},{"$f":"Worksheet!H192","v":0},{"$f":"Worksheet!I192","v":0},{"$f":"IFERROR(IF(Worksheet!X192=0,Worksheet!W192/I173,Worksheet!X192/R173),0)","v":0},"W Controlled",null,null,{"$f":"IF(N(Worksheet!S192)=0,N(Worksheet!R192),N(Worksheet!S192))","v":0},{"$f":"IFERROR(Worksheet!U192/(Worksheet!R192),0)","v":0},{"$f":"Worksheet!AC192","v":0},{"$f":"Worksheet!AB192","v":0},0,{"$f":"IF(Worksheet!AJ192=0,0,Worksheet!AJ192*10/I173)","v":0},0,null,null,null,{"$f":"IFERROR(Worksheet!V192/(Worksheet!S192),0)","v":0},{"$f":"IF(Worksheet!E192=\"\",\"\",Worksheet!E192)","v":""},{"$f":"IF(Worksheet!B192=\"\",\"\",Worksheet!B192)","v":""},{"$f":"IF(Worksheet!D192=\"\",\"\",Worksheet!D192)","v":""}]
[{"$f":"IF(ISBLANK(Worksheet!F193)=FALSE,VLOOKUP(Worksheet!A193,MeasureCode_Lookup,6,FALSE),\"\")","v":""},{"$f":"Worksheet!H193","v":0},{"$f":"Worksheet!I193","v":0},{"$f":"IFERROR(IF(Worksheet!X193=0,Worksheet!W193/I174,Worksheet!X193/R174),0)","v":0},"W Controlled",null,null,{"$f":"IF(N(Worksheet!S193)=0,N(Worksheet!R193),N(Worksheet!S193))","v":0},{"$f":"IFERROR(Worksheet!U193/(Worksheet!R193),0)","v":0},{"$f":"Worksheet!AC193","v":0},{"$f":"Worksheet!AB193","v":0},0,{"$f":"IF(Worksheet!AJ193=0,0,Worksheet!AJ193*10/I174)","v":0},0,null,null,null,{"$f":"IFERROR(Worksheet!V193/(Worksheet!S193),0)","v":0},{"$f":"IF(Worksheet!E193=\"\",\"\",Worksheet!E193)","v":""},{"$f":"IF(Worksheet!B193=\"\",\"\",Worksheet!B193)","v":""},{"$f":"IF(Worksheet!D193=\"\",\"\",Worksheet!D193)","v":""}]
[{"$f":"IF(ISBLANK(Worksheet!F194)=FALSE,VLOOKUP(Worksheet!A194,MeasureCode_Lookup,6,FALSE),\"\")","v":""},{"$f":"Worksheet!H194","v":0},{"$f":"Worksheet!I194","v":0},{"$f":"IFERROR(IF(Worksheet!X194=0,Worksheet!W194/I175,Worksheet!X194/R175),0)","v":0},"W Controlled",null,null,{"$f":"IF(N(Worksheet!S194)=0,N(Worksheet!R194),N(Worksheet!S194))","v":0},{"$f":"IFERROR(Worksheet!U194/(Worksheet!R194),0)","v":0},{"$f":"Worksheet!AC194","v":0},{"$f":"Worksheet!AB194","v":0},0,{"$f":"IF(Worksheet!AJ194=0,0,Worksheet!AJ194*10/I175)","v":0},0,null,null,null,{"$f":"IFERROR(Worksheet!V194/(Worksheet!S194),0)","v":0},{"$f":"IF(Worksheet!E194=\"\",\"\",Worksheet!E194)","v":""},{"$f":"IF(Worksheet!B194=\"\",\"\",Worksheet!B194)","v":""},{"$f":"IF(Worksheet!D194=\"\",\"\",Worksheet!D194)","v":""}]
[{"$f":"IF(ISBLANK(Worksheet!F195)=FALSE,VLOOKUP(Worksheet!A195,MeasureCode_Lookup,6,FALSE),\"\")","v":""},{"$f":"Worksheet!H195","v":0},{"$f":"Worksheet!I195","v":0},{"$f":"IFERROR(IF(Worksheet!X195=0,Worksheet!W195/I176,Worksheet!X195/R176),0)","v":0},"W Controlled",null,null,{"$f":"IF(N(Worksheet!S195)=0,N(Worksheet!R195),N(Worksheet!S195))","v":0},{"$f":"IFERROR(Worksheet!U195/(Worksheet!R195),0)","v":0},{"$f":"Worksheet!AC195","v":0},{"$f":"Worksheet!AB195","v":0},0,{"$f":"IF(Worksheet!AJ195=0,0,Worksheet!AJ195*10/I176)","v":0},0,null,null,null,{"$f":"IFERROR(Worksheet!V195/(Worksheet!S195),0)","v":0},{"$f":"IF(Worksheet!E195=\"\",\"\",Worksheet!E195)","v":""},{"$f":"IF(Worksheet!B195=\"\",\"\",Worksheet!B195)","v":""},{"$f":"IF(Worksheet!D195=\"\",\"\",Worksheet!D195)","v":""}]
[{"$f":"IF(ISBLANK(Worksheet!F196)=FALSE,VLOOKUP(Worksheet!A196,MeasureCode_Lookup,6,FALSE),\"\")","v":""},{"$f":"Worksheet!H196","v":0},{"$f":"Worksheet!I196","v":0},{"$f":"IFERROR(IF(Worksheet!X196=0,Worksheet!W196/I177,Worksheet!X196/R177),0)","v":0},"W Controlled",null,null,{"$f":"IF(N(Worksheet!S196)=0,N(Worksheet!R196),N(Worksheet!S196))","v":0},{"$f":"IFERROR(Worksheet!U196/(Worksheet!R196),0)","v":0},{"$f":"Worksheet!AC196","v":0},{"$f":"Worksheet!AB196","v":0},0,{"$f":"IF(Worksheet!AJ196=0,0,Worksheet!AJ196*10/I177)","v":0},0,null,null,null,{"$f":"IFERROR(Worksheet!V196/(Worksheet!S196),0)","v":0},{"$f":"IF(Worksheet!E196=\"\",\"\",Worksheet!E196)","v":""},{"$f":"IF(Worksheet!B196=\"\",\"\",Worksheet!B196)","v":""},{"$f":"IF(Worksheet!D196=\"\",\"\",Worksheet!D196)","v":""}]
[{"$f":"IF(ISBLANK(Worksheet!F197)=FALSE,VLOOKUP(Worksheet!A197,MeasureCode_Lookup,6,FALSE),\"\")","v":""},{"$f":"Worksheet!H197","v":0},{"$f":"Worksheet!I197","v":0},{"$f":"IFERROR(IF(Worksheet!X197=0,Worksheet!W197/I178,Worksheet!X197/R178),0)","v":0},"W Controlled",null,null,{"$f":"IF(N(Worksheet!S197)=0,N(Worksheet!R197),N(Worksheet!S197))","v":0},{"$f":"IFERROR(Worksheet!U197/(Worksheet!R197),0)","v":0},{"$f":"Worksheet!AC197","v":0},{"$f":"Worksheet!AB197","v":0},0,{"$f":"IF(Worksheet!AJ197=0,0,Worksheet!AJ197*10/I178)","v":0},0,null,null,null,{"$f":"IFERROR(Worksheet!V197/(Worksheet!S197),0)","v":0},{"$f":"IF(Worksheet!E197=\"\",\"\",Worksheet!E197)","v":""},{"$f":"IF(Worksheet!B197=\"\",\"\",Worksheet!B197)","v":""},{"$f":"IF(Worksheet!D197=\"\",\"\",Worksheet!D197)","v":""}]
[{"$f":"IF(ISBLANK(Worksheet!F198)=FALSE,VLOOKUP(Worksheet!A198,MeasureCode_Lookup,6,FALSE),\"\")","v":""},{"$f":"Worksheet!H198","v":0},{"$f":"Worksheet!I198","v":0},{"$f":"IFERROR(IF(Worksheet!X198=0,Worksheet!W198/I179,Worksheet!X198/R179),0)","v":0},"W Controlled",null,null,{"$f":"IF(N(Worksheet!S198)=0,N(Worksheet!R198),N(Worksheet!S198))","v":0},{"$f":"IFERROR(Worksheet!U198/(Worksheet!R198),0)","v":0},{"$f":"Worksheet!AC198","v":0},{"$f":"Worksheet!AB198","v":0},0,{"$f":"IF(Worksheet!AJ198=0,0,Worksheet!AJ198*10/I179)","v":0},0,null,null,null,{"$f":"IFERROR(Worksheet!V198/(Worksheet!S198),0)","v":0},{"$f":"IF(Worksheet!E198=\"\",\"\",Worksheet!E198)","v":""},{"$f":"IF(Worksheet!B198=\"\",\"\",Worksheet!B198)","v":""},{"$f":"IF(Worksheet!D198=\"\",\"\",Worksheet!D198)","v":""}]
[{"$f":"IF(ISBLANK(Worksheet!F199)=FALSE,VLOOKUP(Worksheet!A199,MeasureCode_Lookup,6,FALSE),\"\")","v":""},{"$f":"Worksheet!H199","v":0},{"$f":"Worksheet!I199","v":0},{"$f":"IFERROR(IF(Worksheet!X199=0,Worksheet!W199/I180,Worksheet!X199/R180),0)","v":0},"W Controlled",null,null,{"$f":"IF(N(Worksheet!S199)=0,N(Worksheet!R199),N(Worksheet!S199))","v":0},{"$f":"IFERROR(Worksheet!U199/(Worksheet!R199),0)","v":0},{"$f":"Worksheet!AC199","v":0},{"$f":"Worksheet!AB199","v":0},0,{"$f":"IF(Worksheet!AJ199=0,0,Worksheet!AJ199*10/I180)","v":0},0,null,null,null,{"$f":"IFERROR(Worksheet!V199/(Worksheet!S199),0)","v":0},{"$f":"IF(Worksheet!E199=\"\",\"\",Worksheet!E199)","v":""},{"$f":"IF(Worksheet!B199=\"\",\"\",Worksheet!B199)","v":""},{"$f":"IF(Worksheet!D199=\"\",\"\",Worksheet!D199)","v":""}]
[{"$f":"IF(ISBLANK(Worksheet!F200)=FALSE,VLOOKUP(Worksheet!A200,MeasureCode_Lookup,6,FALSE),\"\")","v":""},{"$f":"Worksheet!H200","v":0},{"$f":"Worksheet!I200","v":0},{"$f":"IFERROR(IF(Worksheet!X200=0,Worksheet!W200/I181,Worksheet!X200/R181),0)","v":0},"W Controlled",null,null,{"$f":"IF(N(Worksheet!S200)=0,N(Worksheet!R200),N(Worksheet!S200))","v":0},{"$f":"IFERROR(Worksheet!U200/(Worksheet!R200),0)","v":0},{"$f":"Worksheet!AC200","v":0},{"$f":"Worksheet!AB200","v":0},0,{"$f":"IF(Worksheet!AJ200=0,0,Worksheet!AJ200*10/I181)","v":0},0,null,null,null,{"$f":"IFERROR(Worksheet!V200/(Worksheet!S200),0)","v":0},{"$f":"IF(Worksheet!E200=\"\",\"\",Worksheet!E200)","v":""},{"$f":"IF(Worksheet!B200=\"\",\"\",Worksheet!B200)","v":""},{"$f":"IF(Worksheet!D200=\"\",\"\",Worksheet!D200)","v":""}]
[{"$f":"IF(ISBLANK(Worksheet!F201)=FALSE,VLOOKUP(Worksheet!A201,MeasureCode_Lookup,6,FALSE),\"\")","v":""},{"$f":"Worksheet!H201","v":0},{"$f":"Worksheet!I201","v":0},{"$f":"IFERROR(IF(Worksheet!X201=0,Worksheet!W201/I182,Worksheet!X201/R182),0)","v":0},"W Controlled",null,null,{"$f":"IF(N(Worksheet!S201)=0,N(Worksheet!R201),N(Worksheet!S201))","v":0},{"$f":"IFERROR(Worksheet!U201/(Worksheet!R201),0)","v":0},{"$f":"Worksheet!AC201","v":0},{"$f":"Worksheet!AB201","v":0},0,{"$f":"IF(Worksheet!AJ201=0,0,Worksheet!AJ201*10/I182)","v":0},0,null,null,null,{"$f":"IFERROR(Worksheet!V201/(Worksheet!S201),0)","v":0},{"$f":"IF(Worksheet!E201=\"\",\"\",Worksheet!E201)","v":""},{"$f":"IF(Worksheet!B201=\"\",\"\",Worksheet!B201)","v":""},{"$f":"IF(Worksheet!D201=\"\",\"\",Worksheet!D201)","v":""}]
[{"$f":"IF(ISBLANK(Worksheet!F202)=FALSE,VLOOKUP(Worksheet!A202,MeasureCode_Lookup,6,FALSE),\"\")","v":""},{"$f":"Worksheet!H202","v":0},{"$f":"Worksheet!I202","v":0},{"$f":"IFERROR(IF(Worksheet!X202=0,Worksheet!W202/I183,Worksheet!X202/R183),0)","v":0},"W Controlled",null,null,{"$f":"IF(N(Worksheet!S202)=0,N(Worksheet!R202),N(Worksheet!S202))","v":0},{"$f":"IFERROR(Worksheet!U202/(Worksheet!R202),0)","v":0},{"$f":"Worksheet!AC202","v":0},{"$f":"Worksheet!AB202","v":0},0,{"$f":"IF(Worksheet!AJ202=0,0,Worksheet!AJ202*10/I183)","v":0},0,null,null,null,{"$f":"IFERROR(Worksheet!V202/(Worksheet!S202),0)","v":0},{"$f":"IF(Worksheet!E202=\"\",\"\",Worksheet!E202)","v":""},{"$f":"IF(Worksheet!B202=\"\",\"\",Worksheet!B202)","v":""},{"$f":"IF(Worksheet!D202=\"\",\"\",Worksheet!D202)","v":""}]
[{"$f":"IF(ISBLANK(Worksheet!F203)=FALSE,VLOOKUP(Worksheet!A203,MeasureCode_Lookup,6,FALSE),\"\")","v":""},{"$f":"Worksheet!H203","v":0},{"$f":"Worksheet!I203","v":0},{"$f":"IFERROR(IF(Worksheet!X203=0,Worksheet!W203/I184,Worksheet!X203/R184),0)","v":0},"W Controlled",null,null,{"$f":"IF(N(Worksheet!S203)=0,N(Worksheet!R203),N(Worksheet!S203))","v":0},{"$f":"IFERROR(Worksheet!U203/(Worksheet!R203),0)","v":0},{"$f":"Worksheet!AC203","v":0},{"$f":"Worksheet!AB203","v":0},0,{"$f":"IF(Worksheet!AJ203=0,0,Worksheet!AJ203*10/I184)","v":0},0,null,null,null,{"$f":"IFERROR(Worksheet!V203/(Worksheet!S203),0)","v":0},{"$f":"IF(Worksheet!E203=\"\",\"\",Worksheet!E203)","v":""},{"$f":"IF(Worksheet!B203=\"\",\"\",Worksheet!B203)","v":""},{"$f":"IF(Worksheet!D203=\"\",\"\",Worksheet!D203)","v":""}]
[{"$f":"IF(ISBLANK(Worksheet!F204)=FALSE,VLOOKUP(Worksheet!A204,MeasureCode_Lookup,6,FALSE),\"\")","v":""},{"$f":"Worksheet!H204","v":0},{"$f":"Worksheet!I204","v":0},{"$f":"IFERROR(IF(Worksheet!X204=0,Worksheet!W204/I185,Worksheet!X204/R185),0)","v":0},"W Controlled",null,null,{"$f":"IF(N(Worksheet!S204)=0,N(Worksheet!R204),N(Worksheet!S204))","v":0},{"$f":"IFERROR(Worksheet!U204/(Worksheet!R204),0)","v":0},{"$f":"Worksheet!AC204","v":0},{"$f":"Worksheet!AB204","v":0},0,{"$f":"IF(Worksheet!AJ204=0,0,Worksheet!AJ204*10/I185)","v":0},0,null,null,null,{"$f":"IFERROR(Worksheet!V204/(Worksheet!S204),0)","v":0},{"$f":"IF(Worksheet!E204=\"\",\"\",Worksheet!E204)","v":""},{"$f":"IF(Worksheet!B204=\"\",\"\",Worksheet!B204)","v":""},{"$f":"IF(Worksheet!D204=\"\",\"\",Worksheet!D204)","v":""}]
[{"$f":"IF(ISBLANK(Worksheet!F205)=FALSE,VLOOKUP(Worksheet!A205,MeasureCode_Lookup,6,FALSE),\"\")","v":""},{"$f":"Worksheet!H205","v":0},{"$f":"Worksheet!I205","v":0},{"$f":"IFERROR(IF(Worksheet!X205=0,Worksheet!W205/I186,Worksheet!X205/R186),0)","v":0},"W Controlled",null,null,{"$f":"IF(N(Worksheet!S205)=0,N(Worksheet!R205),N(Worksheet!S205))","v":0},{"$f":"IFERROR(Worksheet!U205/(Worksheet!R205),0)","v":0},{"$f":"Worksheet!AC205","v":0},{"$f":"Worksheet!AB205","v":0},0,{"$f":"IF(Worksheet!AJ205=0,0,Worksheet!AJ205*10/I186)","v":0},0,null,null,null,{"$f":"IFERROR(Worksheet!V205/(Worksheet!S205),0)","v":0},{"$f":"IF(Worksheet!E205=\"\",\"\",Worksheet!E205)","v":""},{"$f":"IF(Worksheet!B205=\"\",\"\",Worksheet!B205)","v":""},{"$f":"IF(Worksheet!D205=\"\",\"\",Worksheet!D205)","v":""}]
[{"$f":"IF(ISBLANK(Worksheet!F206)=FALSE,VLOOKUP(Worksheet!A206,MeasureCode_Lookup,6,FALSE),\"\")","v":""},{"$f":"Worksheet!H206","v":0},{"$f":"Worksheet!I206","v":0},{"$f":"IFERROR(IF(Worksheet!X206=0,Worksheet!W206/I187,Worksheet!X206/R187),0)","v":0},"W Controlled",null,null,{"$f":"IF(N(Worksheet!S206)=0,N(Worksheet!R206),N(Worksheet!S206))","v":0},{"$f":"IFERROR(Worksheet!U206/(Worksheet!R206),0)","v":0},{"$f":"Worksheet!AC206","v":0},{"$f":"Worksheet!AB206","v":0},0,{"$f":"IF(Worksheet!AJ206=0,0,Worksheet!AJ206*10/I187)","v":0},0,null,null,null,{"$f":"IFERROR(Worksheet!V206/(Worksheet!S206),0)","v":0},{"$f":"IF(Worksheet!E206=\"\",\"\",Worksheet!E206)","v":""},{"$f":"IF(Worksheet!B206=\"\",\"\",Worksheet!B206)","v":""},{"$f":"IF(Worksheet!D206=\"\",\"\",Worksheet!D206)","v":""}]
[{"$f":"IF(ISBLANK(Worksheet!F207)=FALSE,VLOOKUP(Worksheet!A207,MeasureCode_Lookup,6,FALSE),\"\")","v":""},{"$f":"Worksheet!H207","v":0},{"$f":"Worksheet!I207","v":0},{"$f":"IFERROR(IF(Worksheet!X207=0,Worksheet!W207/I188,Worksheet!X207/R188),0)","v":0},"W Controlled",null,null,{"$f":"IF(N(Worksheet!S207)=0,N(Worksheet!R207),N(Worksheet!S207))","v":0},{"$f":"IFERROR(Worksheet!U207/(Worksheet!R207),0)","v":0},{"$f":"Worksheet!AC207","v":0},{"$f":"Worksheet!AB207","v":0},0,{"$f":"IF(Worksheet!AJ207=0,0,Worksheet!AJ207*10/I188)","v":0},0,null,null,null,{"$f":"IFERROR(Worksheet!V207/(Worksheet!S207),0)","v":0},{"$f":"IF(Worksheet!E207=\"\",\"\",Worksheet!E207)","v":""},{"$f":"IF(Worksheet!B207=\"\",\"\",Worksheet!B207)","v":""},{"$f":"IF(Worksheet!D207=\"\",\"\",Worksheet!D207)","v":""}]
[{"$f":"IF(ISBLANK(Worksheet!F208)=FALSE,VLOOKUP(Worksheet!A208,MeasureCode_Lookup,6,FALSE),\"\")","v":""},{"$f":"Worksheet!H208","v":0},{"$f":"Worksheet!I208","v":0},{"$f":"IFERROR(IF(Worksheet!X208=0,Worksheet!W208/I189,Worksheet!X208/R189),0)","v":0},"W Controlled",null,null,{"$f":"IF(N(Worksheet!S208)=0,N(Worksheet!R208),N(Worksheet!S208))","v":0},{"$f":"IFERROR(Worksheet!U208/(Worksheet!R208),0)","v":0},{"$f":"Worksheet!AC208","v":0},{"$f":"Worksheet!AB208","v":0},0,{"$f":"IF(Worksheet!AJ208=0,0,Worksheet!AJ208*10/I189)","v":0},0,null,null,null,{"$f":"IFERROR(Worksheet!V208/(Worksheet!S208),0)","v":0},{"$f":"IF(Worksheet!E208=\"\",\"\",Worksheet!E208)","v":""},{"$f":"IF(Worksheet!B208=\"\",\"\",Worksheet!B208)","v":""},{"$f":"IF(Worksheet!D208=\"\",\"\",Worksheet!D208)","v":""}]
[{"$f":"IF(ISBLANK(Worksheet!F209)=FALSE,VLOOKUP(Worksheet!A209,MeasureCode_Lookup,6,FALSE),\"\")","v":""},{"$f":"Worksheet!H209","v":0},{"$f":"Worksheet!I209","v":0},{"$f":"IFERROR(IF(Worksheet!X209=0,Worksheet!W209/I190,Worksheet!X209/R190),0)","v":0},"W Controlled",null,null,{"$f":"IF(N(Worksheet!S209)=0,N(Worksheet!R209),N(Worksheet!S209))","v":0},{"$f":"IFERROR(Worksheet!U209/(Worksheet!R209),0)","v":0},{"$f":"Worksheet!AC209","v":0},{"$f":"Worksheet!AB209","v":0},0,{"$f":"IF(Worksheet!AJ209=0,0,Worksheet!AJ209*10/I190)","v":0},0,null,null,null,{"$f":"IFERROR(Worksheet!V209/(Worksheet!S209),0)","v":0},{"$f":"IF(Worksheet!E209=\"\",\"\",Worksheet!E209)","v":""},{"$f":"IF(Worksheet!B209=\"\",\"\",Worksheet!B209)","v":""},{"$f":"IF(Worksheet!D209=\"\",\"\",Worksheet!D209)","v":""}]
[{"$f":"IF(ISBLANK(Worksheet!F210)=FALSE,VLOOKUP(Worksheet!A210,MeasureCode_Lookup,6,FALSE),\"\")","v":""},{"$f":"Worksheet!H210","v":0},{"$f":"Worksheet!I210","v":0},{"$f":"IFERROR(IF(Worksheet!X210=0,Worksheet!W210/I191,Worksheet!X210/R191),0)","v":0},"W Controlled",null,null,{"$f":"IF(N(Worksheet!S210)=0,N(Worksheet!R210),N(Worksheet!S210))","v":0},{"$f":"IFERROR(Worksheet!U210/(Worksheet!R210),0)","v":0},{"$f":"Worksheet!AC210","v":0},{"$f":"Worksheet!AB210","v":0},0,{"$f":"IF(Worksheet!AJ210=0,0,Worksheet!AJ210*10/I191)","v":0},0,null,null,null,{"$f":"IFERROR(Worksheet!V210/(Worksheet!S210),0)","v":0},{"$f":"IF(Worksheet!E210=\"\",\"\",Worksheet!E210)","v":""},{"$f":"IF(Worksheet!B210=\"\",\"\",Worksheet!B210)","v":""},{"$f":"IF(Worksheet!D210=\"\",\"\",Worksheet!D210)","v":""}]
[{"$f":"IF(ISBLANK(Worksheet!F211)=FALSE,VLOOKUP(Worksheet!A211,MeasureCode_Lookup,6,FALSE),\"\")","v":""},{"$f":"Worksheet!H211","v":0},{"$f":"Worksheet!I211","v":0},{"$f":"IFERROR(IF(Worksheet!X211=0,Worksheet!W211/I192,Worksheet!X211/R192),0)","v":0},"W Controlled",null,null,{"$f":"IF(N(Worksheet!S211)=0,N(Worksheet!R211),N(Worksheet!S211))","v":0},{"$f":"IFERROR(Worksheet!U211/(Worksheet!R211),0)","v":0},{"$f":"Worksheet!AC211","v":0},{"$f":"Worksheet!AB211","v":0},0,{"$f":"IF(Worksheet!AJ211=0,0,Worksheet!AJ211*10/I192)","v":0},0,null,null,null,{"$f":"IFERROR(Worksheet!V211/(Worksheet!S211),0)","v":0},{"$f":"IF(Worksheet!E211=\"\",\"\",Worksheet!E211)","v":""},{"$f":"IF(Worksheet!B211=\"\",\"\",Worksheet!B211)","v":""},{"$f":"IF(Worksheet!D211=\"\",\"\",Worksheet!D211)","v":""}]
[{"$f":"IF(ISBLANK(Worksheet!F212)=FALSE,VLOOKUP(Worksheet!A212,MeasureCode_Lookup,6,FALSE),\"\")","v":""},{"$f":"Worksheet!H212","v":0},{"$f":"Worksheet!I212","v":0},{"$f":"IFERROR(IF(Worksheet!X212=0,Worksheet!W212/I193,Worksheet!X212/R193),0)","v":0},"W Controlled",null,null,{"$f":"IF(N(Worksheet!S212)=0,N(Worksheet!R212),N(Worksheet!S212))","v":0},{"$f":"IFERROR(Worksheet!U212/(Worksheet!R212),0)","v":0},{"$f":"Worksheet!AC212","v":0},{"$f":"Worksheet!AB212","v":0},0,{"$f":"IF(Worksheet!AJ212=0,0,Worksheet!AJ212*10/I193)","v":0},0,null,null,null,{"$f":"IFERROR(Worksheet!V212/(Worksheet!S212),0)","v":0},{"$f":"IF(Worksheet!E212=\"\",\"\",Worksheet!E212)","v":""},{"$f":"IF(Worksheet!B212=\"\",\"\",Worksheet!B212)","v":""},{"$f":"IF(Worksheet!D212=\"\",\"\",Worksheet!D212)","v":""}]
[{"$f":"IF(ISBLANK(Worksheet!F213)=FALSE,VLOOKUP(Worksheet!A213,MeasureCode_Lookup,6,FALSE),\"\")","v":""},{"$f":"Worksheet!H213","v":0},{"$f":"Worksheet!I213","v":0},{"$f":"IFERROR(IF(Worksheet!X213=0,Worksheet!W213/I194,Worksheet!X213/R194),0)","v":0},"W Controlled",null,null,{"$f":"IF(N(Worksheet!S213)=0,N(Worksheet!R213),N(Worksheet!S213))","v":0},{"$f":"IFERROR(Worksheet!U213/(Worksheet!R213),0)","v":0},{"$f":"Worksheet!AC213","v":0},{"$f":"Worksheet!AB213","v":0},0,{"$f":"IF(Worksheet!AJ213=0,0,Worksheet!AJ213*10/I194)","v":0},0,null,null,null,{"$f":"IFERROR(Worksheet!V213/(Worksheet!S213),0)","v":0},{"$f":"IF(Worksheet!E213=\"\",\"\",Worksheet!E213)","v":""},{"$f":"IF(Worksheet!B213=\"\",\"\",Worksheet!B213)","v":""},{"$f":"IF(Worksheet!D213=\"\",\"\",Worksheet!D213)","v":""}]
[{"$f":"IF(ISBLANK(Worksheet!F214)=FALSE,VLOOKUP(Worksheet!A214,MeasureCode_Lookup,6,FALSE),\"\")","v":""},{"$f":"Worksheet!H214","v":0},{"$f":"Worksheet!I214","v":0},{"$f":"IFERROR(IF(Worksheet!X214=0,Worksheet!W214/I195,Worksheet!X214/R195),0)","v":0},"W Controlled",null,null,{"$f":"IF(N(Worksheet!S214)=0,N(Worksheet!R214),N(Worksheet!S214))","v":0},{"$f":"IFERROR(Worksheet!U214/(Worksheet!R214),0)","v":0},{"$f":"Worksheet!AC214","v":0},{"$f":"Worksheet!AB214","v":0},{"$f":"J195*8","v":0},{"$f":"IF(Worksheet!AJ214=0,0,Worksheet!AJ214*10/I195)","v":0},{"$f":"M195*8","v":0},null,null,null,{"$f":"IFERROR(Worksheet!V214/(Worksheet!S214),0)","v":0},{"$f":"IF(Worksheet!E214=\"\",\"\",Worksheet!E214)","v":""},{"$f":"IF(Worksheet!B214=\"\",\"\",Worksheet!B214)","v":""},{"$f":"IF(Worksheet!D214=\"\",\"\",Worksheet!D214)","v":""}]
[{"$f":"IF(ISBLANK(Worksheet!F215)=FALSE,VLOOKUP(Worksheet!A215,MeasureCode_Lookup,6,FALSE),\"\")","v":""},{"$f":"Worksheet!H215","v":0},{"$f":"Worksheet!I215","v":0},{"$f":"IFERROR(IF(Worksheet!X215=0,Worksheet!W215/I196,Worksheet!X215/R196),0)","v":0},"W Controlled",null,null,{"$f":"IF(N(Worksheet!S215)=0,N(Worksheet!R215),N(Worksheet!S215))","v":0},{"$f":"IFERROR(Worksheet!U215/(Worksheet!R215),0)","v":0},{"$f":"Worksheet!AC215","v":0},{"$f":"Worksheet!AB215","v":0},0,{"$f":"IF(Worksheet!AJ215=0,0,Worksheet!AJ215*10/I196)","v":0},0,null,null,null,{"$f":"IFERROR(Worksheet!V215/(Worksheet!S215),0)","v":0},{"$f":"IF(Worksheet!E215=\"\",\"\",Worksheet!E215)","v":""},{"$f":"IF(Worksheet!B215=\"\",\"\",Worksheet!B215)","v":""},{"$f":"IF(Worksheet!D215=\"\",\"\",Worksheet!D215)","v":""}]
[{"$f":"IF(ISBLANK(Worksheet!F216)=FALSE,VLOOKUP(Worksheet!A216,MeasureCode_Lookup,6,FALSE),\"\")","v":""},{"$f":"Worksheet!H216","v":0},{"$f":"Worksheet!I216","v":0},{"$f":"IFERROR(IF(Worksheet!X216=0,Worksheet!W216/I197,Worksheet!X216/R197),0)","v":0},"W Controlled",null,null,{"$f":"IF(N(Worksheet!S216)=0,N(Worksheet!R216),N(Worksheet!S216))","v":0},{"$f":"IFERROR(Worksheet!U216/(Worksheet!R216),0)","v":0},{"$f":"Worksheet!AC216","v":0},{"$f":"Worksheet!AB216","v":0},0,{"$f":"IF(Worksheet!AJ216=0,0,Worksheet!AJ216*10/I197)","v":0},0,null,null,null,{"$f":"IFERROR(Worksheet!V216/(Worksheet!S216),0)","v":0},{"$f":"IF(Worksheet!E216=\"\",\"\",Worksheet!E216)","v":""},{"$f":"IF(Worksheet!B216=\"\",\"\",Worksheet!B216)","v":""},{"$f":"IF(Worksheet!D216=\"\",\"\",Worksheet!D216)","v":""}]
[{"$f":"IF(ISBLANK(Worksheet!F217)=FALSE,VLOOKUP(Worksheet!A217,MeasureCode_Lookup,6,FALSE),\"\")","v":""},{"$f":"Worksheet!H217","v":0},{"$f":"Worksheet!I217","v":0},{"$f":"IFERROR(IF(Worksheet!X217=0,Worksheet!W217/I198,Worksheet!X217/R198),0)","v":0},"W Controlled",null,null,{"$f":"IF(N(Worksheet!S217)=0,N(Worksheet!R217),N(Worksheet!S217))","v":0},{"$f":"IFERROR(Worksheet!U217/(Worksheet!R217),0)","v":0},{"$f":"Worksheet!AC217","v":0},{"$f":"Worksheet!AB217","v":0},0,{"$f":"IF(Worksheet!AJ217=0,0,Worksheet!AJ217*10/I198)","v":0},0,null,null,null,{"$f":"IFERROR(Worksheet!V217/(Worksheet!S217),0)","v":0},{"$f":"IF(Worksheet!E217=\"\",\"\",Worksheet!E217)","v":""},{"$f":"IF(Worksheet!B217=\"\",\"\",Worksheet!B217)","v":""},{"$f":"IF(Worksheet!D217=\"\",\"\",Worksheet!D217)","v":""}]
[{"$f":"IF(ISBLANK(Worksheet!F218)=FALSE,VLOOKUP(Worksheet!A218,MeasureCode_Lookup,6,FALSE),\"\")","v":""},{"$f":"Worksheet!H218","v":0},{"$f":"Worksheet!I218","v":0},{"$f":"IFERROR(IF(Worksheet!X218=0,Worksheet!W218/I199,Worksheet!X218/R199),0)","v":0},"W Controlled",null,null,{"$f":"IF(N(Worksheet!S218)=0,N(Worksheet!R218),N(Worksheet!S218))","v":0},{"$f":"IFERROR(Worksheet!U218/(Worksheet!R218),0)","v":0},{"$f":"Worksheet!AC218","v":0},{"$f":"Worksheet!AB218","v":0},0,{"$f":"IF(Worksheet!AJ218=0,0,Worksheet!AJ218*10/I199)","v":0},0,null,null,null,{"$f":"IFERROR(Worksheet!V218/(Worksheet!S218),0)","v":0},{"$f":"IF(Worksheet!E218=\"\",\"\",Worksheet!E218)","v":""},{"$f":"IF(Worksheet!B218=\"\",\"\",Worksheet!B218)","v":""},{"$f":"IF(Worksheet!D218=\"\",\"\",Worksheet!D218)","v":""}]
[{"$f":"IF(ISBLANK(Worksheet!F219)=FALSE,VLOOKUP(Worksheet!A219,MeasureCode_Lookup,6,FALSE),\"\")","v":""},{"$f":"Worksheet!H219","v":0},{"$f":"Worksheet!I219","v":0},{"$f":"IFERROR(IF(Worksheet!X219=0,Worksheet!W219/I200,Worksheet!X219/R200),0)","v":0},"W Controlled",null,null,{"$f":"IF(N(Worksheet!S219)=0,N(Worksheet!R219),N(Worksheet!S219))","v":0},{"$f":"IFERROR(Worksheet!U219/(Worksheet!R219),0)","v":0},{"$f":"Worksheet!AC219","v":0},{"$f":"Worksheet!AB219","v":0},0,{"$f":"IF(Worksheet!AJ219=0,0,Worksheet!AJ219*10/I200)","v":0},0,null,null,null,{"$f":"IFERROR(Worksheet!V219/(Worksheet!S219),0)","v":0},{"$f":"IF(Worksheet!E219=\"\",\"\",Worksheet!E219)","v":""},{"$f":"IF(Worksheet!B219=\"\",\"\",Worksheet!B219)","v":""},{"$f":"IF(Worksheet!D219=\"\",\"\",Worksheet!D219)","v":""}]
[{"$f":"IF(ISBLANK(Worksheet!F220)=FALSE,VLOOKUP(Worksheet!A220,MeasureCode_Lookup,6,FALSE),\"\")","v":""},{"$f":"Worksheet!H220","v":0},{"$f":"Worksheet!I220","v":0},{"$f":"IFERROR(IF(Worksheet!X220=0,Worksheet!W220/I201,Worksheet!X220/R201),0)","v":0},"W Controlled",null,null,{"$f":"IF(N(Worksheet!S220)=0,N(Worksheet!R220),N(Worksheet!S220))","v":0},{"$f":"IFERROR(Worksheet!U220/(Worksheet!R220),0)","v":0},{"$f":"Worksheet!AC220","v":0},{"$f":"Worksheet!AB220","v":0},0,{"$f":"IF(Worksheet!AJ220=0,0,Worksheet!AJ220*10/I201)","v":0},0,null,null,null,{"$f":"IFERROR(Worksheet!V220/(Worksheet!S220),0)","v":0},{"$f":"IF(Worksheet!E220=\"\",\"\",Worksheet!E220)","v":""},{"$f":"IF(Worksheet!B220=\"\",\"\",Worksheet!B220)","v":""},{"$f":"IF(Worksheet!D220=\"\",\"\",Worksheet!D220)","v":""}]
[{"$f":"IF(ISBLANK(Worksheet!F221)=FALSE,VLOOKUP(Worksheet!A221,MeasureCode_Lookup,6,FALSE),\"\")","v":""},{"$f":"Worksheet!H221","v":0},{"$f":"Worksheet!I221","v":0},{"$f":"IFERROR(IF(Worksheet!X221=0,Worksheet!W221/I202,Worksheet!X221/R202),0)","v":0},"W Controlled",null,null,{"$f":"IF(N(Worksheet!S221)=0,N(Worksheet!R221),N(Worksheet!S221))","v":0},{"$f":"IFERROR(Worksheet!U221/(Worksheet!R221),0)","v":0},{"$f":"Worksheet!AC221","v":0},{"$f":"Worksheet!AB221","v":0},0,{"$f":"IF(Worksheet!AJ221=0,0,Worksheet!AJ221*10/I202)","v":0},0,null,null,null,{"$f":"IFERROR(Worksheet!V221/(Worksheet!S221),0)","v":0},{"$f":"IF(Worksheet!E221=\"\",\"\",Worksheet!E221)","v":""},{"$f":"IF(Worksheet!B221=\"\",\"\",Worksheet!B221)","v":""},{"$f":"IF(Worksheet!D221=\"\",\"\",Worksheet!D221)","v":""}]
[{"$f":"IF(ISBLANK(Worksheet!F222)=FALSE,VLOOKUP(Worksheet!A222,MeasureCode_Lookup,6,FALSE),\"\")","v":""},{"$f":"Worksheet!H222","v":0},{"$f":"Worksheet!I222","v":0},{"$f":"IFERROR(IF(Worksheet!X222=0,Worksheet!W222/I203,Worksheet!X222/R203),0)","v":0},"W Controlled",null,null,{"$f":"IF(N(Worksheet!S222)=0,N(Worksheet!R222),N(Worksheet!S222))","v":0},{"$f":"IFERROR(Worksheet!U222/(Worksheet!R222),0)","v":0},{"$f":"Worksheet!AC222","v":0},{"$f":"Worksheet!AB222","v":0},0,{"$f":"IF(Worksheet!AJ222=0,0,Worksheet!AJ222*10/I203)","v":0},0,null,null,null,{"$f":"IFERROR(Worksheet!V222/(Worksheet!S222),0)","v":0},{"$f":"IF(Worksheet!E222=\"\",\"\",Worksheet!E222)","v":""},{"$f":"IF(Worksheet!B222=\"\",\"\",Worksheet!B222)","v":""},{"$f":"IF(Worksheet!D222=\"\",\"\",Worksheet!D222)","v":""}]
[{"$f":"IF(ISBLANK(Worksheet!F223)=FALSE,VLOOKUP(Worksheet!A223,MeasureCode_Lookup,6,FALSE),\"\")","v":""},{"$f":"Worksheet!H223","v":0},{"$f":"Worksheet!I223","v":0},{"$f":"IFERROR(IF(Worksheet!X223=0,Worksheet!W223/I204,Worksheet!X223/R204),0)","v":0},"W Controlled",null,null,{"$f":"IF(N(Worksheet!S223)=0,N(Worksheet!R223),N(Worksheet!S223))","v":0},{"$f":"IFERROR(Worksheet!U223/(Worksheet!R223),0)","v":0},{"$f":"Worksheet!AC223","v":0},{"$f":"Worksheet!AB223","v":0},0,{"$f":"IF(Worksheet!AJ223=0,0,Worksheet!AJ223*10/I204)","v":0},0,null,null,null,{"$f":"IFERROR(Worksheet!V223/(Worksheet!S223),0)","v":0},{"$f":"IF(Worksheet!E223=\"\",\"\",Worksheet!E223)","v":""},{"$f":"IF(Worksheet!B223=\"\",\"\",Worksheet!B223)","v":""},{"$f":"IF(Worksheet!D223=\"\",\"\",Worksheet!D223)","v":""}]
[{"$f":"IF(ISBLANK(Worksheet!F224)=FALSE,VLOOKUP(Worksheet!A224,MeasureCode_Lookup,6,FALSE),\"\")","v":""},{"$f":"Worksheet!H224","v":0},{"$f":"Worksheet!I224","v":0},{"$f":"IFERROR(IF(Worksheet!X224=0,Worksheet!W224/I205,Worksheet!X224/R205),0)","v":0},"W Controlled",null,null,{"$f":"IF(N(Worksheet!S224)=0,N(Worksheet!R224),N(Worksheet!S224))","v":0},{"$f":"IFERROR(Worksheet!U224/(Worksheet!R224),0)","v":0},{"$f":"Worksheet!AC224","v":0},{"$f":"Worksheet!AB224","v":0},0,{"$f":"IF(Worksheet!AJ224=0,0,Worksheet!AJ224*10/I205)","v":0},0,null,null,null,{"$f":"IFERROR(Worksheet!V224/(Worksheet!S224),0)","v":0},{"$f":"IF(Worksheet!E224=\"\",\"\",Worksheet!E224)","v":""},{"$f":"IF(Worksheet!B224=\"\",\"\",Worksheet!B224)","v":""},{"$f":"IF(Worksheet!D224=\"\",\"\",Worksheet!D224)","v":""}]
[{"$f":"IF(ISBLANK(Worksheet!F225)=FALSE,VLOOKUP(Worksheet!A225,MeasureCode_Lookup,6,FALSE),\"\")","v":""},{"$f":"Worksheet!H225","v":0},{"$f":"Worksheet!I225","v":0},{"$f":"IFERROR(IF(Worksheet!X225=0,Worksheet!W225/I206,Worksheet!X225/R206),0)","v":0},"W Controlled",null,null,{"$f":"IF(N(Worksheet!S225)=0,N(Worksheet!R225),N(Worksheet!S225))","v":0},{"$f":"IFERROR(Worksheet!U225/(Worksheet!R225),0)","v":0},{"$f":"Worksheet!AC225","v":0},{"$f":"Worksheet!AB225","v":0},0,{"$f":"IF(Worksheet!AJ225=0,0,Worksheet!AJ225*10/I206)","v":0},0,null,null,null,{"$f":"IFERROR(Worksheet!V225/(Worksheet!S225),0)","v":0},{"$f":"IF(Worksheet!E225=\"\",\"\",Worksheet!E225)","v":""},{"$f":"IF(Worksheet!B225=\"\",\"\",Worksheet!B225)","v":""},{"$f":"IF(Worksheet!D225=\"\",\"\",Worksheet!D225)","v":""}]
[{"$f":"IF(ISBLANK(Worksheet!F226)=FALSE,VLOOKUP(Worksheet!A226,MeasureCode_Lookup,6,FALSE),\"\")","v":""},{"$f":"Worksheet!H226","v":0},{"$f":"Worksheet!I226","v":0},{"$f":"IFERROR(IF(Worksheet!X226=0,Worksheet!W226/I207,Worksheet!X226/R207),0)","v":0},"W Controlled",null,null,{"$f":"IF(N(Worksheet!S226)=0,N(Worksheet!R226),N(Worksheet!S226))","v":0},{"$f":"IFERROR(Worksheet!U226/(Worksheet!R226),0)","v":0},{"$f":"Worksheet!AC226","v":0},{"$f":"Worksheet!AB226","v":0},0,{"$f":"IF(Worksheet!AJ226=0,0,Worksheet!AJ226*10/I207)","v":0},0,null,null,null,{"$f":"IFERROR(Worksheet!V226/(Worksheet!S226),0)","v":0},{"$f":"IF(Worksheet!E226=\"\",\"\",Worksheet!E226)","v":""},{"$f":"IF(Worksheet!B226=\"\",\"\",Worksheet!B226)","v":""},{"$f":"IF(Worksheet!D226=\"\",\"\",Worksheet!D226)","v":""}]
[{"$f":"IF(ISBLANK(Worksheet!F227)=FALSE,VLOOKUP(Worksheet!A227,MeasureCode_Lookup,6,FALSE),\"\")","v":""},{"$f":"Worksheet!H227","v":0},{"$f":"Worksheet!I227","v":0},{"$f":"IFERROR(IF(Worksheet!X227=0,Worksheet!W227/I208,Worksheet!X227/R208),0)","v":0},"W Controlled",null,null,{"$f":"IF(N(Worksheet!S227)=0,N(Worksheet!R227),N(Worksheet!S227))","v":0},{"$f":"IFERROR(Worksheet!U227/(Worksheet!R227),0)","v":0},{"$f":"Worksheet!AC227","v":0},{"$f":"Worksheet!AB227","v":0},0,{"$f":"IF(Worksheet!AJ227=0,0,Worksheet!AJ227*10/I208)","v":0},0,null,null,null,{"$f":"IFERROR(Worksheet!V227/(Worksheet!S227),0)","v":0},{"$f":"IF(Worksheet!E227=\"\",\"\",Worksheet!E227)","v":""},{"$f":"IF(Worksheet!B227=\"\",\"\",Worksheet!B227)","v":""},{"$f":"IF(Worksheet!D227=\"\",\"\",Worksheet!D227)","v":""}]
[{"$f":"IF(ISBLANK(Worksheet!F228)=FALSE,VLOOKUP(Worksheet!A228,MeasureCode_Lookup,6,FALSE),\"\")","v":""},{"$f":"Worksheet!H228","v":0},{"$f":"Worksheet!I228","v":0},{"$f":"IFERROR(IF(Worksheet!X228=0,Worksheet!W228/I209,Worksheet!X228/R209),0)","v":0},"W Controlled",null,null,{"$f":"IF(N(Worksheet!S228)=0,N(Worksheet!R228),N(Worksheet!S228))","v":0},{"$f":"IFERROR(Worksheet!U228/(Worksheet!R228),0)","v":0},{"$f":"Worksheet!AC228","v":0},{"$f":"Worksheet!AB228","v":0},0,{"$f":"IF(Worksheet!AJ228=0,0,Worksheet!AJ228*10/I209)","v":0},0,null,null,null,{"$f":"IFERROR(Worksheet!V228/(Worksheet!S228),0)","v":0},{"$f":"IF(Worksheet!E228=\"\",\"\",Worksheet!E228)","v":""},{"$f":"IF(Worksheet!B228=\"\",\"\",Worksheet!B228)","v":""},{"$f":"IF(Worksheet!D228=\"\",\"\",Worksheet!D228)","v":""}]
[{"$f":"IF(ISBLANK(Worksheet!F229)=FALSE,VLOOKUP(Worksheet!A229,MeasureCode_Lookup,6,FALSE),\"\")","v":""},{"$f":"Worksheet!H229","v":0},{"$f":"Worksheet!I229","v":0},{"$f":"IFERROR(IF(Worksheet!X229=0,Worksheet!W229/I210,Worksheet!X229/R210),0)","v":0},"W Controlled",null,null,{"$f":"IF(N(Worksheet!S229)=0,N(Worksheet!R229),N(Worksheet!S229))","v":0},{"$f":"IFERROR(Worksheet!U229/(Worksheet!R229),0)","v":0},{"$f":"Worksheet!AC229","v":0},{"$f":"Worksheet!AB229","v":0},0,{"$f":"IF(Worksheet!AJ229=0,0,Worksheet!AJ229*10/I210)","v":0},0,null,null,null,{"$f":"IFERROR(Worksheet!V229/(Worksheet!S229),0)","v":0},{"$f":"IF(Worksheet!E229=\"\",\"\",Worksheet!E229)","v":""},{"$f":"IF(Worksheet!B229=\"\",\"\",Worksheet!B229)","v":""},{"$f":"IF(Worksheet!D229=\"\",\"\",Worksheet!D229)","v":""}]
[{"$f":"IF(ISBLANK(Worksheet!F230)=FALSE,VLOOKUP(Worksheet!A230,MeasureCode_Lookup,6,FALSE),\"\")","v":""},{"$f":"Worksheet!H230","v":0},{"$f":"Worksheet!I230","v":0},{"$f":"IFERROR(IF(Worksheet!X230=0,Worksheet!W230/I211,Worksheet!X230/R211),0)","v":0},"W Controlled",null,null,{"$f":"IF(N(Worksheet!S230)=0,N(Worksheet!R230),N(Worksheet!S230))","v":0},{"$f":"IFERROR(Worksheet!U230/(Worksheet!R230),0)","v":0},{"$f":"Worksheet!AC230","v":0},{"$f":"Worksheet!AB230","v":0},0,{"$f":"IF(Worksheet!AJ230=0,0,Worksheet!AJ230*10/I211)","v":0},0,null,null,null,{"$f":"IFERROR(Worksheet!V230/(Worksheet!S230),0)","v":0},{"$f":"IF(Worksheet!E230=\"\",\"\",Worksheet!E230)","v":""},{"$f":"IF(Worksheet!B230=\"\",\"\",Worksheet!B230)","v":""},{"$f":"IF(Worksheet!D230=\"\",\"\",Worksheet!D230)","v":""}]
[{"$f":"IF(ISBLANK(Worksheet!F231)=FALSE,VLOOKUP(Worksheet!A231,MeasureCode_Lookup,6,FALSE),\"\")","v":""},{"$f":"Worksheet!H231","v":0},{"$f":"Worksheet!I231","v":0},{"$f":"IFERROR(IF(Worksheet!X231=0,Worksheet!W231/I212,Worksheet!X231/R212),0)","v":0},"W Controlled",null,null,{"$f":"IF(N(Worksheet!S231)=0,N(Worksheet!R231),N(Worksheet!S231))","v":0},{"$f":"IFERROR(Worksheet!U231/(Worksheet!R231),0)","v":0},{"$f":"Worksheet!AC231","v":0},{"$f":"Worksheet!AB231","v":0},0,{"$f":"IF(Worksheet!AJ231=0,0,Worksheet!AJ231*10/I212)","v":0},0,null,null,null,{"$f":"IFERROR(Worksheet!V231/(Worksheet!S231),0)","v":0},{"$f":"IF(Worksheet!E231=\"\",\"\",Worksheet!E231)","v":""},{"$f":"IF(Worksheet!B231=\"\",\"\",Worksheet!B231)","v":""},{"$f":"IF(Worksheet!D231=\"\",\"\",Worksheet!D231)","v":""}]
[{"$f":"IF(ISBLANK(Worksheet!F232)=FALSE,VLOOKUP(Worksheet!A232,MeasureCode_Lookup,6,FALSE),\"\")","v":""},{"$f":"Worksheet!H232","v":0},{"$f":"Worksheet!I232","v":0},{"$f":"IFERROR(IF(Worksheet!X232=0,Worksheet!W232/I213,Worksheet!X232/R213),0)","v":0},"W Controlled",null,null,{"$f":"IF(N(Worksheet!S232)=0,N(Worksheet!R232),N(Worksheet!S232))","v":0},{"$f":"IFERROR(Worksheet!U232/(Worksheet!R232),0)","v":0},{"$f":"Worksheet!AC232","v":0},{"$f":"Worksheet!AB232","v":0},0,{"$f":"IF(Worksheet!AJ232=0,0,Worksheet!AJ232*10/I213)","v":0},0,null,null,null,{"$f":"IFERROR(Worksheet!V232/(Worksheet!S232),0)","v":0},{"$f":"IF(Worksheet!E232=\"\",\"\",Worksheet!E232)","v":""},{"$f":"IF(Worksheet!B232=\"\",\"\",Worksheet!B232)","v":""},{"$f":"IF(Worksheet!D232=\"\",\"\",Worksheet!D232)","v":""}]
[{"$f":"IF(ISBLANK(Worksheet!F233)=FALSE,VLOOKUP(Worksheet!A233,MeasureCode_Lookup,6,FALSE),\"\")","v":""},{"$f":"Worksheet!H233","v":0},{"$f":"Worksheet!I233","v":0},{"$f":"IFERROR(IF(Worksheet!X233=0,Worksheet!W233/I214,Worksheet!X233/R214),0)","v":0},"W Controlled",null,null,{"$f":"IF(N(Worksheet!S233)=0,N(Worksheet!R233),N(Worksheet!S233))","v":0},{"$f":"IFERROR(Worksheet!U233/(Worksheet!R233),0)","v":0},{"$f":"Worksheet!AC233","v":0},{"$f":"Worksheet!AB233","v":0},0,{"$f":"IF(Worksheet!AJ233=0,0,Worksheet!AJ233*10/I214)","v":0},0,null,null,null,{"$f":"IFERROR(Worksheet!V233/(Worksheet!S233),0)","v":0},{"$f":"IF(Worksheet!E233=\"\",\"\",Worksheet!E233)","v":""},{"$f":"IF(Worksheet!B233=\"\",\"\",Worksheet!B233)","v":""},{"$f":"IF(Worksheet!D233=\"\",\"\",Worksheet!D233)","v":""}]
[{"$f":"IF(ISBLANK(Worksheet!F234)=FALSE,VLOOKUP(Worksheet!A234,MeasureCode_Lookup,6,FALSE),\"\")","v":""},{"$f":"Worksheet!H234","v":0},{"$f":"Worksheet!I234","v":0},{"$f":"IFERROR(IF(Worksheet!X234=0,Worksheet!W234/I215,Worksheet!X234/R215),0)","v":0},"W Controlled",null,null,{"$f":"IF(N(Worksheet!S234)=0,N(Worksheet!R234),N(Worksheet!S234))","v":0},{"$f":"IFERROR(Worksheet!U234/(Worksheet!R234),0)","v":0},{"$f":"Worksheet!AC234","v":0},{"$f":"Worksheet!AB234","v":0},0,{"$f":"IF(Worksheet!AJ234=0,0,Worksheet!AJ234*10/I215)","v":0},0,null,null,null,{"$f":"IFERROR(Worksheet!V234/(Worksheet!S234),0)","v":0},{"$f":"IF(Worksheet!E234=\"\",\"\",Worksheet!E234)","v":""},{"$f":"IF(Worksheet!B234=\"\",\"\",Worksheet!B234)","v":""},{"$f":"IF(Worksheet!D234=\"\",\"\",Worksheet!D234)","v":""}]
[{"$f":"IF(ISBLANK(Worksheet!F235)=FALSE,VLOOKUP(Worksheet!A235,MeasureCode_Lookup,6,FALSE),\"\")","v":""},{"$f":"Worksheet!H235","v":0},{"$f":"Worksheet!I235","v":0},{"$f":"IFERROR(IF(Worksheet!X235=0,Worksheet!W235/I216,Worksheet!X235/R216),0)","v":0},"W Controlled",null,null,{"$f":"IF(N(Worksheet!S235)=0,N(Worksheet!R235),N(Worksheet!S235))","v":0},{"$f":"IFERROR(Worksheet!U235/(Worksheet!R235),0)","v":0},{"$f":"Worksheet!AC235","v":0},{"$f":"Worksheet!AB235","v":0},0,{"$f":"IF(Worksheet!AJ235=0,0,Worksheet!AJ235*10/I216)","v":0},0,null,null,null,{"$f":"IFERROR(Worksheet!V235/(Worksheet!S235),0)","v":0},{"$f":"IF(Worksheet!E235=\"\",\"\",Worksheet!E235)","v":""},{"$f":"IF(Worksheet!B235=\"\",\"\",Worksheet!B235)","v":""},{"$f":"IF(Worksheet!D235=\"\",\"\",Worksheet!D235)","v":""}]
[{"$f":"IF(ISBLANK(Worksheet!F236)=FALSE,VLOOKUP(Worksheet!A236,MeasureCode_Lookup,6,FALSE),\"\")","v":""},{"$f":"Worksheet!H236","v":0},{"$f":"Worksheet!I236","v":0},{"$f":"IFERROR(IF(Worksheet!X236=0,Worksheet!W236/I217,Worksheet!X236/R217),0)","v":0},"W Controlled",null,null,{"$f":"IF(N(Worksheet!S236)=0,N(Worksheet!R236),N(Worksheet!S236))","v":0},{"$f":"IFERROR(Worksheet!U236/(Worksheet!R236),0)","v":0},{"$f":"Worksheet!AC236","v":0},{"$f":"Worksheet!AB236","v":0},0,{"$f":"IF(Worksheet!AJ236=0,0,Worksheet!AJ236*10/I217)","v":0},0,null,null,null,{"$f":"IFERROR(Worksheet!V236/(Worksheet!S236),0)","v":0},{"$f":"IF(Worksheet!E236=\"\",\"\",Worksheet!E236)","v":""},{"$f":"IF(Worksheet!B236=\"\",\"\",Worksheet!B236)","v":""},{"$f":"IF(Worksheet!D236=\"\",\"\",Worksheet!D236)","v":""}]
[{"$f":"IF(ISBLANK(Worksheet!F237)=FALSE,VLOOKUP(Worksheet!A237,MeasureCode_Lookup,6,FALSE),\"\")","v":""},{"$f":"Worksheet!H237","v":0},{"$f":"Worksheet!I237","v":0},{"$f":"IFERROR(IF(Worksheet!X237=0,Worksheet!W237/I218,Worksheet!X237/R218),0)","v":0},"W Controlled",null,null,{"$f":"IF(N(Worksheet!S237)=0,N(Worksheet!R237),N(Worksheet!S237))","v":0},{"$f":"IFERROR(Worksheet!U237/(Worksheet!R237),0)","v":0},{"$f":"Worksheet!AC237","v":0},{"$f":"Worksheet!AB237","v":0},0,{"$f":"IF(Worksheet!AJ237=0,0,Worksheet!AJ237*10/I218)","v":0},0,null,null,null,{"$f":"IFERROR(Worksheet!V237/(Worksheet!S237),0)","v":0},{"$f":"IF(Worksheet!E237=\"\",\"\",Worksheet!E237)","v":""},{"$f":"IF(Worksheet!B237=\"\",\"\",Worksheet!B237)","v":""},{"$f":"IF(Worksheet!D237=\"\",\"\",Worksheet!D237)","v":""}]
[{"$f":"IF(ISBLANK(Worksheet!F238)=FALSE,VLOOKUP(Worksheet!A238,MeasureCode_Lookup,6,FALSE),\"\")","v":""},{"$f":"Worksheet!H238","v":0},{"$f":"Worksheet!I238","v":0},{"$f":"IFERROR(IF(Worksheet!X238=0,Worksheet!W238/I219,Worksheet!X238/R219),0)","v":0},"W Controlled",null,null,{"$f":"IF(N(Worksheet!S238)=0,N(Worksheet!R238),N(Worksheet!S238))","v":0},{"$f":"IFERROR(Worksheet!U238/(Worksheet!R238),0)","v":0},{"$f":"Worksheet!AC238","v":0},{"$f":"Worksheet!AB238","v":0},0,{"$f":"IF(Worksheet!AJ238=0,0,Worksheet!AJ238*10/I219)","v":0},0,null,null,null,{"$f":"IFERROR(Worksheet!V238/(Worksheet!S238),0)","v":0},{"$f":"IF(Worksheet!E238=\"\",\"\",Worksheet!E238)","v":""},{"$f":"IF(Worksheet!B238=\"\",\"\",Worksheet!B238)","v":""},{"$f":"IF(Worksheet!D238=\"\",\"\",Worksheet!D238)","v":""}]
[{"$f":"IF(ISBLANK(Worksheet!F239)=FALSE,VLOOKUP(Worksheet!A239,MeasureCode_Lookup,6,FALSE),\"\")","v":""},{"$f":"Worksheet!H239","v":0},{"$f":"Worksheet!I239","v":0},{"$f":"IFERROR(IF(Worksheet!X239=0,Worksheet!W239/I220,Worksheet!X239/R220),0)","v":0},"W Controlled",null,null,{"$f":"IF(N(Worksheet!S239)=0,N(Worksheet!R239),N(Worksheet!S239))","v":0},{"$f":"IFERROR(Worksheet!U239/(Worksheet!R239),0)","v":0},{"$f":"Worksheet!AC239","v":0},{"$f":"Worksheet!AB239","v":0},0,{"$f":"IF(Worksheet!AJ239=0,0,Worksheet!AJ239*10/I220)","v":0},0,null,null,null,{"$f":"IFERROR(Worksheet!V239/(Worksheet!S239),0)","v":0},{"$f":"IF(Worksheet!E239=\"\",\"\",Worksheet!E239)","v":""},{"$f":"IF(Worksheet!B239=\"\",\"\",Worksheet!B239)","v":""},{"$f":"IF(Worksheet!D239=\"\",\"\",Worksheet!D239)","v":""}]
[{"$f":"IF(ISBLANK(Worksheet!F240)=FALSE,VLOOKUP(Worksheet!A240,MeasureCode_Lookup,6,FALSE),\"\")","v":""},{"$f":"Worksheet!H240","v":0},{"$f":"Worksheet!I240","v":0},{"$f":"IFERROR(IF(Worksheet!X240=0,Worksheet!W240/I221,Worksheet!X240/R221),0)","v":0},"W Controlled",null,null,{"$f":"IF(N(Worksheet!S240)=0,N(Worksheet!R240),N(Worksheet!S240))","v":0},{"$f":"IFERROR(Worksheet!U240/(Worksheet!R240),0)","v":0},{"$f":"Worksheet!AC240","v":0},{"$f":"Worksheet!AB240","v":0},0,{"$f":"IF(Worksheet!AJ240=0,0,Worksheet!AJ240*10/I221)","v":0},0,null,null,null,{"$f":"IFERROR(Worksheet!V240/(Worksheet!S240),0)","v":0},{"$f":"IF(Worksheet!E240=\"\",\"\",Worksheet!E240)","v":""},{"$f":"IF(Worksheet!B240=\"\",\"\",Worksheet!B240)","v":""},{"$f":"IF(Worksheet!D240=\"\",\"\",Worksheet!D240)","v":""}]
[{"$f":"IF(ISBLANK(Worksheet!F241)=FALSE,VLOOKUP(Worksheet!A241,MeasureCode_Lookup,6,FALSE),\"\")","v":""},{"$f":"Worksheet!H241","v":0},{"$f":"Worksheet!I241","v":0},{"$f":"IFERROR(IF(Worksheet!X241=0,Worksheet!W241/I222,Worksheet!X241/R222),0)","v":0},"W Controlled",null,null,{"$f":"IF(N(Worksheet!S241)=0,N(Worksheet!R241),N(Worksheet!S241))","v":0},{"$f":"IFERROR(Worksheet!U241/(Worksheet!R241),0)","v":0},{"$f":"Worksheet!AC241","v":0},{"$f":"Worksheet!AB241","v":0},0,{"$f":"IF(Worksheet!AJ241=0,0,Worksheet!AJ241*10/I222)","v":0},0,null,null,null,{"$f":"IFERROR(Worksheet!V241/(Worksheet!S241),0)","v":0},{"$f":"IF(Worksheet!E241=\"\",\"\",Worksheet!E241)","v":""},{"$f":"IF(Worksheet!B241=\"\",\"\",Worksheet!B241)","v":""},{"$f":"IF(Worksheet!D241=\"\",\"\",Worksheet!D241)","v":""}]
[{"$f":"IF(ISBLANK(Worksheet!F242)=FALSE,VLOOKUP(Worksheet!A242,MeasureCode_Lookup,6,FALSE),\"\")","v":""},{"$f":"Worksheet!H242","v":0},{"$f":"Worksheet!I242","v":0},{"$f":"IFERROR(IF(Worksheet!X242=0,Worksheet!W242/I223,Worksheet!X242/R223),0)","v":0},"W Controlled",null,null,{"$f":"IF(N(Worksheet!S242)=0,N(Worksheet!R242),N(Worksheet!S242))","v":0},{"$f":"IFERROR(Worksheet!U242/(Worksheet!R242),0)","v":0},{"$f":"Worksheet!AC242","v":0},{"$f":"Worksheet!AB242","v":0},0,{"$f":"IF(Worksheet!AJ242=0,0,Worksheet!AJ242*10/I223)","v":0},0,null,null,null,{"$f":"IFERROR(Worksheet!V242/(Worksheet!S242),0)","v":0},{"$f":"IF(Worksheet!E242=\"\",\"\",Worksheet!E242)","v":""},{"$f":"IF(Worksheet!B242=\"\",\"\",Worksheet!B242)","v":""},{"$f":"IF(Worksheet!D242=\"\",\"\",Worksheet!D242)","v":""}]
[{"$f":"IF(ISBLANK(Worksheet!F243)=FALSE,VLOOKUP(Worksheet!A243,MeasureCode_Lookup,6,FALSE),\"\")","v":""},{"$f":"Worksheet!H243","v":0},{"$f":"Worksheet!I243","v":0},{"$f":"IFERROR(IF(Worksheet!X243=0,Worksheet!W243/I224,Worksheet!X243/R224),0)","v":0},"W Controlled",null,null,{"$f":"IF(N(Worksheet!S243)=0,N(Worksheet!R243),N(Worksheet!S243))","v":0},{"$f":"IFERROR(Worksheet!U243/(Worksheet!R243),0)","v":0},{"$f":"Worksheet!AC243","v":0},{"$f":"Worksheet!AB243","v":0},0,{"$f":"IF(Worksheet!AJ243=0,0,Worksheet!AJ243*10/I224)","v":0},0,null,null,null,{"$f":"IFERROR(Worksheet!V243/(Worksheet!S243),0)","v":0},{"$f":"IF(Worksheet!E243=\"\",\"\",Worksheet!E243)","v":""},{"$f":"IF(Worksheet!B243=\"\",\"\",Worksheet!B243)","v":""},{"$f":"IF(Worksheet!D243=\"\",\"\",Worksheet!D243)","v":""}]
[{"$f":"IF(ISBLANK(Worksheet!F244)=FALSE,VLOOKUP(Worksheet!A244,MeasureCode_Lookup,6,FALSE),\"\")","v":""},{"$f":"Worksheet!H244","v":0},{"$f":"Worksheet!I244","v":0},{"$f":"IFERROR(IF(Worksheet!X244=0,Worksheet!W244/I225,Worksheet!X244/R225),0)","v":0},"W Controlled",null,null,{"$f":"IF(N(Worksheet!S244)=0,N(Worksheet!R244),N(Worksheet!S244))","v":0},{"$f":"IFERROR(Worksheet!U244/(Worksheet!R244),0)","v":0},{"$f":"Worksheet!AC244","v":0},{"$f":"Worksheet!AB244","v":0},0,{"$f":"IF(Worksheet!AJ244=0,0,Worksheet!AJ244*10/I225)","v":0},0,null,null,null,{"$f":"IFERROR(Worksheet!V244/(Worksheet!S244),0)","v":0},{"$f":"IF(Worksheet!E244=\"\",\"\",Worksheet!E244)","v":""},{"$f":"IF(Worksheet!B244=\"\",\"\",Worksheet!B244)","v":""},{"$f":"IF(Worksheet!D244=\"\",\"\",Worksheet!D244)","v":""}]
[{"$f":"IF(ISBLANK(Worksheet!F245)=FALSE,VLOOKUP(Worksheet!A245,MeasureCode_Lookup,6,FALSE),\"\")","v":""},{"$f":"Worksheet!H245","v":0},{"$f":"Worksheet!I245","v":0},{"$f":"IFERROR(IF(Worksheet!X245=0,Worksheet!W245/I226,Worksheet!X245/R226),0)","v":0},"W Controlled",null,null,{"$f":"IF(N(Worksheet!S245)=0,N(Worksheet!R245),N(Worksheet!S245))","v":0},{"$f":"IFERROR(Worksheet!U245/(Worksheet!R245),0)","v":0},{"$f":"Worksheet!AC245","v":0},{"$f":"Worksheet!AB245","v":0},0,{"$f":"IF(Worksheet!AJ245=0,0,Worksheet!AJ245*10/I226)","v":0},0,null,null,null,{"$f":"IFERROR(Worksheet!V245/(Worksheet!S245),0)","v":0},{"$f":"IF(Worksheet!E245=\"\",\"\",Worksheet!E245)","v":""},{"$f":"IF(Worksheet!B245=\"\",\"\",Worksheet!B245)","v":""},{"$f":"IF(Worksheet!D245=\"\",\"\",Worksheet!D245)","v":""}]
[{"$f":"IF(ISBLANK(Worksheet!F246)=FALSE,VLOOKUP(Worksheet!A246,MeasureCode_Lookup,6,FALSE),\"\")","v":""},{"$f":"Worksheet!H246","v":0},{"$f":"Worksheet!I246","v":0},{"$f":"IFERROR(IF(Worksheet!X246=0,Worksheet!W246/I227,Worksheet!X246/R227),0)","v":0},"W Controlled",null,null,{"$f":"IF(N(Worksheet!S246)=0,N(Worksheet!R246),N(Worksheet!S246))","v":0},{"$f":"IFERROR(Worksheet!U246/(Worksheet!R246),0)","v":0},{"$f":"Worksheet!AC246","v":0},{"$f":"Worksheet!AB246","v":0},0,{"$f":"IF(Worksheet!AJ246=0,0,Worksheet!AJ246*10/I227)","v":0},0,null,null,null,{"$f":"IFERROR(Worksheet!V246/(Worksheet!S246),0)","v":0},{"$f":"IF(Worksheet!E246=\"\",\"\",Worksheet!E246)","v":""},{"$f":"IF(Worksheet!B246=\"\",\"\",Worksheet!B246)","v":""},{"$f":"IF(Worksheet!D246=\"\",\"\",Worksheet!D246)","v":""}]
[{"$f":"IF(ISBLANK(Worksheet!F247)=FALSE,VLOOKUP(Worksheet!A247,MeasureCode_Lookup,6,FALSE),\"\")","v":""},{"$f":"Worksheet!H247","v":0},{"$f":"Worksheet!I247","v":0},{"$f":"IFERROR(IF(Worksheet!X247=0,Worksheet!W247/I228,Worksheet!X247/R228),0)","v":0},"W Controlled",null,null,{"$f":"IF(N(Worksheet!S247)=0,N(Worksheet!R247),N(Worksheet!S247))","v":0},{"$f":"IFERROR(Worksheet!U247/(Worksheet!R247),0)","v":0},{"$f":"Worksheet!AC247","v":0},{"$f":"Worksheet!AB247","v":0},0,{"$f":"IF(Worksheet!AJ247=0,0,Worksheet!AJ247*10/I228)","v":0},0,null,null,null,{"$f":"IFERROR(Worksheet!V247/(Worksheet!S247),0)","v":0},{"$f":"IF(Worksheet!E247=\"\",\"\",Worksheet!E247)","v":""},{"$f":"IF(Worksheet!B247=\"\",\"\",Worksheet!B247)","v":""},{"$f":"IF(Worksheet!D247=\"\",\"\",Worksheet!D247)","v":""}]
[{"$f":"IF(ISBLANK(Worksheet!F248)=FALSE,VLOOKUP(Worksheet!A248,MeasureCode_Lookup,6,FALSE),\"\")","v":""},{"$f":"Worksheet!H248","v":0},{"$f":"Worksheet!I248","v":0},{"$f":"IFERROR(IF(Worksheet!X248=0,Worksheet!W248/I229,Worksheet!X248/R229),0)","v":0},"W Controlled",null,null,{"$f":"IF(N(Worksheet!S248)=0,N(Worksheet!R248),N(Worksheet!S248))","v":0},{"$f":"IFERROR(Worksheet!U248/(Worksheet!R248),0)","v":0},{"$f":"Worksheet!AC248","v":0},{"$f":"Worksheet!AB248","v":0},0,{"$f":"IF(Worksheet!AJ248=0,0,Worksheet!AJ248*10/I229)","v":0},0,null,null,null,{"$f":"IFERROR(Worksheet!V248/(Worksheet!S248),0)","v":0},{"$f":"IF(Worksheet!E248=\"\",\"\",Worksheet!E248)","v":""},{"$f":"IF(Worksheet!B248=\"\",\"\",Worksheet!B248)","v":""},{"$f":"IF(Worksheet!D248=\"\",\"\",Worksheet!D248)","v":""}]
[{"$f":"IF(ISBLANK(Worksheet!F249)=FALSE,VLOOKUP(Worksheet!A249,MeasureCode_Lookup,6,FALSE),\"\")","v":""},{"$f":"Worksheet!H249","v":0},{"$f":"Worksheet!I249","v":0},{"$f":"IFERROR(IF(Worksheet!X249=0,Worksheet!W249/I230,Worksheet!X249/R230),0)","v":0},"W Controlled",null,null,{"$f":"IF(N(Worksheet!S249)=0,N(Worksheet!R249),N(Worksheet!S249))","v":0},{"$f":"IFERROR(Worksheet!U249/(Worksheet!R249),0)","v":0},{"$f":"Worksheet!AC249","v":0},{"$f":"Worksheet!AB249","v":0},0,{"$f":"IF(Worksheet!AJ249=0,0,Worksheet!AJ249*10/I230)","v":0},0,null,null,null,{"$f":"IFERROR(Worksheet!V249/(Worksheet!S249),0)","v":0},{"$f":"IF(Worksheet!E249=\"\",\"\",Worksheet!E249)","v":""},{"$f":"IF(Worksheet!B249=\"\",\"\",Worksheet!B249)","v":""},{"$f":"IF(Worksheet!D249=\"\",\"\",Worksheet!D249)","v":""}]
[{"$f":"IF(ISBLANK(Worksheet!F250)=FALSE,VLOOKUP(Worksheet!A250,MeasureCode_Lookup,6,FALSE),\"\")","v":""},{"$f":"Worksheet!H250","v":0},{"$f":"Worksheet!I250","v":0},{"$f":"IFERROR(IF(Worksheet!X250=0,Worksheet!W250/I231,Worksheet!X250/R231),0)","v":0},"W Controlled",null,null,{"$f":"IF(N(Worksheet!S250)=0,N(Worksheet!R250),N(Worksheet!S250))","v":0},{"$f":"IFERROR(Worksheet!U250/(Worksheet!R250),0)","v":0},{"$f":"Worksheet!AC250","v":0},{"$f":"Worksheet!AB250","v":0},0,{"$f":"IF(Worksheet!AJ250=0,0,Worksheet!AJ250*10/I231)","v":0},0,null,null,null,{"$f":"IFERROR(Worksheet!V250/(Worksheet!S250),0)","v":0},{"$f":"IF(Worksheet!E250=\"\",\"\",Worksheet!E250)","v":""},{"$f":"IF(Worksheet!B250=\"\",\"\",Worksheet!B250)","v":""},{"$f":"IF(Worksheet!D250=\"\",\"\",Worksheet!D250)","v":""}]
[{"$f":"IF(ISBLANK(Worksheet!F251)=FALSE,VLOOKUP(Worksheet!A251,MeasureCode_Lookup,6,FALSE),\"\")","v":""},{"$f":"Worksheet!H251","v":0},{"$f":"Worksheet!I251","v":0},{"$f":"IFERROR(IF(Worksheet!X251=0,Worksheet!W251/I232,Worksheet!X251/R232),0)","v":0},"W Controlled",null,null,{"$f":"IF(N(Worksheet!S251)=0,N(Worksheet!R251),N(Worksheet!S251))","v":0},{"$f":"IFERROR(Worksheet!U251/(Worksheet!R251),0)","v":0},{"$f":"Worksheet!AC251","v":0},{"$f":"Worksheet!AB251","v":0},0,{"$f":"IF(Worksheet!AJ251=0,0,Worksheet!AJ251*10/I232)","v":0},0,null,null,null,{"$f":"IFERROR(Worksheet!V251/(Worksheet!S251),0)","v":0},{"$f":"IF(Worksheet!E251=\"\",\"\",Worksheet!E251)","v":""},{"$f":"IF(Worksheet!B251=\"\",\"\",Worksheet!B251)","v":""},{"$f":"IF(Worksheet!D251=\"\",\"\",Worksheet!D251)","v":""}]
[{"$f":"IF(ISBLANK(Worksheet!F252)=FALSE,VLOOKUP(Worksheet!A252,MeasureCode_Lookup,6,FALSE),\"\")","v":""},{"$f":"Worksheet!H252","v":0},{"$f":"Worksheet!I252","v":0},{"$f":"IFERROR(IF(Worksheet!X252=0,Worksheet!W252/I233,Worksheet!X252/R233),0)","v":0},"W Controlled",null,null,{"$f":"IF(N(Worksheet!S252)=0,N(Worksheet!R252),N(Worksheet!S252))","v":0},{"$f":"IFERROR(Worksheet!U252/(Worksheet!R252),0)","v":0},{"$f":"Worksheet!AC252","v":0},{"$f":"Worksheet!AB252","v":0},0,{"$f":"IF(Worksheet!AJ252=0,0,Worksheet!AJ252*10/I233)","v":0},0,null,null,null,{"$f":"IFERROR(Worksheet!V252/(Worksheet!S252),0)","v":0},{"$f":"IF(Worksheet!E252=\"\",\"\",Worksheet!E252)","v":""},{"$f":"IF(Worksheet!B252=\"\",\"\",Worksheet!B252)","v":""},{"$f":"IF(Worksheet!D252=\"\",\"\",Worksheet!D252)","v":""}]
[{"$f":"IF(ISBLANK(Worksheet!F253)=FALSE,VLOOKUP(Worksheet!A253,MeasureCode_Lookup,6,FALSE),\"\")","v":""},{"$f":"Worksheet!H253","v":0},{"$f":"Worksheet!I253","v":0},{"$f":"IFERROR(IF(Worksheet!X253=0,Worksheet!W253/I234,Worksheet!X253/R234),0)","v":0},"W Controlled",null,null,{"$f":"IF(N(Worksheet!S253)=0,N(Worksheet!R253),N(Worksheet!S253))","v":0},{"$f":"IFERROR(Worksheet!U253/(Worksheet!R253),0)","v":0},{"$f":"Worksheet!AC253","v":0},{"$f":"Worksheet!AB253","v":0},0,{"$f":"IF(Worksheet!AJ253=0,0,Worksheet!AJ253*10/I234)","v":0},0,null,null,null,{"$f":"IFERROR(Worksheet!V253/(Worksheet!S253),0)","v":0},{"$f":"IF(Worksheet!E253=\"\",\"\",Worksheet!E253)","v":""},{"$f":"IF(Worksheet!B253=\"\",\"\",Worksheet!B253)","v":""},{"$f":"IF(Worksheet!D253=\"\",\"\",Worksheet!D253)","v":""}]
[{"$f":"IF(ISBLANK(Worksheet!F254)=FALSE,VLOOKUP(Worksheet!A254,MeasureCode_Lookup,6,FALSE),\"\")","v":""},{"$f":"Worksheet!H254","v":0},{"$f":"Worksheet!I254","v":0},{"$f":"IFERROR(IF(Worksheet!X254=0,Worksheet!W254/I235,Worksheet!X254/R235),0)","v":0},"W Controlled",null,null,{"$f":"IF(N(Worksheet!S254)=0,N(Worksheet!R254),N(Worksheet!S254))","v":0},{"$f":"IFERROR(Worksheet!U254/(Worksheet!R254),0)","v":0},{"$f":"Worksheet!AC254","v":0},{"$f":"Worksheet!AB254","v":0},0,{"$f":"IF(Worksheet!AJ254=0,0,Worksheet!AJ254*10/I235)","v":0},0,null,null,null,{"$f":"IFERROR(Worksheet!V254/(Worksheet!S254),0)","v":0},{"$f":"IF(Worksheet!E254=\"\",\"\",Worksheet!E254)","v":""},{"$f":"IF(Worksheet!B254=\"\",\"\",Worksheet!B254)","v":""},{"$f":"IF(Worksheet!D254=\"\",\"\",Worksheet!D254)","v":""}]
[{"$f":"IF(ISBLANK(Worksheet!F255)=FALSE,VLOOKUP(Worksheet!A255,MeasureCode_Lookup,6,FALSE),\"\")","v":""},{"$f":"Worksheet!H255","v":0},{"$f":"Worksheet!I255","v":0},{"$f":"IFERROR(IF(Worksheet!X255=0,Worksheet!W255/I236,Worksheet!X255/R236),0)","v":0},"W Controlled",null,null,{"$f":"IF(N(Worksheet!S255)=0,N(Worksheet!R255),N(Worksheet!S255))","v":0},{"$f":"IFERROR(Worksheet!U255/(Worksheet!R255),0)","v":0},{"$f":"Worksheet!AC255","v":0},{"$f":"Worksheet!AB255","v":0},0,{"$f":"IF(Worksheet!AJ255=0,0,Worksheet!AJ255*10/I236)","v":0},0,null,null,null,{"$f":"IFERROR(Worksheet!V255/(Worksheet!S255),0)","v":0},{"$f":"IF(Worksheet!E255=\"\",\"\",Worksheet!E255)","v":""},{"$f":"IF(Worksheet!B255=\"\",\"\",Worksheet!B255)","v":""},{"$f":"IF(Worksheet!D255=\"\",\"\",Worksheet!D255)","v":""}]
[{"$f":"IF(ISBLANK(Worksheet!F256)=FALSE,VLOOKUP(Worksheet!A256,MeasureCode_Lookup,6,FALSE),\"\")","v":""},{"$f":"Worksheet!H256","v":0},{"$f":"Worksheet!I256","v":0},{"$f":"IFERROR(IF(Worksheet!X256=0,Worksheet!W256/I237,Worksheet!X256/R237),0)","v":0},"W Controlled",null,null,{"$f":"IF(N(Worksheet!S256)=0,N(Worksheet!R256),N(Worksheet!S256))","v":0},{"$f":"IFERROR(Worksheet!U256/(Worksheet!R256),0)","v":0},{"$f":"Worksheet!AC256","v":0},{"$f":"Worksheet!AB256","v":0},0,{"$f":"IF(Worksheet!AJ256=0,0,Worksheet!AJ256*10/I237)","v":0},0,null,null,null,{"$f":"IFERROR(Worksheet!V256/(Worksheet!S256),0)","v":0},{"$f":"IF(Worksheet!E256=\"\",\"\",Worksheet!E256)","v":""},{"$f":"IF(Worksheet!B256=\"\",\"\",Worksheet!B256)","v":""},{"$f":"IF(Worksheet!D256=\"\",\"\",Worksheet!D256)","v":""}]
[{"$f":"IF(ISBLANK(Worksheet!F257)=FALSE,VLOOKUP(Worksheet!A257,MeasureCode_Lookup,6,FALSE),\"\")","v":""},{"$f":"Worksheet!H257","v":0},{"$f":"Worksheet!I257","v":0},{"$f":"IFERROR(IF(Worksheet!X257=0,Worksheet!W257/I238,Worksheet!X257/R238),0)","v":0},"W Controlled",null,null,{"$f":"IF(N(Worksheet!S257)=0,N(Worksheet!R257),N(Worksheet!S257))","v":0},{"$f":"IFERROR(Worksheet!U257/(Worksheet!R257),0)","v":0},{"$f":"Worksheet!AC257","v":0},{"$f":"Worksheet!AB257","v":0},0,{"$f":"IF(Worksheet!AJ257=0,0,Worksheet!AJ257*10/I238)","v":0},0,null,null,null,{"$f":"IFERROR(Worksheet!V257/(Worksheet!S257),0)","v":0},{"$f":"IF(Worksheet!E257=\"\",\"\",Worksheet!E257)","v":""},{"$f":"IF(Worksheet!B257=\"\",\"\",Worksheet!B257)","v":""},{"$f":"IF(Worksheet!D257=\"\",\"\",Worksheet!D257)","v":""}]
[{"$f":"IF(ISBLANK(Worksheet!F258)=FALSE,VLOOKUP(Worksheet!A258,MeasureCode_Lookup,6,FALSE),\"\")","v":""},{"$f":"Worksheet!H258","v":0},{"$f":"Worksheet!I258","v":0},{"$f":"IFERROR(IF(Worksheet!X258=0,Worksheet!W258/I239,Worksheet!X258/R239),0)","v":0},"W Controlled",null,null,{"$f":"IF(N(Worksheet!S258)=0,N(Worksheet!R258),N(Worksheet!S258))","v":0},{"$f":"IFERROR(Worksheet!U258/(Worksheet!R258),0)","v":0},{"$f":"Worksheet!AC258","v":0},{"$f":"Worksheet!AB258","v":0},0,{"$f":"IF(Worksheet!AJ258=0,0,Worksheet!AJ258*10/I239)","v":0},0,null,null,null,{"$f":"IFERROR(Worksheet!V258/(Worksheet!S258),0)","v":0},{"$f":"IF(Worksheet!E258=\"\",\"\",Worksheet!E258)","v":""},{"$f":"IF(Worksheet!B258=\"\",\"\",Worksheet!B258)","v":""},{"$f":"IF(Worksheet!D258=\"\",\"\",Worksheet!D258)","v":""}]
[{"$f":"IF(ISBLANK(Worksheet!F259)=FALSE,VLOOKUP(Worksheet!A259,MeasureCode_Lookup,6,FALSE),\"\")","v":""},{"$f":"Worksheet!H259","v":0},{"$f":"Worksheet!I259","v":0},{"$f":"IFERROR(IF(Worksheet!X259=0,Worksheet!W259/I240,Worksheet!X259/R240),0)","v":0},"W Controlled",null,null,{"$f":"IF(N(Worksheet!S259)=0,N(Worksheet!R259),N(Worksheet!S259))","v":0},{"$f":"IFERROR(Worksheet!U259/(Worksheet!R259),0)","v":0},{"$f":"Worksheet!AC259","v":0},{"$f":"Worksheet!AB259","v":0},0,{"$f":"IF(Worksheet!AJ259=0,0,Worksheet!AJ259*10/I240)","v":0},0,null,null,null,{"$f":"IFERROR(Worksheet!V259/(Worksheet!S259),0)","v":0},{"$f":"IF(Worksheet!E259=\"\",\"\",Worksheet!E259)","v":""},{"$f":"IF(Worksheet!B259=\"\",\"\",Worksheet!B259)","v":""},{"$f":"IF(Worksheet!D259=\"\",\"\",Worksheet!D259)","v":""}]
[{"$f":"IF(ISBLANK(Worksheet!F260)=FALSE,VLOOKUP(Worksheet!A260,MeasureCode_Lookup,6,FALSE),\"\")","v":""},{"$f":"Worksheet!H260","v":0},{"$f":"Worksheet!I260","v":0},{"$f":"IFERROR(IF(Worksheet!X260=0,Worksheet!W260/I241,Worksheet!X260/R241),0)","v":0},"W Controlled",null,null,{"$f":"IF(N(Worksheet!S260)=0,N(Worksheet!R260),N(Worksheet!S260))","v":0},{"$f":"IFERROR(Worksheet!U260/(Worksheet!R260),0)","v":0},{"$f":"Worksheet!AC260","v":0},{"$f":"Worksheet!AB260","v":0},0,{"$f":"IF(Worksheet!AJ260=0,0,Worksheet!AJ260*10/I241)","v":0},0,null,null,null,{"$f":"IFERROR(Worksheet!V260/(Worksheet!S260),0)","v":0},{"$f":"IF(Worksheet!E260=\"\",\"\",Worksheet!E260)","v":""},{"$f":"IF(Worksheet!B260=\"\",\"\",Worksheet!B260)","v":""},{"$f":"IF(Worksheet!D260=\"\",\"\",Worksheet!D260)","v":""}]
[{"$f":"IF(ISBLANK(Worksheet!F261)=FALSE,VLOOKUP(Worksheet!A261,MeasureCode_Lookup,6,FALSE),\"\")","v":""},{"$f":"Worksheet!H261","v":0},{"$f":"Worksheet!I261","v":0},{"$f":"IFERROR(IF(Worksheet!X261=0,Worksheet!W261/I242,Worksheet!X261/R242),0)","v":0},"W Controlled",null,null,{"$f":"IF(N(Worksheet!S261)=0,N(Worksheet!R261),N(Worksheet!S261))","v":0},{"$f":"IFERROR(Worksheet!U261/(Worksheet!R261),0)","v":0},{"$f":"Worksheet!AC261","v":0},{"$f":"Worksheet!AB261","v":0},0,{"$f":"IF(Worksheet!AJ261=0,0,Worksheet!AJ261*10/I242)","v":0},0,null,null,null,{"$f":"IFERROR(Worksheet!V261/(Worksheet!S261),0)","v":0},{"$f":"IF(Worksheet!E261=\"\",\"\",Worksheet!E261)","v":""},{"$f":"IF(Worksheet!B261=\"\",\"\",Worksheet!B261)","v":""},{"$f":"IF(Worksheet!D261=\"\",\"\",Worksheet!D261)","v":""}]
[{"$f":"IF(ISBLANK(Worksheet!F262)=FALSE,VLOOKUP(Worksheet!A262,MeasureCode_Lookup,6,FALSE),\"\")","v":""},{"$f":"Worksheet!H262","v":0},{"$f":"Worksheet!I262","v":0},{"$f":"IFERROR(IF(Worksheet!X262=0,Worksheet!W262/I243,Worksheet!X262/R243),0)","v":0},"W Controlled",null,null,{"$f":"IF(N(Worksheet!S262)=0,N(Worksheet!R262),N(Worksheet!S262))","v":0},{"$f":"IFERROR(Worksheet!U262/(Worksheet!R262),0)","v":0},{"$f":"Worksheet!AC262","v":0},{"$f":"Worksheet!AB262","v":0},0,{"$f":"IF(Worksheet!AJ262=0,0,Worksheet!AJ262*10/I243)","v":0},0,null,null,null,{"$f":"IFERROR(Worksheet!V262/(Worksheet!S262),0)","v":0},{"$f":"IF(Worksheet!E262=\"\",\"\",Worksheet!E262)","v":""},{"$f":"IF(Worksheet!B262=\"\",\"\",Worksheet!B262)","v":""},{"$f":"IF(Worksheet!D262=\"\",\"\",Worksheet!D262)","v":""}]
[{"$f":"IF(ISBLANK(Worksheet!F263)=FALSE,VLOOKUP(Worksheet!A263,MeasureCode_Lookup,6,FALSE),\"\")","v":""},{"$f":"Worksheet!H263","v":0},{"$f":"Worksheet!I263","v":0},{"$f":"IFERROR(IF(Worksheet!X263=0,Worksheet!W263/I244,Worksheet!X263/R244),0)","v":0},"W Controlled",null,null,{"$f":"IF(N(Worksheet!S263)=0,N(Worksheet!R263),N(Worksheet!S263))","v":0},{"$f":"IFERROR(Worksheet!U263/(Worksheet!R263),0)","v":0},{"$f":"Worksheet!AC263","v":0},{"$f":"Worksheet!AB263","v":0},0,{"$f":"IF(Worksheet!AJ263=0,0,Worksheet!AJ263*10/I244)","v":0},0,null,null,null,{"$f":"IFERROR(Worksheet!V263/(Worksheet!S263),0)","v":0},{"$f":"IF(Worksheet!E263=\"\",\"\",Worksheet!E263)","v":""},{"$f":"IF(Worksheet!B263=\"\",\"\",Worksheet!B263)","v":""},{"$f":"IF(Worksheet!D263=\"\",\"\",Worksheet!D263)","v":""}]
[{"$f":"IF(ISBLANK(Worksheet!F264)=FALSE,VLOOKUP(Worksheet!A264,MeasureCode_Lookup,6,FALSE),\"\")","v":""},{"$f":"Worksheet!H264","v":0},{"$f":"Worksheet!I264","v":0},{"$f":"IFERROR(IF(Worksheet!X264=0,Worksheet!W264/I245,Worksheet!X264/R245),0)","v":0},"W Controlled",null,null,{"$f":"IF(N(Worksheet!S264)=0,N(Worksheet!R264),N(Worksheet!S264))","v":0},{"$f":"IFERROR(Worksheet!U264/(Worksheet!R264),0)","v":0},{"$f":"Worksheet!AC264","v":0},{"$f":"Worksheet!AB264","v":0},0,{"$f":"IF(Worksheet!AJ264=0,0,Worksheet!AJ264*10/I245)","v":0},0,null,null,null,{"$f":"IFERROR(Worksheet!V264/(Worksheet!S264),0)","v":0},{"$f":"IF(Worksheet!E264=\"\",\"\",Worksheet!E264)","v":""},{"$f":"IF(Worksheet!B264=\"\",\"\",Worksheet!B264)","v":""},{"$f":"IF(Worksheet!D264=\"\",\"\",Worksheet!D264)","v":""}]
[{"$f":"IF(ISBLANK(Worksheet!F265)=FALSE,VLOOKUP(Worksheet!A265,MeasureCode_Lookup,6,FALSE),\"\")","v":""},{"$f":"Worksheet!H265","v":0},{"$f":"Worksheet!I265","v":0},{"$f":"IFERROR(IF(Worksheet!X265=0,Worksheet!W265/I246,Worksheet!X265/R246),0)","v":0},"W Controlled",null,null,{"$f":"IF(N(Worksheet!S265)=0,N(Worksheet!R265),N(Worksheet!S265))","v":0},{"$f":"IFERROR(Worksheet!U265/(Worksheet!R265),0)","v":0},{"$f":"Worksheet!AC265","v":0},{"$f":"Worksheet!AB265","v":0},0,{"$f":"IF(Worksheet!AJ265=0,0,Worksheet!AJ265*10/I246)","v":0},0,null,null,null,{"$f":"IFERROR(Worksheet!V265/(Worksheet!S265),0)","v":0},{"$f":"IF(Worksheet!E265=\"\",\"\",Worksheet!E265)","v":""},{"$f":"IF(Worksheet!B265=\"\",\"\",Worksheet!B265)","v":""},{"$f":"IF(Worksheet!D265=\"\",\"\",Worksheet!D265)","v":""}]
[{"$f":"IF(ISBLANK(Worksheet!F266)=FALSE,VLOOKUP(Worksheet!A266,MeasureCode_Lookup,6,FALSE),\"\")","v":""},{"$f":"Worksheet!H266","v":0},{"$f":"Worksheet!I266","v":0},{"$f":"IFERROR(IF(Worksheet!X266=0,Worksheet!W266/I247,Worksheet!X266/R247),0)","v":0},"W Controlled",null,null,{"$f":"IF(N(Worksheet!S266)=0,N(Worksheet!R266),N(Worksheet!S266))","v":0},{"$f":"IFERROR(Worksheet!U266/(Worksheet!R266),0)","v":0},{"$f":"Worksheet!AC266","v":0},{"$f":"Worksheet!AB266","v":0},0,{"$f":"IF(Worksheet!AJ266=0,0,Worksheet!AJ266*10/I247)","v":0},0,null,null,null,{"$f":"IFERROR(Worksheet!V266/(Worksheet!S266),0)","v":0},{"$f":"IF(Worksheet!E266=\"\",\"\",Worksheet!E266)","v":""},{"$f":"IF(Worksheet!B266=\"\",\"\",Worksheet!B266)","v":""},{"$f":"IF(Worksheet!D266=\"\",\"\",Worksheet!D266)","v":""}]
[{"$f":"IF(ISBLANK(Worksheet!F267)=FALSE,VLOOKUP(Worksheet!A267,MeasureCode_Lookup,6,FALSE),\"\")","v":""},{"$f":"Worksheet!H267","v":0},{"$f":"Worksheet!I267","v":0},{"$f":"IFERROR(IF(Worksheet!X267=0,Worksheet!W267/I248,Worksheet!X267/R248),0)","v":0},"W Controlled",null,null,{"$f":"IF(N(Worksheet!S267)=0,N(Worksheet!R267),N(Worksheet!S267))","v":0},{"$f":"IFERROR(Worksheet!U267/(Worksheet!R267),0)","v":0},{"$f":"Worksheet!AC267","v":0},{"$f":"Worksheet!AB267","v":0},0,{"$f":"IF(Worksheet!AJ267=0,0,Worksheet!AJ267*10/I248)","v":0},0,null,null,null,{"$f":"IFERROR(Worksheet!V267/(Worksheet!S267),0)","v":0},{"$f":"IF(Worksheet!E267=\"\",\"\",Worksheet!E267)","v":""},{"$f":"IF(Worksheet!B267=\"\",\"\",Worksheet!B267)","v":""},{"$f":"IF(Worksheet!D267=\"\",\"\",Worksheet!D267)","v":""}]
[{"$f":"IF(ISBLANK(Worksheet!F268)=FALSE,VLOOKUP(Worksheet!A268,MeasureCode_Lookup,6,FALSE),\"\")","v":""},{"$f":"Worksheet!H268","v":0},{"$f":"Worksheet!I268","v":0},{"$f":"IFERROR(IF(Worksheet!X268=0,Worksheet!W268/I249,Worksheet!X268/R249),0)","v":0},"W Controlled",null,null,{"$f":"IF(N(Worksheet!S268)=0,N(Worksheet!R268),N(Worksheet!S268))","v":0},{"$f":"IFERROR(Worksheet!U268/(Worksheet!R268),0)","v":0},{"$f":"Worksheet!AC268","v":0},{"$f":"Worksheet!AB268","v":0},0,{"$f":"IF(Worksheet!AJ268=0,0,Worksheet!AJ268*10/I249)","v":0},0,null,null,null,{"$f":"IFERROR(Worksheet!V268/(Worksheet!S268),0)","v":0},{"$f":"IF(Worksheet!E268=\"\",\"\",Worksheet!E268)","v":""},{"$f":"IF(Worksheet!B268=\"\",\"\",Worksheet!B268)","v":""},{"$f":"IF(Worksheet!D268=\"\",\"\",Worksheet!D268)","v":""}]
[{"$f":"IF(ISBLANK(Worksheet!F269)=FALSE,VLOOKUP(Worksheet!A269,MeasureCode_Lookup,6,FALSE),\"\")","v":""},{"$f":"Worksheet!H269","v":0},{"$f":"Worksheet!I269","v":0},{"$f":"IFERROR(IF(Worksheet!X269=0,Worksheet!W269/I250,Worksheet!X269/R250),0)","v":0},"W Controlled",null,null,{"$f":"IF(N(Worksheet!S269)=0,N(Worksheet!R269),N(Worksheet!S269))","v":0},{"$f":"IFERROR(Worksheet!U269/(Worksheet!R269),0)","v":0},{"$f":"Worksheet!AC269","v":0},{"$f":"Worksheet!AB269","v":0},0,{"$f":"IF(Worksheet!AJ269=0,0,Worksheet!AJ269*10/I250)","v":0},0,null,null,null,{"$f":"IFERROR(Worksheet!V269/(Worksheet!S269),0)","v":0},{"$f":"IF(Worksheet!E269=\"\",\"\",Worksheet!E269)","v":""},{"$f":"IF(Worksheet!B269=\"\",\"\",Worksheet!B269)","v":""},{"$f":"IF(Worksheet!D269=\"\",\"\",Worksheet!D269)","v":""}]
[{"$f":"IF(ISBLANK(Worksheet!F270)=FALSE,VLOOKUP(Worksheet!A270,MeasureCode_Lookup,6,FALSE),\"\")","v":""},{"$f":"Worksheet!H270","v":0},{"$f":"Worksheet!I270","v":0},{"$f":"IFERROR(IF(Worksheet!X270=0,Worksheet!W270/I251,Worksheet!X270/R251),0)","v":0},"W Controlled",null,null,{"$f":"IF(N(Worksheet!S270)=0,N(Worksheet!R270),N(Worksheet!S270))","v":0},{"$f":"IFERROR(Worksheet!U270/(Worksheet!R270),0)","v":0},{"$f":"Worksheet!AC270","v":0},{"$f":"Worksheet!AB270","v":0},0,{"$f":"IF(Worksheet!AJ270=0,0,Worksheet!AJ270*10/I251)","v":0},0,null,null,null,{"$f":"IFERROR(Worksheet!V270/(Worksheet!S270),0)","v":0},{"$f":"IF(Worksheet!E270=\"\",\"\",Worksheet!E270)","v":""},{"$f":"IF(Worksheet!B270=\"\",\"\",Worksheet!B270)","v":""},{"$f":"IF(Worksheet!D270=\"\",\"\",Worksheet!D270)","v":""}]
[{"$f":"IF(ISBLANK(Worksheet!F271)=FALSE,VLOOKUP(Worksheet!A271,MeasureCode_Lookup,6,FALSE),\"\")","v":""},{"$f":"Worksheet!H271","v":0},{"$f":"Worksheet!I271","v":0},{"$f":"IFERROR(IF(Worksheet!X271=0,Worksheet!W271/I252,Worksheet!X271/R252),0)","v":0},"W Controlled",null,null,{"$f":"IF(N(Worksheet!S271)=0,N(Worksheet!R271),N(Worksheet!S271))","v":0},{"$f":"IFERROR(Worksheet!U271/(Worksheet!R271),0)","v":0},{"$f":"Worksheet!AC271","v":0},{"$f":"Worksheet!AB271","v":0},0,{"$f":"IF(Worksheet!AJ271=0,0,Worksheet!AJ271*10/I252)","v":0},0,null,null,null,{"$f":"IFERROR(Worksheet!V271/(Worksheet!S271),0)","v":0},{"$f":"IF(Worksheet!E271=\"\",\"\",Worksheet!E271)","v":""},{"$f":"IF(Worksheet!B271=\"\",\"\",Worksheet!B271)","v":""},{"$f":"IF(Worksheet!D271=\"\",\"\",Worksheet!D271)","v":""}]
[{"$f":"IF(ISBLANK(Worksheet!F272)=FALSE,VLOOKUP(Worksheet!A272,MeasureCode_Lookup,6,FALSE),\"\")","v":""},{"$f":"Worksheet!H272","v":0},{"$f":"Worksheet!I272","v":0},{"$f":"IFERROR(IF(Worksheet!X272=0,Worksheet!W272/I253,Worksheet!X272/R253),0)","v":0},"W Controlled",null,null,{"$f":"IF(N(Worksheet!S272)=0,N(Worksheet!R272),N(Worksheet!S272))","v":0},{"$f":"IFERROR(Worksheet!U272/(Worksheet!R272),0)","v":0},{"$f":"Worksheet!AC272","v":0},{"$f":"Worksheet!AB272","v":0},0,{"$f":"IF(Worksheet!AJ272=0,0,Worksheet!AJ272*10/I253)","v":0},0,null,null,null,{"$f":"IFERROR(Worksheet!V272/(Worksheet!S272),0)","v":0},{"$f":"IF(Worksheet!E272=\"\",\"\",Worksheet!E272)","v":""},{"$f":"IF(Worksheet!B272=\"\",\"\",Worksheet!B272)","v":""},{"$f":"IF(Worksheet!D272=\"\",\"\",Worksheet!D272)","v":""}]
[{"$f":"IF(ISBLANK(Worksheet!F273)=FALSE,VLOOKUP(Worksheet!A273,MeasureCode_Lookup,6,FALSE),\"\")","v":""},{"$f":"Worksheet!H273","v":0},{"$f":"Worksheet!I273","v":0},{"$f":"IFERROR(IF(Worksheet!X273=0,Worksheet!W273/I254,Worksheet!X273/R254),0)","v":0},"W Controlled",null,null,{"$f":"IF(N(Worksheet!S273)=0,N(Worksheet!R273),N(Worksheet!S273))","v":0},{"$f":"IFERROR(Worksheet!U273/(Worksheet!R273),0)","v":0},{"$f":"Worksheet!AC273","v":0},{"$f":"Worksheet!AB273","v":0},0,{"$f":"IF(Worksheet!AJ273=0,0,Worksheet!AJ273*10/I254)","v":0},0,null,null,null,{"$f":"IFERROR(Worksheet!V273/(Worksheet!S273),0)","v":0},{"$f":"IF(Worksheet!E273=\"\",\"\",Worksheet!E273)","v":""},{"$f":"IF(Worksheet!B273=\"\",\"\",Worksheet!B273)","v":""},{"$f":"IF(Worksheet!D273=\"\",\"\",Worksheet!D273)","v":""}]
[{"$f":"IF(ISBLANK(Worksheet!F274)=FALSE,VLOOKUP(Worksheet!A274,MeasureCode_Lookup,6,FALSE),\"\")","v":""},{"$f":"Worksheet!H274","v":0},{"$f":"Worksheet!I274","v":0},{"$f":"IFERROR(IF(Worksheet!X274=0,Worksheet!W274/I255,Worksheet!X274/R255),0)","v":0},"W Controlled",null,null,{"$f":"IF(N(Worksheet!S274)=0,N(Worksheet!R274),N(Worksheet!S274))","v":0},{"$f":"IFERROR(Worksheet!U274/(Worksheet!R274),0)","v":0},{"$f":"Worksheet!AC274","v":0},{"$f":"Worksheet!AB274","v":0},0,{"$f":"IF(Worksheet!AJ274=0,0,Worksheet!AJ274*10/I255)","v":0},0,null,null,null,{"$f":"IFERROR(Worksheet!V274/(Worksheet!S274),0)","v":0},{"$f":"IF(Worksheet!E274=\"\",\"\",Worksheet!E274)","v":""},{"$f":"IF(Worksheet!B274=\"\",\"\",Worksheet!B274)","v":""},{"$f":"IF(Worksheet!D274=\"\",\"\",Worksheet!D274)","v":""}]
[{"$f":"IF(ISBLANK(Worksheet!F275)=FALSE,VLOOKUP(Worksheet!A275,MeasureCode_Lookup,6,FALSE),\"\")","v":""},{"$f":"Worksheet!H275","v":0},{"$f":"Worksheet!I275","v":0},{"$f":"IFERROR(IF(Worksheet!X275=0,Worksheet!W275/I256,Worksheet!X275/R256),0)","v":0},"W Controlled",null,null,{"$f":"IF(N(Worksheet!S275)=0,N(Worksheet!R275),N(Worksheet!S275))","v":0},{"$f":"IFERROR(Worksheet!U275/(Worksheet!R275),0)","v":0},{"$f":"Worksheet!AC275","v":0},{"$f":"Worksheet!AB275","v":0},0,{"$f":"IF(Worksheet!AJ275=0,0,Worksheet!AJ275*10/I256)","v":0},0,null,null,null,{"$f":"IFERROR(Worksheet!V275/(Worksheet!S275),0)","v":0},{"$f":"IF(Worksheet!E275=\"\",\"\",Worksheet!E275)","v":""},{"$f":"IF(Worksheet!B275=\"\",\"\",Worksheet!B275)","v":""},{"$f":"IF(Worksheet!D275=\"\",\"\",Worksheet!D275)","v":""}]
[{"$f":"IF(ISBLANK(Worksheet!F276)=FALSE,VLOOKUP(Worksheet!A276,MeasureCode_Lookup,6,FALSE),\"\")","v":""},{"$f":"Worksheet!H276","v":0},{"$f":"Worksheet!I276","v":0},{"$f":"IFERROR(IF(Worksheet!X276=0,Worksheet!W276/I257,Worksheet!X276/R257),0)","v":0},"W Controlled",null,null,{"$f":"IF(N(Worksheet!S276)=0,N(Worksheet!R276),N(Worksheet!S276))","v":0},{"$f":"IFERROR(Worksheet!U276/(Worksheet!R276),0)","v":0},{"$f":"Worksheet!AC276","v":0},{"$f":"Worksheet!AB276","v":0},0,{"$f":"IF(Worksheet!AJ276=0,0,Worksheet!AJ276*10/I257)","v":0},0,null,null,null,{"$f":"IFERROR(Worksheet!V276/(Worksheet!S276),0)","v":0},{"$f":"IF(Worksheet!E276=\"\",\"\",Worksheet!E276)","v":""},{"$f":"IF(Worksheet!B276=\"\",\"\",Worksheet!B276)","v":""},{"$f":"IF(Worksheet!D276=\"\",\"\",Worksheet!D276)","v":""}]
[{"$f":"IF(ISBLANK(Worksheet!F277)=FALSE,VLOOKUP(Worksheet!A277,MeasureCode_Lookup,6,FALSE),\"\")","v":""},{"$f":"Worksheet!H277","v":0},{"$f":"Worksheet!I277","v":0},{"$f":"IFERROR(IF(Worksheet!X277=0,Worksheet!W277/I258,Worksheet!X277/R258),0)","v":0},"W Controlled",null,null,{"$f":"IF(N(Worksheet!S277)=0,N(Worksheet!R277),N(Worksheet!S277))","v":0},{"$f":"IFERROR(Worksheet!U277/(Worksheet!R277),0)","v":0},{"$f":"Worksheet!AC277","v":0},{"$f":"Worksheet!AB277","v":0},0,{"$f":"IF(Worksheet!AJ277=0,0,Worksheet!AJ277*10/I258)","v":0},0,null,null,null,{"$f":"IFERROR(Worksheet!V277/(Worksheet!S277),0)","v":0},{"$f":"IF(Worksheet!E277=\"\",\"\",Worksheet!E277)","v":""},{"$f":"IF(Worksheet!B277=\"\",\"\",Worksheet!B277)","v":""},{"$f":"IF(Worksheet!D277=\"\",\"\",Worksheet!D277)","v":""}]
[{"$f":"IF(ISBLANK(Worksheet!F278)=FALSE,VLOOKUP(Worksheet!A278,MeasureCode_Lookup,6,FALSE),\"\")","v":""},{"$f":"Worksheet!H278","v":0},{"$f":"Worksheet!I278","v":0},{"$f":"IFERROR(IF(Worksheet!X278=0,Worksheet!W278/I259,Worksheet!X278/R259),0)","v":0},"W Controlled",null,null,{"$f":"IF(N(Worksheet!S278)=0,N(Worksheet!R278),N(Worksheet!S278))","v":0},{"$f":"IFERROR(Worksheet!U278/(Worksheet!R278),0)","v":0},{"$f":"Worksheet!AC278","v":0},{"$f":"Worksheet!AB278","v":0},{"$f":"J259*8","v":0},{"$f":"IF(Worksheet!AJ278=0,0,Worksheet!AJ278*10/I259)","v":0},{"$f":"M259*8","v":0},null,null,null,{"$f":"IFERROR(Worksheet!V278/(Worksheet!S278),0)","v":0},{"$f":"IF(Worksheet!E278=\"\",\"\",Worksheet!E278)","v":""},{"$f":"IF(Worksheet!B278=\"\",\"\",Worksheet!B278)","v":""},{"$f":"IF(Worksheet!D278=\"\",\"\",Worksheet!D278)","v":""}]
[{"$f":"IF(ISBLANK(Worksheet!F279)=FALSE,VLOOKUP(Worksheet!A279,MeasureCode_Lookup,6,FALSE),\"\")","v":""},{"$f":"Worksheet!H279","v":0},{"$f":"Worksheet!I279","v":0},{"$f":"IFERROR(IF(Worksheet!X279=0,Worksheet!W279/I260,Worksheet!X279/R260),0)","v":0},"W Controlled",null,null,{"$f":"IF(N(Worksheet!S279)=0,N(Worksheet!R279),N(Worksheet!S279))","v":0},{"$f":"IFERROR(Worksheet!U279/(Worksheet!R279),0)","v":0},{"$f":"Worksheet!AC279","v":0},{"$f":"Worksheet!AB279","v":0},0,{"$f":"IF(Worksheet!AJ279=0,0,Worksheet!AJ279*10/I260)","v":0},0,null,null,null,{"$f":"IFERROR(Worksheet!V279/(Worksheet!S279),0)","v":0},{"$f":"IF(Worksheet!E279=\"\",\"\",Worksheet!E279)","v":""},{"$f":"IF(Worksheet!B279=\"\",\"\",Worksheet!B279)","v":""},{"$f":"IF(Worksheet!D279=\"\",\"\",Worksheet!D279)","v":""}]
[{"$f":"IF(ISBLANK(Worksheet!F280)=FALSE,VLOOKUP(Worksheet!A280,MeasureCode_Lookup,6,FALSE),\"\")","v":""},{"$f":"Worksheet!H280","v":0},{"$f":"Worksheet!I280","v":0},{"$f":"IFERROR(IF(Worksheet!X280=0,Worksheet!W280/I261,Worksheet!X280/R261),0)","v":0},"W Controlled",null,null,{"$f":"IF(N(Worksheet!S280)=0,N(Worksheet!R280),N(Worksheet!S280))","v":0},{"$f":"IFERROR(Worksheet!U280/(Worksheet!R280),0)","v":0},{"$f":"Worksheet!AC280","v":0},{"$f":"Worksheet!AB280","v":0},0,{"$f":"IF(Worksheet!AJ280=0,0,Worksheet!AJ280*10/I261)","v":0},0,null,null,null,{"$f":"IFERROR(Worksheet!V280/(Worksheet!S280),0)","v":0},{"$f":"IF(Worksheet!E280=\"\",\"\",Worksheet!E280)","v":""},{"$f":"IF(Worksheet!B280=\"\",\"\",Worksheet!B280)","v":""},{"$f":"IF(Worksheet!D280=\"\",\"\",Worksheet!D280)","v":""}]
[{"$f":"IF(ISBLANK(Worksheet!F281)=FALSE,VLOOKUP(Worksheet!A281,MeasureCode_Lookup,6,FALSE),\"\")","v":""},{"$f":"Worksheet!H281","v":0},{"$f":"Worksheet!I281","v":0},{"$f":"IFERROR(IF(Worksheet!X281=0,Worksheet!W281/I262,Worksheet!X281/R262),0)","v":0},"W Controlled",null,null,{"$f":"IF(N(Worksheet!S281)=0,N(Worksheet!R281),N(Worksheet!S281))","v":0},{"$f":"IFERROR(Worksheet!U281/(Worksheet!R281),0)","v":0},{"$f":"Worksheet!AC281","v":0},{"$f":"Worksheet!AB281","v":0},0,{"$f":"IF(Worksheet!AJ281=0,0,Worksheet!AJ281*10/I262)","v":0},0,null,null,null,{"$f":"IFERROR(Worksheet!V281/(Worksheet!S281),0)","v":0},{"$f":"IF(Worksheet!E281=\"\",\"\",Worksheet!E281)","v":""},{"$f":"IF(Worksheet!B281=\"\",\"\",Worksheet!B281)","v":""},{"$f":"IF(Worksheet!D281=\"\",\"\",Worksheet!D281)","v":""}]
[{"$f":"IF(ISBLANK(Worksheet!F282)=FALSE,VLOOKUP(Worksheet!A282,MeasureCode_Lookup,6,FALSE),\"\")","v":""},{"$f":"Worksheet!H282","v":0},{"$f":"Worksheet!I282","v":0},{"$f":"IFERROR(IF(Worksheet!X282=0,Worksheet!W282/I263,Worksheet!X282/R263),0)","v":0},"W Controlled",null,null,{"$f":"IF(N(Worksheet!S282)=0,N(Worksheet!R282),N(Worksheet!S282))","v":0},{"$f":"IFERROR(Worksheet!U282/(Worksheet!R282),0)","v":0},{"$f":"Worksheet!AC282","v":0},{"$f":"Worksheet!AB282","v":0},0,{"$f":"IF(Worksheet!AJ282=0,0,Worksheet!AJ282*10/I263)","v":0},0,null,null,null,{"$f":"IFERROR(Worksheet!V282/(Worksheet!S282),0)","v":0},{"$f":"IF(Worksheet!E282=\"\",\"\",Worksheet!E282)","v":""},{"$f":"IF(Worksheet!B282=\"\",\"\",Worksheet!B282)","v":""},{"$f":"IF(Worksheet!D282=\"\",\"\",Worksheet!D282)","v":""}]
[{"$f":"IF(ISBLANK(Worksheet!F283)=FALSE,VLOOKUP(Worksheet!A283,MeasureCode_Lookup,6,FALSE),\"\")","v":""},{"$f":"Worksheet!H283","v":0},{"$f":"Worksheet!I283","v":0},{"$f":"IFERROR(IF(Worksheet!X283=0,Worksheet!W283/I264,Worksheet!X283/R264),0)","v":0},"W Controlled",null,null,{"$f":"IF(N(Worksheet!S283)=0,N(Worksheet!R283),N(Worksheet!S283))","v":0},{"$f":"IFERROR(Worksheet!U283/(Worksheet!R283),0)","v":0},{"$f":"Worksheet!AC283","v":0},{"$f":"Worksheet!AB283","v":0},0,{"$f":"IF(Worksheet!AJ283=0,0,Worksheet!AJ283*10/I264)","v":0},0,null,null,null,{"$f":"IFERROR(Worksheet!V283/(Worksheet!S283),0)","v":0},{"$f":"IF(Worksheet!E283=\"\",\"\",Worksheet!E283)","v":""},{"$f":"IF(Worksheet!B283=\"\",\"\",Worksheet!B283)","v":""},{"$f":"IF(Worksheet!D283=\"\",\"\",Worksheet!D283)","v":""}]
[{"$f":"IF(ISBLANK(Worksheet!F284)=FALSE,VLOOKUP(Worksheet!A284,MeasureCode_Lookup,6,FALSE),\"\")","v":""},{"$f":"Worksheet!H284","v":0},{"$f":"Worksheet!I284","v":0},{"$f":"IFERROR(IF(Worksheet!X284=0,Worksheet!W284/I265,Worksheet!X284/R265),0)","v":0},"W Controlled",null,null,{"$f":"IF(N(Worksheet!S284)=0,N(Worksheet!R284),N(Worksheet!S284))","v":0},{"$f":"IFERROR(Worksheet!U284/(Worksheet!R284),0)","v":0},{"$f":"Worksheet!AC284","v":0},{"$f":"Worksheet!AB284","v":0},0,{"$f":"IF(Worksheet!AJ284=0,0,Worksheet!AJ284*10/I265)","v":0},0,null,null,null,{"$f":"IFERROR(Worksheet!V284/(Worksheet!S284),0)","v":0},{"$f":"IF(Worksheet!E284=\"\",\"\",Worksheet!E284)","v":""},{"$f":"IF(Worksheet!B284=\"\",\"\",Worksheet!B284)","v":""},{"$f":"IF(Worksheet!D284=\"\",\"\",Worksheet!D284)","v":""}]
[{"$f":"IF(ISBLANK(Worksheet!F285)=FALSE,VLOOKUP(Worksheet!A285,MeasureCode_Lookup,6,FALSE),\"\")","v":""},{"$f":"Worksheet!H285","v":0},{"$f":"Worksheet!I285","v":0},{"$f":"IFERROR(IF(Worksheet!X285=0,Worksheet!W285/I266,Worksheet!X285/R266),0)","v":0},"W Controlled",null,null,{"$f":"IF(N(Worksheet!S285)=0,N(Worksheet!R285),N(Worksheet!S285))","v":0},{"$f":"IFERROR(Worksheet!U285/(Worksheet!R285),0)","v":0},{"$f":"Worksheet!AC285","v":0},{"$f":"Worksheet!AB285","v":0},0,{"$f":"IF(Worksheet!AJ285=0,0,Worksheet!AJ285*10/I266)","v":0},0,null,null,null,{"$f":"IFERROR(Worksheet!V285/(Worksheet!S285),0)","v":0},{"$f":"IF(Worksheet!E285=\"\",\"\",Worksheet!E285)","v":""},{"$f":"IF(Worksheet!B285=\"\",\"\",Worksheet!B285)","v":""},{"$f":"IF(Worksheet!D285=\"\",\"\",Worksheet!D285)","v":""}]
[{"$f":"IF(ISBLANK(Worksheet!F286)=FALSE,VLOOKUP(Worksheet!A286,MeasureCode_Lookup,6,FALSE),\"\")","v":""},{"$f":"Worksheet!H286","v":0},{"$f":"Worksheet!I286","v":0},{"$f":"IFERROR(IF(Worksheet!X286=0,Worksheet!W286/I267,Worksheet!X286/R267),0)","v":0},"W Controlled",null,null,{"$f":"IF(N(Worksheet!S286)=0,N(Worksheet!R286),N(Worksheet!S286))","v":0},{"$f":"IFERROR(Worksheet!U286/(Worksheet!R286),0)","v":0},{"$f":"Worksheet!AC286","v":0},{"$f":"Worksheet!AB286","v":0},0,{"$f":"IF(Worksheet!AJ286=0,0,Worksheet!AJ286*10/I267)","v":0},0,null,null,null,{"$f":"IFERROR(Worksheet!V286/(Worksheet!S286),0)","v":0},{"$f":"IF(Worksheet!E286=\"\",\"\",Worksheet!E286)","v":""},{"$f":"IF(Worksheet!B286=\"\",\"\",Worksheet!B286)","v":""},{"$f":"IF(Worksheet!D286=\"\",\"\",Worksheet!D286)","v":""}]
[{"$f":"IF(ISBLANK(Worksheet!F287)=FALSE,VLOOKUP(Worksheet!A287,MeasureCode_Lookup,6,FALSE),\"\")","v":""},{"$f":"Worksheet!H287","v":0},{"$f":"Worksheet!I287","v":0},{"$f":"IFERROR(IF(Worksheet!X287=0,Worksheet!W287/I268,Worksheet!X287/R268),0)","v":0},"W Controlled",null,null,{"$f":"IF(N(Worksheet!S287)=0,N(Worksheet!R287),N(Worksheet!S287))","v":0},{"$f":"IFERROR(Worksheet!U287/(Worksheet!R287),0)","v":0},{"$f":"Worksheet!AC287","v":0},{"$f":"Worksheet!AB287","v":0},0,{"$f":"IF(Worksheet!AJ287=0,0,Worksheet!AJ287*10/I268)","v":0},0,null,null,null,{"$f":"IFERROR(Worksheet!V287/(Worksheet!S287),0)","v":0},{"$f":"IF(Worksheet!E287=\"\",\"\",Worksheet!E287)","v":""},{"$f":"IF(Worksheet!B287=\"\",\"\",Worksheet!B287)","v":""},{"$f":"IF(Worksheet!D287=\"\",\"\",Worksheet!D287)","v":""}]
[{"$f":"IF(ISBLANK(Worksheet!F288)=FALSE,VLOOKUP(Worksheet!A288,MeasureCode_Lookup,6,FALSE),\"\")","v":""},{"$f":"Worksheet!H288","v":0},{"$f":"Worksheet!I288","v":0},{"$f":"IFERROR(IF(Worksheet!X288=0,Worksheet!W288/I269,Worksheet!X288/R269),0)","v":0},"W Controlled",null,null,{"$f":"IF(N(Worksheet!S288)=0,N(Worksheet!R288),N(Worksheet!S288))","v":0},{"$f":"IFERROR(Worksheet!U288/(Worksheet!R288),0)","v":0},{"$f":"Worksheet!AC288","v":0},{"$f":"Worksheet!AB288","v":0},0,{"$f":"IF(Worksheet!AJ288=0,0,Worksheet!AJ288*10/I269)","v":0},0,null,null,null,{"$f":"IFERROR(Worksheet!V288/(Worksheet!S288),0)","v":0},{"$f":"IF(Worksheet!E288=\"\",\"\",Worksheet!E288)","v":""},{"$f":"IF(Worksheet!B288=\"\",\"\",Worksheet!B288)","v":""},{"$f":"IF(Worksheet!D288=\"\",\"\",Worksheet!D288)","v":""}]
[{"$f":"IF(ISBLANK(Worksheet!F289)=FALSE,VLOOKUP(Worksheet!A289,MeasureCode_Lookup,6,FALSE),\"\")","v":""},{"$f":"Worksheet!H289","v":0},{"$f":"Worksheet!I289","v":0},{"$f":"IFERROR(IF(Worksheet!X289=0,Worksheet!W289/I270,Worksheet!X289/R270),0)","v":0},"W Controlled",null,null,{"$f":"IF(N(Worksheet!S289)=0,N(Worksheet!R289),N(Worksheet!S289))","v":0},{"$f":"IFERROR(Worksheet!U289/(Worksheet!R289),0)","v":0},{"$f":"Worksheet!AC289","v":0},{"$f":"Worksheet!AB289","v":0},0,{"$f":"IF(Worksheet!AJ289=0,0,Worksheet!AJ289*10/I270)","v":0},0,null,null,null,{"$f":"IFERROR(Worksheet!V289/(Worksheet!S289),0)","v":0},{"$f":"IF(Worksheet!E289=\"\",\"\",Worksheet!E289)","v":""},{"$f":"IF(Worksheet!B289=\"\",\"\",Worksheet!B289)","v":""},{"$f":"IF(Worksheet!D289=\"\",\"\",Worksheet!D289)","v":""}]
[{"$f":"IF(ISBLANK(Worksheet!F290)=FALSE,VLOOKUP(Worksheet!A290,MeasureCode_Lookup,6,FALSE),\"\")","v":""},{"$f":"Worksheet!H290","v":0},{"$f":"Worksheet!I290","v":0},{"$f":"IFERROR(IF(Worksheet!X290=0,Worksheet!W290/I271,Worksheet!X290/R271),0)","v":0},"W Controlled",null,null,{"$f":"IF(N(Worksheet!S290)=0,N(Worksheet!R290),N(Worksheet!S290))","v":0},{"$f":"IFERROR(Worksheet!U290/(Worksheet!R290),0)","v":0},{"$f":"Worksheet!AC290","v":0},{"$f":"Worksheet!AB290","v":0},0,{"$f":"IF(Worksheet!AJ290=0,0,Worksheet!AJ290*10/I271)","v":0},0,null,null,null,{"$f":"IFERROR(Worksheet!V290/(Worksheet!S290),0)","v":0},{"$f":"IF(Worksheet!E290=\"\",\"\",Worksheet!E290)","v":""},{"$f":"IF(Worksheet!B290=\"\",\"\",Worksheet!B290)","v":""},{"$f":"IF(Worksheet!D290=\"\",\"\",Worksheet!D290)","v":""}]
[{"$f":"IF(ISBLANK(Worksheet!F291)=FALSE,VLOOKUP(Worksheet!A291,MeasureCode_Lookup,6,FALSE),\"\")","v":""},{"$f":"Worksheet!H291","v":0},{"$f":"Worksheet!I291","v":0},{"$f":"IFERROR(IF(Worksheet!X291=0,Worksheet!W291/I272,Worksheet!X291/R272),0)","v":0},"W Controlled",null,null,{"$f":"IF(N(Worksheet!S291)=0,N(Worksheet!R291),N(Worksheet!S291))","v":0},{"$f":"IFERROR(Worksheet!U291/(Worksheet!R291),0)","v":0},{"$f":"Worksheet!AC291","v":0},{"$f":"Worksheet!AB291","v":0},0,{"$f":"IF(Worksheet!AJ291=0,0,Worksheet!AJ291*10/I272)","v":0},0,null,null,null,{"$f":"IFERROR(Worksheet!V291/(Worksheet!S291),0)","v":0},{"$f":"IF(Worksheet!E291=\"\",\"\",Worksheet!E291)","v":""},{"$f":"IF(Worksheet!B291=\"\",\"\",Worksheet!B291)","v":""},{"$f":"IF(Worksheet!D291=\"\",\"\",Worksheet!D291)","v":""}]
[{"$f":"IF(ISBLANK(Worksheet!F292)=FALSE,VLOOKUP(Worksheet!A292,MeasureCode_Lookup,6,FALSE),\"\")","v":""},{"$f":"Worksheet!H292","v":0},{"$f":"Worksheet!I292","v":0},{"$f":"IFERROR(IF(Worksheet!X292=0,Worksheet!W292/I273,Worksheet!X292/R273),0)","v":0},"W Controlled",null,null,{"$f":"IF(N(Worksheet!S292)=0,N(Worksheet!R292),N(Worksheet!S292))","v":0},{"$f":"IFERROR(Worksheet!U292/(Worksheet!R292),0)","v":0},{"$f":"Worksheet!AC292","v":0},{"$f":"Worksheet!AB292","v":0},0,{"$f":"IF(Worksheet!AJ292=0,0,Worksheet!AJ292*10/I273)","v":0},0,null,null,null,{"$f":"IFERROR(Worksheet!V292/(Worksheet!S292),0)","v":0},{"$f":"IF(Worksheet!E292=\"\",\"\",Worksheet!E292)","v":""},{"$f":"IF(Worksheet!B292=\"\",\"\",Worksheet!B292)","v":""},{"$f":"IF(Worksheet!D292=\"\",\"\",Worksheet!D292)","v":""}]
[{"$f":"IF(ISBLANK(Worksheet!F293)=FALSE,VLOOKUP(Worksheet!A293,MeasureCode_Lookup,6,FALSE),\"\")","v":""},{"$f":"Worksheet!H293","v":0},{"$f":"Worksheet!I293","v":0},{"$f":"IFERROR(IF(Worksheet!X293=0,Worksheet!W293/I274,Worksheet!X293/R274),0)","v":0},"W Controlled",null,null,{"$f":"IF(N(Worksheet!S293)=0,N(Worksheet!R293),N(Worksheet!S293))","v":0},{"$f":"IFERROR(Worksheet!U293/(Worksheet!R293),0)","v":0},{"$f":"Worksheet!AC293","v":0},{"$f":"Worksheet!AB293","v":0},0,{"$f":"IF(Worksheet!AJ293=0,0,Worksheet!AJ293*10/I274)","v":0},0,null,null,null,{"$f":"IFERROR(Worksheet!V293/(Worksheet!S293),0)","v":0},{"$f":"IF(Worksheet!E293=\"\",\"\",Worksheet!E293)","v":""},{"$f":"IF(Worksheet!B293=\"\",\"\",Worksheet!B293)","v":""},{"$f":"IF(Worksheet!D293=\"\",\"\",Worksheet!D293)","v":""}]
[{"$f":"IF(ISBLANK(Worksheet!F294)=FALSE,VLOOKUP(Worksheet!A294,MeasureCode_Lookup,6,FALSE),\"\")","v":""},{"$f":"Worksheet!H294","v":0},{"$f":"Worksheet!I294","v":0},{"$f":"IFERROR(IF(Worksheet!X294=0,Worksheet!W294/I275,Worksheet!X294/R275),0)","v":0},"W Controlled",null,null,{"$f":"IF(N(Worksheet!S294)=0,N(Worksheet!R294),N(Worksheet!S294))","v":0},{"$f":"IFERROR(Worksheet!U294/(Worksheet!R294),0)","v":0},{"$f":"Worksheet!AC294","v":0},{"$f":"Worksheet!AB294","v":0},0,{"$f":"IF(Worksheet!AJ294=0,0,Worksheet!AJ294*10/I275)","v":0},0,null,null,null,{"$f":"IFERROR(Worksheet!V294/(Worksheet!S294),0)","v":0},{"$f":"IF(Worksheet!E294=\"\",\"\",Worksheet!E294)","v":""},{"$f":"IF(Worksheet!B294=\"\",\"\",Worksheet!B294)","v":""},{"$f":"IF(Worksheet!D294=\"\",\"\",Worksheet!D294)","v":""}]
[{"$f":"IF(ISBLANK(Worksheet!F295)=FALSE,VLOOKUP(Worksheet!A295,MeasureCode_Lookup,6,FALSE),\"\")","v":""},{"$f":"Worksheet!H295","v":0},{"$f":"Worksheet!I295","v":0},{"$f":"IFERROR(IF(Worksheet!X295=0,Worksheet!W295/I276,Worksheet!X295/R276),0)","v":0},"W Controlled",null,null,{"$f":"IF(N(Worksheet!S295)=0,N(Worksheet!R295),N(Worksheet!S295))","v":0},{"$f":"IFERROR(Worksheet!U295/(Worksheet!R295),0)","v":0},{"$f":"Worksheet!AC295","v":0},{"$f":"Worksheet!AB295","v":0},0,{"$f":"IF(Worksheet!AJ295=0,0,Worksheet!AJ295*10/I276)","v":0},0,null,null,null,{"$f":"IFERROR(Worksheet!V295/(Worksheet!S295),0)","v":0},{"$f":"IF(Worksheet!E295=\"\",\"\",Worksheet!E295)","v":""},{"$f":"IF(Worksheet!B295=\"\",\"\",Worksheet!B295)","v":""},{"$f":"IF(Worksheet!D295=\"\",\"\",Worksheet!D295)","v":""}]
[{"$f":"IF(ISBLANK(Worksheet!F296)=FALSE,VLOOKUP(Worksheet!A296,MeasureCode_Lookup,6,FALSE),\"\")","v":""},{"$f":"Worksheet!H296","v":0},{"$f":"Worksheet!I296","v":0},{"$f":"IFERROR(IF(Worksheet!X296=0,Worksheet!W296/I277,Worksheet!X296/R277),0)","v":0},"W Controlled",null,null,{"$f":"IF(N(Worksheet!S296)=0,N(Worksheet!R296),N(Worksheet!S296))","v":0},{"$f":"IFERROR(Worksheet!U296/(Worksheet!R296),0)","v":0},{"$f":"Worksheet!AC296","v":0},{"$f":"Worksheet!AB296","v":0},0,{"$f":"IF(Worksheet!AJ296=0,0,Worksheet!AJ296*10/I277)","v":0},0,null,null,null,{"$f":"IFERROR(Worksheet!V296/(Worksheet!S296),0)","v":0},{"$f":"IF(Worksheet!E296=\"\",\"\",Worksheet!E296)","v":""},{"$f":"IF(Worksheet!B296=\"\",\"\",Worksheet!B296)","v":""},{"$f":"IF(Worksheet!D296=\"\",\"\",Worksheet!D296)","v":""}]
[{"$f":"IF(ISBLANK(Worksheet!F297)=FALSE,VLOOKUP(Worksheet!A297,MeasureCode_Lookup,6,FALSE),\"\")","v":""},{"$f":"Worksheet!H297","v":0},{"$f":"Worksheet!I297","v":0},{"$f":"IFERROR(IF(Worksheet!X297=0,Worksheet!W297/I278,Worksheet!X297/R278),0)","v":0},"W Controlled",null,null,{"$f":"IF(N(Worksheet!S297)=0,N(Worksheet!R297),N(Worksheet!S297))","v":0},{"$f":"IFERROR(Worksheet!U297/(Worksheet!R297),0)","v":0},{"$f":"Worksheet!AC297","v":0},{"$f":"Worksheet!AB297","v":0},0,{"$f":"IF(Worksheet!AJ297=0,0,Worksheet!AJ297*10/I278)","v":0},0,null,null,null,{"$f":"IFERROR(Worksheet!V297/(Worksheet!S297),0)","v":0},{"$f":"IF(Worksheet!E297=\"\",\"\",Worksheet!E297)","v":""},{"$f":"IF(Worksheet!B297=\"\",\"\",Worksheet!B297)","v":""},{"$f":"IF(Worksheet!D297=\"\",\"\",Worksheet!D297)","v":""}]
[{"$f":"IF(ISBLANK(Worksheet!F298)=FALSE,VLOOKUP(Worksheet!A298,MeasureCode_Lookup,6,FALSE),\"\")","v":""},{"$f":"Worksheet!H298","v":0},{"$f":"Worksheet!I298","v":0},{"$f":"IFERROR(IF(Worksheet!X298=0,Worksheet!W298/I279,Worksheet!X298/R279),0)","v":0},"W Controlled",null,null,{"$f":"IF(N(Worksheet!S298)=0,N(Worksheet!R298),N(Worksheet!S298))","v":0},{"$f":"IFERROR(Worksheet!U298/(Worksheet!R298),0)","v":0},{"$f":"Worksheet!AC298","v":0},{"$f":"Worksheet!AB298","v":0},0,{"$f":"IF(Worksheet!AJ298=0,0,Worksheet!AJ298*10/I279)","v":0},0,null,null,null,{"$f":"IFERROR(Worksheet!V298/(Worksheet!S298),0)","v":0},{"$f":"IF(Worksheet!E298=\"\",\"\",Worksheet!E298)","v":""},{"$f":"IF(Worksheet!B298=\"\",\"\",Worksheet!B298)","v":""},{"$f":"IF(Worksheet!D298=\"\",\"\",Worksheet!D298)","v":""}]
[{"$f":"IF(ISBLANK(Worksheet!F299)=FALSE,VLOOKUP(Worksheet!A299,MeasureCode_Lookup,6,FALSE),\"\")","v":""},{"$f":"Worksheet!H299","v":0},{"$f":"Worksheet!I299","v":0},{"$f":"IFERROR(IF(Worksheet!X299=0,Worksheet!W299/I280,Worksheet!X299/R280),0)","v":0},"W Controlled",null,null,{"$f":"IF(N(Worksheet!S299)=0,N(Worksheet!R299),N(Worksheet!S299))","v":0},{"$f":"IFERROR(Worksheet!U299/(Worksheet!R299),0)","v":0},{"$f":"Worksheet!AC299","v":0},{"$f":"Worksheet!AB299","v":0},0,{"$f":"IF(Worksheet!AJ299=0,0,Worksheet!AJ299*10/I280)","v":0},0,null,null,null,{"$f":"IFERROR(Worksheet!V299/(Worksheet!S299),0)","v":0},{"$f":"IF(Worksheet!E299=\"\",\"\",Worksheet!E299)","v":""},{"$f":"IF(Worksheet!B299=\"\",\"\",Worksheet!B299)","v":""},{"$f":"IF(Worksheet!D299=\"\",\"\",Worksheet!D299)","v":""}]
[{"$f":"IF(ISBLANK(Worksheet!F300)=FALSE,VLOOKUP(Worksheet!A300,MeasureCode_Lookup,6,FALSE),\"\")","v":""},{"$f":"Worksheet!H300","v":0},{"$f":"Worksheet!I300","v":0},{"$f":"IFERROR(IF(Worksheet!X300=0,Worksheet!W300/I281,Worksheet!X300/R281),0)","v":0},"W Controlled",null,null,{"$f":"IF(N(Worksheet!S300)=0,N(Worksheet!R300),N(Worksheet!S300))","v":0},{"$f":"IFERROR(Worksheet!U300/(Worksheet!R300),0)","v":0},{"$f":"Worksheet!AC300","v":0},{"$f":"Worksheet!AB300","v":0},0,{"$f":"IF(Worksheet!AJ300=0,0,Worksheet!AJ300*10/I281)","v":0},0,null,null,null,{"$f":"IFERROR(Worksheet!V300/(Worksheet!S300),0)","v":0},{"$f":"IF(Worksheet!E300=\"\",\"\",Worksheet!E300)","v":""},{"$f":"IF(Worksheet!B300=\"\",\"\",Worksheet!B300)","v":""},{"$f":"IF(Worksheet!D300=\"\",\"\",Worksheet!D300)","v":""}]
[{"$f":"IF(ISBLANK(Worksheet!F301)=FALSE,VLOOKUP(Worksheet!A301,MeasureCode_Lookup,6,FALSE),\"\")","v":""},{"$f":"Worksheet!H301","v":0},{"$f":"Worksheet!I301","v":0},{"$f":"IFERROR(IF(Worksheet!X301=0,Worksheet!W301/I282,Worksheet!X301/R282),0)","v":0},"W Controlled",null,null,{"$f":"IF(N(Worksheet!S301)=0,N(Worksheet!R301),N(Worksheet!S301))","v":0},{"$f":"IFERROR(Worksheet!U301/(Worksheet!R301),0)","v":0},{"$f":"Worksheet!AC301","v":0},{"$f":"Worksheet!AB301","v":0},0,{"$f":"IF(Worksheet!AJ301=0,0,Worksheet!AJ301*10/I282)","v":0},0,null,null,null,{"$f":"IFERROR(Worksheet!V301/(Worksheet!S301),0)","v":0},{"$f":"IF(Worksheet!E301=\"\",\"\",Worksheet!E301)","v":""},{"$f":"IF(Worksheet!B301=\"\",\"\",Worksheet!B301)","v":""},{"$f":"IF(Worksheet!D301=\"\",\"\",Worksheet!D301)","v":""}]
[{"$f":"IF(ISBLANK(Worksheet!F302)=FALSE,VLOOKUP(Worksheet!A302,MeasureCode_Lookup,6,FALSE),\"\")","v":""},{"$f":"Worksheet!H302","v":0},{"$f":"Worksheet!I302","v":0},{"$f":"IFERROR(IF(Worksheet!X302=0,Worksheet!W302/I283,Worksheet!X302/R283),0)","v":0},"W Controlled",null,null,{"$f":"IF(N(Worksheet!S302)=0,N(Worksheet!R302),N(Worksheet!S302))","v":0},{"$f":"IFERROR(Worksheet!U302/(Worksheet!R302),0)","v":0},{"$f":"Worksheet!AC302","v":0},{"$f":"Worksheet!AB302","v":0},0,{"$f":"IF(Worksheet!AJ302=0,0,Worksheet!AJ302*10/I283)","v":0},0,null,null,null,{"$f":"IFERROR(Worksheet!V302/(Worksheet!S302),0)","v":0},{"$f":"IF(Worksheet!E302=\"\",\"\",Worksheet!E302)","v":""},{"$f":"IF(Worksheet!B302=\"\",\"\",Worksheet!B302)","v":""},{"$f":"IF(Worksheet!D302=\"\",\"\",Worksheet!D302)","v":""}]
[{"$f":"IF(ISBLANK(Worksheet!F303)=FALSE,VLOOKUP(Worksheet!A303,MeasureCode_Lookup,6,FALSE),\"\")","v":""},{"$f":"Worksheet!H303","v":0},{"$f":"Worksheet!I303","v":0},{"$f":"IFERROR(IF(Worksheet!X303=0,Worksheet!W303/I284,Worksheet!X303/R284),0)","v":0},"W Controlled",null,null,{"$f":"IF(N(Worksheet!S303)=0,N(Worksheet!R303),N(Worksheet!S303))","v":0},{"$f":"IFERROR(Worksheet!U303/(Worksheet!R303),0)","v":0},{"$f":"Worksheet!AC303","v":0},{"$f":"Worksheet!AB303","v":0},0,{"$f":"IF(Worksheet!AJ303=0,0,Worksheet!AJ303*10/I284)","v":0},0,null,null,null,{"$f":"IFERROR(Worksheet!V303/(Worksheet!S303),0)","v":0},{"$f":"IF(Worksheet!E303=\"\",\"\",Worksheet!E303)","v":""},{"$f":"IF(Worksheet!B303=\"\",\"\",Worksheet!B303)","v":""},{"$f":"IF(Worksheet!D303=\"\",\"\",Worksheet!D303)","v":""}]
[{"$f":"IF(ISBLANK(Worksheet!F304)=FALSE,VLOOKUP(Worksheet!A304,MeasureCode_Lookup,6,FALSE),\"\")","v":""},{"$f":"Worksheet!H304","v":0},{"$f":"Worksheet!I304","v":0},{"$f":"IFERROR(IF(Worksheet!X304=0,Worksheet!W304/I285,Worksheet!X304/R285),0)","v":0},"W Controlled",null,null,{"$f":"IF(N(Worksheet!S304)=0,N(Worksheet!R304),N(Worksheet!S304))","v":0},{"$f":"IFERROR(Worksheet!U304/(Worksheet!R304),0)","v":0},{"$f":"Worksheet!AC304","v":0},{"$f":"Worksheet!AB304","v":0},0,{"$f":"IF(Worksheet!AJ304=0,0,Worksheet!AJ304*10/I285)","v":0},0,null,null,null,{"$f":"IFERROR(Worksheet!V304/(Worksheet!S304),0)","v":0},{"$f":"IF(Worksheet!E304=\"\",\"\",Worksheet!E304)","v":""},{"$f":"IF(Worksheet!B304=\"\",\"\",Worksheet!B304)","v":""},{"$f":"IF(Worksheet!D304=\"\",\"\",Worksheet!D304)","v":""}]
[{"$f":"IF(ISBLANK(Worksheet!F305)=FALSE,VLOOKUP(Worksheet!A305,MeasureCode_Lookup,6,FALSE),\"\")","v":""},{"$f":"Worksheet!H305","v":0},{"$f":"Worksheet!I305","v":0},{"$f":"IFERROR(IF(Worksheet!X305=0,Worksheet!W305/I286,Worksheet!X305/R286),0)","v":0},"W Controlled",null,null,{"$f":"IF(N(Worksheet!S305)=0,N(Worksheet!R305),N(Worksheet!S305))","v":0},{"$f":"IFERROR(Worksheet!U305/(Worksheet!R305),0)","v":0},{"$f":"Worksheet!AC305","v":0},{"$f":"Worksheet!AB305","v":0},0,{"$f":"IF(Worksheet!AJ305=0,0,Worksheet!AJ305*10/I286)","v":0},0,null,null,null,{"$f":"IFERROR(Worksheet!V305/(Worksheet!S305),0)","v":0},{"$f":"IF(Worksheet!E305=\"\",\"\",Worksheet!E305)","v":""},{"$f":"IF(Worksheet!B305=\"\",\"\",Worksheet!B305)","v":""},{"$f":"IF(Worksheet!D305=\"\",\"\",Worksheet!D305)","v":""}]
[{"$f":"IF(ISBLANK(Worksheet!F306)=FALSE,VLOOKUP(Worksheet!A306,MeasureCode_Lookup,6,FALSE),\"\")","v":""},{"$f":"Worksheet!H306","v":0},{"$f":"Worksheet!I306","v":0},{"$f":"IFERROR(IF(Worksheet!X306=0,Worksheet!W306/I287,Worksheet!X306/R287),0)","v":0},"W Controlled",null,null,{"$f":"IF(N(Worksheet!S306)=0,N(Worksheet!R306),N(Worksheet!S306))","v":0},{"$f":"IFERROR(Worksheet!U306/(Worksheet!R306),0)","v":0},{"$f":"Worksheet!AC306","v":0},{"$f":"Worksheet!AB306","v":0},0,{"$f":"IF(Worksheet!AJ306=0,0,Worksheet!AJ306*10/I287)","v":0},0,null,null,null,{"$f":"IFERROR(Worksheet!V306/(Worksheet!S306),0)","v":0},{"$f":"IF(Worksheet!E306=\"\",\"\",Worksheet!E306)","v":""},{"$f":"IF(Worksheet!B306=\"\",\"\",Worksheet!B306)","v":""},{"$f":"IF(Worksheet!D306=\"\",\"\",Worksheet!D306)","v":""}]
[{"$f":"IF(ISBLANK(Worksheet!F307)=FALSE,VLOOKUP(Worksheet!A307,MeasureCode_Lookup,6,FALSE),\"\")","v":""},{"$f":"Worksheet!H307","v":0},{"$f":"Worksheet!I307","v":0},{"$f":"IFERROR(IF(Worksheet!X307=0,Worksheet!W307/I288,Worksheet!X307/R288),0)","v":0},"W Controlled",null,null,{"$f":"IF(N(Worksheet!S307)=0,N(Worksheet!R307),N(Worksheet!S307))","v":0},{"$f":"IFERROR(Worksheet!U307/(Worksheet!R307),0)","v":0},{"$f":"Worksheet!AC307","v":0},{"$f":"Worksheet!AB307","v":0},0,{"$f":"IF(Worksheet!AJ307=0,0,Worksheet!AJ307*10/I288)","v":0},0,null,null,null,{"$f":"IFERROR(Worksheet!V307/(Worksheet!S307),0)","v":0},{"$f":"IF(Worksheet!E307=\"\",\"\",Worksheet!E307)","v":""},{"$f":"IF(Worksheet!B307=\"\",\"\",Worksheet!B307)","v":""},{"$f":"IF(Worksheet!D307=\"\",\"\",Worksheet!D307)","v":""}]
[{"$f":"IF(ISBLANK(Worksheet!F308)=FALSE,VLOOKUP(Worksheet!A308,MeasureCode_Lookup,6,FALSE),\"\")","v":""},{"$f":"Worksheet!H308","v":0},{"$f":"Worksheet!I308","v":0},{"$f":"IFERROR(IF(Worksheet!X308=0,Worksheet!W308/I289,Worksheet!X308/R289),0)","v":0},"W Controlled",null,null,{"$f":"IF(N(Worksheet!S308)=0,N(Worksheet!R308),N(Worksheet!S308))","v":0},{"$f":"IFERROR(Worksheet!U308/(Worksheet!R308),0)","v":0},{"$f":"Worksheet!AC308","v":0},{"$f":"Worksheet!AB308","v":0},0,{"$f":"IF(Worksheet!AJ308=0,0,Worksheet!AJ308*10/I289)","v":0},0,null,null,null,{"$f":"IFERROR(Worksheet!V308/(Worksheet!S308),0)","v":0},{"$f":"IF(Worksheet!E308=\"\",\"\",Worksheet!E308)","v":""},{"$f":"IF(Worksheet!B308=\"\",\"\",Worksheet!B308)","v":""},{"$f":"IF(Worksheet!D308=\"\",\"\",Worksheet!D308)","v":""}]
[{"$f":"IF(ISBLANK(Worksheet!F309)=FALSE,VLOOKUP(Worksheet!A309,MeasureCode_Lookup,6,FALSE),\"\")","v":""},{"$f":"Worksheet!H309","v":0},{"$f":"Worksheet!I309","v":0},{"$f":"IFERROR(IF(Worksheet!X309=0,Worksheet!W309/I290,Worksheet!X309/R290),0)","v":0},"W Controlled",null,null,{"$f":"IF(N(Worksheet!S309)=0,N(Worksheet!R309),N(Worksheet!S309))","v":0},{"$f":"IFERROR(Worksheet!U309/(Worksheet!R309),0)","v":0},{"$f":"Worksheet!AC309","v":0},{"$f":"Worksheet!AB309","v":0},0,{"$f":"IF(Worksheet!AJ309=0,0,Worksheet!AJ309*10/I290)","v":0},0,null,null,null,{"$f":"IFERROR(Worksheet!V309/(Worksheet!S309),0)","v":0},{"$f":"IF(Worksheet!E309=\"\",\"\",Worksheet!E309)","v":""},{"$f":"IF(Worksheet!B309=\"\",\"\",Worksheet!B309)","v":""},{"$f":"IF(Worksheet!D309=\"\",\"\",Worksheet!D309)","v":""}]
[{"$f":"IF(ISBLANK(Worksheet!F310)=FALSE,VLOOKUP(Worksheet!A310,MeasureCode_Lookup,6,FALSE),\"\")","v":""},{"$f":"Worksheet!H310","v":0},{"$f":"Worksheet!I310","v":0},{"$f":"IFERROR(IF(Worksheet!X310=0,Worksheet!W310/I291,Worksheet!X310/R291),0)","v":0},"W Controlled",null,null,{"$f":"IF(N(Worksheet!S310)=0,N(Worksheet!R310),N(Worksheet!S310))","v":0},{"$f":"IFERROR(Worksheet!U310/(Worksheet!R310),0)","v":0},{"$f":"Worksheet!AC310","v":0},{"$f":"Worksheet!AB310","v":0},0,{"$f":"IF(Worksheet!AJ310=0,0,Worksheet!AJ310*10/I291)","v":0},0,null,null,null,{"$f":"IFERROR(Worksheet!V310/(Worksheet!S310),0)","v":0},{"$f":"IF(Worksheet!E310=\"\",\"\",Worksheet!E310)","v":""},{"$f":"IF(Worksheet!B310=\"\",\"\",Worksheet!B310)","v":""},{"$f":"IF(Worksheet!D310=\"\",\"\",Worksheet!D310)","v":""}]
[{"$f":"IF(ISBLANK(Worksheet!F311)=FALSE,VLOOKUP(Worksheet!A311,MeasureCode_Lookup,6,FALSE),\"\")","v":""},{"$f":"Worksheet!H311","v":0},{"$f":"Worksheet!I311","v":0},{"$f":"IFERROR(IF(Worksheet!X311=0,Worksheet!W311/I292,Worksheet!X311/R292),0)","v":0},"W Controlled",null,null,{"$f":"IF(N(Worksheet!S311)=0,N(Worksheet!R311),N(Worksheet!S311))","v":0},{"$f":"IFERROR(Worksheet!U311/(Worksheet!R311),0)","v":0},{"$f":"Worksheet!AC311","v":0},{"$f":"Worksheet!AB311","v":0},0,{"$f":"IF(Worksheet!AJ311=0,0,Worksheet!AJ311*10/I292)","v":0},0,null,null,null,{"$f":"IFERROR(Worksheet!V311/(Worksheet!S311),0)","v":0},{"$f":"IF(Worksheet!E311=\"\",\"\",Worksheet!E311)","v":""},{"$f":"IF(Worksheet!B311=\"\",\"\",Worksheet!B311)","v":""},{"$f":"IF(Worksheet!D311=\"\",\"\",Worksheet!D311)","v":""}]
[{"$f":"IF(ISBLANK(Worksheet!F312)=FALSE,VLOOKUP(Worksheet!A312,MeasureCode_Lookup,6,FALSE),\"\")","v":""},{"$f":"Worksheet!H312","v":0},{"$f":"Worksheet!I312","v":0},{"$f":"IFERROR(IF(Worksheet!X312=0,Worksheet!W312/I293,Worksheet!X312/R293),0)","v":0},"W Controlled",null,null,{"$f":"IF(N(Worksheet!S312)=0,N(Worksheet!R312),N(Worksheet!S312))","v":0},{"$f":"IFERROR(Worksheet!U312/(Worksheet!R312),0)","v":0},{"$f":"Worksheet!AC312","v":0},{"$f":"Worksheet!AB312","v":0},0,{"$f":"IF(Worksheet!AJ312=0,0,Worksheet!AJ312*10/I293)","v":0},0,null,null,null,{"$f":"IFERROR(Worksheet!V312/(Worksheet!S312),0)","v":0},{"$f":"IF(Worksheet!E312=\"\",\"\",Worksheet!E312)","v":""},{"$f":"IF(Worksheet!B312=\"\",\"\",Worksheet!B312)","v":""},{"$f":"IF(Worksheet!D312=\"\",\"\",Worksheet!D312)","v":""}]
[{"$f":"IF(ISBLANK(Worksheet!F313)=FALSE,VLOOKUP(Worksheet!A313,MeasureCode_Lookup,6,FALSE),\"\")","v":""},{"$f":"Worksheet!H313","v":0},{"$f":"Worksheet!I313","v":0},{"$f":"IFERROR(IF(Worksheet!X313=0,Worksheet!W313/I294,Worksheet!X313/R294),0)","v":0},"W Controlled",null,null,{"$f":"IF(N(Worksheet!S313)=0,N(Worksheet!R313),N(Worksheet!S313))","v":0},{"$f":"IFERROR(Worksheet!U313/(Worksheet!R313),0)","v":0},{"$f":"Worksheet!AC313","v":0},{"$f":"Worksheet!AB313","v":0},0,{"$f":"IF(Worksheet!AJ313=0,0,Worksheet!AJ313*10/I294)","v":0},0,null,null,null,{"$f":"IFERROR(Worksheet!V313/(Worksheet!S313),0)","v":0},{"$f":"IF(Worksheet!E313=\"\",\"\",Worksheet!E313)","v":""},{"$f":"IF(Worksheet!B313=\"\",\"\",Worksheet!B313)","v":""},{"$f":"IF(Worksheet!D313=\"\",\"\",Worksheet!D313)","v":""}]
[{"$f":"IF(ISBLANK(Worksheet!F314)=FALSE,VLOOKUP(Worksheet!A314,MeasureCode_Lookup,6,FALSE),\"\")","v":""},{"$f":"Worksheet!H314","v":0},{"$f":"Worksheet!I314","v":0},{"$f":"IFERROR(IF(Worksheet!X314=0,Worksheet!W314/I295,Worksheet!X314/R295),0)","v":0},"W Controlled",null,null,{"$f":"IF(N(Worksheet!S314)=0,N(Worksheet!R314),N(Worksheet!S314))","v":0},{"$f":"IFERROR(Worksheet!U314/(Worksheet!R314),0)","v":0},{"$f":"Worksheet!AC314","v":0},{"$f":"Worksheet!AB314","v":0},0,{"$f":"IF(Worksheet!AJ314=0,0,Worksheet!AJ314*10/I295)","v":0},0,null,null,null,{"$f":"IFERROR(Worksheet!V314/(Worksheet!S314),0)","v":0},{"$f":"IF(Worksheet!E314=\"\",\"\",Worksheet!E314)","v":""},{"$f":"IF(Worksheet!B314=\"\",\"\",Worksheet!B314)","v":""},{"$f":"IF(Worksheet!D314=\"\",\"\",Worksheet!D314)","v":""}]
[{"$f":"IF(ISBLANK(Worksheet!F315)=FALSE,VLOOKUP(Worksheet!A315,MeasureCode_Lookup,6,FALSE),\"\")","v":""},{"$f":"Worksheet!H315","v":0},{"$f":"Worksheet!I315","v":0},{"$f":"IFERROR(IF(Worksheet!X315=0,Worksheet!W315/I296,Worksheet!X315/R296),0)","v":0},"W Controlled",null,null,{"$f":"IF(N(Worksheet!S315)=0,N(Worksheet!R315),N(Worksheet!S315))","v":0},{"$f":"IFERROR(Worksheet!U315/(Worksheet!R315),0)","v":0},{"$f":"Worksheet!AC315","v":0},{"$f":"Worksheet!AB315","v":0},0,{"$f":"IF(Worksheet!AJ315=0,0,Worksheet!AJ315*10/I296)","v":0},0,null,null,null,{"$f":"IFERROR(Worksheet!V315/(Worksheet!S315),0)","v":0},{"$f":"IF(Worksheet!E315=\"\",\"\",Worksheet!E315)","v":""},{"$f":"IF(Worksheet!B315=\"\",\"\",Worksheet!B315)","v":""},{"$f":"IF(Worksheet!D315=\"\",\"\",Worksheet!D315)","v":""}]
[{"$f":"IF(ISBLANK(Worksheet!F316)=FALSE,VLOOKUP(Worksheet!A316,MeasureCode_Lookup,6,FALSE),\"\")","v":""},{"$f":"Worksheet!H316","v":0},{"$f":"Worksheet!I316","v":0},{"$f":"IFERROR(IF(Worksheet!X316=0,Worksheet!W316/I297,Worksheet!X316/R297),0)","v":0},"W Controlled",null,null,{"$f":"IF(N(Worksheet!S316)=0,N(Worksheet!R316),N(Worksheet!S316))","v":0},{"$f":"IFERROR(Worksheet!U316/(Worksheet!R316),0)","v":0},{"$f":"Worksheet!AC316","v":0},{"$f":"Worksheet!AB316","v":0},0,{"$f":"IF(Worksheet!AJ316=0,0,Worksheet!AJ316*10/I297)","v":0},0,null,null,null,{"$f":"IFERROR(Worksheet!V316/(Worksheet!S316),0)","v":0},{"$f":"IF(Worksheet!E316=\"\",\"\",Worksheet!E316)","v":""},{"$f":"IF(Worksheet!B316=\"\",\"\",Worksheet!B316)","v":""},{"$f":"IF(Worksheet!D316=\"\",\"\",Worksheet!D316)","v":""}]
[{"$f":"IF(ISBLANK(Worksheet!F317)=FALSE,VLOOKUP(Worksheet!A317,MeasureCode_Lookup,6,FALSE),\"\")","v":""},{"$f":"Worksheet!H317","v":0},{"$f":"Worksheet!I317","v":0},{"$f":"IFERROR(IF(Worksheet!X317=0,Worksheet!W317/I298,Worksheet!X317/R298),0)","v":0},"W Controlled",null,null,{"$f":"IF(N(Worksheet!S317)=0,N(Worksheet!R317),N(Worksheet!S317))","v":0},{"$f":"IFERROR(Worksheet!U317/(Worksheet!R317),0)","v":0},{"$f":"Worksheet!AC317","v":0},{"$f":"Worksheet!AB317","v":0},0,{"$f":"IF(Worksheet!AJ317=0,0,Worksheet!AJ317*10/I298)","v":0},0,null,null,null,{"$f":"IFERROR(Worksheet!V317/(Worksheet!S317),0)","v":0},{"$f":"IF(Worksheet!E317=\"\",\"\",Worksheet!E317)","v":""},{"$f":"IF(Worksheet!B317=\"\",\"\",Worksheet!B317)","v":""},{"$f":"IF(Worksheet!D317=\"\",\"\",Worksheet!D317)","v":""}]
[{"$f":"IF(ISBLANK(Worksheet!F318)=FALSE,VLOOKUP(Worksheet!A318,MeasureCode_Lookup,6,FALSE),\"\")","v":""},{"$f":"Worksheet!H318","v":0},{"$f":"Worksheet!I318","v":0},{"$f":"IFERROR(IF(Worksheet!X318=0,Worksheet!W318/I299,Worksheet!X318/R299),0)","v":0},"W Controlled",null,null,{"$f":"IF(N(Worksheet!S318)=0,N(Worksheet!R318),N(Worksheet!S318))","v":0},{"$f":"IFERROR(Worksheet!U318/(Worksheet!R318),0)","v":0},{"$f":"Worksheet!AC318","v":0},{"$f":"Worksheet!AB318","v":0},0,{"$f":"IF(Worksheet!AJ318=0,0,Worksheet!AJ318*10/I299)","v":0},0,null,null,null,{"$f":"IFERROR(Worksheet!V318/(Worksheet!S318),0)","v":0},{"$f":"IF(Worksheet!E318=\"\",\"\",Worksheet!E318)","v":""},{"$f":"IF(Worksheet!B318=\"\",\"\",Worksheet!B318)","v":""},{"$f":"IF(Worksheet!D318=\"\",\"\",Worksheet!D318)","v":""}]
[{"$f":"IF(ISBLANK(Worksheet!F319)=FALSE,VLOOKUP(Worksheet!A319,MeasureCode_Lookup,6,FALSE),\"\")","v":""},{"$f":"Worksheet!H319","v":0},{"$f":"Worksheet!I319","v":0},{"$f":"IFERROR(IF(Worksheet!X319=0,Worksheet!W319/I300,Worksheet!X319/R300),0)","v":0},"W Controlled",null,null,{"$f":"IF(N(Worksheet!S319)=0,N(Worksheet!R319),N(Worksheet!S319))","v":0},{"$f":"IFERROR(Worksheet!U319/(Worksheet!R319),0)","v":0},{"$f":"Worksheet!AC319","v":0},{"$f":"Worksheet!AB319","v":0},0,{"$f":"IF(Worksheet!AJ319=0,0,Worksheet!AJ319*10/I300)","v":0},0,null,null,null,{"$f":"IFERROR(Worksheet!V319/(Worksheet!S319),0)","v":0},{"$f":"IF(Worksheet!E319=\"\",\"\",Worksheet!E319)","v":""},{"$f":"IF(Worksheet!B319=\"\",\"\",Worksheet!B319)","v":""},{"$f":"IF(Worksheet!D319=\"\",\"\",Worksheet!D319)","v":""}]
[{"$f":"IF(ISBLANK(Worksheet!F320)=FALSE,VLOOKUP(Worksheet!A320,MeasureCode_Lookup,6,FALSE),\"\")","v":""},{"$f":"Worksheet!H320","v":0},{"$f":"Worksheet!I320","v":0},{"$f":"IFERROR(IF(Worksheet!X320=0,Worksheet!W320/I301,Worksheet!X320/R301),0)","v":0},"W Controlled",null,null,{"$f":"IF(N(Worksheet!S320)=0,N(Worksheet!R320),N(Worksheet!S320))","v":0},{"$f":"IFERROR(Worksheet!U320/(Worksheet!R320),0)","v":0},{"$f":"Worksheet!AC320","v":0},{"$f":"Worksheet!AB320","v":0},0,{"$f":"IF(Worksheet!AJ320=0,0,Worksheet!AJ320*10/I301)","v":0},0,null,null,null,{"$f":"IFERROR(Worksheet!V320/(Worksheet!S320),0)","v":0},{"$f":"IF(Worksheet!E320=\"\",\"\",Worksheet!E320)","v":""},{"$f":"IF(Worksheet!B320=\"\",\"\",Worksheet!B320)","v":""},{"$f":"IF(Worksheet!D320=\"\",\"\",Worksheet!D320)","v":""}]
[{"$f":"IF(ISBLANK(Worksheet!F321)=FALSE,VLOOKUP(Worksheet!A321,MeasureCode_Lookup,6,FALSE),\"\")","v":""},{"$f":"Worksheet!H321","v":0},{"$f":"Worksheet!I321","v":0},{"$f":"IFERROR(IF(Worksheet!X321=0,Worksheet!W321/I302,Worksheet!X321/R302),0)","v":0},"W Controlled",null,null,{"$f":"IF(N(Worksheet!S321)=0,N(Worksheet!R321),N(Worksheet!S321))","v":0},{"$f":"IFERROR(Worksheet!U321/(Worksheet!R321),0)","v":0},{"$f":"Worksheet!AC321","v":0},{"$f":"Worksheet!AB321","v":0},0,{"$f":"IF(Worksheet!AJ321=0,0,Worksheet!AJ321*10/I302)","v":0},0,null,null,null,{"$f":"IFERROR(Worksheet!V321/(Worksheet!S321),0)","v":0},{"$f":"IF(Worksheet!E321=\"\",\"\",Worksheet!E321)","v":""},{"$f":"IF(Worksheet!B321=\"\",\"\",Worksheet!B321)","v":""},{"$f":"IF(Worksheet!D321=\"\",\"\",Worksheet!D321)","v":""}]
[{"$f":"IF(ISBLANK(Worksheet!F322)=FALSE,VLOOKUP(Worksheet!A322,MeasureCode_Lookup,6,FALSE),\"\")","v":""},{"$f":"Worksheet!H322","v":0},{"$f":"Worksheet!I322","v":0},{"$f":"IFERROR(IF(Worksheet!X322=0,Worksheet!W322/I303,Worksheet!X322/R303),0)","v":0},"W Controlled",null,null,{"$f":"IF(N(Worksheet!S322)=0,N(Worksheet!R322),N(Worksheet!S322))","v":0},{"$f":"IFERROR(Worksheet!U322/(Worksheet!R322),0)","v":0},{"$f":"Worksheet!AC322","v":0},{"$f":"Worksheet!AB322","v":0},0,{"$f":"IF(Worksheet!AJ322=0,0,Worksheet!AJ322*10/I303)","v":0},0,null,null,null,{"$f":"IFERROR(Worksheet!V322/(Worksheet!S322),0)","v":0},{"$f":"IF(Worksheet!E322=\"\",\"\",Worksheet!E322)","v":""},{"$f":"IF(Worksheet!B322=\"\",\"\",Worksheet!B322)","v":""},{"$f":"IF(Worksheet!D322=\"\",\"\",Worksheet!D322)","v":""}]
[{"$f":"IF(ISBLANK(Worksheet!F323)=FALSE,VLOOKUP(Worksheet!A323,MeasureCode_Lookup,6,FALSE),\"\")","v":""},{"$f":"Worksheet!H323","v":0},{"$f":"Worksheet!I323","v":0},{"$f":"IFERROR(IF(Worksheet!X323=0,Worksheet!W323/I304,Worksheet!X323/R304),0)","v":0},"W Controlled",null,null,{"$f":"IF(N(Worksheet!S323)=0,N(Worksheet!R323),N(Worksheet!S323))","v":0},{"$f":"IFERROR(Worksheet!U323/(Worksheet!R323),0)","v":0},{"$f":"Worksheet!AC323","v":0},{"$f":"Worksheet!AB323","v":0},0,{"$f":"IF(Worksheet!AJ323=0,0,Worksheet!AJ323*10/I304)","v":0},0,null,null,null,{"$f":"IFERROR(Worksheet!V323/(Worksheet!S323),0)","v":0},{"$f":"IF(Worksheet!E323=\"\",\"\",Worksheet!E323)","v":""},{"$f":"IF(Worksheet!B323=\"\",\"\",Worksheet!B323)","v":""},{"$f":"IF(Worksheet!D323=\"\",\"\",Worksheet!D323)","v":""}]
[{"$f":"IF(ISBLANK(Worksheet!F324)=FALSE,VLOOKUP(Worksheet!A324,MeasureCode_Lookup,6,FALSE),\"\")","v":""},{"$f":"Worksheet!H324","v":0},{"$f":"Worksheet!I324","v":0},{"$f":"IFERROR(IF(Worksheet!X324=0,Worksheet!W324/I305,Worksheet!X324/R305),0)","v":0},"W Controlled",null,null,{"$f":"IF(N(Worksheet!S324)=0,N(Worksheet!R324),N(Worksheet!S324))","v":0},{"$f":"IFERROR(Worksheet!U324/(Worksheet!R324),0)","v":0},{"$f":"Worksheet!AC324","v":0},{"$f":"Worksheet!AB324","v":0},0,{"$f":"IF(Worksheet!AJ324=0,0,Worksheet!AJ324*10/I305)","v":0},0,null,null,null,{"$f":"IFERROR(Worksheet!V324/(Worksheet!S324),0)","v":0},{"$f":"IF(Worksheet!E324=\"\",\"\",Worksheet!E324)","v":""},{"$f":"IF(Worksheet!B324=\"\",\"\",Worksheet!B324)","v":""},{"$f":"IF(Worksheet!D324=\"\",\"\",Worksheet!D324)","v":""}]
[{"$f":"IF(ISBLANK(Worksheet!F325)=FALSE,VLOOKUP(Worksheet!A325,MeasureCode_Lookup,6,FALSE),\"\")","v":""},{"$f":"Worksheet!H325","v":0},{"$f":"Worksheet!I325","v":0},{"$f":"IFERROR(IF(Worksheet!X325=0,Worksheet!W325/I306,Worksheet!X325/R306),0)","v":0},"W Controlled",null,null,{"$f":"IF(N(Worksheet!S325)=0,N(Worksheet!R325),N(Worksheet!S325))","v":0},{"$f":"IFERROR(Worksheet!U325/(Worksheet!R325),0)","v":0},{"$f":"Worksheet!AC325","v":0},{"$f":"Worksheet!AB325","v":0},0,{"$f":"IF(Worksheet!AJ325=0,0,Worksheet!AJ325*10/I306)","v":0},0,null,null,null,{"$f":"IFERROR(Worksheet!V325/(Worksheet!S325),0)","v":0},{"$f":"IF(Worksheet!E325=\"\",\"\",Worksheet!E325)","v":""},{"$f":"IF(Worksheet!B325=\"\",\"\",Worksheet!B325)","v":""},{"$f":"IF(Worksheet!D325=\"\",\"\",Worksheet!D325)","v":""}]
[{"$f":"IF(ISBLANK(Worksheet!F326)=FALSE,VLOOKUP(Worksheet!A326,MeasureCode_Lookup,6,FALSE),\"\")","v":""},{"$f":"Worksheet!H326","v":0},{"$f":"Worksheet!I326","v":0},{"$f":"IFERROR(IF(Worksheet!X326=0,Worksheet!W326/I307,Worksheet!X326/R307),0)","v":0},"W Controlled",null,null,{"$f":"IF(N(Worksheet!S326)=0,N(Worksheet!R326),N(Worksheet!S326))","v":0},{"$f":"IFERROR(Worksheet!U326/(Worksheet!R326),0)","v":0},{"$f":"Worksheet!AC326","v":0},{"$f":"Worksheet!AB326","v":0},0,{"$f":"IF(Worksheet!AJ326=0,0,Worksheet!AJ326*10/I307)","v":0},0,null,null,null,{"$f":"IFERROR(Worksheet!V326/(Worksheet!S326),0)","v":0},{"$f":"IF(Worksheet!E326=\"\",\"\",Worksheet!E326)","v":""},{"$f":"IF(Worksheet!B326=\"\",\"\",Worksheet!B326)","v":""},{"$f":"IF(Worksheet!D326=\"\",\"\",Worksheet!D326)","v":""}]
[{"$f":"IF(ISBLANK(Worksheet!F327)=FALSE,VLOOKUP(Worksheet!A327,MeasureCode_Lookup,6,FALSE),\"\")","v":""},{"$f":"Worksheet!H327","v":0},{"$f":"Worksheet!I327","v":0},{"$f":"IFERROR(IF(Worksheet!X327=0,Worksheet!W327/I308,Worksheet!X327/R308),0)","v":0},"W Controlled",null,null,{"$f":"IF(N(Worksheet!S327)=0,N(Worksheet!R327),N(Worksheet!S327))","v":0},{"$f":"IFERROR(Worksheet!U327/(Worksheet!R327),0)","v":0},{"$f":"Worksheet!AC327","v":0},{"$f":"Worksheet!AB327","v":0},0,{"$f":"IF(Worksheet!AJ327=0,0,Worksheet!AJ327*10/I308)","v":0},0,null,null,null,{"$f":"IFERROR(Worksheet!V327/(Worksheet!S327),0)","v":0},{"$f":"IF(Worksheet!E327=\"\",\"\",Worksheet!E327)","v":""},{"$f":"IF(Worksheet!B327=\"\",\"\",Worksheet!B327)","v":""},{"$f":"IF(Worksheet!D327=\"\",\"\",Worksheet!D327)","v":""}]
[{"$f":"IF(ISBLANK(Worksheet!F328)=FALSE,VLOOKUP(Worksheet!A328,MeasureCode_Lookup,6,FALSE),\"\")","v":""},{"$f":"Worksheet!H328","v":0},{"$f":"Worksheet!I328","v":0},{"$f":"IFERROR(IF(Worksheet!X328=0,Worksheet!W328/I309,Worksheet!X328/R309),0)","v":0},"W Controlled",null,null,{"$f":"IF(N(Worksheet!S328)=0,N(Worksheet!R328),N(Worksheet!S328))","v":0},{"$f":"IFERROR(Worksheet!U328/(Worksheet!R328),0)","v":0},{"$f":"Worksheet!AC328","v":0},{"$f":"Worksheet!AB328","v":0},0,{"$f":"IF(Worksheet!AJ328=0,0,Worksheet!AJ328*10/I309)","v":0},0,null,null,null,{"$f":"IFERROR(Worksheet!V328/(Worksheet!S328),0)","v":0},{"$f":"IF(Worksheet!E328=\"\",\"\",Worksheet!E328)","v":""},{"$f":"IF(Worksheet!B328=\"\",\"\",Worksheet!B328)","v":""},{"$f":"IF(Worksheet!D328=\"\",\"\",Worksheet!D328)","v":""}]
[{"$f":"IF(ISBLANK(Worksheet!F329)=FALSE,VLOOKUP(Worksheet!A329,MeasureCode_Lookup,6,FALSE),\"\")","v":""},{"$f":"Worksheet!H329","v":0},{"$f":"Worksheet!I329","v":0},{"$f":"IFERROR(IF(Worksheet!X329=0,Worksheet!W329/I310,Worksheet!X329/R310),0)","v":0},"W Controlled",null,null,{"$f":"IF(N(Worksheet!S329)=0,N(Worksheet!R329),N(Worksheet!S329))","v":0},{"$f":"IFERROR(Worksheet!U329/(Worksheet!R329),0)","v":0},{"$f":"Worksheet!AC329","v":0},{"$f":"Worksheet!AB329","v":0},0,{"$f":"IF(Worksheet!AJ329=0,0,Worksheet!AJ329*10/I310)","v":0},0,null,null,null,{"$f":"IFERROR(Worksheet!V329/(Worksheet!S329),0)","v":0},{"$f":"IF(Worksheet!E329=\"\",\"\",Worksheet!E329)","v":""},{"$f":"IF(Worksheet!B329=\"\",\"\",Worksheet!B329)","v":""},{"$f":"IF(Worksheet!D329=\"\",\"\",Worksheet!D329)","v":""}]
[{"$f":"IF(ISBLANK(Worksheet!F330)=FALSE,VLOOKUP(Worksheet!A330,MeasureCode_Lookup,6,FALSE),\"\")","v":""},{"$f":"Worksheet!H330","v":0},{"$f":"Worksheet!I330","v":0},{"$f":"IFERROR(IF(Worksheet!X330=0,Worksheet!W330/I311,Worksheet!X330/R311),0)","v":0},"W Controlled",null,null,{"$f":"IF(N(Worksheet!S330)=0,N(Worksheet!R330),N(Worksheet!S330))","v":0},{"$f":"IFERROR(Worksheet!U330/(Worksheet!R330),0)","v":0},{"$f":"Worksheet!AC330","v":0},{"$f":"Worksheet!AB330","v":0},0,{"$f":"IF(Worksheet!AJ330=0,0,Worksheet!AJ330*10/I311)","v":0},0,null,null,null,{"$f":"IFERROR(Worksheet!V330/(Worksheet!S330),0)","v":0},{"$f":"IF(Worksheet!E330=\"\",\"\",Worksheet!E330)","v":""},{"$f":"IF(Worksheet!B330=\"\",\"\",Worksheet!B330)","v":""},{"$f":"IF(Worksheet!D330=\"\",\"\",Worksheet!D330)","v":""}]
[{"$f":"IF(ISBLANK(Worksheet!F331)=FALSE,VLOOKUP(Worksheet!A331,MeasureCode_Lookup,6,FALSE),\"\")","v":""},{"$f":"Worksheet!H331","v":0},{"$f":"Worksheet!I331","v":0},{"$f":"IFERROR(IF(Worksheet!X331=0,Worksheet!W331/I312,Worksheet!X331/R312),0)","v":0},"W Controlled",null,null,{"$f":"IF(N(Worksheet!S331)=0,N(Worksheet!R331),N(Worksheet!S331))","v":0},{"$f":"IFERROR(Worksheet!U331/(Worksheet!R331),0)","v":0},{"$f":"Worksheet!AC331","v":0},{"$f":"Worksheet!AB331","v":0},0,{"$f":"IF(Worksheet!AJ331=0,0,Worksheet!AJ331*10/I312)","v":0},0,null,null,null,{"$f":"IFERROR(Worksheet!V331/(Worksheet!S331),0)","v":0},{"$f":"IF(Worksheet!E331=\"\",\"\",Worksheet!E331)","v":""},{"$f":"IF(Worksheet!B331=\"\",\"\",Worksheet!B331)","v":""},{"$f":"IF(Worksheet!D331=\"\",\"\",Worksheet!D331)","v":""}]
[{"$f":"IF(ISBLANK(Worksheet!F332)=FALSE,VLOOKUP(Worksheet!A332,MeasureCode_Lookup,6,FALSE),\"\")","v":""},{"$f":"Worksheet!H332","v":0},{"$f":"Worksheet!I332","v":0},{"$f":"IFERROR(IF(Worksheet!X332=0,Worksheet!W332/I313,Worksheet!X332/R313),0)","v":0},"W Controlled",null,null,{"$f":"IF(N(Worksheet!S332)=0,N(Worksheet!R332),N(Worksheet!S332))","v":0},{"$f":"IFERROR(Worksheet!U332/(Worksheet!R332),0)","v":0},{"$f":"Worksheet!AC332","v":0},{"$f":"Worksheet!AB332","v":0},0,{"$f":"IF(Worksheet!AJ332=0,0,Worksheet!AJ332*10/I313)","v":0},0,null,null,null,{"$f":"IFERROR(Worksheet!V332/(Worksheet!S332),0)","v":0},{"$f":"IF(Worksheet!E332=\"\",\"\",Worksheet!E332)","v":""},{"$f":"IF(Worksheet!B332=\"\",\"\",Worksheet!B332)","v":""},{"$f":"IF(Worksheet!D332=\"\",\"\",Worksheet!D332)","v":""}]
[{"$f":"IF(ISBLANK(Worksheet!F333)=FALSE,VLOOKUP(Worksheet!A333,MeasureCode_Lookup,6,FALSE),\"\")","v":""},{"$f":"Worksheet!H333","v":0},{"$f":"Worksheet!I333","v":0},{"$f":"IFERROR(IF(Worksheet!X333=0,Worksheet!W333/I314,Worksheet!X333/R314),0)","v":0},"W Controlled",null,null,{"$f":"IF(N(Worksheet!S333)=0,N(Worksheet!R333),N(Worksheet!S333))","v":0},{"$f":"IFERROR(Worksheet!U333/(Worksheet!R333),0)","v":0},{"$f":"Worksheet!AC333","v":0},{"$f":"Worksheet!AB333","v":0},0,{"$f":"IF(Worksheet!AJ333=0,0,Worksheet!AJ333*10/I314)","v":0},0,null,null,null,{"$f":"IFERROR(Worksheet!V333/(Worksheet!S333),0)","v":0},{"$f":"IF(Worksheet!E333=\"\",\"\",Worksheet!E333)","v":""},{"$f":"IF(Worksheet!B333=\"\",\"\",Worksheet!B333)","v":""},{"$f":"IF(Worksheet!D333=\"\",\"\",Worksheet!D333)","v":""}]
[{"$f":"IF(ISBLANK(Worksheet!F334)=FALSE,VLOOKUP(Worksheet!A334,MeasureCode_Lookup,6,FALSE),\"\")","v":""},{"$f":"Worksheet!H334","v":0},{"$f":"Worksheet!I334","v":0},{"$f":"IFERROR(IF(Worksheet!X334=0,Worksheet!W334/I315,Worksheet!X334/R315),0)","v":0},"W Controlled",null,null,{"$f":"IF(N(Worksheet!S334)=0,N(Worksheet!R334),N(Worksheet!S334))","v":0},{"$f":"IFERROR(Worksheet!U334/(Worksheet!R334),0)","v":0},{"$f":"Worksheet!AC334","v":0},{"$f":"Worksheet!AB334","v":0},0,{"$f":"IF(Worksheet!AJ334=0,0,Worksheet!AJ334*10/I315)","v":0},0,null,null,null,{"$f":"IFERROR(Worksheet!V334/(Worksheet!S334),0)","v":0},{"$f":"IF(Worksheet!E334=\"\",\"\",Worksheet!E334)","v":""},{"$f":"IF(Worksheet!B334=\"\",\"\",Worksheet!B334)","v":""},{"$f":"IF(Worksheet!D334=\"\",\"\",Worksheet!D334)","v":""}]
[{"$f":"IF(ISBLANK(Worksheet!F335)=FALSE,VLOOKUP(Worksheet!A335,MeasureCode_Lookup,6,FALSE),\"\")","v":""},{"$f":"Worksheet!H335","v":0},{"$f":"Worksheet!I335","v":0},{"$f":"IFERROR(IF(Worksheet!X335=0,Worksheet!W335/I316,Worksheet!X335/R316),0)","v":0},"W Controlled",null,null,{"$f":"IF(N(Worksheet!S335)=0,N(Worksheet!R335),N(Worksheet!S335))","v":0},{"$f":"IFERROR(Worksheet!U335/(Worksheet!R335),0)","v":0},{"$f":"Worksheet!AC335","v":0},{"$f":"Worksheet!AB335","v":0},0,{"$f":"IF(Worksheet!AJ335=0,0,Worksheet!AJ335*10/I316)","v":0},0,null,null,null,{"$f":"IFERROR(Worksheet!V335/(Worksheet!S335),0)","v":0},{"$f":"IF(Worksheet!E335=\"\",\"\",Worksheet!E335)","v":""},{"$f":"IF(Worksheet!B335=\"\",\"\",Worksheet!B335)","v":""},{"$f":"IF(Worksheet!D335=\"\",\"\",Worksheet!D335)","v":""}]
[{"$f":"IF(ISBLANK(Worksheet!F336)=FALSE,VLOOKUP(Worksheet!A336,MeasureCode_Lookup,6,FALSE),\"\")","v":""},{"$f":"Worksheet!H336","v":0},{"$f":"Worksheet!I336","v":0},{"$f":"IFERROR(IF(Worksheet!X336=0,Worksheet!W336/I317,Worksheet!X336/R317),0)","v":0},"W Controlled",null,null,{"$f":"IF(N(Worksheet!S336)=0,N(Worksheet!R336),N(Worksheet!S336))","v":0},{"$f":"IFERROR(Worksheet!U336/(Worksheet!R336),0)","v":0},{"$f":"Worksheet!AC336","v":0},{"$f":"Worksheet!AB336","v":0},0,{"$f":"IF(Worksheet!AJ336=0,0,Worksheet!AJ336*10/I317)","v":0},0,null,null,null,{"$f":"IFERROR(Worksheet!V336/(Worksheet!S336),0)","v":0},{"$f":"IF(Worksheet!E336=\"\",\"\",Worksheet!E336)","v":""},{"$f":"IF(Worksheet!B336=\"\",\"\",Worksheet!B336)","v":""},{"$f":"IF(Worksheet!D336=\"\",\"\",Worksheet!D336)","v":""}]
[{"$f":"IF(ISBLANK(Worksheet!F337)=FALSE,VLOOKUP(Worksheet!A337,MeasureCode_Lookup,6,FALSE),\"\")","v":""},{"$f":"Worksheet!H337","v":0},{"$f":"Worksheet!I337","v":0},{"$f":"IFERROR(IF(Worksheet!X337=0,Worksheet!W337/I318,Worksheet!X337/R318),0)","v":0},"W Controlled",null,null,{"$f":"IF(N(Worksheet!S337)=0,N(Worksheet!R337),N(Worksheet!S337))","v":0},{"$f":"IFERROR(Worksheet!U337/(Worksheet!R337),0)","v":0},{"$f":"Worksheet!AC337","v":0},{"$f":"Worksheet!AB337","v":0},0,{"$f":"IF(Worksheet!AJ337=0,0,Worksheet!AJ337*10/I318)","v":0},0,null,null,null,{"$f":"IFERROR(Worksheet!V337/(Worksheet!S337),0)","v":0},{"$f":"IF(Worksheet!E337=\"\",\"\",Worksheet!E337)","v":""},{"$f":"IF(Worksheet!B337=\"\",\"\",Worksheet!B337)","v":""},{"$f":"IF(Worksheet!D337=\"\",\"\",Worksheet!D337)","v":""}]
[{"$f":"IF(ISBLANK(Worksheet!F338)=FALSE,VLOOKUP(Worksheet!A338,MeasureCode_Lookup,6,FALSE),\"\")","v":""},{"$f":"Worksheet!H338","v":0},{"$f":"Worksheet!I338","v":0},{"$f":"IFERROR(IF(Worksheet!X338=0,Worksheet!W338/I319,Worksheet!X338/R319),0)","v":0},"W Controlled",null,null,{"$f":"IF(N(Worksheet!S338)=0,N(Worksheet!R338),N(Worksheet!S338))","v":0},{"$f":"IFERROR(Worksheet!U338/(Worksheet!R338),0)","v":0},{"$f":"Worksheet!AC338","v":0},{"$f":"Worksheet!AB338","v":0},0,{"$f":"IF(Worksheet!AJ338=0,0,Worksheet!AJ338*10/I319)","v":0},0,null,null,null,{"$f":"IFERROR(Worksheet!V338/(Worksheet!S338),0)","v":0},{"$f":"IF(Worksheet!E338=\"\",\"\",Worksheet!E338)","v":""},{"$f":"IF(Worksheet!B338=\"\",\"\",Worksheet!B338)","v":""},{"$f":"IF(Worksheet!D338=\"\",\"\",Worksheet!D338)","v":""}]
[{"$f":"IF(ISBLANK(Worksheet!F339)=FALSE,VLOOKUP(Worksheet!A339,MeasureCode_Lookup,6,FALSE),\"\")","v":""},{"$f":"Worksheet!H339","v":0},{"$f":"Worksheet!I339","v":0},{"$f":"IFERROR(IF(Worksheet!X339=0,Worksheet!W339/I320,Worksheet!X339/R320),0)","v":0},"W Controlled",null,null,{"$f":"IF(N(Worksheet!S339)=0,N(Worksheet!R339),N(Worksheet!S339))","v":0},{"$f":"IFERROR(Worksheet!U339/(Worksheet!R339),0)","v":0},{"$f":"Worksheet!AC339","v":0},{"$f":"Worksheet!AB339","v":0},0,{"$f":"IF(Worksheet!AJ339=0,0,Worksheet!AJ339*10/I320)","v":0},0,null,null,null,{"$f":"IFERROR(Worksheet!V339/(Worksheet!S339),0)","v":0},{"$f":"IF(Worksheet!E339=\"\",\"\",Worksheet!E339)","v":""},{"$f":"IF(Worksheet!B339=\"\",\"\",Worksheet!B339)","v":""},{"$f":"IF(Worksheet!D339=\"\",\"\",Worksheet!D339)","v":""}]
[{"$f":"IF(ISBLANK(Worksheet!F340)=FALSE,VLOOKUP(Worksheet!A340,MeasureCode_Lookup,6,FALSE),\"\")","v":""},{"$f":"Worksheet!H340","v":0},{"$f":"Worksheet!I340","v":0},{"$f":"IFERROR(IF(Worksheet!X340=0,Worksheet!W340/I321,Worksheet!X340/R321),0)","v":0},"W Controlled",null,null,{"$f":"IF(N(Worksheet!S340)=0,N(Worksheet!R340),N(Worksheet!S340))","v":0},{"$f":"IFERROR(Worksheet!U340/(Worksheet!R340),0)","v":0},{"$f":"Worksheet!AC340","v":0},{"$f":"Worksheet!AB340","v":0},0,{"$f":"IF(Worksheet!AJ340=0,0,Worksheet!AJ340*10/I321)","v":0},0,null,null,null,{"$f":"IFERROR(Worksheet!V340/(Worksheet!S340),0)","v":0},{"$f":"IF(Worksheet!E340=\"\",\"\",Worksheet!E340)","v":""},{"$f":"IF(Worksheet!B340=\"\",\"\",Worksheet!B340)","v":""},{"$f":"IF(Worksheet!D340=\"\",\"\",Worksheet!D340)","v":""}]
[{"$f":"IF(ISBLANK(Worksheet!F341)=FALSE,VLOOKUP(Worksheet!A341,MeasureCode_Lookup,6,FALSE),\"\")","v":""},{"$f":"Worksheet!H341","v":0},{"$f":"Worksheet!I341","v":0},{"$f":"IFERROR(IF(Worksheet!X341=0,Worksheet!W341/I322,Worksheet!X341/R322),0)","v":0},"W Controlled",null,null,{"$f":"IF(N(Worksheet!S341)=0,N(Worksheet!R341),N(Worksheet!S341))","v":0},{"$f":"IFERROR(Worksheet!U341/(Worksheet!R341),0)","v":0},{"$f":"Worksheet!AC341","v":0},{"$f":"Worksheet!AB341","v":0},0,{"$f":"IF(Worksheet!AJ341=0,0,Worksheet!AJ341*10/I322)","v":0},0,null,null,null,{"$f":"IFERROR(Worksheet!V341/(Worksheet!S341),0)","v":0},{"$f":"IF(Worksheet!E341=\"\",\"\",Worksheet!E341)","v":""},{"$f":"IF(Worksheet!B341=\"\",\"\",Worksheet!B341)","v":""},{"$f":"IF(Worksheet!D341=\"\",\"\",Worksheet!D341)","v":""}]
[{"$f":"IF(ISBLANK(Worksheet!F342)=FALSE,VLOOKUP(Worksheet!A342,MeasureCode_Lookup,6,FALSE),\"\")","v":""},{"$f":"Worksheet!H342","v":0},{"$f":"Worksheet!I342","v":0},{"$f":"IFERROR(IF(Worksheet!X342=0,Worksheet!W342/I323,Worksheet!X342/R323),0)","v":0},"W Controlled",null,null,{"$f":"IF(N(Worksheet!S342)=0,N(Worksheet!R342),N(Worksheet!S342))","v":0},{"$f":"IFERROR(Worksheet!U342/(Worksheet!R342),0)","v":0},{"$f":"Worksheet!AC342","v":0},{"$f":"Worksheet!AB342","v":0},{"$f":"J323*8","v":0},{"$f":"IF(Worksheet!AJ342=0,0,Worksheet!AJ342*10/I323)","v":0},{"$f":"M323*8","v":0},null,null,null,{"$f":"IFERROR(Worksheet!V342/(Worksheet!S342),0)","v":0},{"$f":"IF(Worksheet!E342=\"\",\"\",Worksheet!E342)","v":""},{"$f":"IF(Worksheet!B342=\"\",\"\",Worksheet!B342)","v":""},{"$f":"IF(Worksheet!D342=\"\",\"\",Worksheet!D342)","v":""}]
[{"$f":"IF(ISBLANK(Worksheet!F343)=FALSE,VLOOKUP(Worksheet!A343,MeasureCode_Lookup,6,FALSE),\"\")","v":""},{"$f":"Worksheet!H343","v":0},{"$f":"Worksheet!I343","v":0},{"$f":"IFERROR(IF(Worksheet!X343=0,Worksheet!W343/I324,Worksheet!X343/R324),0)","v":0},"W Controlled",null,null,{"$f":"IF(N(Worksheet!S343)=0,N(Worksheet!R343),N(Worksheet!S343))","v":0},{"$f":"IFERROR(Worksheet!U343/(Worksheet!R343),0)","v":0},{"$f":"Worksheet!AC343","v":0},{"$f":"Worksheet!AB343","v":0},0,{"$f":"IF(Worksheet!AJ343=0,0,Worksheet!AJ343*10/I324)","v":0},0,null,null,null,{"$f":"IFERROR(Worksheet!V343/(Worksheet!S343),0)","v":0},{"$f":"IF(Worksheet!E343=\"\",\"\",Worksheet!E343)","v":""},{"$f":"IF(Worksheet!B343=\"\",\"\",Worksheet!B343)","v":""},{"$f":"IF(Worksheet!D343=\"\",\"\",Worksheet!D343)","v":""}]
[{"$f":"IF(ISBLANK(Worksheet!F344)=FALSE,VLOOKUP(Worksheet!A344,MeasureCode_Lookup,6,FALSE),\"\")","v":""},{"$f":"Worksheet!H344","v":0},{"$f":"Worksheet!I344","v":0},{"$f":"IFERROR(IF(Worksheet!X344=0,Worksheet!W344/I325,Worksheet!X344/R325),0)","v":0},"W Controlled",null,null,{"$f":"IF(N(Worksheet!S344)=0,N(Worksheet!R344),N(Worksheet!S344))","v":0},{"$f":"IFERROR(Worksheet!U344/(Worksheet!R344),0)","v":0},{"$f":"Worksheet!AC344","v":0},{"$f":"Worksheet!AB344","v":0},0,{"$f":"IF(Worksheet!AJ344=0,0,Worksheet!AJ344*10/I325)","v":0},0,null,null,null,{"$f":"IFERROR(Worksheet!V344/(Worksheet!S344),0)","v":0},{"$f":"IF(Worksheet!E344=\"\",\"\",Worksheet!E344)","v":""},{"$f":"IF(Worksheet!B344=\"\",\"\",Worksheet!B344)","v":""},{"$f":"IF(Worksheet!D344=\"\",\"\",Worksheet!D344)","v":""}]
[{"$f":"IF(ISBLANK(Worksheet!F345)=FALSE,VLOOKUP(Worksheet!A345,MeasureCode_Lookup,6,FALSE),\"\")","v":""},{"$f":"Worksheet!H345","v":0},{"$f":"Worksheet!I345","v":0},{"$f":"IFERROR(IF(Worksheet!X345=0,Worksheet!W345/I326,Worksheet!X345/R326),0)","v":0},"W Controlled",null,null,{"$f":"IF(N(Worksheet!S345)=0,N(Worksheet!R345),N(Worksheet!S345))","v":0},{"$f":"IFERROR(Worksheet!U345/(Worksheet!R345),0)","v":0},{"$f":"Worksheet!AC345","v":0},{"$f":"Worksheet!AB345","v":0},0,{"$f":"IF(Worksheet!AJ345=0,0,Worksheet!AJ345*10/I326)","v":0},0,null,null,null,{"$f":"IFERROR(Worksheet!V345/(Worksheet!S345),0)","v":0},{"$f":"IF(Worksheet!E345=\"\",\"\",Worksheet!E345)","v":""},{"$f":"IF(Worksheet!B345=\"\",\"\",Worksheet!B345)","v":""},{"$f":"IF(Worksheet!D345=\"\",\"\",Worksheet!D345)","v":""}]
[{"$f":"IF(ISBLANK(Worksheet!F346)=FALSE,VLOOKUP(Worksheet!A346,MeasureCode_Lookup,6,FALSE),\"\")","v":""},{"$f":"Worksheet!H346","v":0},{"$f":"Worksheet!I346","v":0},{"$f":"IFERROR(IF(Worksheet!X346=0,Worksheet!W346/I327,Worksheet!X346/R327),0)","v":0},"W Controlled",null,null,{"$f":"IF(N(Worksheet!S346)=0,N(Worksheet!R346),N(Worksheet!S346))","v":0},{"$f":"IFERROR(Worksheet!U346/(Worksheet!R346),0)","v":0},{"$f":"Worksheet!AC346","v":0},{"$f":"Worksheet!AB346","v":0},0,{"$f":"IF(Worksheet!AJ346=0,0,Worksheet!AJ346*10/I327)","v":0},0,null,null,null,{"$f":"IFERROR(Worksheet!V346/(Worksheet!S346),0)","v":0},{"$f":"IF(Worksheet!E346=\"\",\"\",Worksheet!E346)","v":""},{"$f":"IF(Worksheet!B346=\"\",\"\",Worksheet!B346)","v":""},{"$f":"IF(Worksheet!D346=\"\",\"\",Worksheet!D346)","v":""}]
[{"$f":"IF(ISBLANK(Worksheet!F347)=FALSE,VLOOKUP(Worksheet!A347,MeasureCode_Lookup,6,FALSE),\"\")","v":""},{"$f":"Worksheet!H347","v":0},{"$f":"Worksheet!I347","v":0},{"$f":"IFERROR(IF(Worksheet!X347=0,Worksheet!W347/I328,Worksheet!X347/R328),0)","v":0},"W Controlled",null,null,{"$f":"IF(N(Worksheet!S347)=0,N(Worksheet!R347),N(Worksheet!S347))","v":0},{"$f":"IFERROR(Worksheet!U347/(Worksheet!R347),0)","v":0},{"$f":"Worksheet!AC347","v":0},{"$f":"Worksheet!AB347","v":0},0,{"$f":"IF(Worksheet!AJ347=0,0,Worksheet!AJ347*10/I328)","v":0},0,null,null,null,{"$f":"IFERROR(Worksheet!V347/(Worksheet!S347),0)","v":0},{"$f":"IF(Worksheet!E347=\"\",\"\",Worksheet!E347)","v":""},{"$f":"IF(Worksheet!B347=\"\",\"\",Worksheet!B347)","v":""},{"$f":"IF(Worksheet!D347=\"\",\"\",Worksheet!D347)","v":""}]
[{"$f":"IF(ISBLANK(Worksheet!F348)=FALSE,VLOOKUP(Worksheet!A348,MeasureCode_Lookup,6,FALSE),\"\")","v":""},{"$f":"Worksheet!H348","v":0},{"$f":"Worksheet!I348","v":0},{"$f":"IFERROR(IF(Worksheet!X348=0,Worksheet!W348/I329,Worksheet!X348/R329),0)","v":0},"W Controlled",null,null,{"$f":"IF(N(Worksheet!S348)=0,N(Worksheet!R348),N(Worksheet!S348))","v":0},{"$f":"IFERROR(Worksheet!U348/(Worksheet!R348),0)","v":0},{"$f":"Worksheet!AC348","v":0},{"$f":"Worksheet!AB348","v":0},0,{"$f":"IF(Worksheet!AJ348=0,0,Worksheet!AJ348*10/I329)","v":0},0,null,null,null,{"$f":"IFERROR(Worksheet!V348/(Worksheet!S348),0)","v":0},{"$f":"IF(Worksheet!E348=\"\",\"\",Worksheet!E348)","v":""},{"$f":"IF(Worksheet!B348=\"\",\"\",Worksheet!B348)","v":""},{"$f":"IF(Worksheet!D348=\"\",\"\",Worksheet!D348)","v":""}]
[{"$f":"IF(ISBLANK(Worksheet!F349)=FALSE,VLOOKUP(Worksheet!A349,MeasureCode_Lookup,6,FALSE),\"\")","v":""},{"$f":"Worksheet!H349","v":0},{"$f":"Worksheet!I349","v":0},{"$f":"IFERROR(IF(Worksheet!X349=0,Worksheet!W349/I330,Worksheet!X349/R330),0)","v":0},"W Controlled",null,null,{"$f":"IF(N(Worksheet!S349)=0,N(Worksheet!R349),N(Worksheet!S349))","v":0},{"$f":"IFERROR(Worksheet!U349/(Worksheet!R349),0)","v":0},{"$f":"Worksheet!AC349","v":0},{"$f":"Worksheet!AB349","v":0},0,{"$f":"IF(Worksheet!AJ349=0,0,Worksheet!AJ349*10/I330)","v":0},0,null,null,null,{"$f":"IFERROR(Worksheet!V349/(Worksheet!S349),0)","v":0},{"$f":"IF(Worksheet!E349=\"\",\"\",Worksheet!E349)","v":""},{"$f":"IF(Worksheet!B349=\"\",\"\",Worksheet!B349)","v":""},{"$f":"IF(Worksheet!D349=\"\",\"\",Worksheet!D349)","v":""}]
[{"$f":"IF(ISBLANK(Worksheet!F350)=FALSE,VLOOKUP(Worksheet!A350,MeasureCode_Lookup,6,FALSE),\"\")","v":""},{"$f":"Worksheet!H350","v":0},{"$f":"Worksheet!I350","v":0},{"$f":"IFERROR(IF(Worksheet!X350=0,Worksheet!W350/I331,Worksheet!X350/R331),0)","v":0},"W Controlled",null,null,{"$f":"IF(N(Worksheet!S350)=0,N(Worksheet!R350),N(Worksheet!S350))","v":0},{"$f":"IFERROR(Worksheet!U350/(Worksheet!R350),0)","v":0},{"$f":"Worksheet!AC350","v":0},{"$f":"Worksheet!AB350","v":0},0,{"$f":"IF(Worksheet!AJ350=0,0,Worksheet!AJ350*10/I331)","v":0},0,null,null,null,{"$f":"IFERROR(Worksheet!V350/(Worksheet!S350),0)","v":0},{"$f":"IF(Worksheet!E350=\"\",\"\",Worksheet!E350)","v":""},{"$f":"IF(Worksheet!B350=\"\",\"\",Worksheet!B350)","v":""},{"$f":"IF(Worksheet!D350=\"\",\"\",Worksheet!D350)","v":""}]
[{"$f":"IF(ISBLANK(Worksheet!F351)=FALSE,VLOOKUP(Worksheet!A351,MeasureCode_Lookup,6,FALSE),\"\")","v":""},{"$f":"Worksheet!H351","v":0},{"$f":"Worksheet!I351","v":0},{"$f":"IFERROR(IF(Worksheet!X351=0,Worksheet!W351/I332,Worksheet!X351/R332),0)","v":0},"W Controlled",null,null,{"$f":"IF(N(Worksheet!S351)=0,N(Worksheet!R351),N(Worksheet!S351))","v":0},{"$f":"IFERROR(Worksheet!U351/(Worksheet!R351),0)","v":0},{"$f":"Worksheet!AC351","v":0},{"$f":"Worksheet!AB351","v":0},0,{"$f":"IF(Worksheet!AJ351=0,0,Worksheet!AJ351*10/I332)","v":0},0,null,null,null,{"$f":"IFERROR(Worksheet!V351/(Worksheet!S351),0)","v":0},{"$f":"IF(Worksheet!E351=\"\",\"\",Worksheet!E351)","v":""},{"$f":"IF(Worksheet!B351=\"\",\"\",Worksheet!B351)","v":""},{"$f":"IF(Worksheet!D351=\"\",\"\",Worksheet!D351)","v":""}]
[{"$f":"IF(ISBLANK(Worksheet!F352)=FALSE,VLOOKUP(Worksheet!A352,MeasureCode_Lookup,6,FALSE),\"\")","v":""},{"$f":"Worksheet!H352","v":0},{"$f":"Worksheet!I352","v":0},{"$f":"IFERROR(IF(Worksheet!X352=0,Worksheet!W352/I333,Worksheet!X352/R333),0)","v":0},"W Controlled",null,null,{"$f":"IF(N(Worksheet!S352)=0,N(Worksheet!R352),N(Worksheet!S352))","v":0},{"$f":"IFERROR(Worksheet!U352/(Worksheet!R352),0)","v":0},{"$f":"Worksheet!AC352","v":0},{"$f":"Worksheet!AB352","v":0},0,{"$f":"IF(Worksheet!AJ352=0,0,Worksheet!AJ352*10/I333)","v":0},0,null,null,null,{"$f":"IFERROR(Worksheet!V352/(Worksheet!S352),0)","v":0},{"$f":"IF(Worksheet!E352=\"\",\"\",Worksheet!E352)","v":""},{"$f":"IF(Worksheet!B352=\"\",\"\",Worksheet!B352)","v":""},{"$f":"IF(Worksheet!D352=\"\",\"\",Worksheet!D352)","v":""}]
[{"$f":"IF(ISBLANK(Worksheet!F353)=FALSE,VLOOKUP(Worksheet!A353,MeasureCode_Lookup,6,FALSE),\"\")","v":""},{"$f":"Worksheet!H353","v":0},{"$f":"Worksheet!I353","v":0},{"$f":"IFERROR(IF(Worksheet!X353=0,Worksheet!W353/I334,Worksheet!X353/R334),0)","v":0},"W Controlled",null,null,{"$f":"IF(N(Worksheet!S353)=0,N(Worksheet!R353),N(Worksheet!S353))","v":0},{"$f":"IFERROR(Worksheet!U353/(Worksheet!R353),0)","v":0},{"$f":"Worksheet!AC353","v":0},{"$f":"Worksheet!AB353","v":0},0,{"$f":"IF(Worksheet!AJ353=0,0,Worksheet!AJ353*10/I334)","v":0},0,null,null,null,{"$f":"IFERROR(Worksheet!V353/(Worksheet!S353),0)","v":0},{"$f":"IF(Worksheet!E353=\"\",\"\",Worksheet!E353)","v":""},{"$f":"IF(Worksheet!B353=\"\",\"\",Worksheet!B353)","v":""},{"$f":"IF(Worksheet!D353=\"\",\"\",Worksheet!D353)","v":""}]
[{"$f":"IF(ISBLANK(Worksheet!F354)=FALSE,VLOOKUP(Worksheet!A354,MeasureCode_Lookup,6,FALSE),\"\")","v":""},{"$f":"Worksheet!H354","v":0},{"$f":"Worksheet!I354","v":0},{"$f":"IFERROR(IF(Worksheet!X354=0,Worksheet!W354/I335,Worksheet!X354/R335),0)","v":0},"W Controlled",null,null,{"$f":"IF(N(Worksheet!S354)=0,N(Worksheet!R354),N(Worksheet!S354))","v":0},{"$f":"IFERROR(Worksheet!U354/(Worksheet!R354),0)","v":0},{"$f":"Worksheet!AC354","v":0},{"$f":"Worksheet!AB354","v":0},0,{"$f":"IF(Worksheet!AJ354=0,0,Worksheet!AJ354*10/I335)","v":0},0,null,null,null,{"$f":"IFERROR(Worksheet!V354/(Worksheet!S354),0)","v":0},{"$f":"IF(Worksheet!E354=\"\",\"\",Worksheet!E354)","v":""},{"$f":"IF(Worksheet!B354=\"\",\"\",Worksheet!B354)","v":""},{"$f":"IF(Worksheet!D354=\"\",\"\",Worksheet!D354)","v":""}]
[{"$f":"IF(ISBLANK(Worksheet!F355)=FALSE,VLOOKUP(Worksheet!A355,MeasureCode_Lookup,6,FALSE),\"\")","v":""},{"$f":"Worksheet!H355","v":0},{"$f":"Worksheet!I355","v":0},{"$f":"IFERROR(IF(Worksheet!X355=0,Worksheet!W355/I336,Worksheet!X355/R336),0)","v":0},"W Controlled",null,null,{"$f":"IF(N(Worksheet!S355)=0,N(Worksheet!R355),N(Worksheet!S355))","v":0},{"$f":"IFERROR(Worksheet!U355/(Worksheet!R355),0)","v":0},{"$f":"Worksheet!AC355","v":0},{"$f":"Worksheet!AB355","v":0},0,{"$f":"IF(Worksheet!AJ355=0,0,Worksheet!AJ355*10/I336)","v":0},0,null,null,null,{"$f":"IFERROR(Worksheet!V355/(Worksheet!S355),0)","v":0},{"$f":"IF(Worksheet!E355=\"\",\"\",Worksheet!E355)","v":""},{"$f":"IF(Worksheet!B355=\"\",\"\",Worksheet!B355)","v":""},{"$f":"IF(Worksheet!D355=\"\",\"\",Worksheet!D355)","v":""}]
[{"$f":"IF(ISBLANK(Worksheet!F356)=FALSE,VLOOKUP(Worksheet!A356,MeasureCode_Lookup,6,FALSE),\"\")","v":""},{"$f":"Worksheet!H356","v":0},{"$f":"Worksheet!I356","v":0},{"$f":"IFERROR(IF(Worksheet!X356=0,Worksheet!W356/I337,Worksheet!X356/R337),0)","v":0},"W Controlled",null,null,{"$f":"IF(N(Worksheet!S356)=0,N(Worksheet!R356),N(Worksheet!S356))","v":0},{"$f":"IFERROR(Worksheet!U356/(Worksheet!R356),0)","v":0},{"$f":"Worksheet!AC356","v":0},{"$f":"Worksheet!AB356","v":0},0,{"$f":"IF(Worksheet!AJ356=0,0,Worksheet!AJ356*10/I337)","v":0},0,null,null,null,{"$f":"IFERROR(Worksheet!V356/(Worksheet!S356),0)","v":0},{"$f":"IF(Worksheet!E356=\"\",\"\",Worksheet!E356)","v":""},{"$f":"IF(Worksheet!B356=\"\",\"\",Worksheet!B356)","v":""},{"$f":"IF(Worksheet!D356=\"\",\"\",Worksheet!D356)","v":""}]
[{"$f":"IF(ISBLANK(Worksheet!F357)=FALSE,VLOOKUP(Worksheet!A357,MeasureCode_Lookup,6,FALSE),\"\")","v":""},{"$f":"Worksheet!H357","v":0},{"$f":"Worksheet!I357","v":0},{"$f":"IFERROR(IF(Worksheet!X357=0,Worksheet!W357/I338,Worksheet!X357/R338),0)","v":0},"W Controlled",null,null,{"$f":"IF(N(Worksheet!S357)=0,N(Worksheet!R357),N(Worksheet!S357))","v":0},{"$f":"IFERROR(Worksheet!U357/(Worksheet!R357),0)","v":0},{"$f":"Worksheet!AC357","v":0},{"$f":"Worksheet!AB357","v":0},0,{"$f":"IF(Worksheet!AJ357=0,0,Worksheet!AJ357*10/I338)","v":0},0,null,null,null,{"$f":"IFERROR(Worksheet!V357/(Worksheet!S357),0)","v":0},{"$f":"IF(Worksheet!E357=\"\",\"\",Worksheet!E357)","v":""},{"$f":"IF(Worksheet!B357=\"\",\"\",Worksheet!B357)","v":""},{"$f":"IF(Worksheet!D357=\"\",\"\",Worksheet!D357)","v":""}]
[{"$f":"IF(ISBLANK(Worksheet!F358)=FALSE,VLOOKUP(Worksheet!A358,MeasureCode_Lookup,6,FALSE),\"\")","v":""},{"$f":"Worksheet!H358","v":0},{"$f":"Worksheet!I358","v":0},{"$f":"IFERROR(IF(Worksheet!X358=0,Worksheet!W358/I339,Worksheet!X358/R339),0)","v":0},"W Controlled",null,null,{"$f":"IF(N(Worksheet!S358)=0,N(Worksheet!R358),N(Worksheet!S358))","v":0},{"$f":"IFERROR(Worksheet!U358/(Worksheet!R358),0)","v":0},{"$f":"Worksheet!AC358","v":0},{"$f":"Worksheet!AB358","v":0},0,{"$f":"IF(Worksheet!AJ358=0,0,Worksheet!AJ358*10/I339)","v":0},0,null,null,null,{"$f":"IFERROR(Worksheet!V358/(Worksheet!S358),0)","v":0},{"$f":"IF(Worksheet!E358=\"\",\"\",Worksheet!E358)","v":""},{"$f":"IF(Worksheet!B358=\"\",\"\",Worksheet!B358)","v":""},{"$f":"IF(Worksheet!D358=\"\",\"\",Worksheet!D358)","v":""}]
[{"$f":"IF(ISBLANK(Worksheet!F359)=FALSE,VLOOKUP(Worksheet!A359,MeasureCode_Lookup,6,FALSE),\"\")","v":""},{"$f":"Worksheet!H359","v":0},{"$f":"Worksheet!I359","v":0},{"$f":"IFERROR(IF(Worksheet!X359=0,Worksheet!W359/I340,Worksheet!X359/R340),0)","v":0},"W Controlled",null,null,{"$f":"IF(N(Worksheet!S359)=0,N(Worksheet!R359),N(Worksheet!S359))","v":0},{"$f":"IFERROR(Worksheet!U359/(Worksheet!R359),0)","v":0},{"$f":"Worksheet!AC359","v":0},{"$f":"Worksheet!AB359","v":0},0,{"$f":"IF(Worksheet!AJ359=0,0,Worksheet!AJ359*10/I340)","v":0},0,null,null,null,{"$f":"IFERROR(Worksheet!V359/(Worksheet!S359),0)","v":0},{"$f":"IF(Worksheet!E359=\"\",\"\",Worksheet!E359)","v":""},{"$f":"IF(Worksheet!B359=\"\",\"\",Worksheet!B359)","v":""},{"$f":"IF(Worksheet!D359=\"\",\"\",Worksheet!D359)","v":""}]
[{"$f":"IF(ISBLANK(Worksheet!F360)=FALSE,VLOOKUP(Worksheet!A360,MeasureCode_Lookup,6,FALSE),\"\")","v":""},{"$f":"Worksheet!H360","v":0},{"$f":"Worksheet!I360","v":0},{"$f":"IFERROR(IF(Worksheet!X360=0,Worksheet!W360/I341,Worksheet!X360/R341),0)","v":0},"W Controlled",null,null,{"$f":"IF(N(Worksheet!S360)=0,N(Worksheet!R360),N(Worksheet!S360))","v":0},{"$f":"IFERROR(Worksheet!U360/(Worksheet!R360),0)","v":0},{"$f":"Worksheet!AC360","v":0},{"$f":"Worksheet!AB360","v":0},0,{"$f":"IF(Worksheet!AJ360=0,0,Worksheet!AJ360*10/I341)","v":0},0,null,null,null,{"$f":"IFERROR(Worksheet!V360/(Worksheet!S360),0)","v":0},{"$f":"IF(Worksheet!E360=\"\",\"\",Worksheet!E360)","v":""},{"$f":"IF(Worksheet!B360=\"\",\"\",Worksheet!B360)","v":""},{"$f":"IF(Worksheet!D360=\"\",\"\",Worksheet!D360)","v":""}]
[{"$f":"IF(ISBLANK(Worksheet!F361)=FALSE,VLOOKUP(Worksheet!A361,MeasureCode_Lookup,6,FALSE),\"\")","v":""},{"$f":"Worksheet!H361","v":0},{"$f":"Worksheet!I361","v":0},{"$f":"IFERROR(IF(Worksheet!X361=0,Worksheet!W361/I342,Worksheet!X361/R342),0)","v":0},"W Controlled",null,null,{"$f":"IF(N(Worksheet!S361)=0,N(Worksheet!R361),N(Worksheet!S361))","v":0},{"$f":"IFERROR(Worksheet!U361/(Worksheet!R361),0)","v":0},{"$f":"Worksheet!AC361","v":0},{"$f":"Worksheet!AB361","v":0},0,{"$f":"IF(Worksheet!AJ361=0,0,Worksheet!AJ361*10/I342)","v":0},0,null,null,null,{"$f":"IFERROR(Worksheet!V361/(Worksheet!S361),0)","v":0},{"$f":"IF(Worksheet!E361=\"\",\"\",Worksheet!E361)","v":""},{"$f":"IF(Worksheet!B361=\"\",\"\",Worksheet!B361)","v":""},{"$f":"IF(Worksheet!D361=\"\",\"\",Worksheet!D361)","v":""}]
[{"$f":"IF(ISBLANK(Worksheet!F362)=FALSE,VLOOKUP(Worksheet!A362,MeasureCode_Lookup,6,FALSE),\"\")","v":""},{"$f":"Worksheet!H362","v":0},{"$f":"Worksheet!I362","v":0},{"$f":"IFERROR(IF(Worksheet!X362=0,Worksheet!W362/I343,Worksheet!X362/R343),0)","v":0},"W Controlled",null,null,{"$f":"IF(N(Worksheet!S362)=0,N(Worksheet!R362),N(Worksheet!S362))","v":0},{"$f":"IFERROR(Worksheet!U362/(Worksheet!R362),0)","v":0},{"$f":"Worksheet!AC362","v":0},{"$f":"Worksheet!AB362","v":0},0,{"$f":"IF(Worksheet!AJ362=0,0,Worksheet!AJ362*10/I343)","v":0},0,null,null,null,{"$f":"IFERROR(Worksheet!V362/(Worksheet!S362),0)","v":0},{"$f":"IF(Worksheet!E362=\"\",\"\",Worksheet!E362)","v":""},{"$f":"IF(Worksheet!B362=\"\",\"\",Worksheet!B362)","v":""},{"$f":"IF(Worksheet!D362=\"\",\"\",Worksheet!D362)","v":""}]
[{"$f":"IF(ISBLANK(Worksheet!F363)=FALSE,VLOOKUP(Worksheet!A363,MeasureCode_Lookup,6,FALSE),\"\")","v":""},{"$f":"Worksheet!H363","v":0},{"$f":"Worksheet!I363","v":0},{"$f":"IFERROR(IF(Worksheet!X363=0,Worksheet!W363/I344,Worksheet!X363/R344),0)","v":0},"W Controlled",null,null,{"$f":"IF(N(Worksheet!S363)=0,N(Worksheet!R363),N(Worksheet!S363))","v":0},{"$f":"IFERROR(Worksheet!U363/(Worksheet!R363),0)","v":0},{"$f":"Worksheet!AC363","v":0},{"$f":"Worksheet!AB363","v":0},0,{"$f":"IF(Worksheet!AJ363=0,0,Worksheet!AJ363*10/I344)","v":0},0,null,null,null,{"$f":"IFERROR(Worksheet!V363/(Worksheet!S363),0)","v":0},{"$f":"IF(Worksheet!E363=\"\",\"\",Worksheet!E363)","v":""},{"$f":"IF(Worksheet!B363=\"\",\"\",Worksheet!B363)","v":""},{"$f":"IF(Worksheet!D363=\"\",\"\",Worksheet!D363)","v":""}]
[{"$f":"IF(ISBLANK(Worksheet!F364)=FALSE,VLOOKUP(Worksheet!A364,MeasureCode_Lookup,6,FALSE),\"\")","v":""},{"$f":"Worksheet!H364","v":0},{"$f":"Worksheet!I364","v":0},{"$f":"IFERROR(IF(Worksheet!X364=0,Worksheet!W364/I345,Worksheet!X364/R345),0)","v":0},"W Controlled",null,null,{"$f":"IF(N(Worksheet!S364)=0,N(Worksheet!R364),N(Worksheet!S364))","v":0},{"$f":"IFERROR(Worksheet!U364/(Worksheet!R364),0)","v":0},{"$f":"Worksheet!AC364","v":0},{"$f":"Worksheet!AB364","v":0},0,{"$f":"IF(Worksheet!AJ364=0,0,Worksheet!AJ364*10/I345)","v":0},0,null,null,null,{"$f":"IFERROR(Worksheet!V364/(Worksheet!S364),0)","v":0},{"$f":"IF(Worksheet!E364=\"\",\"\",Worksheet!E364)","v":""},{"$f":"IF(Worksheet!B364=\"\",\"\",Worksheet!B364)","v":""},{"$f":"IF(Worksheet!D364=\"\",\"\",Worksheet!D364)","v":""}]
[{"$f":"IF(ISBLANK(Worksheet!F365)=FALSE,VLOOKUP(Worksheet!A365,MeasureCode_Lookup,6,FALSE),\"\")","v":""},{"$f":"Worksheet!H365","v":0},{"$f":"Worksheet!I365","v":0},{"$f":"IFERROR(IF(Worksheet!X365=0,Worksheet!W365/I346,Worksheet!X365/R346),0)","v":0},"W Controlled",null,null,{"$f":"IF(N(Worksheet!S365)=0,N(Worksheet!R365),N(Worksheet!S365))","v":0},{"$f":"IFERROR(Worksheet!U365/(Worksheet!R365),0)","v":0},{"$f":"Worksheet!AC365","v":0},{"$f":"Worksheet!AB365","v":0},0,{"$f":"IF(Worksheet!AJ365=0,0,Worksheet!AJ365*10/I346)","v":0},0,null,null,null,{"$f":"IFERROR(Worksheet!V365/(Worksheet!S365),0)","v":0},{"$f":"IF(Worksheet!E365=\"\",\"\",Worksheet!E365)","v":""},{"$f":"IF(Worksheet!B365=\"\",\"\",Worksheet!B365)","v":""},{"$f":"IF(Worksheet!D365=\"\",\"\",Worksheet!D365)","v":""}]
[{"$f":"IF(ISBLANK(Worksheet!F366)=FALSE,VLOOKUP(Worksheet!A366,MeasureCode_Lookup,6,FALSE),\"\")","v":""},{"$f":"Worksheet!H366","v":0},{"$f":"Worksheet!I366","v":0},{"$f":"IFERROR(IF(Worksheet!X366=0,Worksheet!W366/I347,Worksheet!X366/R347),0)","v":0},"W Controlled",null,null,{"$f":"IF(N(Worksheet!S366)=0,N(Worksheet!R366),N(Worksheet!S366))","v":0},{"$f":"IFERROR(Worksheet!U366/(Worksheet!R366),0)","v":0},{"$f":"Worksheet!AC366","v":0},{"$f":"Worksheet!AB366","v":0},0,{"$f":"IF(Worksheet!AJ366=0,0,Worksheet!AJ366*10/I347)","v":0},0,null,null,null,{"$f":"IFERROR(Worksheet!V366/(Worksheet!S366),0)","v":0},{"$f":"IF(Worksheet!E366=\"\",\"\",Worksheet!E366)","v":""},{"$f":"IF(Worksheet!B366=\"\",\"\",Worksheet!B366)","v":""},{"$f":"IF(Worksheet!D366=\"\",\"\",Worksheet!D366)","v":""}]
[{"$f":"IF(ISBLANK(Worksheet!F367)=FALSE,VLOOKUP(Worksheet!A367,MeasureCode_Lookup,6,FALSE),\"\")","v":""},{"$f":"Worksheet!H367","v":0},{"$f":"Worksheet!I367","v":0},{"$f":"IFERROR(IF(Worksheet!X367=0,Worksheet!W367/I348,Worksheet!X367/R348),0)","v":0},"W Controlled",null,null,{"$f":"IF(N(Worksheet!S367)=0,N(Worksheet!R367),N(Worksheet!S367))","v":0},{"$f":"IFERROR(Worksheet!U367/(Worksheet!R367),0)","v":0},{"$f":"Worksheet!AC367","v":0},{"$f":"Worksheet!AB367","v":0},0,{"$f":"IF(Worksheet!AJ367=0,0,Worksheet!AJ367*10/I348)","v":0},0,null,null,null,{"$f":"IFERROR(Worksheet!V367/(Worksheet!S367),0)","v":0},{"$f":"IF(Worksheet!E367=\"\",\"\",Worksheet!E367)","v":""},{"$f":"IF(Worksheet!B367=\"\",\"\",Worksheet!B367)","v":""},{"$f":"IF(Worksheet!D367=\"\",\"\",Worksheet!D367)","v":""}]
[{"$f":"IF(ISBLANK(Worksheet!F368)=FALSE,VLOOKUP(Worksheet!A368,MeasureCode_Lookup,6,FALSE),\"\")","v":""},{"$f":"Worksheet!H368","v":0},{"$f":"Worksheet!I368","v":0},{"$f":"IFERROR(IF(Worksheet!X368=0,Worksheet!W368/I349,Worksheet!X368/R349),0)","v":0},"W Controlled",null,null,{"$f":"IF(N(Worksheet!S368)=0,N(Worksheet!R368),N(Worksheet!S368))","v":0},{"$f":"IFERROR(Worksheet!U368/(Worksheet!R368),0)","v":0},{"$f":"Worksheet!AC368","v":0},{"$f":"Worksheet!AB368","v":0},0,{"$f":"IF(Worksheet!AJ368=0,0,Worksheet!AJ368*10/I349)","v":0},0,null,null,null,{"$f":"IFERROR(Worksheet!V368/(Worksheet!S368),0)","v":0},{"$f":"IF(Worksheet!E368=\"\",\"\",Worksheet!E368)","v":""},{"$f":"IF(Worksheet!B368=\"\",\"\",Worksheet!B368)","v":""},{"$f":"IF(Worksheet!D368=\"\",\"\",Worksheet!D368)","v":""}]
[{"$f":"IF(ISBLANK(Worksheet!F369)=FALSE,VLOOKUP(Worksheet!A369,MeasureCode_Lookup,6,FALSE),\"\")","v":""},{"$f":"Worksheet!H369","v":0},{"$f":"Worksheet!I369","v":0},{"$f":"IFERROR(IF(Worksheet!X369=0,Worksheet!W369/I350,Worksheet!X369/R350),0)","v":0},"W Controlled",null,null,{"$f":"IF(N(Worksheet!S369)=0,N(Worksheet!R369),N(Worksheet!S369))","v":0},{"$f":"IFERROR(Worksheet!U369/(Worksheet!R369),0)","v":0},{"$f":"Worksheet!AC369","v":0},{"$f":"Worksheet!AB369","v":0},0,{"$f":"IF(Worksheet!AJ369=0,0,Worksheet!AJ369*10/I350)","v":0},0,null,null,null,{"$f":"IFERROR(Worksheet!V369/(Worksheet!S369),0)","v":0},{"$f":"IF(Worksheet!E369=\"\",\"\",Worksheet!E369)","v":""},{"$f":"IF(Worksheet!B369=\"\",\"\",Worksheet!B369)","v":""},{"$f":"IF(Worksheet!D369=\"\",\"\",Worksheet!D369)","v":""}]
[{"$f":"IF(ISBLANK(Worksheet!F370)=FALSE,VLOOKUP(Worksheet!A370,MeasureCode_Lookup,6,FALSE),\"\")","v":""},{"$f":"Worksheet!H370","v":0},{"$f":"Worksheet!I370","v":0},{"$f":"IFERROR(IF(Worksheet!X370=0,Worksheet!W370/I351,Worksheet!X370/R351),0)","v":0},"W Controlled",null,null,{"$f":"IF(N(Worksheet!S370)=0,N(Worksheet!R370),N(Worksheet!S370))","v":0},{"$f":"IFERROR(Worksheet!U370/(Worksheet!R370),0)","v":0},{"$f":"Worksheet!AC370","v":0},{"$f":"Worksheet!AB370","v":0},0,{"$f":"IF(Worksheet!AJ370=0,0,Worksheet!AJ370*10/I351)","v":0},0,null,null,null,{"$f":"IFERROR(Worksheet!V370/(Worksheet!S370),0)","v":0},{"$f":"IF(Worksheet!E370=\"\",\"\",Worksheet!E370)","v":""},{"$f":"IF(Worksheet!B370=\"\",\"\",Worksheet!B370)","v":""},{"$f":"IF(Worksheet!D370=\"\",\"\",Worksheet!D370)","v":""}]
[{"$f":"IF(ISBLANK(Worksheet!F371)=FALSE,VLOOKUP(Worksheet!A371,MeasureCode_Lookup,6,FALSE),\"\")","v":""},{"$f":"Worksheet!H371","v":0},{"$f":"Worksheet!I371","v":0},{"$f":"IFERROR(IF(Worksheet!X371=0,Worksheet!W371/I352,Worksheet!X371/R352),0)","v":0},"W Controlled",null,null,{"$f":"IF(N(Worksheet!S371)=0,N(Worksheet!R371),N(Worksheet!S371))","v":0},{"$f":"IFERROR(Worksheet!U371/(Worksheet!R371),0)","v":0},{"$f":"Worksheet!AC371","v":0},{"$f":"Worksheet!AB371","v":0},0,{"$f":"IF(Worksheet!AJ371=0,0,Worksheet!AJ371*10/I352)","v":0},0,null,null,null,{"$f":"IFERROR(Worksheet!V371/(Worksheet!S371),0)","v":0},{"$f":"IF(Worksheet!E371=\"\",\"\",Worksheet!E371)","v":""},{"$f":"IF(Worksheet!B371=\"\",\"\",Worksheet!B371)","v":""},{"$f":"IF(Worksheet!D371=\"\",\"\",Worksheet!D371)","v":""}]
[{"$f":"IF(ISBLANK(Worksheet!F372)=FALSE,VLOOKUP(Worksheet!A372,MeasureCode_Lookup,6,FALSE),\"\")","v":""},{"$f":"Worksheet!H372","v":0},{"$f":"Worksheet!I372","v":0},{"$f":"IFERROR(IF(Worksheet!X372=0,Worksheet!W372/I353,Worksheet!X372/R353),0)","v":0},"W Controlled",null,null,{"$f":"IF(N(Worksheet!S372)=0,N(Worksheet!R372),N(Worksheet!S372))","v":0},{"$f":"IFERROR(Worksheet!U372/(Worksheet!R372),0)","v":0},{"$f":"Worksheet!AC372","v":0},{"$f":"Worksheet!AB372","v":0},0,{"$f":"IF(Worksheet!AJ372=0,0,Worksheet!AJ372*10/I353)","v":0},0,null,null,null,{"$f":"IFERROR(Worksheet!V372/(Worksheet!S372),0)","v":0},{"$f":"IF(Worksheet!E372=\"\",\"\",Worksheet!E372)","v":""},{"$f":"IF(Worksheet!B372=\"\",\"\",Worksheet!B372)","v":""},{"$f":"IF(Worksheet!D372=\"\",\"\",Worksheet!D372)","v":""}]
[{"$f":"IF(ISBLANK(Worksheet!F373)=FALSE,VLOOKUP(Worksheet!A373,MeasureCode_Lookup,6,FALSE),\"\")","v":""},{"$f":"Worksheet!H373","v":0},{"$f":"Worksheet!I373","v":0},{"$f":"IFERROR(IF(Worksheet!X373=0,Worksheet!W373/I354,Worksheet!X373/R354),0)","v":0},"W Controlled",null,null,{"$f":"IF(N(Worksheet!S373)=0,N(Worksheet!R373),N(Worksheet!S373))","v":0},{"$f":"IFERROR(Worksheet!U373/(Worksheet!R373),0)","v":0},{"$f":"Worksheet!AC373","v":0},{"$f":"Worksheet!AB373","v":0},0,{"$f":"IF(Worksheet!AJ373=0,0,Worksheet!AJ373*10/I354)","v":0},0,null,null,null,{"$f":"IFERROR(Worksheet!V373/(Worksheet!S373),0)","v":0},{"$f":"IF(Worksheet!E373=\"\",\"\",Worksheet!E373)","v":""},{"$f":"IF(Worksheet!B373=\"\",\"\",Worksheet!B373)","v":""},{"$f":"IF(Worksheet!D373=\"\",\"\",Worksheet!D373)","v":""}]
[{"$f":"IF(ISBLANK(Worksheet!F374)=FALSE,VLOOKUP(Worksheet!A374,MeasureCode_Lookup,6,FALSE),\"\")","v":""},{"$f":"Worksheet!H374","v":0},{"$f":"Worksheet!I374","v":0},{"$f":"IFERROR(IF(Worksheet!X374=0,Worksheet!W374/I355,Worksheet!X374/R355),0)","v":0},"W Controlled",null,null,{"$f":"IF(N(Worksheet!S374)=0,N(Worksheet!R374),N(Worksheet!S374))","v":0},{"$f":"IFERROR(Worksheet!U374/(Worksheet!R374),0)","v":0},{"$f":"Worksheet!AC374","v":0},{"$f":"Worksheet!AB374","v":0},0,{"$f":"IF(Worksheet!AJ374=0,0,Worksheet!AJ374*10/I355)","v":0},0,null,null,null,{"$f":"IFERROR(Worksheet!V374/(Worksheet!S374),0)","v":0},{"$f":"IF(Worksheet!E374=\"\",\"\",Worksheet!E374)","v":""},{"$f":"IF(Worksheet!B374=\"\",\"\",Worksheet!B374)","v":""},{"$f":"IF(Worksheet!D374=\"\",\"\",Worksheet!D374)","v":""}]
[{"$f":"IF(ISBLANK(Worksheet!F375)=FALSE,VLOOKUP(Worksheet!A375,MeasureCode_Lookup,6,FALSE),\"\")","v":""},{"$f":"Worksheet!H375","v":0},{"$f":"Worksheet!I375","v":0},{"$f":"IFERROR(IF(Worksheet!X375=0,Worksheet!W375/I356,Worksheet!X375/R356),0)","v":0},"W Controlled",null,null,{"$f":"IF(N(Worksheet!S375)=0,N(Worksheet!R375),N(Worksheet!S375))","v":0},{"$f":"IFERROR(Worksheet!U375/(Worksheet!R375),0)","v":0},{"$f":"Worksheet!AC375","v":0},{"$f":"Worksheet!AB375","v":0},0,{"$f":"IF(Worksheet!AJ375=0,0,Worksheet!AJ375*10/I356)","v":0},0,null,null,null,{"$f":"IFERROR(Worksheet!V375/(Worksheet!S375),0)","v":0},{"$f":"IF(Worksheet!E375=\"\",\"\",Worksheet!E375)","v":""},{"$f":"IF(Worksheet!B375=\"\",\"\",Worksheet!B375)","v":""},{"$f":"IF(Worksheet!D375=\"\",\"\",Worksheet!D375)","v":""}]
[{"$f":"IF(ISBLANK(Worksheet!F376)=FALSE,VLOOKUP(Worksheet!A376,MeasureCode_Lookup,6,FALSE),\"\")","v":""},{"$f":"Worksheet!H376","v":0},{"$f":"Worksheet!I376","v":0},{"$f":"IFERROR(IF(Worksheet!X376=0,Worksheet!W376/I357,Worksheet!X376/R357),0)","v":0},"W Controlled",null,null,{"$f":"IF(N(Worksheet!S376)=0,N(Worksheet!R376),N(Worksheet!S376))","v":0},{"$f":"IFERROR(Worksheet!U376/(Worksheet!R376),0)","v":0},{"$f":"Worksheet!AC376","v":0},{"$f":"Worksheet!AB376","v":0},0,{"$f":"IF(Worksheet!AJ376=0,0,Worksheet!AJ376*10/I357)","v":0},0,null,null,null,{"$f":"IFERROR(Worksheet!V376/(Worksheet!S376),0)","v":0},{"$f":"IF(Worksheet!E376=\"\",\"\",Worksheet!E376)","v":""},{"$f":"IF(Worksheet!B376=\"\",\"\",Worksheet!B376)","v":""},{"$f":"IF(Worksheet!D376=\"\",\"\",Worksheet!D376)","v":""}]
[{"$f":"IF(ISBLANK(Worksheet!F377)=FALSE,VLOOKUP(Worksheet!A377,MeasureCode_Lookup,6,FALSE),\"\")","v":""},{"$f":"Worksheet!H377","v":0},{"$f":"Worksheet!I377","v":0},{"$f":"IFERROR(IF(Worksheet!X377=0,Worksheet!W377/I358,Worksheet!X377/R358),0)","v":0},"W Controlled",null,null,{"$f":"IF(N(Worksheet!S377)=0,N(Worksheet!R377),N(Worksheet!S377))","v":0},{"$f":"IFERROR(Worksheet!U377/(Worksheet!R377),0)","v":0},{"$f":"Worksheet!AC377","v":0},{"$f":"Worksheet!AB377","v":0},0,{"$f":"IF(Worksheet!AJ377=0,0,Worksheet!AJ377*10/I358)","v":0},0,null,null,null,{"$f":"IFERROR(Worksheet!V377/(Worksheet!S377),0)","v":0},{"$f":"IF(Worksheet!E377=\"\",\"\",Worksheet!E377)","v":""},{"$f":"IF(Worksheet!B377=\"\",\"\",Worksheet!B377)","v":""},{"$f":"IF(Worksheet!D377=\"\",\"\",Worksheet!D377)","v":""}]
[{"$f":"IF(ISBLANK(Worksheet!F378)=FALSE,VLOOKUP(Worksheet!A378,MeasureCode_Lookup,6,FALSE),\"\")","v":""},{"$f":"Worksheet!H378","v":0},{"$f":"Worksheet!I378","v":0},{"$f":"IFERROR(IF(Worksheet!X378=0,Worksheet!W378/I359,Worksheet!X378/R359),0)","v":0},"W Controlled",null,null,{"$f":"IF(N(Worksheet!S378)=0,N(Worksheet!R378),N(Worksheet!S378))","v":0},{"$f":"IFERROR(Worksheet!U378/(Worksheet!R378),0)","v":0},{"$f":"Worksheet!AC378","v":0},{"$f":"Worksheet!AB378","v":0},0,{"$f":"IF(Worksheet!AJ378=0,0,Worksheet!AJ378*10/I359)","v":0},0,null,null,null,{"$f":"IFERROR(Worksheet!V378/(Worksheet!S378),0)","v":0},{"$f":"IF(Worksheet!E378=\"\",\"\",Worksheet!E378)","v":""},{"$f":"IF(Worksheet!B378=\"\",\"\",Worksheet!B378)","v":""},{"$f":"IF(Worksheet!D378=\"\",\"\",Worksheet!D378)","v":""}]
[{"$f":"IF(ISBLANK(Worksheet!F379)=FALSE,VLOOKUP(Worksheet!A379,MeasureCode_Lookup,6,FALSE),\"\")","v":""},{"$f":"Worksheet!H379","v":0},{"$f":"Worksheet!I379","v":0},{"$f":"IFERROR(IF(Worksheet!X379=0,Worksheet!W379/I360,Worksheet!X379/R360),0)","v":0},"W Controlled",null,null,{"$f":"IF(N(Worksheet!S379)=0,N(Worksheet!R379),N(Worksheet!S379))","v":0},{"$f":"IFERROR(Worksheet!U379/(Worksheet!R379),0)","v":0},{"$f":"Worksheet!AC379","v":0},{"$f":"Worksheet!AB379","v":0},0,{"$f":"IF(Worksheet!AJ379=0,0,Worksheet!AJ379*10/I360)","v":0},0,null,null,null,{"$f":"IFERROR(Worksheet!V379/(Worksheet!S379),0)","v":0},{"$f":"IF(Worksheet!E379=\"\",\"\",Worksheet!E379)","v":""},{"$f":"IF(Worksheet!B379=\"\",\"\",Worksheet!B379)","v":""},{"$f":"IF(Worksheet!D379=\"\",\"\",Worksheet!D379)","v":""}]
[{"$f":"IF(ISBLANK(Worksheet!F380)=FALSE,VLOOKUP(Worksheet!A380,MeasureCode_Lookup,6,FALSE),\"\")","v":""},{"$f":"Worksheet!H380","v":0},{"$f":"Worksheet!I380","v":0},{"$f":"IFERROR(IF(Worksheet!X380=0,Worksheet!W380/I361,Worksheet!X380/R361),0)","v":0},"W Controlled",null,null,{"$f":"IF(N(Worksheet!S380)=0,N(Worksheet!R380),N(Worksheet!S380))","v":0},{"$f":"IFERROR(Worksheet!U380/(Worksheet!R380),0)","v":0},{"$f":"Worksheet!AC380","v":0},{"$f":"Worksheet!AB380","v":0},0,{"$f":"IF(Worksheet!AJ380=0,0,Worksheet!AJ380*10/I361)","v":0},0,null,null,null,{"$f":"IFERROR(Worksheet!V380/(Worksheet!S380),0)","v":0},{"$f":"IF(Worksheet!E380=\"\",\"\",Worksheet!E380)","v":""},{"$f":"IF(Worksheet!B380=\"\",\"\",Worksheet!B380)","v":""},{"$f":"IF(Worksheet!D380=\"\",\"\",Worksheet!D380)","v":""}]
[{"$f":"IF(ISBLANK(Worksheet!F381)=FALSE,VLOOKUP(Worksheet!A381,MeasureCode_Lookup,6,FALSE),\"\")","v":""},{"$f":"Worksheet!H381","v":0},{"$f":"Worksheet!I381","v":0},{"$f":"IFERROR(IF(Worksheet!X381=0,Worksheet!W381/I362,Worksheet!X381/R362),0)","v":0},"W Controlled",null,null,{"$f":"IF(N(Worksheet!S381)=0,N(Worksheet!R381),N(Worksheet!S381))","v":0},{"$f":"IFERROR(Worksheet!U381/(Worksheet!R381),0)","v":0},{"$f":"Worksheet!AC381","v":0},{"$f":"Worksheet!AB381","v":0},0,{"$f":"IF(Worksheet!AJ381=0,0,Worksheet!AJ381*10/I362)","v":0},0,null,null,null,{"$f":"IFERROR(Worksheet!V381/(Worksheet!S381),0)","v":0},{"$f":"IF(Worksheet!E381=\"\",\"\",Worksheet!E381)","v":""},{"$f":"IF(Worksheet!B381=\"\",\"\",Worksheet!B381)","v":""},{"$f":"IF(Worksheet!D381=\"\",\"\",Worksheet!D381)","v":""}]
[{"$f":"IF(ISBLANK(Worksheet!F382)=FALSE,VLOOKUP(Worksheet!A382,MeasureCode_Lookup,6,FALSE),\"\")","v":""},{"$f":"Worksheet!H382","v":0},{"$f":"Worksheet!I382","v":0},{"$f":"IFERROR(IF(Worksheet!X382=0,Worksheet!W382/I363,Worksheet!X382/R363),0)","v":0},"W Controlled",null,null,{"$f":"IF(N(Worksheet!S382)=0,N(Worksheet!R382),N(Worksheet!S382))","v":0},{"$f":"IFERROR(Worksheet!U382/(Worksheet!R382),0)","v":0},{"$f":"Worksheet!AC382","v":0},{"$f":"Worksheet!AB382","v":0},0,{"$f":"IF(Worksheet!AJ382=0,0,Worksheet!AJ382*10/I363)","v":0},0,null,null,null,{"$f":"IFERROR(Worksheet!V382/(Worksheet!S382),0)","v":0},{"$f":"IF(Worksheet!E382=\"\",\"\",Worksheet!E382)","v":""},{"$f":"IF(Worksheet!B382=\"\",\"\",Worksheet!B382)","v":""},{"$f":"IF(Worksheet!D382=\"\",\"\",Worksheet!D382)","v":""}]
[{"$f":"IF(ISBLANK(Worksheet!F383)=FALSE,VLOOKUP(Worksheet!A383,MeasureCode_Lookup,6,FALSE),\"\")","v":""},{"$f":"Worksheet!H383","v":0},{"$f":"Worksheet!I383","v":0},{"$f":"IFERROR(IF(Worksheet!X383=0,Worksheet!W383/I364,Worksheet!X383/R364),0)","v":0},"W Controlled",null,null,{"$f":"IF(N(Worksheet!S383)=0,N(Worksheet!R383),N(Worksheet!S383))","v":0},{"$f":"IFERROR(Worksheet!U383/(Worksheet!R383),0)","v":0},{"$f":"Worksheet!AC383","v":0},{"$f":"Worksheet!AB383","v":0},0,{"$f":"IF(Worksheet!AJ383=0,0,Worksheet!AJ383*10/I364)","v":0},0,null,null,null,{"$f":"IFERROR(Worksheet!V383/(Worksheet!S383),0)","v":0},{"$f":"IF(Worksheet!E383=\"\",\"\",Worksheet!E383)","v":""},{"$f":"IF(Worksheet!B383=\"\",\"\",Worksheet!B383)","v":""},{"$f":"IF(Worksheet!D383=\"\",\"\",Worksheet!D383)","v":""}]
[{"$f":"IF(ISBLANK(Worksheet!F384)=FALSE,VLOOKUP(Worksheet!A384,MeasureCode_Lookup,6,FALSE),\"\")","v":""},{"$f":"Worksheet!H384","v":0},{"$f":"Worksheet!I384","v":0},{"$f":"IFERROR(IF(Worksheet!X384=0,Worksheet!W384/I365,Worksheet!X384/R365),0)","v":0},"W Controlled",null,null,{"$f":"IF(N(Worksheet!S384)=0,N(Worksheet!R384),N(Worksheet!S384))","v":0},{"$f":"IFERROR(Worksheet!U384/(Worksheet!R384),0)","v":0},{"$f":"Worksheet!AC384","v":0},{"$f":"Worksheet!AB384","v":0},0,{"$f":"IF(Worksheet!AJ384=0,0,Worksheet!AJ384*10/I365)","v":0},0,null,null,null,{"$f":"IFERROR(Worksheet!V384/(Worksheet!S384),0)","v":0},{"$f":"IF(Worksheet!E384=\"\",\"\",Worksheet!E384)","v":""},{"$f":"IF(Worksheet!B384=\"\",\"\",Worksheet!B384)","v":""},{"$f":"IF(Worksheet!D384=\"\",\"\",Worksheet!D384)","v":""}]
[{"$f":"IF(ISBLANK(Worksheet!F385)=FALSE,VLOOKUP(Worksheet!A385,MeasureCode_Lookup,6,FALSE),\"\")","v":""},{"$f":"Worksheet!H385","v":0},{"$f":"Worksheet!I385","v":0},{"$f":"IFERROR(IF(Worksheet!X385=0,Worksheet!W385/I366,Worksheet!X385/R366),0)","v":0},"W Controlled",null,null,{"$f":"IF(N(Worksheet!S385)=0,N(Worksheet!R385),N(Worksheet!S385))","v":0},{"$f":"IFERROR(Worksheet!U385/(Worksheet!R385),0)","v":0},{"$f":"Worksheet!AC385","v":0},{"$f":"Worksheet!AB385","v":0},0,{"$f":"IF(Worksheet!AJ385=0,0,Worksheet!AJ385*10/I366)","v":0},0,null,null,null,{"$f":"IFERROR(Worksheet!V385/(Worksheet!S385),0)","v":0},{"$f":"IF(Worksheet!E385=\"\",\"\",Worksheet!E385)","v":""},{"$f":"IF(Worksheet!B385=\"\",\"\",Worksheet!B385)","v":""},{"$f":"IF(Worksheet!D385=\"\",\"\",Worksheet!D385)","v":""}]
[{"$f":"IF(ISBLANK(Worksheet!F386)=FALSE,VLOOKUP(Worksheet!A386,MeasureCode_Lookup,6,FALSE),\"\")","v":""},{"$f":"Worksheet!H386","v":0},{"$f":"Worksheet!I386","v":0},{"$f":"IFERROR(IF(Worksheet!X386=0,Worksheet!W386/I367,Worksheet!X386/R367),0)","v":0},"W Controlled",null,null,{"$f":"IF(N(Worksheet!S386)=0,N(Worksheet!R386),N(Worksheet!S386))","v":0},{"$f":"IFERROR(Worksheet!U386/(Worksheet!R386),0)","v":0},{"$f":"Worksheet!AC386","v":0},{"$f":"Worksheet!AB386","v":0},0,{"$f":"IF(Worksheet!AJ386=0,0,Worksheet!AJ386*10/I367)","v":0},0,null,null,null,{"$f":"IFERROR(Worksheet!V386/(Worksheet!S386),0)","v":0},{"$f":"IF(Worksheet!E386=\"\",\"\",Worksheet!E386)","v":""},{"$f":"IF(Worksheet!B386=\"\",\"\",Worksheet!B386)","v":""},{"$f":"IF(Worksheet!D386=\"\",\"\",Worksheet!D386)","v":""}]
[{"$f":"IF(ISBLANK(Worksheet!F387)=FALSE,VLOOKUP(Worksheet!A387,MeasureCode_Lookup,6,FALSE),\"\")","v":""},{"$f":"Worksheet!H387","v":0},{"$f":"Worksheet!I387","v":0},{"$f":"IFERROR(IF(Worksheet!X387=0,Worksheet!W387/I368,Worksheet!X387/R368),0)","v":0},"W Controlled",null,null,{"$f":"IF(N(Worksheet!S387)=0,N(Worksheet!R387),N(Worksheet!S387))","v":0},{"$f":"IFERROR(Worksheet!U387/(Worksheet!R387),0)","v":0},{"$f":"Worksheet!AC387","v":0},{"$f":"Worksheet!AB387","v":0},0,{"$f":"IF(Worksheet!AJ387=0,0,Worksheet!AJ387*10/I368)","v":0},0,null,null,null,{"$f":"IFERROR(Worksheet!V387/(Worksheet!S387),0)","v":0},{"$f":"IF(Worksheet!E387=\"\",\"\",Worksheet!E387)","v":""},{"$f":"IF(Worksheet!B387=\"\",\"\",Worksheet!B387)","v":""},{"$f":"IF(Worksheet!D387=\"\",\"\",Worksheet!D387)","v":""}]
[{"$f":"IF(ISBLANK(Worksheet!F388)=FALSE,VLOOKUP(Worksheet!A388,MeasureCode_Lookup,6,FALSE),\"\")","v":""},{"$f":"Worksheet!H388","v":0},{"$f":"Worksheet!I388","v":0},{"$f":"IFERROR(IF(Worksheet!X388=0,Worksheet!W388/I369,Worksheet!X388/R369),0)","v":0},"W Controlled",null,null,{"$f":"IF(N(Worksheet!S388)=0,N(Worksheet!R388),N(Worksheet!S388))","v":0},{"$f":"IFERROR(Worksheet!U388/(Worksheet!R388),0)","v":0},{"$f":"Worksheet!AC388","v":0},{"$f":"Worksheet!AB388","v":0},0,{"$f":"IF(Worksheet!AJ388=0,0,Worksheet!AJ388*10/I369)","v":0},0,null,null,null,{"$f":"IFERROR(Worksheet!V388/(Worksheet!S388),0)","v":0},{"$f":"IF(Worksheet!E388=\"\",\"\",Worksheet!E388)","v":""},{"$f":"IF(Worksheet!B388=\"\",\"\",Worksheet!B388)","v":""},{"$f":"IF(Worksheet!D388=\"\",\"\",Worksheet!D388)","v":""}]
[{"$f":"IF(ISBLANK(Worksheet!F389)=FALSE,VLOOKUP(Worksheet!A389,MeasureCode_Lookup,6,FALSE),\"\")","v":""},{"$f":"Worksheet!H389","v":0},{"$f":"Worksheet!I389","v":0},{"$f":"IFERROR(IF(Worksheet!X389=0,Worksheet!W389/I370,Worksheet!X389/R370),0)","v":0},"W Controlled",null,null,{"$f":"IF(N(Worksheet!S389)=0,N(Worksheet!R389),N(Worksheet!S389))","v":0},{"$f":"IFERROR(Worksheet!U389/(Worksheet!R389),0)","v":0},{"$f":"Worksheet!AC389","v":0},{"$f":"Worksheet!AB389","v":0},0,{"$f":"IF(Worksheet!AJ389=0,0,Worksheet!AJ389*10/I370)","v":0},0,null,null,null,{"$f":"IFERROR(Worksheet!V389/(Worksheet!S389),0)","v":0},{"$f":"IF(Worksheet!E389=\"\",\"\",Worksheet!E389)","v":""},{"$f":"IF(Worksheet!B389=\"\",\"\",Worksheet!B389)","v":""},{"$f":"IF(Worksheet!D389=\"\",\"\",Worksheet!D389)","v":""}]
[{"$f":"IF(ISBLANK(Worksheet!F390)=FALSE,VLOOKUP(Worksheet!A390,MeasureCode_Lookup,6,FALSE),\"\")","v":""},{"$f":"Worksheet!H390","v":0},{"$f":"Worksheet!I390","v":0},{"$f":"IFERROR(IF(Worksheet!X390=0,Worksheet!W390/I371,Worksheet!X390/R371),0)","v":0},"W Controlled",null,null,{"$f":"IF(N(Worksheet!S390)=0,N(Worksheet!R390),N(Worksheet!S390))","v":0},{"$f":"IFERROR(Worksheet!U390/(Worksheet!R390),0)","v":0},{"$f":"Worksheet!AC390","v":0},{"$f":"Worksheet!AB390","v":0},0,{"$f":"IF(Worksheet!AJ390=0,0,Worksheet!AJ390*10/I371)","v":0},0,null,null,null,{"$f":"IFERROR(Worksheet!V390/(Worksheet!S390),0)","v":0},{"$f":"IF(Worksheet!E390=\"\",\"\",Worksheet!E390)","v":""},{"$f":"IF(Worksheet!B390=\"\",\"\",Worksheet!B390)","v":""},{"$f":"IF(Worksheet!D390=\"\",\"\",Worksheet!D390)","v":""}]
[{"$f":"IF(ISBLANK(Worksheet!F391)=FALSE,VLOOKUP(Worksheet!A391,MeasureCode_Lookup,6,FALSE),\"\")","v":""},{"$f":"Worksheet!H391","v":0},{"$f":"Worksheet!I391","v":0},{"$f":"IFERROR(IF(Worksheet!X391=0,Worksheet!W391/I372,Worksheet!X391/R372),0)","v":0},"W Controlled",null,null,{"$f":"IF(N(Worksheet!S391)=0,N(Worksheet!R391),N(Worksheet!S391))","v":0},{"$f":"IFERROR(Worksheet!U391/(Worksheet!R391),0)","v":0},{"$f":"Worksheet!AC391","v":0},{"$f":"Worksheet!AB391","v":0},0,{"$f":"IF(Worksheet!AJ391=0,0,Worksheet!AJ391*10/I372)","v":0},0,null,null,null,{"$f":"IFERROR(Worksheet!V391/(Worksheet!S391),0)","v":0},{"$f":"IF(Worksheet!E391=\"\",\"\",Worksheet!E391)","v":""},{"$f":"IF(Worksheet!B391=\"\",\"\",Worksheet!B391)","v":""},{"$f":"IF(Worksheet!D391=\"\",\"\",Worksheet!D391)","v":""}]
[{"$f":"IF(ISBLANK(Worksheet!F392)=FALSE,VLOOKUP(Worksheet!A392,MeasureCode_Lookup,6,FALSE),\"\")","v":""},{"$f":"Worksheet!H392","v":0},{"$f":"Worksheet!I392","v":0},{"$f":"IFERROR(IF(Worksheet!X392=0,Worksheet!W392/I373,Worksheet!X392/R373),0)","v":0},"W Controlled",null,null,{"$f":"IF(N(Worksheet!S392)=0,N(Worksheet!R392),N(Worksheet!S392))","v":0},{"$f":"IFERROR(Worksheet!U392/(Worksheet!R392),0)","v":0},{"$f":"Worksheet!AC392","v":0},{"$f":"Worksheet!AB392","v":0},0,{"$f":"IF(Worksheet!AJ392=0,0,Worksheet!AJ392*10/I373)","v":0},0,null,null,null,{"$f":"IFERROR(Worksheet!V392/(Worksheet!S392),0)","v":0},{"$f":"IF(Worksheet!E392=\"\",\"\",Worksheet!E392)","v":""},{"$f":"IF(Worksheet!B392=\"\",\"\",Worksheet!B392)","v":""},{"$f":"IF(Worksheet!D392=\"\",\"\",Worksheet!D392)","v":""}]
[{"$f":"IF(ISBLANK(Worksheet!F393)=FALSE,VLOOKUP(Worksheet!A393,MeasureCode_Lookup,6,FALSE),\"\")","v":""},{"$f":"Worksheet!H393","v":0},{"$f":"Worksheet!I393","v":0},{"$f":"IFERROR(IF(Worksheet!X393=0,Worksheet!W393/I374,Worksheet!X393/R374),0)","v":0},"W Controlled",null,null,{"$f":"IF(N(Worksheet!S393)=0,N(Worksheet!R393),N(Worksheet!S393))","v":0},{"$f":"IFERROR(Worksheet!U393/(Worksheet!R393),0)","v":0},{"$f":"Worksheet!AC393","v":0},{"$f":"Worksheet!AB393","v":0},0,{"$f":"IF(Worksheet!AJ393=0,0,Worksheet!AJ393*10/I374)","v":0},0,null,null,null,{"$f":"IFERROR(Worksheet!V393/(Worksheet!S393),0)","v":0},{"$f":"IF(Worksheet!E393=\"\",\"\",Worksheet!E393)","v":""},{"$f":"IF(Worksheet!B393=\"\",\"\",Worksheet!B393)","v":""},{"$f":"IF(Worksheet!D393=\"\",\"\",Worksheet!D393)","v":""}]
[{"$f":"IF(ISBLANK(Worksheet!F394)=FALSE,VLOOKUP(Worksheet!A394,MeasureCode_Lookup,6,FALSE),\"\")","v":""},{"$f":"Worksheet!H394","v":0},{"$f":"Worksheet!I394","v":0},{"$f":"IFERROR(IF(Worksheet!X394=0,Worksheet!W394/I375,Worksheet!X394/R375),0)","v":0},"W Controlled",null,null,{"$f":"IF(N(Worksheet!S394)=0,N(Worksheet!R394),N(Worksheet!S394))","v":0},{"$f":"IFERROR(Worksheet!U394/(Worksheet!R394),0)","v":0},{"$f":"Worksheet!AC394","v":0},{"$f":"Worksheet!AB394","v":0},0,{"$f":"IF(Worksheet!AJ394=0,0,Worksheet!AJ394*10/I375)","v":0},0,null,null,null,{"$f":"IFERROR(Worksheet!V394/(Worksheet!S394),0)","v":0},{"$f":"IF(Worksheet!E394=\"\",\"\",Worksheet!E394)","v":""},{"$f":"IF(Worksheet!B394=\"\",\"\",Worksheet!B394)","v":""},{"$f":"IF(Worksheet!D394=\"\",\"\",Worksheet!D394)","v":""}]
[{"$f":"IF(ISBLANK(Worksheet!F395)=FALSE,VLOOKUP(Worksheet!A395,MeasureCode_Lookup,6,FALSE),\"\")","v":""},{"$f":"Worksheet!H395","v":0},{"$f":"Worksheet!I395","v":0},{"$f":"IFERROR(IF(Worksheet!X395=0,Worksheet!W395/I376,Worksheet!X395/R376),0)","v":0},"W Controlled",null,null,{"$f":"IF(N(Worksheet!S395)=0,N(Worksheet!R395),N(Worksheet!S395))","v":0},{"$f":"IFERROR(Worksheet!U395/(Worksheet!R395),0)","v":0},{"$f":"Worksheet!AC395","v":0},{"$f":"Worksheet!AB395","v":0},0,{"$f":"IF(Worksheet!AJ395=0,0,Worksheet!AJ395*10/I376)","v":0},0,null,null,null,{"$f":"IFERROR(Worksheet!V395/(Worksheet!S395),0)","v":0},{"$f":"IF(Worksheet!E395=\"\",\"\",Worksheet!E395)","v":""},{"$f":"IF(Worksheet!B395=\"\",\"\",Worksheet!B395)","v":""},{"$f":"IF(Worksheet!D395=\"\",\"\",Worksheet!D395)","v":""}]
[{"$f":"IF(ISBLANK(Worksheet!F396)=FALSE,VLOOKUP(Worksheet!A396,MeasureCode_Lookup,6,FALSE),\"\")","v":""},{"$f":"Worksheet!H396","v":0},{"$f":"Worksheet!I396","v":0},{"$f":"IFERROR(IF(Worksheet!X396=0,Worksheet!W396/I377,Worksheet!X396/R377),0)","v":0},"W Controlled",null,null,{"$f":"IF(N(Worksheet!S396)=0,N(Worksheet!R396),N(Worksheet!S396))","v":0},{"$f":"IFERROR(Worksheet!U396/(Worksheet!R396),0)","v":0},{"$f":"Worksheet!AC396","v":0},{"$f":"Worksheet!AB396","v":0},0,{"$f":"IF(Worksheet!AJ396=0,0,Worksheet!AJ396*10/I377)","v":0},0,null,null,null,{"$f":"IFERROR(Worksheet!V396/(Worksheet!S396),0)","v":0},{"$f":"IF(Worksheet!E396=\"\",\"\",Worksheet!E396)","v":""},{"$f":"IF(Worksheet!B396=\"\",\"\",Worksheet!B396)","v":""},{"$f":"IF(Worksheet!D396=\"\",\"\",Worksheet!D396)","v":""}]
[{"$f":"IF(ISBLANK(Worksheet!F397)=FALSE,VLOOKUP(Worksheet!A397,MeasureCode_Lookup,6,FALSE),\"\")","v":""},{"$f":"Worksheet!H397","v":0},{"$f":"Worksheet!I397","v":0},{"$f":"IFERROR(IF(Worksheet!X397=0,Worksheet!W397/I378,Worksheet!X397/R378),0)","v":0},"W Controlled",null,null,{"$f":"IF(N(Worksheet!S397)=0,N(Worksheet!R397),N(Worksheet!S397))","v":0},{"$f":"IFERROR(Worksheet!U397/(Worksheet!R397),0)","v":0},{"$f":"Worksheet!AC397","v":0},{"$f":"Worksheet!AB397","v":0},0,{"$f":"IF(Worksheet!AJ397=0,0,Worksheet!AJ397*10/I378)","v":0},0,null,null,null,{"$f":"IFERROR(Worksheet!V397/(Worksheet!S397),0)","v":0},{"$f":"IF(Worksheet!E397=\"\",\"\",Worksheet!E397)","v":""},{"$f":"IF(Worksheet!B397=\"\",\"\",Worksheet!B397)","v":""},{"$f":"IF(Worksheet!D397=\"\",\"\",Worksheet!D397)","v":""}]
[{"$f":"IF(ISBLANK(Worksheet!F398)=FALSE,VLOOKUP(Worksheet!A398,MeasureCode_Lookup,6,FALSE),\"\")","v":""},{"$f":"Worksheet!H398","v":0},{"$f":"Worksheet!I398","v":0},{"$f":"IFERROR(IF(Worksheet!X398=0,Worksheet!W398/I379,Worksheet!X398/R379),0)","v":0},"W Controlled",null,null,{"$f":"IF(N(Worksheet!S398)=0,N(Worksheet!R398),N(Worksheet!S398))","v":0},{"$f":"IFERROR(Worksheet!U398/(Worksheet!R398),0)","v":0},{"$f":"Worksheet!AC398","v":0},{"$f":"Worksheet!AB398","v":0},0,{"$f":"IF(Worksheet!AJ398=0,0,Worksheet!AJ398*10/I379)","v":0},0,null,null,null,{"$f":"IFERROR(Worksheet!V398/(Worksheet!S398),0)","v":0},{"$f":"IF(Worksheet!E398=\"\",\"\",Worksheet!E398)","v":""},{"$f":"IF(Worksheet!B398=\"\",\"\",Worksheet!B398)","v":""},{"$f":"IF(Worksheet!D398=\"\",\"\",Worksheet!D398)","v":""}]
[{"$f":"IF(ISBLANK(Worksheet!F399)=FALSE,VLOOKUP(Worksheet!A399,MeasureCode_Lookup,6,FALSE),\"\")","v":""},{"$f":"Worksheet!H399","v":0},{"$f":"Worksheet!I399","v":0},{"$f":"IFERROR(IF(Worksheet!X399=0,Worksheet!W399/I380,Worksheet!X399/R380),0)","v":0},"W Controlled",null,null,{"$f":"IF(N(Worksheet!S399)=0,N(Worksheet!R399),N(Worksheet!S399))","v":0},{"$f":"IFERROR(Worksheet!U399/(Worksheet!R399),0)","v":0},{"$f":"Worksheet!AC399","v":0},{"$f":"Worksheet!AB399","v":0},0,{"$f":"IF(Worksheet!AJ399=0,0,Worksheet!AJ399*10/I380)","v":0},0,null,null,null,{"$f":"IFERROR(Worksheet!V399/(Worksheet!S399),0)","v":0},{"$f":"IF(Worksheet!E399=\"\",\"\",Worksheet!E399)","v":""},{"$f":"IF(Worksheet!B399=\"\",\"\",Worksheet!B399)","v":""},{"$f":"IF(Worksheet!D399=\"\",\"\",Worksheet!D399)","v":""}]
[{"$f":"IF(ISBLANK(Worksheet!F400)=FALSE,VLOOKUP(Worksheet!A400,MeasureCode_Lookup,6,FALSE),\"\")","v":""},{"$f":"Worksheet!H400","v":0},{"$f":"Worksheet!I400","v":0},{"$f":"IFERROR(IF(Worksheet!X400=0,Worksheet!W400/I381,Worksheet!X400/R381),0)","v":0},"W Controlled",null,null,{"$f":"IF(N(Worksheet!S400)=0,N(Worksheet!R400),N(Worksheet!S400))","v":0},{"$f":"IFERROR(Worksheet!U400/(Worksheet!R400),0)","v":0},{"$f":"Worksheet!AC400","v":0},{"$f":"Worksheet!AB400","v":0},0,{"$f":"IF(Worksheet!AJ400=0,0,Worksheet!AJ400*10/I381)","v":0},0,null,null,null,{"$f":"IFERROR(Worksheet!V400/(Worksheet!S400),0)","v":0},{"$f":"IF(Worksheet!E400=\"\",\"\",Worksheet!E400)","v":""},{"$f":"IF(Worksheet!B400=\"\",\"\",Worksheet!B400)","v":""},{"$f":"IF(Worksheet!D400=\"\",\"\",Worksheet!D400)","v":""}]
[{"$f":"IF(ISBLANK(Worksheet!F401)=FALSE,VLOOKUP(Worksheet!A401,MeasureCode_Lookup,6,FALSE),\"\")","v":""},{"$f":"Worksheet!H401","v":0},{"$f":"Worksheet!I401","v":0},{"$f":"IFERROR(IF(Worksheet!X401=0,Worksheet!W401/I382,Worksheet!X401/R382),0)","v":0},"W Controlled",null,null,{"$f":"IF(N(Worksheet!S401)=0,N(Worksheet!R401),N(Worksheet!S401))","v":0},{"$f":"IFERROR(Worksheet!U401/(Worksheet!R401),0)","v":0},{"$f":"Worksheet!AC401","v":0},{"$f":"Worksheet!AB401","v":0},0,{"$f":"IF(Worksheet!AJ401=0,0,Worksheet!AJ401*10/I382)","v":0},0,null,null,null,{"$f":"IFERROR(Worksheet!V401/(Worksheet!S401),0)","v":0},{"$f":"IF(Worksheet!E401=\"\",\"\",Worksheet!E401)","v":""},{"$f":"IF(Worksheet!B401=\"\",\"\",Worksheet!B401)","v":""},{"$f":"IF(Worksheet!D401=\"\",\"\",Worksheet!D401)","v":""}]
[{"$f":"IF(ISBLANK(Worksheet!F402)=FALSE,VLOOKUP(Worksheet!A402,MeasureCode_Lookup,6,FALSE),\"\")","v":""},{"$f":"Worksheet!H402","v":0},{"$f":"Worksheet!I402","v":0},{"$f":"IFERROR(IF(Worksheet!X402=0,Worksheet!W402/I383,Worksheet!X402/R383),0)","v":0},"W Controlled",null,null,{"$f":"IF(N(Worksheet!S402)=0,N(Worksheet!R402),N(Worksheet!S402))","v":0},{"$f":"IFERROR(Worksheet!U402/(Worksheet!R402),0)","v":0},{"$f":"Worksheet!AC402","v":0},{"$f":"Worksheet!AB402","v":0},0,{"$f":"IF(Worksheet!AJ402=0,0,Worksheet!AJ402*10/I383)","v":0},0,null,null,null,{"$f":"IFERROR(Worksheet!V402/(Worksheet!S402),0)","v":0},{"$f":"IF(Worksheet!E402=\"\",\"\",Worksheet!E402)","v":""},{"$f":"IF(Worksheet!B402=\"\",\"\",Worksheet!B402)","v":""},{"$f":"IF(Worksheet!D402=\"\",\"\",Worksheet!D402)","v":""}]
[{"$f":"IF(ISBLANK(Worksheet!F403)=FALSE,VLOOKUP(Worksheet!A403,MeasureCode_Lookup,6,FALSE),\"\")","v":""},{"$f":"Worksheet!H403","v":0},{"$f":"Worksheet!I403","v":0},{"$f":"IFERROR(IF(Worksheet!X403=0,Worksheet!W403/I384,Worksheet!X403/R384),0)","v":0},"W Controlled",null,null,{"$f":"IF(N(Worksheet!S403)=0,N(Worksheet!R403),N(Worksheet!S403))","v":0},{"$f":"IFERROR(Worksheet!U403/(Worksheet!R403),0)","v":0},{"$f":"Worksheet!AC403","v":0},{"$f":"Worksheet!AB403","v":0},0,{"$f":"IF(Worksheet!AJ403=0,0,Worksheet!AJ403*10/I384)","v":0},0,null,null,null,{"$f":"IFERROR(Worksheet!V403/(Worksheet!S403),0)","v":0},{"$f":"IF(Worksheet!E403=\"\",\"\",Worksheet!E403)","v":""},{"$f":"IF(Worksheet!B403=\"\",\"\",Worksheet!B403)","v":""},{"$f":"IF(Worksheet!D403=\"\",\"\",Worksheet!D403)","v":""}]
[{"$f":"IF(ISBLANK(Worksheet!F404)=FALSE,VLOOKUP(Worksheet!A404,MeasureCode_Lookup,6,FALSE),\"\")","v":""},{"$f":"Worksheet!H404","v":0},{"$f":"Worksheet!I404","v":0},{"$f":"IFERROR(IF(Worksheet!X404=0,Worksheet!W404/I385,Worksheet!X404/R385),0)","v":0},"W Controlled",null,null,{"$f":"IF(N(Worksheet!S404)=0,N(Worksheet!R404),N(Worksheet!S404))","v":0},{"$f":"IFERROR(Worksheet!U404/(Worksheet!R404),0)","v":0},{"$f":"Worksheet!AC404","v":0},{"$f":"Worksheet!AB404","v":0},0,{"$f":"IF(Worksheet!AJ404=0,0,Worksheet!AJ404*10/I385)","v":0},0,null,null,null,{"$f":"IFERROR(Worksheet!V404/(Worksheet!S404),0)","v":0},{"$f":"IF(Worksheet!E404=\"\",\"\",Worksheet!E404)","v":""},{"$f":"IF(Worksheet!B404=\"\",\"\",Worksheet!B404)","v":""},{"$f":"IF(Worksheet!D404=\"\",\"\",Worksheet!D404)","v":""}]
[{"$f":"IF(ISBLANK(Worksheet!F405)=FALSE,VLOOKUP(Worksheet!A405,MeasureCode_Lookup,6,FALSE),\"\")","v":""},{"$f":"Worksheet!H405","v":0},{"$f":"Worksheet!I405","v":0},{"$f":"IFERROR(IF(Worksheet!X405=0,Worksheet!W405/I386,Worksheet!X405/R386),0)","v":0},"W Controlled",null,null,{"$f":"IF(N(Worksheet!S405)=0,N(Worksheet!R405),N(Worksheet!S405))","v":0},{"$f":"IFERROR(Worksheet!U405/(Worksheet!R405),0)","v":0},{"$f":"Worksheet!AC405","v":0},{"$f":"Worksheet!AB405","v":0},0,{"$f":"IF(Worksheet!AJ405=0,0,Worksheet!AJ405*10/I386)","v":0},0,null,null,null,{"$f":"IFERROR(Worksheet!V405/(Worksheet!S405),0)","v":0},{"$f":"IF(Worksheet!E405=\"\",\"\",Worksheet!E405)","v":""},{"$f":"IF(Worksheet!B405=\"\",\"\",Worksheet!B405)","v":""},{"$f":"IF(Worksheet!D405=\"\",\"\",Worksheet!D405)","v":""}]
[{"$f":"IF(ISBLANK(Worksheet!F406)=FALSE,VLOOKUP(Worksheet!A406,MeasureCode_Lookup,6,FALSE),\"\")","v":""},{"$f":"Worksheet!H406","v":0},{"$f":"Worksheet!I406","v":0},{"$f":"IFERROR(IF(Worksheet!X406=0,Worksheet!W406/I387,Worksheet!X406/R387),0)","v":0},"W Controlled",null,null,{"$f":"IF(N(Worksheet!S406)=0,N(Worksheet!R406),N(Worksheet!S406))","v":0},{"$f":"IFERROR(Worksheet!U406/(Worksheet!R406),0)","v":0},{"$f":"Worksheet!AC406","v":0},{"$f":"Worksheet!AB406","v":0},{"$f":"J387*8","v":0},{"$f":"IF(Worksheet!AJ406=0,0,Worksheet!AJ406*10/I387)","v":0},{"$f":"M387*8","v":0},null,null,null,{"$f":"IFERROR(Worksheet!V406/(Worksheet!S406),0)","v":0},{"$f":"IF(Worksheet!E406=\"\",\"\",Worksheet!E406)","v":""},{"$f":"IF(Worksheet!B406=\"\",\"\",Worksheet!B406)","v":""},{"$f":"IF(Worksheet!D406=\"\",\"\",Worksheet!D406)","v":""}]
[{"$f":"IF(ISBLANK(Worksheet!F407)=FALSE,VLOOKUP(Worksheet!A407,MeasureCode_Lookup,6,FALSE),\"\")","v":""},{"$f":"Worksheet!H407","v":0},{"$f":"Worksheet!I407","v":0},{"$f":"IFERROR(IF(Worksheet!X407=0,Worksheet!W407/I388,Worksheet!X407/R388),0)","v":0},"W Controlled",null,null,{"$f":"IF(N(Worksheet!S407)=0,N(Worksheet!R407),N(Worksheet!S407))","v":0},{"$f":"IFERROR(Worksheet!U407/(Worksheet!R407),0)","v":0},{"$f":"Worksheet!AC407","v":0},{"$f":"Worksheet!AB407","v":0},0,{"$f":"IF(Worksheet!AJ407=0,0,Worksheet!AJ407*10/I388)","v":0},0,null,null,null,{"$f":"IFERROR(Worksheet!V407/(Worksheet!S407),0)","v":0},{"$f":"IF(Worksheet!E407=\"\",\"\",Worksheet!E407)","v":""},{"$f":"IF(Worksheet!B407=\"\",\"\",Worksheet!B407)","v":""},{"$f":"IF(Worksheet!D407=\"\",\"\",Worksheet!D407)","v":""}]
[{"$f":"IF(ISBLANK(Worksheet!F408)=FALSE,VLOOKUP(Worksheet!A408,MeasureCode_Lookup,6,FALSE),\"\")","v":""},{"$f":"Worksheet!H408","v":0},{"$f":"Worksheet!I408","v":0},{"$f":"IFERROR(IF(Worksheet!X408=0,Worksheet!W408/I389,Worksheet!X408/R389),0)","v":0},"W Controlled",null,null,{"$f":"IF(N(Worksheet!S408)=0,N(Worksheet!R408),N(Worksheet!S408))","v":0},{"$f":"IFERROR(Worksheet!U408/(Worksheet!R408),0)","v":0},{"$f":"Worksheet!AC408","v":0},{"$f":"Worksheet!AB408","v":0},0,{"$f":"IF(Worksheet!AJ408=0,0,Worksheet!AJ408*10/I389)","v":0},0,null,null,null,{"$f":"IFERROR(Worksheet!V408/(Worksheet!S408),0)","v":0},{"$f":"IF(Worksheet!E408=\"\",\"\",Worksheet!E408)","v":""},{"$f":"IF(Worksheet!B408=\"\",\"\",Worksheet!B408)","v":""},{"$f":"IF(Worksheet!D408=\"\",\"\",Worksheet!D408)","v":""}]
[{"$f":"IF(ISBLANK(Worksheet!F409)=FALSE,VLOOKUP(Worksheet!A409,MeasureCode_Lookup,6,FALSE),\"\")","v":""},{"$f":"Worksheet!H409","v":0},{"$f":"Worksheet!I409","v":0},{"$f":"IFERROR(IF(Worksheet!X409=0,Worksheet!W409/I390,Worksheet!X409/R390),0)","v":0},"W Controlled",null,null,{"$f":"IF(N(Worksheet!S409)=0,N(Worksheet!R409),N(Worksheet!S409))","v":0},{"$f":"IFERROR(Worksheet!U409/(Worksheet!R409),0)","v":0},{"$f":"Worksheet!AC409","v":0},{"$f":"Worksheet!AB409","v":0},0,{"$f":"IF(Worksheet!AJ409=0,0,Worksheet!AJ409*10/I390)","v":0},0,null,null,null,{"$f":"IFERROR(Worksheet!V409/(Worksheet!S409),0)","v":0},{"$f":"IF(Worksheet!E409=\"\",\"\",Worksheet!E409)","v":""},{"$f":"IF(Worksheet!B409=\"\",\"\",Worksheet!B409)","v":""},{"$f":"IF(Worksheet!D409=\"\",\"\",Worksheet!D409)","v":""}]
[{"$f":"IF(ISBLANK(Worksheet!F410)=FALSE,VLOOKUP(Worksheet!A410,MeasureCode_Lookup,6,FALSE),\"\")","v":""},{"$f":"Worksheet!H410","v":0},{"$f":"Worksheet!I410","v":0},{"$f":"IFERROR(IF(Worksheet!X410=0,Worksheet!W410/I391,Worksheet!X410/R391),0)","v":0},"W Controlled",null,null,{"$f":"IF(N(Worksheet!S410)=0,N(Worksheet!R410),N(Worksheet!S410))","v":0},{"$f":"IFERROR(Worksheet!U410/(Worksheet!R410),0)","v":0},{"$f":"Worksheet!AC410","v":0},{"$f":"Worksheet!AB410","v":0},0,{"$f":"IF(Worksheet!AJ410=0,0,Worksheet!AJ410*10/I391)","v":0},0,null,null,null,{"$f":"IFERROR(Worksheet!V410/(Worksheet!S410),0)","v":0},{"$f":"IF(Worksheet!E410=\"\",\"\",Worksheet!E410)","v":""},{"$f":"IF(Worksheet!B410=\"\",\"\",Worksheet!B410)","v":""},{"$f":"IF(Worksheet!D410=\"\",\"\",Worksheet!D410)","v":""}]
[{"$f":"IF(ISBLANK(Worksheet!F411)=FALSE,VLOOKUP(Worksheet!A411,MeasureCode_Lookup,6,FALSE),\"\")","v":""},{"$f":"Worksheet!H411","v":0},{"$f":"Worksheet!I411","v":0},{"$f":"IFERROR(IF(Worksheet!X411=0,Worksheet!W411/I392,Worksheet!X411/R392),0)","v":0},"W Controlled",null,null,{"$f":"IF(N(Worksheet!S411)=0,N(Worksheet!R411),N(Worksheet!S411))","v":0},{"$f":"IFERROR(Worksheet!U411/(Worksheet!R411),0)","v":0},{"$f":"Worksheet!AC411","v":0},{"$f":"Worksheet!AB411","v":0},0,{"$f":"IF(Worksheet!AJ411=0,0,Worksheet!AJ411*10/I392)","v":0},0,null,null,null,{"$f":"IFERROR(Worksheet!V411/(Worksheet!S411),0)","v":0},{"$f":"IF(Worksheet!E411=\"\",\"\",Worksheet!E411)","v":""},{"$f":"IF(Worksheet!B411=\"\",\"\",Worksheet!B411)","v":""},{"$f":"IF(Worksheet!D411=\"\",\"\",Worksheet!D411)","v":""}]
[{"$f":"IF(ISBLANK(Worksheet!F412)=FALSE,VLOOKUP(Worksheet!A412,MeasureCode_Lookup,6,FALSE),\"\")","v":""},{"$f":"Worksheet!H412","v":0},{"$f":"Worksheet!I412","v":0},{"$f":"IFERROR(IF(Worksheet!X412=0,Worksheet!W412/I393,Worksheet!X412/R393),0)","v":0},"W Controlled",null,null,{"$f":"IF(N(Worksheet!S412)=0,N(Worksheet!R412),N(Worksheet!S412))","v":0},{"$f":"IFERROR(Worksheet!U412/(Worksheet!R412),0)","v":0},{"$f":"Worksheet!AC412","v":0},{"$f":"Worksheet!AB412","v":0},0,{"$f":"IF(Worksheet!AJ412=0,0,Worksheet!AJ412*10/I393)","v":0},0,null,null,null,{"$f":"IFERROR(Worksheet!V412/(Worksheet!S412),0)","v":0},{"$f":"IF(Worksheet!E412=\"\",\"\",Worksheet!E412)","v":""},{"$f":"IF(Worksheet!B412=\"\",\"\",Worksheet!B412)","v":""},{"$f":"IF(Worksheet!D412=\"\",\"\",Worksheet!D412)","v":""}]
[{"$f":"IF(ISBLANK(Worksheet!F413)=FALSE,VLOOKUP(Worksheet!A413,MeasureCode_Lookup,6,FALSE),\"\")","v":""},{"$f":"Worksheet!H413","v":0},{"$f":"Worksheet!I413","v":0},{"$f":"IFERROR(IF(Worksheet!X413=0,Worksheet!W413/I394,Worksheet!X413/R394),0)","v":0},"W Controlled",null,null,{"$f":"IF(N(Worksheet!S413)=0,N(Worksheet!R413),N(Worksheet!S413))","v":0},{"$f":"IFERROR(Worksheet!U413/(Worksheet!R413),0)","v":0},{"$f":"Worksheet!AC413","v":0},{"$f":"Worksheet!AB413","v":0},0,{"$f":"IF(Worksheet!AJ413=0,0,Worksheet!AJ413*10/I394)","v":0},0,null,null,null,{"$f":"IFERROR(Worksheet!V413/(Worksheet!S413),0)","v":0},{"$f":"IF(Worksheet!E413=\"\",\"\",Worksheet!E413)","v":""},{"$f":"IF(Worksheet!B413=\"\",\"\",Worksheet!B413)","v":""},{"$f":"IF(Worksheet!D413=\"\",\"\",Worksheet!D413)","v":""}]
[{"$f":"IF(ISBLANK(Worksheet!F414)=FALSE,VLOOKUP(Worksheet!A414,MeasureCode_Lookup,6,FALSE),\"\")","v":""},{"$f":"Worksheet!H414","v":0},{"$f":"Worksheet!I414","v":0},{"$f":"IFERROR(IF(Worksheet!X414=0,Worksheet!W414/I395,Worksheet!X414/R395),0)","v":0},"W Controlled",null,null,{"$f":"IF(N(Worksheet!S414)=0,N(Worksheet!R414),N(Worksheet!S414))","v":0},{"$f":"IFERROR(Worksheet!U414/(Worksheet!R414),0)","v":0},{"$f":"Worksheet!AC414","v":0},{"$f":"Worksheet!AB414","v":0},0,{"$f":"IF(Worksheet!AJ414=0,0,Worksheet!AJ414*10/I395)","v":0},0,null,null,null,{"$f":"IFERROR(Worksheet!V414/(Worksheet!S414),0)","v":0},{"$f":"IF(Worksheet!E414=\"\",\"\",Worksheet!E414)","v":""},{"$f":"IF(Worksheet!B414=\"\",\"\",Worksheet!B414)","v":""},{"$f":"IF(Worksheet!D414=\"\",\"\",Worksheet!D414)","v":""}]
[{"$f":"IF(ISBLANK(Worksheet!F415)=FALSE,VLOOKUP(Worksheet!A415,MeasureCode_Lookup,6,FALSE),\"\")","v":""},{"$f":"Worksheet!H415","v":0},{"$f":"Worksheet!I415","v":0},{"$f":"IFERROR(IF(Worksheet!X415=0,Worksheet!W415/I396,Worksheet!X415/R396),0)","v":0},"W Controlled",null,null,{"$f":"IF(N(Worksheet!S415)=0,N(Worksheet!R415),N(Worksheet!S415))","v":0},{"$f":"IFERROR(Worksheet!U415/(Worksheet!R415),0)","v":0},{"$f":"Worksheet!AC415","v":0},{"$f":"Worksheet!AB415","v":0},0,{"$f":"IF(Worksheet!AJ415=0,0,Worksheet!AJ415*10/I396)","v":0},0,null,null,null,{"$f":"IFERROR(Worksheet!V415/(Worksheet!S415),0)","v":0},{"$f":"IF(Worksheet!E415=\"\",\"\",Worksheet!E415)","v":""},{"$f":"IF(Worksheet!B415=\"\",\"\",Worksheet!B415)","v":""},{"$f":"IF(Worksheet!D415=\"\",\"\",Worksheet!D415)","v":""}]
[{"$f":"IF(ISBLANK(Worksheet!F416)=FALSE,VLOOKUP(Worksheet!A416,MeasureCode_Lookup,6,FALSE),\"\")","v":""},{"$f":"Worksheet!H416","v":0},{"$f":"Worksheet!I416","v":0},{"$f":"IFERROR(IF(Worksheet!X416=0,Worksheet!W416/I397,Worksheet!X416/R397),0)","v":0},"W Controlled",null,null,{"$f":"IF(N(Worksheet!S416)=0,N(Worksheet!R416),N(Worksheet!S416))","v":0},{"$f":"IFERROR(Worksheet!U416/(Worksheet!R416),0)","v":0},{"$f":"Worksheet!AC416","v":0},{"$f":"Worksheet!AB416","v":0},0,{"$f":"IF(Worksheet!AJ416=0,0,Worksheet!AJ416*10/I397)","v":0},0,null,null,null,{"$f":"IFERROR(Worksheet!V416/(Worksheet!S416),0)","v":0},{"$f":"IF(Worksheet!E416=\"\",\"\",Worksheet!E416)","v":""},{"$f":"IF(Worksheet!B416=\"\",\"\",Worksheet!B416)","v":""},{"$f":"IF(Worksheet!D416=\"\",\"\",Worksheet!D416)","v":""}]
[{"$f":"IF(ISBLANK(Worksheet!F417)=FALSE,VLOOKUP(Worksheet!A417,MeasureCode_Lookup,6,FALSE),\"\")","v":""},{"$f":"Worksheet!H417","v":0},{"$f":"Worksheet!I417","v":0},{"$f":"IFERROR(IF(Worksheet!X417=0,Worksheet!W417/I398,Worksheet!X417/R398),0)","v":0},"W Controlled",null,null,{"$f":"IF(N(Worksheet!S417)=0,N(Worksheet!R417),N(Worksheet!S417))","v":0},{"$f":"IFERROR(Worksheet!U417/(Worksheet!R417),0)","v":0},{"$f":"Worksheet!AC417","v":0},{"$f":"Worksheet!AB417","v":0},0,{"$f":"IF(Worksheet!AJ417=0,0,Worksheet!AJ417*10/I398)","v":0},0,null,null,null,{"$f":"IFERROR(Worksheet!V417/(Worksheet!S417),0)","v":0},{"$f":"IF(Worksheet!E417=\"\",\"\",Worksheet!E417)","v":""},{"$f":"IF(Worksheet!B417=\"\",\"\",Worksheet!B417)","v":""},{"$f":"IF(Worksheet!D417=\"\",\"\",Worksheet!D417)","v":""}]
[{"$f":"IF(ISBLANK(Worksheet!F418)=FALSE,VLOOKUP(Worksheet!A418,MeasureCode_Lookup,6,FALSE),\"\")","v":""},{"$f":"Worksheet!H418","v":0},{"$f":"Worksheet!I418","v":0},{"$f":"IFERROR(IF(Worksheet!X418=0,Worksheet!W418/I399,Worksheet!X418/R399),0)","v":0},"W Controlled",null,null,{"$f":"IF(N(Worksheet!S418)=0,N(Worksheet!R418),N(Worksheet!S418))","v":0},{"$f":"IFERROR(Worksheet!U418/(Worksheet!R418),0)","v":0},{"$f":"Worksheet!AC418","v":0},{"$f":"Worksheet!AB418","v":0},0,{"$f":"IF(Worksheet!AJ418=0,0,Worksheet!AJ418*10/I399)","v":0},0,null,null,null,{"$f":"IFERROR(Worksheet!V418/(Worksheet!S418),0)","v":0},{"$f":"IF(Worksheet!E418=\"\",\"\",Worksheet!E418)","v":""},{"$f":"IF(Worksheet!B418=\"\",\"\",Worksheet!B418)","v":""},{"$f":"IF(Worksheet!D418=\"\",\"\",Worksheet!D418)","v":""}]
[{"$f":"IF(ISBLANK(Worksheet!F419)=FALSE,VLOOKUP(Worksheet!A419,MeasureCode_Lookup,6,FALSE),\"\")","v":""},{"$f":"Worksheet!H419","v":0},{"$f":"Worksheet!I419","v":0},{"$f":"IFERROR(IF(Worksheet!X419=0,Worksheet!W419/I400,Worksheet!X419/R400),0)","v":0},"W Controlled",null,null,{"$f":"IF(N(Worksheet!S419)=0,N(Worksheet!R419),N(Worksheet!S419))","v":0},{"$f":"IFERROR(Worksheet!U419/(Worksheet!R419),0)","v":0},{"$f":"Worksheet!AC419","v":0},{"$f":"Worksheet!AB419","v":0},0,{"$f":"IF(Worksheet!AJ419=0,0,Worksheet!AJ419*10/I400)","v":0},0,null,null,null,{"$f":"IFERROR(Worksheet!V419/(Worksheet!S419),0)","v":0},{"$f":"IF(Worksheet!E419=\"\",\"\",Worksheet!E419)","v":""},{"$f":"IF(Worksheet!B419=\"\",\"\",Worksheet!B419)","v":""},{"$f":"IF(Worksheet!D419=\"\",\"\",Worksheet!D419)","v":""}]
[{"$f":"IF(ISBLANK(Worksheet!F420)=FALSE,VLOOKUP(Worksheet!A420,MeasureCode_Lookup,6,FALSE),\"\")","v":""},{"$f":"Worksheet!H420","v":0},{"$f":"Worksheet!I420","v":0},{"$f":"IFERROR(IF(Worksheet!X420=0,Worksheet!W420/I401,Worksheet!X420/R401),0)","v":0},"W Controlled",null,null,{"$f":"IF(N(Worksheet!S420)=0,N(Worksheet!R420),N(Worksheet!S420))","v":0},{"$f":"IFERROR(Worksheet!U420/(Worksheet!R420),0)","v":0},{"$f":"Worksheet!AC420","v":0},{"$f":"Worksheet!AB420","v":0},0,{"$f":"IF(Worksheet!AJ420=0,0,Worksheet!AJ420*10/I401)","v":0},0,null,null,null,{"$f":"IFERROR(Worksheet!V420/(Worksheet!S420),0)","v":0},{"$f":"IF(Worksheet!E420=\"\",\"\",Worksheet!E420)","v":""},{"$f":"IF(Worksheet!B420=\"\",\"\",Worksheet!B420)","v":""},{"$f":"IF(Worksheet!D420=\"\",\"\",Worksheet!D420)","v":""}]
[{"$f":"IF(ISBLANK(Worksheet!F421)=FALSE,VLOOKUP(Worksheet!A421,MeasureCode_Lookup,6,FALSE),\"\")","v":""},{"$f":"Worksheet!H421","v":0},{"$f":"Worksheet!I421","v":0},{"$f":"IFERROR(IF(Worksheet!X421=0,Worksheet!W421/I402,Worksheet!X421/R402),0)","v":0},"W Controlled",null,null,{"$f":"IF(N(Worksheet!S421)=0,N(Worksheet!R421),N(Worksheet!S421))","v":0},{"$f":"IFERROR(Worksheet!U421/(Worksheet!R421),0)","v":0},{"$f":"Worksheet!AC421","v":0},{"$f":"Worksheet!AB421","v":0},0,{"$f":"IF(Worksheet!AJ421=0,0,Worksheet!AJ421*10/I402)","v":0},0,null,null,null,{"$f":"IFERROR(Worksheet!V421/(Worksheet!S421),0)","v":0},{"$f":"IF(Worksheet!E421=\"\",\"\",Worksheet!E421)","v":""},{"$f":"IF(Worksheet!B421=\"\",\"\",Worksheet!B421)","v":""},{"$f":"IF(Worksheet!D421=\"\",\"\",Worksheet!D421)","v":""}]
[{"$f":"IF(ISBLANK(Worksheet!F422)=FALSE,VLOOKUP(Worksheet!A422,MeasureCode_Lookup,6,FALSE),\"\")","v":""},{"$f":"Worksheet!H422","v":0},{"$f":"Worksheet!I422","v":0},{"$f":"IFERROR(IF(Worksheet!X422=0,Worksheet!W422/I403,Worksheet!X422/R403),0)","v":0},"W Controlled",null,null,{"$f":"IF(N(Worksheet!S422)=0,N(Worksheet!R422),N(Worksheet!S422))","v":0},{"$f":"IFERROR(Worksheet!U422/(Worksheet!R422),0)","v":0},{"$f":"Worksheet!AC422","v":0},{"$f":"Worksheet!AB422","v":0},0,{"$f":"IF(Worksheet!AJ422=0,0,Worksheet!AJ422*10/I403)","v":0},0,null,null,null,{"$f":"IFERROR(Worksheet!V422/(Worksheet!S422),0)","v":0},{"$f":"IF(Worksheet!E422=\"\",\"\",Worksheet!E422)","v":""},{"$f":"IF(Worksheet!B422=\"\",\"\",Worksheet!B422)","v":""},{"$f":"IF(Worksheet!D422=\"\",\"\",Worksheet!D422)","v":""}]
[{"$f":"IF(ISBLANK(Worksheet!F423)=FALSE,VLOOKUP(Worksheet!A423,MeasureCode_Lookup,6,FALSE),\"\")","v":""},{"$f":"Worksheet!H423","v":0},{"$f":"Worksheet!I423","v":0},{"$f":"IFERROR(IF(Worksheet!X423=0,Worksheet!W423/I404,Worksheet!X423/R404),0)","v":0},"W Controlled",null,null,{"$f":"IF(N(Worksheet!S423)=0,N(Worksheet!R423),N(Worksheet!S423))","v":0},{"$f":"IFERROR(Worksheet!U423/(Worksheet!R423),0)","v":0},{"$f":"Worksheet!AC423","v":0},{"$f":"Worksheet!AB423","v":0},0,{"$f":"IF(Worksheet!AJ423=0,0,Worksheet!AJ423*10/I404)","v":0},0,null,null,null,{"$f":"IFERROR(Worksheet!V423/(Worksheet!S423),0)","v":0},{"$f":"IF(Worksheet!E423=\"\",\"\",Worksheet!E423)","v":""},{"$f":"IF(Worksheet!B423=\"\",\"\",Worksheet!B423)","v":""},{"$f":"IF(Worksheet!D423=\"\",\"\",Worksheet!D423)","v":""}]
[{"$f":"IF(ISBLANK(Worksheet!F424)=FALSE,VLOOKUP(Worksheet!A424,MeasureCode_Lookup,6,FALSE),\"\")","v":""},{"$f":"Worksheet!H424","v":0},{"$f":"Worksheet!I424","v":0},{"$f":"IFERROR(IF(Worksheet!X424=0,Worksheet!W424/I405,Worksheet!X424/R405),0)","v":0},"W Controlled",null,null,{"$f":"IF(N(Worksheet!S424)=0,N(Worksheet!R424),N(Worksheet!S424))","v":0},{"$f":"IFERROR(Worksheet!U424/(Worksheet!R424),0)","v":0},{"$f":"Worksheet!AC424","v":0},{"$f":"Worksheet!AB424","v":0},0,{"$f":"IF(Worksheet!AJ424=0,0,Worksheet!AJ424*10/I405)","v":0},0,null,null,null,{"$f":"IFERROR(Worksheet!V424/(Worksheet!S424),0)","v":0},{"$f":"IF(Worksheet!E424=\"\",\"\",Worksheet!E424)","v":""},{"$f":"IF(Worksheet!B424=\"\",\"\",Worksheet!B424)","v":""},{"$f":"IF(Worksheet!D424=\"\",\"\",Worksheet!D424)","v":""}]
[{"$f":"IF(ISBLANK(Worksheet!F425)=FALSE,VLOOKUP(Worksheet!A425,MeasureCode_Lookup,6,FALSE),\"\")","v":""},{"$f":"Worksheet!H425","v":0},{"$f":"Worksheet!I425","v":0},{"$f":"IFERROR(IF(Worksheet!X425=0,Worksheet!W425/I406,Worksheet!X425/R406),0)","v":0},"W Controlled",null,null,{"$f":"IF(N(Worksheet!S425)=0,N(Worksheet!R425),N(Worksheet!S425))","v":0},{"$f":"IFERROR(Worksheet!U425/(Worksheet!R425),0)","v":0},{"$f":"Worksheet!AC425","v":0},{"$f":"Worksheet!AB425","v":0},0,{"$f":"IF(Worksheet!AJ425=0,0,Worksheet!AJ425*10/I406)","v":0},0,null,null,null,{"$f":"IFERROR(Worksheet!V425/(Worksheet!S425),0)","v":0},{"$f":"IF(Worksheet!E425=\"\",\"\",Worksheet!E425)","v":""},{"$f":"IF(Worksheet!B425=\"\",\"\",Worksheet!B425)","v":""},{"$f":"IF(Worksheet!D425=\"\",\"\",Worksheet!D425)","v":""}]
[{"$f":"IF(ISBLANK(Worksheet!F426)=FALSE,VLOOKUP(Worksheet!A426,MeasureCode_Lookup,6,FALSE),\"\")","v":""},{"$f":"Worksheet!H426","v":0},{"$f":"Worksheet!I426","v":0},{"$f":"IFERROR(IF(Worksheet!X426=0,Worksheet!W426/I407,Worksheet!X426/R407),0)","v":0},"W Controlled",null,null,{"$f":"IF(N(Worksheet!S426)=0,N(Worksheet!R426),N(Worksheet!S426))","v":0},{"$f":"IFERROR(Worksheet!U426/(Worksheet!R426),0)","v":0},{"$f":"Worksheet!AC426","v":0},{"$f":"Worksheet!AB426","v":0},0,{"$f":"IF(Worksheet!AJ426=0,0,Worksheet!AJ426*10/I407)","v":0},0,null,null,null,{"$f":"IFERROR(Worksheet!V426/(Worksheet!S426),0)","v":0},{"$f":"IF(Worksheet!E426=\"\",\"\",Worksheet!E426)","v":""},{"$f":"IF(Worksheet!B426=\"\",\"\",Worksheet!B426)","v":""},{"$f":"IF(Worksheet!D426=\"\",\"\",Worksheet!D426)","v":""}]
[{"$f":"IF(ISBLANK(Worksheet!F427)=FALSE,VLOOKUP(Worksheet!A427,MeasureCode_Lookup,6,FALSE),\"\")","v":""},{"$f":"Worksheet!H427","v":0},{"$f":"Worksheet!I427","v":0},{"$f":"IFERROR(IF(Worksheet!X427=0,Worksheet!W427/I408,Worksheet!X427/R408),0)","v":0},"W Controlled",null,null,{"$f":"IF(N(Worksheet!S427)=0,N(Worksheet!R427),N(Worksheet!S427))","v":0},{"$f":"IFERROR(Worksheet!U427/(Worksheet!R427),0)","v":0},{"$f":"Worksheet!AC427","v":0},{"$f":"Worksheet!AB427","v":0},0,{"$f":"IF(Worksheet!AJ427=0,0,Worksheet!AJ427*10/I408)","v":0},0,null,null,null,{"$f":"IFERROR(Worksheet!V427/(Worksheet!S427),0)","v":0},{"$f":"IF(Worksheet!E427=\"\",\"\",Worksheet!E427)","v":""},{"$f":"IF(Worksheet!B427=\"\",\"\",Worksheet!B427)","v":""},{"$f":"IF(Worksheet!D427=\"\",\"\",Worksheet!D427)","v":""}]
[{"$f":"IF(ISBLANK(Worksheet!F428)=FALSE,VLOOKUP(Worksheet!A428,MeasureCode_Lookup,6,FALSE),\"\")","v":""},{"$f":"Worksheet!H428","v":0},{"$f":"Worksheet!I428","v":0},{"$f":"IFERROR(IF(Worksheet!X428=0,Worksheet!W428/I409,Worksheet!X428/R409),0)","v":0},"W Controlled",null,null,{"$f":"IF(N(Worksheet!S428)=0,N(Worksheet!R428),N(Worksheet!S428))","v":0},{"$f":"IFERROR(Worksheet!U428/(Worksheet!R428),0)","v":0},{"$f":"Worksheet!AC428","v":0},{"$f":"Worksheet!AB428","v":0},0,{"$f":"IF(Worksheet!AJ428=0,0,Worksheet!AJ428*10/I409)","v":0},0,null,null,null,{"$f":"IFERROR(Worksheet!V428/(Worksheet!S428),0)","v":0},{"$f":"IF(Worksheet!E428=\"\",\"\",Worksheet!E428)","v":""},{"$f":"IF(Worksheet!B428=\"\",\"\",Worksheet!B428)","v":""},{"$f":"IF(Worksheet!D428=\"\",\"\",Worksheet!D428)","v":""}]
[{"$f":"IF(ISBLANK(Worksheet!F429)=FALSE,VLOOKUP(Worksheet!A429,MeasureCode_Lookup,6,FALSE),\"\")","v":""},{"$f":"Worksheet!H429","v":0},{"$f":"Worksheet!I429","v":0},{"$f":"IFERROR(IF(Worksheet!X429=0,Worksheet!W429/I410,Worksheet!X429/R410),0)","v":0},"W Controlled",null,null,{"$f":"IF(N(Worksheet!S429)=0,N(Worksheet!R429),N(Worksheet!S429))","v":0},{"$f":"IFERROR(Worksheet!U429/(Worksheet!R429),0)","v":0},{"$f":"Worksheet!AC429","v":0},{"$f":"Worksheet!AB429","v":0},0,{"$f":"IF(Worksheet!AJ429=0,0,Worksheet!AJ429*10/I410)","v":0},0,null,null,null,{"$f":"IFERROR(Worksheet!V429/(Worksheet!S429),0)","v":0},{"$f":"IF(Worksheet!E429=\"\",\"\",Worksheet!E429)","v":""},{"$f":"IF(Worksheet!B429=\"\",\"\",Worksheet!B429)","v":""},{"$f":"IF(Worksheet!D429=\"\",\"\",Worksheet!D429)","v":""}]
[{"$f":"IF(ISBLANK(Worksheet!F430)=FALSE,VLOOKUP(Worksheet!A430,MeasureCode_Lookup,6,FALSE),\"\")","v":""},{"$f":"Worksheet!H430","v":0},{"$f":"Worksheet!I430","v":0},{"$f":"IFERROR(IF(Worksheet!X430=0,Worksheet!W430/I411,Worksheet!X430/R411),0)","v":0},"W Controlled",null,null,{"$f":"IF(N(Worksheet!S430)=0,N(Worksheet!R430),N(Worksheet!S430))","v":0},{"$f":"IFERROR(Worksheet!U430/(Worksheet!R430),0)","v":0},{"$f":"Worksheet!AC430","v":0},{"$f":"Worksheet!AB430","v":0},0,{"$f":"IF(Worksheet!AJ430=0,0,Worksheet!AJ430*10/I411)","v":0},0,null,null,null,{"$f":"IFERROR(Worksheet!V430/(Worksheet!S430),0)","v":0},{"$f":"IF(Worksheet!E430=\"\",\"\",Worksheet!E430)","v":""},{"$f":"IF(Worksheet!B430=\"\",\"\",Worksheet!B430)","v":""},{"$f":"IF(Worksheet!D430=\"\",\"\",Worksheet!D430)","v":""}]
[{"$f":"IF(ISBLANK(Worksheet!F431)=FALSE,VLOOKUP(Worksheet!A431,MeasureCode_Lookup,6,FALSE),\"\")","v":""},{"$f":"Worksheet!H431","v":0},{"$f":"Worksheet!I431","v":0},{"$f":"IFERROR(IF(Worksheet!X431=0,Worksheet!W431/I412,Worksheet!X431/R412),0)","v":0},"W Controlled",null,null,{"$f":"IF(N(Worksheet!S431)=0,N(Worksheet!R431),N(Worksheet!S431))","v":0},{"$f":"IFERROR(Worksheet!U431/(Worksheet!R431),0)","v":0},{"$f":"Worksheet!AC431","v":0},{"$f":"Worksheet!AB431","v":0},0,{"$f":"IF(Worksheet!AJ431=0,0,Worksheet!AJ431*10/I412)","v":0},0,null,null,null,{"$f":"IFERROR(Worksheet!V431/(Worksheet!S431),0)","v":0},{"$f":"IF(Worksheet!E431=\"\",\"\",Worksheet!E431)","v":""},{"$f":"IF(Worksheet!B431=\"\",\"\",Worksheet!B431)","v":""},{"$f":"IF(Worksheet!D431=\"\",\"\",Worksheet!D431)","v":""}]
[{"$f":"IF(ISBLANK(Worksheet!F432)=FALSE,VLOOKUP(Worksheet!A432,MeasureCode_Lookup,6,FALSE),\"\")","v":""},{"$f":"Worksheet!H432","v":0},{"$f":"Worksheet!I432","v":0},{"$f":"IFERROR(IF(Worksheet!X432=0,Worksheet!W432/I413,Worksheet!X432/R413),0)","v":0},"W Controlled",null,null,{"$f":"IF(N(Worksheet!S432)=0,N(Worksheet!R432),N(Worksheet!S432))","v":0},{"$f":"IFERROR(Worksheet!U432/(Worksheet!R432),0)","v":0},{"$f":"Worksheet!AC432","v":0},{"$f":"Worksheet!AB432","v":0},0,{"$f":"IF(Worksheet!AJ432=0,0,Worksheet!AJ432*10/I413)","v":0},0,null,null,null,{"$f":"IFERROR(Worksheet!V432/(Worksheet!S432),0)","v":0},{"$f":"IF(Worksheet!E432=\"\",\"\",Worksheet!E432)","v":""},{"$f":"IF(Worksheet!B432=\"\",\"\",Worksheet!B432)","v":""},{"$f":"IF(Worksheet!D432=\"\",\"\",Worksheet!D432)","v":""}]
[{"$f":"IF(ISBLANK(Worksheet!F433)=FALSE,VLOOKUP(Worksheet!A433,MeasureCode_Lookup,6,FALSE),\"\")","v":""},{"$f":"Worksheet!H433","v":0},{"$f":"Worksheet!I433","v":0},{"$f":"IFERROR(IF(Worksheet!X433=0,Worksheet!W433/I414,Worksheet!X433/R414),0)","v":0},"W Controlled",null,null,{"$f":"IF(N(Worksheet!S433)=0,N(Worksheet!R433),N(Worksheet!S433))","v":0},{"$f":"IFERROR(Worksheet!U433/(Worksheet!R433),0)","v":0},{"$f":"Worksheet!AC433","v":0},{"$f":"Worksheet!AB433","v":0},0,{"$f":"IF(Worksheet!AJ433=0,0,Worksheet!AJ433*10/I414)","v":0},0,null,null,null,{"$f":"IFERROR(Worksheet!V433/(Worksheet!S433),0)","v":0},{"$f":"IF(Worksheet!E433=\"\",\"\",Worksheet!E433)","v":""},{"$f":"IF(Worksheet!B433=\"\",\"\",Worksheet!B433)","v":""},{"$f":"IF(Worksheet!D433=\"\",\"\",Worksheet!D433)","v":""}]
[{"$f":"IF(ISBLANK(Worksheet!F434)=FALSE,VLOOKUP(Worksheet!A434,MeasureCode_Lookup,6,FALSE),\"\")","v":""},{"$f":"Worksheet!H434","v":0},{"$f":"Worksheet!I434","v":0},{"$f":"IFERROR(IF(Worksheet!X434=0,Worksheet!W434/I415,Worksheet!X434/R415),0)","v":0},"W Controlled",null,null,{"$f":"IF(N(Worksheet!S434)=0,N(Worksheet!R434),N(Worksheet!S434))","v":0},{"$f":"IFERROR(Worksheet!U434/(Worksheet!R434),0)","v":0},{"$f":"Worksheet!AC434","v":0},{"$f":"Worksheet!AB434","v":0},0,{"$f":"IF(Worksheet!AJ434=0,0,Worksheet!AJ434*10/I415)","v":0},0,null,null,null,{"$f":"IFERROR(Worksheet!V434/(Worksheet!S434),0)","v":0},{"$f":"IF(Worksheet!E434=\"\",\"\",Worksheet!E434)","v":""},{"$f":"IF(Worksheet!B434=\"\",\"\",Worksheet!B434)","v":""},{"$f":"IF(Worksheet!D434=\"\",\"\",Worksheet!D434)","v":""}]
[{"$f":"IF(ISBLANK(Worksheet!F435)=FALSE,VLOOKUP(Worksheet!A435,MeasureCode_Lookup,6,FALSE),\"\")","v":""},{"$f":"Worksheet!H435","v":0},{"$f":"Worksheet!I435","v":0},{"$f":"IFERROR(IF(Worksheet!X435=0,Worksheet!W435/I416,Worksheet!X435/R416),0)","v":0},"W Controlled",null,null,{"$f":"IF(N(Worksheet!S435)=0,N(Worksheet!R435),N(Worksheet!S435))","v":0},{"$f":"IFERROR(Worksheet!U435/(Worksheet!R435),0)","v":0},{"$f":"Worksheet!AC435","v":0},{"$f":"Worksheet!AB435","v":0},0,{"$f":"IF(Worksheet!AJ435=0,0,Worksheet!AJ435*10/I416)","v":0},0,null,null,null,{"$f":"IFERROR(Worksheet!V435/(Worksheet!S435),0)","v":0},{"$f":"IF(Worksheet!E435=\"\",\"\",Worksheet!E435)","v":""},{"$f":"IF(Worksheet!B435=\"\",\"\",Worksheet!B435)","v":""},{"$f":"IF(Worksheet!D435=\"\",\"\",Worksheet!D435)","v":""}]
[{"$f":"IF(ISBLANK(Worksheet!F436)=FALSE,VLOOKUP(Worksheet!A436,MeasureCode_Lookup,6,FALSE),\"\")","v":""},{"$f":"Worksheet!H436","v":0},{"$f":"Worksheet!I436","v":0},{"$f":"IFERROR(IF(Worksheet!X436=0,Worksheet!W436/I417,Worksheet!X436/R417),0)","v":0},"W Controlled",null,null,{"$f":"IF(N(Worksheet!S436)=0,N(Worksheet!R436),N(Worksheet!S436))","v":0},{"$f":"IFERROR(Worksheet!U436/(Worksheet!R436),0)","v":0},{"$f":"Worksheet!AC436","v":0},{"$f":"Worksheet!AB436","v":0},0,{"$f":"IF(Worksheet!AJ436=0,0,Worksheet!AJ436*10/I417)","v":0},0,null,null,null,{"$f":"IFERROR(Worksheet!V436/(Worksheet!S436),0)","v":0},{"$f":"IF(Worksheet!E436=\"\",\"\",Worksheet!E436)","v":""},{"$f":"IF(Worksheet!B436=\"\",\"\",Worksheet!B436)","v":""},{"$f":"IF(Worksheet!D436=\"\",\"\",Worksheet!D436)","v":""}]
[{"$f":"IF(ISBLANK(Worksheet!F437)=FALSE,VLOOKUP(Worksheet!A437,MeasureCode_Lookup,6,FALSE),\"\")","v":""},{"$f":"Worksheet!H437","v":0},{"$f":"Worksheet!I437","v":0},{"$f":"IFERROR(IF(Worksheet!X437=0,Worksheet!W437/I418,Worksheet!X437/R418),0)","v":0},"W Controlled",null,null,{"$f":"IF(N(Worksheet!S437)=0,N(Worksheet!R437),N(Worksheet!S437))","v":0},{"$f":"IFERROR(Worksheet!U437/(Worksheet!R437),0)","v":0},{"$f":"Worksheet!AC437","v":0},{"$f":"Worksheet!AB437","v":0},0,{"$f":"IF(Worksheet!AJ437=0,0,Worksheet!AJ437*10/I418)","v":0},0,null,null,null,{"$f":"IFERROR(Worksheet!V437/(Worksheet!S437),0)","v":0},{"$f":"IF(Worksheet!E437=\"\",\"\",Worksheet!E437)","v":""},{"$f":"IF(Worksheet!B437=\"\",\"\",Worksheet!B437)","v":""},{"$f":"IF(Worksheet!D437=\"\",\"\",Worksheet!D437)","v":""}]
[{"$f":"IF(ISBLANK(Worksheet!F438)=FALSE,VLOOKUP(Worksheet!A438,MeasureCode_Lookup,6,FALSE),\"\")","v":""},{"$f":"Worksheet!H438","v":0},{"$f":"Worksheet!I438","v":0},{"$f":"IFERROR(IF(Worksheet!X438=0,Worksheet!W438/I419,Worksheet!X438/R419),0)","v":0},"W Controlled",null,null,{"$f":"IF(N(Worksheet!S438)=0,N(Worksheet!R438),N(Worksheet!S438))","v":0},{"$f":"IFERROR(Worksheet!U438/(Worksheet!R438),0)","v":0},{"$f":"Worksheet!AC438","v":0},{"$f":"Worksheet!AB438","v":0},0,{"$f":"IF(Worksheet!AJ438=0,0,Worksheet!AJ438*10/I419)","v":0},0,null,null,null,{"$f":"IFERROR(Worksheet!V438/(Worksheet!S438),0)","v":0},{"$f":"IF(Worksheet!E438=\"\",\"\",Worksheet!E438)","v":""},{"$f":"IF(Worksheet!B438=\"\",\"\",Worksheet!B438)","v":""},{"$f":"IF(Worksheet!D438=\"\",\"\",Worksheet!D438)","v":""}]
[{"$f":"IF(ISBLANK(Worksheet!F439)=FALSE,VLOOKUP(Worksheet!A439,MeasureCode_Lookup,6,FALSE),\"\")","v":""},{"$f":"Worksheet!H439","v":0},{"$f":"Worksheet!I439","v":0},{"$f":"IFERROR(IF(Worksheet!X439=0,Worksheet!W439/I420,Worksheet!X439/R420),0)","v":0},"W Controlled",null,null,{"$f":"IF(N(Worksheet!S439)=0,N(Worksheet!R439),N(Worksheet!S439))","v":0},{"$f":"IFERROR(Worksheet!U439/(Worksheet!R439),0)","v":0},{"$f":"Worksheet!AC439","v":0},{"$f":"Worksheet!AB439","v":0},0,{"$f":"IF(Worksheet!AJ439=0,0,Worksheet!AJ439*10/I420)","v":0},0,null,null,null,{"$f":"IFERROR(Worksheet!V439/(Worksheet!S439),0)","v":0},{"$f":"IF(Worksheet!E439=\"\",\"\",Worksheet!E439)","v":""},{"$f":"IF(Worksheet!B439=\"\",\"\",Worksheet!B439)","v":""},{"$f":"IF(Worksheet!D439=\"\",\"\",Worksheet!D439)","v":""}]
[{"$f":"IF(ISBLANK(Worksheet!F440)=FALSE,VLOOKUP(Worksheet!A440,MeasureCode_Lookup,6,FALSE),\"\")","v":""},{"$f":"Worksheet!H440","v":0},{"$f":"Worksheet!I440","v":0},{"$f":"IFERROR(IF(Worksheet!X440=0,Worksheet!W440/I421,Worksheet!X440/R421),0)","v":0},"W Controlled",null,null,{"$f":"IF(N(Worksheet!S440)=0,N(Worksheet!R440),N(Worksheet!S440))","v":0},{"$f":"IFERROR(Worksheet!U440/(Worksheet!R440),0)","v":0},{"$f":"Worksheet!AC440","v":0},{"$f":"Worksheet!AB440","v":0},0,{"$f":"IF(Worksheet!AJ440=0,0,Worksheet!AJ440*10/I421)","v":0},0,null,null,null,{"$f":"IFERROR(Worksheet!V440/(Worksheet!S440),0)","v":0},{"$f":"IF(Worksheet!E440=\"\",\"\",Worksheet!E440)","v":""},{"$f":"IF(Worksheet!B440=\"\",\"\",Worksheet!B440)","v":""},{"$f":"IF(Worksheet!D440=\"\",\"\",Worksheet!D440)","v":""}]
[{"$f":"IF(ISBLANK(Worksheet!F441)=FALSE,VLOOKUP(Worksheet!A441,MeasureCode_Lookup,6,FALSE),\"\")","v":""},{"$f":"Worksheet!H441","v":0},{"$f":"Worksheet!I441","v":0},{"$f":"IFERROR(IF(Worksheet!X441=0,Worksheet!W441/I422,Worksheet!X441/R422),0)","v":0},"W Controlled",null,null,{"$f":"IF(N(Worksheet!S441)=0,N(Worksheet!R441),N(Worksheet!S441))","v":0},{"$f":"IFERROR(Worksheet!U441/(Worksheet!R441),0)","v":0},{"$f":"Worksheet!AC441","v":0},{"$f":"Worksheet!AB441","v":0},0,{"$f":"IF(Worksheet!AJ441=0,0,Worksheet!AJ441*10/I422)","v":0},0,null,null,null,{"$f":"IFERROR(Worksheet!V441/(Worksheet!S441),0)","v":0},{"$f":"IF(Worksheet!E441=\"\",\"\",Worksheet!E441)","v":""},{"$f":"IF(Worksheet!B441=\"\",\"\",Worksheet!B441)","v":""},{"$f":"IF(Worksheet!D441=\"\",\"\",Worksheet!D441)","v":""}]
[{"$f":"IF(ISBLANK(Worksheet!F442)=FALSE,VLOOKUP(Worksheet!A442,MeasureCode_Lookup,6,FALSE),\"\")","v":""},{"$f":"Worksheet!H442","v":0},{"$f":"Worksheet!I442","v":0},{"$f":"IFERROR(IF(Worksheet!X442=0,Worksheet!W442/I423,Worksheet!X442/R423),0)","v":0},"W Controlled",null,null,{"$f":"IF(N(Worksheet!S442)=0,N(Worksheet!R442),N(Worksheet!S442))","v":0},{"$f":"IFERROR(Worksheet!U442/(Worksheet!R442),0)","v":0},{"$f":"Worksheet!AC442","v":0},{"$f":"Worksheet!AB442","v":0},0,{"$f":"IF(Worksheet!AJ442=0,0,Worksheet!AJ442*10/I423)","v":0},0,null,null,null,{"$f":"IFERROR(Worksheet!V442/(Worksheet!S442),0)","v":0},{"$f":"IF(Worksheet!E442=\"\",\"\",Worksheet!E442)","v":""},{"$f":"IF(Worksheet!B442=\"\",\"\",Worksheet!B442)","v":""},{"$f":"IF(Worksheet!D442=\"\",\"\",Worksheet!D442)","v":""}]
[{"$f":"IF(ISBLANK(Worksheet!F443)=FALSE,VLOOKUP(Worksheet!A443,MeasureCode_Lookup,6,FALSE),\"\")","v":""},{"$f":"Worksheet!H443","v":0},{"$f":"Worksheet!I443","v":0},{"$f":"IFERROR(IF(Worksheet!X443=0,Worksheet!W443/I424,Worksheet!X443/R424),0)","v":0},"W Controlled",null,null,{"$f":"IF(N(Worksheet!S443)=0,N(Worksheet!R443),N(Worksheet!S443))","v":0},{"$f":"IFERROR(Worksheet!U443/(Worksheet!R443),0)","v":0},{"$f":"Worksheet!AC443","v":0},{"$f":"Worksheet!AB443","v":0},0,{"$f":"IF(Worksheet!AJ443=0,0,Worksheet!AJ443*10/I424)","v":0},0,null,null,null,{"$f":"IFERROR(Worksheet!V443/(Worksheet!S443),0)","v":0},{"$f":"IF(Worksheet!E443=\"\",\"\",Worksheet!E443)","v":""},{"$f":"IF(Worksheet!B443=\"\",\"\",Worksheet!B443)","v":""},{"$f":"IF(Worksheet!D443=\"\",\"\",Worksheet!D443)","v":""}]
[{"$f":"IF(ISBLANK(Worksheet!F444)=FALSE,VLOOKUP(Worksheet!A444,MeasureCode_Lookup,6,FALSE),\"\")","v":""},{"$f":"Worksheet!H444","v":0},{"$f":"Worksheet!I444","v":0},{"$f":"IFERROR(IF(Worksheet!X444=0,Worksheet!W444/I425,Worksheet!X444/R425),0)","v":0},"W Controlled",null,null,{"$f":"IF(N(Worksheet!S444)=0,N(Worksheet!R444),N(Worksheet!S444))","v":0},{"$f":"IFERROR(Worksheet!U444/(Worksheet!R444),0)","v":0},{"$f":"Worksheet!AC444","v":0},{"$f":"Worksheet!AB444","v":0},0,{"$f":"IF(Worksheet!AJ444=0,0,Worksheet!AJ444*10/I425)","v":0},0,null,null,null,{"$f":"IFERROR(Worksheet!V444/(Worksheet!S444),0)","v":0},{"$f":"IF(Worksheet!E444=\"\",\"\",Worksheet!E444)","v":""},{"$f":"IF(Worksheet!B444=\"\",\"\",Worksheet!B444)","v":""},{"$f":"IF(Worksheet!D444=\"\",\"\",Worksheet!D444)","v":""}]
[{"$f":"IF(ISBLANK(Worksheet!F445)=FALSE,VLOOKUP(Worksheet!A445,MeasureCode_Lookup,6,FALSE),\"\")","v":""},{"$f":"Worksheet!H445","v":0},{"$f":"Worksheet!I445","v":0},{"$f":"IFERROR(IF(Worksheet!X445=0,Worksheet!W445/I426,Worksheet!X445/R426),0)","v":0},"W Controlled",null,null,{"$f":"IF(N(Worksheet!S445)=0,N(Worksheet!R445),N(Worksheet!S445))","v":0},{"$f":"IFERROR(Worksheet!U445/(Worksheet!R445),0)","v":0},{"$f":"Worksheet!AC445","v":0},{"$f":"Worksheet!AB445","v":0},0,{"$f":"IF(Worksheet!AJ445=0,0,Worksheet!AJ445*10/I426)","v":0},0,null,null,null,{"$f":"IFERROR(Worksheet!V445/(Worksheet!S445),0)","v":0},{"$f":"IF(Worksheet!E445=\"\",\"\",Worksheet!E445)","v":""},{"$f":"IF(Worksheet!B445=\"\",\"\",Worksheet!B445)","v":""},{"$f":"IF(Worksheet!D445=\"\",\"\",Worksheet!D445)","v":""}]
[{"$f":"IF(ISBLANK(Worksheet!F446)=FALSE,VLOOKUP(Worksheet!A446,MeasureCode_Lookup,6,FALSE),\"\")","v":""},{"$f":"Worksheet!H446","v":0},{"$f":"Worksheet!I446","v":0},{"$f":"IFERROR(IF(Worksheet!X446=0,Worksheet!W446/I427,Worksheet!X446/R427),0)","v":0},"W Controlled",null,null,{"$f":"IF(N(Worksheet!S446)=0,N(Worksheet!R446),N(Worksheet!S446))","v":0},{"$f":"IFERROR(Worksheet!U446/(Worksheet!R446),0)","v":0},{"$f":"Worksheet!AC446","v":0},{"$f":"Worksheet!AB446","v":0},0,{"$f":"IF(Worksheet!AJ446=0,0,Worksheet!AJ446*10/I427)","v":0},0,null,null,null,{"$f":"IFERROR(Worksheet!V446/(Worksheet!S446),0)","v":0},{"$f":"IF(Worksheet!E446=\"\",\"\",Worksheet!E446)","v":""},{"$f":"IF(Worksheet!B446=\"\",\"\",Worksheet!B446)","v":""},{"$f":"IF(Worksheet!D446=\"\",\"\",Worksheet!D446)","v":""}]
[{"$f":"IF(ISBLANK(Worksheet!F447)=FALSE,VLOOKUP(Worksheet!A447,MeasureCode_Lookup,6,FALSE),\"\")","v":""},{"$f":"Worksheet!H447","v":0},{"$f":"Worksheet!I447","v":0},{"$f":"IFERROR(IF(Worksheet!X447=0,Worksheet!W447/I428,Worksheet!X447/R428),0)","v":0},"W Controlled",null,null,{"$f":"IF(N(Worksheet!S447)=0,N(Worksheet!R447),N(Worksheet!S447))","v":0},{"$f":"IFERROR(Worksheet!U447/(Worksheet!R447),0)","v":0},{"$f":"Worksheet!AC447","v":0},{"$f":"Worksheet!AB447","v":0},0,{"$f":"IF(Worksheet!AJ447=0,0,Worksheet!AJ447*10/I428)","v":0},0,null,null,null,{"$f":"IFERROR(Worksheet!V447/(Worksheet!S447),0)","v":0},{"$f":"IF(Worksheet!E447=\"\",\"\",Worksheet!E447)","v":""},{"$f":"IF(Worksheet!B447=\"\",\"\",Worksheet!B447)","v":""},{"$f":"IF(Worksheet!D447=\"\",\"\",Worksheet!D447)","v":""}]
[{"$f":"IF(ISBLANK(Worksheet!F448)=FALSE,VLOOKUP(Worksheet!A448,MeasureCode_Lookup,6,FALSE),\"\")","v":""},{"$f":"Worksheet!H448","v":0},{"$f":"Worksheet!I448","v":0},{"$f":"IFERROR(IF(Worksheet!X448=0,Worksheet!W448/I429,Worksheet!X448/R429),0)","v":0},"W Controlled",null,null,{"$f":"IF(N(Worksheet!S448)=0,N(Worksheet!R448),N(Worksheet!S448))","v":0},{"$f":"IFERROR(Worksheet!U448/(Worksheet!R448),0)","v":0},{"$f":"Worksheet!AC448","v":0},{"$f":"Worksheet!AB448","v":0},0,{"$f":"IF(Worksheet!AJ448=0,0,Worksheet!AJ448*10/I429)","v":0},0,null,null,null,{"$f":"IFERROR(Worksheet!V448/(Worksheet!S448),0)","v":0},{"$f":"IF(Worksheet!E448=\"\",\"\",Worksheet!E448)","v":""},{"$f":"IF(Worksheet!B448=\"\",\"\",Worksheet!B448)","v":""},{"$f":"IF(Worksheet!D448=\"\",\"\",Worksheet!D448)","v":""}]
[{"$f":"IF(ISBLANK(Worksheet!F449)=FALSE,VLOOKUP(Worksheet!A449,MeasureCode_Lookup,6,FALSE),\"\")","v":""},{"$f":"Worksheet!H449","v":0},{"$f":"Worksheet!I449","v":0},{"$f":"IFERROR(IF(Worksheet!X449=0,Worksheet!W449/I430,Worksheet!X449/R430),0)","v":0},"W Controlled",null,null,{"$f":"IF(N(Worksheet!S449)=0,N(Worksheet!R449),N(Worksheet!S449))","v":0},{"$f":"IFERROR(Worksheet!U449/(Worksheet!R449),0)","v":0},{"$f":"Worksheet!AC449","v":0},{"$f":"Worksheet!AB449","v":0},0,{"$f":"IF(Worksheet!AJ449=0,0,Worksheet!AJ449*10/I430)","v":0},0,null,null,null,{"$f":"IFERROR(Worksheet!V449/(Worksheet!S449),0)","v":0},{"$f":"IF(Worksheet!E449=\"\",\"\",Worksheet!E449)","v":""},{"$f":"IF(Worksheet!B449=\"\",\"\",Worksheet!B449)","v":""},{"$f":"IF(Worksheet!D449=\"\",\"\",Worksheet!D449)","v":""}]
[{"$f":"IF(ISBLANK(Worksheet!F450)=FALSE,VLOOKUP(Worksheet!A450,MeasureCode_Lookup,6,FALSE),\"\")","v":""},{"$f":"Worksheet!H450","v":0},{"$f":"Worksheet!I450","v":0},{"$f":"IFERROR(IF(Worksheet!X450=0,Worksheet!W450/I431,Worksheet!X450/R431),0)","v":0},"W Controlled",null,null,{"$f":"IF(N(Worksheet!S450)=0,N(Worksheet!R450),N(Worksheet!S450))","v":0},{"$f":"IFERROR(Worksheet!U450/(Worksheet!R450),0)","v":0},{"$f":"Worksheet!AC450","v":0},{"$f":"Worksheet!AB450","v":0},0,{"$f":"IF(Worksheet!AJ450=0,0,Worksheet!AJ450*10/I431)","v":0},0,null,null,null,{"$f":"IFERROR(Worksheet!V450/(Worksheet!S450),0)","v":0},{"$f":"IF(Worksheet!E450=\"\",\"\",Worksheet!E450)","v":""},{"$f":"IF(Worksheet!B450=\"\",\"\",Worksheet!B450)","v":""},{"$f":"IF(Worksheet!D450=\"\",\"\",Worksheet!D450)","v":""}]
[{"$f":"IF(ISBLANK(Worksheet!F451)=FALSE,VLOOKUP(Worksheet!A451,MeasureCode_Lookup,6,FALSE),\"\")","v":""},{"$f":"Worksheet!H451","v":0},{"$f":"Worksheet!I451","v":0},{"$f":"IFERROR(IF(Worksheet!X451=0,Worksheet!W451/I432,Worksheet!X451/R432),0)","v":0},"W Controlled",null,null,{"$f":"IF(N(Worksheet!S451)=0,N(Worksheet!R451),N(Worksheet!S451))","v":0},{"$f":"IFERROR(Worksheet!U451/(Worksheet!R451),0)","v":0},{"$f":"Worksheet!AC451","v":0},{"$f":"Worksheet!AB451","v":0},0,{"$f":"IF(Worksheet!AJ451=0,0,Worksheet!AJ451*10/I432)","v":0},0,null,null,null,{"$f":"IFERROR(Worksheet!V451/(Worksheet!S451),0)","v":0},{"$f":"IF(Worksheet!E451=\"\",\"\",Worksheet!E451)","v":""},{"$f":"IF(Worksheet!B451=\"\",\"\",Worksheet!B451)","v":""},{"$f":"IF(Worksheet!D451=\"\",\"\",Worksheet!D451)","v":""}]
[{"$f":"IF(ISBLANK(Worksheet!F452)=FALSE,VLOOKUP(Worksheet!A452,MeasureCode_Lookup,6,FALSE),\"\")","v":""},{"$f":"Worksheet!H452","v":0},{"$f":"Worksheet!I452","v":0},{"$f":"IFERROR(IF(Worksheet!X452=0,Worksheet!W452/I433,Worksheet!X452/R433),0)","v":0},"W Controlled",null,null,{"$f":"IF(N(Worksheet!S452)=0,N(Worksheet!R452),N(Worksheet!S452))","v":0},{"$f":"IFERROR(Worksheet!U452/(Worksheet!R452),0)","v":0},{"$f":"Worksheet!AC452","v":0},{"$f":"Worksheet!AB452","v":0},0,{"$f":"IF(Worksheet!AJ452=0,0,Worksheet!AJ452*10/I433)","v":0},0,null,null,null,{"$f":"IFERROR(Worksheet!V452/(Worksheet!S452),0)","v":0},{"$f":"IF(Worksheet!E452=\"\",\"\",Worksheet!E452)","v":""},{"$f":"IF(Worksheet!B452=\"\",\"\",Worksheet!B452)","v":""},{"$f":"IF(Worksheet!D452=\"\",\"\",Worksheet!D452)","v":""}]
[{"$f":"IF(ISBLANK(Worksheet!F453)=FALSE,VLOOKUP(Worksheet!A453,MeasureCode_Lookup,6,FALSE),\"\")","v":""},{"$f":"Worksheet!H453","v":0},{"$f":"Worksheet!I453","v":0},{"$f":"IFERROR(IF(Worksheet!X453=0,Worksheet!W453/I434,Worksheet!X453/R434),0)","v":0},"W Controlled",null,null,{"$f":"IF(N(Worksheet!S453)=0,N(Worksheet!R453),N(Worksheet!S453))","v":0},{"$f":"IFERROR(Worksheet!U453/(Worksheet!R453),0)","v":0},{"$f":"Worksheet!AC453","v":0},{"$f":"Worksheet!AB453","v":0},0,{"$f":"IF(Worksheet!AJ453=0,0,Worksheet!AJ453*10/I434)","v":0},0,null,null,null,{"$f":"IFERROR(Worksheet!V453/(Worksheet!S453),0)","v":0},{"$f":"IF(Worksheet!E453=\"\",\"\",Worksheet!E453)","v":""},{"$f":"IF(Worksheet!B453=\"\",\"\",Worksheet!B453)","v":""},{"$f":"IF(Worksheet!D453=\"\",\"\",Worksheet!D453)","v":""}]
[{"$f":"IF(ISBLANK(Worksheet!F454)=FALSE,VLOOKUP(Worksheet!A454,MeasureCode_Lookup,6,FALSE),\"\")","v":""},{"$f":"Worksheet!H454","v":0},{"$f":"Worksheet!I454","v":0},{"$f":"IFERROR(IF(Worksheet!X454=0,Worksheet!W454/I435,Worksheet!X454/R435),0)","v":0},"W Controlled",null,null,{"$f":"IF(N(Worksheet!S454)=0,N(Worksheet!R454),N(Worksheet!S454))","v":0},{"$f":"IFERROR(Worksheet!U454/(Worksheet!R454),0)","v":0},{"$f":"Worksheet!AC454","v":0},{"$f":"Worksheet!AB454","v":0},0,{"$f":"IF(Worksheet!AJ454=0,0,Worksheet!AJ454*10/I435)","v":0},0,null,null,null,{"$f":"IFERROR(Worksheet!V454/(Worksheet!S454),0)","v":0},{"$f":"IF(Worksheet!E454=\"\",\"\",Worksheet!E454)","v":""},{"$f":"IF(Worksheet!B454=\"\",\"\",Worksheet!B454)","v":""},{"$f":"IF(Worksheet!D454=\"\",\"\",Worksheet!D454)","v":""}]
[{"$f":"IF(ISBLANK(Worksheet!F455)=FALSE,VLOOKUP(Worksheet!A455,MeasureCode_Lookup,6,FALSE),\"\")","v":""},{"$f":"Worksheet!H455","v":0},{"$f":"Worksheet!I455","v":0},{"$f":"IFERROR(IF(Worksheet!X455=0,Worksheet!W455/I436,Worksheet!X455/R436),0)","v":0},"W Controlled",null,null,{"$f":"IF(N(Worksheet!S455)=0,N(Worksheet!R455),N(Worksheet!S455))","v":0},{"$f":"IFERROR(Worksheet!U455/(Worksheet!R455),0)","v":0},{"$f":"Worksheet!AC455","v":0},{"$f":"Worksheet!AB455","v":0},0,{"$f":"IF(Worksheet!AJ455=0,0,Worksheet!AJ455*10/I436)","v":0},0,null,null,null,{"$f":"IFERROR(Worksheet!V455/(Worksheet!S455),0)","v":0},{"$f":"IF(Worksheet!E455=\"\",\"\",Worksheet!E455)","v":""},{"$f":"IF(Worksheet!B455=\"\",\"\",Worksheet!B455)","v":""},{"$f":"IF(Worksheet!D455=\"\",\"\",Worksheet!D455)","v":""}]
[{"$f":"IF(ISBLANK(Worksheet!F456)=FALSE,VLOOKUP(Worksheet!A456,MeasureCode_Lookup,6,FALSE),\"\")","v":""},{"$f":"Worksheet!H456","v":0},{"$f":"Worksheet!I456","v":0},{"$f":"IFERROR(IF(Worksheet!X456=0,Worksheet!W456/I437,Worksheet!X456/R437),0)","v":0},"W Controlled",null,null,{"$f":"IF(N(Worksheet!S456)=0,N(Worksheet!R456),N(Worksheet!S456))","v":0},{"$f":"IFERROR(Worksheet!U456/(Worksheet!R456),0)","v":0},{"$f":"Worksheet!AC456","v":0},{"$f":"Worksheet!AB456","v":0},0,{"$f":"IF(Worksheet!AJ456=0,0,Worksheet!AJ456*10/I437)","v":0},0,null,null,null,{"$f":"IFERROR(Worksheet!V456/(Worksheet!S456),0)","v":0},{"$f":"IF(Worksheet!E456=\"\",\"\",Worksheet!E456)","v":""},{"$f":"IF(Worksheet!B456=\"\",\"\",Worksheet!B456)","v":""},{"$f":"IF(Worksheet!D456=\"\",\"\",Worksheet!D456)","v":""}]
[{"$f":"IF(ISBLANK(Worksheet!F457)=FALSE,VLOOKUP(Worksheet!A457,MeasureCode_Lookup,6,FALSE),\"\")","v":""},{"$f":"Worksheet!H457","v":0},{"$f":"Worksheet!I457","v":0},{"$f":"IFERROR(IF(Worksheet!X457=0,Worksheet!W457/I438,Worksheet!X457/R438),0)","v":0},"W Controlled",null,null,{"$f":"IF(N(Worksheet!S457)=0,N(Worksheet!R457),N(Worksheet!S457))","v":0},{"$f":"IFERROR(Worksheet!U457/(Worksheet!R457),0)","v":0},{"$f":"Worksheet!AC457","v":0},{"$f":"Worksheet!AB457","v":0},0,{"$f":"IF(Worksheet!AJ457=0,0,Worksheet!AJ457*10/I438)","v":0},0,null,null,null,{"$f":"IFERROR(Worksheet!V457/(Worksheet!S457),0)","v":0},{"$f":"IF(Worksheet!E457=\"\",\"\",Worksheet!E457)","v":""},{"$f":"IF(Worksheet!B457=\"\",\"\",Worksheet!B457)","v":""},{"$f":"IF(Worksheet!D457=\"\",\"\",Worksheet!D457)","v":""}]
[{"$f":"IF(ISBLANK(Worksheet!F458)=FALSE,VLOOKUP(Worksheet!A458,MeasureCode_Lookup,6,FALSE),\"\")","v":""},{"$f":"Worksheet!H458","v":0},{"$f":"Worksheet!I458","v":0},{"$f":"IFERROR(IF(Worksheet!X458=0,Worksheet!W458/I439,Worksheet!X458/R439),0)","v":0},"W Controlled",null,null,{"$f":"IF(N(Worksheet!S458)=0,N(Worksheet!R458),N(Worksheet!S458))","v":0},{"$f":"IFERROR(Worksheet!U458/(Worksheet!R458),0)","v":0},{"$f":"Worksheet!AC458","v":0},{"$f":"Worksheet!AB458","v":0},0,{"$f":"IF(Worksheet!AJ458=0,0,Worksheet!AJ458*10/I439)","v":0},0,null,null,null,{"$f":"IFERROR(Worksheet!V458/(Worksheet!S458),0)","v":0},{"$f":"IF(Worksheet!E458=\"\",\"\",Worksheet!E458)","v":""},{"$f":"IF(Worksheet!B458=\"\",\"\",Worksheet!B458)","v":""},{"$f":"IF(Worksheet!D458=\"\",\"\",Worksheet!D458)","v":""}]
[{"$f":"IF(ISBLANK(Worksheet!F459)=FALSE,VLOOKUP(Worksheet!A459,MeasureCode_Lookup,6,FALSE),\"\")","v":""},{"$f":"Worksheet!H459","v":0},{"$f":"Worksheet!I459","v":0},{"$f":"IFERROR(IF(Worksheet!X459=0,Worksheet!W459/I440,Worksheet!X459/R440),0)","v":0},"W Controlled",null,null,{"$f":"IF(N(Worksheet!S459)=0,N(Worksheet!R459),N(Worksheet!S459))","v":0},{"$f":"IFERROR(Worksheet!U459/(Worksheet!R459),0)","v":0},{"$f":"Worksheet!AC459","v":0},{"$f":"Worksheet!AB459","v":0},0,{"$f":"IF(Worksheet!AJ459=0,0,Worksheet!AJ459*10/I440)","v":0},0,null,null,null,{"$f":"IFERROR(Worksheet!V459/(Worksheet!S459),0)","v":0},{"$f":"IF(Worksheet!E459=\"\",\"\",Worksheet!E459)","v":""},{"$f":"IF(Worksheet!B459=\"\",\"\",Worksheet!B459)","v":""},{"$f":"IF(Worksheet!D459=\"\",\"\",Worksheet!D459)","v":""}]
[{"$f":"IF(ISBLANK(Worksheet!F460)=FALSE,VLOOKUP(Worksheet!A460,MeasureCode_Lookup,6,FALSE),\"\")","v":""},{"$f":"Worksheet!H460","v":0},{"$f":"Worksheet!I460","v":0},{"$f":"IFERROR(IF(Worksheet!X460=0,Worksheet!W460/I441,Worksheet!X460/R441),0)","v":0},"W Controlled",null,null,{"$f":"IF(N(Worksheet!S460)=0,N(Worksheet!R460),N(Worksheet!S460))","v":0},{"$f":"IFERROR(Worksheet!U460/(Worksheet!R460),0)","v":0},{"$f":"Worksheet!AC460","v":0},{"$f":"Worksheet!AB460","v":0},0,{"$f":"IF(Worksheet!AJ460=0,0,Worksheet!AJ460*10/I441)","v":0},0,null,null,null,{"$f":"IFERROR(Worksheet!V460/(Worksheet!S460),0)","v":0},{"$f":"IF(Worksheet!E460=\"\",\"\",Worksheet!E460)","v":""},{"$f":"IF(Worksheet!B460=\"\",\"\",Worksheet!B460)","v":""},{"$f":"IF(Worksheet!D460=\"\",\"\",Worksheet!D460)","v":""}]
[{"$f":"IF(ISBLANK(Worksheet!F461)=FALSE,VLOOKUP(Worksheet!A461,MeasureCode_Lookup,6,FALSE),\"\")","v":""},{"$f":"Worksheet!H461","v":0},{"$f":"Worksheet!I461","v":0},{"$f":"IFERROR(IF(Worksheet!X461=0,Worksheet!W461/I442,Worksheet!X461/R442),0)","v":0},"W Controlled",null,null,{"$f":"IF(N(Worksheet!S461)=0,N(Worksheet!R461),N(Worksheet!S461))","v":0},{"$f":"IFERROR(Worksheet!U461/(Worksheet!R461),0)","v":0},{"$f":"Worksheet!AC461","v":0},{"$f":"Worksheet!AB461","v":0},0,{"$f":"IF(Worksheet!AJ461=0,0,Worksheet!AJ461*10/I442)","v":0},0,null,null,null,{"$f":"IFERROR(Worksheet!V461/(Worksheet!S461),0)","v":0},{"$f":"IF(Worksheet!E461=\"\",\"\",Worksheet!E461)","v":""},{"$f":"IF(Worksheet!B461=\"\",\"\",Worksheet!B461)","v":""},{"$f":"IF(Worksheet!D461=\"\",\"\",Worksheet!D461)","v":""}]
[{"$f":"IF(ISBLANK(Worksheet!F462)=FALSE,VLOOKUP(Worksheet!A462,MeasureCode_Lookup,6,FALSE),\"\")","v":""},{"$f":"Worksheet!H462","v":0},{"$f":"Worksheet!I462","v":0},{"$f":"IFERROR(IF(Worksheet!X462=0,Worksheet!W462/I443,Worksheet!X462/R443),0)","v":0},"W Controlled",null,null,{"$f":"IF(N(Worksheet!S462)=0,N(Worksheet!R462),N(Worksheet!S462))","v":0},{"$f":"IFERROR(Worksheet!U462/(Worksheet!R462),0)","v":0},{"$f":"Worksheet!AC462","v":0},{"$f":"Worksheet!AB462","v":0},0,{"$f":"IF(Worksheet!AJ462=0,0,Worksheet!AJ462*10/I443)","v":0},0,null,null,null,{"$f":"IFERROR(Worksheet!V462/(Worksheet!S462),0)","v":0},{"$f":"IF(Worksheet!E462=\"\",\"\",Worksheet!E462)","v":""},{"$f":"IF(Worksheet!B462=\"\",\"\",Worksheet!B462)","v":""},{"$f":"IF(Worksheet!D462=\"\",\"\",Worksheet!D462)","v":""}]
[{"$f":"IF(ISBLANK(Worksheet!F463)=FALSE,VLOOKUP(Worksheet!A463,MeasureCode_Lookup,6,FALSE),\"\")","v":""},{"$f":"Worksheet!H463","v":0},{"$f":"Worksheet!I463","v":0},{"$f":"IFERROR(IF(Worksheet!X463=0,Worksheet!W463/I444,Worksheet!X463/R444),0)","v":0},"W Controlled",null,null,{"$f":"IF(N(Worksheet!S463)=0,N(Worksheet!R463),N(Worksheet!S463))","v":0},{"$f":"IFERROR(Worksheet!U463/(Worksheet!R463),0)","v":0},{"$f":"Worksheet!AC463","v":0},{"$f":"Worksheet!AB463","v":0},0,{"$f":"IF(Worksheet!AJ463=0,0,Worksheet!AJ463*10/I444)","v":0},0,null,null,null,{"$f":"IFERROR(Worksheet!V463/(Worksheet!S463),0)","v":0},{"$f":"IF(Worksheet!E463=\"\",\"\",Worksheet!E463)","v":""},{"$f":"IF(Worksheet!B463=\"\",\"\",Worksheet!B463)","v":""},{"$f":"IF(Worksheet!D463=\"\",\"\",Worksheet!D463)","v":""}]
[{"$f":"IF(ISBLANK(Worksheet!F464)=FALSE,VLOOKUP(Worksheet!A464,MeasureCode_Lookup,6,FALSE),\"\")","v":""},{"$f":"Worksheet!H464","v":0},{"$f":"Worksheet!I464","v":0},{"$f":"IFERROR(IF(Worksheet!X464=0,Worksheet!W464/I445,Worksheet!X464/R445),0)","v":0},"W Controlled",null,null,{"$f":"IF(N(Worksheet!S464)=0,N(Worksheet!R464),N(Worksheet!S464))","v":0},{"$f":"IFERROR(Worksheet!U464/(Worksheet!R464),0)","v":0},{"$f":"Worksheet!AC464","v":0},{"$f":"Worksheet!AB464","v":0},0,{"$f":"IF(Worksheet!AJ464=0,0,Worksheet!AJ464*10/I445)","v":0},0,null,null,null,{"$f":"IFERROR(Worksheet!V464/(Worksheet!S464),0)","v":0},{"$f":"IF(Worksheet!E464=\"\",\"\",Worksheet!E464)","v":""},{"$f":"IF(Worksheet!B464=\"\",\"\",Worksheet!B464)","v":""},{"$f":"IF(Worksheet!D464=\"\",\"\",Worksheet!D464)","v":""}]
[{"$f":"IF(ISBLANK(Worksheet!F465)=FALSE,VLOOKUP(Worksheet!A465,MeasureCode_Lookup,6,FALSE),\"\")","v":""},{"$f":"Worksheet!H465","v":0},{"$f":"Worksheet!I465","v":0},{"$f":"IFERROR(IF(Worksheet!X465=0,Worksheet!W465/I446,Worksheet!X465/R446),0)","v":0},"W Controlled",null,null,{"$f":"IF(N(Worksheet!S465)=0,N(Worksheet!R465),N(Worksheet!S465))","v":0},{"$f":"IFERROR(Worksheet!U465/(Worksheet!R465),0)","v":0},{"$f":"Worksheet!AC465","v":0},{"$f":"Worksheet!AB465","v":0},0,{"$f":"IF(Worksheet!AJ465=0,0,Worksheet!AJ465*10/I446)","v":0},0,null,null,null,{"$f":"IFERROR(Worksheet!V465/(Worksheet!S465),0)","v":0},{"$f":"IF(Worksheet!E465=\"\",\"\",Worksheet!E465)","v":""},{"$f":"IF(Worksheet!B465=\"\",\"\",Worksheet!B465)","v":""},{"$f":"IF(Worksheet!D465=\"\",\"\",Worksheet!D465)","v":""}]
[{"$f":"IF(ISBLANK(Worksheet!F466)=FALSE,VLOOKUP(Worksheet!A466,MeasureCode_Lookup,6,FALSE),\"\")","v":""},{"$f":"Worksheet!H466","v":0},{"$f":"Worksheet!I466","v":0},{"$f":"IFERROR(IF(Worksheet!X466=0,Worksheet!W466/I447,Worksheet!X466/R447),0)","v":0},"W Controlled",null,null,{"$f":"IF(N(Worksheet!S466)=0,N(Worksheet!R466),N(Worksheet!S466))","v":0},{"$f":"IFERROR(Worksheet!U466/(Worksheet!R466),0)","v":0},{"$f":"Worksheet!AC466","v":0},{"$f":"Worksheet!AB466","v":0},0,{"$f":"IF(Worksheet!AJ466=0,0,Worksheet!AJ466*10/I447)","v":0},0,null,null,null,{"$f":"IFERROR(Worksheet!V466/(Worksheet!S466),0)","v":0},{"$f":"IF(Worksheet!E466=\"\",\"\",Worksheet!E466)","v":""},{"$f":"IF(Worksheet!B466=\"\",\"\",Worksheet!B466)","v":""},{"$f":"IF(Worksheet!D466=\"\",\"\",Worksheet!D466)","v":""}]
[{"$f":"IF(ISBLANK(Worksheet!F467)=FALSE,VLOOKUP(Worksheet!A467,MeasureCode_Lookup,6,FALSE),\"\")","v":""},{"$f":"Worksheet!H467","v":0},{"$f":"Worksheet!I467","v":0},{"$f":"IFERROR(IF(Worksheet!X467=0,Worksheet!W467/I448,Worksheet!X467/R448),0)","v":0},"W Controlled",null,null,{"$f":"IF(N(Worksheet!S467)=0,N(Worksheet!R467),N(Worksheet!S467))","v":0},{"$f":"IFERROR(Worksheet!U467/(Worksheet!R467),0)","v":0},{"$f":"Worksheet!AC467","v":0},{"$f":"Worksheet!AB467","v":0},0,{"$f":"IF(Worksheet!AJ467=0,0,Worksheet!AJ467*10/I448)","v":0},0,null,null,null,{"$f":"IFERROR(Worksheet!V467/(Worksheet!S467),0)","v":0},{"$f":"IF(Worksheet!E467=\"\",\"\",Worksheet!E467)","v":""},{"$f":"IF(Worksheet!B467=\"\",\"\",Worksheet!B467)","v":""},{"$f":"IF(Worksheet!D467=\"\",\"\",Worksheet!D467)","v":""}]
[{"$f":"IF(ISBLANK(Worksheet!F468)=FALSE,VLOOKUP(Worksheet!A468,MeasureCode_Lookup,6,FALSE),\"\")","v":""},{"$f":"Worksheet!H468","v":0},{"$f":"Worksheet!I468","v":0},{"$f":"IFERROR(IF(Worksheet!X468=0,Worksheet!W468/I449,Worksheet!X468/R449),0)","v":0},"W Controlled",null,null,{"$f":"IF(N(Worksheet!S468)=0,N(Worksheet!R468),N(Worksheet!S468))","v":0},{"$f":"IFERROR(Worksheet!U468/(Worksheet!R468),0)","v":0},{"$f":"Worksheet!AC468","v":0},{"$f":"Worksheet!AB468","v":0},0,{"$f":"IF(Worksheet!AJ468=0,0,Worksheet!AJ468*10/I449)","v":0},0,null,null,null,{"$f":"IFERROR(Worksheet!V468/(Worksheet!S468),0)","v":0},{"$f":"IF(Worksheet!E468=\"\",\"\",Worksheet!E468)","v":""},{"$f":"IF(Worksheet!B468=\"\",\"\",Worksheet!B468)","v":""},{"$f":"IF(Worksheet!D468=\"\",\"\",Worksheet!D468)","v":""}]
[{"$f":"IF(ISBLANK(Worksheet!F469)=FALSE,VLOOKUP(Worksheet!A469,MeasureCode_Lookup,6,FALSE),\"\")","v":""},{"$f":"Worksheet!H469","v":0},{"$f":"Worksheet!I469","v":0},{"$f":"IFERROR(IF(Worksheet!X469=0,Worksheet!W469/I450,Worksheet!X469/R450),0)","v":0},"W Controlled",null,null,{"$f":"IF(N(Worksheet!S469)=0,N(Worksheet!R469),N(Worksheet!S469))","v":0},{"$f":"IFERROR(Worksheet!U469/(Worksheet!R469),0)","v":0},{"$f":"Worksheet!AC469","v":0},{"$f":"Worksheet!AB469","v":0},0,{"$f":"IF(Worksheet!AJ469=0,0,Worksheet!AJ469*10/I450)","v":0},0,null,null,null,{"$f":"IFERROR(Worksheet!V469/(Worksheet!S469),0)","v":0},{"$f":"IF(Worksheet!E469=\"\",\"\",Worksheet!E469)","v":""},{"$f":"IF(Worksheet!B469=\"\",\"\",Worksheet!B469)","v":""},{"$f":"IF(Worksheet!D469=\"\",\"\",Worksheet!D469)","v":""}]
[{"$f":"IF(ISBLANK(Worksheet!F470)=FALSE,VLOOKUP(Worksheet!A470,MeasureCode_Lookup,6,FALSE),\"\")","v":""},{"$f":"Worksheet!H470","v":0},{"$f":"Worksheet!I470","v":0},{"$f":"IFERROR(IF(Worksheet!X470=0,Worksheet!W470/I451,Worksheet!X470/R451),0)","v":0},"W Controlled",null,null,{"$f":"IF(N(Worksheet!S470)=0,N(Worksheet!R470),N(Worksheet!S470))","v":0},{"$f":"IFERROR(Worksheet!U470/(Worksheet!R470),0)","v":0},{"$f":"Worksheet!AC470","v":0},{"$f":"Worksheet!AB470","v":0},{"$f":"J451*8","v":0},{"$f":"IF(Worksheet!AJ470=0,0,Worksheet!AJ470*10/I451)","v":0},{"$f":"M451*8","v":0},null,null,null,{"$f":"IFERROR(Worksheet!V470/(Worksheet!S470),0)","v":0},{"$f":"IF(Worksheet!E470=\"\",\"\",Worksheet!E470)","v":""},{"$f":"IF(Worksheet!B470=\"\",\"\",Worksheet!B470)","v":""},{"$f":"IF(Worksheet!D470=\"\",\"\",Worksheet!D470)","v":""}]
[{"$f":"IF(ISBLANK(Worksheet!F471)=FALSE,VLOOKUP(Worksheet!A471,MeasureCode_Lookup,6,FALSE),\"\")","v":""},{"$f":"Worksheet!H471","v":0},{"$f":"Worksheet!I471","v":0},{"$f":"IFERROR(IF(Worksheet!X471=0,Worksheet!W471/I452,Worksheet!X471/R452),0)","v":0},"W Controlled",null,null,{"$f":"IF(N(Worksheet!S471)=0,N(Worksheet!R471),N(Worksheet!S471))","v":0},{"$f":"IFERROR(Worksheet!U471/(Worksheet!R471),0)","v":0},{"$f":"Worksheet!AC471","v":0},{"$f":"Worksheet!AB471","v":0},0,{"$f":"IF(Worksheet!AJ471=0,0,Worksheet!AJ471*10/I452)","v":0},0,null,null,null,{"$f":"IFERROR(Worksheet!V471/(Worksheet!S471),0)","v":0},{"$f":"IF(Worksheet!E471=\"\",\"\",Worksheet!E471)","v":""},{"$f":"IF(Worksheet!B471=\"\",\"\",Worksheet!B471)","v":""},{"$f":"IF(Worksheet!D471=\"\",\"\",Worksheet!D471)","v":""}]
[{"$f":"IF(ISBLANK(Worksheet!F472)=FALSE,VLOOKUP(Worksheet!A472,MeasureCode_Lookup,6,FALSE),\"\")","v":""},{"$f":"Worksheet!H472","v":0},{"$f":"Worksheet!I472","v":0},{"$f":"IFERROR(IF(Worksheet!X472=0,Worksheet!W472/I453,Worksheet!X472/R453),0)","v":0},"W Controlled",null,null,{"$f":"IF(N(Worksheet!S472)=0,N(Worksheet!R472),N(Worksheet!S472))","v":0},{"$f":"IFERROR(Worksheet!U472/(Worksheet!R472),0)","v":0},{"$f":"Worksheet!AC472","v":0},{"$f":"Worksheet!AB472","v":0},0,{"$f":"IF(Worksheet!AJ472=0,0,Worksheet!AJ472*10/I453)","v":0},0,null,null,null,{"$f":"IFERROR(Worksheet!V472/(Worksheet!S472),0)","v":0},{"$f":"IF(Worksheet!E472=\"\",\"\",Worksheet!E472)","v":""},{"$f":"IF(Worksheet!B472=\"\",\"\",Worksheet!B472)","v":""},{"$f":"IF(Worksheet!D472=\"\",\"\",Worksheet!D472)","v":""}]
[{"$f":"IF(ISBLANK(Worksheet!F473)=FALSE,VLOOKUP(Worksheet!A473,MeasureCode_Lookup,6,FALSE),\"\")","v":""},{"$f":"Worksheet!H473","v":0},{"$f":"Worksheet!I473","v":0},{"$f":"IFERROR(IF(Worksheet!X473=0,Worksheet!W473/I454,Worksheet!X473/R454),0)","v":0},"W Controlled",null,null,{"$f":"IF(N(Worksheet!S473)=0,N(Worksheet!R473),N(Worksheet!S473))","v":0},{"$f":"IFERROR(Worksheet!U473/(Worksheet!R473),0)","v":0},{"$f":"Worksheet!AC473","v":0},{"$f":"Worksheet!AB473","v":0},0,{"$f":"IF(Worksheet!AJ473=0,0,Worksheet!AJ473*10/I454)","v":0},0,null,null,null,{"$f":"IFERROR(Worksheet!V473/(Worksheet!S473),0)","v":0},{"$f":"IF(Worksheet!E473=\"\",\"\",Worksheet!E473)","v":""},{"$f":"IF(Worksheet!B473=\"\",\"\",Worksheet!B473)","v":""},{"$f":"IF(Worksheet!D473=\"\",\"\",Worksheet!D473)","v":""}]
[{"$f":"IF(ISBLANK(Worksheet!F474)=FALSE,VLOOKUP(Worksheet!A474,MeasureCode_Lookup,6,FALSE),\"\")","v":""},{"$f":"Worksheet!H474","v":0},{"$f":"Worksheet!I474","v":0},{"$f":"IFERROR(IF(Worksheet!X474=0,Worksheet!W474/I455,Worksheet!X474/R455),0)","v":0},"W Controlled",null,null,{"$f":"IF(N(Worksheet!S474)=0,N(Worksheet!R474),N(Worksheet!S474))","v":0},{"$f":"IFERROR(Worksheet!U474/(Worksheet!R474),0)","v":0},{"$f":"Worksheet!AC474","v":0},{"$f":"Worksheet!AB474","v":0},0,{"$f":"IF(Worksheet!AJ474=0,0,Worksheet!AJ474*10/I455)","v":0},0,null,null,null,{"$f":"IFERROR(Worksheet!V474/(Worksheet!S474),0)","v":0},{"$f":"IF(Worksheet!E474=\"\",\"\",Worksheet!E474)","v":""},{"$f":"IF(Worksheet!B474=\"\",\"\",Worksheet!B474)","v":""},{"$f":"IF(Worksheet!D474=\"\",\"\",Worksheet!D474)","v":""}]
[{"$f":"IF(ISBLANK(Worksheet!F475)=FALSE,VLOOKUP(Worksheet!A475,MeasureCode_Lookup,6,FALSE),\"\")","v":""},{"$f":"Worksheet!H475","v":0},{"$f":"Worksheet!I475","v":0},{"$f":"IFERROR(IF(Worksheet!X475=0,Worksheet!W475/I456,Worksheet!X475/R456),0)","v":0},"W Controlled",null,null,{"$f":"IF(N(Worksheet!S475)=0,N(Worksheet!R475),N(Worksheet!S475))","v":0},{"$f":"IFERROR(Worksheet!U475/(Worksheet!R475),0)","v":0},{"$f":"Worksheet!AC475","v":0},{"$f":"Worksheet!AB475","v":0},0,{"$f":"IF(Worksheet!AJ475=0,0,Worksheet!AJ475*10/I456)","v":0},0,null,null,null,{"$f":"IFERROR(Worksheet!V475/(Worksheet!S475),0)","v":0},{"$f":"IF(Worksheet!E475=\"\",\"\",Worksheet!E475)","v":""},{"$f":"IF(Worksheet!B475=\"\",\"\",Worksheet!B475)","v":""},{"$f":"IF(Worksheet!D475=\"\",\"\",Worksheet!D475)","v":""}]
[{"$f":"IF(ISBLANK(Worksheet!F476)=FALSE,VLOOKUP(Worksheet!A476,MeasureCode_Lookup,6,FALSE),\"\")","v":""},{"$f":"Worksheet!H476","v":0},{"$f":"Worksheet!I476","v":0},{"$f":"IFERROR(IF(Worksheet!X476=0,Worksheet!W476/I457,Worksheet!X476/R457),0)","v":0},"W Controlled",null,null,{"$f":"IF(N(Worksheet!S476)=0,N(Worksheet!R476),N(Worksheet!S476))","v":0},{"$f":"IFERROR(Worksheet!U476/(Worksheet!R476),0)","v":0},{"$f":"Worksheet!AC476","v":0},{"$f":"Worksheet!AB476","v":0},0,{"$f":"IF(Worksheet!AJ476=0,0,Worksheet!AJ476*10/I457)","v":0},0,null,null,null,{"$f":"IFERROR(Worksheet!V476/(Worksheet!S476),0)","v":0},{"$f":"IF(Worksheet!E476=\"\",\"\",Worksheet!E476)","v":""},{"$f":"IF(Worksheet!B476=\"\",\"\",Worksheet!B476)","v":""},{"$f":"IF(Worksheet!D476=\"\",\"\",Worksheet!D476)","v":""}]
[{"$f":"IF(ISBLANK(Worksheet!F477)=FALSE,VLOOKUP(Worksheet!A477,MeasureCode_Lookup,6,FALSE),\"\")","v":""},{"$f":"Worksheet!H477","v":0},{"$f":"Worksheet!I477","v":0},{"$f":"IFERROR(IF(Worksheet!X477=0,Worksheet!W477/I458,Worksheet!X477/R458),0)","v":0},"W Controlled",null,null,{"$f":"IF(N(Worksheet!S477)=0,N(Worksheet!R477),N(Worksheet!S477))","v":0},{"$f":"IFERROR(Worksheet!U477/(Worksheet!R477),0)","v":0},{"$f":"Worksheet!AC477","v":0},{"$f":"Worksheet!AB477","v":0},0,{"$f":"IF(Worksheet!AJ477=0,0,Worksheet!AJ477*10/I458)","v":0},0,null,null,null,{"$f":"IFERROR(Worksheet!V477/(Worksheet!S477),0)","v":0},{"$f":"IF(Worksheet!E477=\"\",\"\",Worksheet!E477)","v":""},{"$f":"IF(Worksheet!B477=\"\",\"\",Worksheet!B477)","v":""},{"$f":"IF(Worksheet!D477=\"\",\"\",Worksheet!D477)","v":""}]
[{"$f":"IF(ISBLANK(Worksheet!F478)=FALSE,VLOOKUP(Worksheet!A478,MeasureCode_Lookup,6,FALSE),\"\")","v":""},{"$f":"Worksheet!H478","v":0},{"$f":"Worksheet!I478","v":0},{"$f":"IFERROR(IF(Worksheet!X478=0,Worksheet!W478/I459,Worksheet!X478/R459),0)","v":0},"W Controlled",null,null,{"$f":"IF(N(Worksheet!S478)=0,N(Worksheet!R478),N(Worksheet!S478))","v":0},{"$f":"IFERROR(Worksheet!U478/(Worksheet!R478),0)","v":0},{"$f":"Worksheet!AC478","v":0},{"$f":"Worksheet!AB478","v":0},0,{"$f":"IF(Worksheet!AJ478=0,0,Worksheet!AJ478*10/I459)","v":0},0,null,null,null,{"$f":"IFERROR(Worksheet!V478/(Worksheet!S478),0)","v":0},{"$f":"IF(Worksheet!E478=\"\",\"\",Worksheet!E478)","v":""},{"$f":"IF(Worksheet!B478=\"\",\"\",Worksheet!B478)","v":""},{"$f":"IF(Worksheet!D478=\"\",\"\",Worksheet!D478)","v":""}]
[{"$f":"IF(ISBLANK(Worksheet!F479)=FALSE,VLOOKUP(Worksheet!A479,MeasureCode_Lookup,6,FALSE),\"\")","v":""},{"$f":"Worksheet!H479","v":0},{"$f":"Worksheet!I479","v":0},{"$f":"IFERROR(IF(Worksheet!X479=0,Worksheet!W479/I460,Worksheet!X479/R460),0)","v":0},"W Controlled",null,null,{"$f":"IF(N(Worksheet!S479)=0,N(Worksheet!R479),N(Worksheet!S479))","v":0},{"$f":"IFERROR(Worksheet!U479/(Worksheet!R479),0)","v":0},{"$f":"Worksheet!AC479","v":0},{"$f":"Worksheet!AB479","v":0},0,{"$f":"IF(Worksheet!AJ479=0,0,Worksheet!AJ479*10/I460)","v":0},0,null,null,null,{"$f":"IFERROR(Worksheet!V479/(Worksheet!S479),0)","v":0},{"$f":"IF(Worksheet!E479=\"\",\"\",Worksheet!E479)","v":""},{"$f":"IF(Worksheet!B479=\"\",\"\",Worksheet!B479)","v":""},{"$f":"IF(Worksheet!D479=\"\",\"\",Worksheet!D479)","v":""}]
[{"$f":"IF(ISBLANK(Worksheet!F480)=FALSE,VLOOKUP(Worksheet!A480,MeasureCode_Lookup,6,FALSE),\"\")","v":""},{"$f":"Worksheet!H480","v":0},{"$f":"Worksheet!I480","v":0},{"$f":"IFERROR(IF(Worksheet!X480=0,Worksheet!W480/I461,Worksheet!X480/R461),0)","v":0},"W Controlled",null,null,{"$f":"IF(N(Worksheet!S480)=0,N(Worksheet!R480),N(Worksheet!S480))","v":0},{"$f":"IFERROR(Worksheet!U480/(Worksheet!R480),0)","v":0},{"$f":"Worksheet!AC480","v":0},{"$f":"Worksheet!AB480","v":0},0,{"$f":"IF(Worksheet!AJ480=0,0,Worksheet!AJ480*10/I461)","v":0},0,null,null,null,{"$f":"IFERROR(Worksheet!V480/(Worksheet!S480),0)","v":0},{"$f":"IF(Worksheet!E480=\"\",\"\",Worksheet!E480)","v":""},{"$f":"IF(Worksheet!B480=\"\",\"\",Worksheet!B480)","v":""},{"$f":"IF(Worksheet!D480=\"\",\"\",Worksheet!D480)","v":""}]
[{"$f":"IF(ISBLANK(Worksheet!F481)=FALSE,VLOOKUP(Worksheet!A481,MeasureCode_Lookup,6,FALSE),\"\")","v":""},{"$f":"Worksheet!H481","v":0},{"$f":"Worksheet!I481","v":0},{"$f":"IFERROR(IF(Worksheet!X481=0,Worksheet!W481/I462,Worksheet!X481/R462),0)","v":0},"W Controlled",null,null,{"$f":"IF(N(Worksheet!S481)=0,N(Worksheet!R481),N(Worksheet!S481))","v":0},{"$f":"IFERROR(Worksheet!U481/(Worksheet!R481),0)","v":0},{"$f":"Worksheet!AC481","v":0},{"$f":"Worksheet!AB481","v":0},0,{"$f":"IF(Worksheet!AJ481=0,0,Worksheet!AJ481*10/I462)","v":0},0,null,null,null,{"$f":"IFERROR(Worksheet!V481/(Worksheet!S481),0)","v":0},{"$f":"IF(Worksheet!E481=\"\",\"\",Worksheet!E481)","v":""},{"$f":"IF(Worksheet!B481=\"\",\"\",Worksheet!B481)","v":""},{"$f":"IF(Worksheet!D481=\"\",\"\",Worksheet!D481)","v":""}]
[{"$f":"IF(ISBLANK(Worksheet!F482)=FALSE,VLOOKUP(Worksheet!A482,MeasureCode_Lookup,6,FALSE),\"\")","v":""},{"$f":"Worksheet!H482","v":0},{"$f":"Worksheet!I482","v":0},{"$f":"IFERROR(IF(Worksheet!X482=0,Worksheet!W482/I463,Worksheet!X482/R463),0)","v":0},"W Controlled",null,null,{"$f":"IF(N(Worksheet!S482)=0,N(Worksheet!R482),N(Worksheet!S482))","v":0},{"$f":"IFERROR(Worksheet!U482/(Worksheet!R482),0)","v":0},{"$f":"Worksheet!AC482","v":0},{"$f":"Worksheet!AB482","v":0},0,{"$f":"IF(Worksheet!AJ482=0,0,Worksheet!AJ482*10/I463)","v":0},0,null,null,null,{"$f":"IFERROR(Worksheet!V482/(Worksheet!S482),0)","v":0},{"$f":"IF(Worksheet!E482=\"\",\"\",Worksheet!E482)","v":""},{"$f":"IF(Worksheet!B482=\"\",\"\",Worksheet!B482)","v":""},{"$f":"IF(Worksheet!D482=\"\",\"\",Worksheet!D482)","v":""}]
[{"$f":"IF(ISBLANK(Worksheet!F483)=FALSE,VLOOKUP(Worksheet!A483,MeasureCode_Lookup,6,FALSE),\"\")","v":""},{"$f":"Worksheet!H483","v":0},{"$f":"Worksheet!I483","v":0},{"$f":"IFERROR(IF(Worksheet!X483=0,Worksheet!W483/I464,Worksheet!X483/R464),0)","v":0},"W Controlled",null,null,{"$f":"IF(N(Worksheet!S483)=0,N(Worksheet!R483),N(Worksheet!S483))","v":0},{"$f":"IFERROR(Worksheet!U483/(Worksheet!R483),0)","v":0},{"$f":"Worksheet!AC483","v":0},{"$f":"Worksheet!AB483","v":0},0,{"$f":"IF(Worksheet!AJ483=0,0,Worksheet!AJ483*10/I464)","v":0},0,null,null,null,{"$f":"IFERROR(Worksheet!V483/(Worksheet!S483),0)","v":0},{"$f":"IF(Worksheet!E483=\"\",\"\",Worksheet!E483)","v":""},{"$f":"IF(Worksheet!B483=\"\",\"\",Worksheet!B483)","v":""},{"$f":"IF(Worksheet!D483=\"\",\"\",Worksheet!D483)","v":""}]
[{"$f":"IF(ISBLANK(Worksheet!F484)=FALSE,VLOOKUP(Worksheet!A484,MeasureCode_Lookup,6,FALSE),\"\")","v":""},{"$f":"Worksheet!H484","v":0},{"$f":"Worksheet!I484","v":0},{"$f":"IFERROR(IF(Worksheet!X484=0,Worksheet!W484/I465,Worksheet!X484/R465),0)","v":0},"W Controlled",null,null,{"$f":"IF(N(Worksheet!S484)=0,N(Worksheet!R484),N(Worksheet!S484))","v":0},{"$f":"IFERROR(Worksheet!U484/(Worksheet!R484),0)","v":0},{"$f":"Worksheet!AC484","v":0},{"$f":"Worksheet!AB484","v":0},0,{"$f":"IF(Worksheet!AJ484=0,0,Worksheet!AJ484*10/I465)","v":0},0,null,null,null,{"$f":"IFERROR(Worksheet!V484/(Worksheet!S484),0)","v":0},{"$f":"IF(Worksheet!E484=\"\",\"\",Worksheet!E484)","v":""},{"$f":"IF(Worksheet!B484=\"\",\"\",Worksheet!B484)","v":""},{"$f":"IF(Worksheet!D484=\"\",\"\",Worksheet!D484)","v":""}]
[{"$f":"IF(ISBLANK(Worksheet!F485)=FALSE,VLOOKUP(Worksheet!A485,MeasureCode_Lookup,6,FALSE),\"\")","v":""},{"$f":"Worksheet!H485","v":0},{"$f":"Worksheet!I485","v":0},{"$f":"IFERROR(IF(Worksheet!X485=0,Worksheet!W485/I466,Worksheet!X485/R466),0)","v":0},"W Controlled",null,null,{"$f":"IF(N(Worksheet!S485)=0,N(Worksheet!R485),N(Worksheet!S485))","v":0},{"$f":"IFERROR(Worksheet!U485/(Worksheet!R485),0)","v":0},{"$f":"Worksheet!AC485","v":0},{"$f":"Worksheet!AB485","v":0},0,{"$f":"IF(Worksheet!AJ485=0,0,Worksheet!AJ485*10/I466)","v":0},0,null,null,null,{"$f":"IFERROR(Worksheet!V485/(Worksheet!S485),0)","v":0},{"$f":"IF(Worksheet!E485=\"\",\"\",Worksheet!E485)","v":""},{"$f":"IF(Worksheet!B485=\"\",\"\",Worksheet!B485)","v":""},{"$f":"IF(Worksheet!D485=\"\",\"\",Worksheet!D485)","v":""}]
[{"$f":"IF(ISBLANK(Worksheet!F486)=FALSE,VLOOKUP(Worksheet!A486,MeasureCode_Lookup,6,FALSE),\"\")","v":""},{"$f":"Worksheet!H486","v":0},{"$f":"Worksheet!I486","v":0},{"$f":"IFERROR(IF(Worksheet!X486=0,Worksheet!W486/I467,Worksheet!X486/R467),0)","v":0},"W Controlled",null,null,{"$f":"IF(N(Worksheet!S486)=0,N(Worksheet!R486),N(Worksheet!S486))","v":0},{"$f":"IFERROR(Worksheet!U486/(Worksheet!R486),0)","v":0},{"$f":"Worksheet!AC486","v":0},{"$f":"Worksheet!AB486","v":0},0,{"$f":"IF(Worksheet!AJ486=0,0,Worksheet!AJ486*10/I467)","v":0},0,null,null,null,{"$f":"IFERROR(Worksheet!V486/(Worksheet!S486),0)","v":0},{"$f":"IF(Worksheet!E486=\"\",\"\",Worksheet!E486)","v":""},{"$f":"IF(Worksheet!B486=\"\",\"\",Worksheet!B486)","v":""},{"$f":"IF(Worksheet!D486=\"\",\"\",Worksheet!D486)","v":""}]
[{"$f":"IF(ISBLANK(Worksheet!F487)=FALSE,VLOOKUP(Worksheet!A487,MeasureCode_Lookup,6,FALSE),\"\")","v":""},{"$f":"Worksheet!H487","v":0},{"$f":"Worksheet!I487","v":0},{"$f":"IFERROR(IF(Worksheet!X487=0,Worksheet!W487/I468,Worksheet!X487/R468),0)","v":0},"W Controlled",null,null,{"$f":"IF(N(Worksheet!S487)=0,N(Worksheet!R487),N(Worksheet!S487))","v":0},{"$f":"IFERROR(Worksheet!U487/(Worksheet!R487),0)","v":0},{"$f":"Worksheet!AC487","v":0},{"$f":"Worksheet!AB487","v":0},0,{"$f":"IF(Worksheet!AJ487=0,0,Worksheet!AJ487*10/I468)","v":0},0,null,null,null,{"$f":"IFERROR(Worksheet!V487/(Worksheet!S487),0)","v":0},{"$f":"IF(Worksheet!E487=\"\",\"\",Worksheet!E487)","v":""},{"$f":"IF(Worksheet!B487=\"\",\"\",Worksheet!B487)","v":""},{"$f":"IF(Worksheet!D487=\"\",\"\",Worksheet!D487)","v":""}]
[{"$f":"IF(ISBLANK(Worksheet!F488)=FALSE,VLOOKUP(Worksheet!A488,MeasureCode_Lookup,6,FALSE),\"\")","v":""},{"$f":"Worksheet!H488","v":0},{"$f":"Worksheet!I488","v":0},{"$f":"IFERROR(IF(Worksheet!X488=0,Worksheet!W488/I469,Worksheet!X488/R469),0)","v":0},"W Controlled",null,null,{"$f":"IF(N(Worksheet!S488)=0,N(Worksheet!R488),N(Worksheet!S488))","v":0},{"$f":"IFERROR(Worksheet!U488/(Worksheet!R488),0)","v":0},{"$f":"Worksheet!AC488","v":0},{"$f":"Worksheet!AB488","v":0},0,{"$f":"IF(Worksheet!AJ488=0,0,Worksheet!AJ488*10/I469)","v":0},0,null,null,null,{"$f":"IFERROR(Worksheet!V488/(Worksheet!S488),0)","v":0},{"$f":"IF(Worksheet!E488=\"\",\"\",Worksheet!E488)","v":""},{"$f":"IF(Worksheet!B488=\"\",\"\",Worksheet!B488)","v":""},{"$f":"IF(Worksheet!D488=\"\",\"\",Worksheet!D488)","v":""}]
[{"$f":"IF(ISBLANK(Worksheet!F489)=FALSE,VLOOKUP(Worksheet!A489,MeasureCode_Lookup,6,FALSE),\"\")","v":""},{"$f":"Worksheet!H489","v":0},{"$f":"Worksheet!I489","v":0},{"$f":"IFERROR(IF(Worksheet!X489=0,Worksheet!W489/I470,Worksheet!X489/R470),0)","v":0},"W Controlled",null,null,{"$f":"IF(N(Worksheet!S489)=0,N(Worksheet!R489),N(Worksheet!S489))","v":0},{"$f":"IFERROR(Worksheet!U489/(Worksheet!R489),0)","v":0},{"$f":"Worksheet!AC489","v":0},{"$f":"Worksheet!AB489","v":0},0,{"$f":"IF(Worksheet!AJ489=0,0,Worksheet!AJ489*10/I470)","v":0},0,null,null,null,{"$f":"IFERROR(Worksheet!V489/(Worksheet!S489),0)","v":0},{"$f":"IF(Worksheet!E489=\"\",\"\",Worksheet!E489)","v":""},{"$f":"IF(Worksheet!B489=\"\",\"\",Worksheet!B489)","v":""},{"$f":"IF(Worksheet!D489=\"\",\"\",Worksheet!D489)","v":""}]
[{"$f":"IF(ISBLANK(Worksheet!F490)=FALSE,VLOOKUP(Worksheet!A490,MeasureCode_Lookup,6,FALSE),\"\")","v":""},{"$f":"Worksheet!H490","v":0},{"$f":"Worksheet!I490","v":0},{"$f":"IFERROR(IF(Worksheet!X490=0,Worksheet!W490/I471,Worksheet!X490/R471),0)","v":0},"W Controlled",null,null,{"$f":"IF(N(Worksheet!S490)=0,N(Worksheet!R490),N(Worksheet!S490))","v":0},{"$f":"IFERROR(Worksheet!U490/(Worksheet!R490),0)","v":0},{"$f":"Worksheet!AC490","v":0},{"$f":"Worksheet!AB490","v":0},0,{"$f":"IF(Worksheet!AJ490=0,0,Worksheet!AJ490*10/I471)","v":0},0,null,null,null,{"$f":"IFERROR(Worksheet!V490/(Worksheet!S490),0)","v":0},{"$f":"IF(Worksheet!E490=\"\",\"\",Worksheet!E490)","v":""},{"$f":"IF(Worksheet!B490=\"\",\"\",Worksheet!B490)","v":""},{"$f":"IF(Worksheet!D490=\"\",\"\",Worksheet!D490)","v":""}]
[{"$f":"IF(ISBLANK(Worksheet!F491)=FALSE,VLOOKUP(Worksheet!A491,MeasureCode_Lookup,6,FALSE),\"\")","v":""},{"$f":"Worksheet!H491","v":0},{"$f":"Worksheet!I491","v":0},{"$f":"IFERROR(IF(Worksheet!X491=0,Worksheet!W491/I472,Worksheet!X491/R472),0)","v":0},"W Controlled",null,null,{"$f":"IF(N(Worksheet!S491)=0,N(Worksheet!R491),N(Worksheet!S491))","v":0},{"$f":"IFERROR(Worksheet!U491/(Worksheet!R491),0)","v":0},{"$f":"Worksheet!AC491","v":0},{"$f":"Worksheet!AB491","v":0},0,{"$f":"IF(Worksheet!AJ491=0,0,Worksheet!AJ491*10/I472)","v":0},0,null,null,null,{"$f":"IFERROR(Worksheet!V491/(Worksheet!S491),0)","v":0},{"$f":"IF(Worksheet!E491=\"\",\"\",Worksheet!E491)","v":""},{"$f":"IF(Worksheet!B491=\"\",\"\",Worksheet!B491)","v":""},{"$f":"IF(Worksheet!D491=\"\",\"\",Worksheet!D491)","v":""}]
[{"$f":"IF(ISBLANK(Worksheet!F492)=FALSE,VLOOKUP(Worksheet!A492,MeasureCode_Lookup,6,FALSE),\"\")","v":""},{"$f":"Worksheet!H492","v":0},{"$f":"Worksheet!I492","v":0},{"$f":"IFERROR(IF(Worksheet!X492=0,Worksheet!W492/I473,Worksheet!X492/R473),0)","v":0},"W Controlled",null,null,{"$f":"IF(N(Worksheet!S492)=0,N(Worksheet!R492),N(Worksheet!S492))","v":0},{"$f":"IFERROR(Worksheet!U492/(Worksheet!R492),0)","v":0},{"$f":"Worksheet!AC492","v":0},{"$f":"Worksheet!AB492","v":0},0,{"$f":"IF(Worksheet!AJ492=0,0,Worksheet!AJ492*10/I473)","v":0},0,null,null,null,{"$f":"IFERROR(Worksheet!V492/(Worksheet!S492),0)","v":0},{"$f":"IF(Worksheet!E492=\"\",\"\",Worksheet!E492)","v":""},{"$f":"IF(Worksheet!B492=\"\",\"\",Worksheet!B492)","v":""},{"$f":"IF(Worksheet!D492=\"\",\"\",Worksheet!D492)","v":""}]
[{"$f":"IF(ISBLANK(Worksheet!F493)=FALSE,VLOOKUP(Worksheet!A493,MeasureCode_Lookup,6,FALSE),\"\")","v":""},{"$f":"Worksheet!H493","v":0},{"$f":"Worksheet!I493","v":0},{"$f":"IFERROR(IF(Worksheet!X493=0,Worksheet!W493/I474,Worksheet!X493/R474),0)","v":0},"W Controlled",null,null,{"$f":"IF(N(Worksheet!S493)=0,N(Worksheet!R493),N(Worksheet!S493))","v":0},{"$f":"IFERROR(Worksheet!U493/(Worksheet!R493),0)","v":0},{"$f":"Worksheet!AC493","v":0},{"$f":"Worksheet!AB493","v":0},0,{"$f":"IF(Worksheet!AJ493=0,0,Worksheet!AJ493*10/I474)","v":0},0,null,null,null,{"$f":"IFERROR(Worksheet!V493/(Worksheet!S493),0)","v":0},{"$f":"IF(Worksheet!E493=\"\",\"\",Worksheet!E493)","v":""},{"$f":"IF(Worksheet!B493=\"\",\"\",Worksheet!B493)","v":""},{"$f":"IF(Worksheet!D493=\"\",\"\",Worksheet!D493)","v":""}]
[{"$f":"IF(ISBLANK(Worksheet!F494)=FALSE,VLOOKUP(Worksheet!A494,MeasureCode_Lookup,6,FALSE),\"\")","v":""},{"$f":"Worksheet!H494","v":0},{"$f":"Worksheet!I494","v":0},{"$f":"IFERROR(IF(Worksheet!X494=0,Worksheet!W494/I475,Worksheet!X494/R475),0)","v":0},"W Controlled",null,null,{"$f":"IF(N(Worksheet!S494)=0,N(Worksheet!R494),N(Worksheet!S494))","v":0},{"$f":"IFERROR(Worksheet!U494/(Worksheet!R494),0)","v":0},{"$f":"Worksheet!AC494","v":0},{"$f":"Worksheet!AB494","v":0},0,{"$f":"IF(Worksheet!AJ494=0,0,Worksheet!AJ494*10/I475)","v":0},0,null,null,null,{"$f":"IFERROR(Worksheet!V494/(Worksheet!S494),0)","v":0},{"$f":"IF(Worksheet!E494=\"\",\"\",Worksheet!E494)","v":""},{"$f":"IF(Worksheet!B494=\"\",\"\",Worksheet!B494)","v":""},{"$f":"IF(Worksheet!D494=\"\",\"\",Worksheet!D494)","v":""}]
[{"$f":"IF(ISBLANK(Worksheet!F495)=FALSE,VLOOKUP(Worksheet!A495,MeasureCode_Lookup,6,FALSE),\"\")","v":""},{"$f":"Worksheet!H495","v":0},{"$f":"Worksheet!I495","v":0},{"$f":"IFERROR(IF(Worksheet!X495=0,Worksheet!W495/I476,Worksheet!X495/R476),0)","v":0},"W Controlled",null,null,{"$f":"IF(N(Worksheet!S495)=0,N(Worksheet!R495),N(Worksheet!S495))","v":0},{"$f":"IFERROR(Worksheet!U495/(Worksheet!R495),0)","v":0},{"$f":"Worksheet!AC495","v":0},{"$f":"Worksheet!AB495","v":0},0,{"$f":"IF(Worksheet!AJ495=0,0,Worksheet!AJ495*10/I476)","v":0},0,null,null,null,{"$f":"IFERROR(Worksheet!V495/(Worksheet!S495),0)","v":0},{"$f":"IF(Worksheet!E495=\"\",\"\",Worksheet!E495)","v":""},{"$f":"IF(Worksheet!B495=\"\",\"\",Worksheet!B495)","v":""},{"$f":"IF(Worksheet!D495=\"\",\"\",Worksheet!D495)","v":""}]
[{"$f":"IF(ISBLANK(Worksheet!F496)=FALSE,VLOOKUP(Worksheet!A496,MeasureCode_Lookup,6,FALSE),\"\")","v":""},{"$f":"Worksheet!H496","v":0},{"$f":"Worksheet!I496","v":0},{"$f":"IFERROR(IF(Worksheet!X496=0,Worksheet!W496/I477,Worksheet!X496/R477),0)","v":0},"W Controlled",null,null,{"$f":"IF(N(Worksheet!S496)=0,N(Worksheet!R496),N(Worksheet!S496))","v":0},{"$f":"IFERROR(Worksheet!U496/(Worksheet!R496),0)","v":0},{"$f":"Worksheet!AC496","v":0},{"$f":"Worksheet!AB496","v":0},0,{"$f":"IF(Worksheet!AJ496=0,0,Worksheet!AJ496*10/I477)","v":0},0,null,null,null,{"$f":"IFERROR(Worksheet!V496/(Worksheet!S496),0)","v":0},{"$f":"IF(Worksheet!E496=\"\",\"\",Worksheet!E496)","v":""},{"$f":"IF(Worksheet!B496=\"\",\"\",Worksheet!B496)","v":""},{"$f":"IF(Worksheet!D496=\"\",\"\",Worksheet!D496)","v":""}]
[{"$f":"IF(ISBLANK(Worksheet!F497)=FALSE,VLOOKUP(Worksheet!A497,MeasureCode_Lookup,6,FALSE),\"\")","v":""},{"$f":"Worksheet!H497","v":0},{"$f":"Worksheet!I497","v":0},{"$f":"IFERROR(IF(Worksheet!X497=0,Worksheet!W497/I478,Worksheet!X497/R478),0)","v":0},"W Controlled",null,null,{"$f":"IF(N(Worksheet!S497)=0,N(Worksheet!R497),N(Worksheet!S497))","v":0},{"$f":"IFERROR(Worksheet!U497/(Worksheet!R497),0)","v":0},{"$f":"Worksheet!AC497","v":0},{"$f":"Worksheet!AB497","v":0},0,{"$f":"IF(Worksheet!AJ497=0,0,Worksheet!AJ497*10/I478)","v":0},0,null,null,null,{"$f":"IFERROR(Worksheet!V497/(Worksheet!S497),0)","v":0},{"$f":"IF(Worksheet!E497=\"\",\"\",Worksheet!E497)","v":""},{"$f":"IF(Worksheet!B497=\"\",\"\",Worksheet!B497)","v":""},{"$f":"IF(Worksheet!D497=\"\",\"\",Worksheet!D497)","v":""}]
[{"$f":"IF(ISBLANK(Worksheet!F498)=FALSE,VLOOKUP(Worksheet!A498,MeasureCode_Lookup,6,FALSE),\"\")","v":""},{"$f":"Worksheet!H498","v":0},{"$f":"Worksheet!I498","v":0},{"$f":"IFERROR(IF(Worksheet!X498=0,Worksheet!W498/I479,Worksheet!X498/R479),0)","v":0},"W Controlled",null,null,{"$f":"IF(N(Worksheet!S498)=0,N(Worksheet!R498),N(Worksheet!S498))","v":0},{"$f":"IFERROR(Worksheet!U498/(Worksheet!R498),0)","v":0},{"$f":"Worksheet!AC498","v":0},{"$f":"Worksheet!AB498","v":0},0,{"$f":"IF(Worksheet!AJ498=0,0,Worksheet!AJ498*10/I479)","v":0},0,null,null,null,{"$f":"IFERROR(Worksheet!V498/(Worksheet!S498),0)","v":0},{"$f":"IF(Worksheet!E498=\"\",\"\",Worksheet!E498)","v":""},{"$f":"IF(Worksheet!B498=\"\",\"\",Worksheet!B498)","v":""},{"$f":"IF(Worksheet!D498=\"\",\"\",Worksheet!D498)","v":""}]
[{"$f":"IF(ISBLANK(Worksheet!F499)=FALSE,VLOOKUP(Worksheet!A499,MeasureCode_Lookup,6,FALSE),\"\")","v":""},{"$f":"Worksheet!H499","v":0},{"$f":"Worksheet!I499","v":0},{"$f":"IFERROR(IF(Worksheet!X499=0,Worksheet!W499/I480,Worksheet!X499/R480),0)","v":0},"W Controlled",null,null,{"$f":"IF(N(Worksheet!S499)=0,N(Worksheet!R499),N(Worksheet!S499))","v":0},{"$f":"IFERROR(Worksheet!U499/(Worksheet!R499),0)","v":0},{"$f":"Worksheet!AC499","v":0},{"$f":"Worksheet!AB499","v":0},0,{"$f":"IF(Worksheet!AJ499=0,0,Worksheet!AJ499*10/I480)","v":0},0,null,null,null,{"$f":"IFERROR(Worksheet!V499/(Worksheet!S499),0)","v":0},{"$f":"IF(Worksheet!E499=\"\",\"\",Worksheet!E499)","v":""},{"$f":"IF(Worksheet!B499=\"\",\"\",Worksheet!B499)","v":""},{"$f":"IF(Worksheet!D499=\"\",\"\",Worksheet!D499)","v":""}]
[{"$f":"IF(ISBLANK(Worksheet!F500)=FALSE,VLOOKUP(Worksheet!A500,MeasureCode_Lookup,6,FALSE),\"\")","v":""},{"$f":"Worksheet!H500","v":0},{"$f":"Worksheet!I500","v":0},{"$f":"IFERROR(IF(Worksheet!X500=0,Worksheet!W500/I481,Worksheet!X500/R481),0)","v":0},"W Controlled",null,null,{"$f":"IF(N(Worksheet!S500)=0,N(Worksheet!R500),N(Worksheet!S500))","v":0},{"$f":"IFERROR(Worksheet!U500/(Worksheet!R500),0)","v":0},{"$f":"Worksheet!AC500","v":0},{"$f":"Worksheet!AB500","v":0},0,{"$f":"IF(Worksheet!AJ500=0,0,Worksheet!AJ500*10/I481)","v":0},0,null,null,null,{"$f":"IFERROR(Worksheet!V500/(Worksheet!S500),0)","v":0},{"$f":"IF(Worksheet!E500=\"\",\"\",Worksheet!E500)","v":""},{"$f":"IF(Worksheet!B500=\"\",\"\",Worksheet!B500)","v":""},{"$f":"IF(Worksheet!D500=\"\",\"\",Worksheet!D500)","v":""}]
[{"$f":"IF(ISBLANK(Worksheet!F501)=FALSE,VLOOKUP(Worksheet!A501,MeasureCode_Lookup,6,FALSE),\"\")","v":""},{"$f":"Worksheet!H501","v":0},{"$f":"Worksheet!I501","v":0},{"$f":"IFERROR(IF(Worksheet!X501=0,Worksheet!W501/I482,Worksheet!X501/R482),0)","v":0},"W Controlled",null,null,{"$f":"IF(N(Worksheet!S501)=0,N(Worksheet!R501),N(Worksheet!S501))","v":0},{"$f":"IFERROR(Worksheet!U501/(Worksheet!R501),0)","v":0},{"$f":"Worksheet!AC501","v":0},{"$f":"Worksheet!AB501","v":0},0,{"$f":"IF(Worksheet!AJ501=0,0,Worksheet!AJ501*10/I482)","v":0},0,null,null,null,{"$f":"IFERROR(Worksheet!V501/(Worksheet!S501),0)","v":0},{"$f":"IF(Worksheet!E501=\"\",\"\",Worksheet!E501)","v":""},{"$f":"IF(Worksheet!B501=\"\",\"\",Worksheet!B501)","v":""},{"$f":"IF(Worksheet!D501=\"\",\"\",Worksheet!D501)","v":""}]
[{"$f":"IF(ISBLANK(Worksheet!F502)=FALSE,VLOOKUP(Worksheet!A502,MeasureCode_Lookup,6,FALSE),\"\")","v":""},{"$f":"Worksheet!H502","v":0},{"$f":"Worksheet!I502","v":0},{"$f":"IFERROR(IF(Worksheet!X502=0,Worksheet!W502/I483,Worksheet!X502/R483),0)","v":0},"W Controlled",null,null,{"$f":"IF(N(Worksheet!S502)=0,N(Worksheet!R502),N(Worksheet!S502))","v":0},{"$f":"IFERROR(Worksheet!U502/(Worksheet!R502),0)","v":0},{"$f":"Worksheet!AC502","v":0},{"$f":"Worksheet!AB502","v":0},0,{"$f":"IF(Worksheet!AJ502=0,0,Worksheet!AJ502*10/I483)","v":0},0,null,null,null,{"$f":"IFERROR(Worksheet!V502/(Worksheet!S502),0)","v":0},{"$f":"IF(Worksheet!E502=\"\",\"\",Worksheet!E502)","v":""},{"$f":"IF(Worksheet!B502=\"\",\"\",Worksheet!B502)","v":""},{"$f":"IF(Worksheet!D502=\"\",\"\",Worksheet!D502)","v":""}]
[{"$f":"IF(ISBLANK(Worksheet!F503)=FALSE,VLOOKUP(Worksheet!A503,MeasureCode_Lookup,6,FALSE),\"\")","v":""},{"$f":"Worksheet!H503","v":0},{"$f":"Worksheet!I503","v":0},{"$f":"IFERROR(IF(Worksheet!X503=0,Worksheet!W503/I484,Worksheet!X503/R484),0)","v":0},"W Controlled",null,null,{"$f":"IF(N(Worksheet!S503)=0,N(Worksheet!R503),N(Worksheet!S503))","v":0},{"$f":"IFERROR(Worksheet!U503/(Worksheet!R503),0)","v":0},{"$f":"Worksheet!AC503","v":0},{"$f":"Worksheet!AB503","v":0},0,{"$f":"IF(Worksheet!AJ503=0,0,Worksheet!AJ503*10/I484)","v":0},0,null,null,null,{"$f":"IFERROR(Worksheet!V503/(Worksheet!S503),0)","v":0},{"$f":"IF(Worksheet!E503=\"\",\"\",Worksheet!E503)","v":""},{"$f":"IF(Worksheet!B503=\"\",\"\",Worksheet!B503)","v":""},{"$f":"IF(Worksheet!D503=\"\",\"\",Worksheet!D503)","v":""}]
[{"$f":"IF(ISBLANK(Worksheet!F504)=FALSE,VLOOKUP(Worksheet!A504,MeasureCode_Lookup,6,FALSE),\"\")","v":""},{"$f":"Worksheet!H504","v":0},{"$f":"Worksheet!I504","v":0},{"$f":"IFERROR(IF(Worksheet!X504=0,Worksheet!W504/I485,Worksheet!X504/R485),0)","v":0},"W Controlled",null,null,{"$f":"IF(N(Worksheet!S504)=0,N(Worksheet!R504),N(Worksheet!S504))","v":0},{"$f":"IFERROR(Worksheet!U504/(Worksheet!R504),0)","v":0},{"$f":"Worksheet!AC504","v":0},{"$f":"Worksheet!AB504","v":0},0,{"$f":"IF(Worksheet!AJ504=0,0,Worksheet!AJ504*10/I485)","v":0},0,null,null,null,{"$f":"IFERROR(Worksheet!V504/(Worksheet!S504),0)","v":0},{"$f":"IF(Worksheet!E504=\"\",\"\",Worksheet!E504)","v":""},{"$f":"IF(Worksheet!B504=\"\",\"\",Worksheet!B504)","v":""},{"$f":"IF(Worksheet!D504=\"\",\"\",Worksheet!D504)","v":""}]
[{"$f":"IF(ISBLANK(Worksheet!F505)=FALSE,VLOOKUP(Worksheet!A505,MeasureCode_Lookup,6,FALSE),\"\")","v":""},{"$f":"Worksheet!H505","v":0},{"$f":"Worksheet!I505","v":0},{"$f":"IFERROR(IF(Worksheet!X505=0,Worksheet!W505/I486,Worksheet!X505/R486),0)","v":0},"W Controlled",null,null,{"$f":"IF(N(Worksheet!S505)=0,N(Worksheet!R505),N(Worksheet!S505))","v":0},{"$f":"IFERROR(Worksheet!U505/(Worksheet!R505),0)","v":0},{"$f":"Worksheet!AC505","v":0},{"$f":"Worksheet!AB505","v":0},0,{"$f":"IF(Worksheet!AJ505=0,0,Worksheet!AJ505*10/I486)","v":0},0,null,null,null,{"$f":"IFERROR(Worksheet!V505/(Worksheet!S505),0)","v":0},{"$f":"IF(Worksheet!E505=\"\",\"\",Worksheet!E505)","v":""},{"$f":"IF(Worksheet!B505=\"\",\"\",Worksheet!B505)","v":""},{"$f":"IF(Worksheet!D505=\"\",\"\",Worksheet!D505)","v":""}]
[{"$f":"IF(ISBLANK(Worksheet!F506)=FALSE,VLOOKUP(Worksheet!A506,MeasureCode_Lookup,6,FALSE),\"\")","v":""},{"$f":"Worksheet!H506","v":0},{"$f":"Worksheet!I506","v":0},{"$f":"IFERROR(IF(Worksheet!X506=0,Worksheet!W506/I487,Worksheet!X506/R487),0)","v":0},"W Controlled",null,null,{"$f":"IF(N(Worksheet!S506)=0,N(Worksheet!R506),N(Worksheet!S506))","v":0},{"$f":"IFERROR(Worksheet!U506/(Worksheet!R506),0)","v":0},{"$f":"Worksheet!AC506","v":0},{"$f":"Worksheet!AB506","v":0},0,{"$f":"IF(Worksheet!AJ506=0,0,Worksheet!AJ506*10/I487)","v":0},0,null,null,null,{"$f":"IFERROR(Worksheet!V506/(Worksheet!S506),0)","v":0},{"$f":"IF(Worksheet!E506=\"\",\"\",Worksheet!E506)","v":""},{"$f":"IF(Worksheet!B506=\"\",\"\",Worksheet!B506)","v":""},{"$f":"IF(Worksheet!D506=\"\",\"\",Worksheet!D506)","v":""}]
[{"$f":"IF(ISBLANK(Worksheet!F507)=FALSE,VLOOKUP(Worksheet!A507,MeasureCode_Lookup,6,FALSE),\"\")","v":""},{"$f":"Worksheet!H507","v":0},{"$f":"Worksheet!I507","v":0},{"$f":"IFERROR(IF(Worksheet!X507=0,Worksheet!W507/I488,Worksheet!X507/R488),0)","v":0},"W Controlled",null,null,{"$f":"IF(N(Worksheet!S507)=0,N(Worksheet!R507),N(Worksheet!S507))","v":0},{"$f":"IFERROR(Worksheet!U507/(Worksheet!R507),0)","v":0},{"$f":"Worksheet!AC507","v":0},{"$f":"Worksheet!AB507","v":0},0,{"$f":"IF(Worksheet!AJ507=0,0,Worksheet!AJ507*10/I488)","v":0},0,null,null,null,{"$f":"IFERROR(Worksheet!V507/(Worksheet!S507),0)","v":0},{"$f":"IF(Worksheet!E507=\"\",\"\",Worksheet!E507)","v":""},{"$f":"IF(Worksheet!B507=\"\",\"\",Worksheet!B507)","v":""},{"$f":"IF(Worksheet!D507=\"\",\"\",Worksheet!D507)","v":""}]
[{"$f":"IF(ISBLANK(Worksheet!F508)=FALSE,VLOOKUP(Worksheet!A508,MeasureCode_Lookup,6,FALSE),\"\")","v":""},{"$f":"Worksheet!H508","v":0},{"$f":"Worksheet!I508","v":0},{"$f":"IFERROR(IF(Worksheet!X508=0,Worksheet!W508/I489,Worksheet!X508/R489),0)","v":0},"W Controlled",null,null,{"$f":"IF(N(Worksheet!S508)=0,N(Worksheet!R508),N(Worksheet!S508))","v":0},{"$f":"IFERROR(Worksheet!U508/(Worksheet!R508),0)","v":0},{"$f":"Worksheet!AC508","v":0},{"$f":"Worksheet!AB508","v":0},0,{"$f":"IF(Worksheet!AJ508=0,0,Worksheet!AJ508*10/I489)","v":0},0,null,null,null,{"$f":"IFERROR(Worksheet!V508/(Worksheet!S508),0)","v":0},{"$f":"IF(Worksheet!E508=\"\",\"\",Worksheet!E508)","v":""},{"$f":"IF(Worksheet!B508=\"\",\"\",Worksheet!B508)","v":""},{"$f":"IF(Worksheet!D508=\"\",\"\",Worksheet!D508)","v":""}]
[{"$f":"IF(ISBLANK(Worksheet!F509)=FALSE,VLOOKUP(Worksheet!A509,MeasureCode_Lookup,6,FALSE),\"\")","v":""},{"$f":"Worksheet!H509","v":0},{"$f":"Worksheet!I509","v":0},{"$f":"IFERROR(IF(Worksheet!X509=0,Worksheet!W509/I490,Worksheet!X509/R490),0)","v":0},"W Controlled",null,null,{"$f":"IF(N(Worksheet!S509)=0,N(Worksheet!R509),N(Worksheet!S509))","v":0},{"$f":"IFERROR(Worksheet!U509/(Worksheet!R509),0)","v":0},{"$f":"Worksheet!AC509","v":0},{"$f":"Worksheet!AB509","v":0},0,{"$f":"IF(Worksheet!AJ509=0,0,Worksheet!AJ509*10/I490)","v":0},0,null,null,null,{"$f":"IFERROR(Worksheet!V509/(Worksheet!S509),0)","v":0},{"$f":"IF(Worksheet!E509=\"\",\"\",Worksheet!E509)","v":""},{"$f":"IF(Worksheet!B509=\"\",\"\",Worksheet!B509)","v":""},{"$f":"IF(Worksheet!D509=\"\",\"\",Worksheet!D509)","v":""}]
[{"$f":"IF(ISBLANK(Worksheet!F510)=FALSE,VLOOKUP(Worksheet!A510,MeasureCode_Lookup,6,FALSE),\"\")","v":""},{"$f":"Worksheet!H510","v":0},{"$f":"Worksheet!I510","v":0},{"$f":"IFERROR(IF(Worksheet!X510=0,Worksheet!W510/I491,Worksheet!X510/R491),0)","v":0},"W Controlled",null,null,{"$f":"IF(N(Worksheet!S510)=0,N(Worksheet!R510),N(Worksheet!S510))","v":0},{"$f":"IFERROR(Worksheet!U510/(Worksheet!R510),0)","v":0},{"$f":"Worksheet!AC510","v":0},{"$f":"Worksheet!AB510","v":0},0,{"$f":"IF(Worksheet!AJ510=0,0,Worksheet!AJ510*10/I491)","v":0},0,null,null,null,{"$f":"IFERROR(Worksheet!V510/(Worksheet!S510),0)","v":0},{"$f":"IF(Worksheet!E510=\"\",\"\",Worksheet!E510)","v":""},{"$f":"IF(Worksheet!B510=\"\",\"\",Worksheet!B510)","v":""},{"$f":"IF(Worksheet!D510=\"\",\"\",Worksheet!D510)","v":""}]
[{"$f":"IF(ISBLANK(Worksheet!F511)=FALSE,VLOOKUP(Worksheet!A511,MeasureCode_Lookup,6,FALSE),\"\")","v":""},{"$f":"Worksheet!H511","v":0},{"$f":"Worksheet!I511","v":0},{"$f":"IFERROR(IF(Worksheet!X511=0,Worksheet!W511/I492,Worksheet!X511/R492),0)","v":0},"W Controlled",null,null,{"$f":"IF(N(Worksheet!S511)=0,N(Worksheet!R511),N(Worksheet!S511))","v":0},{"$f":"IFERROR(Worksheet!U511/(Worksheet!R511),0)","v":0},{"$f":"Worksheet!AC511","v":0},{"$f":"Worksheet!AB511","v":0},0,{"$f":"IF(Worksheet!AJ511=0,0,Worksheet!AJ511*10/I492)","v":0},0,null,null,null,{"$f":"IFERROR(Worksheet!V511/(Worksheet!S511),0)","v":0},{"$f":"IF(Worksheet!E511=\"\",\"\",Worksheet!E511)","v":""},{"$f":"IF(Worksheet!B511=\"\",\"\",Worksheet!B511)","v":""},{"$f":"IF(Worksheet!D511=\"\",\"\",Worksheet!D511)","v":""}]
[{"$f":"IF(ISBLANK(Worksheet!F512)=FALSE,VLOOKUP(Worksheet!A512,MeasureCode_Lookup,6,FALSE),\"\")","v":""},{"$f":"Worksheet!H512","v":0},{"$f":"Worksheet!I512","v":0},{"$f":"IFERROR(IF(Worksheet!X512=0,Worksheet!W512/I493,Worksheet!X512/R493),0)","v":0},"W Controlled",null,null,{"$f":"IF(N(Worksheet!S512)=0,N(Worksheet!R512),N(Worksheet!S512))","v":0},{"$f":"IFERROR(Worksheet!U512/(Worksheet!R512),0)","v":0},{"$f":"Worksheet!AC512","v":0},{"$f":"Worksheet!AB512","v":0},0,{"$f":"IF(Worksheet!AJ512=0,0,Worksheet!AJ512*10/I493)","v":0},0,null,null,null,{"$f":"IFERROR(Worksheet!V512/(Worksheet!S512),0)","v":0},{"$f":"IF(Worksheet!E512=\"\",\"\",Worksheet!E512)","v":""},{"$f":"IF(Worksheet!B512=\"\",\"\",Worksheet!B512)","v":""},{"$f":"IF(Worksheet!D512=\"\",\"\",Worksheet!D512)","v":""}]
[{"$f":"IF(ISBLANK(Worksheet!F513)=FALSE,VLOOKUP(Worksheet!A513,MeasureCode_Lookup,6,FALSE),\"\")","v":""},{"$f":"Worksheet!H513","v":0},{"$f":"Worksheet!I513","v":0},{"$f":"IFERROR(IF(Worksheet!X513=0,Worksheet!W513/I494,Worksheet!X513/R494),0)","v":0},"W Controlled",null,null,{"$f":"IF(N(Worksheet!S513)=0,N(Worksheet!R513),N(Worksheet!S513))","v":0},{"$f":"IFERROR(Worksheet!U513/(Worksheet!R513),0)","v":0},{"$f":"Worksheet!AC513","v":0},{"$f":"Worksheet!AB513","v":0},0,{"$f":"IF(Worksheet!AJ513=0,0,Worksheet!AJ513*10/I494)","v":0},0,null,null,null,{"$f":"IFERROR(Worksheet!V513/(Worksheet!S513),0)","v":0},{"$f":"IF(Worksheet!E513=\"\",\"\",Worksheet!E513)","v":""},{"$f":"IF(Worksheet!B513=\"\",\"\",Worksheet!B513)","v":""},{"$f":"IF(Worksheet!D513=\"\",\"\",Worksheet!D513)","v":""}]
[{"$f":"IF(ISBLANK(Worksheet!F514)=FALSE,VLOOKUP(Worksheet!A514,MeasureCode_Lookup,6,FALSE),\"\")","v":""},{"$f":"Worksheet!H514","v":0},{"$f":"Worksheet!I514","v":0},{"$f":"IFERROR(IF(Worksheet!X514=0,Worksheet!W514/I495,Worksheet!X514/R495),0)","v":0},"W Controlled",null,null,{"$f":"IF(N(Worksheet!S514)=0,N(Worksheet!R514),N(Worksheet!S514))","v":0},{"$f":"IFERROR(Worksheet!U514/(Worksheet!R514),0)","v":0},{"$f":"Worksheet!AC514","v":0},{"$f":"Worksheet!AB514","v":0},0,{"$f":"IF(Worksheet!AJ514=0,0,Worksheet!AJ514*10/I495)","v":0},0,null,null,null,{"$f":"IFERROR(Worksheet!V514/(Worksheet!S514),0)","v":0},{"$f":"IF(Worksheet!E514=\"\",\"\",Worksheet!E514)","v":""},{"$f":"IF(Worksheet!B514=\"\",\"\",Worksheet!B514)","v":""},{"$f":"IF(Worksheet!D514=\"\",\"\",Worksheet!D514)","v":""}]
[{"$f":"IF(ISBLANK(Worksheet!F515)=FALSE,VLOOKUP(Worksheet!A515,MeasureCode_Lookup,6,FALSE),\"\")","v":""},{"$f":"Worksheet!H515","v":0},{"$f":"Worksheet!I515","v":0},{"$f":"IFERROR(IF(Worksheet!X515=0,Worksheet!W515/I496,Worksheet!X515/R496),0)","v":0},"W Controlled",null,null,{"$f":"IF(N(Worksheet!S515)=0,N(Worksheet!R515),N(Worksheet!S515))","v":0},{"$f":"IFERROR(Worksheet!U515/(Worksheet!R515),0)","v":0},{"$f":"Worksheet!AC515","v":0},{"$f":"Worksheet!AB515","v":0},0,{"$f":"IF(Worksheet!AJ515=0,0,Worksheet!AJ515*10/I496)","v":0},0,null,null,null,{"$f":"IFERROR(Worksheet!V515/(Worksheet!S515),0)","v":0},{"$f":"IF(Worksheet!E515=\"\",\"\",Worksheet!E515)","v":""},{"$f":"IF(Worksheet!B515=\"\",\"\",Worksheet!B515)","v":""},{"$f":"IF(Worksheet!D515=\"\",\"\",Worksheet!D515)","v":""}]
[{"$f":"IF(ISBLANK(Worksheet!F516)=FALSE,VLOOKUP(Worksheet!A516,MeasureCode_Lookup,6,FALSE),\"\")","v":""},{"$f":"Worksheet!H516","v":0},{"$f":"Worksheet!I516","v":0},{"$f":"IFERROR(IF(Worksheet!X516=0,Worksheet!W516/I497,Worksheet!X516/R497),0)","v":0},"W Controlled",null,null,{"$f":"IF(N(Worksheet!S516)=0,N(Worksheet!R516),N(Worksheet!S516))","v":0},{"$f":"IFERROR(Worksheet!U516/(Worksheet!R516),0)","v":0},{"$f":"Worksheet!AC516","v":0},{"$f":"Worksheet!AB516","v":0},0,{"$f":"IF(Worksheet!AJ516=0,0,Worksheet!AJ516*10/I497)","v":0},0,null,null,null,{"$f":"IFERROR(Worksheet!V516/(Worksheet!S516),0)","v":0},{"$f":"IF(Worksheet!E516=\"\",\"\",Worksheet!E516)","v":""},{"$f":"IF(Worksheet!B516=\"\",\"\",Worksheet!B516)","v":""},{"$f":"IF(Worksheet!D516=\"\",\"\",Worksheet!D516)","v":""}]
[{"$f":"IF(ISBLANK(Worksheet!F517)=FALSE,VLOOKUP(Worksheet!A517,MeasureCode_Lookup,6,FALSE),\"\")","v":""},{"$f":"Worksheet!H517","v":0},{"$f":"Worksheet!I517","v":0},{"$f":"IFERROR(IF(Worksheet!X517=0,Worksheet!W517/I498,Worksheet!X517/R498),0)","v":0},"W Controlled",null,null,{"$f":"IF(N(Worksheet!S517)=0,N(Worksheet!R517),N(Worksheet!S517))","v":0},{"$f":"IFERROR(Worksheet!U517/(Worksheet!R517),0)","v":0},{"$f":"Worksheet!AC517","v":0},{"$f":"Worksheet!AB517","v":0},0,{"$f":"IF(Worksheet!AJ517=0,0,Worksheet!AJ517*10/I498)","v":0},0,null,null,null,{"$f":"IFERROR(Worksheet!V517/(Worksheet!S517),0)","v":0},{"$f":"IF(Worksheet!E517=\"\",\"\",Worksheet!E517)","v":""},{"$f":"IF(Worksheet!B517=\"\",\"\",Worksheet!B517)","v":""},{"$f":"IF(Worksheet!D517=\"\",\"\",Worksheet!D517)","v":""}]
[{"$f":"IF(ISBLANK(Worksheet!F518)=FALSE,VLOOKUP(Worksheet!A518,MeasureCode_Lookup,6,FALSE),\"\")","v":""},{"$f":"Worksheet!H518","v":0},{"$f":"Worksheet!I518","v":0},{"$f":"IFERROR(IF(Worksheet!X518=0,Worksheet!W518/I499,Worksheet!X518/R499),0)","v":0},"W Controlled",null,null,{"$f":"IF(N(Worksheet!S518)=0,N(Worksheet!R518),N(Worksheet!S518))","v":0},{"$f":"IFERROR(Worksheet!U518/(Worksheet!R518),0)","v":0},{"$f":"Worksheet!AC518","v":0},{"$f":"Worksheet!AB518","v":0},0,{"$f":"IF(Worksheet!AJ518=0,0,Worksheet!AJ518*10/I499)","v":0},0,null,null,null,{"$f":"IFERROR(Worksheet!V518/(Worksheet!S518),0)","v":0},{"$f":"IF(Worksheet!E518=\"\",\"\",Worksheet!E518)","v":""},{"$f":"IF(Worksheet!B518=\"\",\"\",Worksheet!B518)","v":""},{"$f":"IF(Worksheet!D518=\"\",\"\",Worksheet!D518)","v":""}]
[{"$f":"IF(ISBLANK(Worksheet!F519)=FALSE,VLOOKUP(Worksheet!A519,MeasureCode_Lookup,6,FALSE),\"\")","v":""},{"$f":"Worksheet!H519","v":0},{"$f":"Worksheet!I519","v":0},{"$f":"IFERROR(IF(Worksheet!X519=0,Worksheet!W519/I500,Worksheet!X519/R500),0)","v":0},"W Controlled",null,null,{"$f":"IF(N(Worksheet!S519)=0,N(Worksheet!R519),N(Worksheet!S519))","v":0},{"$f":"IFERROR(Worksheet!U519/(Worksheet!R519),0)","v":0},{"$f":"Worksheet!AC519","v":0},{"$f":"Worksheet!AB519","v":0},0,{"$f":"IF(Worksheet!AJ519=0,0,Worksheet!AJ519*10/I500)","v":0},0,null,null,null,{"$f":"IFERROR(Worksheet!V519/(Worksheet!S519),0)","v":0},{"$f":"IF(Worksheet!E519=\"\",\"\",Worksheet!E519)","v":""},{"$f":"IF(Worksheet!B519=\"\",\"\",Worksheet!B519)","v":""},{"$f":"IF(Worksheet!D519=\"\",\"\",Worksheet!D519)","v":""}]
[{"$f":"IF(ISBLANK(Worksheet!F520)=FALSE,VLOOKUP(Worksheet!A520,MeasureCode_Lookup,6,FALSE),\"\")","v":""},{"$f":"Worksheet!H520","v":0},{"$f":"Worksheet!I520","v":0},{"$f":"IFERROR(IF(Worksheet!X520=0,Worksheet!W520/I501,Worksheet!X520/R501),0)","v":0},"W Controlled",null,null,{"$f":"IF(N(Worksheet!S520)=0,N(Worksheet!R520),N(Worksheet!S520))","v":0},{"$f":"IFERROR(Worksheet!U520/(Worksheet!R520),0)","v":0},{"$f":"Worksheet!AC520","v":0},{"$f":"Worksheet!AB520","v":0},0,{"$f":"IF(Worksheet!AJ520=0,0,Worksheet!AJ520*10/I501)","v":0},0,null,null,null,{"$f":"IFERROR(Worksheet!V520/(Worksheet!S520),0)","v":0},{"$f":"IF(Worksheet!E520=\"\",\"\",Worksheet!E520)","v":""},{"$f":"IF(Worksheet!B520=\"\",\"\",Worksheet!B520)","v":""},{"$f":"IF(Worksheet!D520=\"\",\"\",Worksheet!D520)","v":""}]

{"sheet":"Version Log","index":4,"n_rows":5,"n_cols":2,"rows_kept":5,"cut":false,"hidden":true,"merged":[]}
["Version #","Notes"]
["V11.1","First combined customer/internal workbook."]
["V12","Updated to align with FY19 Protocols"]
["V13","Added Enhanced Incentive Eligibility Section and Updated for FY20 Program"]
["V14","Updated for FY21 Program"]