{"text_format":"1","workbook":"xlsx","n_sheets":23,"sheets":["P4P - Instructions","P4P - LEED Inputs","P4P - Measure Support","P4P - Support Data","IMPORT","P4P - General Info","P4P - Energy Charrette","P4P - Energy Charrette End Uses","Results from eQuest","P4P - EDS Legend","Hrly eQuest Results","Results from Trace","Hrly Trace Results","P4P - Measure Info","P4P - bEQ Inputs","P4P - Measure Simulation","P4P - Project Summary","P4P Cx Plan - Measure List","P4P Incentive Structure","P4P - TRC Version Documentation","CO2e Lookup","Master Export","District Energy Path 3"],"not_rendered":{"charts":14,"images":3,"macros":1,"external_links":6,"defined_names":74,"comments":1,"pivot_tables":0},"unopened":[],"bounds":{"document_bytes":16777216,"sheet_cells":100000,"rows_first":2000,"rows_last":500,"rows_between":2000,"halvings":0,"cell_chars":16384,"cell_head_chars":4096},"cells_cut":0,"cells_raw":0,"read":"whole","date_system":"1900"}

{"sheet":"P4P - Instructions","index":0,"n_rows":29,"n_cols":5,"rows_kept":29,"cut":false,"hidden":false,"merged":[[10,1,10,4],[12,1,12,4],[11,1,11,4],[5,1,5,4],[6,1,6,4],[7,1,7,4],[8,1,8,4],[9,1,9,4],[0,1,0,4],[1,1,1,4],[2,1,2,4],[3,1,3,4],[4,1,4,4],[27,1,27,4],[28,1,28,4],[29,1,29,2],[13,1,13,4],[14,1,14,4],[15,1,15,4],[16,1,16,4],[17,1,17,2],[17,3,17,4]]}
[null,"New Jersey Office of Clean Energy"]
[null,"Pay for Performance New Construction Program"]
[null,"ERP Tables and Incentive Calculator"]
[null,"Version 6.3, FY2024"]
[null,"Program Overview"]
[null,"The Pay for Performance, New Construction Program (P4P NC) takes a comprehensive, whole building approach to energy efficiency in the design and operation of new commercial and industrial buildings, as well as major renovations. The program provides tiered incentive levels correlated to the modeled energy cost savings as demonstrated in the proposed design, and includes a performance component to reflect the value that effective building operation has in determining energy use. This market based-program relies on a network of Partners who work under contract to building owners, acting as their “energy expert”, but are nevertheless required to strictly follow program requirements. Partners will be required to develop a Proposed Energy Reduction Plan (ERP) for each project. The Proposed ERP details a set of recommended measures that will achieve the minimum performance target. Partners will then provide an As-Built ERP, along with a Commissioning Report to demonstrate that recommended measures are installed and functioning as designed. Finally, the Partner will benchmark the building following one year of operation to document how well the building is operating relative to the intended design."]
[null,"Funding"]
[null,"Programs are budgeted on a fiscal year. Applications are reviewed and funds committed on a first come, first serve basis provided all program requirements are met.  "]
[null,"Eligibility"]
[null,"The Pay for Performance, New Construction Program is open to new commercial, industrial, and select multifamily construction projects with 50,000 square feet or more of conditioned space, as well as major/gut renovations. Please see Partner Guidelines(PG) v4.8 Section 2.3 for full information on eligibility. "]
[null,"Instructions for Using ERP Tables"]
[null,"The Energy Reduction Plan package consists of two workbooks – the ERP Tables (this workbook) and the Compliance Form. This version of the ERP is compatible with Compliance Form versions v2.4 and later.\n\nThe ERP Tables includes individual energy efficiency measure (EEM) savings, EEM descriptions, and project incentives. \n\nThe Compliance Form workbook is aligned with the submittal requirements of ASHRAE 90.1-2019 Appendix G and can transfer data to the ERP Tables for the P4P program. It includes information such as general project information, detailed descriptions of the baseline and proposed designs, simulation results of the baseline and proposed design models, and a \"Submittal Checklist\" tab. Please note that the building performance factors (BPFs) in the Compliance Form are different from the BPFs in the ERP so to precisely assess the project performance it is recommended that the ERP be populated.\n\nGeneral Instructions\n\nStarting with the Compliance Form and followed by the ERP Tables, proceed through each workbook from left to right except as noted below. The Sequence of Inputs (below) contains step-by-step instructions on how to complete both workbooks. Common information is imported into the ERP from the Compliance Form where possible and will automatically update in grey shaded cells. Detailed instructions regarding completion requirements of the various tabs can be found at the top of each tab. In addition, pop-up comments specific to many inputs have been provided for additional information. For assistance using these or any other Pay for Performance Program tools, including request for additional rows, please contact P4P@NJCleanEnergy.com"]
[null,"\nSequence of Inputs\n\n1. Complete all tabs in the Compliance Form workbook which can be downloaded from the USA Department of Energy website at https://www.energycodes.gov/ashrae-standard-901-performance-based-compliance-form.\n\n2. Press the \"Export Data\" button on the Dashboard tab of the Compliance Form. XML and CSV files will generate in the same folder in which the Compliance Form is located.\n\n3. Press the \"Import from Compliance Form\" button shown on the right and navigate to and select the CSV file you generated from the Compliance Form. If the import does not work for your version of Excel, manually input information on the \"P4P-General Info\" tab.\n\n4. Complete the remaining tabs in the ERP Tables"]
[null,"\nCompliance Form Detailed Instructions\n\n1. Cells highlighted in peach require data entry; all cells in white are auto-populated.\n \n2. Projects must complete both the baseline and proposed design information on each tab.\n \n3. Follow instructions provided on the \"Instructions\" tab of the Compliance Form and the following additional guidance:\n\n•\"General Information\" tab: Select \"ASHRAE 90.1-2019: Appendix G\" as the compliance path then select \"Above Code Performance.\"\n\nERP Tables Detailed Instructions\n\n1. Some information can be shared between the Compliance Form and the ERP Tables. This information must be entered into the Compliance Form and transferred into ERP Tables as described in the Sequence of Inputs section above. This will populate the shared fields on the \"P4P-General Info\" tab in grey cells. \n  \n2. Any cells highlighted in blue require data entry; all cells in white are auto-populated, grey cells are autopopulated from the Compliance Form. There should be no calculation errors when all blue-shaded cells are filled in with the required information. When certain information is not applicable, indicate \"N/A\". \n\n3. Dark green colored tabs signify tabs that contain cells which are user inputs, while Light Green colored tabs do not contain any user inputs.  Light blue tabs are only required for projects pursuing pre-design bonus incentives.  Please see Partner Guidelines(PG) v4.8 Section 3.2 for full information on pre-design bonus eligiblity."]
[null,"Required Tools and Publications"]
[null,"In addition to the ERP and Compliance Form, the below resources will be needed. Those in bold are available for download on the Partner Portal.  \n                                                                                          \n• Partner Guidelines v4.8\n• Commissioning Plan Template (Word)\n• Eligible simulation software (e.g. eQuest, TRANE TRACE, etc.)\n• ASHRAE 90.1-2019 and the User's Manual, https://www.ashrae.org/technical-resources/standards-and-guidelines/read-only-versions-of-ashrae-standards \n\nPartner Portal: http://www.njcleanenergy.com/p4p-portal-login case sensitive password is: tRP47px"]
[null,"Required Appendices"]
[null,"Proposed ERP",null,"As-Built ERP"]
[null,"Appendix A ","Commissioning Plan & Commissioning Authority Documentation of Experience (PG v4.8, Section 6)","Appendix A ","Commissioning Report (PG v4.8, Section 6)"]
[null,"Appendix B","Modeling Files & Output Reports (PG v4.8, Section 4.7)","Appendix B","Modeling Files & Output Reports (PG v4.8, Section 4.7)"]
[null,"Appendix C","External Calculations, if applicable (PG v4.8, Section 4.2.1)","Appendix C","External Calculations, if applicable (PG v4.8, Section 4.2.1)"]
[null,"Appendix D","Mechanical Schedules, Mechanical Plans, Lighting Schedules and Lighting Plans","Appendix D","Mechanical Schedules, Lighting Schedules and Lighting Plans"]
[null,"Appendix E","Copy of signed Partner/Participant Contract","Appendix E","-"]
[null,"Appendix F","Signed Installation Agreement (available on Partner Portal)","Appendix F","-"]
[null,"Appendix G","-","Appendix G","Customer Gas and/or Electric Utility Bill (PG v4.8, Section 5.2.2)"]
[null,"Appendix H","-","Appendix H","Invoices (PG v4.8, Section 5.2.2)"]
[null,"Appendix J","-","Appendix J","-"]
[null,"Submittal Instructions"]
[null,"\nSubmit the following to the Program Manager per Partner Guidelines v4.8, Section 2.5.1:\n\n• Completed ERP Tables and Compliance Form workbooks. \n• Required Appendices (above)\n\nAll submittals must be electronic and be submitted to P4P@NJCleanEnergy.com \nLarger files can be submitted through Program Manager FTP site. Partner FTP links may also be provided to the Program Manager to the email above. \nPartners are encouraged to submit files securely when possible.\n\n"]

{"sheet":"P4P - LEED Inputs","index":1,"n_rows":27,"n_cols":7,"rows_kept":27,"cut":false,"hidden":true,"merged":[[9,1,9,7],[8,1,8,7],[0,2,0,5],[1,2,1,5],[2,2,2,5],[5,1,5,6],[6,1,6,6],[7,1,7,6]]}
[null,null,"New Jersey Office of Clean Energy"]
[null,null,"Pay for Performance New Construction Program"]
[null,null,"ERP Tables and Incentive Calculator"]
[]
[null,"Instructions for transfering the general project information from the Compliance Form into the ERP Tables"]
[null,"1) FIRST complete the 90.1 Section 11 and Appendix G Compliance Form. \n2) TBD.\n3) "]
[]
[]
[null,"4) If you need to re-run the models after the initial data transfer from the Performance Path Calculater into this workbook, you can copy the updated simulation results from the simulation reports directly into this workbook following the instructions in the Results from eQuest (or Trace), or Measure Simulations tabs. However, before the project is submitted for review, please make sure that the simulation results in the Performance Path Calculator and the P4P ERP Tables are aligned."]
[null,"5) Review the Performance Path Calculator Quality Assurance Checks tab and resolve or provide explanation for all of the flagged \"Issues\"."]
[]
[]
[null,"Project Name",{"$f":"IFERROR(INDEX(ImportsingleRowdata,2,36),\"\")","v":""},"New Construction Conditioned (sq ft)","Renovation Conditioned (sq ft)","New Construction Unconditioned (sq ft)","Renovation Unconditioned (sq ft)"]
[null,"Building Type 1",{"$f":"IFERROR(INDEX('P4P - Support Data'!$AX$3:$AX$34,MATCH(INDEX(ImportBldgAreadata,2,1),'P4P - Support Data'!$AY$3:$AY$34,0),1),\"\")","v":""},{"$f":"IFERROR(_xlfn.NUMBERVALUE(INDEX(ImportBldgAreadata,2,2)),0)","v":0},{"$f":"IFERROR(_xlfn.NUMBERVALUE(INDEX(ImportBldgAreadata,2,3)),0)","v":0},{"$f":"IFERROR(_xlfn.NUMBERVALUE(INDEX(ImportBldgAreadata,2,4)),0)","v":0},{"$f":"IFERROR(_xlfn.NUMBERVALUE(INDEX(ImportBldgAreadata,2,5)),0)","v":0}]
[null,"Building Type 2",{"$f":"IFERROR(INDEX('P4P - Support Data'!$AX$3:$AX$34,MATCH(INDEX(ImportBldgAreadata,3,1),'P4P - Support Data'!$AY$3:$AY$34,0),1),\"\")","v":""},{"$f":"IFERROR(_xlfn.NUMBERVALUE(INDEX(ImportBldgAreadata,3,2)),0)","v":0},{"$f":"IFERROR(_xlfn.NUMBERVALUE(INDEX(ImportBldgAreadata,3,3)),0)","v":0},{"$f":"IFERROR(_xlfn.NUMBERVALUE(INDEX(ImportBldgAreadata,3,4)),0)","v":0},{"$f":"IFERROR(_xlfn.NUMBERVALUE(INDEX(ImportBldgAreadata,3,5)),0)","v":0}]
[null,"Building Type 3",{"$f":"IFERROR(INDEX('P4P - Support Data'!$AX$3:$AX$34,MATCH(INDEX(ImportBldgAreadata,4,1),'P4P - Support Data'!$AY$3:$AY$34,0),1),\"\")","v":""},{"$f":"IFERROR(_xlfn.NUMBERVALUE(INDEX(ImportBldgAreadata,4,2)),0)","v":0},{"$f":"IFERROR(_xlfn.NUMBERVALUE(INDEX(ImportBldgAreadata,4,3)),0)","v":0},{"$f":"IFERROR(_xlfn.NUMBERVALUE(INDEX(ImportBldgAreadata,4,4)),0)","v":0},{"$f":"IFERROR(_xlfn.NUMBERVALUE(INDEX(ImportBldgAreadata,4,5)),0)","v":0}]
[null,"Total Building Area (Sq Ft)",{"$f":"SUM(D14:G16)","v":0}]
[null,"Number of Stories Above Grade",{"$f":"IFERROR(_xlfn.NUMBERVALUE(INDEX(ImportsingleRowdata,2,25)),0)","v":0}]
[null,"Number of Stories Below Grade",{"$f":"IFERROR(_xlfn.NUMBERVALUE(INDEX(ImportsingleRowdata,2,26)),0)","v":0}]
[null,"Number of Identical Buildings","<Enter>"]
[]
[null,null,null,null,"",""]
[null,null,null,null,"",""]
[null,null,null,null,"",""]
[null,null,null,null,"",""]
[null,null,null,null,"",""]
[null,null,null,null,"",""]

{"sheet":"P4P - Measure Support","index":2,"n_rows":136,"n_cols":7,"rows_kept":136,"cut":false,"hidden":true,"merged":[]}
["Measure Category (consistent with database) - \nMeasure Descriptions tab","ID","Measure Life","Capacity Units","Primary Efficiency Units","Secondary Efficiency Units"]
["Plant-side HVAC",null,null,null,null,null,"Measure lives in RED revised for FY20 Protocols"]
["Air Cooled Chiller (Electric)",70,20,"Tons","EER","IEER"]
["Water Cooled Chiller (Electric)",69,20,"Tons","kW/ton","IPLV"]
["Hot Water Boiler (Gas)",81,20,"MMBtu/h","Et","<Enter>"]
["Combination Boiler-Water Heater (Gas)",null,20,"MMBtu/h","Et","<Enter>"]
["Gas Absorption Chiller",71,25,"Tons","COP","<Enter>"]
["Water to Water Geothermal HP - Open Loop","NEW",15,"Tons","EER","COP"]
["Water to Water Geothermal HP - Closed Loop","NEW",15,"Tons","EER","COP"]
["Cooling Tower",null,18,"Tons","GPM/HP"]
["Steam Boiler (Gas)",82,20,"MMBtu/h","Et","<Enter>"]
["Hot Water Boiler (Oil)",null,20,"MMBtu/h","Et","<Enter>"]
["Hot Water Boiler (Propane)",null,20,"MMBtu/h","Et","<Enter>"]
["Steam Boiler (Oil)",null,20,"MMBtu/h","Et","<Enter>"]
["Steam Boiler (Propane)",null,20,"MMBtu/h","Et","<Enter>"]
["Air-side HVAC"]
["Air to Air Heat Pump",74,15,"Tons","EER","COP"]
["Variable Refrigerant Flow Heat Pump","NEW",15,"Tons","EER","COP"]
["Single Zone CV System (DX/Furnace)","NEW",15,"Tons","EER","Et"]
["Single Zone CV System (DX/HW or Steam)","NEW",15,"Tons","EER","<Enter>"]
["Single Zone CV System (CHW/HW or Steam)","NEW",20,"HP","kW/CFM","<Enter>","Defining a commercial air handling unit as anything that does not have a furnace or DX component (i.e. it would just be a fan serving HW and CHW loop). Default 20 years instead of 15 years.\n"]
["Single Zone VAV System (DX/Furnace)","NEW",15,"Tons","EER","Et"]
["Multiple Zone VAV System (DX/Furnace)","NEW",15,"Tons","EER","Et"]
["Single Zone VAV System (DX/HW)","NEW",15,"Tons","EER","<Enter>"]
["Multiple Zone VAV System (DX/HW)","NEW",15,"Tons","EER","<Enter>"]
["Single Zone VAV System (CHW/HW or Steam)","NEW",20,"HP","kW/CFM","<Enter>"]
["Multiple Zone VAV System (CHW/HW or Steam)","NEW",20,"HP","kW/CFM","<Enter>"]
["Dedicated Outdoor Air System (DX/Furnace)","NEW",15,"Tons","EER","Et"]
["Dedicated Outdoor Air System (DX/HW or Steam)","NEW",15,"Tons","EER","N/A"]
["Dedicated Outdoor Air System (CHW/HW)","NEW",20,"HP","kW/CFM","<Enter>"]
["Fan Coil Units (CHW/HW)","NEW",20,"HP","kW/CFM","<Enter>"]
["Custom Air-side HVAC Systems","NEW",15,"Tons","EER","COP"]
["Unitary HVAC/Split Systems",73,15,"Tons","EER","IEER"]
["Water Source Heat Pump",78,15,"Tons","EER","COP"]
["Packaged Terminal AC & HP",75,15,"Tons","EER","COP"]
["Gas Furnace (Heating Only)",11,20,"MMBtu/h","Et","<Enter>"]
["Energy Recovery","NEW",18,"MMBtu/h","% Effectiveness","<Enter>"]
["Open Loop Geothermal HP",79,15,"Tons","EER","COP"]
["Closed Loop Geothermal HP",80,15,"Tons","EER","COP"]
["Desiccant System (Gas or Electric)",72,15,"MMBtu/h","MMBtu/h","<Enter>"]
["Chilled Beams","NEW",18,"Tons","kW/ton","IPLV"]
["Low Intensity Infrared Heating Unit",null,17,"MMBtu/h","MMBtu/h","<Enter>"]
["Make-Up Air Heater (Heating Only)",null,15,"MMBtu/h","MMBtu/h","<Enter>"]
["Oil Furnace (Heating Only)",null,20,"MMBtu/h","MMBtu/h","<Enter>"]
["Propane Furnace (Heating Only)",null,20,"MMBtu/h","MMBtu/h","<Enter>"]
["HVAC System Controls"]
["Dual Enthalpy Economizer",76,10,"Tons","<Enter>","<Enter>"]
["Programmable Thermostat",222,11,"MMBtu/h","<Enter>","<Enter>"]
["Boiler Reset Controls - Hot Water",null,10,"MMBtu/h","<Enter>","<Enter>"]
["Boiler Reset Controls - Steam",null,10,"MMBtu/h","<Enter>","<Enter>"]
["Hot Water Boiler Controls",null,10,"MMBtu/h","<Enter>","<Enter>"]
["Steam Boiler Controls",null,10,"MMBtu/h","<Enter>","<Enter>"]
["Demand Control Ventilation",null,15,"MMBtu/h","<Enter>","<Enter>"]
["Chiller Controls","NEW",15,"Tons","<Enter>","<Enter>"]
["Air-side System Controls","NEW",10,"HP","<Enter>","<Enter>"]
["Building Management Systems",null,18,"MMBtu/h","<Enter>","<Enter>"]
["Motor Controls"]
["Air Compressor with VFD",86,15,"HP","<Enter>","<Enter>"]
["Electronically Commutated Motor",null,15,"HP","<Enter>","<Enter>"]
["VFD - Cooling Tower Fan",null,15,"HP","<Enter>","<Enter>"]
["VFD - Hot Water Pump",null,15,"HP","<Enter>","<Enter>"]
["VFD - Kitchen Hoods",null,15,"HP","<Enter>","<Enter>"]
["VFD - Chilled Water Pump",85,15,"HP","<Enter>","<Enter>"]
["VFD - Variable Air Volume",84,15,"HP","<Enter>","<Enter>"]
["VFD - Other",null,15,"HP","<Enter>","<Enter>"]
["Service Hot Water"]
["Water Heater (Gas) - </= 50 Gals.",87,15,"MMBtu/h","Et","EF"]
["Water Heater (Gas) - > 50 Gals.",88,15,"MMBtu/h","Et","EF"]
["Water Heater (Gas) - Indirect",null,15,"MMBtu/h","Et","EF"]
["Water Heater (Gas) - Tankless",null,20,"MMBtu/h","Et","EF"]
["Domestic HW Heater - Electric",null,15,"MMBtu/h","Et","EF"]
["Electric Hot Water Heater - Tankless",null,20,"MMBtu/h","Et","EF"]
["Domestic HW Heater - Oil",null,15,"MMBtu/h","Et","EF"]
["Domestic HW Heater - Propane",null,15,"MMBtu/h","Et","EF"]
["Domestic HW Heater - Electric Heat Pump",null,15,"MMBtu/h","Et","EF"]
["Domestic HW Heater - Solar",null,20,"MMBtu/h","Et","EF"]
["Low-Flow Faucets and Shower Heads",null,10,"GPM","N/A"]
["Lighting"]
["Fluorescent Fixtures",115,15,"kW","<Enter>","<Enter>"]
["HID",117,15,"kW","<Enter>","<Enter>"]
["LED Lighting",308,15,"kW","<Enter>","<Enter>"]
["LED Exit Signs",130,15,"kW","<Enter>","<Enter>"]
["Exterior Lighting","NEW",15,"kW","<Enter>","<Enter>"]
["Other Lighting",122,15,"kW","<Enter>","<Enter>"]
["Lighting Controls"]
["Occupancy Sensors",null,8,"kW","<Enter>","<Enter>"]
["Daylight Dimming Control",413,8,"kW","<Enter>","<Enter>"]
["Lighting Control System",null,18,"kW","<Enter>","<Enter>"]
["Envelope"]
["Insulation - Basements/Unvented Crawl Spaces (Floors)",null,20,"SqFt","U-value","<Enter>"]
["Insulation - Basements/Unvented Crawl Spaces (Walls)",null,20,"SqFt","U-value","<Enter>"]
["Insulation - Roof",null,20,"SqFt","U-value","<Enter>"]
["Insulation - Floors Over Garages, Outside, Vented Crawl Spaces",null,20,"SqFt","U-value","<Enter>"]
["Insulation - Slab edge/Slab Under",null,20,"SqFt","U-value","<Enter>"]
["Insulation - Walls, Kneewalls, Rim Band/Joists",null,20,"SqFt","U-value","<Enter>"]
["Skylights",null,20,"SqFt","U-value","SHGC"]
["Windows and Glass Doors",null,20,"SqFt","U-value","SHGC"]
["Insulation ",285,20,"SqFt","U-value","<Enter>"]
["Other Shell Measures",286,20,"SqFt","U-value","<Enter>"]
["Plug Loads & Appliances"]
["Clothes Washer",null,11,"N/A","ENERGY STAR","<Enter>"]
["Refrigerator",null,14,"Cu. Ft.","ENERGY STAR","<Enter>"]
["Dishwasher",null,11,"N/A","ENERGY STAR","<Enter>"]
["Appliance - Custom",null,12,"N/A","ENERGY STAR","<Enter>"]
["Vending Miser - Occupancy Sensor Control",null,5,"N/A","<Enter>","<Enter>"]
["Refrigeration"]
["Evaporator-Compressor Control",247,16,"Tons","<Enter>","<Enter>"]
["Fan-Door Control",246,16,"Tons","<Enter>","<Enter>"]
["Medium Temperature Doors","NEW",12,"Linear Feet","<Enter>","<Enter>"]
["Refrigerated Casework","NEW",18,"Linear Feet","<Enter>","<Enter>"]
["Novelty Cooler Shutoff",306,5,"Tons"]
["Custom Refrigeration","NEW",18,null,"<Enter>","<Enter>"]
["Commercial Food"]
["Commercial Convection Oven (Electric)",398,12,"N/A","<Enter>","<Enter>"]
["Commercial Convection Oven (Gas)",399,12,"N/A","<Enter>","<Enter>"]
["Commercial Conveyer Oven",401,12,"N/A","<Enter>","<Enter>"]
["Commercial Dishwasher",391,15,"N/A","<Enter>","<Enter>"]
["Commercial Freezer - Glass Door",408,12,"N/A","<Enter>","<Enter>"]
["Commercial Freezer - Solid Door",409,12,"N/A","<Enter>","<Enter>"]
["Commercial Fryer (Electric)",392,12,"N/A","<Enter>","<Enter>"]
["Commercial Fryer (Gas)",393,12,"N/A","<Enter>","<Enter>"]
["Commercial Griddle (Electric)",394,12,"N/A","<Enter>","<Enter>"]
["Commercial Griddle (Gas)",395,12,"N/A","<Enter>","<Enter>"]
["Commercial Hot Food Holding Cabinet",396,12,"N/A","<Enter>","<Enter>"]
["Commercial Ice Machine",397,10,"N/A","<Enter>","<Enter>"]
["Commercial Rack Oven",400,12,"N/A","<Enter>","<Enter>"]
["Commercial Refrigerator - Glass Door",406,12,"N/A","<Enter>","<Enter>"]
["Commercial Refrigerator - Solid Door",407,12,"N/A","<Enter>","<Enter>"]
["Commercial Steam Cooker (Electric)",402,10,"N/A","<Enter>","<Enter>"]
["Commercial Steam Cooker (Gas)",403,10,"N/A","<Enter>","<Enter>"]
["Commercial Combination Steam Cooker (Electric)",404,10,"N/A","<Enter>","<Enter>"]
["Commercial Combination Steam Cooker (Gas)",405,10,"N/A","<Enter>","<Enter>"]
["Other"]
["Custom Electric",103,18,"<Enter>","<Enter>","<Enter>"]
["Custom Measure",null,18,"<Enter>","<Enter>","<Enter>"]
["Custom Gas",104,18,"<Enter>","<Enter>","<Enter>"]

{"sheet":"P4P - Support Data","index":3,"n_rows":156,"n_cols":54,"rows_kept":156,"cut":false,"hidden":true,"merged":[[57,5,57,13],[57,14,58,14],[121,5,121,8],[121,10,121,13],[145,5,145,8],[145,10,145,13],[99,5,99,13],[99,14,100,14],[133,5,133,8],[133,10,133,13],[78,5,78,13],[78,14,79,14]]}
[]
[null,"Program Path",null,null,"Cost\nBuilding Type","Unregulated Energy Consumption","BPF","Baseline PCI","Tier 1 Target","Tier 2 Target","Tier 3 Target","Unregulated Energy Consumption (Source)","Construction Type",null,"Electric Utility","Gas Utility",null,null,null,"Y_N",null,null,"Project_Stage",null,null,null,"Cost_Source",null,"Measure Category",null,"Capacity_Units",null,"Efficiency_Units",null,null,null,"Simulation Tool",null,null,null,null,"Energy_Type","Energy_Units","Energy_Units_Lookup","Energy_Content_kBtu_Unit",null,null,null,null,"Mapping to BPFs","Building Area Method Categories",null,"Simulation Tool Mapping to CF","P4P ERP"]
[null,"<Choose>",null,null,"<Choose>",null,0,0,0,0,0,null,"<Choose>",null,"<Choose>","<Choose>",null,null,null,"<Choose>",null,null,"<Choose>",null,null,null,"<Choose>",null,"<Choose>",null,"BTUH",null,"EER",null,null,null,"<Choose>",null,null,null,null,"Electricity","kWh",{"$f":"AP3&AQ3","v":"ElectricitykWh"},3.4119999999999999,null,null,null,null,"All Others","Automotive facility",null,"DesignBuilder","DesignBuilder"]
[null,"Appendix G",null,null,"Multifamily",{"$f":"'P4P - General Info'!$C$41","v":0},{"$f":"IF($F$36=E4,I131*(1+0.06*($J$36/$H$36)),IF($F$37=E4,I131*(1+0.06*($J$37/$H$37)),IF($F$38=E4,I131*(1+0.06*($J$38/$H$38)),0)))","v":0},{"$f":"(($F$30+(G4*$F$29))/$F$31)","v":{"$error":"#DIV/0!"}},{"$f":"H4*0.85","v":{"$error":"#DIV/0!"}},{"$f":"H4*0.83","v":{"$error":"#DIV/0!"}},{"$f":"H4*0.8","v":{"$error":"#DIV/0!"}},{"$f":"'P4P - General Info'!$F$41","v":0},"New Construction",null,"Atlantic City Electric","Elizabethtown Gas",null,null,null,"Yes",null,null,"Proposed ERP",null,null,null,"Baseline Cost Estimator",null,"Plantside_HVAC",null,"MBH",null,"SEER",null,null,null,"DesignBuilder",null,null,null,null,"Electricity","MWh",{"$f":"AP4&AQ4","v":"ElectricityMWh"},3412,null,null,null,null,"All Others","Convention center",null,"EnergyPlus","EnergyPlus"]
[null,null,null,null,"Healthcare/Hospital",{"$f":"'P4P - General Info'!$C$41","v":0},{"$f":"IF($F$36=E5,I127*(1+0.06*($J$36/$H$36)),IF($F$37=E5,I127*(1+0.06*($J$37/$H$37)),IF($F$38=E5,I127*(1+0.06*($J$38/$H$38)),0)))","v":0},{"$error":"#DIV/0!"},{"$f":"H5*0.95","v":{"$error":"#DIV/0!"}},{"$f":"H5*0.93","v":{"$error":"#DIV/0!"}},{"$f":"H5*0.9","v":{"$error":"#DIV/0!"}},{"$f":"'P4P - General Info'!$F$41","v":0},"Gut-rehab",null,"Jersey Central P&L","New Jersey Natural Gas",null,null,null,"No",null,null,"As-Built ERP",null,null,null,"Bid Results",null,"Airside_HVAC",null,"MMBtu/h",null,"AFUE",null,null,null,"EnergyPlus",null,null,null,null,"All","kBtu","AllkBtu",1,null,null,null,null,"All Others","Courthouse",null,"eQuest","eQuest"]
[null,null,null,null,"Hotel/Motel",{"$f":"'P4P - General Info'!$C$41","v":0},{"$f":"IF($F$36=E6,I129*(1+0.06*($J$36/$H$36)),IF($F$37=E6,I129*(1+0.06*($J$37/$H$37)),IF($F$38=E6,I129*(1+0.06*($J$38/$H$38)),0)))","v":0},{"$error":"#DIV/0!"},{"$error":"#DIV/0!"},{"$error":"#DIV/0!"},{"$error":"#DIV/0!"},{"$f":"'P4P - General Info'!$F$41","v":0},"NC & Gut-rehab",null,"PSE&G","PSE&G",null,null,null,null,null,null,null,null,null,null,"Contractor",null,"HVAC_Controls",null,"Tons",null,"HSPF",null,null,null,"eQuest",null,null,null,null,"All","therm","Alltherm",100,null,null,null,null,"Restaurant","Dining: bar lounge/leisure",null,"HAP","Carrier HAP"]
[null,null,null,null,"Office",{"$f":"'P4P - General Info'!$C$41","v":0},{"$f":"IF($F$36=E7,I124*(1+0.06*($J$36/$H$36)),IF($F$37=E7,I124*(1+0.06*($J$37/$H$37)),IF($F$38=E7,I124*(1+0.06*($J$38/$H$38)),0)))","v":0},{"$error":"#DIV/0!"},{"$error":"#DIV/0!"},{"$error":"#DIV/0!"},{"$error":"#DIV/0!"},{"$f":"'P4P - General Info'!$F$41","v":0},null,null,"Rockland Electric Co.","South Jersey Gas",null,null,null,null,null,null,null,null,null,null,"Developer",null,"Motor_Controls",null,"Gal",null,"COP",null,null,null,"HAP",null,null,null,null,"All","MMBtu","AllMMBtu",1000,null,null,null,null,"Restaurant","Dining: cafeteria/fast food",null,"IESVE","IESVE"]
[null,null,null,null,"Restaurant",{"$f":"'P4P - General Info'!$C$41","v":0},{"$f":"IF($F$36=E8,I128*(1+0.06*($J$36/$H$36)),IF($F$37=E8,I128*(1+0.06*($J$37/$H$37)),IF($F$38=E8,I128*(1+0.06*($J$38/$H$38)),0)))","v":0},{"$error":"#DIV/0!"},{"$error":"#DIV/0!"},{"$error":"#DIV/0!"},{"$error":"#DIV/0!"},{"$f":"'P4P - General Info'!$F$41","v":0},null,null,"Borough of Butler","Other",null,null,null,null,null,null,null,null,null,null,"Manufacturer",null,"Service_Hot_Water",null,"CFM",null,"Et",null,null,null,"IESVE",null,null,null,null,"All","MJ","AllMJ",0.94799999999999995,null,null,null,null,"Restaurant","Dining: family",null,"Openstudio","Openstudio"]
[null,null,null,null,"Retail",{"$f":"'P4P - General Info'!$C$41","v":0},{"$f":"IF($F$36=E9,I125*(1+0.06*($J$36/$H$36)),IF($F$37=E9,I125*(1+0.06*($J$37/$H$37)),IF($F$38=E9,I125*(1+0.06*($J$38/$H$38)),0)))","v":0},{"$error":"#DIV/0!"},{"$error":"#DIV/0!"},{"$error":"#DIV/0!"},{"$error":"#DIV/0!"},{"$f":"'P4P - General Info'!$F$41","v":0},null,null,"Borough of Lavallette",null,null,null,null,null,null,null,null,null,null,null,"Previous Experience",null,"Lighting",null,"kW",null,"Ec",null,null,null,"Openstudio",null,null,null,null,"Electricity","Ton-Hours","ElectricityTon-Hours",12,null,null,null,null,"Multifamily","Dormitory",null,"Trace3DPlus","Trace3DPlus"]
[null,null,null,null,"School",{"$f":"'P4P - General Info'!$C$41","v":0},{"$f":"IF($F$36=E10,I126*(1+0.06*($J$36/$H$36)),IF($F$37=E10,I126*(1+0.06*($J$37/$H$37)),IF($F$38=E10,I126*(1+0.06*($J$38/$H$38)),0)))","v":0},{"$error":"#DIV/0!"},{"$error":"#DIV/0!"},{"$error":"#DIV/0!"},{"$error":"#DIV/0!"},{"$f":"'P4P - General Info'!$F$41","v":0},null,null,"Borough of Madison",null,null,null,null,null,null,null,null,null,null,null,"RS Means",null,"Lighting_Controls",null,"Linear Ft",null,"EF",null,null,null,"Trace3DPlus",null,null,null,null,"District Cooling","Ton-Hours","District CoolingTon-Hours",12,null,null,null,null,"All Others","Exercise center",null,"Trace700","Trace"]
[null,null,null,null,"Warehouse",{"$f":"'P4P - General Info'!$C$41","v":0},{"$f":"IF($F$36=E11,I130*(1+0.06*($J$36/$H$36)),IF($F$37=E11,I130*(1+0.06*($J$37/$H$37)),IF($F$38=E11,I130*(1+0.06*($J$38/$H$38)),0)))","v":0},{"$error":"#DIV/0!"},{"$error":"#DIV/0!"},{"$error":"#DIV/0!"},{"$error":"#DIV/0!"},{"$f":"'P4P - General Info'!$F$41","v":0},null,null,"Borough of Milltown",null,null,null,null,null,null,null,null,null,null,null,null,null,"Envelope",null,null,null,"kW/Ton",null,null,null,"Trace",null,null,null,null,"All","Btu","AllBtu",1E-3,null,null,null,null,"All Others","Fire Station",null,"Other","Other"]
[null,null,null,null,"All Others",{"$f":"'P4P - General Info'!$C$41","v":0},{"$f":"IF($F$36=E12,I132*(1+0.06*($J$36/$H$36)),IF($F$37=E12,I132*(1+0.06*($J$37/$H$37)),IF($F$38=E12,I132*(1+0.06*($J$38/$H$38)),0)))","v":0},{"$error":"#DIV/0!"},{"$error":"#DIV/0!"},{"$error":"#DIV/0!"},{"$error":"#DIV/0!"},{"$f":"'P4P - General Info'!$F$41","v":0},null,null,"Borough of Park Ridge",null,null,null,null,null,null,null,null,null,null,null,null,null,"Plug_Loads",null,null,null,"CFM/SF",null,null,null,"Other",null,null,null,null,"Natural Gas","cf","Natural Gascf",1.0289999999999999,null,null,null,null,"All Others","Gymnasium"]
[null,null,null,null,null,null,null,null,null,null,null,null,null,null,"Borough of Pemberton",null,null,null,null,null,null,null,null,null,null,null,null,null,"Refrigeration",null,null,null,"kW/CFM",null,null,null,null,null,null,null,null,"Natural Gas","ccf","Natural Gasccf",102.9,null,null,null,null,"Healthcare/hospital","Health-care clinic"]
[null,null,null,null,"Source Energy\nBuilding Type","Unregulated Energy Consumption","BPF","Baseline PCI","Tier 1 Target","Tier 2 Target","Tier 3 Target","Unregulated Energy Consumption (Source)",null,null,"Borough of Seaside Heights",null,null,null,null,null,null,null,null,null,null,null,null,null,"Commercial_Food",null,null,null,"kW/GPM",null,null,null,null,null,null,null,null,"Natural Gas","kcf","Natural Gaskcf",1029,null,null,null,null,"Healthcare/hospital","Hospital"]
[null,null,null,null,"<Choose>",null,0,0,0,0,0,null,null,null,"Borough of South River",null,null,null,null,null,null,null,null,null,null,null,null,null,"Other",null,null,null,"SHGC",null,null,null,null,null,null,null,null,"Natural Gas","Mcf","Natural GasMcf",1029000,null,null,null,null,"Hotel/motel","Hotel/motel"]
[null,null,null,null,"Multifamily",{"$f":"'P4P - General Info'!$C$41","v":0},{"$f":"IF($F$36=E16,N131*(1+0.06*($J$36/$H$36)),IF($F$37=E16,N131*(1+0.06*($J$37/$H$37)),IF($F$38=E16,N131*(1+0.06*($J$38/$H$38)),0)))","v":0},{"$f":"(($H$30+(G16*$H$29))/$H$31)","v":{"$error":"#DIV/0!"}},{"$f":"H16*0.85","v":{"$error":"#DIV/0!"}},{"$f":"H16*0.83","v":{"$error":"#DIV/0!"}},{"$f":"H16*0.8","v":{"$error":"#DIV/0!"}},{"$f":"'P4P - General Info'!$F$41","v":0},null,null,"City of Vineland",null,null,null,null,null,null,null,null,null,null,null,null,null,null,null,null,null,"U-value",null,null,null,null,null,null,null,null,"District Steam","Lbs.","District SteamLbs.",1.194,null,null,null,null,"All Others","Library"]
[null,null,null,null,"Healthcare/Hospital",{"$f":"'P4P - General Info'!$C$41","v":0},{"$f":"IF($F$36=E17,N127*(1+0.06*($J$36/$H$36)),IF($F$37=E17,N127*(1+0.06*($J$37/$H$37)),IF($F$38=E17,N127*(1+0.06*($J$38/$H$38)),0)))","v":0},{"$f":"(($H$30+(G17*$H$29))/$H$31)","v":{"$error":"#DIV/0!"}},{"$f":"H17*0.95","v":{"$error":"#DIV/0!"}},{"$f":"H17*0.93","v":{"$error":"#DIV/0!"}},{"$f":"H17*0.9","v":{"$error":"#DIV/0!"}},{"$f":"'P4P - General Info'!$F$41","v":0},null,null,"Sussex Rural Electric Cooperative",null,null,null,null,null,null,null,null,null,null,null,null,null,null,null,null,null,"R-value",null,null,null,null,null,null,null,null,"District Steam","kLbs.","District SteamkLbs.",1194,null,null,null,null,"All Others","Manufacturing facility"]
[null,null,null,null,"Hotel/Motel",{"$f":"'P4P - General Info'!$C$41","v":0},{"$f":"IF($F$36=E18,N129*(1+0.06*($J$36/$H$36)),IF($F$37=E18,N129*(1+0.06*($J$37/$H$37)),IF($F$38=E18,N129*(1+0.06*($J$38/$H$38)),0)))","v":0},{"$error":"#DIV/0!"},{"$error":"#DIV/0!"},{"$error":"#DIV/0!"},{"$error":"#DIV/0!"},{"$f":"'P4P - General Info'!$F$41","v":0},null,null,"Other",null,null,null,null,null,null,null,null,null,null,null,null,null,null,null,null,null,null,null,null,null,null,null,null,null,null,"District Steam","Mlbs.","District SteamMlbs.",1194000,null,null,null,null,"All Others","Motion picture theater"]
[null,null,null,null,"Office",{"$f":"'P4P - General Info'!$C$41","v":0},{"$f":"IF($F$36=E19,N124*(1+0.06*($J$36/$H$36)),IF($F$37=E19,N124*(1+0.06*($J$37/$H$37)),IF($F$38=E19,N124*(1+0.06*($J$38/$H$38)),0)))","v":0},{"$error":"#DIV/0!"},{"$error":"#DIV/0!"},{"$error":"#DIV/0!"},{"$error":"#DIV/0!"},{"$f":"'P4P - General Info'!$F$41","v":0},null,null,null,null,null,null,null,null,null,null,null,null,null,null,null,null,null,null,null,null,null,null,null,null,null,null,null,null,null,"Fuel Oil / Diesel","Liters","Fuel Oil / DieselLiters",36.06,null,null,null,null,"Multifamily","Multifamily"]
[null,null,null,null,"Restaurant",{"$f":"'P4P - General Info'!$C$41","v":0},{"$f":"IF($F$36=E20,N128*(1+0.06*($J$36/$H$36)),IF($F$37=E20,N128*(1+0.06*($J$37/$H$37)),IF($F$38=E20,N128*(1+0.06*($J$38/$H$38)),0)))","v":0},{"$error":"#DIV/0!"},{"$error":"#DIV/0!"},{"$error":"#DIV/0!"},{"$error":"#DIV/0!"},{"$f":"'P4P - General Info'!$F$41","v":0},null,null,null,null,null,null,null,null,null,null,null,null,null,null,null,null,null,null,null,null,null,null,null,null,null,null,null,null,null,"Fuel Oil / Diesel","Gallons","Fuel Oil / DieselGallons",138.69049999999999,null,null,null,null,"All Others","Museum"]
[null,null,null,null,"Retail",{"$f":"'P4P - General Info'!$C$41","v":0},{"$f":"IF($F$36=E21,N125*(1+0.06*($J$36/$H$36)),IF($F$37=E21,N125*(1+0.06*($J$37/$H$37)),IF($F$38=E21,N125*(1+0.06*($J$38/$H$38)),0)))","v":0},{"$error":"#DIV/0!"},{"$error":"#DIV/0!"},{"$error":"#DIV/0!"},{"$error":"#DIV/0!"},{"$f":"'P4P - General Info'!$F$41","v":0},null,null,null,null,null,null,null,null,null,null,null,null,null,null,null,null,null,null,null,null,null,null,null,null,null,null,null,null,null,"Fuel Oil (No. 5 & No.6)","Liters","Fuel Oil (No. 5 & No.6)Liters",38.92,null,null,null,null,"Office","Office"]
[null,null,null,null,"School",{"$f":"'P4P - General Info'!$C$41","v":0},{"$f":"IF($F$36=E22,N126*(1+0.06*($J$36/$H$36)),IF($F$37=E22,N126*(1+0.06*($J$37/$H$37)),IF($F$38=E22,N126*(1+0.06*($J$38/$H$38)),0)))","v":0},{"$error":"#DIV/0!"},{"$error":"#DIV/0!"},{"$error":"#DIV/0!"},{"$error":"#DIV/0!"},{"$f":"'P4P - General Info'!$F$41","v":0},null,null,null,null,null,null,null,null,null,null,null,null,null,null,null,null,null,null,null,null,null,null,null,null,null,null,null,null,null,"Fuel Oil (No. 5 & No.6)","Gallons","Fuel Oil (No. 5 & No.6)Gallons",149.69,null,null,null,null,"All Others","Parking garage"]
[null,null,null,null,"Warehouse",{"$f":"'P4P - General Info'!$C$41","v":0},{"$f":"IF($F$36=E23,N130*(1+0.06*($J$36/$H$36)),IF($F$37=E23,N130*(1+0.06*($J$37/$H$37)),IF($F$38=E23,N130*(1+0.06*($J$38/$H$38)),0)))","v":0},{"$error":"#DIV/0!"},{"$error":"#DIV/0!"},{"$error":"#DIV/0!"},{"$error":"#DIV/0!"},{"$f":"'P4P - General Info'!$F$41","v":0},null,null,null,null,null,null,null,null,null,null,null,null,null,null,null,null,null,null,null,null,null,null,null,null,null,null,null,null,null,"Propane","Gallons","PropaneGallons",91.65,null,null,null,null,"All Others","Penitentiary"]
[null,null,null,null,"All Others",{"$f":"'P4P - General Info'!$C$41","v":0},{"$f":"IF($F$36=E24,N132*(1+0.06*($J$36/$H$36)),IF($F$37=E24,N132*(1+0.06*($J$37/$H$37)),IF($F$38=E24,N132*(1+0.06*($J$38/$H$38)),0)))","v":0},{"$error":"#DIV/0!"},{"$error":"#DIV/0!"},{"$error":"#DIV/0!"},{"$error":"#DIV/0!"},{"$f":"'P4P - General Info'!$F$41","v":0},null,null,null,null,null,null,null,null,null,null,null,null,null,null,null,null,null,null,null,null,null,null,null,null,null,null,null,null,null,"Propane","Liters","PropaneLiters",23.83,null,null,null,null,"All Others","Performing arts theater"]
[null,null,null,null,null,null,null,null,null,null,null,null,null,null,null,null,null,null,null,null,null,null,null,null,null,null,null,null,null,null,null,null,null,null,null,null,null,null,null,null,null,"Coal (anthracite)","Lbs.","Coal (anthracite)Lbs.",12.545,null,null,null,null,"All Others","Police station"]
[null,null,null,null,null,null,null,null,null,null,null,null,null,null,null,null,null,null,null,null,null,null,null,null,null,null,null,null,null,null,null,null,null,null,null,null,null,null,null,null,null,"Coal (anthracite)","kLbs.","Coal (anthracite)kLbs.",12545,null,null,null,null,"All Others","Post office"]
[null,null,null,null,null,null,null,null,null,null,null,null,null,null,null,null,null,null,null,null,null,null,null,null,null,null,null,null,null,null,null,null,null,null,null,null,null,null,null,null,null,"Coal (anthracite)","MLbs.","Coal (anthracite)MLbs.",12545000,null,null,null,null,"All Others","Religious building"]
[null,null,null,null,"Cost",null,"Source Energy",null,null,null,null,null,null,null,null,null,null,null,null,null,null,null,null,null,null,null,null,null,null,null,null,null,null,null,null,null,null,null,null,null,null,"Coal (anthracite)","Tons","Coal (anthracite)Tons",24800,null,null,null,null,"Retail","Retail"]
[null,null,null,null,"Modeled BBREC",{"$f":"'P4P - Measure Simulation'!F47-F30","v":0},"Modeled BBREC",{"$f":"'P4P - Measure Simulation'!P47-H30","v":0},null,null,null,null,null,null,null,null,null,null,null,null,null,null,null,null,null,null,null,null,null,null,null,null,null,null,null,null,null,null,null,null,null,"Coal (bituminous)","Lbs.","Coal (bituminous)Lbs.",12.465,null,null,null,null,"School","School/university"]
[null,null,null,null,"Modeled BBUEC",{"$f":"'P4P - Measure Simulation'!F37+'P4P - Measure Simulation'!F42+'P4P - Measure Simulation'!F44+'P4P - Measure Simulation'!F46","v":0},"Modeled BBUEC",{"$f":"'P4P - Measure Simulation'!P37+'P4P - Measure Simulation'!P42+'P4P - Measure Simulation'!P44+'P4P - Measure Simulation'!P46","v":0},null,null,null,null,null,null,null,null,null,null,null,null,null,null,null,null,null,null,null,null,null,null,null,null,null,null,null,null,null,null,null,null,null,"Coal (bituminous)","kLbs.","Coal (bituminous)kLbs.",12465,null,null,null,null,"All Others","Sports arena"]
[null,null,null,null,"BBP",{"$f":"F30+F29","v":0},"BBP",{"$f":"H29+H30","v":0},null,null,null,null,null,null,null,null,null,null,null,null,null,null,null,null,null,null,null,null,null,null,null,null,null,null,null,null,null,null,null,null,null,"Coal (bituminous)","MLbs","Coal (bituminous)MLbs",12465000,null,null,null,null,"Office","Town hall"]
[null,null,null,null,null,null,null,null,null,null,null,null,null,null,null,null,null,null,null,null,null,null,null,null,null,null,null,null,null,null,null,null,null,null,null,null,null,null,null,null,null,"Coal (bituminous)","Tons","Coal (bituminous)Tons",24930,null,null,null,null,"All Others","Transportation"]
[null,null,null,null,null,null,null,null,null,null,null,null,null,null,null,null,null,null,null,null,null,null,null,null,null,null,null,null,null,null,null,null,null,null,null,null,null,null,null,null,null,"Coke","Lbs.","CokeLbs.",12.4,null,null,null,null,"Warehouse","Warehouse"]
[null,null,null,null,null,null,null,null,null,null,null,null,null,null,null,null,null,null,null,null,null,null,null,null,null,null,null,null,null,null,null,null,null,null,null,null,null,null,null,null,null,"Coke","kLbs.","CokekLbs.",12400,null,null,null,null,"All Others","Workshop"]
[null,null,null,null,null,"Building Type","Minimum Performance","Area (SF)","New Construction (SF)","Renovation (SF)","% Area of Total Building",null,null,null,null,null,null,null,null,null,null,null,null,null,null,null,null,null,null,null,null,null,null,null,null,null,null,null,null,null,null,"Coke","MLbs","CokeMLbs",12400000]
[null,null,null,null,"Building Type 1",{"$f":"'P4P - General Info'!C28","v":""},{"$f":"IF('P4P - General Info'!C28=\"multifamily\",0.15,0.05)","v":0.05},{"$f":"'P4P - General Info'!C33","v":0},{"$f":"'P4P - General Info'!C29+'P4P - General Info'!C31","v":0},{"$f":"'P4P - General Info'!C30+'P4P - General Info'!C32","v":0},{"$f":"H36/SUM($H$36:$H$38)","v":{"$error":"#DIV/0!"}},null,null,null,null,null,null,null,null,null,null,null,null,null,null,null,null,null,null,null,null,null,null,null,null,null,null,null,null,null,null,"Coke","Tons","CokeTons",24800]
[null,null,null,null,"Building Type 2",{"$f":"'P4P - General Info'!D28","v":""},{"$f":"IF('P4P - General Info'!D28=\"multifamily\",0.15,0.05)","v":0.05},{"$f":"'P4P - General Info'!D33","v":0},{"$f":"'P4P - General Info'!D29+'P4P - General Info'!D31","v":0},{"$f":"'P4P - General Info'!D30+'P4P - General Info'!D32","v":0},{"$f":"H37/SUM($H$36:$H$38)","v":{"$error":"#DIV/0!"}},null,null,null,null,null,null,null,null,null,null,null,null,null,null,null,null,null,null,null,null,null,null,null,null,null,null,null,null,null,null,"Wood","Lbs.","WoodLbs.",7.69]
[null,null,null,null,"Building Type 3",{"$f":"'P4P - General Info'!E28","v":""},{"$f":"IF('P4P - General Info'!E28=\"multifamily\",0.15,0.05)","v":0.05},{"$f":"'P4P - General Info'!E33","v":0},{"$f":"'P4P - General Info'!E29+'P4P - General Info'!E31","v":0},{"$f":"'P4P - General Info'!E30+'P4P - General Info'!E32","v":0},{"$f":"H38/SUM($H$36:$H$38)","v":{"$error":"#DIV/0!"}},null,null,null,null,null,null,null,null,null,null,null,null,null,null,null,null,null,null,null,null,null,null,null,null,null,null,null,null,null,null,"Wood","Tons","WoodTons",15380]
[null,null,null,null,null,null,null,null,null,null,null,null,null,null,null,null,null,null,null,null,null,null,null,null,null,null,null,null,null,null,null,null,null,null,null,null,null,null,null,null,null,"All","MMBtu","AllMMBtu",1000]
[null,null,null,null,"Mixed Used Minimum Performance Value",null,{"$f":"SUMPRODUCT(G36:G38,H36:H38)/SUM(H36:H38)","v":{"$error":"#DIV/0!"}}]
[]
[]
[null,null,null,null,"EPA Portfolio Manager August 2018, Source-Site Ratios"]
[null,null,null,null,"Energy Type EPA","Energy Type","US","Canada"]
[null,null,null,null,"Electricity (Grid Purchase)","Electricity",2.8,1.96]
[null,null,null,null,"Electricity (Onsite Solar or Wind, RECs Retained)",null,1,1]
[null,null,null,null,"Electricity (Onsite Solar or Wind, RECs Sold/Arbitrage)",null,2.8,1.96]
[null,null,null,null,"Natural Gas","Natural Gas",1.05,1.01]
[null,null,null,null,"Fuel Oil (No. 1,2,4,5,6, Diesel, Kerosene)","Oil",1.01,1.01]
[null,null,null,null,"Propane & Liquid Propane","Propane",1.01,1.04]
[null,null,null,null,"Steam","Steam",1.2,1.33]
[null,null,null,null,"Hot Water","Hot Water",1.2,1.33]
[null,null,null,null,"Chilled Water","Chilled Water",0.91,0.56999999999999995]
[null,null,null,null,"Wood",null,1,1]
[null,null,null,null,"Coal/Coke",null,1,1]
[null,null,null,null,"Other","Other Fuel",1,1]
[]
[null,null,null,null,null,"4A/5A Whole Building Utility Performance Factor (WBUPF) - Project Specific",null,null,null,null,null,null,null,null,"Site Baseline Adjustment Factor"]
[null,null,null,null,"P4P Building Types","Multifamily","Healthcare/Hospital","Hotel/Motel","Office","Restaurant","Retail","School","Warehouse","All Others"]
[null,null,null,null,"Space Heating (Regulated)",{"$f":"IF(GI_Version_Yr=\"90.1 2016\",F102,IF(GI_Version_Yr=\"90.1 2019\",F81,F102))","v":0.2745753929418327},0.49526545600342131,0.33523080519662518,0.4391565641103401,0.8242309727560615,0.38410807606641351,0.31595670496313888,0.62356069045357487,0.46151058281142598,{"$f":"SUMIF($F$59:$N$59,$F$36,F60:N60)*$K$36+SUMIF($F$59:$N$59,$F$37,F60:N60)*$K$37+SUMIF($F$59:$N$59,$F$38,F60:N60)*$K$38","v":{"$error":"#DIV/0!"}}]
[null,null,null,null,"Cooling (Regulated)",{"$f":"IF(GI_Version_Yr=\"90.1 2016\",F103,IF(GI_Version_Yr=\"90.1 2019\",F82,F103))","v":0.83558871919782718},0.58229144734349858,0.69111985044583024,0.6364371073763746,0.53153632965831576,0.48990006041065526,0.45899386206849146,0.34189205835810171,0.57096992935738689,{"$f":"SUMIF($F$59:$N$59,$F$36,F61:N61)*$K$36+SUMIF($F$59:$N$59,$F$37,F61:N61)*$K$37+SUMIF($F$59:$N$59,$F$38,F61:N61)*$K$38","v":{"$error":"#DIV/0!"}}]
[null,null,null,null,"Ventilation (Regulated)",{"$f":"IF(GI_Version_Yr=\"90.1 2016\",F104,IF(GI_Version_Yr=\"90.1 2019\",F83,F104))","v":0.84704034506925507},0.63916877489646928,0.6157807761190679,0.78729159731770659,0.44520645037058343,0.50356899130349941,0.43448255042209633,0.4231201932017028,0.58695745983754755,{"$error":"#DIV/0!"}]
[null,null,null,null,"Water Heating (Regulated)",{"$f":"IF(GI_Version_Yr=\"90.1 2016\",F105,IF(GI_Version_Yr=\"90.1 2019\",F84,F105))","v":0.99723030188854289},0.93130417075195582,0.99757916032240412,0.97768122389384715,0.99821507810512244,0.94763881379954218,0.988020754953156,0.9685174584467845,0.97577337027016942,{"$error":"#DIV/0!"}]
[null,null,null,null,"Lighting (Regulated)",{"$f":"IF(GI_Version_Yr=\"90.1 2016\",F106,IF(GI_Version_Yr=\"90.1 2019\",F85,F106))","v":0.7494091704893604},0.78340978983182619,0.57473524353344452,0.54287172907307768,0.33617650584087844,0.66163723719761824,0.2928914708987338,0.37054250698536528,0.53895920673128805,{"$error":"#DIV/0!"}]
[null,null,null,null,"Lighting (Unregulated)",{"$f":"IF(GI_Version_Yr=\"90.1 2016\",F107,IF(GI_Version_Yr=\"90.1 2019\",F86,F107))","v":1},1,1,1,1,1,1,1,1,{"$error":"#DIV/0!"}]
[null,null,null,null,"Pumps (Regulated)",{"$f":"IF(GI_Version_Yr=\"90.1 2016\",F108,IF(GI_Version_Yr=\"90.1 2019\",F87,F108))","v":0.71077580561403408},0.59510847838671155,0.6525332751172036,0.68535779193386492,0.61832958806020621,0.61832958806020621,0.44787258924921719,0.61832958806020621,0.68194132338350499,{"$error":"#DIV/0!"}]
[null,null,null,null,"Heat Rejection (Regulated)",{"$f":"IF(GI_Version_Yr=\"90.1 2016\",F109,IF(GI_Version_Yr=\"90.1 2019\",F88,F109))","v":0.39008246527777724},0.35620470548778338,0.37754586263591244,0.38635041714217666,0.37754586263591244,0.37754586263591244,0.37754586263591244,0.37754586263591244,0.37754586263591244,{"$error":"#DIV/0!"}]
[null,null,null,null,"Supplemental Heat Pump (Regulated)",{"$f":"IF(GI_Version_Yr=\"90.1 2016\",F110,IF(GI_Version_Yr=\"90.1 2019\",F89,F110))","v":0.2745753929418327},0.49526545600342131,0.33523080519662518,0.4391565641103401,0.8242309727560615,0.38410807606641351,0.31595670496313888,0.62356069045357487,0.46151058281142598,{"$error":"#DIV/0!"}]
[null,null,null,null,"Exterior Usage (Regulated)",{"$f":"IF(GI_Version_Yr=\"90.1 2016\",F111,IF(GI_Version_Yr=\"90.1 2019\",F90,F111))","v":0.45411861158609967},0.41686949042775839,0.53116408373465052,0.2624904854669739,0.32207347652527368,0.33181936548408564,0.31158990123146679,0.46191858989311729,0.38650550054367816,{"$error":"#DIV/0!"}]
[null,null,null,null,"Plug and Process Load (Unregulated)",{"$f":"IF(GI_Version_Yr=\"90.1 2016\",F112,IF(GI_Version_Yr=\"90.1 2019\",F91,F112))","v":1},1,1,1,1,1,1,1,1,{"$error":"#DIV/0!"}]
[null,null,null,null,"Elevator/ Misc. Energy (Regulated)",{"$f":"IF(GI_Version_Yr=\"90.1 2016\",F113,IF(GI_Version_Yr=\"90.1 2019\",F92,F113))","v":1.5046876781595588},0.99964043242070089,0.88542553960932446,0.8943719127019607,0.95498546070813595,0.95498546070813595,0.49080174064913545,0.95498546070813595,0.95498546070813606,{"$error":"#DIV/0!"}]
[null,null,null,null,"Misc. Energy (Unregulated)",{"$f":"IF(GI_Version_Yr=\"90.1 2016\",F114,IF(GI_Version_Yr=\"90.1 2019\",F93,F114))","v":1},1,1,1,1,1,1,1,1,{"$error":"#DIV/0!"}]
[null,null,null,null,"Refrigeration (Regulated)",{"$f":"IF(GI_Version_Yr=\"90.1 2016\",F115,IF(GI_Version_Yr=\"90.1 2019\",F94,F115))","v":0.79753616618227174},0.77875647022146033,0.80804510606226665,0.79753616618227174,0.77697965832292271,0.79753616618227174,0.82636343012243763,0.79753616618227174,0.79753616618227186,{"$error":"#DIV/0!"}]
[null,null,null,null,"Refrigeration (Unregulated)",{"$f":"IF(GI_Version_Yr=\"90.1 2016\",F116,IF(GI_Version_Yr=\"90.1 2019\",F95,F116))","v":1},1,1,1,1,1,1,1,1,{"$error":"#DIV/0!"}]
[null,null,null,null,"Regulated Site EUI-based BPF",{"$f":"IF(GI_Version_Yr=\"90.1 2016\",F117,IF(GI_Version_Yr=\"90.1 2019\",F96,F117))","v":0.7067241254539951},0.62642055776797567,0.65168917429311168,0.56810306030305502,0.74434927678540763,0.51505769281236913,0.39441407887587682,0.53494724988486975,0.55000000000000004,{"$error":"#DIV/0!"}]
[null,null,null,null,"Ratio of 2019 vs 2004 Regulated Electricity Use",{"$f":"IF(GI_Version_Yr=\"90.1 2016\",F118,IF(GI_Version_Yr=\"90.1 2019\",F97,F118))","v":0.85055052329158998},0.6405758032550144,0.63307990065486186,0.59144923808798389,0.52307027126332939,0.56919755487307444,0.40183280776047103,0.41331879288109569,0.56999999999999995,{"$error":"#DIV/0!"}]
[null,null,null,null,"Ratio of 2019 vs 2004 Regulated Gas Use",{"$f":"IF(GI_Version_Yr=\"90.1 2016\",F119,IF(GI_Version_Yr=\"90.1 2019\",F98,F119))","v":0.44598209003434075},0.63488490514345108,0.71123030711145951,0.48677683815988981,0.87190751943211997,0.43109426648699745,0.38389623196961287,0.6235606904535731,0.5,{"$error":"#DIV/0!"}]
[]
[null,null,null,null,null,"4A/5A Whole Building Utility Performance Factor (WBUPF) -  Average 2019",null,null,null,null,null,null,null,null,"Site Baseline Adjustment Factor"]
[null,null,null,null,"P4P Building Types","Multifamily","Healthcare/Hospital","Hotel/Motel","Office","Restaurant","Retail","School","Warehouse","All Others"]
[null,null,null,null,"Space Heating (Regulated)",0.3067472119443389,0.36460004525623063,0.23481603519704991,0.42310878879428693,0.63965948431305253,0.63581445398338421,0.23097690550001126,0.65680256070366128,0.43656568571150201,{"$f":"SUMIF($F$59:$N$59,$F$36,F81:N81)*$K$36+SUMIF($F$59:$N$59,$F$37,F81:N81)*$K$37+SUMIF($F$59:$N$59,$F$38,F81:N81)*$K$38","v":{"$error":"#DIV/0!"}}]
[null,null,null,null,"Cooling (Regulated)",0.72294255678052433,0.63633952526928661,0.57543008866571088,0.55057811821690916,0.49067697972680052,0.48330021255716871,0.48886818303900537,0.45407790707118795,0.55027669641582422,{"$error":"#DIV/0!"}]
[null,null,null,null,"Ventilation (Regulated)",0.78883552024233816,0.63835850098487579,0.4988266426149528,0.71344569052754425,0.32089436361442747,0.37682054156947575,0.41726795294463159,0.66098190556054748,0.55192888975734911,{"$error":"#DIV/0!"}]
[null,null,null,null,"Water Heating (Regulated)",0.99674841919245161,0.93066318422537886,0.99578734528928259,0.97573313049584698,0.99859444662877683,0.94788281205581137,0.98616119190434937,0.96895077821391573,0.97506516350072658,{"$error":"#DIV/0!"}]
[null,null,null,null,"Lighting (Regulated)",0.60697939860183037,0.70313196155144164,0.36540683680986358,0.43724798087917832,0.30485253470900453,0.56140538311492871,0.24402564932722789,0.34387362713364888,0.44586542151589048,{"$error":"#DIV/0!"}]
[null,null,null,null,"Lighting (Unregulated)",1,1,1,1,1,1,1,1,1,{"$error":"#DIV/0!"}]
[null,null,null,null,"Pumps (Regulated)",0.53698488377333409,0.46966496992640933,0.62564953999193074,0.65154585619165661,0.51684050874890008,0.51684050874890008,0.30035729386116972,0.51684050874890008,0.51684050874890008,{"$error":"#DIV/0!"}]
[null,null,null,null,"Heat Rejection (Regulated)",0.35814530053660787,0.33616772886124102,0.40769885037367426,0.52878352172317389,0.40769885037367426,0.40769885037367426,0.40769885037367426,0.40769885037367426,0.40769885037367437,{"$error":"#DIV/0!"}]
[null,null,null,null,"Supplemental Heat Pump (Regulated)",0.3067472119443389,0.3273736024748804,0.23481603519704991,0.36513020946868469,0.63965948431305253,0.63581445398338421,0.23097690550001126,0.65680256070366128,0.42466505794813292,{"$error":"#DIV/0!"}]
[null,null,null,null,"Exterior Usage (Regulated)",0.45411778565099081,0.41686334019455229,0.53115594526460597,0.26248918870281612,0.32207347652527379,0.3466027908243966,0.31158990123146679,0.46163413964197819,0.38831582100451006,{"$error":"#DIV/0!"}]
[null,null,null,null,"Plug and Process Load (Unregulated)",1,1,1,1,1,1,1,1,1,{"$error":"#DIV/0!"}]
[null,null,null,null,"Elevator/ Misc. Energy (Regulated)",0.91611223415683773,0.99718507468870587,0.83865632421850322,0.89976654140797419,0.82807952718303157,0.82807952718303157,0.4886774614431374,0.82807952718303157,0.82807952718303146,{"$error":"#DIV/0!"}]
[null,null,null,null,"Misc. Energy (Unregulated)",1,1,1,1,1,1,1,1,1,{"$error":"#DIV/0!"}]
[null,null,null,null,"Refrigeration (Regulated)",0.5489548895893217,0.52241167146799272,0.60554477095903159,0.5489548895893217,0.51209403232965156,0.5489548895893217,0.55576908360061106,0.5489548895893217,0.54895488958932182,{"$error":"#DIV/0!"}]
[null,null,null,null,"Refrigeration (Unregulated)",1,1,1,1,1,1,1,1,1,{"$error":"#DIV/0!"}]
[null,null,null,null,"Regulated Site EUI-based BPF",0.61482609283062994,0.5565930114921247,0.55367893782148614,0.50270861438379477,0.60167920953941201,0.55178136009596312,0.35698583433802189,0.56112650196470248,0.52399337667281176,{"$error":"#DIV/0!"}]
[null,null,null,null,"Ratio of 2019 vs 2004 Regulated Electricity Use",0.71864629938299163,0.61299889945792918,0.52438798377117435,0.53061776872341915,0.41540718141524569,0.48569361839155234,0.37871174813044245,0.41872998687370611,0.50312147812256147,{"$error":"#DIV/0!"}]
[null,null,null,null,"Ratio of 2019 vs 2004 Regulated Gas Use",0.44250242522623578,0.51001398512248808,0.64393687834624247,0.48052160816580353,0.76071156574150611,0.65544173256062865,0.31173869260644382,0.65680256070366128,0.54273496832538737,{"$error":"#DIV/0!"}]
[]
[null,null,null,null,null,"4A/5A Whole Building Utility Performance Factor (WBUPF) -  Average 2016",null,null,null,null,null,null,null,null,"Site Baseline Adjustment Factor"]
[null,null,null,null,"P4P Building Types","Multifamily","Healthcare/Hospital","Hotel/Motel","Office","Restaurant","Retail","School","Warehouse","All Others"]
[null,null,null,null,"Space Heating (Regulated)",0.2745753929418327,0.49526545600342131,0.33523080519662518,0.4391565641103401,0.8242309727560615,0.38410807606641351,0.31595670496313888,0.62356069045357487,0.46151058281142598,{"$f":"SUMIF($F$59:$N$59,$F$36,F102:N102)*$K$36+SUMIF($F$59:$N$59,$F$37,F102:N102)*$K$37+SUMIF($F$59:$N$59,$F$38,F102:N102)*$K$38","v":{"$error":"#DIV/0!"}}]
[null,null,null,null,"Cooling (Regulated)",0.83558871919782718,0.58229144734349858,0.69111985044583024,0.6364371073763746,0.53153632965831576,0.48990006041065526,0.45899386206849146,0.34189205835810171,0.57096992935738689,{"$error":"#DIV/0!"}]
[null,null,null,null,"Ventilation (Regulated)",0.84704034506925507,0.63916877489646928,0.6157807761190679,0.78729159731770659,0.44520645037058343,0.50356899130349941,0.43448255042209633,0.4231201932017028,0.58695745983754755,{"$error":"#DIV/0!"}]
[null,null,null,null,"Water Heating (Regulated)",0.99723030188854289,0.93130417075195582,0.99757916032240412,0.97768122389384715,0.99821507810512244,0.94763881379954218,0.988020754953156,0.9685174584467845,0.97577337027016942,{"$error":"#DIV/0!"}]
[null,null,null,null,"Lighting (Regulated)",0.7494091704893604,0.78340978983182619,0.57473524353344452,0.54287172907307768,0.33617650584087844,0.66163723719761824,0.2928914708987338,0.37054250698536528,0.53895920673128805,{"$error":"#DIV/0!"}]
[null,null,null,null,"Lighting (Unregulated)",1,1,1,1,1,1,1,1,1,{"$error":"#DIV/0!"}]
[null,null,null,null,"Pumps (Regulated)",0.71077580561403408,0.59510847838671155,0.6525332751172036,0.68535779193386492,0.61832958806020621,0.61832958806020621,0.44787258924921719,0.61832958806020621,0.68194132338350499,{"$error":"#DIV/0!"}]
[null,null,null,null,"Heat Rejection (Regulated)",0.39008246527777724,0.35620470548778338,0.37754586263591244,0.38635041714217666,0.37754586263591244,0.37754586263591244,0.37754586263591244,0.37754586263591244,0.37754586263591244,{"$error":"#DIV/0!"}]
[null,null,null,null,"Supplemental Heat Pump (Regulated)",0.2745753929418327,0.49526545600342131,0.33523080519662518,0.4391565641103401,0.8242309727560615,0.38410807606641351,0.31595670496313888,0.62356069045357487,0.46151058281142598,{"$error":"#DIV/0!"}]
[null,null,null,null,"Exterior Usage (Regulated)",0.45411861158609967,0.41686949042775839,0.53116408373465052,0.2624904854669739,0.32207347652527368,0.33181936548408564,0.31158990123146679,0.46191858989311729,0.38650550054367816,{"$error":"#DIV/0!"}]
[null,null,null,null,"Plug and Process Load (Unregulated)",1,1,1,1,1,1,1,1,1,{"$error":"#DIV/0!"}]
[null,null,null,null,"Elevator/ Misc. Energy (Regulated)",1.5046876781595588,0.99964043242070089,0.88542553960932446,0.8943719127019607,0.95498546070813595,0.95498546070813595,0.49080174064913545,0.95498546070813595,0.95498546070813606,{"$error":"#DIV/0!"}]
[null,null,null,null,"Misc. Energy (Unregulated)",1,1,1,1,1,1,1,1,1,{"$error":"#DIV/0!"}]
[null,null,null,null,"Refrigeration (Regulated)",0.79753616618227174,0.77875647022146033,0.80804510606226665,0.79753616618227174,0.77697965832292271,0.79753616618227174,0.82636343012243763,0.79753616618227174,0.79753616618227186,{"$error":"#DIV/0!"}]
[null,null,null,null,"Refrigeration (Unregulated)",1,1,1,1,1,1,1,1,1,{"$error":"#DIV/0!"}]
[null,null,null,null,"Regulated Site EUI-based BPF",0.7067241254539951,0.62642055776797567,0.65168917429311168,0.56810306030305502,0.74434927678540763,0.51505769281236913,0.39441407887587682,0.53494724988486975,0.55000000000000004,{"$error":"#DIV/0!"}]
[null,null,null,null,"Ratio of 2016 vs 2004 Regulated Electricity Use",0.85055052329158998,0.6405758032550144,0.63307990065486186,0.59144923808798389,0.52307027126332939,0.56919755487307444,0.40183280776047103,0.41331879288109569,0.56999999999999995,{"$error":"#DIV/0!"}]
[null,null,null,null,"Ratio of 2016 vs 2004 Regulated Gas Use",0.44598209003434075,0.63488490514345108,0.71123030711145951,0.48677683815988981,0.87190751943211997,0.43109426648699745,0.38389623196961287,0.6235606904535731,0.5,{"$error":"#DIV/0!"}]
[]
[null,null,null,null,null,"Cost",null,null,null,null,"Source"]
[null,null,null,null,null," Building Performance Factors (BPF) for Compliance with Standard 90.1 Cost (Relevant for this Project)",null,null,null,null," Building Performance Factors (BPF) for Compliance with Standard 90.1 Source (Relevant for this Project)"]
[null,null,null,null,null,"Building Type","4A","5A","Weighted BPF",null,"Building Type","4A","5A","Weighted BPF"]
[null,null,null,null,null,{"$f":"$E$7","v":"Office"},{"$f":"IF(GI_Version_Yr=\"90.1 2016\",L136,IF(GI_Version_Yr=\"90.1 2019\",G136,L136))","v":0.57999999999999996},{"$f":"IF(GI_Version_Yr=\"90.1 2016\",M136,IF(GI_Version_Yr=\"90.1 2019\",H136,M136))","v":0.6},{"$f":"IF(GI_Version_Yr=\"90.1 2016\",N136,IF(GI_Version_Yr=\"90.1 2019\",I136,N136))","v":0.58666666666666656},null,{"$f":"$E$7","v":"Office"},{"$f":"IF(GI_Version_Yr=\"90.1 2016\",L148,IF(GI_Version_Yr=\"90.1 2019\",G148,L148))","v":0.57999999999999996},{"$f":"IF(GI_Version_Yr=\"90.1 2016\",M148,IF(GI_Version_Yr=\"90.1 2019\",H148,M148))","v":0.6},{"$f":"IF(GI_Version_Yr=\"90.1 2016\",N148,IF(GI_Version_Yr=\"90.1 2019\",I148,N148))","v":0.58666666666666656}]
[null,null,null,null,null,{"$f":"$E$9","v":"Retail"},0.55000000000000004,0.55000000000000004,0.55000000000000004,null,{"$f":"$E$9","v":"Retail"},0.55000000000000004,0.55000000000000004,0.55000000000000004]
[null,null,null,null,null,{"$f":"$E$10","v":"School"},0.49,0.5,0.49333333333333329,null,{"$f":"$E$10","v":"School"},0.49,0.5,0.49333333333333329]
[null,null,null,null,null,{"$f":"$E$5","v":"Healthcare/Hospital"},0.56999999999999995,0.59,0.57666666666666666,null,{"$f":"$E$5","v":"Healthcare/Hospital"},0.56000000000000005,0.59,0.57000000000000006]
[null,null,null,null,null,{"$f":"$E$8","v":"Restaurant"},0.57999999999999996,0.62,0.59333333333333327,null,{"$f":"$E$8","v":"Restaurant"},0.61,0.65,0.62333333333333329]
[null,null,null,null,null,{"$f":"$E$6","v":"Hotel/Motel"},0.62,0.6,0.61333333333333329,null,{"$f":"$E$6","v":"Hotel/Motel"},0.61,0.57999999999999996,0.59999999999999987]
[null,null,null,null,null,{"$f":"$E$11","v":"Warehouse"},0.57999999999999996,0.6,0.58666666666666656,null,{"$f":"$E$11","v":"Warehouse"},0.57999999999999996,0.61,0.58999999999999986]
[null,null,null,null,null,{"$f":"$E$4","v":"Multifamily"},0.78,0.76,0.77333333333333332,null,{"$f":"$E$4","v":"Multifamily"},0.78,0.76,0.77333333333333332]
[null,null,null,null,null,{"$f":"$E$12","v":"All Others"},0.57999999999999996,0.56999999999999995,0.57666666666666655,null,{"$f":"$E$12","v":"All Others"},0.6,0.57999999999999996,0.59333333333333327]
[null,null,null,null,null,"Cost 2019",null,null,null,null,"Cost 2016"]
[null,null,null,null,null," Building Performance Factors (BPF) for Compliance with Standard 90.1-2019 Cost",null,null,null,null," Building Performance Factors (BPF) for Compliance with Standard 90.1-2016 Cost"]
[null,null,null,null,null,"Building Type","4A","5A","Weighted BPF",null,"Building Type","4A","5A","Weighted BPF"]
[null,null,null,null,null,{"$f":"$E$7","v":"Office"},0.51,0.51,{"$f":"(2/3)*G136+(1/3)*H136","v":0.51},null,{"$f":"$E$7","v":"Office"},0.57999999999999996,0.6,{"$f":"(2/3)*L136+(1/3)*M136","v":0.58666666666666656}]
[null,null,null,null,null,{"$f":"$E$9","v":"Retail"},0.51,0.5,{"$f":"(2/3)*G137+(1/3)*H137","v":0.5066666666666666},null,{"$f":"$E$9","v":"Retail"},0.55000000000000004,0.55000000000000004,{"$f":"(2/3)*L137+(1/3)*M137","v":0.55000000000000004}]
[null,null,null,null,null,{"$f":"$E$10","v":"School"},0.37,0.36,0.36666666666666664,null,{"$f":"$E$10","v":"School"},0.49,0.5,0.49333333333333329]
[null,null,null,null,null,{"$f":"$E$5","v":"Healthcare/Hospital"},0.55000000000000004,0.56999999999999995,0.55666666666666664,null,{"$f":"$E$5","v":"Healthcare/Hospital"},0.56999999999999995,0.59,0.57666666666666666]
[null,null,null,null,null,{"$f":"$E$8","v":"Restaurant"},0.62,0.63,0.62333333333333329,null,{"$f":"$E$8","v":"Restaurant"},0.57999999999999996,0.62,0.59333333333333327]
[null,null,null,null,null,{"$f":"$E$6","v":"Hotel/Motel"},0.53,0.5,0.52,null,{"$f":"$E$6","v":"Hotel/Motel"},0.62,0.6,0.61333333333333329]
[null,null,null,null,null,{"$f":"$E$11","v":"Warehouse"},0.44,0.49,0.45666666666666667,null,{"$f":"$E$11","v":"Warehouse"},0.57999999999999996,0.6,0.58666666666666656]
[null,null,null,null,null,{"$f":"$E$4","v":"Multifamily"},0.74,0.7,0.72666666666666657,null,{"$f":"$E$4","v":"Multifamily"},0.78,0.76,0.77333333333333332]
[null,null,null,null,null,{"$f":"$E$12","v":"All Others"},0.53,0.51,0.52333333333333332,null,{"$f":"$E$12","v":"All Others"},0.57999999999999996,0.56999999999999995,0.57666666666666655]
[null,null,null,null,null,"Source 2019",null,null,null,null,"Source 2016"]
[null,null,null,null,null,"Building Performance Factors (BPF) for Compliance with Standard 90.1-2019 Source",null,null,null,null,"Building Performance Factors (BPF) for Compliance with Standard 90.1-2016 Source"]
[null,null,null,null,null,"Building Type","4A","5A","Weighted BPF",null,"Building Type","4A","5A","Weighted BPF"]
[null,null,null,null,null,{"$f":"$E$7","v":"Office"},0.51,0.51,{"$f":"(2/3)*G148+(1/3)*H148","v":0.51},null,{"$f":"$E$7","v":"Office"},0.57999999999999996,0.6,{"$f":"(2/3)*L148+(1/3)*M148","v":0.58666666666666656}]
[null,null,null,null,null,{"$f":"$E$9","v":"Retail"},0.51,0.5,{"$f":"(2/3)*G149+(1/3)*H149","v":0.5066666666666666},null,{"$f":"$E$9","v":"Retail"},0.55000000000000004,0.55000000000000004,{"$f":"(2/3)*L149+(1/3)*M149","v":0.55000000000000004}]
[null,null,null,null,null,{"$f":"$E$10","v":"School"},0.37,0.36,0.36666666666666664,null,{"$f":"$E$10","v":"School"},0.49,0.5,0.49333333333333329]
[null,null,null,null,null,{"$f":"$E$5","v":"Healthcare/Hospital"},0.55000000000000004,0.56999999999999995,0.55666666666666664,null,{"$f":"$E$5","v":"Healthcare/Hospital"},0.56000000000000005,0.59,0.57000000000000006]
[null,null,null,null,null,{"$f":"$E$8","v":"Restaurant"},0.64,0.66,0.64666666666666661,null,{"$f":"$E$8","v":"Restaurant"},0.61,0.65,0.62333333333333329]
[null,null,null,null,null,{"$f":"$E$6","v":"Hotel/Motel"},0.54,0.51,0.53,null,{"$f":"$E$6","v":"Hotel/Motel"},0.61,0.57999999999999996,0.59999999999999987]
[null,null,null,null,null,{"$f":"$E$11","v":"Warehouse"},0.45,0.51,0.47,null,{"$f":"$E$11","v":"Warehouse"},0.57999999999999996,0.61,0.58999999999999986]
[null,null,null,null,null,{"$f":"$E$4","v":"Multifamily"},0.72,0.68,0.70666666666666667,null,{"$f":"$E$4","v":"Multifamily"},0.78,0.76,0.77333333333333332]
[null,null,null,null,null,{"$f":"$E$12","v":"All Others"},0.55000000000000004,0.52,0.54,null,{"$f":"$E$12","v":"All Others"},0.6,0.57999999999999996,0.59333333333333327]

{"sheet":"IMPORT","index":4,"n_rows":0,"n_cols":0,"rows_kept":0,"cut":false,"hidden":true,"merged":[]}

{"sheet":"P4P - General Info","index":5,"n_rows":124,"n_cols":17,"rows_kept":124,"cut":false,"hidden":false,"merged":[[14,2,14,3],[0,2,0,5],[1,2,1,5],[2,2,2,5],[6,1,6,6],[7,1,7,6],[8,1,8,6],[9,1,9,6],[12,2,12,3],[13,2,13,3],[10,1,10,6],[15,2,15,3],[24,2,24,6],[26,0,27,0],[26,1,27,1],[47,1,47,6],[40,3,40,4],[117,0,120,0],[123,2,123,6],[60,1,60,6],[126,1,126,6],[90,1,90,6],[91,1,91,6],[92,1,92,6],[106,1,106,6],[107,1,107,6],[108,1,108,6],[109,1,109,6]]}
[null,null,"New Jersey Office of Clean Energy"]
[null,null,"Pay for Performance New Construction Program"]
[null,null,"ERP Tables and Incentive Calculator"]
[]
[null,"Project Information"]
[null,"Instructions"]
[null,"Some cells on this tab will autopopulate when the button for importing information from the Compliance Form is clicked on the \"P4P-Instructions\" tab. Autopopulated cells are grey. Check each grey cell to ensure it has been populated before continuing to the next tab. Reimport from the Compliance Form as needed. If the import does not work for the version of Excel you are using, manually enter information in the grey cells on this tab. Manually entered cells will show with bold red font.\n"]
[null,"3) Select 'Yes' if the customer is a high energy intensity user (see Partner Guidelines v4.4, Section 2.4.4).  This triggers additional incentive if eligible.  Projects with \"Multifamily\" portions of buildings shall not be specified as 'High Energy Intensity Users.\""]
[null,"4) Select 'Yes' if the project is eligible for the pre-design bonus incentive (see Partner Guidelines v4.4, Section 3.2 ).  This triggers additional incentive if eligible."]
[]
[null,"Note: selecting eQUEST or Trace (Trace = Trace700) in the Modeling Software field will enable a tab for automatically populating model results from software Excel reports."]
[]
[null,"Project Name",{"$f":"IF('P4P - LEED Inputs'!C13=\"\",\"-\",'P4P - LEED Inputs'!C13)","v":"-"}]
[null,"Project Address",{"$f":"IFERROR(INDEX(ImportsingleRowdata,2,37),\"-\")","v":"-"}]
[null,"Project City, State, and Zip",{"$f":"IFERROR(IF(OR(INDEX(ImportsingleRowdata,2,38)=0,INDEX(ImportsingleRowdata,2,38)=\"\"),\"-\",IFERROR(INDEX(ImportsingleRowdata,2,38)&\", \"&INDEX(ImportsingleRowdata,2,39)&\", \"&INDEX(ImportsingleRowdata,2,40),\"-\")),\"-\")","v":"-"}]
[null,"Partner Company"]
[null,"Application Number"]
[null,"Milestone","<Choose>"]
[null,"Modeling Software",{"$f":"IFERROR(INDEX('P4P - Support Data'!$BB$3:$BB$11,MATCH(INDEX(ImportsingleRowdata,2,30),'P4P - Support Data'!$BA$3:$BA$11,0),1),\"<Choose>\")","v":"<Choose>"},{"$f":"IFERROR(INDEX(ImportsingleRowdata,2,42),\"-\")","v":"-"},null,null,null,null,null,null,null,null,{"$f":"IF(LEFT(formulaTextCustom(C19),3)<>\"=IF\",1,0)","v":0},{"$f":"IF(LEFT(formulaTextCustom(D19),3)<>\"=IF\",1,0)","v":0}]
[null,"Revision #"]
[null,"Program Compliance Path","Appendix G",{"$f":"IFERROR(\"90.1 \"&_xlfn.NUMBERVALUE(MID(INDEX(ImportsingleRowdata,2,COLUMN(IMPORT!$AB$15)),SEARCH(\"-\",INDEX(ImportsingleRowdata,2,COLUMN(IMPORT!$AB$15)),1)+1,4)),\"-\")","v":"-"},null,null,null,null,null,null,null,null,null,{"$f":"IF(LEFT(formulaTextCustom(D21),3)<>\"=IF\",1,0)","v":0}]
[null,"High Energy Intensity User?","<Choose>"]
[null,"Eligible for Pre-design Bonus?","<Choose>"]
[]
[null,"Project/Site Overview "]
[]
["4)","Building Type ","Predominant","Secondary","Tertiary"]
[null,null,{"$f":"IF('P4P - LEED Inputs'!C14=0,\"\",'P4P - LEED Inputs'!C14)","v":""},{"$f":"IF('P4P - LEED Inputs'!C15=0,\"\",'P4P - LEED Inputs'!C15)","v":""},{"$f":"IF('P4P - LEED Inputs'!C16=0,\"\",'P4P - LEED Inputs'!C16)","v":""}]
[null,"Total New Construction Conditioned Square Footage",{"$f":"IF('P4P - LEED Inputs'!D14=\"\",\"\",'P4P - LEED Inputs'!D14)","v":0},{"$f":"IF('P4P - LEED Inputs'!D15=\"\",\"\",'P4P - LEED Inputs'!D15)","v":0},{"$f":"IF('P4P - LEED Inputs'!D16=\"\",\"\",'P4P - LEED Inputs'!D16)","v":0}]
[null,"Total Renovation Conditioned Square Footage",{"$f":"IF('P4P - LEED Inputs'!E14=\"\",\"\",'P4P - LEED Inputs'!E14)","v":0},{"$f":"IF('P4P - LEED Inputs'!E15=\"\",\"\",'P4P - LEED Inputs'!E15)","v":0},{"$f":"IF('P4P - LEED Inputs'!E16=\"\",\"\",'P4P - LEED Inputs'!E16)","v":0}]
[null,"Total New Construction Unconditioned Square Footage",{"$f":"IF('P4P - LEED Inputs'!F14=\"\",\"\",'P4P - LEED Inputs'!F14)","v":0},{"$f":"IF('P4P - LEED Inputs'!F15=\"\",\"\",'P4P - LEED Inputs'!F15)","v":0},{"$f":"IF('P4P - LEED Inputs'!F16=\"\",\"\",'P4P - LEED Inputs'!F16)","v":0}]
[null,"Total Renovation Unconditioned Square Footage",{"$f":"IF('P4P - LEED Inputs'!G14=\"\",\"\",'P4P - LEED Inputs'!G14)","v":0},{"$f":"IF('P4P - LEED Inputs'!G15=\"\",\"\",'P4P - LEED Inputs'!G15)","v":0},{"$f":"IF('P4P - LEED Inputs'!G16=\"\",\"\",'P4P - LEED Inputs'!G16)","v":0}]
[null,"Gross Square Footage",{"$f":"SUM(C29:C32)","v":0},{"$f":"SUM(D29:D32)","v":0},{"$f":"SUM(E29:E32)","v":0}]
[null,"% New Construction Area",{"$f":"IFERROR((C29+C31)/C33,0)","v":0},{"$f":"IFERROR((D29+D31)/D33,0)","v":0},{"$f":"IFERROR((E29+E31)/E33,0)","v":0}]
[null,"% Renovation Area",{"$f":"IFERROR((C30+C32)/C33,0)","v":0},{"$f":"IFERROR((D30+D32)/D33,0)","v":0},{"$f":"IFERROR((E30+E32)/E33,0)","v":0}]
[null,"% of Total Area",{"$f":"C33/$C$39","v":{"$error":"#DIV/0!"}},{"$f":"D33/$C$39","v":{"$error":"#DIV/0!"}},{"$f":"E33/$C$39","v":{"$error":"#DIV/0!"}}]
[null,"BPF w/ Renovation Adjustment (Cost)",{"$f":"IFERROR(VLOOKUP(C28,P4P_PCI,3,FALSE),\"0\")","v":"0"},{"$f":"IFERROR(VLOOKUP(D28,P4P_PCI,3,FALSE),\"0\")","v":"0"},{"$f":"IFERROR(VLOOKUP(E28,P4P_PCI,3,FALSE),\"0\")","v":"0"}]
[null,"% Major Renovation by Conditioned Floor Area",{"$f":"IFERROR((C30+D30+E30)/C40,\"-\")","v":"-"}]
[null,"Total Project Square Footage",{"$f":"SUM(C29:E32)","v":0}]
[null,"Gross Conditioned Square Footage",{"$f":"SUM(C29:E30)","v":0}]
[null,"% Unregulated Load Costs (from Model)",{"$f":"IF('P4P - Measure Simulation'!F47=0,0,SUM('P4P - Measure Simulation'!F37+'P4P - Measure Simulation'!F42+'P4P - Measure Simulation'!F44+'P4P - Measure Simulation'!F46)/'P4P - Measure Simulation'!F47)","v":0},"% Unregulated Souce Energy (from Model)",null,{"$f":"IF('P4P - Measure Simulation'!P47=0,0,SUM('P4P - Measure Simulation'!P37+'P4P - Measure Simulation'!P42+'P4P - Measure Simulation'!P44+'P4P - Measure Simulation'!P46)/'P4P - Measure Simulation'!P47)","v":0}]
[null,"Number of Identical Buildings",1]
[null,"Number of Stories Above Grade",{"$f":"IF('P4P - LEED Inputs'!C18=\"\",\"-\",'P4P - LEED Inputs'!C18)","v":0}]
[null,"Number of Stories Below Grade",{"$f":"IF('P4P - LEED Inputs'!C19=\"\",\"\",'P4P - LEED Inputs'!C19)","v":0}]
[null,"BPF w/ Renovation Adjustment (Source Energy)",{"$f":"IFERROR(VLOOKUP(C28,P4P_PCI_Source,3,FALSE),\"0\")","v":"0"},{"$f":"IFERROR(VLOOKUP(D28,P4P_PCI_Source,3,FALSE),\"0\")","v":"0"},{"$f":"IFERROR(VLOOKUP(E28,P4P_PCI_Source,3,FALSE),\"0\")","v":"0"}]
[null,"Performance Targets"]
[]
[null,"The New Jersey Energy Code and ASHRAE Standard 90.1 prescriptive compliance path have exceptions allowing renovated components to be less efficient than new construction. To reflect that, the Building Performance Factor (BPF) that determines the improvement in the regulated energy cost of the proposed design relative to the 90.1-2004 baseline needed in order for the project to meet the reference year version of 90.1 is increased by 6%, which translates into a corresponding reduction in the stringency of the P4P performance target for such projects. This adjustment is incorporated into the ERP incentive tier calculations. For projects that include both major renovation and addition, the adjustment is based on the area-weighted average."]
[]
[null,null,{"$f":"\"Equivalent % Better than Std. \"&GI_Version_Yr","v":"Equivalent % Better than Std. -"},"Maximum Performance Cost Index (PCI)","Equivalent Minimum % Better than Std. 2004","Maximum Performance Cost Index (PCI), Source",{"$f":"\"Equivalent % Better than Std. \"&GI_Version_Yr&\", Source\"","v":"Equivalent % Better than Std. -, Source"},"Equivalent Minimum % Better than Std. 2004, Source"]
["1)","Compliance with ASHRAE 90.1-2004",{"$f":"IF($C$21=\"Appendix G\",\"N/A\",\"\")","v":"N/A"},{"$f":"IF(C21=\"Appendix G\",1,\"N/A\")","v":1},{"$f":"IF($C$21=\"Appendix G\",1-D51,\"\")","v":0},{"$f":"IF(C21=\"Appendix G\",1,\"N/A\")","v":1},{"$f":"IF($C$21=\"Appendix G\",\"N/A\",\"\")","v":"N/A"},{"$f":"IF($C$21=\"Appendix G\",1-F51,\"\")","v":0}]
["2)",{"$f":"\"Compliance with ASHRAE \"&GI_Version_Yr","v":"Compliance with ASHRAE -"},{"$f":"IF($C$21=\"Appendix G\",(D52-$D$52)/$D$52,\"\")","v":{"$error":"#VALUE!"}},{"$f":"IFERROR(IF(C33=\"\",\"\",IF(C21=\"ASHRAE bEQ\",TEXT(K52,\"##.00\"),(((VLOOKUP(C28,P4P_PCI,3,FALSE)*('P4P - Support Data'!F29)+'P4P - Support Data'!F30)/'P4P - Support Data'!F31)*C33+IFERROR(((VLOOKUP(D28,P4P_PCI,3,FALSE)*('P4P - Support Data'!F29)+'P4P - Support Data'!F30)/'P4P - Support Data'!F31)*D33,0)+IFERROR(((VLOOKUP(E28,P4P_PCI,3,FALSE)*('P4P - Support Data'!F29)+'P4P - Support Data'!F30)/'P4P - Support Data'!F31)*E33,0))/SUM(C33:E33))),\"-\")","v":"-"},{"$f":"IF($C$21=\"Appendix G\",1-D52,\"\")","v":{"$error":"#VALUE!"}},{"$f":"IFERROR(IF(C33=\"\",\"\",IF(C21=\"ASHRAE bEQ\",TEXT(K52,\"##.00\"),(((VLOOKUP(C28,P4P_PCI_Source,3,FALSE)*('P4P - Support Data'!H29)+'P4P - Support Data'!H30)/'P4P - Support Data'!H31)*C33+IFERROR(((VLOOKUP(D28,P4P_PCI_Source,3,FALSE)*('P4P - Support Data'!H29)+'P4P - Support Data'!H30)/'P4P - Support Data'!H31)*D33,0)+IFERROR(((VLOOKUP(E28,P4P_PCI_Source,3,FALSE)*('P4P - Support Data'!H29)+'P4P - Support Data'!H30)/'P4P - Support Data'!H31)*E33,0))/SUM(C33:E33))),\"-\")","v":"-"},{"$f":"IF($C$21=\"Appendix G\",(F52-$F$52)/$F$52,\"\")","v":{"$error":"#VALUE!"}},{"$f":"IF($C$21=\"Appendix G\",1-F52,\"\")","v":{"$error":"#VALUE!"}}]
["3)","Tier 1 Incentive Target",{"$f":"IF($C$21=\"Appendix G\",-(D53-$D$52)/$D$52,\"\")","v":{"$error":"#VALUE!"}},{"$f":"IFERROR(IF(P4P_Path=\"ASHRAE bEQ\",TEXT(K53,\"0.00\")&\" <  Score ≤ \"&TEXT(L53,\"0.00\"),(D52*(1-'P4P - Support Data'!G40))),\"\")","v":""},{"$f":"IF($C$21=\"Appendix G\",1-D53,\"\")","v":{"$error":"#VALUE!"}},{"$f":"IFERROR(IF(P4P_Path=\"ASHRAE bEQ\",TEXT(K53,\"0.00\")&\" < Score ≤ \"&TEXT(L53,\"0.00\"),(F52*(1-'P4P - Support Data'!G40))),\"\")","v":""},{"$f":"IF($C$21=\"Appendix G\",-(F53-$F$52)/$F$52,\"\")","v":{"$error":"#VALUE!"}},{"$f":"IF($C$21=\"Appendix G\",1-F53,\"\")","v":{"$error":"#VALUE!"}}]
["4)","Tier 2 Incentive Target",{"$f":"IF($C$21=\"Appendix G\",-(D54-$D$52)/$D$52,\"\")","v":{"$error":"#VALUE!"}},{"$f":"IFERROR(IF(P4P_Path=\"ASHRAE bEQ\",TEXT(K54,\"0.00\")&\" < Score ≤ \"&TEXT(L54,\"0.00\"),D52*(1-('P4P - Support Data'!G40+0.02))),\"\")","v":""},{"$f":"IF($C$21=\"Appendix G\",1-D54,\"\")","v":{"$error":"#VALUE!"}},{"$f":"IFERROR(IF(P4P_Path=\"ASHRAE bEQ\",TEXT(K54,\"0.00\")&\" < Score ≤ \"&TEXT(L54,\"0.00\"),F52*(1-('P4P - Support Data'!G40+0.02))),\"\")","v":""},{"$f":"IF($C$21=\"Appendix G\",-(F54-$F$52)/$F$52,\"\")","v":{"$error":"#VALUE!"}},{"$f":"IF($C$21=\"Appendix G\",1-F54,\"\")","v":{"$error":"#VALUE!"}}]
["5)","Tier 3 Incentive Target",{"$f":"IF($C$21=\"Appendix G\",-(D55-$D$52)/$D$52,\"\")","v":{"$error":"#VALUE!"}},{"$f":"IFERROR(IF(P4P_Path=\"ASHRAE bEQ\",\"Score ≤ \"&TEXT(K55,\"0.00\"),D52*(1-('P4P - Support Data'!G40+0.05))),\"\")","v":""},{"$f":"IF($C$21=\"Appendix G\",1-D55,\"\")","v":{"$error":"#VALUE!"}},{"$f":"IFERROR(IF(P4P_Path=\"ASHRAE bEQ\",\"Score ≤ \"&TEXT(K55,\"0.00\"),F52*(1-('P4P - Support Data'!G40+0.05))),\"\")","v":""},{"$f":"IF($C$21=\"Appendix G\",-(F55-$F$52)/$F$52,\"\")","v":{"$error":"#VALUE!"}},{"$f":"IF($C$21=\"Appendix G\",1-F55,\"\")","v":{"$error":"#VALUE!"}}]
[]
[null,"Project BPF",{"$f":"IFERROR(IF(C33=\"\",\"\",(C37*C36+D37*D36+E37*E36)),\"-\")","v":"-"},{"$f":"IFERROR(IF(C33=\"\",\"\",(C45*C36+D45*D36+E45*E36)),\"-\")","v":"-"},null,null,null,null,"Multifamily = 1 if Yes",{"$f":"IF(ISERROR(MATCH(\"Multifamily\",$C$28:$E$28,0))=FALSE,1,0)","v":0}]
[]
[null,"Utility Information"]
[null,"Instructions"]
[null,"1) Enter energy rates in the blue cells. These may be based on the local utility schedule, actual rates for the building, or average rates for New Jersey posted by DOE Energy Information Administration (EIA): http://www.eia.gov/state/state-energy-profiles-data.cfm?sid=NJ#Prices  (see Partner Guidelines v4.8, Section 4.6)."]
[null,"2) Select anticipated utility provider(s)"]
[]
[null,null,"Baseline Energy Cost ($/MMBtu)","Proposed Energy Cost ($/MMBtu)","Anticipated Utility Provider","Source-Site Ratio","Baseline Energy Conversion"]
[null,"Electricity (grid purchase)",{"$f":"G65/3413*1000000","v":0},{"$f":"C65","v":0},null,2.8,{"$f":"IFERROR((INDEX(ImportCostdata,MATCH(M65,INDEX(ImportCostdata,,1),0),3)*P65)/Q65,0)","v":0},"$/kWh",null,{"$f":"IF(D65<>C65,\"Proposed energy cost does not equal baseline energy cost.  Calculations must be provided with your submission\",\"\")","v":""},null,null,"Electricity",{"$f":"IFERROR(INDEX(ImportCostdata,MATCH(M65,INDEX(ImportCostdata,,1),0),2),\"\")","v":""},{"$f":"IF(OR(N65=\"kBtu\",N65=\"MMBtu\",N65=\"Btu\",N65=\"therm\"),\"All\"&N65,M65&N65)","v":"Electricity"},{"$f":"IFERROR(INDEX(Energy_Conversions,MATCH(O65,INDEX(Energy_Conversions,,3),0),4),0)","v":0},3.4119999999999999]
[null,"Natural Gas",{"$f":"G66*10","v":0},0,null,1.0469999999999999,{"$f":"IFERROR((INDEX(ImportCostdata,MATCH(M66,INDEX(ImportCostdata,,1),0),3)*P66)/Q66,0)","v":0},"$/therm",null,{"$f":"IF(D66<>C66,\"Proposed energy cost does not equal baseline energy cost.  Calculations must be provided with your submission\",\"\")","v":""},null,null,"Natural Gas","",{"$f":"IF(OR(N66=\"kBtu\",N66=\"MMBtu\",N66=\"Btu\",N66=\"therm\"),\"All\"&N66,M66&N66)","v":"Natural Gas"},0,100]
[null,"Steam",{"$f":"IFERROR((INDEX(ImportCostdata,MATCH(M67,INDEX(ImportCostdata,,1),0),3)*P67)/1000,0)","v":0},0,null,1.2,null,null,null,"",null,null,"District Steam","","District Steam",0]
[null,"Hot Water",{"$f":"IFERROR((INDEX(ImportCostdata,MATCH(M68,INDEX(ImportCostdata,,1),0),3)*P68)/1000,0)","v":0},0,null,1.2,null,null,null,"",null,null,"District Hot Water","","District Hot Water",0]
[null,"Chilled Water",{"$f":"IFERROR((INDEX(ImportCostdata,MATCH(M69,INDEX(ImportCostdata,,1),0),3)*P69)/1000,0)","v":0},0,null,0.91,null,null,null,"",null,null,"District Cooling","","District Cooling",0]
[null,"Oil",{"$f":"G70*0.1396","v":0},0,null,1.01,{"$f":"IFERROR((INDEX(ImportCostdata,MATCH(M70,INDEX(ImportCostdata,,1),0),3)*P70)/Q70,0)","v":0},"$/gallon",null,"",null,null,"Fuel Oil","","Fuel Oil",0,139.6]
[null,"Propane",{"$f":"G71*0.091333","v":0},0,null,1.01,{"$f":"IFERROR((INDEX(ImportCostdata,MATCH(M71,INDEX(ImportCostdata,,1),0),3)*P71)/Q71,0)","v":0},"$/gallon",null,"",null,null,"Propane","","Propane",0,91.3]
[null,"Other Fuel",null,0,null,null,null,null,null,"",null,null,null,"","",0]
[]
[null,"Project Team Information"]
[null,null,"Company Name","Address","Contact Name, Title","Phone Number","Email"]
[null,"Owner/Agent",null,null,null,null,null,null,null,null,null,null,{"$f":"IFERROR(IF(OR(INDEX(ImportContactdata,MATCH(B76,INDEX(ImportContactdata,,1),0),4)=\"\",IFERROR(_xlfn.NUMBERVALUE(INDEX(ImportContactdata,MATCH(B76,INDEX(ImportContactdata,,1),0),4)),5)=0),\"\",\", \"),\"\")","v":""}]
[null,"Architect",null,null,null,null,null,null,null,null,null,null,""]
[null,"Design Engineer",null,null,null,null,null,null,null,null,null,null,""]
[null,"Construction Mgr / GC",null,null,null,null,null,null,null,null,null,null,""]
[null,"Cx Authority",null,null,null,null,null,null,null,null,null,null,""]
[null,"Lead Energy Modeler",null,null,null,null,null,null,null,null,null,null,""]
[null,"LEED Consultant",null,null,null,null,null,null,null,null,null,null,""]
[null,"Mechanical Engineer",null,null,null,null,null,null,null,null,null,null,""]
[null,"Mechanical Contractor",null,null,null,null,null,null,null,null,null,null,""]
[null,"Electrical Engineer",null,null,null,null,null,null,null,null,null,null,""]
[null,"Electrical Contractor",null,null,null,null,null,null,null,null,null,null,""]
[null,"EMS Control Contractor",null,null,null,null,null,null,null,null,null,null,""]
[]
[null,"Construction Schedule"]
[null,"Instructions"]
[null,"1) Use this table for planned and actual dates of key construction milestones."]
[null,"2) When submitting the Proposed ERP, include planned dates for each item as well as actual dates for milestones that have already occurred."]
[null,"3) When submitting the As-Built ERP, actual dates for all milestones must be included."]
[null,"4) Refer to Program Guidelines v4.8, Section 3.6 for additional guidance. "]
[]
[null,"Construction Milestone","Start Date","End Date"]
[null,"Pre-Design"]
[null,"Schematic Design "]
[null,"Design Development "]
[null,"Construction Documents "]
[null,"Project Bid "]
[null,"Construction "]
[null,"Commissioning"]
[]
[null,"Financing Plan"]
[null,"Instructions"]
[null,"Please explain how the project is being funded and if any payback or other economic criteria applies in the \"Funding Detail\" section below. Refer to Program Guidelines v4.8, Section 3.5 for additional guidance. "]
[null,"2) Multi-year sources of funding, such as federal depreciation credits, should be entered  as a single value using Net Present Value (NPV)."]
[null,"3) Total Costs must equal Total Funding. "]
[null,"4) Note: Measures under this program cannot be funded from both Pay for Performance and other SBC-funded programs (including most utility programs and other NJCEP programs). Refer to Program Guidelines v4.3, Sections 3.6 for additional guidance."]
[]
[null,"Total Project Cost",{"$f":"SUM('P4P - Measure Info'!$R$23:$R$47)","v":0}]
[null,"P4P Partner & Other Fees",{"$f":"SUM('P4P - Measure Info'!X50:X54)","v":0}]
[null,"TOTAL COSTS",{"$f":"SUM(C112:C113)","v":0}]
[]
[null,"FUNDING",null,"Date Committed \nor Requested"]
[null,"Anticipated P4P Incentives",{"$f":"SUM('P4P - Project Summary'!D55:D57)","v":0}]
[null," <Enter source>",0]
[null," <Enter source>",0]
[null," <Enter source>",0]
[null," <Enter source>",0]
[null,"TOTAL FUNDING",{"$f":"SUM(C117:C121)","v":0},{"$f":"IFERROR(IF(C122=C114,\"\",\"<------- Total Funding must equal Total Costs.  Please revise funding data.\"),\"\")","v":""}]
[]
[null,"Funding Detail"]

{"sheet":"P4P - Energy Charrette","index":6,"n_rows":48,"n_cols":7,"rows_kept":48,"cut":false,"hidden":true,"merged":[[47,1,47,2],[39,1,39,2],[40,1,40,2],[33,1,33,2],[34,1,34,2],[35,1,35,2],[36,1,36,2],[37,1,37,2],[38,1,38,2],[41,1,41,2],[42,1,42,2],[46,1,46,2],[0,2,0,4],[1,2,1,4],[2,2,2,4],[5,1,5,6],[8,2,8,3],[30,1,30,4],[32,5,32,6],[33,5,33,6],[34,5,34,6],[35,5,35,6],[36,5,36,6],[42,5,42,6],[37,5,37,6],[38,5,38,6],[39,5,39,6],[40,5,40,6],[41,5,41,6]]}
[null,null,"New Jersey Office of Clean Energy"]
[null,null,"Pay for Performance New Construction Program"]
[null,null,"ERP Tables and Incentive Calculator"]
[]
[null,"Instructions "]
[null,"1) Complete the \"Project Information,\" \"Utility Information,\" and \"Project Team Information\" tables of the \"P4P - General Info\" tab prior to completing this tab. \n2) Complete the blue fields below. Please note the white cells below are linked to inputs in the \"P4P - General Info\" tab and cannot be edited in this tab. \n\nSee Partner Guidelines v4.8, Section 3.2 for more information regarding pre-design bonus requirements."]
[]
[null,"Date"]
[null,"Location",{"$f":"IF('P4P - General Info'!C15=\"\",\"\",'P4P - General Info'!C14&\", \"&'P4P - General Info'!C15)","v":"-, -"}]
[]
[null,"ATTENDEES"]
[null,null,{"$f":"'[6]P4P - General Info'!C73","v":"Company Name"},{"$f":"'[6]P4P - General Info'!E73","v":"Contact Name, Title"},"Phone Number","Email","Participation Type"]
[null,"Developer/Owner",{"$f":"IF('P4P - General Info'!C76=\"\",\"\",'P4P - General Info'!C76)","v":""},{"$f":"IF('P4P - General Info'!E76=\"\",\"\",'P4P - General Info'!E76)","v":""},{"$f":"IF('P4P - General Info'!F76=\"\",\"\",'P4P - General Info'!F76)","v":""},{"$f":"IF('P4P - General Info'!G76=\"\",\"\",'P4P - General Info'!G76)","v":""}]
[null,"Architect",{"$f":"IF('P4P - General Info'!C77=\"\",\"\",'P4P - General Info'!C77)","v":""},{"$f":"IF('P4P - General Info'!E77=\"\",\"\",'P4P - General Info'!E77)","v":""},{"$f":"IF('P4P - General Info'!F77=\"\",\"\",'P4P - General Info'!F77)","v":""},{"$f":"IF('P4P - General Info'!G77=\"\",\"\",'P4P - General Info'!G77)","v":""}]
[null,"Design Engineer",{"$f":"IF('P4P - General Info'!C78=\"\",\"\",'P4P - General Info'!C78)","v":""},{"$f":"IF('P4P - General Info'!E78=\"\",\"\",'P4P - General Info'!E78)","v":""},{"$f":"IF('P4P - General Info'!F78=\"\",\"\",'P4P - General Info'!F78)","v":""},{"$f":"IF('P4P - General Info'!G78=\"\",\"\",'P4P - General Info'!G78)","v":""}]
[null,"Construction Mgr / GC",{"$f":"IF('P4P - General Info'!C79=\"\",\"\",'P4P - General Info'!C79)","v":""},{"$f":"IF('P4P - General Info'!E79=\"\",\"\",'P4P - General Info'!E79)","v":""},{"$f":"IF('P4P - General Info'!F79=\"\",\"\",'P4P - General Info'!F79)","v":""},{"$f":"IF('P4P - General Info'!G79=\"\",\"\",'P4P - General Info'!G79)","v":""}]
[null,"Cx Authority",{"$f":"IF('P4P - General Info'!C80=\"\",\"\",'P4P - General Info'!C80)","v":""},{"$f":"IF('P4P - General Info'!E80=\"\",\"\",'P4P - General Info'!E80)","v":""},{"$f":"IF('P4P - General Info'!F80=\"\",\"\",'P4P - General Info'!F80)","v":""},{"$f":"IF('P4P - General Info'!G80=\"\",\"\",'P4P - General Info'!G80)","v":""}]
[null,"Energy Modeler",{"$f":"IF('P4P - General Info'!C81=\"\",\"\",'P4P - General Info'!C81)","v":""},{"$f":"IF('P4P - General Info'!E81=\"\",\"\",'P4P - General Info'!E81)","v":""},{"$f":"IF('P4P - General Info'!F81=\"\",\"\",'P4P - General Info'!F81)","v":""},{"$f":"IF('P4P - General Info'!G81=\"\",\"\",'P4P - General Info'!G81)","v":""}]
[null,"LEED Consultant",{"$f":"IF('P4P - General Info'!C82=\"\",\"\",'P4P - General Info'!C82)","v":""},{"$f":"IF('P4P - General Info'!E82=\"\",\"\",'P4P - General Info'!E82)","v":""},{"$f":"IF('P4P - General Info'!F82=\"\",\"\",'P4P - General Info'!F82)","v":""},{"$f":"IF('P4P - General Info'!G82=\"\",\"\",'P4P - General Info'!G82)","v":""}]
[null,"Mechanical Engineer",{"$f":"IF('P4P - General Info'!C83=\"\",\"\",'P4P - General Info'!C83)","v":""},{"$f":"IF('P4P - General Info'!E83=\"\",\"\",'P4P - General Info'!E83)","v":""},{"$f":"IF('P4P - General Info'!F83=\"\",\"\",'P4P - General Info'!F83)","v":""},{"$f":"IF('P4P - General Info'!G83=\"\",\"\",'P4P - General Info'!G83)","v":""}]
[null,"Mechanical Contractor",{"$f":"IF('P4P - General Info'!C84=\"\",\"\",'P4P - General Info'!C84)","v":""},{"$f":"IF('P4P - General Info'!E84=\"\",\"\",'P4P - General Info'!E84)","v":""},{"$f":"IF('P4P - General Info'!F84=\"\",\"\",'P4P - General Info'!F84)","v":""},{"$f":"IF('P4P - General Info'!G84=\"\",\"\",'P4P - General Info'!G84)","v":""}]
[null,"Electrical Engineer",{"$f":"IF('P4P - General Info'!C85=\"\",\"\",'P4P - General Info'!C85)","v":""},{"$f":"IF('P4P - General Info'!E85=\"\",\"\",'P4P - General Info'!E85)","v":""},{"$f":"IF('P4P - General Info'!F85=\"\",\"\",'P4P - General Info'!F85)","v":""},{"$f":"IF('P4P - General Info'!G85=\"\",\"\",'P4P - General Info'!G85)","v":""}]
[null,"Electrical Contractor",{"$f":"IF('P4P - General Info'!C86=\"\",\"\",'P4P - General Info'!C86)","v":""},{"$f":"IF('P4P - General Info'!E86=\"\",\"\",'P4P - General Info'!E86)","v":""},{"$f":"IF('P4P - General Info'!F86=\"\",\"\",'P4P - General Info'!F86)","v":""},{"$f":"IF('P4P - General Info'!G86=\"\",\"\",'P4P - General Info'!G86)","v":""}]
[null,"EMS Control Contractor",{"$f":"IF('P4P - General Info'!C87=\"\",\"\",'P4P - General Info'!C87)","v":""},{"$f":"IF('P4P - General Info'!E87=\"\",\"\",'P4P - General Info'!E87)","v":""},{"$f":"IF('P4P - General Info'!F87=\"\",\"\",'P4P - General Info'!F87)","v":""},{"$f":"IF('P4P - General Info'!G87=\"\",\"\",'P4P - General Info'!G87)","v":""}]
[null,"Other (specify)"]
[null,"Other (specify)"]
[null,"Other (specify)"]
[]
[null,"Project Energy Goals"]
[null,"Instructions"]
[null,"1) In the table below, include project goals established at the energy charette. \n2) Provide a brief description of the goal. "]
[]
[null,null,null,"Recommended by P4P Partner","Agreed at the Charrette","Description "]
[null,"Target Modeled Site EUI [kBtu/SF] (specify)"]
[null,"Target Modeled Source EUI [kBtu/SF] (specify)"]
[null,"Target EPA Portfolio Manager Score (specify)"]
[null,"P4P Pre-Design Bonus"]
[null,"P4P Incentive Tier"]
[null,"LEED (specify certification level)"]
[null,"Green Globes (specifyt certification level)"]
[null,"IRS 179D Commercial Building Tax Deduction"]
[null,"Other (specify)"]
[null,"Other (specify)"]
[]
[null,"Planned Modeling Cycles"]
[null,null,null,"Design Stage","Included in the Scope?"]
[null,"Cycle 1: Load Reduction Modeling (Simple Box / Conceptual Design)",null,"Prior to Schematic Design (SD)"]
[null,"Cycle 2: HVAC System Selection Modeling",null,"After SD, prior to Design Development (DD)"]

{"sheet":"P4P - Energy Charrette End Uses","index":7,"n_rows":94,"n_cols":159,"rows_kept":94,"cut":false,"hidden":true,"merged":[[0,3,0,6],[1,3,1,6],[2,3,2,6],[62,14,62,15],[63,2,63,11],[67,14,67,15],[67,16,67,17],[4,1,5,2],[4,3,5,3],[93,1,93,3],[69,2,69,11],[75,2,75,11],[81,2,81,11],[87,2,87,11]]}
[null,null,null,"New Jersey Office of Clean Energy"]
[null,null,null,"Pay for Performance New Construction Program"]
[null,null,null,"ERP Tables and Incentive Calculator"]
[]
[null,"User Input: Please select the best fit building type category from the drop down."]
[]
[]
[]
["Conversions",null,"$/kWh","$/Therm","Site-to-Source Conversion (kBtu/kWh)","Site-to-Source Conversion (kBtu/Therm)","kWh to kBtu  Site Conversion","Therm to kBtu  Site Conversion"]
[null,null,{"$f":"'P4P - General Info'!G65","v":0},{"$f":"'P4P - General Info'!G66","v":0},{"$f":"'P4P - General Info'!F65*G10","v":9.5563999999999982},{"$f":"'P4P - General Info'!F66*H10","v":104.69999999999999},3.4129999999999998,100]
[]
[null,null,null,null,null,null,null,null,null,null,null,null,null,null,null,null,null,null,null,null,"High Rise MF",null,null,null,null,null,null,null,null,null,null,null,null,null,null,null,null,null,null,null,"Hospital",null,null,null,null,null,null,null,null,null,null,null,null,null,null,null,null,null,null,null,"Large Hotel",null,null,null,null,null,null,null,null,null,null,null,null,null,null,null,null,null,null,null,"Large Office",null,null,null,null,null,null,null,null,null,null,null,null,null,null,null,null,null,null,null,"Medium Office",null,null,null,null,null,null,null,null,null,null,null,null,null,null,null,null,null,null,null,"Pre-School (This is actually Primary School, cml 9/30/2020)",null,null,null,null,null,null,null,null,null,null,null,null,null,null,null,null,null,null,null,"Secondary School"]
["Electric kWh/sq ft/yr",null,null,null,null,null,null,null,null,null,null,null,null,null,null,null,null,null,null,null,"Electric kWh/sq ft/yr",null,null,null,null,null,null,null,null,null,null,null,null,null,null,null,null,null,null,null,"Electric kWh/sq ft/yr",null,null,null,null,null,null,null,null,null,null,null,null,null,null,null,null,null,null,null,"Electric kWh/sq ft/yr",null,null,null,null,null,null,null,null,null,null,null,null,null,null,null,null,null,null,null,"Electric kWh/sq ft/yr",null,null,null,null,null,null,null,null,null,null,null,null,null,null,null,null,null,null,null,"Electric kWh/sq ft/yr",null,null,null,null,null,null,null,null,null,null,null,null,null,null,null,null,null,null,null,"Electric kWh/sq ft/yr",null,null,null,null,null,null,null,null,null,null,null,null,null,null,null,null,null,null,null,"Electric kWh/sq ft/yr"]
[null,"STD2019","Light.Int","Light.Ext","SHW","Heat","Humidfy","Cool","Ht.Rej","Fans","Ht.Rcvy","Pumps","Refrig","Elevator","Txfmr","Cook","Data.Ctr","Equip","Total",null,null,"STD2019","Light.Int","Light.Ext","SHW","Heat","Humidfy","Cool","Ht.Rej","Fans","Ht.Rcvy","Pumps","Refrig","Elevator","Txfmr","Cook","Data.Ctr","Equip","Total",null,null,"STD2019","Light.Int","Light.Ext","SHW","Heat","Humidfy","Cool","Ht.Rej","Fans","Ht.Rcvy","Pumps","Refrig","Elevator","Txfmr","Cook","Data.Ctr","Equip","Total",null,null,"STD2019","Light.Int","Light.Ext","SHW","Heat","Humidfy","Cool","Ht.Rej","Fans","Ht.Rcvy","Pumps","Refrig","Elevator","Txfmr","Cook","Data.Ctr","Equip","Total",null,null,"STD2019","Light.Int","Light.Ext","SHW","Heat","Humidfy","Cool","Ht.Rej","Fans","Ht.Rcvy","Pumps","Refrig","Elevator","Txfmr","Cook","Data.Ctr","Equip","Total",null,null,"STD2019","Light.Int","Light.Ext","SHW","Heat","Humidfy","Cool","Ht.Rej","Fans","Ht.Rcvy","Pumps","Refrig","Elevator","Txfmr","Cook","Data.Ctr","Equip","Total",null,null,"STD2019","Light.Int","Light.Ext","SHW","Heat","Humidfy","Cool","Ht.Rej","Fans","Ht.Rcvy","Pumps","Refrig","Elevator","Txfmr","Cook","Data.Ctr","Equip","Total",null,null,"STD2019","Light.Int","Light.Ext","SHW","Heat","Humidfy","Cool","Ht.Rej","Fans","Ht.Rcvy","Pumps","Refrig","Elevator","Txfmr","Cook","Data.Ctr","Equip","Total"]
[null,"CZ 4A",{"$f":"IF($D$5=\"High Rise MF\",W15,IF($D$5=\"Hospital\",AQ15,IF($D$5=\"Large Hotel\",BK15,IF($D$5=\"Large Office\",CE15,IF($D$5=\"Medium Office\",CY15,IF($D$5=\"Primary School\",DS15,IF($D$5=\"Secondary School\",EM15,\"\")))))))","v":""},{"$f":"IF($D$5=\"High Rise MF\",X15,IF($D$5=\"Hospital\",AR15,IF($D$5=\"Large Hotel\",BL15,IF($D$5=\"Large Office\",CF15,IF($D$5=\"Medium Office\",CZ15,IF($D$5=\"Primary School\",DT15,IF($D$5=\"Secondary School\",EN15,\"\")))))))","v":""},"","","","","","","","","","","","","","","",null,null,"CZ 4A",0.67827042105620095,0.38810072851654498,0,0.44805178316771699,0,0.85917766948710195,2.08181684283191E-2,0.67020008677623699,0,0.11960564804308001,0,0.52180475644462398,4.7697322601591999E-2,0,0,3.2029345049487401,6.9566610894701579,null,null,"CZ 4A",3.7706086765012001,0.17817269346036399,3.0374267773173199E-2,0.16142082456727999,1.0272025101473099,2.9024913938158901,0.24734318507108999,3.2754966063940198,0.20102242671700099,0.39197762453190799,0.16299706497823699,2.8848190925660502,8.1377725742293405E-2,1.6061429571466701,0,6.2870132128684899,23.208460262280976,null,null,"CZ 4A",1.19736383606588,0.41555635348042202,0.206048967209741,0,0,2.1856753410006799,0,1.51958838041486,0.243636521740493,0.11938371587340001,0.14197720355441501,2.1625357871521498,4.8941180263709597E-2,1.73385109289433,0,1.9857013599045601,11.960259739554639,null,null,"CZ 4A",1.44034755956514,0.191701194788616,0,0,0.66896188032299497,1.27651072054103,0.42816369067732701,1.1015058477265001,2.47045378208069E-2,0.176821628810372,0,1.05935265032597,3.0500323819823299E-2,0,5.2058530045125702,2.97305988561846,14.57748292452961,null,null,"CZ 4A",1.28125560320412,0.24253133885715,0,0.43713670282798101,0,1.1288250971332501,0,0.33418652758569201,0,7.7717797112951295E-4,0,0.856916430967402,6.0671693612844101E-2,0,0,3.02933610773335,7.3716366798929185,null,null,"CZ 4A",1.08514339098593,9.6364520076129306E-2,9.7078331335952506E-2,0,0,1.3700292216827299,0,1.0766527938954,0.27087258859605901,9.5049604597507598E-3,0.27192452097895697,0,6.4167875356736195E-2,0.56244570372698999,0,3.5598143217518801,8.4639982288465134,null,null,"CZ 4A",1.0904932501009901,8.9963123887702501E-2,0.203431551380511,0,0,1.7124351510961799,0,1.0115185921363099,0.35720419620965099,3.4190730300027602E-2,0.159714848823481,8.6695570471746294E-2,3.8775845577256697E-2,0.47346585484835901,0,2.5284802654940601,7.7863689803262748]
[null,"CZ 5A",{"$f":"IF($D$5=\"High Rise MF\",W16,IF($D$5=\"Hospital\",AQ16,IF($D$5=\"Large Hotel\",BK16,IF($D$5=\"Large Office\",CE16,IF($D$5=\"Medium Office\",CY16,IF($D$5=\"Primary School\",DS16,IF($D$5=\"Secondary School\",EM16,\"\")))))))","v":""},{"$f":"IF($D$5=\"High Rise MF\",X16,IF($D$5=\"Hospital\",AR16,IF($D$5=\"Large Hotel\",BL16,IF($D$5=\"Large Office\",CF16,IF($D$5=\"Medium Office\",CZ16,IF($D$5=\"Primary School\",DT16,IF($D$5=\"Secondary School\",EN16,\"\")))))))","v":""},{"$f":"IF($D$5=\"High Rise MF\",Y16,IF($D$5=\"Hospital\",AS16,IF($D$5=\"Large Hotel\",BM16,IF($D$5=\"Large Office\",CG16,IF($D$5=\"Medium Office\",DA16,IF($D$5=\"Primary School\",DU16,IF($D$5=\"Secondary School\",EO16,\"\")))))))","v":""},{"$f":"IF($D$5=\"High Rise MF\",Z16,IF($D$5=\"Hospital\",AT16,IF($D$5=\"Large Hotel\",BN16,IF($D$5=\"Large Office\",CH16,IF($D$5=\"Medium Office\",DB16,IF($D$5=\"Primary School\",DV16,IF($D$5=\"Secondary School\",EP16,\"\")))))))","v":""},{"$f":"IF($D$5=\"High Rise MF\",AA16,IF($D$5=\"Hospital\",AU16,IF($D$5=\"Large Hotel\",BO16,IF($D$5=\"Large Office\",CI16,IF($D$5=\"Medium Office\",DC16,IF($D$5=\"Primary School\",DW16,IF($D$5=\"Secondary School\",EQ16,\"\")))))))","v":""},{"$f":"IF($D$5=\"High Rise MF\",AB16,IF($D$5=\"Hospital\",AV16,IF($D$5=\"Large Hotel\",BP16,IF($D$5=\"Large Office\",CJ16,IF($D$5=\"Medium Office\",DD16,IF($D$5=\"Primary School\",DX16,IF($D$5=\"Secondary School\",ER16,\"\")))))))","v":""},{"$f":"IF($D$5=\"High Rise MF\",AC16,IF($D$5=\"Hospital\",AW16,IF($D$5=\"Large Hotel\",BQ16,IF($D$5=\"Large Office\",CK16,IF($D$5=\"Medium Office\",DE16,IF($D$5=\"Primary School\",DY16,IF($D$5=\"Secondary School\",ES16,\"\")))))))","v":""},{"$f":"IF($D$5=\"High Rise MF\",AD16,IF($D$5=\"Hospital\",AX16,IF($D$5=\"Large Hotel\",BR16,IF($D$5=\"Large Office\",CL16,IF($D$5=\"Medium Office\",DF16,IF($D$5=\"Primary School\",DZ16,IF($D$5=\"Secondary School\",ET16,\"\")))))))","v":""},{"$f":"IF($D$5=\"High Rise MF\",AE16,IF($D$5=\"Hospital\",AY16,IF($D$5=\"Large Hotel\",BS16,IF($D$5=\"Large Office\",CM16,IF($D$5=\"Medium Office\",DG16,IF($D$5=\"Primary School\",EA16,IF($D$5=\"Secondary School\",EU16,\"\")))))))","v":""},{"$f":"IF($D$5=\"High Rise MF\",AF16,IF($D$5=\"Hospital\",AZ16,IF($D$5=\"Large Hotel\",BT16,IF($D$5=\"Large Office\",CN16,IF($D$5=\"Medium Office\",DH16,IF($D$5=\"Primary School\",EB16,IF($D$5=\"Secondary School\",EV16,\"\")))))))","v":""},{"$f":"IF($D$5=\"High Rise MF\",AG16,IF($D$5=\"Hospital\",BA16,IF($D$5=\"Large Hotel\",BU16,IF($D$5=\"Large Office\",CO16,IF($D$5=\"Medium Office\",DI16,IF($D$5=\"Primary School\",EC16,IF($D$5=\"Secondary School\",EW16,\"\")))))))","v":""},{"$f":"IF($D$5=\"High Rise MF\",AH16,IF($D$5=\"Hospital\",BB16,IF($D$5=\"Large Hotel\",BV16,IF($D$5=\"Large Office\",CP16,IF($D$5=\"Medium Office\",DJ16,IF($D$5=\"Primary School\",ED16,IF($D$5=\"Secondary School\",EX16,\"\")))))))","v":""},{"$f":"IF($D$5=\"High Rise MF\",AI16,IF($D$5=\"Hospital\",BC16,IF($D$5=\"Large Hotel\",BW16,IF($D$5=\"Large Office\",CQ16,IF($D$5=\"Medium Office\",DK16,IF($D$5=\"Primary School\",EE16,IF($D$5=\"Secondary School\",EY16,\"\")))))))","v":""},{"$f":"IF($D$5=\"High Rise MF\",AJ16,IF($D$5=\"Hospital\",BD16,IF($D$5=\"Large Hotel\",BX16,IF($D$5=\"Large Office\",CR16,IF($D$5=\"Medium Office\",DL16,IF($D$5=\"Primary School\",EF16,IF($D$5=\"Secondary School\",EZ16,\"\")))))))","v":""},{"$f":"IF($D$5=\"High Rise MF\",AK16,IF($D$5=\"Hospital\",BE16,IF($D$5=\"Large Hotel\",BY16,IF($D$5=\"Large Office\",CS16,IF($D$5=\"Medium Office\",DM16,IF($D$5=\"Primary School\",EG16,IF($D$5=\"Secondary School\",FA16,\"\")))))))","v":""},{"$f":"IF($D$5=\"High Rise MF\",AL16,IF($D$5=\"Hospital\",BF16,IF($D$5=\"Large Hotel\",BZ16,IF($D$5=\"Large Office\",CT16,IF($D$5=\"Medium Office\",DN16,IF($D$5=\"Primary School\",EH16,IF($D$5=\"Secondary School\",FB16,\"\")))))))","v":""},{"$f":"IF($D$5=\"High Rise MF\",AM16,IF($D$5=\"Hospital\",BG16,IF($D$5=\"Large Hotel\",CA16,IF($D$5=\"Large Office\",CU16,IF($D$5=\"Medium Office\",DO16,IF($D$5=\"Primary School\",EI16,IF($D$5=\"Secondary School\",FC16,\"\")))))))","v":""},null,null,"CZ 5A",0.67827042105620095,0.38823248907621599,0,0.72056556071120503,0,0.45391512807315898,7.9715138602108205E-3,0.65155596758252099,0,0.111172972224014,0,0.52180475644462398,4.7697322601591999E-2,0,0,3.2029345049487401,6.7841206365784821,null,null,"CZ 5A",3.7704936224566201,0.178218715078202,3.0374267773173199E-2,0.181532271562548,1.08723771061717,2.2087500211192901,0.15019154981477401,3.3910914049989702,0.197053062178461,0.31084151228326501,0.15931533555118599,2.8848190925660502,8.1377725742293405E-2,1.6061429571466701,0,6.2870132128684899,22.524452461757164,null,null,"CZ 5A",1.1965447368146001,0.41569287002230099,0.206071719966721,0,0,1.3666671007531199,0,1.4901463128829,0.230098631337468,0.112603394293397,0.141408384629918,2.1625357871521498,4.8941180263709597E-2,1.73385109289433,0,1.9857013599045601,11.090262570915176,null,null,"CZ 5A",1.4388540300961701,0.192637437142304,0,0,0.47599007091151802,1.1773916342155499,0.34486041268377399,1.1227719240459699,2.03465525792389E-2,0.150868767851316,0,1.05935265032597,3.0500323819823299E-2,0,5.2058530045125702,2.97305988561846,14.192486693802664,null,null,"CZ 5A",1.2790795048849499,0.24455200158208701,0,0.77500187281035204,0,0.73381144034048695,0,0.31895383935155303,0,7.7717797112951295E-4,0,0.856916430967402,6.0619881748101997E-2,0,0,3.02933610773335,7.2990482573894129,null,null,"CZ 5A",1.0726704784458601,9.6364520076129306E-2,9.7078331335952506E-2,0,0,0.85818897937583505,0,1.0651942447245599,0.25749801972779301,1.4802191387912301E-2,0.27169910689690702,0,6.4130306343061494E-2,0.56244570372698999,0,3.5598143217518801,7.9198862037928812,null,null,"CZ 5A",1.0792017449498901,8.9646909040997105E-2,0.203444726999123,0,0,1.15265581871584,0,1.0270658220993301,0.33210464275240598,1.9051944514003799E-2,0.15959626825596701,8.6695570471746294E-2,3.8775845577256697E-2,0.47346585484835901,0,2.5284802654940601,7.1901854137189787]
[null,"STD2016","Light.Int","Light.Ext","SHW","Heat","Humidfy","Cool","Ht.Rej","Fans","Ht.Rcvy","Pumps","Refrig","Elevator","Txfmr","Cook","Data.Ctr","Equip","Total",null,null,"STD2016","Light.Int","Light.Ext","SHW","Heat","Humidfy","Cool","Ht.Rej","Fans","Ht.Rcvy","Pumps","Refrig","Elevator","Txfmr","Cook","Data.Ctr","Equip","Total",null,null,"STD2016","Light.Int","Light.Ext","SHW","Heat","Humidfy","Cool","Ht.Rej","Fans","Ht.Rcvy","Pumps","Refrig","Elevator","Txfmr","Cook","Data.Ctr","Equip","Total",null,null,"STD2016","Light.Int","Light.Ext","SHW","Heat","Humidfy","Cool","Ht.Rej","Fans","Ht.Rcvy","Pumps","Refrig","Elevator","Txfmr","Cook","Data.Ctr","Equip","Total",null,null,"STD2016","Light.Int","Light.Ext","SHW","Heat","Humidfy","Cool","Ht.Rej","Fans","Ht.Rcvy","Pumps","Refrig","Elevator","Txfmr","Cook","Data.Ctr","Equip","Total",null,null,"STD2016","Light.Int","Light.Ext","SHW","Heat","Humidfy","Cool","Ht.Rej","Fans","Ht.Rcvy","Pumps","Refrig","Elevator","Txfmr","Cook","Data.Ctr","Equip","Total",null,null,"STD2016","Light.Int","Light.Ext","SHW","Heat","Humidfy","Cool","Ht.Rej","Fans","Ht.Rcvy","Pumps","Refrig","Elevator","Txfmr","Cook","Data.Ctr","Equip","Total",null,null,"STD2016","Light.Int","Light.Ext","SHW","Heat","Humidfy","Cool","Ht.Rej","Fans","Ht.Rcvy","Pumps","Refrig","Elevator","Txfmr","Cook","Data.Ctr","Equip","Total"]
[null,"CZ 4A",{"$f":"IF($D$5=\"High Rise MF\",W18,IF($D$5=\"Hospital\",AQ18,IF($D$5=\"Large Hotel\",BK18,IF($D$5=\"Large Office\",CE18,IF($D$5=\"Medium Office\",CY18,IF($D$5=\"Primary School\",DS18,IF($D$5=\"Secondary School\",EM18,\"\")))))))","v":""},"","","","","","","","","",{"$f":"IF($D$5=\"High Rise MF\",AG18,IF($D$5=\"Hospital\",BA18,IF($D$5=\"Large Hotel\",BU18,IF($D$5=\"Large Office\",CO18,IF($D$5=\"Medium Office\",DI18,IF($D$5=\"Primary School\",EC18,IF($D$5=\"Secondary School\",EW18,\"\")))))))","v":""},"","","","","","",null,null,"CZ 4A",0.9044440828551783,0.38812226326346738,0,0.29163505544385432,0,1.308537778129742,2.8221685017545524E-2,1.8198211872107362,0.48457654029542868,0.17120716500142261,0,0.52165660719129359,4.7683780519727215E-2,0,0,3.2020251373174315,9.1679312822458279,null,null,"CZ 4A",3.9082079107821501,0.17817961788895284,3.0446158966629538E-2,0.75087106290160288,0.90077842588312262,2.6178405727876903,0.24932034067270942,3.3128917605608259,0.21648173702717588,0.55642742205125439,0.23719708734787848,2.8840000433157624,8.1745693908508874E-2,1.6056869458188578,0,6.2852282227899678,23.815303002703086,null,null,"CZ 4A",1.8821878448788076,0.41543836995741895,0.20639989974778905,0,0,2.8285930276875204,0,1.39509863910416,0.50926684543236156,0.157176912856207,0.19284310668522767,2.1619218064281034,4.9586927644940305E-2,1.333342442518834,0,2.3851539660186702,13.51700978896004,null,null,"CZ 4A",1.7663994372130898,0.19178047849005592,0,2.3399413463621268E-3,0.84511438755004131,1.830257550813096,0.15712149011929691,1.2783656704068289,1.3359950829943762E-2,0.21200982855824849,0,1.0590518820745787,3.063094648166502E-2,0,8.3133380440664446,2.9722157833048533,18.671985391254506,null,null,"CZ 4A",1.5718364495934958,0.24246248008130084,0,0.75924269024390245,0,1.286071548373984,0,0.41748506504065042,0,7.7695731707317067E-4,0,0.85667313780487808,6.0965250813010179E-2,0,0,3.0284760276422764,8.2239896069105711,null,null,"CZ 4A",1.350222581565462,9.633716054841196E-2,9.7050769145066856E-2,0,0,1.3527389908273502,0,0.8667715365053611,0.31421313261131167,9.0140033261672005E-3,0.4096864511742993,0,6.5051057337173437E-2,0.56228601581687154,0,3.5588036298651957,8.6821753287226713,null,null,"CZ 4A",1.2582041141066067,8.9937581825337745E-2,0.20337379369994357,0,0,1.5688496808565726,0,0.92934184031732636,0.30103009593384134,3.7223726748448219E-2,0.23448576913512925,8.6670956123421558E-2,3.9120477156011517E-2,0.47333142983209014,0,2.5277623869029386,7.7493318526376669]
[null,"CZ 5A","","","","","","","","","","","","","","","","","",null,null,"CZ 5A",0.9044440828551783,0.38782588617460168,0,0.51813301291255698,0,0.75721053126422611,1.1855083554628224E-2,1.6603044518256829,0.54161266450825118,0.14973629145248482,0,0.52165660719129359,4.7617918944422542E-2,0,0,3.2020251373174315,8.702421668000758,null,null,"CZ 5A",3.9083919449882192,0.17803009009652132,3.0446158966629538E-2,0.93166166608916734,0.98804514597372273,2.0392255267671771,0.1383822208264148,3.3648239130860742,0.21070766381174405,0.4730024160123561,0.233228849779504,2.8840000433157624,8.1745693908508874E-2,1.6056869458188578,0,6.2852282227899678,23.352606502230625,null,null,"CZ 5A",1.881892143016705,0.41557484773992792,0.20639989974778905,0,0,1.8751819853766787,0,1.4285129495217819,0.43431779653783165,0.10215362020799214,0.19266113630854897,2.1619218064281034,4.9632420239107848E-2,1.333342442518834,0,2.3851539660186702,12.466745013661971,null,null,"CZ 5A",1.7647057653814371,0.19242117671584555,0,1.754956009771595E-3,0.9935223817985992,1.3707042129654143,9.5692458488371171E-2,1.2644541619738141,3.6380516647011155E-3,0.16842563533779392,0,1.0590518820745787,3.0619803903827607E-2,0,8.3133380440664446,2.9722157833048533,18.230544313685453,null,null,"CZ 5A",1.5695055776422764,0.24417178617886179,0,1.1458048540650407,0,0.82911705162601634,0,0.38780529552845527,0,7.7695731707317067E-4,0,0.85667313780487808,6.0913453658537703E-2,0,0,3.0284760276422764,8.1232441414634167,null,null,"CZ 5A",1.3418846284887573,9.633716054841196E-2,9.7050769145066856E-2,0,0,0.84622712059113836,0,0.82684701343987888,0.299152235387174,1.4347288627482793E-2,0.40919819266079854,0,6.5088615684368772E-2,0.56228601581687154,0,3.5588036298651957,8.1172226702551455,null,null,"CZ 5A",1.2512757063678652,8.9621456757410373E-2,0.20338696557777389,0,0,0.9818581172267612,0,0.9054217101774884,0.27855887235533722,2.6712568239863052E-2,0.23413012843371095,8.6670956123421558E-2,3.9107305278184054E-2,0.47333142983209014,0,2.5277623869029386,7.0978376032728434]
[null,"STD2010","Light.Int","Light.Ext","SHW","Heat","Humidfy","Cool","Ht.Rej","Fans","Ht.Rcvy","Pumps","Refrig","Elevator","Txfmr","Cook","Data.Ctr","Equip","Total",null,null,"STD2010","Light.Int","Light.Ext","SHW","Heat","Humidfy","Cool","Ht.Rej","Fans","Ht.Rcvy","Pumps","Refrig","Elevator","Txfmr","Cook","Data.Ctr","Equip","Total",null,null,"STD2010","Light.Int","Light.Ext","SHW","Heat","Humidfy","Cool","Ht.Rej","Fans","Ht.Rcvy","Pumps","Refrig","Elevator","Txfmr","Cook","Data.Ctr","Equip","Total",null,null,"STD2010","Light.Int","Light.Ext","SHW","Heat","Humidfy","Cool","Ht.Rej","Fans","Ht.Rcvy","Pumps","Refrig","Elevator","Txfmr","Cook","Data.Ctr","Equip","Total",null,null,"STD2010","Light.Int","Light.Ext","SHW","Heat","Humidfy","Cool","Ht.Rej","Fans","Ht.Rcvy","Pumps","Refrig","Elevator","Txfmr","Cook","Data.Ctr","Equip","Total",null,null,"STD2010","Light.Int","Light.Ext","SHW","Heat","Humidfy","Cool","Ht.Rej","Fans","Ht.Rcvy","Pumps","Refrig","Elevator","Txfmr","Cook","Data.Ctr","Equip","Total",null,null,"STD2010","Light.Int","Light.Ext","SHW","Heat","Humidfy","Cool","Ht.Rej","Fans","Ht.Rcvy","Pumps","Refrig","Elevator","Txfmr","Cook","Data.Ctr","Equip","Total",null,null,"STD2010","Light.Int","Light.Ext","SHW","Heat","Humidfy","Cool","Ht.Rej","Fans","Ht.Rcvy","Pumps","Refrig","Elevator","Txfmr","Cook","Data.Ctr","Equip","Total"]
[null,"CZ 5A",{"$f":"IF($D$5=\"High Rise MF\",W21,IF($D$5=\"Hospital\",AQ21,IF($D$5=\"Large Hotel\",BK21,IF($D$5=\"Large Office\",CE21,IF($D$5=\"Medium Office\",CY21,IF($D$5=\"Primary School\",DS21,IF($D$5=\"Secondary School\",EM21,\"\")))))))","v":""},"","","","","","","","","","","","","","","","",null,null,"CZ 5A",1.1161130483445649,0.53571318751831232,0,0.86785009522414314,0,1.2935754510030824,5.8221103739462224E-2,1.9896930483735757,0,0.18259955897700125,0,0.522743319001855,6.8549422165239404E-2,0,0,3.2019913098351762,9.8370495441824133,null,null,"CZ 5A",4.1251237679460884,0.23629777439203051,3.0457384412540291E-2,1.6563963287430414,1.56067640668034,2.6119622602081143,0.49859014414116049,3.4117101447252609,0.2727592201936227,0.6708906045516706,0.3014920597941631,2.8902654598863387,0.11936396195620065,1.7662567764844788,0,6.145025072643036,26.297267366758089,null,null,"CZ 5A",2.8852960855552303,0.53428291942572526,0.20639802490477585,0,0,3.0212039758772864,0,1.9001856528893926,0.4098845505935812,0.17337070164567014,0.23906202402923879,2.1664741339854965,7.4780956903667595E-2,1.7333588091858663,0,2.1690735919654323,15.513371426961365,null,null,"CZ 5A",2.1146749276296517,0.38122869557573985,0,3.7438722531497222E-3,0.88544247699970702,1.643838435311199,0.18043569537884507,1.2545203018104842,0,0.28368745508426257,0,1.0612819004031757,4.4757322989527643E-2,0,8.3133379775597476,2.9827042666579358,19.149653327653429,null,null,"CZ 5A",1.9498861693524761,0.54464213214181079,0,1.3496661951362439,0,1.3602845150380072,0,0.44897365692113334,0,7.7695026110245725E-4,0,0.8590040028840662,9.0055786691363521E-2,0,0,3.0655271505244097,9.6688165589506117,null,null,"CZ 5A",2.9719650190448288,0.17265415382361562,9.7049887782009972E-2,0,0,1.813037626381532,0,1.5017944298823922,0.40791750390032272,1.0103103628416132E-2,0.50988951477051347,0,0.10184379153348744,0.56228601131858391,0,4.0742478104252964,12.222788852490998,null,null,"CZ 5A",2.7764353937884563,0.1525026164664518,0.20356952270729564,0,0,2.1824944732657405,0,1.3830082665736683,0.38306107173224474,7.5869327185776173E-2,0.2765286015544593,8.6894877351377839E-2,5.8412005740306944E-2,0.47333142604543921,0,2.7830154787421142,10.835123061153332]
[]
["Gas therms/sq ft/yr",null,null,null,null,null,null,null,null,null,null,null,null,null,null,null,null,null,null,null,"Gas therms/sq ft/yr",null,null,null,null,null,null,null,null,null,null,null,null,null,null,null,null,null,null,null,"Gas therms/sq ft/yr",null,null,null,null,null,null,null,null,null,null,null,null,null,null,null,null,null,null,null,"Gas therms/sq ft/yr",null,null,null,null,null,null,null,null,null,null,null,null,null,null,null,null,null,null,null,"Gas therms/sq ft/yr",null,null,null,null,null,null,null,null,null,null,null,null,null,null,null,null,null,null,null,"Gas therms/sq ft/yr",null,null,null,null,null,null,null,null,null,null,null,null,null,null,null,null,null,null,null,"Gas therms/sq ft/yr",null,null,null,null,null,null,null,null,null,null,null,null,null,null,null,null,null,null,null,"Gas therms/sq ft/yr"]
[null,"STD2019","Light.Int","Light.Ext","SHW","Heat","Humidfy","Cool","Ht.Rej","Fans","Ht.Rcvy","Pumps","Refrig","Elevator","Txfmr","Cook","Data.Ctr","Equip","Total",null,null,"STD2019","Light.Int","Light.Ext","SHW","Heat","Humidfy","Cool","Ht.Rej","Fans","Ht.Rcvy","Pumps","Refrig","Elevator","Txfmr","Cook","Data.Ctr","Equip","Total",null,null,"STD2019","Light.Int","Light.Ext","SHW","Heat","Humidfy","Cool","Ht.Rej","Fans","Ht.Rcvy","Pumps","Refrig","Elevator","Txfmr","Cook","Data.Ctr","Equip","Total",null,null,"STD2019","Light.Int","Light.Ext","SHW","Heat","Humidfy","Cool","Ht.Rej","Fans","Ht.Rcvy","Pumps","Refrig","Elevator","Txfmr","Cook","Data.Ctr","Equip","Total",null,null,"STD2019","Light.Int","Light.Ext","SHW","Heat","Humidfy","Cool","Ht.Rej","Fans","Ht.Rcvy","Pumps","Refrig","Elevator","Txfmr","Cook","Data.Ctr","Equip","Total",null,null,"STD2019","Light.Int","Light.Ext","SHW","Heat","Humidfy","Cool","Ht.Rej","Fans","Ht.Rcvy","Pumps","Refrig","Elevator","Txfmr","Cook","Data.Ctr","Equip","Total",null,null,"STD2019","Light.Int","Light.Ext","SHW","Heat","Humidfy","Cool","Ht.Rej","Fans","Ht.Rcvy","Pumps","Refrig","Elevator","Txfmr","Cook","Data.Ctr","Equip","Total",null,null,"STD2019","Light.Int","Light.Ext","SHW","Heat","Humidfy","Cool","Ht.Rej","Fans","Ht.Rcvy","Pumps","Refrig","Elevator","Txfmr","Cook","Data.Ctr","Equip","Total"]
[null,"CZ 4A",{"$f":"IF($D$5=\"High Rise MF\",W25,IF($D$5=\"Hospital\",AQ25,IF($D$5=\"Large Hotel\",BK25,IF($D$5=\"Large Office\",CE25,IF($D$5=\"Medium Office\",CY25,IF($D$5=\"Primary School\",DS25,IF($D$5=\"Secondary School\",EM25,\"\")))))))","v":""},{"$f":"IF($D$5=\"High Rise MF\",X25,IF($D$5=\"Hospital\",AR25,IF($D$5=\"Large Hotel\",BL25,IF($D$5=\"Large Office\",CF25,IF($D$5=\"Medium Office\",CZ25,IF($D$5=\"Primary School\",DT25,IF($D$5=\"Secondary School\",EN25,\"\")))))))","v":""},"","","","","","","","","","","","","","","",null,null,"CZ 4A",0,0,0.12738539840212401,5.3087736688543198E-2,0,0,0,0,0,0,0,0,0,0,0,0,0.1804731350906672,null,null,"CZ 4A",0,0,4.8068454129067802E-2,0.10863116625921999,0,0,0,0,0,0,0,0,0,0.109576232169904,0,0,0.26627585255819181,null,null,"CZ 4A",0,0,0.164775196700164,2.6834897579430101E-2,0,0,0,0,0,0,0,0,0,0.13883906445398,0,0,0.33044915873357411,null,null,"CZ 4A",0,0,1.0975248823894701E-2,1.35995830119618E-2,0,0,0,0,0,0,0,0,0,0,0,0,2.45748318358565E-2,null,null,"CZ 4A",0,0,1.4748888391139E-2,2.7820521529648701E-2,0,0,0,0,0,0,0,0,0,0,0,0,4.2569409920787699E-2,null,null,"CZ 4A",0,0,1.5491303758244399E-2,3.9279323311564598E-2,0,0,0,0,0,0,0,0,0,4.6267582692248399E-2,0,0,0.10103820976205739,null,null,"CZ 4A",0,0,2.2444290704766098E-2,2.4354423979932399E-2,0,0,0,0,0,0,0,0,0,2.44703803058131E-2,0,0,7.1269094990511594E-2]
[null,"CZ 5A",{"$f":"IF($D$5=\"High Rise MF\",W26,IF($D$5=\"Hospital\",AQ26,IF($D$5=\"Large Hotel\",BK26,IF($D$5=\"Large Office\",CE26,IF($D$5=\"Medium Office\",CY26,IF($D$5=\"Primary School\",DS26,IF($D$5=\"Secondary School\",EM26,\"\")))))))","v":""},{"$f":"IF($D$5=\"High Rise MF\",X26,IF($D$5=\"Hospital\",AR26,IF($D$5=\"Large Hotel\",BL26,IF($D$5=\"Large Office\",CF26,IF($D$5=\"Medium Office\",CZ26,IF($D$5=\"Primary School\",DT26,IF($D$5=\"Secondary School\",EN26,\"\")))))))","v":""},{"$f":"IF($D$5=\"High Rise MF\",Y26,IF($D$5=\"Hospital\",AS26,IF($D$5=\"Large Hotel\",BM26,IF($D$5=\"Large Office\",CG26,IF($D$5=\"Medium Office\",DA26,IF($D$5=\"Primary School\",DU26,IF($D$5=\"Secondary School\",EO26,\"\")))))))","v":""},{"$f":"IF($D$5=\"High Rise MF\",Z26,IF($D$5=\"Hospital\",AT26,IF($D$5=\"Large Hotel\",BN26,IF($D$5=\"Large Office\",CH26,IF($D$5=\"Medium Office\",DB26,IF($D$5=\"Primary School\",DV26,IF($D$5=\"Secondary School\",EP26,\"\")))))))","v":""},{"$f":"IF($D$5=\"High Rise MF\",AA26,IF($D$5=\"Hospital\",AU26,IF($D$5=\"Large Hotel\",BO26,IF($D$5=\"Large Office\",CI26,IF($D$5=\"Medium Office\",DC26,IF($D$5=\"Primary School\",DW26,IF($D$5=\"Secondary School\",EQ26,\"\")))))))","v":""},{"$f":"IF($D$5=\"High Rise MF\",AB26,IF($D$5=\"Hospital\",AV26,IF($D$5=\"Large Hotel\",BP26,IF($D$5=\"Large Office\",CJ26,IF($D$5=\"Medium Office\",DD26,IF($D$5=\"Primary School\",DX26,IF($D$5=\"Secondary School\",ER26,\"\")))))))","v":""},{"$f":"IF($D$5=\"High Rise MF\",AC26,IF($D$5=\"Hospital\",AW26,IF($D$5=\"Large Hotel\",BQ26,IF($D$5=\"Large Office\",CK26,IF($D$5=\"Medium Office\",DE26,IF($D$5=\"Primary School\",DY26,IF($D$5=\"Secondary School\",ES26,\"\")))))))","v":""},{"$f":"IF($D$5=\"High Rise MF\",AD26,IF($D$5=\"Hospital\",AX26,IF($D$5=\"Large Hotel\",BR26,IF($D$5=\"Large Office\",CL26,IF($D$5=\"Medium Office\",DF26,IF($D$5=\"Primary School\",DZ26,IF($D$5=\"Secondary School\",ET26,\"\")))))))","v":""},{"$f":"IF($D$5=\"High Rise MF\",AE26,IF($D$5=\"Hospital\",AY26,IF($D$5=\"Large Hotel\",BS26,IF($D$5=\"Large Office\",CM26,IF($D$5=\"Medium Office\",DG26,IF($D$5=\"Primary School\",EA26,IF($D$5=\"Secondary School\",EU26,\"\")))))))","v":""},{"$f":"IF($D$5=\"High Rise MF\",AF26,IF($D$5=\"Hospital\",AZ26,IF($D$5=\"Large Hotel\",BT26,IF($D$5=\"Large Office\",CN26,IF($D$5=\"Medium Office\",DH26,IF($D$5=\"Primary School\",EB26,IF($D$5=\"Secondary School\",EV26,\"\")))))))","v":""},{"$f":"IF($D$5=\"High Rise MF\",AG26,IF($D$5=\"Hospital\",BA26,IF($D$5=\"Large Hotel\",BU26,IF($D$5=\"Large Office\",CO26,IF($D$5=\"Medium Office\",DI26,IF($D$5=\"Primary School\",EC26,IF($D$5=\"Secondary School\",EW26,\"\")))))))","v":""},{"$f":"IF($D$5=\"High Rise MF\",AH26,IF($D$5=\"Hospital\",BB26,IF($D$5=\"Large Hotel\",BV26,IF($D$5=\"Large Office\",CP26,IF($D$5=\"Medium Office\",DJ26,IF($D$5=\"Primary School\",ED26,IF($D$5=\"Secondary School\",EX26,\"\")))))))","v":""},{"$f":"IF($D$5=\"High Rise MF\",AI26,IF($D$5=\"Hospital\",BC26,IF($D$5=\"Large Hotel\",BW26,IF($D$5=\"Large Office\",CQ26,IF($D$5=\"Medium Office\",DK26,IF($D$5=\"Primary School\",EE26,IF($D$5=\"Secondary School\",EY26,\"\")))))))","v":""},{"$f":"IF($D$5=\"High Rise MF\",AJ26,IF($D$5=\"Hospital\",BD26,IF($D$5=\"Large Hotel\",BX26,IF($D$5=\"Large Office\",CR26,IF($D$5=\"Medium Office\",DL26,IF($D$5=\"Primary School\",EF26,IF($D$5=\"Secondary School\",EZ26,\"\")))))))","v":""},{"$f":"IF($D$5=\"High Rise MF\",AK26,IF($D$5=\"Hospital\",BE26,IF($D$5=\"Large Hotel\",BY26,IF($D$5=\"Large Office\",CS26,IF($D$5=\"Medium Office\",DM26,IF($D$5=\"Primary School\",EG26,IF($D$5=\"Secondary School\",FA26,\"\")))))))","v":""},{"$f":"IF($D$5=\"High Rise MF\",AL26,IF($D$5=\"Hospital\",BF26,IF($D$5=\"Large Hotel\",BZ26,IF($D$5=\"Large Office\",CT26,IF($D$5=\"Medium Office\",DN26,IF($D$5=\"Primary School\",EH26,IF($D$5=\"Secondary School\",FB26,\"\")))))))","v":""},{"$f":"IF($D$5=\"High Rise MF\",AM26,IF($D$5=\"Hospital\",BG26,IF($D$5=\"Large Hotel\",CA26,IF($D$5=\"Large Office\",CU26,IF($D$5=\"Medium Office\",DO26,IF($D$5=\"Primary School\",EI26,IF($D$5=\"Secondary School\",FC26,\"\")))))))","v":""},null,null,"CZ 5A",0,0,0.137544273807473,8.6424039699924099E-2,0,0,0,0,0,0,0,0,0,0,0,0,0.2239683135073971,null,null,"CZ 5A",0,0,5.0932694584287397E-2,0.14527601845213101,0,0,0,0,0,0,0,0,0,0.109576232169904,0,0,0.30578494520632238,null,null,"CZ 5A",0,0,0.17157569916121801,4.6328325998951897E-2,0,0,0,0,0,0,0,0,0,0.13883906445398,0,0,0.35674308961414991,null,null,"CZ 5A",0,0,1.17645451331199E-2,2.3354198020457798E-2,0,0,0,0,0,0,0,0,0,0,0,0,3.51187431535777E-2,null,null,"CZ 5A",0,0,1.55530518684269E-2,4.59504313099127E-2,0,0,0,0,0,0,0,0,0,0,0,0,6.1503483178339598E-2,null,null,"CZ 5A",0,0,1.65267913026407E-2,7.4799878098730302E-2,0,0,0,0,0,0,0,0,0,4.6267582692248399E-2,0,0,0.13759425209361942,null,null,"CZ 5A",0,0,2.4082510890173402E-2,5.1735847397098897E-2,0,0,0,0,0,0,0,0,0,2.44703803058131E-2,0,0,0.10028873859308539]
[null,"STD2016","Light.Int","Light.Ext","SHW","Heat","Humidfy","Cool","Ht.Rej","Fans","Ht.Rcvy","Pumps","Refrig","Elevator","Txfmr","Cook","Data.Ctr","Equip","Total",null,null,"STD2016","Light.Int","Light.Ext","SHW","Heat","Humidfy","Cool","Ht.Rej","Fans","Ht.Rcvy","Pumps","Refrig","Elevator","Txfmr","Cook","Data.Ctr","Equip","Total",null,null,"STD2016","Light.Int","Light.Ext","SHW","Heat","Humidfy","Cool","Ht.Rej","Fans","Ht.Rcvy","Pumps","Refrig","Elevator","Txfmr","Cook","Data.Ctr","Equip","Total",null,null,"STD2016","Light.Int","Light.Ext","SHW","Heat","Humidfy","Cool","Ht.Rej","Fans","Ht.Rcvy","Pumps","Refrig","Elevator","Txfmr","Cook","Data.Ctr","Equip","Total",null,null,"STD2016","Light.Int","Light.Ext","SHW","Heat","Humidfy","Cool","Ht.Rej","Fans","Ht.Rcvy","Pumps","Refrig","Elevator","Txfmr","Cook","Data.Ctr","Equip","Total",null,null,"STD2016","Light.Int","Light.Ext","SHW","Heat","Humidfy","Cool","Ht.Rej","Fans","Ht.Rcvy","Pumps","Refrig","Elevator","Txfmr","Cook","Data.Ctr","Equip","Total",null,null,"STD2016","Light.Int","Light.Ext","SHW","Heat","Humidfy","Cool","Ht.Rej","Fans","Ht.Rcvy","Pumps","Refrig","Elevator","Txfmr","Cook","Data.Ctr","Equip","Total",null,null,"STD2016","Light.Int","Light.Ext","SHW","Heat","Humidfy","Cool","Ht.Rej","Fans","Ht.Rcvy","Pumps","Refrig","Elevator","Txfmr","Cook","Data.Ctr","Equip","Total"]
[null,"CZ 4A",{"$f":"IF($D$5=\"High Rise MF\",W28,IF($D$5=\"Hospital\",AQ28,IF($D$5=\"Large Hotel\",BK28,IF($D$5=\"Large Office\",CE28,IF($D$5=\"Medium Office\",CY28,IF($D$5=\"Primary School\",DS28,IF($D$5=\"Secondary School\",EM28,\"\")))))))","v":""},"","","","","","","","","",{"$f":"IF($D$5=\"High Rise MF\",AG28,IF($D$5=\"Hospital\",BA28,IF($D$5=\"Large Hotel\",BU28,IF($D$5=\"Large Office\",CO28,IF($D$5=\"Medium Office\",DI28,IF($D$5=\"Primary School\",EC28,IF($D$5=\"Secondary School\",EW28,\"\")))))))","v":""},"","","","","","",null,null,"CZ 4A",0,0,0.12741348952977999,2.9800191862101668E-2,0,0,0,0,0,0,0,0,0,0,0,0,0.15721368139188166,null,null,"CZ 4A",0,0,4.9341231848480965E-2,0.25871728761888357,0,0,0,0,0,0,0,0,0,0.10957623216990406,0,0,0.4176347516372686,null,null,"CZ 4A",0,0,0.16504296357405832,7.0712962648280392E-2,0,0,0,0,0,0,0,0,0,0.1388390644539797,0,0,0.37459499067631841,null,null,"CZ 4A",0,0,1.0926963356037449E-2,3.9513291029386992E-2,0,0,0,0,0,0,0,0,0,0,0,0,5.0440254385424439E-2,null,null,"CZ 4A",0,0,1.4729447076303423E-2,2.0441658853434772E-2,0,0,0,0,0,0,0,0,0,0,0,0,3.5171105929738197E-2,null,null,"CZ 4A",0,0,1.5538720885896241E-2,7.0282435531902818E-2,0,0,0,0,0,0,0,0,0,4.6267582692248406E-2,0,0,0.13208873911004745,null,null,"CZ 4A",0,0,2.252788712574981E-2,3.8623793710110155E-2,0,0,0,0,0,0,0,0,0,2.4470380305813066E-2,0,0,8.5622061141673034E-2]
[null,"CZ 5A","","","","","","","","","","","","","","","","","",null,null,"CZ 5A",0,0,0.13757461222534142,5.9337450769347495E-2,0,0,0,0,0,0,0,0,0,0,0,0,0.19691206299468891,null,null,"CZ 5A",0,0,5.1725482432950595E-2,0.28607945753625863,0,0,0,0,0,0,0,0,0,0.10957623216990406,0,0,0.44738117213911333,null,null,"CZ 5A",0,0,0.17186985465456928,0.10548540173298396,0,0,0,0,0,0,0,0,0,0.1388390644539797,0,0,0.41619432084153291,null,null,"CZ 5A",0,0,1.1722342873811645E-2,7.1010814193939689E-2,0,0,0,0,0,0,0,0,0,0,0,0,8.2733157067751334E-2,null,null,"CZ 5A",0,0,1.5531843161333632E-2,3.9913019357350636E-2,0,0,0,0,0,0,0,0,0,0,0,0,5.5444862518684267E-2,null,null,"CZ 5A",0,0,1.6569082254330104E-2,9.6017120406928155E-2,0,0,0,0,0,0,0,0,0,4.6267582692248406E-2,0,0,0.15885378535350667,null,null,"CZ 5A",0,0,2.4158017334932929E-2,5.8293672013087577E-2,0,0,0,0,0,0,0,0,0,2.4470380305813066E-2,0,0,0.10692206965383358]
[null,"STD2010","Light.Int","Light.Ext","SHW","Heat","Humidfy","Cool","Ht.Rej","Fans","Ht.Rcvy","Pumps","Refrig","Elevator","Txfmr","Cook","Data.Ctr","Equip","Total",null,null,"STD2010","Light.Int","Light.Ext","SHW","Heat","Humidfy","Cool","Ht.Rej","Fans","Ht.Rcvy","Pumps","Refrig","Elevator","Txfmr","Cook","Data.Ctr","Equip","Total",null,null,"STD2010","Light.Int","Light.Ext","SHW","Heat","Humidfy","Cool","Ht.Rej","Fans","Ht.Rcvy","Pumps","Refrig","Elevator","Txfmr","Cook","Data.Ctr","Equip","Total",null,null,"STD2010","Light.Int","Light.Ext","SHW","Heat","Humidfy","Cool","Ht.Rej","Fans","Ht.Rcvy","Pumps","Refrig","Elevator","Txfmr","Cook","Data.Ctr","Equip","Total",null,null,"STD2010","Light.Int","Light.Ext","SHW","Heat","Humidfy","Cool","Ht.Rej","Fans","Ht.Rcvy","Pumps","Refrig","Elevator","Txfmr","Cook","Data.Ctr","Equip","Total",null,null,"STD2010","Light.Int","Light.Ext","SHW","Heat","Humidfy","Cool","Ht.Rej","Fans","Ht.Rcvy","Pumps","Refrig","Elevator","Txfmr","Cook","Data.Ctr","Equip","Total",null,null,"STD2010","Light.Int","Light.Ext","SHW","Heat","Humidfy","Cool","Ht.Rej","Fans","Ht.Rcvy","Pumps","Refrig","Elevator","Txfmr","Cook","Data.Ctr","Equip","Total",null,null,"STD2010","Light.Int","Light.Ext","SHW","Heat","Humidfy","Cool","Ht.Rej","Fans","Ht.Rcvy","Pumps","Refrig","Elevator","Txfmr","Cook","Data.Ctr","Equip","Total"]
[null,"CZ 5A",{"$f":"IF($D$5=\"High Rise MF\",W31,IF($D$5=\"Hospital\",AQ31,IF($D$5=\"Large Hotel\",BK31,IF($D$5=\"Large Office\",CE31,IF($D$5=\"Medium Office\",CY31,IF($D$5=\"Primary School\",DS31,IF($D$5=\"Secondary School\",EM31,\"\")))))))","v":""},"","","","","","","","","","","","","","","","",null,null,"CZ 5A",0,0,0.13235303339999999,0.1040281876,0,0,0,0,0,0,0,0,0,0,0,0,0.23638122099999997,null,null,"CZ 5A",0,0,4.9652459950000005E-2,0.29261917230000001,0,0,0,0,0,0,0,0,0,0.10960379747679913,0,0,0.45187542972679917,null,null,"CZ 5A",0,0,0.16788439700000002,0.12687104939999999,0,0,0,0,0,0,0,0,0,0.13887399120173249,0,0,0.4336294376017325,null,null,"CZ 5A",0,0,1.0898828519999999E-2,8.8333891139999995E-2,0,0,0,0,0,0,0,0,0,0,0,0,9.9232719659999996E-2,null,null,"CZ 5A",0,0,1.419569461E-2,5.4128155290000007E-2,0,0,0,0,0,0,0,0,0,0,0,0,6.8323849900000011E-2,null,null,"CZ 5A",0,0,1.6212813020000001E-2,0.14652148750000002,0,0,0,0,0,0,0,0,0,4.6279221896215805E-2,0,0,0.20901352241621582,null,null,"CZ 5A",0,0,2.3772844580000001E-2,5.0489991060000003E-2,0,0,0,0,0,0,0,0,0,2.4476536143895937E-2,0,0,9.8739371783895941E-2]
[]
["Total kBtu/sf Site Energy"]
[null,"STD2019","Light.Int","Light.Ext","SHW","Heat","Humidfy","Cool","Ht.Rej","Fans","Ht.Rcvy","Pumps","Refrig","Elevator","Txfmr","Cook","Data.Ctr","Equip","Total"]
[null,"CZ 4A",{"$f":"C15*$G$10+C25*$H$10","v":{"$error":"#VALUE!"}},{"$f":"D15*$G$10+D25*$H$10","v":{"$error":"#VALUE!"}},{"$error":"#VALUE!"},{"$error":"#VALUE!"},{"$error":"#VALUE!"},{"$error":"#VALUE!"},{"$error":"#VALUE!"},{"$error":"#VALUE!"},{"$error":"#VALUE!"},{"$error":"#VALUE!"},{"$error":"#VALUE!"},{"$error":"#VALUE!"},{"$error":"#VALUE!"},{"$error":"#VALUE!"},{"$error":"#VALUE!"},{"$error":"#VALUE!"},{"$error":"#VALUE!"}]
[null,"CZ 5A",{"$f":"C16*$G$10+C26*$H$10","v":{"$error":"#VALUE!"}},{"$error":"#VALUE!"},{"$error":"#VALUE!"},{"$error":"#VALUE!"},{"$error":"#VALUE!"},{"$error":"#VALUE!"},{"$error":"#VALUE!"},{"$error":"#VALUE!"},{"$error":"#VALUE!"},{"$error":"#VALUE!"},{"$error":"#VALUE!"},{"$error":"#VALUE!"},{"$error":"#VALUE!"},{"$error":"#VALUE!"},{"$error":"#VALUE!"},{"$error":"#VALUE!"},{"$error":"#VALUE!"}]
[null,"STD2016","Light.Int","Light.Ext","SHW","Heat","Humidfy","Cool","Ht.Rej","Fans","Ht.Rcvy","Pumps","Refrig","Elevator","Txfmr","Cook","Data.Ctr","Equip","Total kBtu/sf"]
[null,"CZ 4A",{"$f":"C18*$G$10+C28*$H$10","v":{"$error":"#VALUE!"}},{"$error":"#VALUE!"},{"$error":"#VALUE!"},{"$error":"#VALUE!"},{"$error":"#VALUE!"},{"$error":"#VALUE!"},{"$error":"#VALUE!"},{"$error":"#VALUE!"},{"$error":"#VALUE!"},{"$error":"#VALUE!"},{"$error":"#VALUE!"},{"$error":"#VALUE!"},{"$error":"#VALUE!"},{"$error":"#VALUE!"},{"$error":"#VALUE!"},{"$error":"#VALUE!"},{"$f":"SUM(C38:R38)","v":{"$error":"#VALUE!"}}]
[null,"CZ 5A",{"$f":"C19*$G$10+C29*$H$10","v":{"$error":"#VALUE!"}},{"$error":"#VALUE!"},{"$error":"#VALUE!"},{"$error":"#VALUE!"},{"$error":"#VALUE!"},{"$error":"#VALUE!"},{"$error":"#VALUE!"},{"$error":"#VALUE!"},{"$error":"#VALUE!"},{"$error":"#VALUE!"},{"$error":"#VALUE!"},{"$error":"#VALUE!"},{"$error":"#VALUE!"},{"$error":"#VALUE!"},{"$error":"#VALUE!"},{"$error":"#VALUE!"},{"$f":"SUM(C39:R39)","v":{"$error":"#VALUE!"}}]
[null,"STD2010","Light.Int","Light.Ext","SHW","Heat","Humidfy","Cool","Ht.Rej","Fans","Ht.Rcvy","Pumps","Refrig","Elevator","Txfmr","Cook","Data.Ctr","Equip","Total kBtu/sf"]
[null,"CZ 5A",{"$f":"C21*$G$10+C31*$H$10","v":{"$error":"#VALUE!"}},{"$f":"D21*$G$10+D31*$H$10","v":{"$error":"#VALUE!"}},{"$f":"E21*$G$10+E31*$H$10","v":{"$error":"#VALUE!"}},{"$f":"F21*$G$10+F31*$H$10","v":{"$error":"#VALUE!"}},{"$error":"#VALUE!"},{"$error":"#VALUE!"},{"$error":"#VALUE!"},{"$error":"#VALUE!"},{"$error":"#VALUE!"},{"$error":"#VALUE!"},{"$error":"#VALUE!"},{"$error":"#VALUE!"},{"$error":"#VALUE!"},{"$error":"#VALUE!"},{"$error":"#VALUE!"},{"$error":"#VALUE!"},{"$f":"SUM(C41:R41)","v":{"$error":"#VALUE!"}}]
[]
["Total kBtu/sf Source Energy"]
[null,"STD2019","Light.Int","Light.Ext","SHW","Heat","Humidfy","Cool","Ht.Rej","Fans","Ht.Rcvy","Pumps","Refrig","Elevator","Txfmr","Cook","Data.Ctr","Equip","Total"]
[null,"CZ 4A",{"$f":"C15*$E$10+C25*$F$10","v":{"$error":"#VALUE!"}},{"$f":"D15*$E$10+D25*$F$10","v":{"$error":"#VALUE!"}},{"$error":"#VALUE!"},{"$error":"#VALUE!"},{"$error":"#VALUE!"},{"$error":"#VALUE!"},{"$error":"#VALUE!"},{"$error":"#VALUE!"},{"$error":"#VALUE!"},{"$error":"#VALUE!"},{"$error":"#VALUE!"},{"$error":"#VALUE!"},{"$error":"#VALUE!"},{"$error":"#VALUE!"},{"$error":"#VALUE!"},{"$error":"#VALUE!"},{"$error":"#VALUE!"}]
[null,"CZ 5A",{"$f":"C16*$E$10+C26*$F$10","v":{"$error":"#VALUE!"}},{"$error":"#VALUE!"},{"$error":"#VALUE!"},{"$error":"#VALUE!"},{"$error":"#VALUE!"},{"$error":"#VALUE!"},{"$error":"#VALUE!"},{"$error":"#VALUE!"},{"$error":"#VALUE!"},{"$error":"#VALUE!"},{"$error":"#VALUE!"},{"$error":"#VALUE!"},{"$error":"#VALUE!"},{"$error":"#VALUE!"},{"$error":"#VALUE!"},{"$error":"#VALUE!"},{"$error":"#VALUE!"}]
[null,"STD2016","Light.Int","Light.Ext","SHW","Heat","Humidfy","Cool","Ht.Rej","Fans","Ht.Rcvy","Pumps","Refrig","Elevator","Txfmr","Cook","Data.Ctr","Equip","Total kBtu/sf"]
[null,"CZ 4A",{"$f":"C18*$E$10+C28*$F$10","v":{"$error":"#VALUE!"}},{"$error":"#VALUE!"},{"$error":"#VALUE!"},{"$error":"#VALUE!"},{"$error":"#VALUE!"},{"$error":"#VALUE!"},{"$error":"#VALUE!"},{"$error":"#VALUE!"},{"$error":"#VALUE!"},{"$error":"#VALUE!"},{"$error":"#VALUE!"},{"$error":"#VALUE!"},{"$error":"#VALUE!"},{"$error":"#VALUE!"},{"$error":"#VALUE!"},{"$error":"#VALUE!"},{"$f":"SUM(C48:R48)","v":{"$error":"#VALUE!"}}]
[null,"CZ 5A",{"$f":"C19*$E$10+C29*$F$10","v":{"$error":"#VALUE!"}},{"$error":"#VALUE!"},{"$error":"#VALUE!"},{"$error":"#VALUE!"},{"$error":"#VALUE!"},{"$error":"#VALUE!"},{"$error":"#VALUE!"},{"$error":"#VALUE!"},{"$error":"#VALUE!"},{"$error":"#VALUE!"},{"$error":"#VALUE!"},{"$error":"#VALUE!"},{"$error":"#VALUE!"},{"$error":"#VALUE!"},{"$error":"#VALUE!"},{"$error":"#VALUE!"},{"$f":"SUM(C49:R49)","v":{"$error":"#VALUE!"}}]
[null,"STD2010","Light.Int","Light.Ext","SHW","Heat","Humidfy","Cool","Ht.Rej","Fans","Ht.Rcvy","Pumps","Refrig","Elevator","Txfmr","Cook","Data.Ctr","Equip","Total kBtu/sf"]
[null,"CZ 5A",{"$f":"C21*$E$10+C31*$F$10","v":{"$error":"#VALUE!"}},{"$f":"D21*$E$10+D31*$F$10","v":{"$error":"#VALUE!"}},{"$f":"E21*$E$10+E31*$F$10","v":{"$error":"#VALUE!"}},{"$f":"F21*$E$10+F31*$F$10","v":{"$error":"#VALUE!"}},{"$error":"#VALUE!"},{"$error":"#VALUE!"},{"$error":"#VALUE!"},{"$error":"#VALUE!"},{"$error":"#VALUE!"},{"$error":"#VALUE!"},{"$error":"#VALUE!"},{"$error":"#VALUE!"},{"$error":"#VALUE!"},{"$error":"#VALUE!"},{"$error":"#VALUE!"},{"$error":"#VALUE!"},{"$f":"SUM(C51:R51)","v":{"$error":"#VALUE!"}}]
[]
["Total Energy Cost $/sf"]
[null,"STD2019","Light.Int","Light.Ext","SHW","Heat","Humidfy","Cool","Ht.Rej","Fans","Ht.Rcvy","Pumps","Refrig","Elevator","Txfmr","Cook","Data.Ctr","Equip","Total"]
[null,"CZ 4A",{"$f":"C15*$C$10+C25*$D$10","v":{"$error":"#VALUE!"}},{"$f":"D15*$C$10+D25*$D$10","v":{"$error":"#VALUE!"}},{"$error":"#VALUE!"},{"$error":"#VALUE!"},{"$error":"#VALUE!"},{"$error":"#VALUE!"},{"$error":"#VALUE!"},{"$error":"#VALUE!"},{"$error":"#VALUE!"},{"$error":"#VALUE!"},{"$error":"#VALUE!"},{"$error":"#VALUE!"},{"$error":"#VALUE!"},{"$error":"#VALUE!"},{"$error":"#VALUE!"},{"$error":"#VALUE!"},{"$error":"#VALUE!"}]
[null,"CZ 5A",{"$f":"C16*$C$10+C26*$D$10","v":{"$error":"#VALUE!"}},{"$error":"#VALUE!"},{"$error":"#VALUE!"},{"$error":"#VALUE!"},{"$error":"#VALUE!"},{"$error":"#VALUE!"},{"$error":"#VALUE!"},{"$error":"#VALUE!"},{"$error":"#VALUE!"},{"$error":"#VALUE!"},{"$error":"#VALUE!"},{"$error":"#VALUE!"},{"$error":"#VALUE!"},{"$error":"#VALUE!"},{"$error":"#VALUE!"},{"$error":"#VALUE!"},{"$error":"#VALUE!"}]
[null,"STD2016","Light.Int","Light.Ext","SHW","Heat","Humidfy","Cool","Ht.Rej","Fans","Ht.Rcvy","Pumps","Refrig","Elevator","Txfmr","Cook","Data.Ctr","Equip","Total ($/sf/yr)"]
[null,"CZ 4A",{"$f":"C18*$C$10+C28*$D$10","v":{"$error":"#VALUE!"}},{"$error":"#VALUE!"},{"$error":"#VALUE!"},{"$error":"#VALUE!"},{"$error":"#VALUE!"},{"$error":"#VALUE!"},{"$error":"#VALUE!"},{"$error":"#VALUE!"},{"$error":"#VALUE!"},{"$error":"#VALUE!"},{"$error":"#VALUE!"},{"$error":"#VALUE!"},{"$error":"#VALUE!"},{"$error":"#VALUE!"},{"$error":"#VALUE!"},{"$error":"#VALUE!"},{"$f":"SUM(C58:R58)","v":{"$error":"#VALUE!"}}]
[null,"CZ 5A",{"$f":"C19*$C$10+C29*$D$10","v":{"$error":"#VALUE!"}},{"$error":"#VALUE!"},{"$error":"#VALUE!"},{"$error":"#VALUE!"},{"$error":"#VALUE!"},{"$error":"#VALUE!"},{"$error":"#VALUE!"},{"$error":"#VALUE!"},{"$error":"#VALUE!"},{"$error":"#VALUE!"},{"$error":"#VALUE!"},{"$error":"#VALUE!"},{"$error":"#VALUE!"},{"$error":"#VALUE!"},{"$error":"#VALUE!"},{"$error":"#VALUE!"},{"$f":"SUM(C59:R59)","v":{"$error":"#VALUE!"}}]
[null,"STD2010","Light.Int","Light.Ext","SHW","Heat","Humidfy","Cool","Ht.Rej","Fans","Ht.Rcvy","Pumps","Refrig","Elevator","Txfmr","Cook","Data.Ctr","Equip","Total ($/sf/yr)"]
[null,"CZ 5A",{"$f":"C21*$C$10+C31*$D$10","v":{"$error":"#VALUE!"}},{"$error":"#VALUE!"},{"$error":"#VALUE!"},{"$error":"#VALUE!"},{"$error":"#VALUE!"},{"$error":"#VALUE!"},{"$error":"#VALUE!"},{"$error":"#VALUE!"},{"$error":"#VALUE!"},{"$error":"#VALUE!"},{"$error":"#VALUE!"},{"$error":"#VALUE!"},{"$error":"#VALUE!"},{"$error":"#VALUE!"},{"$error":"#VALUE!"},{"$error":"#VALUE!"},{"$f":"SUM(C61:R61)","v":{"$error":"#VALUE!"}}]
[]
[null,null,null,"Light.Int","Light.Ext","SHW","Heat","Cool","Fan.Aux","Pumps","Misc","Equip"]
[null,null,"Electric kWh/sq ft/yr"]
["STD2019",{"$f":"A65&\" \"&C65","v":"STD2019 CZ 4A"},"CZ 4A",{"$f":"C15","v":""},"","",{"$f":"F15+G15","v":{"$error":"#VALUE!"}},{"$f":"H15+I15","v":{"$error":"#VALUE!"}},{"$f":"J15+K15","v":{"$error":"#VALUE!"}},{"$f":"L15","v":""},{"$f":"M15+N15+O15","v":{"$error":"#VALUE!"}},{"$f":"P15+Q15+R15","v":{"$error":"#VALUE!"}}]
["STD2019","STD2019 CZ 5A","CZ 5A","","","",{"$f":"F16+G16","v":{"$error":"#VALUE!"}},{"$f":"H16+I16","v":{"$error":"#VALUE!"}},{"$f":"J16+K16","v":{"$error":"#VALUE!"}},{"$f":"L16","v":""},{"$f":"M16+N16+O16","v":{"$error":"#VALUE!"}},{"$f":"P16+Q16+R16","v":{"$error":"#VALUE!"}}]
["STD2016",{"$f":"A67&\" \"&C67","v":"STD2016 CZ 4A"},"CZ 4A",{"$f":"C18","v":""},"","",{"$f":"F18+G18","v":{"$error":"#VALUE!"}},{"$f":"H18+I18","v":{"$error":"#VALUE!"}},{"$f":"J18+K18","v":{"$error":"#VALUE!"}},{"$f":"L18","v":""},{"$f":"M18+N18+O18","v":{"$error":"#VALUE!"}},{"$f":"P18+Q18+R18","v":{"$error":"#VALUE!"}}]
["STD2016",{"$f":"A68&\" \"&C68","v":"STD2016 CZ 5A"},"CZ 5A","","","",{"$f":"F19+G19","v":{"$error":"#VALUE!"}},{"$f":"H19+I19","v":{"$error":"#VALUE!"}},{"$f":"J19+K19","v":{"$error":"#VALUE!"}},{"$f":"L19","v":""},{"$f":"M19+N19+O19","v":{"$error":"#VALUE!"}},{"$f":"P19+Q19+R19","v":{"$error":"#VALUE!"}},null,null,{"$f":"C82","v":"Total kBtu/sf Source Energy"},null,{"$f":"C88","v":"Total Energy Cost $/sf"}]
["STD2010",{"$f":"A69&\" \"&C69","v":"STD2010 CZ 5A"},"CZ 5A",{"$f":"C21","v":""},{"$f":"D21","v":""},{"$f":"E21","v":""},{"$f":"F21+G21","v":{"$error":"#VALUE!"}},{"$f":"H21+I21","v":{"$error":"#VALUE!"}},{"$f":"J21+K21","v":{"$error":"#VALUE!"}},{"$f":"L21","v":""},{"$f":"M21+N21+O21","v":{"$error":"#VALUE!"}},{"$f":"P21+Q21+R21","v":{"$error":"#VALUE!"}},null,null,{"$f":"B83","v":"STD2019 CZ 4A"},{"$f":"B84","v":"STD2019 CZ 5A"},{"$f":"B89","v":"STD2019 CZ 4A"},{"$f":"B90","v":"STD2019 CZ 5A"}]
[null,null,"Gas therms/sq ft/yr",null,null,null,null,null,null,null,null,null,null,{"$f":"D63","v":"Light.Int"},{"$f":"D83","v":{"$error":"#VALUE!"}},{"$f":"D84","v":{"$error":"#VALUE!"}},{"$f":"D89","v":{"$error":"#VALUE!"}},{"$f":"D90","v":{"$error":"#VALUE!"}}]
["STD2019",{"$f":"A71&\" \"&C71","v":"STD2019 CZ 4A"},"CZ 4A",{"$f":"C25","v":""},"","",{"$f":"F25+G25","v":{"$error":"#VALUE!"}},{"$f":"H25+I25","v":{"$error":"#VALUE!"}},{"$f":"J25+K25","v":{"$error":"#VALUE!"}},{"$f":"L25","v":""},{"$f":"M25+N25+O25","v":{"$error":"#VALUE!"}},{"$f":"P25+Q25+R25","v":{"$error":"#VALUE!"}},null,{"$f":"E63","v":"Light.Ext"},{"$f":"E83","v":{"$error":"#VALUE!"}},{"$f":"E84","v":{"$error":"#VALUE!"}},{"$f":"E89","v":{"$error":"#VALUE!"}},{"$f":"E90","v":{"$error":"#VALUE!"}}]
["STD2019","STD2019 CZ 5A","CZ 5A","","","",{"$f":"F26+G26","v":{"$error":"#VALUE!"}},{"$f":"H26+I26","v":{"$error":"#VALUE!"}},{"$f":"J26+K26","v":{"$error":"#VALUE!"}},{"$f":"L26","v":""},{"$f":"M26+N26+O26","v":{"$error":"#VALUE!"}},{"$f":"P26+Q26+R26","v":{"$error":"#VALUE!"}},null,{"$f":"F63","v":"SHW"},{"$f":"F83","v":{"$error":"#VALUE!"}},{"$f":"F84","v":{"$error":"#VALUE!"}},{"$f":"F89","v":{"$error":"#VALUE!"}},{"$f":"F90","v":{"$error":"#VALUE!"}}]
["STD2016",{"$f":"A73&\" \"&C73","v":"STD2016 CZ 4A"},"CZ 4A",{"$f":"C28","v":""},"","",{"$f":"F28+G28","v":{"$error":"#VALUE!"}},{"$f":"H28+I28","v":{"$error":"#VALUE!"}},{"$f":"J28+K28","v":{"$error":"#VALUE!"}},{"$f":"L28","v":""},{"$f":"M28+N28+O28","v":{"$error":"#VALUE!"}},{"$f":"P28+Q28+R28","v":{"$error":"#VALUE!"}},null,{"$f":"G63","v":"Heat"},{"$f":"G83","v":{"$error":"#VALUE!"}},{"$f":"G84","v":{"$error":"#VALUE!"}},{"$f":"G89","v":{"$error":"#VALUE!"}},{"$f":"G90","v":{"$error":"#VALUE!"}}]
["STD2016",{"$f":"A74&\" \"&C74","v":"STD2016 CZ 5A"},"CZ 5A","","","",{"$f":"F29+G29","v":{"$error":"#VALUE!"}},{"$f":"H29+I29","v":{"$error":"#VALUE!"}},{"$f":"J29+K29","v":{"$error":"#VALUE!"}},{"$f":"L29","v":""},{"$f":"M29+N29+O29","v":{"$error":"#VALUE!"}},{"$f":"P29+Q29+R29","v":{"$error":"#VALUE!"}},null,{"$f":"H63","v":"Cool"},{"$f":"H83","v":{"$error":"#VALUE!"}},{"$f":"H84","v":{"$error":"#VALUE!"}},{"$f":"H89","v":{"$error":"#VALUE!"}},{"$f":"H90","v":{"$error":"#VALUE!"}}]
["STD2010",{"$f":"A75&\" \"&C75","v":"STD2010 CZ 5A"},"CZ 5A",{"$f":"C31","v":""},{"$f":"D31","v":""},{"$f":"E31","v":""},{"$f":"F31+G31","v":{"$error":"#VALUE!"}},{"$f":"H31+I31","v":{"$error":"#VALUE!"}},{"$f":"J31+K31","v":{"$error":"#VALUE!"}},{"$f":"L31","v":""},{"$f":"M31+N31+O31","v":{"$error":"#VALUE!"}},{"$f":"P31+Q31+R31","v":{"$error":"#VALUE!"}},null,{"$f":"I63","v":"Fan.Aux"},{"$f":"I83","v":{"$error":"#VALUE!"}},{"$f":"I84","v":{"$error":"#VALUE!"}},{"$f":"I89","v":{"$error":"#VALUE!"}},{"$f":"I90","v":{"$error":"#VALUE!"}}]
[null,null,"Total kBtu/sf Site Energy",null,null,null,null,null,null,null,null,null,null,{"$f":"J63","v":"Pumps"},{"$f":"J83","v":{"$error":"#VALUE!"}},{"$f":"J84","v":{"$error":"#VALUE!"}},{"$f":"J89","v":{"$error":"#VALUE!"}},{"$f":"J90","v":{"$error":"#VALUE!"}}]
["STD2019",{"$f":"A77&\" \"&C77","v":"STD2019 CZ 4A"},"CZ 4A",{"$f":"C35","v":{"$error":"#VALUE!"}},{"$error":"#VALUE!"},{"$error":"#VALUE!"},{"$f":"F35+G35","v":{"$error":"#VALUE!"}},{"$f":"H35+I35","v":{"$error":"#VALUE!"}},{"$f":"J35+K35","v":{"$error":"#VALUE!"}},{"$f":"L35","v":{"$error":"#VALUE!"}},{"$f":"M35+N35+O35","v":{"$error":"#VALUE!"}},{"$f":"P35+Q35+R35","v":{"$error":"#VALUE!"}},null,{"$f":"K63","v":"Misc"},{"$f":"K83","v":{"$error":"#VALUE!"}},{"$f":"K84","v":{"$error":"#VALUE!"}},{"$f":"K89","v":{"$error":"#VALUE!"}},{"$f":"K90","v":{"$error":"#VALUE!"}}]
["STD2019","STD2019 CZ 5A","CZ 5A",{"$error":"#VALUE!"},{"$error":"#VALUE!"},{"$error":"#VALUE!"},{"$f":"F36+G36","v":{"$error":"#VALUE!"}},{"$f":"H36+I36","v":{"$error":"#VALUE!"}},{"$f":"J36+K36","v":{"$error":"#VALUE!"}},{"$f":"L36","v":{"$error":"#VALUE!"}},{"$f":"M36+N36+O36","v":{"$error":"#VALUE!"}},{"$f":"P36+Q36+R36","v":{"$error":"#VALUE!"}},null,{"$f":"L63","v":"Equip"},{"$f":"L83","v":{"$error":"#VALUE!"}},{"$f":"L84","v":{"$error":"#VALUE!"}},{"$f":"L89","v":{"$error":"#VALUE!"}},{"$f":"L90","v":{"$error":"#VALUE!"}}]
["STD2016",{"$f":"A79&\" \"&C79","v":"STD2016 CZ 4A"},"CZ 4A",{"$f":"C38","v":{"$error":"#VALUE!"}},{"$error":"#VALUE!"},{"$error":"#VALUE!"},{"$f":"F38+G38","v":{"$error":"#VALUE!"}},{"$f":"H38+I38","v":{"$error":"#VALUE!"}},{"$f":"J38+K38","v":{"$error":"#VALUE!"}},{"$f":"L38","v":{"$error":"#VALUE!"}},{"$f":"M38+N38+O38","v":{"$error":"#VALUE!"}},{"$f":"P38+Q38+R38","v":{"$error":"#VALUE!"}}]
["STD2016",{"$f":"A80&\" \"&C80","v":"STD2016 CZ 5A"},"CZ 5A",{"$error":"#VALUE!"},{"$error":"#VALUE!"},{"$error":"#VALUE!"},{"$f":"F39+G39","v":{"$error":"#VALUE!"}},{"$f":"H39+I39","v":{"$error":"#VALUE!"}},{"$f":"J39+K39","v":{"$error":"#VALUE!"}},{"$f":"L39","v":{"$error":"#VALUE!"}},{"$f":"M39+N39+O39","v":{"$error":"#VALUE!"}},{"$f":"P39+Q39+R39","v":{"$error":"#VALUE!"}}]
["STD2010",{"$f":"A81&\" \"&C81","v":"STD2010 CZ 5A"},"CZ 5A",{"$f":"C41","v":{"$error":"#VALUE!"}},{"$f":"D41","v":{"$error":"#VALUE!"}},{"$f":"E41","v":{"$error":"#VALUE!"}},{"$f":"F41+G41","v":{"$error":"#VALUE!"}},{"$f":"H41+I41","v":{"$error":"#VALUE!"}},{"$f":"J41+K41","v":{"$error":"#VALUE!"}},{"$f":"L41","v":{"$error":"#VALUE!"}},{"$f":"N41+O41+P41","v":{"$error":"#VALUE!"}},{"$f":"P41+Q41+R41","v":{"$error":"#VALUE!"}}]
[null,null,"Total kBtu/sf Source Energy"]
["STD2019",{"$f":"A83&\" \"&C83","v":"STD2019 CZ 4A"},"CZ 4A",{"$f":"C45","v":{"$error":"#VALUE!"}},{"$error":"#VALUE!"},{"$error":"#VALUE!"},{"$f":"F45+G45","v":{"$error":"#VALUE!"}},{"$f":"H45+I45","v":{"$error":"#VALUE!"}},{"$f":"J45+K45","v":{"$error":"#VALUE!"}},{"$f":"L45","v":{"$error":"#VALUE!"}},{"$f":"M45+N45+O45","v":{"$error":"#VALUE!"}},{"$f":"P45+Q45+R45","v":{"$error":"#VALUE!"}}]
["STD2019","STD2019 CZ 5A","CZ 5A",{"$error":"#VALUE!"},{"$error":"#VALUE!"},{"$error":"#VALUE!"},{"$f":"F46+G46","v":{"$error":"#VALUE!"}},{"$f":"H46+I46","v":{"$error":"#VALUE!"}},{"$f":"J46+K46","v":{"$error":"#VALUE!"}},{"$f":"L46","v":{"$error":"#VALUE!"}},{"$f":"M46+N46+O46","v":{"$error":"#VALUE!"}},{"$f":"P46+Q46+R46","v":{"$error":"#VALUE!"}}]
["STD2016",{"$f":"A85&\" \"&C85","v":"STD2016 CZ 4A"},"CZ 4A",{"$f":"C48","v":{"$error":"#VALUE!"}},{"$error":"#VALUE!"},{"$error":"#VALUE!"},{"$f":"F48+G48","v":{"$error":"#VALUE!"}},{"$f":"H48+I48","v":{"$error":"#VALUE!"}},{"$f":"J48+K48","v":{"$error":"#VALUE!"}},{"$f":"L48","v":{"$error":"#VALUE!"}},{"$f":"M48+N48+O48","v":{"$error":"#VALUE!"}},{"$f":"P48+Q48+R48","v":{"$error":"#VALUE!"}}]
["STD2016",{"$f":"A86&\" \"&C86","v":"STD2016 CZ 5A"},"CZ 5A",{"$error":"#VALUE!"},{"$error":"#VALUE!"},{"$error":"#VALUE!"},{"$f":"F49+G49","v":{"$error":"#VALUE!"}},{"$f":"H49+I49","v":{"$error":"#VALUE!"}},{"$f":"J49+K49","v":{"$error":"#VALUE!"}},{"$f":"L49","v":{"$error":"#VALUE!"}},{"$f":"M49+N49+O49","v":{"$error":"#VALUE!"}},{"$f":"P49+Q49+R49","v":{"$error":"#VALUE!"}}]
["STD2010",{"$f":"A87&\" \"&C87","v":"STD2010 CZ 5A"},"CZ 5A",{"$f":"C51","v":{"$error":"#VALUE!"}},{"$f":"D51","v":{"$error":"#VALUE!"}},{"$f":"E51","v":{"$error":"#VALUE!"}},{"$f":"F51+G51","v":{"$error":"#VALUE!"}},{"$f":"H51+I51","v":{"$error":"#VALUE!"}},{"$f":"J51+K51","v":{"$error":"#VALUE!"}},{"$f":"L51","v":{"$error":"#VALUE!"}},{"$f":"M51+N51+O51","v":{"$error":"#VALUE!"}},{"$f":"P51+Q51+R51","v":{"$error":"#VALUE!"}}]
[null,null,"Total Energy Cost $/sf"]
["STD2019",{"$f":"A89&\" \"&C89","v":"STD2019 CZ 4A"},"CZ 4A",{"$f":"C55","v":{"$error":"#VALUE!"}},{"$error":"#VALUE!"},{"$error":"#VALUE!"},{"$f":"F55+G55","v":{"$error":"#VALUE!"}},{"$f":"H55+I55","v":{"$error":"#VALUE!"}},{"$f":"J55+K55","v":{"$error":"#VALUE!"}},{"$f":"L55","v":{"$error":"#VALUE!"}},{"$f":"M55+N55+O55","v":{"$error":"#VALUE!"}},{"$f":"P55+Q55+R55","v":{"$error":"#VALUE!"}}]
["STD2019","STD2019 CZ 5A","CZ 5A",{"$error":"#VALUE!"},{"$error":"#VALUE!"},{"$error":"#VALUE!"},{"$f":"F56+G56","v":{"$error":"#VALUE!"}},{"$f":"H56+I56","v":{"$error":"#VALUE!"}},{"$f":"J56+K56","v":{"$error":"#VALUE!"}},{"$f":"L56","v":{"$error":"#VALUE!"}},{"$f":"M56+N56+O56","v":{"$error":"#VALUE!"}},{"$f":"P56+Q56+R56","v":{"$error":"#VALUE!"}}]
["STD2016",{"$f":"A91&\" \"&C91","v":"STD2016 CZ 4A"},"CZ 4A",{"$f":"C58","v":{"$error":"#VALUE!"}},{"$error":"#VALUE!"},{"$error":"#VALUE!"},{"$f":"F58+G58","v":{"$error":"#VALUE!"}},{"$f":"H58+I58","v":{"$error":"#VALUE!"}},{"$f":"J58+K58","v":{"$error":"#VALUE!"}},{"$f":"L58","v":{"$error":"#VALUE!"}},{"$f":"M58+N58+O58","v":{"$error":"#VALUE!"}},{"$f":"P58+Q58+R58","v":{"$error":"#VALUE!"}}]
["STD2016",{"$f":"A92&\" \"&C92","v":"STD2016 CZ 5A"},"CZ 5A",{"$error":"#VALUE!"},{"$error":"#VALUE!"},{"$error":"#VALUE!"},{"$f":"F59+G59","v":{"$error":"#VALUE!"}},{"$f":"H59+I59","v":{"$error":"#VALUE!"}},{"$f":"J59+K59","v":{"$error":"#VALUE!"}},{"$f":"L59","v":{"$error":"#VALUE!"}},{"$f":"M59+N59+O59","v":{"$error":"#VALUE!"}},{"$f":"P59+Q59+R59","v":{"$error":"#VALUE!"}}]
["STD2010",{"$f":"A93&\" \"&C93","v":"STD2010 CZ 5A"},"CZ 5A",{"$f":"C61","v":{"$error":"#VALUE!"}},{"$f":"D61","v":{"$error":"#VALUE!"}},{"$f":"E61","v":{"$error":"#VALUE!"}},{"$f":"F61+G61","v":{"$error":"#VALUE!"}},{"$f":"H61+I61","v":{"$error":"#VALUE!"}},{"$f":"J61+K61","v":{"$error":"#VALUE!"}},{"$f":"L61","v":{"$error":"#VALUE!"}},{"$f":"M61+N61+O61","v":{"$error":"#VALUE!"}},{"$f":"P61+Q61+R61","v":{"$error":"#VALUE!"}}]
[null,"Note: Graphs may be edited to remove any call outs that show 0% savings or consumption, or to move the labels to a desirable location. To do so, please copy and paste the graph before any edits are made in order to preserve the functionality of this tab.  "]

{"sheet":"Results from eQuest","index":8,"n_rows":11,"n_cols":76,"rows_kept":11,"cut":false,"hidden":true,"merged":[[4,64,4,65],[4,66,4,69],[4,70,4,75],[2,0,2,10],[4,11,4,23],[4,24,4,35],[4,36,4,48],[4,49,4,61],[4,62,4,63]]}
["Results from eQUEST Parms.csv File(s)"]
["Instructions"]
["1) Open Parms.csv file(s) that include results for baseline and proposed models and all ECMs for this project.\n2) For Appendix G projects, copy baseline runs from the appropriate Parms.csv file and paste values into rows 7-10 below. \n3) For Appendix G projects, copy proposed run from the approrpriate Parms.csv file and paste values into row 12 below. This will be the last parametric run modeled. \n4) Copy runs that correspond to each ECM from the appropriate Parms.csv file(s), including final run from Step 3, and paste into rows 13-35 (leave un-needed rows blank).  Do not include the baseline runs.\n5) For unregulated lighting systems, specific those loads in the \"Task Lighting\" input section under Space Properties of the Internal Loads tab.\n       "]
[]
[null,null,null,null,null,null,null,null,null,null,null,"Electric Usage:",null,null,null,null,null,null,null,null,null,null,null,null,"Non-Coincident Peak Demand:",null,null,null,null,null,null,null,null,null,null,null,"Coincident Peak Demand:",null,null,null,null,null,null,null,null,null,null,null,null,"Fuel Usage:",null,null,null,null,null,null,null,null,null,null,null,null,"Source Energy:",null,"TDV Energy:",null,"Annual Utility Costs:",null,null,null,"Hours Outside Throttling Range:"]
["Run Type","Internal Loads","Case #s","Short Name","Carry Fwd","Incremental First Cost ($)","Incremental Annual Maint. ($)","Date & Time of Run","File Name","Case Description","SS-D\nPeak Cooling Coil Load\nkBtu","PS-E\nAmbient Lights\nkWh","PS-E\nTask Lights\nkWh","PS-E\nMisc Equip\nkWh","PS-E\nSpace Heating\nkWh","PS-E\nSpace Cooling\nkWh","PS-E\nHeat Reject\nkWh","PS-E\nPumps & Aux\nkWh","PS-E\nVentilation Fans\nkWh","PS-E\nRefrig Display\nkWh","PS-E\nHeat Pump Supplement\nkWh","PS-E\nDomestic Hot Water\nkWh","PS-E\nExterior Usage\nkWh","PS-E\nTotal\nkWh","PS-E\nAmbient Lights\nkW","PS-E\nTask Lights\nkW","PS-E\nMisc Equip\nkW","PS-E\nSpace Heating\nkW","PS-E\nSpace Cooling\nkW","PS-E\nHeat Reject\nkW","PS-E\nPumps & Aux\nkW","PS-E\nVentilation Fans\nkW","PS-E\nRefrig Display\nkW","PS-E\nHeat Pump Supplement\nkW","PS-E\nDomestic Hot Water\nkW","PS-E\nExterior Usage\nkW","PS-E\nAmbient Lights\nkW","PS-E\nTask Lights\nkW","PS-E\nMisc Equip\nkW","PS-E\nSpace Heating\nkW","PS-E\nSpace Cooling\nkW","PS-E\nHeat Reject\nkW","PS-E\nPumps & Aux\nkW","PS-E\nVentilation Fans\nkW","PS-E\nRefrig Display\nkW","PS-E\nHeat Pump Supplement\nkW","PS-E\nDomestic Hot Water\nkW","PS-E\nExterior Usage\nkW","PS-E\nBldg Total\nkW","PS-E\nAmbient Lights\nTherms","PS-E\nTask Lights\nTherms","PS-E\nMisc Equip\nTherms","PS-E\nSpace Heating\nTherms","PS-E\nSpace Cooling\nTherms","PS-E\nHeat Reject\nTherms","PS-E\nPumps & Aux\nTherms","PS-E\nVentilation Fans\nTherms","PS-E\nRefrig Display\nTherms","PS-E\nHeat Pump Supplement\nTherms","PS-E\nDomestic Hot Water\nTherms","PS-E\nExterior Usage\nTherms","PS-E\nTotal\nTherms","BEPS\nBldg Energy\nMbtu","BEPS\nBldg EUI\nkBtu/sf/yr","TDV1\nBldg Energy\nTDV-Mbtu","TDV1\nBldg EUI\nTDV-kBtu/sf/yr","ES-E\nTotal Electric\n$","ES-E\nTotal Fuel\n$","ES-E\nElectric kWh\n$","ES-E\nElectric kW\n$","BEPS\nZone Outsd Thrtlng Rng\n% hrs","BEPS\nPlant Ld Not Met\n% hrs","SS-E\nHours Fan On\n# hrs","\nZone Outsd Thrtlng Rng\n# hrs","BEPS\nCool Loads Not Met\n# hrs","BEPS\nHeat Loads Not Met\n# hrs"]
[]
[]
[]
[]
["Average Baseline",null,null,null,null,null,null,null,null,null,{"$f":"AVERAGE(K7:K10)","v":{"$error":"#DIV/0!"}},{"$f":"AVERAGE(L7:L10)","v":{"$error":"#DIV/0!"}},{"$f":"AVERAGE(M7:M10)","v":{"$error":"#DIV/0!"}},{"$f":"AVERAGE(N7:N10)","v":{"$error":"#DIV/0!"}},{"$error":"#DIV/0!"},{"$error":"#DIV/0!"},{"$error":"#DIV/0!"},{"$error":"#DIV/0!"},{"$error":"#DIV/0!"},{"$error":"#DIV/0!"},{"$error":"#DIV/0!"},{"$error":"#DIV/0!"},{"$error":"#DIV/0!"},{"$error":"#DIV/0!"},{"$f":"AVERAGE(Y7:Y10)","v":{"$error":"#DIV/0!"}},{"$error":"#DIV/0!"},{"$error":"#DIV/0!"},{"$error":"#DIV/0!"},{"$error":"#DIV/0!"},{"$error":"#DIV/0!"},{"$error":"#DIV/0!"},{"$error":"#DIV/0!"},{"$error":"#DIV/0!"},{"$error":"#DIV/0!"},{"$error":"#DIV/0!"},{"$error":"#DIV/0!"},{"$error":"#DIV/0!"},{"$error":"#DIV/0!"},{"$error":"#DIV/0!"},{"$error":"#DIV/0!"},{"$error":"#DIV/0!"},{"$error":"#DIV/0!"},{"$error":"#DIV/0!"},{"$error":"#DIV/0!"},{"$error":"#DIV/0!"},{"$error":"#DIV/0!"},{"$error":"#DIV/0!"},{"$error":"#DIV/0!"},{"$error":"#DIV/0!"},{"$error":"#DIV/0!"},{"$error":"#DIV/0!"},{"$error":"#DIV/0!"},{"$error":"#DIV/0!"},{"$error":"#DIV/0!"},{"$error":"#DIV/0!"},{"$error":"#DIV/0!"},{"$f":"AVERAGE(BE7:BE10)","v":{"$error":"#DIV/0!"}},{"$error":"#DIV/0!"},{"$error":"#DIV/0!"},{"$error":"#DIV/0!"},{"$error":"#DIV/0!"},{"$error":"#DIV/0!"},{"$error":"#DIV/0!"},{"$error":"#DIV/0!"},{"$error":"#DIV/0!"},{"$error":"#DIV/0!"},{"$error":"#DIV/0!"},{"$error":"#DIV/0!"},{"$error":"#DIV/0!"},{"$error":"#DIV/0!"},{"$error":"#DIV/0!"},{"$error":"#DIV/0!"},{"$error":"#DIV/0!"},{"$error":"#DIV/0!"},{"$error":"#DIV/0!"},{"$error":"#DIV/0!"}]

{"sheet":"P4P - EDS Legend","index":9,"n_rows":48,"n_cols":5,"rows_kept":48,"cut":false,"hidden":true,"merged":[[11,1,12,1],[13,1,14,1],[18,1,20,1],[21,1,23,1],[0,3,0,8],[1,3,1,8],[2,3,2,8]]}
[null,null,null,"New Jersey Office of Clean Energy"]
[null,null,null,"Pay for Performance New Construction Program"]
[null,null,null,"ERP Tables and Incentive Calculator"]
[]
[]
[]
[]
[null,"Simple Breakdown","Detailed Breakdown","End Use Description"]
[null,"Light.int","Light.int","Interior Lighting"]
[null,"Light.ext","Light.ext","Exterior Lighting"]
[null,"SHW","SHW","Service Hot Water"]
[null,"Heat","Heat","Space Heating"]
[null,null,"Humidify","Humidification (Dehumidification in Heat and Cool)"]
[null,"Cool","Cool","Mechanical Cooling (including unitary heat rejection)"]
[null,null,"Ht.Rej","Heat rejection, cooling towers (unitary is in cool)"]
[null,"Fan.Aux","Fans","HVAC supply, return and exhaust fans"]
[null,null,"Ht.Rcvy","Heat recovery fan and wheel energy"]
[null,"Pumps","Pumps","Hydronic pumping, including SHW recirculation"]
[null,"Misc","Refrig","Refrigeration equipment and kitchen refrigerators and freezers"]
[null,null,"Elevator","Elevators"]
[null,null,"Txfmr","In-building transformers"]
[null,"Equip","Cook","Cooking"]
[null,null,"IT","Computer room IT equipment and telephone equipment"]
[null,null,"Equip","Other plug loads and equipment incl. non-kitchen refrigerators"]
[]
["The 16 building prototypes are listed below and further detail and description can be found at:"]
[null,"http://www.energycodes.gov/commercial-prototype-building-models"]
["Related analysis results can be found here:"]
[null,"http://www.energycodes.gov/development/commercial/cost_effectiveness"]
[]
[null,null,null,null,"Floor area"]
[null,null,"Tab","Building Prototype","(ft²)"]
[null,null,"SmOffice","Small Office",5500]
[null,null,"MdOffice","Medium Office",53630]
[null,null,"LgOffice","Large Office",498640]
[null,null,"RetailStore","Standalone Retail",24690]
[null,null,"StripMall","Strip Mall",22500]
[null,null,"PriSchool","Primary School",73970]
[null,null,"SecSchool","Secondary School",210910]
[null,null,"Clinic","Outpatient Healthcare",40950]
[null,null,"Hospital","Hospital ",241410]
[null,null,"SmHotel","Small Hotel",43210]
[null,null,"LgHotel","Large Hotel",122120]
[null,null,"Warehouse","Warehouse ",52050]
[null,null,"FastFood","Quick-service Restaurant",2500]
[null,null,"Restaurant","Full-service Restaurant",5500]
[null,null,"MidApartment","Mid-rise Apartment",33740]
[null,null,"HiApartment","High-rise Apartment",84360]

{"sheet":"Hrly eQuest Results","index":10,"n_rows":8782,"n_cols":71,"rows_kept":1125,"cut":true,"hidden":true,"merged":[[4,30,5,30],[0,30,1,30],[0,67,0,70],[16,30,33,30]],"bounds":{"rows_first":500,"rows_last":125,"rows_between":500,"halvings":2}}
[null,null,null,null,null,null,null,null,null,null,null,null,null,null,null,null,null,null,null,null,null,null,null,null,null,null,null,null,null,null,"App G Baseline Results ",null,null,null,null,null,null,null,null,null,null,null,null,null,null,null,null,null,null,null,null,null,null,null,null,null,null,null,null,null,null,null,null,"Basic Period Parameters",null,null,null,"Whole Building"]
[null,null,null,null,null,null,null,null,null,null,null,null,null,null,null,null,null,null,null,null,null,null,null,null,null,null,null,null,null,null,null,null,null,null,null,null,null,null,null,null,null,null,null,null,null,null,null,null,null,null,null,null,null,null,null,null,null,null,null,null,null,null,null,"Hour Start",12,null,null,"June","July","August","Summer"]
[null,null,null,null,null,null,null,null,null,null,null,null,null,null,null,null,null,null,null,null,null,null,null,null,null,null,null,null,null,null,"<-------",null,null,null,null,null,null,null,null,null,null,null,null,null,null,null,null,null,null,null,null,null,null,null,null,null,null,null,null,null,null,null,null,"Hour End",20,null,"Month:",6,7,8,"n/a"]
[null,null,null,null,null,null,null,null,null,null,null,null,null,null,null,null,null,null,null,null,null,null,null,null,null,null,null,null,null,null,null,null,null,null,null,null,null,null,null,null,null,null,null,null,null,null,null,null,null,null,null,null,null,null,null,null,null,null,null,null,null,null,null,"Day Type 1, Monday = 1",1,null,"Baseline Max kW",{"$f":"_xlfn.MAXIFS($Q$11:$Q$8770,$A$11:$A$8770,BP$3,$C$11:$C$8770,\">=\"&$BM$2,$C$11:$C$8770,\"<=\"&$BM$3,$D$11:$D$8770,\">=\"&$BM$4,$D$11:$D$8770,\"<=\"&$BM$5)","v":0},{"$f":"_xlfn.MAXIFS($Q$11:$Q$8770,$A$11:$A$8770,BQ$3,$C$11:$C$8770,\">=\"&$BM$2,$C$11:$C$8770,\"<=\"&$BM$3,$D$11:$D$8770,\">=\"&$BM$4,$D$11:$D$8770,\"<=\"&$BM$5)","v":0},{"$f":"_xlfn.MAXIFS($Q$11:$Q$8770,$A$11:$A$8770,BR$3,$C$11:$C$8770,\">=\"&$BM$2,$C$11:$C$8770,\"<=\"&$BM$3,$D$11:$D$8770,\">=\"&$BM$4,$D$11:$D$8770,\"<=\"&$BM$5)","v":0},{"$f":"MAX(BP4:BR4)","v":0}]
[null,null,null,null,"Hourly Report",null,null,null,null,null,null,null,null,null,null,null,null,null,null,null,null,null,null,null,null,null,null,null,null,null,"App G Proposed Results",null,null,null,null,"Hourly Report",null,null,null,null,null,null,null,null,null,null,null,null,null,null,null,null,null,null,null,null,null,null,null,null,null,null,null,"Day Type 2, Friday = 5",5,null,"Baseline  Average during Period kW",{"$f":"SUMIFS($Q$11:$Q$8770,$A$11:$A$8770,BP$3,$C$11:$C$8770,\">=\"&$BM$2,$C$11:$C$8770,\"<=\"&$BM$3,$D$11:$D$8770,\">=\"&$BM$4,$D$11:$D$8770,\"<=\"&$BM$5)/COUNTIFS($A$11:$A$8770,BP$3,$C$11:$C$8770,\">=\"&$BM$2,$C$11:$C$8770,\"<=\"&$BM$3,$D$11:$D$8770,\">=\"&$BM$4,$D$11:$D$8770,\"<=\"&$BM$5)","v":{"$error":"#DIV/0!"}},{"$f":"SUMIFS($Q$11:$Q$8770,$A$11:$A$8770,BQ$3,$C$11:$C$8770,\">=\"&$BM$2,$C$11:$C$8770,\"<=\"&$BM$3,$D$11:$D$8770,\">=\"&$BM$4,$D$11:$D$8770,\"<=\"&$BM$5)/COUNTIFS($A$11:$A$8770,BQ$3,$C$11:$C$8770,\">=\"&$BM$2,$C$11:$C$8770,\"<=\"&$BM$3,$D$11:$D$8770,\">=\"&$BM$4,$D$11:$D$8770,\"<=\"&$BM$5)","v":{"$error":"#DIV/0!"}},{"$f":"SUMIFS($Q$11:$Q$8770,$A$11:$A$8770,BR$3,$C$11:$C$8770,\">=\"&$BM$2,$C$11:$C$8770,\"<=\"&$BM$3,$D$11:$D$8770,\">=\"&$BM$4,$D$11:$D$8770,\"<=\"&$BM$5)/COUNTIFS($A$11:$A$8770,BR$3,$C$11:$C$8770,\">=\"&$BM$2,$C$11:$C$8770,\"<=\"&$BM$3,$D$11:$D$8770,\">=\"&$BM$4,$D$11:$D$8770,\"<=\"&$BM$5)","v":{"$error":"#DIV/0!"}},{"$f":"IFERROR(AVERAGE(BP5:BR5),0)","v":0}]
[null,null,null,null,"EM1 Hourly Report Block",null,null,null,null,null,null,null,null,null,null,null,null,"FM1 Hourly Report Block",null,null,null,null,null,null,null,null,null,null,null,null,null,null,null,null,null,"EM1 Hourly Report Block",null,null,null,null,null,null,null,null,null,null,null,null,"FM1 Hourly Report Block",null,null,null,null,null,null,null,null,null,null,null,null,null,null,"Set Month","Not Used",null,"Baseline Date and Hour",{"$f":"INDEX($BJ$11:$BJ$8770,MATCH(SUMPRODUCT(--($Q$11:$Q$8770=BP$4),--($A$11:$A$8770=BP$3),--($C$11:$C$8770>=$BM$2),--($C$11:$C$8770<=$BM$3),--($D$11:$D$8770>=$BM$4),--($D$11:$D$8770<=$BM$5),$BK$11:$BK$8770),$BK$11:$BK$8770,0),1)","v":{"$error":"#N/A"}},{"$f":"INDEX($BJ$11:$BJ$8770,MATCH(SUMPRODUCT(--($Q$11:$Q$8770=BQ$4),--($A$11:$A$8770=BQ$3),--($C$11:$C$8770>=$BM$2),--($C$11:$C$8770<=$BM$3),--($D$11:$D$8770>=$BM$4),--($D$11:$D$8770<=$BM$5),$BK$11:$BK$8770),$BK$11:$BK$8770,0),1)","v":{"$error":"#N/A"}},{"$f":"INDEX($BJ$11:$BJ$8770,MATCH(SUMPRODUCT(--($Q$11:$Q$8770=BR$4),--($A$11:$A$8770=BR$3),--($C$11:$C$8770>=$BM$2),--($C$11:$C$8770<=$BM$3),--($D$11:$D$8770>=$BM$4),--($D$11:$D$8770<=$BM$5),$BK$11:$BK$8770),$BK$11:$BK$8770,0),1)","v":{"$error":"#N/A"}},{"$f":"IFERROR(INDEX(BP6:BR6,1,MATCH(BS4,BP4:BR4,0)),\"-\")","v":"-"}]
[null,null,null,null,"ELEC-METER",null,null,null,null,null,null,null,null,null,null,null,null,"FUEL-METER",null,null,null,null,null,null,null,null,null,null,null,null,"------->",null,null,null,null,"ELEC-METER",null,null,null,null,null,null,null,null,null,null,null,null,"FUEL-METER",null,null,null,null,null,null,null,null,null,null,null,null,null,null,"Set Day","Not Used",null,"Proposed Max kW",{"$f":"_xlfn.MAXIFS($AV$11:$AV$8770,$A$11:$A$8770,BP$3,$C$11:$C$8770,\">=\"&$BM$2,$C$11:$C$8770,\"<=\"&$BM$3,$D$11:$D$8770,\">=\"&$BM$4,$D$11:$D$8770,\"<=\"&$BM$5)","v":0},{"$f":"_xlfn.MAXIFS($AV$11:$AV$8770,$A$11:$A$8770,BQ$3,$C$11:$C$8770,\">=\"&$BM$2,$C$11:$C$8770,\"<=\"&$BM$3,$D$11:$D$8770,\">=\"&$BM$4,$D$11:$D$8770,\"<=\"&$BM$5)","v":0},{"$f":"_xlfn.MAXIFS($AV$11:$AV$8770,$A$11:$A$8770,BR$3,$C$11:$C$8770,\">=\"&$BM$2,$C$11:$C$8770,\"<=\"&$BM$3,$D$11:$D$8770,\">=\"&$BM$4,$D$11:$D$8770,\"<=\"&$BM$5)","v":0},{"$f":"IFERROR(MAX(BP7:BR7),0)","v":0}]
[null,null,null,null,"EM1",null,null,null,null,null,null,null,null,null,null,null,null,"FM1",null,null,null,null,null,null,null,null,null,null,null,null,null,null,null,null,null,"EM1",null,null,null,null,null,null,null,null,null,null,null,null,"FM1",null,null,null,null,null,null,null,null,null,null,null,null,null,null,"Set Time, Hour of Day","Not Used",null,"Proposed Average during Period kW",{"$f":"SUMIFS($AV$11:$AV$8770,$A$11:$A$8770,BP$3,$C$11:$C$8770,\">=\"&$BM$2,$C$11:$C$8770,\"<=\"&$BM$3,$D$11:$D$8770,\">=\"&$BM$4,$D$11:$D$8770,\"<=\"&$BM$5)/COUNTIFS($A$11:$A$8770,BP$3,$C$11:$C$8770,\">=\"&$BM$2,$C$11:$C$8770,\"<=\"&$BM$3,$D$11:$D$8770,\">=\"&$BM$4,$D$11:$D$8770,\"<=\"&$BM$5)","v":{"$error":"#DIV/0!"}},{"$f":"SUMIFS($AV$11:$AV$8770,$A$11:$A$8770,BQ$3,$C$11:$C$8770,\">=\"&$BM$2,$C$11:$C$8770,\"<=\"&$BM$3,$D$11:$D$8770,\">=\"&$BM$4,$D$11:$D$8770,\"<=\"&$BM$5)/COUNTIFS($A$11:$A$8770,BQ$3,$C$11:$C$8770,\">=\"&$BM$2,$C$11:$C$8770,\"<=\"&$BM$3,$D$11:$D$8770,\">=\"&$BM$4,$D$11:$D$8770,\"<=\"&$BM$5)","v":{"$error":"#DIV/0!"}},{"$f":"SUMIFS($AV$11:$AV$8770,$A$11:$A$8770,BR$3,$C$11:$C$8770,\">=\"&$BM$2,$C$11:$C$8770,\"<=\"&$BM$3,$D$11:$D$8770,\">=\"&$BM$4,$D$11:$D$8770,\"<=\"&$BM$5)/COUNTIFS($A$11:$A$8770,BR$3,$C$11:$C$8770,\">=\"&$BM$2,$C$11:$C$8770,\"<=\"&$BM$3,$D$11:$D$8770,\">=\"&$BM$4,$D$11:$D$8770,\"<=\"&$BM$5)","v":{"$error":"#DIV/0!"}},{"$f":"IFERROR(AVERAGE(BP8:BR8),0)","v":0}]
[null,null,null,"Day","Var 1","Var 2","Var 3","Var 4","Var 5","Var 6","Var 7","Var 8","Var 9","Var 10","Var 11","Var 12","Var 20","Var 1","Var 2","Var 3","Var 4","Var 5","Var 6","Var 7","Var 8","Var 9","Var 10","Var 11","Var 12","Var 20",null,null,null,null,"Day","Var 1","Var 2","Var 3","Var 4","Var 5","Var 6","Var 7","Var 8","Var 9","Var 10","Var 11","Var 12","Var 20","Var 1","Var 2","Var 3","Var 4","Var 5","Var 6","Var 7","Var 8","Var 9","Var 10","Var 11","Var 12","Var 20",null,null,null,null,null,"Proposed Date and Hour",{"$f":"INDEX($BJ$11:$BJ$8770,MATCH(SUMPRODUCT(--($AV$11:$AV$8770=BP$7),--($A$11:$A$8770=BP$3),--($C$11:$C$8770>=$BM$2),--($C$11:$C$8770<=$BM$3),--($D$11:$D$8770>=$BM$4),--($D$11:$D$8770<=$BM$5),$BK$11:$BK$8770),$BK$11:$BK$8770,0),1)","v":{"$error":"#N/A"}},{"$f":"INDEX($BJ$11:$BJ$8770,MATCH(SUMPRODUCT(--($AV$11:$AV$8770=BQ$7),--($A$11:$A$8770=BQ$3),--($C$11:$C$8770>=$BM$2),--($C$11:$C$8770<=$BM$3),--($D$11:$D$8770>=$BM$4),--($D$11:$D$8770<=$BM$5),$BK$11:$BK$8770),$BK$11:$BK$8770,0),1)","v":{"$error":"#N/A"}},{"$f":"INDEX($BJ$11:$BJ$8770,MATCH(SUMPRODUCT(--($AV$11:$AV$8770=BR$7),--($A$11:$A$8770=BR$3),--($C$11:$C$8770>=$BM$2),--($C$11:$C$8770<=$BM$3),--($D$11:$D$8770>=$BM$4),--($D$11:$D$8770<=$BM$5),$BK$11:$BK$8770),$BK$11:$BK$8770,0),1)","v":{"$error":"#N/A"}},{"$f":"IFERROR(INDEX(BP9:BR9,1,MATCH(BS7,BP7:BR7,0)),\"-\")","v":"-"}]
["Month","Day","Hour","Type","Lighting end-use energy","Task lighting end-use energy","Miscellaneous equipment end-use energy","Heating end-use energy","Cooling end-use energy","Heat rejection end-use energy","Auxiliary end-use energy (pumps)","Vent fan end-use energy","Refrigeration systems end-use energy","Supplemental heat pump end-use energy","Domestic hot water end-use energy","Exterior to the building end-use energy","Total end-use energy","Lighting end-use energy","Task lighting end-use energy","Miscellaneous equipment end-use energy","Heating end-use energy","Cooling end-use energy","Heat rejection end-use energy","Auxiliary end-use energy (pumps)","Vent fan end-use energy","Refrigeration systems end-use energy","Supplemental heat pump end-use energy","Domestic hot water end-use energy","Exterior to the building end-use energy","Total end-use energy",null,"Month","Day","Hour","Type","Lighting end-use energy","Task lighting end-use energy","Miscellaneous equipment end-use energy","Heating end-use energy","Cooling end-use energy","Heat rejection end-use energy","Auxiliary end-use energy (pumps)","Vent fan end-use energy","Refrigeration systems end-use energy","Supplemental heat pump end-use energy","Domestic hot water end-use energy","Exterior to the building end-use energy","Total end-use energy","Lighting end-use energy","Task lighting end-use energy","Miscellaneous equipment end-use energy","Heating end-use energy","Cooling end-use energy","Heat rejection end-use energy","Auxiliary end-use energy (pumps)","Vent fan end-use energy","Refrigeration systems end-use energy","Supplemental heat pump end-use energy","Domestic hot water end-use energy","Exterior to the building end-use energy","Total end-use energy","Date and Hour","Row #"]
[null,null,null,null,null,null,null,null,null,null,null,null,null,null,null,null,null,null,null,null,null,null,null,null,null,null,null,null,null,null,null,null,null,null,null,null,null,null,null,null,null,null,null,null,null,null,null,null,null,null,null,null,null,null,null,null,null,null,null,null,null,{"$f":"A11&\"/\"&B11&\" Hour \"&C11","v":"/ Hour "},{"$f":"ROW()-ROW($BK$10)","v":1},null,null,null,null,"These are the maximums during the period based upon the hour start and day types"]
[null,null,null,null,null,null,null,null,null,null,null,null,null,null,null,null,null,null,null,null,null,null,null,null,null,null,null,null,null,null,null,null,null,null,null,null,null,null,null,null,null,null,null,null,null,null,null,null,null,null,null,null,null,null,null,null,null,null,null,null,null,{"$f":"A12&\"/\"&B12&\" Hour \"&C12","v":"/ Hour "},{"$f":"ROW()-ROW($BK$10)","v":2}]
[null,null,null,null,null,null,null,null,null,null,null,null,null,null,null,null,null,null,null,null,null,null,null,null,null,null,null,null,null,null,null,null,null,null,null,null,null,null,null,null,null,null,null,null,null,null,null,null,null,null,null,null,null,null,null,null,null,null,null,null,null,"/ Hour ",3]
[null,null,null,null,null,null,null,null,null,null,null,null,null,null,null,null,null,null,null,null,null,null,null,null,null,null,null,null,null,null,"See Partner Portal: http://www.njcleanenergy.com/p4p-portal-login case sensitive password is: tRP47px for instructions for generating hourly reports",null,null,null,null,null,null,null,null,null,null,null,null,null,null,null,null,null,null,null,null,null,null,null,null,null,null,null,null,null,null,"/ Hour ",4]
[null,null,null,null,null,null,null,null,null,null,null,null,null,null,null,null,null,null,null,null,null,null,null,null,null,null,null,null,null,null,null,null,null,null,null,null,null,null,null,null,null,null,null,null,null,null,null,null,null,null,null,null,null,null,null,null,null,null,null,null,null,"/ Hour ",5]
[null,null,null,null,null,null,null,null,null,null,null,null,null,null,null,null,null,null,null,null,null,null,null,null,null,null,null,null,null,null,"Directions:",null,null,null,null,null,null,null,null,null,null,null,null,null,null,null,null,null,null,null,null,null,null,null,null,null,null,null,null,null,null,"/ Hour ",6]
[null,null,null,null,null,null,null,null,null,null,null,null,null,null,null,null,null,null,null,null,null,null,null,null,null,null,null,null,null,null,"1.Open eQuest to the Baseline or Proposed model.\n2.Simulate all parametric runs in the model to generate results by clicking the ‘Perform Simulation’ button.\n3.After all parametric runs are simulated, click File > Export File > Hourly Results (CSV). An ‘Export Hourly Results’ dialogue box will appear. Check the Baseline and Proposed runs and click “Export”. Please note: If you have two separate models for the Baseline and Proposed, this will need to be done in both model files, once in the Baseline model, and once in the Proposed model.\n4. Click “Open” in the next screen to open the Excel based Hourly Results.\n5.Once the Excel CSV file is open, notice that there are hourly results in columns A:AD. Select all of these columns by clicking the column A heading and dragging the selection to AD, and copy the entire section (CTRL+C).\n6.The copied selection should then be pasted into the appropriate section of the ‘Hrly eQuest Results’ tab. If these are Baseline results, select column ‘A’ in the ‘Hrly eQuest Results’ tab, right click and select Paste Values. If these are Proposed results, do the same in column ‘AF’.",null,null,null,null,null,null,null,null,null,null,null,null,null,null,null,null,null,null,null,null,null,null,null,null,null,null,null,null,null,null,"/ Hour ",7]
[null,null,null,null,null,null,null,null,null,null,null,null,null,null,null,null,null,null,null,null,null,null,null,null,null,null,null,null,null,null,null,null,null,null,null,null,null,null,null,null,null,null,null,null,null,null,null,null,null,null,null,null,null,null,null,null,null,null,null,null,null,"/ Hour ",8]
[null,null,null,null,null,null,null,null,null,null,null,null,null,null,null,null,null,null,null,null,null,null,null,null,null,null,null,null,null,null,null,null,null,null,null,null,null,null,null,null,null,null,null,null,null,null,null,null,null,null,null,null,null,null,null,null,null,null,null,null,null,"/ Hour ",9]
[null,null,null,null,null,null,null,null,null,null,null,null,null,null,null,null,null,null,null,null,null,null,null,null,null,null,null,null,null,null,null,null,null,null,null,null,null,null,null,null,null,null,null,null,null,null,null,null,null,null,null,null,null,null,null,null,null,null,null,null,null,"/ Hour ",10]
[null,null,null,null,null,null,null,null,null,null,null,null,null,null,null,null,null,null,null,null,null,null,null,null,null,null,null,null,null,null,null,null,null,null,null,null,null,null,null,null,null,null,null,null,null,null,null,null,null,null,null,null,null,null,null,null,null,null,null,null,null,"/ Hour ",11]
[null,null,null,null,null,null,null,null,null,null,null,null,null,null,null,null,null,null,null,null,null,null,null,null,null,null,null,null,null,null,null,null,null,null,null,null,null,null,null,null,null,null,null,null,null,null,null,null,null,null,null,null,null,null,null,null,null,null,null,null,null,"/ Hour ",12]
[null,null,null,null,null,null,null,null,null,null,null,null,null,null,null,null,null,null,null,null,null,null,null,null,null,null,null,null,null,null,null,null,null,null,null,null,null,null,null,null,null,null,null,null,null,null,null,null,null,null,null,null,null,null,null,null,null,null,null,null,null,"/ Hour ",13]
[null,null,null,null,null,null,null,null,null,null,null,null,null,null,null,null,null,null,null,null,null,null,null,null,null,null,null,null,null,null,null,null,null,null,null,null,null,null,null,null,null,null,null,null,null,null,null,null,null,null,null,null,null,null,null,null,null,null,null,null,null,"/ Hour ",14]
[null,null,null,null,null,null,null,null,null,null,null,null,null,null,null,null,null,null,null,null,null,null,null,null,null,null,null,null,null,null,null,null,null,null,null,null,null,null,null,null,null,null,null,null,null,null,null,null,null,null,null,null,null,null,null,null,null,null,null,null,null,"/ Hour ",15]
[null,null,null,null,null,null,null,null,null,null,null,null,null,null,null,null,null,null,null,null,null,null,null,null,null,null,null,null,null,null,null,null,null,null,null,null,null,null,null,null,null,null,null,null,null,null,null,null,null,null,null,null,null,null,null,null,null,null,null,null,null,"/ Hour ",16]
[null,null,null,null,null,null,null,null,null,null,null,null,null,null,null,null,null,null,null,null,null,null,null,null,null,null,null,null,null,null,null,null,null,null,null,null,null,null,null,null,null,null,null,null,null,null,null,null,null,null,null,null,null,null,null,null,null,null,null,null,null,"/ Hour ",17]
[null,null,null,null,null,null,null,null,null,null,null,null,null,null,null,null,null,null,null,null,null,null,null,null,null,null,null,null,null,null,null,null,null,null,null,null,null,null,null,null,null,null,null,null,null,null,null,null,null,null,null,null,null,null,null,null,null,null,null,null,null,"/ Hour ",18]
[null,null,null,null,null,null,null,null,null,null,null,null,null,null,null,null,null,null,null,null,null,null,null,null,null,null,null,null,null,null,null,null,null,null,null,null,null,null,null,null,null,null,null,null,null,null,null,null,null,null,null,null,null,null,null,null,null,null,null,null,null,"/ Hour ",19]
[null,null,null,null,null,null,null,null,null,null,null,null,null,null,null,null,null,null,null,null,null,null,null,null,null,null,null,null,null,null,null,null,null,null,null,null,null,null,null,null,null,null,null,null,null,null,null,null,null,null,null,null,null,null,null,null,null,null,null,null,null,"/ Hour ",20]
[null,null,null,null,null,null,null,null,null,null,null,null,null,null,null,null,null,null,null,null,null,null,null,null,null,null,null,null,null,null,null,null,null,null,null,null,null,null,null,null,null,null,null,null,null,null,null,null,null,null,null,null,null,null,null,null,null,null,null,null,null,"/ Hour ",21]
[null,null,null,null,null,null,null,null,null,null,null,null,null,null,null,null,null,null,null,null,null,null,null,null,null,null,null,null,null,null,null,null,null,null,null,null,null,null,null,null,null,null,null,null,null,null,null,null,null,null,null,null,null,null,null,null,null,null,null,null,null,"/ Hour ",22]
[null,null,null,null,null,null,null,null,null,null,null,null,null,null,null,null,null,null,null,null,null,null,null,null,null,null,null,null,null,null,null,null,null,null,null,null,null,null,null,null,null,null,null,null,null,null,null,null,null,null,null,null,null,null,null,null,null,null,null,null,null,"/ Hour ",23]
[null,null,null,null,null,null,null,null,null,null,null,null,null,null,null,null,null,null,null,null,null,null,null,null,null,null,null,null,null,null,null,null,null,null,null,null,null,null,null,null,null,null,null,null,null,null,null,null,null,null,null,null,null,null,null,null,null,null,null,null,null,"/ Hour ",24]
[null,null,null,null,null,null,null,null,null,null,null,null,null,null,null,null,null,null,null,null,null,null,null,null,null,null,null,null,null,null,null,null,null,null,null,null,null,null,null,null,null,null,null,null,null,null,null,null,null,null,null,null,null,null,null,null,null,null,null,null,null,"/ Hour ",25]
[null,null,null,null,null,null,null,null,null,null,null,null,null,null,null,null,null,null,null,null,null,null,null,null,null,null,null,null,null,null,null,null,null,null,null,null,null,null,null,null,null,null,null,null,null,null,null,null,null,null,null,null,null,null,null,null,null,null,null,null,null,"/ Hour ",26]
[null,null,null,null,null,null,null,null,null,null,null,null,null,null,null,null,null,null,null,null,null,null,null,null,null,null,null,null,null,null,null,null,null,null,null,null,null,null,null,null,null,null,null,null,null,null,null,null,null,null,null,null,null,null,null,null,null,null,null,null,null,"/ Hour ",27]
[null,null,null,null,null,null,null,null,null,null,null,null,null,null,null,null,null,null,null,null,null,null,null,null,null,null,null,null,null,null,null,null,null,null,null,null,null,null,null,null,null,null,null,null,null,null,null,null,null,null,null,null,null,null,null,null,null,null,null,null,null,"/ Hour ",28]
[null,null,null,null,null,null,null,null,null,null,null,null,null,null,null,null,null,null,null,null,null,null,null,null,null,null,null,null,null,null,null,null,null,null,null,null,null,null,null,null,null,null,null,null,null,null,null,null,null,null,null,null,null,null,null,null,null,null,null,null,null,"/ Hour ",29]
[null,null,null,null,null,null,null,null,null,null,null,null,null,null,null,null,null,null,null,null,null,null,null,null,null,null,null,null,null,null,null,null,null,null,null,null,null,null,null,null,null,null,null,null,null,null,null,null,null,null,null,null,null,null,null,null,null,null,null,null,null,"/ Hour ",30]
[null,null,null,null,null,null,null,null,null,null,null,null,null,null,null,null,null,null,null,null,null,null,null,null,null,null,null,null,null,null,null,null,null,null,null,null,null,null,null,null,null,null,null,null,null,null,null,null,null,null,null,null,null,null,null,null,null,null,null,null,null,"/ Hour ",31]
[null,null,null,null,null,null,null,null,null,null,null,null,null,null,null,null,null,null,null,null,null,null,null,null,null,null,null,null,null,null,null,null,null,null,null,null,null,null,null,null,null,null,null,null,null,null,null,null,null,null,null,null,null,null,null,null,null,null,null,null,null,"/ Hour ",32]
[null,null,null,null,null,null,null,null,null,null,null,null,null,null,null,null,null,null,null,null,null,null,null,null,null,null,null,null,null,null,null,null,null,null,null,null,null,null,null,null,null,null,null,null,null,null,null,null,null,null,null,null,null,null,null,null,null,null,null,null,null,"/ Hour ",33]
[null,null,null,null,null,null,null,null,null,null,null,null,null,null,null,null,null,null,null,null,null,null,null,null,null,null,null,null,null,null,null,null,null,null,null,null,null,null,null,null,null,null,null,null,null,null,null,null,null,null,null,null,null,null,null,null,null,null,null,null,null,"/ Hour ",34]
[null,null,null,null,null,null,null,null,null,null,null,null,null,null,null,null,null,null,null,null,null,null,null,null,null,null,null,null,null,null,null,null,null,null,null,null,null,null,null,null,null,null,null,null,null,null,null,null,null,null,null,null,null,null,null,null,null,null,null,null,null,"/ Hour ",35]
[null,null,null,null,null,null,null,null,null,null,null,null,null,null,null,null,null,null,null,null,null,null,null,null,null,null,null,null,null,null,null,null,null,null,null,null,null,null,null,null,null,null,null,null,null,null,null,null,null,null,null,null,null,null,null,null,null,null,null,null,null,"/ Hour ",36]
[null,null,null,null,null,null,null,null,null,null,null,null,null,null,null,null,null,null,null,null,null,null,null,null,null,null,null,null,null,null,null,null,null,null,null,null,null,null,null,null,null,null,null,null,null,null,null,null,null,null,null,null,null,null,null,null,null,null,null,null,null,"/ Hour ",37]
[null,null,null,null,null,null,null,null,null,null,null,null,null,null,null,null,null,null,null,null,null,null,null,null,null,null,null,null,null,null,null,null,null,null,null,null,null,null,null,null,null,null,null,null,null,null,null,null,null,null,null,null,null,null,null,null,null,null,null,null,null,"/ Hour ",38]
[null,null,null,null,null,null,null,null,null,null,null,null,null,null,null,null,null,null,null,null,null,null,null,null,null,null,null,null,null,null,null,null,null,null,null,null,null,null,null,null,null,null,null,null,null,null,null,null,null,null,null,null,null,null,null,null,null,null,null,null,null,"/ Hour ",39]
[null,null,null,null,null,null,null,null,null,null,null,null,null,null,null,null,null,null,null,null,null,null,null,null,null,null,null,null,null,null,null,null,null,null,null,null,null,null,null,null,null,null,null,null,null,null,null,null,null,null,null,null,null,null,null,null,null,null,null,null,null,"/ Hour ",40]
[null,null,null,null,null,null,null,null,null,null,null,null,null,null,null,null,null,null,null,null,null,null,null,null,null,null,null,null,null,null,null,null,null,null,null,null,null,null,null,null,null,null,null,null,null,null,null,null,null,null,null,null,null,null,null,null,null,null,null,null,null,"/ Hour ",41]
[null,null,null,null,null,null,null,null,null,null,null,null,null,null,null,null,null,null,null,null,null,null,null,null,null,null,null,null,null,null,null,null,null,null,null,null,null,null,null,null,null,null,null,null,null,null,null,null,null,null,null,null,null,null,null,null,null,null,null,null,null,"/ Hour ",42]
[null,null,null,null,null,null,null,null,null,null,null,null,null,null,null,null,null,null,null,null,null,null,null,null,null,null,null,null,null,null,null,null,null,null,null,null,null,null,null,null,null,null,null,null,null,null,null,null,null,null,null,null,null,null,null,null,null,null,null,null,null,"/ Hour ",43]
[null,null,null,null,null,null,null,null,null,null,null,null,null,null,null,null,null,null,null,null,null,null,null,null,null,null,null,null,null,null,null,null,null,null,null,null,null,null,null,null,null,null,null,null,null,null,null,null,null,null,null,null,null,null,null,null,null,null,null,null,null,"/ Hour ",44]
[null,null,null,null,null,null,null,null,null,null,null,null,null,null,null,null,null,null,null,null,null,null,null,null,null,null,null,null,null,null,null,null,null,null,null,null,null,null,null,null,null,null,null,null,null,null,null,null,null,null,null,null,null,null,null,null,null,null,null,null,null,"/ Hour ",45]
[null,null,null,null,null,null,null,null,null,null,null,null,null,null,null,null,null,null,null,null,null,null,null,null,null,null,null,null,null,null,null,null,null,null,null,null,null,null,null,null,null,null,null,null,null,null,null,null,null,null,null,null,null,null,null,null,null,null,null,null,null,"/ Hour ",46]
[null,null,null,null,null,null,null,null,null,null,null,null,null,null,null,null,null,null,null,null,null,null,null,null,null,null,null,null,null,null,null,null,null,null,null,null,null,null,null,null,null,null,null,null,null,null,null,null,null,null,null,null,null,null,null,null,null,null,null,null,null,"/ Hour ",47]
[null,null,null,null,null,null,null,null,null,null,null,null,null,null,null,null,null,null,null,null,null,null,null,null,null,null,null,null,null,null,null,null,null,null,null,null,null,null,null,null,null,null,null,null,null,null,null,null,null,null,null,null,null,null,null,null,null,null,null,null,null,"/ Hour ",48]
[null,null,null,null,null,null,null,null,null,null,null,null,null,null,null,null,null,null,null,null,null,null,null,null,null,null,null,null,null,null,null,null,null,null,null,null,null,null,null,null,null,null,null,null,null,null,null,null,null,null,null,null,null,null,null,null,null,null,null,null,null,"/ Hour ",49]
[null,null,null,null,null,null,null,null,null,null,null,null,null,null,null,null,null,null,null,null,null,null,null,null,null,null,null,null,null,null,null,null,null,null,null,null,null,null,null,null,null,null,null,null,null,null,null,null,null,null,null,null,null,null,null,null,null,null,null,null,null,"/ Hour ",50]
[null,null,null,null,null,null,null,null,null,null,null,null,null,null,null,null,null,null,null,null,null,null,null,null,null,null,null,null,null,null,null,null,null,null,null,null,null,null,null,null,null,null,null,null,null,null,null,null,null,null,null,null,null,null,null,null,null,null,null,null,null,"/ Hour ",51]
[null,null,null,null,null,null,null,null,null,null,null,null,null,null,null,null,null,null,null,null,null,null,null,null,null,null,null,null,null,null,null,null,null,null,null,null,null,null,null,null,null,null,null,null,null,null,null,null,null,null,null,null,null,null,null,null,null,null,null,null,null,"/ Hour ",52]
[null,null,null,null,null,null,null,null,null,null,null,null,null,null,null,null,null,null,null,null,null,null,null,null,null,null,null,null,null,null,null,null,null,null,null,null,null,null,null,null,null,null,null,null,null,null,null,null,null,null,null,null,null,null,null,null,null,null,null,null,null,"/ Hour ",53]
[null,null,null,null,null,null,null,null,null,null,null,null,null,null,null,null,null,null,null,null,null,null,null,null,null,null,null,null,null,null,null,null,null,null,null,null,null,null,null,null,null,null,null,null,null,null,null,null,null,null,null,null,null,null,null,null,null,null,null,null,null,"/ Hour ",54]
[null,null,null,null,null,null,null,null,null,null,null,null,null,null,null,null,null,null,null,null,null,null,null,null,null,null,null,null,null,null,null,null,null,null,null,null,null,null,null,null,null,null,null,null,null,null,null,null,null,null,null,null,null,null,null,null,null,null,null,null,null,"/ Hour ",55]
[null,null,null,null,null,null,null,null,null,null,null,null,null,null,null,null,null,null,null,null,null,null,null,null,null,null,null,null,null,null,null,null,null,null,null,null,null,null,null,null,null,null,null,null,null,null,null,null,null,null,null,null,null,null,null,null,null,null,null,null,null,"/ Hour ",56]
[null,null,null,null,null,null,null,null,null,null,null,null,null,null,null,null,null,null,null,null,null,null,null,null,null,null,null,null,null,null,null,null,null,null,null,null,null,null,null,null,null,null,null,null,null,null,null,null,null,null,null,null,null,null,null,null,null,null,null,null,null,"/ Hour ",57]
[null,null,null,null,null,null,null,null,null,null,null,null,null,null,null,null,null,null,null,null,null,null,null,null,null,null,null,null,null,null,null,null,null,null,null,null,null,null,null,null,null,null,null,null,null,null,null,null,null,null,null,null,null,null,null,null,null,null,null,null,null,"/ Hour ",58]
[null,null,null,null,null,null,null,null,null,null,null,null,null,null,null,null,null,null,null,null,null,null,null,null,null,null,null,null,null,null,null,null,null,null,null,null,null,null,null,null,null,null,null,null,null,null,null,null,null,null,null,null,null,null,null,null,null,null,null,null,null,"/ Hour ",59]
[null,null,null,null,null,null,null,null,null,null,null,null,null,null,null,null,null,null,null,null,null,null,null,null,null,null,null,null,null,null,null,null,null,null,null,null,null,null,null,null,null,null,null,null,null,null,null,null,null,null,null,null,null,null,null,null,null,null,null,null,null,"/ Hour ",60]
[null,null,null,null,null,null,null,null,null,null,null,null,null,null,null,null,null,null,null,null,null,null,null,null,null,null,null,null,null,null,null,null,null,null,null,null,null,null,null,null,null,null,null,null,null,null,null,null,null,null,null,null,null,null,null,null,null,null,null,null,null,"/ Hour ",61]
[null,null,null,null,null,null,null,null,null,null,null,null,null,null,null,null,null,null,null,null,null,null,null,null,null,null,null,null,null,null,null,null,null,null,null,null,null,null,null,null,null,null,null,null,null,null,null,null,null,null,null,null,null,null,null,null,null,null,null,null,null,"/ Hour ",62]
[null,null,null,null,null,null,null,null,null,null,null,null,null,null,null,null,null,null,null,null,null,null,null,null,null,null,null,null,null,null,null,null,null,null,null,null,null,null,null,null,null,null,null,null,null,null,null,null,null,null,null,null,null,null,null,null,null,null,null,null,null,"/ Hour ",63]
[null,null,null,null,null,null,null,null,null,null,null,null,null,null,null,null,null,null,null,null,null,null,null,null,null,null,null,null,null,null,null,null,null,null,null,null,null,null,null,null,null,null,null,null,null,null,null,null,null,null,null,null,null,null,null,null,null,null,null,null,null,"/ Hour ",64]
[null,null,null,null,null,null,null,null,null,null,null,null,null,null,null,null,null,null,null,null,null,null,null,null,null,null,null,null,null,null,null,null,null,null,null,null,null,null,null,null,null,null,null,null,null,null,null,null,null,null,null,null,null,null,null,null,null,null,null,null,null,"/ Hour ",65]
[null,null,null,null,null,null,null,null,null,null,null,null,null,null,null,null,null,null,null,null,null,null,null,null,null,null,null,null,null,null,null,null,null,null,null,null,null,null,null,null,null,null,null,null,null,null,null,null,null,null,null,null,null,null,null,null,null,null,null,null,null,{"$f":"A76&\"/\"&B76&\" Hour \"&C76","v":"/ Hour "},{"$f":"ROW()-ROW($BK$10)","v":66}]
[null,null,null,null,null,null,null,null,null,null,null,null,null,null,null,null,null,null,null,null,null,null,null,null,null,null,null,null,null,null,null,null,null,null,null,null,null,null,null,null,null,null,null,null,null,null,null,null,null,null,null,null,null,null,null,null,null,null,null,null,null,"/ Hour ",67]
[null,null,null,null,null,null,null,null,null,null,null,null,null,null,null,null,null,null,null,null,null,null,null,null,null,null,null,null,null,null,null,null,null,null,null,null,null,null,null,null,null,null,null,null,null,null,null,null,null,null,null,null,null,null,null,null,null,null,null,null,null,"/ Hour ",68]
[null,null,null,null,null,null,null,null,null,null,null,null,null,null,null,null,null,null,null,null,null,null,null,null,null,null,null,null,null,null,null,null,null,null,null,null,null,null,null,null,null,null,null,null,null,null,null,null,null,null,null,null,null,null,null,null,null,null,null,null,null,"/ Hour ",69]
[null,null,null,null,null,null,null,null,null,null,null,null,null,null,null,null,null,null,null,null,null,null,null,null,null,null,null,null,null,null,null,null,null,null,null,null,null,null,null,null,null,null,null,null,null,null,null,null,null,null,null,null,null,null,null,null,null,null,null,null,null,"/ Hour ",70]
[null,null,null,null,null,null,null,null,null,null,null,null,null,null,null,null,null,null,null,null,null,null,null,null,null,null,null,null,null,null,null,null,null,null,null,null,null,null,null,null,null,null,null,null,null,null,null,null,null,null,null,null,null,null,null,null,null,null,null,null,null,"/ Hour ",71]
[null,null,null,null,null,null,null,null,null,null,null,null,null,null,null,null,null,null,null,null,null,null,null,null,null,null,null,null,null,null,null,null,null,null,null,null,null,null,null,null,null,null,null,null,null,null,null,null,null,null,null,null,null,null,null,null,null,null,null,null,null,"/ Hour ",72]
[null,null,null,null,null,null,null,null,null,null,null,null,null,null,null,null,null,null,null,null,null,null,null,null,null,null,null,null,null,null,null,null,null,null,null,null,null,null,null,null,null,null,null,null,null,null,null,null,null,null,null,null,null,null,null,null,null,null,null,null,null,"/ Hour ",73]
[null,null,null,null,null,null,null,null,null,null,null,null,null,null,null,null,null,null,null,null,null,null,null,null,null,null,null,null,null,null,null,null,null,null,null,null,null,null,null,null,null,null,null,null,null,null,null,null,null,null,null,null,null,null,null,null,null,null,null,null,null,"/ Hour ",74]
[null,null,null,null,null,null,null,null,null,null,null,null,null,null,null,null,null,null,null,null,null,null,null,null,null,null,null,null,null,null,null,null,null,null,null,null,null,null,null,null,null,null,null,null,null,null,null,null,null,null,null,null,null,null,null,null,null,null,null,null,null,"/ Hour ",75]
[null,null,null,null,null,null,null,null,null,null,null,null,null,null,null,null,null,null,null,null,null,null,null,null,null,null,null,null,null,null,null,null,null,null,null,null,null,null,null,null,null,null,null,null,null,null,null,null,null,null,null,null,null,null,null,null,null,null,null,null,null,"/ Hour ",76]
[null,null,null,null,null,null,null,null,null,null,null,null,null,null,null,null,null,null,null,null,null,null,null,null,null,null,null,null,null,null,null,null,null,null,null,null,null,null,null,null,null,null,null,null,null,null,null,null,null,null,null,null,null,null,null,null,null,null,null,null,null,"/ Hour ",77]
[null,null,null,null,null,null,null,null,null,null,null,null,null,null,null,null,null,null,null,null,null,null,null,null,null,null,null,null,null,null,null,null,null,null,null,null,null,null,null,null,null,null,null,null,null,null,null,null,null,null,null,null,null,null,null,null,null,null,null,null,null,"/ Hour ",78]
[null,null,null,null,null,null,null,null,null,null,null,null,null,null,null,null,null,null,null,null,null,null,null,null,null,null,null,null,null,null,null,null,null,null,null,null,null,null,null,null,null,null,null,null,null,null,null,null,null,null,null,null,null,null,null,null,null,null,null,null,null,"/ Hour ",79]
[null,null,null,null,null,null,null,null,null,null,null,null,null,null,null,null,null,null,null,null,null,null,null,null,null,null,null,null,null,null,null,null,null,null,null,null,null,null,null,null,null,null,null,null,null,null,null,null,null,null,null,null,null,null,null,null,null,null,null,null,null,"/ Hour ",80]
[null,null,null,null,null,null,null,null,null,null,null,null,null,null,null,null,null,null,null,null,null,null,null,null,null,null,null,null,null,null,null,null,null,null,null,null,null,null,null,null,null,null,null,null,null,null,null,null,null,null,null,null,null,null,null,null,null,null,null,null,null,"/ Hour ",81]
[null,null,null,null,null,null,null,null,null,null,null,null,null,null,null,null,null,null,null,null,null,null,null,null,null,null,null,null,null,null,null,null,null,null,null,null,null,null,null,null,null,null,null,null,null,null,null,null,null,null,null,null,null,null,null,null,null,null,null,null,null,"/ Hour ",82]
[null,null,null,null,null,null,null,null,null,null,null,null,null,null,null,null,null,null,null,null,null,null,null,null,null,null,null,null,null,null,null,null,null,null,null,null,null,null,null,null,null,null,null,null,null,null,null,null,null,null,null,null,null,null,null,null,null,null,null,null,null,"/ Hour ",83]
[null,null,null,null,null,null,null,null,null,null,null,null,null,null,null,null,null,null,null,null,null,null,null,null,null,null,null,null,null,null,null,null,null,null,null,null,null,null,null,null,null,null,null,null,null,null,null,null,null,null,null,null,null,null,null,null,null,null,null,null,null,"/ Hour ",84]
[null,null,null,null,null,null,null,null,null,null,null,null,null,null,null,null,null,null,null,null,null,null,null,null,null,null,null,null,null,null,null,null,null,null,null,null,null,null,null,null,null,null,null,null,null,null,null,null,null,null,null,null,null,null,null,null,null,null,null,null,null,"/ Hour ",85]
[null,null,null,null,null,null,null,null,null,null,null,null,null,null,null,null,null,null,null,null,null,null,null,null,null,null,null,null,null,null,null,null,null,null,null,null,null,null,null,null,null,null,null,null,null,null,null,null,null,null,null,null,null,null,null,null,null,null,null,null,null,"/ Hour ",86]
[null,null,null,null,null,null,null,null,null,null,null,null,null,null,null,null,null,null,null,null,null,null,null,null,null,null,null,null,null,null,null,null,null,null,null,null,null,null,null,null,null,null,null,null,null,null,null,null,null,null,null,null,null,null,null,null,null,null,null,null,null,"/ Hour ",87]
[null,null,null,null,null,null,null,null,null,null,null,null,null,null,null,null,null,null,null,null,null,null,null,null,null,null,null,null,null,null,null,null,null,null,null,null,null,null,null,null,null,null,null,null,null,null,null,null,null,null,null,null,null,null,null,null,null,null,null,null,null,"/ Hour ",88]
[null,null,null,null,null,null,null,null,null,null,null,null,null,null,null,null,null,null,null,null,null,null,null,null,null,null,null,null,null,null,null,null,null,null,null,null,null,null,null,null,null,null,null,null,null,null,null,null,null,null,null,null,null,null,null,null,null,null,null,null,null,"/ Hour ",89]
[null,null,null,null,null,null,null,null,null,null,null,null,null,null,null,null,null,null,null,null,null,null,null,null,null,null,null,null,null,null,null,null,null,null,null,null,null,null,null,null,null,null,null,null,null,null,null,null,null,null,null,null,null,null,null,null,null,null,null,null,null,"/ Hour ",90]
[null,null,null,null,null,null,null,null,null,null,null,null,null,null,null,null,null,null,null,null,null,null,null,null,null,null,null,null,null,null,null,null,null,null,null,null,null,null,null,null,null,null,null,null,null,null,null,null,null,null,null,null,null,null,null,null,null,null,null,null,null,"/ Hour ",91]
[null,null,null,null,null,null,null,null,null,null,null,null,null,null,null,null,null,null,null,null,null,null,null,null,null,null,null,null,null,null,null,null,null,null,null,null,null,null,null,null,null,null,null,null,null,null,null,null,null,null,null,null,null,null,null,null,null,null,null,null,null,"/ Hour ",92]
[null,null,null,null,null,null,null,null,null,null,null,null,null,null,null,null,null,null,null,null,null,null,null,null,null,null,null,null,null,null,null,null,null,null,null,null,null,null,null,null,null,null,null,null,null,null,null,null,null,null,null,null,null,null,null,null,null,null,null,null,null,"/ Hour ",93]
[null,null,null,null,null,null,null,null,null,null,null,null,null,null,null,null,null,null,null,null,null,null,null,null,null,null,null,null,null,null,null,null,null,null,null,null,null,null,null,null,null,null,null,null,null,null,null,null,null,null,null,null,null,null,null,null,null,null,null,null,null,"/ Hour ",94]
[null,null,null,null,null,null,null,null,null,null,null,null,null,null,null,null,null,null,null,null,null,null,null,null,null,null,null,null,null,null,null,null,null,null,null,null,null,null,null,null,null,null,null,null,null,null,null,null,null,null,null,null,null,null,null,null,null,null,null,null,null,"/ Hour ",95]
[null,null,null,null,null,null,null,null,null,null,null,null,null,null,null,null,null,null,null,null,null,null,null,null,null,null,null,null,null,null,null,null,null,null,null,null,null,null,null,null,null,null,null,null,null,null,null,null,null,null,null,null,null,null,null,null,null,null,null,null,null,"/ Hour ",96]
[null,null,null,null,null,null,null,null,null,null,null,null,null,null,null,null,null,null,null,null,null,null,null,null,null,null,null,null,null,null,null,null,null,null,null,null,null,null,null,null,null,null,null,null,null,null,null,null,null,null,null,null,null,null,null,null,null,null,null,null,null,"/ Hour ",97]
[null,null,null,null,null,null,null,null,null,null,null,null,null,null,null,null,null,null,null,null,null,null,null,null,null,null,null,null,null,null,null,null,null,null,null,null,null,null,null,null,null,null,null,null,null,null,null,null,null,null,null,null,null,null,null,null,null,null,null,null,null,"/ Hour ",98]
[null,null,null,null,null,null,null,null,null,null,null,null,null,null,null,null,null,null,null,null,null,null,null,null,null,null,null,null,null,null,null,null,null,null,null,null,null,null,null,null,null,null,null,null,null,null,null,null,null,null,null,null,null,null,null,null,null,null,null,null,null,"/ Hour ",99]
[null,null,null,null,null,null,null,null,null,null,null,null,null,null,null,null,null,null,null,null,null,null,null,null,null,null,null,null,null,null,null,null,null,null,null,null,null,null,null,null,null,null,null,null,null,null,null,null,null,null,null,null,null,null,null,null,null,null,null,null,null,"/ Hour ",100]
[null,null,null,null,null,null,null,null,null,null,null,null,null,null,null,null,null,null,null,null,null,null,null,null,null,null,null,null,null,null,null,null,null,null,null,null,null,null,null,null,null,null,null,null,null,null,null,null,null,null,null,null,null,null,null,null,null,null,null,null,null,"/ Hour ",101]
[null,null,null,null,null,null,null,null,null,null,null,null,null,null,null,null,null,null,null,null,null,null,null,null,null,null,null,null,null,null,null,null,null,null,null,null,null,null,null,null,null,null,null,null,null,null,null,null,null,null,null,null,null,null,null,null,null,null,null,null,null,"/ Hour ",102]
[null,null,null,null,null,null,null,null,null,null,null,null,null,null,null,null,null,null,null,null,null,null,null,null,null,null,null,null,null,null,null,null,null,null,null,null,null,null,null,null,null,null,null,null,null,null,null,null,null,null,null,null,null,null,null,null,null,null,null,null,null,"/ Hour ",103]
[null,null,null,null,null,null,null,null,null,null,null,null,null,null,null,null,null,null,null,null,null,null,null,null,null,null,null,null,null,null,null,null,null,null,null,null,null,null,null,null,null,null,null,null,null,null,null,null,null,null,null,null,null,null,null,null,null,null,null,null,null,"/ Hour ",104]
[null,null,null,null,null,null,null,null,null,null,null,null,null,null,null,null,null,null,null,null,null,null,null,null,null,null,null,null,null,null,null,null,null,null,null,null,null,null,null,null,null,null,null,null,null,null,null,null,null,null,null,null,null,null,null,null,null,null,null,null,null,"/ Hour ",105]
[null,null,null,null,null,null,null,null,null,null,null,null,null,null,null,null,null,null,null,null,null,null,null,null,null,null,null,null,null,null,null,null,null,null,null,null,null,null,null,null,null,null,null,null,null,null,null,null,null,null,null,null,null,null,null,null,null,null,null,null,null,"/ Hour ",106]
[null,null,null,null,null,null,null,null,null,null,null,null,null,null,null,null,null,null,null,null,null,null,null,null,null,null,null,null,null,null,null,null,null,null,null,null,null,null,null,null,null,null,null,null,null,null,null,null,null,null,null,null,null,null,null,null,null,null,null,null,null,"/ Hour ",107]
[null,null,null,null,null,null,null,null,null,null,null,null,null,null,null,null,null,null,null,null,null,null,null,null,null,null,null,null,null,null,null,null,null,null,null,null,null,null,null,null,null,null,null,null,null,null,null,null,null,null,null,null,null,null,null,null,null,null,null,null,null,"/ Hour ",108]
[null,null,null,null,null,null,null,null,null,null,null,null,null,null,null,null,null,null,null,null,null,null,null,null,null,null,null,null,null,null,null,null,null,null,null,null,null,null,null,null,null,null,null,null,null,null,null,null,null,null,null,null,null,null,null,null,null,null,null,null,null,"/ Hour ",109]
[null,null,null,null,null,null,null,null,null,null,null,null,null,null,null,null,null,null,null,null,null,null,null,null,null,null,null,null,null,null,null,null,null,null,null,null,null,null,null,null,null,null,null,null,null,null,null,null,null,null,null,null,null,null,null,null,null,null,null,null,null,"/ Hour ",110]
[null,null,null,null,null,null,null,null,null,null,null,null,null,null,null,null,null,null,null,null,null,null,null,null,null,null,null,null,null,null,null,null,null,null,null,null,null,null,null,null,null,null,null,null,null,null,null,null,null,null,null,null,null,null,null,null,null,null,null,null,null,"/ Hour ",111]
[null,null,null,null,null,null,null,null,null,null,null,null,null,null,null,null,null,null,null,null,null,null,null,null,null,null,null,null,null,null,null,null,null,null,null,null,null,null,null,null,null,null,null,null,null,null,null,null,null,null,null,null,null,null,null,null,null,null,null,null,null,"/ Hour ",112]
[null,null,null,null,null,null,null,null,null,null,null,null,null,null,null,null,null,null,null,null,null,null,null,null,null,null,null,null,null,null,null,null,null,null,null,null,null,null,null,null,null,null,null,null,null,null,null,null,null,null,null,null,null,null,null,null,null,null,null,null,null,"/ Hour ",113]
[null,null,null,null,null,null,null,null,null,null,null,null,null,null,null,null,null,null,null,null,null,null,null,null,null,null,null,null,null,null,null,null,null,null,null,null,null,null,null,null,null,null,null,null,null,null,null,null,null,null,null,null,null,null,null,null,null,null,null,null,null,"/ Hour ",114]
[null,null,null,null,null,null,null,null,null,null,null,null,null,null,null,null,null,null,null,null,null,null,null,null,null,null,null,null,null,null,null,null,null,null,null,null,null,null,null,null,null,null,null,null,null,null,null,null,null,null,null,null,null,null,null,null,null,null,null,null,null,"/ Hour ",115]
[null,null,null,null,null,null,null,null,null,null,null,null,null,null,null,null,null,null,null,null,null,null,null,null,null,null,null,null,null,null,null,null,null,null,null,null,null,null,null,null,null,null,null,null,null,null,null,null,null,null,null,null,null,null,null,null,null,null,null,null,null,"/ Hour ",116]
[null,null,null,null,null,null,null,null,null,null,null,null,null,null,null,null,null,null,null,null,null,null,null,null,null,null,null,null,null,null,null,null,null,null,null,null,null,null,null,null,null,null,null,null,null,null,null,null,null,null,null,null,null,null,null,null,null,null,null,null,null,"/ Hour ",117]
[null,null,null,null,null,null,null,null,null,null,null,null,null,null,null,null,null,null,null,null,null,null,null,null,null,null,null,null,null,null,null,null,null,null,null,null,null,null,null,null,null,null,null,null,null,null,null,null,null,null,null,null,null,null,null,null,null,null,null,null,null,"/ Hour ",118]
[null,null,null,null,null,null,null,null,null,null,null,null,null,null,null,null,null,null,null,null,null,null,null,null,null,null,null,null,null,null,null,null,null,null,null,null,null,null,null,null,null,null,null,null,null,null,null,null,null,null,null,null,null,null,null,null,null,null,null,null,null,"/ Hour ",119]
[null,null,null,null,null,null,null,null,null,null,null,null,null,null,null,null,null,null,null,null,null,null,null,null,null,null,null,null,null,null,null,null,null,null,null,null,null,null,null,null,null,null,null,null,null,null,null,null,null,null,null,null,null,null,null,null,null,null,null,null,null,"/ Hour ",120]
[null,null,null,null,null,null,null,null,null,null,null,null,null,null,null,null,null,null,null,null,null,null,null,null,null,null,null,null,null,null,null,null,null,null,null,null,null,null,null,null,null,null,null,null,null,null,null,null,null,null,null,null,null,null,null,null,null,null,null,null,null,"/ Hour ",121]
[null,null,null,null,null,null,null,null,null,null,null,null,null,null,null,null,null,null,null,null,null,null,null,null,null,null,null,null,null,null,null,null,null,null,null,null,null,null,null,null,null,null,null,null,null,null,null,null,null,null,null,null,null,null,null,null,null,null,null,null,null,"/ Hour ",122]
[null,null,null,null,null,null,null,null,null,null,null,null,null,null,null,null,null,null,null,null,null,null,null,null,null,null,null,null,null,null,null,null,null,null,null,null,null,null,null,null,null,null,null,null,null,null,null,null,null,null,null,null,null,null,null,null,null,null,null,null,null,"/ Hour ",123]
[null,null,null,null,null,null,null,null,null,null,null,null,null,null,null,null,null,null,null,null,null,null,null,null,null,null,null,null,null,null,null,null,null,null,null,null,null,null,null,null,null,null,null,null,null,null,null,null,null,null,null,null,null,null,null,null,null,null,null,null,null,"/ Hour ",124]
[null,null,null,null,null,null,null,null,null,null,null,null,null,null,null,null,null,null,null,null,null,null,null,null,null,null,null,null,null,null,null,null,null,null,null,null,null,null,null,null,null,null,null,null,null,null,null,null,null,null,null,null,null,null,null,null,null,null,null,null,null,"/ Hour ",125]
[null,null,null,null,null,null,null,null,null,null,null,null,null,null,null,null,null,null,null,null,null,null,null,null,null,null,null,null,null,null,null,null,null,null,null,null,null,null,null,null,null,null,null,null,null,null,null,null,null,null,null,null,null,null,null,null,null,null,null,null,null,"/ Hour ",126]
[null,null,null,null,null,null,null,null,null,null,null,null,null,null,null,null,null,null,null,null,null,null,null,null,null,null,null,null,null,null,null,null,null,null,null,null,null,null,null,null,null,null,null,null,null,null,null,null,null,null,null,null,null,null,null,null,null,null,null,null,null,"/ Hour ",127]
[null,null,null,null,null,null,null,null,null,null,null,null,null,null,null,null,null,null,null,null,null,null,null,null,null,null,null,null,null,null,null,null,null,null,null,null,null,null,null,null,null,null,null,null,null,null,null,null,null,null,null,null,null,null,null,null,null,null,null,null,null,"/ Hour ",128]
[null,null,null,null,null,null,null,null,null,null,null,null,null,null,null,null,null,null,null,null,null,null,null,null,null,null,null,null,null,null,null,null,null,null,null,null,null,null,null,null,null,null,null,null,null,null,null,null,null,null,null,null,null,null,null,null,null,null,null,null,null,"/ Hour ",129]
[null,null,null,null,null,null,null,null,null,null,null,null,null,null,null,null,null,null,null,null,null,null,null,null,null,null,null,null,null,null,null,null,null,null,null,null,null,null,null,null,null,null,null,null,null,null,null,null,null,null,null,null,null,null,null,null,null,null,null,null,null,{"$f":"A140&\"/\"&B140&\" Hour \"&C140","v":"/ Hour "},{"$f":"ROW()-ROW($BK$10)","v":130}]
[null,null,null,null,null,null,null,null,null,null,null,null,null,null,null,null,null,null,null,null,null,null,null,null,null,null,null,null,null,null,null,null,null,null,null,null,null,null,null,null,null,null,null,null,null,null,null,null,null,null,null,null,null,null,null,null,null,null,null,null,null,"/ Hour ",131]
[null,null,null,null,null,null,null,null,null,null,null,null,null,null,null,null,null,null,null,null,null,null,null,null,null,null,null,null,null,null,null,null,null,null,null,null,null,null,null,null,null,null,null,null,null,null,null,null,null,null,null,null,null,null,null,null,null,null,null,null,null,"/ Hour ",132]
[null,null,null,null,null,null,null,null,null,null,null,null,null,null,null,null,null,null,null,null,null,null,null,null,null,null,null,null,null,null,null,null,null,null,null,null,null,null,null,null,null,null,null,null,null,null,null,null,null,null,null,null,null,null,null,null,null,null,null,null,null,"/ Hour ",133]
[null,null,null,null,null,null,null,null,null,null,null,null,null,null,null,null,null,null,null,null,null,null,null,null,null,null,null,null,null,null,null,null,null,null,null,null,null,null,null,null,null,null,null,null,null,null,null,null,null,null,null,null,null,null,null,null,null,null,null,null,null,"/ Hour ",134]
[null,null,null,null,null,null,null,null,null,null,null,null,null,null,null,null,null,null,null,null,null,null,null,null,null,null,null,null,null,null,null,null,null,null,null,null,null,null,null,null,null,null,null,null,null,null,null,null,null,null,null,null,null,null,null,null,null,null,null,null,null,"/ Hour ",135]
[null,null,null,null,null,null,null,null,null,null,null,null,null,null,null,null,null,null,null,null,null,null,null,null,null,null,null,null,null,null,null,null,null,null,null,null,null,null,null,null,null,null,null,null,null,null,null,null,null,null,null,null,null,null,null,null,null,null,null,null,null,"/ Hour ",136]
[null,null,null,null,null,null,null,null,null,null,null,null,null,null,null,null,null,null,null,null,null,null,null,null,null,null,null,null,null,null,null,null,null,null,null,null,null,null,null,null,null,null,null,null,null,null,null,null,null,null,null,null,null,null,null,null,null,null,null,null,null,"/ Hour ",137]
[null,null,null,null,null,null,null,null,null,null,null,null,null,null,null,null,null,null,null,null,null,null,null,null,null,null,null,null,null,null,null,null,null,null,null,null,null,null,null,null,null,null,null,null,null,null,null,null,null,null,null,null,null,null,null,null,null,null,null,null,null,"/ Hour ",138]
[null,null,null,null,null,null,null,null,null,null,null,null,null,null,null,null,null,null,null,null,null,null,null,null,null,null,null,null,null,null,null,null,null,null,null,null,null,null,null,null,null,null,null,null,null,null,null,null,null,null,null,null,null,null,null,null,null,null,null,null,null,"/ Hour ",139]
[null,null,null,null,null,null,null,null,null,null,null,null,null,null,null,null,null,null,null,null,null,null,null,null,null,null,null,null,null,null,null,null,null,null,null,null,null,null,null,null,null,null,null,null,null,null,null,null,null,null,null,null,null,null,null,null,null,null,null,null,null,"/ Hour ",140]
[null,null,null,null,null,null,null,null,null,null,null,null,null,null,null,null,null,null,null,null,null,null,null,null,null,null,null,null,null,null,null,null,null,null,null,null,null,null,null,null,null,null,null,null,null,null,null,null,null,null,null,null,null,null,null,null,null,null,null,null,null,"/ Hour ",141]
[null,null,null,null,null,null,null,null,null,null,null,null,null,null,null,null,null,null,null,null,null,null,null,null,null,null,null,null,null,null,null,null,null,null,null,null,null,null,null,null,null,null,null,null,null,null,null,null,null,null,null,null,null,null,null,null,null,null,null,null,null,"/ Hour ",142]
[null,null,null,null,null,null,null,null,null,null,null,null,null,null,null,null,null,null,null,null,null,null,null,null,null,null,null,null,null,null,null,null,null,null,null,null,null,null,null,null,null,null,null,null,null,null,null,null,null,null,null,null,null,null,null,null,null,null,null,null,null,"/ Hour ",143]
[null,null,null,null,null,null,null,null,null,null,null,null,null,null,null,null,null,null,null,null,null,null,null,null,null,null,null,null,null,null,null,null,null,null,null,null,null,null,null,null,null,null,null,null,null,null,null,null,null,null,null,null,null,null,null,null,null,null,null,null,null,"/ Hour ",144]
[null,null,null,null,null,null,null,null,null,null,null,null,null,null,null,null,null,null,null,null,null,null,null,null,null,null,null,null,null,null,null,null,null,null,null,null,null,null,null,null,null,null,null,null,null,null,null,null,null,null,null,null,null,null,null,null,null,null,null,null,null,"/ Hour ",145]
[null,null,null,null,null,null,null,null,null,null,null,null,null,null,null,null,null,null,null,null,null,null,null,null,null,null,null,null,null,null,null,null,null,null,null,null,null,null,null,null,null,null,null,null,null,null,null,null,null,null,null,null,null,null,null,null,null,null,null,null,null,"/ Hour ",146]
[null,null,null,null,null,null,null,null,null,null,null,null,null,null,null,null,null,null,null,null,null,null,null,null,null,null,null,null,null,null,null,null,null,null,null,null,null,null,null,null,null,null,null,null,null,null,null,null,null,null,null,null,null,null,null,null,null,null,null,null,null,"/ Hour ",147]
[null,null,null,null,null,null,null,null,null,null,null,null,null,null,null,null,null,null,null,null,null,null,null,null,null,null,null,null,null,null,null,null,null,null,null,null,null,null,null,null,null,null,null,null,null,null,null,null,null,null,null,null,null,null,null,null,null,null,null,null,null,"/ Hour ",148]
[null,null,null,null,null,null,null,null,null,null,null,null,null,null,null,null,null,null,null,null,null,null,null,null,null,null,null,null,null,null,null,null,null,null,null,null,null,null,null,null,null,null,null,null,null,null,null,null,null,null,null,null,null,null,null,null,null,null,null,null,null,"/ Hour ",149]
[null,null,null,null,null,null,null,null,null,null,null,null,null,null,null,null,null,null,null,null,null,null,null,null,null,null,null,null,null,null,null,null,null,null,null,null,null,null,null,null,null,null,null,null,null,null,null,null,null,null,null,null,null,null,null,null,null,null,null,null,null,"/ Hour ",150]
[null,null,null,null,null,null,null,null,null,null,null,null,null,null,null,null,null,null,null,null,null,null,null,null,null,null,null,null,null,null,null,null,null,null,null,null,null,null,null,null,null,null,null,null,null,null,null,null,null,null,null,null,null,null,null,null,null,null,null,null,null,"/ Hour ",151]
[null,null,null,null,null,null,null,null,null,null,null,null,null,null,null,null,null,null,null,null,null,null,null,null,null,null,null,null,null,null,null,null,null,null,null,null,null,null,null,null,null,null,null,null,null,null,null,null,null,null,null,null,null,null,null,null,null,null,null,null,null,"/ Hour ",152]
[null,null,null,null,null,null,null,null,null,null,null,null,null,null,null,null,null,null,null,null,null,null,null,null,null,null,null,null,null,null,null,null,null,null,null,null,null,null,null,null,null,null,null,null,null,null,null,null,null,null,null,null,null,null,null,null,null,null,null,null,null,"/ Hour ",153]
[null,null,null,null,null,null,null,null,null,null,null,null,null,null,null,null,null,null,null,null,null,null,null,null,null,null,null,null,null,null,null,null,null,null,null,null,null,null,null,null,null,null,null,null,null,null,null,null,null,null,null,null,null,null,null,null,null,null,null,null,null,"/ Hour ",154]
[null,null,null,null,null,null,null,null,null,null,null,null,null,null,null,null,null,null,null,null,null,null,null,null,null,null,null,null,null,null,null,null,null,null,null,null,null,null,null,null,null,null,null,null,null,null,null,null,null,null,null,null,null,null,null,null,null,null,null,null,null,"/ Hour ",155]
[null,null,null,null,null,null,null,null,null,null,null,null,null,null,null,null,null,null,null,null,null,null,null,null,null,null,null,null,null,null,null,null,null,null,null,null,null,null,null,null,null,null,null,null,null,null,null,null,null,null,null,null,null,null,null,null,null,null,null,null,null,"/ Hour ",156]
[null,null,null,null,null,null,null,null,null,null,null,null,null,null,null,null,null,null,null,null,null,null,null,null,null,null,null,null,null,null,null,null,null,null,null,null,null,null,null,null,null,null,null,null,null,null,null,null,null,null,null,null,null,null,null,null,null,null,null,null,null,"/ Hour ",157]
[null,null,null,null,null,null,null,null,null,null,null,null,null,null,null,null,null,null,null,null,null,null,null,null,null,null,null,null,null,null,null,null,null,null,null,null,null,null,null,null,null,null,null,null,null,null,null,null,null,null,null,null,null,null,null,null,null,null,null,null,null,"/ Hour ",158]
[null,null,null,null,null,null,null,null,null,null,null,null,null,null,null,null,null,null,null,null,null,null,null,null,null,null,null,null,null,null,null,null,null,null,null,null,null,null,null,null,null,null,null,null,null,null,null,null,null,null,null,null,null,null,null,null,null,null,null,null,null,"/ Hour ",159]
[null,null,null,null,null,null,null,null,null,null,null,null,null,null,null,null,null,null,null,null,null,null,null,null,null,null,null,null,null,null,null,null,null,null,null,null,null,null,null,null,null,null,null,null,null,null,null,null,null,null,null,null,null,null,null,null,null,null,null,null,null,"/ Hour ",160]
[null,null,null,null,null,null,null,null,null,null,null,null,null,null,null,null,null,null,null,null,null,null,null,null,null,null,null,null,null,null,null,null,null,null,null,null,null,null,null,null,null,null,null,null,null,null,null,null,null,null,null,null,null,null,null,null,null,null,null,null,null,"/ Hour ",161]
[null,null,null,null,null,null,null,null,null,null,null,null,null,null,null,null,null,null,null,null,null,null,null,null,null,null,null,null,null,null,null,null,null,null,null,null,null,null,null,null,null,null,null,null,null,null,null,null,null,null,null,null,null,null,null,null,null,null,null,null,null,"/ Hour ",162]
[null,null,null,null,null,null,null,null,null,null,null,null,null,null,null,null,null,null,null,null,null,null,null,null,null,null,null,null,null,null,null,null,null,null,null,null,null,null,null,null,null,null,null,null,null,null,null,null,null,null,null,null,null,null,null,null,null,null,null,null,null,"/ Hour ",163]
[null,null,null,null,null,null,null,null,null,null,null,null,null,null,null,null,null,null,null,null,null,null,null,null,null,null,null,null,null,null,null,null,null,null,null,null,null,null,null,null,null,null,null,null,null,null,null,null,null,null,null,null,null,null,null,null,null,null,null,null,null,"/ Hour ",164]
[null,null,null,null,null,null,null,null,null,null,null,null,null,null,null,null,null,null,null,null,null,null,null,null,null,null,null,null,null,null,null,null,null,null,null,null,null,null,null,null,null,null,null,null,null,null,null,null,null,null,null,null,null,null,null,null,null,null,null,null,null,"/ Hour ",165]
[null,null,null,null,null,null,null,null,null,null,null,null,null,null,null,null,null,null,null,null,null,null,null,null,null,null,null,null,null,null,null,null,null,null,null,null,null,null,null,null,null,null,null,null,null,null,null,null,null,null,null,null,null,null,null,null,null,null,null,null,null,"/ Hour ",166]
[null,null,null,null,null,null,null,null,null,null,null,null,null,null,null,null,null,null,null,null,null,null,null,null,null,null,null,null,null,null,null,null,null,null,null,null,null,null,null,null,null,null,null,null,null,null,null,null,null,null,null,null,null,null,null,null,null,null,null,null,null,"/ Hour ",167]
[null,null,null,null,null,null,null,null,null,null,null,null,null,null,null,null,null,null,null,null,null,null,null,null,null,null,null,null,null,null,null,null,null,null,null,null,null,null,null,null,null,null,null,null,null,null,null,null,null,null,null,null,null,null,null,null,null,null,null,null,null,"/ Hour ",168]
[null,null,null,null,null,null,null,null,null,null,null,null,null,null,null,null,null,null,null,null,null,null,null,null,null,null,null,null,null,null,null,null,null,null,null,null,null,null,null,null,null,null,null,null,null,null,null,null,null,null,null,null,null,null,null,null,null,null,null,null,null,"/ Hour ",169]
[null,null,null,null,null,null,null,null,null,null,null,null,null,null,null,null,null,null,null,null,null,null,null,null,null,null,null,null,null,null,null,null,null,null,null,null,null,null,null,null,null,null,null,null,null,null,null,null,null,null,null,null,null,null,null,null,null,null,null,null,null,"/ Hour ",170]
[null,null,null,null,null,null,null,null,null,null,null,null,null,null,null,null,null,null,null,null,null,null,null,null,null,null,null,null,null,null,null,null,null,null,null,null,null,null,null,null,null,null,null,null,null,null,null,null,null,null,null,null,null,null,null,null,null,null,null,null,null,"/ Hour ",171]
[null,null,null,null,null,null,null,null,null,null,null,null,null,null,null,null,null,null,null,null,null,null,null,null,null,null,null,null,null,null,null,null,null,null,null,null,null,null,null,null,null,null,null,null,null,null,null,null,null,null,null,null,null,null,null,null,null,null,null,null,null,"/ Hour ",172]
[null,null,null,null,null,null,null,null,null,null,null,null,null,null,null,null,null,null,null,null,null,null,null,null,null,null,null,null,null,null,null,null,null,null,null,null,null,null,null,null,null,null,null,null,null,null,null,null,null,null,null,null,null,null,null,null,null,null,null,null,null,"/ Hour ",173]
[null,null,null,null,null,null,null,null,null,null,null,null,null,null,null,null,null,null,null,null,null,null,null,null,null,null,null,null,null,null,null,null,null,null,null,null,null,null,null,null,null,null,null,null,null,null,null,null,null,null,null,null,null,null,null,null,null,null,null,null,null,"/ Hour ",174]
[null,null,null,null,null,null,null,null,null,null,null,null,null,null,null,null,null,null,null,null,null,null,null,null,null,null,null,null,null,null,null,null,null,null,null,null,null,null,null,null,null,null,null,null,null,null,null,null,null,null,null,null,null,null,null,null,null,null,null,null,null,"/ Hour ",175]
[null,null,null,null,null,null,null,null,null,null,null,null,null,null,null,null,null,null,null,null,null,null,null,null,null,null,null,null,null,null,null,null,null,null,null,null,null,null,null,null,null,null,null,null,null,null,null,null,null,null,null,null,null,null,null,null,null,null,null,null,null,"/ Hour ",176]
[null,null,null,null,null,null,null,null,null,null,null,null,null,null,null,null,null,null,null,null,null,null,null,null,null,null,null,null,null,null,null,null,null,null,null,null,null,null,null,null,null,null,null,null,null,null,null,null,null,null,null,null,null,null,null,null,null,null,null,null,null,"/ Hour ",177]
[null,null,null,null,null,null,null,null,null,null,null,null,null,null,null,null,null,null,null,null,null,null,null,null,null,null,null,null,null,null,null,null,null,null,null,null,null,null,null,null,null,null,null,null,null,null,null,null,null,null,null,null,null,null,null,null,null,null,null,null,null,"/ Hour ",178]
[null,null,null,null,null,null,null,null,null,null,null,null,null,null,null,null,null,null,null,null,null,null,null,null,null,null,null,null,null,null,null,null,null,null,null,null,null,null,null,null,null,null,null,null,null,null,null,null,null,null,null,null,null,null,null,null,null,null,null,null,null,"/ Hour ",179]
[null,null,null,null,null,null,null,null,null,null,null,null,null,null,null,null,null,null,null,null,null,null,null,null,null,null,null,null,null,null,null,null,null,null,null,null,null,null,null,null,null,null,null,null,null,null,null,null,null,null,null,null,null,null,null,null,null,null,null,null,null,"/ Hour ",180]
[null,null,null,null,null,null,null,null,null,null,null,null,null,null,null,null,null,null,null,null,null,null,null,null,null,null,null,null,null,null,null,null,null,null,null,null,null,null,null,null,null,null,null,null,null,null,null,null,null,null,null,null,null,null,null,null,null,null,null,null,null,"/ Hour ",181]
[null,null,null,null,null,null,null,null,null,null,null,null,null,null,null,null,null,null,null,null,null,null,null,null,null,null,null,null,null,null,null,null,null,null,null,null,null,null,null,null,null,null,null,null,null,null,null,null,null,null,null,null,null,null,null,null,null,null,null,null,null,"/ Hour ",182]
[null,null,null,null,null,null,null,null,null,null,null,null,null,null,null,null,null,null,null,null,null,null,null,null,null,null,null,null,null,null,null,null,null,null,null,null,null,null,null,null,null,null,null,null,null,null,null,null,null,null,null,null,null,null,null,null,null,null,null,null,null,"/ Hour ",183]
[null,null,null,null,null,null,null,null,null,null,null,null,null,null,null,null,null,null,null,null,null,null,null,null,null,null,null,null,null,null,null,null,null,null,null,null,null,null,null,null,null,null,null,null,null,null,null,null,null,null,null,null,null,null,null,null,null,null,null,null,null,"/ Hour ",184]
[null,null,null,null,null,null,null,null,null,null,null,null,null,null,null,null,null,null,null,null,null,null,null,null,null,null,null,null,null,null,null,null,null,null,null,null,null,null,null,null,null,null,null,null,null,null,null,null,null,null,null,null,null,null,null,null,null,null,null,null,null,"/ Hour ",185]
[null,null,null,null,null,null,null,null,null,null,null,null,null,null,null,null,null,null,null,null,null,null,null,null,null,null,null,null,null,null,null,null,null,null,null,null,null,null,null,null,null,null,null,null,null,null,null,null,null,null,null,null,null,null,null,null,null,null,null,null,null,"/ Hour ",186]
[null,null,null,null,null,null,null,null,null,null,null,null,null,null,null,null,null,null,null,null,null,null,null,null,null,null,null,null,null,null,null,null,null,null,null,null,null,null,null,null,null,null,null,null,null,null,null,null,null,null,null,null,null,null,null,null,null,null,null,null,null,"/ Hour ",187]
[null,null,null,null,null,null,null,null,null,null,null,null,null,null,null,null,null,null,null,null,null,null,null,null,null,null,null,null,null,null,null,null,null,null,null,null,null,null,null,null,null,null,null,null,null,null,null,null,null,null,null,null,null,null,null,null,null,null,null,null,null,"/ Hour ",188]
[null,null,null,null,null,null,null,null,null,null,null,null,null,null,null,null,null,null,null,null,null,null,null,null,null,null,null,null,null,null,null,null,null,null,null,null,null,null,null,null,null,null,null,null,null,null,null,null,null,null,null,null,null,null,null,null,null,null,null,null,null,"/ Hour ",189]
[null,null,null,null,null,null,null,null,null,null,null,null,null,null,null,null,null,null,null,null,null,null,null,null,null,null,null,null,null,null,null,null,null,null,null,null,null,null,null,null,null,null,null,null,null,null,null,null,null,null,null,null,null,null,null,null,null,null,null,null,null,"/ Hour ",190]
[null,null,null,null,null,null,null,null,null,null,null,null,null,null,null,null,null,null,null,null,null,null,null,null,null,null,null,null,null,null,null,null,null,null,null,null,null,null,null,null,null,null,null,null,null,null,null,null,null,null,null,null,null,null,null,null,null,null,null,null,null,"/ Hour ",191]
[null,null,null,null,null,null,null,null,null,null,null,null,null,null,null,null,null,null,null,null,null,null,null,null,null,null,null,null,null,null,null,null,null,null,null,null,null,null,null,null,null,null,null,null,null,null,null,null,null,null,null,null,null,null,null,null,null,null,null,null,null,"/ Hour ",192]
[null,null,null,null,null,null,null,null,null,null,null,null,null,null,null,null,null,null,null,null,null,null,null,null,null,null,null,null,null,null,null,null,null,null,null,null,null,null,null,null,null,null,null,null,null,null,null,null,null,null,null,null,null,null,null,null,null,null,null,null,null,"/ Hour ",193]
[null,null,null,null,null,null,null,null,null,null,null,null,null,null,null,null,null,null,null,null,null,null,null,null,null,null,null,null,null,null,null,null,null,null,null,null,null,null,null,null,null,null,null,null,null,null,null,null,null,null,null,null,null,null,null,null,null,null,null,null,null,{"$f":"A204&\"/\"&B204&\" Hour \"&C204","v":"/ Hour "},{"$f":"ROW()-ROW($BK$10)","v":194}]
[null,null,null,null,null,null,null,null,null,null,null,null,null,null,null,null,null,null,null,null,null,null,null,null,null,null,null,null,null,null,null,null,null,null,null,null,null,null,null,null,null,null,null,null,null,null,null,null,null,null,null,null,null,null,null,null,null,null,null,null,null,"/ Hour ",195]
[null,null,null,null,null,null,null,null,null,null,null,null,null,null,null,null,null,null,null,null,null,null,null,null,null,null,null,null,null,null,null,null,null,null,null,null,null,null,null,null,null,null,null,null,null,null,null,null,null,null,null,null,null,null,null,null,null,null,null,null,null,"/ Hour ",196]
[null,null,null,null,null,null,null,null,null,null,null,null,null,null,null,null,null,null,null,null,null,null,null,null,null,null,null,null,null,null,null,null,null,null,null,null,null,null,null,null,null,null,null,null,null,null,null,null,null,null,null,null,null,null,null,null,null,null,null,null,null,"/ Hour ",197]
[null,null,null,null,null,null,null,null,null,null,null,null,null,null,null,null,null,null,null,null,null,null,null,null,null,null,null,null,null,null,null,null,null,null,null,null,null,null,null,null,null,null,null,null,null,null,null,null,null,null,null,null,null,null,null,null,null,null,null,null,null,"/ Hour ",198]
[null,null,null,null,null,null,null,null,null,null,null,null,null,null,null,null,null,null,null,null,null,null,null,null,null,null,null,null,null,null,null,null,null,null,null,null,null,null,null,null,null,null,null,null,null,null,null,null,null,null,null,null,null,null,null,null,null,null,null,null,null,"/ Hour ",199]
[null,null,null,null,null,null,null,null,null,null,null,null,null,null,null,null,null,null,null,null,null,null,null,null,null,null,null,null,null,null,null,null,null,null,null,null,null,null,null,null,null,null,null,null,null,null,null,null,null,null,null,null,null,null,null,null,null,null,null,null,null,"/ Hour ",200]
[null,null,null,null,null,null,null,null,null,null,null,null,null,null,null,null,null,null,null,null,null,null,null,null,null,null,null,null,null,null,null,null,null,null,null,null,null,null,null,null,null,null,null,null,null,null,null,null,null,null,null,null,null,null,null,null,null,null,null,null,null,"/ Hour ",201]
[null,null,null,null,null,null,null,null,null,null,null,null,null,null,null,null,null,null,null,null,null,null,null,null,null,null,null,null,null,null,null,null,null,null,null,null,null,null,null,null,null,null,null,null,null,null,null,null,null,null,null,null,null,null,null,null,null,null,null,null,null,"/ Hour ",202]
[null,null,null,null,null,null,null,null,null,null,null,null,null,null,null,null,null,null,null,null,null,null,null,null,null,null,null,null,null,null,null,null,null,null,null,null,null,null,null,null,null,null,null,null,null,null,null,null,null,null,null,null,null,null,null,null,null,null,null,null,null,"/ Hour ",203]
[null,null,null,null,null,null,null,null,null,null,null,null,null,null,null,null,null,null,null,null,null,null,null,null,null,null,null,null,null,null,null,null,null,null,null,null,null,null,null,null,null,null,null,null,null,null,null,null,null,null,null,null,null,null,null,null,null,null,null,null,null,"/ Hour ",204]
[null,null,null,null,null,null,null,null,null,null,null,null,null,null,null,null,null,null,null,null,null,null,null,null,null,null,null,null,null,null,null,null,null,null,null,null,null,null,null,null,null,null,null,null,null,null,null,null,null,null,null,null,null,null,null,null,null,null,null,null,null,"/ Hour ",205]
[null,null,null,null,null,null,null,null,null,null,null,null,null,null,null,null,null,null,null,null,null,null,null,null,null,null,null,null,null,null,null,null,null,null,null,null,null,null,null,null,null,null,null,null,null,null,null,null,null,null,null,null,null,null,null,null,null,null,null,null,null,"/ Hour ",206]
[null,null,null,null,null,null,null,null,null,null,null,null,null,null,null,null,null,null,null,null,null,null,null,null,null,null,null,null,null,null,null,null,null,null,null,null,null,null,null,null,null,null,null,null,null,null,null,null,null,null,null,null,null,null,null,null,null,null,null,null,null,"/ Hour ",207]
[null,null,null,null,null,null,null,null,null,null,null,null,null,null,null,null,null,null,null,null,null,null,null,null,null,null,null,null,null,null,null,null,null,null,null,null,null,null,null,null,null,null,null,null,null,null,null,null,null,null,null,null,null,null,null,null,null,null,null,null,null,"/ Hour ",208]
[null,null,null,null,null,null,null,null,null,null,null,null,null,null,null,null,null,null,null,null,null,null,null,null,null,null,null,null,null,null,null,null,null,null,null,null,null,null,null,null,null,null,null,null,null,null,null,null,null,null,null,null,null,null,null,null,null,null,null,null,null,"/ Hour ",209]
[null,null,null,null,null,null,null,null,null,null,null,null,null,null,null,null,null,null,null,null,null,null,null,null,null,null,null,null,null,null,null,null,null,null,null,null,null,null,null,null,null,null,null,null,null,null,null,null,null,null,null,null,null,null,null,null,null,null,null,null,null,"/ Hour ",210]
[null,null,null,null,null,null,null,null,null,null,null,null,null,null,null,null,null,null,null,null,null,null,null,null,null,null,null,null,null,null,null,null,null,null,null,null,null,null,null,null,null,null,null,null,null,null,null,null,null,null,null,null,null,null,null,null,null,null,null,null,null,"/ Hour ",211]
[null,null,null,null,null,null,null,null,null,null,null,null,null,null,null,null,null,null,null,null,null,null,null,null,null,null,null,null,null,null,null,null,null,null,null,null,null,null,null,null,null,null,null,null,null,null,null,null,null,null,null,null,null,null,null,null,null,null,null,null,null,"/ Hour ",212]
[null,null,null,null,null,null,null,null,null,null,null,null,null,null,null,null,null,null,null,null,null,null,null,null,null,null,null,null,null,null,null,null,null,null,null,null,null,null,null,null,null,null,null,null,null,null,null,null,null,null,null,null,null,null,null,null,null,null,null,null,null,"/ Hour ",213]
[null,null,null,null,null,null,null,null,null,null,null,null,null,null,null,null,null,null,null,null,null,null,null,null,null,null,null,null,null,null,null,null,null,null,null,null,null,null,null,null,null,null,null,null,null,null,null,null,null,null,null,null,null,null,null,null,null,null,null,null,null,"/ Hour ",214]
[null,null,null,null,null,null,null,null,null,null,null,null,null,null,null,null,null,null,null,null,null,null,null,null,null,null,null,null,null,null,null,null,null,null,null,null,null,null,null,null,null,null,null,null,null,null,null,null,null,null,null,null,null,null,null,null,null,null,null,null,null,"/ Hour ",215]
[null,null,null,null,null,null,null,null,null,null,null,null,null,null,null,null,null,null,null,null,null,null,null,null,null,null,null,null,null,null,null,null,null,null,null,null,null,null,null,null,null,null,null,null,null,null,null,null,null,null,null,null,null,null,null,null,null,null,null,null,null,"/ Hour ",216]
[null,null,null,null,null,null,null,null,null,null,null,null,null,null,null,null,null,null,null,null,null,null,null,null,null,null,null,null,null,null,null,null,null,null,null,null,null,null,null,null,null,null,null,null,null,null,null,null,null,null,null,null,null,null,null,null,null,null,null,null,null,"/ Hour ",217]
[null,null,null,null,null,null,null,null,null,null,null,null,null,null,null,null,null,null,null,null,null,null,null,null,null,null,null,null,null,null,null,null,null,null,null,null,null,null,null,null,null,null,null,null,null,null,null,null,null,null,null,null,null,null,null,null,null,null,null,null,null,"/ Hour ",218]
[null,null,null,null,null,null,null,null,null,null,null,null,null,null,null,null,null,null,null,null,null,null,null,null,null,null,null,null,null,null,null,null,null,null,null,null,null,null,null,null,null,null,null,null,null,null,null,null,null,null,null,null,null,null,null,null,null,null,null,null,null,"/ Hour ",219]
[null,null,null,null,null,null,null,null,null,null,null,null,null,null,null,null,null,null,null,null,null,null,null,null,null,null,null,null,null,null,null,null,null,null,null,null,null,null,null,null,null,null,null,null,null,null,null,null,null,null,null,null,null,null,null,null,null,null,null,null,null,"/ Hour ",220]
[null,null,null,null,null,null,null,null,null,null,null,null,null,null,null,null,null,null,null,null,null,null,null,null,null,null,null,null,null,null,null,null,null,null,null,null,null,null,null,null,null,null,null,null,null,null,null,null,null,null,null,null,null,null,null,null,null,null,null,null,null,"/ Hour ",221]
[null,null,null,null,null,null,null,null,null,null,null,null,null,null,null,null,null,null,null,null,null,null,null,null,null,null,null,null,null,null,null,null,null,null,null,null,null,null,null,null,null,null,null,null,null,null,null,null,null,null,null,null,null,null,null,null,null,null,null,null,null,"/ Hour ",222]
[null,null,null,null,null,null,null,null,null,null,null,null,null,null,null,null,null,null,null,null,null,null,null,null,null,null,null,null,null,null,null,null,null,null,null,null,null,null,null,null,null,null,null,null,null,null,null,null,null,null,null,null,null,null,null,null,null,null,null,null,null,"/ Hour ",223]
[null,null,null,null,null,null,null,null,null,null,null,null,null,null,null,null,null,null,null,null,null,null,null,null,null,null,null,null,null,null,null,null,null,null,null,null,null,null,null,null,null,null,null,null,null,null,null,null,null,null,null,null,null,null,null,null,null,null,null,null,null,"/ Hour ",224]
[null,null,null,null,null,null,null,null,null,null,null,null,null,null,null,null,null,null,null,null,null,null,null,null,null,null,null,null,null,null,null,null,null,null,null,null,null,null,null,null,null,null,null,null,null,null,null,null,null,null,null,null,null,null,null,null,null,null,null,null,null,"/ Hour ",225]
[null,null,null,null,null,null,null,null,null,null,null,null,null,null,null,null,null,null,null,null,null,null,null,null,null,null,null,null,null,null,null,null,null,null,null,null,null,null,null,null,null,null,null,null,null,null,null,null,null,null,null,null,null,null,null,null,null,null,null,null,null,"/ Hour ",226]
[null,null,null,null,null,null,null,null,null,null,null,null,null,null,null,null,null,null,null,null,null,null,null,null,null,null,null,null,null,null,null,null,null,null,null,null,null,null,null,null,null,null,null,null,null,null,null,null,null,null,null,null,null,null,null,null,null,null,null,null,null,"/ Hour ",227]
[null,null,null,null,null,null,null,null,null,null,null,null,null,null,null,null,null,null,null,null,null,null,null,null,null,null,null,null,null,null,null,null,null,null,null,null,null,null,null,null,null,null,null,null,null,null,null,null,null,null,null,null,null,null,null,null,null,null,null,null,null,"/ Hour ",228]
[null,null,null,null,null,null,null,null,null,null,null,null,null,null,null,null,null,null,null,null,null,null,null,null,null,null,null,null,null,null,null,null,null,null,null,null,null,null,null,null,null,null,null,null,null,null,null,null,null,null,null,null,null,null,null,null,null,null,null,null,null,"/ Hour ",229]
[null,null,null,null,null,null,null,null,null,null,null,null,null,null,null,null,null,null,null,null,null,null,null,null,null,null,null,null,null,null,null,null,null,null,null,null,null,null,null,null,null,null,null,null,null,null,null,null,null,null,null,null,null,null,null,null,null,null,null,null,null,"/ Hour ",230]
[null,null,null,null,null,null,null,null,null,null,null,null,null,null,null,null,null,null,null,null,null,null,null,null,null,null,null,null,null,null,null,null,null,null,null,null,null,null,null,null,null,null,null,null,null,null,null,null,null,null,null,null,null,null,null,null,null,null,null,null,null,"/ Hour ",231]
[null,null,null,null,null,null,null,null,null,null,null,null,null,null,null,null,null,null,null,null,null,null,null,null,null,null,null,null,null,null,null,null,null,null,null,null,null,null,null,null,null,null,null,null,null,null,null,null,null,null,null,null,null,null,null,null,null,null,null,null,null,"/ Hour ",232]
[null,null,null,null,null,null,null,null,null,null,null,null,null,null,null,null,null,null,null,null,null,null,null,null,null,null,null,null,null,null,null,null,null,null,null,null,null,null,null,null,null,null,null,null,null,null,null,null,null,null,null,null,null,null,null,null,null,null,null,null,null,"/ Hour ",233]
[null,null,null,null,null,null,null,null,null,null,null,null,null,null,null,null,null,null,null,null,null,null,null,null,null,null,null,null,null,null,null,null,null,null,null,null,null,null,null,null,null,null,null,null,null,null,null,null,null,null,null,null,null,null,null,null,null,null,null,null,null,"/ Hour ",234]
[null,null,null,null,null,null,null,null,null,null,null,null,null,null,null,null,null,null,null,null,null,null,null,null,null,null,null,null,null,null,null,null,null,null,null,null,null,null,null,null,null,null,null,null,null,null,null,null,null,null,null,null,null,null,null,null,null,null,null,null,null,"/ Hour ",235]
[null,null,null,null,null,null,null,null,null,null,null,null,null,null,null,null,null,null,null,null,null,null,null,null,null,null,null,null,null,null,null,null,null,null,null,null,null,null,null,null,null,null,null,null,null,null,null,null,null,null,null,null,null,null,null,null,null,null,null,null,null,"/ Hour ",236]
[null,null,null,null,null,null,null,null,null,null,null,null,null,null,null,null,null,null,null,null,null,null,null,null,null,null,null,null,null,null,null,null,null,null,null,null,null,null,null,null,null,null,null,null,null,null,null,null,null,null,null,null,null,null,null,null,null,null,null,null,null,"/ Hour ",237]
[null,null,null,null,null,null,null,null,null,null,null,null,null,null,null,null,null,null,null,null,null,null,null,null,null,null,null,null,null,null,null,null,null,null,null,null,null,null,null,null,null,null,null,null,null,null,null,null,null,null,null,null,null,null,null,null,null,null,null,null,null,"/ Hour ",238]
[null,null,null,null,null,null,null,null,null,null,null,null,null,null,null,null,null,null,null,null,null,null,null,null,null,null,null,null,null,null,null,null,null,null,null,null,null,null,null,null,null,null,null,null,null,null,null,null,null,null,null,null,null,null,null,null,null,null,null,null,null,"/ Hour ",239]
[null,null,null,null,null,null,null,null,null,null,null,null,null,null,null,null,null,null,null,null,null,null,null,null,null,null,null,null,null,null,null,null,null,null,null,null,null,null,null,null,null,null,null,null,null,null,null,null,null,null,null,null,null,null,null,null,null,null,null,null,null,"/ Hour ",240]
[null,null,null,null,null,null,null,null,null,null,null,null,null,null,null,null,null,null,null,null,null,null,null,null,null,null,null,null,null,null,null,null,null,null,null,null,null,null,null,null,null,null,null,null,null,null,null,null,null,null,null,null,null,null,null,null,null,null,null,null,null,"/ Hour ",241]
[null,null,null,null,null,null,null,null,null,null,null,null,null,null,null,null,null,null,null,null,null,null,null,null,null,null,null,null,null,null,null,null,null,null,null,null,null,null,null,null,null,null,null,null,null,null,null,null,null,null,null,null,null,null,null,null,null,null,null,null,null,"/ Hour ",242]
[null,null,null,null,null,null,null,null,null,null,null,null,null,null,null,null,null,null,null,null,null,null,null,null,null,null,null,null,null,null,null,null,null,null,null,null,null,null,null,null,null,null,null,null,null,null,null,null,null,null,null,null,null,null,null,null,null,null,null,null,null,"/ Hour ",243]
[null,null,null,null,null,null,null,null,null,null,null,null,null,null,null,null,null,null,null,null,null,null,null,null,null,null,null,null,null,null,null,null,null,null,null,null,null,null,null,null,null,null,null,null,null,null,null,null,null,null,null,null,null,null,null,null,null,null,null,null,null,"/ Hour ",244]
[null,null,null,null,null,null,null,null,null,null,null,null,null,null,null,null,null,null,null,null,null,null,null,null,null,null,null,null,null,null,null,null,null,null,null,null,null,null,null,null,null,null,null,null,null,null,null,null,null,null,null,null,null,null,null,null,null,null,null,null,null,"/ Hour ",245]
[null,null,null,null,null,null,null,null,null,null,null,null,null,null,null,null,null,null,null,null,null,null,null,null,null,null,null,null,null,null,null,null,null,null,null,null,null,null,null,null,null,null,null,null,null,null,null,null,null,null,null,null,null,null,null,null,null,null,null,null,null,"/ Hour ",246]
[null,null,null,null,null,null,null,null,null,null,null,null,null,null,null,null,null,null,null,null,null,null,null,null,null,null,null,null,null,null,null,null,null,null,null,null,null,null,null,null,null,null,null,null,null,null,null,null,null,null,null,null,null,null,null,null,null,null,null,null,null,"/ Hour ",247]
[null,null,null,null,null,null,null,null,null,null,null,null,null,null,null,null,null,null,null,null,null,null,null,null,null,null,null,null,null,null,null,null,null,null,null,null,null,null,null,null,null,null,null,null,null,null,null,null,null,null,null,null,null,null,null,null,null,null,null,null,null,"/ Hour ",248]
[null,null,null,null,null,null,null,null,null,null,null,null,null,null,null,null,null,null,null,null,null,null,null,null,null,null,null,null,null,null,null,null,null,null,null,null,null,null,null,null,null,null,null,null,null,null,null,null,null,null,null,null,null,null,null,null,null,null,null,null,null,"/ Hour ",249]
[null,null,null,null,null,null,null,null,null,null,null,null,null,null,null,null,null,null,null,null,null,null,null,null,null,null,null,null,null,null,null,null,null,null,null,null,null,null,null,null,null,null,null,null,null,null,null,null,null,null,null,null,null,null,null,null,null,null,null,null,null,"/ Hour ",250]
[null,null,null,null,null,null,null,null,null,null,null,null,null,null,null,null,null,null,null,null,null,null,null,null,null,null,null,null,null,null,null,null,null,null,null,null,null,null,null,null,null,null,null,null,null,null,null,null,null,null,null,null,null,null,null,null,null,null,null,null,null,"/ Hour ",251]
[null,null,null,null,null,null,null,null,null,null,null,null,null,null,null,null,null,null,null,null,null,null,null,null,null,null,null,null,null,null,null,null,null,null,null,null,null,null,null,null,null,null,null,null,null,null,null,null,null,null,null,null,null,null,null,null,null,null,null,null,null,"/ Hour ",252]
[null,null,null,null,null,null,null,null,null,null,null,null,null,null,null,null,null,null,null,null,null,null,null,null,null,null,null,null,null,null,null,null,null,null,null,null,null,null,null,null,null,null,null,null,null,null,null,null,null,null,null,null,null,null,null,null,null,null,null,null,null,"/ Hour ",253]
[null,null,null,null,null,null,null,null,null,null,null,null,null,null,null,null,null,null,null,null,null,null,null,null,null,null,null,null,null,null,null,null,null,null,null,null,null,null,null,null,null,null,null,null,null,null,null,null,null,null,null,null,null,null,null,null,null,null,null,null,null,"/ Hour ",254]
[null,null,null,null,null,null,null,null,null,null,null,null,null,null,null,null,null,null,null,null,null,null,null,null,null,null,null,null,null,null,null,null,null,null,null,null,null,null,null,null,null,null,null,null,null,null,null,null,null,null,null,null,null,null,null,null,null,null,null,null,null,"/ Hour ",255]
[null,null,null,null,null,null,null,null,null,null,null,null,null,null,null,null,null,null,null,null,null,null,null,null,null,null,null,null,null,null,null,null,null,null,null,null,null,null,null,null,null,null,null,null,null,null,null,null,null,null,null,null,null,null,null,null,null,null,null,null,null,"/ Hour ",256]
[null,null,null,null,null,null,null,null,null,null,null,null,null,null,null,null,null,null,null,null,null,null,null,null,null,null,null,null,null,null,null,null,null,null,null,null,null,null,null,null,null,null,null,null,null,null,null,null,null,null,null,null,null,null,null,null,null,null,null,null,null,"/ Hour ",257]
[null,null,null,null,null,null,null,null,null,null,null,null,null,null,null,null,null,null,null,null,null,null,null,null,null,null,null,null,null,null,null,null,null,null,null,null,null,null,null,null,null,null,null,null,null,null,null,null,null,null,null,null,null,null,null,null,null,null,null,null,null,{"$f":"A268&\"/\"&B268&\" Hour \"&C268","v":"/ Hour "},{"$f":"ROW()-ROW($BK$10)","v":258}]
[null,null,null,null,null,null,null,null,null,null,null,null,null,null,null,null,null,null,null,null,null,null,null,null,null,null,null,null,null,null,null,null,null,null,null,null,null,null,null,null,null,null,null,null,null,null,null,null,null,null,null,null,null,null,null,null,null,null,null,null,null,"/ Hour ",259]
[null,null,null,null,null,null,null,null,null,null,null,null,null,null,null,null,null,null,null,null,null,null,null,null,null,null,null,null,null,null,null,null,null,null,null,null,null,null,null,null,null,null,null,null,null,null,null,null,null,null,null,null,null,null,null,null,null,null,null,null,null,"/ Hour ",260]
[null,null,null,null,null,null,null,null,null,null,null,null,null,null,null,null,null,null,null,null,null,null,null,null,null,null,null,null,null,null,null,null,null,null,null,null,null,null,null,null,null,null,null,null,null,null,null,null,null,null,null,null,null,null,null,null,null,null,null,null,null,"/ Hour ",261]
[null,null,null,null,null,null,null,null,null,null,null,null,null,null,null,null,null,null,null,null,null,null,null,null,null,null,null,null,null,null,null,null,null,null,null,null,null,null,null,null,null,null,null,null,null,null,null,null,null,null,null,null,null,null,null,null,null,null,null,null,null,"/ Hour ",262]
[null,null,null,null,null,null,null,null,null,null,null,null,null,null,null,null,null,null,null,null,null,null,null,null,null,null,null,null,null,null,null,null,null,null,null,null,null,null,null,null,null,null,null,null,null,null,null,null,null,null,null,null,null,null,null,null,null,null,null,null,null,"/ Hour ",263]
[null,null,null,null,null,null,null,null,null,null,null,null,null,null,null,null,null,null,null,null,null,null,null,null,null,null,null,null,null,null,null,null,null,null,null,null,null,null,null,null,null,null,null,null,null,null,null,null,null,null,null,null,null,null,null,null,null,null,null,null,null,"/ Hour ",264]
[null,null,null,null,null,null,null,null,null,null,null,null,null,null,null,null,null,null,null,null,null,null,null,null,null,null,null,null,null,null,null,null,null,null,null,null,null,null,null,null,null,null,null,null,null,null,null,null,null,null,null,null,null,null,null,null,null,null,null,null,null,"/ Hour ",265]
[null,null,null,null,null,null,null,null,null,null,null,null,null,null,null,null,null,null,null,null,null,null,null,null,null,null,null,null,null,null,null,null,null,null,null,null,null,null,null,null,null,null,null,null,null,null,null,null,null,null,null,null,null,null,null,null,null,null,null,null,null,"/ Hour ",266]
[null,null,null,null,null,null,null,null,null,null,null,null,null,null,null,null,null,null,null,null,null,null,null,null,null,null,null,null,null,null,null,null,null,null,null,null,null,null,null,null,null,null,null,null,null,null,null,null,null,null,null,null,null,null,null,null,null,null,null,null,null,"/ Hour ",267]
[null,null,null,null,null,null,null,null,null,null,null,null,null,null,null,null,null,null,null,null,null,null,null,null,null,null,null,null,null,null,null,null,null,null,null,null,null,null,null,null,null,null,null,null,null,null,null,null,null,null,null,null,null,null,null,null,null,null,null,null,null,"/ Hour ",268]
[null,null,null,null,null,null,null,null,null,null,null,null,null,null,null,null,null,null,null,null,null,null,null,null,null,null,null,null,null,null,null,null,null,null,null,null,null,null,null,null,null,null,null,null,null,null,null,null,null,null,null,null,null,null,null,null,null,null,null,null,null,"/ Hour ",269]
[null,null,null,null,null,null,null,null,null,null,null,null,null,null,null,null,null,null,null,null,null,null,null,null,null,null,null,null,null,null,null,null,null,null,null,null,null,null,null,null,null,null,null,null,null,null,null,null,null,null,null,null,null,null,null,null,null,null,null,null,null,"/ Hour ",270]
[null,null,null,null,null,null,null,null,null,null,null,null,null,null,null,null,null,null,null,null,null,null,null,null,null,null,null,null,null,null,null,null,null,null,null,null,null,null,null,null,null,null,null,null,null,null,null,null,null,null,null,null,null,null,null,null,null,null,null,null,null,"/ Hour ",271]
[null,null,null,null,null,null,null,null,null,null,null,null,null,null,null,null,null,null,null,null,null,null,null,null,null,null,null,null,null,null,null,null,null,null,null,null,null,null,null,null,null,null,null,null,null,null,null,null,null,null,null,null,null,null,null,null,null,null,null,null,null,"/ Hour ",272]
[null,null,null,null,null,null,null,null,null,null,null,null,null,null,null,null,null,null,null,null,null,null,null,null,null,null,null,null,null,null,null,null,null,null,null,null,null,null,null,null,null,null,null,null,null,null,null,null,null,null,null,null,null,null,null,null,null,null,null,null,null,"/ Hour ",273]
[null,null,null,null,null,null,null,null,null,null,null,null,null,null,null,null,null,null,null,null,null,null,null,null,null,null,null,null,null,null,null,null,null,null,null,null,null,null,null,null,null,null,null,null,null,null,null,null,null,null,null,null,null,null,null,null,null,null,null,null,null,"/ Hour ",274]
[null,null,null,null,null,null,null,null,null,null,null,null,null,null,null,null,null,null,null,null,null,null,null,null,null,null,null,null,null,null,null,null,null,null,null,null,null,null,null,null,null,null,null,null,null,null,null,null,null,null,null,null,null,null,null,null,null,null,null,null,null,"/ Hour ",275]
[null,null,null,null,null,null,null,null,null,null,null,null,null,null,null,null,null,null,null,null,null,null,null,null,null,null,null,null,null,null,null,null,null,null,null,null,null,null,null,null,null,null,null,null,null,null,null,null,null,null,null,null,null,null,null,null,null,null,null,null,null,"/ Hour ",276]
[null,null,null,null,null,null,null,null,null,null,null,null,null,null,null,null,null,null,null,null,null,null,null,null,null,null,null,null,null,null,null,null,null,null,null,null,null,null,null,null,null,null,null,null,null,null,null,null,null,null,null,null,null,null,null,null,null,null,null,null,null,"/ Hour ",277]
[null,null,null,null,null,null,null,null,null,null,null,null,null,null,null,null,null,null,null,null,null,null,null,null,null,null,null,null,null,null,null,null,null,null,null,null,null,null,null,null,null,null,null,null,null,null,null,null,null,null,null,null,null,null,null,null,null,null,null,null,null,"/ Hour ",278]
[null,null,null,null,null,null,null,null,null,null,null,null,null,null,null,null,null,null,null,null,null,null,null,null,null,null,null,null,null,null,null,null,null,null,null,null,null,null,null,null,null,null,null,null,null,null,null,null,null,null,null,null,null,null,null,null,null,null,null,null,null,"/ Hour ",279]
[null,null,null,null,null,null,null,null,null,null,null,null,null,null,null,null,null,null,null,null,null,null,null,null,null,null,null,null,null,null,null,null,null,null,null,null,null,null,null,null,null,null,null,null,null,null,null,null,null,null,null,null,null,null,null,null,null,null,null,null,null,"/ Hour ",280]
[null,null,null,null,null,null,null,null,null,null,null,null,null,null,null,null,null,null,null,null,null,null,null,null,null,null,null,null,null,null,null,null,null,null,null,null,null,null,null,null,null,null,null,null,null,null,null,null,null,null,null,null,null,null,null,null,null,null,null,null,null,"/ Hour ",281]
[null,null,null,null,null,null,null,null,null,null,null,null,null,null,null,null,null,null,null,null,null,null,null,null,null,null,null,null,null,null,null,null,null,null,null,null,null,null,null,null,null,null,null,null,null,null,null,null,null,null,null,null,null,null,null,null,null,null,null,null,null,"/ Hour ",282]
[null,null,null,null,null,null,null,null,null,null,null,null,null,null,null,null,null,null,null,null,null,null,null,null,null,null,null,null,null,null,null,null,null,null,null,null,null,null,null,null,null,null,null,null,null,null,null,null,null,null,null,null,null,null,null,null,null,null,null,null,null,"/ Hour ",283]
[null,null,null,null,null,null,null,null,null,null,null,null,null,null,null,null,null,null,null,null,null,null,null,null,null,null,null,null,null,null,null,null,null,null,null,null,null,null,null,null,null,null,null,null,null,null,null,null,null,null,null,null,null,null,null,null,null,null,null,null,null,"/ Hour ",284]
[null,null,null,null,null,null,null,null,null,null,null,null,null,null,null,null,null,null,null,null,null,null,null,null,null,null,null,null,null,null,null,null,null,null,null,null,null,null,null,null,null,null,null,null,null,null,null,null,null,null,null,null,null,null,null,null,null,null,null,null,null,"/ Hour ",285]
[null,null,null,null,null,null,null,null,null,null,null,null,null,null,null,null,null,null,null,null,null,null,null,null,null,null,null,null,null,null,null,null,null,null,null,null,null,null,null,null,null,null,null,null,null,null,null,null,null,null,null,null,null,null,null,null,null,null,null,null,null,"/ Hour ",286]
[null,null,null,null,null,null,null,null,null,null,null,null,null,null,null,null,null,null,null,null,null,null,null,null,null,null,null,null,null,null,null,null,null,null,null,null,null,null,null,null,null,null,null,null,null,null,null,null,null,null,null,null,null,null,null,null,null,null,null,null,null,"/ Hour ",287]
[null,null,null,null,null,null,null,null,null,null,null,null,null,null,null,null,null,null,null,null,null,null,null,null,null,null,null,null,null,null,null,null,null,null,null,null,null,null,null,null,null,null,null,null,null,null,null,null,null,null,null,null,null,null,null,null,null,null,null,null,null,"/ Hour ",288]
[null,null,null,null,null,null,null,null,null,null,null,null,null,null,null,null,null,null,null,null,null,null,null,null,null,null,null,null,null,null,null,null,null,null,null,null,null,null,null,null,null,null,null,null,null,null,null,null,null,null,null,null,null,null,null,null,null,null,null,null,null,"/ Hour ",289]
[null,null,null,null,null,null,null,null,null,null,null,null,null,null,null,null,null,null,null,null,null,null,null,null,null,null,null,null,null,null,null,null,null,null,null,null,null,null,null,null,null,null,null,null,null,null,null,null,null,null,null,null,null,null,null,null,null,null,null,null,null,"/ Hour ",290]
[null,null,null,null,null,null,null,null,null,null,null,null,null,null,null,null,null,null,null,null,null,null,null,null,null,null,null,null,null,null,null,null,null,null,null,null,null,null,null,null,null,null,null,null,null,null,null,null,null,null,null,null,null,null,null,null,null,null,null,null,null,"/ Hour ",291]
[null,null,null,null,null,null,null,null,null,null,null,null,null,null,null,null,null,null,null,null,null,null,null,null,null,null,null,null,null,null,null,null,null,null,null,null,null,null,null,null,null,null,null,null,null,null,null,null,null,null,null,null,null,null,null,null,null,null,null,null,null,"/ Hour ",292]
[null,null,null,null,null,null,null,null,null,null,null,null,null,null,null,null,null,null,null,null,null,null,null,null,null,null,null,null,null,null,null,null,null,null,null,null,null,null,null,null,null,null,null,null,null,null,null,null,null,null,null,null,null,null,null,null,null,null,null,null,null,"/ Hour ",293]
[null,null,null,null,null,null,null,null,null,null,null,null,null,null,null,null,null,null,null,null,null,null,null,null,null,null,null,null,null,null,null,null,null,null,null,null,null,null,null,null,null,null,null,null,null,null,null,null,null,null,null,null,null,null,null,null,null,null,null,null,null,"/ Hour ",294]
[null,null,null,null,null,null,null,null,null,null,null,null,null,null,null,null,null,null,null,null,null,null,null,null,null,null,null,null,null,null,null,null,null,null,null,null,null,null,null,null,null,null,null,null,null,null,null,null,null,null,null,null,null,null,null,null,null,null,null,null,null,"/ Hour ",295]
[null,null,null,null,null,null,null,null,null,null,null,null,null,null,null,null,null,null,null,null,null,null,null,null,null,null,null,null,null,null,null,null,null,null,null,null,null,null,null,null,null,null,null,null,null,null,null,null,null,null,null,null,null,null,null,null,null,null,null,null,null,"/ Hour ",296]
[null,null,null,null,null,null,null,null,null,null,null,null,null,null,null,null,null,null,null,null,null,null,null,null,null,null,null,null,null,null,null,null,null,null,null,null,null,null,null,null,null,null,null,null,null,null,null,null,null,null,null,null,null,null,null,null,null,null,null,null,null,"/ Hour ",297]
[null,null,null,null,null,null,null,null,null,null,null,null,null,null,null,null,null,null,null,null,null,null,null,null,null,null,null,null,null,null,null,null,null,null,null,null,null,null,null,null,null,null,null,null,null,null,null,null,null,null,null,null,null,null,null,null,null,null,null,null,null,"/ Hour ",298]
[null,null,null,null,null,null,null,null,null,null,null,null,null,null,null,null,null,null,null,null,null,null,null,null,null,null,null,null,null,null,null,null,null,null,null,null,null,null,null,null,null,null,null,null,null,null,null,null,null,null,null,null,null,null,null,null,null,null,null,null,null,"/ Hour ",299]
[null,null,null,null,null,null,null,null,null,null,null,null,null,null,null,null,null,null,null,null,null,null,null,null,null,null,null,null,null,null,null,null,null,null,null,null,null,null,null,null,null,null,null,null,null,null,null,null,null,null,null,null,null,null,null,null,null,null,null,null,null,"/ Hour ",300]
[null,null,null,null,null,null,null,null,null,null,null,null,null,null,null,null,null,null,null,null,null,null,null,null,null,null,null,null,null,null,null,null,null,null,null,null,null,null,null,null,null,null,null,null,null,null,null,null,null,null,null,null,null,null,null,null,null,null,null,null,null,"/ Hour ",301]
[null,null,null,null,null,null,null,null,null,null,null,null,null,null,null,null,null,null,null,null,null,null,null,null,null,null,null,null,null,null,null,null,null,null,null,null,null,null,null,null,null,null,null,null,null,null,null,null,null,null,null,null,null,null,null,null,null,null,null,null,null,"/ Hour ",302]
[null,null,null,null,null,null,null,null,null,null,null,null,null,null,null,null,null,null,null,null,null,null,null,null,null,null,null,null,null,null,null,null,null,null,null,null,null,null,null,null,null,null,null,null,null,null,null,null,null,null,null,null,null,null,null,null,null,null,null,null,null,"/ Hour ",303]
[null,null,null,null,null,null,null,null,null,null,null,null,null,null,null,null,null,null,null,null,null,null,null,null,null,null,null,null,null,null,null,null,null,null,null,null,null,null,null,null,null,null,null,null,null,null,null,null,null,null,null,null,null,null,null,null,null,null,null,null,null,"/ Hour ",304]
[null,null,null,null,null,null,null,null,null,null,null,null,null,null,null,null,null,null,null,null,null,null,null,null,null,null,null,null,null,null,null,null,null,null,null,null,null,null,null,null,null,null,null,null,null,null,null,null,null,null,null,null,null,null,null,null,null,null,null,null,null,"/ Hour ",305]
[null,null,null,null,null,null,null,null,null,null,null,null,null,null,null,null,null,null,null,null,null,null,null,null,null,null,null,null,null,null,null,null,null,null,null,null,null,null,null,null,null,null,null,null,null,null,null,null,null,null,null,null,null,null,null,null,null,null,null,null,null,"/ Hour ",306]
[null,null,null,null,null,null,null,null,null,null,null,null,null,null,null,null,null,null,null,null,null,null,null,null,null,null,null,null,null,null,null,null,null,null,null,null,null,null,null,null,null,null,null,null,null,null,null,null,null,null,null,null,null,null,null,null,null,null,null,null,null,"/ Hour ",307]
[null,null,null,null,null,null,null,null,null,null,null,null,null,null,null,null,null,null,null,null,null,null,null,null,null,null,null,null,null,null,null,null,null,null,null,null,null,null,null,null,null,null,null,null,null,null,null,null,null,null,null,null,null,null,null,null,null,null,null,null,null,"/ Hour ",308]
[null,null,null,null,null,null,null,null,null,null,null,null,null,null,null,null,null,null,null,null,null,null,null,null,null,null,null,null,null,null,null,null,null,null,null,null,null,null,null,null,null,null,null,null,null,null,null,null,null,null,null,null,null,null,null,null,null,null,null,null,null,"/ Hour ",309]
[null,null,null,null,null,null,null,null,null,null,null,null,null,null,null,null,null,null,null,null,null,null,null,null,null,null,null,null,null,null,null,null,null,null,null,null,null,null,null,null,null,null,null,null,null,null,null,null,null,null,null,null,null,null,null,null,null,null,null,null,null,"/ Hour ",310]
[null,null,null,null,null,null,null,null,null,null,null,null,null,null,null,null,null,null,null,null,null,null,null,null,null,null,null,null,null,null,null,null,null,null,null,null,null,null,null,null,null,null,null,null,null,null,null,null,null,null,null,null,null,null,null,null,null,null,null,null,null,"/ Hour ",311]
[null,null,null,null,null,null,null,null,null,null,null,null,null,null,null,null,null,null,null,null,null,null,null,null,null,null,null,null,null,null,null,null,null,null,null,null,null,null,null,null,null,null,null,null,null,null,null,null,null,null,null,null,null,null,null,null,null,null,null,null,null,"/ Hour ",312]
[null,null,null,null,null,null,null,null,null,null,null,null,null,null,null,null,null,null,null,null,null,null,null,null,null,null,null,null,null,null,null,null,null,null,null,null,null,null,null,null,null,null,null,null,null,null,null,null,null,null,null,null,null,null,null,null,null,null,null,null,null,"/ Hour ",313]
[null,null,null,null,null,null,null,null,null,null,null,null,null,null,null,null,null,null,null,null,null,null,null,null,null,null,null,null,null,null,null,null,null,null,null,null,null,null,null,null,null,null,null,null,null,null,null,null,null,null,null,null,null,null,null,null,null,null,null,null,null,"/ Hour ",314]
[null,null,null,null,null,null,null,null,null,null,null,null,null,null,null,null,null,null,null,null,null,null,null,null,null,null,null,null,null,null,null,null,null,null,null,null,null,null,null,null,null,null,null,null,null,null,null,null,null,null,null,null,null,null,null,null,null,null,null,null,null,"/ Hour ",315]
[null,null,null,null,null,null,null,null,null,null,null,null,null,null,null,null,null,null,null,null,null,null,null,null,null,null,null,null,null,null,null,null,null,null,null,null,null,null,null,null,null,null,null,null,null,null,null,null,null,null,null,null,null,null,null,null,null,null,null,null,null,"/ Hour ",316]
[null,null,null,null,null,null,null,null,null,null,null,null,null,null,null,null,null,null,null,null,null,null,null,null,null,null,null,null,null,null,null,null,null,null,null,null,null,null,null,null,null,null,null,null,null,null,null,null,null,null,null,null,null,null,null,null,null,null,null,null,null,"/ Hour ",317]
[null,null,null,null,null,null,null,null,null,null,null,null,null,null,null,null,null,null,null,null,null,null,null,null,null,null,null,null,null,null,null,null,null,null,null,null,null,null,null,null,null,null,null,null,null,null,null,null,null,null,null,null,null,null,null,null,null,null,null,null,null,"/ Hour ",318]
[null,null,null,null,null,null,null,null,null,null,null,null,null,null,null,null,null,null,null,null,null,null,null,null,null,null,null,null,null,null,null,null,null,null,null,null,null,null,null,null,null,null,null,null,null,null,null,null,null,null,null,null,null,null,null,null,null,null,null,null,null,"/ Hour ",319]
[null,null,null,null,null,null,null,null,null,null,null,null,null,null,null,null,null,null,null,null,null,null,null,null,null,null,null,null,null,null,null,null,null,null,null,null,null,null,null,null,null,null,null,null,null,null,null,null,null,null,null,null,null,null,null,null,null,null,null,null,null,"/ Hour ",320]
[null,null,null,null,null,null,null,null,null,null,null,null,null,null,null,null,null,null,null,null,null,null,null,null,null,null,null,null,null,null,null,null,null,null,null,null,null,null,null,null,null,null,null,null,null,null,null,null,null,null,null,null,null,null,null,null,null,null,null,null,null,"/ Hour ",321]
[null,null,null,null,null,null,null,null,null,null,null,null,null,null,null,null,null,null,null,null,null,null,null,null,null,null,null,null,null,null,null,null,null,null,null,null,null,null,null,null,null,null,null,null,null,null,null,null,null,null,null,null,null,null,null,null,null,null,null,null,null,{"$f":"A332&\"/\"&B332&\" Hour \"&C332","v":"/ Hour "},{"$f":"ROW()-ROW($BK$10)","v":322}]
[null,null,null,null,null,null,null,null,null,null,null,null,null,null,null,null,null,null,null,null,null,null,null,null,null,null,null,null,null,null,null,null,null,null,null,null,null,null,null,null,null,null,null,null,null,null,null,null,null,null,null,null,null,null,null,null,null,null,null,null,null,"/ Hour ",323]
[null,null,null,null,null,null,null,null,null,null,null,null,null,null,null,null,null,null,null,null,null,null,null,null,null,null,null,null,null,null,null,null,null,null,null,null,null,null,null,null,null,null,null,null,null,null,null,null,null,null,null,null,null,null,null,null,null,null,null,null,null,"/ Hour ",324]
[null,null,null,null,null,null,null,null,null,null,null,null,null,null,null,null,null,null,null,null,null,null,null,null,null,null,null,null,null,null,null,null,null,null,null,null,null,null,null,null,null,null,null,null,null,null,null,null,null,null,null,null,null,null,null,null,null,null,null,null,null,"/ Hour ",325]
[null,null,null,null,null,null,null,null,null,null,null,null,null,null,null,null,null,null,null,null,null,null,null,null,null,null,null,null,null,null,null,null,null,null,null,null,null,null,null,null,null,null,null,null,null,null,null,null,null,null,null,null,null,null,null,null,null,null,null,null,null,"/ Hour ",326]
[null,null,null,null,null,null,null,null,null,null,null,null,null,null,null,null,null,null,null,null,null,null,null,null,null,null,null,null,null,null,null,null,null,null,null,null,null,null,null,null,null,null,null,null,null,null,null,null,null,null,null,null,null,null,null,null,null,null,null,null,null,"/ Hour ",327]
[null,null,null,null,null,null,null,null,null,null,null,null,null,null,null,null,null,null,null,null,null,null,null,null,null,null,null,null,null,null,null,null,null,null,null,null,null,null,null,null,null,null,null,null,null,null,null,null,null,null,null,null,null,null,null,null,null,null,null,null,null,"/ Hour ",328]
[null,null,null,null,null,null,null,null,null,null,null,null,null,null,null,null,null,null,null,null,null,null,null,null,null,null,null,null,null,null,null,null,null,null,null,null,null,null,null,null,null,null,null,null,null,null,null,null,null,null,null,null,null,null,null,null,null,null,null,null,null,"/ Hour ",329]
[null,null,null,null,null,null,null,null,null,null,null,null,null,null,null,null,null,null,null,null,null,null,null,null,null,null,null,null,null,null,null,null,null,null,null,null,null,null,null,null,null,null,null,null,null,null,null,null,null,null,null,null,null,null,null,null,null,null,null,null,null,"/ Hour ",330]
[null,null,null,null,null,null,null,null,null,null,null,null,null,null,null,null,null,null,null,null,null,null,null,null,null,null,null,null,null,null,null,null,null,null,null,null,null,null,null,null,null,null,null,null,null,null,null,null,null,null,null,null,null,null,null,null,null,null,null,null,null,"/ Hour ",331]
[null,null,null,null,null,null,null,null,null,null,null,null,null,null,null,null,null,null,null,null,null,null,null,null,null,null,null,null,null,null,null,null,null,null,null,null,null,null,null,null,null,null,null,null,null,null,null,null,null,null,null,null,null,null,null,null,null,null,null,null,null,"/ Hour ",332]
[null,null,null,null,null,null,null,null,null,null,null,null,null,null,null,null,null,null,null,null,null,null,null,null,null,null,null,null,null,null,null,null,null,null,null,null,null,null,null,null,null,null,null,null,null,null,null,null,null,null,null,null,null,null,null,null,null,null,null,null,null,"/ Hour ",333]
[null,null,null,null,null,null,null,null,null,null,null,null,null,null,null,null,null,null,null,null,null,null,null,null,null,null,null,null,null,null,null,null,null,null,null,null,null,null,null,null,null,null,null,null,null,null,null,null,null,null,null,null,null,null,null,null,null,null,null,null,null,"/ Hour ",334]
[null,null,null,null,null,null,null,null,null,null,null,null,null,null,null,null,null,null,null,null,null,null,null,null,null,null,null,null,null,null,null,null,null,null,null,null,null,null,null,null,null,null,null,null,null,null,null,null,null,null,null,null,null,null,null,null,null,null,null,null,null,"/ Hour ",335]
[null,null,null,null,null,null,null,null,null,null,null,null,null,null,null,null,null,null,null,null,null,null,null,null,null,null,null,null,null,null,null,null,null,null,null,null,null,null,null,null,null,null,null,null,null,null,null,null,null,null,null,null,null,null,null,null,null,null,null,null,null,"/ Hour ",336]
[null,null,null,null,null,null,null,null,null,null,null,null,null,null,null,null,null,null,null,null,null,null,null,null,null,null,null,null,null,null,null,null,null,null,null,null,null,null,null,null,null,null,null,null,null,null,null,null,null,null,null,null,null,null,null,null,null,null,null,null,null,"/ Hour ",337]
[null,null,null,null,null,null,null,null,null,null,null,null,null,null,null,null,null,null,null,null,null,null,null,null,null,null,null,null,null,null,null,null,null,null,null,null,null,null,null,null,null,null,null,null,null,null,null,null,null,null,null,null,null,null,null,null,null,null,null,null,null,"/ Hour ",338]
[null,null,null,null,null,null,null,null,null,null,null,null,null,null,null,null,null,null,null,null,null,null,null,null,null,null,null,null,null,null,null,null,null,null,null,null,null,null,null,null,null,null,null,null,null,null,null,null,null,null,null,null,null,null,null,null,null,null,null,null,null,"/ Hour ",339]
[null,null,null,null,null,null,null,null,null,null,null,null,null,null,null,null,null,null,null,null,null,null,null,null,null,null,null,null,null,null,null,null,null,null,null,null,null,null,null,null,null,null,null,null,null,null,null,null,null,null,null,null,null,null,null,null,null,null,null,null,null,"/ Hour ",340]
[null,null,null,null,null,null,null,null,null,null,null,null,null,null,null,null,null,null,null,null,null,null,null,null,null,null,null,null,null,null,null,null,null,null,null,null,null,null,null,null,null,null,null,null,null,null,null,null,null,null,null,null,null,null,null,null,null,null,null,null,null,"/ Hour ",341]
[null,null,null,null,null,null,null,null,null,null,null,null,null,null,null,null,null,null,null,null,null,null,null,null,null,null,null,null,null,null,null,null,null,null,null,null,null,null,null,null,null,null,null,null,null,null,null,null,null,null,null,null,null,null,null,null,null,null,null,null,null,"/ Hour ",342]
[null,null,null,null,null,null,null,null,null,null,null,null,null,null,null,null,null,null,null,null,null,null,null,null,null,null,null,null,null,null,null,null,null,null,null,null,null,null,null,null,null,null,null,null,null,null,null,null,null,null,null,null,null,null,null,null,null,null,null,null,null,"/ Hour ",343]
[null,null,null,null,null,null,null,null,null,null,null,null,null,null,null,null,null,null,null,null,null,null,null,null,null,null,null,null,null,null,null,null,null,null,null,null,null,null,null,null,null,null,null,null,null,null,null,null,null,null,null,null,null,null,null,null,null,null,null,null,null,"/ Hour ",344]
[null,null,null,null,null,null,null,null,null,null,null,null,null,null,null,null,null,null,null,null,null,null,null,null,null,null,null,null,null,null,null,null,null,null,null,null,null,null,null,null,null,null,null,null,null,null,null,null,null,null,null,null,null,null,null,null,null,null,null,null,null,"/ Hour ",345]
[null,null,null,null,null,null,null,null,null,null,null,null,null,null,null,null,null,null,null,null,null,null,null,null,null,null,null,null,null,null,null,null,null,null,null,null,null,null,null,null,null,null,null,null,null,null,null,null,null,null,null,null,null,null,null,null,null,null,null,null,null,"/ Hour ",346]
[null,null,null,null,null,null,null,null,null,null,null,null,null,null,null,null,null,null,null,null,null,null,null,null,null,null,null,null,null,null,null,null,null,null,null,null,null,null,null,null,null,null,null,null,null,null,null,null,null,null,null,null,null,null,null,null,null,null,null,null,null,"/ Hour ",347]
[null,null,null,null,null,null,null,null,null,null,null,null,null,null,null,null,null,null,null,null,null,null,null,null,null,null,null,null,null,null,null,null,null,null,null,null,null,null,null,null,null,null,null,null,null,null,null,null,null,null,null,null,null,null,null,null,null,null,null,null,null,"/ Hour ",348]
[null,null,null,null,null,null,null,null,null,null,null,null,null,null,null,null,null,null,null,null,null,null,null,null,null,null,null,null,null,null,null,null,null,null,null,null,null,null,null,null,null,null,null,null,null,null,null,null,null,null,null,null,null,null,null,null,null,null,null,null,null,"/ Hour ",349]
[null,null,null,null,null,null,null,null,null,null,null,null,null,null,null,null,null,null,null,null,null,null,null,null,null,null,null,null,null,null,null,null,null,null,null,null,null,null,null,null,null,null,null,null,null,null,null,null,null,null,null,null,null,null,null,null,null,null,null,null,null,"/ Hour ",350]
[null,null,null,null,null,null,null,null,null,null,null,null,null,null,null,null,null,null,null,null,null,null,null,null,null,null,null,null,null,null,null,null,null,null,null,null,null,null,null,null,null,null,null,null,null,null,null,null,null,null,null,null,null,null,null,null,null,null,null,null,null,"/ Hour ",351]
[null,null,null,null,null,null,null,null,null,null,null,null,null,null,null,null,null,null,null,null,null,null,null,null,null,null,null,null,null,null,null,null,null,null,null,null,null,null,null,null,null,null,null,null,null,null,null,null,null,null,null,null,null,null,null,null,null,null,null,null,null,"/ Hour ",352]
[null,null,null,null,null,null,null,null,null,null,null,null,null,null,null,null,null,null,null,null,null,null,null,null,null,null,null,null,null,null,null,null,null,null,null,null,null,null,null,null,null,null,null,null,null,null,null,null,null,null,null,null,null,null,null,null,null,null,null,null,null,"/ Hour ",353]
[null,null,null,null,null,null,null,null,null,null,null,null,null,null,null,null,null,null,null,null,null,null,null,null,null,null,null,null,null,null,null,null,null,null,null,null,null,null,null,null,null,null,null,null,null,null,null,null,null,null,null,null,null,null,null,null,null,null,null,null,null,"/ Hour ",354]
[null,null,null,null,null,null,null,null,null,null,null,null,null,null,null,null,null,null,null,null,null,null,null,null,null,null,null,null,null,null,null,null,null,null,null,null,null,null,null,null,null,null,null,null,null,null,null,null,null,null,null,null,null,null,null,null,null,null,null,null,null,"/ Hour ",355]
[null,null,null,null,null,null,null,null,null,null,null,null,null,null,null,null,null,null,null,null,null,null,null,null,null,null,null,null,null,null,null,null,null,null,null,null,null,null,null,null,null,null,null,null,null,null,null,null,null,null,null,null,null,null,null,null,null,null,null,null,null,"/ Hour ",356]
[null,null,null,null,null,null,null,null,null,null,null,null,null,null,null,null,null,null,null,null,null,null,null,null,null,null,null,null,null,null,null,null,null,null,null,null,null,null,null,null,null,null,null,null,null,null,null,null,null,null,null,null,null,null,null,null,null,null,null,null,null,"/ Hour ",357]
[null,null,null,null,null,null,null,null,null,null,null,null,null,null,null,null,null,null,null,null,null,null,null,null,null,null,null,null,null,null,null,null,null,null,null,null,null,null,null,null,null,null,null,null,null,null,null,null,null,null,null,null,null,null,null,null,null,null,null,null,null,"/ Hour ",358]
[null,null,null,null,null,null,null,null,null,null,null,null,null,null,null,null,null,null,null,null,null,null,null,null,null,null,null,null,null,null,null,null,null,null,null,null,null,null,null,null,null,null,null,null,null,null,null,null,null,null,null,null,null,null,null,null,null,null,null,null,null,"/ Hour ",359]
[null,null,null,null,null,null,null,null,null,null,null,null,null,null,null,null,null,null,null,null,null,null,null,null,null,null,null,null,null,null,null,null,null,null,null,null,null,null,null,null,null,null,null,null,null,null,null,null,null,null,null,null,null,null,null,null,null,null,null,null,null,"/ Hour ",360]
[null,null,null,null,null,null,null,null,null,null,null,null,null,null,null,null,null,null,null,null,null,null,null,null,null,null,null,null,null,null,null,null,null,null,null,null,null,null,null,null,null,null,null,null,null,null,null,null,null,null,null,null,null,null,null,null,null,null,null,null,null,"/ Hour ",361]
[null,null,null,null,null,null,null,null,null,null,null,null,null,null,null,null,null,null,null,null,null,null,null,null,null,null,null,null,null,null,null,null,null,null,null,null,null,null,null,null,null,null,null,null,null,null,null,null,null,null,null,null,null,null,null,null,null,null,null,null,null,"/ Hour ",362]
[null,null,null,null,null,null,null,null,null,null,null,null,null,null,null,null,null,null,null,null,null,null,null,null,null,null,null,null,null,null,null,null,null,null,null,null,null,null,null,null,null,null,null,null,null,null,null,null,null,null,null,null,null,null,null,null,null,null,null,null,null,"/ Hour ",363]
[null,null,null,null,null,null,null,null,null,null,null,null,null,null,null,null,null,null,null,null,null,null,null,null,null,null,null,null,null,null,null,null,null,null,null,null,null,null,null,null,null,null,null,null,null,null,null,null,null,null,null,null,null,null,null,null,null,null,null,null,null,"/ Hour ",364]
[null,null,null,null,null,null,null,null,null,null,null,null,null,null,null,null,null,null,null,null,null,null,null,null,null,null,null,null,null,null,null,null,null,null,null,null,null,null,null,null,null,null,null,null,null,null,null,null,null,null,null,null,null,null,null,null,null,null,null,null,null,"/ Hour ",365]
[null,null,null,null,null,null,null,null,null,null,null,null,null,null,null,null,null,null,null,null,null,null,null,null,null,null,null,null,null,null,null,null,null,null,null,null,null,null,null,null,null,null,null,null,null,null,null,null,null,null,null,null,null,null,null,null,null,null,null,null,null,"/ Hour ",366]
[null,null,null,null,null,null,null,null,null,null,null,null,null,null,null,null,null,null,null,null,null,null,null,null,null,null,null,null,null,null,null,null,null,null,null,null,null,null,null,null,null,null,null,null,null,null,null,null,null,null,null,null,null,null,null,null,null,null,null,null,null,"/ Hour ",367]
[null,null,null,null,null,null,null,null,null,null,null,null,null,null,null,null,null,null,null,null,null,null,null,null,null,null,null,null,null,null,null,null,null,null,null,null,null,null,null,null,null,null,null,null,null,null,null,null,null,null,null,null,null,null,null,null,null,null,null,null,null,"/ Hour ",368]
[null,null,null,null,null,null,null,null,null,null,null,null,null,null,null,null,null,null,null,null,null,null,null,null,null,null,null,null,null,null,null,null,null,null,null,null,null,null,null,null,null,null,null,null,null,null,null,null,null,null,null,null,null,null,null,null,null,null,null,null,null,"/ Hour ",369]
[null,null,null,null,null,null,null,null,null,null,null,null,null,null,null,null,null,null,null,null,null,null,null,null,null,null,null,null,null,null,null,null,null,null,null,null,null,null,null,null,null,null,null,null,null,null,null,null,null,null,null,null,null,null,null,null,null,null,null,null,null,"/ Hour ",370]
[null,null,null,null,null,null,null,null,null,null,null,null,null,null,null,null,null,null,null,null,null,null,null,null,null,null,null,null,null,null,null,null,null,null,null,null,null,null,null,null,null,null,null,null,null,null,null,null,null,null,null,null,null,null,null,null,null,null,null,null,null,"/ Hour ",371]
[null,null,null,null,null,null,null,null,null,null,null,null,null,null,null,null,null,null,null,null,null,null,null,null,null,null,null,null,null,null,null,null,null,null,null,null,null,null,null,null,null,null,null,null,null,null,null,null,null,null,null,null,null,null,null,null,null,null,null,null,null,"/ Hour ",372]
[null,null,null,null,null,null,null,null,null,null,null,null,null,null,null,null,null,null,null,null,null,null,null,null,null,null,null,null,null,null,null,null,null,null,null,null,null,null,null,null,null,null,null,null,null,null,null,null,null,null,null,null,null,null,null,null,null,null,null,null,null,"/ Hour ",373]
[null,null,null,null,null,null,null,null,null,null,null,null,null,null,null,null,null,null,null,null,null,null,null,null,null,null,null,null,null,null,null,null,null,null,null,null,null,null,null,null,null,null,null,null,null,null,null,null,null,null,null,null,null,null,null,null,null,null,null,null,null,"/ Hour ",374]
[null,null,null,null,null,null,null,null,null,null,null,null,null,null,null,null,null,null,null,null,null,null,null,null,null,null,null,null,null,null,null,null,null,null,null,null,null,null,null,null,null,null,null,null,null,null,null,null,null,null,null,null,null,null,null,null,null,null,null,null,null,"/ Hour ",375]
[null,null,null,null,null,null,null,null,null,null,null,null,null,null,null,null,null,null,null,null,null,null,null,null,null,null,null,null,null,null,null,null,null,null,null,null,null,null,null,null,null,null,null,null,null,null,null,null,null,null,null,null,null,null,null,null,null,null,null,null,null,"/ Hour ",376]
[null,null,null,null,null,null,null,null,null,null,null,null,null,null,null,null,null,null,null,null,null,null,null,null,null,null,null,null,null,null,null,null,null,null,null,null,null,null,null,null,null,null,null,null,null,null,null,null,null,null,null,null,null,null,null,null,null,null,null,null,null,"/ Hour ",377]
[null,null,null,null,null,null,null,null,null,null,null,null,null,null,null,null,null,null,null,null,null,null,null,null,null,null,null,null,null,null,null,null,null,null,null,null,null,null,null,null,null,null,null,null,null,null,null,null,null,null,null,null,null,null,null,null,null,null,null,null,null,"/ Hour ",378]
[null,null,null,null,null,null,null,null,null,null,null,null,null,null,null,null,null,null,null,null,null,null,null,null,null,null,null,null,null,null,null,null,null,null,null,null,null,null,null,null,null,null,null,null,null,null,null,null,null,null,null,null,null,null,null,null,null,null,null,null,null,"/ Hour ",379]
[null,null,null,null,null,null,null,null,null,null,null,null,null,null,null,null,null,null,null,null,null,null,null,null,null,null,null,null,null,null,null,null,null,null,null,null,null,null,null,null,null,null,null,null,null,null,null,null,null,null,null,null,null,null,null,null,null,null,null,null,null,"/ Hour ",380]
[null,null,null,null,null,null,null,null,null,null,null,null,null,null,null,null,null,null,null,null,null,null,null,null,null,null,null,null,null,null,null,null,null,null,null,null,null,null,null,null,null,null,null,null,null,null,null,null,null,null,null,null,null,null,null,null,null,null,null,null,null,"/ Hour ",381]
[null,null,null,null,null,null,null,null,null,null,null,null,null,null,null,null,null,null,null,null,null,null,null,null,null,null,null,null,null,null,null,null,null,null,null,null,null,null,null,null,null,null,null,null,null,null,null,null,null,null,null,null,null,null,null,null,null,null,null,null,null,"/ Hour ",382]
[null,null,null,null,null,null,null,null,null,null,null,null,null,null,null,null,null,null,null,null,null,null,null,null,null,null,null,null,null,null,null,null,null,null,null,null,null,null,null,null,null,null,null,null,null,null,null,null,null,null,null,null,null,null,null,null,null,null,null,null,null,"/ Hour ",383]
[null,null,null,null,null,null,null,null,null,null,null,null,null,null,null,null,null,null,null,null,null,null,null,null,null,null,null,null,null,null,null,null,null,null,null,null,null,null,null,null,null,null,null,null,null,null,null,null,null,null,null,null,null,null,null,null,null,null,null,null,null,"/ Hour ",384]
[null,null,null,null,null,null,null,null,null,null,null,null,null,null,null,null,null,null,null,null,null,null,null,null,null,null,null,null,null,null,null,null,null,null,null,null,null,null,null,null,null,null,null,null,null,null,null,null,null,null,null,null,null,null,null,null,null,null,null,null,null,"/ Hour ",385]
[null,null,null,null,null,null,null,null,null,null,null,null,null,null,null,null,null,null,null,null,null,null,null,null,null,null,null,null,null,null,null,null,null,null,null,null,null,null,null,null,null,null,null,null,null,null,null,null,null,null,null,null,null,null,null,null,null,null,null,null,null,{"$f":"A396&\"/\"&B396&\" Hour \"&C396","v":"/ Hour "},{"$f":"ROW()-ROW($BK$10)","v":386}]
[null,null,null,null,null,null,null,null,null,null,null,null,null,null,null,null,null,null,null,null,null,null,null,null,null,null,null,null,null,null,null,null,null,null,null,null,null,null,null,null,null,null,null,null,null,null,null,null,null,null,null,null,null,null,null,null,null,null,null,null,null,"/ Hour ",387]
[null,null,null,null,null,null,null,null,null,null,null,null,null,null,null,null,null,null,null,null,null,null,null,null,null,null,null,null,null,null,null,null,null,null,null,null,null,null,null,null,null,null,null,null,null,null,null,null,null,null,null,null,null,null,null,null,null,null,null,null,null,"/ Hour ",388]
[null,null,null,null,null,null,null,null,null,null,null,null,null,null,null,null,null,null,null,null,null,null,null,null,null,null,null,null,null,null,null,null,null,null,null,null,null,null,null,null,null,null,null,null,null,null,null,null,null,null,null,null,null,null,null,null,null,null,null,null,null,"/ Hour ",389]
[null,null,null,null,null,null,null,null,null,null,null,null,null,null,null,null,null,null,null,null,null,null,null,null,null,null,null,null,null,null,null,null,null,null,null,null,null,null,null,null,null,null,null,null,null,null,null,null,null,null,null,null,null,null,null,null,null,null,null,null,null,"/ Hour ",390]
[null,null,null,null,null,null,null,null,null,null,null,null,null,null,null,null,null,null,null,null,null,null,null,null,null,null,null,null,null,null,null,null,null,null,null,null,null,null,null,null,null,null,null,null,null,null,null,null,null,null,null,null,null,null,null,null,null,null,null,null,null,"/ Hour ",391]
[null,null,null,null,null,null,null,null,null,null,null,null,null,null,null,null,null,null,null,null,null,null,null,null,null,null,null,null,null,null,null,null,null,null,null,null,null,null,null,null,null,null,null,null,null,null,null,null,null,null,null,null,null,null,null,null,null,null,null,null,null,"/ Hour ",392]
[null,null,null,null,null,null,null,null,null,null,null,null,null,null,null,null,null,null,null,null,null,null,null,null,null,null,null,null,null,null,null,null,null,null,null,null,null,null,null,null,null,null,null,null,null,null,null,null,null,null,null,null,null,null,null,null,null,null,null,null,null,"/ Hour ",393]
[null,null,null,null,null,null,null,null,null,null,null,null,null,null,null,null,null,null,null,null,null,null,null,null,null,null,null,null,null,null,null,null,null,null,null,null,null,null,null,null,null,null,null,null,null,null,null,null,null,null,null,null,null,null,null,null,null,null,null,null,null,"/ Hour ",394]
[null,null,null,null,null,null,null,null,null,null,null,null,null,null,null,null,null,null,null,null,null,null,null,null,null,null,null,null,null,null,null,null,null,null,null,null,null,null,null,null,null,null,null,null,null,null,null,null,null,null,null,null,null,null,null,null,null,null,null,null,null,"/ Hour ",395]
[null,null,null,null,null,null,null,null,null,null,null,null,null,null,null,null,null,null,null,null,null,null,null,null,null,null,null,null,null,null,null,null,null,null,null,null,null,null,null,null,null,null,null,null,null,null,null,null,null,null,null,null,null,null,null,null,null,null,null,null,null,"/ Hour ",396]
[null,null,null,null,null,null,null,null,null,null,null,null,null,null,null,null,null,null,null,null,null,null,null,null,null,null,null,null,null,null,null,null,null,null,null,null,null,null,null,null,null,null,null,null,null,null,null,null,null,null,null,null,null,null,null,null,null,null,null,null,null,"/ Hour ",397]
[null,null,null,null,null,null,null,null,null,null,null,null,null,null,null,null,null,null,null,null,null,null,null,null,null,null,null,null,null,null,null,null,null,null,null,null,null,null,null,null,null,null,null,null,null,null,null,null,null,null,null,null,null,null,null,null,null,null,null,null,null,"/ Hour ",398]
[null,null,null,null,null,null,null,null,null,null,null,null,null,null,null,null,null,null,null,null,null,null,null,null,null,null,null,null,null,null,null,null,null,null,null,null,null,null,null,null,null,null,null,null,null,null,null,null,null,null,null,null,null,null,null,null,null,null,null,null,null,"/ Hour ",399]
[null,null,null,null,null,null,null,null,null,null,null,null,null,null,null,null,null,null,null,null,null,null,null,null,null,null,null,null,null,null,null,null,null,null,null,null,null,null,null,null,null,null,null,null,null,null,null,null,null,null,null,null,null,null,null,null,null,null,null,null,null,"/ Hour ",400]
[null,null,null,null,null,null,null,null,null,null,null,null,null,null,null,null,null,null,null,null,null,null,null,null,null,null,null,null,null,null,null,null,null,null,null,null,null,null,null,null,null,null,null,null,null,null,null,null,null,null,null,null,null,null,null,null,null,null,null,null,null,"/ Hour ",401]
[null,null,null,null,null,null,null,null,null,null,null,null,null,null,null,null,null,null,null,null,null,null,null,null,null,null,null,null,null,null,null,null,null,null,null,null,null,null,null,null,null,null,null,null,null,null,null,null,null,null,null,null,null,null,null,null,null,null,null,null,null,"/ Hour ",402]
[null,null,null,null,null,null,null,null,null,null,null,null,null,null,null,null,null,null,null,null,null,null,null,null,null,null,null,null,null,null,null,null,null,null,null,null,null,null,null,null,null,null,null,null,null,null,null,null,null,null,null,null,null,null,null,null,null,null,null,null,null,"/ Hour ",403]
[null,null,null,null,null,null,null,null,null,null,null,null,null,null,null,null,null,null,null,null,null,null,null,null,null,null,null,null,null,null,null,null,null,null,null,null,null,null,null,null,null,null,null,null,null,null,null,null,null,null,null,null,null,null,null,null,null,null,null,null,null,"/ Hour ",404]
[null,null,null,null,null,null,null,null,null,null,null,null,null,null,null,null,null,null,null,null,null,null,null,null,null,null,null,null,null,null,null,null,null,null,null,null,null,null,null,null,null,null,null,null,null,null,null,null,null,null,null,null,null,null,null,null,null,null,null,null,null,"/ Hour ",405]
[null,null,null,null,null,null,null,null,null,null,null,null,null,null,null,null,null,null,null,null,null,null,null,null,null,null,null,null,null,null,null,null,null,null,null,null,null,null,null,null,null,null,null,null,null,null,null,null,null,null,null,null,null,null,null,null,null,null,null,null,null,"/ Hour ",406]
[null,null,null,null,null,null,null,null,null,null,null,null,null,null,null,null,null,null,null,null,null,null,null,null,null,null,null,null,null,null,null,null,null,null,null,null,null,null,null,null,null,null,null,null,null,null,null,null,null,null,null,null,null,null,null,null,null,null,null,null,null,"/ Hour ",407]
[null,null,null,null,null,null,null,null,null,null,null,null,null,null,null,null,null,null,null,null,null,null,null,null,null,null,null,null,null,null,null,null,null,null,null,null,null,null,null,null,null,null,null,null,null,null,null,null,null,null,null,null,null,null,null,null,null,null,null,null,null,"/ Hour ",408]
[null,null,null,null,null,null,null,null,null,null,null,null,null,null,null,null,null,null,null,null,null,null,null,null,null,null,null,null,null,null,null,null,null,null,null,null,null,null,null,null,null,null,null,null,null,null,null,null,null,null,null,null,null,null,null,null,null,null,null,null,null,"/ Hour ",409]
[null,null,null,null,null,null,null,null,null,null,null,null,null,null,null,null,null,null,null,null,null,null,null,null,null,null,null,null,null,null,null,null,null,null,null,null,null,null,null,null,null,null,null,null,null,null,null,null,null,null,null,null,null,null,null,null,null,null,null,null,null,"/ Hour ",410]
[null,null,null,null,null,null,null,null,null,null,null,null,null,null,null,null,null,null,null,null,null,null,null,null,null,null,null,null,null,null,null,null,null,null,null,null,null,null,null,null,null,null,null,null,null,null,null,null,null,null,null,null,null,null,null,null,null,null,null,null,null,"/ Hour ",411]
[null,null,null,null,null,null,null,null,null,null,null,null,null,null,null,null,null,null,null,null,null,null,null,null,null,null,null,null,null,null,null,null,null,null,null,null,null,null,null,null,null,null,null,null,null,null,null,null,null,null,null,null,null,null,null,null,null,null,null,null,null,"/ Hour ",412]
[null,null,null,null,null,null,null,null,null,null,null,null,null,null,null,null,null,null,null,null,null,null,null,null,null,null,null,null,null,null,null,null,null,null,null,null,null,null,null,null,null,null,null,null,null,null,null,null,null,null,null,null,null,null,null,null,null,null,null,null,null,"/ Hour ",413]
[null,null,null,null,null,null,null,null,null,null,null,null,null,null,null,null,null,null,null,null,null,null,null,null,null,null,null,null,null,null,null,null,null,null,null,null,null,null,null,null,null,null,null,null,null,null,null,null,null,null,null,null,null,null,null,null,null,null,null,null,null,"/ Hour ",414]
[null,null,null,null,null,null,null,null,null,null,null,null,null,null,null,null,null,null,null,null,null,null,null,null,null,null,null,null,null,null,null,null,null,null,null,null,null,null,null,null,null,null,null,null,null,null,null,null,null,null,null,null,null,null,null,null,null,null,null,null,null,"/ Hour ",415]
[null,null,null,null,null,null,null,null,null,null,null,null,null,null,null,null,null,null,null,null,null,null,null,null,null,null,null,null,null,null,null,null,null,null,null,null,null,null,null,null,null,null,null,null,null,null,null,null,null,null,null,null,null,null,null,null,null,null,null,null,null,"/ Hour ",416]
[null,null,null,null,null,null,null,null,null,null,null,null,null,null,null,null,null,null,null,null,null,null,null,null,null,null,null,null,null,null,null,null,null,null,null,null,null,null,null,null,null,null,null,null,null,null,null,null,null,null,null,null,null,null,null,null,null,null,null,null,null,"/ Hour ",417]
[null,null,null,null,null,null,null,null,null,null,null,null,null,null,null,null,null,null,null,null,null,null,null,null,null,null,null,null,null,null,null,null,null,null,null,null,null,null,null,null,null,null,null,null,null,null,null,null,null,null,null,null,null,null,null,null,null,null,null,null,null,"/ Hour ",418]
[null,null,null,null,null,null,null,null,null,null,null,null,null,null,null,null,null,null,null,null,null,null,null,null,null,null,null,null,null,null,null,null,null,null,null,null,null,null,null,null,null,null,null,null,null,null,null,null,null,null,null,null,null,null,null,null,null,null,null,null,null,"/ Hour ",419]
[null,null,null,null,null,null,null,null,null,null,null,null,null,null,null,null,null,null,null,null,null,null,null,null,null,null,null,null,null,null,null,null,null,null,null,null,null,null,null,null,null,null,null,null,null,null,null,null,null,null,null,null,null,null,null,null,null,null,null,null,null,"/ Hour ",420]
[null,null,null,null,null,null,null,null,null,null,null,null,null,null,null,null,null,null,null,null,null,null,null,null,null,null,null,null,null,null,null,null,null,null,null,null,null,null,null,null,null,null,null,null,null,null,null,null,null,null,null,null,null,null,null,null,null,null,null,null,null,"/ Hour ",421]
[null,null,null,null,null,null,null,null,null,null,null,null,null,null,null,null,null,null,null,null,null,null,null,null,null,null,null,null,null,null,null,null,null,null,null,null,null,null,null,null,null,null,null,null,null,null,null,null,null,null,null,null,null,null,null,null,null,null,null,null,null,"/ Hour ",422]
[null,null,null,null,null,null,null,null,null,null,null,null,null,null,null,null,null,null,null,null,null,null,null,null,null,null,null,null,null,null,null,null,null,null,null,null,null,null,null,null,null,null,null,null,null,null,null,null,null,null,null,null,null,null,null,null,null,null,null,null,null,"/ Hour ",423]
[null,null,null,null,null,null,null,null,null,null,null,null,null,null,null,null,null,null,null,null,null,null,null,null,null,null,null,null,null,null,null,null,null,null,null,null,null,null,null,null,null,null,null,null,null,null,null,null,null,null,null,null,null,null,null,null,null,null,null,null,null,"/ Hour ",424]
[null,null,null,null,null,null,null,null,null,null,null,null,null,null,null,null,null,null,null,null,null,null,null,null,null,null,null,null,null,null,null,null,null,null,null,null,null,null,null,null,null,null,null,null,null,null,null,null,null,null,null,null,null,null,null,null,null,null,null,null,null,"/ Hour ",425]
[null,null,null,null,null,null,null,null,null,null,null,null,null,null,null,null,null,null,null,null,null,null,null,null,null,null,null,null,null,null,null,null,null,null,null,null,null,null,null,null,null,null,null,null,null,null,null,null,null,null,null,null,null,null,null,null,null,null,null,null,null,"/ Hour ",426]
[null,null,null,null,null,null,null,null,null,null,null,null,null,null,null,null,null,null,null,null,null,null,null,null,null,null,null,null,null,null,null,null,null,null,null,null,null,null,null,null,null,null,null,null,null,null,null,null,null,null,null,null,null,null,null,null,null,null,null,null,null,"/ Hour ",427]
[null,null,null,null,null,null,null,null,null,null,null,null,null,null,null,null,null,null,null,null,null,null,null,null,null,null,null,null,null,null,null,null,null,null,null,null,null,null,null,null,null,null,null,null,null,null,null,null,null,null,null,null,null,null,null,null,null,null,null,null,null,"/ Hour ",428]
[null,null,null,null,null,null,null,null,null,null,null,null,null,null,null,null,null,null,null,null,null,null,null,null,null,null,null,null,null,null,null,null,null,null,null,null,null,null,null,null,null,null,null,null,null,null,null,null,null,null,null,null,null,null,null,null,null,null,null,null,null,"/ Hour ",429]
[null,null,null,null,null,null,null,null,null,null,null,null,null,null,null,null,null,null,null,null,null,null,null,null,null,null,null,null,null,null,null,null,null,null,null,null,null,null,null,null,null,null,null,null,null,null,null,null,null,null,null,null,null,null,null,null,null,null,null,null,null,"/ Hour ",430]
[null,null,null,null,null,null,null,null,null,null,null,null,null,null,null,null,null,null,null,null,null,null,null,null,null,null,null,null,null,null,null,null,null,null,null,null,null,null,null,null,null,null,null,null,null,null,null,null,null,null,null,null,null,null,null,null,null,null,null,null,null,"/ Hour ",431]
[null,null,null,null,null,null,null,null,null,null,null,null,null,null,null,null,null,null,null,null,null,null,null,null,null,null,null,null,null,null,null,null,null,null,null,null,null,null,null,null,null,null,null,null,null,null,null,null,null,null,null,null,null,null,null,null,null,null,null,null,null,"/ Hour ",432]
[null,null,null,null,null,null,null,null,null,null,null,null,null,null,null,null,null,null,null,null,null,null,null,null,null,null,null,null,null,null,null,null,null,null,null,null,null,null,null,null,null,null,null,null,null,null,null,null,null,null,null,null,null,null,null,null,null,null,null,null,null,"/ Hour ",433]
[null,null,null,null,null,null,null,null,null,null,null,null,null,null,null,null,null,null,null,null,null,null,null,null,null,null,null,null,null,null,null,null,null,null,null,null,null,null,null,null,null,null,null,null,null,null,null,null,null,null,null,null,null,null,null,null,null,null,null,null,null,"/ Hour ",434]
[null,null,null,null,null,null,null,null,null,null,null,null,null,null,null,null,null,null,null,null,null,null,null,null,null,null,null,null,null,null,null,null,null,null,null,null,null,null,null,null,null,null,null,null,null,null,null,null,null,null,null,null,null,null,null,null,null,null,null,null,null,"/ Hour ",435]
[null,null,null,null,null,null,null,null,null,null,null,null,null,null,null,null,null,null,null,null,null,null,null,null,null,null,null,null,null,null,null,null,null,null,null,null,null,null,null,null,null,null,null,null,null,null,null,null,null,null,null,null,null,null,null,null,null,null,null,null,null,"/ Hour ",436]
[null,null,null,null,null,null,null,null,null,null,null,null,null,null,null,null,null,null,null,null,null,null,null,null,null,null,null,null,null,null,null,null,null,null,null,null,null,null,null,null,null,null,null,null,null,null,null,null,null,null,null,null,null,null,null,null,null,null,null,null,null,"/ Hour ",437]
[null,null,null,null,null,null,null,null,null,null,null,null,null,null,null,null,null,null,null,null,null,null,null,null,null,null,null,null,null,null,null,null,null,null,null,null,null,null,null,null,null,null,null,null,null,null,null,null,null,null,null,null,null,null,null,null,null,null,null,null,null,"/ Hour ",438]
[null,null,null,null,null,null,null,null,null,null,null,null,null,null,null,null,null,null,null,null,null,null,null,null,null,null,null,null,null,null,null,null,null,null,null,null,null,null,null,null,null,null,null,null,null,null,null,null,null,null,null,null,null,null,null,null,null,null,null,null,null,"/ Hour ",439]
[null,null,null,null,null,null,null,null,null,null,null,null,null,null,null,null,null,null,null,null,null,null,null,null,null,null,null,null,null,null,null,null,null,null,null,null,null,null,null,null,null,null,null,null,null,null,null,null,null,null,null,null,null,null,null,null,null,null,null,null,null,"/ Hour ",440]
[null,null,null,null,null,null,null,null,null,null,null,null,null,null,null,null,null,null,null,null,null,null,null,null,null,null,null,null,null,null,null,null,null,null,null,null,null,null,null,null,null,null,null,null,null,null,null,null,null,null,null,null,null,null,null,null,null,null,null,null,null,"/ Hour ",441]
[null,null,null,null,null,null,null,null,null,null,null,null,null,null,null,null,null,null,null,null,null,null,null,null,null,null,null,null,null,null,null,null,null,null,null,null,null,null,null,null,null,null,null,null,null,null,null,null,null,null,null,null,null,null,null,null,null,null,null,null,null,"/ Hour ",442]
[null,null,null,null,null,null,null,null,null,null,null,null,null,null,null,null,null,null,null,null,null,null,null,null,null,null,null,null,null,null,null,null,null,null,null,null,null,null,null,null,null,null,null,null,null,null,null,null,null,null,null,null,null,null,null,null,null,null,null,null,null,"/ Hour ",443]
[null,null,null,null,null,null,null,null,null,null,null,null,null,null,null,null,null,null,null,null,null,null,null,null,null,null,null,null,null,null,null,null,null,null,null,null,null,null,null,null,null,null,null,null,null,null,null,null,null,null,null,null,null,null,null,null,null,null,null,null,null,"/ Hour ",444]
[null,null,null,null,null,null,null,null,null,null,null,null,null,null,null,null,null,null,null,null,null,null,null,null,null,null,null,null,null,null,null,null,null,null,null,null,null,null,null,null,null,null,null,null,null,null,null,null,null,null,null,null,null,null,null,null,null,null,null,null,null,"/ Hour ",445]
[null,null,null,null,null,null,null,null,null,null,null,null,null,null,null,null,null,null,null,null,null,null,null,null,null,null,null,null,null,null,null,null,null,null,null,null,null,null,null,null,null,null,null,null,null,null,null,null,null,null,null,null,null,null,null,null,null,null,null,null,null,"/ Hour ",446]
[null,null,null,null,null,null,null,null,null,null,null,null,null,null,null,null,null,null,null,null,null,null,null,null,null,null,null,null,null,null,null,null,null,null,null,null,null,null,null,null,null,null,null,null,null,null,null,null,null,null,null,null,null,null,null,null,null,null,null,null,null,"/ Hour ",447]
[null,null,null,null,null,null,null,null,null,null,null,null,null,null,null,null,null,null,null,null,null,null,null,null,null,null,null,null,null,null,null,null,null,null,null,null,null,null,null,null,null,null,null,null,null,null,null,null,null,null,null,null,null,null,null,null,null,null,null,null,null,"/ Hour ",448]
[null,null,null,null,null,null,null,null,null,null,null,null,null,null,null,null,null,null,null,null,null,null,null,null,null,null,null,null,null,null,null,null,null,null,null,null,null,null,null,null,null,null,null,null,null,null,null,null,null,null,null,null,null,null,null,null,null,null,null,null,null,"/ Hour ",449]
[null,null,null,null,null,null,null,null,null,null,null,null,null,null,null,null,null,null,null,null,null,null,null,null,null,null,null,null,null,null,null,null,null,null,null,null,null,null,null,null,null,null,null,null,null,null,null,null,null,null,null,null,null,null,null,null,null,null,null,null,null,{"$f":"A460&\"/\"&B460&\" Hour \"&C460","v":"/ Hour "},{"$f":"ROW()-ROW($BK$10)","v":450}]
[null,null,null,null,null,null,null,null,null,null,null,null,null,null,null,null,null,null,null,null,null,null,null,null,null,null,null,null,null,null,null,null,null,null,null,null,null,null,null,null,null,null,null,null,null,null,null,null,null,null,null,null,null,null,null,null,null,null,null,null,null,"/ Hour ",451]
[null,null,null,null,null,null,null,null,null,null,null,null,null,null,null,null,null,null,null,null,null,null,null,null,null,null,null,null,null,null,null,null,null,null,null,null,null,null,null,null,null,null,null,null,null,null,null,null,null,null,null,null,null,null,null,null,null,null,null,null,null,"/ Hour ",452]
[null,null,null,null,null,null,null,null,null,null,null,null,null,null,null,null,null,null,null,null,null,null,null,null,null,null,null,null,null,null,null,null,null,null,null,null,null,null,null,null,null,null,null,null,null,null,null,null,null,null,null,null,null,null,null,null,null,null,null,null,null,"/ Hour ",453]
[null,null,null,null,null,null,null,null,null,null,null,null,null,null,null,null,null,null,null,null,null,null,null,null,null,null,null,null,null,null,null,null,null,null,null,null,null,null,null,null,null,null,null,null,null,null,null,null,null,null,null,null,null,null,null,null,null,null,null,null,null,"/ Hour ",454]
[null,null,null,null,null,null,null,null,null,null,null,null,null,null,null,null,null,null,null,null,null,null,null,null,null,null,null,null,null,null,null,null,null,null,null,null,null,null,null,null,null,null,null,null,null,null,null,null,null,null,null,null,null,null,null,null,null,null,null,null,null,"/ Hour ",455]
[null,null,null,null,null,null,null,null,null,null,null,null,null,null,null,null,null,null,null,null,null,null,null,null,null,null,null,null,null,null,null,null,null,null,null,null,null,null,null,null,null,null,null,null,null,null,null,null,null,null,null,null,null,null,null,null,null,null,null,null,null,"/ Hour ",456]
[null,null,null,null,null,null,null,null,null,null,null,null,null,null,null,null,null,null,null,null,null,null,null,null,null,null,null,null,null,null,null,null,null,null,null,null,null,null,null,null,null,null,null,null,null,null,null,null,null,null,null,null,null,null,null,null,null,null,null,null,null,"/ Hour ",457]
[null,null,null,null,null,null,null,null,null,null,null,null,null,null,null,null,null,null,null,null,null,null,null,null,null,null,null,null,null,null,null,null,null,null,null,null,null,null,null,null,null,null,null,null,null,null,null,null,null,null,null,null,null,null,null,null,null,null,null,null,null,"/ Hour ",458]
[null,null,null,null,null,null,null,null,null,null,null,null,null,null,null,null,null,null,null,null,null,null,null,null,null,null,null,null,null,null,null,null,null,null,null,null,null,null,null,null,null,null,null,null,null,null,null,null,null,null,null,null,null,null,null,null,null,null,null,null,null,"/ Hour ",459]
[null,null,null,null,null,null,null,null,null,null,null,null,null,null,null,null,null,null,null,null,null,null,null,null,null,null,null,null,null,null,null,null,null,null,null,null,null,null,null,null,null,null,null,null,null,null,null,null,null,null,null,null,null,null,null,null,null,null,null,null,null,"/ Hour ",460]
[null,null,null,null,null,null,null,null,null,null,null,null,null,null,null,null,null,null,null,null,null,null,null,null,null,null,null,null,null,null,null,null,null,null,null,null,null,null,null,null,null,null,null,null,null,null,null,null,null,null,null,null,null,null,null,null,null,null,null,null,null,"/ Hour ",461]
[null,null,null,null,null,null,null,null,null,null,null,null,null,null,null,null,null,null,null,null,null,null,null,null,null,null,null,null,null,null,null,null,null,null,null,null,null,null,null,null,null,null,null,null,null,null,null,null,null,null,null,null,null,null,null,null,null,null,null,null,null,"/ Hour ",462]
[null,null,null,null,null,null,null,null,null,null,null,null,null,null,null,null,null,null,null,null,null,null,null,null,null,null,null,null,null,null,null,null,null,null,null,null,null,null,null,null,null,null,null,null,null,null,null,null,null,null,null,null,null,null,null,null,null,null,null,null,null,"/ Hour ",463]
[null,null,null,null,null,null,null,null,null,null,null,null,null,null,null,null,null,null,null,null,null,null,null,null,null,null,null,null,null,null,null,null,null,null,null,null,null,null,null,null,null,null,null,null,null,null,null,null,null,null,null,null,null,null,null,null,null,null,null,null,null,"/ Hour ",464]
[null,null,null,null,null,null,null,null,null,null,null,null,null,null,null,null,null,null,null,null,null,null,null,null,null,null,null,null,null,null,null,null,null,null,null,null,null,null,null,null,null,null,null,null,null,null,null,null,null,null,null,null,null,null,null,null,null,null,null,null,null,"/ Hour ",465]
[null,null,null,null,null,null,null,null,null,null,null,null,null,null,null,null,null,null,null,null,null,null,null,null,null,null,null,null,null,null,null,null,null,null,null,null,null,null,null,null,null,null,null,null,null,null,null,null,null,null,null,null,null,null,null,null,null,null,null,null,null,"/ Hour ",466]
[null,null,null,null,null,null,null,null,null,null,null,null,null,null,null,null,null,null,null,null,null,null,null,null,null,null,null,null,null,null,null,null,null,null,null,null,null,null,null,null,null,null,null,null,null,null,null,null,null,null,null,null,null,null,null,null,null,null,null,null,null,"/ Hour ",467]
[null,null,null,null,null,null,null,null,null,null,null,null,null,null,null,null,null,null,null,null,null,null,null,null,null,null,null,null,null,null,null,null,null,null,null,null,null,null,null,null,null,null,null,null,null,null,null,null,null,null,null,null,null,null,null,null,null,null,null,null,null,"/ Hour ",468]
[null,null,null,null,null,null,null,null,null,null,null,null,null,null,null,null,null,null,null,null,null,null,null,null,null,null,null,null,null,null,null,null,null,null,null,null,null,null,null,null,null,null,null,null,null,null,null,null,null,null,null,null,null,null,null,null,null,null,null,null,null,"/ Hour ",469]
[null,null,null,null,null,null,null,null,null,null,null,null,null,null,null,null,null,null,null,null,null,null,null,null,null,null,null,null,null,null,null,null,null,null,null,null,null,null,null,null,null,null,null,null,null,null,null,null,null,null,null,null,null,null,null,null,null,null,null,null,null,"/ Hour ",470]
[null,null,null,null,null,null,null,null,null,null,null,null,null,null,null,null,null,null,null,null,null,null,null,null,null,null,null,null,null,null,null,null,null,null,null,null,null,null,null,null,null,null,null,null,null,null,null,null,null,null,null,null,null,null,null,null,null,null,null,null,null,"/ Hour ",471]
[null,null,null,null,null,null,null,null,null,null,null,null,null,null,null,null,null,null,null,null,null,null,null,null,null,null,null,null,null,null,null,null,null,null,null,null,null,null,null,null,null,null,null,null,null,null,null,null,null,null,null,null,null,null,null,null,null,null,null,null,null,"/ Hour ",472]
[null,null,null,null,null,null,null,null,null,null,null,null,null,null,null,null,null,null,null,null,null,null,null,null,null,null,null,null,null,null,null,null,null,null,null,null,null,null,null,null,null,null,null,null,null,null,null,null,null,null,null,null,null,null,null,null,null,null,null,null,null,"/ Hour ",473]
[null,null,null,null,null,null,null,null,null,null,null,null,null,null,null,null,null,null,null,null,null,null,null,null,null,null,null,null,null,null,null,null,null,null,null,null,null,null,null,null,null,null,null,null,null,null,null,null,null,null,null,null,null,null,null,null,null,null,null,null,null,"/ Hour ",474]
[null,null,null,null,null,null,null,null,null,null,null,null,null,null,null,null,null,null,null,null,null,null,null,null,null,null,null,null,null,null,null,null,null,null,null,null,null,null,null,null,null,null,null,null,null,null,null,null,null,null,null,null,null,null,null,null,null,null,null,null,null,"/ Hour ",475]
[null,null,null,null,null,null,null,null,null,null,null,null,null,null,null,null,null,null,null,null,null,null,null,null,null,null,null,null,null,null,null,null,null,null,null,null,null,null,null,null,null,null,null,null,null,null,null,null,null,null,null,null,null,null,null,null,null,null,null,null,null,"/ Hour ",476]
[null,null,null,null,null,null,null,null,null,null,null,null,null,null,null,null,null,null,null,null,null,null,null,null,null,null,null,null,null,null,null,null,null,null,null,null,null,null,null,null,null,null,null,null,null,null,null,null,null,null,null,null,null,null,null,null,null,null,null,null,null,"/ Hour ",477]
[null,null,null,null,null,null,null,null,null,null,null,null,null,null,null,null,null,null,null,null,null,null,null,null,null,null,null,null,null,null,null,null,null,null,null,null,null,null,null,null,null,null,null,null,null,null,null,null,null,null,null,null,null,null,null,null,null,null,null,null,null,"/ Hour ",478]
[null,null,null,null,null,null,null,null,null,null,null,null,null,null,null,null,null,null,null,null,null,null,null,null,null,null,null,null,null,null,null,null,null,null,null,null,null,null,null,null,null,null,null,null,null,null,null,null,null,null,null,null,null,null,null,null,null,null,null,null,null,"/ Hour ",479]
[null,null,null,null,null,null,null,null,null,null,null,null,null,null,null,null,null,null,null,null,null,null,null,null,null,null,null,null,null,null,null,null,null,null,null,null,null,null,null,null,null,null,null,null,null,null,null,null,null,null,null,null,null,null,null,null,null,null,null,null,null,"/ Hour ",480]
[null,null,null,null,null,null,null,null,null,null,null,null,null,null,null,null,null,null,null,null,null,null,null,null,null,null,null,null,null,null,null,null,null,null,null,null,null,null,null,null,null,null,null,null,null,null,null,null,null,null,null,null,null,null,null,null,null,null,null,null,null,"/ Hour ",481]
[null,null,null,null,null,null,null,null,null,null,null,null,null,null,null,null,null,null,null,null,null,null,null,null,null,null,null,null,null,null,null,null,null,null,null,null,null,null,null,null,null,null,null,null,null,null,null,null,null,null,null,null,null,null,null,null,null,null,null,null,null,"/ Hour ",482]
[null,null,null,null,null,null,null,null,null,null,null,null,null,null,null,null,null,null,null,null,null,null,null,null,null,null,null,null,null,null,null,null,null,null,null,null,null,null,null,null,null,null,null,null,null,null,null,null,null,null,null,null,null,null,null,null,null,null,null,null,null,"/ Hour ",483]
[null,null,null,null,null,null,null,null,null,null,null,null,null,null,null,null,null,null,null,null,null,null,null,null,null,null,null,null,null,null,null,null,null,null,null,null,null,null,null,null,null,null,null,null,null,null,null,null,null,null,null,null,null,null,null,null,null,null,null,null,null,"/ Hour ",484]
[null,null,null,null,null,null,null,null,null,null,null,null,null,null,null,null,null,null,null,null,null,null,null,null,null,null,null,null,null,null,null,null,null,null,null,null,null,null,null,null,null,null,null,null,null,null,null,null,null,null,null,null,null,null,null,null,null,null,null,null,null,"/ Hour ",485]
[null,null,null,null,null,null,null,null,null,null,null,null,null,null,null,null,null,null,null,null,null,null,null,null,null,null,null,null,null,null,null,null,null,null,null,null,null,null,null,null,null,null,null,null,null,null,null,null,null,null,null,null,null,null,null,null,null,null,null,null,null,"/ Hour ",486]
[null,null,null,null,null,null,null,null,null,null,null,null,null,null,null,null,null,null,null,null,null,null,null,null,null,null,null,null,null,null,null,null,null,null,null,null,null,null,null,null,null,null,null,null,null,null,null,null,null,null,null,null,null,null,null,null,null,null,null,null,null,"/ Hour ",487]
[null,null,null,null,null,null,null,null,null,null,null,null,null,null,null,null,null,null,null,null,null,null,null,null,null,null,null,null,null,null,null,null,null,null,null,null,null,null,null,null,null,null,null,null,null,null,null,null,null,null,null,null,null,null,null,null,null,null,null,null,null,"/ Hour ",488]
[null,null,null,null,null,null,null,null,null,null,null,null,null,null,null,null,null,null,null,null,null,null,null,null,null,null,null,null,null,null,null,null,null,null,null,null,null,null,null,null,null,null,null,null,null,null,null,null,null,null,null,null,null,null,null,null,null,null,null,null,null,"/ Hour ",489]
[null,null,null,null,null,null,null,null,null,null,null,null,null,null,null,null,null,null,null,null,null,null,null,null,null,null,null,null,null,null,null,null,null,null,null,null,null,null,null,null,null,null,null,null,null,null,null,null,null,null,null,null,null,null,null,null,null,null,null,null,null,"/ Hour ",490]
[null,null,null,null,null,null,null,null,null,null,null,null,null,null,null,null,null,null,null,null,null,null,null,null,null,null,null,null,null,null,null,null,null,null,null,null,null,null,null,null,null,null,null,null,null,null,null,null,null,null,null,null,null,null,null,null,null,null,null,null,null,"/ Hour ",500]
[null,null,null,null,null,null,null,null,null,null,null,null,null,null,null,null,null,null,null,null,null,null,null,null,null,null,null,null,null,null,null,null,null,null,null,null,null,null,null,null,null,null,null,null,null,null,null,null,null,null,null,null,null,null,null,null,null,null,null,null,null,"/ Hour ",517]
[null,null,null,null,null,null,null,null,null,null,null,null,null,null,null,null,null,null,null,null,null,null,null,null,null,null,null,null,null,null,null,null,null,null,null,null,null,null,null,null,null,null,null,null,null,null,null,null,null,null,null,null,null,null,null,null,null,null,null,null,null,"/ Hour ",534]
[null,null,null,null,null,null,null,null,null,null,null,null,null,null,null,null,null,null,null,null,null,null,null,null,null,null,null,null,null,null,null,null,null,null,null,null,null,null,null,null,null,null,null,null,null,null,null,null,null,null,null,null,null,null,null,null,null,null,null,null,null,"/ Hour ",544]
[null,null,null,null,null,null,null,null,null,null,null,null,null,null,null,null,null,null,null,null,null,null,null,null,null,null,null,null,null,null,null,null,null,null,null,null,null,null,null,null,null,null,null,null,null,null,null,null,null,null,null,null,null,null,null,null,null,null,null,null,null,"/ Hour ",569]
[null,null,null,null,null,null,null,null,null,null,null,null,null,null,null,null,null,null,null,null,null,null,null,null,null,null,null,null,null,null,null,null,null,null,null,null,null,null,null,null,null,null,null,null,null,null,null,null,null,null,null,null,null,null,null,null,null,null,null,null,null,"/ Hour ",586]
[null,null,null,null,null,null,null,null,null,null,null,null,null,null,null,null,null,null,null,null,null,null,null,null,null,null,null,null,null,null,null,null,null,null,null,null,null,null,null,null,null,null,null,null,null,null,null,null,null,null,null,null,null,null,null,null,null,null,null,null,null,"/ Hour ",594]
[null,null,null,null,null,null,null,null,null,null,null,null,null,null,null,null,null,null,null,null,null,null,null,null,null,null,null,null,null,null,null,null,null,null,null,null,null,null,null,null,null,null,null,null,null,null,null,null,null,null,null,null,null,null,null,null,null,null,null,null,null,"/ Hour ",605]
[null,null,null,null,null,null,null,null,null,null,null,null,null,null,null,null,null,null,null,null,null,null,null,null,null,null,null,null,null,null,null,null,null,null,null,null,null,null,null,null,null,null,null,null,null,null,null,null,null,null,null,null,null,null,null,null,null,null,null,null,null,"/ Hour ",622]
[null,null,null,null,null,null,null,null,null,null,null,null,null,null,null,null,null,null,null,null,null,null,null,null,null,null,null,null,null,null,null,null,null,null,null,null,null,null,null,null,null,null,null,null,null,null,null,null,null,null,null,null,null,null,null,null,null,null,null,null,null,"/ Hour ",644]
[null,null,null,null,null,null,null,null,null,null,null,null,null,null,null,null,null,null,null,null,null,null,null,null,null,null,null,null,null,null,null,null,null,null,null,null,null,null,null,null,null,null,null,null,null,null,null,null,null,null,null,null,null,null,null,null,null,null,null,null,null,"/ Hour ",657]
[null,null,null,null,null,null,null,null,null,null,null,null,null,null,null,null,null,null,null,null,null,null,null,null,null,null,null,null,null,null,null,null,null,null,null,null,null,null,null,null,null,null,null,null,null,null,null,null,null,null,null,null,null,null,null,null,null,null,null,null,null,"/ Hour ",674]
[null,null,null,null,null,null,null,null,null,null,null,null,null,null,null,null,null,null,null,null,null,null,null,null,null,null,null,null,null,null,null,null,null,null,null,null,null,null,null,null,null,null,null,null,null,null,null,null,null,null,null,null,null,null,null,null,null,null,null,null,null,"/ Hour ",694]
[null,null,null,null,null,null,null,null,null,null,null,null,null,null,null,null,null,null,null,null,null,null,null,null,null,null,null,null,null,null,null,null,null,null,null,null,null,null,null,null,null,null,null,null,null,null,null,null,null,null,null,null,null,null,null,null,null,null,null,null,null,"/ Hour ",709]
[null,null,null,null,null,null,null,null,null,null,null,null,null,null,null,null,null,null,null,null,null,null,null,null,null,null,null,null,null,null,null,null,null,null,null,null,null,null,null,null,null,null,null,null,null,null,null,null,null,null,null,null,null,null,null,null,null,null,null,null,null,"/ Hour ",726]
[null,null,null,null,null,null,null,null,null,null,null,null,null,null,null,null,null,null,null,null,null,null,null,null,null,null,null,null,null,null,null,null,null,null,null,null,null,null,null,null,null,null,null,null,null,null,null,null,null,null,null,null,null,null,null,null,null,null,null,null,null,"/ Hour ",744]
[null,null,null,null,null,null,null,null,null,null,null,null,null,null,null,null,null,null,null,null,null,null,null,null,null,null,null,null,null,null,null,null,null,null,null,null,null,null,null,null,null,null,null,null,null,null,null,null,null,null,null,null,null,null,null,null,null,null,null,null,null,"/ Hour ",761]
[null,null,null,null,null,null,null,null,null,null,null,null,null,null,null,null,null,null,null,null,null,null,null,null,null,null,null,null,null,null,null,null,null,null,null,null,null,null,null,null,null,null,null,null,null,null,null,null,null,null,null,null,null,null,null,null,null,null,null,null,null,"/ Hour ",778]
[null,null,null,null,null,null,null,null,null,null,null,null,null,null,null,null,null,null,null,null,null,null,null,null,null,null,null,null,null,null,null,null,null,null,null,null,null,null,null,null,null,null,null,null,null,null,null,null,null,null,null,null,null,null,null,null,null,null,null,null,null,"/ Hour ",795]
[null,null,null,null,null,null,null,null,null,null,null,null,null,null,null,null,null,null,null,null,null,null,null,null,null,null,null,null,null,null,null,null,null,null,null,null,null,null,null,null,null,null,null,null,null,null,null,null,null,null,null,null,null,null,null,null,null,null,null,null,null,"/ Hour ",811]
[null,null,null,null,null,null,null,null,null,null,null,null,null,null,null,null,null,null,null,null,null,null,null,null,null,null,null,null,null,null,null,null,null,null,null,null,null,null,null,null,null,null,null,null,null,null,null,null,null,null,null,null,null,null,null,null,null,null,null,null,null,"/ Hour ",830]
[null,null,null,null,null,null,null,null,null,null,null,null,null,null,null,null,null,null,null,null,null,null,null,null,null,null,null,null,null,null,null,null,null,null,null,null,null,null,null,null,null,null,null,null,null,null,null,null,null,null,null,null,null,null,null,null,null,null,null,null,null,"/ Hour ",847]
[null,null,null,null,null,null,null,null,null,null,null,null,null,null,null,null,null,null,null,null,null,null,null,null,null,null,null,null,null,null,null,null,null,null,null,null,null,null,null,null,null,null,null,null,null,null,null,null,null,null,null,null,null,null,null,null,null,null,null,null,null,"/ Hour ",861]
[null,null,null,null,null,null,null,null,null,null,null,null,null,null,null,null,null,null,null,null,null,null,null,null,null,null,null,null,null,null,null,null,null,null,null,null,null,null,null,null,null,null,null,null,null,null,null,null,null,null,null,null,null,null,null,null,null,null,null,null,null,"/ Hour ",866]
[null,null,null,null,null,null,null,null,null,null,null,null,null,null,null,null,null,null,null,null,null,null,null,null,null,null,null,null,null,null,null,null,null,null,null,null,null,null,null,null,null,null,null,null,null,null,null,null,null,null,null,null,null,null,null,null,null,null,null,null,null,"/ Hour ",883]
[null,null,null,null,null,null,null,null,null,null,null,null,null,null,null,null,null,null,null,null,null,null,null,null,null,null,null,null,null,null,null,null,null,null,null,null,null,null,null,null,null,null,null,null,null,null,null,null,null,null,null,null,null,null,null,null,null,null,null,null,null,"/ Hour ",911]
[null,null,null,null,null,null,null,null,null,null,null,null,null,null,null,null,null,null,null,null,null,null,null,null,null,null,null,null,null,null,null,null,null,null,null,null,null,null,null,null,null,null,null,null,null,null,null,null,null,null,null,null,null,null,null,null,null,null,null,null,null,"/ Hour ",918]
[null,null,null,null,null,null,null,null,null,null,null,null,null,null,null,null,null,null,null,null,null,null,null,null,null,null,null,null,null,null,null,null,null,null,null,null,null,null,null,null,null,null,null,null,null,null,null,null,null,null,null,null,null,null,null,null,null,null,null,null,null,"/ Hour ",935]
[null,null,null,null,null,null,null,null,null,null,null,null,null,null,null,null,null,null,null,null,null,null,null,null,null,null,null,null,null,null,null,null,null,null,null,null,null,null,null,null,null,null,null,null,null,null,null,null,null,null,null,null,null,null,null,null,null,null,null,null,null,"/ Hour ",961]
[null,null,null,null,null,null,null,null,null,null,null,null,null,null,null,null,null,null,null,null,null,null,null,null,null,null,null,null,null,null,null,null,null,null,null,null,null,null,null,null,null,null,null,null,null,null,null,null,null,null,null,null,null,null,null,null,null,null,null,null,null,"/ Hour ",970]
[null,null,null,null,null,null,null,null,null,null,null,null,null,null,null,null,null,null,null,null,null,null,null,null,null,null,null,null,null,null,null,null,null,null,null,null,null,null,null,null,null,null,null,null,null,null,null,null,null,null,null,null,null,null,null,null,null,null,null,null,null,"/ Hour ",987]
[null,null,null,null,null,null,null,null,null,null,null,null,null,null,null,null,null,null,null,null,null,null,null,null,null,null,null,null,null,null,null,null,null,null,null,null,null,null,null,null,null,null,null,null,null,null,null,null,null,null,null,null,null,null,null,null,null,null,null,null,null,"/ Hour ",1011]
[null,null,null,null,null,null,null,null,null,null,null,null,null,null,null,null,null,null,null,null,null,null,null,null,null,null,null,null,null,null,null,null,null,null,null,null,null,null,null,null,null,null,null,null,null,null,null,null,null,null,null,null,null,null,null,null,null,null,null,null,null,"/ Hour ",1022]
[null,null,null,null,null,null,null,null,null,null,null,null,null,null,null,null,null,null,null,null,null,null,null,null,null,null,null,null,null,null,null,null,null,null,null,null,null,null,null,null,null,null,null,null,null,null,null,null,null,null,null,null,null,null,null,null,null,null,null,null,null,"/ Hour ",1039]
[null,null,null,null,null,null,null,null,null,null,null,null,null,null,null,null,null,null,null,null,null,null,null,null,null,null,null,null,null,null,null,null,null,null,null,null,null,null,null,null,null,null,null,null,null,null,null,null,null,null,null,null,null,null,null,null,null,null,null,null,null,"/ Hour ",1056]
[null,null,null,null,null,null,null,null,null,null,null,null,null,null,null,null,null,null,null,null,null,null,null,null,null,null,null,null,null,null,null,null,null,null,null,null,null,null,null,null,null,null,null,null,null,null,null,null,null,null,null,null,null,null,null,null,null,null,null,null,null,"/ Hour ",1061]
[null,null,null,null,null,null,null,null,null,null,null,null,null,null,null,null,null,null,null,null,null,null,null,null,null,null,null,null,null,null,null,null,null,null,null,null,null,null,null,null,null,null,null,null,null,null,null,null,null,null,null,null,null,null,null,null,null,null,null,null,null,"/ Hour ",1091]
[null,null,null,null,null,null,null,null,null,null,null,null,null,null,null,null,null,null,null,null,null,null,null,null,null,null,null,null,null,null,null,null,null,null,null,null,null,null,null,null,null,null,null,null,null,null,null,null,null,null,null,null,null,null,null,null,null,null,null,null,null,"/ Hour ",1108]
[null,null,null,null,null,null,null,null,null,null,null,null,null,null,null,null,null,null,null,null,null,null,null,null,null,null,null,null,null,null,null,null,null,null,null,null,null,null,null,null,null,null,null,null,null,null,null,null,null,null,null,null,null,null,null,null,null,null,null,null,null,"/ Hour ",1111]
[null,null,null,null,null,null,null,null,null,null,null,null,null,null,null,null,null,null,null,null,null,null,null,null,null,null,null,null,null,null,null,null,null,null,null,null,null,null,null,null,null,null,null,null,null,null,null,null,null,null,null,null,null,null,null,null,null,null,null,null,null,"/ Hour ",1127]
[null,null,null,null,null,null,null,null,null,null,null,null,null,null,null,null,null,null,null,null,null,null,null,null,null,null,null,null,null,null,null,null,null,null,null,null,null,null,null,null,null,null,null,null,null,null,null,null,null,null,null,null,null,null,null,null,null,null,null,null,null,"/ Hour ",1144]
[null,null,null,null,null,null,null,null,null,null,null,null,null,null,null,null,null,null,null,null,null,null,null,null,null,null,null,null,null,null,null,null,null,null,null,null,null,null,null,null,null,null,null,null,null,null,null,null,null,null,null,null,null,null,null,null,null,null,null,null,null,"/ Hour ",1161]
[null,null,null,null,null,null,null,null,null,null,null,null,null,null,null,null,null,null,null,null,null,null,null,null,null,null,null,null,null,null,null,null,null,null,null,null,null,null,null,null,null,null,null,null,null,null,null,null,null,null,null,null,null,null,null,null,null,null,null,null,null,"/ Hour ",1179]
[null,null,null,null,null,null,null,null,null,null,null,null,null,null,null,null,null,null,null,null,null,null,null,null,null,null,null,null,null,null,null,null,null,null,null,null,null,null,null,null,null,null,null,null,null,null,null,null,null,null,null,null,null,null,null,null,null,null,null,null,null,"/ Hour ",1196]
[null,null,null,null,null,null,null,null,null,null,null,null,null,null,null,null,null,null,null,null,null,null,null,null,null,null,null,null,null,null,null,null,null,null,null,null,null,null,null,null,null,null,null,null,null,null,null,null,null,null,null,null,null,null,null,null,null,null,null,null,null,"/ Hour ",1211]
[null,null,null,null,null,null,null,null,null,null,null,null,null,null,null,null,null,null,null,null,null,null,null,null,null,null,null,null,null,null,null,null,null,null,null,null,null,null,null,null,null,null,null,null,null,null,null,null,null,null,null,null,null,null,null,null,null,null,null,null,null,"/ Hour ",1231]
[null,null,null,null,null,null,null,null,null,null,null,null,null,null,null,null,null,null,null,null,null,null,null,null,null,null,null,null,null,null,null,null,null,null,null,null,null,null,null,null,null,null,null,null,null,null,null,null,null,null,null,null,null,null,null,null,null,null,null,null,null,"/ Hour ",1248]
[null,null,null,null,null,null,null,null,null,null,null,null,null,null,null,null,null,null,null,null,null,null,null,null,null,null,null,null,null,null,null,null,null,null,null,null,null,null,null,null,null,null,null,null,null,null,null,null,null,null,null,null,null,null,null,null,null,null,null,null,null,"/ Hour ",1261]
[null,null,null,null,null,null,null,null,null,null,null,null,null,null,null,null,null,null,null,null,null,null,null,null,null,null,null,null,null,null,null,null,null,null,null,null,null,null,null,null,null,null,null,null,null,null,null,null,null,null,null,null,null,null,null,null,null,null,null,null,null,"/ Hour ",1283]
[null,null,null,null,null,null,null,null,null,null,null,null,null,null,null,null,null,null,null,null,null,null,null,null,null,null,null,null,null,null,null,null,null,null,null,null,null,null,null,null,null,null,null,null,null,null,null,null,null,null,null,null,null,null,null,null,null,null,null,null,null,"/ Hour ",1300]
[null,null,null,null,null,null,null,null,null,null,null,null,null,null,null,null,null,null,null,null,null,null,null,null,null,null,null,null,null,null,null,null,null,null,null,null,null,null,null,null,null,null,null,null,null,null,null,null,null,null,null,null,null,null,null,null,null,null,null,null,null,"/ Hour ",1312]
[null,null,null,null,null,null,null,null,null,null,null,null,null,null,null,null,null,null,null,null,null,null,null,null,null,null,null,null,null,null,null,null,null,null,null,null,null,null,null,null,null,null,null,null,null,null,null,null,null,null,null,null,null,null,null,null,null,null,null,null,null,"/ Hour ",1335]
[null,null,null,null,null,null,null,null,null,null,null,null,null,null,null,null,null,null,null,null,null,null,null,null,null,null,null,null,null,null,null,null,null,null,null,null,null,null,null,null,null,null,null,null,null,null,null,null,null,null,null,null,null,null,null,null,null,null,null,null,null,"/ Hour ",1352]
[null,null,null,null,null,null,null,null,null,null,null,null,null,null,null,null,null,null,null,null,null,null,null,null,null,null,null,null,null,null,null,null,null,null,null,null,null,null,null,null,null,null,null,null,null,null,null,null,null,null,null,null,null,null,null,null,null,null,null,null,null,"/ Hour ",1369]
[null,null,null,null,null,null,null,null,null,null,null,null,null,null,null,null,null,null,null,null,null,null,null,null,null,null,null,null,null,null,null,null,null,null,null,null,null,null,null,null,null,null,null,null,null,null,null,null,null,null,null,null,null,null,null,null,null,null,null,null,null,"/ Hour ",1378]
[null,null,null,null,null,null,null,null,null,null,null,null,null,null,null,null,null,null,null,null,null,null,null,null,null,null,null,null,null,null,null,null,null,null,null,null,null,null,null,null,null,null,null,null,null,null,null,null,null,null,null,null,null,null,null,null,null,null,null,null,null,"/ Hour ",1388]
[null,null,null,null,null,null,null,null,null,null,null,null,null,null,null,null,null,null,null,null,null,null,null,null,null,null,null,null,null,null,null,null,null,null,null,null,null,null,null,null,null,null,null,null,null,null,null,null,null,null,null,null,null,null,null,null,null,null,null,null,null,"/ Hour ",1405]
[null,null,null,null,null,null,null,null,null,null,null,null,null,null,null,null,null,null,null,null,null,null,null,null,null,null,null,null,null,null,null,null,null,null,null,null,null,null,null,null,null,null,null,null,null,null,null,null,null,null,null,null,null,null,null,null,null,null,null,null,null,"/ Hour ",1428]
[null,null,null,null,null,null,null,null,null,null,null,null,null,null,null,null,null,null,null,null,null,null,null,null,null,null,null,null,null,null,null,null,null,null,null,null,null,null,null,null,null,null,null,null,null,null,null,null,null,null,null,null,null,null,null,null,null,null,null,null,null,"/ Hour ",1440]
[null,null,null,null,null,null,null,null,null,null,null,null,null,null,null,null,null,null,null,null,null,null,null,null,null,null,null,null,null,null,null,null,null,null,null,null,null,null,null,null,null,null,null,null,null,null,null,null,null,null,null,null,null,null,null,null,null,null,null,null,null,"/ Hour ",1457]
[null,null,null,null,null,null,null,null,null,null,null,null,null,null,null,null,null,null,null,null,null,null,null,null,null,null,null,null,null,null,null,null,null,null,null,null,null,null,null,null,null,null,null,null,null,null,null,null,null,null,null,null,null,null,null,null,null,null,null,null,null,"/ Hour ",1478]
[null,null,null,null,null,null,null,null,null,null,null,null,null,null,null,null,null,null,null,null,null,null,null,null,null,null,null,null,null,null,null,null,null,null,null,null,null,null,null,null,null,null,null,null,null,null,null,null,null,null,null,null,null,null,null,null,null,null,null,null,null,"/ Hour ",1492]
[null,null,null,null,null,null,null,null,null,null,null,null,null,null,null,null,null,null,null,null,null,null,null,null,null,null,null,null,null,null,null,null,null,null,null,null,null,null,null,null,null,null,null,null,null,null,null,null,null,null,null,null,null,null,null,null,null,null,null,null,null,"/ Hour ",1509]
[null,null,null,null,null,null,null,null,null,null,null,null,null,null,null,null,null,null,null,null,null,null,null,null,null,null,null,null,null,null,null,null,null,null,null,null,null,null,null,null,null,null,null,null,null,null,null,null,null,null,null,null,null,null,null,null,null,null,null,null,null,"/ Hour ",1529]
[null,null,null,null,null,null,null,null,null,null,null,null,null,null,null,null,null,null,null,null,null,null,null,null,null,null,null,null,null,null,null,null,null,null,null,null,null,null,null,null,null,null,null,null,null,null,null,null,null,null,null,null,null,null,null,null,null,null,null,null,null,"/ Hour ",1544]
[null,null,null,null,null,null,null,null,null,null,null,null,null,null,null,null,null,null,null,null,null,null,null,null,null,null,null,null,null,null,null,null,null,null,null,null,null,null,null,null,null,null,null,null,null,null,null,null,null,null,null,null,null,null,null,null,null,null,null,null,null,"/ Hour ",1561]
[null,null,null,null,null,null,null,null,null,null,null,null,null,null,null,null,null,null,null,null,null,null,null,null,null,null,null,null,null,null,null,null,null,null,null,null,null,null,null,null,null,null,null,null,null,null,null,null,null,null,null,null,null,null,null,null,null,null,null,null,null,"/ Hour ",1579]
[null,null,null,null,null,null,null,null,null,null,null,null,null,null,null,null,null,null,null,null,null,null,null,null,null,null,null,null,null,null,null,null,null,null,null,null,null,null,null,null,null,null,null,null,null,null,null,null,null,null,null,null,null,null,null,null,null,null,null,null,null,"/ Hour ",1596]
[null,null,null,null,null,null,null,null,null,null,null,null,null,null,null,null,null,null,null,null,null,null,null,null,null,null,null,null,null,null,null,null,null,null,null,null,null,null,null,null,null,null,null,null,null,null,null,null,null,null,null,null,null,null,null,null,null,null,null,null,null,"/ Hour ",1613]
[null,null,null,null,null,null,null,null,null,null,null,null,null,null,null,null,null,null,null,null,null,null,null,null,null,null,null,null,null,null,null,null,null,null,null,null,null,null,null,null,null,null,null,null,null,null,null,null,null,null,null,null,null,null,null,null,null,null,null,null,null,"/ Hour ",1630]
[null,null,null,null,null,null,null,null,null,null,null,null,null,null,null,null,null,null,null,null,null,null,null,null,null,null,null,null,null,null,null,null,null,null,null,null,null,null,null,null,null,null,null,null,null,null,null,null,null,null,null,null,null,null,null,null,null,null,null,null,null,"/ Hour ",1645]
[null,null,null,null,null,null,null,null,null,null,null,null,null,null,null,null,null,null,null,null,null,null,null,null,null,null,null,null,null,null,null,null,null,null,null,null,null,null,null,null,null,null,null,null,null,null,null,null,null,null,null,null,null,null,null,null,null,null,null,null,null,"/ Hour ",1649]
[null,null,null,null,null,null,null,null,null,null,null,null,null,null,null,null,null,null,null,null,null,null,null,null,null,null,null,null,null,null,null,null,null,null,null,null,null,null,null,null,null,null,null,null,null,null,null,null,null,null,null,null,null,null,null,null,null,null,null,null,null,{"$f":"A1676&\"/\"&B1676&\" Hour \"&C1676","v":"/ Hour "},{"$f":"ROW()-ROW($BK$10)","v":1666}]
[null,null,null,null,null,null,null,null,null,null,null,null,null,null,null,null,null,null,null,null,null,null,null,null,null,null,null,null,null,null,null,null,null,null,null,null,null,null,null,null,null,null,null,null,null,null,null,null,null,null,null,null,null,null,null,null,null,null,null,null,null,"/ Hour ",1695]
[null,null,null,null,null,null,null,null,null,null,null,null,null,null,null,null,null,null,null,null,null,null,null,null,null,null,null,null,null,null,null,null,null,null,null,null,null,null,null,null,null,null,null,null,null,null,null,null,null,null,null,null,null,null,null,null,null,null,null,null,null,"/ Hour ",1701]
[null,null,null,null,null,null,null,null,null,null,null,null,null,null,null,null,null,null,null,null,null,null,null,null,null,null,null,null,null,null,null,null,null,null,null,null,null,null,null,null,null,null,null,null,null,null,null,null,null,null,null,null,null,null,null,null,null,null,null,null,null,"/ Hour ",1718]
[null,null,null,null,null,null,null,null,null,null,null,null,null,null,null,null,null,null,null,null,null,null,null,null,null,null,null,null,null,null,null,null,null,null,null,null,null,null,null,null,null,null,null,null,null,null,null,null,null,null,null,null,null,null,null,null,null,null,null,null,null,"/ Hour ",1746]
[null,null,null,null,null,null,null,null,null,null,null,null,null,null,null,null,null,null,null,null,null,null,null,null,null,null,null,null,null,null,null,null,null,null,null,null,null,null,null,null,null,null,null,null,null,null,null,null,null,null,null,null,null,null,null,null,null,null,null,null,null,"/ Hour ",1753]
[null,null,null,null,null,null,null,null,null,null,null,null,null,null,null,null,null,null,null,null,null,null,null,null,null,null,null,null,null,null,null,null,null,null,null,null,null,null,null,null,null,null,null,null,null,null,null,null,null,null,null,null,null,null,null,null,null,null,null,null,null,"/ Hour ",1770]
[null,null,null,null,null,null,null,null,null,null,null,null,null,null,null,null,null,null,null,null,null,null,null,null,null,null,null,null,null,null,null,null,null,null,null,null,null,null,null,null,null,null,null,null,null,null,null,null,null,null,null,null,null,null,null,null,null,null,null,null,null,"/ Hour ",1779]
[null,null,null,null,null,null,null,null,null,null,null,null,null,null,null,null,null,null,null,null,null,null,null,null,null,null,null,null,null,null,null,null,null,null,null,null,null,null,null,null,null,null,null,null,null,null,null,null,null,null,null,null,null,null,null,null,null,null,null,null,null,"/ Hour ",1805]
[null,null,null,null,null,null,null,null,null,null,null,null,null,null,null,null,null,null,null,null,null,null,null,null,null,null,null,null,null,null,null,null,null,null,null,null,null,null,null,null,null,null,null,null,null,null,null,null,null,null,null,null,null,null,null,null,null,null,null,null,null,"/ Hour ",1822]
[null,null,null,null,null,null,null,null,null,null,null,null,null,null,null,null,null,null,null,null,null,null,null,null,null,null,null,null,null,null,null,null,null,null,null,null,null,null,null,null,null,null,null,null,null,null,null,null,null,null,null,null,null,null,null,null,null,null,null,null,null,"/ Hour ",1829]
[null,null,null,null,null,null,null,null,null,null,null,null,null,null,null,null,null,null,null,null,null,null,null,null,null,null,null,null,null,null,null,null,null,null,null,null,null,null,null,null,null,null,null,null,null,null,null,null,null,null,null,null,null,null,null,null,null,null,null,null,null,"/ Hour ",1857]
[null,null,null,null,null,null,null,null,null,null,null,null,null,null,null,null,null,null,null,null,null,null,null,null,null,null,null,null,null,null,null,null,null,null,null,null,null,null,null,null,null,null,null,null,null,null,null,null,null,null,null,null,null,null,null,null,null,null,null,null,null,"/ Hour ",1874]
[null,null,null,null,null,null,null,null,null,null,null,null,null,null,null,null,null,null,null,null,null,null,null,null,null,null,null,null,null,null,null,null,null,null,null,null,null,null,null,null,null,null,null,null,null,null,null,null,null,null,null,null,null,null,null,null,null,null,null,null,null,"/ Hour ",1879]
[null,null,null,null,null,null,null,null,null,null,null,null,null,null,null,null,null,null,null,null,null,null,null,null,null,null,null,null,null,null,null,null,null,null,null,null,null,null,null,null,null,null,null,null,null,null,null,null,null,null,null,null,null,null,null,null,null,null,null,null,null,"/ Hour ",1909]
[null,null,null,null,null,null,null,null,null,null,null,null,null,null,null,null,null,null,null,null,null,null,null,null,null,null,null,null,null,null,null,null,null,null,null,null,null,null,null,null,null,null,null,null,null,null,null,null,null,null,null,null,null,null,null,null,null,null,null,null,null,"/ Hour ",1910]
[null,null,null,null,null,null,null,null,null,null,null,null,null,null,null,null,null,null,null,null,null,null,null,null,null,null,null,null,null,null,null,null,null,null,null,null,null,null,null,null,null,null,null,null,null,null,null,null,null,null,null,null,null,null,null,null,null,null,null,null,null,"/ Hour ",1927]
[null,null,null,null,null,null,null,null,null,null,null,null,null,null,null,null,null,null,null,null,null,null,null,null,null,null,null,null,null,null,null,null,null,null,null,null,null,null,null,null,null,null,null,null,null,null,null,null,null,null,null,null,null,null,null,null,null,null,null,null,null,"/ Hour ",1945]
[null,null,null,null,null,null,null,null,null,null,null,null,null,null,null,null,null,null,null,null,null,null,null,null,null,null,null,null,null,null,null,null,null,null,null,null,null,null,null,null,null,null,null,null,null,null,null,null,null,null,null,null,null,null,null,null,null,null,null,null,null,"/ Hour ",1962]
[null,null,null,null,null,null,null,null,null,null,null,null,null,null,null,null,null,null,null,null,null,null,null,null,null,null,null,null,null,null,null,null,null,null,null,null,null,null,null,null,null,null,null,null,null,null,null,null,null,null,null,null,null,null,null,null,null,null,null,null,null,"/ Hour ",1979]
[null,null,null,null,null,null,null,null,null,null,null,null,null,null,null,null,null,null,null,null,null,null,null,null,null,null,null,null,null,null,null,null,null,null,null,null,null,null,null,null,null,null,null,null,null,null,null,null,null,null,null,null,null,null,null,null,null,null,null,null,null,"/ Hour ",1996]
[null,null,null,null,null,null,null,null,null,null,null,null,null,null,null,null,null,null,null,null,null,null,null,null,null,null,null,null,null,null,null,null,null,null,null,null,null,null,null,null,null,null,null,null,null,null,null,null,null,null,null,null,null,null,null,null,null,null,null,null,null,"/ Hour ",2014]
[null,null,null,null,null,null,null,null,null,null,null,null,null,null,null,null,null,null,null,null,null,null,null,null,null,null,null,null,null,null,null,null,null,null,null,null,null,null,null,null,null,null,null,null,null,null,null,null,null,null,null,null,null,null,null,null,null,null,null,null,null,"/ Hour ",2031]
[null,null,null,null,null,null,null,null,null,null,null,null,null,null,null,null,null,null,null,null,null,null,null,null,null,null,null,null,null,null,null,null,null,null,null,null,null,null,null,null,null,null,null,null,null,null,null,null,null,null,null,null,null,null,null,null,null,null,null,null,null,"/ Hour ",2046]
[null,null,null,null,null,null,null,null,null,null,null,null,null,null,null,null,null,null,null,null,null,null,null,null,null,null,null,null,null,null,null,null,null,null,null,null,null,null,null,null,null,null,null,null,null,null,null,null,null,null,null,null,null,null,null,null,null,null,null,null,null,"/ Hour ",2066]
[null,null,null,null,null,null,null,null,null,null,null,null,null,null,null,null,null,null,null,null,null,null,null,null,null,null,null,null,null,null,null,null,null,null,null,null,null,null,null,null,null,null,null,null,null,null,null,null,null,null,null,null,null,null,null,null,null,null,null,null,null,"/ Hour ",2083]
[null,null,null,null,null,null,null,null,null,null,null,null,null,null,null,null,null,null,null,null,null,null,null,null,null,null,null,null,null,null,null,null,null,null,null,null,null,null,null,null,null,null,null,null,null,null,null,null,null,null,null,null,null,null,null,null,null,null,null,null,null,"/ Hour ",2096]
[null,null,null,null,null,null,null,null,null,null,null,null,null,null,null,null,null,null,null,null,null,null,null,null,null,null,null,null,null,null,null,null,null,null,null,null,null,null,null,null,null,null,null,null,null,null,null,null,null,null,null,null,null,null,null,null,null,null,null,null,null,"/ Hour ",2118]
[null,null,null,null,null,null,null,null,null,null,null,null,null,null,null,null,null,null,null,null,null,null,null,null,null,null,null,null,null,null,null,null,null,null,null,null,null,null,null,null,null,null,null,null,null,null,null,null,null,null,null,null,null,null,null,null,null,null,null,null,null,"/ Hour ",2135]
[null,null,null,null,null,null,null,null,null,null,null,null,null,null,null,null,null,null,null,null,null,null,null,null,null,null,null,null,null,null,null,null,null,null,null,null,null,null,null,null,null,null,null,null,null,null,null,null,null,null,null,null,null,null,null,null,null,null,null,null,null,"/ Hour ",2146]
[null,null,null,null,null,null,null,null,null,null,null,null,null,null,null,null,null,null,null,null,null,null,null,null,null,null,null,null,null,null,null,null,null,null,null,null,null,null,null,null,null,null,null,null,null,null,null,null,null,null,null,null,null,null,null,null,null,null,null,null,null,"/ Hour ",2170]
[null,null,null,null,null,null,null,null,null,null,null,null,null,null,null,null,null,null,null,null,null,null,null,null,null,null,null,null,null,null,null,null,null,null,null,null,null,null,null,null,null,null,null,null,null,null,null,null,null,null,null,null,null,null,null,null,null,null,null,null,null,"/ Hour ",2171]
[null,null,null,null,null,null,null,null,null,null,null,null,null,null,null,null,null,null,null,null,null,null,null,null,null,null,null,null,null,null,null,null,null,null,null,null,null,null,null,null,null,null,null,null,null,null,null,null,null,null,null,null,null,null,null,null,null,null,null,null,null,"/ Hour ",2188]
[null,null,null,null,null,null,null,null,null,null,null,null,null,null,null,null,null,null,null,null,null,null,null,null,null,null,null,null,null,null,null,null,null,null,null,null,null,null,null,null,null,null,null,null,null,null,null,null,null,null,null,null,null,null,null,null,null,null,null,null,null,"/ Hour ",2213]
[null,null,null,null,null,null,null,null,null,null,null,null,null,null,null,null,null,null,null,null,null,null,null,null,null,null,null,null,null,null,null,null,null,null,null,null,null,null,null,null,null,null,null,null,null,null,null,null,null,null,null,null,null,null,null,null,null,null,null,null,null,"/ Hour ",2223]
[null,null,null,null,null,null,null,null,null,null,null,null,null,null,null,null,null,null,null,null,null,null,null,null,null,null,null,null,null,null,null,null,null,null,null,null,null,null,null,null,null,null,null,null,null,null,null,null,null,null,null,null,null,null,null,null,null,null,null,null,null,"/ Hour ",2240]
[null,null,null,null,null,null,null,null,null,null,null,null,null,null,null,null,null,null,null,null,null,null,null,null,null,null,null,null,null,null,null,null,null,null,null,null,null,null,null,null,null,null,null,null,null,null,null,null,null,null,null,null,null,null,null,null,null,null,null,null,null,"/ Hour ",2263]
[null,null,null,null,null,null,null,null,null,null,null,null,null,null,null,null,null,null,null,null,null,null,null,null,null,null,null,null,null,null,null,null,null,null,null,null,null,null,null,null,null,null,null,null,null,null,null,null,null,null,null,null,null,null,null,null,null,null,null,null,null,"/ Hour ",2275]
[null,null,null,null,null,null,null,null,null,null,null,null,null,null,null,null,null,null,null,null,null,null,null,null,null,null,null,null,null,null,null,null,null,null,null,null,null,null,null,null,null,null,null,null,null,null,null,null,null,null,null,null,null,null,null,null,null,null,null,null,null,"/ Hour ",2292]
[null,null,null,null,null,null,null,null,null,null,null,null,null,null,null,null,null,null,null,null,null,null,null,null,null,null,null,null,null,null,null,null,null,null,null,null,null,null,null,null,null,null,null,null,null,null,null,null,null,null,null,null,null,null,null,null,null,null,null,null,null,"/ Hour ",2313]
[null,null,null,null,null,null,null,null,null,null,null,null,null,null,null,null,null,null,null,null,null,null,null,null,null,null,null,null,null,null,null,null,null,null,null,null,null,null,null,null,null,null,null,null,null,null,null,null,null,null,null,null,null,null,null,null,null,null,null,null,null,"/ Hour ",2327]
[null,null,null,null,null,null,null,null,null,null,null,null,null,null,null,null,null,null,null,null,null,null,null,null,null,null,null,null,null,null,null,null,null,null,null,null,null,null,null,null,null,null,null,null,null,null,null,null,null,null,null,null,null,null,null,null,null,null,null,null,null,"/ Hour ",2344]
[null,null,null,null,null,null,null,null,null,null,null,null,null,null,null,null,null,null,null,null,null,null,null,null,null,null,null,null,null,null,null,null,null,null,null,null,null,null,null,null,null,null,null,null,null,null,null,null,null,null,null,null,null,null,null,null,null,null,null,null,null,"/ Hour ",2363]
[null,null,null,null,null,null,null,null,null,null,null,null,null,null,null,null,null,null,null,null,null,null,null,null,null,null,null,null,null,null,null,null,null,null,null,null,null,null,null,null,null,null,null,null,null,null,null,null,null,null,null,null,null,null,null,null,null,null,null,null,null,"/ Hour ",2379]
[null,null,null,null,null,null,null,null,null,null,null,null,null,null,null,null,null,null,null,null,null,null,null,null,null,null,null,null,null,null,null,null,null,null,null,null,null,null,null,null,null,null,null,null,null,null,null,null,null,null,null,null,null,null,null,null,null,null,null,null,null,"/ Hour ",2396]
[null,null,null,null,null,null,null,null,null,null,null,null,null,null,null,null,null,null,null,null,null,null,null,null,null,null,null,null,null,null,null,null,null,null,null,null,null,null,null,null,null,null,null,null,null,null,null,null,null,null,null,null,null,null,null,null,null,null,null,null,null,"/ Hour ",2413]
[null,null,null,null,null,null,null,null,null,null,null,null,null,null,null,null,null,null,null,null,null,null,null,null,null,null,null,null,null,null,null,null,null,null,null,null,null,null,null,null,null,null,null,null,null,null,null,null,null,null,null,null,null,null,null,null,null,null,null,null,null,"/ Hour ",2431]
[null,null,null,null,null,null,null,null,null,null,null,null,null,null,null,null,null,null,null,null,null,null,null,null,null,null,null,null,null,null,null,null,null,null,null,null,null,null,null,null,null,null,null,null,null,null,null,null,null,null,null,null,null,null,null,null,null,null,null,null,null,"/ Hour ",2432]
[null,null,null,null,null,null,null,null,null,null,null,null,null,null,null,null,null,null,null,null,null,null,null,null,null,null,null,null,null,null,null,null,null,null,null,null,null,null,null,null,null,null,null,null,null,null,null,null,null,null,null,null,null,null,null,null,null,null,null,null,null,"/ Hour ",2449]
[null,null,null,null,null,null,null,null,null,null,null,null,null,null,null,null,null,null,null,null,null,null,null,null,null,null,null,null,null,null,null,null,null,null,null,null,null,null,null,null,null,null,null,null,null,null,null,null,null,null,null,null,null,null,null,null,null,null,null,null,null,"/ Hour ",2480]
[null,null,null,null,null,null,null,null,null,null,null,null,null,null,null,null,null,null,null,null,null,null,null,null,null,null,null,null,null,null,null,null,null,null,null,null,null,null,null,null,null,null,null,null,null,null,null,null,null,null,null,null,null,null,null,null,null,null,null,null,null,"/ Hour ",2484]
[null,null,null,null,null,null,null,null,null,null,null,null,null,null,null,null,null,null,null,null,null,null,null,null,null,null,null,null,null,null,null,null,null,null,null,null,null,null,null,null,null,null,null,null,null,null,null,null,null,null,null,null,null,null,null,null,null,null,null,null,null,"/ Hour ",2501]
[null,null,null,null,null,null,null,null,null,null,null,null,null,null,null,null,null,null,null,null,null,null,null,null,null,null,null,null,null,null,null,null,null,null,null,null,null,null,null,null,null,null,null,null,null,null,null,null,null,null,null,null,null,null,null,null,null,null,null,null,null,"/ Hour ",2513]
[null,null,null,null,null,null,null,null,null,null,null,null,null,null,null,null,null,null,null,null,null,null,null,null,null,null,null,null,null,null,null,null,null,null,null,null,null,null,null,null,null,null,null,null,null,null,null,null,null,null,null,null,null,null,null,null,null,null,null,null,null,"/ Hour ",2536]
[null,null,null,null,null,null,null,null,null,null,null,null,null,null,null,null,null,null,null,null,null,null,null,null,null,null,null,null,null,null,null,null,null,null,null,null,null,null,null,null,null,null,null,null,null,null,null,null,null,null,null,null,null,null,null,null,null,null,null,null,null,"/ Hour ",2553]
[null,null,null,null,null,null,null,null,null,null,null,null,null,null,null,null,null,null,null,null,null,null,null,null,null,null,null,null,null,null,null,null,null,null,null,null,null,null,null,null,null,null,null,null,null,null,null,null,null,null,null,null,null,null,null,null,null,null,null,null,null,"/ Hour ",2563]
[null,null,null,null,null,null,null,null,null,null,null,null,null,null,null,null,null,null,null,null,null,null,null,null,null,null,null,null,null,null,null,null,null,null,null,null,null,null,null,null,null,null,null,null,null,null,null,null,null,null,null,null,null,null,null,null,null,null,null,null,null,"/ Hour ",2588]
[null,null,null,null,null,null,null,null,null,null,null,null,null,null,null,null,null,null,null,null,null,null,null,null,null,null,null,null,null,null,null,null,null,null,null,null,null,null,null,null,null,null,null,null,null,null,null,null,null,null,null,null,null,null,null,null,null,null,null,null,null,"/ Hour ",2605]
[null,null,null,null,null,null,null,null,null,null,null,null,null,null,null,null,null,null,null,null,null,null,null,null,null,null,null,null,null,null,null,null,null,null,null,null,null,null,null,null,null,null,null,null,null,null,null,null,null,null,null,null,null,null,null,null,null,null,null,null,null,"/ Hour ",2613]
[null,null,null,null,null,null,null,null,null,null,null,null,null,null,null,null,null,null,null,null,null,null,null,null,null,null,null,null,null,null,null,null,null,null,null,null,null,null,null,null,null,null,null,null,null,null,null,null,null,null,null,null,null,null,null,null,null,null,null,null,null,"/ Hour ",2640]
[null,null,null,null,null,null,null,null,null,null,null,null,null,null,null,null,null,null,null,null,null,null,null,null,null,null,null,null,null,null,null,null,null,null,null,null,null,null,null,null,null,null,null,null,null,null,null,null,null,null,null,null,null,null,null,null,null,null,null,null,null,"/ Hour ",2657]
[null,null,null,null,null,null,null,null,null,null,null,null,null,null,null,null,null,null,null,null,null,null,null,null,null,null,null,null,null,null,null,null,null,null,null,null,null,null,null,null,null,null,null,null,null,null,null,null,null,null,null,null,null,null,null,null,null,null,null,null,null,"/ Hour ",2663]
[null,null,null,null,null,null,null,null,null,null,null,null,null,null,null,null,null,null,null,null,null,null,null,null,null,null,null,null,null,null,null,null,null,null,null,null,null,null,null,null,null,null,null,null,null,null,null,null,null,null,null,null,null,null,null,null,null,null,null,null,null,"/ Hour ",2692]
[null,null,null,null,null,null,null,null,null,null,null,null,null,null,null,null,null,null,null,null,null,null,null,null,null,null,null,null,null,null,null,null,null,null,null,null,null,null,null,null,null,null,null,null,null,null,null,null,null,null,null,null,null,null,null,null,null,null,null,null,null,"/ Hour ",2693]
[null,null,null,null,null,null,null,null,null,null,null,null,null,null,null,null,null,null,null,null,null,null,null,null,null,null,null,null,null,null,null,null,null,null,null,null,null,null,null,null,null,null,null,null,null,null,null,null,null,null,null,null,null,null,null,null,null,null,null,null,null,"/ Hour ",2713]
[null,null,null,null,null,null,null,null,null,null,null,null,null,null,null,null,null,null,null,null,null,null,null,null,null,null,null,null,null,null,null,null,null,null,null,null,null,null,null,null,null,null,null,null,null,null,null,null,null,null,null,null,null,null,null,null,null,null,null,null,null,"/ Hour ",2728]
[null,null,null,null,null,null,null,null,null,null,null,null,null,null,null,null,null,null,null,null,null,null,null,null,null,null,null,null,null,null,null,null,null,null,null,null,null,null,null,null,null,null,null,null,null,null,null,null,null,null,null,null,null,null,null,null,null,null,null,null,null,"/ Hour ",2745]
[null,null,null,null,null,null,null,null,null,null,null,null,null,null,null,null,null,null,null,null,null,null,null,null,null,null,null,null,null,null,null,null,null,null,null,null,null,null,null,null,null,null,null,null,null,null,null,null,null,null,null,null,null,null,null,null,null,null,null,null,null,"/ Hour ",2762]
[null,null,null,null,null,null,null,null,null,null,null,null,null,null,null,null,null,null,null,null,null,null,null,null,null,null,null,null,null,null,null,null,null,null,null,null,null,null,null,null,null,null,null,null,null,null,null,null,null,null,null,null,null,null,null,null,null,null,null,null,null,"/ Hour ",2780]
[null,null,null,null,null,null,null,null,null,null,null,null,null,null,null,null,null,null,null,null,null,null,null,null,null,null,null,null,null,null,null,null,null,null,null,null,null,null,null,null,null,null,null,null,null,null,null,null,null,null,null,null,null,null,null,null,null,null,null,null,null,"/ Hour ",2797]
[null,null,null,null,null,null,null,null,null,null,null,null,null,null,null,null,null,null,null,null,null,null,null,null,null,null,null,null,null,null,null,null,null,null,null,null,null,null,null,null,null,null,null,null,null,null,null,null,null,null,null,null,null,null,null,null,null,null,null,null,null,"/ Hour ",2814]
[null,null,null,null,null,null,null,null,null,null,null,null,null,null,null,null,null,null,null,null,null,null,null,null,null,null,null,null,null,null,null,null,null,null,null,null,null,null,null,null,null,null,null,null,null,null,null,null,null,null,null,null,null,null,null,null,null,null,null,null,null,"/ Hour ",2830]
[null,null,null,null,null,null,null,null,null,null,null,null,null,null,null,null,null,null,null,null,null,null,null,null,null,null,null,null,null,null,null,null,null,null,null,null,null,null,null,null,null,null,null,null,null,null,null,null,null,null,null,null,null,null,null,null,null,null,null,null,null,"/ Hour ",2849]
[null,null,null,null,null,null,null,null,null,null,null,null,null,null,null,null,null,null,null,null,null,null,null,null,null,null,null,null,null,null,null,null,null,null,null,null,null,null,null,null,null,null,null,null,null,null,null,null,null,null,null,null,null,null,null,null,null,null,null,null,null,"/ Hour ",2866]
[null,null,null,null,null,null,null,null,null,null,null,null,null,null,null,null,null,null,null,null,null,null,null,null,null,null,null,null,null,null,null,null,null,null,null,null,null,null,null,null,null,null,null,null,null,null,null,null,null,null,null,null,null,null,null,null,null,null,null,null,null,"/ Hour ",2880]
[null,null,null,null,null,null,null,null,null,null,null,null,null,null,null,null,null,null,null,null,null,null,null,null,null,null,null,null,null,null,null,null,null,null,null,null,null,null,null,null,null,null,null,null,null,null,null,null,null,null,null,null,null,null,null,null,null,null,null,null,null,"/ Hour ",2901]
[null,null,null,null,null,null,null,null,null,null,null,null,null,null,null,null,null,null,null,null,null,null,null,null,null,null,null,null,null,null,null,null,null,null,null,null,null,null,null,null,null,null,null,null,null,null,null,null,null,null,null,null,null,null,null,null,null,null,null,null,null,"/ Hour ",2918]
[null,null,null,null,null,null,null,null,null,null,null,null,null,null,null,null,null,null,null,null,null,null,null,null,null,null,null,null,null,null,null,null,null,null,null,null,null,null,null,null,null,null,null,null,null,null,null,null,null,null,null,null,null,null,null,null,null,null,null,null,null,"/ Hour ",2930]
[null,null,null,null,null,null,null,null,null,null,null,null,null,null,null,null,null,null,null,null,null,null,null,null,null,null,null,null,null,null,null,null,null,null,null,null,null,null,null,null,null,null,null,null,null,null,null,null,null,null,null,null,null,null,null,null,null,null,null,null,null,"/ Hour ",2953]
[null,null,null,null,null,null,null,null,null,null,null,null,null,null,null,null,null,null,null,null,null,null,null,null,null,null,null,null,null,null,null,null,null,null,null,null,null,null,null,null,null,null,null,null,null,null,null,null,null,null,null,null,null,null,null,null,null,null,null,null,null,"/ Hour ",2954]
[null,null,null,null,null,null,null,null,null,null,null,null,null,null,null,null,null,null,null,null,null,null,null,null,null,null,null,null,null,null,null,null,null,null,null,null,null,null,null,null,null,null,null,null,null,null,null,null,null,null,null,null,null,null,null,null,null,null,null,null,null,"/ Hour ",2981]
[null,null,null,null,null,null,null,null,null,null,null,null,null,null,null,null,null,null,null,null,null,null,null,null,null,null,null,null,null,null,null,null,null,null,null,null,null,null,null,null,null,null,null,null,null,null,null,null,null,null,null,null,null,null,null,null,null,null,null,null,null,"/ Hour ",2989]
[null,null,null,null,null,null,null,null,null,null,null,null,null,null,null,null,null,null,null,null,null,null,null,null,null,null,null,null,null,null,null,null,null,null,null,null,null,null,null,null,null,null,null,null,null,null,null,null,null,null,null,null,null,null,null,null,null,null,null,null,null,"/ Hour ",3006]
[null,null,null,null,null,null,null,null,null,null,null,null,null,null,null,null,null,null,null,null,null,null,null,null,null,null,null,null,null,null,null,null,null,null,null,null,null,null,null,null,null,null,null,null,null,null,null,null,null,null,null,null,null,null,null,null,null,null,null,null,null,"/ Hour ",3023]
[null,null,null,null,null,null,null,null,null,null,null,null,null,null,null,null,null,null,null,null,null,null,null,null,null,null,null,null,null,null,null,null,null,null,null,null,null,null,null,null,null,null,null,null,null,null,null,null,null,null,null,null,null,null,null,null,null,null,null,null,null,"/ Hour ",3047]
[null,null,null,null,null,null,null,null,null,null,null,null,null,null,null,null,null,null,null,null,null,null,null,null,null,null,null,null,null,null,null,null,null,null,null,null,null,null,null,null,null,null,null,null,null,null,null,null,null,null,null,null,null,null,null,null,null,null,null,null,null,"/ Hour ",3058]
[null,null,null,null,null,null,null,null,null,null,null,null,null,null,null,null,null,null,null,null,null,null,null,null,null,null,null,null,null,null,null,null,null,null,null,null,null,null,null,null,null,null,null,null,null,null,null,null,null,null,null,null,null,null,null,null,null,null,null,null,null,"/ Hour ",3075]
[null,null,null,null,null,null,null,null,null,null,null,null,null,null,null,null,null,null,null,null,null,null,null,null,null,null,null,null,null,null,null,null,null,null,null,null,null,null,null,null,null,null,null,null,null,null,null,null,null,null,null,null,null,null,null,null,null,null,null,null,null,"/ Hour ",3097]
[null,null,null,null,null,null,null,null,null,null,null,null,null,null,null,null,null,null,null,null,null,null,null,null,null,null,null,null,null,null,null,null,null,null,null,null,null,null,null,null,null,null,null,null,null,null,null,null,null,null,null,null,null,null,null,null,null,null,null,null,null,"/ Hour ",3110]
[null,null,null,null,null,null,null,null,null,null,null,null,null,null,null,null,null,null,null,null,null,null,null,null,null,null,null,null,null,null,null,null,null,null,null,null,null,null,null,null,null,null,null,null,null,null,null,null,null,null,null,null,null,null,null,null,null,null,null,null,null,"/ Hour ",3127]
[null,null,null,null,null,null,null,null,null,null,null,null,null,null,null,null,null,null,null,null,null,null,null,null,null,null,null,null,null,null,null,null,null,null,null,null,null,null,null,null,null,null,null,null,null,null,null,null,null,null,null,null,null,null,null,null,null,null,null,null,null,"/ Hour ",3147]
[null,null,null,null,null,null,null,null,null,null,null,null,null,null,null,null,null,null,null,null,null,null,null,null,null,null,null,null,null,null,null,null,null,null,null,null,null,null,null,null,null,null,null,null,null,null,null,null,null,null,null,null,null,null,null,null,null,null,null,null,null,"/ Hour ",3162]
[null,null,null,null,null,null,null,null,null,null,null,null,null,null,null,null,null,null,null,null,null,null,null,null,null,null,null,null,null,null,null,null,null,null,null,null,null,null,null,null,null,null,null,null,null,null,null,null,null,null,null,null,null,null,null,null,null,null,null,null,null,"/ Hour ",3179]
[null,null,null,null,null,null,null,null,null,null,null,null,null,null,null,null,null,null,null,null,null,null,null,null,null,null,null,null,null,null,null,null,null,null,null,null,null,null,null,null,null,null,null,null,null,null,null,null,null,null,null,null,null,null,null,null,null,null,null,null,null,"/ Hour ",3198]
[null,null,null,null,null,null,null,null,null,null,null,null,null,null,null,null,null,null,null,null,null,null,null,null,null,null,null,null,null,null,null,null,null,null,null,null,null,null,null,null,null,null,null,null,null,null,null,null,null,null,null,null,null,null,null,null,null,null,null,null,null,"/ Hour ",3214]
[null,null,null,null,null,null,null,null,null,null,null,null,null,null,null,null,null,null,null,null,null,null,null,null,null,null,null,null,null,null,null,null,null,null,null,null,null,null,null,null,null,null,null,null,null,null,null,null,null,null,null,null,null,null,null,null,null,null,null,null,null,"/ Hour ",3215]
[null,null,null,null,null,null,null,null,null,null,null,null,null,null,null,null,null,null,null,null,null,null,null,null,null,null,null,null,null,null,null,null,null,null,null,null,null,null,null,null,null,null,null,null,null,null,null,null,null,null,null,null,null,null,null,null,null,null,null,null,null,"/ Hour ",3231]
[null,null,null,null,null,null,null,null,null,null,null,null,null,null,null,null,null,null,null,null,null,null,null,null,null,null,null,null,null,null,null,null,null,null,null,null,null,null,null,null,null,null,null,null,null,null,null,null,null,null,null,null,null,null,null,null,null,null,null,null,null,"/ Hour ",3250]
[null,null,null,null,null,null,null,null,null,null,null,null,null,null,null,null,null,null,null,null,null,null,null,null,null,null,null,null,null,null,null,null,null,null,null,null,null,null,null,null,null,null,null,null,null,null,null,null,null,null,null,null,null,null,null,null,null,null,null,null,null,"/ Hour ",3267]
[null,null,null,null,null,null,null,null,null,null,null,null,null,null,null,null,null,null,null,null,null,null,null,null,null,null,null,null,null,null,null,null,null,null,null,null,null,null,null,null,null,null,null,null,null,null,null,null,null,null,null,null,null,null,null,null,null,null,null,null,null,"/ Hour ",3281]
[null,null,null,null,null,null,null,null,null,null,null,null,null,null,null,null,null,null,null,null,null,null,null,null,null,null,null,null,null,null,null,null,null,null,null,null,null,null,null,null,null,null,null,null,null,null,null,null,null,null,null,null,null,null,null,null,null,null,null,null,null,"/ Hour ",3302]
[null,null,null,null,null,null,null,null,null,null,null,null,null,null,null,null,null,null,null,null,null,null,null,null,null,null,null,null,null,null,null,null,null,null,null,null,null,null,null,null,null,null,null,null,null,null,null,null,null,null,null,null,null,null,null,null,null,null,null,null,null,"/ Hour ",3319]
[null,null,null,null,null,null,null,null,null,null,null,null,null,null,null,null,null,null,null,null,null,null,null,null,null,null,null,null,null,null,null,null,null,null,null,null,null,null,null,null,null,null,null,null,null,null,null,null,null,null,null,null,null,null,null,null,null,null,null,null,null,"/ Hour ",3336]
[null,null,null,null,null,null,null,null,null,null,null,null,null,null,null,null,null,null,null,null,null,null,null,null,null,null,null,null,null,null,null,null,null,null,null,null,null,null,null,null,null,null,null,null,null,null,null,null,null,null,null,null,null,null,null,null,null,null,null,null,null,"/ Hour ",3347]
[null,null,null,null,null,null,null,null,null,null,null,null,null,null,null,null,null,null,null,null,null,null,null,null,null,null,null,null,null,null,null,null,null,null,null,null,null,null,null,null,null,null,null,null,null,null,null,null,null,null,null,null,null,null,null,null,null,null,null,null,null,"/ Hour ",3371]
[null,null,null,null,null,null,null,null,null,null,null,null,null,null,null,null,null,null,null,null,null,null,null,null,null,null,null,null,null,null,null,null,null,null,null,null,null,null,null,null,null,null,null,null,null,null,null,null,null,null,null,null,null,null,null,null,null,null,null,null,null,"/ Hour ",3388]
[null,null,null,null,null,null,null,null,null,null,null,null,null,null,null,null,null,null,null,null,null,null,null,null,null,null,null,null,null,null,null,null,null,null,null,null,null,null,null,null,null,null,null,null,null,null,null,null,null,null,null,null,null,null,null,null,null,null,null,null,null,"/ Hour ",3397]
[null,null,null,null,null,null,null,null,null,null,null,null,null,null,null,null,null,null,null,null,null,null,null,null,null,null,null,null,null,null,null,null,null,null,null,null,null,null,null,null,null,null,null,null,null,null,null,null,null,null,null,null,null,null,null,null,null,null,null,null,null,"/ Hour ",3423]
[null,null,null,null,null,null,null,null,null,null,null,null,null,null,null,null,null,null,null,null,null,null,null,null,null,null,null,null,null,null,null,null,null,null,null,null,null,null,null,null,null,null,null,null,null,null,null,null,null,null,null,null,null,null,null,null,null,null,null,null,null,"/ Hour ",3440]
[null,null,null,null,null,null,null,null,null,null,null,null,null,null,null,null,null,null,null,null,null,null,null,null,null,null,null,null,null,null,null,null,null,null,null,null,null,null,null,null,null,null,null,null,null,null,null,null,null,null,null,null,null,null,null,null,null,null,null,null,null,"/ Hour ",3448]
[null,null,null,null,null,null,null,null,null,null,null,null,null,null,null,null,null,null,null,null,null,null,null,null,null,null,null,null,null,null,null,null,null,null,null,null,null,null,null,null,null,null,null,null,null,null,null,null,null,null,null,null,null,null,null,null,null,null,null,null,null,"/ Hour ",3475]
[null,null,null,null,null,null,null,null,null,null,null,null,null,null,null,null,null,null,null,null,null,null,null,null,null,null,null,null,null,null,null,null,null,null,null,null,null,null,null,null,null,null,null,null,null,null,null,null,null,null,null,null,null,null,null,null,null,null,null,null,null,"/ Hour ",3476]
[null,null,null,null,null,null,null,null,null,null,null,null,null,null,null,null,null,null,null,null,null,null,null,null,null,null,null,null,null,null,null,null,null,null,null,null,null,null,null,null,null,null,null,null,null,null,null,null,null,null,null,null,null,null,null,null,null,null,null,null,null,"/ Hour ",3498]
[null,null,null,null,null,null,null,null,null,null,null,null,null,null,null,null,null,null,null,null,null,null,null,null,null,null,null,null,null,null,null,null,null,null,null,null,null,null,null,null,null,null,null,null,null,null,null,null,null,null,null,null,null,null,null,null,null,null,null,null,null,"/ Hour ",3511]
[null,null,null,null,null,null,null,null,null,null,null,null,null,null,null,null,null,null,null,null,null,null,null,null,null,null,null,null,null,null,null,null,null,null,null,null,null,null,null,null,null,null,null,null,null,null,null,null,null,null,null,null,null,null,null,null,null,null,null,null,null,"/ Hour ",3528]
[null,null,null,null,null,null,null,null,null,null,null,null,null,null,null,null,null,null,null,null,null,null,null,null,null,null,null,null,null,null,null,null,null,null,null,null,null,null,null,null,null,null,null,null,null,null,null,null,null,null,null,null,null,null,null,null,null,null,null,null,null,"/ Hour ",3548]
[null,null,null,null,null,null,null,null,null,null,null,null,null,null,null,null,null,null,null,null,null,null,null,null,null,null,null,null,null,null,null,null,null,null,null,null,null,null,null,null,null,null,null,null,null,null,null,null,null,null,null,null,null,null,null,null,null,null,null,null,null,"/ Hour ",3563]
[null,null,null,null,null,null,null,null,null,null,null,null,null,null,null,null,null,null,null,null,null,null,null,null,null,null,null,null,null,null,null,null,null,null,null,null,null,null,null,null,null,null,null,null,null,null,null,null,null,null,null,null,null,null,null,null,null,null,null,null,null,"/ Hour ",3580]
[null,null,null,null,null,null,null,null,null,null,null,null,null,null,null,null,null,null,null,null,null,null,null,null,null,null,null,null,null,null,null,null,null,null,null,null,null,null,null,null,null,null,null,null,null,null,null,null,null,null,null,null,null,null,null,null,null,null,null,null,null,"/ Hour ",3597]
[null,null,null,null,null,null,null,null,null,null,null,null,null,null,null,null,null,null,null,null,null,null,null,null,null,null,null,null,null,null,null,null,null,null,null,null,null,null,null,null,null,null,null,null,null,null,null,null,null,null,null,null,null,null,null,null,null,null,null,null,null,"/ Hour ",3614]
[null,null,null,null,null,null,null,null,null,null,null,null,null,null,null,null,null,null,null,null,null,null,null,null,null,null,null,null,null,null,null,null,null,null,null,null,null,null,null,null,null,null,null,null,null,null,null,null,null,null,null,null,null,null,null,null,null,null,null,null,null,"/ Hour ",3632]
[null,null,null,null,null,null,null,null,null,null,null,null,null,null,null,null,null,null,null,null,null,null,null,null,null,null,null,null,null,null,null,null,null,null,null,null,null,null,null,null,null,null,null,null,null,null,null,null,null,null,null,null,null,null,null,null,null,null,null,null,null,"/ Hour ",3649]
[null,null,null,null,null,null,null,null,null,null,null,null,null,null,null,null,null,null,null,null,null,null,null,null,null,null,null,null,null,null,null,null,null,null,null,null,null,null,null,null,null,null,null,null,null,null,null,null,null,null,null,null,null,null,null,null,null,null,null,null,null,"/ Hour ",3665]
[null,null,null,null,null,null,null,null,null,null,null,null,null,null,null,null,null,null,null,null,null,null,null,null,null,null,null,null,null,null,null,null,null,null,null,null,null,null,null,null,null,null,null,null,null,null,null,null,null,null,null,null,null,null,null,null,null,null,null,null,null,"/ Hour ",3684]
[null,null,null,null,null,null,null,null,null,null,null,null,null,null,null,null,null,null,null,null,null,null,null,null,null,null,null,null,null,null,null,null,null,null,null,null,null,null,null,null,null,null,null,null,null,null,null,null,null,null,null,null,null,null,null,null,null,null,null,null,null,"/ Hour ",3701]
[null,null,null,null,null,null,null,null,null,null,null,null,null,null,null,null,null,null,null,null,null,null,null,null,null,null,null,null,null,null,null,null,null,null,null,null,null,null,null,null,null,null,null,null,null,null,null,null,null,null,null,null,null,null,null,null,null,null,null,null,null,"/ Hour ",3715]
[null,null,null,null,null,null,null,null,null,null,null,null,null,null,null,null,null,null,null,null,null,null,null,null,null,null,null,null,null,null,null,null,null,null,null,null,null,null,null,null,null,null,null,null,null,null,null,null,null,null,null,null,null,null,null,null,null,null,null,null,null,"/ Hour ",3736]
[null,null,null,null,null,null,null,null,null,null,null,null,null,null,null,null,null,null,null,null,null,null,null,null,null,null,null,null,null,null,null,null,null,null,null,null,null,null,null,null,null,null,null,null,null,null,null,null,null,null,null,null,null,null,null,null,null,null,null,null,null,"/ Hour ",3737]
[null,null,null,null,null,null,null,null,null,null,null,null,null,null,null,null,null,null,null,null,null,null,null,null,null,null,null,null,null,null,null,null,null,null,null,null,null,null,null,null,null,null,null,null,null,null,null,null,null,null,null,null,null,null,null,null,null,null,null,null,null,"/ Hour ",3765]
[null,null,null,null,null,null,null,null,null,null,null,null,null,null,null,null,null,null,null,null,null,null,null,null,null,null,null,null,null,null,null,null,null,null,null,null,null,null,null,null,null,null,null,null,null,null,null,null,null,null,null,null,null,null,null,null,null,null,null,null,null,"/ Hour ",3772]
[null,null,null,null,null,null,null,null,null,null,null,null,null,null,null,null,null,null,null,null,null,null,null,null,null,null,null,null,null,null,null,null,null,null,null,null,null,null,null,null,null,null,null,null,null,null,null,null,null,null,null,null,null,null,null,null,null,null,null,null,null,"/ Hour ",3789]
[null,null,null,null,null,null,null,null,null,null,null,null,null,null,null,null,null,null,null,null,null,null,null,null,null,null,null,null,null,null,null,null,null,null,null,null,null,null,null,null,null,null,null,null,null,null,null,null,null,null,null,null,null,null,null,null,null,null,null,null,null,"/ Hour ",3815]
[null,null,null,null,null,null,null,null,null,null,null,null,null,null,null,null,null,null,null,null,null,null,null,null,null,null,null,null,null,null,null,null,null,null,null,null,null,null,null,null,null,null,null,null,null,null,null,null,null,null,null,null,null,null,null,null,null,null,null,null,null,"/ Hour ",3824]
[null,null,null,null,null,null,null,null,null,null,null,null,null,null,null,null,null,null,null,null,null,null,null,null,null,null,null,null,null,null,null,null,null,null,null,null,null,null,null,null,null,null,null,null,null,null,null,null,null,null,null,null,null,null,null,null,null,null,null,null,null,"/ Hour ",3841]
[null,null,null,null,null,null,null,null,null,null,null,null,null,null,null,null,null,null,null,null,null,null,null,null,null,null,null,null,null,null,null,null,null,null,null,null,null,null,null,null,null,null,null,null,null,null,null,null,null,null,null,null,null,null,null,null,null,null,null,null,null,"/ Hour ",3858]
[null,null,null,null,null,null,null,null,null,null,null,null,null,null,null,null,null,null,null,null,null,null,null,null,null,null,null,null,null,null,null,null,null,null,null,null,null,null,null,null,null,null,null,null,null,null,null,null,null,null,null,null,null,null,null,null,null,null,null,null,null,"/ Hour ",3882]
[null,null,null,null,null,null,null,null,null,null,null,null,null,null,null,null,null,null,null,null,null,null,null,null,null,null,null,null,null,null,null,null,null,null,null,null,null,null,null,null,null,null,null,null,null,null,null,null,null,null,null,null,null,null,null,null,null,null,null,null,null,"/ Hour ",3893]
[null,null,null,null,null,null,null,null,null,null,null,null,null,null,null,null,null,null,null,null,null,null,null,null,null,null,null,null,null,null,null,null,null,null,null,null,null,null,null,null,null,null,null,null,null,null,null,null,null,null,null,null,null,null,null,null,null,null,null,null,null,"/ Hour ",3910]
[null,null,null,null,null,null,null,null,null,null,null,null,null,null,null,null,null,null,null,null,null,null,null,null,null,null,null,null,null,null,null,null,null,null,null,null,null,null,null,null,null,null,null,null,null,null,null,null,null,null,null,null,null,null,null,null,null,null,null,null,null,"/ Hour ",3932]
[null,null,null,null,null,null,null,null,null,null,null,null,null,null,null,null,null,null,null,null,null,null,null,null,null,null,null,null,null,null,null,null,null,null,null,null,null,null,null,null,null,null,null,null,null,null,null,null,null,null,null,null,null,null,null,null,null,null,null,null,null,"/ Hour ",3945]
[null,null,null,null,null,null,null,null,null,null,null,null,null,null,null,null,null,null,null,null,null,null,null,null,null,null,null,null,null,null,null,null,null,null,null,null,null,null,null,null,null,null,null,null,null,null,null,null,null,null,null,null,null,null,null,null,null,null,null,null,null,"/ Hour ",3962]
[null,null,null,null,null,null,null,null,null,null,null,null,null,null,null,null,null,null,null,null,null,null,null,null,null,null,null,null,null,null,null,null,null,null,null,null,null,null,null,null,null,null,null,null,null,null,null,null,null,null,null,null,null,null,null,null,null,null,null,null,null,"/ Hour ",3965]
[null,null,null,null,null,null,null,null,null,null,null,null,null,null,null,null,null,null,null,null,null,null,null,null,null,null,null,null,null,null,null,null,null,null,null,null,null,null,null,null,null,null,null,null,null,null,null,null,null,null,null,null,null,null,null,null,null,null,null,null,null,"/ Hour ",3997]
[null,null,null,null,null,null,null,null,null,null,null,null,null,null,null,null,null,null,null,null,null,null,null,null,null,null,null,null,null,null,null,null,null,null,null,null,null,null,null,null,null,null,null,null,null,null,null,null,null,null,null,null,null,null,null,null,null,null,null,null,null,"/ Hour ",3998]
[null,null,null,null,null,null,null,null,null,null,null,null,null,null,null,null,null,null,null,null,null,null,null,null,null,null,null,null,null,null,null,null,null,null,null,null,null,null,null,null,null,null,null,null,null,null,null,null,null,null,null,null,null,null,null,null,null,null,null,null,null,"/ Hour ",4015]
[null,null,null,null,null,null,null,null,null,null,null,null,null,null,null,null,null,null,null,null,null,null,null,null,null,null,null,null,null,null,null,null,null,null,null,null,null,null,null,null,null,null,null,null,null,null,null,null,null,null,null,null,null,null,null,null,null,null,null,null,null,"/ Hour ",4033]
[null,null,null,null,null,null,null,null,null,null,null,null,null,null,null,null,null,null,null,null,null,null,null,null,null,null,null,null,null,null,null,null,null,null,null,null,null,null,null,null,null,null,null,null,null,null,null,null,null,null,null,null,null,null,null,null,null,null,null,null,null,"/ Hour ",4050]
[null,null,null,null,null,null,null,null,null,null,null,null,null,null,null,null,null,null,null,null,null,null,null,null,null,null,null,null,null,null,null,null,null,null,null,null,null,null,null,null,null,null,null,null,null,null,null,null,null,null,null,null,null,null,null,null,null,null,null,null,null,"/ Hour ",4065]
[null,null,null,null,null,null,null,null,null,null,null,null,null,null,null,null,null,null,null,null,null,null,null,null,null,null,null,null,null,null,null,null,null,null,null,null,null,null,null,null,null,null,null,null,null,null,null,null,null,null,null,null,null,null,null,null,null,null,null,null,null,"/ Hour ",4085]
[null,null,null,null,null,null,null,null,null,null,null,null,null,null,null,null,null,null,null,null,null,null,null,null,null,null,null,null,null,null,null,null,null,null,null,null,null,null,null,null,null,null,null,null,null,null,null,null,null,null,null,null,null,null,null,null,null,null,null,null,null,"/ Hour ",4102]
[null,null,null,null,null,null,null,null,null,null,null,null,null,null,null,null,null,null,null,null,null,null,null,null,null,null,null,null,null,null,null,null,null,null,null,null,null,null,null,null,null,null,null,null,null,null,null,null,null,null,null,null,null,null,null,null,null,null,null,null,null,"/ Hour ",4115]
[null,null,null,null,null,null,null,null,null,null,null,null,null,null,null,null,null,null,null,null,null,null,null,null,null,null,null,null,null,null,null,null,null,null,null,null,null,null,null,null,null,null,null,null,null,null,null,null,null,null,null,null,null,null,null,null,null,null,null,null,null,"/ Hour ",4137]
[null,null,null,null,null,null,null,null,null,null,null,null,null,null,null,null,null,null,null,null,null,null,null,null,null,null,null,null,null,null,null,null,null,null,null,null,null,null,null,null,null,null,null,null,null,null,null,null,null,null,null,null,null,null,null,null,null,null,null,null,null,"/ Hour ",4154]
[null,null,null,null,null,null,null,null,null,null,null,null,null,null,null,null,null,null,null,null,null,null,null,null,null,null,null,null,null,null,null,null,null,null,null,null,null,null,null,null,null,null,null,null,null,null,null,null,null,null,null,null,null,null,null,null,null,null,null,null,null,"/ Hour ",4171]
[null,null,null,null,null,null,null,null,null,null,null,null,null,null,null,null,null,null,null,null,null,null,null,null,null,null,null,null,null,null,null,null,null,null,null,null,null,null,null,null,null,null,null,null,null,null,null,null,null,null,null,null,null,null,null,null,null,null,null,null,null,"/ Hour ",4182]
[null,null,null,null,null,null,null,null,null,null,null,null,null,null,null,null,null,null,null,null,null,null,null,null,null,null,null,null,null,null,null,null,null,null,null,null,null,null,null,null,null,null,null,null,null,null,null,null,null,null,null,null,null,null,null,null,null,null,null,null,null,"/ Hour ",4206]
[null,null,null,null,null,null,null,null,null,null,null,null,null,null,null,null,null,null,null,null,null,null,null,null,null,null,null,null,null,null,null,null,null,null,null,null,null,null,null,null,null,null,null,null,null,null,null,null,null,null,null,null,null,null,null,null,null,null,null,null,null,"/ Hour ",4223]
[null,null,null,null,null,null,null,null,null,null,null,null,null,null,null,null,null,null,null,null,null,null,null,null,null,null,null,null,null,null,null,null,null,null,null,null,null,null,null,null,null,null,null,null,null,null,null,null,null,null,null,null,null,null,null,null,null,null,null,null,null,"/ Hour ",4232]
[null,null,null,null,null,null,null,null,null,null,null,null,null,null,null,null,null,null,null,null,null,null,null,null,null,null,null,null,null,null,null,null,null,null,null,null,null,null,null,null,null,null,null,null,null,null,null,null,null,null,null,null,null,null,null,null,null,null,null,null,null,"/ Hour ",4258]
[null,null,null,null,null,null,null,null,null,null,null,null,null,null,null,null,null,null,null,null,null,null,null,null,null,null,null,null,null,null,null,null,null,null,null,null,null,null,null,null,null,null,null,null,null,null,null,null,null,null,null,null,null,null,null,null,null,null,null,null,null,"/ Hour ",4259]
[null,null,null,null,null,null,null,null,null,null,null,null,null,null,null,null,null,null,null,null,null,null,null,null,null,null,null,null,null,null,null,null,null,null,null,null,null,null,null,null,null,null,null,null,null,null,null,null,null,null,null,null,null,null,null,null,null,null,null,null,null,"/ Hour ",4282]
[null,null,null,null,null,null,null,null,null,null,null,null,null,null,null,null,null,null,null,null,null,null,null,null,null,null,null,null,null,null,null,null,null,null,null,null,null,null,null,null,null,null,null,null,null,null,null,null,null,null,null,null,null,null,null,null,null,null,null,null,null,"/ Hour ",4294]
[null,null,null,null,null,null,null,null,null,null,null,null,null,null,null,null,null,null,null,null,null,null,null,null,null,null,null,null,null,null,null,null,null,null,null,null,null,null,null,null,null,null,null,null,null,null,null,null,null,null,null,null,null,null,null,null,null,null,null,null,null,"/ Hour ",4311]
[null,null,null,null,null,null,null,null,null,null,null,null,null,null,null,null,null,null,null,null,null,null,null,null,null,null,null,null,null,null,null,null,null,null,null,null,null,null,null,null,null,null,null,null,null,null,null,null,null,null,null,null,null,null,null,null,null,null,null,null,null,"/ Hour ",4332]
[null,null,null,null,null,null,null,null,null,null,null,null,null,null,null,null,null,null,null,null,null,null,null,null,null,null,null,null,null,null,null,null,null,null,null,null,null,null,null,null,null,null,null,null,null,null,null,null,null,null,null,null,null,null,null,null,null,null,null,null,null,"/ Hour ",4346]
[null,null,null,null,null,null,null,null,null,null,null,null,null,null,null,null,null,null,null,null,null,null,null,null,null,null,null,null,null,null,null,null,null,null,null,null,null,null,null,null,null,null,null,null,null,null,null,null,null,null,null,null,null,null,null,null,null,null,null,null,null,"/ Hour ",4363]
[null,null,null,null,null,null,null,null,null,null,null,null,null,null,null,null,null,null,null,null,null,null,null,null,null,null,null,null,null,null,null,null,null,null,null,null,null,null,null,null,null,null,null,null,null,null,null,null,null,null,null,null,null,null,null,null,null,null,null,null,null,"/ Hour ",4382]
[null,null,null,null,null,null,null,null,null,null,null,null,null,null,null,null,null,null,null,null,null,null,null,null,null,null,null,null,null,null,null,null,null,null,null,null,null,null,null,null,null,null,null,null,null,null,null,null,null,null,null,null,null,null,null,null,null,null,null,null,null,"/ Hour ",4398]
[null,null,null,null,null,null,null,null,null,null,null,null,null,null,null,null,null,null,null,null,null,null,null,null,null,null,null,null,null,null,null,null,null,null,null,null,null,null,null,null,null,null,null,null,null,null,null,null,null,null,null,null,null,null,null,null,null,null,null,null,null,"/ Hour ",4415]
[null,null,null,null,null,null,null,null,null,null,null,null,null,null,null,null,null,null,null,null,null,null,null,null,null,null,null,null,null,null,null,null,null,null,null,null,null,null,null,null,null,null,null,null,null,null,null,null,null,null,null,null,null,null,null,null,null,null,null,null,null,"/ Hour ",4432]
[null,null,null,null,null,null,null,null,null,null,null,null,null,null,null,null,null,null,null,null,null,null,null,null,null,null,null,null,null,null,null,null,null,null,null,null,null,null,null,null,null,null,null,null,null,null,null,null,null,null,null,null,null,null,null,null,null,null,null,null,null,"/ Hour ",4449]
[null,null,null,null,null,null,null,null,null,null,null,null,null,null,null,null,null,null,null,null,null,null,null,null,null,null,null,null,null,null,null,null,null,null,null,null,null,null,null,null,null,null,null,null,null,null,null,null,null,null,null,null,null,null,null,null,null,null,null,null,null,"/ Hour ",4467]
[null,null,null,null,null,null,null,null,null,null,null,null,null,null,null,null,null,null,null,null,null,null,null,null,null,null,null,null,null,null,null,null,null,null,null,null,null,null,null,null,null,null,null,null,null,null,null,null,null,null,null,null,null,null,null,null,null,null,null,null,null,"/ Hour ",4484]
[null,null,null,null,null,null,null,null,null,null,null,null,null,null,null,null,null,null,null,null,null,null,null,null,null,null,null,null,null,null,null,null,null,null,null,null,null,null,null,null,null,null,null,null,null,null,null,null,null,null,null,null,null,null,null,null,null,null,null,null,null,"/ Hour ",4499]
[null,null,null,null,null,null,null,null,null,null,null,null,null,null,null,null,null,null,null,null,null,null,null,null,null,null,null,null,null,null,null,null,null,null,null,null,null,null,null,null,null,null,null,null,null,null,null,null,null,null,null,null,null,null,null,null,null,null,null,null,null,"/ Hour ",4519]
[null,null,null,null,null,null,null,null,null,null,null,null,null,null,null,null,null,null,null,null,null,null,null,null,null,null,null,null,null,null,null,null,null,null,null,null,null,null,null,null,null,null,null,null,null,null,null,null,null,null,null,null,null,null,null,null,null,null,null,null,null,"/ Hour ",4520]
[null,null,null,null,null,null,null,null,null,null,null,null,null,null,null,null,null,null,null,null,null,null,null,null,null,null,null,null,null,null,null,null,null,null,null,null,null,null,null,null,null,null,null,null,null,null,null,null,null,null,null,null,null,null,null,null,null,null,null,null,null,"/ Hour ",4549]
[null,null,null,null,null,null,null,null,null,null,null,null,null,null,null,null,null,null,null,null,null,null,null,null,null,null,null,null,null,null,null,null,null,null,null,null,null,null,null,null,null,null,null,null,null,null,null,null,null,null,null,null,null,null,null,null,null,null,null,null,null,"/ Hour ",4555]
[null,null,null,null,null,null,null,null,null,null,null,null,null,null,null,null,null,null,null,null,null,null,null,null,null,null,null,null,null,null,null,null,null,null,null,null,null,null,null,null,null,null,null,null,null,null,null,null,null,null,null,null,null,null,null,null,null,null,null,null,null,"/ Hour ",4572]
[null,null,null,null,null,null,null,null,null,null,null,null,null,null,null,null,null,null,null,null,null,null,null,null,null,null,null,null,null,null,null,null,null,null,null,null,null,null,null,null,null,null,null,null,null,null,null,null,null,null,null,null,null,null,null,null,null,null,null,null,null,"/ Hour ",4599]
[null,null,null,null,null,null,null,null,null,null,null,null,null,null,null,null,null,null,null,null,null,null,null,null,null,null,null,null,null,null,null,null,null,null,null,null,null,null,null,null,null,null,null,null,null,null,null,null,null,null,null,null,null,null,null,null,null,null,null,null,null,"/ Hour ",4607]
[null,null,null,null,null,null,null,null,null,null,null,null,null,null,null,null,null,null,null,null,null,null,null,null,null,null,null,null,null,null,null,null,null,null,null,null,null,null,null,null,null,null,null,null,null,null,null,null,null,null,null,null,null,null,null,null,null,null,null,null,null,"/ Hour ",4624]
[null,null,null,null,null,null,null,null,null,null,null,null,null,null,null,null,null,null,null,null,null,null,null,null,null,null,null,null,null,null,null,null,null,null,null,null,null,null,null,null,null,null,null,null,null,null,null,null,null,null,null,null,null,null,null,null,null,null,null,null,null,"/ Hour ",4650]
[null,null,null,null,null,null,null,null,null,null,null,null,null,null,null,null,null,null,null,null,null,null,null,null,null,null,null,null,null,null,null,null,null,null,null,null,null,null,null,null,null,null,null,null,null,null,null,null,null,null,null,null,null,null,null,null,null,null,null,null,null,"/ Hour ",4659]
[null,null,null,null,null,null,null,null,null,null,null,null,null,null,null,null,null,null,null,null,null,null,null,null,null,null,null,null,null,null,null,null,null,null,null,null,null,null,null,null,null,null,null,null,null,null,null,null,null,null,null,null,null,null,null,null,null,null,null,null,null,"/ Hour ",4676]
[null,null,null,null,null,null,null,null,null,null,null,null,null,null,null,null,null,null,null,null,null,null,null,null,null,null,null,null,null,null,null,null,null,null,null,null,null,null,null,null,null,null,null,null,null,null,null,null,null,null,null,null,null,null,null,null,null,null,null,null,null,"/ Hour ",4683]
[null,null,null,null,null,null,null,null,null,null,null,null,null,null,null,null,null,null,null,null,null,null,null,null,null,null,null,null,null,null,null,null,null,null,null,null,null,null,null,null,null,null,null,null,null,null,null,null,null,null,null,null,null,null,null,null,null,null,null,null,null,"/ Hour ",4711]
[null,null,null,null,null,null,null,null,null,null,null,null,null,null,null,null,null,null,null,null,null,null,null,null,null,null,null,null,null,null,null,null,null,null,null,null,null,null,null,null,null,null,null,null,null,null,null,null,null,null,null,null,null,null,null,null,null,null,null,null,null,"/ Hour ",4728]
[null,null,null,null,null,null,null,null,null,null,null,null,null,null,null,null,null,null,null,null,null,null,null,null,null,null,null,null,null,null,null,null,null,null,null,null,null,null,null,null,null,null,null,null,null,null,null,null,null,null,null,null,null,null,null,null,null,null,null,null,null,"/ Hour ",4745]
[null,null,null,null,null,null,null,null,null,null,null,null,null,null,null,null,null,null,null,null,null,null,null,null,null,null,null,null,null,null,null,null,null,null,null,null,null,null,null,null,null,null,null,null,null,null,null,null,null,null,null,null,null,null,null,null,null,null,null,null,null,"/ Hour ",4749]
[null,null,null,null,null,null,null,null,null,null,null,null,null,null,null,null,null,null,null,null,null,null,null,null,null,null,null,null,null,null,null,null,null,null,null,null,null,null,null,null,null,null,null,null,null,null,null,null,null,null,null,null,null,null,null,null,null,null,null,null,null,"/ Hour ",4780]
[null,null,null,null,null,null,null,null,null,null,null,null,null,null,null,null,null,null,null,null,null,null,null,null,null,null,null,null,null,null,null,null,null,null,null,null,null,null,null,null,null,null,null,null,null,null,null,null,null,null,null,null,null,null,null,null,null,null,null,null,null,"/ Hour ",4781]
[null,null,null,null,null,null,null,null,null,null,null,null,null,null,null,null,null,null,null,null,null,null,null,null,null,null,null,null,null,null,null,null,null,null,null,null,null,null,null,null,null,null,null,null,null,null,null,null,null,null,null,null,null,null,null,null,null,null,null,null,null,"/ Hour ",4799]
[null,null,null,null,null,null,null,null,null,null,null,null,null,null,null,null,null,null,null,null,null,null,null,null,null,null,null,null,null,null,null,null,null,null,null,null,null,null,null,null,null,null,null,null,null,null,null,null,null,null,null,null,null,null,null,null,null,null,null,null,null,"/ Hour ",4816]
[null,null,null,null,null,null,null,null,null,null,null,null,null,null,null,null,null,null,null,null,null,null,null,null,null,null,null,null,null,null,null,null,null,null,null,null,null,null,null,null,null,null,null,null,null,null,null,null,null,null,null,null,null,null,null,null,null,null,null,null,null,"/ Hour ",4833]
[null,null,null,null,null,null,null,null,null,null,null,null,null,null,null,null,null,null,null,null,null,null,null,null,null,null,null,null,null,null,null,null,null,null,null,null,null,null,null,null,null,null,null,null,null,null,null,null,null,null,null,null,null,null,null,null,null,null,null,null,null,"/ Hour ",4849]
[null,null,null,null,null,null,null,null,null,null,null,null,null,null,null,null,null,null,null,null,null,null,null,null,null,null,null,null,null,null,null,null,null,null,null,null,null,null,null,null,null,null,null,null,null,null,null,null,null,null,null,null,null,null,null,null,null,null,null,null,null,"/ Hour ",4868]
[null,null,null,null,null,null,null,null,null,null,null,null,null,null,null,null,null,null,null,null,null,null,null,null,null,null,null,null,null,null,null,null,null,null,null,null,null,null,null,null,null,null,null,null,null,null,null,null,null,null,null,null,null,null,null,null,null,null,null,null,null,"/ Hour ",4885]
[null,null,null,null,null,null,null,null,null,null,null,null,null,null,null,null,null,null,null,null,null,null,null,null,null,null,null,null,null,null,null,null,null,null,null,null,null,null,null,null,null,null,null,null,null,null,null,null,null,null,null,null,null,null,null,null,null,null,null,null,null,"/ Hour ",4900]
[null,null,null,null,null,null,null,null,null,null,null,null,null,null,null,null,null,null,null,null,null,null,null,null,null,null,null,null,null,null,null,null,null,null,null,null,null,null,null,null,null,null,null,null,null,null,null,null,null,null,null,null,null,null,null,null,null,null,null,null,null,"/ Hour ",4920]
[null,null,null,null,null,null,null,null,null,null,null,null,null,null,null,null,null,null,null,null,null,null,null,null,null,null,null,null,null,null,null,null,null,null,null,null,null,null,null,null,null,null,null,null,null,null,null,null,null,null,null,null,null,null,null,null,null,null,null,null,null,"/ Hour ",4937]
[null,null,null,null,null,null,null,null,null,null,null,null,null,null,null,null,null,null,null,null,null,null,null,null,null,null,null,null,null,null,null,null,null,null,null,null,null,null,null,null,null,null,null,null,null,null,null,null,null,null,null,null,null,null,null,null,null,null,null,null,null,"/ Hour ",4950]
[null,null,null,null,null,null,null,null,null,null,null,null,null,null,null,null,null,null,null,null,null,null,null,null,null,null,null,null,null,null,null,null,null,null,null,null,null,null,null,null,null,null,null,null,null,null,null,null,null,null,null,null,null,null,null,null,null,null,null,null,null,"/ Hour ",4972]
[null,null,null,null,null,null,null,null,null,null,null,null,null,null,null,null,null,null,null,null,null,null,null,null,null,null,null,null,null,null,null,null,null,null,null,null,null,null,null,null,null,null,null,null,null,null,null,null,null,null,null,null,null,null,null,null,null,null,null,null,null,"/ Hour ",4989]
[null,null,null,null,null,null,null,null,null,null,null,null,null,null,null,null,null,null,null,null,null,null,null,null,null,null,null,null,null,null,null,null,null,null,null,null,null,null,null,null,null,null,null,null,null,null,null,null,null,null,null,null,null,null,null,null,null,null,null,null,null,"/ Hour ",5006]
[null,null,null,null,null,null,null,null,null,null,null,null,null,null,null,null,null,null,null,null,null,null,null,null,null,null,null,null,null,null,null,null,null,null,null,null,null,null,null,null,null,null,null,null,null,null,null,null,null,null,null,null,null,null,null,null,null,null,null,null,null,"/ Hour ",5016]
[null,null,null,null,null,null,null,null,null,null,null,null,null,null,null,null,null,null,null,null,null,null,null,null,null,null,null,null,null,null,null,null,null,null,null,null,null,null,null,null,null,null,null,null,null,null,null,null,null,null,null,null,null,null,null,null,null,null,null,null,null,"/ Hour ",5041]
[null,null,null,null,null,null,null,null,null,null,null,null,null,null,null,null,null,null,null,null,null,null,null,null,null,null,null,null,null,null,null,null,null,null,null,null,null,null,null,null,null,null,null,null,null,null,null,null,null,null,null,null,null,null,null,null,null,null,null,null,null,"/ Hour ",5042]
[null,null,null,null,null,null,null,null,null,null,null,null,null,null,null,null,null,null,null,null,null,null,null,null,null,null,null,null,null,null,null,null,null,null,null,null,null,null,null,null,null,null,null,null,null,null,null,null,null,null,null,null,null,null,null,null,null,null,null,null,null,"/ Hour ",5066]
[null,null,null,null,null,null,null,null,null,null,null,null,null,null,null,null,null,null,null,null,null,null,null,null,null,null,null,null,null,null,null,null,null,null,null,null,null,null,null,null,null,null,null,null,null,null,null,null,null,null,null,null,null,null,null,null,null,null,null,null,null,"/ Hour ",5077]
[null,null,null,null,null,null,null,null,null,null,null,null,null,null,null,null,null,null,null,null,null,null,null,null,null,null,null,null,null,null,null,null,null,null,null,null,null,null,null,null,null,null,null,null,null,null,null,null,null,null,null,null,null,null,null,null,null,null,null,null,null,"/ Hour ",5094]
[null,null,null,null,null,null,null,null,null,null,null,null,null,null,null,null,null,null,null,null,null,null,null,null,null,null,null,null,null,null,null,null,null,null,null,null,null,null,null,null,null,null,null,null,null,null,null,null,null,null,null,null,null,null,null,null,null,null,null,null,null,"/ Hour ",5117]
[null,null,null,null,null,null,null,null,null,null,null,null,null,null,null,null,null,null,null,null,null,null,null,null,null,null,null,null,null,null,null,null,null,null,null,null,null,null,null,null,null,null,null,null,null,null,null,null,null,null,null,null,null,null,null,null,null,null,null,null,null,"/ Hour ",5129]
[null,null,null,null,null,null,null,null,null,null,null,null,null,null,null,null,null,null,null,null,null,null,null,null,null,null,null,null,null,null,null,null,null,null,null,null,null,null,null,null,null,null,null,null,null,null,null,null,null,null,null,null,null,null,null,null,null,null,null,null,null,"/ Hour ",5146]
[null,null,null,null,null,null,null,null,null,null,null,null,null,null,null,null,null,null,null,null,null,null,null,null,null,null,null,null,null,null,null,null,null,null,null,null,null,null,null,null,null,null,null,null,null,null,null,null,null,null,null,null,null,null,null,null,null,null,null,null,null,"/ Hour ",5167]
[null,null,null,null,null,null,null,null,null,null,null,null,null,null,null,null,null,null,null,null,null,null,null,null,null,null,null,null,null,null,null,null,null,null,null,null,null,null,null,null,null,null,null,null,null,null,null,null,null,null,null,null,null,null,null,null,null,null,null,null,null,"/ Hour ",5181]
[null,null,null,null,null,null,null,null,null,null,null,null,null,null,null,null,null,null,null,null,null,null,null,null,null,null,null,null,null,null,null,null,null,null,null,null,null,null,null,null,null,null,null,null,null,null,null,null,null,null,null,null,null,null,null,null,null,null,null,null,null,"/ Hour ",5198]
[null,null,null,null,null,null,null,null,null,null,null,null,null,null,null,null,null,null,null,null,null,null,null,null,null,null,null,null,null,null,null,null,null,null,null,null,null,null,null,null,null,null,null,null,null,null,null,null,null,null,null,null,null,null,null,null,null,null,null,null,null,"/ Hour ",5217]
[null,null,null,null,null,null,null,null,null,null,null,null,null,null,null,null,null,null,null,null,null,null,null,null,null,null,null,null,null,null,null,null,null,null,null,null,null,null,null,null,null,null,null,null,null,null,null,null,null,null,null,null,null,null,null,null,null,null,null,null,null,"/ Hour ",5233]
[null,null,null,null,null,null,null,null,null,null,null,null,null,null,null,null,null,null,null,null,null,null,null,null,null,null,null,null,null,null,null,null,null,null,null,null,null,null,null,null,null,null,null,null,null,null,null,null,null,null,null,null,null,null,null,null,null,null,null,null,null,{"$f":"A5260&\"/\"&B5260&\" Hour \"&C5260","v":"/ Hour "},{"$f":"ROW()-ROW($BK$10)","v":5250}]
[null,null,null,null,null,null,null,null,null,null,null,null,null,null,null,null,null,null,null,null,null,null,null,null,null,null,null,null,null,null,null,null,null,null,null,null,null,null,null,null,null,null,null,null,null,null,null,null,null,null,null,null,null,null,null,null,null,null,null,null,null,"/ Hour ",5267]
[null,null,null,null,null,null,null,null,null,null,null,null,null,null,null,null,null,null,null,null,null,null,null,null,null,null,null,null,null,null,null,null,null,null,null,null,null,null,null,null,null,null,null,null,null,null,null,null,null,null,null,null,null,null,null,null,null,null,null,null,null,"/ Hour ",5285]
[null,null,null,null,null,null,null,null,null,null,null,null,null,null,null,null,null,null,null,null,null,null,null,null,null,null,null,null,null,null,null,null,null,null,null,null,null,null,null,null,null,null,null,null,null,null,null,null,null,null,null,null,null,null,null,null,null,null,null,null,null,"/ Hour ",5302]
[null,null,null,null,null,null,null,null,null,null,null,null,null,null,null,null,null,null,null,null,null,null,null,null,null,null,null,null,null,null,null,null,null,null,null,null,null,null,null,null,null,null,null,null,null,null,null,null,null,null,null,null,null,null,null,null,null,null,null,null,null,"/ Hour ",5303]
[null,null,null,null,null,null,null,null,null,null,null,null,null,null,null,null,null,null,null,null,null,null,null,null,null,null,null,null,null,null,null,null,null,null,null,null,null,null,null,null,null,null,null,null,null,null,null,null,null,null,null,null,null,null,null,null,null,null,null,null,null,"/ Hour ",5334]
[null,null,null,null,null,null,null,null,null,null,null,null,null,null,null,null,null,null,null,null,null,null,null,null,null,null,null,null,null,null,null,null,null,null,null,null,null,null,null,null,null,null,null,null,null,null,null,null,null,null,null,null,null,null,null,null,null,null,null,null,null,"/ Hour ",5338]
[null,null,null,null,null,null,null,null,null,null,null,null,null,null,null,null,null,null,null,null,null,null,null,null,null,null,null,null,null,null,null,null,null,null,null,null,null,null,null,null,null,null,null,null,null,null,null,null,null,null,null,null,null,null,null,null,null,null,null,null,null,"/ Hour ",5355]
[null,null,null,null,null,null,null,null,null,null,null,null,null,null,null,null,null,null,null,null,null,null,null,null,null,null,null,null,null,null,null,null,null,null,null,null,null,null,null,null,null,null,null,null,null,null,null,null,null,null,null,null,null,null,null,null,null,null,null,null,null,"/ Hour ",5384]
[null,null,null,null,null,null,null,null,null,null,null,null,null,null,null,null,null,null,null,null,null,null,null,null,null,null,null,null,null,null,null,null,null,null,null,null,null,null,null,null,null,null,null,null,null,null,null,null,null,null,null,null,null,null,null,null,null,null,null,null,null,"/ Hour ",5390]
[null,null,null,null,null,null,null,null,null,null,null,null,null,null,null,null,null,null,null,null,null,null,null,null,null,null,null,null,null,null,null,null,null,null,null,null,null,null,null,null,null,null,null,null,null,null,null,null,null,null,null,null,null,null,null,null,null,null,null,null,null,"/ Hour ",5407]
[null,null,null,null,null,null,null,null,null,null,null,null,null,null,null,null,null,null,null,null,null,null,null,null,null,null,null,null,null,null,null,null,null,null,null,null,null,null,null,null,null,null,null,null,null,null,null,null,null,null,null,null,null,null,null,null,null,null,null,null,null,"/ Hour ",5417]
[null,null,null,null,null,null,null,null,null,null,null,null,null,null,null,null,null,null,null,null,null,null,null,null,null,null,null,null,null,null,null,null,null,null,null,null,null,null,null,null,null,null,null,null,null,null,null,null,null,null,null,null,null,null,null,null,null,null,null,null,null,{"$f":"A5452&\"/\"&B5452&\" Hour \"&C5452","v":"/ Hour "},{"$f":"ROW()-ROW($BK$10)","v":5442}]
[null,null,null,null,null,null,null,null,null,null,null,null,null,null,null,null,null,null,null,null,null,null,null,null,null,null,null,null,null,null,null,null,null,null,null,null,null,null,null,null,null,null,null,null,null,null,null,null,null,null,null,null,null,null,null,null,null,null,null,null,null,"/ Hour ",5459]
[null,null,null,null,null,null,null,null,null,null,null,null,null,null,null,null,null,null,null,null,null,null,null,null,null,null,null,null,null,null,null,null,null,null,null,null,null,null,null,null,null,null,null,null,null,null,null,null,null,null,null,null,null,null,null,null,null,null,null,null,null,"/ Hour ",5467]
[null,null,null,null,null,null,null,null,null,null,null,null,null,null,null,null,null,null,null,null,null,null,null,null,null,null,null,null,null,null,null,null,null,null,null,null,null,null,null,null,null,null,null,null,null,null,null,null,null,null,null,null,null,null,null,null,null,null,null,null,null,"/ Hour ",5494]
[null,null,null,null,null,null,null,null,null,null,null,null,null,null,null,null,null,null,null,null,null,null,null,null,null,null,null,null,null,null,null,null,null,null,null,null,null,null,null,null,null,null,null,null,null,null,null,null,null,null,null,null,null,null,null,null,null,null,null,null,null,"/ Hour ",5511]
[null,null,null,null,null,null,null,null,null,null,null,null,null,null,null,null,null,null,null,null,null,null,null,null,null,null,null,null,null,null,null,null,null,null,null,null,null,null,null,null,null,null,null,null,null,null,null,null,null,null,null,null,null,null,null,null,null,null,null,null,null,"/ Hour ",5517]
[null,null,null,null,null,null,null,null,null,null,null,null,null,null,null,null,null,null,null,null,null,null,null,null,null,null,null,null,null,null,null,null,null,null,null,null,null,null,null,null,null,null,null,null,null,null,null,null,null,null,null,null,null,null,null,null,null,null,null,null,null,"/ Hour ",5546]
[null,null,null,null,null,null,null,null,null,null,null,null,null,null,null,null,null,null,null,null,null,null,null,null,null,null,null,null,null,null,null,null,null,null,null,null,null,null,null,null,null,null,null,null,null,null,null,null,null,null,null,null,null,null,null,null,null,null,null,null,null,"/ Hour ",5563]
[null,null,null,null,null,null,null,null,null,null,null,null,null,null,null,null,null,null,null,null,null,null,null,null,null,null,null,null,null,null,null,null,null,null,null,null,null,null,null,null,null,null,null,null,null,null,null,null,null,null,null,null,null,null,null,null,null,null,null,null,null,"/ Hour ",5564]
[null,null,null,null,null,null,null,null,null,null,null,null,null,null,null,null,null,null,null,null,null,null,null,null,null,null,null,null,null,null,null,null,null,null,null,null,null,null,null,null,null,null,null,null,null,null,null,null,null,null,null,null,null,null,null,null,null,null,null,null,null,"/ Hour ",5584]
[null,null,null,null,null,null,null,null,null,null,null,null,null,null,null,null,null,null,null,null,null,null,null,null,null,null,null,null,null,null,null,null,null,null,null,null,null,null,null,null,null,null,null,null,null,null,null,null,null,null,null,null,null,null,null,null,null,null,null,null,null,"/ Hour ",5599]
[null,null,null,null,null,null,null,null,null,null,null,null,null,null,null,null,null,null,null,null,null,null,null,null,null,null,null,null,null,null,null,null,null,null,null,null,null,null,null,null,null,null,null,null,null,null,null,null,null,null,null,null,null,null,null,null,null,null,null,null,null,"/ Hour ",5616]
[null,null,null,null,null,null,null,null,null,null,null,null,null,null,null,null,null,null,null,null,null,null,null,null,null,null,null,null,null,null,null,null,null,null,null,null,null,null,null,null,null,null,null,null,null,null,null,null,null,null,null,null,null,null,null,null,null,null,null,null,null,{"$f":"A5644&\"/\"&B5644&\" Hour \"&C5644","v":"/ Hour "},{"$f":"ROW()-ROW($BK$10)","v":5634}]
[null,null,null,null,null,null,null,null,null,null,null,null,null,null,null,null,null,null,null,null,null,null,null,null,null,null,null,null,null,null,null,null,null,null,null,null,null,null,null,null,null,null,null,null,null,null,null,null,null,null,null,null,null,null,null,null,null,null,null,null,null,"/ Hour ",5651]
[null,null,null,null,null,null,null,null,null,null,null,null,null,null,null,null,null,null,null,null,null,null,null,null,null,null,null,null,null,null,null,null,null,null,null,null,null,null,null,null,null,null,null,null,null,null,null,null,null,null,null,null,null,null,null,null,null,null,null,null,null,"/ Hour ",5668]
[null,null,null,null,null,null,null,null,null,null,null,null,null,null,null,null,null,null,null,null,null,null,null,null,null,null,null,null,null,null,null,null,null,null,null,null,null,null,null,null,null,null,null,null,null,null,null,null,null,null,null,null,null,null,null,null,null,null,null,null,null,"/ Hour ",5684]
[null,null,null,null,null,null,null,null,null,null,null,null,null,null,null,null,null,null,null,null,null,null,null,null,null,null,null,null,null,null,null,null,null,null,null,null,null,null,null,null,null,null,null,null,null,null,null,null,null,null,null,null,null,null,null,null,null,null,null,null,null,"/ Hour ",5703]
[null,null,null,null,null,null,null,null,null,null,null,null,null,null,null,null,null,null,null,null,null,null,null,null,null,null,null,null,null,null,null,null,null,null,null,null,null,null,null,null,null,null,null,null,null,null,null,null,null,null,null,null,null,null,null,null,null,null,null,null,null,"/ Hour ",5720]
[null,null,null,null,null,null,null,null,null,null,null,null,null,null,null,null,null,null,null,null,null,null,null,null,null,null,null,null,null,null,null,null,null,null,null,null,null,null,null,null,null,null,null,null,null,null,null,null,null,null,null,null,null,null,null,null,null,null,null,null,null,"/ Hour ",5734]
[null,null,null,null,null,null,null,null,null,null,null,null,null,null,null,null,null,null,null,null,null,null,null,null,null,null,null,null,null,null,null,null,null,null,null,null,null,null,null,null,null,null,null,null,null,null,null,null,null,null,null,null,null,null,null,null,null,null,null,null,null,"/ Hour ",5755]
[null,null,null,null,null,null,null,null,null,null,null,null,null,null,null,null,null,null,null,null,null,null,null,null,null,null,null,null,null,null,null,null,null,null,null,null,null,null,null,null,null,null,null,null,null,null,null,null,null,null,null,null,null,null,null,null,null,null,null,null,null,"/ Hour ",5772]
[null,null,null,null,null,null,null,null,null,null,null,null,null,null,null,null,null,null,null,null,null,null,null,null,null,null,null,null,null,null,null,null,null,null,null,null,null,null,null,null,null,null,null,null,null,null,null,null,null,null,null,null,null,null,null,null,null,null,null,null,null,"/ Hour ",5784]
[null,null,null,null,null,null,null,null,null,null,null,null,null,null,null,null,null,null,null,null,null,null,null,null,null,null,null,null,null,null,null,null,null,null,null,null,null,null,null,null,null,null,null,null,null,null,null,null,null,null,null,null,null,null,null,null,null,null,null,null,null,"/ Hour ",5807]
[null,null,null,null,null,null,null,null,null,null,null,null,null,null,null,null,null,null,null,null,null,null,null,null,null,null,null,null,null,null,null,null,null,null,null,null,null,null,null,null,null,null,null,null,null,null,null,null,null,null,null,null,null,null,null,null,null,null,null,null,null,"/ Hour ",5824]
[null,null,null,null,null,null,null,null,null,null,null,null,null,null,null,null,null,null,null,null,null,null,null,null,null,null,null,null,null,null,null,null,null,null,null,null,null,null,null,null,null,null,null,null,null,null,null,null,null,null,null,null,null,null,null,null,null,null,null,null,null,"/ Hour ",5825]
[null,null,null,null,null,null,null,null,null,null,null,null,null,null,null,null,null,null,null,null,null,null,null,null,null,null,null,null,null,null,null,null,null,null,null,null,null,null,null,null,null,null,null,null,null,null,null,null,null,null,null,null,null,null,null,null,null,null,null,null,null,"/ Hour ",5851]
[null,null,null,null,null,null,null,null,null,null,null,null,null,null,null,null,null,null,null,null,null,null,null,null,null,null,null,null,null,null,null,null,null,null,null,null,null,null,null,null,null,null,null,null,null,null,null,null,null,null,null,null,null,null,null,null,null,null,null,null,null,"/ Hour ",5860]
[null,null,null,null,null,null,null,null,null,null,null,null,null,null,null,null,null,null,null,null,null,null,null,null,null,null,null,null,null,null,null,null,null,null,null,null,null,null,null,null,null,null,null,null,null,null,null,null,null,null,null,null,null,null,null,null,null,null,null,null,null,"/ Hour ",5877]
[null,null,null,null,null,null,null,null,null,null,null,null,null,null,null,null,null,null,null,null,null,null,null,null,null,null,null,null,null,null,null,null,null,null,null,null,null,null,null,null,null,null,null,null,null,null,null,null,null,null,null,null,null,null,null,null,null,null,null,null,null,"/ Hour ",5901]
[null,null,null,null,null,null,null,null,null,null,null,null,null,null,null,null,null,null,null,null,null,null,null,null,null,null,null,null,null,null,null,null,null,null,null,null,null,null,null,null,null,null,null,null,null,null,null,null,null,null,null,null,null,null,null,null,null,null,null,null,null,"/ Hour ",5912]
[null,null,null,null,null,null,null,null,null,null,null,null,null,null,null,null,null,null,null,null,null,null,null,null,null,null,null,null,null,null,null,null,null,null,null,null,null,null,null,null,null,null,null,null,null,null,null,null,null,null,null,null,null,null,null,null,null,null,null,null,null,"/ Hour ",5929]
[null,null,null,null,null,null,null,null,null,null,null,null,null,null,null,null,null,null,null,null,null,null,null,null,null,null,null,null,null,null,null,null,null,null,null,null,null,null,null,null,null,null,null,null,null,null,null,null,null,null,null,null,null,null,null,null,null,null,null,null,null,"/ Hour ",5951]
[null,null,null,null,null,null,null,null,null,null,null,null,null,null,null,null,null,null,null,null,null,null,null,null,null,null,null,null,null,null,null,null,null,null,null,null,null,null,null,null,null,null,null,null,null,null,null,null,null,null,null,null,null,null,null,null,null,null,null,null,null,"/ Hour ",5964]
[null,null,null,null,null,null,null,null,null,null,null,null,null,null,null,null,null,null,null,null,null,null,null,null,null,null,null,null,null,null,null,null,null,null,null,null,null,null,null,null,null,null,null,null,null,null,null,null,null,null,null,null,null,null,null,null,null,null,null,null,null,"/ Hour ",5981]
[null,null,null,null,null,null,null,null,null,null,null,null,null,null,null,null,null,null,null,null,null,null,null,null,null,null,null,null,null,null,null,null,null,null,null,null,null,null,null,null,null,null,null,null,null,null,null,null,null,null,null,null,null,null,null,null,null,null,null,null,null,"/ Hour ",6001]
[null,null,null,null,null,null,null,null,null,null,null,null,null,null,null,null,null,null,null,null,null,null,null,null,null,null,null,null,null,null,null,null,null,null,null,null,null,null,null,null,null,null,null,null,null,null,null,null,null,null,null,null,null,null,null,null,null,null,null,null,null,"/ Hour ",6016]
[null,null,null,null,null,null,null,null,null,null,null,null,null,null,null,null,null,null,null,null,null,null,null,null,null,null,null,null,null,null,null,null,null,null,null,null,null,null,null,null,null,null,null,null,null,null,null,null,null,null,null,null,null,null,null,null,null,null,null,null,null,"/ Hour ",6033]
[null,null,null,null,null,null,null,null,null,null,null,null,null,null,null,null,null,null,null,null,null,null,null,null,null,null,null,null,null,null,null,null,null,null,null,null,null,null,null,null,null,null,null,null,null,null,null,null,null,null,null,null,null,null,null,null,null,null,null,null,null,"/ Hour ",6051]
[null,null,null,null,null,null,null,null,null,null,null,null,null,null,null,null,null,null,null,null,null,null,null,null,null,null,null,null,null,null,null,null,null,null,null,null,null,null,null,null,null,null,null,null,null,null,null,null,null,null,null,null,null,null,null,null,null,null,null,null,null,"/ Hour ",6068]
[null,null,null,null,null,null,null,null,null,null,null,null,null,null,null,null,null,null,null,null,null,null,null,null,null,null,null,null,null,null,null,null,null,null,null,null,null,null,null,null,null,null,null,null,null,null,null,null,null,null,null,null,null,null,null,null,null,null,null,null,null,"/ Hour ",6085]
[null,null,null,null,null,null,null,null,null,null,null,null,null,null,null,null,null,null,null,null,null,null,null,null,null,null,null,null,null,null,null,null,null,null,null,null,null,null,null,null,null,null,null,null,null,null,null,null,null,null,null,null,null,null,null,null,null,null,null,null,null,"/ Hour ",6102]
[null,null,null,null,null,null,null,null,null,null,null,null,null,null,null,null,null,null,null,null,null,null,null,null,null,null,null,null,null,null,null,null,null,null,null,null,null,null,null,null,null,null,null,null,null,null,null,null,null,null,null,null,null,null,null,null,null,null,null,null,null,"/ Hour ",6104]
[null,null,null,null,null,null,null,null,null,null,null,null,null,null,null,null,null,null,null,null,null,null,null,null,null,null,null,null,null,null,null,null,null,null,null,null,null,null,null,null,null,null,null,null,null,null,null,null,null,null,null,null,null,null,null,null,null,null,null,null,null,"/ Hour ",6121]
[null,null,null,null,null,null,null,null,null,null,null,null,null,null,null,null,null,null,null,null,null,null,null,null,null,null,null,null,null,null,null,null,null,null,null,null,null,null,null,null,null,null,null,null,null,null,null,null,null,null,null,null,null,null,null,null,null,null,null,null,null,"/ Hour ",6138]
[null,null,null,null,null,null,null,null,null,null,null,null,null,null,null,null,null,null,null,null,null,null,null,null,null,null,null,null,null,null,null,null,null,null,null,null,null,null,null,null,null,null,null,null,null,null,null,null,null,null,null,null,null,null,null,null,null,null,null,null,null,"/ Hour ",6151]
[null,null,null,null,null,null,null,null,null,null,null,null,null,null,null,null,null,null,null,null,null,null,null,null,null,null,null,null,null,null,null,null,null,null,null,null,null,null,null,null,null,null,null,null,null,null,null,null,null,null,null,null,null,null,null,null,null,null,null,null,null,"/ Hour ",6173]
[null,null,null,null,null,null,null,null,null,null,null,null,null,null,null,null,null,null,null,null,null,null,null,null,null,null,null,null,null,null,null,null,null,null,null,null,null,null,null,null,null,null,null,null,null,null,null,null,null,null,null,null,null,null,null,null,null,null,null,null,null,"/ Hour ",6190]
[null,null,null,null,null,null,null,null,null,null,null,null,null,null,null,null,null,null,null,null,null,null,null,null,null,null,null,null,null,null,null,null,null,null,null,null,null,null,null,null,null,null,null,null,null,null,null,null,null,null,null,null,null,null,null,null,null,null,null,null,null,"/ Hour ",6201]
[null,null,null,null,null,null,null,null,null,null,null,null,null,null,null,null,null,null,null,null,null,null,null,null,null,null,null,null,null,null,null,null,null,null,null,null,null,null,null,null,null,null,null,null,null,null,null,null,null,null,null,null,null,null,null,null,null,null,null,null,null,"/ Hour ",6225]
[null,null,null,null,null,null,null,null,null,null,null,null,null,null,null,null,null,null,null,null,null,null,null,null,null,null,null,null,null,null,null,null,null,null,null,null,null,null,null,null,null,null,null,null,null,null,null,null,null,null,null,null,null,null,null,null,null,null,null,null,null,"/ Hour ",6242]
[null,null,null,null,null,null,null,null,null,null,null,null,null,null,null,null,null,null,null,null,null,null,null,null,null,null,null,null,null,null,null,null,null,null,null,null,null,null,null,null,null,null,null,null,null,null,null,null,null,null,null,null,null,null,null,null,null,null,null,null,null,"/ Hour ",6251]
[null,null,null,null,null,null,null,null,null,null,null,null,null,null,null,null,null,null,null,null,null,null,null,null,null,null,null,null,null,null,null,null,null,null,null,null,null,null,null,null,null,null,null,null,null,null,null,null,null,null,null,null,null,null,null,null,null,null,null,null,null,"/ Hour ",6277]
[null,null,null,null,null,null,null,null,null,null,null,null,null,null,null,null,null,null,null,null,null,null,null,null,null,null,null,null,null,null,null,null,null,null,null,null,null,null,null,null,null,null,null,null,null,null,null,null,null,null,null,null,null,null,null,null,null,null,null,null,null,"/ Hour ",6294]
[null,null,null,null,null,null,null,null,null,null,null,null,null,null,null,null,null,null,null,null,null,null,null,null,null,null,null,null,null,null,null,null,null,null,null,null,null,null,null,null,null,null,null,null,null,null,null,null,null,null,null,null,null,null,null,null,null,null,null,null,null,"/ Hour ",6301]
[null,null,null,null,null,null,null,null,null,null,null,null,null,null,null,null,null,null,null,null,null,null,null,null,null,null,null,null,null,null,null,null,null,null,null,null,null,null,null,null,null,null,null,null,null,null,null,null,null,null,null,null,null,null,null,null,null,null,null,null,null,"/ Hour ",6329]
[null,null,null,null,null,null,null,null,null,null,null,null,null,null,null,null,null,null,null,null,null,null,null,null,null,null,null,null,null,null,null,null,null,null,null,null,null,null,null,null,null,null,null,null,null,null,null,null,null,null,null,null,null,null,null,null,null,null,null,null,null,"/ Hour ",6346]
[null,null,null,null,null,null,null,null,null,null,null,null,null,null,null,null,null,null,null,null,null,null,null,null,null,null,null,null,null,null,null,null,null,null,null,null,null,null,null,null,null,null,null,null,null,null,null,null,null,null,null,null,null,null,null,null,null,null,null,null,null,"/ Hour ",6352]
[null,null,null,null,null,null,null,null,null,null,null,null,null,null,null,null,null,null,null,null,null,null,null,null,null,null,null,null,null,null,null,null,null,null,null,null,null,null,null,null,null,null,null,null,null,null,null,null,null,null,null,null,null,null,null,null,null,null,null,null,null,"/ Hour ",6365]
[null,null,null,null,null,null,null,null,null,null,null,null,null,null,null,null,null,null,null,null,null,null,null,null,null,null,null,null,null,null,null,null,null,null,null,null,null,null,null,null,null,null,null,null,null,null,null,null,null,null,null,null,null,null,null,null,null,null,null,null,null,"/ Hour ",6382]
[null,null,null,null,null,null,null,null,null,null,null,null,null,null,null,null,null,null,null,null,null,null,null,null,null,null,null,null,null,null,null,null,null,null,null,null,null,null,null,null,null,null,null,null,null,null,null,null,null,null,null,null,null,null,null,null,null,null,null,null,null,"/ Hour ",6399]
[null,null,null,null,null,null,null,null,null,null,null,null,null,null,null,null,null,null,null,null,null,null,null,null,null,null,null,null,null,null,null,null,null,null,null,null,null,null,null,null,null,null,null,null,null,null,null,null,null,null,null,null,null,null,null,null,null,null,null,null,null,"/ Hour ",6418]
[null,null,null,null,null,null,null,null,null,null,null,null,null,null,null,null,null,null,null,null,null,null,null,null,null,null,null,null,null,null,null,null,null,null,null,null,null,null,null,null,null,null,null,null,null,null,null,null,null,null,null,null,null,null,null,null,null,null,null,null,null,"/ Hour ",6434]
[null,null,null,null,null,null,null,null,null,null,null,null,null,null,null,null,null,null,null,null,null,null,null,null,null,null,null,null,null,null,null,null,null,null,null,null,null,null,null,null,null,null,null,null,null,null,null,null,null,null,null,null,null,null,null,null,null,null,null,null,null,"/ Hour ",6451]
[null,null,null,null,null,null,null,null,null,null,null,null,null,null,null,null,null,null,null,null,null,null,null,null,null,null,null,null,null,null,null,null,null,null,null,null,null,null,null,null,null,null,null,null,null,null,null,null,null,null,null,null,null,null,null,null,null,null,null,null,null,"/ Hour ",6468]
[null,null,null,null,null,null,null,null,null,null,null,null,null,null,null,null,null,null,null,null,null,null,null,null,null,null,null,null,null,null,null,null,null,null,null,null,null,null,null,null,null,null,null,null,null,null,null,null,null,null,null,null,null,null,null,null,null,null,null,null,null,"/ Hour ",6486]
[null,null,null,null,null,null,null,null,null,null,null,null,null,null,null,null,null,null,null,null,null,null,null,null,null,null,null,null,null,null,null,null,null,null,null,null,null,null,null,null,null,null,null,null,null,null,null,null,null,null,null,null,null,null,null,null,null,null,null,null,null,"/ Hour ",6503]
[null,null,null,null,null,null,null,null,null,null,null,null,null,null,null,null,null,null,null,null,null,null,null,null,null,null,null,null,null,null,null,null,null,null,null,null,null,null,null,null,null,null,null,null,null,null,null,null,null,null,null,null,null,null,null,null,null,null,null,null,null,"/ Hour ",6518]
[null,null,null,null,null,null,null,null,null,null,null,null,null,null,null,null,null,null,null,null,null,null,null,null,null,null,null,null,null,null,null,null,null,null,null,null,null,null,null,null,null,null,null,null,null,null,null,null,null,null,null,null,null,null,null,null,null,null,null,null,null,"/ Hour ",6538]
[null,null,null,null,null,null,null,null,null,null,null,null,null,null,null,null,null,null,null,null,null,null,null,null,null,null,null,null,null,null,null,null,null,null,null,null,null,null,null,null,null,null,null,null,null,null,null,null,null,null,null,null,null,null,null,null,null,null,null,null,null,"/ Hour ",6555]
[null,null,null,null,null,null,null,null,null,null,null,null,null,null,null,null,null,null,null,null,null,null,null,null,null,null,null,null,null,null,null,null,null,null,null,null,null,null,null,null,null,null,null,null,null,null,null,null,null,null,null,null,null,null,null,null,null,null,null,null,null,"/ Hour ",6569]
[null,null,null,null,null,null,null,null,null,null,null,null,null,null,null,null,null,null,null,null,null,null,null,null,null,null,null,null,null,null,null,null,null,null,null,null,null,null,null,null,null,null,null,null,null,null,null,null,null,null,null,null,null,null,null,null,null,null,null,null,null,"/ Hour ",6590]
[null,null,null,null,null,null,null,null,null,null,null,null,null,null,null,null,null,null,null,null,null,null,null,null,null,null,null,null,null,null,null,null,null,null,null,null,null,null,null,null,null,null,null,null,null,null,null,null,null,null,null,null,null,null,null,null,null,null,null,null,null,"/ Hour ",6607]
[null,null,null,null,null,null,null,null,null,null,null,null,null,null,null,null,null,null,null,null,null,null,null,null,null,null,null,null,null,null,null,null,null,null,null,null,null,null,null,null,null,null,null,null,null,null,null,null,null,null,null,null,null,null,null,null,null,null,null,null,null,"/ Hour ",6619]
[null,null,null,null,null,null,null,null,null,null,null,null,null,null,null,null,null,null,null,null,null,null,null,null,null,null,null,null,null,null,null,null,null,null,null,null,null,null,null,null,null,null,null,null,null,null,null,null,null,null,null,null,null,null,null,null,null,null,null,null,null,"/ Hour ",6626]
[null,null,null,null,null,null,null,null,null,null,null,null,null,null,null,null,null,null,null,null,null,null,null,null,null,null,null,null,null,null,null,null,null,null,null,null,null,null,null,null,null,null,null,null,null,null,null,null,null,null,null,null,null,null,null,null,null,null,null,null,null,"/ Hour ",6643]
[null,null,null,null,null,null,null,null,null,null,null,null,null,null,null,null,null,null,null,null,null,null,null,null,null,null,null,null,null,null,null,null,null,null,null,null,null,null,null,null,null,null,null,null,null,null,null,null,null,null,null,null,null,null,null,null,null,null,null,null,null,"/ Hour ",6669]
[null,null,null,null,null,null,null,null,null,null,null,null,null,null,null,null,null,null,null,null,null,null,null,null,null,null,null,null,null,null,null,null,null,null,null,null,null,null,null,null,null,null,null,null,null,null,null,null,null,null,null,null,null,null,null,null,null,null,null,null,null,"/ Hour ",6678]
[null,null,null,null,null,null,null,null,null,null,null,null,null,null,null,null,null,null,null,null,null,null,null,null,null,null,null,null,null,null,null,null,null,null,null,null,null,null,null,null,null,null,null,null,null,null,null,null,null,null,null,null,null,null,null,null,null,null,null,null,null,"/ Hour ",6695]
[null,null,null,null,null,null,null,null,null,null,null,null,null,null,null,null,null,null,null,null,null,null,null,null,null,null,null,null,null,null,null,null,null,null,null,null,null,null,null,null,null,null,null,null,null,null,null,null,null,null,null,null,null,null,null,null,null,null,null,null,null,"/ Hour ",6712]
[null,null,null,null,null,null,null,null,null,null,null,null,null,null,null,null,null,null,null,null,null,null,null,null,null,null,null,null,null,null,null,null,null,null,null,null,null,null,null,null,null,null,null,null,null,null,null,null,null,null,null,null,null,null,null,null,null,null,null,null,null,"/ Hour ",6735]
[null,null,null,null,null,null,null,null,null,null,null,null,null,null,null,null,null,null,null,null,null,null,null,null,null,null,null,null,null,null,null,null,null,null,null,null,null,null,null,null,null,null,null,null,null,null,null,null,null,null,null,null,null,null,null,null,null,null,null,null,null,"/ Hour ",6747]
[null,null,null,null,null,null,null,null,null,null,null,null,null,null,null,null,null,null,null,null,null,null,null,null,null,null,null,null,null,null,null,null,null,null,null,null,null,null,null,null,null,null,null,null,null,null,null,null,null,null,null,null,null,null,null,null,null,null,null,null,null,"/ Hour ",6764]
[null,null,null,null,null,null,null,null,null,null,null,null,null,null,null,null,null,null,null,null,null,null,null,null,null,null,null,null,null,null,null,null,null,null,null,null,null,null,null,null,null,null,null,null,null,null,null,null,null,null,null,null,null,null,null,null,null,null,null,null,null,{"$f":"A6796&\"/\"&B6796&\" Hour \"&C6796","v":"/ Hour "},{"$f":"ROW()-ROW($BK$10)","v":6786}]
[null,null,null,null,null,null,null,null,null,null,null,null,null,null,null,null,null,null,null,null,null,null,null,null,null,null,null,null,null,null,null,null,null,null,null,null,null,null,null,null,null,null,null,null,null,null,null,null,null,null,null,null,null,null,null,null,null,null,null,null,null,"/ Hour ",6799]
[null,null,null,null,null,null,null,null,null,null,null,null,null,null,null,null,null,null,null,null,null,null,null,null,null,null,null,null,null,null,null,null,null,null,null,null,null,null,null,null,null,null,null,null,null,null,null,null,null,null,null,null,null,null,null,null,null,null,null,null,null,"/ Hour ",6816]
[null,null,null,null,null,null,null,null,null,null,null,null,null,null,null,null,null,null,null,null,null,null,null,null,null,null,null,null,null,null,null,null,null,null,null,null,null,null,null,null,null,null,null,null,null,null,null,null,null,null,null,null,null,null,null,null,null,null,null,null,null,"/ Hour ",6836]
[null,null,null,null,null,null,null,null,null,null,null,null,null,null,null,null,null,null,null,null,null,null,null,null,null,null,null,null,null,null,null,null,null,null,null,null,null,null,null,null,null,null,null,null,null,null,null,null,null,null,null,null,null,null,null,null,null,null,null,null,null,"/ Hour ",6851]
[null,null,null,null,null,null,null,null,null,null,null,null,null,null,null,null,null,null,null,null,null,null,null,null,null,null,null,null,null,null,null,null,null,null,null,null,null,null,null,null,null,null,null,null,null,null,null,null,null,null,null,null,null,null,null,null,null,null,null,null,null,"/ Hour ",6868]
[null,null,null,null,null,null,null,null,null,null,null,null,null,null,null,null,null,null,null,null,null,null,null,null,null,null,null,null,null,null,null,null,null,null,null,null,null,null,null,null,null,null,null,null,null,null,null,null,null,null,null,null,null,null,null,null,null,null,null,null,null,"/ Hour ",6869]
[null,null,null,null,null,null,null,null,null,null,null,null,null,null,null,null,null,null,null,null,null,null,null,null,null,null,null,null,null,null,null,null,null,null,null,null,null,null,null,null,null,null,null,null,null,null,null,null,null,null,null,null,null,null,null,null,null,null,null,null,null,"/ Hour ",6887]
[null,null,null,null,null,null,null,null,null,null,null,null,null,null,null,null,null,null,null,null,null,null,null,null,null,null,null,null,null,null,null,null,null,null,null,null,null,null,null,null,null,null,null,null,null,null,null,null,null,null,null,null,null,null,null,null,null,null,null,null,null,"/ Hour ",6904]
[null,null,null,null,null,null,null,null,null,null,null,null,null,null,null,null,null,null,null,null,null,null,null,null,null,null,null,null,null,null,null,null,null,null,null,null,null,null,null,null,null,null,null,null,null,null,null,null,null,null,null,null,null,null,null,null,null,null,null,null,null,"/ Hour ",6919]
[null,null,null,null,null,null,null,null,null,null,null,null,null,null,null,null,null,null,null,null,null,null,null,null,null,null,null,null,null,null,null,null,null,null,null,null,null,null,null,null,null,null,null,null,null,null,null,null,null,null,null,null,null,null,null,null,null,null,null,null,null,"/ Hour ",6939]
[null,null,null,null,null,null,null,null,null,null,null,null,null,null,null,null,null,null,null,null,null,null,null,null,null,null,null,null,null,null,null,null,null,null,null,null,null,null,null,null,null,null,null,null,null,null,null,null,null,null,null,null,null,null,null,null,null,null,null,null,null,"/ Hour ",6956]
[null,null,null,null,null,null,null,null,null,null,null,null,null,null,null,null,null,null,null,null,null,null,null,null,null,null,null,null,null,null,null,null,null,null,null,null,null,null,null,null,null,null,null,null,null,null,null,null,null,null,null,null,null,null,null,null,null,null,null,null,null,"/ Hour ",6973]
[null,null,null,null,null,null,null,null,null,null,null,null,null,null,null,null,null,null,null,null,null,null,null,null,null,null,null,null,null,null,null,null,null,null,null,null,null,null,null,null,null,null,null,null,null,null,null,null,null,null,null,null,null,null,null,null,null,null,null,null,null,"/ Hour ",6986]
[null,null,null,null,null,null,null,null,null,null,null,null,null,null,null,null,null,null,null,null,null,null,null,null,null,null,null,null,null,null,null,null,null,null,null,null,null,null,null,null,null,null,null,null,null,null,null,null,null,null,null,null,null,null,null,null,null,null,null,null,null,"/ Hour ",7008]
[null,null,null,null,null,null,null,null,null,null,null,null,null,null,null,null,null,null,null,null,null,null,null,null,null,null,null,null,null,null,null,null,null,null,null,null,null,null,null,null,null,null,null,null,null,null,null,null,null,null,null,null,null,null,null,null,null,null,null,null,null,"/ Hour ",7025]
[null,null,null,null,null,null,null,null,null,null,null,null,null,null,null,null,null,null,null,null,null,null,null,null,null,null,null,null,null,null,null,null,null,null,null,null,null,null,null,null,null,null,null,null,null,null,null,null,null,null,null,null,null,null,null,null,null,null,null,null,null,"/ Hour ",7036]
[null,null,null,null,null,null,null,null,null,null,null,null,null,null,null,null,null,null,null,null,null,null,null,null,null,null,null,null,null,null,null,null,null,null,null,null,null,null,null,null,null,null,null,null,null,null,null,null,null,null,null,null,null,null,null,null,null,null,null,null,null,"/ Hour ",7060]
[null,null,null,null,null,null,null,null,null,null,null,null,null,null,null,null,null,null,null,null,null,null,null,null,null,null,null,null,null,null,null,null,null,null,null,null,null,null,null,null,null,null,null,null,null,null,null,null,null,null,null,null,null,null,null,null,null,null,null,null,null,"/ Hour ",7077]
[null,null,null,null,null,null,null,null,null,null,null,null,null,null,null,null,null,null,null,null,null,null,null,null,null,null,null,null,null,null,null,null,null,null,null,null,null,null,null,null,null,null,null,null,null,null,null,null,null,null,null,null,null,null,null,null,null,null,null,null,null,"/ Hour ",7086]
[null,null,null,null,null,null,null,null,null,null,null,null,null,null,null,null,null,null,null,null,null,null,null,null,null,null,null,null,null,null,null,null,null,null,null,null,null,null,null,null,null,null,null,null,null,null,null,null,null,null,null,null,null,null,null,null,null,null,null,null,null,"/ Hour ",7112]
[null,null,null,null,null,null,null,null,null,null,null,null,null,null,null,null,null,null,null,null,null,null,null,null,null,null,null,null,null,null,null,null,null,null,null,null,null,null,null,null,null,null,null,null,null,null,null,null,null,null,null,null,null,null,null,null,null,null,null,null,null,"/ Hour ",7129]
[null,null,null,null,null,null,null,null,null,null,null,null,null,null,null,null,null,null,null,null,null,null,null,null,null,null,null,null,null,null,null,null,null,null,null,null,null,null,null,null,null,null,null,null,null,null,null,null,null,null,null,null,null,null,null,null,null,null,null,null,null,"/ Hour ",7136]
[null,null,null,null,null,null,null,null,null,null,null,null,null,null,null,null,null,null,null,null,null,null,null,null,null,null,null,null,null,null,null,null,null,null,null,null,null,null,null,null,null,null,null,null,null,null,null,null,null,null,null,null,null,null,null,null,null,null,null,null,null,"/ Hour ",7148]
[null,null,null,null,null,null,null,null,null,null,null,null,null,null,null,null,null,null,null,null,null,null,null,null,null,null,null,null,null,null,null,null,null,null,null,null,null,null,null,null,null,null,null,null,null,null,null,null,null,null,null,null,null,null,null,null,null,null,null,null,null,"/ Hour ",7165]
[null,null,null,null,null,null,null,null,null,null,null,null,null,null,null,null,null,null,null,null,null,null,null,null,null,null,null,null,null,null,null,null,null,null,null,null,null,null,null,null,null,null,null,null,null,null,null,null,null,null,null,null,null,null,null,null,null,null,null,null,null,"/ Hour ",7186]
[null,null,null,null,null,null,null,null,null,null,null,null,null,null,null,null,null,null,null,null,null,null,null,null,null,null,null,null,null,null,null,null,null,null,null,null,null,null,null,null,null,null,null,null,null,null,null,null,null,null,null,null,null,null,null,null,null,null,null,null,null,"/ Hour ",7200]
[null,null,null,null,null,null,null,null,null,null,null,null,null,null,null,null,null,null,null,null,null,null,null,null,null,null,null,null,null,null,null,null,null,null,null,null,null,null,null,null,null,null,null,null,null,null,null,null,null,null,null,null,null,null,null,null,null,null,null,null,null,"/ Hour ",7217]
[null,null,null,null,null,null,null,null,null,null,null,null,null,null,null,null,null,null,null,null,null,null,null,null,null,null,null,null,null,null,null,null,null,null,null,null,null,null,null,null,null,null,null,null,null,null,null,null,null,null,null,null,null,null,null,null,null,null,null,null,null,{"$f":"A7244&\"/\"&B7244&\" Hour \"&C7244","v":"/ Hour "},{"$f":"ROW()-ROW($BK$10)","v":7234}]
[null,null,null,null,null,null,null,null,null,null,null,null,null,null,null,null,null,null,null,null,null,null,null,null,null,null,null,null,null,null,null,null,null,null,null,null,null,null,null,null,null,null,null,null,null,null,null,null,null,null,null,null,null,null,null,null,null,null,null,null,null,"/ Hour ",7253]
[null,null,null,null,null,null,null,null,null,null,null,null,null,null,null,null,null,null,null,null,null,null,null,null,null,null,null,null,null,null,null,null,null,null,null,null,null,null,null,null,null,null,null,null,null,null,null,null,null,null,null,null,null,null,null,null,null,null,null,null,null,"/ Hour ",7269]
[null,null,null,null,null,null,null,null,null,null,null,null,null,null,null,null,null,null,null,null,null,null,null,null,null,null,null,null,null,null,null,null,null,null,null,null,null,null,null,null,null,null,null,null,null,null,null,null,null,null,null,null,null,null,null,null,null,null,null,null,null,"/ Hour ",7286]
[null,null,null,null,null,null,null,null,null,null,null,null,null,null,null,null,null,null,null,null,null,null,null,null,null,null,null,null,null,null,null,null,null,null,null,null,null,null,null,null,null,null,null,null,null,null,null,null,null,null,null,null,null,null,null,null,null,null,null,null,null,"/ Hour ",7303]
[null,null,null,null,null,null,null,null,null,null,null,null,null,null,null,null,null,null,null,null,null,null,null,null,null,null,null,null,null,null,null,null,null,null,null,null,null,null,null,null,null,null,null,null,null,null,null,null,null,null,null,null,null,null,null,null,null,null,null,null,null,"/ Hour ",7321]
[null,null,null,null,null,null,null,null,null,null,null,null,null,null,null,null,null,null,null,null,null,null,null,null,null,null,null,null,null,null,null,null,null,null,null,null,null,null,null,null,null,null,null,null,null,null,null,null,null,null,null,null,null,null,null,null,null,null,null,null,null,"/ Hour ",7338]
[null,null,null,null,null,null,null,null,null,null,null,null,null,null,null,null,null,null,null,null,null,null,null,null,null,null,null,null,null,null,null,null,null,null,null,null,null,null,null,null,null,null,null,null,null,null,null,null,null,null,null,null,null,null,null,null,null,null,null,null,null,"/ Hour ",7353]
[null,null,null,null,null,null,null,null,null,null,null,null,null,null,null,null,null,null,null,null,null,null,null,null,null,null,null,null,null,null,null,null,null,null,null,null,null,null,null,null,null,null,null,null,null,null,null,null,null,null,null,null,null,null,null,null,null,null,null,null,null,"/ Hour ",7373]
[null,null,null,null,null,null,null,null,null,null,null,null,null,null,null,null,null,null,null,null,null,null,null,null,null,null,null,null,null,null,null,null,null,null,null,null,null,null,null,null,null,null,null,null,null,null,null,null,null,null,null,null,null,null,null,null,null,null,null,null,null,"/ Hour ",7390]
[null,null,null,null,null,null,null,null,null,null,null,null,null,null,null,null,null,null,null,null,null,null,null,null,null,null,null,null,null,null,null,null,null,null,null,null,null,null,null,null,null,null,null,null,null,null,null,null,null,null,null,null,null,null,null,null,null,null,null,null,null,"/ Hour ",7403]
[null,null,null,null,null,null,null,null,null,null,null,null,null,null,null,null,null,null,null,null,null,null,null,null,null,null,null,null,null,null,null,null,null,null,null,null,null,null,null,null,null,null,null,null,null,null,null,null,null,null,null,null,null,null,null,null,null,null,null,null,null,"/ Hour ",7409]
[null,null,null,null,null,null,null,null,null,null,null,null,null,null,null,null,null,null,null,null,null,null,null,null,null,null,null,null,null,null,null,null,null,null,null,null,null,null,null,null,null,null,null,null,null,null,null,null,null,null,null,null,null,null,null,null,null,null,null,null,null,{"$f":"A7436&\"/\"&B7436&\" Hour \"&C7436","v":"/ Hour "},{"$f":"ROW()-ROW($BK$10)","v":7426}]
[null,null,null,null,null,null,null,null,null,null,null,null,null,null,null,null,null,null,null,null,null,null,null,null,null,null,null,null,null,null,null,null,null,null,null,null,null,null,null,null,null,null,null,null,null,null,null,null,null,null,null,null,null,null,null,null,null,null,null,null,null,"/ Hour ",7453]
[null,null,null,null,null,null,null,null,null,null,null,null,null,null,null,null,null,null,null,null,null,null,null,null,null,null,null,null,null,null,null,null,null,null,null,null,null,null,null,null,null,null,null,null,null,null,null,null,null,null,null,null,null,null,null,null,null,null,null,null,null,"/ Hour ",7461]
[null,null,null,null,null,null,null,null,null,null,null,null,null,null,null,null,null,null,null,null,null,null,null,null,null,null,null,null,null,null,null,null,null,null,null,null,null,null,null,null,null,null,null,null,null,null,null,null,null,null,null,null,null,null,null,null,null,null,null,null,null,"/ Hour ",7478]
[null,null,null,null,null,null,null,null,null,null,null,null,null,null,null,null,null,null,null,null,null,null,null,null,null,null,null,null,null,null,null,null,null,null,null,null,null,null,null,null,null,null,null,null,null,null,null,null,null,null,null,null,null,null,null,null,null,null,null,null,null,"/ Hour ",7503]
[null,null,null,null,null,null,null,null,null,null,null,null,null,null,null,null,null,null,null,null,null,null,null,null,null,null,null,null,null,null,null,null,null,null,null,null,null,null,null,null,null,null,null,null,null,null,null,null,null,null,null,null,null,null,null,null,null,null,null,null,null,"/ Hour ",7513]
[null,null,null,null,null,null,null,null,null,null,null,null,null,null,null,null,null,null,null,null,null,null,null,null,null,null,null,null,null,null,null,null,null,null,null,null,null,null,null,null,null,null,null,null,null,null,null,null,null,null,null,null,null,null,null,null,null,null,null,null,null,"/ Hour ",7530]
[null,null,null,null,null,null,null,null,null,null,null,null,null,null,null,null,null,null,null,null,null,null,null,null,null,null,null,null,null,null,null,null,null,null,null,null,null,null,null,null,null,null,null,null,null,null,null,null,null,null,null,null,null,null,null,null,null,null,null,null,null,"/ Hour ",7547]
[null,null,null,null,null,null,null,null,null,null,null,null,null,null,null,null,null,null,null,null,null,null,null,null,null,null,null,null,null,null,null,null,null,null,null,null,null,null,null,null,null,null,null,null,null,null,null,null,null,null,null,null,null,null,null,null,null,null,null,null,null,"/ Hour ",7570]
[null,null,null,null,null,null,null,null,null,null,null,null,null,null,null,null,null,null,null,null,null,null,null,null,null,null,null,null,null,null,null,null,null,null,null,null,null,null,null,null,null,null,null,null,null,null,null,null,null,null,null,null,null,null,null,null,null,null,null,null,null,"/ Hour ",7582]
[null,null,null,null,null,null,null,null,null,null,null,null,null,null,null,null,null,null,null,null,null,null,null,null,null,null,null,null,null,null,null,null,null,null,null,null,null,null,null,null,null,null,null,null,null,null,null,null,null,null,null,null,null,null,null,null,null,null,null,null,null,"/ Hour ",7599]
[null,null,null,null,null,null,null,null,null,null,null,null,null,null,null,null,null,null,null,null,null,null,null,null,null,null,null,null,null,null,null,null,null,null,null,null,null,null,null,null,null,null,null,null,null,null,null,null,null,null,null,null,null,null,null,null,null,null,null,null,null,"/ Hour ",7603]
[null,null,null,null,null,null,null,null,null,null,null,null,null,null,null,null,null,null,null,null,null,null,null,null,null,null,null,null,null,null,null,null,null,null,null,null,null,null,null,null,null,null,null,null,null,null,null,null,null,null,null,null,null,null,null,null,null,null,null,null,null,"/ Hour ",7634]
[null,null,null,null,null,null,null,null,null,null,null,null,null,null,null,null,null,null,null,null,null,null,null,null,null,null,null,null,null,null,null,null,null,null,null,null,null,null,null,null,null,null,null,null,null,null,null,null,null,null,null,null,null,null,null,null,null,null,null,null,null,"/ Hour ",7651]
[null,null,null,null,null,null,null,null,null,null,null,null,null,null,null,null,null,null,null,null,null,null,null,null,null,null,null,null,null,null,null,null,null,null,null,null,null,null,null,null,null,null,null,null,null,null,null,null,null,null,null,null,null,null,null,null,null,null,null,null,null,"/ Hour ",7653]
[null,null,null,null,null,null,null,null,null,null,null,null,null,null,null,null,null,null,null,null,null,null,null,null,null,null,null,null,null,null,null,null,null,null,null,null,null,null,null,null,null,null,null,null,null,null,null,null,null,null,null,null,null,null,null,null,null,null,null,null,null,"/ Hour ",7670]
[null,null,null,null,null,null,null,null,null,null,null,null,null,null,null,null,null,null,null,null,null,null,null,null,null,null,null,null,null,null,null,null,null,null,null,null,null,null,null,null,null,null,null,null,null,null,null,null,null,null,null,null,null,null,null,null,null,null,null,null,null,"/ Hour ",7687]
[null,null,null,null,null,null,null,null,null,null,null,null,null,null,null,null,null,null,null,null,null,null,null,null,null,null,null,null,null,null,null,null,null,null,null,null,null,null,null,null,null,null,null,null,null,null,null,null,null,null,null,null,null,null,null,null,null,null,null,null,null,"/ Hour ",7703]
[null,null,null,null,null,null,null,null,null,null,null,null,null,null,null,null,null,null,null,null,null,null,null,null,null,null,null,null,null,null,null,null,null,null,null,null,null,null,null,null,null,null,null,null,null,null,null,null,null,null,null,null,null,null,null,null,null,null,null,null,null,"/ Hour ",7722]
[null,null,null,null,null,null,null,null,null,null,null,null,null,null,null,null,null,null,null,null,null,null,null,null,null,null,null,null,null,null,null,null,null,null,null,null,null,null,null,null,null,null,null,null,null,null,null,null,null,null,null,null,null,null,null,null,null,null,null,null,null,"/ Hour ",7739]
[null,null,null,null,null,null,null,null,null,null,null,null,null,null,null,null,null,null,null,null,null,null,null,null,null,null,null,null,null,null,null,null,null,null,null,null,null,null,null,null,null,null,null,null,null,null,null,null,null,null,null,null,null,null,null,null,null,null,null,null,null,"/ Hour ",7753]
[null,null,null,null,null,null,null,null,null,null,null,null,null,null,null,null,null,null,null,null,null,null,null,null,null,null,null,null,null,null,null,null,null,null,null,null,null,null,null,null,null,null,null,null,null,null,null,null,null,null,null,null,null,null,null,null,null,null,null,null,null,"/ Hour ",7774]
[null,null,null,null,null,null,null,null,null,null,null,null,null,null,null,null,null,null,null,null,null,null,null,null,null,null,null,null,null,null,null,null,null,null,null,null,null,null,null,null,null,null,null,null,null,null,null,null,null,null,null,null,null,null,null,null,null,null,null,null,null,"/ Hour ",7791]
[null,null,null,null,null,null,null,null,null,null,null,null,null,null,null,null,null,null,null,null,null,null,null,null,null,null,null,null,null,null,null,null,null,null,null,null,null,null,null,null,null,null,null,null,null,null,null,null,null,null,null,null,null,null,null,null,null,null,null,null,null,"/ Hour ",7808]
[null,null,null,null,null,null,null,null,null,null,null,null,null,null,null,null,null,null,null,null,null,null,null,null,null,null,null,null,null,null,null,null,null,null,null,null,null,null,null,null,null,null,null,null,null,null,null,null,null,null,null,null,null,null,null,null,null,null,null,null,null,"/ Hour ",7820]
[null,null,null,null,null,null,null,null,null,null,null,null,null,null,null,null,null,null,null,null,null,null,null,null,null,null,null,null,null,null,null,null,null,null,null,null,null,null,null,null,null,null,null,null,null,null,null,null,null,null,null,null,null,null,null,null,null,null,null,null,null,"/ Hour ",7843]
[null,null,null,null,null,null,null,null,null,null,null,null,null,null,null,null,null,null,null,null,null,null,null,null,null,null,null,null,null,null,null,null,null,null,null,null,null,null,null,null,null,null,null,null,null,null,null,null,null,null,null,null,null,null,null,null,null,null,null,null,null,"/ Hour ",7860]
[null,null,null,null,null,null,null,null,null,null,null,null,null,null,null,null,null,null,null,null,null,null,null,null,null,null,null,null,null,null,null,null,null,null,null,null,null,null,null,null,null,null,null,null,null,null,null,null,null,null,null,null,null,null,null,null,null,null,null,null,null,"/ Hour ",7870]
[null,null,null,null,null,null,null,null,null,null,null,null,null,null,null,null,null,null,null,null,null,null,null,null,null,null,null,null,null,null,null,null,null,null,null,null,null,null,null,null,null,null,null,null,null,null,null,null,null,null,null,null,null,null,null,null,null,null,null,null,null,"/ Hour ",7895]
[null,null,null,null,null,null,null,null,null,null,null,null,null,null,null,null,null,null,null,null,null,null,null,null,null,null,null,null,null,null,null,null,null,null,null,null,null,null,null,null,null,null,null,null,null,null,null,null,null,null,null,null,null,null,null,null,null,null,null,null,null,"/ Hour ",7912]
[null,null,null,null,null,null,null,null,null,null,null,null,null,null,null,null,null,null,null,null,null,null,null,null,null,null,null,null,null,null,null,null,null,null,null,null,null,null,null,null,null,null,null,null,null,null,null,null,null,null,null,null,null,null,null,null,null,null,null,null,null,"/ Hour ",7920]
[null,null,null,null,null,null,null,null,null,null,null,null,null,null,null,null,null,null,null,null,null,null,null,null,null,null,null,null,null,null,null,null,null,null,null,null,null,null,null,null,null,null,null,null,null,null,null,null,null,null,null,null,null,null,null,null,null,null,null,null,null,"/ Hour ",7931]
[null,null,null,null,null,null,null,null,null,null,null,null,null,null,null,null,null,null,null,null,null,null,null,null,null,null,null,null,null,null,null,null,null,null,null,null,null,null,null,null,null,null,null,null,null,null,null,null,null,null,null,null,null,null,null,null,null,null,null,null,null,"/ Hour ",7948]
[null,null,null,null,null,null,null,null,null,null,null,null,null,null,null,null,null,null,null,null,null,null,null,null,null,null,null,null,null,null,null,null,null,null,null,null,null,null,null,null,null,null,null,null,null,null,null,null,null,null,null,null,null,null,null,null,null,null,null,null,null,"/ Hour ",7970]
[null,null,null,null,null,null,null,null,null,null,null,null,null,null,null,null,null,null,null,null,null,null,null,null,null,null,null,null,null,null,null,null,null,null,null,null,null,null,null,null,null,null,null,null,null,null,null,null,null,null,null,null,null,null,null,null,null,null,null,null,null,"/ Hour ",7983]
[null,null,null,null,null,null,null,null,null,null,null,null,null,null,null,null,null,null,null,null,null,null,null,null,null,null,null,null,null,null,null,null,null,null,null,null,null,null,null,null,null,null,null,null,null,null,null,null,null,null,null,null,null,null,null,null,null,null,null,null,null,"/ Hour ",8000]
[null,null,null,null,null,null,null,null,null,null,null,null,null,null,null,null,null,null,null,null,null,null,null,null,null,null,null,null,null,null,null,null,null,null,null,null,null,null,null,null,null,null,null,null,null,null,null,null,null,null,null,null,null,null,null,null,null,null,null,null,null,"/ Hour ",8021]
[null,null,null,null,null,null,null,null,null,null,null,null,null,null,null,null,null,null,null,null,null,null,null,null,null,null,null,null,null,null,null,null,null,null,null,null,null,null,null,null,null,null,null,null,null,null,null,null,null,null,null,null,null,null,null,null,null,null,null,null,null,"/ Hour ",8035]
[null,null,null,null,null,null,null,null,null,null,null,null,null,null,null,null,null,null,null,null,null,null,null,null,null,null,null,null,null,null,null,null,null,null,null,null,null,null,null,null,null,null,null,null,null,null,null,null,null,null,null,null,null,null,null,null,null,null,null,null,null,"/ Hour ",8052]
[null,null,null,null,null,null,null,null,null,null,null,null,null,null,null,null,null,null,null,null,null,null,null,null,null,null,null,null,null,null,null,null,null,null,null,null,null,null,null,null,null,null,null,null,null,null,null,null,null,null,null,null,null,null,null,null,null,null,null,null,null,"/ Hour ",8071]
[null,null,null,null,null,null,null,null,null,null,null,null,null,null,null,null,null,null,null,null,null,null,null,null,null,null,null,null,null,null,null,null,null,null,null,null,null,null,null,null,null,null,null,null,null,null,null,null,null,null,null,null,null,null,null,null,null,null,null,null,null,"/ Hour ",8087]
[null,null,null,null,null,null,null,null,null,null,null,null,null,null,null,null,null,null,null,null,null,null,null,null,null,null,null,null,null,null,null,null,null,null,null,null,null,null,null,null,null,null,null,null,null,null,null,null,null,null,null,null,null,null,null,null,null,null,null,null,null,"/ Hour ",8104]
[null,null,null,null,null,null,null,null,null,null,null,null,null,null,null,null,null,null,null,null,null,null,null,null,null,null,null,null,null,null,null,null,null,null,null,null,null,null,null,null,null,null,null,null,null,null,null,null,null,null,null,null,null,null,null,null,null,null,null,null,null,"/ Hour ",8121]
[null,null,null,null,null,null,null,null,null,null,null,null,null,null,null,null,null,null,null,null,null,null,null,null,null,null,null,null,null,null,null,null,null,null,null,null,null,null,null,null,null,null,null,null,null,null,null,null,null,null,null,null,null,null,null,null,null,null,null,null,null,"/ Hour ",8137]
[null,null,null,null,null,null,null,null,null,null,null,null,null,null,null,null,null,null,null,null,null,null,null,null,null,null,null,null,null,null,null,null,null,null,null,null,null,null,null,null,null,null,null,null,null,null,null,null,null,null,null,null,null,null,null,null,null,null,null,null,null,"/ Hour ",8156]
[null,null,null,null,null,null,null,null,null,null,null,null,null,null,null,null,null,null,null,null,null,null,null,null,null,null,null,null,null,null,null,null,null,null,null,null,null,null,null,null,null,null,null,null,null,null,null,null,null,null,null,null,null,null,null,null,null,null,null,null,null,"/ Hour ",8173]
[null,null,null,null,null,null,null,null,null,null,null,null,null,null,null,null,null,null,null,null,null,null,null,null,null,null,null,null,null,null,null,null,null,null,null,null,null,null,null,null,null,null,null,null,null,null,null,null,null,null,null,null,null,null,null,null,null,null,null,null,null,"/ Hour ",8187]
[null,null,null,null,null,null,null,null,null,null,null,null,null,null,null,null,null,null,null,null,null,null,null,null,null,null,null,null,null,null,null,null,null,null,null,null,null,null,null,null,null,null,null,null,null,null,null,null,null,null,null,null,null,null,null,null,null,null,null,null,null,"/ Hour ",8192]
[null,null,null,null,null,null,null,null,null,null,null,null,null,null,null,null,null,null,null,null,null,null,null,null,null,null,null,null,null,null,null,null,null,null,null,null,null,null,null,null,null,null,null,null,null,null,null,null,null,null,null,null,null,null,null,null,null,null,null,null,null,"/ Hour ",8209]
[null,null,null,null,null,null,null,null,null,null,null,null,null,null,null,null,null,null,null,null,null,null,null,null,null,null,null,null,null,null,null,null,null,null,null,null,null,null,null,null,null,null,null,null,null,null,null,null,null,null,null,null,null,null,null,null,null,null,null,null,null,"/ Hour ",8238]
[null,null,null,null,null,null,null,null,null,null,null,null,null,null,null,null,null,null,null,null,null,null,null,null,null,null,null,null,null,null,null,null,null,null,null,null,null,null,null,null,null,null,null,null,null,null,null,null,null,null,null,null,null,null,null,null,null,null,null,null,null,"/ Hour ",8244]
[null,null,null,null,null,null,null,null,null,null,null,null,null,null,null,null,null,null,null,null,null,null,null,null,null,null,null,null,null,null,null,null,null,null,null,null,null,null,null,null,null,null,null,null,null,null,null,null,null,null,null,null,null,null,null,null,null,null,null,null,null,"/ Hour ",8261]
[null,null,null,null,null,null,null,null,null,null,null,null,null,null,null,null,null,null,null,null,null,null,null,null,null,null,null,null,null,null,null,null,null,null,null,null,null,null,null,null,null,null,null,null,null,null,null,null,null,null,null,null,null,null,null,null,null,null,null,null,null,"/ Hour ",8288]
[null,null,null,null,null,null,null,null,null,null,null,null,null,null,null,null,null,null,null,null,null,null,null,null,null,null,null,null,null,null,null,null,null,null,null,null,null,null,null,null,null,null,null,null,null,null,null,null,null,null,null,null,null,null,null,null,null,null,null,null,null,"/ Hour ",8296]
[null,null,null,null,null,null,null,null,null,null,null,null,null,null,null,null,null,null,null,null,null,null,null,null,null,null,null,null,null,null,null,null,null,null,null,null,null,null,null,null,null,null,null,null,null,null,null,null,null,null,null,null,null,null,null,null,null,null,null,null,null,"/ Hour ",8313]
[null,null,null,null,null,null,null,null,null,null,null,null,null,null,null,null,null,null,null,null,null,null,null,null,null,null,null,null,null,null,null,null,null,null,null,null,null,null,null,null,null,null,null,null,null,null,null,null,null,null,null,null,null,null,null,null,null,null,null,null,null,"/ Hour ",8321]
[null,null,null,null,null,null,null,null,null,null,null,null,null,null,null,null,null,null,null,null,null,null,null,null,null,null,null,null,null,null,null,null,null,null,null,null,null,null,null,null,null,null,null,null,null,null,null,null,null,null,null,null,null,null,null,null,null,null,null,null,null,"/ Hour ",8348]
[null,null,null,null,null,null,null,null,null,null,null,null,null,null,null,null,null,null,null,null,null,null,null,null,null,null,null,null,null,null,null,null,null,null,null,null,null,null,null,null,null,null,null,null,null,null,null,null,null,null,null,null,null,null,null,null,null,null,null,null,null,"/ Hour ",8365]
[null,null,null,null,null,null,null,null,null,null,null,null,null,null,null,null,null,null,null,null,null,null,null,null,null,null,null,null,null,null,null,null,null,null,null,null,null,null,null,null,null,null,null,null,null,null,null,null,null,null,null,null,null,null,null,null,null,null,null,null,null,"/ Hour ",8382]
[null,null,null,null,null,null,null,null,null,null,null,null,null,null,null,null,null,null,null,null,null,null,null,null,null,null,null,null,null,null,null,null,null,null,null,null,null,null,null,null,null,null,null,null,null,null,null,null,null,null,null,null,null,null,null,null,null,null,null,null,null,"/ Hour ",8387]
[null,null,null,null,null,null,null,null,null,null,null,null,null,null,null,null,null,null,null,null,null,null,null,null,null,null,null,null,null,null,null,null,null,null,null,null,null,null,null,null,null,null,null,null,null,null,null,null,null,null,null,null,null,null,null,null,null,null,null,null,null,"/ Hour ",8417]
[null,null,null,null,null,null,null,null,null,null,null,null,null,null,null,null,null,null,null,null,null,null,null,null,null,null,null,null,null,null,null,null,null,null,null,null,null,null,null,null,null,null,null,null,null,null,null,null,null,null,null,null,null,null,null,null,null,null,null,null,null,"/ Hour ",8434]
[null,null,null,null,null,null,null,null,null,null,null,null,null,null,null,null,null,null,null,null,null,null,null,null,null,null,null,null,null,null,null,null,null,null,null,null,null,null,null,null,null,null,null,null,null,null,null,null,null,null,null,null,null,null,null,null,null,null,null,null,null,"/ Hour ",8438]
[null,null,null,null,null,null,null,null,null,null,null,null,null,null,null,null,null,null,null,null,null,null,null,null,null,null,null,null,null,null,null,null,null,null,null,null,null,null,null,null,null,null,null,null,null,null,null,null,null,null,null,null,null,null,null,null,null,null,null,null,null,"/ Hour ",8453]
[null,null,null,null,null,null,null,null,null,null,null,null,null,null,null,null,null,null,null,null,null,null,null,null,null,null,null,null,null,null,null,null,null,null,null,null,null,null,null,null,null,null,null,null,null,null,null,null,null,null,null,null,null,null,null,null,null,null,null,null,null,"/ Hour ",8470]
[null,null,null,null,null,null,null,null,null,null,null,null,null,null,null,null,null,null,null,null,null,null,null,null,null,null,null,null,null,null,null,null,null,null,null,null,null,null,null,null,null,null,null,null,null,null,null,null,null,null,null,null,null,null,null,null,null,null,null,null,null,"/ Hour ",8488]
[null,null,null,null,null,null,null,null,null,null,null,null,null,null,null,null,null,null,null,null,null,null,null,null,null,null,null,null,null,null,null,null,null,null,null,null,null,null,null,null,null,null,null,null,null,null,null,null,null,null,null,null,null,null,null,null,null,null,null,null,null,"/ Hour ",8505]
[null,null,null,null,null,null,null,null,null,null,null,null,null,null,null,null,null,null,null,null,null,null,null,null,null,null,null,null,null,null,null,null,null,null,null,null,null,null,null,null,null,null,null,null,null,null,null,null,null,null,null,null,null,null,null,null,null,null,null,null,null,"/ Hour ",8522]
[null,null,null,null,null,null,null,null,null,null,null,null,null,null,null,null,null,null,null,null,null,null,null,null,null,null,null,null,null,null,null,null,null,null,null,null,null,null,null,null,null,null,null,null,null,null,null,null,null,null,null,null,null,null,null,null,null,null,null,null,null,"/ Hour ",8538]
[null,null,null,null,null,null,null,null,null,null,null,null,null,null,null,null,null,null,null,null,null,null,null,null,null,null,null,null,null,null,null,null,null,null,null,null,null,null,null,null,null,null,null,null,null,null,null,null,null,null,null,null,null,null,null,null,null,null,null,null,null,"/ Hour ",8557]
[null,null,null,null,null,null,null,null,null,null,null,null,null,null,null,null,null,null,null,null,null,null,null,null,null,null,null,null,null,null,null,null,null,null,null,null,null,null,null,null,null,null,null,null,null,null,null,null,null,null,null,null,null,null,null,null,null,null,null,null,null,"/ Hour ",8574]
[null,null,null,null,null,null,null,null,null,null,null,null,null,null,null,null,null,null,null,null,null,null,null,null,null,null,null,null,null,null,null,null,null,null,null,null,null,null,null,null,null,null,null,null,null,null,null,null,null,null,null,null,null,null,null,null,null,null,null,null,null,"/ Hour ",8588]
[null,null,null,null,null,null,null,null,null,null,null,null,null,null,null,null,null,null,null,null,null,null,null,null,null,null,null,null,null,null,null,null,null,null,null,null,null,null,null,null,null,null,null,null,null,null,null,null,null,null,null,null,null,null,null,null,null,null,null,null,null,"/ Hour ",8609]
[null,null,null,null,null,null,null,null,null,null,null,null,null,null,null,null,null,null,null,null,null,null,null,null,null,null,null,null,null,null,null,null,null,null,null,null,null,null,null,null,null,null,null,null,null,null,null,null,null,null,null,null,null,null,null,null,null,null,null,null,null,"/ Hour ",8626]
[null,null,null,null,null,null,null,null,null,null,null,null,null,null,null,null,null,null,null,null,null,null,null,null,null,null,null,null,null,null,null,null,null,null,null,null,null,null,null,null,null,null,null,null,null,null,null,null,null,null,null,null,null,null,null,null,null,null,null,null,null,"/ Hour ",8638]
[null,null,null,null,null,null,null,null,null,null,null,null,null,null,null,null,null,null,null,null,null,null,null,null,null,null,null,null,null,null,null,null,null,null,null,null,null,null,null,null,null,null,null,null,null,null,null,null,null,null,null,null,null,null,null,null,null,null,null,null,null,"/ Hour ",8648]
[null,null,null,null,null,null,null,null,null,null,null,null,null,null,null,null,null,null,null,null,null,null,null,null,null,null,null,null,null,null,null,null,null,null,null,null,null,null,null,null,null,null,null,null,null,null,null,null,null,null,null,null,null,null,null,null,null,null,null,null,null,"/ Hour ",8649]
[null,null,null,null,null,null,null,null,null,null,null,null,null,null,null,null,null,null,null,null,null,null,null,null,null,null,null,null,null,null,null,null,null,null,null,null,null,null,null,null,null,null,null,null,null,null,null,null,null,null,null,null,null,null,null,null,null,null,null,null,null,"/ Hour ",8650]
[null,null,null,null,null,null,null,null,null,null,null,null,null,null,null,null,null,null,null,null,null,null,null,null,null,null,null,null,null,null,null,null,null,null,null,null,null,null,null,null,null,null,null,null,null,null,null,null,null,null,null,null,null,null,null,null,null,null,null,null,null,"/ Hour ",8651]
[null,null,null,null,null,null,null,null,null,null,null,null,null,null,null,null,null,null,null,null,null,null,null,null,null,null,null,null,null,null,null,null,null,null,null,null,null,null,null,null,null,null,null,null,null,null,null,null,null,null,null,null,null,null,null,null,null,null,null,null,null,"/ Hour ",8652]
[null,null,null,null,null,null,null,null,null,null,null,null,null,null,null,null,null,null,null,null,null,null,null,null,null,null,null,null,null,null,null,null,null,null,null,null,null,null,null,null,null,null,null,null,null,null,null,null,null,null,null,null,null,null,null,null,null,null,null,null,null,"/ Hour ",8653]
[null,null,null,null,null,null,null,null,null,null,null,null,null,null,null,null,null,null,null,null,null,null,null,null,null,null,null,null,null,null,null,null,null,null,null,null,null,null,null,null,null,null,null,null,null,null,null,null,null,null,null,null,null,null,null,null,null,null,null,null,null,"/ Hour ",8654]
[null,null,null,null,null,null,null,null,null,null,null,null,null,null,null,null,null,null,null,null,null,null,null,null,null,null,null,null,null,null,null,null,null,null,null,null,null,null,null,null,null,null,null,null,null,null,null,null,null,null,null,null,null,null,null,null,null,null,null,null,null,"/ Hour ",8655]
[null,null,null,null,null,null,null,null,null,null,null,null,null,null,null,null,null,null,null,null,null,null,null,null,null,null,null,null,null,null,null,null,null,null,null,null,null,null,null,null,null,null,null,null,null,null,null,null,null,null,null,null,null,null,null,null,null,null,null,null,null,"/ Hour ",8656]
[null,null,null,null,null,null,null,null,null,null,null,null,null,null,null,null,null,null,null,null,null,null,null,null,null,null,null,null,null,null,null,null,null,null,null,null,null,null,null,null,null,null,null,null,null,null,null,null,null,null,null,null,null,null,null,null,null,null,null,null,null,"/ Hour ",8657]
[null,null,null,null,null,null,null,null,null,null,null,null,null,null,null,null,null,null,null,null,null,null,null,null,null,null,null,null,null,null,null,null,null,null,null,null,null,null,null,null,null,null,null,null,null,null,null,null,null,null,null,null,null,null,null,null,null,null,null,null,null,"/ Hour ",8658]
[null,null,null,null,null,null,null,null,null,null,null,null,null,null,null,null,null,null,null,null,null,null,null,null,null,null,null,null,null,null,null,null,null,null,null,null,null,null,null,null,null,null,null,null,null,null,null,null,null,null,null,null,null,null,null,null,null,null,null,null,null,"/ Hour ",8659]
[null,null,null,null,null,null,null,null,null,null,null,null,null,null,null,null,null,null,null,null,null,null,null,null,null,null,null,null,null,null,null,null,null,null,null,null,null,null,null,null,null,null,null,null,null,null,null,null,null,null,null,null,null,null,null,null,null,null,null,null,null,"/ Hour ",8660]
[null,null,null,null,null,null,null,null,null,null,null,null,null,null,null,null,null,null,null,null,null,null,null,null,null,null,null,null,null,null,null,null,null,null,null,null,null,null,null,null,null,null,null,null,null,null,null,null,null,null,null,null,null,null,null,null,null,null,null,null,null,"/ Hour ",8661]
[null,null,null,null,null,null,null,null,null,null,null,null,null,null,null,null,null,null,null,null,null,null,null,null,null,null,null,null,null,null,null,null,null,null,null,null,null,null,null,null,null,null,null,null,null,null,null,null,null,null,null,null,null,null,null,null,null,null,null,null,null,"/ Hour ",8662]
[null,null,null,null,null,null,null,null,null,null,null,null,null,null,null,null,null,null,null,null,null,null,null,null,null,null,null,null,null,null,null,null,null,null,null,null,null,null,null,null,null,null,null,null,null,null,null,null,null,null,null,null,null,null,null,null,null,null,null,null,null,"/ Hour ",8663]
[null,null,null,null,null,null,null,null,null,null,null,null,null,null,null,null,null,null,null,null,null,null,null,null,null,null,null,null,null,null,null,null,null,null,null,null,null,null,null,null,null,null,null,null,null,null,null,null,null,null,null,null,null,null,null,null,null,null,null,null,null,"/ Hour ",8664]
[null,null,null,null,null,null,null,null,null,null,null,null,null,null,null,null,null,null,null,null,null,null,null,null,null,null,null,null,null,null,null,null,null,null,null,null,null,null,null,null,null,null,null,null,null,null,null,null,null,null,null,null,null,null,null,null,null,null,null,null,null,"/ Hour ",8665]
[null,null,null,null,null,null,null,null,null,null,null,null,null,null,null,null,null,null,null,null,null,null,null,null,null,null,null,null,null,null,null,null,null,null,null,null,null,null,null,null,null,null,null,null,null,null,null,null,null,null,null,null,null,null,null,null,null,null,null,null,null,"/ Hour ",8666]
[null,null,null,null,null,null,null,null,null,null,null,null,null,null,null,null,null,null,null,null,null,null,null,null,null,null,null,null,null,null,null,null,null,null,null,null,null,null,null,null,null,null,null,null,null,null,null,null,null,null,null,null,null,null,null,null,null,null,null,null,null,"/ Hour ",8667]
[null,null,null,null,null,null,null,null,null,null,null,null,null,null,null,null,null,null,null,null,null,null,null,null,null,null,null,null,null,null,null,null,null,null,null,null,null,null,null,null,null,null,null,null,null,null,null,null,null,null,null,null,null,null,null,null,null,null,null,null,null,"/ Hour ",8668]
[null,null,null,null,null,null,null,null,null,null,null,null,null,null,null,null,null,null,null,null,null,null,null,null,null,null,null,null,null,null,null,null,null,null,null,null,null,null,null,null,null,null,null,null,null,null,null,null,null,null,null,null,null,null,null,null,null,null,null,null,null,"/ Hour ",8669]
[null,null,null,null,null,null,null,null,null,null,null,null,null,null,null,null,null,null,null,null,null,null,null,null,null,null,null,null,null,null,null,null,null,null,null,null,null,null,null,null,null,null,null,null,null,null,null,null,null,null,null,null,null,null,null,null,null,null,null,null,null,"/ Hour ",8670]
[null,null,null,null,null,null,null,null,null,null,null,null,null,null,null,null,null,null,null,null,null,null,null,null,null,null,null,null,null,null,null,null,null,null,null,null,null,null,null,null,null,null,null,null,null,null,null,null,null,null,null,null,null,null,null,null,null,null,null,null,null,"/ Hour ",8671]
[null,null,null,null,null,null,null,null,null,null,null,null,null,null,null,null,null,null,null,null,null,null,null,null,null,null,null,null,null,null,null,null,null,null,null,null,null,null,null,null,null,null,null,null,null,null,null,null,null,null,null,null,null,null,null,null,null,null,null,null,null,"/ Hour ",8672]
[null,null,null,null,null,null,null,null,null,null,null,null,null,null,null,null,null,null,null,null,null,null,null,null,null,null,null,null,null,null,null,null,null,null,null,null,null,null,null,null,null,null,null,null,null,null,null,null,null,null,null,null,null,null,null,null,null,null,null,null,null,"/ Hour ",8673]
[null,null,null,null,null,null,null,null,null,null,null,null,null,null,null,null,null,null,null,null,null,null,null,null,null,null,null,null,null,null,null,null,null,null,null,null,null,null,null,null,null,null,null,null,null,null,null,null,null,null,null,null,null,null,null,null,null,null,null,null,null,"/ Hour ",8674]
[null,null,null,null,null,null,null,null,null,null,null,null,null,null,null,null,null,null,null,null,null,null,null,null,null,null,null,null,null,null,null,null,null,null,null,null,null,null,null,null,null,null,null,null,null,null,null,null,null,null,null,null,null,null,null,null,null,null,null,null,null,"/ Hour ",8675]
[null,null,null,null,null,null,null,null,null,null,null,null,null,null,null,null,null,null,null,null,null,null,null,null,null,null,null,null,null,null,null,null,null,null,null,null,null,null,null,null,null,null,null,null,null,null,null,null,null,null,null,null,null,null,null,null,null,null,null,null,null,"/ Hour ",8676]
[null,null,null,null,null,null,null,null,null,null,null,null,null,null,null,null,null,null,null,null,null,null,null,null,null,null,null,null,null,null,null,null,null,null,null,null,null,null,null,null,null,null,null,null,null,null,null,null,null,null,null,null,null,null,null,null,null,null,null,null,null,"/ Hour ",8677]
[null,null,null,null,null,null,null,null,null,null,null,null,null,null,null,null,null,null,null,null,null,null,null,null,null,null,null,null,null,null,null,null,null,null,null,null,null,null,null,null,null,null,null,null,null,null,null,null,null,null,null,null,null,null,null,null,null,null,null,null,null,"/ Hour ",8678]
[null,null,null,null,null,null,null,null,null,null,null,null,null,null,null,null,null,null,null,null,null,null,null,null,null,null,null,null,null,null,null,null,null,null,null,null,null,null,null,null,null,null,null,null,null,null,null,null,null,null,null,null,null,null,null,null,null,null,null,null,null,"/ Hour ",8679]
[null,null,null,null,null,null,null,null,null,null,null,null,null,null,null,null,null,null,null,null,null,null,null,null,null,null,null,null,null,null,null,null,null,null,null,null,null,null,null,null,null,null,null,null,null,null,null,null,null,null,null,null,null,null,null,null,null,null,null,null,null,"/ Hour ",8680]
[null,null,null,null,null,null,null,null,null,null,null,null,null,null,null,null,null,null,null,null,null,null,null,null,null,null,null,null,null,null,null,null,null,null,null,null,null,null,null,null,null,null,null,null,null,null,null,null,null,null,null,null,null,null,null,null,null,null,null,null,null,"/ Hour ",8681]
[null,null,null,null,null,null,null,null,null,null,null,null,null,null,null,null,null,null,null,null,null,null,null,null,null,null,null,null,null,null,null,null,null,null,null,null,null,null,null,null,null,null,null,null,null,null,null,null,null,null,null,null,null,null,null,null,null,null,null,null,null,"/ Hour ",8682]
[null,null,null,null,null,null,null,null,null,null,null,null,null,null,null,null,null,null,null,null,null,null,null,null,null,null,null,null,null,null,null,null,null,null,null,null,null,null,null,null,null,null,null,null,null,null,null,null,null,null,null,null,null,null,null,null,null,null,null,null,null,"/ Hour ",8683]
[null,null,null,null,null,null,null,null,null,null,null,null,null,null,null,null,null,null,null,null,null,null,null,null,null,null,null,null,null,null,null,null,null,null,null,null,null,null,null,null,null,null,null,null,null,null,null,null,null,null,null,null,null,null,null,null,null,null,null,null,null,"/ Hour ",8684]
[null,null,null,null,null,null,null,null,null,null,null,null,null,null,null,null,null,null,null,null,null,null,null,null,null,null,null,null,null,null,null,null,null,null,null,null,null,null,null,null,null,null,null,null,null,null,null,null,null,null,null,null,null,null,null,null,null,null,null,null,null,"/ Hour ",8685]
[null,null,null,null,null,null,null,null,null,null,null,null,null,null,null,null,null,null,null,null,null,null,null,null,null,null,null,null,null,null,null,null,null,null,null,null,null,null,null,null,null,null,null,null,null,null,null,null,null,null,null,null,null,null,null,null,null,null,null,null,null,"/ Hour ",8686]
[null,null,null,null,null,null,null,null,null,null,null,null,null,null,null,null,null,null,null,null,null,null,null,null,null,null,null,null,null,null,null,null,null,null,null,null,null,null,null,null,null,null,null,null,null,null,null,null,null,null,null,null,null,null,null,null,null,null,null,null,null,"/ Hour ",8687]
[null,null,null,null,null,null,null,null,null,null,null,null,null,null,null,null,null,null,null,null,null,null,null,null,null,null,null,null,null,null,null,null,null,null,null,null,null,null,null,null,null,null,null,null,null,null,null,null,null,null,null,null,null,null,null,null,null,null,null,null,null,"/ Hour ",8688]
[null,null,null,null,null,null,null,null,null,null,null,null,null,null,null,null,null,null,null,null,null,null,null,null,null,null,null,null,null,null,null,null,null,null,null,null,null,null,null,null,null,null,null,null,null,null,null,null,null,null,null,null,null,null,null,null,null,null,null,null,null,"/ Hour ",8689]
[null,null,null,null,null,null,null,null,null,null,null,null,null,null,null,null,null,null,null,null,null,null,null,null,null,null,null,null,null,null,null,null,null,null,null,null,null,null,null,null,null,null,null,null,null,null,null,null,null,null,null,null,null,null,null,null,null,null,null,null,null,"/ Hour ",8690]
[null,null,null,null,null,null,null,null,null,null,null,null,null,null,null,null,null,null,null,null,null,null,null,null,null,null,null,null,null,null,null,null,null,null,null,null,null,null,null,null,null,null,null,null,null,null,null,null,null,null,null,null,null,null,null,null,null,null,null,null,null,"/ Hour ",8691]
[null,null,null,null,null,null,null,null,null,null,null,null,null,null,null,null,null,null,null,null,null,null,null,null,null,null,null,null,null,null,null,null,null,null,null,null,null,null,null,null,null,null,null,null,null,null,null,null,null,null,null,null,null,null,null,null,null,null,null,null,null,"/ Hour ",8692]
[null,null,null,null,null,null,null,null,null,null,null,null,null,null,null,null,null,null,null,null,null,null,null,null,null,null,null,null,null,null,null,null,null,null,null,null,null,null,null,null,null,null,null,null,null,null,null,null,null,null,null,null,null,null,null,null,null,null,null,null,null,"/ Hour ",8693]
[null,null,null,null,null,null,null,null,null,null,null,null,null,null,null,null,null,null,null,null,null,null,null,null,null,null,null,null,null,null,null,null,null,null,null,null,null,null,null,null,null,null,null,null,null,null,null,null,null,null,null,null,null,null,null,null,null,null,null,null,null,"/ Hour ",8694]
[null,null,null,null,null,null,null,null,null,null,null,null,null,null,null,null,null,null,null,null,null,null,null,null,null,null,null,null,null,null,null,null,null,null,null,null,null,null,null,null,null,null,null,null,null,null,null,null,null,null,null,null,null,null,null,null,null,null,null,null,null,"/ Hour ",8695]
[null,null,null,null,null,null,null,null,null,null,null,null,null,null,null,null,null,null,null,null,null,null,null,null,null,null,null,null,null,null,null,null,null,null,null,null,null,null,null,null,null,null,null,null,null,null,null,null,null,null,null,null,null,null,null,null,null,null,null,null,null,"/ Hour ",8696]
[null,null,null,null,null,null,null,null,null,null,null,null,null,null,null,null,null,null,null,null,null,null,null,null,null,null,null,null,null,null,null,null,null,null,null,null,null,null,null,null,null,null,null,null,null,null,null,null,null,null,null,null,null,null,null,null,null,null,null,null,null,"/ Hour ",8697]
[null,null,null,null,null,null,null,null,null,null,null,null,null,null,null,null,null,null,null,null,null,null,null,null,null,null,null,null,null,null,null,null,null,null,null,null,null,null,null,null,null,null,null,null,null,null,null,null,null,null,null,null,null,null,null,null,null,null,null,null,null,"/ Hour ",8698]
[null,null,null,null,null,null,null,null,null,null,null,null,null,null,null,null,null,null,null,null,null,null,null,null,null,null,null,null,null,null,null,null,null,null,null,null,null,null,null,null,null,null,null,null,null,null,null,null,null,null,null,null,null,null,null,null,null,null,null,null,null,"/ Hour ",8699]
[null,null,null,null,null,null,null,null,null,null,null,null,null,null,null,null,null,null,null,null,null,null,null,null,null,null,null,null,null,null,null,null,null,null,null,null,null,null,null,null,null,null,null,null,null,null,null,null,null,null,null,null,null,null,null,null,null,null,null,null,null,"/ Hour ",8700]
[null,null,null,null,null,null,null,null,null,null,null,null,null,null,null,null,null,null,null,null,null,null,null,null,null,null,null,null,null,null,null,null,null,null,null,null,null,null,null,null,null,null,null,null,null,null,null,null,null,null,null,null,null,null,null,null,null,null,null,null,null,"/ Hour ",8701]
[null,null,null,null,null,null,null,null,null,null,null,null,null,null,null,null,null,null,null,null,null,null,null,null,null,null,null,null,null,null,null,null,null,null,null,null,null,null,null,null,null,null,null,null,null,null,null,null,null,null,null,null,null,null,null,null,null,null,null,null,null,"/ Hour ",8702]
[null,null,null,null,null,null,null,null,null,null,null,null,null,null,null,null,null,null,null,null,null,null,null,null,null,null,null,null,null,null,null,null,null,null,null,null,null,null,null,null,null,null,null,null,null,null,null,null,null,null,null,null,null,null,null,null,null,null,null,null,null,"/ Hour ",8703]
[null,null,null,null,null,null,null,null,null,null,null,null,null,null,null,null,null,null,null,null,null,null,null,null,null,null,null,null,null,null,null,null,null,null,null,null,null,null,null,null,null,null,null,null,null,null,null,null,null,null,null,null,null,null,null,null,null,null,null,null,null,"/ Hour ",8704]
[null,null,null,null,null,null,null,null,null,null,null,null,null,null,null,null,null,null,null,null,null,null,null,null,null,null,null,null,null,null,null,null,null,null,null,null,null,null,null,null,null,null,null,null,null,null,null,null,null,null,null,null,null,null,null,null,null,null,null,null,null,"/ Hour ",8705]
[null,null,null,null,null,null,null,null,null,null,null,null,null,null,null,null,null,null,null,null,null,null,null,null,null,null,null,null,null,null,null,null,null,null,null,null,null,null,null,null,null,null,null,null,null,null,null,null,null,null,null,null,null,null,null,null,null,null,null,null,null,{"$f":"A8716&\"/\"&B8716&\" Hour \"&C8716","v":"/ Hour "},{"$f":"ROW()-ROW($BK$10)","v":8706}]
[null,null,null,null,null,null,null,null,null,null,null,null,null,null,null,null,null,null,null,null,null,null,null,null,null,null,null,null,null,null,null,null,null,null,null,null,null,null,null,null,null,null,null,null,null,null,null,null,null,null,null,null,null,null,null,null,null,null,null,null,null,"/ Hour ",8707]
[null,null,null,null,null,null,null,null,null,null,null,null,null,null,null,null,null,null,null,null,null,null,null,null,null,null,null,null,null,null,null,null,null,null,null,null,null,null,null,null,null,null,null,null,null,null,null,null,null,null,null,null,null,null,null,null,null,null,null,null,null,"/ Hour ",8708]
[null,null,null,null,null,null,null,null,null,null,null,null,null,null,null,null,null,null,null,null,null,null,null,null,null,null,null,null,null,null,null,null,null,null,null,null,null,null,null,null,null,null,null,null,null,null,null,null,null,null,null,null,null,null,null,null,null,null,null,null,null,"/ Hour ",8709]
[null,null,null,null,null,null,null,null,null,null,null,null,null,null,null,null,null,null,null,null,null,null,null,null,null,null,null,null,null,null,null,null,null,null,null,null,null,null,null,null,null,null,null,null,null,null,null,null,null,null,null,null,null,null,null,null,null,null,null,null,null,"/ Hour ",8710]
[null,null,null,null,null,null,null,null,null,null,null,null,null,null,null,null,null,null,null,null,null,null,null,null,null,null,null,null,null,null,null,null,null,null,null,null,null,null,null,null,null,null,null,null,null,null,null,null,null,null,null,null,null,null,null,null,null,null,null,null,null,"/ Hour ",8711]
[null,null,null,null,null,null,null,null,null,null,null,null,null,null,null,null,null,null,null,null,null,null,null,null,null,null,null,null,null,null,null,null,null,null,null,null,null,null,null,null,null,null,null,null,null,null,null,null,null,null,null,null,null,null,null,null,null,null,null,null,null,"/ Hour ",8712]
[null,null,null,null,null,null,null,null,null,null,null,null,null,null,null,null,null,null,null,null,null,null,null,null,null,null,null,null,null,null,null,null,null,null,null,null,null,null,null,null,null,null,null,null,null,null,null,null,null,null,null,null,null,null,null,null,null,null,null,null,null,"/ Hour ",8713]
[null,null,null,null,null,null,null,null,null,null,null,null,null,null,null,null,null,null,null,null,null,null,null,null,null,null,null,null,null,null,null,null,null,null,null,null,null,null,null,null,null,null,null,null,null,null,null,null,null,null,null,null,null,null,null,null,null,null,null,null,null,"/ Hour ",8714]
[null,null,null,null,null,null,null,null,null,null,null,null,null,null,null,null,null,null,null,null,null,null,null,null,null,null,null,null,null,null,null,null,null,null,null,null,null,null,null,null,null,null,null,null,null,null,null,null,null,null,null,null,null,null,null,null,null,null,null,null,null,"/ Hour ",8715]
[null,null,null,null,null,null,null,null,null,null,null,null,null,null,null,null,null,null,null,null,null,null,null,null,null,null,null,null,null,null,null,null,null,null,null,null,null,null,null,null,null,null,null,null,null,null,null,null,null,null,null,null,null,null,null,null,null,null,null,null,null,"/ Hour ",8716]
[null,null,null,null,null,null,null,null,null,null,null,null,null,null,null,null,null,null,null,null,null,null,null,null,null,null,null,null,null,null,null,null,null,null,null,null,null,null,null,null,null,null,null,null,null,null,null,null,null,null,null,null,null,null,null,null,null,null,null,null,null,"/ Hour ",8717]
[null,null,null,null,null,null,null,null,null,null,null,null,null,null,null,null,null,null,null,null,null,null,null,null,null,null,null,null,null,null,null,null,null,null,null,null,null,null,null,null,null,null,null,null,null,null,null,null,null,null,null,null,null,null,null,null,null,null,null,null,null,"/ Hour ",8718]
[null,null,null,null,null,null,null,null,null,null,null,null,null,null,null,null,null,null,null,null,null,null,null,null,null,null,null,null,null,null,null,null,null,null,null,null,null,null,null,null,null,null,null,null,null,null,null,null,null,null,null,null,null,null,null,null,null,null,null,null,null,"/ Hour ",8719]
[null,null,null,null,null,null,null,null,null,null,null,null,null,null,null,null,null,null,null,null,null,null,null,null,null,null,null,null,null,null,null,null,null,null,null,null,null,null,null,null,null,null,null,null,null,null,null,null,null,null,null,null,null,null,null,null,null,null,null,null,null,"/ Hour ",8720]
[null,null,null,null,null,null,null,null,null,null,null,null,null,null,null,null,null,null,null,null,null,null,null,null,null,null,null,null,null,null,null,null,null,null,null,null,null,null,null,null,null,null,null,null,null,null,null,null,null,null,null,null,null,null,null,null,null,null,null,null,null,"/ Hour ",8721]
[null,null,null,null,null,null,null,null,null,null,null,null,null,null,null,null,null,null,null,null,null,null,null,null,null,null,null,null,null,null,null,null,null,null,null,null,null,null,null,null,null,null,null,null,null,null,null,null,null,null,null,null,null,null,null,null,null,null,null,null,null,"/ Hour ",8722]
[null,null,null,null,null,null,null,null,null,null,null,null,null,null,null,null,null,null,null,null,null,null,null,null,null,null,null,null,null,null,null,null,null,null,null,null,null,null,null,null,null,null,null,null,null,null,null,null,null,null,null,null,null,null,null,null,null,null,null,null,null,"/ Hour ",8723]
[null,null,null,null,null,null,null,null,null,null,null,null,null,null,null,null,null,null,null,null,null,null,null,null,null,null,null,null,null,null,null,null,null,null,null,null,null,null,null,null,null,null,null,null,null,null,null,null,null,null,null,null,null,null,null,null,null,null,null,null,null,"/ Hour ",8724]
[null,null,null,null,null,null,null,null,null,null,null,null,null,null,null,null,null,null,null,null,null,null,null,null,null,null,null,null,null,null,null,null,null,null,null,null,null,null,null,null,null,null,null,null,null,null,null,null,null,null,null,null,null,null,null,null,null,null,null,null,null,"/ Hour ",8725]
[null,null,null,null,null,null,null,null,null,null,null,null,null,null,null,null,null,null,null,null,null,null,null,null,null,null,null,null,null,null,null,null,null,null,null,null,null,null,null,null,null,null,null,null,null,null,null,null,null,null,null,null,null,null,null,null,null,null,null,null,null,"/ Hour ",8726]
[null,null,null,null,null,null,null,null,null,null,null,null,null,null,null,null,null,null,null,null,null,null,null,null,null,null,null,null,null,null,null,null,null,null,null,null,null,null,null,null,null,null,null,null,null,null,null,null,null,null,null,null,null,null,null,null,null,null,null,null,null,"/ Hour ",8727]
[null,null,null,null,null,null,null,null,null,null,null,null,null,null,null,null,null,null,null,null,null,null,null,null,null,null,null,null,null,null,null,null,null,null,null,null,null,null,null,null,null,null,null,null,null,null,null,null,null,null,null,null,null,null,null,null,null,null,null,null,null,"/ Hour ",8728]
[null,null,null,null,null,null,null,null,null,null,null,null,null,null,null,null,null,null,null,null,null,null,null,null,null,null,null,null,null,null,null,null,null,null,null,null,null,null,null,null,null,null,null,null,null,null,null,null,null,null,null,null,null,null,null,null,null,null,null,null,null,"/ Hour ",8729]
[null,null,null,null,null,null,null,null,null,null,null,null,null,null,null,null,null,null,null,null,null,null,null,null,null,null,null,null,null,null,null,null,null,null,null,null,null,null,null,null,null,null,null,null,null,null,null,null,null,null,null,null,null,null,null,null,null,null,null,null,null,"/ Hour ",8730]
[null,null,null,null,null,null,null,null,null,null,null,null,null,null,null,null,null,null,null,null,null,null,null,null,null,null,null,null,null,null,null,null,null,null,null,null,null,null,null,null,null,null,null,null,null,null,null,null,null,null,null,null,null,null,null,null,null,null,null,null,null,"/ Hour ",8731]
[null,null,null,null,null,null,null,null,null,null,null,null,null,null,null,null,null,null,null,null,null,null,null,null,null,null,null,null,null,null,null,null,null,null,null,null,null,null,null,null,null,null,null,null,null,null,null,null,null,null,null,null,null,null,null,null,null,null,null,null,null,"/ Hour ",8732]
[null,null,null,null,null,null,null,null,null,null,null,null,null,null,null,null,null,null,null,null,null,null,null,null,null,null,null,null,null,null,null,null,null,null,null,null,null,null,null,null,null,null,null,null,null,null,null,null,null,null,null,null,null,null,null,null,null,null,null,null,null,"/ Hour ",8733]
[null,null,null,null,null,null,null,null,null,null,null,null,null,null,null,null,null,null,null,null,null,null,null,null,null,null,null,null,null,null,null,null,null,null,null,null,null,null,null,null,null,null,null,null,null,null,null,null,null,null,null,null,null,null,null,null,null,null,null,null,null,"/ Hour ",8734]
[null,null,null,null,null,null,null,null,null,null,null,null,null,null,null,null,null,null,null,null,null,null,null,null,null,null,null,null,null,null,null,null,null,null,null,null,null,null,null,null,null,null,null,null,null,null,null,null,null,null,null,null,null,null,null,null,null,null,null,null,null,"/ Hour ",8735]
[null,null,null,null,null,null,null,null,null,null,null,null,null,null,null,null,null,null,null,null,null,null,null,null,null,null,null,null,null,null,null,null,null,null,null,null,null,null,null,null,null,null,null,null,null,null,null,null,null,null,null,null,null,null,null,null,null,null,null,null,null,"/ Hour ",8736]
[null,null,null,null,null,null,null,null,null,null,null,null,null,null,null,null,null,null,null,null,null,null,null,null,null,null,null,null,null,null,null,null,null,null,null,null,null,null,null,null,null,null,null,null,null,null,null,null,null,null,null,null,null,null,null,null,null,null,null,null,null,"/ Hour ",8737]
[null,null,null,null,null,null,null,null,null,null,null,null,null,null,null,null,null,null,null,null,null,null,null,null,null,null,null,null,null,null,null,null,null,null,null,null,null,null,null,null,null,null,null,null,null,null,null,null,null,null,null,null,null,null,null,null,null,null,null,null,null,"/ Hour ",8738]
[null,null,null,null,null,null,null,null,null,null,null,null,null,null,null,null,null,null,null,null,null,null,null,null,null,null,null,null,null,null,null,null,null,null,null,null,null,null,null,null,null,null,null,null,null,null,null,null,null,null,null,null,null,null,null,null,null,null,null,null,null,"/ Hour ",8739]
[null,null,null,null,null,null,null,null,null,null,null,null,null,null,null,null,null,null,null,null,null,null,null,null,null,null,null,null,null,null,null,null,null,null,null,null,null,null,null,null,null,null,null,null,null,null,null,null,null,null,null,null,null,null,null,null,null,null,null,null,null,"/ Hour ",8740]
[null,null,null,null,null,null,null,null,null,null,null,null,null,null,null,null,null,null,null,null,null,null,null,null,null,null,null,null,null,null,null,null,null,null,null,null,null,null,null,null,null,null,null,null,null,null,null,null,null,null,null,null,null,null,null,null,null,null,null,null,null,"/ Hour ",8741]
[null,null,null,null,null,null,null,null,null,null,null,null,null,null,null,null,null,null,null,null,null,null,null,null,null,null,null,null,null,null,null,null,null,null,null,null,null,null,null,null,null,null,null,null,null,null,null,null,null,null,null,null,null,null,null,null,null,null,null,null,null,"/ Hour ",8742]
[null,null,null,null,null,null,null,null,null,null,null,null,null,null,null,null,null,null,null,null,null,null,null,null,null,null,null,null,null,null,null,null,null,null,null,null,null,null,null,null,null,null,null,null,null,null,null,null,null,null,null,null,null,null,null,null,null,null,null,null,null,"/ Hour ",8743]
[null,null,null,null,null,null,null,null,null,null,null,null,null,null,null,null,null,null,null,null,null,null,null,null,null,null,null,null,null,null,null,null,null,null,null,null,null,null,null,null,null,null,null,null,null,null,null,null,null,null,null,null,null,null,null,null,null,null,null,null,null,"/ Hour ",8744]
[null,null,null,null,null,null,null,null,null,null,null,null,null,null,null,null,null,null,null,null,null,null,null,null,null,null,null,null,null,null,null,null,null,null,null,null,null,null,null,null,null,null,null,null,null,null,null,null,null,null,null,null,null,null,null,null,null,null,null,null,null,"/ Hour ",8745]
[null,null,null,null,null,null,null,null,null,null,null,null,null,null,null,null,null,null,null,null,null,null,null,null,null,null,null,null,null,null,null,null,null,null,null,null,null,null,null,null,null,null,null,null,null,null,null,null,null,null,null,null,null,null,null,null,null,null,null,null,null,"/ Hour ",8746]
[null,null,null,null,null,null,null,null,null,null,null,null,null,null,null,null,null,null,null,null,null,null,null,null,null,null,null,null,null,null,null,null,null,null,null,null,null,null,null,null,null,null,null,null,null,null,null,null,null,null,null,null,null,null,null,null,null,null,null,null,null,"/ Hour ",8747]
[null,null,null,null,null,null,null,null,null,null,null,null,null,null,null,null,null,null,null,null,null,null,null,null,null,null,null,null,null,null,null,null,null,null,null,null,null,null,null,null,null,null,null,null,null,null,null,null,null,null,null,null,null,null,null,null,null,null,null,null,null,"/ Hour ",8748]
[null,null,null,null,null,null,null,null,null,null,null,null,null,null,null,null,null,null,null,null,null,null,null,null,null,null,null,null,null,null,null,null,null,null,null,null,null,null,null,null,null,null,null,null,null,null,null,null,null,null,null,null,null,null,null,null,null,null,null,null,null,"/ Hour ",8749]
[null,null,null,null,null,null,null,null,null,null,null,null,null,null,null,null,null,null,null,null,null,null,null,null,null,null,null,null,null,null,null,null,null,null,null,null,null,null,null,null,null,null,null,null,null,null,null,null,null,null,null,null,null,null,null,null,null,null,null,null,null,"/ Hour ",8750]
[null,null,null,null,null,null,null,null,null,null,null,null,null,null,null,null,null,null,null,null,null,null,null,null,null,null,null,null,null,null,null,null,null,null,null,null,null,null,null,null,null,null,null,null,null,null,null,null,null,null,null,null,null,null,null,null,null,null,null,null,null,"/ Hour ",8751]
[null,null,null,null,null,null,null,null,null,null,null,null,null,null,null,null,null,null,null,null,null,null,null,null,null,null,null,null,null,null,null,null,null,null,null,null,null,null,null,null,null,null,null,null,null,null,null,null,null,null,null,null,null,null,null,null,null,null,null,null,null,"/ Hour ",8752]
[null,null,null,null,null,null,null,null,null,null,null,null,null,null,null,null,null,null,null,null,null,null,null,null,null,null,null,null,null,null,null,null,null,null,null,null,null,null,null,null,null,null,null,null,null,null,null,null,null,null,null,null,null,null,null,null,null,null,null,null,null,"/ Hour ",8753]
[null,null,null,null,null,null,null,null,null,null,null,null,null,null,null,null,null,null,null,null,null,null,null,null,null,null,null,null,null,null,null,null,null,null,null,null,null,null,null,null,null,null,null,null,null,null,null,null,null,null,null,null,null,null,null,null,null,null,null,null,null,"/ Hour ",8754]
[null,null,null,null,null,null,null,null,null,null,null,null,null,null,null,null,null,null,null,null,null,null,null,null,null,null,null,null,null,null,null,null,null,null,null,null,null,null,null,null,null,null,null,null,null,null,null,null,null,null,null,null,null,null,null,null,null,null,null,null,null,"/ Hour ",8755]
[null,null,null,null,null,null,null,null,null,null,null,null,null,null,null,null,null,null,null,null,null,null,null,null,null,null,null,null,null,null,null,null,null,null,null,null,null,null,null,null,null,null,null,null,null,null,null,null,null,null,null,null,null,null,null,null,null,null,null,null,null,"/ Hour ",8756]
[null,null,null,null,null,null,null,null,null,null,null,null,null,null,null,null,null,null,null,null,null,null,null,null,null,null,null,null,null,null,null,null,null,null,null,null,null,null,null,null,null,null,null,null,null,null,null,null,null,null,null,null,null,null,null,null,null,null,null,null,null,"/ Hour ",8757]
[null,null,null,null,null,null,null,null,null,null,null,null,null,null,null,null,null,null,null,null,null,null,null,null,null,null,null,null,null,null,null,null,null,null,null,null,null,null,null,null,null,null,null,null,null,null,null,null,null,null,null,null,null,null,null,null,null,null,null,null,null,"/ Hour ",8758]
[null,null,null,null,null,null,null,null,null,null,null,null,null,null,null,null,null,null,null,null,null,null,null,null,null,null,null,null,null,null,null,null,null,null,null,null,null,null,null,null,null,null,null,null,null,null,null,null,null,null,null,null,null,null,null,null,null,null,null,null,null,"/ Hour ",8759]
[null,null,null,null,null,null,null,null,null,null,null,null,null,null,null,null,null,null,null,null,null,null,null,null,null,null,null,null,null,null,null,null,null,null,null,null,null,null,null,null,null,null,null,null,null,null,null,null,null,null,null,null,null,null,null,null,null,null,null,null,null,{"$f":"A8770&\"/\"&B8770&\" Hour \"&C8770","v":"/ Hour "},8760]
[null,null,null,null,null,null,null,null,null,null,null,null,null,null,null,null,null,null,null,null,null,null,null,null,null,null,null,null,null,null,null,null,null,null,null,null,null,null,null,null,null,null,null,null,null,null,null,null,null,null,null,null,null,null,null,null,null,null,null,null,null,{"$f":"A8775&\"/\"&B8775&\" Hour \"&C8775","v":"/ Hour "},8761]
[null,null,null,null,null,null,null,null,null,null,null,null,null,null,null,null,null,null,null,null,null,null,null,null,null,null,null,null,null,null,null,null,null,null,null,null,null,null,null,null,null,null,null,null,null,null,null,null,null,null,null,null,null,null,null,null,null,null,null,null,null,"/ Hour ",8762]
[null,null,null,null,null,null,null,null,null,null,null,null,null,null,null,null,null,null,null,null,null,null,null,null,null,null,null,null,null,null,null,null,null,null,null,null,null,null,null,null,null,null,null,null,null,null,null,null,null,null,null,null,null,null,null,null,null,null,null,null,null,"/ Hour ",8763]
[null,null,null,null,null,null,null,null,null,null,null,null,null,null,null,null,null,null,null,null,null,null,null,null,null,null,null,null,null,null,null,null,null,null,null,null,null,null,null,null,null,null,null,null,null,null,null,null,null,null,null,null,null,null,null,null,null,null,null,null,null,"/ Hour ",8764]
[null,null,null,null,null,null,null,null,null,null,null,null,null,null,null,null,null,null,null,null,null,null,null,null,null,null,null,null,null,null,null,null,null,null,null,null,null,null,null,null,null,null,null,null,null,null,null,null,null,null,null,null,null,null,null,null,null,null,null,null,null,"/ Hour ",8765]
[null,null,null,null,null,null,null,null,null,null,null,null,null,null,null,null,null,null,null,null,null,null,null,null,null,null,null,null,null,null,null,null,null,null,null,null,null,null,null,null,null,null,null,null,null,null,null,null,null,null,null,null,null,null,null,null,null,null,null,null,null,"/ Hour ",8766]
[null,null,null,null,null,null,null,null,null,null,null,null,null,null,null,null,null,null,null,null,null,null,null,null,null,null,null,null,null,null,null,null,null,null,null,null,null,null,null,null,null,null,null,null,null,null,null,null,null,null,null,null,null,null,null,null,null,null,null,null,null,"/ Hour ",8767]
[null,null,null,null,null,null,null,null,null,null,null,null,null,null,null,null,null,null,null,null,null,null,null,null,null,null,null,null,null,null,null,null,null,null,null,null,null,null,null,null,null,null,null,null,null,null,null,null,null,null,null,null,null,null,null,null,null,null,null,null,null,"/ Hour ",8768]
[null,null,null,null,null,null,null,null,null,null,null,null,null,null,null,null,null,null,null,null,null,null,null,null,null,null,null,null,null,null,null,null,null,null,null,null,null,null,null,null,null,null,null,null,null,null,null,null,null,null,null,null,null,null,null,null,null,null,null,null,null,"/ Hour ",8769]
[null,null,null,null,null,null,null,null,null,null,null,null,null,null,null,null,null,null,null,null,null,null,null,null,null,null,null,null,null,null,null,null,null,null,null,null,null,null,null,null,null,null,null,null,null,null,null,null,null,null,null,null,null,null,null,null,null,null,null,null,null,"/ Hour ",{"$f":"ROW()-ROW($BK$10)","v":8770}]
[null,null,null,null,null,null,null,null,null,null,null,null,null,null,null,null,null,null,null,null,null,null,null,null,null,null,null,null,null,null,null,null,null,null,null,null,null,null,null,null,null,null,null,null,null,null,null,null,null,null,null,null,null,null,null,null,null,null,null,null,null,"/ Hour ",{"$f":"ROW()-ROW($BK$10)","v":8771}]
[null,null,null,null,null,null,null,null,null,null,null,null,null,null,null,null,null,null,null,null,null,null,null,null,null,null,null,null,null,null,null,null,null,null,null,null,null,null,null,null,null,null,null,null,null,null,null,null,null,null,null,null,null,null,null,null,null,null,null,null,null,"/ Hour ",{"$f":"ROW()-ROW($BK$10)","v":8772}]

{"sheet":"Results from Trace","index":11,"n_rows":54,"n_cols":37,"rows_kept":54,"cut":false,"hidden":true,"merged":[[2,0,2,13]]}
["Results from Trace Energy Cost Budget File(s)"]
["Instructions"]
["1) Open Trace Energy Cost Budget (ECB) file(s) that include results for baseline and proposed models and all ECMs for this project.\n2) Copy end uses and associated affected fuel types from an ECB file (columns A and B from row 4 to the \"Total Building Consumption\" line item) and paste into columns A and B below.  \n3) For Appendix G projects, copy baseline runs Energy 10˄6 Btu/yr column from the appropriate ECB file and paste into columns C-F below. \n4) For Appendix G projects, copy proposed run Energy 10˄6 Btu/yr column from the approrpriate ECB file and paste into column H below.  This should represent the building with all measures included.\n5) Copy ECM run Energy 10˄6 Btu/yr columns that correspond to each ECM including final run from Step 4, from the appropriate ECB file(s) and paste into columns I - AG (leave un-needed columns blank).  Do not include the baseline run.\n\n       "]
[]
["END USES (COL A)","AFFECTED FUELS (COL B)",{"$f":"\"BASELINE \n(Energy 10˄6 Btu/yr)\"","v":"BASELINE \n(Energy 10˄6 Btu/yr)"},{"$f":"\"BASELINE, 90° Rotation\n(Energy 10˄6 Btu/yr)\"","v":"BASELINE, 90° Rotation\n(Energy 10˄6 Btu/yr)"},{"$f":"\"BASELINE, 180° Rotation\n(Energy 10˄6 Btu/yr)\"","v":"BASELINE, 180° Rotation\n(Energy 10˄6 Btu/yr)"},{"$f":"\"BASELINE, 270° Rotation\n(Energy 10˄6 Btu/yr)\"","v":"BASELINE, 270° Rotation\n(Energy 10˄6 Btu/yr)"},{"$f":"\"AVERAGE BASELINE\n(Energy 10˄6 Btu/yr)\"","v":"AVERAGE BASELINE\n(Energy 10˄6 Btu/yr)"},{"$f":"\"PROPOSED \n(Energy 10˄6 Btu/yr)\"","v":"PROPOSED \n(Energy 10˄6 Btu/yr)"},"ECM 1\n(Energy 10˄6 Btu/yr)","ECM 2\n(Energy 10˄6 Btu/yr)","ECM 3\n(Energy 10˄6 Btu/yr)","ECM 4\n(Energy 10˄6 Btu/yr)","ECM 5\n(Energy 10˄6 Btu/yr)","ECM 6\n(Energy 10˄6 Btu/yr)","ECM 7\n(Energy 10˄6 Btu/yr)","ECM 8\n(Energy 10˄6 Btu/yr)","ECM 9\n(Energy 10˄6 Btu/yr)","ECM 10\n(Energy 10˄6 Btu/yr)","ECM 11\n(Energy 10˄6 Btu/yr)","ECM 12\n(Energy 10˄6 Btu/yr)","ECM 13\n(Energy 10˄6 Btu/yr)","ECM 14\n(Energy 10˄6 Btu/yr)","ECM15\n(Energy 10˄6 Btu/yr)","ECM 16\n(Energy 10˄6 Btu/yr)","ECM 17\n(Energy 10˄6 Btu/yr)","ECM 18\n(Energy 10˄6 Btu/yr)","ECM 19\n(Energy 10˄6 Btu/yr)","ECM 20\n(Energy 10˄6 Btu/yr)","ECM 21\n(Energy 10˄6 Btu/yr)","ECM 22\n(Energy 10˄6 Btu/yr)","ECM 23\n(Energy 10˄6 Btu/yr)","ECM24\n(Energy 10˄6 Btu/yr)","ECM 25\n(Energy 10˄6 Btu/yr)",null,null,null,"Lookup Value"]
[null,null,null,null,null,null,null,null,null,null,null,null,null,null,null,null,null,null,null,null,null,null,null,null,null,null,null,null,null,null,null,null,null,null,null,null,{"$f":"A6&B6","v":""}]
[null,null,null,null,null,null,null,null,null,null,null,null,null,null,null,null,null,null,null,null,null,null,null,null,null,null,null,null,null,null,null,null,null,null,null,null,{"$f":"A7&B7","v":""}]
[null,null,null,null,null,null,null,null,null,null,null,null,null,null,null,null,null,null,null,null,null,null,null,null,null,null,null,null,null,null,null,null,null,null,null,null,""]
[null,null,null,null,null,null,null,null,null,null,null,null,null,null,null,null,null,null,null,null,null,null,null,null,null,null,null,null,null,null,null,null,null,null,null,null,""]
[null,null,null,null,null,null,null,null,null,null,null,null,null,null,null,null,null,null,null,null,null,null,null,null,null,null,null,null,null,null,null,null,null,null,null,null,""]
[null,null,null,null,null,null,null,null,null,null,null,null,null,null,null,null,null,null,null,null,null,null,null,null,null,null,null,null,null,null,null,null,null,null,null,null,""]
[null,null,null,null,null,null,null,null,null,null,null,null,null,null,null,null,null,null,null,null,null,null,null,null,null,null,null,null,null,null,null,null,null,null,null,null,""]
[null,null,null,null,null,null,null,null,null,null,null,null,null,null,null,null,null,null,null,null,null,null,null,null,null,null,null,null,null,null,null,null,null,null,null,null,""]
[null,null,null,null,null,null,null,null,null,null,null,null,null,null,null,null,null,null,null,null,null,null,null,null,null,null,null,null,null,null,null,null,null,null,null,null,""]
[null,null,null,null,null,null,null,null,null,null,null,null,null,null,null,null,null,null,null,null,null,null,null,null,null,null,null,null,null,null,null,null,null,null,null,null,""]
[null,null,null,null,null,null,null,null,null,null,null,null,null,null,null,null,null,null,null,null,null,null,null,null,null,null,null,null,null,null,null,null,null,null,null,null,""]
[null,null,null,null,null,null,null,null,null,null,null,null,null,null,null,null,null,null,null,null,null,null,null,null,null,null,null,null,null,null,null,null,null,null,null,null,""]
[null,null,null,null,null,null,null,null,null,null,null,null,null,null,null,null,null,null,null,null,null,null,null,null,null,null,null,null,null,null,null,null,null,null,null,null,""]
[null,null,null,null,null,null,null,null,null,null,null,null,null,null,null,null,null,null,null,null,null,null,null,null,null,null,null,null,null,null,null,null,null,null,null,null,""]
[null,null,null,null,null,null,null,null,null,null,null,null,null,null,null,null,null,null,null,null,null,null,null,null,null,null,null,null,null,null,null,null,null,null,null,null,""]
[null,null,null,null,null,null,{"$f":"IF(C21=\"\",\"\",AVERAGE(C21:F21))","v":""}]
[null,null,null,null,null,null,""]
[null,null,null,null,null,null,""]
[null,null,null,null,null,null,""]
[null,null,null,null,null,null,""]
[null,null,null,null,null,null,""]
[null,null,null,null,null,null,""]
[null,null,null,null,null,null,""]
[null,null,null,null,null,null,""]
[null,null,null,null,null,null,""]
[null,null,null,null,null,null,""]
[null,null,null,null,null,null,""]
[null,null,null,null,null,null,""]
[null,null,null,null,null,null,""]
[null,null,null,null,null,null,""]
[null,null,null,null,null,null,""]
[null,null,null,null,null,null,""]
[null,null,null,null,null,null,""]
[null,null,null,null,null,null,""]
[null,null,null,null,null,null,""]
[null,null,null,null,null,null,""]
[null,null,null,null,null,null,""]
[null,null,null,null,null,null,""]
[null,null,null,null,null,null,""]
[null,null,null,null,null,null,""]
[null,null,null,null,null,null,""]
[null,null,null,null,null,null,""]
[null,null,null,null,null,null,""]
[null,null,null,null,null,null,""]
[null,null,null,null,null,null,""]
[null,null,null,null,null,null,""]
[null,null,null,null,null,null,""]
[null,null,null,null,null,null,""]
[null,null,null,null,null,null,""]

{"sheet":"Hrly Trace Results","index":12,"n_rows":8763,"n_cols":39,"rows_kept":2250,"cut":true,"hidden":true,"merged":[[9,14,39,14],[0,35,0,38]],"bounds":{"rows_first":1000,"rows_last":250,"rows_between":1000,"halvings":1}}
[null,null,null,null,"Alt 1","Alt 1","Alt 1","Alt 1","Alt 1","Alt 1","Alt 1","Alt 1","Alt 1",null,null,null,null,null,null,"Alt 2","Alt 2","Alt 2","Alt 2","Alt 2","Alt 2","Alt 2","Alt 2","Alt 2",null,null,null,"Basic Parameters",null,null,null,"Whole Building"]
[null,null,null,null,"Lights","Misc. Equip","Cooling Equip","Fan Equipment","Heating Equip","Base Utility","Misc Equip","Heating Equip","Whole Building (Calculated)",null,"App G Baseline Results",null,null,null,null,"Lights","Misc. Equip","Cooling Equip","Fan Equipment","Heating Equip","Base Utility","Misc Equip","Heating Equip","Whole Building (Calculated)",null,null,null,"Hour Start",12,null,null,"June","July","August","Summer"]
["Month","Day Type","Day","Hour","kW","kW","kW","kW","kW","kW","Mbh","kW","kW",null,"<-------","Month","Day Type","Day","Hour","kW","kW","kW","kW","kW","kW","Mbh","kW","kW","Date Hour","Row",null,"Hour End",20,null,"Month:",6,7,8,"n/a"]
[1,"Hol",1,1,null,null,null,null,null,null,null,null,{"$f":"SUM(E4:L4)","v":0},null,null,1,"Hol",1,1,null,null,null,null,null,null,null,null,{"$f":"SUM(T4:AA4)","v":0},{"$f":"A4&\"/\"&C4&\" Hour \"&D4","v":"1/1 Hour 1"},{"$f":"ROW()-ROW($AD$3)","v":1},null,"Day Type","Wkdy",null,"Baseline Max kW",{"$f":"_xlfn.MAXIFS($M$4:$M$8763,$A$4:$A$8763,AJ$3,$B$4:$B$8763,\"=\"&$AG$4,$D$4:$D$8763,\">=\"&$AG$2,$D$4:$D$8763,\"<=\"&$AG$3)","v":0},{"$f":"_xlfn.MAXIFS($M$4:$M$8763,$A$4:$A$8763,AK$3,$B$4:$B$8763,\"=\"&$AG$4,$D$4:$D$8763,\">=\"&$AG$2,$D$4:$D$8763,\"<=\"&$AG$3)","v":0},{"$f":"_xlfn.MAXIFS($M$4:$M$8763,$A$4:$A$8763,AL$3,$B$4:$B$8763,\"=\"&$AG$4,$D$4:$D$8763,\">=\"&$AG$2,$D$4:$D$8763,\"<=\"&$AG$3)","v":0},{"$f":"MAX(AJ4:AL4)","v":0}]
[1,"Hol",1,2,null,null,null,null,null,null,null,null,{"$f":"SUM(E5:L5)","v":0},null,"App G Proposed Results",1,"Hol",1,2,null,null,null,null,null,null,null,null,{"$f":"SUM(T5:AA5)","v":0},{"$f":"A5&\"/\"&C5&\" Hour \"&D5","v":"1/1 Hour 2"},{"$f":"ROW()-ROW($AD$3)","v":2},null,null,null,null,"Baseline average kW",{"$f":"SUMIFS($M$4:$M$8763,$A$4:$A$8763,AJ$3,$B$4:$B$8763,\"=\"&$AG$4,$D$4:$D$8763,\">=\"&$AG$2,$D$4:$D$8763,\"<=\"&$AG$3)/COUNTIFS($A$4:$A$8763,AJ$3,$B$4:$B$8763,\"=\"&$AG$4,$D$4:$D$8763,\">=\"&$AG$2,$D$4:$D$8763,\"<=\"&$AG$3)","v":0},{"$f":"SUMIFS($M$4:$M$8763,$A$4:$A$8763,AK$3,$B$4:$B$8763,\"=\"&$AG$4,$D$4:$D$8763,\">=\"&$AG$2,$D$4:$D$8763,\"<=\"&$AG$3)/COUNTIFS($A$4:$A$8763,AK$3,$B$4:$B$8763,\"=\"&$AG$4,$D$4:$D$8763,\">=\"&$AG$2,$D$4:$D$8763,\"<=\"&$AG$3)","v":0},{"$f":"SUMIFS($M$4:$M$8763,$A$4:$A$8763,AL$3,$B$4:$B$8763,\"=\"&$AG$4,$D$4:$D$8763,\">=\"&$AG$2,$D$4:$D$8763,\"<=\"&$AG$3)/COUNTIFS($A$4:$A$8763,AL$3,$B$4:$B$8763,\"=\"&$AG$4,$D$4:$D$8763,\">=\"&$AG$2,$D$4:$D$8763,\"<=\"&$AG$3)","v":0},{"$f":"IFERROR(AVERAGE(AJ5:AL5),0)","v":0}]
[1,"Hol",1,3,null,null,null,null,null,null,null,null,0,null,"------->",1,"Hol",1,3,null,null,null,null,null,null,null,null,0,"1/1 Hour 3",3,null,"Set Month","Not USED",null,"Baseline Date and Hour",{"$f":"INDEX($AC$4:$AC$8763,MATCH(SUMPRODUCT(--($M$4:$M$8763=AJ$4),--($A$4:$A$8763=AJ$3),--($D$4:$D$8763>=$AG$2),--($D$4:$D$8763<=$AG$3),--($B$4:$B$8763=$AG$4),$AD$4:$AD$8763),$AD$4:$AD$8763,0),1)","v":{"$error":"#N/A"}},{"$f":"INDEX($AC$4:$AC$8763,MATCH(SUMPRODUCT(--($M$4:$M$8763=AK$4),--($A$4:$A$8763=AK$3),--($D$4:$D$8763>=$AG$2),--($D$4:$D$8763<=$AG$3),--($B$4:$B$8763=$AG$4),$AD$4:$AD$8763),$AD$4:$AD$8763,0),1)","v":{"$error":"#N/A"}},{"$f":"INDEX($AC$4:$AC$8763,MATCH(SUMPRODUCT(--($M$4:$M$8763=AL$4),--($A$4:$A$8763=AL$3),--($D$4:$D$8763>=$AG$2),--($D$4:$D$8763<=$AG$3),--($B$4:$B$8763=$AG$4),$AD$4:$AD$8763),$AD$4:$AD$8763,0),1)","v":{"$error":"#N/A"}},{"$f":"INDEX(AJ6:AL6,1,MATCH(AM4,AJ4:AL4,0))","v":{"$error":"#N/A"}}]
[1,"Hol",1,4,null,null,null,null,null,null,null,null,0,null,"See Partner Portal: http://www.njcleanenergy.com/p4p-portal-login case sensitive password is: tRP47px for instructions for generating hourly reports",1,"Hol",1,4,null,null,null,null,null,null,null,null,0,"1/1 Hour 4",4,null,"Set Day","Not USED",null,"Proposed Max kW",{"$f":"_xlfn.MAXIFS($AB$4:$AB$8763,$A$4:$A$8763,AJ$3,$B$4:$B$8763,\"=\"&$AG$4,$D$4:$D$8763,\">=\"&$AG$2,$D$4:$D$8763,\"<=\"&$AG$3)","v":0},{"$f":"_xlfn.MAXIFS($AB$4:$AB$8763,$A$4:$A$8763,AK$3,$B$4:$B$8763,\"=\"&$AG$4,$D$4:$D$8763,\">=\"&$AG$2,$D$4:$D$8763,\"<=\"&$AG$3)","v":0},{"$f":"_xlfn.MAXIFS($AB$4:$AB$8763,$A$4:$A$8763,AL$3,$B$4:$B$8763,\"=\"&$AG$4,$D$4:$D$8763,\">=\"&$AG$2,$D$4:$D$8763,\"<=\"&$AG$3)","v":0},{"$f":"IFERROR(MAX(AJ7:AL7),0)","v":0}]
[1,"Hol",1,5,null,null,null,null,null,null,null,null,0,null,"Directions:",1,"Hol",1,5,null,null,null,null,null,null,null,null,0,"1/1 Hour 5",5,null,"Set Time, Hour of Day","Not USED",null,"Proposed average kW",{"$f":"SUMIFS($AB$4:$AB$8763,$A$4:$A$8763,AJ$3,$B$4:$B$8763,\"=\"&$AG$4,$D$4:$D$8763,\">=\"&$AG$2,$D$4:$D$8763,\"<=\"&$AG$3)/COUNTIFS($A$4:$A$8763,AJ$3,$B$4:$B$8763,\"=\"&$AG$4,$D$4:$D$8763,\">=\"&$AG$2,$D$4:$D$8763,\"<=\"&$AG$3)","v":0},{"$f":"SUMIFS($AB$4:$AB$8763,$A$4:$A$8763,AK$3,$B$4:$B$8763,\"=\"&$AG$4,$D$4:$D$8763,\">=\"&$AG$2,$D$4:$D$8763,\"<=\"&$AG$3)/COUNTIFS($A$4:$A$8763,AK$3,$B$4:$B$8763,\"=\"&$AG$4,$D$4:$D$8763,\">=\"&$AG$2,$D$4:$D$8763,\"<=\"&$AG$3)","v":0},{"$f":"SUMIFS($AB$4:$AB$8763,$A$4:$A$8763,AL$3,$B$4:$B$8763,\"=\"&$AG$4,$D$4:$D$8763,\">=\"&$AG$2,$D$4:$D$8763,\"<=\"&$AG$3)/COUNTIFS($A$4:$A$8763,AL$3,$B$4:$B$8763,\"=\"&$AG$4,$D$4:$D$8763,\">=\"&$AG$2,$D$4:$D$8763,\"<=\"&$AG$3)","v":0},{"$f":"IFERROR(AVERAGE(AJ8:AL8),0)","v":0}]
[1,"Hol",1,6,null,null,null,null,null,null,null,null,0,null,null,1,"Hol",1,6,null,null,null,null,null,null,null,null,0,"1/1 Hour 6",6,null,null,null,null,"Proposed Date and Hour",{"$f":"INDEX($AC$4:$AC$8763,MATCH(SUMPRODUCT(--($AB$4:$AB$8763=AJ$7),--($A$4:$A$8763=AJ$3),--($D$4:$D$8763>=$AG$2),--($D$4:$D$8763<=$AG$3),--($B$4:$B$8763=$AG$4),$AD$4:$AD$8763),$AD$4:$AD$8763,0),1)","v":{"$error":"#N/A"}},{"$f":"INDEX($AC$4:$AC$8763,MATCH(SUMPRODUCT(--($AB$4:$AB$8763=AK$7),--($A$4:$A$8763=AK$3),--($D$4:$D$8763>=$AG$2),--($D$4:$D$8763<=$AG$3),--($B$4:$B$8763=$AG$4),$AD$4:$AD$8763),$AD$4:$AD$8763,0),1)","v":{"$error":"#N/A"}},{"$f":"INDEX($AC$4:$AC$8763,MATCH(SUMPRODUCT(--($AB$4:$AB$8763=AL$7),--($A$4:$A$8763=AL$3),--($D$4:$D$8763>=$AG$2),--($D$4:$D$8763<=$AG$3),--($B$4:$B$8763=$AG$4),$AD$4:$AD$8763),$AD$4:$AD$8763,0),1)","v":{"$error":"#N/A"}},{"$f":"INDEX(AJ9:AL9,1,MATCH(AM7,AJ7:AL7,0))","v":{"$error":"#N/A"}}]
[1,"Hol",1,7,null,null,null,null,null,null,null,null,0,null,"In the Trace Visualizer, select the first/last month to be January/December, as well as selecting the 'Demand' bubble in order to create the hourly .csv reports. From the \"Comps\" dropdown list, select \"Bldg Elec\" and \"Bldg Non-Elec\" and then draw them separately to produce the hourly peak reports. From the profile .csv file created, copy and paste each end use to the designated column in this tab. For example, copy and paste the Baseline Lighting kW results in column E. Do this for both the baseline and proposed results. Note that the simulation MUST be for the Full Year, not Reduced Year, to make the template work properly. \n\nSee Partner Portal: http://www.njcleanenergy.com/p4p-portal-login case sensitive password is: tRP47px for instructions for generating hourly reports",1,"Hol",1,7,null,null,null,null,null,null,null,null,0,"1/1 Hour 7",7,null,null,null,null,null,"These are the maximums during the period based upon the hour start and day types"]
[1,"Hol",1,8,null,null,null,null,null,null,null,null,0,null,null,1,"Hol",1,8,null,null,null,null,null,null,null,null,0,"1/1 Hour 8",8]
[1,"Hol",1,9,null,null,null,null,null,null,null,null,0,null,null,1,"Hol",1,9,null,null,null,null,null,null,null,null,0,"1/1 Hour 9",9]
[1,"Hol",1,10,null,null,null,null,null,null,null,null,0,null,null,1,"Hol",1,10,null,null,null,null,null,null,null,null,0,"1/1 Hour 10",10]
[1,"Hol",1,11,null,null,null,null,null,null,null,null,0,null,null,1,"Hol",1,11,null,null,null,null,null,null,null,null,0,"1/1 Hour 11",11]
[1,"Hol",1,12,null,null,null,null,null,null,null,null,0,null,null,1,"Hol",1,12,null,null,null,null,null,null,null,null,0,"1/1 Hour 12",12]
[1,"Hol",1,13,null,null,null,null,null,null,null,null,0,null,null,1,"Hol",1,13,null,null,null,null,null,null,null,null,0,"1/1 Hour 13",13]
[1,"Hol",1,14,null,null,null,null,null,null,null,null,0,null,null,1,"Hol",1,14,null,null,null,null,null,null,null,null,0,"1/1 Hour 14",14]
[1,"Hol",1,15,null,null,null,null,null,null,null,null,0,null,null,1,"Hol",1,15,null,null,null,null,null,null,null,null,0,"1/1 Hour 15",15]
[1,"Hol",1,16,null,null,null,null,null,null,null,null,0,null,null,1,"Hol",1,16,null,null,null,null,null,null,null,null,0,"1/1 Hour 16",16]
[1,"Hol",1,17,null,null,null,null,null,null,null,null,0,null,null,1,"Hol",1,17,null,null,null,null,null,null,null,null,0,"1/1 Hour 17",17]
[1,"Hol",1,18,null,null,null,null,null,null,null,null,0,null,null,1,"Hol",1,18,null,null,null,null,null,null,null,null,0,"1/1 Hour 18",18]
[1,"Hol",1,19,null,null,null,null,null,null,null,null,0,null,null,1,"Hol",1,19,null,null,null,null,null,null,null,null,0,"1/1 Hour 19",19]
[1,"Hol",1,20,null,null,null,null,null,null,null,null,0,null,null,1,"Hol",1,20,null,null,null,null,null,null,null,null,0,"1/1 Hour 20",20]
[1,"Hol",1,21,null,null,null,null,null,null,null,null,0,null,null,1,"Hol",1,21,null,null,null,null,null,null,null,null,0,"1/1 Hour 21",21]
[1,"Hol",1,22,null,null,null,null,null,null,null,null,0,null,null,1,"Hol",1,22,null,null,null,null,null,null,null,null,0,"1/1 Hour 22",22]
[1,"Hol",1,23,null,null,null,null,null,null,null,null,0,null,null,1,"Hol",1,23,null,null,null,null,null,null,null,null,0,"1/1 Hour 23",23]
[1,"Hol",1,24,null,null,null,null,null,null,null,null,0,null,null,1,"Hol",1,24,null,null,null,null,null,null,null,null,0,"1/1 Hour 24",24]
[1,"Hol",2,1,null,null,null,null,null,null,null,null,0,null,null,1,"Hol",2,1,null,null,null,null,null,null,null,null,0,"1/2 Hour 1",25]
[1,"Hol",2,2,null,null,null,null,null,null,null,null,0,null,null,1,"Hol",2,2,null,null,null,null,null,null,null,null,0,"1/2 Hour 2",26]
[1,"Hol",2,3,null,null,null,null,null,null,null,null,0,null,null,1,"Hol",2,3,null,null,null,null,null,null,null,null,0,"1/2 Hour 3",27]
[1,"Hol",2,4,null,null,null,null,null,null,null,null,0,null,null,1,"Hol",2,4,null,null,null,null,null,null,null,null,0,"1/2 Hour 4",28]
[1,"Hol",2,5,null,null,null,null,null,null,null,null,0,null,null,1,"Hol",2,5,null,null,null,null,null,null,null,null,0,"1/2 Hour 5",29]
[1,"Hol",2,6,null,null,null,null,null,null,null,null,0,null,null,1,"Hol",2,6,null,null,null,null,null,null,null,null,0,"1/2 Hour 6",30]
[1,"Hol",2,7,null,null,null,null,null,null,null,null,0,null,null,1,"Hol",2,7,null,null,null,null,null,null,null,null,0,"1/2 Hour 7",31]
[1,"Hol",2,8,null,null,null,null,null,null,null,null,0,null,null,1,"Hol",2,8,null,null,null,null,null,null,null,null,0,"1/2 Hour 8",32]
[1,"Hol",2,9,null,null,null,null,null,null,null,null,0,null,null,1,"Hol",2,9,null,null,null,null,null,null,null,null,0,"1/2 Hour 9",33]
[1,"Hol",2,10,null,null,null,null,null,null,null,null,0,null,null,1,"Hol",2,10,null,null,null,null,null,null,null,null,0,"1/2 Hour 10",34]
[1,"Hol",2,11,null,null,null,null,null,null,null,null,0,null,null,1,"Hol",2,11,null,null,null,null,null,null,null,null,0,"1/2 Hour 11",35]
[1,"Hol",2,12,null,null,null,null,null,null,null,null,0,null,null,1,"Hol",2,12,null,null,null,null,null,null,null,null,0,"1/2 Hour 12",36]
[1,"Hol",2,13,null,null,null,null,null,null,null,null,0,null,null,1,"Hol",2,13,null,null,null,null,null,null,null,null,0,"1/2 Hour 13",37]
[1,"Hol",2,14,null,null,null,null,null,null,null,null,0,null,null,1,"Hol",2,14,null,null,null,null,null,null,null,null,0,"1/2 Hour 14",38]
[1,"Hol",2,15,null,null,null,null,null,null,null,null,0,null,null,1,"Hol",2,15,null,null,null,null,null,null,null,null,0,"1/2 Hour 15",39]
[1,"Hol",2,16,null,null,null,null,null,null,null,null,0,null,null,1,"Hol",2,16,null,null,null,null,null,null,null,null,0,"1/2 Hour 16",40]
[1,"Hol",2,17,null,null,null,null,null,null,null,null,0,null,null,1,"Hol",2,17,null,null,null,null,null,null,null,null,0,"1/2 Hour 17",41]
[1,"Hol",2,18,null,null,null,null,null,null,null,null,0,null,null,1,"Hol",2,18,null,null,null,null,null,null,null,null,0,"1/2 Hour 18",42]
[1,"Hol",2,19,null,null,null,null,null,null,null,null,0,null,null,1,"Hol",2,19,null,null,null,null,null,null,null,null,0,"1/2 Hour 19",43]
[1,"Hol",2,20,null,null,null,null,null,null,null,null,0,null,null,1,"Hol",2,20,null,null,null,null,null,null,null,null,0,"1/2 Hour 20",44]
[1,"Hol",2,21,null,null,null,null,null,null,null,null,0,null,null,1,"Hol",2,21,null,null,null,null,null,null,null,null,0,"1/2 Hour 21",45]
[1,"Hol",2,22,null,null,null,null,null,null,null,null,0,null,null,1,"Hol",2,22,null,null,null,null,null,null,null,null,0,"1/2 Hour 22",46]
[1,"Hol",2,23,null,null,null,null,null,null,null,null,0,null,null,1,"Hol",2,23,null,null,null,null,null,null,null,null,0,"1/2 Hour 23",47]
[1,"Hol",2,24,null,null,null,null,null,null,null,null,0,null,null,1,"Hol",2,24,null,null,null,null,null,null,null,null,0,"1/2 Hour 24",48]
[1,"Wkdy",3,1,null,null,null,null,null,null,null,null,0,null,null,1,"Wkdy",3,1,null,null,null,null,null,null,null,null,0,"1/3 Hour 1",49]
[1,"Wkdy",3,2,null,null,null,null,null,null,null,null,0,null,null,1,"Wkdy",3,2,null,null,null,null,null,null,null,null,0,"1/3 Hour 2",50]
[1,"Wkdy",3,3,null,null,null,null,null,null,null,null,0,null,null,1,"Wkdy",3,3,null,null,null,null,null,null,null,null,0,"1/3 Hour 3",51]
[1,"Wkdy",3,4,null,null,null,null,null,null,null,null,0,null,null,1,"Wkdy",3,4,null,null,null,null,null,null,null,null,0,"1/3 Hour 4",52]
[1,"Wkdy",3,5,null,null,null,null,null,null,null,null,0,null,null,1,"Wkdy",3,5,null,null,null,null,null,null,null,null,0,"1/3 Hour 5",53]
[1,"Wkdy",3,6,null,null,null,null,null,null,null,null,0,null,null,1,"Wkdy",3,6,null,null,null,null,null,null,null,null,0,"1/3 Hour 6",54]
[1,"Wkdy",3,7,null,null,null,null,null,null,null,null,0,null,null,1,"Wkdy",3,7,null,null,null,null,null,null,null,null,0,"1/3 Hour 7",55]
[1,"Wkdy",3,8,null,null,null,null,null,null,null,null,0,null,null,1,"Wkdy",3,8,null,null,null,null,null,null,null,null,0,"1/3 Hour 8",56]
[1,"Wkdy",3,9,null,null,null,null,null,null,null,null,0,null,null,1,"Wkdy",3,9,null,null,null,null,null,null,null,null,0,"1/3 Hour 9",57]
[1,"Wkdy",3,10,null,null,null,null,null,null,null,null,0,null,null,1,"Wkdy",3,10,null,null,null,null,null,null,null,null,0,"1/3 Hour 10",58]
[1,"Wkdy",3,11,null,null,null,null,null,null,null,null,0,null,null,1,"Wkdy",3,11,null,null,null,null,null,null,null,null,0,"1/3 Hour 11",59]
[1,"Wkdy",3,12,null,null,null,null,null,null,null,null,0,null,null,1,"Wkdy",3,12,null,null,null,null,null,null,null,null,0,"1/3 Hour 12",60]
[1,"Wkdy",3,13,null,null,null,null,null,null,null,null,0,null,null,1,"Wkdy",3,13,null,null,null,null,null,null,null,null,0,"1/3 Hour 13",61]
[1,"Wkdy",3,14,null,null,null,null,null,null,null,null,0,null,null,1,"Wkdy",3,14,null,null,null,null,null,null,null,null,0,"1/3 Hour 14",62]
[1,"Wkdy",3,15,null,null,null,null,null,null,null,null,0,null,null,1,"Wkdy",3,15,null,null,null,null,null,null,null,null,0,"1/3 Hour 15",63]
[1,"Wkdy",3,16,null,null,null,null,null,null,null,null,0,null,null,1,"Wkdy",3,16,null,null,null,null,null,null,null,null,0,"1/3 Hour 16",64]
[1,"Wkdy",3,17,null,null,null,null,null,null,null,null,0,null,null,1,"Wkdy",3,17,null,null,null,null,null,null,null,null,0,"1/3 Hour 17",65]
[1,"Wkdy",3,18,null,null,null,null,null,null,null,null,{"$f":"SUM(E69:L69)","v":0},null,null,1,"Wkdy",3,18,null,null,null,null,null,null,null,null,{"$f":"SUM(T69:AA69)","v":0},{"$f":"A69&\"/\"&C69&\" Hour \"&D69","v":"1/3 Hour 18"},{"$f":"ROW()-ROW($AD$3)","v":66}]
[1,"Wkdy",3,19,null,null,null,null,null,null,null,null,0,null,null,1,"Wkdy",3,19,null,null,null,null,null,null,null,null,0,"1/3 Hour 19",67]
[1,"Wkdy",3,20,null,null,null,null,null,null,null,null,0,null,null,1,"Wkdy",3,20,null,null,null,null,null,null,null,null,0,"1/3 Hour 20",68]
[1,"Wkdy",3,21,null,null,null,null,null,null,null,null,0,null,null,1,"Wkdy",3,21,null,null,null,null,null,null,null,null,0,"1/3 Hour 21",69]
[1,"Wkdy",3,22,null,null,null,null,null,null,null,null,0,null,null,1,"Wkdy",3,22,null,null,null,null,null,null,null,null,0,"1/3 Hour 22",70]
[1,"Wkdy",3,23,null,null,null,null,null,null,null,null,0,null,null,1,"Wkdy",3,23,null,null,null,null,null,null,null,null,0,"1/3 Hour 23",71]
[1,"Wkdy",3,24,null,null,null,null,null,null,null,null,0,null,null,1,"Wkdy",3,24,null,null,null,null,null,null,null,null,0,"1/3 Hour 24",72]
[1,"Wkdy",4,1,null,null,null,null,null,null,null,null,0,null,null,1,"Wkdy",4,1,null,null,null,null,null,null,null,null,0,"1/4 Hour 1",73]
[1,"Wkdy",4,2,null,null,null,null,null,null,null,null,0,null,null,1,"Wkdy",4,2,null,null,null,null,null,null,null,null,0,"1/4 Hour 2",74]
[1,"Wkdy",4,3,null,null,null,null,null,null,null,null,0,null,null,1,"Wkdy",4,3,null,null,null,null,null,null,null,null,0,"1/4 Hour 3",75]
[1,"Wkdy",4,4,null,null,null,null,null,null,null,null,0,null,null,1,"Wkdy",4,4,null,null,null,null,null,null,null,null,0,"1/4 Hour 4",76]
[1,"Wkdy",4,5,null,null,null,null,null,null,null,null,0,null,null,1,"Wkdy",4,5,null,null,null,null,null,null,null,null,0,"1/4 Hour 5",77]
[1,"Wkdy",4,6,null,null,null,null,null,null,null,null,0,null,null,1,"Wkdy",4,6,null,null,null,null,null,null,null,null,0,"1/4 Hour 6",78]
[1,"Wkdy",4,7,null,null,null,null,null,null,null,null,0,null,null,1,"Wkdy",4,7,null,null,null,null,null,null,null,null,0,"1/4 Hour 7",79]
[1,"Wkdy",4,8,null,null,null,null,null,null,null,null,0,null,null,1,"Wkdy",4,8,null,null,null,null,null,null,null,null,0,"1/4 Hour 8",80]
[1,"Wkdy",4,9,null,null,null,null,null,null,null,null,0,null,null,1,"Wkdy",4,9,null,null,null,null,null,null,null,null,0,"1/4 Hour 9",81]
[1,"Wkdy",4,10,null,null,null,null,null,null,null,null,0,null,null,1,"Wkdy",4,10,null,null,null,null,null,null,null,null,0,"1/4 Hour 10",82]
[1,"Wkdy",4,11,null,null,null,null,null,null,null,null,0,null,null,1,"Wkdy",4,11,null,null,null,null,null,null,null,null,0,"1/4 Hour 11",83]
[1,"Wkdy",4,12,null,null,null,null,null,null,null,null,0,null,null,1,"Wkdy",4,12,null,null,null,null,null,null,null,null,0,"1/4 Hour 12",84]
[1,"Wkdy",4,13,null,null,null,null,null,null,null,null,0,null,null,1,"Wkdy",4,13,null,null,null,null,null,null,null,null,0,"1/4 Hour 13",85]
[1,"Wkdy",4,14,null,null,null,null,null,null,null,null,0,null,null,1,"Wkdy",4,14,null,null,null,null,null,null,null,null,0,"1/4 Hour 14",86]
[1,"Wkdy",4,15,null,null,null,null,null,null,null,null,0,null,null,1,"Wkdy",4,15,null,null,null,null,null,null,null,null,0,"1/4 Hour 15",87]
[1,"Wkdy",4,16,null,null,null,null,null,null,null,null,0,null,null,1,"Wkdy",4,16,null,null,null,null,null,null,null,null,0,"1/4 Hour 16",88]
[1,"Wkdy",4,17,null,null,null,null,null,null,null,null,0,null,null,1,"Wkdy",4,17,null,null,null,null,null,null,null,null,0,"1/4 Hour 17",89]
[1,"Wkdy",4,18,null,null,null,null,null,null,null,null,0,null,null,1,"Wkdy",4,18,null,null,null,null,null,null,null,null,0,"1/4 Hour 18",90]
[1,"Wkdy",4,19,null,null,null,null,null,null,null,null,0,null,null,1,"Wkdy",4,19,null,null,null,null,null,null,null,null,0,"1/4 Hour 19",91]
[1,"Wkdy",4,20,null,null,null,null,null,null,null,null,0,null,null,1,"Wkdy",4,20,null,null,null,null,null,null,null,null,0,"1/4 Hour 20",92]
[1,"Wkdy",4,21,null,null,null,null,null,null,null,null,0,null,null,1,"Wkdy",4,21,null,null,null,null,null,null,null,null,0,"1/4 Hour 21",93]
[1,"Wkdy",4,22,null,null,null,null,null,null,null,null,0,null,null,1,"Wkdy",4,22,null,null,null,null,null,null,null,null,0,"1/4 Hour 22",94]
[1,"Wkdy",4,23,null,null,null,null,null,null,null,null,0,null,null,1,"Wkdy",4,23,null,null,null,null,null,null,null,null,0,"1/4 Hour 23",95]
[1,"Wkdy",4,24,null,null,null,null,null,null,null,null,0,null,null,1,"Wkdy",4,24,null,null,null,null,null,null,null,null,0,"1/4 Hour 24",96]
[1,"Wkdy",5,1,null,null,null,null,null,null,null,null,0,null,null,1,"Wkdy",5,1,null,null,null,null,null,null,null,null,0,"1/5 Hour 1",97]
[1,"Wkdy",5,2,null,null,null,null,null,null,null,null,0,null,null,1,"Wkdy",5,2,null,null,null,null,null,null,null,null,0,"1/5 Hour 2",98]
[1,"Wkdy",5,3,null,null,null,null,null,null,null,null,0,null,null,1,"Wkdy",5,3,null,null,null,null,null,null,null,null,0,"1/5 Hour 3",99]
[1,"Wkdy",5,4,null,null,null,null,null,null,null,null,0,null,null,1,"Wkdy",5,4,null,null,null,null,null,null,null,null,0,"1/5 Hour 4",100]
[1,"Wkdy",5,5,null,null,null,null,null,null,null,null,0,null,null,1,"Wkdy",5,5,null,null,null,null,null,null,null,null,0,"1/5 Hour 5",101]
[1,"Wkdy",5,6,null,null,null,null,null,null,null,null,0,null,null,1,"Wkdy",5,6,null,null,null,null,null,null,null,null,0,"1/5 Hour 6",102]
[1,"Wkdy",5,7,null,null,null,null,null,null,null,null,0,null,null,1,"Wkdy",5,7,null,null,null,null,null,null,null,null,0,"1/5 Hour 7",103]
[1,"Wkdy",5,8,null,null,null,null,null,null,null,null,0,null,null,1,"Wkdy",5,8,null,null,null,null,null,null,null,null,0,"1/5 Hour 8",104]
[1,"Wkdy",5,9,null,null,null,null,null,null,null,null,0,null,null,1,"Wkdy",5,9,null,null,null,null,null,null,null,null,0,"1/5 Hour 9",105]
[1,"Wkdy",5,10,null,null,null,null,null,null,null,null,0,null,null,1,"Wkdy",5,10,null,null,null,null,null,null,null,null,0,"1/5 Hour 10",106]
[1,"Wkdy",5,11,null,null,null,null,null,null,null,null,0,null,null,1,"Wkdy",5,11,null,null,null,null,null,null,null,null,0,"1/5 Hour 11",107]
[1,"Wkdy",5,12,null,null,null,null,null,null,null,null,0,null,null,1,"Wkdy",5,12,null,null,null,null,null,null,null,null,0,"1/5 Hour 12",108]
[1,"Wkdy",5,13,null,null,null,null,null,null,null,null,0,null,null,1,"Wkdy",5,13,null,null,null,null,null,null,null,null,0,"1/5 Hour 13",109]
[1,"Wkdy",5,14,null,null,null,null,null,null,null,null,0,null,null,1,"Wkdy",5,14,null,null,null,null,null,null,null,null,0,"1/5 Hour 14",110]
[1,"Wkdy",5,15,null,null,null,null,null,null,null,null,0,null,null,1,"Wkdy",5,15,null,null,null,null,null,null,null,null,0,"1/5 Hour 15",111]
[1,"Wkdy",5,16,null,null,null,null,null,null,null,null,0,null,null,1,"Wkdy",5,16,null,null,null,null,null,null,null,null,0,"1/5 Hour 16",112]
[1,"Wkdy",5,17,null,null,null,null,null,null,null,null,0,null,null,1,"Wkdy",5,17,null,null,null,null,null,null,null,null,0,"1/5 Hour 17",113]
[1,"Wkdy",5,18,null,null,null,null,null,null,null,null,0,null,null,1,"Wkdy",5,18,null,null,null,null,null,null,null,null,0,"1/5 Hour 18",114]
[1,"Wkdy",5,19,null,null,null,null,null,null,null,null,0,null,null,1,"Wkdy",5,19,null,null,null,null,null,null,null,null,0,"1/5 Hour 19",115]
[1,"Wkdy",5,20,null,null,null,null,null,null,null,null,0,null,null,1,"Wkdy",5,20,null,null,null,null,null,null,null,null,0,"1/5 Hour 20",116]
[1,"Wkdy",5,21,null,null,null,null,null,null,null,null,0,null,null,1,"Wkdy",5,21,null,null,null,null,null,null,null,null,0,"1/5 Hour 21",117]
[1,"Wkdy",5,22,null,null,null,null,null,null,null,null,0,null,null,1,"Wkdy",5,22,null,null,null,null,null,null,null,null,0,"1/5 Hour 22",118]
[1,"Wkdy",5,23,null,null,null,null,null,null,null,null,0,null,null,1,"Wkdy",5,23,null,null,null,null,null,null,null,null,0,"1/5 Hour 23",119]
[1,"Wkdy",5,24,null,null,null,null,null,null,null,null,0,null,null,1,"Wkdy",5,24,null,null,null,null,null,null,null,null,0,"1/5 Hour 24",120]
[1,"Wkdy",6,1,null,null,null,null,null,null,null,null,0,null,null,1,"Wkdy",6,1,null,null,null,null,null,null,null,null,0,"1/6 Hour 1",121]
[1,"Wkdy",6,2,null,null,null,null,null,null,null,null,0,null,null,1,"Wkdy",6,2,null,null,null,null,null,null,null,null,0,"1/6 Hour 2",122]
[1,"Wkdy",6,3,null,null,null,null,null,null,null,null,0,null,null,1,"Wkdy",6,3,null,null,null,null,null,null,null,null,0,"1/6 Hour 3",123]
[1,"Wkdy",6,4,null,null,null,null,null,null,null,null,0,null,null,1,"Wkdy",6,4,null,null,null,null,null,null,null,null,0,"1/6 Hour 4",124]
[1,"Wkdy",6,5,null,null,null,null,null,null,null,null,0,null,null,1,"Wkdy",6,5,null,null,null,null,null,null,null,null,0,"1/6 Hour 5",125]
[1,"Wkdy",6,6,null,null,null,null,null,null,null,null,0,null,null,1,"Wkdy",6,6,null,null,null,null,null,null,null,null,0,"1/6 Hour 6",126]
[1,"Wkdy",6,7,null,null,null,null,null,null,null,null,0,null,null,1,"Wkdy",6,7,null,null,null,null,null,null,null,null,0,"1/6 Hour 7",127]
[1,"Wkdy",6,8,null,null,null,null,null,null,null,null,0,null,null,1,"Wkdy",6,8,null,null,null,null,null,null,null,null,0,"1/6 Hour 8",128]
[1,"Wkdy",6,9,null,null,null,null,null,null,null,null,0,null,null,1,"Wkdy",6,9,null,null,null,null,null,null,null,null,0,"1/6 Hour 9",129]
[1,"Wkdy",6,10,null,null,null,null,null,null,null,null,{"$f":"SUM(E133:L133)","v":0},null,null,1,"Wkdy",6,10,null,null,null,null,null,null,null,null,{"$f":"SUM(T133:AA133)","v":0},{"$f":"A133&\"/\"&C133&\" Hour \"&D133","v":"1/6 Hour 10"},{"$f":"ROW()-ROW($AD$3)","v":130}]
[1,"Wkdy",6,11,null,null,null,null,null,null,null,null,0,null,null,1,"Wkdy",6,11,null,null,null,null,null,null,null,null,0,"1/6 Hour 11",131]
[1,"Wkdy",6,12,null,null,null,null,null,null,null,null,0,null,null,1,"Wkdy",6,12,null,null,null,null,null,null,null,null,0,"1/6 Hour 12",132]
[1,"Wkdy",6,13,null,null,null,null,null,null,null,null,0,null,null,1,"Wkdy",6,13,null,null,null,null,null,null,null,null,0,"1/6 Hour 13",133]
[1,"Wkdy",6,14,null,null,null,null,null,null,null,null,0,null,null,1,"Wkdy",6,14,null,null,null,null,null,null,null,null,0,"1/6 Hour 14",134]
[1,"Wkdy",6,15,null,null,null,null,null,null,null,null,0,null,null,1,"Wkdy",6,15,null,null,null,null,null,null,null,null,0,"1/6 Hour 15",135]
[1,"Wkdy",6,16,null,null,null,null,null,null,null,null,0,null,null,1,"Wkdy",6,16,null,null,null,null,null,null,null,null,0,"1/6 Hour 16",136]
[1,"Wkdy",6,17,null,null,null,null,null,null,null,null,0,null,null,1,"Wkdy",6,17,null,null,null,null,null,null,null,null,0,"1/6 Hour 17",137]
[1,"Wkdy",6,18,null,null,null,null,null,null,null,null,0,null,null,1,"Wkdy",6,18,null,null,null,null,null,null,null,null,0,"1/6 Hour 18",138]
[1,"Wkdy",6,19,null,null,null,null,null,null,null,null,0,null,null,1,"Wkdy",6,19,null,null,null,null,null,null,null,null,0,"1/6 Hour 19",139]
[1,"Wkdy",6,20,null,null,null,null,null,null,null,null,0,null,null,1,"Wkdy",6,20,null,null,null,null,null,null,null,null,0,"1/6 Hour 20",140]
[1,"Wkdy",6,21,null,null,null,null,null,null,null,null,0,null,null,1,"Wkdy",6,21,null,null,null,null,null,null,null,null,0,"1/6 Hour 21",141]
[1,"Wkdy",6,22,null,null,null,null,null,null,null,null,0,null,null,1,"Wkdy",6,22,null,null,null,null,null,null,null,null,0,"1/6 Hour 22",142]
[1,"Wkdy",6,23,null,null,null,null,null,null,null,null,0,null,null,1,"Wkdy",6,23,null,null,null,null,null,null,null,null,0,"1/6 Hour 23",143]
[1,"Wkdy",6,24,null,null,null,null,null,null,null,null,0,null,null,1,"Wkdy",6,24,null,null,null,null,null,null,null,null,0,"1/6 Hour 24",144]
[1,"Sat",7,1,null,null,null,null,null,null,null,null,0,null,null,1,"Sat",7,1,null,null,null,null,null,null,null,null,0,"1/7 Hour 1",145]
[1,"Sat",7,2,null,null,null,null,null,null,null,null,0,null,null,1,"Sat",7,2,null,null,null,null,null,null,null,null,0,"1/7 Hour 2",146]
[1,"Sat",7,3,null,null,null,null,null,null,null,null,0,null,null,1,"Sat",7,3,null,null,null,null,null,null,null,null,0,"1/7 Hour 3",147]
[1,"Sat",7,4,null,null,null,null,null,null,null,null,0,null,null,1,"Sat",7,4,null,null,null,null,null,null,null,null,0,"1/7 Hour 4",148]
[1,"Sat",7,5,null,null,null,null,null,null,null,null,0,null,null,1,"Sat",7,5,null,null,null,null,null,null,null,null,0,"1/7 Hour 5",149]
[1,"Sat",7,6,null,null,null,null,null,null,null,null,0,null,null,1,"Sat",7,6,null,null,null,null,null,null,null,null,0,"1/7 Hour 6",150]
[1,"Sat",7,7,null,null,null,null,null,null,null,null,0,null,null,1,"Sat",7,7,null,null,null,null,null,null,null,null,0,"1/7 Hour 7",151]
[1,"Sat",7,8,null,null,null,null,null,null,null,null,0,null,null,1,"Sat",7,8,null,null,null,null,null,null,null,null,0,"1/7 Hour 8",152]
[1,"Sat",7,9,null,null,null,null,null,null,null,null,0,null,null,1,"Sat",7,9,null,null,null,null,null,null,null,null,0,"1/7 Hour 9",153]
[1,"Sat",7,10,null,null,null,null,null,null,null,null,0,null,null,1,"Sat",7,10,null,null,null,null,null,null,null,null,0,"1/7 Hour 10",154]
[1,"Sat",7,11,null,null,null,null,null,null,null,null,0,null,null,1,"Sat",7,11,null,null,null,null,null,null,null,null,0,"1/7 Hour 11",155]
[1,"Sat",7,12,null,null,null,null,null,null,null,null,0,null,null,1,"Sat",7,12,null,null,null,null,null,null,null,null,0,"1/7 Hour 12",156]
[1,"Sat",7,13,null,null,null,null,null,null,null,null,0,null,null,1,"Sat",7,13,null,null,null,null,null,null,null,null,0,"1/7 Hour 13",157]
[1,"Sat",7,14,null,null,null,null,null,null,null,null,0,null,null,1,"Sat",7,14,null,null,null,null,null,null,null,null,0,"1/7 Hour 14",158]
[1,"Sat",7,15,null,null,null,null,null,null,null,null,0,null,null,1,"Sat",7,15,null,null,null,null,null,null,null,null,0,"1/7 Hour 15",159]
[1,"Sat",7,16,null,null,null,null,null,null,null,null,0,null,null,1,"Sat",7,16,null,null,null,null,null,null,null,null,0,"1/7 Hour 16",160]
[1,"Sat",7,17,null,null,null,null,null,null,null,null,0,null,null,1,"Sat",7,17,null,null,null,null,null,null,null,null,0,"1/7 Hour 17",161]
[1,"Sat",7,18,null,null,null,null,null,null,null,null,0,null,null,1,"Sat",7,18,null,null,null,null,null,null,null,null,0,"1/7 Hour 18",162]
[1,"Sat",7,19,null,null,null,null,null,null,null,null,0,null,null,1,"Sat",7,19,null,null,null,null,null,null,null,null,0,"1/7 Hour 19",163]
[1,"Sat",7,20,null,null,null,null,null,null,null,null,0,null,null,1,"Sat",7,20,null,null,null,null,null,null,null,null,0,"1/7 Hour 20",164]
[1,"Sat",7,21,null,null,null,null,null,null,null,null,0,null,null,1,"Sat",7,21,null,null,null,null,null,null,null,null,0,"1/7 Hour 21",165]
[1,"Sat",7,22,null,null,null,null,null,null,null,null,0,null,null,1,"Sat",7,22,null,null,null,null,null,null,null,null,0,"1/7 Hour 22",166]
[1,"Sat",7,23,null,null,null,null,null,null,null,null,0,null,null,1,"Sat",7,23,null,null,null,null,null,null,null,null,0,"1/7 Hour 23",167]
[1,"Sat",7,24,null,null,null,null,null,null,null,null,0,null,null,1,"Sat",7,24,null,null,null,null,null,null,null,null,0,"1/7 Hour 24",168]
[1,"Sun",8,1,null,null,null,null,null,null,null,null,0,null,null,1,"Sun",8,1,null,null,null,null,null,null,null,null,0,"1/8 Hour 1",169]
[1,"Sun",8,2,null,null,null,null,null,null,null,null,0,null,null,1,"Sun",8,2,null,null,null,null,null,null,null,null,0,"1/8 Hour 2",170]
[1,"Sun",8,3,null,null,null,null,null,null,null,null,0,null,null,1,"Sun",8,3,null,null,null,null,null,null,null,null,0,"1/8 Hour 3",171]
[1,"Sun",8,4,null,null,null,null,null,null,null,null,0,null,null,1,"Sun",8,4,null,null,null,null,null,null,null,null,0,"1/8 Hour 4",172]
[1,"Sun",8,5,null,null,null,null,null,null,null,null,0,null,null,1,"Sun",8,5,null,null,null,null,null,null,null,null,0,"1/8 Hour 5",173]
[1,"Sun",8,6,null,null,null,null,null,null,null,null,0,null,null,1,"Sun",8,6,null,null,null,null,null,null,null,null,0,"1/8 Hour 6",174]
[1,"Sun",8,7,null,null,null,null,null,null,null,null,0,null,null,1,"Sun",8,7,null,null,null,null,null,null,null,null,0,"1/8 Hour 7",175]
[1,"Sun",8,8,null,null,null,null,null,null,null,null,0,null,null,1,"Sun",8,8,null,null,null,null,null,null,null,null,0,"1/8 Hour 8",176]
[1,"Sun",8,9,null,null,null,null,null,null,null,null,0,null,null,1,"Sun",8,9,null,null,null,null,null,null,null,null,0,"1/8 Hour 9",177]
[1,"Sun",8,10,null,null,null,null,null,null,null,null,0,null,null,1,"Sun",8,10,null,null,null,null,null,null,null,null,0,"1/8 Hour 10",178]
[1,"Sun",8,11,null,null,null,null,null,null,null,null,0,null,null,1,"Sun",8,11,null,null,null,null,null,null,null,null,0,"1/8 Hour 11",179]
[1,"Sun",8,12,null,null,null,null,null,null,null,null,0,null,null,1,"Sun",8,12,null,null,null,null,null,null,null,null,0,"1/8 Hour 12",180]
[1,"Sun",8,13,null,null,null,null,null,null,null,null,0,null,null,1,"Sun",8,13,null,null,null,null,null,null,null,null,0,"1/8 Hour 13",181]
[1,"Sun",8,14,null,null,null,null,null,null,null,null,0,null,null,1,"Sun",8,14,null,null,null,null,null,null,null,null,0,"1/8 Hour 14",182]
[1,"Sun",8,15,null,null,null,null,null,null,null,null,0,null,null,1,"Sun",8,15,null,null,null,null,null,null,null,null,0,"1/8 Hour 15",183]
[1,"Sun",8,16,null,null,null,null,null,null,null,null,0,null,null,1,"Sun",8,16,null,null,null,null,null,null,null,null,0,"1/8 Hour 16",184]
[1,"Sun",8,17,null,null,null,null,null,null,null,null,0,null,null,1,"Sun",8,17,null,null,null,null,null,null,null,null,0,"1/8 Hour 17",185]
[1,"Sun",8,18,null,null,null,null,null,null,null,null,0,null,null,1,"Sun",8,18,null,null,null,null,null,null,null,null,0,"1/8 Hour 18",186]
[1,"Sun",8,19,null,null,null,null,null,null,null,null,0,null,null,1,"Sun",8,19,null,null,null,null,null,null,null,null,0,"1/8 Hour 19",187]
[1,"Sun",8,20,null,null,null,null,null,null,null,null,0,null,null,1,"Sun",8,20,null,null,null,null,null,null,null,null,0,"1/8 Hour 20",188]
[1,"Sun",8,21,null,null,null,null,null,null,null,null,0,null,null,1,"Sun",8,21,null,null,null,null,null,null,null,null,0,"1/8 Hour 21",189]
[1,"Sun",8,22,null,null,null,null,null,null,null,null,0,null,null,1,"Sun",8,22,null,null,null,null,null,null,null,null,0,"1/8 Hour 22",190]
[1,"Sun",8,23,null,null,null,null,null,null,null,null,0,null,null,1,"Sun",8,23,null,null,null,null,null,null,null,null,0,"1/8 Hour 23",191]
[1,"Sun",8,24,null,null,null,null,null,null,null,null,0,null,null,1,"Sun",8,24,null,null,null,null,null,null,null,null,0,"1/8 Hour 24",192]
[1,"Wkdy",9,1,null,null,null,null,null,null,null,null,0,null,null,1,"Wkdy",9,1,null,null,null,null,null,null,null,null,0,"1/9 Hour 1",193]
[1,"Wkdy",9,2,null,null,null,null,null,null,null,null,{"$f":"SUM(E197:L197)","v":0},null,null,1,"Wkdy",9,2,null,null,null,null,null,null,null,null,{"$f":"SUM(T197:AA197)","v":0},{"$f":"A197&\"/\"&C197&\" Hour \"&D197","v":"1/9 Hour 2"},{"$f":"ROW()-ROW($AD$3)","v":194}]
[1,"Wkdy",9,3,null,null,null,null,null,null,null,null,0,null,null,1,"Wkdy",9,3,null,null,null,null,null,null,null,null,0,"1/9 Hour 3",195]
[1,"Wkdy",9,4,null,null,null,null,null,null,null,null,0,null,null,1,"Wkdy",9,4,null,null,null,null,null,null,null,null,0,"1/9 Hour 4",196]
[1,"Wkdy",9,5,null,null,null,null,null,null,null,null,0,null,null,1,"Wkdy",9,5,null,null,null,null,null,null,null,null,0,"1/9 Hour 5",197]
[1,"Wkdy",9,6,null,null,null,null,null,null,null,null,0,null,null,1,"Wkdy",9,6,null,null,null,null,null,null,null,null,0,"1/9 Hour 6",198]
[1,"Wkdy",9,7,null,null,null,null,null,null,null,null,0,null,null,1,"Wkdy",9,7,null,null,null,null,null,null,null,null,0,"1/9 Hour 7",199]
[1,"Wkdy",9,8,null,null,null,null,null,null,null,null,0,null,null,1,"Wkdy",9,8,null,null,null,null,null,null,null,null,0,"1/9 Hour 8",200]
[1,"Wkdy",9,9,null,null,null,null,null,null,null,null,0,null,null,1,"Wkdy",9,9,null,null,null,null,null,null,null,null,0,"1/9 Hour 9",201]
[1,"Wkdy",9,10,null,null,null,null,null,null,null,null,0,null,null,1,"Wkdy",9,10,null,null,null,null,null,null,null,null,0,"1/9 Hour 10",202]
[1,"Wkdy",9,11,null,null,null,null,null,null,null,null,0,null,null,1,"Wkdy",9,11,null,null,null,null,null,null,null,null,0,"1/9 Hour 11",203]
[1,"Wkdy",9,12,null,null,null,null,null,null,null,null,0,null,null,1,"Wkdy",9,12,null,null,null,null,null,null,null,null,0,"1/9 Hour 12",204]
[1,"Wkdy",9,13,null,null,null,null,null,null,null,null,0,null,null,1,"Wkdy",9,13,null,null,null,null,null,null,null,null,0,"1/9 Hour 13",205]
[1,"Wkdy",9,14,null,null,null,null,null,null,null,null,0,null,null,1,"Wkdy",9,14,null,null,null,null,null,null,null,null,0,"1/9 Hour 14",206]
[1,"Wkdy",9,15,null,null,null,null,null,null,null,null,0,null,null,1,"Wkdy",9,15,null,null,null,null,null,null,null,null,0,"1/9 Hour 15",207]
[1,"Wkdy",9,16,null,null,null,null,null,null,null,null,0,null,null,1,"Wkdy",9,16,null,null,null,null,null,null,null,null,0,"1/9 Hour 16",208]
[1,"Wkdy",9,17,null,null,null,null,null,null,null,null,0,null,null,1,"Wkdy",9,17,null,null,null,null,null,null,null,null,0,"1/9 Hour 17",209]
[1,"Wkdy",9,18,null,null,null,null,null,null,null,null,0,null,null,1,"Wkdy",9,18,null,null,null,null,null,null,null,null,0,"1/9 Hour 18",210]
[1,"Wkdy",9,19,null,null,null,null,null,null,null,null,0,null,null,1,"Wkdy",9,19,null,null,null,null,null,null,null,null,0,"1/9 Hour 19",211]
[1,"Wkdy",9,20,null,null,null,null,null,null,null,null,0,null,null,1,"Wkdy",9,20,null,null,null,null,null,null,null,null,0,"1/9 Hour 20",212]
[1,"Wkdy",9,21,null,null,null,null,null,null,null,null,0,null,null,1,"Wkdy",9,21,null,null,null,null,null,null,null,null,0,"1/9 Hour 21",213]
[1,"Wkdy",9,22,null,null,null,null,null,null,null,null,0,null,null,1,"Wkdy",9,22,null,null,null,null,null,null,null,null,0,"1/9 Hour 22",214]
[1,"Wkdy",9,23,null,null,null,null,null,null,null,null,0,null,null,1,"Wkdy",9,23,null,null,null,null,null,null,null,null,0,"1/9 Hour 23",215]
[1,"Wkdy",9,24,null,null,null,null,null,null,null,null,0,null,null,1,"Wkdy",9,24,null,null,null,null,null,null,null,null,0,"1/9 Hour 24",216]
[1,"Wkdy",10,1,null,null,null,null,null,null,null,null,0,null,null,1,"Wkdy",10,1,null,null,null,null,null,null,null,null,0,"1/10 Hour 1",217]
[1,"Wkdy",10,2,null,null,null,null,null,null,null,null,0,null,null,1,"Wkdy",10,2,null,null,null,null,null,null,null,null,0,"1/10 Hour 2",218]
[1,"Wkdy",10,3,null,null,null,null,null,null,null,null,0,null,null,1,"Wkdy",10,3,null,null,null,null,null,null,null,null,0,"1/10 Hour 3",219]
[1,"Wkdy",10,4,null,null,null,null,null,null,null,null,0,null,null,1,"Wkdy",10,4,null,null,null,null,null,null,null,null,0,"1/10 Hour 4",220]
[1,"Wkdy",10,5,null,null,null,null,null,null,null,null,0,null,null,1,"Wkdy",10,5,null,null,null,null,null,null,null,null,0,"1/10 Hour 5",221]
[1,"Wkdy",10,6,null,null,null,null,null,null,null,null,0,null,null,1,"Wkdy",10,6,null,null,null,null,null,null,null,null,0,"1/10 Hour 6",222]
[1,"Wkdy",10,7,null,null,null,null,null,null,null,null,0,null,null,1,"Wkdy",10,7,null,null,null,null,null,null,null,null,0,"1/10 Hour 7",223]
[1,"Wkdy",10,8,null,null,null,null,null,null,null,null,0,null,null,1,"Wkdy",10,8,null,null,null,null,null,null,null,null,0,"1/10 Hour 8",224]
[1,"Wkdy",10,9,null,null,null,null,null,null,null,null,0,null,null,1,"Wkdy",10,9,null,null,null,null,null,null,null,null,0,"1/10 Hour 9",225]
[1,"Wkdy",10,10,null,null,null,null,null,null,null,null,0,null,null,1,"Wkdy",10,10,null,null,null,null,null,null,null,null,0,"1/10 Hour 10",226]
[1,"Wkdy",10,11,null,null,null,null,null,null,null,null,0,null,null,1,"Wkdy",10,11,null,null,null,null,null,null,null,null,0,"1/10 Hour 11",227]
[1,"Wkdy",10,12,null,null,null,null,null,null,null,null,0,null,null,1,"Wkdy",10,12,null,null,null,null,null,null,null,null,0,"1/10 Hour 12",228]
[1,"Wkdy",10,13,null,null,null,null,null,null,null,null,0,null,null,1,"Wkdy",10,13,null,null,null,null,null,null,null,null,0,"1/10 Hour 13",229]
[1,"Wkdy",10,14,null,null,null,null,null,null,null,null,0,null,null,1,"Wkdy",10,14,null,null,null,null,null,null,null,null,0,"1/10 Hour 14",230]
[1,"Wkdy",10,15,null,null,null,null,null,null,null,null,0,null,null,1,"Wkdy",10,15,null,null,null,null,null,null,null,null,0,"1/10 Hour 15",231]
[1,"Wkdy",10,16,null,null,null,null,null,null,null,null,0,null,null,1,"Wkdy",10,16,null,null,null,null,null,null,null,null,0,"1/10 Hour 16",232]
[1,"Wkdy",10,17,null,null,null,null,null,null,null,null,0,null,null,1,"Wkdy",10,17,null,null,null,null,null,null,null,null,0,"1/10 Hour 17",233]
[1,"Wkdy",10,18,null,null,null,null,null,null,null,null,0,null,null,1,"Wkdy",10,18,null,null,null,null,null,null,null,null,0,"1/10 Hour 18",234]
[1,"Wkdy",10,19,null,null,null,null,null,null,null,null,0,null,null,1,"Wkdy",10,19,null,null,null,null,null,null,null,null,0,"1/10 Hour 19",235]
[1,"Wkdy",10,20,null,null,null,null,null,null,null,null,0,null,null,1,"Wkdy",10,20,null,null,null,null,null,null,null,null,0,"1/10 Hour 20",236]
[1,"Wkdy",10,21,null,null,null,null,null,null,null,null,0,null,null,1,"Wkdy",10,21,null,null,null,null,null,null,null,null,0,"1/10 Hour 21",237]
[1,"Wkdy",10,22,null,null,null,null,null,null,null,null,0,null,null,1,"Wkdy",10,22,null,null,null,null,null,null,null,null,0,"1/10 Hour 22",238]
[1,"Wkdy",10,23,null,null,null,null,null,null,null,null,0,null,null,1,"Wkdy",10,23,null,null,null,null,null,null,null,null,0,"1/10 Hour 23",239]
[1,"Wkdy",10,24,null,null,null,null,null,null,null,null,0,null,null,1,"Wkdy",10,24,null,null,null,null,null,null,null,null,0,"1/10 Hour 24",240]
[1,"Wkdy",11,1,null,null,null,null,null,null,null,null,0,null,null,1,"Wkdy",11,1,null,null,null,null,null,null,null,null,0,"1/11 Hour 1",241]
[1,"Wkdy",11,2,null,null,null,null,null,null,null,null,0,null,null,1,"Wkdy",11,2,null,null,null,null,null,null,null,null,0,"1/11 Hour 2",242]
[1,"Wkdy",11,3,null,null,null,null,null,null,null,null,0,null,null,1,"Wkdy",11,3,null,null,null,null,null,null,null,null,0,"1/11 Hour 3",243]
[1,"Wkdy",11,4,null,null,null,null,null,null,null,null,0,null,null,1,"Wkdy",11,4,null,null,null,null,null,null,null,null,0,"1/11 Hour 4",244]
[1,"Wkdy",11,5,null,null,null,null,null,null,null,null,0,null,null,1,"Wkdy",11,5,null,null,null,null,null,null,null,null,0,"1/11 Hour 5",245]
[1,"Wkdy",11,6,null,null,null,null,null,null,null,null,0,null,null,1,"Wkdy",11,6,null,null,null,null,null,null,null,null,0,"1/11 Hour 6",246]
[1,"Wkdy",11,7,null,null,null,null,null,null,null,null,0,null,null,1,"Wkdy",11,7,null,null,null,null,null,null,null,null,0,"1/11 Hour 7",247]
[1,"Wkdy",11,8,null,null,null,null,null,null,null,null,0,null,null,1,"Wkdy",11,8,null,null,null,null,null,null,null,null,0,"1/11 Hour 8",248]
[1,"Wkdy",11,9,null,null,null,null,null,null,null,null,0,null,null,1,"Wkdy",11,9,null,null,null,null,null,null,null,null,0,"1/11 Hour 9",249]
[1,"Wkdy",11,10,null,null,null,null,null,null,null,null,0,null,null,1,"Wkdy",11,10,null,null,null,null,null,null,null,null,0,"1/11 Hour 10",250]
[1,"Wkdy",11,11,null,null,null,null,null,null,null,null,0,null,null,1,"Wkdy",11,11,null,null,null,null,null,null,null,null,0,"1/11 Hour 11",251]
[1,"Wkdy",11,12,null,null,null,null,null,null,null,null,0,null,null,1,"Wkdy",11,12,null,null,null,null,null,null,null,null,0,"1/11 Hour 12",252]
[1,"Wkdy",11,13,null,null,null,null,null,null,null,null,0,null,null,1,"Wkdy",11,13,null,null,null,null,null,null,null,null,0,"1/11 Hour 13",253]
[1,"Wkdy",11,14,null,null,null,null,null,null,null,null,0,null,null,1,"Wkdy",11,14,null,null,null,null,null,null,null,null,0,"1/11 Hour 14",254]
[1,"Wkdy",11,15,null,null,null,null,null,null,null,null,0,null,null,1,"Wkdy",11,15,null,null,null,null,null,null,null,null,0,"1/11 Hour 15",255]
[1,"Wkdy",11,16,null,null,null,null,null,null,null,null,0,null,null,1,"Wkdy",11,16,null,null,null,null,null,null,null,null,0,"1/11 Hour 16",256]
[1,"Wkdy",11,17,null,null,null,null,null,null,null,null,0,null,null,1,"Wkdy",11,17,null,null,null,null,null,null,null,null,0,"1/11 Hour 17",257]
[1,"Wkdy",11,18,null,null,null,null,null,null,null,null,{"$f":"SUM(E261:L261)","v":0},null,null,1,"Wkdy",11,18,null,null,null,null,null,null,null,null,{"$f":"SUM(T261:AA261)","v":0},{"$f":"A261&\"/\"&C261&\" Hour \"&D261","v":"1/11 Hour 18"},{"$f":"ROW()-ROW($AD$3)","v":258}]
[1,"Wkdy",11,19,null,null,null,null,null,null,null,null,0,null,null,1,"Wkdy",11,19,null,null,null,null,null,null,null,null,0,"1/11 Hour 19",259]
[1,"Wkdy",11,20,null,null,null,null,null,null,null,null,0,null,null,1,"Wkdy",11,20,null,null,null,null,null,null,null,null,0,"1/11 Hour 20",260]
[1,"Wkdy",11,21,null,null,null,null,null,null,null,null,0,null,null,1,"Wkdy",11,21,null,null,null,null,null,null,null,null,0,"1/11 Hour 21",261]
[1,"Wkdy",11,22,null,null,null,null,null,null,null,null,0,null,null,1,"Wkdy",11,22,null,null,null,null,null,null,null,null,0,"1/11 Hour 22",262]
[1,"Wkdy",11,23,null,null,null,null,null,null,null,null,0,null,null,1,"Wkdy",11,23,null,null,null,null,null,null,null,null,0,"1/11 Hour 23",263]
[1,"Wkdy",11,24,null,null,null,null,null,null,null,null,0,null,null,1,"Wkdy",11,24,null,null,null,null,null,null,null,null,0,"1/11 Hour 24",264]
[1,"Wkdy",12,1,null,null,null,null,null,null,null,null,0,null,null,1,"Wkdy",12,1,null,null,null,null,null,null,null,null,0,"1/12 Hour 1",265]
[1,"Wkdy",12,2,null,null,null,null,null,null,null,null,0,null,null,1,"Wkdy",12,2,null,null,null,null,null,null,null,null,0,"1/12 Hour 2",266]
[1,"Wkdy",12,3,null,null,null,null,null,null,null,null,0,null,null,1,"Wkdy",12,3,null,null,null,null,null,null,null,null,0,"1/12 Hour 3",267]
[1,"Wkdy",12,4,null,null,null,null,null,null,null,null,0,null,null,1,"Wkdy",12,4,null,null,null,null,null,null,null,null,0,"1/12 Hour 4",268]
[1,"Wkdy",12,5,null,null,null,null,null,null,null,null,0,null,null,1,"Wkdy",12,5,null,null,null,null,null,null,null,null,0,"1/12 Hour 5",269]
[1,"Wkdy",12,6,null,null,null,null,null,null,null,null,0,null,null,1,"Wkdy",12,6,null,null,null,null,null,null,null,null,0,"1/12 Hour 6",270]
[1,"Wkdy",12,7,null,null,null,null,null,null,null,null,0,null,null,1,"Wkdy",12,7,null,null,null,null,null,null,null,null,0,"1/12 Hour 7",271]
[1,"Wkdy",12,8,null,null,null,null,null,null,null,null,0,null,null,1,"Wkdy",12,8,null,null,null,null,null,null,null,null,0,"1/12 Hour 8",272]
[1,"Wkdy",12,9,null,null,null,null,null,null,null,null,0,null,null,1,"Wkdy",12,9,null,null,null,null,null,null,null,null,0,"1/12 Hour 9",273]
[1,"Wkdy",12,10,null,null,null,null,null,null,null,null,0,null,null,1,"Wkdy",12,10,null,null,null,null,null,null,null,null,0,"1/12 Hour 10",274]
[1,"Wkdy",12,11,null,null,null,null,null,null,null,null,0,null,null,1,"Wkdy",12,11,null,null,null,null,null,null,null,null,0,"1/12 Hour 11",275]
[1,"Wkdy",12,12,null,null,null,null,null,null,null,null,0,null,null,1,"Wkdy",12,12,null,null,null,null,null,null,null,null,0,"1/12 Hour 12",276]
[1,"Wkdy",12,13,null,null,null,null,null,null,null,null,0,null,null,1,"Wkdy",12,13,null,null,null,null,null,null,null,null,0,"1/12 Hour 13",277]
[1,"Wkdy",12,14,null,null,null,null,null,null,null,null,0,null,null,1,"Wkdy",12,14,null,null,null,null,null,null,null,null,0,"1/12 Hour 14",278]
[1,"Wkdy",12,15,null,null,null,null,null,null,null,null,0,null,null,1,"Wkdy",12,15,null,null,null,null,null,null,null,null,0,"1/12 Hour 15",279]
[1,"Wkdy",12,16,null,null,null,null,null,null,null,null,0,null,null,1,"Wkdy",12,16,null,null,null,null,null,null,null,null,0,"1/12 Hour 16",280]
[1,"Wkdy",12,17,null,null,null,null,null,null,null,null,0,null,null,1,"Wkdy",12,17,null,null,null,null,null,null,null,null,0,"1/12 Hour 17",281]
[1,"Wkdy",12,18,null,null,null,null,null,null,null,null,0,null,null,1,"Wkdy",12,18,null,null,null,null,null,null,null,null,0,"1/12 Hour 18",282]
[1,"Wkdy",12,19,null,null,null,null,null,null,null,null,0,null,null,1,"Wkdy",12,19,null,null,null,null,null,null,null,null,0,"1/12 Hour 19",283]
[1,"Wkdy",12,20,null,null,null,null,null,null,null,null,0,null,null,1,"Wkdy",12,20,null,null,null,null,null,null,null,null,0,"1/12 Hour 20",284]
[1,"Wkdy",12,21,null,null,null,null,null,null,null,null,0,null,null,1,"Wkdy",12,21,null,null,null,null,null,null,null,null,0,"1/12 Hour 21",285]
[1,"Wkdy",12,22,null,null,null,null,null,null,null,null,0,null,null,1,"Wkdy",12,22,null,null,null,null,null,null,null,null,0,"1/12 Hour 22",286]
[1,"Wkdy",12,23,null,null,null,null,null,null,null,null,0,null,null,1,"Wkdy",12,23,null,null,null,null,null,null,null,null,0,"1/12 Hour 23",287]
[1,"Wkdy",12,24,null,null,null,null,null,null,null,null,0,null,null,1,"Wkdy",12,24,null,null,null,null,null,null,null,null,0,"1/12 Hour 24",288]
[1,"Wkdy",13,1,null,null,null,null,null,null,null,null,0,null,null,1,"Wkdy",13,1,null,null,null,null,null,null,null,null,0,"1/13 Hour 1",289]
[1,"Wkdy",13,2,null,null,null,null,null,null,null,null,0,null,null,1,"Wkdy",13,2,null,null,null,null,null,null,null,null,0,"1/13 Hour 2",290]
[1,"Wkdy",13,3,null,null,null,null,null,null,null,null,0,null,null,1,"Wkdy",13,3,null,null,null,null,null,null,null,null,0,"1/13 Hour 3",291]
[1,"Wkdy",13,4,null,null,null,null,null,null,null,null,0,null,null,1,"Wkdy",13,4,null,null,null,null,null,null,null,null,0,"1/13 Hour 4",292]
[1,"Wkdy",13,5,null,null,null,null,null,null,null,null,0,null,null,1,"Wkdy",13,5,null,null,null,null,null,null,null,null,0,"1/13 Hour 5",293]
[1,"Wkdy",13,6,null,null,null,null,null,null,null,null,0,null,null,1,"Wkdy",13,6,null,null,null,null,null,null,null,null,0,"1/13 Hour 6",294]
[1,"Wkdy",13,7,null,null,null,null,null,null,null,null,0,null,null,1,"Wkdy",13,7,null,null,null,null,null,null,null,null,0,"1/13 Hour 7",295]
[1,"Wkdy",13,8,null,null,null,null,null,null,null,null,0,null,null,1,"Wkdy",13,8,null,null,null,null,null,null,null,null,0,"1/13 Hour 8",296]
[1,"Wkdy",13,9,null,null,null,null,null,null,null,null,0,null,null,1,"Wkdy",13,9,null,null,null,null,null,null,null,null,0,"1/13 Hour 9",297]
[1,"Wkdy",13,10,null,null,null,null,null,null,null,null,0,null,null,1,"Wkdy",13,10,null,null,null,null,null,null,null,null,0,"1/13 Hour 10",298]
[1,"Wkdy",13,11,null,null,null,null,null,null,null,null,0,null,null,1,"Wkdy",13,11,null,null,null,null,null,null,null,null,0,"1/13 Hour 11",299]
[1,"Wkdy",13,12,null,null,null,null,null,null,null,null,0,null,null,1,"Wkdy",13,12,null,null,null,null,null,null,null,null,0,"1/13 Hour 12",300]
[1,"Wkdy",13,13,null,null,null,null,null,null,null,null,0,null,null,1,"Wkdy",13,13,null,null,null,null,null,null,null,null,0,"1/13 Hour 13",301]
[1,"Wkdy",13,14,null,null,null,null,null,null,null,null,0,null,null,1,"Wkdy",13,14,null,null,null,null,null,null,null,null,0,"1/13 Hour 14",302]
[1,"Wkdy",13,15,null,null,null,null,null,null,null,null,0,null,null,1,"Wkdy",13,15,null,null,null,null,null,null,null,null,0,"1/13 Hour 15",303]
[1,"Wkdy",13,16,null,null,null,null,null,null,null,null,0,null,null,1,"Wkdy",13,16,null,null,null,null,null,null,null,null,0,"1/13 Hour 16",304]
[1,"Wkdy",13,17,null,null,null,null,null,null,null,null,0,null,null,1,"Wkdy",13,17,null,null,null,null,null,null,null,null,0,"1/13 Hour 17",305]
[1,"Wkdy",13,18,null,null,null,null,null,null,null,null,0,null,null,1,"Wkdy",13,18,null,null,null,null,null,null,null,null,0,"1/13 Hour 18",306]
[1,"Wkdy",13,19,null,null,null,null,null,null,null,null,0,null,null,1,"Wkdy",13,19,null,null,null,null,null,null,null,null,0,"1/13 Hour 19",307]
[1,"Wkdy",13,20,null,null,null,null,null,null,null,null,0,null,null,1,"Wkdy",13,20,null,null,null,null,null,null,null,null,0,"1/13 Hour 20",308]
[1,"Wkdy",13,21,null,null,null,null,null,null,null,null,0,null,null,1,"Wkdy",13,21,null,null,null,null,null,null,null,null,0,"1/13 Hour 21",309]
[1,"Wkdy",13,22,null,null,null,null,null,null,null,null,0,null,null,1,"Wkdy",13,22,null,null,null,null,null,null,null,null,0,"1/13 Hour 22",310]
[1,"Wkdy",13,23,null,null,null,null,null,null,null,null,0,null,null,1,"Wkdy",13,23,null,null,null,null,null,null,null,null,0,"1/13 Hour 23",311]
[1,"Wkdy",13,24,null,null,null,null,null,null,null,null,0,null,null,1,"Wkdy",13,24,null,null,null,null,null,null,null,null,0,"1/13 Hour 24",312]
[1,"Sat",14,1,null,null,null,null,null,null,null,null,0,null,null,1,"Sat",14,1,null,null,null,null,null,null,null,null,0,"1/14 Hour 1",313]
[1,"Sat",14,2,null,null,null,null,null,null,null,null,0,null,null,1,"Sat",14,2,null,null,null,null,null,null,null,null,0,"1/14 Hour 2",314]
[1,"Sat",14,3,null,null,null,null,null,null,null,null,0,null,null,1,"Sat",14,3,null,null,null,null,null,null,null,null,0,"1/14 Hour 3",315]
[1,"Sat",14,4,null,null,null,null,null,null,null,null,0,null,null,1,"Sat",14,4,null,null,null,null,null,null,null,null,0,"1/14 Hour 4",316]
[1,"Sat",14,5,null,null,null,null,null,null,null,null,0,null,null,1,"Sat",14,5,null,null,null,null,null,null,null,null,0,"1/14 Hour 5",317]
[1,"Sat",14,6,null,null,null,null,null,null,null,null,0,null,null,1,"Sat",14,6,null,null,null,null,null,null,null,null,0,"1/14 Hour 6",318]
[1,"Sat",14,7,null,null,null,null,null,null,null,null,0,null,null,1,"Sat",14,7,null,null,null,null,null,null,null,null,0,"1/14 Hour 7",319]
[1,"Sat",14,8,null,null,null,null,null,null,null,null,0,null,null,1,"Sat",14,8,null,null,null,null,null,null,null,null,0,"1/14 Hour 8",320]
[1,"Sat",14,9,null,null,null,null,null,null,null,null,0,null,null,1,"Sat",14,9,null,null,null,null,null,null,null,null,0,"1/14 Hour 9",321]
[1,"Sat",14,10,null,null,null,null,null,null,null,null,{"$f":"SUM(E325:L325)","v":0},null,null,1,"Sat",14,10,null,null,null,null,null,null,null,null,{"$f":"SUM(T325:AA325)","v":0},{"$f":"A325&\"/\"&C325&\" Hour \"&D325","v":"1/14 Hour 10"},{"$f":"ROW()-ROW($AD$3)","v":322}]
[1,"Sat",14,11,null,null,null,null,null,null,null,null,0,null,null,1,"Sat",14,11,null,null,null,null,null,null,null,null,0,"1/14 Hour 11",323]
[1,"Sat",14,12,null,null,null,null,null,null,null,null,0,null,null,1,"Sat",14,12,null,null,null,null,null,null,null,null,0,"1/14 Hour 12",324]
[1,"Sat",14,13,null,null,null,null,null,null,null,null,0,null,null,1,"Sat",14,13,null,null,null,null,null,null,null,null,0,"1/14 Hour 13",325]
[1,"Sat",14,14,null,null,null,null,null,null,null,null,0,null,null,1,"Sat",14,14,null,null,null,null,null,null,null,null,0,"1/14 Hour 14",326]
[1,"Sat",14,15,null,null,null,null,null,null,null,null,0,null,null,1,"Sat",14,15,null,null,null,null,null,null,null,null,0,"1/14 Hour 15",327]
[1,"Sat",14,16,null,null,null,null,null,null,null,null,0,null,null,1,"Sat",14,16,null,null,null,null,null,null,null,null,0,"1/14 Hour 16",328]
[1,"Sat",14,17,null,null,null,null,null,null,null,null,0,null,null,1,"Sat",14,17,null,null,null,null,null,null,null,null,0,"1/14 Hour 17",329]
[1,"Sat",14,18,null,null,null,null,null,null,null,null,0,null,null,1,"Sat",14,18,null,null,null,null,null,null,null,null,0,"1/14 Hour 18",330]
[1,"Sat",14,19,null,null,null,null,null,null,null,null,0,null,null,1,"Sat",14,19,null,null,null,null,null,null,null,null,0,"1/14 Hour 19",331]
[1,"Sat",14,20,null,null,null,null,null,null,null,null,0,null,null,1,"Sat",14,20,null,null,null,null,null,null,null,null,0,"1/14 Hour 20",332]
[1,"Sat",14,21,null,null,null,null,null,null,null,null,0,null,null,1,"Sat",14,21,null,null,null,null,null,null,null,null,0,"1/14 Hour 21",333]
[1,"Sat",14,22,null,null,null,null,null,null,null,null,0,null,null,1,"Sat",14,22,null,null,null,null,null,null,null,null,0,"1/14 Hour 22",334]
[1,"Sat",14,23,null,null,null,null,null,null,null,null,0,null,null,1,"Sat",14,23,null,null,null,null,null,null,null,null,0,"1/14 Hour 23",335]
[1,"Sat",14,24,null,null,null,null,null,null,null,null,0,null,null,1,"Sat",14,24,null,null,null,null,null,null,null,null,0,"1/14 Hour 24",336]
[1,"Sun",15,1,null,null,null,null,null,null,null,null,0,null,null,1,"Sun",15,1,null,null,null,null,null,null,null,null,0,"1/15 Hour 1",337]
[1,"Sun",15,2,null,null,null,null,null,null,null,null,0,null,null,1,"Sun",15,2,null,null,null,null,null,null,null,null,0,"1/15 Hour 2",338]
[1,"Sun",15,3,null,null,null,null,null,null,null,null,0,null,null,1,"Sun",15,3,null,null,null,null,null,null,null,null,0,"1/15 Hour 3",339]
[1,"Sun",15,4,null,null,null,null,null,null,null,null,0,null,null,1,"Sun",15,4,null,null,null,null,null,null,null,null,0,"1/15 Hour 4",340]
[1,"Sun",15,5,null,null,null,null,null,null,null,null,0,null,null,1,"Sun",15,5,null,null,null,null,null,null,null,null,0,"1/15 Hour 5",341]
[1,"Sun",15,6,null,null,null,null,null,null,null,null,0,null,null,1,"Sun",15,6,null,null,null,null,null,null,null,null,0,"1/15 Hour 6",342]
[1,"Sun",15,7,null,null,null,null,null,null,null,null,0,null,null,1,"Sun",15,7,null,null,null,null,null,null,null,null,0,"1/15 Hour 7",343]
[1,"Sun",15,8,null,null,null,null,null,null,null,null,0,null,null,1,"Sun",15,8,null,null,null,null,null,null,null,null,0,"1/15 Hour 8",344]
[1,"Sun",15,9,null,null,null,null,null,null,null,null,0,null,null,1,"Sun",15,9,null,null,null,null,null,null,null,null,0,"1/15 Hour 9",345]
[1,"Sun",15,10,null,null,null,null,null,null,null,null,0,null,null,1,"Sun",15,10,null,null,null,null,null,null,null,null,0,"1/15 Hour 10",346]
[1,"Sun",15,11,null,null,null,null,null,null,null,null,0,null,null,1,"Sun",15,11,null,null,null,null,null,null,null,null,0,"1/15 Hour 11",347]
[1,"Sun",15,12,null,null,null,null,null,null,null,null,0,null,null,1,"Sun",15,12,null,null,null,null,null,null,null,null,0,"1/15 Hour 12",348]
[1,"Sun",15,13,null,null,null,null,null,null,null,null,0,null,null,1,"Sun",15,13,null,null,null,null,null,null,null,null,0,"1/15 Hour 13",349]
[1,"Sun",15,14,null,null,null,null,null,null,null,null,0,null,null,1,"Sun",15,14,null,null,null,null,null,null,null,null,0,"1/15 Hour 14",350]
[1,"Sun",15,15,null,null,null,null,null,null,null,null,0,null,null,1,"Sun",15,15,null,null,null,null,null,null,null,null,0,"1/15 Hour 15",351]
[1,"Sun",15,16,null,null,null,null,null,null,null,null,0,null,null,1,"Sun",15,16,null,null,null,null,null,null,null,null,0,"1/15 Hour 16",352]
[1,"Sun",15,17,null,null,null,null,null,null,null,null,0,null,null,1,"Sun",15,17,null,null,null,null,null,null,null,null,0,"1/15 Hour 17",353]
[1,"Sun",15,18,null,null,null,null,null,null,null,null,0,null,null,1,"Sun",15,18,null,null,null,null,null,null,null,null,0,"1/15 Hour 18",354]
[1,"Sun",15,19,null,null,null,null,null,null,null,null,0,null,null,1,"Sun",15,19,null,null,null,null,null,null,null,null,0,"1/15 Hour 19",355]
[1,"Sun",15,20,null,null,null,null,null,null,null,null,0,null,null,1,"Sun",15,20,null,null,null,null,null,null,null,null,0,"1/15 Hour 20",356]
[1,"Sun",15,21,null,null,null,null,null,null,null,null,0,null,null,1,"Sun",15,21,null,null,null,null,null,null,null,null,0,"1/15 Hour 21",357]
[1,"Sun",15,22,null,null,null,null,null,null,null,null,0,null,null,1,"Sun",15,22,null,null,null,null,null,null,null,null,0,"1/15 Hour 22",358]
[1,"Sun",15,23,null,null,null,null,null,null,null,null,0,null,null,1,"Sun",15,23,null,null,null,null,null,null,null,null,0,"1/15 Hour 23",359]
[1,"Sun",15,24,null,null,null,null,null,null,null,null,0,null,null,1,"Sun",15,24,null,null,null,null,null,null,null,null,0,"1/15 Hour 24",360]
[1,"Wkdy",16,1,null,null,null,null,null,null,null,null,0,null,null,1,"Wkdy",16,1,null,null,null,null,null,null,null,null,0,"1/16 Hour 1",361]
[1,"Wkdy",16,2,null,null,null,null,null,null,null,null,0,null,null,1,"Wkdy",16,2,null,null,null,null,null,null,null,null,0,"1/16 Hour 2",362]
[1,"Wkdy",16,3,null,null,null,null,null,null,null,null,0,null,null,1,"Wkdy",16,3,null,null,null,null,null,null,null,null,0,"1/16 Hour 3",363]
[1,"Wkdy",16,4,null,null,null,null,null,null,null,null,0,null,null,1,"Wkdy",16,4,null,null,null,null,null,null,null,null,0,"1/16 Hour 4",364]
[1,"Wkdy",16,5,null,null,null,null,null,null,null,null,0,null,null,1,"Wkdy",16,5,null,null,null,null,null,null,null,null,0,"1/16 Hour 5",365]
[1,"Wkdy",16,6,null,null,null,null,null,null,null,null,0,null,null,1,"Wkdy",16,6,null,null,null,null,null,null,null,null,0,"1/16 Hour 6",366]
[1,"Wkdy",16,7,null,null,null,null,null,null,null,null,0,null,null,1,"Wkdy",16,7,null,null,null,null,null,null,null,null,0,"1/16 Hour 7",367]
[1,"Wkdy",16,8,null,null,null,null,null,null,null,null,0,null,null,1,"Wkdy",16,8,null,null,null,null,null,null,null,null,0,"1/16 Hour 8",368]
[1,"Wkdy",16,9,null,null,null,null,null,null,null,null,0,null,null,1,"Wkdy",16,9,null,null,null,null,null,null,null,null,0,"1/16 Hour 9",369]
[1,"Wkdy",16,10,null,null,null,null,null,null,null,null,0,null,null,1,"Wkdy",16,10,null,null,null,null,null,null,null,null,0,"1/16 Hour 10",370]
[1,"Wkdy",16,11,null,null,null,null,null,null,null,null,0,null,null,1,"Wkdy",16,11,null,null,null,null,null,null,null,null,0,"1/16 Hour 11",371]
[1,"Wkdy",16,12,null,null,null,null,null,null,null,null,0,null,null,1,"Wkdy",16,12,null,null,null,null,null,null,null,null,0,"1/16 Hour 12",372]
[1,"Wkdy",16,13,null,null,null,null,null,null,null,null,0,null,null,1,"Wkdy",16,13,null,null,null,null,null,null,null,null,0,"1/16 Hour 13",373]
[1,"Wkdy",16,14,null,null,null,null,null,null,null,null,0,null,null,1,"Wkdy",16,14,null,null,null,null,null,null,null,null,0,"1/16 Hour 14",374]
[1,"Wkdy",16,15,null,null,null,null,null,null,null,null,0,null,null,1,"Wkdy",16,15,null,null,null,null,null,null,null,null,0,"1/16 Hour 15",375]
[1,"Wkdy",16,16,null,null,null,null,null,null,null,null,0,null,null,1,"Wkdy",16,16,null,null,null,null,null,null,null,null,0,"1/16 Hour 16",376]
[1,"Wkdy",16,17,null,null,null,null,null,null,null,null,0,null,null,1,"Wkdy",16,17,null,null,null,null,null,null,null,null,0,"1/16 Hour 17",377]
[1,"Wkdy",16,18,null,null,null,null,null,null,null,null,0,null,null,1,"Wkdy",16,18,null,null,null,null,null,null,null,null,0,"1/16 Hour 18",378]
[1,"Wkdy",16,19,null,null,null,null,null,null,null,null,0,null,null,1,"Wkdy",16,19,null,null,null,null,null,null,null,null,0,"1/16 Hour 19",379]
[1,"Wkdy",16,20,null,null,null,null,null,null,null,null,0,null,null,1,"Wkdy",16,20,null,null,null,null,null,null,null,null,0,"1/16 Hour 20",380]
[1,"Wkdy",16,21,null,null,null,null,null,null,null,null,0,null,null,1,"Wkdy",16,21,null,null,null,null,null,null,null,null,0,"1/16 Hour 21",381]
[1,"Wkdy",16,22,null,null,null,null,null,null,null,null,0,null,null,1,"Wkdy",16,22,null,null,null,null,null,null,null,null,0,"1/16 Hour 22",382]
[1,"Wkdy",16,23,null,null,null,null,null,null,null,null,0,null,null,1,"Wkdy",16,23,null,null,null,null,null,null,null,null,0,"1/16 Hour 23",383]
[1,"Wkdy",16,24,null,null,null,null,null,null,null,null,0,null,null,1,"Wkdy",16,24,null,null,null,null,null,null,null,null,0,"1/16 Hour 24",384]
[1,"Wkdy",17,1,null,null,null,null,null,null,null,null,0,null,null,1,"Wkdy",17,1,null,null,null,null,null,null,null,null,0,"1/17 Hour 1",385]
[1,"Wkdy",17,2,null,null,null,null,null,null,null,null,{"$f":"SUM(E389:L389)","v":0},null,null,1,"Wkdy",17,2,null,null,null,null,null,null,null,null,{"$f":"SUM(T389:AA389)","v":0},{"$f":"A389&\"/\"&C389&\" Hour \"&D389","v":"1/17 Hour 2"},{"$f":"ROW()-ROW($AD$3)","v":386}]
[1,"Wkdy",17,3,null,null,null,null,null,null,null,null,0,null,null,1,"Wkdy",17,3,null,null,null,null,null,null,null,null,0,"1/17 Hour 3",387]
[1,"Wkdy",17,4,null,null,null,null,null,null,null,null,0,null,null,1,"Wkdy",17,4,null,null,null,null,null,null,null,null,0,"1/17 Hour 4",388]
[1,"Wkdy",17,5,null,null,null,null,null,null,null,null,0,null,null,1,"Wkdy",17,5,null,null,null,null,null,null,null,null,0,"1/17 Hour 5",389]
[1,"Wkdy",17,6,null,null,null,null,null,null,null,null,0,null,null,1,"Wkdy",17,6,null,null,null,null,null,null,null,null,0,"1/17 Hour 6",390]
[1,"Wkdy",17,7,null,null,null,null,null,null,null,null,0,null,null,1,"Wkdy",17,7,null,null,null,null,null,null,null,null,0,"1/17 Hour 7",391]
[1,"Wkdy",17,8,null,null,null,null,null,null,null,null,0,null,null,1,"Wkdy",17,8,null,null,null,null,null,null,null,null,0,"1/17 Hour 8",392]
[1,"Wkdy",17,9,null,null,null,null,null,null,null,null,0,null,null,1,"Wkdy",17,9,null,null,null,null,null,null,null,null,0,"1/17 Hour 9",393]
[1,"Wkdy",17,10,null,null,null,null,null,null,null,null,0,null,null,1,"Wkdy",17,10,null,null,null,null,null,null,null,null,0,"1/17 Hour 10",394]
[1,"Wkdy",17,11,null,null,null,null,null,null,null,null,0,null,null,1,"Wkdy",17,11,null,null,null,null,null,null,null,null,0,"1/17 Hour 11",395]
[1,"Wkdy",17,12,null,null,null,null,null,null,null,null,0,null,null,1,"Wkdy",17,12,null,null,null,null,null,null,null,null,0,"1/17 Hour 12",396]
[1,"Wkdy",17,13,null,null,null,null,null,null,null,null,0,null,null,1,"Wkdy",17,13,null,null,null,null,null,null,null,null,0,"1/17 Hour 13",397]
[1,"Wkdy",17,14,null,null,null,null,null,null,null,null,0,null,null,1,"Wkdy",17,14,null,null,null,null,null,null,null,null,0,"1/17 Hour 14",398]
[1,"Wkdy",17,15,null,null,null,null,null,null,null,null,0,null,null,1,"Wkdy",17,15,null,null,null,null,null,null,null,null,0,"1/17 Hour 15",399]
[1,"Wkdy",17,16,null,null,null,null,null,null,null,null,0,null,null,1,"Wkdy",17,16,null,null,null,null,null,null,null,null,0,"1/17 Hour 16",400]
[1,"Wkdy",17,17,null,null,null,null,null,null,null,null,0,null,null,1,"Wkdy",17,17,null,null,null,null,null,null,null,null,0,"1/17 Hour 17",401]
[1,"Wkdy",17,18,null,null,null,null,null,null,null,null,0,null,null,1,"Wkdy",17,18,null,null,null,null,null,null,null,null,0,"1/17 Hour 18",402]
[1,"Wkdy",17,19,null,null,null,null,null,null,null,null,0,null,null,1,"Wkdy",17,19,null,null,null,null,null,null,null,null,0,"1/17 Hour 19",403]
[1,"Wkdy",17,20,null,null,null,null,null,null,null,null,0,null,null,1,"Wkdy",17,20,null,null,null,null,null,null,null,null,0,"1/17 Hour 20",404]
[1,"Wkdy",17,21,null,null,null,null,null,null,null,null,0,null,null,1,"Wkdy",17,21,null,null,null,null,null,null,null,null,0,"1/17 Hour 21",405]
[1,"Wkdy",17,22,null,null,null,null,null,null,null,null,0,null,null,1,"Wkdy",17,22,null,null,null,null,null,null,null,null,0,"1/17 Hour 22",406]
[1,"Wkdy",17,23,null,null,null,null,null,null,null,null,0,null,null,1,"Wkdy",17,23,null,null,null,null,null,null,null,null,0,"1/17 Hour 23",407]
[1,"Wkdy",17,24,null,null,null,null,null,null,null,null,0,null,null,1,"Wkdy",17,24,null,null,null,null,null,null,null,null,0,"1/17 Hour 24",408]
[1,"Wkdy",18,1,null,null,null,null,null,null,null,null,0,null,null,1,"Wkdy",18,1,null,null,null,null,null,null,null,null,0,"1/18 Hour 1",409]
[1,"Wkdy",18,2,null,null,null,null,null,null,null,null,0,null,null,1,"Wkdy",18,2,null,null,null,null,null,null,null,null,0,"1/18 Hour 2",410]
[1,"Wkdy",18,3,null,null,null,null,null,null,null,null,0,null,null,1,"Wkdy",18,3,null,null,null,null,null,null,null,null,0,"1/18 Hour 3",411]
[1,"Wkdy",18,4,null,null,null,null,null,null,null,null,0,null,null,1,"Wkdy",18,4,null,null,null,null,null,null,null,null,0,"1/18 Hour 4",412]
[1,"Wkdy",18,5,null,null,null,null,null,null,null,null,0,null,null,1,"Wkdy",18,5,null,null,null,null,null,null,null,null,0,"1/18 Hour 5",413]
[1,"Wkdy",18,6,null,null,null,null,null,null,null,null,0,null,null,1,"Wkdy",18,6,null,null,null,null,null,null,null,null,0,"1/18 Hour 6",414]
[1,"Wkdy",18,7,null,null,null,null,null,null,null,null,0,null,null,1,"Wkdy",18,7,null,null,null,null,null,null,null,null,0,"1/18 Hour 7",415]
[1,"Wkdy",18,8,null,null,null,null,null,null,null,null,0,null,null,1,"Wkdy",18,8,null,null,null,null,null,null,null,null,0,"1/18 Hour 8",416]
[1,"Wkdy",18,9,null,null,null,null,null,null,null,null,0,null,null,1,"Wkdy",18,9,null,null,null,null,null,null,null,null,0,"1/18 Hour 9",417]
[1,"Wkdy",18,10,null,null,null,null,null,null,null,null,0,null,null,1,"Wkdy",18,10,null,null,null,null,null,null,null,null,0,"1/18 Hour 10",418]
[1,"Wkdy",18,11,null,null,null,null,null,null,null,null,0,null,null,1,"Wkdy",18,11,null,null,null,null,null,null,null,null,0,"1/18 Hour 11",419]
[1,"Wkdy",18,12,null,null,null,null,null,null,null,null,0,null,null,1,"Wkdy",18,12,null,null,null,null,null,null,null,null,0,"1/18 Hour 12",420]
[1,"Wkdy",18,13,null,null,null,null,null,null,null,null,0,null,null,1,"Wkdy",18,13,null,null,null,null,null,null,null,null,0,"1/18 Hour 13",421]
[1,"Wkdy",18,14,null,null,null,null,null,null,null,null,0,null,null,1,"Wkdy",18,14,null,null,null,null,null,null,null,null,0,"1/18 Hour 14",422]
[1,"Wkdy",18,15,null,null,null,null,null,null,null,null,0,null,null,1,"Wkdy",18,15,null,null,null,null,null,null,null,null,0,"1/18 Hour 15",423]
[1,"Wkdy",18,16,null,null,null,null,null,null,null,null,0,null,null,1,"Wkdy",18,16,null,null,null,null,null,null,null,null,0,"1/18 Hour 16",424]
[1,"Wkdy",18,17,null,null,null,null,null,null,null,null,0,null,null,1,"Wkdy",18,17,null,null,null,null,null,null,null,null,0,"1/18 Hour 17",425]
[1,"Wkdy",18,18,null,null,null,null,null,null,null,null,0,null,null,1,"Wkdy",18,18,null,null,null,null,null,null,null,null,0,"1/18 Hour 18",426]
[1,"Wkdy",18,19,null,null,null,null,null,null,null,null,0,null,null,1,"Wkdy",18,19,null,null,null,null,null,null,null,null,0,"1/18 Hour 19",427]
[1,"Wkdy",18,20,null,null,null,null,null,null,null,null,0,null,null,1,"Wkdy",18,20,null,null,null,null,null,null,null,null,0,"1/18 Hour 20",428]
[1,"Wkdy",18,21,null,null,null,null,null,null,null,null,0,null,null,1,"Wkdy",18,21,null,null,null,null,null,null,null,null,0,"1/18 Hour 21",429]
[1,"Wkdy",18,22,null,null,null,null,null,null,null,null,0,null,null,1,"Wkdy",18,22,null,null,null,null,null,null,null,null,0,"1/18 Hour 22",430]
[1,"Wkdy",18,23,null,null,null,null,null,null,null,null,0,null,null,1,"Wkdy",18,23,null,null,null,null,null,null,null,null,0,"1/18 Hour 23",431]
[1,"Wkdy",18,24,null,null,null,null,null,null,null,null,0,null,null,1,"Wkdy",18,24,null,null,null,null,null,null,null,null,0,"1/18 Hour 24",432]
[1,"Wkdy",19,1,null,null,null,null,null,null,null,null,0,null,null,1,"Wkdy",19,1,null,null,null,null,null,null,null,null,0,"1/19 Hour 1",433]
[1,"Wkdy",19,2,null,null,null,null,null,null,null,null,0,null,null,1,"Wkdy",19,2,null,null,null,null,null,null,null,null,0,"1/19 Hour 2",434]
[1,"Wkdy",19,3,null,null,null,null,null,null,null,null,0,null,null,1,"Wkdy",19,3,null,null,null,null,null,null,null,null,0,"1/19 Hour 3",435]
[1,"Wkdy",19,4,null,null,null,null,null,null,null,null,0,null,null,1,"Wkdy",19,4,null,null,null,null,null,null,null,null,0,"1/19 Hour 4",436]
[1,"Wkdy",19,5,null,null,null,null,null,null,null,null,0,null,null,1,"Wkdy",19,5,null,null,null,null,null,null,null,null,0,"1/19 Hour 5",437]
[1,"Wkdy",19,6,null,null,null,null,null,null,null,null,0,null,null,1,"Wkdy",19,6,null,null,null,null,null,null,null,null,0,"1/19 Hour 6",438]
[1,"Wkdy",19,7,null,null,null,null,null,null,null,null,0,null,null,1,"Wkdy",19,7,null,null,null,null,null,null,null,null,0,"1/19 Hour 7",439]
[1,"Wkdy",19,8,null,null,null,null,null,null,null,null,0,null,null,1,"Wkdy",19,8,null,null,null,null,null,null,null,null,0,"1/19 Hour 8",440]
[1,"Wkdy",19,9,null,null,null,null,null,null,null,null,0,null,null,1,"Wkdy",19,9,null,null,null,null,null,null,null,null,0,"1/19 Hour 9",441]
[1,"Wkdy",19,10,null,null,null,null,null,null,null,null,0,null,null,1,"Wkdy",19,10,null,null,null,null,null,null,null,null,0,"1/19 Hour 10",442]
[1,"Wkdy",19,11,null,null,null,null,null,null,null,null,0,null,null,1,"Wkdy",19,11,null,null,null,null,null,null,null,null,0,"1/19 Hour 11",443]
[1,"Wkdy",19,12,null,null,null,null,null,null,null,null,0,null,null,1,"Wkdy",19,12,null,null,null,null,null,null,null,null,0,"1/19 Hour 12",444]
[1,"Wkdy",19,13,null,null,null,null,null,null,null,null,0,null,null,1,"Wkdy",19,13,null,null,null,null,null,null,null,null,0,"1/19 Hour 13",445]
[1,"Wkdy",19,14,null,null,null,null,null,null,null,null,0,null,null,1,"Wkdy",19,14,null,null,null,null,null,null,null,null,0,"1/19 Hour 14",446]
[1,"Wkdy",19,15,null,null,null,null,null,null,null,null,0,null,null,1,"Wkdy",19,15,null,null,null,null,null,null,null,null,0,"1/19 Hour 15",447]
[1,"Wkdy",19,16,null,null,null,null,null,null,null,null,0,null,null,1,"Wkdy",19,16,null,null,null,null,null,null,null,null,0,"1/19 Hour 16",448]
[1,"Wkdy",19,17,null,null,null,null,null,null,null,null,0,null,null,1,"Wkdy",19,17,null,null,null,null,null,null,null,null,0,"1/19 Hour 17",449]
[1,"Wkdy",19,18,null,null,null,null,null,null,null,null,{"$f":"SUM(E453:L453)","v":0},null,null,1,"Wkdy",19,18,null,null,null,null,null,null,null,null,{"$f":"SUM(T453:AA453)","v":0},{"$f":"A453&\"/\"&C453&\" Hour \"&D453","v":"1/19 Hour 18"},{"$f":"ROW()-ROW($AD$3)","v":450}]
[1,"Wkdy",19,19,null,null,null,null,null,null,null,null,0,null,null,1,"Wkdy",19,19,null,null,null,null,null,null,null,null,0,"1/19 Hour 19",451]
[1,"Wkdy",19,20,null,null,null,null,null,null,null,null,0,null,null,1,"Wkdy",19,20,null,null,null,null,null,null,null,null,0,"1/19 Hour 20",452]
[1,"Wkdy",19,21,null,null,null,null,null,null,null,null,0,null,null,1,"Wkdy",19,21,null,null,null,null,null,null,null,null,0,"1/19 Hour 21",453]
[1,"Wkdy",19,22,null,null,null,null,null,null,null,null,0,null,null,1,"Wkdy",19,22,null,null,null,null,null,null,null,null,0,"1/19 Hour 22",454]
[1,"Wkdy",19,23,null,null,null,null,null,null,null,null,0,null,null,1,"Wkdy",19,23,null,null,null,null,null,null,null,null,0,"1/19 Hour 23",455]
[1,"Wkdy",19,24,null,null,null,null,null,null,null,null,0,null,null,1,"Wkdy",19,24,null,null,null,null,null,null,null,null,0,"1/19 Hour 24",456]
[1,"Wkdy",20,1,null,null,null,null,null,null,null,null,0,null,null,1,"Wkdy",20,1,null,null,null,null,null,null,null,null,0,"1/20 Hour 1",457]
[1,"Wkdy",20,2,null,null,null,null,null,null,null,null,0,null,null,1,"Wkdy",20,2,null,null,null,null,null,null,null,null,0,"1/20 Hour 2",458]
[1,"Wkdy",20,3,null,null,null,null,null,null,null,null,0,null,null,1,"Wkdy",20,3,null,null,null,null,null,null,null,null,0,"1/20 Hour 3",459]
[1,"Wkdy",20,4,null,null,null,null,null,null,null,null,0,null,null,1,"Wkdy",20,4,null,null,null,null,null,null,null,null,0,"1/20 Hour 4",460]
[1,"Wkdy",20,5,null,null,null,null,null,null,null,null,0,null,null,1,"Wkdy",20,5,null,null,null,null,null,null,null,null,0,"1/20 Hour 5",461]
[1,"Wkdy",20,6,null,null,null,null,null,null,null,null,0,null,null,1,"Wkdy",20,6,null,null,null,null,null,null,null,null,0,"1/20 Hour 6",462]
[1,"Wkdy",20,7,null,null,null,null,null,null,null,null,0,null,null,1,"Wkdy",20,7,null,null,null,null,null,null,null,null,0,"1/20 Hour 7",463]
[1,"Wkdy",20,8,null,null,null,null,null,null,null,null,0,null,null,1,"Wkdy",20,8,null,null,null,null,null,null,null,null,0,"1/20 Hour 8",464]
[1,"Wkdy",20,9,null,null,null,null,null,null,null,null,0,null,null,1,"Wkdy",20,9,null,null,null,null,null,null,null,null,0,"1/20 Hour 9",465]
[1,"Wkdy",20,10,null,null,null,null,null,null,null,null,0,null,null,1,"Wkdy",20,10,null,null,null,null,null,null,null,null,0,"1/20 Hour 10",466]
[1,"Wkdy",20,11,null,null,null,null,null,null,null,null,0,null,null,1,"Wkdy",20,11,null,null,null,null,null,null,null,null,0,"1/20 Hour 11",467]
[1,"Wkdy",20,12,null,null,null,null,null,null,null,null,0,null,null,1,"Wkdy",20,12,null,null,null,null,null,null,null,null,0,"1/20 Hour 12",468]
[1,"Wkdy",20,13,null,null,null,null,null,null,null,null,0,null,null,1,"Wkdy",20,13,null,null,null,null,null,null,null,null,0,"1/20 Hour 13",469]
[1,"Wkdy",20,14,null,null,null,null,null,null,null,null,0,null,null,1,"Wkdy",20,14,null,null,null,null,null,null,null,null,0,"1/20 Hour 14",470]
[1,"Wkdy",20,15,null,null,null,null,null,null,null,null,0,null,null,1,"Wkdy",20,15,null,null,null,null,null,null,null,null,0,"1/20 Hour 15",471]
[1,"Wkdy",20,16,null,null,null,null,null,null,null,null,0,null,null,1,"Wkdy",20,16,null,null,null,null,null,null,null,null,0,"1/20 Hour 16",472]
[1,"Wkdy",20,17,null,null,null,null,null,null,null,null,0,null,null,1,"Wkdy",20,17,null,null,null,null,null,null,null,null,0,"1/20 Hour 17",473]
[1,"Wkdy",20,18,null,null,null,null,null,null,null,null,0,null,null,1,"Wkdy",20,18,null,null,null,null,null,null,null,null,0,"1/20 Hour 18",474]
[1,"Wkdy",20,19,null,null,null,null,null,null,null,null,0,null,null,1,"Wkdy",20,19,null,null,null,null,null,null,null,null,0,"1/20 Hour 19",475]
[1,"Wkdy",20,20,null,null,null,null,null,null,null,null,0,null,null,1,"Wkdy",20,20,null,null,null,null,null,null,null,null,0,"1/20 Hour 20",476]
[1,"Wkdy",20,21,null,null,null,null,null,null,null,null,0,null,null,1,"Wkdy",20,21,null,null,null,null,null,null,null,null,0,"1/20 Hour 21",477]
[1,"Wkdy",20,22,null,null,null,null,null,null,null,null,0,null,null,1,"Wkdy",20,22,null,null,null,null,null,null,null,null,0,"1/20 Hour 22",478]
[1,"Wkdy",20,23,null,null,null,null,null,null,null,null,0,null,null,1,"Wkdy",20,23,null,null,null,null,null,null,null,null,0,"1/20 Hour 23",479]
[1,"Wkdy",20,24,null,null,null,null,null,null,null,null,0,null,null,1,"Wkdy",20,24,null,null,null,null,null,null,null,null,0,"1/20 Hour 24",480]
[1,"Sat",21,1,null,null,null,null,null,null,null,null,0,null,null,1,"Sat",21,1,null,null,null,null,null,null,null,null,0,"1/21 Hour 1",481]
[1,"Sat",21,2,null,null,null,null,null,null,null,null,0,null,null,1,"Sat",21,2,null,null,null,null,null,null,null,null,0,"1/21 Hour 2",482]
[1,"Sat",21,3,null,null,null,null,null,null,null,null,0,null,null,1,"Sat",21,3,null,null,null,null,null,null,null,null,0,"1/21 Hour 3",483]
[1,"Sat",21,4,null,null,null,null,null,null,null,null,0,null,null,1,"Sat",21,4,null,null,null,null,null,null,null,null,0,"1/21 Hour 4",484]
[1,"Sat",21,5,null,null,null,null,null,null,null,null,0,null,null,1,"Sat",21,5,null,null,null,null,null,null,null,null,0,"1/21 Hour 5",485]
[1,"Sat",21,6,null,null,null,null,null,null,null,null,0,null,null,1,"Sat",21,6,null,null,null,null,null,null,null,null,0,"1/21 Hour 6",486]
[1,"Sat",21,7,null,null,null,null,null,null,null,null,0,null,null,1,"Sat",21,7,null,null,null,null,null,null,null,null,0,"1/21 Hour 7",487]
[1,"Sat",21,8,null,null,null,null,null,null,null,null,0,null,null,1,"Sat",21,8,null,null,null,null,null,null,null,null,0,"1/21 Hour 8",488]
[1,"Sat",21,9,null,null,null,null,null,null,null,null,0,null,null,1,"Sat",21,9,null,null,null,null,null,null,null,null,0,"1/21 Hour 9",489]
[1,"Sat",21,10,null,null,null,null,null,null,null,null,0,null,null,1,"Sat",21,10,null,null,null,null,null,null,null,null,0,"1/21 Hour 10",490]
[1,"Sat",21,11,null,null,null,null,null,null,null,null,0,null,null,1,"Sat",21,11,null,null,null,null,null,null,null,null,0,"1/21 Hour 11",491]
[1,"Sat",21,12,null,null,null,null,null,null,null,null,0,null,null,1,"Sat",21,12,null,null,null,null,null,null,null,null,0,"1/21 Hour 12",492]
[1,"Sat",21,13,null,null,null,null,null,null,null,null,0,null,null,1,"Sat",21,13,null,null,null,null,null,null,null,null,0,"1/21 Hour 13",493]
[1,"Sat",21,14,null,null,null,null,null,null,null,null,0,null,null,1,"Sat",21,14,null,null,null,null,null,null,null,null,0,"1/21 Hour 14",494]
[1,"Sat",21,15,null,null,null,null,null,null,null,null,0,null,null,1,"Sat",21,15,null,null,null,null,null,null,null,null,0,"1/21 Hour 15",495]
[1,"Sat",21,16,null,null,null,null,null,null,null,null,0,null,null,1,"Sat",21,16,null,null,null,null,null,null,null,null,0,"1/21 Hour 16",496]
[1,"Sat",21,17,null,null,null,null,null,null,null,null,0,null,null,1,"Sat",21,17,null,null,null,null,null,null,null,null,0,"1/21 Hour 17",497]
[1,"Sat",21,18,null,null,null,null,null,null,null,null,0,null,null,1,"Sat",21,18,null,null,null,null,null,null,null,null,0,"1/21 Hour 18",498]
[1,"Sat",21,19,null,null,null,null,null,null,null,null,0,null,null,1,"Sat",21,19,null,null,null,null,null,null,null,null,0,"1/21 Hour 19",499]
[1,"Sat",21,20,null,null,null,null,null,null,null,null,0,null,null,1,"Sat",21,20,null,null,null,null,null,null,null,null,0,"1/21 Hour 20",500]
[1,"Sat",21,21,null,null,null,null,null,null,null,null,0,null,null,1,"Sat",21,21,null,null,null,null,null,null,null,null,0,"1/21 Hour 21",501]
[1,"Sat",21,22,null,null,null,null,null,null,null,null,0,null,null,1,"Sat",21,22,null,null,null,null,null,null,null,null,0,"1/21 Hour 22",502]
[1,"Sat",21,23,null,null,null,null,null,null,null,null,0,null,null,1,"Sat",21,23,null,null,null,null,null,null,null,null,0,"1/21 Hour 23",503]
[1,"Sat",21,24,null,null,null,null,null,null,null,null,0,null,null,1,"Sat",21,24,null,null,null,null,null,null,null,null,0,"1/21 Hour 24",504]
[1,"Sun",22,1,null,null,null,null,null,null,null,null,0,null,null,1,"Sun",22,1,null,null,null,null,null,null,null,null,0,"1/22 Hour 1",505]
[1,"Sun",22,2,null,null,null,null,null,null,null,null,0,null,null,1,"Sun",22,2,null,null,null,null,null,null,null,null,0,"1/22 Hour 2",506]
[1,"Sun",22,3,null,null,null,null,null,null,null,null,0,null,null,1,"Sun",22,3,null,null,null,null,null,null,null,null,0,"1/22 Hour 3",507]
[1,"Sun",22,4,null,null,null,null,null,null,null,null,0,null,null,1,"Sun",22,4,null,null,null,null,null,null,null,null,0,"1/22 Hour 4",508]
[1,"Sun",22,5,null,null,null,null,null,null,null,null,0,null,null,1,"Sun",22,5,null,null,null,null,null,null,null,null,0,"1/22 Hour 5",509]
[1,"Sun",22,6,null,null,null,null,null,null,null,null,0,null,null,1,"Sun",22,6,null,null,null,null,null,null,null,null,0,"1/22 Hour 6",510]
[1,"Sun",22,7,null,null,null,null,null,null,null,null,0,null,null,1,"Sun",22,7,null,null,null,null,null,null,null,null,0,"1/22 Hour 7",511]
[1,"Sun",22,8,null,null,null,null,null,null,null,null,0,null,null,1,"Sun",22,8,null,null,null,null,null,null,null,null,0,"1/22 Hour 8",512]
[1,"Sun",22,9,null,null,null,null,null,null,null,null,0,null,null,1,"Sun",22,9,null,null,null,null,null,null,null,null,0,"1/22 Hour 9",513]
[1,"Sun",22,10,null,null,null,null,null,null,null,null,{"$f":"SUM(E517:L517)","v":0},null,null,1,"Sun",22,10,null,null,null,null,null,null,null,null,{"$f":"SUM(T517:AA517)","v":0},{"$f":"A517&\"/\"&C517&\" Hour \"&D517","v":"1/22 Hour 10"},{"$f":"ROW()-ROW($AD$3)","v":514}]
[1,"Sun",22,11,null,null,null,null,null,null,null,null,0,null,null,1,"Sun",22,11,null,null,null,null,null,null,null,null,0,"1/22 Hour 11",515]
[1,"Sun",22,12,null,null,null,null,null,null,null,null,0,null,null,1,"Sun",22,12,null,null,null,null,null,null,null,null,0,"1/22 Hour 12",516]
[1,"Sun",22,13,null,null,null,null,null,null,null,null,0,null,null,1,"Sun",22,13,null,null,null,null,null,null,null,null,0,"1/22 Hour 13",517]
[1,"Sun",22,14,null,null,null,null,null,null,null,null,0,null,null,1,"Sun",22,14,null,null,null,null,null,null,null,null,0,"1/22 Hour 14",518]
[1,"Sun",22,15,null,null,null,null,null,null,null,null,0,null,null,1,"Sun",22,15,null,null,null,null,null,null,null,null,0,"1/22 Hour 15",519]
[1,"Sun",22,16,null,null,null,null,null,null,null,null,0,null,null,1,"Sun",22,16,null,null,null,null,null,null,null,null,0,"1/22 Hour 16",520]
[1,"Sun",22,17,null,null,null,null,null,null,null,null,0,null,null,1,"Sun",22,17,null,null,null,null,null,null,null,null,0,"1/22 Hour 17",521]
[1,"Sun",22,18,null,null,null,null,null,null,null,null,0,null,null,1,"Sun",22,18,null,null,null,null,null,null,null,null,0,"1/22 Hour 18",522]
[1,"Sun",22,19,null,null,null,null,null,null,null,null,0,null,null,1,"Sun",22,19,null,null,null,null,null,null,null,null,0,"1/22 Hour 19",523]
[1,"Sun",22,20,null,null,null,null,null,null,null,null,0,null,null,1,"Sun",22,20,null,null,null,null,null,null,null,null,0,"1/22 Hour 20",524]
[1,"Sun",22,21,null,null,null,null,null,null,null,null,0,null,null,1,"Sun",22,21,null,null,null,null,null,null,null,null,0,"1/22 Hour 21",525]
[1,"Sun",22,22,null,null,null,null,null,null,null,null,0,null,null,1,"Sun",22,22,null,null,null,null,null,null,null,null,0,"1/22 Hour 22",526]
[1,"Sun",22,23,null,null,null,null,null,null,null,null,0,null,null,1,"Sun",22,23,null,null,null,null,null,null,null,null,0,"1/22 Hour 23",527]
[1,"Sun",22,24,null,null,null,null,null,null,null,null,0,null,null,1,"Sun",22,24,null,null,null,null,null,null,null,null,0,"1/22 Hour 24",528]
[1,"Wkdy",23,1,null,null,null,null,null,null,null,null,0,null,null,1,"Wkdy",23,1,null,null,null,null,null,null,null,null,0,"1/23 Hour 1",529]
[1,"Wkdy",23,2,null,null,null,null,null,null,null,null,0,null,null,1,"Wkdy",23,2,null,null,null,null,null,null,null,null,0,"1/23 Hour 2",530]
[1,"Wkdy",23,3,null,null,null,null,null,null,null,null,0,null,null,1,"Wkdy",23,3,null,null,null,null,null,null,null,null,0,"1/23 Hour 3",531]
[1,"Wkdy",23,4,null,null,null,null,null,null,null,null,0,null,null,1,"Wkdy",23,4,null,null,null,null,null,null,null,null,0,"1/23 Hour 4",532]
[1,"Wkdy",23,5,null,null,null,null,null,null,null,null,0,null,null,1,"Wkdy",23,5,null,null,null,null,null,null,null,null,0,"1/23 Hour 5",533]
[1,"Wkdy",23,6,null,null,null,null,null,null,null,null,0,null,null,1,"Wkdy",23,6,null,null,null,null,null,null,null,null,0,"1/23 Hour 6",534]
[1,"Wkdy",23,7,null,null,null,null,null,null,null,null,0,null,null,1,"Wkdy",23,7,null,null,null,null,null,null,null,null,0,"1/23 Hour 7",535]
[1,"Wkdy",23,8,null,null,null,null,null,null,null,null,0,null,null,1,"Wkdy",23,8,null,null,null,null,null,null,null,null,0,"1/23 Hour 8",536]
[1,"Wkdy",23,9,null,null,null,null,null,null,null,null,0,null,null,1,"Wkdy",23,9,null,null,null,null,null,null,null,null,0,"1/23 Hour 9",537]
[1,"Wkdy",23,10,null,null,null,null,null,null,null,null,0,null,null,1,"Wkdy",23,10,null,null,null,null,null,null,null,null,0,"1/23 Hour 10",538]
[1,"Wkdy",23,11,null,null,null,null,null,null,null,null,0,null,null,1,"Wkdy",23,11,null,null,null,null,null,null,null,null,0,"1/23 Hour 11",539]
[1,"Wkdy",23,12,null,null,null,null,null,null,null,null,0,null,null,1,"Wkdy",23,12,null,null,null,null,null,null,null,null,0,"1/23 Hour 12",540]
[1,"Wkdy",23,13,null,null,null,null,null,null,null,null,0,null,null,1,"Wkdy",23,13,null,null,null,null,null,null,null,null,0,"1/23 Hour 13",541]
[1,"Wkdy",23,14,null,null,null,null,null,null,null,null,0,null,null,1,"Wkdy",23,14,null,null,null,null,null,null,null,null,0,"1/23 Hour 14",542]
[1,"Wkdy",23,15,null,null,null,null,null,null,null,null,0,null,null,1,"Wkdy",23,15,null,null,null,null,null,null,null,null,0,"1/23 Hour 15",543]
[1,"Wkdy",23,16,null,null,null,null,null,null,null,null,0,null,null,1,"Wkdy",23,16,null,null,null,null,null,null,null,null,0,"1/23 Hour 16",544]
[1,"Wkdy",23,17,null,null,null,null,null,null,null,null,0,null,null,1,"Wkdy",23,17,null,null,null,null,null,null,null,null,0,"1/23 Hour 17",545]
[1,"Wkdy",23,18,null,null,null,null,null,null,null,null,0,null,null,1,"Wkdy",23,18,null,null,null,null,null,null,null,null,0,"1/23 Hour 18",546]
[1,"Wkdy",23,19,null,null,null,null,null,null,null,null,0,null,null,1,"Wkdy",23,19,null,null,null,null,null,null,null,null,0,"1/23 Hour 19",547]
[1,"Wkdy",23,20,null,null,null,null,null,null,null,null,0,null,null,1,"Wkdy",23,20,null,null,null,null,null,null,null,null,0,"1/23 Hour 20",548]
[1,"Wkdy",23,21,null,null,null,null,null,null,null,null,0,null,null,1,"Wkdy",23,21,null,null,null,null,null,null,null,null,0,"1/23 Hour 21",549]
[1,"Wkdy",23,22,null,null,null,null,null,null,null,null,0,null,null,1,"Wkdy",23,22,null,null,null,null,null,null,null,null,0,"1/23 Hour 22",550]
[1,"Wkdy",23,23,null,null,null,null,null,null,null,null,0,null,null,1,"Wkdy",23,23,null,null,null,null,null,null,null,null,0,"1/23 Hour 23",551]
[1,"Wkdy",23,24,null,null,null,null,null,null,null,null,0,null,null,1,"Wkdy",23,24,null,null,null,null,null,null,null,null,0,"1/23 Hour 24",552]
[1,"Wkdy",24,1,null,null,null,null,null,null,null,null,0,null,null,1,"Wkdy",24,1,null,null,null,null,null,null,null,null,0,"1/24 Hour 1",553]
[1,"Wkdy",24,2,null,null,null,null,null,null,null,null,0,null,null,1,"Wkdy",24,2,null,null,null,null,null,null,null,null,0,"1/24 Hour 2",554]
[1,"Wkdy",24,3,null,null,null,null,null,null,null,null,0,null,null,1,"Wkdy",24,3,null,null,null,null,null,null,null,null,0,"1/24 Hour 3",555]
[1,"Wkdy",24,4,null,null,null,null,null,null,null,null,0,null,null,1,"Wkdy",24,4,null,null,null,null,null,null,null,null,0,"1/24 Hour 4",556]
[1,"Wkdy",24,5,null,null,null,null,null,null,null,null,0,null,null,1,"Wkdy",24,5,null,null,null,null,null,null,null,null,0,"1/24 Hour 5",557]
[1,"Wkdy",24,6,null,null,null,null,null,null,null,null,0,null,null,1,"Wkdy",24,6,null,null,null,null,null,null,null,null,0,"1/24 Hour 6",558]
[1,"Wkdy",24,7,null,null,null,null,null,null,null,null,0,null,null,1,"Wkdy",24,7,null,null,null,null,null,null,null,null,0,"1/24 Hour 7",559]
[1,"Wkdy",24,8,null,null,null,null,null,null,null,null,0,null,null,1,"Wkdy",24,8,null,null,null,null,null,null,null,null,0,"1/24 Hour 8",560]
[1,"Wkdy",24,9,null,null,null,null,null,null,null,null,0,null,null,1,"Wkdy",24,9,null,null,null,null,null,null,null,null,0,"1/24 Hour 9",561]
[1,"Wkdy",24,10,null,null,null,null,null,null,null,null,0,null,null,1,"Wkdy",24,10,null,null,null,null,null,null,null,null,0,"1/24 Hour 10",562]
[1,"Wkdy",24,11,null,null,null,null,null,null,null,null,0,null,null,1,"Wkdy",24,11,null,null,null,null,null,null,null,null,0,"1/24 Hour 11",563]
[1,"Wkdy",24,12,null,null,null,null,null,null,null,null,0,null,null,1,"Wkdy",24,12,null,null,null,null,null,null,null,null,0,"1/24 Hour 12",564]
[1,"Wkdy",24,13,null,null,null,null,null,null,null,null,0,null,null,1,"Wkdy",24,13,null,null,null,null,null,null,null,null,0,"1/24 Hour 13",565]
[1,"Wkdy",24,14,null,null,null,null,null,null,null,null,0,null,null,1,"Wkdy",24,14,null,null,null,null,null,null,null,null,0,"1/24 Hour 14",566]
[1,"Wkdy",24,15,null,null,null,null,null,null,null,null,0,null,null,1,"Wkdy",24,15,null,null,null,null,null,null,null,null,0,"1/24 Hour 15",567]
[1,"Wkdy",24,16,null,null,null,null,null,null,null,null,0,null,null,1,"Wkdy",24,16,null,null,null,null,null,null,null,null,0,"1/24 Hour 16",568]
[1,"Wkdy",24,17,null,null,null,null,null,null,null,null,0,null,null,1,"Wkdy",24,17,null,null,null,null,null,null,null,null,0,"1/24 Hour 17",569]
[1,"Wkdy",24,18,null,null,null,null,null,null,null,null,0,null,null,1,"Wkdy",24,18,null,null,null,null,null,null,null,null,0,"1/24 Hour 18",570]
[1,"Wkdy",24,19,null,null,null,null,null,null,null,null,0,null,null,1,"Wkdy",24,19,null,null,null,null,null,null,null,null,0,"1/24 Hour 19",571]
[1,"Wkdy",24,20,null,null,null,null,null,null,null,null,0,null,null,1,"Wkdy",24,20,null,null,null,null,null,null,null,null,0,"1/24 Hour 20",572]
[1,"Wkdy",24,21,null,null,null,null,null,null,null,null,0,null,null,1,"Wkdy",24,21,null,null,null,null,null,null,null,null,0,"1/24 Hour 21",573]
[1,"Wkdy",24,22,null,null,null,null,null,null,null,null,0,null,null,1,"Wkdy",24,22,null,null,null,null,null,null,null,null,0,"1/24 Hour 22",574]
[1,"Wkdy",24,23,null,null,null,null,null,null,null,null,0,null,null,1,"Wkdy",24,23,null,null,null,null,null,null,null,null,0,"1/24 Hour 23",575]
[1,"Wkdy",24,24,null,null,null,null,null,null,null,null,0,null,null,1,"Wkdy",24,24,null,null,null,null,null,null,null,null,0,"1/24 Hour 24",576]
[1,"Wkdy",25,1,null,null,null,null,null,null,null,null,0,null,null,1,"Wkdy",25,1,null,null,null,null,null,null,null,null,0,"1/25 Hour 1",577]
[1,"Wkdy",25,2,null,null,null,null,null,null,null,null,{"$f":"SUM(E581:L581)","v":0},null,null,1,"Wkdy",25,2,null,null,null,null,null,null,null,null,{"$f":"SUM(T581:AA581)","v":0},{"$f":"A581&\"/\"&C581&\" Hour \"&D581","v":"1/25 Hour 2"},{"$f":"ROW()-ROW($AD$3)","v":578}]
[1,"Wkdy",25,3,null,null,null,null,null,null,null,null,0,null,null,1,"Wkdy",25,3,null,null,null,null,null,null,null,null,0,"1/25 Hour 3",579]
[1,"Wkdy",25,4,null,null,null,null,null,null,null,null,0,null,null,1,"Wkdy",25,4,null,null,null,null,null,null,null,null,0,"1/25 Hour 4",580]
[1,"Wkdy",25,5,null,null,null,null,null,null,null,null,0,null,null,1,"Wkdy",25,5,null,null,null,null,null,null,null,null,0,"1/25 Hour 5",581]
[1,"Wkdy",25,6,null,null,null,null,null,null,null,null,0,null,null,1,"Wkdy",25,6,null,null,null,null,null,null,null,null,0,"1/25 Hour 6",582]
[1,"Wkdy",25,7,null,null,null,null,null,null,null,null,0,null,null,1,"Wkdy",25,7,null,null,null,null,null,null,null,null,0,"1/25 Hour 7",583]
[1,"Wkdy",25,8,null,null,null,null,null,null,null,null,0,null,null,1,"Wkdy",25,8,null,null,null,null,null,null,null,null,0,"1/25 Hour 8",584]
[1,"Wkdy",25,9,null,null,null,null,null,null,null,null,0,null,null,1,"Wkdy",25,9,null,null,null,null,null,null,null,null,0,"1/25 Hour 9",585]
[1,"Wkdy",25,10,null,null,null,null,null,null,null,null,0,null,null,1,"Wkdy",25,10,null,null,null,null,null,null,null,null,0,"1/25 Hour 10",586]
[1,"Wkdy",25,11,null,null,null,null,null,null,null,null,0,null,null,1,"Wkdy",25,11,null,null,null,null,null,null,null,null,0,"1/25 Hour 11",587]
[1,"Wkdy",25,12,null,null,null,null,null,null,null,null,0,null,null,1,"Wkdy",25,12,null,null,null,null,null,null,null,null,0,"1/25 Hour 12",588]
[1,"Wkdy",25,13,null,null,null,null,null,null,null,null,0,null,null,1,"Wkdy",25,13,null,null,null,null,null,null,null,null,0,"1/25 Hour 13",589]
[1,"Wkdy",25,14,null,null,null,null,null,null,null,null,0,null,null,1,"Wkdy",25,14,null,null,null,null,null,null,null,null,0,"1/25 Hour 14",590]
[1,"Wkdy",25,15,null,null,null,null,null,null,null,null,0,null,null,1,"Wkdy",25,15,null,null,null,null,null,null,null,null,0,"1/25 Hour 15",591]
[1,"Wkdy",25,16,null,null,null,null,null,null,null,null,0,null,null,1,"Wkdy",25,16,null,null,null,null,null,null,null,null,0,"1/25 Hour 16",592]
[1,"Wkdy",25,17,null,null,null,null,null,null,null,null,0,null,null,1,"Wkdy",25,17,null,null,null,null,null,null,null,null,0,"1/25 Hour 17",593]
[1,"Wkdy",25,18,null,null,null,null,null,null,null,null,0,null,null,1,"Wkdy",25,18,null,null,null,null,null,null,null,null,0,"1/25 Hour 18",594]
[1,"Wkdy",25,19,null,null,null,null,null,null,null,null,0,null,null,1,"Wkdy",25,19,null,null,null,null,null,null,null,null,0,"1/25 Hour 19",595]
[1,"Wkdy",25,20,null,null,null,null,null,null,null,null,0,null,null,1,"Wkdy",25,20,null,null,null,null,null,null,null,null,0,"1/25 Hour 20",596]
[1,"Wkdy",25,21,null,null,null,null,null,null,null,null,0,null,null,1,"Wkdy",25,21,null,null,null,null,null,null,null,null,0,"1/25 Hour 21",597]
[1,"Wkdy",25,22,null,null,null,null,null,null,null,null,0,null,null,1,"Wkdy",25,22,null,null,null,null,null,null,null,null,0,"1/25 Hour 22",598]
[1,"Wkdy",25,23,null,null,null,null,null,null,null,null,0,null,null,1,"Wkdy",25,23,null,null,null,null,null,null,null,null,0,"1/25 Hour 23",599]
[1,"Wkdy",25,24,null,null,null,null,null,null,null,null,0,null,null,1,"Wkdy",25,24,null,null,null,null,null,null,null,null,0,"1/25 Hour 24",600]
[1,"Wkdy",26,1,null,null,null,null,null,null,null,null,0,null,null,1,"Wkdy",26,1,null,null,null,null,null,null,null,null,0,"1/26 Hour 1",601]
[1,"Wkdy",26,2,null,null,null,null,null,null,null,null,0,null,null,1,"Wkdy",26,2,null,null,null,null,null,null,null,null,0,"1/26 Hour 2",602]
[1,"Wkdy",26,3,null,null,null,null,null,null,null,null,0,null,null,1,"Wkdy",26,3,null,null,null,null,null,null,null,null,0,"1/26 Hour 3",603]
[1,"Wkdy",26,4,null,null,null,null,null,null,null,null,0,null,null,1,"Wkdy",26,4,null,null,null,null,null,null,null,null,0,"1/26 Hour 4",604]
[1,"Wkdy",26,5,null,null,null,null,null,null,null,null,0,null,null,1,"Wkdy",26,5,null,null,null,null,null,null,null,null,0,"1/26 Hour 5",605]
[1,"Wkdy",26,6,null,null,null,null,null,null,null,null,0,null,null,1,"Wkdy",26,6,null,null,null,null,null,null,null,null,0,"1/26 Hour 6",606]
[1,"Wkdy",26,7,null,null,null,null,null,null,null,null,0,null,null,1,"Wkdy",26,7,null,null,null,null,null,null,null,null,0,"1/26 Hour 7",607]
[1,"Wkdy",26,8,null,null,null,null,null,null,null,null,0,null,null,1,"Wkdy",26,8,null,null,null,null,null,null,null,null,0,"1/26 Hour 8",608]
[1,"Wkdy",26,9,null,null,null,null,null,null,null,null,0,null,null,1,"Wkdy",26,9,null,null,null,null,null,null,null,null,0,"1/26 Hour 9",609]
[1,"Wkdy",26,10,null,null,null,null,null,null,null,null,0,null,null,1,"Wkdy",26,10,null,null,null,null,null,null,null,null,0,"1/26 Hour 10",610]
[1,"Wkdy",26,11,null,null,null,null,null,null,null,null,0,null,null,1,"Wkdy",26,11,null,null,null,null,null,null,null,null,0,"1/26 Hour 11",611]
[1,"Wkdy",26,12,null,null,null,null,null,null,null,null,0,null,null,1,"Wkdy",26,12,null,null,null,null,null,null,null,null,0,"1/26 Hour 12",612]
[1,"Wkdy",26,13,null,null,null,null,null,null,null,null,0,null,null,1,"Wkdy",26,13,null,null,null,null,null,null,null,null,0,"1/26 Hour 13",613]
[1,"Wkdy",26,14,null,null,null,null,null,null,null,null,0,null,null,1,"Wkdy",26,14,null,null,null,null,null,null,null,null,0,"1/26 Hour 14",614]
[1,"Wkdy",26,15,null,null,null,null,null,null,null,null,0,null,null,1,"Wkdy",26,15,null,null,null,null,null,null,null,null,0,"1/26 Hour 15",615]
[1,"Wkdy",26,16,null,null,null,null,null,null,null,null,0,null,null,1,"Wkdy",26,16,null,null,null,null,null,null,null,null,0,"1/26 Hour 16",616]
[1,"Wkdy",26,17,null,null,null,null,null,null,null,null,0,null,null,1,"Wkdy",26,17,null,null,null,null,null,null,null,null,0,"1/26 Hour 17",617]
[1,"Wkdy",26,18,null,null,null,null,null,null,null,null,0,null,null,1,"Wkdy",26,18,null,null,null,null,null,null,null,null,0,"1/26 Hour 18",618]
[1,"Wkdy",26,19,null,null,null,null,null,null,null,null,0,null,null,1,"Wkdy",26,19,null,null,null,null,null,null,null,null,0,"1/26 Hour 19",619]
[1,"Wkdy",26,20,null,null,null,null,null,null,null,null,0,null,null,1,"Wkdy",26,20,null,null,null,null,null,null,null,null,0,"1/26 Hour 20",620]
[1,"Wkdy",26,21,null,null,null,null,null,null,null,null,0,null,null,1,"Wkdy",26,21,null,null,null,null,null,null,null,null,0,"1/26 Hour 21",621]
[1,"Wkdy",26,22,null,null,null,null,null,null,null,null,0,null,null,1,"Wkdy",26,22,null,null,null,null,null,null,null,null,0,"1/26 Hour 22",622]
[1,"Wkdy",26,23,null,null,null,null,null,null,null,null,0,null,null,1,"Wkdy",26,23,null,null,null,null,null,null,null,null,0,"1/26 Hour 23",623]
[1,"Wkdy",26,24,null,null,null,null,null,null,null,null,0,null,null,1,"Wkdy",26,24,null,null,null,null,null,null,null,null,0,"1/26 Hour 24",624]
[1,"Wkdy",27,1,null,null,null,null,null,null,null,null,0,null,null,1,"Wkdy",27,1,null,null,null,null,null,null,null,null,0,"1/27 Hour 1",625]
[1,"Wkdy",27,2,null,null,null,null,null,null,null,null,0,null,null,1,"Wkdy",27,2,null,null,null,null,null,null,null,null,0,"1/27 Hour 2",626]
[1,"Wkdy",27,3,null,null,null,null,null,null,null,null,0,null,null,1,"Wkdy",27,3,null,null,null,null,null,null,null,null,0,"1/27 Hour 3",627]
[1,"Wkdy",27,4,null,null,null,null,null,null,null,null,0,null,null,1,"Wkdy",27,4,null,null,null,null,null,null,null,null,0,"1/27 Hour 4",628]
[1,"Wkdy",27,5,null,null,null,null,null,null,null,null,0,null,null,1,"Wkdy",27,5,null,null,null,null,null,null,null,null,0,"1/27 Hour 5",629]
[1,"Wkdy",27,6,null,null,null,null,null,null,null,null,0,null,null,1,"Wkdy",27,6,null,null,null,null,null,null,null,null,0,"1/27 Hour 6",630]
[1,"Wkdy",27,7,null,null,null,null,null,null,null,null,0,null,null,1,"Wkdy",27,7,null,null,null,null,null,null,null,null,0,"1/27 Hour 7",631]
[1,"Wkdy",27,8,null,null,null,null,null,null,null,null,0,null,null,1,"Wkdy",27,8,null,null,null,null,null,null,null,null,0,"1/27 Hour 8",632]
[1,"Wkdy",27,9,null,null,null,null,null,null,null,null,0,null,null,1,"Wkdy",27,9,null,null,null,null,null,null,null,null,0,"1/27 Hour 9",633]
[1,"Wkdy",27,10,null,null,null,null,null,null,null,null,0,null,null,1,"Wkdy",27,10,null,null,null,null,null,null,null,null,0,"1/27 Hour 10",634]
[1,"Wkdy",27,11,null,null,null,null,null,null,null,null,0,null,null,1,"Wkdy",27,11,null,null,null,null,null,null,null,null,0,"1/27 Hour 11",635]
[1,"Wkdy",27,12,null,null,null,null,null,null,null,null,0,null,null,1,"Wkdy",27,12,null,null,null,null,null,null,null,null,0,"1/27 Hour 12",636]
[1,"Wkdy",27,13,null,null,null,null,null,null,null,null,0,null,null,1,"Wkdy",27,13,null,null,null,null,null,null,null,null,0,"1/27 Hour 13",637]
[1,"Wkdy",27,14,null,null,null,null,null,null,null,null,0,null,null,1,"Wkdy",27,14,null,null,null,null,null,null,null,null,0,"1/27 Hour 14",638]
[1,"Wkdy",27,15,null,null,null,null,null,null,null,null,0,null,null,1,"Wkdy",27,15,null,null,null,null,null,null,null,null,0,"1/27 Hour 15",639]
[1,"Wkdy",27,16,null,null,null,null,null,null,null,null,0,null,null,1,"Wkdy",27,16,null,null,null,null,null,null,null,null,0,"1/27 Hour 16",640]
[1,"Wkdy",27,17,null,null,null,null,null,null,null,null,0,null,null,1,"Wkdy",27,17,null,null,null,null,null,null,null,null,0,"1/27 Hour 17",641]
[1,"Wkdy",27,18,null,null,null,null,null,null,null,null,{"$f":"SUM(E645:L645)","v":0},null,null,1,"Wkdy",27,18,null,null,null,null,null,null,null,null,{"$f":"SUM(T645:AA645)","v":0},{"$f":"A645&\"/\"&C645&\" Hour \"&D645","v":"1/27 Hour 18"},{"$f":"ROW()-ROW($AD$3)","v":642}]
[1,"Wkdy",27,19,null,null,null,null,null,null,null,null,0,null,null,1,"Wkdy",27,19,null,null,null,null,null,null,null,null,0,"1/27 Hour 19",643]
[1,"Wkdy",27,20,null,null,null,null,null,null,null,null,0,null,null,1,"Wkdy",27,20,null,null,null,null,null,null,null,null,0,"1/27 Hour 20",644]
[1,"Wkdy",27,21,null,null,null,null,null,null,null,null,0,null,null,1,"Wkdy",27,21,null,null,null,null,null,null,null,null,0,"1/27 Hour 21",645]
[1,"Wkdy",27,22,null,null,null,null,null,null,null,null,0,null,null,1,"Wkdy",27,22,null,null,null,null,null,null,null,null,0,"1/27 Hour 22",646]
[1,"Wkdy",27,23,null,null,null,null,null,null,null,null,0,null,null,1,"Wkdy",27,23,null,null,null,null,null,null,null,null,0,"1/27 Hour 23",647]
[1,"Wkdy",27,24,null,null,null,null,null,null,null,null,0,null,null,1,"Wkdy",27,24,null,null,null,null,null,null,null,null,0,"1/27 Hour 24",648]
[1,"Sat",28,1,null,null,null,null,null,null,null,null,0,null,null,1,"Sat",28,1,null,null,null,null,null,null,null,null,0,"1/28 Hour 1",649]
[1,"Sat",28,2,null,null,null,null,null,null,null,null,0,null,null,1,"Sat",28,2,null,null,null,null,null,null,null,null,0,"1/28 Hour 2",650]
[1,"Sat",28,3,null,null,null,null,null,null,null,null,0,null,null,1,"Sat",28,3,null,null,null,null,null,null,null,null,0,"1/28 Hour 3",651]
[1,"Sat",28,4,null,null,null,null,null,null,null,null,0,null,null,1,"Sat",28,4,null,null,null,null,null,null,null,null,0,"1/28 Hour 4",652]
[1,"Sat",28,5,null,null,null,null,null,null,null,null,0,null,null,1,"Sat",28,5,null,null,null,null,null,null,null,null,0,"1/28 Hour 5",653]
[1,"Sat",28,6,null,null,null,null,null,null,null,null,0,null,null,1,"Sat",28,6,null,null,null,null,null,null,null,null,0,"1/28 Hour 6",654]
[1,"Sat",28,7,null,null,null,null,null,null,null,null,0,null,null,1,"Sat",28,7,null,null,null,null,null,null,null,null,0,"1/28 Hour 7",655]
[1,"Sat",28,8,null,null,null,null,null,null,null,null,0,null,null,1,"Sat",28,8,null,null,null,null,null,null,null,null,0,"1/28 Hour 8",656]
[1,"Sat",28,9,null,null,null,null,null,null,null,null,0,null,null,1,"Sat",28,9,null,null,null,null,null,null,null,null,0,"1/28 Hour 9",657]
[1,"Sat",28,10,null,null,null,null,null,null,null,null,0,null,null,1,"Sat",28,10,null,null,null,null,null,null,null,null,0,"1/28 Hour 10",658]
[1,"Sat",28,11,null,null,null,null,null,null,null,null,0,null,null,1,"Sat",28,11,null,null,null,null,null,null,null,null,0,"1/28 Hour 11",659]
[1,"Sat",28,12,null,null,null,null,null,null,null,null,0,null,null,1,"Sat",28,12,null,null,null,null,null,null,null,null,0,"1/28 Hour 12",660]
[1,"Sat",28,13,null,null,null,null,null,null,null,null,0,null,null,1,"Sat",28,13,null,null,null,null,null,null,null,null,0,"1/28 Hour 13",661]
[1,"Sat",28,14,null,null,null,null,null,null,null,null,0,null,null,1,"Sat",28,14,null,null,null,null,null,null,null,null,0,"1/28 Hour 14",662]
[1,"Sat",28,15,null,null,null,null,null,null,null,null,0,null,null,1,"Sat",28,15,null,null,null,null,null,null,null,null,0,"1/28 Hour 15",663]
[1,"Sat",28,16,null,null,null,null,null,null,null,null,0,null,null,1,"Sat",28,16,null,null,null,null,null,null,null,null,0,"1/28 Hour 16",664]
[1,"Sat",28,17,null,null,null,null,null,null,null,null,0,null,null,1,"Sat",28,17,null,null,null,null,null,null,null,null,0,"1/28 Hour 17",665]
[1,"Sat",28,18,null,null,null,null,null,null,null,null,0,null,null,1,"Sat",28,18,null,null,null,null,null,null,null,null,0,"1/28 Hour 18",666]
[1,"Sat",28,19,null,null,null,null,null,null,null,null,0,null,null,1,"Sat",28,19,null,null,null,null,null,null,null,null,0,"1/28 Hour 19",667]
[1,"Sat",28,20,null,null,null,null,null,null,null,null,0,null,null,1,"Sat",28,20,null,null,null,null,null,null,null,null,0,"1/28 Hour 20",668]
[1,"Sat",28,21,null,null,null,null,null,null,null,null,0,null,null,1,"Sat",28,21,null,null,null,null,null,null,null,null,0,"1/28 Hour 21",669]
[1,"Sat",28,22,null,null,null,null,null,null,null,null,0,null,null,1,"Sat",28,22,null,null,null,null,null,null,null,null,0,"1/28 Hour 22",670]
[1,"Sat",28,23,null,null,null,null,null,null,null,null,0,null,null,1,"Sat",28,23,null,null,null,null,null,null,null,null,0,"1/28 Hour 23",671]
[1,"Sat",28,24,null,null,null,null,null,null,null,null,0,null,null,1,"Sat",28,24,null,null,null,null,null,null,null,null,0,"1/28 Hour 24",672]
[1,"Sun",29,1,null,null,null,null,null,null,null,null,0,null,null,1,"Sun",29,1,null,null,null,null,null,null,null,null,0,"1/29 Hour 1",673]
[1,"Sun",29,2,null,null,null,null,null,null,null,null,0,null,null,1,"Sun",29,2,null,null,null,null,null,null,null,null,0,"1/29 Hour 2",674]
[1,"Sun",29,3,null,null,null,null,null,null,null,null,0,null,null,1,"Sun",29,3,null,null,null,null,null,null,null,null,0,"1/29 Hour 3",675]
[1,"Sun",29,4,null,null,null,null,null,null,null,null,0,null,null,1,"Sun",29,4,null,null,null,null,null,null,null,null,0,"1/29 Hour 4",676]
[1,"Sun",29,5,null,null,null,null,null,null,null,null,0,null,null,1,"Sun",29,5,null,null,null,null,null,null,null,null,0,"1/29 Hour 5",677]
[1,"Sun",29,6,null,null,null,null,null,null,null,null,0,null,null,1,"Sun",29,6,null,null,null,null,null,null,null,null,0,"1/29 Hour 6",678]
[1,"Sun",29,7,null,null,null,null,null,null,null,null,0,null,null,1,"Sun",29,7,null,null,null,null,null,null,null,null,0,"1/29 Hour 7",679]
[1,"Sun",29,8,null,null,null,null,null,null,null,null,0,null,null,1,"Sun",29,8,null,null,null,null,null,null,null,null,0,"1/29 Hour 8",680]
[1,"Sun",29,9,null,null,null,null,null,null,null,null,0,null,null,1,"Sun",29,9,null,null,null,null,null,null,null,null,0,"1/29 Hour 9",681]
[1,"Sun",29,10,null,null,null,null,null,null,null,null,0,null,null,1,"Sun",29,10,null,null,null,null,null,null,null,null,0,"1/29 Hour 10",682]
[1,"Sun",29,11,null,null,null,null,null,null,null,null,0,null,null,1,"Sun",29,11,null,null,null,null,null,null,null,null,0,"1/29 Hour 11",683]
[1,"Sun",29,12,null,null,null,null,null,null,null,null,0,null,null,1,"Sun",29,12,null,null,null,null,null,null,null,null,0,"1/29 Hour 12",684]
[1,"Sun",29,13,null,null,null,null,null,null,null,null,0,null,null,1,"Sun",29,13,null,null,null,null,null,null,null,null,0,"1/29 Hour 13",685]
[1,"Sun",29,14,null,null,null,null,null,null,null,null,0,null,null,1,"Sun",29,14,null,null,null,null,null,null,null,null,0,"1/29 Hour 14",686]
[1,"Sun",29,15,null,null,null,null,null,null,null,null,0,null,null,1,"Sun",29,15,null,null,null,null,null,null,null,null,0,"1/29 Hour 15",687]
[1,"Sun",29,16,null,null,null,null,null,null,null,null,0,null,null,1,"Sun",29,16,null,null,null,null,null,null,null,null,0,"1/29 Hour 16",688]
[1,"Sun",29,17,null,null,null,null,null,null,null,null,0,null,null,1,"Sun",29,17,null,null,null,null,null,null,null,null,0,"1/29 Hour 17",689]
[1,"Sun",29,18,null,null,null,null,null,null,null,null,0,null,null,1,"Sun",29,18,null,null,null,null,null,null,null,null,0,"1/29 Hour 18",690]
[1,"Sun",29,19,null,null,null,null,null,null,null,null,0,null,null,1,"Sun",29,19,null,null,null,null,null,null,null,null,0,"1/29 Hour 19",691]
[1,"Sun",29,20,null,null,null,null,null,null,null,null,0,null,null,1,"Sun",29,20,null,null,null,null,null,null,null,null,0,"1/29 Hour 20",692]
[1,"Sun",29,21,null,null,null,null,null,null,null,null,0,null,null,1,"Sun",29,21,null,null,null,null,null,null,null,null,0,"1/29 Hour 21",693]
[1,"Sun",29,22,null,null,null,null,null,null,null,null,0,null,null,1,"Sun",29,22,null,null,null,null,null,null,null,null,0,"1/29 Hour 22",694]
[1,"Sun",29,23,null,null,null,null,null,null,null,null,0,null,null,1,"Sun",29,23,null,null,null,null,null,null,null,null,0,"1/29 Hour 23",695]
[1,"Sun",29,24,null,null,null,null,null,null,null,null,0,null,null,1,"Sun",29,24,null,null,null,null,null,null,null,null,0,"1/29 Hour 24",696]
[1,"Wkdy",30,1,null,null,null,null,null,null,null,null,0,null,null,1,"Wkdy",30,1,null,null,null,null,null,null,null,null,0,"1/30 Hour 1",697]
[1,"Wkdy",30,2,null,null,null,null,null,null,null,null,0,null,null,1,"Wkdy",30,2,null,null,null,null,null,null,null,null,0,"1/30 Hour 2",698]
[1,"Wkdy",30,3,null,null,null,null,null,null,null,null,0,null,null,1,"Wkdy",30,3,null,null,null,null,null,null,null,null,0,"1/30 Hour 3",699]
[1,"Wkdy",30,4,null,null,null,null,null,null,null,null,0,null,null,1,"Wkdy",30,4,null,null,null,null,null,null,null,null,0,"1/30 Hour 4",700]
[1,"Wkdy",30,5,null,null,null,null,null,null,null,null,0,null,null,1,"Wkdy",30,5,null,null,null,null,null,null,null,null,0,"1/30 Hour 5",701]
[1,"Wkdy",30,6,null,null,null,null,null,null,null,null,0,null,null,1,"Wkdy",30,6,null,null,null,null,null,null,null,null,0,"1/30 Hour 6",702]
[1,"Wkdy",30,7,null,null,null,null,null,null,null,null,0,null,null,1,"Wkdy",30,7,null,null,null,null,null,null,null,null,0,"1/30 Hour 7",703]
[1,"Wkdy",30,8,null,null,null,null,null,null,null,null,0,null,null,1,"Wkdy",30,8,null,null,null,null,null,null,null,null,0,"1/30 Hour 8",704]
[1,"Wkdy",30,9,null,null,null,null,null,null,null,null,0,null,null,1,"Wkdy",30,9,null,null,null,null,null,null,null,null,0,"1/30 Hour 9",705]
[1,"Wkdy",30,10,null,null,null,null,null,null,null,null,{"$f":"SUM(E709:L709)","v":0},null,null,1,"Wkdy",30,10,null,null,null,null,null,null,null,null,{"$f":"SUM(T709:AA709)","v":0},{"$f":"A709&\"/\"&C709&\" Hour \"&D709","v":"1/30 Hour 10"},{"$f":"ROW()-ROW($AD$3)","v":706}]
[1,"Wkdy",30,11,null,null,null,null,null,null,null,null,0,null,null,1,"Wkdy",30,11,null,null,null,null,null,null,null,null,0,"1/30 Hour 11",707]
[1,"Wkdy",30,12,null,null,null,null,null,null,null,null,0,null,null,1,"Wkdy",30,12,null,null,null,null,null,null,null,null,0,"1/30 Hour 12",708]
[1,"Wkdy",30,13,null,null,null,null,null,null,null,null,0,null,null,1,"Wkdy",30,13,null,null,null,null,null,null,null,null,0,"1/30 Hour 13",709]
[1,"Wkdy",30,14,null,null,null,null,null,null,null,null,0,null,null,1,"Wkdy",30,14,null,null,null,null,null,null,null,null,0,"1/30 Hour 14",710]
[1,"Wkdy",30,15,null,null,null,null,null,null,null,null,0,null,null,1,"Wkdy",30,15,null,null,null,null,null,null,null,null,0,"1/30 Hour 15",711]
[1,"Wkdy",30,16,null,null,null,null,null,null,null,null,0,null,null,1,"Wkdy",30,16,null,null,null,null,null,null,null,null,0,"1/30 Hour 16",712]
[1,"Wkdy",30,17,null,null,null,null,null,null,null,null,0,null,null,1,"Wkdy",30,17,null,null,null,null,null,null,null,null,0,"1/30 Hour 17",713]
[1,"Wkdy",30,18,null,null,null,null,null,null,null,null,0,null,null,1,"Wkdy",30,18,null,null,null,null,null,null,null,null,0,"1/30 Hour 18",714]
[1,"Wkdy",30,19,null,null,null,null,null,null,null,null,0,null,null,1,"Wkdy",30,19,null,null,null,null,null,null,null,null,0,"1/30 Hour 19",715]
[1,"Wkdy",30,20,null,null,null,null,null,null,null,null,0,null,null,1,"Wkdy",30,20,null,null,null,null,null,null,null,null,0,"1/30 Hour 20",716]
[1,"Wkdy",30,21,null,null,null,null,null,null,null,null,0,null,null,1,"Wkdy",30,21,null,null,null,null,null,null,null,null,0,"1/30 Hour 21",717]
[1,"Wkdy",30,22,null,null,null,null,null,null,null,null,0,null,null,1,"Wkdy",30,22,null,null,null,null,null,null,null,null,0,"1/30 Hour 22",718]
[1,"Wkdy",30,23,null,null,null,null,null,null,null,null,0,null,null,1,"Wkdy",30,23,null,null,null,null,null,null,null,null,0,"1/30 Hour 23",719]
[1,"Wkdy",30,24,null,null,null,null,null,null,null,null,0,null,null,1,"Wkdy",30,24,null,null,null,null,null,null,null,null,0,"1/30 Hour 24",720]
[1,"Wkdy",31,1,null,null,null,null,null,null,null,null,0,null,null,1,"Wkdy",31,1,null,null,null,null,null,null,null,null,0,"1/31 Hour 1",721]
[1,"Wkdy",31,2,null,null,null,null,null,null,null,null,0,null,null,1,"Wkdy",31,2,null,null,null,null,null,null,null,null,0,"1/31 Hour 2",722]
[1,"Wkdy",31,3,null,null,null,null,null,null,null,null,0,null,null,1,"Wkdy",31,3,null,null,null,null,null,null,null,null,0,"1/31 Hour 3",723]
[1,"Wkdy",31,4,null,null,null,null,null,null,null,null,0,null,null,1,"Wkdy",31,4,null,null,null,null,null,null,null,null,0,"1/31 Hour 4",724]
[1,"Wkdy",31,5,null,null,null,null,null,null,null,null,0,null,null,1,"Wkdy",31,5,null,null,null,null,null,null,null,null,0,"1/31 Hour 5",725]
[1,"Wkdy",31,6,null,null,null,null,null,null,null,null,0,null,null,1,"Wkdy",31,6,null,null,null,null,null,null,null,null,0,"1/31 Hour 6",726]
[1,"Wkdy",31,7,null,null,null,null,null,null,null,null,0,null,null,1,"Wkdy",31,7,null,null,null,null,null,null,null,null,0,"1/31 Hour 7",727]
[1,"Wkdy",31,8,null,null,null,null,null,null,null,null,0,null,null,1,"Wkdy",31,8,null,null,null,null,null,null,null,null,0,"1/31 Hour 8",728]
[1,"Wkdy",31,9,null,null,null,null,null,null,null,null,0,null,null,1,"Wkdy",31,9,null,null,null,null,null,null,null,null,0,"1/31 Hour 9",729]
[1,"Wkdy",31,10,null,null,null,null,null,null,null,null,0,null,null,1,"Wkdy",31,10,null,null,null,null,null,null,null,null,0,"1/31 Hour 10",730]
[1,"Wkdy",31,11,null,null,null,null,null,null,null,null,0,null,null,1,"Wkdy",31,11,null,null,null,null,null,null,null,null,0,"1/31 Hour 11",731]
[1,"Wkdy",31,12,null,null,null,null,null,null,null,null,0,null,null,1,"Wkdy",31,12,null,null,null,null,null,null,null,null,0,"1/31 Hour 12",732]
[1,"Wkdy",31,13,null,null,null,null,null,null,null,null,0,null,null,1,"Wkdy",31,13,null,null,null,null,null,null,null,null,0,"1/31 Hour 13",733]
[1,"Wkdy",31,14,null,null,null,null,null,null,null,null,0,null,null,1,"Wkdy",31,14,null,null,null,null,null,null,null,null,0,"1/31 Hour 14",734]
[1,"Wkdy",31,15,null,null,null,null,null,null,null,null,0,null,null,1,"Wkdy",31,15,null,null,null,null,null,null,null,null,0,"1/31 Hour 15",735]
[1,"Wkdy",31,16,null,null,null,null,null,null,null,null,0,null,null,1,"Wkdy",31,16,null,null,null,null,null,null,null,null,0,"1/31 Hour 16",736]
[1,"Wkdy",31,17,null,null,null,null,null,null,null,null,0,null,null,1,"Wkdy",31,17,null,null,null,null,null,null,null,null,0,"1/31 Hour 17",737]
[1,"Wkdy",31,18,null,null,null,null,null,null,null,null,0,null,null,1,"Wkdy",31,18,null,null,null,null,null,null,null,null,0,"1/31 Hour 18",738]
[1,"Wkdy",31,19,null,null,null,null,null,null,null,null,0,null,null,1,"Wkdy",31,19,null,null,null,null,null,null,null,null,0,"1/31 Hour 19",739]
[1,"Wkdy",31,20,null,null,null,null,null,null,null,null,0,null,null,1,"Wkdy",31,20,null,null,null,null,null,null,null,null,0,"1/31 Hour 20",740]
[1,"Wkdy",31,21,null,null,null,null,null,null,null,null,0,null,null,1,"Wkdy",31,21,null,null,null,null,null,null,null,null,0,"1/31 Hour 21",741]
[1,"Wkdy",31,22,null,null,null,null,null,null,null,null,0,null,null,1,"Wkdy",31,22,null,null,null,null,null,null,null,null,0,"1/31 Hour 22",742]
[1,"Wkdy",31,23,null,null,null,null,null,null,null,null,0,null,null,1,"Wkdy",31,23,null,null,null,null,null,null,null,null,0,"1/31 Hour 23",743]
[1,"Wkdy",31,24,null,null,null,null,null,null,null,null,0,null,null,1,"Wkdy",31,24,null,null,null,null,null,null,null,null,0,"1/31 Hour 24",744]
[2,"Wkdy",1,1,null,null,null,null,null,null,null,null,0,null,null,2,"Wkdy",1,1,null,null,null,null,null,null,null,null,0,"2/1 Hour 1",745]
[2,"Wkdy",1,2,null,null,null,null,null,null,null,null,0,null,null,2,"Wkdy",1,2,null,null,null,null,null,null,null,null,0,"2/1 Hour 2",746]
[2,"Wkdy",1,3,null,null,null,null,null,null,null,null,0,null,null,2,"Wkdy",1,3,null,null,null,null,null,null,null,null,0,"2/1 Hour 3",747]
[2,"Wkdy",1,4,null,null,null,null,null,null,null,null,0,null,null,2,"Wkdy",1,4,null,null,null,null,null,null,null,null,0,"2/1 Hour 4",748]
[2,"Wkdy",1,5,null,null,null,null,null,null,null,null,0,null,null,2,"Wkdy",1,5,null,null,null,null,null,null,null,null,0,"2/1 Hour 5",749]
[2,"Wkdy",1,6,null,null,null,null,null,null,null,null,0,null,null,2,"Wkdy",1,6,null,null,null,null,null,null,null,null,0,"2/1 Hour 6",750]
[2,"Wkdy",1,7,null,null,null,null,null,null,null,null,0,null,null,2,"Wkdy",1,7,null,null,null,null,null,null,null,null,0,"2/1 Hour 7",751]
[2,"Wkdy",1,8,null,null,null,null,null,null,null,null,0,null,null,2,"Wkdy",1,8,null,null,null,null,null,null,null,null,0,"2/1 Hour 8",752]
[2,"Wkdy",1,9,null,null,null,null,null,null,null,null,0,null,null,2,"Wkdy",1,9,null,null,null,null,null,null,null,null,0,"2/1 Hour 9",753]
[2,"Wkdy",1,10,null,null,null,null,null,null,null,null,0,null,null,2,"Wkdy",1,10,null,null,null,null,null,null,null,null,0,"2/1 Hour 10",754]
[2,"Wkdy",1,11,null,null,null,null,null,null,null,null,0,null,null,2,"Wkdy",1,11,null,null,null,null,null,null,null,null,0,"2/1 Hour 11",755]
[2,"Wkdy",1,12,null,null,null,null,null,null,null,null,0,null,null,2,"Wkdy",1,12,null,null,null,null,null,null,null,null,0,"2/1 Hour 12",756]
[2,"Wkdy",1,13,null,null,null,null,null,null,null,null,0,null,null,2,"Wkdy",1,13,null,null,null,null,null,null,null,null,0,"2/1 Hour 13",757]
[2,"Wkdy",1,14,null,null,null,null,null,null,null,null,0,null,null,2,"Wkdy",1,14,null,null,null,null,null,null,null,null,0,"2/1 Hour 14",758]
[2,"Wkdy",1,15,null,null,null,null,null,null,null,null,0,null,null,2,"Wkdy",1,15,null,null,null,null,null,null,null,null,0,"2/1 Hour 15",759]
[2,"Wkdy",1,16,null,null,null,null,null,null,null,null,0,null,null,2,"Wkdy",1,16,null,null,null,null,null,null,null,null,0,"2/1 Hour 16",760]
[2,"Wkdy",1,17,null,null,null,null,null,null,null,null,0,null,null,2,"Wkdy",1,17,null,null,null,null,null,null,null,null,0,"2/1 Hour 17",761]
[2,"Wkdy",1,18,null,null,null,null,null,null,null,null,0,null,null,2,"Wkdy",1,18,null,null,null,null,null,null,null,null,0,"2/1 Hour 18",762]
[2,"Wkdy",1,19,null,null,null,null,null,null,null,null,0,null,null,2,"Wkdy",1,19,null,null,null,null,null,null,null,null,0,"2/1 Hour 19",763]
[2,"Wkdy",1,20,null,null,null,null,null,null,null,null,0,null,null,2,"Wkdy",1,20,null,null,null,null,null,null,null,null,0,"2/1 Hour 20",764]
[2,"Wkdy",1,21,null,null,null,null,null,null,null,null,0,null,null,2,"Wkdy",1,21,null,null,null,null,null,null,null,null,0,"2/1 Hour 21",765]
[2,"Wkdy",1,22,null,null,null,null,null,null,null,null,0,null,null,2,"Wkdy",1,22,null,null,null,null,null,null,null,null,0,"2/1 Hour 22",766]
[2,"Wkdy",1,23,null,null,null,null,null,null,null,null,0,null,null,2,"Wkdy",1,23,null,null,null,null,null,null,null,null,0,"2/1 Hour 23",767]
[2,"Wkdy",1,24,null,null,null,null,null,null,null,null,0,null,null,2,"Wkdy",1,24,null,null,null,null,null,null,null,null,0,"2/1 Hour 24",768]
[2,"Wkdy",2,1,null,null,null,null,null,null,null,null,0,null,null,2,"Wkdy",2,1,null,null,null,null,null,null,null,null,0,"2/2 Hour 1",769]
[2,"Wkdy",2,2,null,null,null,null,null,null,null,null,{"$f":"SUM(E773:L773)","v":0},null,null,2,"Wkdy",2,2,null,null,null,null,null,null,null,null,{"$f":"SUM(T773:AA773)","v":0},{"$f":"A773&\"/\"&C773&\" Hour \"&D773","v":"2/2 Hour 2"},{"$f":"ROW()-ROW($AD$3)","v":770}]
[2,"Wkdy",2,3,null,null,null,null,null,null,null,null,0,null,null,2,"Wkdy",2,3,null,null,null,null,null,null,null,null,0,"2/2 Hour 3",771]
[2,"Wkdy",2,4,null,null,null,null,null,null,null,null,0,null,null,2,"Wkdy",2,4,null,null,null,null,null,null,null,null,0,"2/2 Hour 4",772]
[2,"Wkdy",2,5,null,null,null,null,null,null,null,null,0,null,null,2,"Wkdy",2,5,null,null,null,null,null,null,null,null,0,"2/2 Hour 5",773]
[2,"Wkdy",2,6,null,null,null,null,null,null,null,null,0,null,null,2,"Wkdy",2,6,null,null,null,null,null,null,null,null,0,"2/2 Hour 6",774]
[2,"Wkdy",2,7,null,null,null,null,null,null,null,null,0,null,null,2,"Wkdy",2,7,null,null,null,null,null,null,null,null,0,"2/2 Hour 7",775]
[2,"Wkdy",2,8,null,null,null,null,null,null,null,null,0,null,null,2,"Wkdy",2,8,null,null,null,null,null,null,null,null,0,"2/2 Hour 8",776]
[2,"Wkdy",2,9,null,null,null,null,null,null,null,null,0,null,null,2,"Wkdy",2,9,null,null,null,null,null,null,null,null,0,"2/2 Hour 9",777]
[2,"Wkdy",2,10,null,null,null,null,null,null,null,null,0,null,null,2,"Wkdy",2,10,null,null,null,null,null,null,null,null,0,"2/2 Hour 10",778]
[2,"Wkdy",2,11,null,null,null,null,null,null,null,null,0,null,null,2,"Wkdy",2,11,null,null,null,null,null,null,null,null,0,"2/2 Hour 11",779]
[2,"Wkdy",2,12,null,null,null,null,null,null,null,null,0,null,null,2,"Wkdy",2,12,null,null,null,null,null,null,null,null,0,"2/2 Hour 12",780]
[2,"Wkdy",2,13,null,null,null,null,null,null,null,null,0,null,null,2,"Wkdy",2,13,null,null,null,null,null,null,null,null,0,"2/2 Hour 13",781]
[2,"Wkdy",2,14,null,null,null,null,null,null,null,null,0,null,null,2,"Wkdy",2,14,null,null,null,null,null,null,null,null,0,"2/2 Hour 14",782]
[2,"Wkdy",2,15,null,null,null,null,null,null,null,null,0,null,null,2,"Wkdy",2,15,null,null,null,null,null,null,null,null,0,"2/2 Hour 15",783]
[2,"Wkdy",2,16,null,null,null,null,null,null,null,null,0,null,null,2,"Wkdy",2,16,null,null,null,null,null,null,null,null,0,"2/2 Hour 16",784]
[2,"Wkdy",2,17,null,null,null,null,null,null,null,null,0,null,null,2,"Wkdy",2,17,null,null,null,null,null,null,null,null,0,"2/2 Hour 17",785]
[2,"Wkdy",2,18,null,null,null,null,null,null,null,null,0,null,null,2,"Wkdy",2,18,null,null,null,null,null,null,null,null,0,"2/2 Hour 18",786]
[2,"Wkdy",2,19,null,null,null,null,null,null,null,null,0,null,null,2,"Wkdy",2,19,null,null,null,null,null,null,null,null,0,"2/2 Hour 19",787]
[2,"Wkdy",2,20,null,null,null,null,null,null,null,null,0,null,null,2,"Wkdy",2,20,null,null,null,null,null,null,null,null,0,"2/2 Hour 20",788]
[2,"Wkdy",2,21,null,null,null,null,null,null,null,null,0,null,null,2,"Wkdy",2,21,null,null,null,null,null,null,null,null,0,"2/2 Hour 21",789]
[2,"Wkdy",2,22,null,null,null,null,null,null,null,null,0,null,null,2,"Wkdy",2,22,null,null,null,null,null,null,null,null,0,"2/2 Hour 22",790]
[2,"Wkdy",2,23,null,null,null,null,null,null,null,null,0,null,null,2,"Wkdy",2,23,null,null,null,null,null,null,null,null,0,"2/2 Hour 23",791]
[2,"Wkdy",2,24,null,null,null,null,null,null,null,null,0,null,null,2,"Wkdy",2,24,null,null,null,null,null,null,null,null,0,"2/2 Hour 24",792]
[2,"Wkdy",3,1,null,null,null,null,null,null,null,null,0,null,null,2,"Wkdy",3,1,null,null,null,null,null,null,null,null,0,"2/3 Hour 1",793]
[2,"Wkdy",3,2,null,null,null,null,null,null,null,null,0,null,null,2,"Wkdy",3,2,null,null,null,null,null,null,null,null,0,"2/3 Hour 2",794]
[2,"Wkdy",3,3,null,null,null,null,null,null,null,null,0,null,null,2,"Wkdy",3,3,null,null,null,null,null,null,null,null,0,"2/3 Hour 3",795]
[2,"Wkdy",3,4,null,null,null,null,null,null,null,null,0,null,null,2,"Wkdy",3,4,null,null,null,null,null,null,null,null,0,"2/3 Hour 4",796]
[2,"Wkdy",3,5,null,null,null,null,null,null,null,null,0,null,null,2,"Wkdy",3,5,null,null,null,null,null,null,null,null,0,"2/3 Hour 5",797]
[2,"Wkdy",3,6,null,null,null,null,null,null,null,null,0,null,null,2,"Wkdy",3,6,null,null,null,null,null,null,null,null,0,"2/3 Hour 6",798]
[2,"Wkdy",3,7,null,null,null,null,null,null,null,null,0,null,null,2,"Wkdy",3,7,null,null,null,null,null,null,null,null,0,"2/3 Hour 7",799]
[2,"Wkdy",3,8,null,null,null,null,null,null,null,null,0,null,null,2,"Wkdy",3,8,null,null,null,null,null,null,null,null,0,"2/3 Hour 8",800]
[2,"Wkdy",3,9,null,null,null,null,null,null,null,null,0,null,null,2,"Wkdy",3,9,null,null,null,null,null,null,null,null,0,"2/3 Hour 9",801]
[2,"Wkdy",3,10,null,null,null,null,null,null,null,null,0,null,null,2,"Wkdy",3,10,null,null,null,null,null,null,null,null,0,"2/3 Hour 10",802]
[2,"Wkdy",3,11,null,null,null,null,null,null,null,null,0,null,null,2,"Wkdy",3,11,null,null,null,null,null,null,null,null,0,"2/3 Hour 11",803]
[2,"Wkdy",3,12,null,null,null,null,null,null,null,null,0,null,null,2,"Wkdy",3,12,null,null,null,null,null,null,null,null,0,"2/3 Hour 12",804]
[2,"Wkdy",3,13,null,null,null,null,null,null,null,null,0,null,null,2,"Wkdy",3,13,null,null,null,null,null,null,null,null,0,"2/3 Hour 13",805]
[2,"Wkdy",3,14,null,null,null,null,null,null,null,null,0,null,null,2,"Wkdy",3,14,null,null,null,null,null,null,null,null,0,"2/3 Hour 14",806]
[2,"Wkdy",3,15,null,null,null,null,null,null,null,null,0,null,null,2,"Wkdy",3,15,null,null,null,null,null,null,null,null,0,"2/3 Hour 15",807]
[2,"Wkdy",3,16,null,null,null,null,null,null,null,null,0,null,null,2,"Wkdy",3,16,null,null,null,null,null,null,null,null,0,"2/3 Hour 16",808]
[2,"Wkdy",3,17,null,null,null,null,null,null,null,null,0,null,null,2,"Wkdy",3,17,null,null,null,null,null,null,null,null,0,"2/3 Hour 17",809]
[2,"Wkdy",3,18,null,null,null,null,null,null,null,null,0,null,null,2,"Wkdy",3,18,null,null,null,null,null,null,null,null,0,"2/3 Hour 18",810]
[2,"Wkdy",3,19,null,null,null,null,null,null,null,null,0,null,null,2,"Wkdy",3,19,null,null,null,null,null,null,null,null,0,"2/3 Hour 19",811]
[2,"Wkdy",3,20,null,null,null,null,null,null,null,null,0,null,null,2,"Wkdy",3,20,null,null,null,null,null,null,null,null,0,"2/3 Hour 20",812]
[2,"Wkdy",3,21,null,null,null,null,null,null,null,null,0,null,null,2,"Wkdy",3,21,null,null,null,null,null,null,null,null,0,"2/3 Hour 21",813]
[2,"Wkdy",3,22,null,null,null,null,null,null,null,null,0,null,null,2,"Wkdy",3,22,null,null,null,null,null,null,null,null,0,"2/3 Hour 22",814]
[2,"Wkdy",3,23,null,null,null,null,null,null,null,null,0,null,null,2,"Wkdy",3,23,null,null,null,null,null,null,null,null,0,"2/3 Hour 23",815]
[2,"Wkdy",3,24,null,null,null,null,null,null,null,null,0,null,null,2,"Wkdy",3,24,null,null,null,null,null,null,null,null,0,"2/3 Hour 24",816]
[2,"Sat",4,1,null,null,null,null,null,null,null,null,0,null,null,2,"Sat",4,1,null,null,null,null,null,null,null,null,0,"2/4 Hour 1",817]
[2,"Sat",4,2,null,null,null,null,null,null,null,null,0,null,null,2,"Sat",4,2,null,null,null,null,null,null,null,null,0,"2/4 Hour 2",818]
[2,"Sat",4,3,null,null,null,null,null,null,null,null,0,null,null,2,"Sat",4,3,null,null,null,null,null,null,null,null,0,"2/4 Hour 3",819]
[2,"Sat",4,4,null,null,null,null,null,null,null,null,0,null,null,2,"Sat",4,4,null,null,null,null,null,null,null,null,0,"2/4 Hour 4",820]
[2,"Sat",4,5,null,null,null,null,null,null,null,null,0,null,null,2,"Sat",4,5,null,null,null,null,null,null,null,null,0,"2/4 Hour 5",821]
[2,"Sat",4,6,null,null,null,null,null,null,null,null,0,null,null,2,"Sat",4,6,null,null,null,null,null,null,null,null,0,"2/4 Hour 6",822]
[2,"Sat",4,7,null,null,null,null,null,null,null,null,0,null,null,2,"Sat",4,7,null,null,null,null,null,null,null,null,0,"2/4 Hour 7",823]
[2,"Sat",4,8,null,null,null,null,null,null,null,null,0,null,null,2,"Sat",4,8,null,null,null,null,null,null,null,null,0,"2/4 Hour 8",824]
[2,"Sat",4,9,null,null,null,null,null,null,null,null,0,null,null,2,"Sat",4,9,null,null,null,null,null,null,null,null,0,"2/4 Hour 9",825]
[2,"Sat",4,10,null,null,null,null,null,null,null,null,0,null,null,2,"Sat",4,10,null,null,null,null,null,null,null,null,0,"2/4 Hour 10",826]
[2,"Sat",4,11,null,null,null,null,null,null,null,null,0,null,null,2,"Sat",4,11,null,null,null,null,null,null,null,null,0,"2/4 Hour 11",827]
[2,"Sat",4,12,null,null,null,null,null,null,null,null,0,null,null,2,"Sat",4,12,null,null,null,null,null,null,null,null,0,"2/4 Hour 12",828]
[2,"Sat",4,13,null,null,null,null,null,null,null,null,0,null,null,2,"Sat",4,13,null,null,null,null,null,null,null,null,0,"2/4 Hour 13",829]
[2,"Sat",4,14,null,null,null,null,null,null,null,null,0,null,null,2,"Sat",4,14,null,null,null,null,null,null,null,null,0,"2/4 Hour 14",830]
[2,"Sat",4,15,null,null,null,null,null,null,null,null,0,null,null,2,"Sat",4,15,null,null,null,null,null,null,null,null,0,"2/4 Hour 15",831]
[2,"Sat",4,16,null,null,null,null,null,null,null,null,0,null,null,2,"Sat",4,16,null,null,null,null,null,null,null,null,0,"2/4 Hour 16",832]
[2,"Sat",4,17,null,null,null,null,null,null,null,null,0,null,null,2,"Sat",4,17,null,null,null,null,null,null,null,null,0,"2/4 Hour 17",833]
[2,"Sat",4,18,null,null,null,null,null,null,null,null,{"$f":"SUM(E837:L837)","v":0},null,null,2,"Sat",4,18,null,null,null,null,null,null,null,null,{"$f":"SUM(T837:AA837)","v":0},{"$f":"A837&\"/\"&C837&\" Hour \"&D837","v":"2/4 Hour 18"},{"$f":"ROW()-ROW($AD$3)","v":834}]
[2,"Sat",4,19,null,null,null,null,null,null,null,null,0,null,null,2,"Sat",4,19,null,null,null,null,null,null,null,null,0,"2/4 Hour 19",835]
[2,"Sat",4,20,null,null,null,null,null,null,null,null,0,null,null,2,"Sat",4,20,null,null,null,null,null,null,null,null,0,"2/4 Hour 20",836]
[2,"Sat",4,21,null,null,null,null,null,null,null,null,0,null,null,2,"Sat",4,21,null,null,null,null,null,null,null,null,0,"2/4 Hour 21",837]
[2,"Sat",4,22,null,null,null,null,null,null,null,null,0,null,null,2,"Sat",4,22,null,null,null,null,null,null,null,null,0,"2/4 Hour 22",838]
[2,"Sat",4,23,null,null,null,null,null,null,null,null,0,null,null,2,"Sat",4,23,null,null,null,null,null,null,null,null,0,"2/4 Hour 23",839]
[2,"Sat",4,24,null,null,null,null,null,null,null,null,0,null,null,2,"Sat",4,24,null,null,null,null,null,null,null,null,0,"2/4 Hour 24",840]
[2,"Sun",5,1,null,null,null,null,null,null,null,null,0,null,null,2,"Sun",5,1,null,null,null,null,null,null,null,null,0,"2/5 Hour 1",841]
[2,"Sun",5,2,null,null,null,null,null,null,null,null,0,null,null,2,"Sun",5,2,null,null,null,null,null,null,null,null,0,"2/5 Hour 2",842]
[2,"Sun",5,3,null,null,null,null,null,null,null,null,0,null,null,2,"Sun",5,3,null,null,null,null,null,null,null,null,0,"2/5 Hour 3",843]
[2,"Sun",5,4,null,null,null,null,null,null,null,null,0,null,null,2,"Sun",5,4,null,null,null,null,null,null,null,null,0,"2/5 Hour 4",844]
[2,"Sun",5,5,null,null,null,null,null,null,null,null,0,null,null,2,"Sun",5,5,null,null,null,null,null,null,null,null,0,"2/5 Hour 5",845]
[2,"Sun",5,6,null,null,null,null,null,null,null,null,0,null,null,2,"Sun",5,6,null,null,null,null,null,null,null,null,0,"2/5 Hour 6",846]
[2,"Sun",5,7,null,null,null,null,null,null,null,null,0,null,null,2,"Sun",5,7,null,null,null,null,null,null,null,null,0,"2/5 Hour 7",847]
[2,"Sun",5,8,null,null,null,null,null,null,null,null,0,null,null,2,"Sun",5,8,null,null,null,null,null,null,null,null,0,"2/5 Hour 8",848]
[2,"Sun",5,9,null,null,null,null,null,null,null,null,0,null,null,2,"Sun",5,9,null,null,null,null,null,null,null,null,0,"2/5 Hour 9",849]
[2,"Sun",5,10,null,null,null,null,null,null,null,null,0,null,null,2,"Sun",5,10,null,null,null,null,null,null,null,null,0,"2/5 Hour 10",850]
[2,"Sun",5,11,null,null,null,null,null,null,null,null,0,null,null,2,"Sun",5,11,null,null,null,null,null,null,null,null,0,"2/5 Hour 11",851]
[2,"Sun",5,12,null,null,null,null,null,null,null,null,0,null,null,2,"Sun",5,12,null,null,null,null,null,null,null,null,0,"2/5 Hour 12",852]
[2,"Sun",5,13,null,null,null,null,null,null,null,null,0,null,null,2,"Sun",5,13,null,null,null,null,null,null,null,null,0,"2/5 Hour 13",853]
[2,"Sun",5,14,null,null,null,null,null,null,null,null,0,null,null,2,"Sun",5,14,null,null,null,null,null,null,null,null,0,"2/5 Hour 14",854]
[2,"Sun",5,15,null,null,null,null,null,null,null,null,0,null,null,2,"Sun",5,15,null,null,null,null,null,null,null,null,0,"2/5 Hour 15",855]
[2,"Sun",5,16,null,null,null,null,null,null,null,null,0,null,null,2,"Sun",5,16,null,null,null,null,null,null,null,null,0,"2/5 Hour 16",856]
[2,"Sun",5,17,null,null,null,null,null,null,null,null,0,null,null,2,"Sun",5,17,null,null,null,null,null,null,null,null,0,"2/5 Hour 17",857]
[2,"Sun",5,18,null,null,null,null,null,null,null,null,0,null,null,2,"Sun",5,18,null,null,null,null,null,null,null,null,0,"2/5 Hour 18",858]
[2,"Sun",5,19,null,null,null,null,null,null,null,null,0,null,null,2,"Sun",5,19,null,null,null,null,null,null,null,null,0,"2/5 Hour 19",859]
[2,"Sun",5,20,null,null,null,null,null,null,null,null,0,null,null,2,"Sun",5,20,null,null,null,null,null,null,null,null,0,"2/5 Hour 20",860]
[2,"Sun",5,21,null,null,null,null,null,null,null,null,0,null,null,2,"Sun",5,21,null,null,null,null,null,null,null,null,0,"2/5 Hour 21",861]
[2,"Sun",5,22,null,null,null,null,null,null,null,null,0,null,null,2,"Sun",5,22,null,null,null,null,null,null,null,null,0,"2/5 Hour 22",862]
[2,"Sun",5,23,null,null,null,null,null,null,null,null,0,null,null,2,"Sun",5,23,null,null,null,null,null,null,null,null,0,"2/5 Hour 23",863]
[2,"Sun",5,24,null,null,null,null,null,null,null,null,0,null,null,2,"Sun",5,24,null,null,null,null,null,null,null,null,0,"2/5 Hour 24",864]
[2,"Wkdy",6,1,null,null,null,null,null,null,null,null,0,null,null,2,"Wkdy",6,1,null,null,null,null,null,null,null,null,0,"2/6 Hour 1",865]
[2,"Wkdy",6,2,null,null,null,null,null,null,null,null,0,null,null,2,"Wkdy",6,2,null,null,null,null,null,null,null,null,0,"2/6 Hour 2",866]
[2,"Wkdy",6,3,null,null,null,null,null,null,null,null,0,null,null,2,"Wkdy",6,3,null,null,null,null,null,null,null,null,0,"2/6 Hour 3",867]
[2,"Wkdy",6,4,null,null,null,null,null,null,null,null,0,null,null,2,"Wkdy",6,4,null,null,null,null,null,null,null,null,0,"2/6 Hour 4",868]
[2,"Wkdy",6,5,null,null,null,null,null,null,null,null,0,null,null,2,"Wkdy",6,5,null,null,null,null,null,null,null,null,0,"2/6 Hour 5",869]
[2,"Wkdy",6,6,null,null,null,null,null,null,null,null,0,null,null,2,"Wkdy",6,6,null,null,null,null,null,null,null,null,0,"2/6 Hour 6",870]
[2,"Wkdy",6,7,null,null,null,null,null,null,null,null,0,null,null,2,"Wkdy",6,7,null,null,null,null,null,null,null,null,0,"2/6 Hour 7",871]
[2,"Wkdy",6,8,null,null,null,null,null,null,null,null,0,null,null,2,"Wkdy",6,8,null,null,null,null,null,null,null,null,0,"2/6 Hour 8",872]
[2,"Wkdy",6,9,null,null,null,null,null,null,null,null,0,null,null,2,"Wkdy",6,9,null,null,null,null,null,null,null,null,0,"2/6 Hour 9",873]
[2,"Wkdy",6,10,null,null,null,null,null,null,null,null,0,null,null,2,"Wkdy",6,10,null,null,null,null,null,null,null,null,0,"2/6 Hour 10",874]
[2,"Wkdy",6,11,null,null,null,null,null,null,null,null,0,null,null,2,"Wkdy",6,11,null,null,null,null,null,null,null,null,0,"2/6 Hour 11",875]
[2,"Wkdy",6,12,null,null,null,null,null,null,null,null,0,null,null,2,"Wkdy",6,12,null,null,null,null,null,null,null,null,0,"2/6 Hour 12",876]
[2,"Wkdy",6,13,null,null,null,null,null,null,null,null,0,null,null,2,"Wkdy",6,13,null,null,null,null,null,null,null,null,0,"2/6 Hour 13",877]
[2,"Wkdy",6,14,null,null,null,null,null,null,null,null,0,null,null,2,"Wkdy",6,14,null,null,null,null,null,null,null,null,0,"2/6 Hour 14",878]
[2,"Wkdy",6,15,null,null,null,null,null,null,null,null,0,null,null,2,"Wkdy",6,15,null,null,null,null,null,null,null,null,0,"2/6 Hour 15",879]
[2,"Wkdy",6,16,null,null,null,null,null,null,null,null,0,null,null,2,"Wkdy",6,16,null,null,null,null,null,null,null,null,0,"2/6 Hour 16",880]
[2,"Wkdy",6,17,null,null,null,null,null,null,null,null,0,null,null,2,"Wkdy",6,17,null,null,null,null,null,null,null,null,0,"2/6 Hour 17",881]
[2,"Wkdy",6,18,null,null,null,null,null,null,null,null,0,null,null,2,"Wkdy",6,18,null,null,null,null,null,null,null,null,0,"2/6 Hour 18",882]
[2,"Wkdy",6,19,null,null,null,null,null,null,null,null,0,null,null,2,"Wkdy",6,19,null,null,null,null,null,null,null,null,0,"2/6 Hour 19",883]
[2,"Wkdy",6,20,null,null,null,null,null,null,null,null,0,null,null,2,"Wkdy",6,20,null,null,null,null,null,null,null,null,0,"2/6 Hour 20",884]
[2,"Wkdy",6,21,null,null,null,null,null,null,null,null,0,null,null,2,"Wkdy",6,21,null,null,null,null,null,null,null,null,0,"2/6 Hour 21",885]
[2,"Wkdy",6,22,null,null,null,null,null,null,null,null,0,null,null,2,"Wkdy",6,22,null,null,null,null,null,null,null,null,0,"2/6 Hour 22",886]
[2,"Wkdy",6,23,null,null,null,null,null,null,null,null,0,null,null,2,"Wkdy",6,23,null,null,null,null,null,null,null,null,0,"2/6 Hour 23",887]
[2,"Wkdy",6,24,null,null,null,null,null,null,null,null,0,null,null,2,"Wkdy",6,24,null,null,null,null,null,null,null,null,0,"2/6 Hour 24",888]
[2,"Wkdy",7,1,null,null,null,null,null,null,null,null,0,null,null,2,"Wkdy",7,1,null,null,null,null,null,null,null,null,0,"2/7 Hour 1",889]
[2,"Wkdy",7,2,null,null,null,null,null,null,null,null,0,null,null,2,"Wkdy",7,2,null,null,null,null,null,null,null,null,0,"2/7 Hour 2",890]
[2,"Wkdy",7,3,null,null,null,null,null,null,null,null,0,null,null,2,"Wkdy",7,3,null,null,null,null,null,null,null,null,0,"2/7 Hour 3",891]
[2,"Wkdy",7,4,null,null,null,null,null,null,null,null,0,null,null,2,"Wkdy",7,4,null,null,null,null,null,null,null,null,0,"2/7 Hour 4",892]
[2,"Wkdy",7,5,null,null,null,null,null,null,null,null,0,null,null,2,"Wkdy",7,5,null,null,null,null,null,null,null,null,0,"2/7 Hour 5",893]
[2,"Wkdy",7,6,null,null,null,null,null,null,null,null,0,null,null,2,"Wkdy",7,6,null,null,null,null,null,null,null,null,0,"2/7 Hour 6",894]
[2,"Wkdy",7,7,null,null,null,null,null,null,null,null,0,null,null,2,"Wkdy",7,7,null,null,null,null,null,null,null,null,0,"2/7 Hour 7",895]
[2,"Wkdy",7,8,null,null,null,null,null,null,null,null,0,null,null,2,"Wkdy",7,8,null,null,null,null,null,null,null,null,0,"2/7 Hour 8",896]
[2,"Wkdy",7,9,null,null,null,null,null,null,null,null,0,null,null,2,"Wkdy",7,9,null,null,null,null,null,null,null,null,0,"2/7 Hour 9",897]
[2,"Wkdy",7,10,null,null,null,null,null,null,null,null,{"$f":"SUM(E901:L901)","v":0},null,null,2,"Wkdy",7,10,null,null,null,null,null,null,null,null,{"$f":"SUM(T901:AA901)","v":0},{"$f":"A901&\"/\"&C901&\" Hour \"&D901","v":"2/7 Hour 10"},{"$f":"ROW()-ROW($AD$3)","v":898}]
[2,"Wkdy",7,11,null,null,null,null,null,null,null,null,0,null,null,2,"Wkdy",7,11,null,null,null,null,null,null,null,null,0,"2/7 Hour 11",899]
[2,"Wkdy",7,12,null,null,null,null,null,null,null,null,0,null,null,2,"Wkdy",7,12,null,null,null,null,null,null,null,null,0,"2/7 Hour 12",900]
[2,"Wkdy",7,13,null,null,null,null,null,null,null,null,0,null,null,2,"Wkdy",7,13,null,null,null,null,null,null,null,null,0,"2/7 Hour 13",901]
[2,"Wkdy",7,14,null,null,null,null,null,null,null,null,0,null,null,2,"Wkdy",7,14,null,null,null,null,null,null,null,null,0,"2/7 Hour 14",902]
[2,"Wkdy",7,15,null,null,null,null,null,null,null,null,0,null,null,2,"Wkdy",7,15,null,null,null,null,null,null,null,null,0,"2/7 Hour 15",903]
[2,"Wkdy",7,16,null,null,null,null,null,null,null,null,0,null,null,2,"Wkdy",7,16,null,null,null,null,null,null,null,null,0,"2/7 Hour 16",904]
[2,"Wkdy",7,17,null,null,null,null,null,null,null,null,0,null,null,2,"Wkdy",7,17,null,null,null,null,null,null,null,null,0,"2/7 Hour 17",905]
[2,"Wkdy",7,18,null,null,null,null,null,null,null,null,0,null,null,2,"Wkdy",7,18,null,null,null,null,null,null,null,null,0,"2/7 Hour 18",906]
[2,"Wkdy",7,19,null,null,null,null,null,null,null,null,0,null,null,2,"Wkdy",7,19,null,null,null,null,null,null,null,null,0,"2/7 Hour 19",907]
[2,"Wkdy",7,20,null,null,null,null,null,null,null,null,0,null,null,2,"Wkdy",7,20,null,null,null,null,null,null,null,null,0,"2/7 Hour 20",908]
[2,"Wkdy",7,21,null,null,null,null,null,null,null,null,0,null,null,2,"Wkdy",7,21,null,null,null,null,null,null,null,null,0,"2/7 Hour 21",909]
[2,"Wkdy",7,22,null,null,null,null,null,null,null,null,0,null,null,2,"Wkdy",7,22,null,null,null,null,null,null,null,null,0,"2/7 Hour 22",910]
[2,"Wkdy",7,23,null,null,null,null,null,null,null,null,0,null,null,2,"Wkdy",7,23,null,null,null,null,null,null,null,null,0,"2/7 Hour 23",911]
[2,"Wkdy",7,24,null,null,null,null,null,null,null,null,0,null,null,2,"Wkdy",7,24,null,null,null,null,null,null,null,null,0,"2/7 Hour 24",912]
[2,"Wkdy",8,1,null,null,null,null,null,null,null,null,0,null,null,2,"Wkdy",8,1,null,null,null,null,null,null,null,null,0,"2/8 Hour 1",913]
[2,"Wkdy",8,2,null,null,null,null,null,null,null,null,0,null,null,2,"Wkdy",8,2,null,null,null,null,null,null,null,null,0,"2/8 Hour 2",914]
[2,"Wkdy",8,3,null,null,null,null,null,null,null,null,0,null,null,2,"Wkdy",8,3,null,null,null,null,null,null,null,null,0,"2/8 Hour 3",915]
[2,"Wkdy",8,4,null,null,null,null,null,null,null,null,0,null,null,2,"Wkdy",8,4,null,null,null,null,null,null,null,null,0,"2/8 Hour 4",916]
[2,"Wkdy",8,5,null,null,null,null,null,null,null,null,0,null,null,2,"Wkdy",8,5,null,null,null,null,null,null,null,null,0,"2/8 Hour 5",917]
[2,"Wkdy",8,6,null,null,null,null,null,null,null,null,0,null,null,2,"Wkdy",8,6,null,null,null,null,null,null,null,null,0,"2/8 Hour 6",918]
[2,"Wkdy",8,7,null,null,null,null,null,null,null,null,0,null,null,2,"Wkdy",8,7,null,null,null,null,null,null,null,null,0,"2/8 Hour 7",919]
[2,"Wkdy",8,8,null,null,null,null,null,null,null,null,0,null,null,2,"Wkdy",8,8,null,null,null,null,null,null,null,null,0,"2/8 Hour 8",920]
[2,"Wkdy",8,9,null,null,null,null,null,null,null,null,0,null,null,2,"Wkdy",8,9,null,null,null,null,null,null,null,null,0,"2/8 Hour 9",921]
[2,"Wkdy",8,10,null,null,null,null,null,null,null,null,0,null,null,2,"Wkdy",8,10,null,null,null,null,null,null,null,null,0,"2/8 Hour 10",922]
[2,"Wkdy",8,11,null,null,null,null,null,null,null,null,0,null,null,2,"Wkdy",8,11,null,null,null,null,null,null,null,null,0,"2/8 Hour 11",923]
[2,"Wkdy",8,12,null,null,null,null,null,null,null,null,0,null,null,2,"Wkdy",8,12,null,null,null,null,null,null,null,null,0,"2/8 Hour 12",924]
[2,"Wkdy",8,13,null,null,null,null,null,null,null,null,0,null,null,2,"Wkdy",8,13,null,null,null,null,null,null,null,null,0,"2/8 Hour 13",925]
[2,"Wkdy",8,14,null,null,null,null,null,null,null,null,0,null,null,2,"Wkdy",8,14,null,null,null,null,null,null,null,null,0,"2/8 Hour 14",926]
[2,"Wkdy",8,15,null,null,null,null,null,null,null,null,0,null,null,2,"Wkdy",8,15,null,null,null,null,null,null,null,null,0,"2/8 Hour 15",927]
[2,"Wkdy",8,16,null,null,null,null,null,null,null,null,0,null,null,2,"Wkdy",8,16,null,null,null,null,null,null,null,null,0,"2/8 Hour 16",928]
[2,"Wkdy",8,17,null,null,null,null,null,null,null,null,0,null,null,2,"Wkdy",8,17,null,null,null,null,null,null,null,null,0,"2/8 Hour 17",929]
[2,"Wkdy",8,18,null,null,null,null,null,null,null,null,0,null,null,2,"Wkdy",8,18,null,null,null,null,null,null,null,null,0,"2/8 Hour 18",930]
[2,"Wkdy",8,19,null,null,null,null,null,null,null,null,0,null,null,2,"Wkdy",8,19,null,null,null,null,null,null,null,null,0,"2/8 Hour 19",931]
[2,"Wkdy",8,20,null,null,null,null,null,null,null,null,0,null,null,2,"Wkdy",8,20,null,null,null,null,null,null,null,null,0,"2/8 Hour 20",932]
[2,"Wkdy",8,21,null,null,null,null,null,null,null,null,0,null,null,2,"Wkdy",8,21,null,null,null,null,null,null,null,null,0,"2/8 Hour 21",933]
[2,"Wkdy",8,22,null,null,null,null,null,null,null,null,0,null,null,2,"Wkdy",8,22,null,null,null,null,null,null,null,null,0,"2/8 Hour 22",934]
[2,"Wkdy",8,23,null,null,null,null,null,null,null,null,0,null,null,2,"Wkdy",8,23,null,null,null,null,null,null,null,null,0,"2/8 Hour 23",935]
[2,"Wkdy",8,24,null,null,null,null,null,null,null,null,0,null,null,2,"Wkdy",8,24,null,null,null,null,null,null,null,null,0,"2/8 Hour 24",936]
[2,"Wkdy",9,1,null,null,null,null,null,null,null,null,0,null,null,2,"Wkdy",9,1,null,null,null,null,null,null,null,null,0,"2/9 Hour 1",937]
[2,"Wkdy",9,2,null,null,null,null,null,null,null,null,0,null,null,2,"Wkdy",9,2,null,null,null,null,null,null,null,null,0,"2/9 Hour 2",938]
[2,"Wkdy",9,3,null,null,null,null,null,null,null,null,0,null,null,2,"Wkdy",9,3,null,null,null,null,null,null,null,null,0,"2/9 Hour 3",939]
[2,"Wkdy",9,4,null,null,null,null,null,null,null,null,0,null,null,2,"Wkdy",9,4,null,null,null,null,null,null,null,null,0,"2/9 Hour 4",940]
[2,"Wkdy",9,5,null,null,null,null,null,null,null,null,0,null,null,2,"Wkdy",9,5,null,null,null,null,null,null,null,null,0,"2/9 Hour 5",941]
[2,"Wkdy",9,6,null,null,null,null,null,null,null,null,0,null,null,2,"Wkdy",9,6,null,null,null,null,null,null,null,null,0,"2/9 Hour 6",942]
[2,"Wkdy",9,7,null,null,null,null,null,null,null,null,0,null,null,2,"Wkdy",9,7,null,null,null,null,null,null,null,null,0,"2/9 Hour 7",943]
[2,"Wkdy",9,8,null,null,null,null,null,null,null,null,0,null,null,2,"Wkdy",9,8,null,null,null,null,null,null,null,null,0,"2/9 Hour 8",944]
[2,"Wkdy",9,9,null,null,null,null,null,null,null,null,0,null,null,2,"Wkdy",9,9,null,null,null,null,null,null,null,null,0,"2/9 Hour 9",945]
[2,"Wkdy",9,10,null,null,null,null,null,null,null,null,0,null,null,2,"Wkdy",9,10,null,null,null,null,null,null,null,null,0,"2/9 Hour 10",946]
[2,"Wkdy",9,11,null,null,null,null,null,null,null,null,0,null,null,2,"Wkdy",9,11,null,null,null,null,null,null,null,null,0,"2/9 Hour 11",947]
[2,"Wkdy",9,12,null,null,null,null,null,null,null,null,0,null,null,2,"Wkdy",9,12,null,null,null,null,null,null,null,null,0,"2/9 Hour 12",948]
[2,"Wkdy",9,13,null,null,null,null,null,null,null,null,0,null,null,2,"Wkdy",9,13,null,null,null,null,null,null,null,null,0,"2/9 Hour 13",949]
[2,"Wkdy",9,14,null,null,null,null,null,null,null,null,0,null,null,2,"Wkdy",9,14,null,null,null,null,null,null,null,null,0,"2/9 Hour 14",950]
[2,"Wkdy",9,15,null,null,null,null,null,null,null,null,0,null,null,2,"Wkdy",9,15,null,null,null,null,null,null,null,null,0,"2/9 Hour 15",951]
[2,"Wkdy",9,16,null,null,null,null,null,null,null,null,0,null,null,2,"Wkdy",9,16,null,null,null,null,null,null,null,null,0,"2/9 Hour 16",952]
[2,"Wkdy",9,17,null,null,null,null,null,null,null,null,0,null,null,2,"Wkdy",9,17,null,null,null,null,null,null,null,null,0,"2/9 Hour 17",953]
[2,"Wkdy",9,18,null,null,null,null,null,null,null,null,0,null,null,2,"Wkdy",9,18,null,null,null,null,null,null,null,null,0,"2/9 Hour 18",954]
[2,"Wkdy",9,19,null,null,null,null,null,null,null,null,0,null,null,2,"Wkdy",9,19,null,null,null,null,null,null,null,null,0,"2/9 Hour 19",955]
[2,"Wkdy",9,20,null,null,null,null,null,null,null,null,0,null,null,2,"Wkdy",9,20,null,null,null,null,null,null,null,null,0,"2/9 Hour 20",956]
[2,"Wkdy",9,21,null,null,null,null,null,null,null,null,0,null,null,2,"Wkdy",9,21,null,null,null,null,null,null,null,null,0,"2/9 Hour 21",957]
[2,"Wkdy",9,22,null,null,null,null,null,null,null,null,0,null,null,2,"Wkdy",9,22,null,null,null,null,null,null,null,null,0,"2/9 Hour 22",958]
[2,"Wkdy",9,23,null,null,null,null,null,null,null,null,0,null,null,2,"Wkdy",9,23,null,null,null,null,null,null,null,null,0,"2/9 Hour 23",959]
[2,"Wkdy",9,24,null,null,null,null,null,null,null,null,0,null,null,2,"Wkdy",9,24,null,null,null,null,null,null,null,null,0,"2/9 Hour 24",960]
[2,"Wkdy",10,1,null,null,null,null,null,null,null,null,0,null,null,2,"Wkdy",10,1,null,null,null,null,null,null,null,null,0,"2/10 Hour 1",961]
[2,"Wkdy",10,2,null,null,null,null,null,null,null,null,{"$f":"SUM(E965:L965)","v":0},null,null,2,"Wkdy",10,2,null,null,null,null,null,null,null,null,{"$f":"SUM(T965:AA965)","v":0},{"$f":"A965&\"/\"&C965&\" Hour \"&D965","v":"2/10 Hour 2"},{"$f":"ROW()-ROW($AD$3)","v":962}]
[2,"Wkdy",10,3,null,null,null,null,null,null,null,null,0,null,null,2,"Wkdy",10,3,null,null,null,null,null,null,null,null,0,"2/10 Hour 3",963]
[2,"Wkdy",10,4,null,null,null,null,null,null,null,null,0,null,null,2,"Wkdy",10,4,null,null,null,null,null,null,null,null,0,"2/10 Hour 4",964]
[2,"Wkdy",10,5,null,null,null,null,null,null,null,null,0,null,null,2,"Wkdy",10,5,null,null,null,null,null,null,null,null,0,"2/10 Hour 5",965]
[2,"Wkdy",10,6,null,null,null,null,null,null,null,null,0,null,null,2,"Wkdy",10,6,null,null,null,null,null,null,null,null,0,"2/10 Hour 6",966]
[2,"Wkdy",10,7,null,null,null,null,null,null,null,null,0,null,null,2,"Wkdy",10,7,null,null,null,null,null,null,null,null,0,"2/10 Hour 7",967]
[2,"Wkdy",10,8,null,null,null,null,null,null,null,null,0,null,null,2,"Wkdy",10,8,null,null,null,null,null,null,null,null,0,"2/10 Hour 8",968]
[2,"Wkdy",10,9,null,null,null,null,null,null,null,null,0,null,null,2,"Wkdy",10,9,null,null,null,null,null,null,null,null,0,"2/10 Hour 9",969]
[2,"Wkdy",10,10,null,null,null,null,null,null,null,null,0,null,null,2,"Wkdy",10,10,null,null,null,null,null,null,null,null,0,"2/10 Hour 10",970]
[2,"Wkdy",10,11,null,null,null,null,null,null,null,null,0,null,null,2,"Wkdy",10,11,null,null,null,null,null,null,null,null,0,"2/10 Hour 11",971]
[2,"Wkdy",10,12,null,null,null,null,null,null,null,null,0,null,null,2,"Wkdy",10,12,null,null,null,null,null,null,null,null,0,"2/10 Hour 12",972]
[2,"Wkdy",10,13,null,null,null,null,null,null,null,null,0,null,null,2,"Wkdy",10,13,null,null,null,null,null,null,null,null,0,"2/10 Hour 13",973]
[2,"Wkdy",10,14,null,null,null,null,null,null,null,null,0,null,null,2,"Wkdy",10,14,null,null,null,null,null,null,null,null,0,"2/10 Hour 14",974]
[2,"Wkdy",10,15,null,null,null,null,null,null,null,null,0,null,null,2,"Wkdy",10,15,null,null,null,null,null,null,null,null,0,"2/10 Hour 15",975]
[2,"Wkdy",10,16,null,null,null,null,null,null,null,null,0,null,null,2,"Wkdy",10,16,null,null,null,null,null,null,null,null,0,"2/10 Hour 16",976]
[2,"Wkdy",10,17,null,null,null,null,null,null,null,null,0,null,null,2,"Wkdy",10,17,null,null,null,null,null,null,null,null,0,"2/10 Hour 17",977]
[2,"Wkdy",10,18,null,null,null,null,null,null,null,null,0,null,null,2,"Wkdy",10,18,null,null,null,null,null,null,null,null,0,"2/10 Hour 18",978]
[2,"Wkdy",10,19,null,null,null,null,null,null,null,null,0,null,null,2,"Wkdy",10,19,null,null,null,null,null,null,null,null,0,"2/10 Hour 19",979]
[2,"Wkdy",10,20,null,null,null,null,null,null,null,null,0,null,null,2,"Wkdy",10,20,null,null,null,null,null,null,null,null,0,"2/10 Hour 20",980]
[2,"Wkdy",10,21,null,null,null,null,null,null,null,null,0,null,null,2,"Wkdy",10,21,null,null,null,null,null,null,null,null,0,"2/10 Hour 21",981]
[2,"Wkdy",10,22,null,null,null,null,null,null,null,null,0,null,null,2,"Wkdy",10,22,null,null,null,null,null,null,null,null,0,"2/10 Hour 22",982]
[2,"Wkdy",10,23,null,null,null,null,null,null,null,null,0,null,null,2,"Wkdy",10,23,null,null,null,null,null,null,null,null,0,"2/10 Hour 23",983]
[2,"Wkdy",10,24,null,null,null,null,null,null,null,null,0,null,null,2,"Wkdy",10,24,null,null,null,null,null,null,null,null,0,"2/10 Hour 24",984]
[2,"Sat",11,1,null,null,null,null,null,null,null,null,0,null,null,2,"Sat",11,1,null,null,null,null,null,null,null,null,0,"2/11 Hour 1",985]
[2,"Sat",11,2,null,null,null,null,null,null,null,null,0,null,null,2,"Sat",11,2,null,null,null,null,null,null,null,null,0,"2/11 Hour 2",986]
[2,"Sat",11,3,null,null,null,null,null,null,null,null,0,null,null,2,"Sat",11,3,null,null,null,null,null,null,null,null,0,"2/11 Hour 3",987]
[2,"Sat",11,4,null,null,null,null,null,null,null,null,0,null,null,2,"Sat",11,4,null,null,null,null,null,null,null,null,0,"2/11 Hour 4",988]
[2,"Sat",11,5,null,null,null,null,null,null,null,null,0,null,null,2,"Sat",11,5,null,null,null,null,null,null,null,null,0,"2/11 Hour 5",989]
[2,"Sat",11,6,null,null,null,null,null,null,null,null,0,null,null,2,"Sat",11,6,null,null,null,null,null,null,null,null,0,"2/11 Hour 6",990]
[2,"Sat",11,7,null,null,null,null,null,null,null,null,0,null,null,2,"Sat",11,7,null,null,null,null,null,null,null,null,0,"2/11 Hour 7",991]
[2,"Sat",11,8,null,null,null,null,null,null,null,null,0,null,null,2,"Sat",11,8,null,null,null,null,null,null,null,null,0,"2/11 Hour 8",992]
[2,"Sat",11,9,null,null,null,null,null,null,null,null,0,null,null,2,"Sat",11,9,null,null,null,null,null,null,null,null,0,"2/11 Hour 9",993]
[2,"Sat",11,10,null,null,null,null,null,null,null,null,0,null,null,2,"Sat",11,10,null,null,null,null,null,null,null,null,0,"2/11 Hour 10",994]
[2,"Sat",11,11,null,null,null,null,null,null,null,null,0,null,null,2,"Sat",11,11,null,null,null,null,null,null,null,null,0,"2/11 Hour 11",995]
[2,"Sat",11,12,null,null,null,null,null,null,null,null,0,null,null,2,"Sat",11,12,null,null,null,null,null,null,null,null,0,"2/11 Hour 12",996]
[2,"Sat",11,13,null,null,null,null,null,null,null,null,0,null,null,2,"Sat",11,13,null,null,null,null,null,null,null,null,0,"2/11 Hour 13",997]
[2,"Sat",11,18,null,null,null,null,null,null,null,null,0,null,null,2,"Sat",11,18,null,null,null,null,null,null,null,null,0,"2/11 Hour 18",1002]
[2,"Sat",11,23,null,null,null,null,null,null,null,null,0,null,null,2,"Sat",11,23,null,null,null,null,null,null,null,null,0,"2/11 Hour 23",1007]
[2,"Sun",12,8,null,null,null,null,null,null,null,null,0,null,null,2,"Sun",12,8,null,null,null,null,null,null,null,null,0,"2/12 Hour 8",1016]
[2,"Sun",12,16,null,null,null,null,null,null,null,null,0,null,null,2,"Sun",12,16,null,null,null,null,null,null,null,null,0,"2/12 Hour 16",1024]
[2,"Sun",12,22,null,null,null,null,null,null,null,null,0,null,null,2,"Sun",12,22,null,null,null,null,null,null,null,null,0,"2/12 Hour 22",1030]
[2,"Wkdy",13,9,null,null,null,null,null,null,null,null,0,null,null,2,"Wkdy",13,9,null,null,null,null,null,null,null,null,0,"2/13 Hour 9",1041]
[2,"Wkdy",13,12,null,null,null,null,null,null,null,null,0,null,null,2,"Wkdy",13,12,null,null,null,null,null,null,null,null,0,"2/13 Hour 12",1044]
[2,"Wkdy",13,18,null,null,null,null,null,null,null,null,0,null,null,2,"Wkdy",13,18,null,null,null,null,null,null,null,null,0,"2/13 Hour 18",1050]
[2,"Wkdy",14,2,null,null,null,null,null,null,null,null,0,null,null,2,"Wkdy",14,2,null,null,null,null,null,null,null,null,0,"2/14 Hour 2",1058]
[2,"Wkdy",14,11,null,null,null,null,null,null,null,null,0,null,null,2,"Wkdy",14,11,null,null,null,null,null,null,null,null,0,"2/14 Hour 11",1067]
[2,"Wkdy",14,19,null,null,null,null,null,null,null,null,0,null,null,2,"Wkdy",14,19,null,null,null,null,null,null,null,null,0,"2/14 Hour 19",1075]
[2,"Wkdy",15,4,null,null,null,null,null,null,null,null,0,null,null,2,"Wkdy",15,4,null,null,null,null,null,null,null,null,0,"2/15 Hour 4",1084]
[2,"Wkdy",15,9,null,null,null,null,null,null,null,null,0,null,null,2,"Wkdy",15,9,null,null,null,null,null,null,null,null,0,"2/15 Hour 9",1089]
[2,"Wkdy",15,21,null,null,null,null,null,null,null,null,0,null,null,2,"Wkdy",15,21,null,null,null,null,null,null,null,null,0,"2/15 Hour 21",1101]
[2,"Wkdy",15,23,null,null,null,null,null,null,null,null,0,null,null,2,"Wkdy",15,23,null,null,null,null,null,null,null,null,0,"2/15 Hour 23",1103]
[2,"Wkdy",16,6,null,null,null,null,null,null,null,null,0,null,null,2,"Wkdy",16,6,null,null,null,null,null,null,null,null,0,"2/16 Hour 6",1110]
[2,"Wkdy",16,20,null,null,null,null,null,null,null,null,0,null,null,2,"Wkdy",16,20,null,null,null,null,null,null,null,null,0,"2/16 Hour 20",1124]
[2,"Wkdy",16,23,null,null,null,null,null,null,null,null,0,null,null,2,"Wkdy",16,23,null,null,null,null,null,null,null,null,0,"2/16 Hour 23",1127]
[2,"Wkdy",17,6,null,null,null,null,null,null,null,null,0,null,null,2,"Wkdy",17,6,null,null,null,null,null,null,null,null,0,"2/17 Hour 6",1134]
[2,"Wkdy",17,16,null,null,null,null,null,null,null,null,0,null,null,2,"Wkdy",17,16,null,null,null,null,null,null,null,null,0,"2/17 Hour 16",1144]
[2,"Wkdy",17,20,null,null,null,null,null,null,null,null,0,null,null,2,"Wkdy",17,20,null,null,null,null,null,null,null,null,0,"2/17 Hour 20",1148]
[2,"Sat",18,9,null,null,null,null,null,null,null,null,0,null,null,2,"Sat",18,9,null,null,null,null,null,null,null,null,0,"2/18 Hour 9",1161]
[2,"Sat",18,17,null,null,null,null,null,null,null,null,0,null,null,2,"Sat",18,17,null,null,null,null,null,null,null,null,0,"2/18 Hour 17",1169]
[2,"Sat",18,18,null,null,null,null,null,null,null,null,0,null,null,2,"Sat",18,18,null,null,null,null,null,null,null,null,0,"2/18 Hour 18",1170]
[2,"Sun",19,7,null,null,null,null,null,null,null,null,0,null,null,2,"Sun",19,7,null,null,null,null,null,null,null,null,0,"2/19 Hour 7",1183]
[2,"Sun",19,11,null,null,null,null,null,null,null,null,0,null,null,2,"Sun",19,11,null,null,null,null,null,null,null,null,0,"2/19 Hour 11",1187]
[2,"Sun",19,17,null,null,null,null,null,null,null,null,0,null,null,2,"Sun",19,17,null,null,null,null,null,null,null,null,0,"2/19 Hour 17",1193]
[2,"Hol",20,4,null,null,null,null,null,null,null,null,0,null,null,2,"Hol",20,4,null,null,null,null,null,null,null,null,0,"2/20 Hour 4",1204]
[2,"Hol",20,14,null,null,null,null,null,null,null,null,0,null,null,2,"Hol",20,14,null,null,null,null,null,null,null,null,0,"2/20 Hour 14",1214]
[2,"Hol",20,21,null,null,null,null,null,null,null,null,0,null,null,2,"Hol",20,21,null,null,null,null,null,null,null,null,0,"2/20 Hour 21",1221]
[2,"Wkdy",21,4,null,null,null,null,null,null,null,null,0,null,null,2,"Wkdy",21,4,null,null,null,null,null,null,null,null,0,"2/21 Hour 4",1228]
[2,"Wkdy",21,6,null,null,null,null,null,null,null,null,0,null,null,2,"Wkdy",21,6,null,null,null,null,null,null,null,null,0,"2/21 Hour 6",1230]
[2,"Wkdy",21,18,null,null,null,null,null,null,null,null,0,null,null,2,"Wkdy",21,18,null,null,null,null,null,null,null,null,0,"2/21 Hour 18",1242]
[2,"Wkdy",21,23,null,null,null,null,null,null,null,null,0,null,null,2,"Wkdy",21,23,null,null,null,null,null,null,null,null,0,"2/21 Hour 23",1247]
[2,"Wkdy",22,11,null,null,null,null,null,null,null,null,0,null,null,2,"Wkdy",22,11,null,null,null,null,null,null,null,null,0,"2/22 Hour 11",1259]
[2,"Wkdy",22,16,null,null,null,null,null,null,null,null,0,null,null,2,"Wkdy",22,16,null,null,null,null,null,null,null,null,0,"2/22 Hour 16",1264]
[2,"Wkdy",23,1,null,null,null,null,null,null,null,null,0,null,null,2,"Wkdy",23,1,null,null,null,null,null,null,null,null,0,"2/23 Hour 1",1273]
[2,"Wkdy",23,9,null,null,null,null,null,null,null,null,0,null,null,2,"Wkdy",23,9,null,null,null,null,null,null,null,null,0,"2/23 Hour 9",1281]
[2,"Wkdy",23,18,null,null,null,null,null,null,null,null,0,null,null,2,"Wkdy",23,18,null,null,null,null,null,null,null,null,0,"2/23 Hour 18",1290]
[2,"Wkdy",23,24,null,null,null,null,null,null,null,null,0,null,null,2,"Wkdy",23,24,null,null,null,null,null,null,null,null,0,"2/23 Hour 24",1296]
[2,"Wkdy",24,3,null,null,null,null,null,null,null,null,0,null,null,2,"Wkdy",24,3,null,null,null,null,null,null,null,null,0,"2/24 Hour 3",1299]
[2,"Wkdy",24,14,null,null,null,null,null,null,null,null,0,null,null,2,"Wkdy",24,14,null,null,null,null,null,null,null,null,0,"2/24 Hour 14",1310]
[2,"Wkdy",24,20,null,null,null,null,null,null,null,null,0,null,null,2,"Wkdy",24,20,null,null,null,null,null,null,null,null,0,"2/24 Hour 20",1316]
[2,"Sat",25,4,null,null,null,null,null,null,null,null,0,null,null,2,"Sat",25,4,null,null,null,null,null,null,null,null,0,"2/25 Hour 4",1324]
[2,"Sat",25,13,null,null,null,null,null,null,null,null,0,null,null,2,"Sat",25,13,null,null,null,null,null,null,null,null,0,"2/25 Hour 13",1333]
[2,"Sat",25,18,null,null,null,null,null,null,null,null,0,null,null,2,"Sat",25,18,null,null,null,null,null,null,null,null,0,"2/25 Hour 18",1338]
[2,"Sun",26,6,null,null,null,null,null,null,null,null,0,null,null,2,"Sun",26,6,null,null,null,null,null,null,null,null,0,"2/26 Hour 6",1350]
[2,"Sun",26,11,null,null,null,null,null,null,null,null,0,null,null,2,"Sun",26,11,null,null,null,null,null,null,null,null,0,"2/26 Hour 11",1355]
[2,"Sun",26,15,null,null,null,null,null,null,null,null,0,null,null,2,"Sun",26,15,null,null,null,null,null,null,null,null,0,"2/26 Hour 15",1359]
[2,"Wkdy",27,1,null,null,null,null,null,null,null,null,0,null,null,2,"Wkdy",27,1,null,null,null,null,null,null,null,null,0,"2/27 Hour 1",1369]
[2,"Wkdy",27,8,null,null,null,null,null,null,null,null,0,null,null,2,"Wkdy",27,8,null,null,null,null,null,null,null,null,0,"2/27 Hour 8",1376]
[2,"Wkdy",27,15,null,null,null,null,null,null,null,null,0,null,null,2,"Wkdy",27,15,null,null,null,null,null,null,null,null,0,"2/27 Hour 15",1383]
[2,"Wkdy",28,1,null,null,null,null,null,null,null,null,0,null,null,2,"Wkdy",28,1,null,null,null,null,null,null,null,null,0,"2/28 Hour 1",1393]
[2,"Wkdy",28,5,null,null,null,null,null,null,null,null,0,null,null,2,"Wkdy",28,5,null,null,null,null,null,null,null,null,0,"2/28 Hour 5",1397]
[2,"Wkdy",28,18,null,null,null,null,null,null,null,null,{"$f":"SUM(E1413:L1413)","v":0},null,null,2,"Wkdy",28,18,null,null,null,null,null,null,null,null,{"$f":"SUM(T1413:AA1413)","v":0},{"$f":"A1413&\"/\"&C1413&\" Hour \"&D1413","v":"2/28 Hour 18"},{"$f":"ROW()-ROW($AD$3)","v":1410}]
[2,"Wkdy",28,19,null,null,null,null,null,null,null,null,0,null,null,2,"Wkdy",28,19,null,null,null,null,null,null,null,null,0,"2/28 Hour 19",1411]
[3,"Wkdy",1,3,null,null,null,null,null,null,null,null,0,null,null,3,"Wkdy",1,3,null,null,null,null,null,null,null,null,0,"3/1 Hour 3",1419]
[3,"Wkdy",1,12,null,null,null,null,null,null,null,null,0,null,null,3,"Wkdy",1,12,null,null,null,null,null,null,null,null,0,"3/1 Hour 12",1428]
[3,"Wkdy",1,20,null,null,null,null,null,null,null,null,0,null,null,3,"Wkdy",1,20,null,null,null,null,null,null,null,null,0,"3/1 Hour 20",1436]
[3,"Wkdy",2,2,null,null,null,null,null,null,null,null,0,null,null,3,"Wkdy",2,2,null,null,null,null,null,null,null,null,0,"3/2 Hour 2",1442]
[3,"Wkdy",2,13,null,null,null,null,null,null,null,null,0,null,null,3,"Wkdy",2,13,null,null,null,null,null,null,null,null,0,"3/2 Hour 13",1453]
[3,"Wkdy",2,16,null,null,null,null,null,null,null,null,0,null,null,3,"Wkdy",2,16,null,null,null,null,null,null,null,null,0,"3/2 Hour 16",1456]
[3,"Wkdy",3,6,null,null,null,null,null,null,null,null,0,null,null,3,"Wkdy",3,6,null,null,null,null,null,null,null,null,0,"3/3 Hour 6",1470]
[3,"Wkdy",3,13,null,null,null,null,null,null,null,null,0,null,null,3,"Wkdy",3,13,null,null,null,null,null,null,null,null,0,"3/3 Hour 13",1477]
[3,"Wkdy",3,15,null,null,null,null,null,null,null,null,0,null,null,3,"Wkdy",3,15,null,null,null,null,null,null,null,null,0,"3/3 Hour 15",1479]
[3,"Wkdy",3,23,null,null,null,null,null,null,null,null,0,null,null,3,"Wkdy",3,23,null,null,null,null,null,null,null,null,0,"3/3 Hour 23",1487]
[3,"Sat",4,8,null,null,null,null,null,null,null,null,0,null,null,3,"Sat",4,8,null,null,null,null,null,null,null,null,0,"3/4 Hour 8",1496]
[3,"Sat",4,13,null,null,null,null,null,null,null,null,0,null,null,3,"Sat",4,13,null,null,null,null,null,null,null,null,0,"3/4 Hour 13",1501]
[3,"Sun",5,1,null,null,null,null,null,null,null,null,0,null,null,3,"Sun",5,1,null,null,null,null,null,null,null,null,0,"3/5 Hour 1",1513]
[3,"Sun",5,10,null,null,null,null,null,null,null,null,0,null,null,3,"Sun",5,10,null,null,null,null,null,null,null,null,0,"3/5 Hour 10",1522]
[3,"Sun",5,18,null,null,null,null,null,null,null,null,0,null,null,3,"Sun",5,18,null,null,null,null,null,null,null,null,0,"3/5 Hour 18",1530]
[3,"Sun",5,24,null,null,null,null,null,null,null,null,0,null,null,3,"Sun",5,24,null,null,null,null,null,null,null,null,0,"3/5 Hour 24",1536]
[3,"Wkdy",6,3,null,null,null,null,null,null,null,null,0,null,null,3,"Wkdy",6,3,null,null,null,null,null,null,null,null,0,"3/6 Hour 3",1539]
[3,"Wkdy",6,10,null,null,null,null,null,null,null,null,0,null,null,3,"Wkdy",6,10,null,null,null,null,null,null,null,null,0,"3/6 Hour 10",1546]
[3,"Wkdy",6,20,null,null,null,null,null,null,null,null,0,null,null,3,"Wkdy",6,20,null,null,null,null,null,null,null,null,0,"3/6 Hour 20",1556]
[3,"Wkdy",7,7,null,null,null,null,null,null,null,null,0,null,null,3,"Wkdy",7,7,null,null,null,null,null,null,null,null,0,"3/7 Hour 7",1567]
[3,"Wkdy",7,13,null,null,null,null,null,null,null,null,0,null,null,3,"Wkdy",7,13,null,null,null,null,null,null,null,null,0,"3/7 Hour 13",1573]
[3,"Wkdy",7,22,null,null,null,null,null,null,null,null,0,null,null,3,"Wkdy",7,22,null,null,null,null,null,null,null,null,0,"3/7 Hour 22",1582]
[3,"Wkdy",8,6,null,null,null,null,null,null,null,null,0,null,null,3,"Wkdy",8,6,null,null,null,null,null,null,null,null,0,"3/8 Hour 6",1590]
[3,"Wkdy",8,7,null,null,null,null,null,null,null,null,0,null,null,3,"Wkdy",8,7,null,null,null,null,null,null,null,null,0,"3/8 Hour 7",1591]
[3,"Wkdy",8,20,null,null,null,null,null,null,null,null,0,null,null,3,"Wkdy",8,20,null,null,null,null,null,null,null,null,0,"3/8 Hour 20",1604]
[3,"Wkdy",8,24,null,null,null,null,null,null,null,null,0,null,null,3,"Wkdy",8,24,null,null,null,null,null,null,null,null,0,"3/8 Hour 24",1608]
[3,"Wkdy",9,10,null,null,null,null,null,null,null,null,0,null,null,3,"Wkdy",9,10,null,null,null,null,null,null,null,null,0,"3/9 Hour 10",1618]
[3,"Wkdy",9,17,null,null,null,null,null,null,null,null,0,null,null,3,"Wkdy",9,17,null,null,null,null,null,null,null,null,0,"3/9 Hour 17",1625]
[3,"Wkdy",9,24,null,null,null,null,null,null,null,null,0,null,null,3,"Wkdy",9,24,null,null,null,null,null,null,null,null,0,"3/9 Hour 24",1632]
[3,"Wkdy",10,10,null,null,null,null,null,null,null,null,0,null,null,3,"Wkdy",10,10,null,null,null,null,null,null,null,null,0,"3/10 Hour 10",1642]
[3,"Wkdy",10,17,null,null,null,null,null,null,null,null,0,null,null,3,"Wkdy",10,17,null,null,null,null,null,null,null,null,0,"3/10 Hour 17",1649]
[3,"Wkdy",10,19,null,null,null,null,null,null,null,null,0,null,null,3,"Wkdy",10,19,null,null,null,null,null,null,null,null,0,"3/10 Hour 19",1651]
[3,"Sat",11,7,null,null,null,null,null,null,null,null,0,null,null,3,"Sat",11,7,null,null,null,null,null,null,null,null,0,"3/11 Hour 7",1663]
[3,"Sat",11,12,null,null,null,null,null,null,null,null,0,null,null,3,"Sat",11,12,null,null,null,null,null,null,null,null,0,"3/11 Hour 12",1668]
[3,"Sat",11,21,null,null,null,null,null,null,null,null,0,null,null,3,"Sat",11,21,null,null,null,null,null,null,null,null,0,"3/11 Hour 21",1677]
[3,"Sun",12,5,null,null,null,null,null,null,null,null,0,null,null,3,"Sun",12,5,null,null,null,null,null,null,null,null,0,"3/12 Hour 5",1685]
[3,"Sun",12,11,null,null,null,null,null,null,null,null,0,null,null,3,"Sun",12,11,null,null,null,null,null,null,null,null,0,"3/12 Hour 11",1691]
[3,"Sun",12,22,null,null,null,null,null,null,null,null,0,null,null,3,"Sun",12,22,null,null,null,null,null,null,null,null,0,"3/12 Hour 22",1702]
[3,"Wkdy",13,4,null,null,null,null,null,null,null,null,0,null,null,3,"Wkdy",13,4,null,null,null,null,null,null,null,null,0,"3/13 Hour 4",1708]
[3,"Wkdy",13,7,null,null,null,null,null,null,null,null,0,null,null,3,"Wkdy",13,7,null,null,null,null,null,null,null,null,0,"3/13 Hour 7",1711]
[3,"Wkdy",13,18,null,null,null,null,null,null,null,null,0,null,null,3,"Wkdy",13,18,null,null,null,null,null,null,null,null,0,"3/13 Hour 18",1722]
[3,"Wkdy",13,24,null,null,null,null,null,null,null,null,0,null,null,3,"Wkdy",13,24,null,null,null,null,null,null,null,null,0,"3/13 Hour 24",1728]
[3,"Wkdy",14,8,null,null,null,null,null,null,null,null,0,null,null,3,"Wkdy",14,8,null,null,null,null,null,null,null,null,0,"3/14 Hour 8",1736]
[3,"Wkdy",14,17,null,null,null,null,null,null,null,null,0,null,null,3,"Wkdy",14,17,null,null,null,null,null,null,null,null,0,"3/14 Hour 17",1745]
[3,"Wkdy",14,22,null,null,null,null,null,null,null,null,0,null,null,3,"Wkdy",14,22,null,null,null,null,null,null,null,null,0,"3/14 Hour 22",1750]
[3,"Wkdy",15,10,null,null,null,null,null,null,null,null,0,null,null,3,"Wkdy",15,10,null,null,null,null,null,null,null,null,0,"3/15 Hour 10",1762]
[3,"Wkdy",15,15,null,null,null,null,null,null,null,null,0,null,null,3,"Wkdy",15,15,null,null,null,null,null,null,null,null,0,"3/15 Hour 15",1767]
[3,"Wkdy",15,19,null,null,null,null,null,null,null,null,0,null,null,3,"Wkdy",15,19,null,null,null,null,null,null,null,null,0,"3/15 Hour 19",1771]
[3,"Wkdy",16,5,null,null,null,null,null,null,null,null,0,null,null,3,"Wkdy",16,5,null,null,null,null,null,null,null,null,0,"3/16 Hour 5",1781]
[3,"Wkdy",16,12,null,null,null,null,null,null,null,null,0,null,null,3,"Wkdy",16,12,null,null,null,null,null,null,null,null,0,"3/16 Hour 12",1788]
[3,"Wkdy",16,19,null,null,null,null,null,null,null,null,0,null,null,3,"Wkdy",16,19,null,null,null,null,null,null,null,null,0,"3/16 Hour 19",1795]
[3,"Wkdy",17,5,null,null,null,null,null,null,null,null,0,null,null,3,"Wkdy",17,5,null,null,null,null,null,null,null,null,0,"3/17 Hour 5",1805]
[3,"Wkdy",17,9,null,null,null,null,null,null,null,null,0,null,null,3,"Wkdy",17,9,null,null,null,null,null,null,null,null,0,"3/17 Hour 9",1809]
[3,"Wkdy",17,22,null,null,null,null,null,null,null,null,0,null,null,3,"Wkdy",17,22,null,null,null,null,null,null,null,null,0,"3/17 Hour 22",1822]
[3,"Sat",18,6,null,null,null,null,null,null,null,null,0,null,null,3,"Sat",18,6,null,null,null,null,null,null,null,null,0,"3/18 Hour 6",1830]
[3,"Sat",18,7,null,null,null,null,null,null,null,null,0,null,null,3,"Sat",18,7,null,null,null,null,null,null,null,null,0,"3/18 Hour 7",1831]
[3,"Sat",18,16,null,null,null,null,null,null,null,null,0,null,null,3,"Sat",18,16,null,null,null,null,null,null,null,null,0,"3/18 Hour 16",1840]
[3,"Sat",18,24,null,null,null,null,null,null,null,null,0,null,null,3,"Sat",18,24,null,null,null,null,null,null,null,null,0,"3/18 Hour 24",1848]
[3,"Sun",19,6,null,null,null,null,null,null,null,null,0,null,null,3,"Sun",19,6,null,null,null,null,null,null,null,null,0,"3/19 Hour 6",1854]
[3,"Sun",19,17,null,null,null,null,null,null,null,null,0,null,null,3,"Sun",19,17,null,null,null,null,null,null,null,null,0,"3/19 Hour 17",1865]
[3,"Wkdy",20,2,null,null,null,null,null,null,null,null,0,null,null,3,"Wkdy",20,2,null,null,null,null,null,null,null,null,0,"3/20 Hour 2",1874]
[3,"Wkdy",20,5,null,null,null,null,null,null,null,null,0,null,null,3,"Wkdy",20,5,null,null,null,null,null,null,null,null,0,"3/20 Hour 5",1877]
[3,"Wkdy",20,19,null,null,null,null,null,null,null,null,0,null,null,3,"Wkdy",20,19,null,null,null,null,null,null,null,null,0,"3/20 Hour 19",1891]
[3,"Wkdy",21,2,null,null,null,null,null,null,null,null,0,null,null,3,"Wkdy",21,2,null,null,null,null,null,null,null,null,0,"3/21 Hour 2",1898]
[3,"Wkdy",21,4,null,null,null,null,null,null,null,null,0,null,null,3,"Wkdy",21,4,null,null,null,null,null,null,null,null,0,"3/21 Hour 4",1900]
[3,"Wkdy",21,16,null,null,null,null,null,null,null,null,0,null,null,3,"Wkdy",21,16,null,null,null,null,null,null,null,null,0,"3/21 Hour 16",1912]
[3,"Wkdy",21,21,null,null,null,null,null,null,null,null,0,null,null,3,"Wkdy",21,21,null,null,null,null,null,null,null,null,0,"3/21 Hour 21",1917]
[3,"Wkdy",22,2,null,null,null,null,null,null,null,null,{"$f":"SUM(E1925:L1925)","v":0},null,null,3,"Wkdy",22,2,null,null,null,null,null,null,null,null,{"$f":"SUM(T1925:AA1925)","v":0},{"$f":"A1925&\"/\"&C1925&\" Hour \"&D1925","v":"3/22 Hour 2"},{"$f":"ROW()-ROW($AD$3)","v":1922}]
[3,"Wkdy",22,14,null,null,null,null,null,null,null,null,0,null,null,3,"Wkdy",22,14,null,null,null,null,null,null,null,null,0,"3/22 Hour 14",1934]
[3,"Wkdy",22,23,null,null,null,null,null,null,null,null,0,null,null,3,"Wkdy",22,23,null,null,null,null,null,null,null,null,0,"3/22 Hour 23",1943]
[3,"Wkdy",23,7,null,null,null,null,null,null,null,null,0,null,null,3,"Wkdy",23,7,null,null,null,null,null,null,null,null,0,"3/23 Hour 7",1951]
[3,"Wkdy",23,13,null,null,null,null,null,null,null,null,0,null,null,3,"Wkdy",23,13,null,null,null,null,null,null,null,null,0,"3/23 Hour 13",1957]
[3,"Wkdy",23,16,null,null,null,null,null,null,null,null,0,null,null,3,"Wkdy",23,16,null,null,null,null,null,null,null,null,0,"3/23 Hour 16",1960]
[3,"Wkdy",24,3,null,null,null,null,null,null,null,null,0,null,null,3,"Wkdy",24,3,null,null,null,null,null,null,null,null,0,"3/24 Hour 3",1971]
[3,"Wkdy",24,9,null,null,null,null,null,null,null,null,0,null,null,3,"Wkdy",24,9,null,null,null,null,null,null,null,null,0,"3/24 Hour 9",1977]
[3,"Wkdy",24,17,null,null,null,null,null,null,null,null,0,null,null,3,"Wkdy",24,17,null,null,null,null,null,null,null,null,0,"3/24 Hour 17",1985]
[3,"Sat",25,2,null,null,null,null,null,null,null,null,0,null,null,3,"Sat",25,2,null,null,null,null,null,null,null,null,0,"3/25 Hour 2",1994]
[3,"Sat",25,10,null,null,null,null,null,null,null,null,0,null,null,3,"Sat",25,10,null,null,null,null,null,null,null,null,0,"3/25 Hour 10",2002]
[3,"Sat",25,19,null,null,null,null,null,null,null,null,0,null,null,3,"Sat",25,19,null,null,null,null,null,null,null,null,0,"3/25 Hour 19",2011]
[3,"Sat",25,24,null,null,null,null,null,null,null,null,0,null,null,3,"Sat",25,24,null,null,null,null,null,null,null,null,0,"3/25 Hour 24",2016]
[3,"Sun",26,4,null,null,null,null,null,null,null,null,0,null,null,3,"Sun",26,4,null,null,null,null,null,null,null,null,0,"3/26 Hour 4",2020]
[3,"Sun",26,14,null,null,null,null,null,null,null,null,0,null,null,3,"Sun",26,14,null,null,null,null,null,null,null,null,0,"3/26 Hour 14",2030]
[3,"Sun",26,21,null,null,null,null,null,null,null,null,0,null,null,3,"Sun",26,21,null,null,null,null,null,null,null,null,0,"3/26 Hour 21",2037]
[3,"Wkdy",27,4,null,null,null,null,null,null,null,null,0,null,null,3,"Wkdy",27,4,null,null,null,null,null,null,null,null,0,"3/27 Hour 4",2044]
[3,"Wkdy",27,14,null,null,null,null,null,null,null,null,0,null,null,3,"Wkdy",27,14,null,null,null,null,null,null,null,null,0,"3/27 Hour 14",2054]
[3,"Wkdy",27,21,null,null,null,null,null,null,null,null,0,null,null,3,"Wkdy",27,21,null,null,null,null,null,null,null,null,0,"3/27 Hour 21",2061]
[3,"Wkdy",28,7,null,null,null,null,null,null,null,null,0,null,null,3,"Wkdy",28,7,null,null,null,null,null,null,null,null,0,"3/28 Hour 7",2071]
[3,"Wkdy",28,11,null,null,null,null,null,null,null,null,0,null,null,3,"Wkdy",28,11,null,null,null,null,null,null,null,null,0,"3/28 Hour 11",2075]
[3,"Wkdy",28,16,null,null,null,null,null,null,null,null,0,null,null,3,"Wkdy",28,16,null,null,null,null,null,null,null,null,0,"3/28 Hour 16",2080]
[3,"Wkdy",29,1,null,null,null,null,null,null,null,null,0,null,null,3,"Wkdy",29,1,null,null,null,null,null,null,null,null,0,"3/29 Hour 1",2089]
[3,"Wkdy",29,9,null,null,null,null,null,null,null,null,0,null,null,3,"Wkdy",29,9,null,null,null,null,null,null,null,null,0,"3/29 Hour 9",2097]
[3,"Wkdy",29,15,null,null,null,null,null,null,null,null,0,null,null,3,"Wkdy",29,15,null,null,null,null,null,null,null,null,0,"3/29 Hour 15",2103]
[3,"Wkdy",30,2,null,null,null,null,null,null,null,null,{"$f":"SUM(E2117:L2117)","v":0},null,null,3,"Wkdy",30,2,null,null,null,null,null,null,null,null,{"$f":"SUM(T2117:AA2117)","v":0},{"$f":"A2117&\"/\"&C2117&\" Hour \"&D2117","v":"3/30 Hour 2"},{"$f":"ROW()-ROW($AD$3)","v":2114}]
[3,"Wkdy",30,8,null,null,null,null,null,null,null,null,0,null,null,3,"Wkdy",30,8,null,null,null,null,null,null,null,null,0,"3/30 Hour 8",2120]
[3,"Wkdy",30,19,null,null,null,null,null,null,null,null,0,null,null,3,"Wkdy",30,19,null,null,null,null,null,null,null,null,0,"3/30 Hour 19",2131]
[3,"Wkdy",30,22,null,null,null,null,null,null,null,null,0,null,null,3,"Wkdy",30,22,null,null,null,null,null,null,null,null,0,"3/30 Hour 22",2134]
[3,"Wkdy",31,4,null,null,null,null,null,null,null,null,0,null,null,3,"Wkdy",31,4,null,null,null,null,null,null,null,null,0,"3/31 Hour 4",2140]
[3,"Wkdy",31,13,null,null,null,null,null,null,null,null,0,null,null,3,"Wkdy",31,13,null,null,null,null,null,null,null,null,0,"3/31 Hour 13",2149]
[3,"Wkdy",31,21,null,null,null,null,null,null,null,null,0,null,null,3,"Wkdy",31,21,null,null,null,null,null,null,null,null,0,"3/31 Hour 21",2157]
[4,"Sat",1,6,null,null,null,null,null,null,null,null,0,null,null,4,"Sat",1,6,null,null,null,null,null,null,null,null,0,"4/1 Hour 6",2166]
[4,"Sat",1,11,null,null,null,null,null,null,null,null,0,null,null,4,"Sat",1,11,null,null,null,null,null,null,null,null,0,"4/1 Hour 11",2171]
[4,"Sat",1,23,null,null,null,null,null,null,null,null,0,null,null,4,"Sat",1,23,null,null,null,null,null,null,null,null,0,"4/1 Hour 23",2183]
[4,"Sun",2,1,null,null,null,null,null,null,null,null,0,null,null,4,"Sun",2,1,null,null,null,null,null,null,null,null,0,"4/2 Hour 1",2185]
[4,"Sun",2,8,null,null,null,null,null,null,null,null,0,null,null,4,"Sun",2,8,null,null,null,null,null,null,null,null,0,"4/2 Hour 8",2192]
[4,"Sun",2,22,null,null,null,null,null,null,null,null,0,null,null,4,"Sun",2,22,null,null,null,null,null,null,null,null,0,"4/2 Hour 22",2206]
[4,"Wkdy",3,1,null,null,null,null,null,null,null,null,0,null,null,4,"Wkdy",3,1,null,null,null,null,null,null,null,null,0,"4/3 Hour 1",2209]
[4,"Wkdy",3,8,null,null,null,null,null,null,null,null,0,null,null,4,"Wkdy",3,8,null,null,null,null,null,null,null,null,0,"4/3 Hour 8",2216]
[4,"Wkdy",3,18,null,null,null,null,null,null,null,null,0,null,null,4,"Wkdy",3,18,null,null,null,null,null,null,null,null,0,"4/3 Hour 18",2226]
[4,"Wkdy",3,22,null,null,null,null,null,null,null,null,0,null,null,4,"Wkdy",3,22,null,null,null,null,null,null,null,null,0,"4/3 Hour 22",2230]
[4,"Wkdy",4,11,null,null,null,null,null,null,null,null,0,null,null,4,"Wkdy",4,11,null,null,null,null,null,null,null,null,0,"4/4 Hour 11",2243]
[4,"Wkdy",4,19,null,null,null,null,null,null,null,null,0,null,null,4,"Wkdy",4,19,null,null,null,null,null,null,null,null,0,"4/4 Hour 19",2251]
[4,"Wkdy",4,20,null,null,null,null,null,null,null,null,0,null,null,4,"Wkdy",4,20,null,null,null,null,null,null,null,null,0,"4/4 Hour 20",2252]
[4,"Wkdy",5,9,null,null,null,null,null,null,null,null,0,null,null,4,"Wkdy",5,9,null,null,null,null,null,null,null,null,0,"4/5 Hour 9",2265]
[4,"Wkdy",5,13,null,null,null,null,null,null,null,null,0,null,null,4,"Wkdy",5,13,null,null,null,null,null,null,null,null,0,"4/5 Hour 13",2269]
[4,"Wkdy",5,19,null,null,null,null,null,null,null,null,0,null,null,4,"Wkdy",5,19,null,null,null,null,null,null,null,null,0,"4/5 Hour 19",2275]
[4,"Wkdy",6,6,null,null,null,null,null,null,null,null,0,null,null,4,"Wkdy",6,6,null,null,null,null,null,null,null,null,0,"4/6 Hour 6",2286]
[4,"Wkdy",6,16,null,null,null,null,null,null,null,null,0,null,null,4,"Wkdy",6,16,null,null,null,null,null,null,null,null,0,"4/6 Hour 16",2296]
[4,"Wkdy",6,23,null,null,null,null,null,null,null,null,0,null,null,4,"Wkdy",6,23,null,null,null,null,null,null,null,null,0,"4/6 Hour 23",2303]
[4,"Wkdy",7,6,null,null,null,null,null,null,null,null,0,null,null,4,"Wkdy",7,6,null,null,null,null,null,null,null,null,0,"4/7 Hour 6",2310]
[4,"Wkdy",7,8,null,null,null,null,null,null,null,null,0,null,null,4,"Wkdy",7,8,null,null,null,null,null,null,null,null,0,"4/7 Hour 8",2312]
[4,"Wkdy",7,20,null,null,null,null,null,null,null,null,0,null,null,4,"Wkdy",7,20,null,null,null,null,null,null,null,null,0,"4/7 Hour 20",2324]
[4,"Sat",8,1,null,null,null,null,null,null,null,null,0,null,null,4,"Sat",8,1,null,null,null,null,null,null,null,null,0,"4/8 Hour 1",2329]
[4,"Sat",8,13,null,null,null,null,null,null,null,null,0,null,null,4,"Sat",8,13,null,null,null,null,null,null,null,null,0,"4/8 Hour 13",2341]
[4,"Sat",8,18,null,null,null,null,null,null,null,null,0,null,null,4,"Sat",8,18,null,null,null,null,null,null,null,null,0,"4/8 Hour 18",2346]
[4,"Sun",9,3,null,null,null,null,null,null,null,null,0,null,null,4,"Sun",9,3,null,null,null,null,null,null,null,null,0,"4/9 Hour 3",2355]
[4,"Sun",9,11,null,null,null,null,null,null,null,null,0,null,null,4,"Sun",9,11,null,null,null,null,null,null,null,null,0,"4/9 Hour 11",2363]
[4,"Sun",9,17,null,null,null,null,null,null,null,null,0,null,null,4,"Sun",9,17,null,null,null,null,null,null,null,null,0,"4/9 Hour 17",2369]
[4,"Sun",9,20,null,null,null,null,null,null,null,null,0,null,null,4,"Sun",9,20,null,null,null,null,null,null,null,null,0,"4/9 Hour 20",2372]
[4,"Wkdy",10,7,null,null,null,null,null,null,null,null,0,null,null,4,"Wkdy",10,7,null,null,null,null,null,null,null,null,0,"4/10 Hour 7",2383]
[4,"Wkdy",10,13,null,null,null,null,null,null,null,null,0,null,null,4,"Wkdy",10,13,null,null,null,null,null,null,null,null,0,"4/10 Hour 13",2389]
[4,"Wkdy",10,21,null,null,null,null,null,null,null,null,0,null,null,4,"Wkdy",10,21,null,null,null,null,null,null,null,null,0,"4/10 Hour 21",2397]
[4,"Wkdy",11,6,null,null,null,null,null,null,null,null,0,null,null,4,"Wkdy",11,6,null,null,null,null,null,null,null,null,0,"4/11 Hour 6",2406]
[4,"Wkdy",11,14,null,null,null,null,null,null,null,null,0,null,null,4,"Wkdy",11,14,null,null,null,null,null,null,null,null,0,"4/11 Hour 14",2414]
[4,"Wkdy",11,23,null,null,null,null,null,null,null,null,0,null,null,4,"Wkdy",11,23,null,null,null,null,null,null,null,null,0,"4/11 Hour 23",2423]
[4,"Wkdy",12,4,null,null,null,null,null,null,null,null,0,null,null,4,"Wkdy",12,4,null,null,null,null,null,null,null,null,0,"4/12 Hour 4",2428]
[4,"Wkdy",12,8,null,null,null,null,null,null,null,null,0,null,null,4,"Wkdy",12,8,null,null,null,null,null,null,null,null,0,"4/12 Hour 8",2432]
[4,"Wkdy",12,17,null,null,null,null,null,null,null,null,0,null,null,4,"Wkdy",12,17,null,null,null,null,null,null,null,null,0,"4/12 Hour 17",2441]
[4,"Wkdy",13,3,null,null,null,null,null,null,null,null,0,null,null,4,"Wkdy",13,3,null,null,null,null,null,null,null,null,0,"4/13 Hour 3",2451]
[4,"Wkdy",13,10,null,null,null,null,null,null,null,null,0,null,null,4,"Wkdy",13,10,null,null,null,null,null,null,null,null,0,"4/13 Hour 10",2458]
[4,"Wkdy",13,17,null,null,null,null,null,null,null,null,0,null,null,4,"Wkdy",13,17,null,null,null,null,null,null,null,null,0,"4/13 Hour 17",2465]
[4,"Wkdy",14,3,null,null,null,null,null,null,null,null,0,null,null,4,"Wkdy",14,3,null,null,null,null,null,null,null,null,0,"4/14 Hour 3",2475]
[4,"Wkdy",14,7,null,null,null,null,null,null,null,null,0,null,null,4,"Wkdy",14,7,null,null,null,null,null,null,null,null,0,"4/14 Hour 7",2479]
[4,"Wkdy",14,20,null,null,null,null,null,null,null,null,0,null,null,4,"Wkdy",14,20,null,null,null,null,null,null,null,null,0,"4/14 Hour 20",2492]
[4,"Wkdy",14,21,null,null,null,null,null,null,null,null,0,null,null,4,"Wkdy",14,21,null,null,null,null,null,null,null,null,0,"4/14 Hour 21",2493]
[4,"Sat",15,5,null,null,null,null,null,null,null,null,0,null,null,4,"Sat",15,5,null,null,null,null,null,null,null,null,0,"4/15 Hour 5",2501]
[4,"Sat",15,14,null,null,null,null,null,null,null,null,0,null,null,4,"Sat",15,14,null,null,null,null,null,null,null,null,0,"4/15 Hour 14",2510]
[4,"Sat",15,22,null,null,null,null,null,null,null,null,0,null,null,4,"Sat",15,22,null,null,null,null,null,null,null,null,0,"4/15 Hour 22",2518]
[4,"Sun",16,4,null,null,null,null,null,null,null,null,0,null,null,4,"Sun",16,4,null,null,null,null,null,null,null,null,0,"4/16 Hour 4",2524]
[4,"Sun",16,15,null,null,null,null,null,null,null,null,0,null,null,4,"Sun",16,15,null,null,null,null,null,null,null,null,0,"4/16 Hour 15",2535]
[4,"Sun",16,18,null,null,null,null,null,null,null,null,0,null,null,4,"Sun",16,18,null,null,null,null,null,null,null,null,0,"4/16 Hour 18",2538]
[4,"Wkdy",17,8,null,null,null,null,null,null,null,null,0,null,null,4,"Wkdy",17,8,null,null,null,null,null,null,null,null,0,"4/17 Hour 8",2552]
[4,"Wkdy",17,15,null,null,null,null,null,null,null,null,0,null,null,4,"Wkdy",17,15,null,null,null,null,null,null,null,null,0,"4/17 Hour 15",2559]
[4,"Wkdy",17,17,null,null,null,null,null,null,null,null,0,null,null,4,"Wkdy",17,17,null,null,null,null,null,null,null,null,0,"4/17 Hour 17",2561]
[4,"Wkdy",18,1,null,null,null,null,null,null,null,null,0,null,null,4,"Wkdy",18,1,null,null,null,null,null,null,null,null,0,"4/18 Hour 1",2569]
[4,"Wkdy",18,10,null,null,null,null,null,null,null,null,0,null,null,4,"Wkdy",18,10,null,null,null,null,null,null,null,null,0,"4/18 Hour 10",2578]
[4,"Wkdy",18,15,null,null,null,null,null,null,null,null,0,null,null,4,"Wkdy",18,15,null,null,null,null,null,null,null,null,0,"4/18 Hour 15",2583]
[4,"Wkdy",19,3,null,null,null,null,null,null,null,null,0,null,null,4,"Wkdy",19,3,null,null,null,null,null,null,null,null,0,"4/19 Hour 3",2595]
[4,"Wkdy",19,12,null,null,null,null,null,null,null,null,0,null,null,4,"Wkdy",19,12,null,null,null,null,null,null,null,null,0,"4/19 Hour 12",2604]
[4,"Wkdy",19,20,null,null,null,null,null,null,null,null,0,null,null,4,"Wkdy",19,20,null,null,null,null,null,null,null,null,0,"4/19 Hour 20",2612]
[4,"Wkdy",20,2,null,null,null,null,null,null,null,null,0,null,null,4,"Wkdy",20,2,null,null,null,null,null,null,null,null,0,"4/20 Hour 2",2618]
[4,"Wkdy",20,5,null,null,null,null,null,null,null,null,0,null,null,4,"Wkdy",20,5,null,null,null,null,null,null,null,null,0,"4/20 Hour 5",2621]
[4,"Wkdy",20,12,null,null,null,null,null,null,null,null,0,null,null,4,"Wkdy",20,12,null,null,null,null,null,null,null,null,0,"4/20 Hour 12",2628]
[4,"Wkdy",20,22,null,null,null,null,null,null,null,null,0,null,null,4,"Wkdy",20,22,null,null,null,null,null,null,null,null,0,"4/20 Hour 22",2638]
[4,"Wkdy",21,9,null,null,null,null,null,null,null,null,0,null,null,4,"Wkdy",21,9,null,null,null,null,null,null,null,null,0,"4/21 Hour 9",2649]
[4,"Wkdy",21,15,null,null,null,null,null,null,null,null,0,null,null,4,"Wkdy",21,15,null,null,null,null,null,null,null,null,0,"4/21 Hour 15",2655]
[4,"Wkdy",21,23,null,null,null,null,null,null,null,null,0,null,null,4,"Wkdy",21,23,null,null,null,null,null,null,null,null,0,"4/21 Hour 23",2663]
[4,"Sat",22,8,null,null,null,null,null,null,null,null,0,null,null,4,"Sat",22,8,null,null,null,null,null,null,null,null,0,"4/22 Hour 8",2672]
[4,"Sat",22,13,null,null,null,null,null,null,null,null,0,null,null,4,"Sat",22,13,null,null,null,null,null,null,null,null,0,"4/22 Hour 13",2677]
[4,"Sat",22,17,null,null,null,null,null,null,null,null,0,null,null,4,"Sat",22,17,null,null,null,null,null,null,null,null,0,"4/22 Hour 17",2681]
[4,"Sun",23,6,null,null,null,null,null,null,null,null,0,null,null,4,"Sun",23,6,null,null,null,null,null,null,null,null,0,"4/23 Hour 6",2694]
[4,"Sun",23,10,null,null,null,null,null,null,null,null,0,null,null,4,"Sun",23,10,null,null,null,null,null,null,null,null,0,"4/23 Hour 10",2698]
[4,"Sun",23,20,null,null,null,null,null,null,null,null,0,null,null,4,"Sun",23,20,null,null,null,null,null,null,null,null,0,"4/23 Hour 20",2708]
[4,"Wkdy",24,3,null,null,null,null,null,null,null,null,0,null,null,4,"Wkdy",24,3,null,null,null,null,null,null,null,null,0,"4/24 Hour 3",2715]
[4,"Wkdy",24,10,null,null,null,null,null,null,null,null,0,null,null,4,"Wkdy",24,10,null,null,null,null,null,null,null,null,0,"4/24 Hour 10",2722]
[4,"Wkdy",24,20,null,null,null,null,null,null,null,null,0,null,null,4,"Wkdy",24,20,null,null,null,null,null,null,null,null,0,"4/24 Hour 20",2732]
[4,"Wkdy",24,21,null,null,null,null,null,null,null,null,0,null,null,4,"Wkdy",24,21,null,null,null,null,null,null,null,null,0,"4/24 Hour 21",2733]
[4,"Wkdy",25,9,null,null,null,null,null,null,null,null,0,null,null,4,"Wkdy",25,9,null,null,null,null,null,null,null,null,0,"4/25 Hour 9",2745]
[4,"Wkdy",25,14,null,null,null,null,null,null,null,null,0,null,null,4,"Wkdy",25,14,null,null,null,null,null,null,null,null,0,"4/25 Hour 14",2750]
[4,"Wkdy",25,23,null,null,null,null,null,null,null,null,0,null,null,4,"Wkdy",25,23,null,null,null,null,null,null,null,null,0,"4/25 Hour 23",2759]
[4,"Wkdy",26,7,null,null,null,null,null,null,null,null,0,null,null,4,"Wkdy",26,7,null,null,null,null,null,null,null,null,0,"4/26 Hour 7",2767]
[4,"Wkdy",26,13,null,null,null,null,null,null,null,null,0,null,null,4,"Wkdy",26,13,null,null,null,null,null,null,null,null,0,"4/26 Hour 13",2773]
[4,"Wkdy",26,24,null,null,null,null,null,null,null,null,0,null,null,4,"Wkdy",26,24,null,null,null,null,null,null,null,null,0,"4/26 Hour 24",2784]
[4,"Wkdy",27,6,null,null,null,null,null,null,null,null,0,null,null,4,"Wkdy",27,6,null,null,null,null,null,null,null,null,0,"4/27 Hour 6",2790]
[4,"Wkdy",27,9,null,null,null,null,null,null,null,null,0,null,null,4,"Wkdy",27,9,null,null,null,null,null,null,null,null,0,"4/27 Hour 9",2793]
[4,"Wkdy",27,20,null,null,null,null,null,null,null,null,0,null,null,4,"Wkdy",27,20,null,null,null,null,null,null,null,null,0,"4/27 Hour 20",2804]
[4,"Wkdy",28,2,null,null,null,null,null,null,null,null,0,null,null,4,"Wkdy",28,2,null,null,null,null,null,null,null,null,0,"4/28 Hour 2",2810]
[4,"Wkdy",28,10,null,null,null,null,null,null,null,null,{"$f":"SUM(E2821:L2821)","v":0},null,null,4,"Wkdy",28,10,null,null,null,null,null,null,null,null,{"$f":"SUM(T2821:AA2821)","v":0},{"$f":"A2821&\"/\"&C2821&\" Hour \"&D2821","v":"4/28 Hour 10"},{"$f":"ROW()-ROW($AD$3)","v":2818}]
[4,"Wkdy",28,19,null,null,null,null,null,null,null,null,0,null,null,4,"Wkdy",28,19,null,null,null,null,null,null,null,null,0,"4/28 Hour 19",2827]
[4,"Wkdy",28,24,null,null,null,null,null,null,null,null,0,null,null,4,"Wkdy",28,24,null,null,null,null,null,null,null,null,0,"4/28 Hour 24",2832]
[4,"Sat",29,12,null,null,null,null,null,null,null,null,0,null,null,4,"Sat",29,12,null,null,null,null,null,null,null,null,0,"4/29 Hour 12",2844]
[4,"Sat",29,17,null,null,null,null,null,null,null,null,0,null,null,4,"Sat",29,17,null,null,null,null,null,null,null,null,0,"4/29 Hour 17",2849]
[4,"Sat",29,21,null,null,null,null,null,null,null,null,0,null,null,4,"Sat",29,21,null,null,null,null,null,null,null,null,0,"4/29 Hour 21",2853]
[4,"Sun",30,7,null,null,null,null,null,null,null,null,0,null,null,4,"Sun",30,7,null,null,null,null,null,null,null,null,0,"4/30 Hour 7",2863]
[4,"Sun",30,14,null,null,null,null,null,null,null,null,0,null,null,4,"Sun",30,14,null,null,null,null,null,null,null,null,0,"4/30 Hour 14",2870]
[4,"Sun",30,21,null,null,null,null,null,null,null,null,0,null,null,4,"Sun",30,21,null,null,null,null,null,null,null,null,0,"4/30 Hour 21",2877]
[5,"Wkdy",1,7,null,null,null,null,null,null,null,null,0,null,null,5,"Wkdy",1,7,null,null,null,null,null,null,null,null,0,"5/1 Hour 7",2887]
[5,"Wkdy",1,11,null,null,null,null,null,null,null,null,0,null,null,5,"Wkdy",1,11,null,null,null,null,null,null,null,null,0,"5/1 Hour 11",2891]
[5,"Wkdy",1,24,null,null,null,null,null,null,null,null,0,null,null,5,"Wkdy",1,24,null,null,null,null,null,null,null,null,0,"5/1 Hour 24",2904]
[5,"Wkdy",2,8,null,null,null,null,null,null,null,null,0,null,null,5,"Wkdy",2,8,null,null,null,null,null,null,null,null,0,"5/2 Hour 8",2912]
[5,"Wkdy",2,9,null,null,null,null,null,null,null,null,0,null,null,5,"Wkdy",2,9,null,null,null,null,null,null,null,null,0,"5/2 Hour 9",2913]
[5,"Wkdy",2,18,null,null,null,null,null,null,null,null,0,null,null,5,"Wkdy",2,18,null,null,null,null,null,null,null,null,0,"5/2 Hour 18",2922]
[5,"Wkdy",3,2,null,null,null,null,null,null,null,null,0,null,null,5,"Wkdy",3,2,null,null,null,null,null,null,null,null,0,"5/3 Hour 2",2930]
[5,"Wkdy",3,8,null,null,null,null,null,null,null,null,0,null,null,5,"Wkdy",3,8,null,null,null,null,null,null,null,null,0,"5/3 Hour 8",2936]
[5,"Wkdy",3,19,null,null,null,null,null,null,null,null,0,null,null,5,"Wkdy",3,19,null,null,null,null,null,null,null,null,0,"5/3 Hour 19",2947]
[5,"Wkdy",4,5,null,null,null,null,null,null,null,null,0,null,null,5,"Wkdy",4,5,null,null,null,null,null,null,null,null,0,"5/4 Hour 5",2957]
[5,"Wkdy",4,12,null,null,null,null,null,null,null,null,0,null,null,5,"Wkdy",4,12,null,null,null,null,null,null,null,null,0,"5/4 Hour 12",2964]
[5,"Wkdy",4,19,null,null,null,null,null,null,null,null,0,null,null,5,"Wkdy",4,19,null,null,null,null,null,null,null,null,0,"5/4 Hour 19",2971]
[5,"Wkdy",4,21,null,null,null,null,null,null,null,null,0,null,null,5,"Wkdy",4,21,null,null,null,null,null,null,null,null,0,"5/4 Hour 21",2973]
[5,"Wkdy",5,5,null,null,null,null,null,null,null,null,0,null,null,5,"Wkdy",5,5,null,null,null,null,null,null,null,null,0,"5/5 Hour 5",2981]
[5,"Wkdy",5,14,null,null,null,null,null,null,null,null,0,null,null,5,"Wkdy",5,14,null,null,null,null,null,null,null,null,0,"5/5 Hour 14",2990]
[5,"Sat",6,2,null,null,null,null,null,null,null,null,0,null,null,5,"Sat",6,2,null,null,null,null,null,null,null,null,0,"5/6 Hour 2",3002]
[5,"Sat",6,7,null,null,null,null,null,null,null,null,0,null,null,5,"Sat",6,7,null,null,null,null,null,null,null,null,0,"5/6 Hour 7",3007]
[5,"Sat",6,16,null,null,null,null,null,null,null,null,0,null,null,5,"Sat",6,16,null,null,null,null,null,null,null,null,0,"5/6 Hour 16",3016]
[5,"Sat",6,24,null,null,null,null,null,null,null,null,0,null,null,5,"Sat",6,24,null,null,null,null,null,null,null,null,0,"5/6 Hour 24",3024]
[5,"Sun",7,9,null,null,null,null,null,null,null,null,0,null,null,5,"Sun",7,9,null,null,null,null,null,null,null,null,0,"5/7 Hour 9",3033]
[5,"Sun",7,15,null,null,null,null,null,null,null,null,0,null,null,5,"Sun",7,15,null,null,null,null,null,null,null,null,0,"5/7 Hour 15",3039]
[5,"Sun",7,18,null,null,null,null,null,null,null,null,0,null,null,5,"Sun",7,18,null,null,null,null,null,null,null,null,0,"5/7 Hour 18",3042]
[5,"Wkdy",8,5,null,null,null,null,null,null,null,null,0,null,null,5,"Wkdy",8,5,null,null,null,null,null,null,null,null,0,"5/8 Hour 5",3053]
[5,"Wkdy",8,11,null,null,null,null,null,null,null,null,0,null,null,5,"Wkdy",8,11,null,null,null,null,null,null,null,null,0,"5/8 Hour 11",3059]
[5,"Wkdy",8,19,null,null,null,null,null,null,null,null,0,null,null,5,"Wkdy",8,19,null,null,null,null,null,null,null,null,0,"5/8 Hour 19",3067]
[5,"Wkdy",9,4,null,null,null,null,null,null,null,null,0,null,null,5,"Wkdy",9,4,null,null,null,null,null,null,null,null,0,"5/9 Hour 4",3076]
[5,"Wkdy",9,12,null,null,null,null,null,null,null,null,0,null,null,5,"Wkdy",9,12,null,null,null,null,null,null,null,null,0,"5/9 Hour 12",3084]
[5,"Wkdy",9,21,null,null,null,null,null,null,null,null,0,null,null,5,"Wkdy",9,21,null,null,null,null,null,null,null,null,0,"5/9 Hour 21",3093]
[5,"Wkdy",10,2,null,null,null,null,null,null,null,null,0,null,null,5,"Wkdy",10,2,null,null,null,null,null,null,null,null,0,"5/10 Hour 2",3098]
[5,"Wkdy",10,6,null,null,null,null,null,null,null,null,0,null,null,5,"Wkdy",10,6,null,null,null,null,null,null,null,null,0,"5/10 Hour 6",3102]
[5,"Wkdy",10,16,null,null,null,null,null,null,null,null,0,null,null,5,"Wkdy",10,16,null,null,null,null,null,null,null,null,0,"5/10 Hour 16",3112]
[5,"Wkdy",10,23,null,null,null,null,null,null,null,null,0,null,null,5,"Wkdy",10,23,null,null,null,null,null,null,null,null,0,"5/10 Hour 23",3119]
[5,"Wkdy",11,6,null,null,null,null,null,null,null,null,0,null,null,5,"Wkdy",11,6,null,null,null,null,null,null,null,null,0,"5/11 Hour 6",3126]
[5,"Wkdy",11,16,null,null,null,null,null,null,null,null,0,null,null,5,"Wkdy",11,16,null,null,null,null,null,null,null,null,0,"5/11 Hour 16",3136]
[5,"Wkdy",11,23,null,null,null,null,null,null,null,null,0,null,null,5,"Wkdy",11,23,null,null,null,null,null,null,null,null,0,"5/11 Hour 23",3143]
[5,"Wkdy",12,9,null,null,null,null,null,null,null,null,0,null,null,5,"Wkdy",12,9,null,null,null,null,null,null,null,null,0,"5/12 Hour 9",3153]
[5,"Wkdy",12,13,null,null,null,null,null,null,null,null,0,null,null,5,"Wkdy",12,13,null,null,null,null,null,null,null,null,0,"5/12 Hour 13",3157]
[5,"Wkdy",12,18,null,null,null,null,null,null,null,null,0,null,null,5,"Wkdy",12,18,null,null,null,null,null,null,null,null,0,"5/12 Hour 18",3162]
[5,"Sat",13,3,null,null,null,null,null,null,null,null,0,null,null,5,"Sat",13,3,null,null,null,null,null,null,null,null,0,"5/13 Hour 3",3171]
[5,"Sat",13,11,null,null,null,null,null,null,null,null,0,null,null,5,"Sat",13,11,null,null,null,null,null,null,null,null,0,"5/13 Hour 11",3179]
[5,"Sat",13,17,null,null,null,null,null,null,null,null,0,null,null,5,"Sat",13,17,null,null,null,null,null,null,null,null,0,"5/13 Hour 17",3185]
[5,"Sun",14,4,null,null,null,null,null,null,null,null,0,null,null,5,"Sun",14,4,null,null,null,null,null,null,null,null,0,"5/14 Hour 4",3196]
[5,"Sun",14,10,null,null,null,null,null,null,null,null,{"$f":"SUM(E3205:L3205)","v":0},null,null,5,"Sun",14,10,null,null,null,null,null,null,null,null,{"$f":"SUM(T3205:AA3205)","v":0},{"$f":"A3205&\"/\"&C3205&\" Hour \"&D3205","v":"5/14 Hour 10"},{"$f":"ROW()-ROW($AD$3)","v":3202}]
[5,"Sun",14,21,null,null,null,null,null,null,null,null,0,null,null,5,"Sun",14,21,null,null,null,null,null,null,null,null,0,"5/14 Hour 21",3213]
[5,"Sun",14,24,null,null,null,null,null,null,null,null,0,null,null,5,"Sun",14,24,null,null,null,null,null,null,null,null,0,"5/14 Hour 24",3216]
[5,"Wkdy",15,6,null,null,null,null,null,null,null,null,0,null,null,5,"Wkdy",15,6,null,null,null,null,null,null,null,null,0,"5/15 Hour 6",3222]
[5,"Wkdy",15,14,null,null,null,null,null,null,null,null,0,null,null,5,"Wkdy",15,14,null,null,null,null,null,null,null,null,0,"5/15 Hour 14",3230]
[5,"Wkdy",15,23,null,null,null,null,null,null,null,null,0,null,null,5,"Wkdy",15,23,null,null,null,null,null,null,null,null,0,"5/15 Hour 23",3239]
[5,"Wkdy",16,4,null,null,null,null,null,null,null,null,0,null,null,5,"Wkdy",16,4,null,null,null,null,null,null,null,null,0,"5/16 Hour 4",3244]
[5,"Wkdy",16,16,null,null,null,null,null,null,null,null,0,null,null,5,"Wkdy",16,16,null,null,null,null,null,null,null,null,0,"5/16 Hour 16",3256]
[5,"Wkdy",16,21,null,null,null,null,null,null,null,null,0,null,null,5,"Wkdy",16,21,null,null,null,null,null,null,null,null,0,"5/16 Hour 21",3261]
[5,"Wkdy",17,9,null,null,null,null,null,null,null,null,0,null,null,5,"Wkdy",17,9,null,null,null,null,null,null,null,null,0,"5/17 Hour 9",3273]
[5,"Wkdy",17,11,null,null,null,null,null,null,null,null,0,null,null,5,"Wkdy",17,11,null,null,null,null,null,null,null,null,0,"5/17 Hour 11",3275]
[5,"Wkdy",17,18,null,null,null,null,null,null,null,null,0,null,null,5,"Wkdy",17,18,null,null,null,null,null,null,null,null,0,"5/17 Hour 18",3282]
[5,"Wkdy",18,1,null,null,null,null,null,null,null,null,0,null,null,5,"Wkdy",18,1,null,null,null,null,null,null,null,null,0,"5/18 Hour 1",3289]
[5,"Wkdy",18,11,null,null,null,null,null,null,null,null,0,null,null,5,"Wkdy",18,11,null,null,null,null,null,null,null,null,0,"5/18 Hour 11",3299]
[5,"Wkdy",18,20,null,null,null,null,null,null,null,null,0,null,null,5,"Wkdy",18,20,null,null,null,null,null,null,null,null,0,"5/18 Hour 20",3308]
[5,"Wkdy",18,24,null,null,null,null,null,null,null,null,0,null,null,5,"Wkdy",18,24,null,null,null,null,null,null,null,null,0,"5/18 Hour 24",3312]
[5,"Wkdy",19,13,null,null,null,null,null,null,null,null,0,null,null,5,"Wkdy",19,13,null,null,null,null,null,null,null,null,0,"5/19 Hour 13",3325]
[5,"Wkdy",19,21,null,null,null,null,null,null,null,null,0,null,null,5,"Wkdy",19,21,null,null,null,null,null,null,null,null,0,"5/19 Hour 21",3333]
[5,"Wkdy",19,22,null,null,null,null,null,null,null,null,0,null,null,5,"Wkdy",19,22,null,null,null,null,null,null,null,null,0,"5/19 Hour 22",3334]
[5,"Sat",20,11,null,null,null,null,null,null,null,null,0,null,null,5,"Sat",20,11,null,null,null,null,null,null,null,null,0,"5/20 Hour 11",3347]
[5,"Sat",20,15,null,null,null,null,null,null,null,null,0,null,null,5,"Sat",20,15,null,null,null,null,null,null,null,null,0,"5/20 Hour 15",3351]
[5,"Sat",20,21,null,null,null,null,null,null,null,null,0,null,null,5,"Sat",20,21,null,null,null,null,null,null,null,null,0,"5/20 Hour 21",3357]
[5,"Sun",21,8,null,null,null,null,null,null,null,null,0,null,null,5,"Sun",21,8,null,null,null,null,null,null,null,null,0,"5/21 Hour 8",3368]
[5,"Sun",21,18,null,null,null,null,null,null,null,null,0,null,null,5,"Sun",21,18,null,null,null,null,null,null,null,null,0,"5/21 Hour 18",3378]
[5,"Wkdy",22,1,null,null,null,null,null,null,null,null,0,null,null,5,"Wkdy",22,1,null,null,null,null,null,null,null,null,0,"5/22 Hour 1",3385]
[5,"Wkdy",22,8,null,null,null,null,null,null,null,null,0,null,null,5,"Wkdy",22,8,null,null,null,null,null,null,null,null,0,"5/22 Hour 8",3392]
[5,"Wkdy",22,10,null,null,null,null,null,null,null,null,{"$f":"SUM(E3397:L3397)","v":0},null,null,5,"Wkdy",22,10,null,null,null,null,null,null,null,null,{"$f":"SUM(T3397:AA3397)","v":0},{"$f":"A3397&\"/\"&C3397&\" Hour \"&D3397","v":"5/22 Hour 10"},{"$f":"ROW()-ROW($AD$3)","v":3394}]
[5,"Wkdy",22,22,null,null,null,null,null,null,null,null,0,null,null,5,"Wkdy",22,22,null,null,null,null,null,null,null,null,0,"5/22 Hour 22",3406]
[5,"Wkdy",23,3,null,null,null,null,null,null,null,null,0,null,null,5,"Wkdy",23,3,null,null,null,null,null,null,null,null,0,"5/23 Hour 3",3411]
[5,"Wkdy",23,15,null,null,null,null,null,null,null,null,0,null,null,5,"Wkdy",23,15,null,null,null,null,null,null,null,null,0,"5/23 Hour 15",3423]
[5,"Wkdy",23,20,null,null,null,null,null,null,null,null,0,null,null,5,"Wkdy",23,20,null,null,null,null,null,null,null,null,0,"5/23 Hour 20",3428]
[5,"Wkdy",24,5,null,null,null,null,null,null,null,null,0,null,null,5,"Wkdy",24,5,null,null,null,null,null,null,null,null,0,"5/24 Hour 5",3437]
[5,"Wkdy",24,13,null,null,null,null,null,null,null,null,0,null,null,5,"Wkdy",24,13,null,null,null,null,null,null,null,null,0,"5/24 Hour 13",3445]
[5,"Wkdy",24,19,null,null,null,null,null,null,null,null,0,null,null,5,"Wkdy",24,19,null,null,null,null,null,null,null,null,0,"5/24 Hour 19",3451]
[5,"Wkdy",24,22,null,null,null,null,null,null,null,null,0,null,null,5,"Wkdy",24,22,null,null,null,null,null,null,null,null,0,"5/24 Hour 22",3454]
[5,"Wkdy",25,9,null,null,null,null,null,null,null,null,0,null,null,5,"Wkdy",25,9,null,null,null,null,null,null,null,null,0,"5/25 Hour 9",3465]
[5,"Wkdy",25,15,null,null,null,null,null,null,null,null,0,null,null,5,"Wkdy",25,15,null,null,null,null,null,null,null,null,0,"5/25 Hour 15",3471]
[5,"Wkdy",25,23,null,null,null,null,null,null,null,null,0,null,null,5,"Wkdy",25,23,null,null,null,null,null,null,null,null,0,"5/25 Hour 23",3479]
[5,"Wkdy",26,8,null,null,null,null,null,null,null,null,0,null,null,5,"Wkdy",26,8,null,null,null,null,null,null,null,null,0,"5/26 Hour 8",3488]
[5,"Wkdy",26,16,null,null,null,null,null,null,null,null,0,null,null,5,"Wkdy",26,16,null,null,null,null,null,null,null,null,0,"5/26 Hour 16",3496]
[5,"Sat",27,1,null,null,null,null,null,null,null,null,0,null,null,5,"Sat",27,1,null,null,null,null,null,null,null,null,0,"5/27 Hour 1",3505]
[5,"Sat",27,6,null,null,null,null,null,null,null,null,0,null,null,5,"Sat",27,6,null,null,null,null,null,null,null,null,0,"5/27 Hour 6",3510]
[5,"Sat",27,10,null,null,null,null,null,null,null,null,0,null,null,5,"Sat",27,10,null,null,null,null,null,null,null,null,0,"5/27 Hour 10",3514]
[5,"Sat",27,20,null,null,null,null,null,null,null,null,0,null,null,5,"Sat",27,20,null,null,null,null,null,null,null,null,0,"5/27 Hour 20",3524]
[5,"Sun",28,3,null,null,null,null,null,null,null,null,0,null,null,5,"Sun",28,3,null,null,null,null,null,null,null,null,0,"5/28 Hour 3",3531]
[5,"Sun",28,10,null,null,null,null,null,null,null,null,0,null,null,5,"Sun",28,10,null,null,null,null,null,null,null,null,0,"5/28 Hour 10",3538]
[5,"Sun",28,20,null,null,null,null,null,null,null,null,0,null,null,5,"Sun",28,20,null,null,null,null,null,null,null,null,0,"5/28 Hour 20",3548]
[5,"Hol",29,3,null,null,null,null,null,null,null,null,0,null,null,5,"Hol",29,3,null,null,null,null,null,null,null,null,0,"5/29 Hour 3",3555]
[5,"Hol",29,13,null,null,null,null,null,null,null,null,0,null,null,5,"Hol",29,13,null,null,null,null,null,null,null,null,0,"5/29 Hour 13",3565]
[5,"Hol",29,17,null,null,null,null,null,null,null,null,0,null,null,5,"Hol",29,17,null,null,null,null,null,null,null,null,0,"5/29 Hour 17",3569]
[5,"Hol",29,22,null,null,null,null,null,null,null,null,0,null,null,5,"Hol",29,22,null,null,null,null,null,null,null,null,0,"5/29 Hour 22",3574]
[5,"Wkdy",30,7,null,null,null,null,null,null,null,null,0,null,null,5,"Wkdy",30,7,null,null,null,null,null,null,null,null,0,"5/30 Hour 7",3583]
[5,"Wkdy",30,15,null,null,null,null,null,null,null,null,0,null,null,5,"Wkdy",30,15,null,null,null,null,null,null,null,null,0,"5/30 Hour 15",3591]
[5,"Wkdy",30,24,null,null,null,null,null,null,null,null,0,null,null,5,"Wkdy",30,24,null,null,null,null,null,null,null,null,0,"5/30 Hour 24",3600]
[5,"Wkdy",31,6,null,null,null,null,null,null,null,null,0,null,null,5,"Wkdy",31,6,null,null,null,null,null,null,null,null,0,"5/31 Hour 6",3606]
[5,"Wkdy",31,17,null,null,null,null,null,null,null,null,0,null,null,5,"Wkdy",31,17,null,null,null,null,null,null,null,null,0,"5/31 Hour 17",3617]
[5,"Wkdy",31,20,null,null,null,null,null,null,null,null,0,null,null,5,"Wkdy",31,20,null,null,null,null,null,null,null,null,0,"5/31 Hour 20",3620]
[6,"Wkdy",1,10,null,null,null,null,null,null,null,null,0,null,null,6,"Wkdy",1,10,null,null,null,null,null,null,null,null,0,"6/1 Hour 10",3634]
[6,"Wkdy",1,17,null,null,null,null,null,null,null,null,0,null,null,6,"Wkdy",1,17,null,null,null,null,null,null,null,null,0,"6/1 Hour 17",3641]
[6,"Wkdy",1,19,null,null,null,null,null,null,null,null,0,null,null,6,"Wkdy",1,19,null,null,null,null,null,null,null,null,0,"6/1 Hour 19",3643]
[6,"Wkdy",2,3,null,null,null,null,null,null,null,null,0,null,null,6,"Wkdy",2,3,null,null,null,null,null,null,null,null,0,"6/2 Hour 3",3651]
[6,"Wkdy",2,12,null,null,null,null,null,null,null,null,0,null,null,6,"Wkdy",2,12,null,null,null,null,null,null,null,null,0,"6/2 Hour 12",3660]
[6,"Wkdy",2,17,null,null,null,null,null,null,null,null,0,null,null,6,"Wkdy",2,17,null,null,null,null,null,null,null,null,0,"6/2 Hour 17",3665]
[6,"Sat",3,5,null,null,null,null,null,null,null,null,0,null,null,6,"Sat",3,5,null,null,null,null,null,null,null,null,0,"6/3 Hour 5",3677]
[6,"Sat",3,14,null,null,null,null,null,null,null,null,0,null,null,6,"Sat",3,14,null,null,null,null,null,null,null,null,0,"6/3 Hour 14",3686]
[6,"Sat",3,22,null,null,null,null,null,null,null,null,0,null,null,6,"Sat",3,22,null,null,null,null,null,null,null,null,0,"6/3 Hour 22",3694]
[6,"Sun",4,4,null,null,null,null,null,null,null,null,0,null,null,6,"Sun",4,4,null,null,null,null,null,null,null,null,0,"6/4 Hour 4",3700]
[6,"Sun",4,7,null,null,null,null,null,null,null,null,0,null,null,6,"Sun",4,7,null,null,null,null,null,null,null,null,0,"6/4 Hour 7",3703]
[6,"Sun",4,14,null,null,null,null,null,null,null,null,0,null,null,6,"Sun",4,14,null,null,null,null,null,null,null,null,0,"6/4 Hour 14",3710]
[6,"Sun",4,24,null,null,null,null,null,null,null,null,0,null,null,6,"Sun",4,24,null,null,null,null,null,null,null,null,0,"6/4 Hour 24",3720]
[6,"Wkdy",5,11,null,null,null,null,null,null,null,null,0,null,null,6,"Wkdy",5,11,null,null,null,null,null,null,null,null,0,"6/5 Hour 11",3731]
[6,"Wkdy",5,17,null,null,null,null,null,null,null,null,0,null,null,6,"Wkdy",5,17,null,null,null,null,null,null,null,null,0,"6/5 Hour 17",3737]
[6,"Wkdy",6,1,null,null,null,null,null,null,null,null,0,null,null,6,"Wkdy",6,1,null,null,null,null,null,null,null,null,0,"6/6 Hour 1",3745]
[6,"Wkdy",6,10,null,null,null,null,null,null,null,null,0,null,null,6,"Wkdy",6,10,null,null,null,null,null,null,null,null,0,"6/6 Hour 10",3754]
[6,"Wkdy",6,15,null,null,null,null,null,null,null,null,0,null,null,6,"Wkdy",6,15,null,null,null,null,null,null,null,null,0,"6/6 Hour 15",3759]
[6,"Wkdy",6,19,null,null,null,null,null,null,null,null,0,null,null,6,"Wkdy",6,19,null,null,null,null,null,null,null,null,0,"6/6 Hour 19",3763]
[6,"Wkdy",7,8,null,null,null,null,null,null,null,null,0,null,null,6,"Wkdy",7,8,null,null,null,null,null,null,null,null,0,"6/7 Hour 8",3776]
[6,"Wkdy",7,12,null,null,null,null,null,null,null,null,0,null,null,6,"Wkdy",7,12,null,null,null,null,null,null,null,null,0,"6/7 Hour 12",3780]
[6,"Wkdy",7,22,null,null,null,null,null,null,null,null,0,null,null,6,"Wkdy",7,22,null,null,null,null,null,null,null,null,0,"6/7 Hour 22",3790]
[6,"Wkdy",8,5,null,null,null,null,null,null,null,null,0,null,null,6,"Wkdy",8,5,null,null,null,null,null,null,null,null,0,"6/8 Hour 5",3797]
[6,"Wkdy",8,12,null,null,null,null,null,null,null,null,0,null,null,6,"Wkdy",8,12,null,null,null,null,null,null,null,null,0,"6/8 Hour 12",3804]
[6,"Wkdy",8,22,null,null,null,null,null,null,null,null,0,null,null,6,"Wkdy",8,22,null,null,null,null,null,null,null,null,0,"6/8 Hour 22",3814]
[6,"Wkdy",9,2,null,null,null,null,null,null,null,null,0,null,null,6,"Wkdy",9,2,null,null,null,null,null,null,null,null,0,"6/9 Hour 2",3818]
[6,"Wkdy",9,7,null,null,null,null,null,null,null,null,0,null,null,6,"Wkdy",9,7,null,null,null,null,null,null,null,null,0,"6/9 Hour 7",3823]
[6,"Wkdy",9,16,null,null,null,null,null,null,null,null,0,null,null,6,"Wkdy",9,16,null,null,null,null,null,null,null,null,0,"6/9 Hour 16",3832]
[6,"Wkdy",9,24,null,null,null,null,null,null,null,null,0,null,null,6,"Wkdy",9,24,null,null,null,null,null,null,null,null,0,"6/9 Hour 24",3840]
[6,"Sat",10,9,null,null,null,null,null,null,null,null,0,null,null,6,"Sat",10,9,null,null,null,null,null,null,null,null,0,"6/10 Hour 9",3849]
[6,"Sat",10,17,null,null,null,null,null,null,null,null,0,null,null,6,"Sat",10,17,null,null,null,null,null,null,null,null,0,"6/10 Hour 17",3857]
[6,"Sat",10,23,null,null,null,null,null,null,null,null,0,null,null,6,"Sat",10,23,null,null,null,null,null,null,null,null,0,"6/10 Hour 23",3863]
[6,"Sun",11,10,null,null,null,null,null,null,null,null,0,null,null,6,"Sun",11,10,null,null,null,null,null,null,null,null,0,"6/11 Hour 10",3874]
[6,"Sun",11,13,null,null,null,null,null,null,null,null,0,null,null,6,"Sun",11,13,null,null,null,null,null,null,null,null,0,"6/11 Hour 13",3877]
[6,"Sun",11,19,null,null,null,null,null,null,null,null,0,null,null,6,"Sun",11,19,null,null,null,null,null,null,null,null,0,"6/11 Hour 19",3883]
[6,"Wkdy",12,4,null,null,null,null,null,null,null,null,0,null,null,6,"Wkdy",12,4,null,null,null,null,null,null,null,null,0,"6/12 Hour 4",3892]
[6,"Wkdy",12,12,null,null,null,null,null,null,null,null,0,null,null,6,"Wkdy",12,12,null,null,null,null,null,null,null,null,0,"6/12 Hour 12",3900]
[6,"Wkdy",12,21,null,null,null,null,null,null,null,null,0,null,null,6,"Wkdy",12,21,null,null,null,null,null,null,null,null,0,"6/12 Hour 21",3909]
[6,"Wkdy",13,2,null,null,null,null,null,null,null,null,0,null,null,6,"Wkdy",13,2,null,null,null,null,null,null,null,null,0,"6/13 Hour 2",3914]
[6,"Wkdy",13,14,null,null,null,null,null,null,null,null,0,null,null,6,"Wkdy",13,14,null,null,null,null,null,null,null,null,0,"6/13 Hour 14",3926]
[6,"Wkdy",13,19,null,null,null,null,null,null,null,null,0,null,null,6,"Wkdy",13,19,null,null,null,null,null,null,null,null,0,"6/13 Hour 19",3931]
[6,"Wkdy",13,23,null,null,null,null,null,null,null,null,0,null,null,6,"Wkdy",13,23,null,null,null,null,null,null,null,null,0,"6/13 Hour 23",3935]
[6,"Wkdy",14,9,null,null,null,null,null,null,null,null,0,null,null,6,"Wkdy",14,9,null,null,null,null,null,null,null,null,0,"6/14 Hour 9",3945]
[6,"Wkdy",14,16,null,null,null,null,null,null,null,null,0,null,null,6,"Wkdy",14,16,null,null,null,null,null,null,null,null,0,"6/14 Hour 16",3952]
[6,"Wkdy",14,23,null,null,null,null,null,null,null,null,0,null,null,6,"Wkdy",14,23,null,null,null,null,null,null,null,null,0,"6/14 Hour 23",3959]
[6,"Wkdy",15,9,null,null,null,null,null,null,null,null,0,null,null,6,"Wkdy",15,9,null,null,null,null,null,null,null,null,0,"6/15 Hour 9",3969]
[6,"Wkdy",15,13,null,null,null,null,null,null,null,null,0,null,null,6,"Wkdy",15,13,null,null,null,null,null,null,null,null,0,"6/15 Hour 13",3973]
[6,"Wkdy",16,2,null,null,null,null,null,null,null,null,0,null,null,6,"Wkdy",16,2,null,null,null,null,null,null,null,null,0,"6/16 Hour 2",3986]
[6,"Wkdy",16,10,null,null,null,null,null,null,null,null,0,null,null,6,"Wkdy",16,10,null,null,null,null,null,null,null,null,0,"6/16 Hour 10",3994]
[6,"Wkdy",16,11,null,null,null,null,null,null,null,null,0,null,null,6,"Wkdy",16,11,null,null,null,null,null,null,null,null,0,"6/16 Hour 11",3995]
[6,"Wkdy",16,20,null,null,null,null,null,null,null,null,0,null,null,6,"Wkdy",16,20,null,null,null,null,null,null,null,null,0,"6/16 Hour 20",4004]
[6,"Sat",17,4,null,null,null,null,null,null,null,null,0,null,null,6,"Sat",17,4,null,null,null,null,null,null,null,null,0,"6/17 Hour 4",4012]
[6,"Sat",17,10,null,null,null,null,null,null,null,null,0,null,null,6,"Sat",17,10,null,null,null,null,null,null,null,null,0,"6/17 Hour 10",4018]
[6,"Sat",17,21,null,null,null,null,null,null,null,null,0,null,null,6,"Sat",17,21,null,null,null,null,null,null,null,null,0,"6/17 Hour 21",4029]
[6,"Sun",18,7,null,null,null,null,null,null,null,null,0,null,null,6,"Sun",18,7,null,null,null,null,null,null,null,null,0,"6/18 Hour 7",4039]
[6,"Sun",18,14,null,null,null,null,null,null,null,null,0,null,null,6,"Sun",18,14,null,null,null,null,null,null,null,null,0,"6/18 Hour 14",4046]
[6,"Sun",18,21,null,null,null,null,null,null,null,null,0,null,null,6,"Sun",18,21,null,null,null,null,null,null,null,null,0,"6/18 Hour 21",4053]
[6,"Sun",18,23,null,null,null,null,null,null,null,null,0,null,null,6,"Sun",18,23,null,null,null,null,null,null,null,null,0,"6/18 Hour 23",4055]
[6,"Wkdy",19,7,null,null,null,null,null,null,null,null,0,null,null,6,"Wkdy",19,7,null,null,null,null,null,null,null,null,0,"6/19 Hour 7",4063]
[6,"Wkdy",19,16,null,null,null,null,null,null,null,null,0,null,null,6,"Wkdy",19,16,null,null,null,null,null,null,null,null,0,"6/19 Hour 16",4072]
[6,"Wkdy",20,4,null,null,null,null,null,null,null,null,0,null,null,6,"Wkdy",20,4,null,null,null,null,null,null,null,null,0,"6/20 Hour 4",4084]
[6,"Wkdy",20,9,null,null,null,null,null,null,null,null,0,null,null,6,"Wkdy",20,9,null,null,null,null,null,null,null,null,0,"6/20 Hour 9",4089]
[6,"Wkdy",20,18,null,null,null,null,null,null,null,null,{"$f":"SUM(E4101:L4101)","v":0},null,null,6,"Wkdy",20,18,null,null,null,null,null,null,null,null,{"$f":"SUM(T4101:AA4101)","v":0},{"$f":"A4101&\"/\"&C4101&\" Hour \"&D4101","v":"6/20 Hour 18"},{"$f":"ROW()-ROW($AD$3)","v":4098}]
[6,"Wkdy",21,2,null,null,null,null,null,null,null,null,0,null,null,6,"Wkdy",21,2,null,null,null,null,null,null,null,null,0,"6/21 Hour 2",4106]
[6,"Wkdy",21,8,null,null,null,null,null,null,null,null,0,null,null,6,"Wkdy",21,8,null,null,null,null,null,null,null,null,0,"6/21 Hour 8",4112]
[6,"Wkdy",21,11,null,null,null,null,null,null,null,null,0,null,null,6,"Wkdy",21,11,null,null,null,null,null,null,null,null,0,"6/21 Hour 11",4115]
[6,"Wkdy",22,1,null,null,null,null,null,null,null,null,0,null,null,6,"Wkdy",22,1,null,null,null,null,null,null,null,null,0,"6/22 Hour 1",4129]
[6,"Wkdy",22,4,null,null,null,null,null,null,null,null,0,null,null,6,"Wkdy",22,4,null,null,null,null,null,null,null,null,0,"6/22 Hour 4",4132]
[6,"Wkdy",22,15,null,null,null,null,null,null,null,null,0,null,null,6,"Wkdy",22,15,null,null,null,null,null,null,null,null,0,"6/22 Hour 15",4143]
[6,"Wkdy",22,21,null,null,null,null,null,null,null,null,0,null,null,6,"Wkdy",22,21,null,null,null,null,null,null,null,null,0,"6/22 Hour 21",4149]
[6,"Wkdy",23,5,null,null,null,null,null,null,null,null,0,null,null,6,"Wkdy",23,5,null,null,null,null,null,null,null,null,0,"6/23 Hour 5",4157]
[6,"Wkdy",23,14,null,null,null,null,null,null,null,null,0,null,null,6,"Wkdy",23,14,null,null,null,null,null,null,null,null,0,"6/23 Hour 14",4166]
[6,"Wkdy",23,19,null,null,null,null,null,null,null,null,0,null,null,6,"Wkdy",23,19,null,null,null,null,null,null,null,null,0,"6/23 Hour 19",4171]
[6,"Wkdy",23,23,null,null,null,null,null,null,null,null,0,null,null,6,"Wkdy",23,23,null,null,null,null,null,null,null,null,0,"6/23 Hour 23",4175]
[6,"Sat",24,8,null,null,null,null,null,null,null,null,0,null,null,6,"Sat",24,8,null,null,null,null,null,null,null,null,0,"6/24 Hour 8",4184]
[6,"Sat",24,18,null,null,null,null,null,null,null,null,0,null,null,6,"Sat",24,18,null,null,null,null,null,null,null,null,0,"6/24 Hour 18",4194]
[6,"Sun",25,1,null,null,null,null,null,null,null,null,0,null,null,6,"Sun",25,1,null,null,null,null,null,null,null,null,0,"6/25 Hour 1",4201]
[6,"Sun",25,8,null,null,null,null,null,null,null,null,0,null,null,6,"Sun",25,8,null,null,null,null,null,null,null,null,0,"6/25 Hour 8",4208]
[6,"Sun",25,18,null,null,null,null,null,null,null,null,0,null,null,6,"Sun",25,18,null,null,null,null,null,null,null,null,0,"6/25 Hour 18",4218]
[6,"Wkdy",26,1,null,null,null,null,null,null,null,null,0,null,null,6,"Wkdy",26,1,null,null,null,null,null,null,null,null,0,"6/26 Hour 1",4225]
[6,"Wkdy",26,11,null,null,null,null,null,null,null,null,0,null,null,6,"Wkdy",26,11,null,null,null,null,null,null,null,null,0,"6/26 Hour 11",4235]
[6,"Wkdy",26,15,null,null,null,null,null,null,null,null,0,null,null,6,"Wkdy",26,15,null,null,null,null,null,null,null,null,0,"6/26 Hour 15",4239]
[6,"Wkdy",26,20,null,null,null,null,null,null,null,null,0,null,null,6,"Wkdy",26,20,null,null,null,null,null,null,null,null,0,"6/26 Hour 20",4244]
[6,"Wkdy",27,5,null,null,null,null,null,null,null,null,0,null,null,6,"Wkdy",27,5,null,null,null,null,null,null,null,null,0,"6/27 Hour 5",4253]
[6,"Wkdy",27,13,null,null,null,null,null,null,null,null,0,null,null,6,"Wkdy",27,13,null,null,null,null,null,null,null,null,0,"6/27 Hour 13",4261]
[6,"Wkdy",27,19,null,null,null,null,null,null,null,null,0,null,null,6,"Wkdy",27,19,null,null,null,null,null,null,null,null,0,"6/27 Hour 19",4267]
[6,"Wkdy",28,6,null,null,null,null,null,null,null,null,0,null,null,6,"Wkdy",28,6,null,null,null,null,null,null,null,null,0,"6/28 Hour 6",4278]
[6,"Wkdy",28,12,null,null,null,null,null,null,null,null,0,null,null,6,"Wkdy",28,12,null,null,null,null,null,null,null,null,0,"6/28 Hour 12",4284]
[6,"Wkdy",28,23,null,null,null,null,null,null,null,null,0,null,null,6,"Wkdy",28,23,null,null,null,null,null,null,null,null,0,"6/28 Hour 23",4295]
[6,"Wkdy",29,2,null,null,null,null,null,null,null,null,0,null,null,6,"Wkdy",29,2,null,null,null,null,null,null,null,null,0,"6/29 Hour 2",4298]
[6,"Wkdy",29,8,null,null,null,null,null,null,null,null,0,null,null,6,"Wkdy",29,8,null,null,null,null,null,null,null,null,0,"6/29 Hour 8",4304]
[6,"Wkdy",29,16,null,null,null,null,null,null,null,null,0,null,null,6,"Wkdy",29,16,null,null,null,null,null,null,null,null,0,"6/29 Hour 16",4312]
[6,"Wkdy",30,1,null,null,null,null,null,null,null,null,0,null,null,6,"Wkdy",30,1,null,null,null,null,null,null,null,null,0,"6/30 Hour 1",4321]
[6,"Wkdy",30,6,null,null,null,null,null,null,null,null,0,null,null,6,"Wkdy",30,6,null,null,null,null,null,null,null,null,0,"6/30 Hour 6",4326]
[6,"Wkdy",30,18,null,null,null,null,null,null,null,null,0,null,null,6,"Wkdy",30,18,null,null,null,null,null,null,null,null,0,"6/30 Hour 18",4338]
[6,"Wkdy",30,23,null,null,null,null,null,null,null,null,0,null,null,6,"Wkdy",30,23,null,null,null,null,null,null,null,null,0,"6/30 Hour 23",4343]
[7,"Sat",1,11,null,null,null,null,null,null,null,null,0,null,null,7,"Sat",1,11,null,null,null,null,null,null,null,null,0,"7/1 Hour 11",4355]
[7,"Sat",1,13,null,null,null,null,null,null,null,null,0,null,null,7,"Sat",1,13,null,null,null,null,null,null,null,null,0,"7/1 Hour 13",4357]
[7,"Sat",1,20,null,null,null,null,null,null,null,null,0,null,null,7,"Sat",1,20,null,null,null,null,null,null,null,null,0,"7/1 Hour 20",4364]
[7,"Sun",2,3,null,null,null,null,null,null,null,null,0,null,null,7,"Sun",2,3,null,null,null,null,null,null,null,null,0,"7/2 Hour 3",4371]
[7,"Sun",2,13,null,null,null,null,null,null,null,null,0,null,null,7,"Sun",2,13,null,null,null,null,null,null,null,null,0,"7/2 Hour 13",4381]
[7,"Sun",2,24,null,null,null,null,null,null,null,null,0,null,null,7,"Sun",2,24,null,null,null,null,null,null,null,null,0,"7/2 Hour 24",4392]
[7,"Wkdy",3,6,null,null,null,null,null,null,null,null,0,null,null,7,"Wkdy",3,6,null,null,null,null,null,null,null,null,0,"7/3 Hour 6",4398]
[7,"Wkdy",3,14,null,null,null,null,null,null,null,null,0,null,null,7,"Wkdy",3,14,null,null,null,null,null,null,null,null,0,"7/3 Hour 14",4406]
[7,"Wkdy",3,23,null,null,null,null,null,null,null,null,0,null,null,7,"Wkdy",3,23,null,null,null,null,null,null,null,null,0,"7/3 Hour 23",4415]
[7,"Wkdy",3,24,null,null,null,null,null,null,null,null,0,null,null,7,"Wkdy",3,24,null,null,null,null,null,null,null,null,0,"7/3 Hour 24",4416]
[7,"Hol",4,8,null,null,null,null,null,null,null,null,0,null,null,7,"Hol",4,8,null,null,null,null,null,null,null,null,0,"7/4 Hour 8",4424]
[7,"Hol",4,21,null,null,null,null,null,null,null,null,0,null,null,7,"Hol",4,21,null,null,null,null,null,null,null,null,0,"7/4 Hour 21",4437]
[7,"Wkdy",5,1,null,null,null,null,null,null,null,null,0,null,null,7,"Wkdy",5,1,null,null,null,null,null,null,null,null,0,"7/5 Hour 1",4441]
[7,"Wkdy",5,11,null,null,null,null,null,null,null,null,0,null,null,7,"Wkdy",5,11,null,null,null,null,null,null,null,null,0,"7/5 Hour 11",4451]
[7,"Wkdy",5,18,null,null,null,null,null,null,null,null,0,null,null,7,"Wkdy",5,18,null,null,null,null,null,null,null,null,0,"7/5 Hour 18",4458]
[7,"Wkdy",6,3,null,null,null,null,null,null,null,null,0,null,null,7,"Wkdy",6,3,null,null,null,null,null,null,null,null,0,"7/6 Hour 3",4467]
[7,"Wkdy",6,10,null,null,null,null,null,null,null,null,0,null,null,7,"Wkdy",6,10,null,null,null,null,null,null,null,null,0,"7/6 Hour 10",4474]
[7,"Wkdy",6,12,null,null,null,null,null,null,null,null,0,null,null,7,"Wkdy",6,12,null,null,null,null,null,null,null,null,0,"7/6 Hour 12",4476]
[7,"Wkdy",6,24,null,null,null,null,null,null,null,null,0,null,null,7,"Wkdy",6,24,null,null,null,null,null,null,null,null,0,"7/6 Hour 24",4488]
[7,"Wkdy",7,5,null,null,null,null,null,null,null,null,0,null,null,7,"Wkdy",7,5,null,null,null,null,null,null,null,null,0,"7/7 Hour 5",4493]
[7,"Wkdy",7,17,null,null,null,null,null,null,null,null,0,null,null,7,"Wkdy",7,17,null,null,null,null,null,null,null,null,0,"7/7 Hour 17",4505]
[7,"Wkdy",7,22,null,null,null,null,null,null,null,null,0,null,null,7,"Wkdy",7,22,null,null,null,null,null,null,null,null,0,"7/7 Hour 22",4510]
[7,"Sat",8,7,null,null,null,null,null,null,null,null,0,null,null,7,"Sat",8,7,null,null,null,null,null,null,null,null,0,"7/8 Hour 7",4519]
[7,"Sat",8,15,null,null,null,null,null,null,null,null,0,null,null,7,"Sat",8,15,null,null,null,null,null,null,null,null,0,"7/8 Hour 15",4527]
[7,"Sat",8,21,null,null,null,null,null,null,null,null,0,null,null,7,"Sat",8,21,null,null,null,null,null,null,null,null,0,"7/8 Hour 21",4533]
[7,"Sat",8,24,null,null,null,null,null,null,null,null,0,null,null,7,"Sat",8,24,null,null,null,null,null,null,null,null,0,"7/8 Hour 24",4536]
[7,"Sun",9,11,null,null,null,null,null,null,null,null,0,null,null,7,"Sun",9,11,null,null,null,null,null,null,null,null,0,"7/9 Hour 11",4547]
[7,"Sun",9,17,null,null,null,null,null,null,null,null,0,null,null,7,"Sun",9,17,null,null,null,null,null,null,null,null,0,"7/9 Hour 17",4553]
[7,"Wkdy",10,1,null,null,null,null,null,null,null,null,0,null,null,7,"Wkdy",10,1,null,null,null,null,null,null,null,null,0,"7/10 Hour 1",4561]
[7,"Wkdy",10,10,null,null,null,null,null,null,null,null,0,null,null,7,"Wkdy",10,10,null,null,null,null,null,null,null,null,0,"7/10 Hour 10",4570]
[7,"Wkdy",10,18,null,null,null,null,null,null,null,null,0,null,null,7,"Wkdy",10,18,null,null,null,null,null,null,null,null,0,"7/10 Hour 18",4578]
[7,"Wkdy",11,3,null,null,null,null,null,null,null,null,0,null,null,7,"Wkdy",11,3,null,null,null,null,null,null,null,null,0,"7/11 Hour 3",4587]
[7,"Wkdy",11,8,null,null,null,null,null,null,null,null,0,null,null,7,"Wkdy",11,8,null,null,null,null,null,null,null,null,0,"7/11 Hour 8",4592]
[7,"Wkdy",11,12,null,null,null,null,null,null,null,null,0,null,null,7,"Wkdy",11,12,null,null,null,null,null,null,null,null,0,"7/11 Hour 12",4596]
[7,"Wkdy",11,22,null,null,null,null,null,null,null,null,0,null,null,7,"Wkdy",11,22,null,null,null,null,null,null,null,null,0,"7/11 Hour 22",4606]
[7,"Wkdy",12,5,null,null,null,null,null,null,null,null,0,null,null,7,"Wkdy",12,5,null,null,null,null,null,null,null,null,0,"7/12 Hour 5",4613]
[7,"Wkdy",12,12,null,null,null,null,null,null,null,null,0,null,null,7,"Wkdy",12,12,null,null,null,null,null,null,null,null,0,"7/12 Hour 12",4620]
[7,"Wkdy",12,22,null,null,null,null,null,null,null,null,0,null,null,7,"Wkdy",12,22,null,null,null,null,null,null,null,null,0,"7/12 Hour 22",4630]
[7,"Wkdy",13,5,null,null,null,null,null,null,null,null,0,null,null,7,"Wkdy",13,5,null,null,null,null,null,null,null,null,0,"7/13 Hour 5",4637]
[7,"Wkdy",13,15,null,null,null,null,null,null,null,null,0,null,null,7,"Wkdy",13,15,null,null,null,null,null,null,null,null,0,"7/13 Hour 15",4647]
[7,"Wkdy",13,19,null,null,null,null,null,null,null,null,0,null,null,7,"Wkdy",13,19,null,null,null,null,null,null,null,null,0,"7/13 Hour 19",4651]
[7,"Wkdy",13,24,null,null,null,null,null,null,null,null,0,null,null,7,"Wkdy",13,24,null,null,null,null,null,null,null,null,0,"7/13 Hour 24",4656]
[7,"Wkdy",14,9,null,null,null,null,null,null,null,null,0,null,null,7,"Wkdy",14,9,null,null,null,null,null,null,null,null,0,"7/14 Hour 9",4665]
[7,"Wkdy",14,17,null,null,null,null,null,null,null,null,0,null,null,7,"Wkdy",14,17,null,null,null,null,null,null,null,null,0,"7/14 Hour 17",4673]
[7,"Wkdy",14,23,null,null,null,null,null,null,null,null,0,null,null,7,"Wkdy",14,23,null,null,null,null,null,null,null,null,0,"7/14 Hour 23",4679]
[7,"Sat",15,10,null,null,null,null,null,null,null,null,0,null,null,7,"Sat",15,10,null,null,null,null,null,null,null,null,0,"7/15 Hour 10",4690]
[7,"Sat",15,16,null,null,null,null,null,null,null,null,0,null,null,7,"Sat",15,16,null,null,null,null,null,null,null,null,0,"7/15 Hour 16",4696]
[7,"Sun",16,3,null,null,null,null,null,null,null,null,0,null,null,7,"Sun",16,3,null,null,null,null,null,null,null,null,0,"7/16 Hour 3",4707]
[7,"Sun",16,6,null,null,null,null,null,null,null,null,0,null,null,7,"Sun",16,6,null,null,null,null,null,null,null,null,0,"7/16 Hour 6",4710]
[7,"Sun",16,12,null,null,null,null,null,null,null,null,0,null,null,7,"Sun",16,12,null,null,null,null,null,null,null,null,0,"7/16 Hour 12",4716]
[7,"Sun",16,20,null,null,null,null,null,null,null,null,0,null,null,7,"Sun",16,20,null,null,null,null,null,null,null,null,0,"7/16 Hour 20",4724]
[7,"Wkdy",17,5,null,null,null,null,null,null,null,null,0,null,null,7,"Wkdy",17,5,null,null,null,null,null,null,null,null,0,"7/17 Hour 5",4733]
[7,"Wkdy",17,17,null,null,null,null,null,null,null,null,0,null,null,7,"Wkdy",17,17,null,null,null,null,null,null,null,null,0,"7/17 Hour 17",4745]
[7,"Wkdy",17,22,null,null,null,null,null,null,null,null,0,null,null,7,"Wkdy",17,22,null,null,null,null,null,null,null,null,0,"7/17 Hour 22",4750]
[7,"Wkdy",18,7,null,null,null,null,null,null,null,null,0,null,null,7,"Wkdy",18,7,null,null,null,null,null,null,null,null,0,"7/18 Hour 7",4759]
[7,"Wkdy",18,16,null,null,null,null,null,null,null,null,0,null,null,7,"Wkdy",18,16,null,null,null,null,null,null,null,null,0,"7/18 Hour 16",4768]
[7,"Wkdy",18,24,null,null,null,null,null,null,null,null,0,null,null,7,"Wkdy",18,24,null,null,null,null,null,null,null,null,0,"7/18 Hour 24",4776]
[7,"Wkdy",19,6,null,null,null,null,null,null,null,null,0,null,null,7,"Wkdy",19,6,null,null,null,null,null,null,null,null,0,"7/19 Hour 6",4782]
[7,"Wkdy",19,9,null,null,null,null,null,null,null,null,0,null,null,7,"Wkdy",19,9,null,null,null,null,null,null,null,null,0,"7/19 Hour 9",4785]
[7,"Wkdy",19,16,null,null,null,null,null,null,null,null,0,null,null,7,"Wkdy",19,16,null,null,null,null,null,null,null,null,0,"7/19 Hour 16",4792]
[7,"Wkdy",20,2,null,null,null,null,null,null,null,null,{"$f":"SUM(E4805:L4805)","v":0},null,null,7,"Wkdy",20,2,null,null,null,null,null,null,null,null,{"$f":"SUM(T4805:AA4805)","v":0},{"$f":"A4805&\"/\"&C4805&\" Hour \"&D4805","v":"7/20 Hour 2"},{"$f":"ROW()-ROW($AD$3)","v":4802}]
[7,"Wkdy",20,13,null,null,null,null,null,null,null,null,0,null,null,7,"Wkdy",20,13,null,null,null,null,null,null,null,null,0,"7/20 Hour 13",4813]
[7,"Wkdy",20,19,null,null,null,null,null,null,null,null,0,null,null,7,"Wkdy",20,19,null,null,null,null,null,null,null,null,0,"7/20 Hour 19",4819]
[7,"Wkdy",21,3,null,null,null,null,null,null,null,null,0,null,null,7,"Wkdy",21,3,null,null,null,null,null,null,null,null,0,"7/21 Hour 3",4827]
[7,"Wkdy",21,12,null,null,null,null,null,null,null,null,0,null,null,7,"Wkdy",21,12,null,null,null,null,null,null,null,null,0,"7/21 Hour 12",4836]
[7,"Wkdy",21,17,null,null,null,null,null,null,null,null,0,null,null,7,"Wkdy",21,17,null,null,null,null,null,null,null,null,0,"7/21 Hour 17",4841]
[7,"Wkdy",21,21,null,null,null,null,null,null,null,null,0,null,null,7,"Wkdy",21,21,null,null,null,null,null,null,null,null,0,"7/21 Hour 21",4845]
[7,"Sat",22,10,null,null,null,null,null,null,null,null,0,null,null,7,"Sat",22,10,null,null,null,null,null,null,null,null,0,"7/22 Hour 10",4858]
[7,"Sat",22,14,null,null,null,null,null,null,null,null,0,null,null,7,"Sat",22,14,null,null,null,null,null,null,null,null,0,"7/22 Hour 14",4862]
[7,"Sat",22,24,null,null,null,null,null,null,null,null,0,null,null,7,"Sat",22,24,null,null,null,null,null,null,null,null,0,"7/22 Hour 24",4872]
[7,"Sun",23,7,null,null,null,null,null,null,null,null,0,null,null,7,"Sun",23,7,null,null,null,null,null,null,null,null,0,"7/23 Hour 7",4879]
[7,"Sun",23,14,null,null,null,null,null,null,null,null,0,null,null,7,"Sun",23,14,null,null,null,null,null,null,null,null,0,"7/23 Hour 14",4886]
[7,"Sun",23,24,null,null,null,null,null,null,null,null,0,null,null,7,"Sun",23,24,null,null,null,null,null,null,null,null,0,"7/23 Hour 24",4896]
[7,"Wkdy",24,4,null,null,null,null,null,null,null,null,0,null,null,7,"Wkdy",24,4,null,null,null,null,null,null,null,null,0,"7/24 Hour 4",4900]
[7,"Wkdy",24,9,null,null,null,null,null,null,null,null,0,null,null,7,"Wkdy",24,9,null,null,null,null,null,null,null,null,0,"7/24 Hour 9",4905]
[7,"Wkdy",24,18,null,null,null,null,null,null,null,null,0,null,null,7,"Wkdy",24,18,null,null,null,null,null,null,null,null,0,"7/24 Hour 18",4914]
[7,"Wkdy",25,2,null,null,null,null,null,null,null,null,0,null,null,7,"Wkdy",25,2,null,null,null,null,null,null,null,null,0,"7/25 Hour 2",4922]
[7,"Wkdy",25,11,null,null,null,null,null,null,null,null,0,null,null,7,"Wkdy",25,11,null,null,null,null,null,null,null,null,0,"7/25 Hour 11",4931]
[7,"Wkdy",25,19,null,null,null,null,null,null,null,null,0,null,null,7,"Wkdy",25,19,null,null,null,null,null,null,null,null,0,"7/25 Hour 19",4939]
[7,"Wkdy",26,1,null,null,null,null,null,null,null,null,0,null,null,7,"Wkdy",26,1,null,null,null,null,null,null,null,null,0,"7/26 Hour 1",4945]
[7,"Wkdy",26,12,null,null,null,null,null,null,null,null,0,null,null,7,"Wkdy",26,12,null,null,null,null,null,null,null,null,0,"7/26 Hour 12",4956]
[7,"Wkdy",26,15,null,null,null,null,null,null,null,null,0,null,null,7,"Wkdy",26,15,null,null,null,null,null,null,null,null,0,"7/26 Hour 15",4959]
[7,"Wkdy",26,21,null,null,null,null,null,null,null,null,0,null,null,7,"Wkdy",26,21,null,null,null,null,null,null,null,null,0,"7/26 Hour 21",4965]
[7,"Wkdy",27,5,null,null,null,null,null,null,null,null,0,null,null,7,"Wkdy",27,5,null,null,null,null,null,null,null,null,0,"7/27 Hour 5",4973]
[7,"Wkdy",27,14,null,null,null,null,null,null,null,null,0,null,null,7,"Wkdy",27,14,null,null,null,null,null,null,null,null,0,"7/27 Hour 14",4982]
[7,"Wkdy",27,22,null,null,null,null,null,null,null,null,0,null,null,7,"Wkdy",27,22,null,null,null,null,null,null,null,null,0,"7/27 Hour 22",4990]
[7,"Wkdy",28,7,null,null,null,null,null,null,null,null,0,null,null,7,"Wkdy",28,7,null,null,null,null,null,null,null,null,0,"7/28 Hour 7",4999]
[7,"Wkdy",28,12,null,null,null,null,null,null,null,null,0,null,null,7,"Wkdy",28,12,null,null,null,null,null,null,null,null,0,"7/28 Hour 12",5004]
[7,"Wkdy",28,24,null,null,null,null,null,null,null,null,0,null,null,7,"Wkdy",28,24,null,null,null,null,null,null,null,null,0,"7/28 Hour 24",5016]
[7,"Sat",29,2,null,null,null,null,null,null,null,null,0,null,null,7,"Sat",29,2,null,null,null,null,null,null,null,null,0,"7/29 Hour 2",5018]
[7,"Sat",29,9,null,null,null,null,null,null,null,null,0,null,null,7,"Sat",29,9,null,null,null,null,null,null,null,null,0,"7/29 Hour 9",5025]
[7,"Sat",29,16,null,null,null,null,null,null,null,null,0,null,null,7,"Sat",29,16,null,null,null,null,null,null,null,null,0,"7/29 Hour 16",5032]
[7,"Sun",30,2,null,null,null,null,null,null,null,null,0,null,null,7,"Sun",30,2,null,null,null,null,null,null,null,null,0,"7/30 Hour 2",5042]
[7,"Sun",30,11,null,null,null,null,null,null,null,null,0,null,null,7,"Sun",30,11,null,null,null,null,null,null,null,null,0,"7/30 Hour 11",5051]
[7,"Sun",30,15,null,null,null,null,null,null,null,null,0,null,null,7,"Sun",30,15,null,null,null,null,null,null,null,null,0,"7/30 Hour 15",5055]
[7,"Wkdy",31,4,null,null,null,null,null,null,null,null,0,null,null,7,"Wkdy",31,4,null,null,null,null,null,null,null,null,0,"7/31 Hour 4",5068]
[7,"Wkdy",31,12,null,null,null,null,null,null,null,null,0,null,null,7,"Wkdy",31,12,null,null,null,null,null,null,null,null,0,"7/31 Hour 12",5076]
[7,"Wkdy",31,13,null,null,null,null,null,null,null,null,0,null,null,7,"Wkdy",31,13,null,null,null,null,null,null,null,null,0,"7/31 Hour 13",5077]
[7,"Wkdy",31,22,null,null,null,null,null,null,null,null,0,null,null,7,"Wkdy",31,22,null,null,null,null,null,null,null,null,0,"7/31 Hour 22",5086]
[8,"Wkdy",1,6,null,null,null,null,null,null,null,null,0,null,null,8,"Wkdy",1,6,null,null,null,null,null,null,null,null,0,"8/1 Hour 6",5094]
[8,"Wkdy",1,12,null,null,null,null,null,null,null,null,0,null,null,8,"Wkdy",1,12,null,null,null,null,null,null,null,null,0,"8/1 Hour 12",5100]
[8,"Wkdy",1,23,null,null,null,null,null,null,null,null,0,null,null,8,"Wkdy",1,23,null,null,null,null,null,null,null,null,0,"8/1 Hour 23",5111]
[8,"Wkdy",2,9,null,null,null,null,null,null,null,null,0,null,null,8,"Wkdy",2,9,null,null,null,null,null,null,null,null,0,"8/2 Hour 9",5121]
[8,"Wkdy",2,16,null,null,null,null,null,null,null,null,0,null,null,8,"Wkdy",2,16,null,null,null,null,null,null,null,null,0,"8/2 Hour 16",5128]
[8,"Wkdy",2,23,null,null,null,null,null,null,null,null,0,null,null,8,"Wkdy",2,23,null,null,null,null,null,null,null,null,0,"8/2 Hour 23",5135]
[8,"Wkdy",3,1,null,null,null,null,null,null,null,null,0,null,null,8,"Wkdy",3,1,null,null,null,null,null,null,null,null,0,"8/3 Hour 1",5137]
[8,"Wkdy",3,9,null,null,null,null,null,null,null,null,0,null,null,8,"Wkdy",3,9,null,null,null,null,null,null,null,null,0,"8/3 Hour 9",5145]
[8,"Wkdy",3,18,null,null,null,null,null,null,null,null,0,null,null,8,"Wkdy",3,18,null,null,null,null,null,null,null,null,0,"8/3 Hour 18",5154]
[8,"Wkdy",4,6,null,null,null,null,null,null,null,null,0,null,null,8,"Wkdy",4,6,null,null,null,null,null,null,null,null,0,"8/4 Hour 6",5166]
[8,"Wkdy",4,11,null,null,null,null,null,null,null,null,0,null,null,8,"Wkdy",4,11,null,null,null,null,null,null,null,null,0,"8/4 Hour 11",5171]
[8,"Wkdy",4,20,null,null,null,null,null,null,null,null,0,null,null,8,"Wkdy",4,20,null,null,null,null,null,null,null,null,0,"8/4 Hour 20",5180]
[8,"Sat",5,4,null,null,null,null,null,null,null,null,0,null,null,8,"Sat",5,4,null,null,null,null,null,null,null,null,0,"8/5 Hour 4",5188]
[8,"Sat",5,10,null,null,null,null,null,null,null,null,0,null,null,8,"Sat",5,10,null,null,null,null,null,null,null,null,0,"8/5 Hour 10",5194]
[8,"Sat",5,13,null,null,null,null,null,null,null,null,0,null,null,8,"Sat",5,13,null,null,null,null,null,null,null,null,0,"8/5 Hour 13",5197]
[8,"Sun",6,3,null,null,null,null,null,null,null,null,0,null,null,8,"Sun",6,3,null,null,null,null,null,null,null,null,0,"8/6 Hour 3",5211]
[8,"Sun",6,6,null,null,null,null,null,null,null,null,0,null,null,8,"Sun",6,6,null,null,null,null,null,null,null,null,0,"8/6 Hour 6",5214]
[8,"Sun",6,17,null,null,null,null,null,null,null,null,0,null,null,8,"Sun",6,17,null,null,null,null,null,null,null,null,0,"8/6 Hour 17",5225]
[8,"Sun",6,23,null,null,null,null,null,null,null,null,0,null,null,8,"Sun",6,23,null,null,null,null,null,null,null,null,0,"8/6 Hour 23",5231]
[8,"Wkdy",7,7,null,null,null,null,null,null,null,null,0,null,null,8,"Wkdy",7,7,null,null,null,null,null,null,null,null,0,"8/7 Hour 7",5239]
[8,"Wkdy",7,16,null,null,null,null,null,null,null,null,0,null,null,8,"Wkdy",7,16,null,null,null,null,null,null,null,null,0,"8/7 Hour 16",5248]
[8,"Wkdy",7,21,null,null,null,null,null,null,null,null,0,null,null,8,"Wkdy",7,21,null,null,null,null,null,null,null,null,0,"8/7 Hour 21",5253]
[8,"Wkdy",8,1,null,null,null,null,null,null,null,null,0,null,null,8,"Wkdy",8,1,null,null,null,null,null,null,null,null,0,"8/8 Hour 1",5257]
[8,"Wkdy",8,14,null,null,null,null,null,null,null,null,0,null,null,8,"Wkdy",8,14,null,null,null,null,null,null,null,null,0,"8/8 Hour 14",5270]
[8,"Wkdy",8,18,null,null,null,null,null,null,null,null,0,null,null,8,"Wkdy",8,18,null,null,null,null,null,null,null,null,0,"8/8 Hour 18",5274]
[8,"Wkdy",9,4,null,null,null,null,null,null,null,null,0,null,null,8,"Wkdy",9,4,null,null,null,null,null,null,null,null,0,"8/9 Hour 4",5284]
[8,"Wkdy",9,11,null,null,null,null,null,null,null,null,0,null,null,8,"Wkdy",9,11,null,null,null,null,null,null,null,null,0,"8/9 Hour 11",5291]
[8,"Wkdy",9,18,null,null,null,null,null,null,null,null,0,null,null,8,"Wkdy",9,18,null,null,null,null,null,null,null,null,0,"8/9 Hour 18",5298]
[8,"Wkdy",10,4,null,null,null,null,null,null,null,null,0,null,null,8,"Wkdy",10,4,null,null,null,null,null,null,null,null,0,"8/10 Hour 4",5308]
[8,"Wkdy",10,8,null,null,null,null,null,null,null,null,0,null,null,8,"Wkdy",10,8,null,null,null,null,null,null,null,null,0,"8/10 Hour 8",5312]
[8,"Wkdy",10,13,null,null,null,null,null,null,null,null,0,null,null,8,"Wkdy",10,13,null,null,null,null,null,null,null,null,0,"8/10 Hour 13",5317]
[8,"Wkdy",10,22,null,null,null,null,null,null,null,null,0,null,null,8,"Wkdy",10,22,null,null,null,null,null,null,null,null,0,"8/10 Hour 22",5326]
[8,"Wkdy",11,7,null,null,null,null,null,null,null,null,0,null,null,8,"Wkdy",11,7,null,null,null,null,null,null,null,null,0,"8/11 Hour 7",5335]
[8,"Wkdy",11,15,null,null,null,null,null,null,null,null,0,null,null,8,"Wkdy",11,15,null,null,null,null,null,null,null,null,0,"8/11 Hour 15",5343]
[8,"Wkdy",11,21,null,null,null,null,null,null,null,null,0,null,null,8,"Wkdy",11,21,null,null,null,null,null,null,null,null,0,"8/11 Hour 21",5349]
[8,"Sat",12,8,null,null,null,null,null,null,null,null,0,null,null,8,"Sat",12,8,null,null,null,null,null,null,null,null,0,"8/12 Hour 8",5360]
[8,"Sat",12,14,null,null,null,null,null,null,null,null,0,null,null,8,"Sat",12,14,null,null,null,null,null,null,null,null,0,"8/12 Hour 14",5366]
[8,"Sun",13,1,null,null,null,null,null,null,null,null,0,null,null,8,"Sun",13,1,null,null,null,null,null,null,null,null,0,"8/13 Hour 1",5377]
[8,"Sun",13,4,null,null,null,null,null,null,null,null,0,null,null,8,"Sun",13,4,null,null,null,null,null,null,null,null,0,"8/13 Hour 4",5380]
[8,"Sun",13,10,null,null,null,null,null,null,null,null,0,null,null,8,"Sun",13,10,null,null,null,null,null,null,null,null,0,"8/13 Hour 10",5386]
[8,"Sun",13,18,null,null,null,null,null,null,null,null,0,null,null,8,"Sun",13,18,null,null,null,null,null,null,null,null,0,"8/13 Hour 18",5394]
[8,"Wkdy",14,3,null,null,null,null,null,null,null,null,0,null,null,8,"Wkdy",14,3,null,null,null,null,null,null,null,null,0,"8/14 Hour 3",5403]
[8,"Wkdy",14,8,null,null,null,null,null,null,null,null,0,null,null,8,"Wkdy",14,8,null,null,null,null,null,null,null,null,0,"8/14 Hour 8",5408]
[8,"Wkdy",14,20,null,null,null,null,null,null,null,null,0,null,null,8,"Wkdy",14,20,null,null,null,null,null,null,null,null,0,"8/14 Hour 20",5420]
[8,"Wkdy",15,1,null,null,null,null,null,null,null,null,0,null,null,8,"Wkdy",15,1,null,null,null,null,null,null,null,null,0,"8/15 Hour 1",5425]
[8,"Wkdy",15,13,null,null,null,null,null,null,null,null,0,null,null,8,"Wkdy",15,13,null,null,null,null,null,null,null,null,0,"8/15 Hour 13",5437]
[8,"Wkdy",15,15,null,null,null,null,null,null,null,null,0,null,null,8,"Wkdy",15,15,null,null,null,null,null,null,null,null,0,"8/15 Hour 15",5439]
[8,"Wkdy",15,22,null,null,null,null,null,null,null,null,0,null,null,8,"Wkdy",15,22,null,null,null,null,null,null,null,null,0,"8/15 Hour 22",5446]
[8,"Wkdy",16,5,null,null,null,null,null,null,null,null,0,null,null,8,"Wkdy",16,5,null,null,null,null,null,null,null,null,0,"8/16 Hour 5",5453]
[8,"Wkdy",16,15,null,null,null,null,null,null,null,null,0,null,null,8,"Wkdy",16,15,null,null,null,null,null,null,null,null,0,"8/16 Hour 15",5463]
[8,"Wkdy",17,2,null,null,null,null,null,null,null,null,0,null,null,8,"Wkdy",17,2,null,null,null,null,null,null,null,null,0,"8/17 Hour 2",5474]
[8,"Wkdy",17,8,null,null,null,null,null,null,null,null,0,null,null,8,"Wkdy",17,8,null,null,null,null,null,null,null,null,0,"8/17 Hour 8",5480]
[8,"Wkdy",17,16,null,null,null,null,null,null,null,null,0,null,null,8,"Wkdy",17,16,null,null,null,null,null,null,null,null,0,"8/17 Hour 16",5488]
[8,"Wkdy",18,1,null,null,null,null,null,null,null,null,0,null,null,8,"Wkdy",18,1,null,null,null,null,null,null,null,null,0,"8/18 Hour 1",5497]
[8,"Wkdy",18,2,null,null,null,null,null,null,null,null,0,null,null,8,"Wkdy",18,2,null,null,null,null,null,null,null,null,0,"8/18 Hour 2",5498]
[8,"Wkdy",18,10,null,null,null,null,null,null,null,null,{"$f":"SUM(E5509:L5509)","v":0},null,null,8,"Wkdy",18,10,null,null,null,null,null,null,null,null,{"$f":"SUM(T5509:AA5509)","v":0},{"$f":"A5509&\"/\"&C5509&\" Hour \"&D5509","v":"8/18 Hour 10"},{"$f":"ROW()-ROW($AD$3)","v":5506}]
[8,"Wkdy",18,23,null,null,null,null,null,null,null,null,0,null,null,8,"Wkdy",18,23,null,null,null,null,null,null,null,null,0,"8/18 Hour 23",5519]
[8,"Sat",19,3,null,null,null,null,null,null,null,null,0,null,null,8,"Sat",19,3,null,null,null,null,null,null,null,null,0,"8/19 Hour 3",5523]
[8,"Sat",19,13,null,null,null,null,null,null,null,null,0,null,null,8,"Sat",19,13,null,null,null,null,null,null,null,null,0,"8/19 Hour 13",5533]
[8,"Sat",19,20,null,null,null,null,null,null,null,null,0,null,null,8,"Sat",19,20,null,null,null,null,null,null,null,null,0,"8/19 Hour 20",5540]
[8,"Sun",20,3,null,null,null,null,null,null,null,null,0,null,null,8,"Sun",20,3,null,null,null,null,null,null,null,null,0,"8/20 Hour 3",5547]
[8,"Sun",20,13,null,null,null,null,null,null,null,null,0,null,null,8,"Sun",20,13,null,null,null,null,null,null,null,null,0,"8/20 Hour 13",5557]
[8,"Sun",20,20,null,null,null,null,null,null,null,null,0,null,null,8,"Sun",20,20,null,null,null,null,null,null,null,null,0,"8/20 Hour 20",5564]
[8,"Sun",20,22,null,null,null,null,null,null,null,null,0,null,null,8,"Sun",20,22,null,null,null,null,null,null,null,null,0,"8/20 Hour 22",5566]
[8,"Wkdy",21,10,null,null,null,null,null,null,null,null,0,null,null,8,"Wkdy",21,10,null,null,null,null,null,null,null,null,0,"8/21 Hour 10",5578]
[8,"Wkdy",21,15,null,null,null,null,null,null,null,null,0,null,null,8,"Wkdy",21,15,null,null,null,null,null,null,null,null,0,"8/21 Hour 15",5583]
[8,"Wkdy",21,24,null,null,null,null,null,null,null,null,0,null,null,8,"Wkdy",21,24,null,null,null,null,null,null,null,null,0,"8/21 Hour 24",5592]
[8,"Wkdy",22,8,null,null,null,null,null,null,null,null,0,null,null,8,"Wkdy",22,8,null,null,null,null,null,null,null,null,0,"8/22 Hour 8",5600]
[8,"Wkdy",22,14,null,null,null,null,null,null,null,null,0,null,null,8,"Wkdy",22,14,null,null,null,null,null,null,null,null,0,"8/22 Hour 14",5606]
[8,"Wkdy",23,1,null,null,null,null,null,null,null,null,0,null,null,8,"Wkdy",23,1,null,null,null,null,null,null,null,null,0,"8/23 Hour 1",5617]
[8,"Wkdy",23,2,null,null,null,null,null,null,null,null,0,null,null,8,"Wkdy",23,2,null,null,null,null,null,null,null,null,0,"8/23 Hour 2",5618]
[8,"Wkdy",23,13,null,null,null,null,null,null,null,null,0,null,null,8,"Wkdy",23,13,null,null,null,null,null,null,null,null,0,"8/23 Hour 13",5629]
[8,"Wkdy",23,19,null,null,null,null,null,null,null,null,0,null,null,8,"Wkdy",23,19,null,null,null,null,null,null,null,null,0,"8/23 Hour 19",5635]
[8,"Wkdy",24,3,null,null,null,null,null,null,null,null,0,null,null,8,"Wkdy",24,3,null,null,null,null,null,null,null,null,0,"8/24 Hour 3",5643]
[8,"Wkdy",24,12,null,null,null,null,null,null,null,null,0,null,null,8,"Wkdy",24,12,null,null,null,null,null,null,null,null,0,"8/24 Hour 12",5652]
[8,"Wkdy",24,20,null,null,null,null,null,null,null,null,0,null,null,8,"Wkdy",24,20,null,null,null,null,null,null,null,null,0,"8/24 Hour 20",5660]
[8,"Wkdy",25,5,null,null,null,null,null,null,null,null,0,null,null,8,"Wkdy",25,5,null,null,null,null,null,null,null,null,0,"8/25 Hour 5",5669]
[8,"Wkdy",25,10,null,null,null,null,null,null,null,null,0,null,null,8,"Wkdy",25,10,null,null,null,null,null,null,null,null,0,"8/25 Hour 10",5674]
[8,"Wkdy",25,14,null,null,null,null,null,null,null,null,0,null,null,8,"Wkdy",25,14,null,null,null,null,null,null,null,null,0,"8/25 Hour 14",5678]
[8,"Wkdy",25,24,null,null,null,null,null,null,null,null,0,null,null,8,"Wkdy",25,24,null,null,null,null,null,null,null,null,0,"8/25 Hour 24",5688]
[8,"Sat",26,7,null,null,null,null,null,null,null,null,0,null,null,8,"Sat",26,7,null,null,null,null,null,null,null,null,0,"8/26 Hour 7",5695]
[8,"Sat",26,14,null,null,null,null,null,null,null,null,0,null,null,8,"Sat",26,14,null,null,null,null,null,null,null,null,0,"8/26 Hour 14",5702]
[8,"Sat",26,24,null,null,null,null,null,null,null,null,0,null,null,8,"Sat",26,24,null,null,null,null,null,null,null,null,0,"8/26 Hour 24",5712]
[8,"Sun",27,7,null,null,null,null,null,null,null,null,0,null,null,8,"Sun",27,7,null,null,null,null,null,null,null,null,0,"8/27 Hour 7",5719]
[8,"Sun",27,17,null,null,null,null,null,null,null,null,0,null,null,8,"Sun",27,17,null,null,null,null,null,null,null,null,0,"8/27 Hour 17",5729]
[8,"Sun",27,21,null,null,null,null,null,null,null,null,0,null,null,8,"Sun",27,21,null,null,null,null,null,null,null,null,0,"8/27 Hour 21",5733]
[8,"Wkdy",28,2,null,null,null,null,null,null,null,null,0,null,null,8,"Wkdy",28,2,null,null,null,null,null,null,null,null,0,"8/28 Hour 2",5738]
[8,"Wkdy",28,11,null,null,null,null,null,null,null,null,0,null,null,8,"Wkdy",28,11,null,null,null,null,null,null,null,null,0,"8/28 Hour 11",5747]
[8,"Wkdy",28,19,null,null,null,null,null,null,null,null,0,null,null,8,"Wkdy",28,19,null,null,null,null,null,null,null,null,0,"8/28 Hour 19",5755]
[8,"Wkdy",29,1,null,null,null,null,null,null,null,null,0,null,null,8,"Wkdy",29,1,null,null,null,null,null,null,null,null,0,"8/29 Hour 1",5761]
[8,"Wkdy",29,12,null,null,null,null,null,null,null,null,0,null,null,8,"Wkdy",29,12,null,null,null,null,null,null,null,null,0,"8/29 Hour 12",5772]
[8,"Wkdy",29,18,null,null,null,null,null,null,null,null,0,null,null,8,"Wkdy",29,18,null,null,null,null,null,null,null,null,0,"8/29 Hour 18",5778]
[8,"Wkdy",30,5,null,null,null,null,null,null,null,null,0,null,null,8,"Wkdy",30,5,null,null,null,null,null,null,null,null,0,"8/30 Hour 5",5789]
[8,"Wkdy",30,8,null,null,null,null,null,null,null,null,0,null,null,8,"Wkdy",30,8,null,null,null,null,null,null,null,null,0,"8/30 Hour 8",5792]
[8,"Wkdy",30,14,null,null,null,null,null,null,null,null,0,null,null,8,"Wkdy",30,14,null,null,null,null,null,null,null,null,0,"8/30 Hour 14",5798]
[8,"Wkdy",30,22,null,null,null,null,null,null,null,null,0,null,null,8,"Wkdy",30,22,null,null,null,null,null,null,null,null,0,"8/30 Hour 22",5806]
[8,"Wkdy",31,7,null,null,null,null,null,null,null,null,0,null,null,8,"Wkdy",31,7,null,null,null,null,null,null,null,null,0,"8/31 Hour 7",5815]
[8,"Wkdy",31,19,null,null,null,null,null,null,null,null,0,null,null,8,"Wkdy",31,19,null,null,null,null,null,null,null,null,0,"8/31 Hour 19",5827]
[8,"Wkdy",31,24,null,null,null,null,null,null,null,null,0,null,null,8,"Wkdy",31,24,null,null,null,null,null,null,null,null,0,"8/31 Hour 24",5832]
[9,"Wkdy",1,5,null,null,null,null,null,null,null,null,0,null,null,9,"Wkdy",1,5,null,null,null,null,null,null,null,null,0,"9/1 Hour 5",5837]
[9,"Wkdy",1,17,null,null,null,null,null,null,null,null,0,null,null,9,"Wkdy",1,17,null,null,null,null,null,null,null,null,0,"9/1 Hour 17",5849]
[9,"Wkdy",1,19,null,null,null,null,null,null,null,null,0,null,null,9,"Wkdy",1,19,null,null,null,null,null,null,null,null,0,"9/1 Hour 19",5851]
[9,"Sat",2,2,null,null,null,null,null,null,null,null,0,null,null,9,"Sat",2,2,null,null,null,null,null,null,null,null,0,"9/2 Hour 2",5858]
[9,"Sat",2,16,null,null,null,null,null,null,null,null,0,null,null,9,"Sat",2,16,null,null,null,null,null,null,null,null,0,"9/2 Hour 16",5872]
[9,"Sat",2,19,null,null,null,null,null,null,null,null,0,null,null,9,"Sat",2,19,null,null,null,null,null,null,null,null,0,"9/2 Hour 19",5875]
[9,"Sun",3,6,null,null,null,null,null,null,null,null,0,null,null,9,"Sun",3,6,null,null,null,null,null,null,null,null,0,"9/3 Hour 6",5886]
[9,"Sun",3,12,null,null,null,null,null,null,null,null,0,null,null,9,"Sun",3,12,null,null,null,null,null,null,null,null,0,"9/3 Hour 12",5892]
[9,"Sun",3,20,null,null,null,null,null,null,null,null,0,null,null,9,"Sun",3,20,null,null,null,null,null,null,null,null,0,"9/3 Hour 20",5900]
[9,"Hol",4,5,null,null,null,null,null,null,null,null,0,null,null,9,"Hol",4,5,null,null,null,null,null,null,null,null,0,"9/4 Hour 5",5909]
[9,"Hol",4,14,null,null,null,null,null,null,null,null,0,null,null,9,"Hol",4,14,null,null,null,null,null,null,null,null,0,"9/4 Hour 14",5918]
[9,"Hol",4,19,null,null,null,null,null,null,null,null,0,null,null,9,"Hol",4,19,null,null,null,null,null,null,null,null,0,"9/4 Hour 19",5923]
[9,"Hol",4,23,null,null,null,null,null,null,null,null,0,null,null,9,"Hol",4,23,null,null,null,null,null,null,null,null,0,"9/4 Hour 23",5927]
[9,"Wkdy",5,12,null,null,null,null,null,null,null,null,0,null,null,9,"Wkdy",5,12,null,null,null,null,null,null,null,null,0,"9/5 Hour 12",5940]
[9,"Wkdy",5,16,null,null,null,null,null,null,null,null,0,null,null,9,"Wkdy",5,16,null,null,null,null,null,null,null,null,0,"9/5 Hour 16",5944]
[9,"Wkdy",6,2,null,null,null,null,null,null,null,null,{"$f":"SUM(E5957:L5957)","v":0},null,null,9,"Wkdy",6,2,null,null,null,null,null,null,null,null,{"$f":"SUM(T5957:AA5957)","v":0},{"$f":"A5957&\"/\"&C5957&\" Hour \"&D5957","v":"9/6 Hour 2"},{"$f":"ROW()-ROW($AD$3)","v":5954}]
[9,"Wkdy",6,9,null,null,null,null,null,null,null,null,0,null,null,9,"Wkdy",6,9,null,null,null,null,null,null,null,null,0,"9/6 Hour 9",5961]
[9,"Wkdy",6,16,null,null,null,null,null,null,null,null,0,null,null,9,"Wkdy",6,16,null,null,null,null,null,null,null,null,0,"9/6 Hour 16",5968]
[9,"Wkdy",7,2,null,null,null,null,null,null,null,null,0,null,null,9,"Wkdy",7,2,null,null,null,null,null,null,null,null,0,"9/7 Hour 2",5978]
[9,"Wkdy",7,6,null,null,null,null,null,null,null,null,0,null,null,9,"Wkdy",7,6,null,null,null,null,null,null,null,null,0,"9/7 Hour 6",5982]
[9,"Wkdy",7,11,null,null,null,null,null,null,null,null,0,null,null,9,"Wkdy",7,11,null,null,null,null,null,null,null,null,0,"9/7 Hour 11",5987]
[9,"Wkdy",7,20,null,null,null,null,null,null,null,null,0,null,null,9,"Wkdy",7,20,null,null,null,null,null,null,null,null,0,"9/7 Hour 20",5996]
[9,"Wkdy",8,4,null,null,null,null,null,null,null,null,0,null,null,9,"Wkdy",8,4,null,null,null,null,null,null,null,null,0,"9/8 Hour 4",6004]
[9,"Wkdy",8,13,null,null,null,null,null,null,null,null,0,null,null,9,"Wkdy",8,13,null,null,null,null,null,null,null,null,0,"9/8 Hour 13",6013]
[9,"Wkdy",8,21,null,null,null,null,null,null,null,null,0,null,null,9,"Wkdy",8,21,null,null,null,null,null,null,null,null,0,"9/8 Hour 21",6021]
[9,"Sat",9,3,null,null,null,null,null,null,null,null,0,null,null,9,"Sat",9,3,null,null,null,null,null,null,null,null,0,"9/9 Hour 3",6027]
[9,"Sat",9,14,null,null,null,null,null,null,null,null,0,null,null,9,"Sat",9,14,null,null,null,null,null,null,null,null,0,"9/9 Hour 14",6038]
[9,"Sat",9,17,null,null,null,null,null,null,null,null,0,null,null,9,"Sat",9,17,null,null,null,null,null,null,null,null,0,"9/9 Hour 17",6041]
[9,"Sat",9,23,null,null,null,null,null,null,null,null,0,null,null,9,"Sat",9,23,null,null,null,null,null,null,null,null,0,"9/9 Hour 23",6047]
[9,"Sun",10,7,null,null,null,null,null,null,null,null,0,null,null,9,"Sun",10,7,null,null,null,null,null,null,null,null,0,"9/10 Hour 7",6055]
[9,"Sun",10,16,null,null,null,null,null,null,null,null,0,null,null,9,"Sun",10,16,null,null,null,null,null,null,null,null,0,"9/10 Hour 16",6064]
[9,"Sun",10,24,null,null,null,null,null,null,null,null,0,null,null,9,"Sun",10,24,null,null,null,null,null,null,null,null,0,"9/10 Hour 24",6072]
[9,"Wkdy",11,9,null,null,null,null,null,null,null,null,0,null,null,9,"Wkdy",11,9,null,null,null,null,null,null,null,null,0,"9/11 Hour 9",6081]
[9,"Wkdy",11,14,null,null,null,null,null,null,null,null,0,null,null,9,"Wkdy",11,14,null,null,null,null,null,null,null,null,0,"9/11 Hour 14",6086]
[9,"Wkdy",12,2,null,null,null,null,null,null,null,null,0,null,null,9,"Wkdy",12,2,null,null,null,null,null,null,null,null,0,"9/12 Hour 2",6098]
[9,"Wkdy",12,4,null,null,null,null,null,null,null,null,0,null,null,9,"Wkdy",12,4,null,null,null,null,null,null,null,null,0,"9/12 Hour 4",6100]
[9,"Wkdy",12,11,null,null,null,null,null,null,null,null,0,null,null,9,"Wkdy",12,11,null,null,null,null,null,null,null,null,0,"9/12 Hour 11",6107]
[9,"Wkdy",12,18,null,null,null,null,null,null,null,null,0,null,null,9,"Wkdy",12,18,null,null,null,null,null,null,null,null,0,"9/12 Hour 18",6114]
[9,"Wkdy",13,4,null,null,null,null,null,null,null,null,0,null,null,9,"Wkdy",13,4,null,null,null,null,null,null,null,null,0,"9/13 Hour 4",6124]
[9,"Wkdy",13,11,null,null,null,null,null,null,null,null,0,null,null,9,"Wkdy",13,11,null,null,null,null,null,null,null,null,0,"9/13 Hour 11",6131]
[9,"Wkdy",13,21,null,null,null,null,null,null,null,null,0,null,null,9,"Wkdy",13,21,null,null,null,null,null,null,null,null,0,"9/13 Hour 21",6141]
[9,"Wkdy",14,1,null,null,null,null,null,null,null,null,0,null,null,9,"Wkdy",14,1,null,null,null,null,null,null,null,null,0,"9/14 Hour 1",6145]
[9,"Wkdy",14,14,null,null,null,null,null,null,null,null,0,null,null,9,"Wkdy",14,14,null,null,null,null,null,null,null,null,0,"9/14 Hour 14",6158]
[9,"Wkdy",14,15,null,null,null,null,null,null,null,null,0,null,null,9,"Wkdy",14,15,null,null,null,null,null,null,null,null,0,"9/14 Hour 15",6159]
[9,"Wkdy",14,23,null,null,null,null,null,null,null,null,0,null,null,9,"Wkdy",14,23,null,null,null,null,null,null,null,null,0,"9/14 Hour 23",6167]
[9,"Wkdy",15,12,null,null,null,null,null,null,null,null,0,null,null,9,"Wkdy",15,12,null,null,null,null,null,null,null,null,0,"9/15 Hour 12",6180]
[9,"Wkdy",15,16,null,null,null,null,null,null,null,null,0,null,null,9,"Wkdy",15,16,null,null,null,null,null,null,null,null,0,"9/15 Hour 16",6184]
[9,"Wkdy",15,22,null,null,null,null,null,null,null,null,0,null,null,9,"Wkdy",15,22,null,null,null,null,null,null,null,null,0,"9/15 Hour 22",6190]
[9,"Sat",16,9,null,null,null,null,null,null,null,null,0,null,null,9,"Sat",16,9,null,null,null,null,null,null,null,null,0,"9/16 Hour 9",6201]
[9,"Sat",16,18,null,null,null,null,null,null,null,null,{"$f":"SUM(E6213:L6213)","v":0},null,null,9,"Sat",16,18,null,null,null,null,null,null,null,null,{"$f":"SUM(T6213:AA6213)","v":0},{"$f":"A6213&\"/\"&C6213&\" Hour \"&D6213","v":"9/16 Hour 18"},{"$f":"ROW()-ROW($AD$3)","v":6210}]
[9,"Sun",17,1,null,null,null,null,null,null,null,null,0,null,null,9,"Sun",17,1,null,null,null,null,null,null,null,null,0,"9/17 Hour 1",6217]
[9,"Sun",17,3,null,null,null,null,null,null,null,null,0,null,null,9,"Sun",17,3,null,null,null,null,null,null,null,null,0,"9/17 Hour 3",6219]
[9,"Sun",17,11,null,null,null,null,null,null,null,null,0,null,null,9,"Sun",17,11,null,null,null,null,null,null,null,null,0,"9/17 Hour 11",6227]
[9,"Sun",17,20,null,null,null,null,null,null,null,null,0,null,null,9,"Sun",17,20,null,null,null,null,null,null,null,null,0,"9/17 Hour 20",6236]
[9,"Wkdy",18,8,null,null,null,null,null,null,null,null,0,null,null,9,"Wkdy",18,8,null,null,null,null,null,null,null,null,0,"9/18 Hour 8",6248]
[9,"Wkdy",18,13,null,null,null,null,null,null,null,null,0,null,null,9,"Wkdy",18,13,null,null,null,null,null,null,null,null,0,"9/18 Hour 13",6253]
[9,"Wkdy",18,22,null,null,null,null,null,null,null,null,0,null,null,9,"Wkdy",18,22,null,null,null,null,null,null,null,null,0,"9/18 Hour 22",6262]
[9,"Wkdy",19,6,null,null,null,null,null,null,null,null,0,null,null,9,"Wkdy",19,6,null,null,null,null,null,null,null,null,0,"9/19 Hour 6",6270]
[9,"Wkdy",19,12,null,null,null,null,null,null,null,null,0,null,null,9,"Wkdy",19,12,null,null,null,null,null,null,null,null,0,"9/19 Hour 12",6276]
[9,"Wkdy",19,15,null,null,null,null,null,null,null,null,0,null,null,9,"Wkdy",19,15,null,null,null,null,null,null,null,null,0,"9/19 Hour 15",6279]
[9,"Wkdy",20,5,null,null,null,null,null,null,null,null,0,null,null,9,"Wkdy",20,5,null,null,null,null,null,null,null,null,0,"9/20 Hour 5",6293]
[9,"Wkdy",20,8,null,null,null,null,null,null,null,null,0,null,null,9,"Wkdy",20,8,null,null,null,null,null,null,null,null,0,"9/20 Hour 8",6296]
[9,"Wkdy",20,19,null,null,null,null,null,null,null,null,0,null,null,9,"Wkdy",20,19,null,null,null,null,null,null,null,null,0,"9/20 Hour 19",6307]
[9,"Wkdy",21,1,null,null,null,null,null,null,null,null,0,null,null,9,"Wkdy",21,1,null,null,null,null,null,null,null,null,0,"9/21 Hour 1",6313]
[9,"Wkdy",21,9,null,null,null,null,null,null,null,null,0,null,null,9,"Wkdy",21,9,null,null,null,null,null,null,null,null,0,"9/21 Hour 9",6321]
[9,"Wkdy",21,18,null,null,null,null,null,null,null,null,0,null,null,9,"Wkdy",21,18,null,null,null,null,null,null,null,null,0,"9/21 Hour 18",6330]
[9,"Wkdy",21,23,null,null,null,null,null,null,null,null,0,null,null,9,"Wkdy",21,23,null,null,null,null,null,null,null,null,0,"9/21 Hour 23",6335]
[9,"Wkdy",22,3,null,null,null,null,null,null,null,null,0,null,null,9,"Wkdy",22,3,null,null,null,null,null,null,null,null,0,"9/22 Hour 3",6339]
[9,"Wkdy",22,16,null,null,null,null,null,null,null,null,0,null,null,9,"Wkdy",22,16,null,null,null,null,null,null,null,null,0,"9/22 Hour 16",6352]
[9,"Wkdy",22,20,null,null,null,null,null,null,null,null,0,null,null,9,"Wkdy",22,20,null,null,null,null,null,null,null,null,0,"9/22 Hour 20",6356]
[9,"Sat",23,6,null,null,null,null,null,null,null,null,0,null,null,9,"Sat",23,6,null,null,null,null,null,null,null,null,0,"9/23 Hour 6",6366]
[9,"Sat",23,13,null,null,null,null,null,null,null,null,0,null,null,9,"Sat",23,13,null,null,null,null,null,null,null,null,0,"9/23 Hour 13",6373]
[9,"Sat",23,20,null,null,null,null,null,null,null,null,0,null,null,9,"Sat",23,20,null,null,null,null,null,null,null,null,0,"9/23 Hour 20",6380]
[9,"Sun",24,6,null,null,null,null,null,null,null,null,0,null,null,9,"Sun",24,6,null,null,null,null,null,null,null,null,0,"9/24 Hour 6",6390]
[9,"Sun",24,10,null,null,null,null,null,null,null,null,0,null,null,9,"Sun",24,10,null,null,null,null,null,null,null,null,0,"9/24 Hour 10",6394]
[9,"Sun",24,15,null,null,null,null,null,null,null,null,0,null,null,9,"Sun",24,15,null,null,null,null,null,null,null,null,0,"9/24 Hour 15",6399]
[9,"Sun",24,24,null,null,null,null,null,null,null,null,0,null,null,9,"Sun",24,24,null,null,null,null,null,null,null,null,0,"9/24 Hour 24",6408]
[9,"Wkdy",25,8,null,null,null,null,null,null,null,null,0,null,null,9,"Wkdy",25,8,null,null,null,null,null,null,null,null,0,"9/25 Hour 8",6416]
[9,"Wkdy",25,17,null,null,null,null,null,null,null,null,0,null,null,9,"Wkdy",25,17,null,null,null,null,null,null,null,null,0,"9/25 Hour 17",6425]
[9,"Wkdy",26,1,null,null,null,null,null,null,null,null,0,null,null,9,"Wkdy",26,1,null,null,null,null,null,null,null,null,0,"9/26 Hour 1",6433]
[9,"Wkdy",26,7,null,null,null,null,null,null,null,null,0,null,null,9,"Wkdy",26,7,null,null,null,null,null,null,null,null,0,"9/26 Hour 7",6439]
[9,"Wkdy",26,18,null,null,null,null,null,null,null,null,0,null,null,9,"Wkdy",26,18,null,null,null,null,null,null,null,null,0,"9/26 Hour 18",6450]
[9,"Wkdy",26,21,null,null,null,null,null,null,null,null,0,null,null,9,"Wkdy",26,21,null,null,null,null,null,null,null,null,0,"9/26 Hour 21",6453]
[9,"Wkdy",27,3,null,null,null,null,null,null,null,null,0,null,null,9,"Wkdy",27,3,null,null,null,null,null,null,null,null,0,"9/27 Hour 3",6459]
[9,"Wkdy",27,11,null,null,null,null,null,null,null,null,0,null,null,9,"Wkdy",27,11,null,null,null,null,null,null,null,null,0,"9/27 Hour 11",6467]
[9,"Wkdy",27,20,null,null,null,null,null,null,null,null,0,null,null,9,"Wkdy",27,20,null,null,null,null,null,null,null,null,0,"9/27 Hour 20",6476]
[9,"Wkdy",28,5,null,null,null,null,null,null,null,null,0,null,null,9,"Wkdy",28,5,null,null,null,null,null,null,null,null,0,"9/28 Hour 5",6485]
[9,"Wkdy",28,10,null,null,null,null,null,null,null,null,0,null,null,9,"Wkdy",28,10,null,null,null,null,null,null,null,null,0,"9/28 Hour 10",6490]
[9,"Wkdy",28,22,null,null,null,null,null,null,null,null,0,null,null,9,"Wkdy",28,22,null,null,null,null,null,null,null,null,0,"9/28 Hour 22",6502]
[9,"Wkdy",29,3,null,null,null,null,null,null,null,null,0,null,null,9,"Wkdy",29,3,null,null,null,null,null,null,null,null,0,"9/29 Hour 3",6507]
[9,"Wkdy",29,15,null,null,null,null,null,null,null,null,0,null,null,9,"Wkdy",29,15,null,null,null,null,null,null,null,null,0,"9/29 Hour 15",6519]
[9,"Wkdy",29,17,null,null,null,null,null,null,null,null,0,null,null,9,"Wkdy",29,17,null,null,null,null,null,null,null,null,0,"9/29 Hour 17",6521]
[9,"Wkdy",29,24,null,null,null,null,null,null,null,null,0,null,null,9,"Wkdy",29,24,null,null,null,null,null,null,null,null,0,"9/29 Hour 24",6528]
[9,"Sat",30,7,null,null,null,null,null,null,null,null,0,null,null,9,"Sat",30,7,null,null,null,null,null,null,null,null,0,"9/30 Hour 7",6535]
[9,"Sat",30,17,null,null,null,null,null,null,null,null,0,null,null,9,"Sat",30,17,null,null,null,null,null,null,null,null,0,"9/30 Hour 17",6545]
[10,"Sun",1,4,null,null,null,null,null,null,null,null,0,null,null,10,"Sun",1,4,null,null,null,null,null,null,null,null,0,"10/1 Hour 4",6556]
[10,"Sun",1,10,null,null,null,null,null,null,null,null,0,null,null,10,"Sun",1,10,null,null,null,null,null,null,null,null,0,"10/1 Hour 10",6562]
[10,"Sun",1,18,null,null,null,null,null,null,null,null,0,null,null,10,"Sun",1,18,null,null,null,null,null,null,null,null,0,"10/1 Hour 18",6570]
[10,"Wkdy",2,3,null,null,null,null,null,null,null,null,0,null,null,10,"Wkdy",2,3,null,null,null,null,null,null,null,null,0,"10/2 Hour 3",6579]
[10,"Wkdy",2,4,null,null,null,null,null,null,null,null,0,null,null,10,"Wkdy",2,4,null,null,null,null,null,null,null,null,0,"10/2 Hour 4",6580]
[10,"Wkdy",2,12,null,null,null,null,null,null,null,null,0,null,null,10,"Wkdy",2,12,null,null,null,null,null,null,null,null,0,"10/2 Hour 12",6588]
[10,"Wkdy",3,1,null,null,null,null,null,null,null,null,0,null,null,10,"Wkdy",3,1,null,null,null,null,null,null,null,null,0,"10/3 Hour 1",6601]
[10,"Wkdy",3,5,null,null,null,null,null,null,null,null,0,null,null,10,"Wkdy",3,5,null,null,null,null,null,null,null,null,0,"10/3 Hour 5",6605]
[10,"Wkdy",3,15,null,null,null,null,null,null,null,null,0,null,null,10,"Wkdy",3,15,null,null,null,null,null,null,null,null,0,"10/3 Hour 15",6615]
[10,"Wkdy",3,22,null,null,null,null,null,null,null,null,0,null,null,10,"Wkdy",3,22,null,null,null,null,null,null,null,null,0,"10/3 Hour 22",6622]
[10,"Wkdy",4,5,null,null,null,null,null,null,null,null,0,null,null,10,"Wkdy",4,5,null,null,null,null,null,null,null,null,0,"10/4 Hour 5",6629]
[10,"Wkdy",4,15,null,null,null,null,null,null,null,null,0,null,null,10,"Wkdy",4,15,null,null,null,null,null,null,null,null,0,"10/4 Hour 15",6639]
[10,"Wkdy",4,22,null,null,null,null,null,null,null,null,0,null,null,10,"Wkdy",4,22,null,null,null,null,null,null,null,null,0,"10/4 Hour 22",6646]
[10,"Wkdy",4,24,null,null,null,null,null,null,null,null,0,null,null,10,"Wkdy",4,24,null,null,null,null,null,null,null,null,0,"10/4 Hour 24",6648]
[10,"Wkdy",5,12,null,null,null,null,null,null,null,null,0,null,null,10,"Wkdy",5,12,null,null,null,null,null,null,null,null,0,"10/5 Hour 12",6660]
[10,"Wkdy",5,17,null,null,null,null,null,null,null,null,0,null,null,10,"Wkdy",5,17,null,null,null,null,null,null,null,null,0,"10/5 Hour 17",6665]
[10,"Wkdy",6,2,null,null,null,null,null,null,null,null,0,null,null,10,"Wkdy",6,2,null,null,null,null,null,null,null,null,0,"10/6 Hour 2",6674]
[10,"Wkdy",6,10,null,null,null,null,null,null,null,null,0,null,null,10,"Wkdy",6,10,null,null,null,null,null,null,null,null,0,"10/6 Hour 10",6682]
[10,"Wkdy",6,16,null,null,null,null,null,null,null,null,0,null,null,10,"Wkdy",6,16,null,null,null,null,null,null,null,null,0,"10/6 Hour 16",6688]
[10,"Sat",7,3,null,null,null,null,null,null,null,null,0,null,null,10,"Sat",7,3,null,null,null,null,null,null,null,null,0,"10/7 Hour 3",6699]
[10,"Sat",7,9,null,null,null,null,null,null,null,null,0,null,null,10,"Sat",7,9,null,null,null,null,null,null,null,null,0,"10/7 Hour 9",6705]
[10,"Sat",7,12,null,null,null,null,null,null,null,null,0,null,null,10,"Sat",7,12,null,null,null,null,null,null,null,null,0,"10/7 Hour 12",6708]
[10,"Sat",7,23,null,null,null,null,null,null,null,null,0,null,null,10,"Sat",7,23,null,null,null,null,null,null,null,null,0,"10/7 Hour 23",6719]
[10,"Sun",8,5,null,null,null,null,null,null,null,null,0,null,null,10,"Sun",8,5,null,null,null,null,null,null,null,null,0,"10/8 Hour 5",6725]
[10,"Sun",8,13,null,null,null,null,null,null,null,null,0,null,null,10,"Sun",8,13,null,null,null,null,null,null,null,null,0,"10/8 Hour 13",6733]
[10,"Sun",8,22,null,null,null,null,null,null,null,null,0,null,null,10,"Sun",8,22,null,null,null,null,null,null,null,null,0,"10/8 Hour 22",6742]
[10,"Wkdy",9,3,null,null,null,null,null,null,null,null,0,null,null,10,"Wkdy",9,3,null,null,null,null,null,null,null,null,0,"10/9 Hour 3",6747]
[10,"Wkdy",9,15,null,null,null,null,null,null,null,null,0,null,null,10,"Wkdy",9,15,null,null,null,null,null,null,null,null,0,"10/9 Hour 15",6759]
[10,"Wkdy",9,20,null,null,null,null,null,null,null,null,0,null,null,10,"Wkdy",9,20,null,null,null,null,null,null,null,null,0,"10/9 Hour 20",6764]
[10,"Wkdy",9,24,null,null,null,null,null,null,null,null,0,null,null,10,"Wkdy",9,24,null,null,null,null,null,null,null,null,0,"10/9 Hour 24",6768]
[10,"Wkdy",10,9,null,null,null,null,null,null,null,null,0,null,null,10,"Wkdy",10,9,null,null,null,null,null,null,null,null,0,"10/10 Hour 9",6777]
[10,"Wkdy",10,16,null,null,null,null,null,null,null,null,0,null,null,10,"Wkdy",10,16,null,null,null,null,null,null,null,null,0,"10/10 Hour 16",6784]
[10,"Wkdy",11,2,null,null,null,null,null,null,null,null,0,null,null,10,"Wkdy",11,2,null,null,null,null,null,null,null,null,0,"10/11 Hour 2",6794]
[10,"Wkdy",11,9,null,null,null,null,null,null,null,null,0,null,null,10,"Wkdy",11,9,null,null,null,null,null,null,null,null,0,"10/11 Hour 9",6801]
[10,"Wkdy",11,19,null,null,null,null,null,null,null,null,0,null,null,10,"Wkdy",11,19,null,null,null,null,null,null,null,null,0,"10/11 Hour 19",6811]
[10,"Wkdy",11,23,null,null,null,null,null,null,null,null,0,null,null,10,"Wkdy",11,23,null,null,null,null,null,null,null,null,0,"10/11 Hour 23",6815]
[10,"Wkdy",12,4,null,null,null,null,null,null,null,null,0,null,null,10,"Wkdy",12,4,null,null,null,null,null,null,null,null,0,"10/12 Hour 4",6820]
[10,"Wkdy",12,13,null,null,null,null,null,null,null,null,0,null,null,10,"Wkdy",12,13,null,null,null,null,null,null,null,null,0,"10/12 Hour 13",6829]
[10,"Wkdy",12,21,null,null,null,null,null,null,null,null,0,null,null,10,"Wkdy",12,21,null,null,null,null,null,null,null,null,0,"10/12 Hour 21",6837]
[10,"Wkdy",13,3,null,null,null,null,null,null,null,null,0,null,null,10,"Wkdy",13,3,null,null,null,null,null,null,null,null,0,"10/13 Hour 3",6843]
[10,"Wkdy",13,14,null,null,null,null,null,null,null,null,0,null,null,10,"Wkdy",13,14,null,null,null,null,null,null,null,null,0,"10/13 Hour 14",6854]
[10,"Wkdy",13,20,null,null,null,null,null,null,null,null,0,null,null,10,"Wkdy",13,20,null,null,null,null,null,null,null,null,0,"10/13 Hour 20",6860]
[10,"Sat",14,7,null,null,null,null,null,null,null,null,0,null,null,10,"Sat",14,7,null,null,null,null,null,null,null,null,0,"10/14 Hour 7",6871]
[10,"Sat",14,10,null,null,null,null,null,null,null,null,0,null,null,10,"Sat",14,10,null,null,null,null,null,null,null,null,0,"10/14 Hour 10",6874]
[10,"Sat",14,16,null,null,null,null,null,null,null,null,0,null,null,10,"Sat",14,16,null,null,null,null,null,null,null,null,0,"10/14 Hour 16",6880]
[10,"Sat",14,24,null,null,null,null,null,null,null,null,0,null,null,10,"Sat",14,24,null,null,null,null,null,null,null,null,0,"10/14 Hour 24",6888]
[10,"Sun",15,9,null,null,null,null,null,null,null,null,0,null,null,10,"Sun",15,9,null,null,null,null,null,null,null,null,0,"10/15 Hour 9",6897]
[10,"Sun",15,21,null,null,null,null,null,null,null,null,0,null,null,10,"Sun",15,21,null,null,null,null,null,null,null,null,0,"10/15 Hour 21",6909]
[10,"Wkdy",16,2,null,null,null,null,null,null,null,null,{"$f":"SUM(E6917:L6917)","v":0},null,null,10,"Wkdy",16,2,null,null,null,null,null,null,null,null,{"$f":"SUM(T6917:AA6917)","v":0},{"$f":"A6917&\"/\"&C6917&\" Hour \"&D6917","v":"10/16 Hour 2"},{"$f":"ROW()-ROW($AD$3)","v":6914}]
[10,"Wkdy",16,7,null,null,null,null,null,null,null,null,0,null,null,10,"Wkdy",16,7,null,null,null,null,null,null,null,null,0,"10/16 Hour 7",6919]
[10,"Wkdy",16,19,null,null,null,null,null,null,null,null,0,null,null,10,"Wkdy",16,19,null,null,null,null,null,null,null,null,0,"10/16 Hour 19",6931]
[10,"Wkdy",16,21,null,null,null,null,null,null,null,null,0,null,null,10,"Wkdy",16,21,null,null,null,null,null,null,null,null,0,"10/16 Hour 21",6933]
[10,"Wkdy",17,4,null,null,null,null,null,null,null,null,0,null,null,10,"Wkdy",17,4,null,null,null,null,null,null,null,null,0,"10/17 Hour 4",6940]
[10,"Wkdy",17,18,null,null,null,null,null,null,null,null,0,null,null,10,"Wkdy",17,18,null,null,null,null,null,null,null,null,0,"10/17 Hour 18",6954]
[10,"Wkdy",17,21,null,null,null,null,null,null,null,null,0,null,null,10,"Wkdy",17,21,null,null,null,null,null,null,null,null,0,"10/17 Hour 21",6957]
[10,"Wkdy",18,8,null,null,null,null,null,null,null,null,0,null,null,10,"Wkdy",18,8,null,null,null,null,null,null,null,null,0,"10/18 Hour 8",6968]
[10,"Wkdy",18,14,null,null,null,null,null,null,null,null,0,null,null,10,"Wkdy",18,14,null,null,null,null,null,null,null,null,0,"10/18 Hour 14",6974]
[10,"Wkdy",18,22,null,null,null,null,null,null,null,null,0,null,null,10,"Wkdy",18,22,null,null,null,null,null,null,null,null,0,"10/18 Hour 22",6982]
[10,"Wkdy",19,7,null,null,null,null,null,null,null,null,0,null,null,10,"Wkdy",19,7,null,null,null,null,null,null,null,null,0,"10/19 Hour 7",6991]
[10,"Wkdy",19,15,null,null,null,null,null,null,null,null,0,null,null,10,"Wkdy",19,15,null,null,null,null,null,null,null,null,0,"10/19 Hour 15",6999]
[10,"Wkdy",19,16,null,null,null,null,null,null,null,null,0,null,null,10,"Wkdy",19,16,null,null,null,null,null,null,null,null,0,"10/19 Hour 16",7000]
[10,"Wkdy",20,5,null,null,null,null,null,null,null,null,0,null,null,10,"Wkdy",20,5,null,null,null,null,null,null,null,null,0,"10/20 Hour 5",7013]
[10,"Wkdy",20,9,null,null,null,null,null,null,null,null,0,null,null,10,"Wkdy",20,9,null,null,null,null,null,null,null,null,0,"10/20 Hour 9",7017]
[10,"Wkdy",20,19,null,null,null,null,null,null,null,null,0,null,null,10,"Wkdy",20,19,null,null,null,null,null,null,null,null,0,"10/20 Hour 19",7027]
[10,"Sat",21,2,null,null,null,null,null,null,null,null,0,null,null,10,"Sat",21,2,null,null,null,null,null,null,null,null,0,"10/21 Hour 2",7034]
[10,"Sat",21,9,null,null,null,null,null,null,null,null,0,null,null,10,"Sat",21,9,null,null,null,null,null,null,null,null,0,"10/21 Hour 9",7041]
[10,"Sat",21,19,null,null,null,null,null,null,null,null,0,null,null,10,"Sat",21,19,null,null,null,null,null,null,null,null,0,"10/21 Hour 19",7051]
[10,"Sun",22,2,null,null,null,null,null,null,null,null,0,null,null,10,"Sun",22,2,null,null,null,null,null,null,null,null,0,"10/22 Hour 2",7058]
[10,"Sun",22,4,null,null,null,null,null,null,null,null,0,null,null,10,"Sun",22,4,null,null,null,null,null,null,null,null,0,"10/22 Hour 4",7060]
[10,"Sun",22,13,null,null,null,null,null,null,null,null,0,null,null,10,"Sun",22,13,null,null,null,null,null,null,null,null,0,"10/22 Hour 13",7069]
[10,"Sun",22,22,null,null,null,null,null,null,null,null,0,null,null,10,"Sun",22,22,null,null,null,null,null,null,null,null,0,"10/22 Hour 22",7078]
[10,"Wkdy",23,6,null,null,null,null,null,null,null,null,0,null,null,10,"Wkdy",23,6,null,null,null,null,null,null,null,null,0,"10/23 Hour 6",7086]
[10,"Wkdy",23,15,null,null,null,null,null,null,null,null,0,null,null,10,"Wkdy",23,15,null,null,null,null,null,null,null,null,0,"10/23 Hour 15",7095]
[10,"Wkdy",23,23,null,null,null,null,null,null,null,null,0,null,null,10,"Wkdy",23,23,null,null,null,null,null,null,null,null,0,"10/23 Hour 23",7103]
[10,"Wkdy",24,5,null,null,null,null,null,null,null,null,0,null,null,10,"Wkdy",24,5,null,null,null,null,null,null,null,null,0,"10/24 Hour 5",7109]
[10,"Wkdy",24,16,null,null,null,null,null,null,null,null,0,null,null,10,"Wkdy",24,16,null,null,null,null,null,null,null,null,0,"10/24 Hour 16",7120]
[10,"Wkdy",24,19,null,null,null,null,null,null,null,null,0,null,null,10,"Wkdy",24,19,null,null,null,null,null,null,null,null,0,"10/24 Hour 19",7123]
[10,"Wkdy",25,1,null,null,null,null,null,null,null,null,0,null,null,10,"Wkdy",25,1,null,null,null,null,null,null,null,null,0,"10/25 Hour 1",7129]
[10,"Wkdy",25,9,null,null,null,null,null,null,null,null,0,null,null,10,"Wkdy",25,9,null,null,null,null,null,null,null,null,0,"10/25 Hour 9",7137]
[10,"Wkdy",25,18,null,null,null,null,null,null,null,null,0,null,null,10,"Wkdy",25,18,null,null,null,null,null,null,null,null,0,"10/25 Hour 18",7146]
[10,"Wkdy",26,2,null,null,null,null,null,null,null,null,0,null,null,10,"Wkdy",26,2,null,null,null,null,null,null,null,null,0,"10/26 Hour 2",7154]
[10,"Wkdy",26,11,null,null,null,null,null,null,null,null,0,null,null,10,"Wkdy",26,11,null,null,null,null,null,null,null,null,0,"10/26 Hour 11",7163]
[10,"Wkdy",26,16,null,null,null,null,null,null,null,null,0,null,null,10,"Wkdy",26,16,null,null,null,null,null,null,null,null,0,"10/26 Hour 16",7168]
[10,"Wkdy",27,4,null,null,null,null,null,null,null,null,0,null,null,10,"Wkdy",27,4,null,null,null,null,null,null,null,null,0,"10/27 Hour 4",7180]
[10,"Wkdy",27,6,null,null,null,null,null,null,null,null,0,null,null,10,"Wkdy",27,6,null,null,null,null,null,null,null,null,0,"10/27 Hour 6",7182]
[10,"Wkdy",27,13,null,null,null,null,null,null,null,null,0,null,null,10,"Wkdy",27,13,null,null,null,null,null,null,null,null,0,"10/27 Hour 13",7189]
[10,"Wkdy",27,20,null,null,null,null,null,null,null,null,0,null,null,10,"Wkdy",27,20,null,null,null,null,null,null,null,null,0,"10/27 Hour 20",7196]
[10,"Sat",28,6,null,null,null,null,null,null,null,null,0,null,null,10,"Sat",28,6,null,null,null,null,null,null,null,null,0,"10/28 Hour 6",7206]
[10,"Sat",28,13,null,null,null,null,null,null,null,null,0,null,null,10,"Sat",28,13,null,null,null,null,null,null,null,null,0,"10/28 Hour 13",7213]
[10,"Sat",28,23,null,null,null,null,null,null,null,null,0,null,null,10,"Sat",28,23,null,null,null,null,null,null,null,null,0,"10/28 Hour 23",7223]
[10,"Sun",29,3,null,null,null,null,null,null,null,null,0,null,null,10,"Sun",29,3,null,null,null,null,null,null,null,null,0,"10/29 Hour 3",7227]
[10,"Sun",29,16,null,null,null,null,null,null,null,null,0,null,null,10,"Sun",29,16,null,null,null,null,null,null,null,null,0,"10/29 Hour 16",7240]
[10,"Sun",29,17,null,null,null,null,null,null,null,null,0,null,null,10,"Sun",29,17,null,null,null,null,null,null,null,null,0,"10/29 Hour 17",7241]
[10,"Wkdy",30,1,null,null,null,null,null,null,null,null,0,null,null,10,"Wkdy",30,1,null,null,null,null,null,null,null,null,0,"10/30 Hour 1",7249]
[10,"Wkdy",30,14,null,null,null,null,null,null,null,null,0,null,null,10,"Wkdy",30,14,null,null,null,null,null,null,null,null,0,"10/30 Hour 14",7262]
[10,"Wkdy",30,18,null,null,null,null,null,null,null,null,0,null,null,10,"Wkdy",30,18,null,null,null,null,null,null,null,null,0,"10/30 Hour 18",7266]
[10,"Wkdy",30,24,null,null,null,null,null,null,null,null,0,null,null,10,"Wkdy",30,24,null,null,null,null,null,null,null,null,0,"10/30 Hour 24",7272]
[10,"Wkdy",31,11,null,null,null,null,null,null,null,null,0,null,null,10,"Wkdy",31,11,null,null,null,null,null,null,null,null,0,"10/31 Hour 11",7283]
[10,"Wkdy",31,14,null,null,null,null,null,null,null,null,0,null,null,10,"Wkdy",31,14,null,null,null,null,null,null,null,null,0,"10/31 Hour 14",7286]
[11,"Wkdy",1,4,null,null,null,null,null,null,null,null,0,null,null,11,"Wkdy",1,4,null,null,null,null,null,null,null,null,0,"11/1 Hour 4",7300]
[11,"Wkdy",1,11,null,null,null,null,null,null,null,null,0,null,null,11,"Wkdy",1,11,null,null,null,null,null,null,null,null,0,"11/1 Hour 11",7307]
[11,"Wkdy",1,13,null,null,null,null,null,null,null,null,0,null,null,11,"Wkdy",1,13,null,null,null,null,null,null,null,null,0,"11/1 Hour 13",7309]
[11,"Wkdy",2,1,null,null,null,null,null,null,null,null,0,null,null,11,"Wkdy",2,1,null,null,null,null,null,null,null,null,0,"11/2 Hour 1",7321]
[11,"Wkdy",2,6,null,null,null,null,null,null,null,null,0,null,null,11,"Wkdy",2,6,null,null,null,null,null,null,null,null,0,"11/2 Hour 6",7326]
[11,"Wkdy",2,11,null,null,null,null,null,null,null,null,0,null,null,11,"Wkdy",2,11,null,null,null,null,null,null,null,null,0,"11/2 Hour 11",7331]
[11,"Wkdy",2,23,null,null,null,null,null,null,null,null,0,null,null,11,"Wkdy",2,23,null,null,null,null,null,null,null,null,0,"11/2 Hour 23",7343]
[11,"Wkdy",3,8,null,null,null,null,null,null,null,null,0,null,null,11,"Wkdy",3,8,null,null,null,null,null,null,null,null,0,"11/3 Hour 8",7352]
[11,"Wkdy",3,16,null,null,null,null,null,null,null,null,0,null,null,11,"Wkdy",3,16,null,null,null,null,null,null,null,null,0,"11/3 Hour 16",7360]
[11,"Wkdy",3,17,null,null,null,null,null,null,null,null,0,null,null,11,"Wkdy",3,17,null,null,null,null,null,null,null,null,0,"11/3 Hour 17",7361]
[11,"Sat",4,7,null,null,null,null,null,null,null,null,0,null,null,11,"Sat",4,7,null,null,null,null,null,null,null,null,0,"11/4 Hour 7",7375]
[11,"Sat",4,10,null,null,null,null,null,null,null,null,0,null,null,11,"Sat",4,10,null,null,null,null,null,null,null,null,0,"11/4 Hour 10",7378]
[11,"Sat",4,21,null,null,null,null,null,null,null,null,0,null,null,11,"Sat",4,21,null,null,null,null,null,null,null,null,0,"11/4 Hour 21",7389]
[11,"Sun",5,3,null,null,null,null,null,null,null,null,0,null,null,11,"Sun",5,3,null,null,null,null,null,null,null,null,0,"11/5 Hour 3",7395]
[11,"Sun",5,11,null,null,null,null,null,null,null,null,0,null,null,11,"Sun",5,11,null,null,null,null,null,null,null,null,0,"11/5 Hour 11",7403]
[11,"Sun",5,20,null,null,null,null,null,null,null,null,0,null,null,11,"Sun",5,20,null,null,null,null,null,null,null,null,0,"11/5 Hour 20",7412]
[11,"Wkdy",6,1,null,null,null,null,null,null,null,null,0,null,null,11,"Wkdy",6,1,null,null,null,null,null,null,null,null,0,"11/6 Hour 1",7417]
[11,"Wkdy",6,5,null,null,null,null,null,null,null,null,0,null,null,11,"Wkdy",6,5,null,null,null,null,null,null,null,null,0,"11/6 Hour 5",7421]
[11,"Wkdy",6,18,null,null,null,null,null,null,null,null,0,null,null,11,"Wkdy",6,18,null,null,null,null,null,null,null,null,0,"11/6 Hour 18",7434]
[11,"Wkdy",6,22,null,null,null,null,null,null,null,null,0,null,null,11,"Wkdy",6,22,null,null,null,null,null,null,null,null,0,"11/6 Hour 22",7438]
[11,"Wkdy",7,8,null,null,null,null,null,null,null,null,0,null,null,11,"Wkdy",7,8,null,null,null,null,null,null,null,null,0,"11/7 Hour 8",7448]
[11,"Wkdy",7,15,null,null,null,null,null,null,null,null,0,null,null,11,"Wkdy",7,15,null,null,null,null,null,null,null,null,0,"11/7 Hour 15",7455]
[11,"Wkdy",7,22,null,null,null,null,null,null,null,null,0,null,null,11,"Wkdy",7,22,null,null,null,null,null,null,null,null,0,"11/7 Hour 22",7462]
[11,"Wkdy",8,8,null,null,null,null,null,null,null,null,0,null,null,11,"Wkdy",8,8,null,null,null,null,null,null,null,null,0,"11/8 Hour 8",7472]
[11,"Wkdy",8,12,null,null,null,null,null,null,null,null,0,null,null,11,"Wkdy",8,12,null,null,null,null,null,null,null,null,0,"11/8 Hour 12",7476]
[11,"Wkdy",8,17,null,null,null,null,null,null,null,null,0,null,null,11,"Wkdy",8,17,null,null,null,null,null,null,null,null,0,"11/8 Hour 17",7481]
[11,"Wkdy",9,2,null,null,null,null,null,null,null,null,{"$f":"SUM(E7493:L7493)","v":0},null,null,11,"Wkdy",9,2,null,null,null,null,null,null,null,null,{"$f":"SUM(T7493:AA7493)","v":0},{"$f":"A7493&\"/\"&C7493&\" Hour \"&D7493","v":"11/9 Hour 2"},{"$f":"ROW()-ROW($AD$3)","v":7490}]
[11,"Wkdy",9,10,null,null,null,null,null,null,null,null,0,null,null,11,"Wkdy",9,10,null,null,null,null,null,null,null,null,0,"11/9 Hour 10",7498]
[11,"Wkdy",9,19,null,null,null,null,null,null,null,null,0,null,null,11,"Wkdy",9,19,null,null,null,null,null,null,null,null,0,"11/9 Hour 19",7507]
[11,"Wkdy",10,3,null,null,null,null,null,null,null,null,0,null,null,11,"Wkdy",10,3,null,null,null,null,null,null,null,null,0,"11/10 Hour 3",7515]
[11,"Wkdy",10,9,null,null,null,null,null,null,null,null,0,null,null,11,"Wkdy",10,9,null,null,null,null,null,null,null,null,0,"11/10 Hour 9",7521]
[11,"Wkdy",10,20,null,null,null,null,null,null,null,null,0,null,null,11,"Wkdy",10,20,null,null,null,null,null,null,null,null,0,"11/10 Hour 20",7532]
[11,"Wkdy",10,23,null,null,null,null,null,null,null,null,0,null,null,11,"Wkdy",10,23,null,null,null,null,null,null,null,null,0,"11/10 Hour 23",7535]
[11,"Sat",11,5,null,null,null,null,null,null,null,null,0,null,null,11,"Sat",11,5,null,null,null,null,null,null,null,null,0,"11/11 Hour 5",7541]
[11,"Sat",11,13,null,null,null,null,null,null,null,null,0,null,null,11,"Sat",11,13,null,null,null,null,null,null,null,null,0,"11/11 Hour 13",7549]
[11,"Sat",11,22,null,null,null,null,null,null,null,null,0,null,null,11,"Sat",11,22,null,null,null,null,null,null,null,null,0,"11/11 Hour 22",7558]
[11,"Sun",12,6,null,null,null,null,null,null,null,null,0,null,null,11,"Sun",12,6,null,null,null,null,null,null,null,null,0,"11/12 Hour 6",7566]
[11,"Sun",12,15,null,null,null,null,null,null,null,null,0,null,null,11,"Sun",12,15,null,null,null,null,null,null,null,null,0,"11/12 Hour 15",7575]
[11,"Sun",12,20,null,null,null,null,null,null,null,null,0,null,null,11,"Sun",12,20,null,null,null,null,null,null,null,null,0,"11/12 Hour 20",7580]
[11,"Wkdy",13,8,null,null,null,null,null,null,null,null,0,null,null,11,"Wkdy",13,8,null,null,null,null,null,null,null,null,0,"11/13 Hour 8",7592]
[11,"Wkdy",13,10,null,null,null,null,null,null,null,null,0,null,null,11,"Wkdy",13,10,null,null,null,null,null,null,null,null,0,"11/13 Hour 10",7594]
[11,"Wkdy",13,17,null,null,null,null,null,null,null,null,0,null,null,11,"Wkdy",13,17,null,null,null,null,null,null,null,null,0,"11/13 Hour 17",7601]
[11,"Wkdy",14,7,null,null,null,null,null,null,null,null,0,null,null,11,"Wkdy",14,7,null,null,null,null,null,null,null,null,0,"11/14 Hour 7",7615]
[11,"Wkdy",14,10,null,null,null,null,null,null,null,null,{"$f":"SUM(E7621:L7621)","v":0},null,null,11,"Wkdy",14,10,null,null,null,null,null,null,null,null,{"$f":"SUM(T7621:AA7621)","v":0},{"$f":"A7621&\"/\"&C7621&\" Hour \"&D7621","v":"11/14 Hour 10"},{"$f":"ROW()-ROW($AD$3)","v":7618}]
[11,"Wkdy",14,17,null,null,null,null,null,null,null,null,0,null,null,11,"Wkdy",14,17,null,null,null,null,null,null,null,null,0,"11/14 Hour 17",7625]
[11,"Wkdy",15,3,null,null,null,null,null,null,null,null,0,null,null,11,"Wkdy",15,3,null,null,null,null,null,null,null,null,0,"11/15 Hour 3",7635]
[11,"Wkdy",15,12,null,null,null,null,null,null,null,null,0,null,null,11,"Wkdy",15,12,null,null,null,null,null,null,null,null,0,"11/15 Hour 12",7644]
[11,"Wkdy",15,20,null,null,null,null,null,null,null,null,0,null,null,11,"Wkdy",15,20,null,null,null,null,null,null,null,null,0,"11/15 Hour 20",7652]
[11,"Wkdy",16,5,null,null,null,null,null,null,null,null,0,null,null,11,"Wkdy",16,5,null,null,null,null,null,null,null,null,0,"11/16 Hour 5",7661]
[11,"Wkdy",16,6,null,null,null,null,null,null,null,null,0,null,null,11,"Wkdy",16,6,null,null,null,null,null,null,null,null,0,"11/16 Hour 6",7662]
[11,"Wkdy",16,14,null,null,null,null,null,null,null,null,0,null,null,11,"Wkdy",16,14,null,null,null,null,null,null,null,null,0,"11/16 Hour 14",7670]
[11,"Wkdy",17,3,null,null,null,null,null,null,null,null,0,null,null,11,"Wkdy",17,3,null,null,null,null,null,null,null,null,0,"11/17 Hour 3",7683]
[11,"Wkdy",17,7,null,null,null,null,null,null,null,null,0,null,null,11,"Wkdy",17,7,null,null,null,null,null,null,null,null,0,"11/17 Hour 7",7687]
[11,"Wkdy",17,17,null,null,null,null,null,null,null,null,0,null,null,11,"Wkdy",17,17,null,null,null,null,null,null,null,null,0,"11/17 Hour 17",7697]
[11,"Wkdy",17,24,null,null,null,null,null,null,null,null,0,null,null,11,"Wkdy",17,24,null,null,null,null,null,null,null,null,0,"11/17 Hour 24",7704]
[11,"Sat",18,7,null,null,null,null,null,null,null,null,0,null,null,11,"Sat",18,7,null,null,null,null,null,null,null,null,0,"11/18 Hour 7",7711]
[11,"Sat",18,17,null,null,null,null,null,null,null,null,0,null,null,11,"Sat",18,17,null,null,null,null,null,null,null,null,0,"11/18 Hour 17",7721]
[11,"Sat",18,24,null,null,null,null,null,null,null,null,0,null,null,11,"Sat",18,24,null,null,null,null,null,null,null,null,0,"11/18 Hour 24",7728]
[11,"Sun",19,2,null,null,null,null,null,null,null,null,0,null,null,11,"Sun",19,2,null,null,null,null,null,null,null,null,0,"11/19 Hour 2",7730]
[11,"Sun",19,14,null,null,null,null,null,null,null,null,0,null,null,11,"Sun",19,14,null,null,null,null,null,null,null,null,0,"11/19 Hour 14",7742]
[11,"Sun",19,19,null,null,null,null,null,null,null,null,0,null,null,11,"Sun",19,19,null,null,null,null,null,null,null,null,0,"11/19 Hour 19",7747]
[11,"Wkdy",20,4,null,null,null,null,null,null,null,null,0,null,null,11,"Wkdy",20,4,null,null,null,null,null,null,null,null,0,"11/20 Hour 4",7756]
[11,"Wkdy",20,12,null,null,null,null,null,null,null,null,0,null,null,11,"Wkdy",20,12,null,null,null,null,null,null,null,null,0,"11/20 Hour 12",7764]
[11,"Wkdy",20,18,null,null,null,null,null,null,null,null,0,null,null,11,"Wkdy",20,18,null,null,null,null,null,null,null,null,0,"11/20 Hour 18",7770]
[11,"Wkdy",21,5,null,null,null,null,null,null,null,null,0,null,null,11,"Wkdy",21,5,null,null,null,null,null,null,null,null,0,"11/21 Hour 5",7781]
[11,"Wkdy",21,11,null,null,null,null,null,null,null,null,0,null,null,11,"Wkdy",21,11,null,null,null,null,null,null,null,null,0,"11/21 Hour 11",7787]
[11,"Wkdy",21,14,null,null,null,null,null,null,null,null,0,null,null,11,"Wkdy",21,14,null,null,null,null,null,null,null,null,0,"11/21 Hour 14",7790]
[11,"Wkdy",22,1,null,null,null,null,null,null,null,null,0,null,null,11,"Wkdy",22,1,null,null,null,null,null,null,null,null,0,"11/22 Hour 1",7801]
[11,"Wkdy",22,7,null,null,null,null,null,null,null,null,0,null,null,11,"Wkdy",22,7,null,null,null,null,null,null,null,null,0,"11/22 Hour 7",7807]
[11,"Wkdy",22,15,null,null,null,null,null,null,null,null,0,null,null,11,"Wkdy",22,15,null,null,null,null,null,null,null,null,0,"11/22 Hour 15",7815]
[11,"Wkdy",22,24,null,null,null,null,null,null,null,null,0,null,null,11,"Wkdy",22,24,null,null,null,null,null,null,null,null,0,"11/22 Hour 24",7824]
[11,"Hol",23,5,null,null,null,null,null,null,null,null,0,null,null,11,"Hol",23,5,null,null,null,null,null,null,null,null,0,"11/23 Hour 5",7829]
[11,"Hol",23,17,null,null,null,null,null,null,null,null,0,null,null,11,"Hol",23,17,null,null,null,null,null,null,null,null,0,"11/23 Hour 17",7841]
[11,"Hol",23,22,null,null,null,null,null,null,null,null,0,null,null,11,"Hol",23,22,null,null,null,null,null,null,null,null,0,"11/23 Hour 22",7846]
[11,"Wkdy",24,2,null,null,null,null,null,null,null,null,0,null,null,11,"Wkdy",24,2,null,null,null,null,null,null,null,null,0,"11/24 Hour 2",7850]
[11,"Wkdy",24,12,null,null,null,null,null,null,null,null,0,null,null,11,"Wkdy",24,12,null,null,null,null,null,null,null,null,0,"11/24 Hour 12",7860]
[11,"Wkdy",24,19,null,null,null,null,null,null,null,null,0,null,null,11,"Wkdy",24,19,null,null,null,null,null,null,null,null,0,"11/24 Hour 19",7867]
[11,"Sat",25,2,null,null,null,null,null,null,null,null,{"$f":"SUM(E7877:L7877)","v":0},null,null,11,"Sat",25,2,null,null,null,null,null,null,null,null,{"$f":"SUM(T7877:AA7877)","v":0},{"$f":"A7877&\"/\"&C7877&\" Hour \"&D7877","v":"11/25 Hour 2"},{"$f":"ROW()-ROW($AD$3)","v":7874}]
[11,"Sat",25,12,null,null,null,null,null,null,null,null,0,null,null,11,"Sat",25,12,null,null,null,null,null,null,null,null,0,"11/25 Hour 12",7884]
[11,"Sat",25,16,null,null,null,null,null,null,null,null,0,null,null,11,"Sat",25,16,null,null,null,null,null,null,null,null,0,"11/25 Hour 16",7888]
[11,"Sun",26,5,null,null,null,null,null,null,null,null,0,null,null,11,"Sun",26,5,null,null,null,null,null,null,null,null,0,"11/26 Hour 5",7901]
[11,"Sun",26,6,null,null,null,null,null,null,null,null,0,null,null,11,"Sun",26,6,null,null,null,null,null,null,null,null,0,"11/26 Hour 6",7902]
[11,"Sun",26,14,null,null,null,null,null,null,null,null,0,null,null,11,"Sun",26,14,null,null,null,null,null,null,null,null,0,"11/26 Hour 14",7910]
[11,"Sun",26,23,null,null,null,null,null,null,null,null,0,null,null,11,"Sun",26,23,null,null,null,null,null,null,null,null,0,"11/26 Hour 23",7919]
[11,"Wkdy",27,7,null,null,null,null,null,null,null,null,0,null,null,11,"Wkdy",27,7,null,null,null,null,null,null,null,null,0,"11/27 Hour 7",7927]
[11,"Wkdy",27,16,null,null,null,null,null,null,null,null,0,null,null,11,"Wkdy",27,16,null,null,null,null,null,null,null,null,0,"11/27 Hour 16",7936]
[11,"Wkdy",27,22,null,null,null,null,null,null,null,null,0,null,null,11,"Wkdy",27,22,null,null,null,null,null,null,null,null,0,"11/27 Hour 22",7942]
[11,"Wkdy",28,9,null,null,null,null,null,null,null,null,0,null,null,11,"Wkdy",28,9,null,null,null,null,null,null,null,null,0,"11/28 Hour 9",7953]
[11,"Wkdy",28,12,null,null,null,null,null,null,null,null,0,null,null,11,"Wkdy",28,12,null,null,null,null,null,null,null,null,0,"11/28 Hour 12",7956]
[11,"Wkdy",28,18,null,null,null,null,null,null,null,null,0,null,null,11,"Wkdy",28,18,null,null,null,null,null,null,null,null,0,"11/28 Hour 18",7962]
[11,"Wkdy",29,2,null,null,null,null,null,null,null,null,0,null,null,11,"Wkdy",29,2,null,null,null,null,null,null,null,null,0,"11/29 Hour 2",7970]
[11,"Wkdy",29,11,null,null,null,null,null,null,null,null,0,null,null,11,"Wkdy",29,11,null,null,null,null,null,null,null,null,0,"11/29 Hour 11",7979]
[11,"Wkdy",29,23,null,null,null,null,null,null,null,null,0,null,null,11,"Wkdy",29,23,null,null,null,null,null,null,null,null,0,"11/29 Hour 23",7991]
[11,"Wkdy",30,4,null,null,null,null,null,null,null,null,0,null,null,11,"Wkdy",30,4,null,null,null,null,null,null,null,null,0,"11/30 Hour 4",7996]
[11,"Wkdy",30,9,null,null,null,null,null,null,null,null,0,null,null,11,"Wkdy",30,9,null,null,null,null,null,null,null,null,0,"11/30 Hour 9",8001]
[11,"Wkdy",30,21,null,null,null,null,null,null,null,null,0,null,null,11,"Wkdy",30,21,null,null,null,null,null,null,null,null,0,"11/30 Hour 21",8013]
[11,"Wkdy",30,23,null,null,null,null,null,null,null,null,0,null,null,11,"Wkdy",30,23,null,null,null,null,null,null,null,null,0,"11/30 Hour 23",8015]
[12,"Wkdy",1,6,null,null,null,null,null,null,null,null,0,null,null,12,"Wkdy",1,6,null,null,null,null,null,null,null,null,0,"12/1 Hour 6",8022]
[12,"Wkdy",1,20,null,null,null,null,null,null,null,null,0,null,null,12,"Wkdy",1,20,null,null,null,null,null,null,null,null,0,"12/1 Hour 20",8036]
[12,"Wkdy",1,23,null,null,null,null,null,null,null,null,0,null,null,12,"Wkdy",1,23,null,null,null,null,null,null,null,null,0,"12/1 Hour 23",8039]
[12,"Sat",2,10,null,null,null,null,null,null,null,null,0,null,null,12,"Sat",2,10,null,null,null,null,null,null,null,null,0,"12/2 Hour 10",8050]
[12,"Sat",2,16,null,null,null,null,null,null,null,null,0,null,null,12,"Sat",2,16,null,null,null,null,null,null,null,null,0,"12/2 Hour 16",8056]
[12,"Sat",2,24,null,null,null,null,null,null,null,null,0,null,null,12,"Sat",2,24,null,null,null,null,null,null,null,null,0,"12/2 Hour 24",8064]
[12,"Sun",3,9,null,null,null,null,null,null,null,null,0,null,null,12,"Sun",3,9,null,null,null,null,null,null,null,null,0,"12/3 Hour 9",8073]
[12,"Sun",3,17,null,null,null,null,null,null,null,null,0,null,null,12,"Sun",3,17,null,null,null,null,null,null,null,null,0,"12/3 Hour 17",8081]
[12,"Sun",3,18,null,null,null,null,null,null,null,null,0,null,null,12,"Sun",3,18,null,null,null,null,null,null,null,null,0,"12/3 Hour 18",8082]
[12,"Wkdy",4,7,null,null,null,null,null,null,null,null,0,null,null,12,"Wkdy",4,7,null,null,null,null,null,null,null,null,0,"12/4 Hour 7",8095]
[12,"Wkdy",4,11,null,null,null,null,null,null,null,null,0,null,null,12,"Wkdy",4,11,null,null,null,null,null,null,null,null,0,"12/4 Hour 11",8099]
[12,"Wkdy",4,21,null,null,null,null,null,null,null,null,0,null,null,12,"Wkdy",4,21,null,null,null,null,null,null,null,null,0,"12/4 Hour 21",8109]
[12,"Wkdy",5,4,null,null,null,null,null,null,null,null,0,null,null,12,"Wkdy",5,4,null,null,null,null,null,null,null,null,0,"12/5 Hour 4",8116]
[12,"Wkdy",5,11,null,null,null,null,null,null,null,null,0,null,null,12,"Wkdy",5,11,null,null,null,null,null,null,null,null,0,"12/5 Hour 11",8123]
[12,"Wkdy",5,21,null,null,null,null,null,null,null,null,0,null,null,12,"Wkdy",5,21,null,null,null,null,null,null,null,null,0,"12/5 Hour 21",8133]
[12,"Wkdy",6,4,null,null,null,null,null,null,null,null,0,null,null,12,"Wkdy",6,4,null,null,null,null,null,null,null,null,0,"12/6 Hour 4",8140]
[12,"Wkdy",6,6,null,null,null,null,null,null,null,null,0,null,null,12,"Wkdy",6,6,null,null,null,null,null,null,null,null,0,"12/6 Hour 6",8142]
[12,"Wkdy",6,18,null,null,null,null,null,null,null,null,0,null,null,12,"Wkdy",6,18,null,null,null,null,null,null,null,null,0,"12/6 Hour 18",8154]
[12,"Wkdy",6,23,null,null,null,null,null,null,null,null,0,null,null,12,"Wkdy",6,23,null,null,null,null,null,null,null,null,0,"12/6 Hour 23",8159]
[12,"Wkdy",7,8,null,null,null,null,null,null,null,null,0,null,null,12,"Wkdy",7,8,null,null,null,null,null,null,null,null,0,"12/7 Hour 8",8168]
[12,"Wkdy",7,16,null,null,null,null,null,null,null,null,0,null,null,12,"Wkdy",7,16,null,null,null,null,null,null,null,null,0,"12/7 Hour 16",8176]
[12,"Wkdy",7,22,null,null,null,null,null,null,null,null,0,null,null,12,"Wkdy",7,22,null,null,null,null,null,null,null,null,0,"12/7 Hour 22",8182]
[12,"Wkdy",8,9,null,null,null,null,null,null,null,null,0,null,null,12,"Wkdy",8,9,null,null,null,null,null,null,null,null,0,"12/8 Hour 9",8193]
[12,"Wkdy",8,15,null,null,null,null,null,null,null,null,0,null,null,12,"Wkdy",8,15,null,null,null,null,null,null,null,null,0,"12/8 Hour 15",8199]
[12,"Wkdy",8,18,null,null,null,null,null,null,null,null,0,null,null,12,"Wkdy",8,18,null,null,null,null,null,null,null,null,0,"12/8 Hour 18",8202]
[12,"Sat",9,5,null,null,null,null,null,null,null,null,0,null,null,12,"Sat",9,5,null,null,null,null,null,null,null,null,0,"12/9 Hour 5",8213]
[12,"Sat",9,11,null,null,null,null,null,null,null,null,0,null,null,12,"Sat",9,11,null,null,null,null,null,null,null,null,0,"12/9 Hour 11",8219]
[12,"Sat",9,20,null,null,null,null,null,null,null,null,0,null,null,12,"Sat",9,20,null,null,null,null,null,null,null,null,0,"12/9 Hour 20",8228]
[12,"Sun",10,4,null,null,null,null,null,null,null,null,0,null,null,12,"Sun",10,4,null,null,null,null,null,null,null,null,0,"12/10 Hour 4",8236]
[12,"Sun",10,13,null,null,null,null,null,null,null,null,0,null,null,12,"Sun",10,13,null,null,null,null,null,null,null,null,0,"12/10 Hour 13",8245]
[12,"Sun",10,18,null,null,null,null,null,null,null,null,0,null,null,12,"Sun",10,18,null,null,null,null,null,null,null,null,0,"12/10 Hour 18",8250]
[12,"Wkdy",11,6,null,null,null,null,null,null,null,null,0,null,null,12,"Wkdy",11,6,null,null,null,null,null,null,null,null,0,"12/11 Hour 6",8262]
[12,"Wkdy",11,8,null,null,null,null,null,null,null,null,0,null,null,12,"Wkdy",11,8,null,null,null,null,null,null,null,null,0,"12/11 Hour 8",8264]
[12,"Wkdy",11,15,null,null,null,null,null,null,null,null,0,null,null,12,"Wkdy",11,15,null,null,null,null,null,null,null,null,0,"12/11 Hour 15",8271]
[12,"Wkdy",11,22,null,null,null,null,null,null,null,null,0,null,null,12,"Wkdy",11,22,null,null,null,null,null,null,null,null,0,"12/11 Hour 22",8278]
[12,"Wkdy",12,8,null,null,null,null,null,null,null,null,0,null,null,12,"Wkdy",12,8,null,null,null,null,null,null,null,null,0,"12/12 Hour 8",8288]
[12,"Wkdy",12,15,null,null,null,null,null,null,null,null,0,null,null,12,"Wkdy",12,15,null,null,null,null,null,null,null,null,0,"12/12 Hour 15",8295]
[12,"Wkdy",13,1,null,null,null,null,null,null,null,null,0,null,null,12,"Wkdy",13,1,null,null,null,null,null,null,null,null,0,"12/13 Hour 1",8305]
[12,"Wkdy",13,5,null,null,null,null,null,null,null,null,0,null,null,12,"Wkdy",13,5,null,null,null,null,null,null,null,null,0,"12/13 Hour 5",8309]
[12,"Wkdy",13,18,null,null,null,null,null,null,null,null,{"$f":"SUM(E8325:L8325)","v":0},null,null,12,"Wkdy",13,18,null,null,null,null,null,null,null,null,{"$f":"SUM(T8325:AA8325)","v":0},{"$f":"A8325&\"/\"&C8325&\" Hour \"&D8325","v":"12/13 Hour 18"},{"$f":"ROW()-ROW($AD$3)","v":8322}]
[12,"Wkdy",13,19,null,null,null,null,null,null,null,null,0,null,null,12,"Wkdy",13,19,null,null,null,null,null,null,null,null,0,"12/13 Hour 19",8323]
[12,"Wkdy",14,3,null,null,null,null,null,null,null,null,0,null,null,12,"Wkdy",14,3,null,null,null,null,null,null,null,null,0,"12/14 Hour 3",8331]
[12,"Wkdy",14,16,null,null,null,null,null,null,null,null,0,null,null,12,"Wkdy",14,16,null,null,null,null,null,null,null,null,0,"12/14 Hour 16",8344]
[12,"Wkdy",14,20,null,null,null,null,null,null,null,null,0,null,null,12,"Wkdy",14,20,null,null,null,null,null,null,null,null,0,"12/14 Hour 20",8348]
[12,"Wkdy",15,2,null,null,null,null,null,null,null,null,0,null,null,12,"Wkdy",15,2,null,null,null,null,null,null,null,null,0,"12/15 Hour 2",8354]
[12,"Wkdy",15,13,null,null,null,null,null,null,null,null,0,null,null,12,"Wkdy",15,13,null,null,null,null,null,null,null,null,0,"12/15 Hour 13",8365]
[12,"Wkdy",15,16,null,null,null,null,null,null,null,null,0,null,null,12,"Wkdy",15,16,null,null,null,null,null,null,null,null,0,"12/15 Hour 16",8368]
[12,"Sat",16,6,null,null,null,null,null,null,null,null,0,null,null,12,"Sat",16,6,null,null,null,null,null,null,null,null,0,"12/16 Hour 6",8382]
[12,"Sat",16,13,null,null,null,null,null,null,null,null,0,null,null,12,"Sat",16,13,null,null,null,null,null,null,null,null,0,"12/16 Hour 13",8389]
[12,"Sat",16,15,null,null,null,null,null,null,null,null,0,null,null,12,"Sat",16,15,null,null,null,null,null,null,null,null,0,"12/16 Hour 15",8391]
[12,"Sun",17,3,null,null,null,null,null,null,null,null,0,null,null,12,"Sun",17,3,null,null,null,null,null,null,null,null,0,"12/17 Hour 3",8403]
[12,"Sun",17,8,null,null,null,null,null,null,null,null,0,null,null,12,"Sun",17,8,null,null,null,null,null,null,null,null,0,"12/17 Hour 8",8408]
[12,"Sun",17,17,null,null,null,null,null,null,null,null,0,null,null,12,"Sun",17,17,null,null,null,null,null,null,null,null,0,"12/17 Hour 17",8417]
[12,"Wkdy",18,1,null,null,null,null,null,null,null,null,0,null,null,12,"Wkdy",18,1,null,null,null,null,null,null,null,null,0,"12/18 Hour 1",8425]
[12,"Wkdy",18,10,null,null,null,null,null,null,null,null,0,null,null,12,"Wkdy",18,10,null,null,null,null,null,null,null,null,0,"12/18 Hour 10",8434]
[12,"Wkdy",18,18,null,null,null,null,null,null,null,null,0,null,null,12,"Wkdy",18,18,null,null,null,null,null,null,null,null,0,"12/18 Hour 18",8442]
[12,"Wkdy",18,24,null,null,null,null,null,null,null,null,0,null,null,12,"Wkdy",18,24,null,null,null,null,null,null,null,null,0,"12/18 Hour 24",8448]
[12,"Wkdy",19,3,null,null,null,null,null,null,null,null,0,null,null,12,"Wkdy",19,3,null,null,null,null,null,null,null,null,0,"12/19 Hour 3",8451]
[12,"Wkdy",19,14,null,null,null,null,null,null,null,null,0,null,null,12,"Wkdy",19,14,null,null,null,null,null,null,null,null,0,"12/19 Hour 14",8462]
[12,"Wkdy",19,20,null,null,null,null,null,null,null,null,0,null,null,12,"Wkdy",19,20,null,null,null,null,null,null,null,null,0,"12/19 Hour 20",8468]
[12,"Wkdy",20,4,null,null,null,null,null,null,null,null,0,null,null,12,"Wkdy",20,4,null,null,null,null,null,null,null,null,0,"12/20 Hour 4",8476]
[12,"Wkdy",20,13,null,null,null,null,null,null,null,null,0,null,null,12,"Wkdy",20,13,null,null,null,null,null,null,null,null,0,"12/20 Hour 13",8485]
[12,"Wkdy",20,21,null,null,null,null,null,null,null,null,0,null,null,12,"Wkdy",20,21,null,null,null,null,null,null,null,null,0,"12/20 Hour 21",8493]
[12,"Wkdy",21,6,null,null,null,null,null,null,null,null,0,null,null,12,"Wkdy",21,6,null,null,null,null,null,null,null,null,0,"12/21 Hour 6",8502]
[12,"Wkdy",21,7,null,null,null,null,null,null,null,null,0,null,null,12,"Wkdy",21,7,null,null,null,null,null,null,null,null,0,"12/21 Hour 7",8503]
[12,"Wkdy",21,15,null,null,null,null,null,null,null,null,0,null,null,12,"Wkdy",21,15,null,null,null,null,null,null,null,null,0,"12/21 Hour 15",8511]
[12,"Wkdy",21,16,null,null,null,null,null,null,null,null,0,null,null,12,"Wkdy",21,16,null,null,null,null,null,null,null,null,0,"12/21 Hour 16",8512]
[12,"Wkdy",21,17,null,null,null,null,null,null,null,null,0,null,null,12,"Wkdy",21,17,null,null,null,null,null,null,null,null,0,"12/21 Hour 17",8513]
[12,"Wkdy",21,18,null,null,null,null,null,null,null,null,{"$f":"SUM(E8517:L8517)","v":0},null,null,12,"Wkdy",21,18,null,null,null,null,null,null,null,null,{"$f":"SUM(T8517:AA8517)","v":0},{"$f":"A8517&\"/\"&C8517&\" Hour \"&D8517","v":"12/21 Hour 18"},{"$f":"ROW()-ROW($AD$3)","v":8514}]
[12,"Wkdy",21,19,null,null,null,null,null,null,null,null,0,null,null,12,"Wkdy",21,19,null,null,null,null,null,null,null,null,0,"12/21 Hour 19",8515]
[12,"Wkdy",21,20,null,null,null,null,null,null,null,null,0,null,null,12,"Wkdy",21,20,null,null,null,null,null,null,null,null,0,"12/21 Hour 20",8516]
[12,"Wkdy",21,21,null,null,null,null,null,null,null,null,0,null,null,12,"Wkdy",21,21,null,null,null,null,null,null,null,null,0,"12/21 Hour 21",8517]
[12,"Wkdy",21,22,null,null,null,null,null,null,null,null,0,null,null,12,"Wkdy",21,22,null,null,null,null,null,null,null,null,0,"12/21 Hour 22",8518]
[12,"Wkdy",21,23,null,null,null,null,null,null,null,null,0,null,null,12,"Wkdy",21,23,null,null,null,null,null,null,null,null,0,"12/21 Hour 23",8519]
[12,"Wkdy",21,24,null,null,null,null,null,null,null,null,0,null,null,12,"Wkdy",21,24,null,null,null,null,null,null,null,null,0,"12/21 Hour 24",8520]
[12,"Wkdy",22,1,null,null,null,null,null,null,null,null,0,null,null,12,"Wkdy",22,1,null,null,null,null,null,null,null,null,0,"12/22 Hour 1",8521]
[12,"Wkdy",22,2,null,null,null,null,null,null,null,null,0,null,null,12,"Wkdy",22,2,null,null,null,null,null,null,null,null,0,"12/22 Hour 2",8522]
[12,"Wkdy",22,3,null,null,null,null,null,null,null,null,0,null,null,12,"Wkdy",22,3,null,null,null,null,null,null,null,null,0,"12/22 Hour 3",8523]
[12,"Wkdy",22,4,null,null,null,null,null,null,null,null,0,null,null,12,"Wkdy",22,4,null,null,null,null,null,null,null,null,0,"12/22 Hour 4",8524]
[12,"Wkdy",22,5,null,null,null,null,null,null,null,null,0,null,null,12,"Wkdy",22,5,null,null,null,null,null,null,null,null,0,"12/22 Hour 5",8525]
[12,"Wkdy",22,6,null,null,null,null,null,null,null,null,0,null,null,12,"Wkdy",22,6,null,null,null,null,null,null,null,null,0,"12/22 Hour 6",8526]
[12,"Wkdy",22,7,null,null,null,null,null,null,null,null,0,null,null,12,"Wkdy",22,7,null,null,null,null,null,null,null,null,0,"12/22 Hour 7",8527]
[12,"Wkdy",22,8,null,null,null,null,null,null,null,null,0,null,null,12,"Wkdy",22,8,null,null,null,null,null,null,null,null,0,"12/22 Hour 8",8528]
[12,"Wkdy",22,9,null,null,null,null,null,null,null,null,0,null,null,12,"Wkdy",22,9,null,null,null,null,null,null,null,null,0,"12/22 Hour 9",8529]
[12,"Wkdy",22,10,null,null,null,null,null,null,null,null,0,null,null,12,"Wkdy",22,10,null,null,null,null,null,null,null,null,0,"12/22 Hour 10",8530]
[12,"Wkdy",22,11,null,null,null,null,null,null,null,null,0,null,null,12,"Wkdy",22,11,null,null,null,null,null,null,null,null,0,"12/22 Hour 11",8531]
[12,"Wkdy",22,12,null,null,null,null,null,null,null,null,0,null,null,12,"Wkdy",22,12,null,null,null,null,null,null,null,null,0,"12/22 Hour 12",8532]
[12,"Wkdy",22,13,null,null,null,null,null,null,null,null,0,null,null,12,"Wkdy",22,13,null,null,null,null,null,null,null,null,0,"12/22 Hour 13",8533]
[12,"Wkdy",22,14,null,null,null,null,null,null,null,null,0,null,null,12,"Wkdy",22,14,null,null,null,null,null,null,null,null,0,"12/22 Hour 14",8534]
[12,"Wkdy",22,15,null,null,null,null,null,null,null,null,0,null,null,12,"Wkdy",22,15,null,null,null,null,null,null,null,null,0,"12/22 Hour 15",8535]
[12,"Wkdy",22,16,null,null,null,null,null,null,null,null,0,null,null,12,"Wkdy",22,16,null,null,null,null,null,null,null,null,0,"12/22 Hour 16",8536]
[12,"Wkdy",22,17,null,null,null,null,null,null,null,null,0,null,null,12,"Wkdy",22,17,null,null,null,null,null,null,null,null,0,"12/22 Hour 17",8537]
[12,"Wkdy",22,18,null,null,null,null,null,null,null,null,0,null,null,12,"Wkdy",22,18,null,null,null,null,null,null,null,null,0,"12/22 Hour 18",8538]
[12,"Wkdy",22,19,null,null,null,null,null,null,null,null,0,null,null,12,"Wkdy",22,19,null,null,null,null,null,null,null,null,0,"12/22 Hour 19",8539]
[12,"Wkdy",22,20,null,null,null,null,null,null,null,null,0,null,null,12,"Wkdy",22,20,null,null,null,null,null,null,null,null,0,"12/22 Hour 20",8540]
[12,"Wkdy",22,21,null,null,null,null,null,null,null,null,0,null,null,12,"Wkdy",22,21,null,null,null,null,null,null,null,null,0,"12/22 Hour 21",8541]
[12,"Wkdy",22,22,null,null,null,null,null,null,null,null,0,null,null,12,"Wkdy",22,22,null,null,null,null,null,null,null,null,0,"12/22 Hour 22",8542]
[12,"Wkdy",22,23,null,null,null,null,null,null,null,null,0,null,null,12,"Wkdy",22,23,null,null,null,null,null,null,null,null,0,"12/22 Hour 23",8543]
[12,"Wkdy",22,24,null,null,null,null,null,null,null,null,0,null,null,12,"Wkdy",22,24,null,null,null,null,null,null,null,null,0,"12/22 Hour 24",8544]
[12,"Sat",23,1,null,null,null,null,null,null,null,null,0,null,null,12,"Sat",23,1,null,null,null,null,null,null,null,null,0,"12/23 Hour 1",8545]
[12,"Sat",23,2,null,null,null,null,null,null,null,null,0,null,null,12,"Sat",23,2,null,null,null,null,null,null,null,null,0,"12/23 Hour 2",8546]
[12,"Sat",23,3,null,null,null,null,null,null,null,null,0,null,null,12,"Sat",23,3,null,null,null,null,null,null,null,null,0,"12/23 Hour 3",8547]
[12,"Sat",23,4,null,null,null,null,null,null,null,null,0,null,null,12,"Sat",23,4,null,null,null,null,null,null,null,null,0,"12/23 Hour 4",8548]
[12,"Sat",23,5,null,null,null,null,null,null,null,null,0,null,null,12,"Sat",23,5,null,null,null,null,null,null,null,null,0,"12/23 Hour 5",8549]
[12,"Sat",23,6,null,null,null,null,null,null,null,null,0,null,null,12,"Sat",23,6,null,null,null,null,null,null,null,null,0,"12/23 Hour 6",8550]
[12,"Sat",23,7,null,null,null,null,null,null,null,null,0,null,null,12,"Sat",23,7,null,null,null,null,null,null,null,null,0,"12/23 Hour 7",8551]
[12,"Sat",23,8,null,null,null,null,null,null,null,null,0,null,null,12,"Sat",23,8,null,null,null,null,null,null,null,null,0,"12/23 Hour 8",8552]
[12,"Sat",23,9,null,null,null,null,null,null,null,null,0,null,null,12,"Sat",23,9,null,null,null,null,null,null,null,null,0,"12/23 Hour 9",8553]
[12,"Sat",23,10,null,null,null,null,null,null,null,null,0,null,null,12,"Sat",23,10,null,null,null,null,null,null,null,null,0,"12/23 Hour 10",8554]
[12,"Sat",23,11,null,null,null,null,null,null,null,null,0,null,null,12,"Sat",23,11,null,null,null,null,null,null,null,null,0,"12/23 Hour 11",8555]
[12,"Sat",23,12,null,null,null,null,null,null,null,null,0,null,null,12,"Sat",23,12,null,null,null,null,null,null,null,null,0,"12/23 Hour 12",8556]
[12,"Sat",23,13,null,null,null,null,null,null,null,null,0,null,null,12,"Sat",23,13,null,null,null,null,null,null,null,null,0,"12/23 Hour 13",8557]
[12,"Sat",23,14,null,null,null,null,null,null,null,null,0,null,null,12,"Sat",23,14,null,null,null,null,null,null,null,null,0,"12/23 Hour 14",8558]
[12,"Sat",23,15,null,null,null,null,null,null,null,null,0,null,null,12,"Sat",23,15,null,null,null,null,null,null,null,null,0,"12/23 Hour 15",8559]
[12,"Sat",23,16,null,null,null,null,null,null,null,null,0,null,null,12,"Sat",23,16,null,null,null,null,null,null,null,null,0,"12/23 Hour 16",8560]
[12,"Sat",23,17,null,null,null,null,null,null,null,null,0,null,null,12,"Sat",23,17,null,null,null,null,null,null,null,null,0,"12/23 Hour 17",8561]
[12,"Sat",23,18,null,null,null,null,null,null,null,null,0,null,null,12,"Sat",23,18,null,null,null,null,null,null,null,null,0,"12/23 Hour 18",8562]
[12,"Sat",23,19,null,null,null,null,null,null,null,null,0,null,null,12,"Sat",23,19,null,null,null,null,null,null,null,null,0,"12/23 Hour 19",8563]
[12,"Sat",23,20,null,null,null,null,null,null,null,null,0,null,null,12,"Sat",23,20,null,null,null,null,null,null,null,null,0,"12/23 Hour 20",8564]
[12,"Sat",23,21,null,null,null,null,null,null,null,null,0,null,null,12,"Sat",23,21,null,null,null,null,null,null,null,null,0,"12/23 Hour 21",8565]
[12,"Sat",23,22,null,null,null,null,null,null,null,null,0,null,null,12,"Sat",23,22,null,null,null,null,null,null,null,null,0,"12/23 Hour 22",8566]
[12,"Sat",23,23,null,null,null,null,null,null,null,null,0,null,null,12,"Sat",23,23,null,null,null,null,null,null,null,null,0,"12/23 Hour 23",8567]
[12,"Sat",23,24,null,null,null,null,null,null,null,null,0,null,null,12,"Sat",23,24,null,null,null,null,null,null,null,null,0,"12/23 Hour 24",8568]
[12,"Sun",24,1,null,null,null,null,null,null,null,null,0,null,null,12,"Sun",24,1,null,null,null,null,null,null,null,null,0,"12/24 Hour 1",8569]
[12,"Sun",24,2,null,null,null,null,null,null,null,null,0,null,null,12,"Sun",24,2,null,null,null,null,null,null,null,null,0,"12/24 Hour 2",8570]
[12,"Sun",24,3,null,null,null,null,null,null,null,null,0,null,null,12,"Sun",24,3,null,null,null,null,null,null,null,null,0,"12/24 Hour 3",8571]
[12,"Sun",24,4,null,null,null,null,null,null,null,null,0,null,null,12,"Sun",24,4,null,null,null,null,null,null,null,null,0,"12/24 Hour 4",8572]
[12,"Sun",24,5,null,null,null,null,null,null,null,null,0,null,null,12,"Sun",24,5,null,null,null,null,null,null,null,null,0,"12/24 Hour 5",8573]
[12,"Sun",24,6,null,null,null,null,null,null,null,null,0,null,null,12,"Sun",24,6,null,null,null,null,null,null,null,null,0,"12/24 Hour 6",8574]
[12,"Sun",24,7,null,null,null,null,null,null,null,null,0,null,null,12,"Sun",24,7,null,null,null,null,null,null,null,null,0,"12/24 Hour 7",8575]
[12,"Sun",24,8,null,null,null,null,null,null,null,null,0,null,null,12,"Sun",24,8,null,null,null,null,null,null,null,null,0,"12/24 Hour 8",8576]
[12,"Sun",24,9,null,null,null,null,null,null,null,null,0,null,null,12,"Sun",24,9,null,null,null,null,null,null,null,null,0,"12/24 Hour 9",8577]
[12,"Sun",24,10,null,null,null,null,null,null,null,null,{"$f":"SUM(E8581:L8581)","v":0},null,null,12,"Sun",24,10,null,null,null,null,null,null,null,null,{"$f":"SUM(T8581:AA8581)","v":0},{"$f":"A8581&\"/\"&C8581&\" Hour \"&D8581","v":"12/24 Hour 10"},{"$f":"ROW()-ROW($AD$3)","v":8578}]
[12,"Sun",24,11,null,null,null,null,null,null,null,null,0,null,null,12,"Sun",24,11,null,null,null,null,null,null,null,null,0,"12/24 Hour 11",8579]
[12,"Sun",24,12,null,null,null,null,null,null,null,null,0,null,null,12,"Sun",24,12,null,null,null,null,null,null,null,null,0,"12/24 Hour 12",8580]
[12,"Sun",24,13,null,null,null,null,null,null,null,null,0,null,null,12,"Sun",24,13,null,null,null,null,null,null,null,null,0,"12/24 Hour 13",8581]
[12,"Sun",24,14,null,null,null,null,null,null,null,null,0,null,null,12,"Sun",24,14,null,null,null,null,null,null,null,null,0,"12/24 Hour 14",8582]
[12,"Sun",24,15,null,null,null,null,null,null,null,null,0,null,null,12,"Sun",24,15,null,null,null,null,null,null,null,null,0,"12/24 Hour 15",8583]
[12,"Sun",24,16,null,null,null,null,null,null,null,null,0,null,null,12,"Sun",24,16,null,null,null,null,null,null,null,null,0,"12/24 Hour 16",8584]
[12,"Sun",24,17,null,null,null,null,null,null,null,null,0,null,null,12,"Sun",24,17,null,null,null,null,null,null,null,null,0,"12/24 Hour 17",8585]
[12,"Sun",24,18,null,null,null,null,null,null,null,null,0,null,null,12,"Sun",24,18,null,null,null,null,null,null,null,null,0,"12/24 Hour 18",8586]
[12,"Sun",24,19,null,null,null,null,null,null,null,null,0,null,null,12,"Sun",24,19,null,null,null,null,null,null,null,null,0,"12/24 Hour 19",8587]
[12,"Sun",24,20,null,null,null,null,null,null,null,null,0,null,null,12,"Sun",24,20,null,null,null,null,null,null,null,null,0,"12/24 Hour 20",8588]
[12,"Sun",24,21,null,null,null,null,null,null,null,null,0,null,null,12,"Sun",24,21,null,null,null,null,null,null,null,null,0,"12/24 Hour 21",8589]
[12,"Sun",24,22,null,null,null,null,null,null,null,null,0,null,null,12,"Sun",24,22,null,null,null,null,null,null,null,null,0,"12/24 Hour 22",8590]
[12,"Sun",24,23,null,null,null,null,null,null,null,null,0,null,null,12,"Sun",24,23,null,null,null,null,null,null,null,null,0,"12/24 Hour 23",8591]
[12,"Sun",24,24,null,null,null,null,null,null,null,null,0,null,null,12,"Sun",24,24,null,null,null,null,null,null,null,null,0,"12/24 Hour 24",8592]
[12,"Hol",25,1,null,null,null,null,null,null,null,null,0,null,null,12,"Hol",25,1,null,null,null,null,null,null,null,null,0,"12/25 Hour 1",8593]
[12,"Hol",25,2,null,null,null,null,null,null,null,null,0,null,null,12,"Hol",25,2,null,null,null,null,null,null,null,null,0,"12/25 Hour 2",8594]
[12,"Hol",25,3,null,null,null,null,null,null,null,null,0,null,null,12,"Hol",25,3,null,null,null,null,null,null,null,null,0,"12/25 Hour 3",8595]
[12,"Hol",25,4,null,null,null,null,null,null,null,null,0,null,null,12,"Hol",25,4,null,null,null,null,null,null,null,null,0,"12/25 Hour 4",8596]
[12,"Hol",25,5,null,null,null,null,null,null,null,null,0,null,null,12,"Hol",25,5,null,null,null,null,null,null,null,null,0,"12/25 Hour 5",8597]
[12,"Hol",25,6,null,null,null,null,null,null,null,null,0,null,null,12,"Hol",25,6,null,null,null,null,null,null,null,null,0,"12/25 Hour 6",8598]
[12,"Hol",25,7,null,null,null,null,null,null,null,null,0,null,null,12,"Hol",25,7,null,null,null,null,null,null,null,null,0,"12/25 Hour 7",8599]
[12,"Hol",25,8,null,null,null,null,null,null,null,null,0,null,null,12,"Hol",25,8,null,null,null,null,null,null,null,null,0,"12/25 Hour 8",8600]
[12,"Hol",25,9,null,null,null,null,null,null,null,null,0,null,null,12,"Hol",25,9,null,null,null,null,null,null,null,null,0,"12/25 Hour 9",8601]
[12,"Hol",25,10,null,null,null,null,null,null,null,null,0,null,null,12,"Hol",25,10,null,null,null,null,null,null,null,null,0,"12/25 Hour 10",8602]
[12,"Hol",25,11,null,null,null,null,null,null,null,null,0,null,null,12,"Hol",25,11,null,null,null,null,null,null,null,null,0,"12/25 Hour 11",8603]
[12,"Hol",25,12,null,null,null,null,null,null,null,null,0,null,null,12,"Hol",25,12,null,null,null,null,null,null,null,null,0,"12/25 Hour 12",8604]
[12,"Hol",25,13,null,null,null,null,null,null,null,null,0,null,null,12,"Hol",25,13,null,null,null,null,null,null,null,null,0,"12/25 Hour 13",8605]
[12,"Hol",25,14,null,null,null,null,null,null,null,null,0,null,null,12,"Hol",25,14,null,null,null,null,null,null,null,null,0,"12/25 Hour 14",8606]
[12,"Hol",25,15,null,null,null,null,null,null,null,null,0,null,null,12,"Hol",25,15,null,null,null,null,null,null,null,null,0,"12/25 Hour 15",8607]
[12,"Hol",25,16,null,null,null,null,null,null,null,null,0,null,null,12,"Hol",25,16,null,null,null,null,null,null,null,null,0,"12/25 Hour 16",8608]
[12,"Hol",25,17,null,null,null,null,null,null,null,null,0,null,null,12,"Hol",25,17,null,null,null,null,null,null,null,null,0,"12/25 Hour 17",8609]
[12,"Hol",25,18,null,null,null,null,null,null,null,null,0,null,null,12,"Hol",25,18,null,null,null,null,null,null,null,null,0,"12/25 Hour 18",8610]
[12,"Hol",25,19,null,null,null,null,null,null,null,null,0,null,null,12,"Hol",25,19,null,null,null,null,null,null,null,null,0,"12/25 Hour 19",8611]
[12,"Hol",25,20,null,null,null,null,null,null,null,null,0,null,null,12,"Hol",25,20,null,null,null,null,null,null,null,null,0,"12/25 Hour 20",8612]
[12,"Hol",25,21,null,null,null,null,null,null,null,null,0,null,null,12,"Hol",25,21,null,null,null,null,null,null,null,null,0,"12/25 Hour 21",8613]
[12,"Hol",25,22,null,null,null,null,null,null,null,null,0,null,null,12,"Hol",25,22,null,null,null,null,null,null,null,null,0,"12/25 Hour 22",8614]
[12,"Hol",25,23,null,null,null,null,null,null,null,null,0,null,null,12,"Hol",25,23,null,null,null,null,null,null,null,null,0,"12/25 Hour 23",8615]
[12,"Hol",25,24,null,null,null,null,null,null,null,null,0,null,null,12,"Hol",25,24,null,null,null,null,null,null,null,null,0,"12/25 Hour 24",8616]
[12,"Wkdy",26,1,null,null,null,null,null,null,null,null,0,null,null,12,"Wkdy",26,1,null,null,null,null,null,null,null,null,0,"12/26 Hour 1",8617]
[12,"Wkdy",26,2,null,null,null,null,null,null,null,null,0,null,null,12,"Wkdy",26,2,null,null,null,null,null,null,null,null,0,"12/26 Hour 2",8618]
[12,"Wkdy",26,3,null,null,null,null,null,null,null,null,0,null,null,12,"Wkdy",26,3,null,null,null,null,null,null,null,null,0,"12/26 Hour 3",8619]
[12,"Wkdy",26,4,null,null,null,null,null,null,null,null,0,null,null,12,"Wkdy",26,4,null,null,null,null,null,null,null,null,0,"12/26 Hour 4",8620]
[12,"Wkdy",26,5,null,null,null,null,null,null,null,null,0,null,null,12,"Wkdy",26,5,null,null,null,null,null,null,null,null,0,"12/26 Hour 5",8621]
[12,"Wkdy",26,6,null,null,null,null,null,null,null,null,0,null,null,12,"Wkdy",26,6,null,null,null,null,null,null,null,null,0,"12/26 Hour 6",8622]
[12,"Wkdy",26,7,null,null,null,null,null,null,null,null,0,null,null,12,"Wkdy",26,7,null,null,null,null,null,null,null,null,0,"12/26 Hour 7",8623]
[12,"Wkdy",26,8,null,null,null,null,null,null,null,null,0,null,null,12,"Wkdy",26,8,null,null,null,null,null,null,null,null,0,"12/26 Hour 8",8624]
[12,"Wkdy",26,9,null,null,null,null,null,null,null,null,0,null,null,12,"Wkdy",26,9,null,null,null,null,null,null,null,null,0,"12/26 Hour 9",8625]
[12,"Wkdy",26,10,null,null,null,null,null,null,null,null,0,null,null,12,"Wkdy",26,10,null,null,null,null,null,null,null,null,0,"12/26 Hour 10",8626]
[12,"Wkdy",26,11,null,null,null,null,null,null,null,null,0,null,null,12,"Wkdy",26,11,null,null,null,null,null,null,null,null,0,"12/26 Hour 11",8627]
[12,"Wkdy",26,12,null,null,null,null,null,null,null,null,0,null,null,12,"Wkdy",26,12,null,null,null,null,null,null,null,null,0,"12/26 Hour 12",8628]
[12,"Wkdy",26,13,null,null,null,null,null,null,null,null,0,null,null,12,"Wkdy",26,13,null,null,null,null,null,null,null,null,0,"12/26 Hour 13",8629]
[12,"Wkdy",26,14,null,null,null,null,null,null,null,null,0,null,null,12,"Wkdy",26,14,null,null,null,null,null,null,null,null,0,"12/26 Hour 14",8630]
[12,"Wkdy",26,15,null,null,null,null,null,null,null,null,0,null,null,12,"Wkdy",26,15,null,null,null,null,null,null,null,null,0,"12/26 Hour 15",8631]
[12,"Wkdy",26,16,null,null,null,null,null,null,null,null,0,null,null,12,"Wkdy",26,16,null,null,null,null,null,null,null,null,0,"12/26 Hour 16",8632]
[12,"Wkdy",26,17,null,null,null,null,null,null,null,null,0,null,null,12,"Wkdy",26,17,null,null,null,null,null,null,null,null,0,"12/26 Hour 17",8633]
[12,"Wkdy",26,18,null,null,null,null,null,null,null,null,0,null,null,12,"Wkdy",26,18,null,null,null,null,null,null,null,null,0,"12/26 Hour 18",8634]
[12,"Wkdy",26,19,null,null,null,null,null,null,null,null,0,null,null,12,"Wkdy",26,19,null,null,null,null,null,null,null,null,0,"12/26 Hour 19",8635]
[12,"Wkdy",26,20,null,null,null,null,null,null,null,null,0,null,null,12,"Wkdy",26,20,null,null,null,null,null,null,null,null,0,"12/26 Hour 20",8636]
[12,"Wkdy",26,21,null,null,null,null,null,null,null,null,0,null,null,12,"Wkdy",26,21,null,null,null,null,null,null,null,null,0,"12/26 Hour 21",8637]
[12,"Wkdy",26,22,null,null,null,null,null,null,null,null,0,null,null,12,"Wkdy",26,22,null,null,null,null,null,null,null,null,0,"12/26 Hour 22",8638]
[12,"Wkdy",26,23,null,null,null,null,null,null,null,null,0,null,null,12,"Wkdy",26,23,null,null,null,null,null,null,null,null,0,"12/26 Hour 23",8639]
[12,"Wkdy",26,24,null,null,null,null,null,null,null,null,0,null,null,12,"Wkdy",26,24,null,null,null,null,null,null,null,null,0,"12/26 Hour 24",8640]
[12,"Wkdy",27,1,null,null,null,null,null,null,null,null,0,null,null,12,"Wkdy",27,1,null,null,null,null,null,null,null,null,0,"12/27 Hour 1",8641]
[12,"Wkdy",27,2,null,null,null,null,null,null,null,null,{"$f":"SUM(E8645:L8645)","v":0},null,null,12,"Wkdy",27,2,null,null,null,null,null,null,null,null,{"$f":"SUM(T8645:AA8645)","v":0},{"$f":"A8645&\"/\"&C8645&\" Hour \"&D8645","v":"12/27 Hour 2"},{"$f":"ROW()-ROW($AD$3)","v":8642}]
[12,"Wkdy",27,3,null,null,null,null,null,null,null,null,0,null,null,12,"Wkdy",27,3,null,null,null,null,null,null,null,null,0,"12/27 Hour 3",8643]
[12,"Wkdy",27,4,null,null,null,null,null,null,null,null,0,null,null,12,"Wkdy",27,4,null,null,null,null,null,null,null,null,0,"12/27 Hour 4",8644]
[12,"Wkdy",27,5,null,null,null,null,null,null,null,null,0,null,null,12,"Wkdy",27,5,null,null,null,null,null,null,null,null,0,"12/27 Hour 5",8645]
[12,"Wkdy",27,6,null,null,null,null,null,null,null,null,0,null,null,12,"Wkdy",27,6,null,null,null,null,null,null,null,null,0,"12/27 Hour 6",8646]
[12,"Wkdy",27,7,null,null,null,null,null,null,null,null,0,null,null,12,"Wkdy",27,7,null,null,null,null,null,null,null,null,0,"12/27 Hour 7",8647]
[12,"Wkdy",27,8,null,null,null,null,null,null,null,null,0,null,null,12,"Wkdy",27,8,null,null,null,null,null,null,null,null,0,"12/27 Hour 8",8648]
[12,"Wkdy",27,9,null,null,null,null,null,null,null,null,0,null,null,12,"Wkdy",27,9,null,null,null,null,null,null,null,null,0,"12/27 Hour 9",8649]
[12,"Wkdy",27,10,null,null,null,null,null,null,null,null,0,null,null,12,"Wkdy",27,10,null,null,null,null,null,null,null,null,0,"12/27 Hour 10",8650]
[12,"Wkdy",27,11,null,null,null,null,null,null,null,null,0,null,null,12,"Wkdy",27,11,null,null,null,null,null,null,null,null,0,"12/27 Hour 11",8651]
[12,"Wkdy",27,12,null,null,null,null,null,null,null,null,0,null,null,12,"Wkdy",27,12,null,null,null,null,null,null,null,null,0,"12/27 Hour 12",8652]
[12,"Wkdy",27,13,null,null,null,null,null,null,null,null,0,null,null,12,"Wkdy",27,13,null,null,null,null,null,null,null,null,0,"12/27 Hour 13",8653]
[12,"Wkdy",27,14,null,null,null,null,null,null,null,null,0,null,null,12,"Wkdy",27,14,null,null,null,null,null,null,null,null,0,"12/27 Hour 14",8654]
[12,"Wkdy",27,15,null,null,null,null,null,null,null,null,0,null,null,12,"Wkdy",27,15,null,null,null,null,null,null,null,null,0,"12/27 Hour 15",8655]
[12,"Wkdy",27,16,null,null,null,null,null,null,null,null,0,null,null,12,"Wkdy",27,16,null,null,null,null,null,null,null,null,0,"12/27 Hour 16",8656]
[12,"Wkdy",27,17,null,null,null,null,null,null,null,null,0,null,null,12,"Wkdy",27,17,null,null,null,null,null,null,null,null,0,"12/27 Hour 17",8657]
[12,"Wkdy",27,18,null,null,null,null,null,null,null,null,0,null,null,12,"Wkdy",27,18,null,null,null,null,null,null,null,null,0,"12/27 Hour 18",8658]
[12,"Wkdy",27,19,null,null,null,null,null,null,null,null,0,null,null,12,"Wkdy",27,19,null,null,null,null,null,null,null,null,0,"12/27 Hour 19",8659]
[12,"Wkdy",27,20,null,null,null,null,null,null,null,null,0,null,null,12,"Wkdy",27,20,null,null,null,null,null,null,null,null,0,"12/27 Hour 20",8660]
[12,"Wkdy",27,21,null,null,null,null,null,null,null,null,0,null,null,12,"Wkdy",27,21,null,null,null,null,null,null,null,null,0,"12/27 Hour 21",8661]
[12,"Wkdy",27,22,null,null,null,null,null,null,null,null,0,null,null,12,"Wkdy",27,22,null,null,null,null,null,null,null,null,0,"12/27 Hour 22",8662]
[12,"Wkdy",27,23,null,null,null,null,null,null,null,null,0,null,null,12,"Wkdy",27,23,null,null,null,null,null,null,null,null,0,"12/27 Hour 23",8663]
[12,"Wkdy",27,24,null,null,null,null,null,null,null,null,0,null,null,12,"Wkdy",27,24,null,null,null,null,null,null,null,null,0,"12/27 Hour 24",8664]
[12,"Wkdy",28,1,null,null,null,null,null,null,null,null,0,null,null,12,"Wkdy",28,1,null,null,null,null,null,null,null,null,0,"12/28 Hour 1",8665]
[12,"Wkdy",28,2,null,null,null,null,null,null,null,null,0,null,null,12,"Wkdy",28,2,null,null,null,null,null,null,null,null,0,"12/28 Hour 2",8666]
[12,"Wkdy",28,3,null,null,null,null,null,null,null,null,0,null,null,12,"Wkdy",28,3,null,null,null,null,null,null,null,null,0,"12/28 Hour 3",8667]
[12,"Wkdy",28,4,null,null,null,null,null,null,null,null,0,null,null,12,"Wkdy",28,4,null,null,null,null,null,null,null,null,0,"12/28 Hour 4",8668]
[12,"Wkdy",28,5,null,null,null,null,null,null,null,null,0,null,null,12,"Wkdy",28,5,null,null,null,null,null,null,null,null,0,"12/28 Hour 5",8669]
[12,"Wkdy",28,6,null,null,null,null,null,null,null,null,0,null,null,12,"Wkdy",28,6,null,null,null,null,null,null,null,null,0,"12/28 Hour 6",8670]
[12,"Wkdy",28,7,null,null,null,null,null,null,null,null,0,null,null,12,"Wkdy",28,7,null,null,null,null,null,null,null,null,0,"12/28 Hour 7",8671]
[12,"Wkdy",28,8,null,null,null,null,null,null,null,null,0,null,null,12,"Wkdy",28,8,null,null,null,null,null,null,null,null,0,"12/28 Hour 8",8672]
[12,"Wkdy",28,9,null,null,null,null,null,null,null,null,0,null,null,12,"Wkdy",28,9,null,null,null,null,null,null,null,null,0,"12/28 Hour 9",8673]
[12,"Wkdy",28,10,null,null,null,null,null,null,null,null,0,null,null,12,"Wkdy",28,10,null,null,null,null,null,null,null,null,0,"12/28 Hour 10",8674]
[12,"Wkdy",28,11,null,null,null,null,null,null,null,null,0,null,null,12,"Wkdy",28,11,null,null,null,null,null,null,null,null,0,"12/28 Hour 11",8675]
[12,"Wkdy",28,12,null,null,null,null,null,null,null,null,0,null,null,12,"Wkdy",28,12,null,null,null,null,null,null,null,null,0,"12/28 Hour 12",8676]
[12,"Wkdy",28,13,null,null,null,null,null,null,null,null,0,null,null,12,"Wkdy",28,13,null,null,null,null,null,null,null,null,0,"12/28 Hour 13",8677]
[12,"Wkdy",28,14,null,null,null,null,null,null,null,null,0,null,null,12,"Wkdy",28,14,null,null,null,null,null,null,null,null,0,"12/28 Hour 14",8678]
[12,"Wkdy",28,15,null,null,null,null,null,null,null,null,0,null,null,12,"Wkdy",28,15,null,null,null,null,null,null,null,null,0,"12/28 Hour 15",8679]
[12,"Wkdy",28,16,null,null,null,null,null,null,null,null,0,null,null,12,"Wkdy",28,16,null,null,null,null,null,null,null,null,0,"12/28 Hour 16",8680]
[12,"Wkdy",28,17,null,null,null,null,null,null,null,null,0,null,null,12,"Wkdy",28,17,null,null,null,null,null,null,null,null,0,"12/28 Hour 17",8681]
[12,"Wkdy",28,18,null,null,null,null,null,null,null,null,0,null,null,12,"Wkdy",28,18,null,null,null,null,null,null,null,null,0,"12/28 Hour 18",8682]
[12,"Wkdy",28,19,null,null,null,null,null,null,null,null,0,null,null,12,"Wkdy",28,19,null,null,null,null,null,null,null,null,0,"12/28 Hour 19",8683]
[12,"Wkdy",28,20,null,null,null,null,null,null,null,null,0,null,null,12,"Wkdy",28,20,null,null,null,null,null,null,null,null,0,"12/28 Hour 20",8684]
[12,"Wkdy",28,21,null,null,null,null,null,null,null,null,0,null,null,12,"Wkdy",28,21,null,null,null,null,null,null,null,null,0,"12/28 Hour 21",8685]
[12,"Wkdy",28,22,null,null,null,null,null,null,null,null,0,null,null,12,"Wkdy",28,22,null,null,null,null,null,null,null,null,0,"12/28 Hour 22",8686]
[12,"Wkdy",28,23,null,null,null,null,null,null,null,null,0,null,null,12,"Wkdy",28,23,null,null,null,null,null,null,null,null,0,"12/28 Hour 23",8687]
[12,"Wkdy",28,24,null,null,null,null,null,null,null,null,0,null,null,12,"Wkdy",28,24,null,null,null,null,null,null,null,null,0,"12/28 Hour 24",8688]
[12,"Wkdy",29,1,null,null,null,null,null,null,null,null,0,null,null,12,"Wkdy",29,1,null,null,null,null,null,null,null,null,0,"12/29 Hour 1",8689]
[12,"Wkdy",29,2,null,null,null,null,null,null,null,null,0,null,null,12,"Wkdy",29,2,null,null,null,null,null,null,null,null,0,"12/29 Hour 2",8690]
[12,"Wkdy",29,3,null,null,null,null,null,null,null,null,0,null,null,12,"Wkdy",29,3,null,null,null,null,null,null,null,null,0,"12/29 Hour 3",8691]
[12,"Wkdy",29,4,null,null,null,null,null,null,null,null,0,null,null,12,"Wkdy",29,4,null,null,null,null,null,null,null,null,0,"12/29 Hour 4",8692]
[12,"Wkdy",29,5,null,null,null,null,null,null,null,null,0,null,null,12,"Wkdy",29,5,null,null,null,null,null,null,null,null,0,"12/29 Hour 5",8693]
[12,"Wkdy",29,6,null,null,null,null,null,null,null,null,0,null,null,12,"Wkdy",29,6,null,null,null,null,null,null,null,null,0,"12/29 Hour 6",8694]
[12,"Wkdy",29,7,null,null,null,null,null,null,null,null,0,null,null,12,"Wkdy",29,7,null,null,null,null,null,null,null,null,0,"12/29 Hour 7",8695]
[12,"Wkdy",29,8,null,null,null,null,null,null,null,null,0,null,null,12,"Wkdy",29,8,null,null,null,null,null,null,null,null,0,"12/29 Hour 8",8696]
[12,"Wkdy",29,9,null,null,null,null,null,null,null,null,0,null,null,12,"Wkdy",29,9,null,null,null,null,null,null,null,null,0,"12/29 Hour 9",8697]
[12,"Wkdy",29,10,null,null,null,null,null,null,null,null,0,null,null,12,"Wkdy",29,10,null,null,null,null,null,null,null,null,0,"12/29 Hour 10",8698]
[12,"Wkdy",29,11,null,null,null,null,null,null,null,null,0,null,null,12,"Wkdy",29,11,null,null,null,null,null,null,null,null,0,"12/29 Hour 11",8699]
[12,"Wkdy",29,12,null,null,null,null,null,null,null,null,0,null,null,12,"Wkdy",29,12,null,null,null,null,null,null,null,null,0,"12/29 Hour 12",8700]
[12,"Wkdy",29,13,null,null,null,null,null,null,null,null,0,null,null,12,"Wkdy",29,13,null,null,null,null,null,null,null,null,0,"12/29 Hour 13",8701]
[12,"Wkdy",29,14,null,null,null,null,null,null,null,null,0,null,null,12,"Wkdy",29,14,null,null,null,null,null,null,null,null,0,"12/29 Hour 14",8702]
[12,"Wkdy",29,15,null,null,null,null,null,null,null,null,0,null,null,12,"Wkdy",29,15,null,null,null,null,null,null,null,null,0,"12/29 Hour 15",8703]
[12,"Wkdy",29,16,null,null,null,null,null,null,null,null,0,null,null,12,"Wkdy",29,16,null,null,null,null,null,null,null,null,0,"12/29 Hour 16",8704]
[12,"Wkdy",29,17,null,null,null,null,null,null,null,null,0,null,null,12,"Wkdy",29,17,null,null,null,null,null,null,null,null,0,"12/29 Hour 17",8705]
[12,"Wkdy",29,18,null,null,null,null,null,null,null,null,{"$f":"SUM(E8709:L8709)","v":0},null,null,12,"Wkdy",29,18,null,null,null,null,null,null,null,null,{"$f":"SUM(T8709:AA8709)","v":0},{"$f":"A8709&\"/\"&C8709&\" Hour \"&D8709","v":"12/29 Hour 18"},{"$f":"ROW()-ROW($AD$3)","v":8706}]
[12,"Wkdy",29,19,null,null,null,null,null,null,null,null,0,null,null,12,"Wkdy",29,19,null,null,null,null,null,null,null,null,0,"12/29 Hour 19",8707]
[12,"Wkdy",29,20,null,null,null,null,null,null,null,null,0,null,null,12,"Wkdy",29,20,null,null,null,null,null,null,null,null,0,"12/29 Hour 20",8708]
[12,"Wkdy",29,21,null,null,null,null,null,null,null,null,0,null,null,12,"Wkdy",29,21,null,null,null,null,null,null,null,null,0,"12/29 Hour 21",8709]
[12,"Wkdy",29,22,null,null,null,null,null,null,null,null,0,null,null,12,"Wkdy",29,22,null,null,null,null,null,null,null,null,0,"12/29 Hour 22",8710]
[12,"Wkdy",29,23,null,null,null,null,null,null,null,null,0,null,null,12,"Wkdy",29,23,null,null,null,null,null,null,null,null,0,"12/29 Hour 23",8711]
[12,"Wkdy",29,24,null,null,null,null,null,null,null,null,0,null,null,12,"Wkdy",29,24,null,null,null,null,null,null,null,null,0,"12/29 Hour 24",8712]
[12,"Sat",30,1,null,null,null,null,null,null,null,null,0,null,null,12,"Sat",30,1,null,null,null,null,null,null,null,null,0,"12/30 Hour 1",8713]
[12,"Sat",30,2,null,null,null,null,null,null,null,null,0,null,null,12,"Sat",30,2,null,null,null,null,null,null,null,null,0,"12/30 Hour 2",8714]
[12,"Sat",30,3,null,null,null,null,null,null,null,null,0,null,null,12,"Sat",30,3,null,null,null,null,null,null,null,null,0,"12/30 Hour 3",8715]
[12,"Sat",30,4,null,null,null,null,null,null,null,null,0,null,null,12,"Sat",30,4,null,null,null,null,null,null,null,null,0,"12/30 Hour 4",8716]
[12,"Sat",30,5,null,null,null,null,null,null,null,null,0,null,null,12,"Sat",30,5,null,null,null,null,null,null,null,null,0,"12/30 Hour 5",8717]
[12,"Sat",30,6,null,null,null,null,null,null,null,null,0,null,null,12,"Sat",30,6,null,null,null,null,null,null,null,null,0,"12/30 Hour 6",8718]
[12,"Sat",30,7,null,null,null,null,null,null,null,null,0,null,null,12,"Sat",30,7,null,null,null,null,null,null,null,null,0,"12/30 Hour 7",8719]
[12,"Sat",30,8,null,null,null,null,null,null,null,null,0,null,null,12,"Sat",30,8,null,null,null,null,null,null,null,null,0,"12/30 Hour 8",8720]
[12,"Sat",30,9,null,null,null,null,null,null,null,null,0,null,null,12,"Sat",30,9,null,null,null,null,null,null,null,null,0,"12/30 Hour 9",8721]
[12,"Sat",30,10,null,null,null,null,null,null,null,null,0,null,null,12,"Sat",30,10,null,null,null,null,null,null,null,null,0,"12/30 Hour 10",8722]
[12,"Sat",30,11,null,null,null,null,null,null,null,null,0,null,null,12,"Sat",30,11,null,null,null,null,null,null,null,null,0,"12/30 Hour 11",8723]
[12,"Sat",30,12,null,null,null,null,null,null,null,null,0,null,null,12,"Sat",30,12,null,null,null,null,null,null,null,null,0,"12/30 Hour 12",8724]
[12,"Sat",30,13,null,null,null,null,null,null,null,null,0,null,null,12,"Sat",30,13,null,null,null,null,null,null,null,null,0,"12/30 Hour 13",8725]
[12,"Sat",30,14,null,null,null,null,null,null,null,null,0,null,null,12,"Sat",30,14,null,null,null,null,null,null,null,null,0,"12/30 Hour 14",8726]
[12,"Sat",30,15,null,null,null,null,null,null,null,null,0,null,null,12,"Sat",30,15,null,null,null,null,null,null,null,null,0,"12/30 Hour 15",8727]
[12,"Sat",30,16,null,null,null,null,null,null,null,null,0,null,null,12,"Sat",30,16,null,null,null,null,null,null,null,null,0,"12/30 Hour 16",8728]
[12,"Sat",30,17,null,null,null,null,null,null,null,null,0,null,null,12,"Sat",30,17,null,null,null,null,null,null,null,null,0,"12/30 Hour 17",8729]
[12,"Sat",30,18,null,null,null,null,null,null,null,null,0,null,null,12,"Sat",30,18,null,null,null,null,null,null,null,null,0,"12/30 Hour 18",8730]
[12,"Sat",30,19,null,null,null,null,null,null,null,null,0,null,null,12,"Sat",30,19,null,null,null,null,null,null,null,null,0,"12/30 Hour 19",8731]
[12,"Sat",30,20,null,null,null,null,null,null,null,null,0,null,null,12,"Sat",30,20,null,null,null,null,null,null,null,null,0,"12/30 Hour 20",8732]
[12,"Sat",30,21,null,null,null,null,null,null,null,null,0,null,null,12,"Sat",30,21,null,null,null,null,null,null,null,null,0,"12/30 Hour 21",8733]
[12,"Sat",30,22,null,null,null,null,null,null,null,null,0,null,null,12,"Sat",30,22,null,null,null,null,null,null,null,null,0,"12/30 Hour 22",8734]
[12,"Sat",30,23,null,null,null,null,null,null,null,null,0,null,null,12,"Sat",30,23,null,null,null,null,null,null,null,null,0,"12/30 Hour 23",8735]
[12,"Sat",30,24,null,null,null,null,null,null,null,null,0,null,null,12,"Sat",30,24,null,null,null,null,null,null,null,null,0,"12/30 Hour 24",8736]
[12,"Sun",31,1,null,null,null,null,null,null,null,null,0,null,null,12,"Sun",31,1,null,null,null,null,null,null,null,null,0,"12/31 Hour 1",8737]
[12,"Sun",31,2,null,null,null,null,null,null,null,null,0,null,null,12,"Sun",31,2,null,null,null,null,null,null,null,null,0,"12/31 Hour 2",8738]
[12,"Sun",31,3,null,null,null,null,null,null,null,null,0,null,null,12,"Sun",31,3,null,null,null,null,null,null,null,null,0,"12/31 Hour 3",8739]
[12,"Sun",31,4,null,null,null,null,null,null,null,null,0,null,null,12,"Sun",31,4,null,null,null,null,null,null,null,null,0,"12/31 Hour 4",8740]
[12,"Sun",31,5,null,null,null,null,null,null,null,null,0,null,null,12,"Sun",31,5,null,null,null,null,null,null,null,null,0,"12/31 Hour 5",8741]
[12,"Sun",31,6,null,null,null,null,null,null,null,null,0,null,null,12,"Sun",31,6,null,null,null,null,null,null,null,null,0,"12/31 Hour 6",8742]
[12,"Sun",31,7,null,null,null,null,null,null,null,null,0,null,null,12,"Sun",31,7,null,null,null,null,null,null,null,null,0,"12/31 Hour 7",8743]
[12,"Sun",31,8,null,null,null,null,null,null,null,null,0,null,null,12,"Sun",31,8,null,null,null,null,null,null,null,null,0,"12/31 Hour 8",8744]
[12,"Sun",31,9,null,null,null,null,null,null,null,null,0,null,null,12,"Sun",31,9,null,null,null,null,null,null,null,null,0,"12/31 Hour 9",8745]
[12,"Sun",31,10,null,null,null,null,null,null,null,null,0,null,null,12,"Sun",31,10,null,null,null,null,null,null,null,null,0,"12/31 Hour 10",8746]
[12,"Sun",31,11,null,null,null,null,null,null,null,null,0,null,null,12,"Sun",31,11,null,null,null,null,null,null,null,null,0,"12/31 Hour 11",8747]
[12,"Sun",31,12,null,null,null,null,null,null,null,null,0,null,null,12,"Sun",31,12,null,null,null,null,null,null,null,null,0,"12/31 Hour 12",8748]
[12,"Sun",31,13,null,null,null,null,null,null,null,null,0,null,null,12,"Sun",31,13,null,null,null,null,null,null,null,null,0,"12/31 Hour 13",8749]
[12,"Sun",31,14,null,null,null,null,null,null,null,null,0,null,null,12,"Sun",31,14,null,null,null,null,null,null,null,null,0,"12/31 Hour 14",8750]
[12,"Sun",31,15,null,null,null,null,null,null,null,null,0,null,null,12,"Sun",31,15,null,null,null,null,null,null,null,null,0,"12/31 Hour 15",8751]
[12,"Sun",31,16,null,null,null,null,null,null,null,null,0,null,null,12,"Sun",31,16,null,null,null,null,null,null,null,null,0,"12/31 Hour 16",8752]
[12,"Sun",31,17,null,null,null,null,null,null,null,null,0,null,null,12,"Sun",31,17,null,null,null,null,null,null,null,null,0,"12/31 Hour 17",8753]
[12,"Sun",31,18,null,null,null,null,null,null,null,null,0,null,null,12,"Sun",31,18,null,null,null,null,null,null,null,null,0,"12/31 Hour 18",8754]
[12,"Sun",31,19,null,null,null,null,null,null,null,null,0,null,null,12,"Sun",31,19,null,null,null,null,null,null,null,null,0,"12/31 Hour 19",8755]
[12,"Sun",31,20,null,null,null,null,null,null,null,null,0,null,null,12,"Sun",31,20,null,null,null,null,null,null,null,null,0,"12/31 Hour 20",8756]
[12,"Sun",31,21,null,null,null,null,null,null,null,null,0,null,null,12,"Sun",31,21,null,null,null,null,null,null,null,null,0,"12/31 Hour 21",8757]
[12,"Sun",31,22,null,null,null,null,null,null,null,null,0,null,null,12,"Sun",31,22,null,null,null,null,null,null,null,null,0,"12/31 Hour 22",8758]
[12,"Sun",31,23,null,null,null,null,null,null,null,null,0,null,null,12,"Sun",31,23,null,null,null,null,null,null,null,null,0,"12/31 Hour 23",8759]
[12,"Sun",31,24,null,null,null,null,null,null,null,null,0,null,null,12,"Sun",31,24,null,null,null,null,null,null,null,null,0,"12/31 Hour 24",8760]

{"sheet":"P4P - Measure Info","index":13,"n_rows":56,"n_cols":24,"rows_kept":56,"cut":false,"hidden":false,"merged":[[12,2,12,18],[13,2,13,18],[20,3,20,18],[55,19,55,20],[17,2,17,18],[18,2,18,18],[0,4,0,7],[1,4,1,7],[2,4,2,7],[15,2,15,18],[16,2,16,18],[14,2,14,18],[6,2,6,18],[7,2,7,18],[8,2,8,18],[9,2,9,18],[10,2,10,18],[11,2,11,18]]}
[null,null,null,null,"New Jersey Office of Clean Energy"]
[null,null,null,null,"Pay for Performance New Construction Program"]
[null,null,null,null,"ERP Tables and Incentive Calculator"]
[]
[null,"Energy Efficiency Measure Information"]
[null,"Instructions"]
[null,"1) ","In the first column, confirm whether each proposed Energy Efficiency Measure exceeds ASHRAE 90.1-2019 efficiency requirements (Yes), or whether measure only exceed ASHRAE 90.1-2004 baseline (No). This selection is for program reporting purposes. An Energy Efficiency Measure is a component in the proposed design that is different from the component in the Baseline.  All components, whether resulting in energy savings or an energy penalty, should be included here (see Partner Guidelines v4.8 Section 4.5.29) . Please note, if cells are greyed out, they are not required to be filled in."]
[null,"2) ","In the \"Measure Name\" column, enter a brief but descriptive name for the Energy Efficiency Measure."]
[null,"3)","In the \"Measure Category\" column, choose the category that best reflects the proposed Energy Efficiency Measure. "]
[null,"4)","In the \"Measure Type\" column, a drop down menu of measure types corresponding to the \"Measure Category\" selected will be displayed.  Please select the measure type that best reflects the proposed Energy Efficiency Measure. If the measure type from the drop down menu does not adequately describe a component, choose Other in the \"Measure Category\", and either Custom Gas or Custom Electric in the \"Measure Type\" depending on which fuel is most affected."]
[null,"5) ","Complete the \"Brief Description of Measure\", \"Location\", \"Manufacturer\", and \"Model\" columns to elaborate on the measure selections."]
[null,"6)","\"Capacity Units\" will auto-generate based on the \"Measure Type\" selected.  For Custom Gas, Custom Electric, or Custom Measure custom units may be entered in these cells.  For control measures, the capacity entered must reflect the capacity affected by the controls measure."]
[null,"7)","In the \"Quantity\" column, enter the total number of systems (or area for envelope) as a number."]
[null,"8)","\"Primary Efficiency Units\" will auto-generate based on the \"Measure Type\" selected.  For Custom Gas or Custom Electric, custom units may be entered in these cells.  For boilers/DHW systems and cooling systems, units of efficiency default to Et and EER, respectively.  Units of efficiency corresponding to the system type should be used, where applicable (e.g. SEER / HSPF for heat pumps <5.4 tons, EF for DHW heaters, AFUE or Ec for boilers and furnances, etc.)"]
[null,"9)","\"Secondary Efficiency Units\" will auto-generate based on the \"Measure Type\" selected.  For Custom Gas or Custom Electric, custom units may be entered in these cells.  This is reserved for systems that have both full load and part load efficiency OR cooling and heating efficiency.  For window measures, SHGC and NFRC U-value must be entered."]
[]
[null,"10)","Enter the corresponding ASHRAE 90.1-2019 Prescriptive Baseline Components in Columns U (\"Component Description\").  The components described here must correspond to systems and efficiencies listed in ASHRAE 90.1-2019 Sections 5.5, 6.5, 7.5, 8.5, 9.5, and 9.6 rather than Appendix G. The corresponding Appendix G component must be entered in column T (\"Appendix G Baseline Component\")."]
[null,"11)","Enter Partner fees at the bottom of the table."]
[null,"12)","You may need to add or delete rows in order to accommodate all of the measures. If you add rows, be sure to copy down formulas from cells above."]
[]
[null,null,null,"Proposed Components",null,null,null,null,null,null,null,null,null,null,null,null,null,null,null,"Appendix G Baseline Component","ASHRAE 90.1-2019 Prescriptive Requirements"]
[null,null,"Measure Exceeds 90.1-2019 Prescriptive or Additional Compliance Requirements?","Measure Name","Measure Category","Measure Type","Brief Description of Measure","Location","Manufacturer","Model","Capacity","Capacity Units","Quantity","Primary Efficiency","Primary Efficiency Units","Secondary Efficiency","Secondary Efficiency Units","Proposed Cost","Cost Source","Component Description","Component Description","Baseline Cost","Cost Source","Incremental Costs"]
[null,1,"<Choose>",null,"<Choose>",null,null,null,null,null,null,{"$f":"IF(F23=\"\",\"\",VLOOKUP(F23,P4P_MeasureTable,4,FALSE))","v":""},null,null,{"$f":"IF(F23=\"\",\"\",VLOOKUP(F23,P4P_MeasureTable,5,FALSE))","v":""},null,{"$f":"IF(F23=\"\",\"\",VLOOKUP(F23,P4P_MeasureTable,6,FALSE))","v":""},null,"<Choose>",null,null,null,"<Choose>",{"$f":"IF(C23=\"Yes\",R23-V23,0)","v":0}]
[null,2,"<Choose>",null,"<Choose>",null,null,null,null,null,null,"",null,null,"",null,"",null,"<Choose>",null,null,null,"<Choose>",{"$f":"IF(C24=\"Yes\",R24-V24,0)","v":0}]
[null,3,"<Choose>",null,"<Choose>",null,null,null,null,null,null,"",null,null,"",null,"",null,"<Choose>",null,null,null,"<Choose>",0]
[null,4,"<Choose>",null,"<Choose>",null,null,null,null,null,null,"",null,null,"",null,"",null,"<Choose>",null,null,null,"<Choose>",0]
[null,5,"<Choose>",null,"<Choose>",null,null,null,null,null,null,"",null,null,"",null,"",null,"<Choose>",null,null,null,"<Choose>",0]
[null,6,"<Choose>",null,"<Choose>",null,null,null,null,null,null,"",null,null,"",null,"",null,"<Choose>",null,null,null,"<Choose>",0]
[null,7,"<Choose>",null,"<Choose>",null,null,null,null,null,null,"",null,null,"",null,"",null,"<Choose>",null,null,null,"<Choose>",0]
[null,8,"<Choose>",null,"<Choose>",null,null,null,null,null,null,"",null,null,"",null,"",null,"<Choose>",null,null,null,"<Choose>",0]
[null,9,"<Choose>",null,"<Choose>",null,null,null,null,null,null,"",null,null,"",null,"",null,"<Choose>",null,null,null,"<Choose>",0]
[null,10,"<Choose>",null,"<Choose>",null,null,null,null,null,null,"",null,null,"",null,"",null,"<Choose>",null,null,null,"<Choose>",0]
[null,11,"<Choose>",null,"<Choose>",null,null,null,null,null,null,"",null,null,"",null,"",null,"<Choose>",null,null,null,"<Choose>",0]
[null,12,"<Choose>",null,"<Choose>",null,null,null,null,null,null,"",null,null,"",null,"",null,"<Choose>",null,null,null,"<Choose>",0]
[null,13,"<Choose>",null,"<Choose>",null,null,null,null,null,null,"",null,null,"",null,"",null,"<Choose>",null,null,null,"<Choose>",0]
[null,14,"<Choose>",null,"<Choose>",null,null,null,null,null,null,"",null,null,"",null,"",null,"<Choose>",null,null,null,"<Choose>",0]
[null,15,"<Choose>",null,"<Choose>",null,null,null,null,null,null,"",null,null,"",null,"",null,"<Choose>",null,null,null,"<Choose>",0]
[null,16,"<Choose>",null,"<Choose>",null,null,null,null,null,null,"",null,null,"",null,"",null,"<Choose>",null,null,null,"<Choose>",0]
[null,17,"<Choose>",null,"<Choose>",null,null,null,null,null,null,"",null,null,"",null,"",null,"<Choose>",null,null,null,"<Choose>",0]
[null,18,"<Choose>",null,"<Choose>",null,null,null,null,null,null,"",null,null,"",null,"",null,"<Choose>",null,null,null,"<Choose>",0]
[null,19,"<Choose>",null,"<Choose>",null,null,null,null,null,null,"",null,null,"",null,"",null,"<Choose>",null,null,null,"<Choose>",0]
[null,20,"<Choose>",null,"<Choose>",null,null,null,null,null,null,"",null,null,"",null,"",null,"<Choose>",null,null,null,"<Choose>",0]
[null,21,"<Choose>",null,"<Choose>",null,null,null,null,null,null,"",null,null,"",null,"",null,"<Choose>",null,null,null,"<Choose>",0]
[null,22,"<Choose>",null,"<Choose>",null,null,null,null,null,null,"",null,null,"",null,"",null,"<Choose>",null,null,null,"<Choose>",0]
[null,23,"<Choose>",null,"<Choose>",null,null,null,null,null,null,"",null,null,"",null,"",null,"<Choose>",null,null,null,"<Choose>",0]
[null,24,"<Choose>",null,"<Choose>",null,null,null,null,null,null,{"$f":"IF(F46=\"\",\"\",VLOOKUP(F46,P4P_MeasureTable,4,FALSE))","v":""},null,null,{"$f":"IF(F46=\"\",\"\",VLOOKUP(F46,P4P_MeasureTable,5,FALSE))","v":""},null,{"$f":"IF(F46=\"\",\"\",VLOOKUP(F46,P4P_MeasureTable,6,FALSE))","v":""},null,"<Choose>",null,null,null,"<Choose>",0]
[null,25,"Yes","Whole Building Total Savings","Other","Custom Measure",null,null,null,null,null,{"$f":"IF(F47=\"\",\"\",VLOOKUP(F47,P4P_MeasureTable,4,FALSE))","v":"<Enter>"},1,null,{"$f":"IF(F47=\"\",\"\",VLOOKUP(F47,P4P_MeasureTable,5,FALSE))","v":"<Enter>"},null,{"$f":"IF(F47=\"\",\"\",VLOOKUP(F47,P4P_MeasureTable,6,FALSE))","v":"<Enter>"},null,"<Choose>",null,null,null,"<Choose>",0]
[null,null,null,null,null,null,null,null,null,null,null,{"$f":"IF(F48=\"\",\"\",VLOOKUP(F48,P4P_MeasureTable,4,FALSE))","v":""}]
[null,null,null,null,null,null,null,null,null,null,null,null,null,null,null,null,null,null,null,"Measure Incremental Costs:",null,null,null,{"$f":"SUM(X23:X47)","v":0}]
[null,null,null,null,null,null,null,null,null,null,null,null,null,null,null,null,null,null,null,"Modeling Fees:",null,null,null,{"$f":"U50","v":0}]
[null,null,null,null,null,null,null,null,null,null,null,null,null,null,null,null,null,null,null,"Inspection and Verification Fees:",null,null,null,{"$f":"U51","v":0}]
[null,null,null,null,null,null,null,null,null,null,null,null,null,null,null,null,null,null,null,"Commissioning Fees:",null,null,null,{"$f":"U52","v":0}]
[null,null,null,null,null,null,null,null,null,null,null,null,null,null,null,null,null,null,null,"Post-construction Performance Fees:",null,null,null,{"$f":"U53","v":0}]
[null,null,null,null,null,null,null,null,null,null,null,null,null,null,null,null,null,null,null,"Fees for Other Services:",null,null,null,{"$f":"U54","v":0}]
[null,null,null,null,null,null,null,null,null,null,null,null,null,null,null,null,null,null,null,null,null,null,null,{"$f":"SUM(X49:X54)","v":0}]
[null,null,null,null,null,null,null,null,null,null,null,null,null,null,null,null,null,null,"* Describe other services:","* Describe other services:"]

{"sheet":"P4P - bEQ Inputs","index":14,"n_rows":20,"n_cols":4,"rows_kept":20,"cut":false,"hidden":true,"merged":[[0,2,0,7],[1,2,1,7],[2,2,2,7]]}
[null,null,"New Jersey Office of Clean Energy"]
[null,null,"Pay for Performance New Construction Program"]
[null,null,"ERP Tables and Incentive Calculator"]
[]
[null,"Instructions"]
[null,"1) For ASHRAE bEQ projects, copy cells C11 through C20 below and 'Paste Values' into ASHRAE bEQ Form 2 cell C15:C24"]
[null,"2) Enter the median bEQ score in cell F49 of the \"P4P - Measure Simulation\" tab"]
[null,"3) Verify that the proposed bEQ score in the ASHRAE bEQ workbook is identical to the value calculated in cell N47 of the \"P4P - Measure Simulation\" tab."]
[]
[null,"Annual Energy Use by Fuel Type","Value","Units"]
[null,"Electricity ",{"$f":"'P4P - Measure Simulation'!G27*1000000/3413","v":0},"kWH"]
[null,"Natural Gas ",{"$f":"'P4P - Measure Simulation'!I27*10","v":0},"Therm"]
[null,"LPG",0,"kBTU"]
[null,"Steam ",{"$f":"'P4P - Measure Simulation'!K27*1000","v":0},"kBTU"]
[null,"Hot Water ",{"$f":"'P4P - Measure Simulation'!M27*1000","v":0},"kBTU"]
[null,"Chilled Water ",{"$f":"'P4P - Measure Simulation'!O27*1000","v":0},"kBTU"]
[null,"Wood / Biomass",0,"Ton"]
[null,"Fuel Oil (1,2,4,5,6,Diesel, Ker, etc) ",{"$f":"'P4P - Measure Simulation'!Q27*1000","v":0},"kBTU"]
[null,"Other Fuel  (Enter Fuel Type)",{"$f":"'P4P - Measure Simulation'!U27*1000","v":0},"kBTU"]
[null,"Other Fuel  (Enter Fuel Type)",0,"kBTU"]

{"sheet":"P4P - Measure Simulation","index":15,"n_rows":152,"n_cols":180,"rows_kept":152,"cut":false,"hidden":false,"merged":[[9,24,10,24],[17,3,17,4],[37,3,37,4],[15,3,15,4],[13,3,13,4],[14,3,14,4],[16,3,16,4],[9,3,9,4],[10,3,10,4],[11,3,11,4],[12,3,12,4],[41,3,41,4],[21,3,21,4],[25,3,25,4],[26,3,26,4],[27,3,27,4],[28,3,28,4],[30,3,30,4],[31,3,31,4],[32,3,32,4],[33,3,33,4],[34,3,34,4],[35,3,35,4],[24,3,24,4],[22,3,22,4],[23,3,23,4],[36,3,36,4],[0,6,0,13],[1,6,1,13],[2,6,2,13],[6,3,6,21],[8,5,8,20],[57,16,57,20],[45,3,45,4],[46,3,46,4],[48,3,48,4],[50,3,50,4],[50,16,50,20],[51,16,51,20],[52,16,52,20],[53,16,53,20],[54,16,54,20],[55,16,55,20],[56,16,56,20],[69,16,69,20],[58,16,58,20],[59,16,59,20],[60,16,60,20],[61,16,61,20],[62,16,62,20],[63,16,63,20],[64,16,64,20],[65,16,65,20],[66,16,66,20],[67,16,67,20],[68,16,68,20],[75,16,75,20],[76,16,76,20],[77,16,77,20],[78,16,78,20],[81,3,82,4],[81,6,81,12],[70,16,70,20],[71,16,71,20],[72,16,72,20],[73,16,73,20],[74,16,74,20],[42,3,42,4],[43,3,43,4],[44,3,44,4],[110,3,110,4],[111,3,111,4],[114,3,114,4],[109,3,109,4],[80,102,80,112],[80,25,80,35],[80,36,80,46],[118,3,119,4],[80,69,80,79],[80,80,80,90],[80,91,80,101],[8,47,8,50],[8,51,8,54],[8,55,8,58],[80,47,80,57],[80,58,80,68],[8,26,8,30],[8,31,8,34],[8,35,8,38],[8,39,8,42],[8,43,8,46],[112,3,112,4],[113,3,113,4]]}
[null,null,null,null,null,null,"New Jersey Office of Clean Energy"]
[null,null,null,null,null,null,"Pay for Performance New Construction Program"]
[null,null,null,null,null,null,"ERP Tables and Incentive Calculator"]
[null,null,null,null,null,{"$f":"INDEX(P4P_Support_Site_Source,MATCH(F30,INDEX(P4P_Support_Site_Source,0,2),0),3)","v":2.8},2.8,1.05,1.05,1.2,1.2,1.2,1.2,0.91,0.91,1.01,1.01,1.01,1.01,1,1]
[null,null,null,"Recommended Measures - Cost and Energy Savings"]
[null,null,null,"Instructions"]
[null,null,null,"1) Fill out tables below pertaining to modeled existing and proposed energy end-use consumption, as well as measure level savings. For eQuest and TRACE projects, data will be imported from \"Results from eQuest\" or \"Results from Trace\" tab.  All other simulation platforms need to manually enter the end-use data below. Note \"Other Fuel\" needs to be entered manually for all simulation platforms. \n2) Read the notes indicated by red corners to assist in properly completing this tab. \n3) Reference Partner Guidelines v4.8, Section 4 for guidance on simulating measures and measure specific modeling requirements. \n4) Custom Calculations will only be accepted for measure that cannot be explicitly captured in the model per Partner Guidelines v4.8, Section 4.2.1. \n5) Manually modify the blue cells in the table below to capture regulated versus unregulated energy consumption and exceptional calculations (i.e. custom calculations). For TRACE projects, any energy consumption categorized as 'Stand-alone Base Utilities' end usage shall only contain unregulated energy.  Regulated energy shall be manually added to the appropriate end use and subtracted from 'Stand-alone Base Utilities' end use. \n6) To capture exceptional calculations (i.e. custom calculations) subtract the calculated energy savings from the proposed energy conusmption for the relevant fuels and enduses in the 3rd table. \n7) In the 3rd table, \"Savings Calculation Method\",\"Simulation\", or \"Custom Calcs\" must be selected for all measures.  Otherwise, savings will not import.  \n8) Bold red text in the tables below indicates cells that have been manually overridden by the user.    \n9) Red filled cells indicate crucial cells that may have been missed."]
[null,null,null,null,null,"B","P","B","P","B","P","B","P","B","P","B","P","B","P","B","P"]
[null,null,null,null,null,{"$f":"IF($C$11=\"eQUEST\",\"Once all Parms.csv data has been pasted into the Results from eQUEST tab, \"&\"the tables below will be auto-populated with electric and natural gas data for the baseline case and all modeled ECMs.  \"&\"However, results for other fuel types and non-modeled ECMs must be entered manually.\",IF($C$11=\"Trace\",\"Once all Trace data has been pasted into the Results from Trace tab, \"&\"the tables below will be auto-populated with electric and fuel data for the baseline case and all modeled ECMs.  \"&\"However, results for non-modeled ECMs must be entered manually.  \",\"\"))","v":""},null,null,null,null,null,null,null,null,null,null,null,null,null,null,null,null,null,null,null,null,"Electricity",null,null,null,null,"Gas",null,null,null,"Steam",null,null,null,"Water",null,null,null,"Chilled Water",null,null,null,"Oil",null,null,null,"Propane",null,null,null,"Other"]
[null,null,null,"End Use",null,"Baseline Electricity (MMBtu)","Proposed Electricity (MMBtu)","Baseline Natural Gas (MMBtu)","Proposed Natural Gas (MMBtu)","Baseline Steam (MMBtu)","Proposed Steam (MMBtu)","Baseline Hot Water (MMBtu)","Proposed Hot Water (MMBtu)","Baseline Chilled Water (MMBtu)","Proposed Chilled Water (MMBtu)","Baseline Oil (MMBtu)","Proposed Oil (MMBtu)","Baseline Propane (MMBtu)","Proposed Propane (MMBtu)","Baseline Other Fuel (MMBtu)","Proposed Other Fuel (MMBtu)","Baseline System Peak kW","Proposed System Peak kW",null,"Site EUI-based BPFs by End Use","Regulated end use?",{"$f":"\"Modeled Baseline \"&AA9&\" (MMBtu)\"","v":"Modeled Baseline Electricity (MMBtu)"},{"$f":"\"Modeled \"&AA9&\" savings MMBtu\"","v":"Modeled Electricity savings MMBtu"},{"$f":"\"Adjusted 2019 or 2016  Baseline \"&AA9&\" (MMBtu)\"","v":"Adjusted 2019 or 2016  Baseline Electricity (MMBtu)"},null,{"$f":"\"Proposed \"&AA9&\" Savings/Penalty compared to 2019 or 2016 (MMBtu)\"","v":"Proposed Electricity Savings/Penalty compared to 2019 or 2016 (MMBtu)"},{"$f":"\"Modeled Baseline \"&AF9&\" (MMBtu)\"","v":"Modeled Baseline Gas (MMBtu)"},{"$f":"\"Modeled \"&AF9&\" savings MMBtu\"","v":"Modeled Gas savings MMBtu"},{"$f":"\"Adjusted 2019 or 2016  Baseline \"&AF9&\" (MMBtu)\"","v":"Adjusted 2019 or 2016  Baseline Gas (MMBtu)"},{"$f":"\"Proposed \"&AF9&\" Savings/Penalty compared to 2019 or 2016 (MMBtu)\"","v":"Proposed Gas Savings/Penalty compared to 2019 or 2016 (MMBtu)"},{"$f":"\"Modeled Baseline \"&AJ9&\" (MMBtu)\"","v":"Modeled Baseline Steam (MMBtu)"},{"$f":"\"Modeled \"&AJ9&\" savings MMBtu\"","v":"Modeled Steam savings MMBtu"},{"$f":"\"Adjusted 2019 or 2016  Baseline \"&AJ9&\" (MMBtu)\"","v":"Adjusted 2019 or 2016  Baseline Steam (MMBtu)"},{"$f":"\"Proposed \"&AJ9&\" Savings/Penalty compared to 2019 or 2016\"","v":"Proposed Steam Savings/Penalty compared to 2019 or 2016"},{"$f":"\"Modeled Baseline \"&AN9&\" (MMBtu)\"","v":"Modeled Baseline Water (MMBtu)"},{"$f":"\"Modeled \"&AN9&\" savings MMBtu\"","v":"Modeled Water savings MMBtu"},{"$f":"\"Adjusted 2019 or 2016  Baseline \"&AN9&\" (MMBtu)\"","v":"Adjusted 2019 or 2016  Baseline Water (MMBtu)"},{"$f":"\"Proposed \"&AN9&\" Savings/Penalty compared to 2019 or 2016\"","v":"Proposed Water Savings/Penalty compared to 2019 or 2016"},{"$f":"\"Modeled Baseline \"&AR9&\" (MMBtu)\"","v":"Modeled Baseline Chilled Water (MMBtu)"},{"$f":"\"Modeled \"&AR9&\" savings MMBtu\"","v":"Modeled Chilled Water savings MMBtu"},{"$f":"\"Adjusted 2019 or 2016 Baseline \"&AR9&\" (MMBtu)\"","v":"Adjusted 2019 or 2016 Baseline Chilled Water (MMBtu)"},{"$f":"\"Proposed \"&AR9&\" Savings/Penalty compared to 2019 or 2016\"","v":"Proposed Chilled Water Savings/Penalty compared to 2019 or 2016"},{"$f":"\"Modeled Baseline \"&AV9&\" (MMBtu)\"","v":"Modeled Baseline Oil (MMBtu)"},{"$f":"\"Modeled \"&AV9&\" savings MMBtu\"","v":"Modeled Oil savings MMBtu"},{"$f":"\"Adjusted 2019 or 2016 Baseline \"&AV9&\" (MMBtu)\"","v":"Adjusted 2019 or 2016 Baseline Oil (MMBtu)"},{"$f":"\"Proposed \"&AV9&\" Savings/Penalty compared to 2019 or 2016\"","v":"Proposed Oil Savings/Penalty compared to 2019 or 2016"},{"$f":"\"Modeled Baseline \"&AZ9&\" (MMBtu)\"","v":"Modeled Baseline Propane (MMBtu)"},{"$f":"\"Modeled \"&AZ9&\" savings MMBtu\"","v":"Modeled Propane savings MMBtu"},{"$f":"\"Adjusted 2019 or 2016  Baseline \"&AZ9&\" (MMBtu)\"","v":"Adjusted 2019 or 2016  Baseline Propane (MMBtu)"},{"$f":"\"Proposed \"&AZ9&\" Savings/Penalty compared to 2019 or 2016\"","v":"Proposed Propane Savings/Penalty compared to 2019 or 2016"},{"$f":"\"Modeled Baseline \"&BD9&\" (MMBtu)\"","v":"Modeled Baseline Other (MMBtu)"},{"$f":"\"Modeled \"&BD9&\" savings MMBtu\"","v":"Modeled Other savings MMBtu"},{"$f":"\"Adjusted 2019 or 2016  Baseline \"&BD9&\" (MMBtu)\"","v":"Adjusted 2019 or 2016  Baseline Other (MMBtu)"},{"$f":"\"Proposed \"&BD9&\" Savings/Penalty compared to 2019 or 2016\"","v":"Proposed Other Savings/Penalty compared to 2019 or 2016"},"PNNL End Use Name Match",null,"Overrides"]
[null,"Model Software:",{"$f":"IF('P4P - General Info'!C19=0,\"<Choose>\",'P4P - General Info'!C19)","v":"<Choose>"},"Energy Cost $/MMBtu",null,{"$f":"'P4P - General Info'!C65","v":0},{"$f":"'P4P - General Info'!D65","v":0},{"$f":"'P4P - General Info'!C66","v":0},{"$f":"'P4P - General Info'!D66","v":0},{"$f":"'P4P - General Info'!C67","v":0},{"$f":"'P4P - General Info'!D67","v":0},{"$f":"'P4P - General Info'!C68","v":0},{"$f":"'P4P - General Info'!D68","v":0},{"$f":"'P4P - General Info'!C69","v":0},{"$f":"'P4P - General Info'!D69","v":0},{"$f":"'P4P - General Info'!C70","v":0},{"$f":"'P4P - General Info'!D70","v":0},{"$f":"'P4P - General Info'!C71","v":0},{"$f":"'P4P - General Info'!D71","v":0},{"$f":"'P4P - General Info'!C72","v":0},{"$f":"'P4P - General Info'!D72","v":0}]
[null,null,null,"Space Heating (Regulated)",null,{"$f":"IF(P4P_Path=\"ASHRAE beQ\",IFERROR(IF($C$11=\"eQUEST\",'Results from eQuest'!$O$12*0.003413,IF($C$11=\"Trace\",SUMIFS('Results from Trace'!$H$6:$H$55,'Results from Trace'!$A$6:$A$55,\"Space Heating\",'Results from Trace'!$B$6:$B$55,\"Electricity\"),0)),0),IFERROR(IF($C$11=\"eQUEST\",'Results from eQuest'!$O$11*0.003413,IF($C$11=\"Trace\",SUMIFS('Results from Trace'!$G$6:$G$55,'Results from Trace'!$A$6:$A$55,\"Space Heating\",'Results from Trace'!$B$6:$B$55,\"Electricity\"),0)),0))","v":0},{"$f":"IF(P4P_Path=\"ASHRAE bEQ\",IFERROR(IF($C$11=\"eQUEST\",'Results from eQuest'!$O$11*0.003413,IF($C$11=\"Trace\",SUMIFS('Results from Trace'!$G$6:$G$55,'Results from Trace'!$A$6:$A$55,\"Space Heating\",'Results from Trace'!$B$6:$B$55,\"Electricity\"),0)),0),IFERROR(IF($C$11=\"eQUEST\",'Results from eQuest'!$O$12*0.003413,IF($C$11=\"Trace\",SUMIFS('Results from Trace'!$H$6:$H$55,'Results from Trace'!$A$6:$A$55,\"Space Heating\",'Results from Trace'!$B$6:$B$55,\"Electricity\"),0)),0))","v":0},{"$f":"IF(P4P_Path=\"ASHRAE bEQ\",IFERROR(IF($C$11=\"eQUEST\",'Results from eQuest'!$BA$12*0.1,IF($C$11=\"Trace\",SUMIFS('Results from Trace'!$H$6:$H$55,'Results from Trace'!$A$6:$A$55,\"Space Heating\",'Results from Trace'!$B$6:$B$55,\"Gas\"),0)),0),IFERROR(IF($C$11=\"eQUEST\",'Results from eQuest'!$BA$11*0.1,IF($C$11=\"Trace\",SUMIFS('Results from Trace'!$G$6:$G$55,'Results from Trace'!$A$6:$A$55,\"Space Heating\",'Results from Trace'!$B$6:$B$55,\"Gas\"),0)),0))","v":0},{"$f":"IF(P4P_Path=\"ASHRAE bEQ\",IFERROR(IF($C$11=\"eQUEST\",'Results from eQuest'!$BA$11*0.1,IF($C$11=\"Trace\",SUMIFS('Results from Trace'!$G$6:$G$55,'Results from Trace'!$A$6:$A$55,\"Space Heating\",'Results from Trace'!$B$6:$B$55,\"Gas\"),0)),0),IFERROR(IF($C$11=\"eQUEST\",'Results from eQuest'!$BA$12*0.1,IF($C$11=\"Trace\",SUMIFS('Results from Trace'!$H$6:$H$55,'Results from Trace'!$A$6:$A$55,\"Space Heating\",'Results from Trace'!$B$6:$B$55,\"Gas\"),0)),0))","v":0},{"$f":"IF(P4P_Path=\"ASHRAE beQ\",IFERROR(IF($C$11=\"eQUEST\",0,IF($C$11=\"Trace\",SUMIFS('Results from Trace'!$H$6:$H$55,'Results from Trace'!$A$6:$A$55,\"Space Heating\",'Results from Trace'!$B$6:$B$55,\"Purchased Steam\"),0)),0),IFERROR(IF($C$11=\"eQUEST\",0,IF($C$11=\"Trace\",SUMIFS('Results from Trace'!$G$6:$G$55,'Results from Trace'!$A$6:$A$55,\"Space Heating\",'Results from Trace'!$B$6:$B$55,\"Purchased Steam\"),0)),0))","v":0},{"$f":"IF(P4P_Path=\"ASHRAE bEQ\",IFERROR(IF($C$11=\"eQUEST\",0,IF($C$11=\"Trace\",SUMIFS('Results from Trace'!$G$6:$G$55,'Results from Trace'!$A$6:$A$55,\"Space Heating\",'Results from Trace'!$B$6:$B$55,\"Purchased Steam\"),0)),0),IFERROR(IF($C$11=\"eQUEST\",0,IF($C$11=\"Trace\",SUMIFS('Results from Trace'!$H$6:$H$55,'Results from Trace'!$A$6:$A$55,\"Space Heating\",'Results from Trace'!$B$6:$B$55,\"Purchased Steam\"),0)),0))","v":0},{"$f":"IF(P4P_Path=\"ASHRAE bEQ\",IFERROR(IF($C$11=\"eQUEST\",0,IF($C$11=\"Trace\",SUMIFS('Results from Trace'!$H$6:$H$55,'Results from Trace'!$A$6:$A$55,\"Space Heating\",'Results from Trace'!$B$6:$B$55,\"Purchased Hot Water\"),0)),0),IFERROR(IF($C$11=\"eQUEST\",0,IF($C$11=\"Trace\",SUMIFS('Results from Trace'!$G$6:$G$55,'Results from Trace'!$A$6:$A$55,\"Space Heating\",'Results from Trace'!$B$6:$B$55,\"Purchased Hot Water\"),0)),0))","v":0},{"$f":"IF(P4P_Path=\"ASHRAE bEQ\",IFERROR(IF($C$11=\"eQUEST\",0,IF($C$11=\"Trace\",SUMIFS('Results from Trace'!$G$6:$G$55,'Results from Trace'!$A$6:$A$55,\"Space Heating\",'Results from Trace'!$B$6:$B$55,\"Purchased Hot Water\"),0)),0),IFERROR(IF($C$11=\"eQUEST\",0,IF($C$11=\"Trace\",SUMIFS('Results from Trace'!$H$6:$H$55,'Results from Trace'!$A$6:$A$55,\"Space Heating\",'Results from Trace'!$B$6:$B$55,\"Purchased Hot Water\"),0)),0))","v":0},{"$f":"IF(P4P_Path=\"ASHRAE bEQ\",IFERROR(IF($C$11=\"eQUEST\",0,IF($C$11=\"Trace\",SUMIFS('Results from Trace'!$H$6:$H$55,'Results from Trace'!$A$6:$A$55,\"Space Heating\",'Results from Trace'!$B$6:$B$55,\"Purchased Chilled Water\"),0)),0),IFERROR(IF($C$11=\"eQUEST\",0,IF($C$11=\"Trace\",SUMIFS('Results from Trace'!$G$6:$G$55,'Results from Trace'!$A$6:$A$55,\"Space Heating\",'Results from Trace'!$B$6:$B$55,\"Purchased Chilled Water\"),0)),0))","v":0},{"$f":"IF(P4P_Path=\"ASHRAE bEQ\",IFERROR(IF($C$11=\"eQUEST\",0,IF($C$11=\"Trace\",SUMIFS('Results from Trace'!$G$6:$G$55,'Results from Trace'!$A$6:$A$55,\"Space Heating\",'Results from Trace'!$B$6:$B$55,\"Purchased Chilled Water\"),0)),0),IFERROR(IF($C$11=\"eQUEST\",0,IF($C$11=\"Trace\",SUMIFS('Results from Trace'!$H$6:$H$55,'Results from Trace'!$A$6:$A$55,\"Space Heating\",'Results from Trace'!$B$6:$B$55,\"Purchased Chilled Water\"),0)),0))","v":0},{"$f":"IF(P4P_Path=\"ASHRAE bEQ\",IFERROR(IF($C$11=\"eQUEST\",0,IF($C$11=\"Trace\",SUMIFS('Results from Trace'!$H$6:$H$55,'Results from Trace'!$A$6:$A$55,\"Space Heating\",'Results from Trace'!$B$6:$B$55,\"Oil\"),0)),0),IFERROR(IF($C$11=\"eQUEST\",0,IF($C$11=\"Trace\",SUMIFS('Results from Trace'!$G$6:$G$55,'Results from Trace'!$A$6:$A$55,\"Space Heating\",'Results from Trace'!$B$6:$B$55,\"Oil\"),0)),0))","v":0},{"$f":"IF(P4P_Path=\"ASHRAE bEQ\",IFERROR(IF($C$11=\"eQUEST\",0,IF($C$11=\"Trace\",SUMIFS('Results from Trace'!$G$6:$G$55,'Results from Trace'!$A$6:$A$55,\"Space Heating\",'Results from Trace'!$B$6:$B$55,\"Oil\"),0)),0),IFERROR(IF($C$11=\"eQUEST\",0,IF($C$11=\"Trace\",SUMIFS('Results from Trace'!$H$6:$H$55,'Results from Trace'!$A$6:$A$55,\"Space Heating\",'Results from Trace'!$B$6:$B$55,\"Oil\"),0)),0))","v":0},{"$f":"IF(P4P_Path=\"ASHRAE bEQ\",IFERROR(IF($C$11=\"eQUEST\",0,IF($C$11=\"Trace\",SUMIFS('Results from Trace'!$H$6:$H$55,'Results from Trace'!$A$6:$A$55,\"Space Heating\",'Results from Trace'!$B$6:$B$55,\"Propane\"),0)),0),IFERROR(IF($C$11=\"eQUEST\",0,IF($C$11=\"Trace\",SUMIFS('Results from Trace'!$G$6:$G$55,'Results from Trace'!$A$6:$A$55,\"Space Heating\",'Results from Trace'!$B$6:$B$55,\"Propane\"),0)),0))","v":0},{"$f":"IF(P4P_Path=\"ASHRAE bEQ\",IFERROR(IF($C$11=\"eQUEST\",0,IF($C$11=\"Trace\",SUMIFS('Results from Trace'!$G$6:$G$55,'Results from Trace'!$A$6:$A$55,\"Space Heating\",'Results from Trace'!$B$6:$B$55,\"Propane\"),0)),0),IFERROR(IF($C$11=\"eQUEST\",0,IF($C$11=\"Trace\",SUMIFS('Results from Trace'!$H$6:$H$55,'Results from Trace'!$A$6:$A$55,\"Space Heating\",'Results from Trace'!$B$6:$B$55,\"Propane\"),0)),0))","v":0},0,0,null,null,null,{"$f":"SUMIF('P4P - Support Data'!$E$60:$E$77,BH12,'P4P - Support Data'!$O$60:$O$77)","v":{"$error":"#DIV/0!"}},"Yes",{"$f":"F12","v":0},{"$f":"F12-G12","v":0},{"$f":"F12*Y12","v":{"$error":"#DIV/0!"}},null,{"$f":"AC12-G12","v":{"$error":"#DIV/0!"}},{"$f":"H12","v":0},{"$f":"H12-I12","v":0},{"$f":"H12*Y12","v":{"$error":"#DIV/0!"}},{"$f":"AH12-I12","v":{"$error":"#DIV/0!"}},{"$f":"J12","v":0},{"$f":"J12-K12","v":0},{"$f":"AJ12*$Y12","v":{"$error":"#DIV/0!"}},{"$f":"AL12-K12","v":{"$error":"#DIV/0!"}},{"$f":"L12","v":0},{"$f":"L12-M12","v":0},{"$f":"AN12*$Y12","v":{"$error":"#DIV/0!"}},{"$f":"AP12-M12","v":{"$error":"#DIV/0!"}},{"$f":"N12","v":0},{"$f":"N12-O12","v":0},{"$f":"AR12*$Y12","v":{"$error":"#DIV/0!"}},{"$f":"AT12-O12","v":{"$error":"#DIV/0!"}},{"$f":"P12","v":0},{"$f":"P12-Q12","v":0},{"$f":"AV12*$Y12","v":{"$error":"#DIV/0!"}},{"$f":"AX12-Q12","v":{"$error":"#DIV/0!"}},{"$f":"R12","v":0},{"$f":"R12-S12","v":0},{"$f":"AZ12*$Y12","v":{"$error":"#DIV/0!"}},{"$f":"BB12-S12","v":{"$error":"#DIV/0!"}},{"$f":"T12","v":0},{"$f":"T12-U12","v":0},{"$f":"BD12*$Y12","v":{"$error":"#DIV/0!"}},{"$f":"BF12-U12","v":{"$error":"#DIV/0!"}},{"$f":"'P4P - Support Data'!E60","v":"Space Heating (Regulated)"},null,{"$f":"IF(LEFT(formulaTextCustom(F12),3)=\"=IF\",0,1)","v":0},{"$f":"IF(LEFT(formulaTextCustom(G12),3)=\"=IF\",0,1)","v":0},{"$f":"IF(LEFT(formulaTextCustom(H12),3)=\"=IF\",0,1)","v":0},{"$f":"IF(LEFT(formulaTextCustom(I12),3)=\"=IF\",0,1)","v":0},{"$f":"IF(LEFT(formulaTextCustom(J12),3)=\"=IF\",0,1)","v":0},{"$f":"IF(LEFT(formulaTextCustom(K12),3)=\"=IF\",0,1)","v":0},{"$f":"IF(LEFT(formulaTextCustom(L12),3)=\"=IF\",0,1)","v":0},{"$f":"IF(LEFT(formulaTextCustom(M12),3)=\"=IF\",0,1)","v":0},{"$f":"IF(LEFT(formulaTextCustom(N12),3)=\"=IF\",0,1)","v":0},{"$f":"IF(LEFT(formulaTextCustom(O12),3)=\"=IF\",0,1)","v":0},{"$f":"IF(LEFT(formulaTextCustom(P12),3)=\"=IF\",0,1)","v":0},{"$f":"IF(LEFT(formulaTextCustom(Q12),3)=\"=IF\",0,1)","v":0},{"$f":"IF(LEFT(formulaTextCustom(R12),3)=\"=IF\",0,1)","v":0},{"$f":"IF(LEFT(formulaTextCustom(S12),3)=\"=IF\",0,1)","v":0},{"$f":"IF(LEFT(formulaTextCustom(T12),3)=\"0\",0,1)","v":0},{"$f":"IF(LEFT(formulaTextCustom(U12),3)=\"0\",0,1)","v":0}]
[null,null,null,"Cooling (Regulated)",null,{"$f":"IF(P4P_Path=\"ASHRAE beQ\",IFERROR(IF($C$11=\"eQUEST\",'Results from eQuest'!$P$12*0.003413,IF($C$11=\"Trace\",SUMIFS('Results from Trace'!$H$6:$H$55,'Results from Trace'!$A$6:$A$55,\"Space Cooling\",'Results from Trace'!$B$6:$B$55,\"Electricity\"),0)),0),IFERROR(IF($C$11=\"eQUEST\",'Results from eQuest'!$P$11*0.003413,IF($C$11=\"Trace\",SUMIFS('Results from Trace'!$G$6:$G$55,'Results from Trace'!$A$6:$A$55,\"Space Cooling\",'Results from Trace'!$B$6:$B$55,\"Electricity\"),0)),0))","v":0},{"$f":"IF(P4P_Path=\"ASHRAE bEQ\",IFERROR(IF($C$11=\"eQUEST\",'Results from eQuest'!$P$11*0.003413,IF($C$11=\"Trace\",SUMIFS('Results from Trace'!$G$6:$G$55,'Results from Trace'!$A$6:$A$55,\"Space Cooling\",'Results from Trace'!$B$6:$B$55,\"Electricity\"),0)),0),IFERROR(IF($C$11=\"eQUEST\",'Results from eQuest'!$P$12*0.003413,IF($C$11=\"Trace\",SUMIFS('Results from Trace'!$H$6:$H$55,'Results from Trace'!$A$6:$A$55,\"Space Cooling\",'Results from Trace'!$B$6:$B$55,\"Electricity\"),0)),0))","v":0},{"$f":"IF(P4P_Path=\"ASHRAE bEQ\",IFERROR(IF($C$11=\"eQUEST\",'Results from eQuest'!$BB$12*0.1,IF($C$11=\"Trace\",SUMIFS('Results from Trace'!$H$6:$H$55,'Results from Trace'!$A$6:$A$55,\"Space Cooling\",'Results from Trace'!$B$6:$B$55,\"Gas\"),0)),0),IFERROR(IF($C$11=\"eQUEST\",'Results from eQuest'!$BB$11*0.1,IF($C$11=\"Trace\",SUMIFS('Results from Trace'!$G$6:$G$55,'Results from Trace'!$A$6:$A$55,\"Space Cooling\",'Results from Trace'!$B$6:$B$55,\"Gas\"),0)),0))","v":0},{"$f":"IF(P4P_Path=\"ASHRAE bEQ\",IFERROR(IF($C$11=\"eQUEST\",'Results from eQuest'!$BB$11*0.1,IF($C$11=\"Trace\",SUMIFS('Results from Trace'!$G$6:$G$55,'Results from Trace'!$A$6:$A$55,\"Space Cooling\",'Results from Trace'!$B$6:$B$55,\"Gas\"),0)),0),IFERROR(IF($C$11=\"eQUEST\",'Results from eQuest'!$BB$12*0.1,IF($C$11=\"Trace\",SUMIFS('Results from Trace'!$H$6:$H$55,'Results from Trace'!$A$6:$A$55,\"Space Cooling\",'Results from Trace'!$B$6:$B$55,\"Gas\"),0)),0))","v":0},{"$f":"IF(P4P_Path=\"ASHRAE bEQ\",IFERROR(IF($C$11=\"eQUEST\",0,IF($C$11=\"Trace\",SUMIFS('Results from Trace'!$H$6:$H$55,'Results from Trace'!$A$6:$A$55,\"Space Cooling\",'Results from Trace'!$B$6:$B$55,\"Purchased Steam\"),0)),0),IFERROR(IF($C$11=\"eQUEST\",0,IF($C$11=\"Trace\",SUMIFS('Results from Trace'!$G$6:$G$55,'Results from Trace'!$A$6:$A$55,\"Space Cooling\",'Results from Trace'!$B$6:$B$55,\"Purchased Steam\"),0)),0))","v":0},{"$f":"IF(P4P_Path=\"ASHRAE bEQ\",IFERROR(IF($C$11=\"eQUEST\",0,IF($C$11=\"Trace\",SUMIFS('Results from Trace'!$G$6:$G$55,'Results from Trace'!$A$6:$A$55,\"Space Cooling\",'Results from Trace'!$B$6:$B$55,\"Purchased Steam\"),0)),0),IFERROR(IF($C$11=\"eQUEST\",0,IF($C$11=\"Trace\",SUMIFS('Results from Trace'!$H$6:$H$55,'Results from Trace'!$A$6:$A$55,\"Space Cooling\",'Results from Trace'!$B$6:$B$55,\"Purchased Steam\"),0)),0))","v":0},{"$f":"IF(P4P_Path=\"ASHRAE bEQ\",IFERROR(IF($C$11=\"eQUEST\",0,IF($C$11=\"Trace\",SUMIFS('Results from Trace'!$H$6:$H$55,'Results from Trace'!$A$6:$A$55,\"Space Cooling\",'Results from Trace'!$B$6:$B$55,\"Purchased Hot Water\"),0)),0),IFERROR(IF($C$11=\"eQUEST\",0,IF($C$11=\"Trace\",SUMIFS('Results from Trace'!$G$6:$G$55,'Results from Trace'!$A$6:$A$55,\"Space Cooling\",'Results from Trace'!$B$6:$B$55,\"Purchased Hot Water\"),0)),0))","v":0},{"$f":"IF(P4P_Path=\"ASHRAE bEQ\",IFERROR(IF($C$11=\"eQUEST\",0,IF($C$11=\"Trace\",SUMIFS('Results from Trace'!$G$6:$G$55,'Results from Trace'!$A$6:$A$55,\"Space Cooling\",'Results from Trace'!$B$6:$B$55,\"Purchased Hot Water\"),0)),0),IFERROR(IF($C$11=\"eQUEST\",0,IF($C$11=\"Trace\",SUMIFS('Results from Trace'!$H$6:$H$55,'Results from Trace'!$A$6:$A$55,\"Space Cooling\",'Results from Trace'!$B$6:$B$55,\"Purchased Hot Water\"),0)),0))","v":0},{"$f":"IF(P4P_Path=\"ASHRAE bEQ\",IFERROR(IF($C$11=\"eQUEST\",0,IF($C$11=\"Trace\",SUMIFS('Results from Trace'!$H$6:$H$55,'Results from Trace'!$A$6:$A$55,\"Space Cooling\",'Results from Trace'!$B$6:$B$55,\"Purchased Chilled Water\"),0)),0),IFERROR(IF($C$11=\"eQUEST\",0,IF($C$11=\"Trace\",SUMIFS('Results from Trace'!$G$6:$G$55,'Results from Trace'!$A$6:$A$55,\"Space Cooling\",'Results from Trace'!$B$6:$B$55,\"Purchased Chilled Water\"),0)),0))","v":0},{"$f":"IF(P4P_Path=\"ASHRAE bEQ\",IFERROR(IF($C$11=\"eQUEST\",0,IF($C$11=\"Trace\",SUMIFS('Results from Trace'!$G$6:$G$55,'Results from Trace'!$A$6:$A$55,\"Space Cooling\",'Results from Trace'!$B$6:$B$55,\"Purchased Chilled Water\"),0)),0),IFERROR(IF($C$11=\"eQUEST\",0,IF($C$11=\"Trace\",SUMIFS('Results from Trace'!$H$6:$H$55,'Results from Trace'!$A$6:$A$55,\"Space Cooling\",'Results from Trace'!$B$6:$B$55,\"Purchased Chilled Water\"),0)),0))","v":0},{"$f":"IF(P4P_Path=\"ASHRAE bEQ\",IFERROR(IF($C$11=\"eQUEST\",0,IF($C$11=\"Trace\",SUMIFS('Results from Trace'!$H$6:$H$55,'Results from Trace'!$A$6:$A$55,\"Space Cooling\",'Results from Trace'!$B$6:$B$55,\"Oil\"),0)),0),IFERROR(IF($C$11=\"eQUEST\",0,IF($C$11=\"Trace\",SUMIFS('Results from Trace'!$G$6:$G$55,'Results from Trace'!$A$6:$A$55,\"Space Cooling\",'Results from Trace'!$B$6:$B$55,\"Oil\"),0)),0))","v":0},{"$f":"IF(P4P_Path=\"ASHRAE bEQ\",IFERROR(IF($C$11=\"eQUEST\",0,IF($C$11=\"Trace\",SUMIFS('Results from Trace'!$G$6:$G$55,'Results from Trace'!$A$6:$A$55,\"Space Cooling\",'Results from Trace'!$B$6:$B$55,\"Oil\"),0)),0),IFERROR(IF($C$11=\"eQUEST\",0,IF($C$11=\"Trace\",SUMIFS('Results from Trace'!$H$6:$H$55,'Results from Trace'!$A$6:$A$55,\"Space Cooling\",'Results from Trace'!$B$6:$B$55,\"Oil\"),0)),0))","v":0},{"$f":"IF(P4P_Path=\"ASHRAE bEQ\",IFERROR(IF($C$11=\"eQUEST\",0,IF($C$11=\"Trace\",SUMIFS('Results from Trace'!$H$6:$H$55,'Results from Trace'!$A$6:$A$55,\"Space Cooling\",'Results from Trace'!$B$6:$B$55,\"Propane\"),0)),0),IFERROR(IF($C$11=\"eQUEST\",0,IF($C$11=\"Trace\",SUMIFS('Results from Trace'!$G$6:$G$55,'Results from Trace'!$A$6:$A$55,\"Space Cooling\",'Results from Trace'!$B$6:$B$55,\"Propane\"),0)),0))","v":0},{"$f":"IF(P4P_Path=\"ASHRAE bEQ\",IFERROR(IF($C$11=\"eQUEST\",0,IF($C$11=\"Trace\",SUMIFS('Results from Trace'!$G$6:$G$55,'Results from Trace'!$A$6:$A$55,\"Space Cooling\",'Results from Trace'!$B$6:$B$55,\"Propane\"),0)),0),IFERROR(IF($C$11=\"eQUEST\",0,IF($C$11=\"Trace\",SUMIFS('Results from Trace'!$H$6:$H$55,'Results from Trace'!$A$6:$A$55,\"Space Cooling\",'Results from Trace'!$B$6:$B$55,\"Propane\"),0)),0))","v":0},0,0,null,null,null,{"$f":"SUMIF('P4P - Support Data'!$E$60:$E$77,BH13,'P4P - Support Data'!$O$60:$O$77)","v":{"$error":"#DIV/0!"}},"Yes",0,0,{"$error":"#DIV/0!"},null,{"$error":"#DIV/0!"},0,0,{"$error":"#DIV/0!"},{"$error":"#DIV/0!"},0,0,{"$error":"#DIV/0!"},{"$error":"#DIV/0!"},0,0,{"$error":"#DIV/0!"},{"$error":"#DIV/0!"},0,0,{"$error":"#DIV/0!"},{"$error":"#DIV/0!"},0,0,{"$error":"#DIV/0!"},{"$error":"#DIV/0!"},0,0,{"$error":"#DIV/0!"},{"$error":"#DIV/0!"},0,0,{"$error":"#DIV/0!"},{"$error":"#DIV/0!"},{"$f":"'P4P - Support Data'!E61","v":"Cooling (Regulated)"},null,{"$f":"IF(LEFT(formulaTextCustom(F13),3)=\"=IF\",0,1)","v":0},{"$f":"IF(LEFT(formulaTextCustom(G13),3)=\"=IF\",0,1)","v":0},{"$f":"IF(LEFT(formulaTextCustom(H13),3)=\"=IF\",0,1)","v":0},{"$f":"IF(LEFT(formulaTextCustom(I13),3)=\"=IF\",0,1)","v":0},{"$f":"IF(LEFT(formulaTextCustom(J13),3)=\"=IF\",0,1)","v":0},{"$f":"IF(LEFT(formulaTextCustom(K13),3)=\"=IF\",0,1)","v":0},{"$f":"IF(LEFT(formulaTextCustom(L13),3)=\"=IF\",0,1)","v":0},{"$f":"IF(LEFT(formulaTextCustom(M13),3)=\"=IF\",0,1)","v":0},{"$f":"IF(LEFT(formulaTextCustom(N13),3)=\"=IF\",0,1)","v":0},{"$f":"IF(LEFT(formulaTextCustom(O13),3)=\"=IF\",0,1)","v":0},{"$f":"IF(LEFT(formulaTextCustom(P13),3)=\"=IF\",0,1)","v":0},{"$f":"IF(LEFT(formulaTextCustom(Q13),3)=\"=IF\",0,1)","v":0},{"$f":"IF(LEFT(formulaTextCustom(R13),3)=\"=IF\",0,1)","v":0},{"$f":"IF(LEFT(formulaTextCustom(S13),3)=\"=IF\",0,1)","v":0},{"$f":"IF(LEFT(formulaTextCustom(T13),3)=\"0\",0,1)","v":0},{"$f":"IF(LEFT(formulaTextCustom(U13),3)=\"0\",0,1)","v":0}]
[null,null,null,"Ventilation (Regulated)",null,{"$f":"IF(P4P_Path=\"ASHRAE beQ\",IFERROR(IF($C$11=\"eQUEST\",'Results from eQuest'!$S$12*0.003413,IF($C$11=\"Trace\",SUMIFS('Results from Trace'!$H$6:$H$55,'Results from Trace'!$A$6:$A$55,\"Fans - Conditioned\",'Results from Trace'!$B$6:$B$55,\"Electricity\"),0)),0),IFERROR(IF($C$11=\"eQUEST\",'Results from eQuest'!$S$11*0.003413,IF($C$11=\"Trace\",SUMIFS('Results from Trace'!$G$6:$G$55,'Results from Trace'!$A$6:$A$55,\"Fans - Conditioned\",'Results from Trace'!$B$6:$B$55,\"Electricity\"),0)),0))","v":0},{"$f":"IF(P4P_Path=\"ASHRAE bEQ\",IFERROR(IF($C$11=\"eQUEST\",'Results from eQuest'!$S$11*0.003413,IF($C$11=\"Trace\",SUMIFS('Results from Trace'!$G$6:$G$55,'Results from Trace'!$A$6:$A$55,\"Fans - Conditioned\",'Results from Trace'!$B$6:$B$55,\"Electricity\"),0)),0),IFERROR(IF($C$11=\"eQUEST\",'Results from eQuest'!$S$12*0.003413,IF($C$11=\"Trace\",SUMIFS('Results from Trace'!$H$6:$H$55,'Results from Trace'!$A$6:$A$55,\"Fans - Conditioned\",'Results from Trace'!$B$6:$B$55,\"Electricity\"),0)),0))","v":0},{"$f":"IF(P4P_Path=\"ASHRAE bEQ\",IFERROR(IF($C$11=\"eQUEST\",'Results from eQuest'!$BE$12*0.1,IF($C$11=\"Trace\",SUMIFS('Results from Trace'!$H$6:$H$55,'Results from Trace'!$A$6:$A$55,\"Fans - Conditioned\",'Results from Trace'!$B$6:$B$55,\"Gas\"),0)),0),IFERROR(IF($C$11=\"eQUEST\",'Results from eQuest'!$BE$11*0.1,IF($C$11=\"Trace\",SUMIFS('Results from Trace'!$G$6:$G$55,'Results from Trace'!$A$6:$A$55,\"Fans - Conditioned\",'Results from Trace'!$B$6:$B$55,\"Gas\"),0)),0))","v":0},{"$f":"IF(P4P_Path=\"ASHRAE bEQ\",IFERROR(IF($C$11=\"eQUEST\",'Results from eQuest'!$BE$11*0.1,IF($C$11=\"Trace\",SUMIFS('Results from Trace'!$G$6:$G$55,'Results from Trace'!$A$6:$A$55,\"Fans - Conditioned\",'Results from Trace'!$B$6:$B$55,\"Gas\"),0)),0),IFERROR(IF($C$11=\"eQUEST\",'Results from eQuest'!$BE$12*0.1,IF($C$11=\"Trace\",SUMIFS('Results from Trace'!$H$6:$H$55,'Results from Trace'!$A$6:$A$55,\"Fans - Conditioned\",'Results from Trace'!$B$6:$B$55,\"Gas\"),0)),0))","v":0},{"$f":"IF(P4P_Path=\"ASHRAE bEQ\",IFERROR(IF($C$11=\"eQUEST\",0,IF($C$11=\"Trace\",SUMIFS('Results from Trace'!$H$6:$H$55,'Results from Trace'!$A$6:$A$55,\"Fans - Conditioned\",'Results from Trace'!$B$6:$B$55,\"Purchased Steam\"),0)),0),IFERROR(IF($C$11=\"eQUEST\",0,IF($C$11=\"Trace\",SUMIFS('Results from Trace'!$G$6:$G$55,'Results from Trace'!$A$6:$A$55,\"Fans - Conditioned\",'Results from Trace'!$B$6:$B$55,\"Purchased Steam\"),0)),0))","v":0},{"$f":"IF(P4P_Path=\"ASHRAE bEQ\",IFERROR(IF($C$11=\"eQUEST\",0,IF($C$11=\"Trace\",SUMIFS('Results from Trace'!$G$6:$G$55,'Results from Trace'!$A$6:$A$55,\"Fans - Conditioned\",'Results from Trace'!$B$6:$B$55,\"Purchased Steam\"),0)),0),IFERROR(IF($C$11=\"eQUEST\",0,IF($C$11=\"Trace\",SUMIFS('Results from Trace'!$H$6:$H$55,'Results from Trace'!$A$6:$A$55,\"Fans - Conditioned\",'Results from Trace'!$B$6:$B$55,\"Purchased Steam\"),0)),0))","v":0},{"$f":"IF(P4P_Path=\"ASHRAE bEQ\",IFERROR(IF($C$11=\"eQUEST\",0,IF($C$11=\"Trace\",SUMIFS('Results from Trace'!$H$6:$H$55,'Results from Trace'!$A$6:$A$55,\"Fans - Conditioned\",'Results from Trace'!$B$6:$B$55,\"Purchased Hot Water\"),0)),0),IFERROR(IF($C$11=\"eQUEST\",0,IF($C$11=\"Trace\",SUMIFS('Results from Trace'!$G$6:$G$55,'Results from Trace'!$A$6:$A$55,\"Fans - Conditioned\",'Results from Trace'!$B$6:$B$55,\"Purchased Hot Water\"),0)),0))","v":0},{"$f":"IF(P4P_Path=\"ASHRAE bEQ\",IFERROR(IF($C$11=\"eQUEST\",0,IF($C$11=\"Trace\",SUMIFS('Results from Trace'!$G$6:$G$55,'Results from Trace'!$A$6:$A$55,\"Fans - Conditioned\",'Results from Trace'!$B$6:$B$55,\"Purchased Hot Water\"),0)),0),IFERROR(IF($C$11=\"eQUEST\",0,IF($C$11=\"Trace\",SUMIFS('Results from Trace'!$H$6:$H$55,'Results from Trace'!$A$6:$A$55,\"Fans - Conditioned\",'Results from Trace'!$B$6:$B$55,\"Purchased Hot Water\"),0)),0))","v":0},{"$f":"IF(P4P_Path=\"ASHRAE bEQ\",IFERROR(IF($C$11=\"eQUEST\",0,IF($C$11=\"Trace\",SUMIFS('Results from Trace'!$H$6:$H$55,'Results from Trace'!$A$6:$A$55,\"Fans - Conditioned\",'Results from Trace'!$B$6:$B$55,\"Purchased Chilled Water\"),0)),0),IFERROR(IF($C$11=\"eQUEST\",0,IF($C$11=\"Trace\",SUMIFS('Results from Trace'!$G$6:$G$55,'Results from Trace'!$A$6:$A$55,\"Fans - Conditioned\",'Results from Trace'!$B$6:$B$55,\"Purchased Chilled Water\"),0)),0))","v":0},{"$f":"IF(P4P_Path=\"ASHRAE bEQ\",IFERROR(IF($C$11=\"eQUEST\",0,IF($C$11=\"Trace\",SUMIFS('Results from Trace'!$G$6:$G$55,'Results from Trace'!$A$6:$A$55,\"Fans - Conditioned\",'Results from Trace'!$B$6:$B$55,\"Purchased Chilled Water\"),0)),0),IFERROR(IF($C$11=\"eQUEST\",0,IF($C$11=\"Trace\",SUMIFS('Results from Trace'!$H$6:$H$55,'Results from Trace'!$A$6:$A$55,\"Fans - Conditioned\",'Results from Trace'!$B$6:$B$55,\"Purchased Chilled Water\"),0)),0))","v":0},{"$f":"IF(P4P_Path=\"ASHRAE bEQ\",IFERROR(IF($C$11=\"eQUEST\",0,IF($C$11=\"Trace\",SUMIFS('Results from Trace'!$H$6:$H$55,'Results from Trace'!$A$6:$A$55,\"Fans - Conditioned\",'Results from Trace'!$B$6:$B$55,\"Oil\"),0)),0),IFERROR(IF($C$11=\"eQUEST\",0,IF($C$11=\"Trace\",SUMIFS('Results from Trace'!$G$6:$G$55,'Results from Trace'!$A$6:$A$55,\"Fans - Conditioned\",'Results from Trace'!$B$6:$B$55,\"Oil\"),0)),0))","v":0},{"$f":"IF(P4P_Path=\"ASHRAE bEQ\",IFERROR(IF($C$11=\"eQUEST\",0,IF($C$11=\"Trace\",SUMIFS('Results from Trace'!$G$6:$G$55,'Results from Trace'!$A$6:$A$55,\"Fans - Conditioned\",'Results from Trace'!$B$6:$B$55,\"Oil\"),0)),0),IFERROR(IF($C$11=\"eQUEST\",0,IF($C$11=\"Trace\",SUMIFS('Results from Trace'!$H$6:$H$55,'Results from Trace'!$A$6:$A$55,\"Fans - Conditioned\",'Results from Trace'!$B$6:$B$55,\"Oil\"),0)),0))","v":0},{"$f":"IF(P4P_Path=\"ASHRAE bEQ\",IFERROR(IF($C$11=\"eQUEST\",0,IF($C$11=\"Trace\",SUMIFS('Results from Trace'!$H$6:$H$55,'Results from Trace'!$A$6:$A$55,\"Fans - Conditioned\",'Results from Trace'!$B$6:$B$55,\"Propane\"),0)),0),IFERROR(IF($C$11=\"eQUEST\",0,IF($C$11=\"Trace\",SUMIFS('Results from Trace'!$G$6:$G$55,'Results from Trace'!$A$6:$A$55,\"Fans - Conditioned\",'Results from Trace'!$B$6:$B$55,\"Propane\"),0)),0))","v":0},{"$f":"IF(P4P_Path=\"ASHRAE bEQ\",IFERROR(IF($C$11=\"eQUEST\",0,IF($C$11=\"Trace\",SUMIFS('Results from Trace'!$G$6:$G$55,'Results from Trace'!$A$6:$A$55,\"Fans - Conditioned\",'Results from Trace'!$B$6:$B$55,\"Propane\"),0)),0),IFERROR(IF($C$11=\"eQUEST\",0,IF($C$11=\"Trace\",SUMIFS('Results from Trace'!$H$6:$H$55,'Results from Trace'!$A$6:$A$55,\"Fans - Conditioned\",'Results from Trace'!$B$6:$B$55,\"Propane\"),0)),0))","v":0},0,0,null,null,null,{"$f":"SUMIF('P4P - Support Data'!$E$60:$E$77,BH14,'P4P - Support Data'!$O$60:$O$77)","v":{"$error":"#DIV/0!"}},"Yes",0,0,{"$error":"#DIV/0!"},null,{"$error":"#DIV/0!"},0,0,{"$error":"#DIV/0!"},{"$error":"#DIV/0!"},0,0,{"$error":"#DIV/0!"},{"$error":"#DIV/0!"},0,0,{"$error":"#DIV/0!"},{"$error":"#DIV/0!"},0,0,{"$error":"#DIV/0!"},{"$error":"#DIV/0!"},0,0,{"$error":"#DIV/0!"},{"$error":"#DIV/0!"},0,0,{"$error":"#DIV/0!"},{"$error":"#DIV/0!"},0,0,{"$error":"#DIV/0!"},{"$error":"#DIV/0!"},{"$f":"'P4P - Support Data'!E62","v":"Ventilation (Regulated)"},null,{"$f":"IF(LEFT(formulaTextCustom(F14),3)=\"=IF\",0,1)","v":0},{"$f":"IF(LEFT(formulaTextCustom(G14),3)=\"=IF\",0,1)","v":0},{"$f":"IF(LEFT(formulaTextCustom(H14),3)=\"=IF\",0,1)","v":0},{"$f":"IF(LEFT(formulaTextCustom(I14),3)=\"=IF\",0,1)","v":0},{"$f":"IF(LEFT(formulaTextCustom(J14),3)=\"=IF\",0,1)","v":0},{"$f":"IF(LEFT(formulaTextCustom(K14),3)=\"=IF\",0,1)","v":0},{"$f":"IF(LEFT(formulaTextCustom(L14),3)=\"=IF\",0,1)","v":0},{"$f":"IF(LEFT(formulaTextCustom(M14),3)=\"=IF\",0,1)","v":0},{"$f":"IF(LEFT(formulaTextCustom(N14),3)=\"=IF\",0,1)","v":0},{"$f":"IF(LEFT(formulaTextCustom(O14),3)=\"=IF\",0,1)","v":0},{"$f":"IF(LEFT(formulaTextCustom(P14),3)=\"=IF\",0,1)","v":0},{"$f":"IF(LEFT(formulaTextCustom(Q14),3)=\"=IF\",0,1)","v":0},{"$f":"IF(LEFT(formulaTextCustom(R14),3)=\"=IF\",0,1)","v":0},{"$f":"IF(LEFT(formulaTextCustom(S14),3)=\"=IF\",0,1)","v":0},{"$f":"IF(LEFT(formulaTextCustom(T14),3)=\"0\",0,1)","v":0},{"$f":"IF(LEFT(formulaTextCustom(U14),3)=\"0\",0,1)","v":0}]
[null,null,null,"Water Heating (Regulated)",null,{"$f":"IF(P4P_Path=\"ASHRAE beQ\",IFERROR(IF($C$11=\"eQUEST\",'Results from eQuest'!$V$12*0.003413,IF($C$11=\"Trace\",0,0)),0),IFERROR(IF($C$11=\"eQUEST\",'Results from eQuest'!$V$11*0.003413,IF($C$11=\"Trace\",0,0)),0))","v":0},{"$f":"IF(P4P_Path=\"ASHRAE bEQ\",IFERROR(IF($C$11=\"eQUEST\",'Results from eQuest'!$V$11*0.003413,IF($C$11=\"Trace\",0,0)),0),IFERROR(IF($C$11=\"eQUEST\",'Results from eQuest'!$V$12*0.003413,IF($C$11=\"Trace\",0,0)),0))","v":0},{"$f":"IFERROR(IF(P4P_Path=\"ASHRAE bEQ\",IF($C$11=\"eQUEST\",'Results from eQuest'!$BH$12*0.1,IF($C$11=\"Trace\",SUMIFS('Results from Trace'!$H$6:$H$55,'Results from Trace'!$A$6:$A$55,\"Stand-alone Base Utilities\",'Results from Trace'!$B$6:$B$55,\"Gas\"),0)),IF($C$11=\"eQUEST\",'Results from eQuest'!$BH$11*0.1,IF($C$11=\"Trace\",SUMIFS('Results from Trace'!$G$6:$G$55,'Results from Trace'!$A$6:$A$55,\"Stand-alone Base Utilities\",'Results from Trace'!$B$6:$B$55,\"Gas\"),0))),0)","v":0},{"$f":"IF(P4P_Path=\"ASHRAE bEQ\",IFERROR(IF($C$11=\"eQUEST\",'Results from eQuest'!$BH$11*0.1,IF($C$11=\"Trace\",SUMIFS('Results from Trace'!$G$6:$G$55,'Results from Trace'!$A$6:$A$55,\"Stand-alone Base Utilities\",'Results from Trace'!$B$6:$B$55,\"Gas\"),0)),0),IFERROR(IF($C$11=\"eQUEST\",'Results from eQuest'!$BH$12*0.1,IF($C$11=\"Trace\",SUMIFS('Results from Trace'!$H$6:$H$55,'Results from Trace'!$A$6:$A$55,\"Stand-alone Base Utilities\",'Results from Trace'!$B$6:$B$55,\"Gas\"),0)),0))","v":0},{"$f":"IF(P4P_Path=\"ASHRAE bEQ\",IFERROR(IF($C$11=\"eQUEST\",0,IF($C$11=\"Trace\",SUMIFS('Results from Trace'!$H$6:$H$55,'Results from Trace'!$A$6:$A$55,\"Stand-alone Base Utilities\",'Results from Trace'!$B$6:$B$55,\"Purchased Steam\"),0)),0),IFERROR(IF($C$11=\"eQUEST\",0,IF($C$11=\"Trace\",SUMIFS('Results from Trace'!$G$6:$G$55,'Results from Trace'!$A$6:$A$55,\"Stand-alone Base Utilities\",'Results from Trace'!$B$6:$B$55,\"Purchased Steam\"),0)),0))","v":0},{"$f":"IF(P4P_Path=\"ASHRAE bEQ\",IFERROR(IF($C$11=\"eQUEST\",0,IF($C$11=\"Trace\",SUMIFS('Results from Trace'!$G$6:$G$55,'Results from Trace'!$A$6:$A$55,\"Stand-alone Base Utilities\",'Results from Trace'!$B$6:$B$55,\"Purchased Steam\"),0)),0),IFERROR(IF($C$11=\"eQUEST\",0,IF($C$11=\"Trace\",SUMIFS('Results from Trace'!$H$6:$H$55,'Results from Trace'!$A$6:$A$55,\"Stand-alone Base Utilities\",'Results from Trace'!$B$6:$B$55,\"Purchased Steam\"),0)),0))","v":0},{"$f":"IF(P4P_Path=\"ASHRAE bEQ\",IFERROR(IF($C$11=\"eQUEST\",0,IF($C$11=\"Trace\",SUMIFS('Results from Trace'!$H$6:$H$55,'Results from Trace'!$A$6:$A$55,\"Stand-alone Base Utilities\",'Results from Trace'!$B$6:$B$55,\"Purchased Hot Water\"),0)),0),IFERROR(IF($C$11=\"eQUEST\",0,IF($C$11=\"Trace\",SUMIFS('Results from Trace'!$G$6:$G$55,'Results from Trace'!$A$6:$A$55,\"Stand-alone Base Utilities\",'Results from Trace'!$B$6:$B$55,\"Purchased Hot Water\"),0)),0))","v":0},{"$f":"IF(P4P_Path=\"ASHRAE bEQ\",IFERROR(IF($C$11=\"eQUEST\",0,IF($C$11=\"Trace\",SUMIFS('Results from Trace'!$G$6:$G$55,'Results from Trace'!$A$6:$A$55,\"Stand-alone Base Utilities\",'Results from Trace'!$B$6:$B$55,\"Purchased Hot Water\"),0)),0),IFERROR(IF($C$11=\"eQUEST\",0,IF($C$11=\"Trace\",SUMIFS('Results from Trace'!$H$6:$H$55,'Results from Trace'!$A$6:$A$55,\"Stand-alone Base Utilities\",'Results from Trace'!$B$6:$B$55,\"Purchased Hot Water\"),0)),0))","v":0},{"$f":"IF(P4P_Path=\"ASHRAE bEQ\",IFERROR(IF($C$11=\"eQUEST\",0,IF($C$11=\"Trace\",SUMIFS('Results from Trace'!$H$6:$H$55,'Results from Trace'!$A$6:$A$55,\"Stand-alone Base Utilities\",'Results from Trace'!$B$6:$B$55,\"Purchased Chilled Water\"),0)),0),IFERROR(IF($C$11=\"eQUEST\",0,IF($C$11=\"Trace\",SUMIFS('Results from Trace'!$G$6:$G$55,'Results from Trace'!$A$6:$A$55,\"Stand-alone Base Utilities\",'Results from Trace'!$B$6:$B$55,\"Purchased Chilled Water\"),0)),0))","v":0},{"$f":"IF(P4P_Path=\"ASHRAE bEQ\",IFERROR(IF($C$11=\"eQUEST\",0,IF($C$11=\"Trace\",SUMIFS('Results from Trace'!$G$6:$G$55,'Results from Trace'!$A$6:$A$55,\"Stand-alone Base Utilities\",'Results from Trace'!$B$6:$B$55,\"Purchased Chilled Water\"),0)),0),IFERROR(IF($C$11=\"eQUEST\",0,IF($C$11=\"Trace\",SUMIFS('Results from Trace'!$H$6:$H$55,'Results from Trace'!$A$6:$A$55,\"Stand-alone Base Utilities\",'Results from Trace'!$B$6:$B$55,\"Purchased Chilled Water\"),0)),0))","v":0},{"$f":"IF(P4P_Path=\"ASHRAE bEQ\",IFERROR(IF($C$11=\"eQUEST\",0,IF($C$11=\"Trace\",SUMIFS('Results from Trace'!$H$6:$H$55,'Results from Trace'!$A$6:$A$55,\"Stand-alone Base Utilities\",'Results from Trace'!$B$6:$B$55,\"Oil\"),0)),0),IFERROR(IF($C$11=\"eQUEST\",0,IF($C$11=\"Trace\",SUMIFS('Results from Trace'!$G$6:$G$55,'Results from Trace'!$A$6:$A$55,\"Stand-alone Base Utilities\",'Results from Trace'!$B$6:$B$55,\"Oil\"),0)),0))","v":0},{"$f":"IF(P4P_Path=\"ASHRAE bEQ\",IFERROR(IF($C$11=\"eQUEST\",0,IF($C$11=\"Trace\",SUMIFS('Results from Trace'!$G$6:$G$55,'Results from Trace'!$A$6:$A$55,\"Stand-alone Base Utilities\",'Results from Trace'!$B$6:$B$55,\"Oil\"),0)),0),IFERROR(IF($C$11=\"eQUEST\",0,IF($C$11=\"Trace\",SUMIFS('Results from Trace'!$H$6:$H$55,'Results from Trace'!$A$6:$A$55,\"Stand-alone Base Utilities\",'Results from Trace'!$B$6:$B$55,\"Oil\"),0)),0))","v":0},{"$f":"IF(P4P_Path=\"ASHRAE bEQ\",IFERROR(IF($C$11=\"eQUEST\",0,IF($C$11=\"Trace\",SUMIFS('Results from Trace'!$H$6:$H$55,'Results from Trace'!$A$6:$A$55,\"Stand-alone Base Utilities\",'Results from Trace'!$B$6:$B$55,\"Propane\"),0)),0),IFERROR(IF($C$11=\"eQUEST\",0,IF($C$11=\"Trace\",SUMIFS('Results from Trace'!$G$6:$G$55,'Results from Trace'!$A$6:$A$55,\"Stand-alone Base Utilities\",'Results from Trace'!$B$6:$B$55,\"Propane\"),0)),0))","v":0},{"$f":"IF(P4P_Path=\"ASHRAE bEQ\",IFERROR(IF($C$11=\"eQUEST\",0,IF($C$11=\"Trace\",SUMIFS('Results from Trace'!$G$6:$G$55,'Results from Trace'!$A$6:$A$55,\"Stand-alone Base Utilities\",'Results from Trace'!$B$6:$B$55,\"Propane\"),0)),0),IFERROR(IF($C$11=\"eQUEST\",0,IF($C$11=\"Trace\",SUMIFS('Results from Trace'!$H$6:$H$55,'Results from Trace'!$A$6:$A$55,\"Stand-alone Base Utilities\",'Results from Trace'!$B$6:$B$55,\"Propane\"),0)),0))","v":0},0,0,null,null,null,{"$f":"SUMIF('P4P - Support Data'!$E$60:$E$77,BH15,'P4P - Support Data'!$O$60:$O$77)","v":{"$error":"#DIV/0!"}},"Yes",0,0,{"$error":"#DIV/0!"},null,{"$error":"#DIV/0!"},0,0,{"$error":"#DIV/0!"},{"$error":"#DIV/0!"},0,0,{"$error":"#DIV/0!"},{"$error":"#DIV/0!"},0,0,{"$error":"#DIV/0!"},{"$error":"#DIV/0!"},0,0,{"$error":"#DIV/0!"},{"$error":"#DIV/0!"},0,0,{"$error":"#DIV/0!"},{"$error":"#DIV/0!"},0,0,{"$error":"#DIV/0!"},{"$error":"#DIV/0!"},0,0,{"$error":"#DIV/0!"},{"$error":"#DIV/0!"},{"$f":"'P4P - Support Data'!E63","v":"Water Heating (Regulated)"},null,{"$f":"IF(LEFT(formulaTextCustom(F15),3)=\"=IF\",0,1)","v":0},{"$f":"IF(LEFT(formulaTextCustom(G15),3)=\"=IF\",0,1)","v":0},{"$f":"IF(LEFT(formulaTextCustom(H15),3)=\"=IF\",0,1)","v":0},{"$f":"IF(LEFT(formulaTextCustom(I15),3)=\"=IF\",0,1)","v":0},{"$f":"IF(LEFT(formulaTextCustom(J15),3)=\"=IF\",0,1)","v":0},{"$f":"IF(LEFT(formulaTextCustom(K15),3)=\"=IF\",0,1)","v":0},{"$f":"IF(LEFT(formulaTextCustom(L15),3)=\"=IF\",0,1)","v":0},{"$f":"IF(LEFT(formulaTextCustom(M15),3)=\"=IF\",0,1)","v":0},{"$f":"IF(LEFT(formulaTextCustom(N15),3)=\"=IF\",0,1)","v":0},{"$f":"IF(LEFT(formulaTextCustom(O15),3)=\"=IF\",0,1)","v":0},{"$f":"IF(LEFT(formulaTextCustom(P15),3)=\"=IF\",0,1)","v":0},{"$f":"IF(LEFT(formulaTextCustom(Q15),3)=\"=IF\",0,1)","v":0},{"$f":"IF(LEFT(formulaTextCustom(R15),3)=\"=IF\",0,1)","v":0},{"$f":"IF(LEFT(formulaTextCustom(S15),3)=\"=IF\",0,1)","v":0},{"$f":"IF(LEFT(formulaTextCustom(T15),3)=\"0\",0,1)","v":0},{"$f":"IF(LEFT(formulaTextCustom(U15),3)=\"0\",0,1)","v":0}]
[null,null,null,"Lighting (Regulated)",null,{"$f":"IF(P4P_Path=\"ASHRAE bEQ\",IFERROR(IF($C$11=\"eQUEST\",SUM('Results from eQuest'!$L$12:$L$12)*0.003413+SUM('Results from eQuest'!$M$12:$M$12)*0.003413,IF($C$11=\"Trace\",SUMIFS('Results from Trace'!$H$6:$H$55,'Results from Trace'!$A$6:$A$55,\"Lighting - Conditioned\",'Results from Trace'!$B$6:$B$55,\"Electricity\")+SUMIFS('Results from Trace'!$H$6:$H$55,'Results from Trace'!$A$6:$A$55,\"Lighting - Unconditioned\",'Results from Trace'!$B$6:$B$55,\"Electricity\"),0)),0),IFERROR(IF($C$11=\"eQUEST\",SUM('Results from eQuest'!$L$11:$L$11)*0.003413+SUM('Results from eQuest'!$M$11:$M$11)*0.003413,IF($C$11=\"Trace\",SUMIFS('Results from Trace'!$G$6:$G$55,'Results from Trace'!$A$6:$A$55,\"Lighting - Conditioned\",'Results from Trace'!$B$6:$B$55,\"Electricity\")+SUMIFS('Results from Trace'!$G$6:$G$55,'Results from Trace'!$A$6:$A$55,\"Lighting - Unconditioned\",'Results from Trace'!$B$6:$B$55,\"Electricity\"),0)),0))","v":0},{"$f":"IF(P4P_Path=\"ASHRAE bEQ\",IFERROR(IF($C$11=\"eQUEST\",SUM('Results from eQuest'!$L$11:$L$11)*0.003413+SUM('Results from eQuest'!$M$11:$M$11)*0.003413,IF($C$11=\"Trace\",SUMIFS('Results from Trace'!$G$6:$G$55,'Results from Trace'!$A$6:$A$55,\"Lighting - Conditioned\",'Results from Trace'!$B$6:$B$55,\"Electricity\")+SUMIFS('Results from Trace'!$G$6:$G$55,'Results from Trace'!$A$6:$A$55,\"Lighting - Unconditioned\",'Results from Trace'!$B$6:$B$55,\"Electricity\"),0)),0),IFERROR(IF($C$11=\"eQUEST\",SUM('Results from eQuest'!$L$12:$L$12)*0.003413+SUM('Results from eQuest'!$M$12:$M$12)*0.003413,IF($C$11=\"Trace\",SUMIFS('Results from Trace'!$H$6:$H$55,'Results from Trace'!$A$6:$A$55,\"Lighting - Conditioned\",'Results from Trace'!$B$6:$B$55,\"Electricity\")+SUMIFS('Results from Trace'!$H$6:$H$55,'Results from Trace'!$A$6:$A$55,\"Lighting - Unconditioned\",'Results from Trace'!$B$6:$B$55,\"Electricity\"),0)),0))","v":0},{"$f":"IF(P4P_Path=\"ASHRAE bEQ\",IFERROR(IF($C$11=\"eQUEST\",SUM('Results from eQuest'!$AX$12:$AX$12)*0.1,IF($C$11=\"Trace\",SUMIFS('Results from Trace'!$H$6:$H$55,'Results from Trace'!$A$6:$A$55,\"Lighting - Conditioned\",'Results from Trace'!$B$6:$B$55,\"Gas\")+SUMIFS('Results from Trace'!$H$6:$H$55,'Results from Trace'!$A$6:$A$55,\"Lighting - Unconditioned\",'Results from Trace'!$B$6:$B$55,\"Gas\"),0)),0),IFERROR(IF($C$11=\"eQUEST\",SUM('Results from eQuest'!$AX$11:$AX$11)*0.1,IF($C$11=\"Trace\",SUMIFS('Results from Trace'!$G$6:$G$55,'Results from Trace'!$A$6:$A$55,\"Lighting - Conditioned\",'Results from Trace'!$B$6:$B$55,\"Gas\")+SUMIFS('Results from Trace'!$C$6:$C$55,'Results from Trace'!$A$6:$A$55,\"Lighting - Unconditioned\",'Results from Trace'!$B$6:$B$55,\"Gas\"),0)),0))","v":0},{"$f":"IF(P4P_Path=\"ASHRAE bEQ\",IFERROR(IF($C$11=\"eQUEST\",SUM('Results from eQuest'!$AX$11:$AX$11)*0.1,IF($C$11=\"Trace\",SUMIFS('Results from Trace'!$G$6:$G$55,'Results from Trace'!$A$6:$A$55,\"Lighting - Conditioned\",'Results from Trace'!$B$6:$B$55,\"Gas\")+SUMIFS('Results from Trace'!$C$6:$C$55,'Results from Trace'!$A$6:$A$55,\"Lighting - Unconditioned\",'Results from Trace'!$B$6:$B$55,\"Gas\"),0)),0),IFERROR(IF($C$11=\"eQUEST\",SUM('Results from eQuest'!$AX$12:$AX$12)*0.1,IF($C$11=\"Trace\",SUMIFS('Results from Trace'!$H$6:$H$55,'Results from Trace'!$A$6:$A$55,\"Lighting - Conditioned\",'Results from Trace'!$B$6:$B$55,\"Gas\")+SUMIFS('Results from Trace'!$H$6:$H$55,'Results from Trace'!$A$6:$A$55,\"Lighting - Unconditioned\",'Results from Trace'!$B$6:$B$55,\"Gas\"),0)),0))","v":0},{"$f":"IF(P4P_Path=\"ASHRAE beQ\",IFERROR(IF($C$11=\"eQUEST\",0,IF($C$11=\"Trace\",SUMIFS('Results from Trace'!$H$6:$H$55,'Results from Trace'!$A$6:$A$55,\"Lighting - Conditioned\",'Results from Trace'!$B$6:$B$55,\"Purchased Steam\")+SUMIFS('Results from Trace'!$H$6:$H$55,'Results from Trace'!$A$6:$A$55,\"Lighting - Unconditioned\",'Results from Trace'!$B$6:$B$55,\"Purchased Steam\"),0)),0),IFERROR(IF($C$11=\"eQUEST\",0,IF($C$11=\"Trace\",SUMIFS('Results from Trace'!$G$6:$G$55,'Results from Trace'!$A$6:$A$55,\"Lighting - Conditioned\",'Results from Trace'!$B$6:$B$55,\"Purchased Steam\")+SUMIFS('Results from Trace'!$G$6:$G$55,'Results from Trace'!$A$6:$A$55,\"Lighting - Unconditioned\",'Results from Trace'!$B$6:$B$55,\"Purchased Steam\"),0)),0))","v":0},{"$f":"IF(P4P_Path=\"ASHRAE bEQ\",IFERROR(IF($C$11=\"eQUEST\",0,IF($C$11=\"Trace\",SUMIFS('Results from Trace'!$G$6:$G$55,'Results from Trace'!$A$6:$A$55,\"Lighting - Conditioned\",'Results from Trace'!$B$6:$B$55,\"Purchased Steam\")+SUMIFS('Results from Trace'!$G$6:$G$55,'Results from Trace'!$A$6:$A$55,\"Lighting - Unconditioned\",'Results from Trace'!$B$6:$B$55,\"Purchased Steam\"),0)),0),IFERROR(IF($C$11=\"eQUEST\",0,IF($C$11=\"Trace\",SUMIFS('Results from Trace'!$H$6:$H$55,'Results from Trace'!$A$6:$A$55,\"Lighting - Conditioned\",'Results from Trace'!$B$6:$B$55,\"Purchased Steam\")+SUMIFS('Results from Trace'!$H$6:$H$55,'Results from Trace'!$A$6:$A$55,\"Lighting - Unconditioned\",'Results from Trace'!$B$6:$B$55,\"Purchased Steam\"),0)),0))","v":0},{"$f":"IF(P4P_Path=\"ASHRAE bEQ\",IFERROR(IF($C$11=\"eQUEST\",0,IF($C$11=\"Trace\",SUMIFS('Results from Trace'!$H$6:$H$55,'Results from Trace'!$A$6:$A$55,\"Lighting - Conditioned\",'Results from Trace'!$B$6:$B$55,\"Purchased Hot Water\")+SUMIFS('Results from Trace'!$H$6:$H$55,'Results from Trace'!$A$6:$A$55,\"Lighting - Unconditioned\",'Results from Trace'!$B$6:$B$55,\"Purchased Hot Water\"),0)),0),IFERROR(IF($C$11=\"eQUEST\",0,IF($C$11=\"Trace\",SUMIFS('Results from Trace'!$G$6:$G$55,'Results from Trace'!$A$6:$A$55,\"Lighting - Conditioned\",'Results from Trace'!$B$6:$B$55,\"Purchased Hot Water\")+SUMIFS('Results from Trace'!$G$6:$G$55,'Results from Trace'!$A$6:$A$55,\"Lighting - Unconditioned\",'Results from Trace'!$B$6:$B$55,\"Purchased Hot Water\"),0)),0))","v":0},{"$f":"IF(P4P_Path=\"ASHRAE bEQ\",IFERROR(IF($C$11=\"eQUEST\",0,IF($C$11=\"Trace\",SUMIFS('Results from Trace'!$G$6:$G$55,'Results from Trace'!$A$6:$A$55,\"Lighting - Conditioned\",'Results from Trace'!$B$6:$B$55,\"Purchased Hot Water\")+SUMIFS('Results from Trace'!$G$6:$G$55,'Results from Trace'!$A$6:$A$55,\"Lighting - Unconditioned\",'Results from Trace'!$B$6:$B$55,\"Purchased Hot Water\"),0)),0),IFERROR(IF($C$11=\"eQUEST\",0,IF($C$11=\"Trace\",SUMIFS('Results from Trace'!$H$6:$H$55,'Results from Trace'!$A$6:$A$55,\"Lighting - Conditioned\",'Results from Trace'!$B$6:$B$55,\"Purchased Hot Water\")+SUMIFS('Results from Trace'!$H$6:$H$55,'Results from Trace'!$A$6:$A$55,\"Lighting - Unconditioned\",'Results from Trace'!$B$6:$B$55,\"Purchased Hot Water\"),0)),0))","v":0},{"$f":"IF(P4P_Path=\"ASHRAE bEQ\",IFERROR(IF($C$11=\"eQUEST\",0,IF($C$11=\"Trace\",SUMIFS('Results from Trace'!$H$6:$H$55,'Results from Trace'!$A$6:$A$55,\"Lighting - Conditioned\",'Results from Trace'!$B$6:$B$55,\"Purchased Chilled Water\")+SUMIFS('Results from Trace'!$H$6:$H$55,'Results from Trace'!$A$6:$A$55,\"Lighting - Unconditioned\",'Results from Trace'!$B$6:$B$55,\"Purchased Chilled Water\"),0)),0),IFERROR(IF($C$11=\"eQUEST\",0,IF($C$11=\"Trace\",SUMIFS('Results from Trace'!$G$6:$G$55,'Results from Trace'!$A$6:$A$55,\"Lighting - Conditioned\",'Results from Trace'!$B$6:$B$55,\"Purchased Chilled Water\")+SUMIFS('Results from Trace'!$G$6:$G$55,'Results from Trace'!$A$6:$A$55,\"Lighting - Unconditioned\",'Results from Trace'!$B$6:$B$55,\"Purchased Chilled Water\"),0)),0))","v":0},{"$f":"IF(P4P_Path=\"Appendix G\",IFERROR(IF($C$11=\"eQUEST\",0,IF($C$11=\"Trace\",SUMIFS('Results from Trace'!$G$6:$G$55,'Results from Trace'!$A$6:$A$55,\"Lighting - Conditioned\",'Results from Trace'!$B$6:$B$55,\"Purchased Chilled Water\")+SUMIFS('Results from Trace'!$G$6:$G$55,'Results from Trace'!$A$6:$A$55,\"Lighting - Unconditioned\",'Results from Trace'!$B$6:$B$55,\"Purchased Chilled Water\"),0)),0),IFERROR(IF($C$11=\"eQUEST\",0,IF($C$11=\"Trace\",SUMIFS('Results from Trace'!$H$6:$H$55,'Results from Trace'!$A$6:$A$55,\"Lighting - Conditioned\",'Results from Trace'!$B$6:$B$55,\"Purchased Chilled Water\")+SUMIFS('Results from Trace'!$H$6:$H$55,'Results from Trace'!$A$6:$A$55,\"Lighting - Unconditioned\",'Results from Trace'!$B$6:$B$55,\"Purchased Chilled Water\"),0)),0))","v":0},{"$f":"IF(P4P_Path=\"ASHRAE bEQ\",IFERROR(IF($C$11=\"eQUEST\",0,IF($C$11=\"Trace\",SUMIFS('Results from Trace'!$H$6:$H$55,'Results from Trace'!$A$6:$A$55,\"Lighting - Conditioned\",'Results from Trace'!$B$6:$B$55,\"Oil\")+SUMIFS('Results from Trace'!$H$6:$H$55,'Results from Trace'!$A$6:$A$55,\"Lighting - Unconditioned\",'Results from Trace'!$B$6:$B$55,\"Oil\"),0)),0),IFERROR(IF($C$11=\"eQUEST\",0,IF($C$11=\"Trace\",SUMIFS('Results from Trace'!$G$6:$G$55,'Results from Trace'!$A$6:$A$55,\"Lighting - Conditioned\",'Results from Trace'!$B$6:$B$55,\"Oil\")+SUMIFS('Results from Trace'!$G$6:$G$55,'Results from Trace'!$A$6:$A$55,\"Lighting - Unconditioned\",'Results from Trace'!$B$6:$B$55,\"Oil\"),0)),0))","v":0},{"$f":"IF(P4P_Path=\"ASHRAE bEQ\",IFERROR(IF($C$11=\"eQUEST\",0,IF($C$11=\"Trace\",SUMIFS('Results from Trace'!$G$6:$G$55,'Results from Trace'!$A$6:$A$55,\"Lighting - Conditioned\",'Results from Trace'!$B$6:$B$55,\"Oil\")+SUMIFS('Results from Trace'!$G$6:$G$55,'Results from Trace'!$A$6:$A$55,\"Lighting - Unconditioned\",'Results from Trace'!$B$6:$B$55,\"Oil\"),0)),0),IFERROR(IF($C$11=\"eQUEST\",0,IF($C$11=\"Trace\",SUMIFS('Results from Trace'!$H$6:$H$55,'Results from Trace'!$A$6:$A$55,\"Lighting - Conditioned\",'Results from Trace'!$B$6:$B$55,\"Oil\")+SUMIFS('Results from Trace'!$H$6:$H$55,'Results from Trace'!$A$6:$A$55,\"Lighting - Unconditioned\",'Results from Trace'!$B$6:$B$55,\"Oil\"),0)),0))","v":0},{"$f":"IF(P4P_Path=\"ASHRAE bEQ\",IFERROR(IF($C$11=\"eQUEST\",0,IF($C$11=\"Trace\",SUMIFS('Results from Trace'!$H$6:$H$55,'Results from Trace'!$A$6:$A$55,\"Lighting - Conditioned\",'Results from Trace'!$B$6:$B$55,\"Propane\")+SUMIFS('Results from Trace'!$H$6:$H$55,'Results from Trace'!$A$6:$A$55,\"Lighting - Unconditioned\",'Results from Trace'!$B$6:$B$55,\"Propane\"),0)),0),IFERROR(IF($C$11=\"eQUEST\",0,IF($C$11=\"Trace\",SUMIFS('Results from Trace'!$G$6:$G$55,'Results from Trace'!$A$6:$A$55,\"Lighting - Conditioned\",'Results from Trace'!$B$6:$B$55,\"Propane\")+SUMIFS('Results from Trace'!$G$6:$G$55,'Results from Trace'!$A$6:$A$55,\"Lighting - Unconditioned\",'Results from Trace'!$B$6:$B$55,\"Propane\"),0)),0))","v":0},{"$f":"IF(P4P_Path=\"ASHRAE bEQ\",IFERROR(IF($C$11=\"eQUEST\",0,IF($C$11=\"Trace\",SUMIFS('Results from Trace'!$G$6:$G$55,'Results from Trace'!$A$6:$A$55,\"Lighting - Conditioned\",'Results from Trace'!$B$6:$B$55,\"Propane\")+SUMIFS('Results from Trace'!$G$6:$G$55,'Results from Trace'!$A$6:$A$55,\"Lighting - Unconditioned\",'Results from Trace'!$B$6:$B$55,\"Propane\"),0)),0),IFERROR(IF($C$11=\"eQUEST\",0,IF($C$11=\"Trace\",SUMIFS('Results from Trace'!$H$6:$H$55,'Results from Trace'!$A$6:$A$55,\"Lighting - Conditioned\",'Results from Trace'!$B$6:$B$55,\"Propane\")+SUMIFS('Results from Trace'!$H$6:$H$55,'Results from Trace'!$A$6:$A$55,\"Lighting - Unconditioned\",'Results from Trace'!$B$6:$B$55,\"Propane\"),0)),0))","v":0},0,0,null,null,null,{"$f":"SUMIF('P4P - Support Data'!$E$60:$E$77,BH16,'P4P - Support Data'!$O$60:$O$77)","v":{"$error":"#DIV/0!"}},"Yes",0,0,{"$error":"#DIV/0!"},null,{"$error":"#DIV/0!"},0,0,{"$error":"#DIV/0!"},{"$error":"#DIV/0!"},0,0,{"$error":"#DIV/0!"},{"$error":"#DIV/0!"},0,0,{"$error":"#DIV/0!"},{"$error":"#DIV/0!"},0,0,{"$error":"#DIV/0!"},{"$error":"#DIV/0!"},0,0,{"$error":"#DIV/0!"},{"$error":"#DIV/0!"},0,0,{"$error":"#DIV/0!"},{"$error":"#DIV/0!"},0,0,{"$error":"#DIV/0!"},{"$error":"#DIV/0!"},{"$f":"'P4P - Support Data'!E64","v":"Lighting (Regulated)"},null,{"$f":"IF(LEFT(formulaTextCustom(F16),3)=\"=IF\",0,1)","v":0},{"$f":"IF(LEFT(formulaTextCustom(G16),3)=\"=IF\",0,1)","v":0},{"$f":"IF(LEFT(formulaTextCustom(H16),3)=\"=IF\",0,1)","v":0},{"$f":"IF(LEFT(formulaTextCustom(I16),3)=\"=IF\",0,1)","v":0},{"$f":"IF(LEFT(formulaTextCustom(J16),3)=\"=IF\",0,1)","v":0},{"$f":"IF(LEFT(formulaTextCustom(K16),3)=\"=IF\",0,1)","v":0},{"$f":"IF(LEFT(formulaTextCustom(L16),3)=\"=IF\",0,1)","v":0},{"$f":"IF(LEFT(formulaTextCustom(M16),3)=\"=IF\",0,1)","v":0},{"$f":"IF(LEFT(formulaTextCustom(N16),3)=\"=IF\",0,1)","v":0},{"$f":"IF(LEFT(formulaTextCustom(O16),3)=\"=IF\",0,1)","v":0},{"$f":"IF(LEFT(formulaTextCustom(P16),3)=\"=IF\",0,1)","v":0},{"$f":"IF(LEFT(formulaTextCustom(Q16),3)=\"=IF\",0,1)","v":0},{"$f":"IF(LEFT(formulaTextCustom(R16),3)=\"=IF\",0,1)","v":0},{"$f":"IF(LEFT(formulaTextCustom(S16),3)=\"=IF\",0,1)","v":0},{"$f":"IF(LEFT(formulaTextCustom(T16),3)=\"0\",0,1)","v":0},{"$f":"IF(LEFT(formulaTextCustom(U16),3)=\"0\",0,1)","v":0}]
[null,null,null,"Lighting (Unregulated)",null,{"$f":"IF(P4P_Path=\"ASHRAE bEQ\",IFERROR(IF($C$11=\"eQUEST\",0,IF($C$11=\"Trace\",\"0\",IF($C$11=\"<Choose>\",0,0))),0),IFERROR(IF($C$11=\"eQUEST\",0,IF($C$11=\"Trace\",0,IF($C$11=\"<Choose>\",0,0))),0))","v":0},{"$f":"IF(P4P_Path=\"ASHRAE bEQ\",IFERROR(IF($C$11=\"eQUEST\",0,IF($C$11=\"Trace\",\"0\",IF($C$11=\"<Choose>\",0,0))),0),IFERROR(IF($C$11=\"eQUEST\",0,IF($C$11=\"Trace\",0,IF($C$11=\"<Choose>\",0,0))),0))","v":0},{"$f":"IF(P4P_Path=\"ASHRAE bEQ\",IFERROR(IF($C$11=\"eQUEST\",SUM('Results from eQuest'!$AY$12:$AY$12)*0.1,IF($C$11=\"Trace\",0,IF($C$11=\"<Choose>\",0,0))),0),IFERROR(IF($C$11=\"eQUEST\",SUM('Results from eQuest'!$AY$11:$AY$11)*0.1,IF($C$11=\"Trace\",0,IF($C$11=\"<Choose>\",0,0))),0))","v":0},{"$f":"IF(P4P_Path=\"ASHRAE bEQ\",IFERROR(IF($C$11=\"eQUEST\",SUM('Results from eQuest'!$AY$11:$AY$11)*0.1,IF($C$11=\"Trace\",0,IF($C$11=\"<Choose>\",0,0))),0),IFERROR(IF($C$11=\"eQUEST\",SUM('Results from eQuest'!$AY$12:$AY$12)*0.1,IF($C$11=\"Trace\",0,IF($C$11=\"<Choose>\",0,0))),0))","v":0},{"$f":"IF(P4P_Path=\"ASHRAE bEQ\",IFERROR(IF($C$11=\"eQUEST\",0,IF($C$11=\"Trace\",0,0)),0),IFERROR(IF($C$11=\"eQUEST\",0,IF($C$11=\"Trace\",0,0)),0))","v":0},0,0,0,0,0,0,0,0,0,0,0,null,null,null,{"$f":"SUMIF('P4P - Support Data'!$E$60:$E$77,BH17,'P4P - Support Data'!$O$60:$O$77)","v":{"$error":"#DIV/0!"}},"No",0,0,{"$error":"#DIV/0!"},null,{"$error":"#DIV/0!"},0,0,{"$error":"#DIV/0!"},{"$error":"#DIV/0!"},0,0,{"$error":"#DIV/0!"},{"$error":"#DIV/0!"},0,0,{"$error":"#DIV/0!"},{"$error":"#DIV/0!"},0,0,{"$error":"#DIV/0!"},{"$error":"#DIV/0!"},0,0,{"$error":"#DIV/0!"},{"$error":"#DIV/0!"},0,0,{"$error":"#DIV/0!"},{"$error":"#DIV/0!"},0,0,{"$error":"#DIV/0!"},{"$error":"#DIV/0!"},{"$f":"'P4P - Support Data'!E65","v":"Lighting (Unregulated)"},null,{"$f":"IF(LEFT(formulaTextCustom(F17),3)=\"=IF\",0,1)","v":0},{"$f":"IF(LEFT(formulaTextCustom(G17),3)=\"=IF\",0,1)","v":0},{"$f":"IF(LEFT(formulaTextCustom(H17),3)=\"=IF\",0,1)","v":0},{"$f":"IF(LEFT(formulaTextCustom(I17),3)=\"=IF\",0,1)","v":0},{"$f":"IF(LEFT(formulaTextCustom(J17),3)=\"=IF\",0,1)","v":0},{"$f":"IF(LEFT(formulaTextCustom(K17),3)=\"=IF\",0,1)","v":0},{"$f":"IF(LEFT(formulaTextCustom(L17),3)=\"=IF\",0,1)","v":0},{"$f":"IF(LEFT(formulaTextCustom(M17),3)=\"=IF\",0,1)","v":0},{"$f":"IF(LEFT(formulaTextCustom(N17),3)=\"=IF\",0,1)","v":0},{"$f":"IF(LEFT(formulaTextCustom(O17),3)=\"=IF\",0,1)","v":0},{"$f":"IF(LEFT(formulaTextCustom(P17),3)=\"=IF\",0,1)","v":0},{"$f":"IF(LEFT(formulaTextCustom(Q17),3)=\"=IF\",0,1)","v":0},{"$f":"IF(LEFT(formulaTextCustom(R17),3)=\"=IF\",0,1)","v":0},{"$f":"IF(LEFT(formulaTextCustom(S17),3)=\"=IF\",0,1)","v":0},{"$f":"IF(LEFT(formulaTextCustom(T17),3)=\"0\",0,1)","v":0},{"$f":"IF(LEFT(formulaTextCustom(U17),3)=\"0\",0,1)","v":0}]
[null,null,null,"Pumps (Regulated)",null,{"$f":"IF(P4P_Path=\"ASHRAE bEQ\",IFERROR(IF($C$11=\"eQUEST\",'Results from eQuest'!$R$12*0.003413,IF($C$11=\"Trace\",SUMIFS('Results from Trace'!$H$6:$H$55,'Results from Trace'!$A$6:$A$55,\"Pumps\",'Results from Trace'!$B$6:$B$55,\"Electricity\"),0)),0),IFERROR(IF($C$11=\"eQUEST\",'Results from eQuest'!$R$11*0.003413,IF($C$11=\"Trace\",SUMIFS('Results from Trace'!$G$6:$G$55,'Results from Trace'!$A$6:$A$55,\"Pumps\",'Results from Trace'!$B$6:$B$55,\"Electricity\"),0)),0))","v":0},{"$f":"IF(P4P_Path=\"ASHRAE bEQ\",IFERROR(IF($C$11=\"eQUEST\",'Results from eQuest'!$R$11*0.003413,IF($C$11=\"Trace\",SUMIFS('Results from Trace'!$G$6:$G$55,'Results from Trace'!$A$6:$A$55,\"Pumps\",'Results from Trace'!$B$6:$B$55,\"Electricity\"),0)),0),IFERROR(IF($C$11=\"eQUEST\",'Results from eQuest'!$R$12*0.003413,IF($C$11=\"Trace\",SUMIFS('Results from Trace'!$H$6:$H$55,'Results from Trace'!$A$6:$A$55,\"Pumps\",'Results from Trace'!$B$6:$B$55,\"Electricity\"),0)),0))","v":0},{"$f":"IF(P4P_Path=\"ASHRAE beQ\",IFERROR(IF($C$11=\"eQUEST\",'Results from eQuest'!$BD$12*0.1,IF($C$11=\"Trace\",SUMIFS('Results from Trace'!$H$6:$H$55,'Results from Trace'!$A$6:$A$55,\"Pumps\",'Results from Trace'!$B$6:$B$55,\"Gas\")+SUMIFS('Results from Trace'!$H$6:$H$55,'Results from Trace'!$A$6:$A$55,\"Heat Rejection\",'Results from Trace'!$B$6:$B$55,\"Gas\")+SUMIFS('Results from Trace'!$H$6:$H$55,'Results from Trace'!$A$6:$A$55,\"Receptacles - Conditioned\",'Results from Trace'!$B$6:$B$55,\"Gas\")+SUMIFS('Results from Trace'!$H$6:$H$55,'Results from Trace'!$A$6:$A$55,\"Receptacles - Unconditioned\",'Results from Trace'!$B$6:$B$55,\"Gas\"),0)),0),IFERROR(IF($C$11=\"eQUEST\",'Results from eQuest'!$BD$11*0.1,IF($C$11=\"Trace\",SUMIFS('Results from Trace'!$G$6:$G$55,'Results from Trace'!$A$6:$A$55,\"Pumps\",'Results from Trace'!$B$6:$B$55,\"Gas\")+SUMIFS('Results from Trace'!$G$6:$G$55,'Results from Trace'!$A$6:$A$55,\"Heat Rejection\",'Results from Trace'!$B$6:$B$55,\"Gas\")+SUMIFS('Results from Trace'!$G$6:$G$55,'Results from Trace'!$A$6:$A$55,\"Receptacles - Conditioned\",'Results from Trace'!$B$6:$B$55,\"Gas\")+SUMIFS('Results from Trace'!$G$6:$G$55,'Results from Trace'!$A$6:$A$55,\"Receptacles - Unconditioned\",'Results from Trace'!$B$6:$B$55,\"Gas\"),0)),0))","v":0},{"$f":"IF(P4P_Path=\"ASHRAE bEQ\",IFERROR(IF($C$11=\"eQUEST\",'Results from eQuest'!$BD$11*0.1,IF($C$11=\"Trace\",SUMIFS('Results from Trace'!$G$6:$G$55,'Results from Trace'!$A$6:$A$55,\"Pumps\",'Results from Trace'!$B$6:$B$55,\"Gas\"),0)),0),IFERROR(IF($C$11=\"eQUEST\",'Results from eQuest'!$BD$12*0.1,IF($C$11=\"Trace\",SUMIFS('Results from Trace'!$H$6:$H$55,'Results from Trace'!$A$6:$A$55,\"Pumps\",'Results from Trace'!$B$6:$B$55,\"Gas\"),0)),0))","v":0},{"$f":"IF(P4P_Path=\"ASHRAE bEQ\",IFERROR(IF($C$11=\"eQUEST\",0,IF($C$11=\"Trace\",SUMIFS('Results from Trace'!$H$6:$H$55,'Results from Trace'!$A$6:$A$55,\"Pumps\",'Results from Trace'!$B$6:$B$55,\"Purchased Steam\"),0)),0),IFERROR(IF($C$11=\"eQUEST\",0,IF($C$11=\"Trace\",SUMIFS('Results from Trace'!$G$6:$G$55,'Results from Trace'!$A$6:$A$55,\"Pumps\",'Results from Trace'!$B$6:$B$55,\"Purchased Steam\"),0)),0))","v":0},{"$f":"IF(P4P_Path=\"ASHRAE bEQ\",IFERROR(IF($C$11=\"eQUEST\",0,IF($C$11=\"Trace\",SUMIFS('Results from Trace'!$G$6:$G$55,'Results from Trace'!$A$6:$A$55,\"Pumps\",'Results from Trace'!$B$6:$B$55,\"Purchased Steam\"),0)),0),IFERROR(IF($C$11=\"eQUEST\",0,IF($C$11=\"Trace\",SUMIFS('Results from Trace'!$H$6:$H$55,'Results from Trace'!$A$6:$A$55,\"Pumps\",'Results from Trace'!$B$6:$B$55,\"Purchased Steam\"),0)),0))","v":0},{"$f":"IF(P4P_Path=\"ASHRAE bEQ\",IFERROR(IF($C$11=\"eQUEST\",0,IF($C$11=\"Trace\",SUMIFS('Results from Trace'!$H$6:$H$55,'Results from Trace'!$A$6:$A$55,\"Pumps\",'Results from Trace'!$B$6:$B$55,\"Purchased Hot Water\"),0)),0),IFERROR(IF($C$11=\"eQUEST\",0,IF($C$11=\"Trace\",SUMIFS('Results from Trace'!$G$6:$G$55,'Results from Trace'!$A$6:$A$55,\"Pumps\",'Results from Trace'!$B$6:$B$55,\"Purchased Hot Water\"),0)),0))","v":0},{"$f":"IF(P4P_Path=\"ASHRAE bEQ\",IFERROR(IF($C$11=\"eQUEST\",0,IF($C$11=\"Trace\",SUMIFS('Results from Trace'!$G$6:$G$55,'Results from Trace'!$A$6:$A$55,\"Pumps\",'Results from Trace'!$B$6:$B$55,\"Purchased Hot Water\"),0)),0),IFERROR(IF($C$11=\"eQUEST\",0,IF($C$11=\"Trace\",SUMIFS('Results from Trace'!$H$6:$H$55,'Results from Trace'!$A$6:$A$55,\"Pumps\",'Results from Trace'!$B$6:$B$55,\"Purchased Hot Water\"),0)),0))","v":0},{"$f":"IF(P4P_Path=\"ASHRAE bEQ\",IFERROR(IF($C$11=\"eQUEST\",0,IF($C$11=\"Trace\",SUMIFS('Results from Trace'!$H$6:$H$55,'Results from Trace'!$A$6:$A$55,\"Pumps\",'Results from Trace'!$B$6:$B$55,\"Purchased Chilled Water\"),0)),0),IFERROR(IF($C$11=\"eQUEST\",0,IF($C$11=\"Trace\",SUMIFS('Results from Trace'!$G$6:$G$55,'Results from Trace'!$A$6:$A$55,\"Pumps\",'Results from Trace'!$B$6:$B$55,\"Purchased Chilled Water\"),0)),0))","v":0},{"$f":"IF(P4P_Path=\"ASHRAE BEQ\",IFERROR(IF($C$11=\"eQUEST\",0,IF($C$11=\"Trace\",SUMIFS('Results from Trace'!$G$6:$G$55,'Results from Trace'!$A$6:$A$55,\"Pumps\",'Results from Trace'!$B$6:$B$55,\"Purchased Chilled Water\"),0)),0),IFERROR(IF($C$11=\"eQUEST\",0,IF($C$11=\"Trace\",SUMIFS('Results from Trace'!$H$6:$H$55,'Results from Trace'!$A$6:$A$55,\"Pumps\",'Results from Trace'!$B$6:$B$55,\"Purchased Chilled Water\"),0)),0))","v":0},{"$f":"IF(P4P_Path=\"ASHRAE bEQ\",IFERROR(IF($C$11=\"eQUEST\",0,IF($C$11=\"Trace\",SUMIFS('Results from Trace'!$H$6:$H$55,'Results from Trace'!$A$6:$A$55,\"Pumps\",'Results from Trace'!$B$6:$B$55,\"Oil\"),0)),0),IFERROR(IF($C$11=\"eQUEST\",0,IF($C$11=\"Trace\",SUMIFS('Results from Trace'!$G$6:$G$55,'Results from Trace'!$A$6:$A$55,\"Pumps\",'Results from Trace'!$B$6:$B$55,\"Oil\"),0)),0))","v":0},{"$f":"IF(P4P_Path=\"ASHRAE bEQ\",IFERROR(IF($C$11=\"eQUEST\",0,IF($C$11=\"Trace\",SUMIFS('Results from Trace'!$G$6:$G$55,'Results from Trace'!$A$6:$A$55,\"Pumps\",'Results from Trace'!$B$6:$B$55,\"Oil\"),0)),0),IFERROR(IF($C$11=\"eQUEST\",0,IF($C$11=\"Trace\",SUMIFS('Results from Trace'!$H$6:$H$55,'Results from Trace'!$A$6:$A$55,\"Pumps\",'Results from Trace'!$B$6:$B$55,\"Oil\"),0)),0))","v":0},{"$f":"IF(P4P_Path=\"ASHRAE bEQ\",IFERROR(IF($C$11=\"eQUEST\",0,IF($C$11=\"Trace\",SUMIFS('Results from Trace'!$H$6:$H$55,'Results from Trace'!$A$6:$A$55,\"Pumps\",'Results from Trace'!$B$6:$B$55,\"Propane\"),0)),0),IFERROR(IF($C$11=\"eQUEST\",0,IF($C$11=\"Trace\",SUMIFS('Results from Trace'!$G$6:$G$55,'Results from Trace'!$A$6:$A$55,\"Pumps\",'Results from Trace'!$B$6:$B$55,\"Propane\"),0)),0))","v":0},{"$f":"IF(P4P_Path=\"ASHRAE bEQ\",IFERROR(IF($C$11=\"eQUEST\",0,IF($C$11=\"Trace\",SUMIFS('Results from Trace'!$G$6:$G$55,'Results from Trace'!$A$6:$A$55,\"Pumps\",'Results from Trace'!$B$6:$B$55,\"Propane\"),0)),0),IFERROR(IF($C$11=\"eQUEST\",0,IF($C$11=\"Trace\",SUMIFS('Results from Trace'!$H$6:$H$55,'Results from Trace'!$A$6:$A$55,\"Pumps\",'Results from Trace'!$B$6:$B$55,\"Propane\"),0)),0))","v":0},0,0,null,null,null,{"$f":"SUMIF('P4P - Support Data'!$E$60:$E$77,BH18,'P4P - Support Data'!$O$60:$O$77)","v":{"$error":"#DIV/0!"}},"Yes",0,0,{"$error":"#DIV/0!"},null,{"$error":"#DIV/0!"},0,0,{"$error":"#DIV/0!"},{"$error":"#DIV/0!"},0,0,{"$error":"#DIV/0!"},{"$error":"#DIV/0!"},0,0,{"$error":"#DIV/0!"},{"$error":"#DIV/0!"},0,0,{"$error":"#DIV/0!"},{"$error":"#DIV/0!"},0,0,{"$error":"#DIV/0!"},{"$error":"#DIV/0!"},0,0,{"$error":"#DIV/0!"},{"$error":"#DIV/0!"},0,0,{"$error":"#DIV/0!"},{"$error":"#DIV/0!"},{"$f":"'P4P - Support Data'!E66","v":"Pumps (Regulated)"},null,{"$f":"IF(LEFT(formulaTextCustom(F18),3)=\"=IF\",0,1)","v":0},{"$f":"IF(LEFT(formulaTextCustom(G18),3)=\"=IF\",0,1)","v":0},{"$f":"IF(LEFT(formulaTextCustom(H18),3)=\"=IF\",0,1)","v":0},{"$f":"IF(LEFT(formulaTextCustom(I18),3)=\"=IF\",0,1)","v":0},{"$f":"IF(LEFT(formulaTextCustom(J18),3)=\"=IF\",0,1)","v":0},{"$f":"IF(LEFT(formulaTextCustom(K18),3)=\"=IF\",0,1)","v":0},{"$f":"IF(LEFT(formulaTextCustom(L18),3)=\"=IF\",0,1)","v":0},{"$f":"IF(LEFT(formulaTextCustom(M18),3)=\"=IF\",0,1)","v":0},{"$f":"IF(LEFT(formulaTextCustom(N18),3)=\"=IF\",0,1)","v":0},{"$f":"IF(LEFT(formulaTextCustom(O18),3)=\"=IF\",0,1)","v":0},{"$f":"IF(LEFT(formulaTextCustom(P18),3)=\"=IF\",0,1)","v":0},{"$f":"IF(LEFT(formulaTextCustom(Q18),3)=\"=IF\",0,1)","v":0},{"$f":"IF(LEFT(formulaTextCustom(R18),3)=\"=IF\",0,1)","v":0},{"$f":"IF(LEFT(formulaTextCustom(S18),3)=\"=IF\",0,1)","v":0},{"$f":"IF(LEFT(formulaTextCustom(T18),3)=\"0\",0,1)","v":0},{"$f":"IF(LEFT(formulaTextCustom(U18),3)=\"0\",0,1)","v":0}]
[null,null,null,"Heat Rejection (Regulated)",null,{"$f":"IF(P4P_Path=\"ASHRAE bEQ\",IFERROR(IF($C$11=\"eQUEST\",'Results from eQuest'!$Q$12*0.003413,IF($C$11=\"Trace\",SUMIFS('Results from Trace'!$H$6:$H$55,'Results from Trace'!$A$6:$A$55,\"Heat Rejection\",'Results from Trace'!$B$6:$B$55,\"Electricity\"),0)),0),IFERROR(IF($C$11=\"eQUEST\",'Results from eQuest'!$Q$11*0.003413,IF($C$11=\"Trace\",SUMIFS('Results from Trace'!$G$6:$G$55,'Results from Trace'!$A$6:$A$55,\"Heat Rejection\",'Results from Trace'!$B$6:$B$55,\"Electricity\"),0)),0))","v":0},{"$f":"IF(P4P_Path=\"ASHRAE bEQ\",IFERROR(IF($C$11=\"eQUEST\",'Results from eQuest'!$Q$11*0.003413,IF($C$11=\"Trace\",SUMIFS('Results from Trace'!$G$6:$G$55,'Results from Trace'!$A$6:$A$55,\"Heat Rejection\",'Results from Trace'!$B$6:$B$55,\"Electricity\"),0)),0),IFERROR(IF($C$11=\"eQUEST\",'Results from eQuest'!$Q$12*0.003413,IF($C$11=\"Trace\",SUMIFS('Results from Trace'!$H$6:$H$55,'Results from Trace'!$A$6:$A$55,\"Heat Rejection\",'Results from Trace'!$B$6:$B$55,\"Electricity\"),0)),0))","v":0},{"$f":"IF(P4P_Path=\"ASHRAE beQ\",IFERROR(IF($C$11=\"eQUEST\",'Results from eQuest'!$BC$12*0.1,IF($C$11=\"Trace\",SUMIFS('Results from Trace'!$H$6:$H$55,'Results from Trace'!$A$6:$A$55,\"Heat Rejection\",'Results from Trace'!$B$6:$B$55,\"Gas\"),0)),0),IFERROR(IF($C$11=\"eQUEST\",'Results from eQuest'!$BC$11*0.1,IF($C$11=\"Trace\",SUMIFS('Results from Trace'!$G$6:$G$55,'Results from Trace'!$A$6:$A$55,\"Heat Rejection\",'Results from Trace'!$B$6:$B$55,\"Gas\"),0)),0))","v":0},{"$f":"IF(P4P_Path=\"ASHRAE bEQ\",IFERROR(IF($C$11=\"eQUEST\",'Results from eQuest'!$BC$11*0.1,IF($C$11=\"Trace\",SUMIFS('Results from Trace'!$G$6:$G$55,'Results from Trace'!$A$6:$A$55,\"Heat Rejection\",'Results from Trace'!$B$6:$B$55,\"Gas\"),0)),0),IFERROR(IF($C$11=\"eQUEST\",'Results from eQuest'!$BC$12*0.1,IF($C$11=\"Trace\",SUMIFS('Results from Trace'!$H$6:$H$55,'Results from Trace'!$A$6:$A$55,\"Heat Rejection\",'Results from Trace'!$B$6:$B$55,\"Gas\"),0)),0))","v":0},{"$f":"IF(P4P_Path=\"ASHRAE bEQ\",IFERROR(IF($C$11=\"eQUEST\",0,IF($C$11=\"Trace\",SUMIFS('Results from Trace'!$H$6:$H$55,'Results from Trace'!$A$6:$A$55,\"Heat Rejection\",'Results from Trace'!$B$6:$B$55,\"Purchased Steam\"),0)),0),IFERROR(IF($C$11=\"eQUEST\",0,IF($C$11=\"Trace\",SUMIFS('Results from Trace'!$G$6:$G$55,'Results from Trace'!$A$6:$A$55,\"Heat Rejection\",'Results from Trace'!$B$6:$B$55,\"Purchased Steam\"),0)),0))","v":0},{"$f":"IF(P4P_Path=\"ASHRAE bEQ\",IFERROR(IF($C$11=\"eQUEST\",0,IF($C$11=\"Trace\",SUMIFS('Results from Trace'!$G$6:$G$55,'Results from Trace'!$A$6:$A$55,\"Heat Rejection\",'Results from Trace'!$B$6:$B$55,\"Purchased Steam\"),0)),0),IFERROR(IF($C$11=\"eQUEST\",0,IF($C$11=\"Trace\",SUMIFS('Results from Trace'!$H$6:$H$55,'Results from Trace'!$A$6:$A$55,\"Heat Rejection\",'Results from Trace'!$B$6:$B$55,\"Purchased Steam\"),0)),0))","v":0},{"$f":"IF(P4P_Path=\"ASHRAE bEQ\",IFERROR(IF($C$11=\"eQUEST\",0,IF($C$11=\"Trace\",SUMIFS('Results from Trace'!$H$6:$H$55,'Results from Trace'!$A$6:$A$55,\"Heat Rejection\",'Results from Trace'!$B$6:$B$55,\"Purchased Hot Water\"),0)),0),IFERROR(IF($C$11=\"eQUEST\",0,IF($C$11=\"Trace\",SUMIFS('Results from Trace'!$G$6:$G$55,'Results from Trace'!$A$6:$A$55,\"Heat Rejection\",'Results from Trace'!$B$6:$B$55,\"Purchased Hot Water\"),0)),0))","v":0},{"$f":"IF(P4P_Path=\"ASHRAE bEQ\",IFERROR(IF($C$11=\"eQUEST\",0,IF($C$11=\"Trace\",SUMIFS('Results from Trace'!$G$6:$G$55,'Results from Trace'!$A$6:$A$55,\"Heat Rejection\",'Results from Trace'!$B$6:$B$55,\"Purchased Hot Water\"),0)),0),IFERROR(IF($C$11=\"eQUEST\",0,IF($C$11=\"Trace\",SUMIFS('Results from Trace'!$H$6:$H$55,'Results from Trace'!$A$6:$A$55,\"Heat Rejection\",'Results from Trace'!$B$6:$B$55,\"Purchased Hot Water\"),0)),0))","v":0},{"$f":"IF(P4P_Path=\"ASHRAE bEQ\",IFERROR(IF($C$11=\"eQUEST\",0,IF($C$11=\"Trace\",SUMIFS('Results from Trace'!$H$6:$H$55,'Results from Trace'!$A$6:$A$55,\"Heat Rejection\",'Results from Trace'!$B$6:$B$55,\"Purchased Chilled Water\"),0)),0),IFERROR(IF($C$11=\"eQUEST\",0,IF($C$11=\"Trace\",SUMIFS('Results from Trace'!$G$6:$G$55,'Results from Trace'!$A$6:$A$55,\"Heat Rejection\",'Results from Trace'!$B$6:$B$55,\"Purchased Chilled Water\"),0)),0))","v":0},{"$f":"IF(P4P_Path=\"ASHRAE BEQ\",IFERROR(IF($C$11=\"eQUEST\",0,IF($C$11=\"Trace\",SUMIFS('Results from Trace'!$G$6:$G$55,'Results from Trace'!$A$6:$A$55,\"Heat Rejection\",'Results from Trace'!$B$6:$B$55,\"Purchased Chilled Water\"),0)),0),IFERROR(IF($C$11=\"eQUEST\",0,IF($C$11=\"Trace\",SUMIFS('Results from Trace'!$H$6:$H$55,'Results from Trace'!$A$6:$A$55,\"Heat Rejection\",'Results from Trace'!$B$6:$B$55,\"Purchased Chilled Water\"),0)),0))","v":0},{"$f":"IF(P4P_Path=\"ASHRAE bEQ\",IFERROR(IF($C$11=\"eQUEST\",0,IF($C$11=\"Trace\",SUMIFS('Results from Trace'!$H$6:$H$55,'Results from Trace'!$A$6:$A$55,\"Heat Rejection\",'Results from Trace'!$B$6:$B$55,\"Oil\"),0)),0),IFERROR(IF($C$11=\"eQUEST\",0,IF($C$11=\"Trace\",SUMIFS('Results from Trace'!$G$6:$G$55,'Results from Trace'!$A$6:$A$55,\"Heat Rejection\",'Results from Trace'!$B$6:$B$55,\"Oil\"),0)),0))","v":0},{"$f":"IF(P4P_Path=\"ASHRAE BEQ\",IFERROR(IF($C$11=\"eQUEST\",0,IF($C$11=\"Trace\",SUMIFS('Results from Trace'!$G$6:$G$55,'Results from Trace'!$A$6:$A$55,\"Heat Rejection\",'Results from Trace'!$B$6:$B$55,\"OIl\"),0)),0),IFERROR(IF($C$11=\"eQUEST\",0,IF($C$11=\"Trace\",SUMIFS('Results from Trace'!$H$6:$H$55,'Results from Trace'!$A$6:$A$55,\"Heat Rejection\",'Results from Trace'!$B$6:$B$55,\"OIl\"),0)),0))","v":0},{"$f":"IF(P4P_Path=\"ASHRAE bEQ\",IFERROR(IF($C$11=\"eQUEST\",0,IF($C$11=\"Trace\",SUMIFS('Results from Trace'!$H$6:$H$55,'Results from Trace'!$A$6:$A$55,\"Heat Rejection\",'Results from Trace'!$B$6:$B$55,\"Propane\"),0)),0),IFERROR(IF($C$11=\"eQUEST\",0,IF($C$11=\"Trace\",SUMIFS('Results from Trace'!$G$6:$G$55,'Results from Trace'!$A$6:$A$55,\"Heat Rejection\",'Results from Trace'!$B$6:$B$55,\"Propane\"),0)),0))","v":0},{"$f":"IF(P4P_Path=\"ASHRAE BEQ\",IFERROR(IF($C$11=\"eQUEST\",0,IF($C$11=\"Trace\",SUMIFS('Results from Trace'!$G$6:$G$55,'Results from Trace'!$A$6:$A$55,\"Heat Rejection\",'Results from Trace'!$B$6:$B$55,\"Propane\"),0)),0),IFERROR(IF($C$11=\"eQUEST\",0,IF($C$11=\"Trace\",SUMIFS('Results from Trace'!$H$6:$H$55,'Results from Trace'!$A$6:$A$55,\"Heat Rejection\",'Results from Trace'!$B$6:$B$55,\"Propane\"),0)),0))","v":0},0,0,null,null,null,{"$f":"SUMIF('P4P - Support Data'!$E$60:$E$77,BH19,'P4P - Support Data'!$O$60:$O$77)","v":{"$error":"#DIV/0!"}},"Yes",0,0,{"$error":"#DIV/0!"},null,{"$error":"#DIV/0!"},0,0,{"$error":"#DIV/0!"},{"$error":"#DIV/0!"},0,0,{"$error":"#DIV/0!"},{"$error":"#DIV/0!"},0,0,{"$error":"#DIV/0!"},{"$error":"#DIV/0!"},0,0,{"$error":"#DIV/0!"},{"$error":"#DIV/0!"},0,0,{"$error":"#DIV/0!"},{"$error":"#DIV/0!"},0,0,{"$error":"#DIV/0!"},{"$error":"#DIV/0!"},0,0,{"$error":"#DIV/0!"},{"$error":"#DIV/0!"},{"$f":"'P4P - Support Data'!E67","v":"Heat Rejection (Regulated)"},null,{"$f":"IF(LEFT(formulaTextCustom(F19),3)=\"=IF\",0,1)","v":0},{"$f":"IF(LEFT(formulaTextCustom(G19),3)=\"=IF\",0,1)","v":0},{"$f":"IF(LEFT(formulaTextCustom(H19),3)=\"=IF\",0,1)","v":0},{"$f":"IF(LEFT(formulaTextCustom(I19),3)=\"=IF\",0,1)","v":0},{"$f":"IF(LEFT(formulaTextCustom(J19),3)=\"=IF\",0,1)","v":0},{"$f":"IF(LEFT(formulaTextCustom(K19),3)=\"=IF\",0,1)","v":0},{"$f":"IF(LEFT(formulaTextCustom(L19),3)=\"=IF\",0,1)","v":0},{"$f":"IF(LEFT(formulaTextCustom(M19),3)=\"=IF\",0,1)","v":0},{"$f":"IF(LEFT(formulaTextCustom(N19),3)=\"=IF\",0,1)","v":0},{"$f":"IF(LEFT(formulaTextCustom(O19),3)=\"=IF\",0,1)","v":0},{"$f":"IF(LEFT(formulaTextCustom(P19),3)=\"=IF\",0,1)","v":0},{"$f":"IF(LEFT(formulaTextCustom(Q19),3)=\"=IF\",0,1)","v":0},{"$f":"IF(LEFT(formulaTextCustom(R19),3)=\"=IF\",0,1)","v":0},{"$f":"IF(LEFT(formulaTextCustom(S19),3)=\"=IF\",0,1)","v":0},{"$f":"IF(LEFT(formulaTextCustom(T19),3)=\"0\",0,1)","v":0},{"$f":"IF(LEFT(formulaTextCustom(U19),3)=\"0\",0,1)","v":0}]
[null,null,null,"Supplemental Heat Pump (Regulated)",null,{"$f":"IF(P4P_Path=\"ASHRAE bEQ\",IFERROR(IF($C$11=\"eQUEST\",'Results from eQuest'!$U$12*0.003413,IF($C$11=\"Trace\",0,0)),0),IFERROR(IF($C$11=\"eQUEST\",'Results from eQuest'!$U$11*0.003413,IF($C$11=\"Trace\",0,0)),0))","v":0},{"$f":"IF(P4P_Path=\"ASHRAE bEQ\",IFERROR(IF($C$11=\"eQUEST\",'Results from eQuest'!$U$11*0.003413,IF($C$11=\"Trace\",0,0)),0),IFERROR(IF($C$11=\"eQUEST\",'Results from eQuest'!$U$12*0.003413,IF($C$11=\"Trace\",0,0)),0))","v":0},{"$f":"IF(P4P_Path=\"ASHRAE beQ\",IFERROR(IF($C$11=\"eQUEST\",'Results from eQuest'!$BG$12*0.1,IF($C$11=\"Trace\",0,0)),0),IFERROR(IF($C$11=\"eQUEST\",'Results from eQuest'!$BG$11*0.1,IF($C$11=\"Trace\",0,0)),0))","v":0},{"$f":"IF(P4P_Path=\"ASHRAE bEQ\",IFERROR(IF($C$11=\"eQUEST\",'Results from eQuest'!$BG$11*0.1,IF($C$11=\"Trace\",0,0)),0),IFERROR(IF($C$11=\"eQUEST\",'Results from eQuest'!$BG$12*0.1,IF($C$11=\"Trace\",0,0)),0))","v":0},0,0,0,0,0,0,0,0,0,0,0,0,null,null,null,{"$f":"SUMIF('P4P - Support Data'!$E$60:$E$77,BH20,'P4P - Support Data'!$O$60:$O$77)","v":{"$error":"#DIV/0!"}},"Yes",0,0,{"$error":"#DIV/0!"},null,{"$error":"#DIV/0!"},0,0,{"$error":"#DIV/0!"},{"$error":"#DIV/0!"},0,0,{"$error":"#DIV/0!"},{"$error":"#DIV/0!"},0,0,{"$error":"#DIV/0!"},{"$error":"#DIV/0!"},0,0,{"$error":"#DIV/0!"},{"$error":"#DIV/0!"},0,0,{"$error":"#DIV/0!"},{"$error":"#DIV/0!"},0,0,{"$error":"#DIV/0!"},{"$error":"#DIV/0!"},0,0,{"$error":"#DIV/0!"},{"$error":"#DIV/0!"},{"$f":"'P4P - Support Data'!E68","v":"Supplemental Heat Pump (Regulated)"},null,{"$f":"IF(LEFT(formulaTextCustom(F20),3)=\"=IF\",0,1)","v":0},{"$f":"IF(LEFT(formulaTextCustom(G20),3)=\"=IF\",0,1)","v":0},{"$f":"IF(LEFT(formulaTextCustom(H20),3)=\"=IF\",0,1)","v":0},{"$f":"IF(LEFT(formulaTextCustom(I20),3)=\"=IF\",0,1)","v":0},{"$f":"IF(LEFT(formulaTextCustom(J20),3)=\"0\",0,1)","v":0},{"$f":"IF(LEFT(formulaTextCustom(K20),3)=\"0\",0,1)","v":0},{"$f":"IF(LEFT(formulaTextCustom(L20),3)=\"0\",0,1)","v":0},{"$f":"IF(LEFT(formulaTextCustom(M20),3)=\"0\",0,1)","v":0},{"$f":"IF(LEFT(formulaTextCustom(N20),3)=\"0\",0,1)","v":0},{"$f":"IF(LEFT(formulaTextCustom(O20),3)=\"0\",0,1)","v":0},{"$f":"IF(LEFT(formulaTextCustom(P20),3)=\"0\",0,1)","v":0},{"$f":"IF(LEFT(formulaTextCustom(Q20),3)=\"0\",0,1)","v":0},{"$f":"IF(LEFT(formulaTextCustom(R20),3)=\"0\",0,1)","v":0},{"$f":"IF(LEFT(formulaTextCustom(S20),3)=\"0\",0,1)","v":0},{"$f":"IF(LEFT(formulaTextCustom(T20),3)=\"0\",0,1)","v":0},{"$f":"IF(LEFT(formulaTextCustom(U20),3)=\"0\",0,1)","v":0}]
[null,null,null,"Exterior Usage (Regulated)",null,{"$f":"IF(P4P_Path=\"ASHRAE bEQ\",IFERROR(IF($C$11=\"eQUEST\",'Results from eQuest'!$W$12*0.003413,IF($C$11=\"Trace\",0,0)),0),IFERROR(IF($C$11=\"eQUEST\",'Results from eQuest'!$W$11*0.003413,IF($C$11=\"Trace\",0,0)),0))","v":0},{"$f":"IF(P4P_Path=\"ASHRAE bEQ\",IFERROR(IF($C$11=\"eQUEST\",'Results from eQuest'!$W$11*0.003413,IF($C$11=\"Trace\",0,0)),0),IFERROR(IF($C$11=\"eQUEST\",'Results from eQuest'!$W$12*0.003413,IF($C$11=\"Trace\",0,0)),0))","v":0},{"$f":"IF(P4P_Path=\"ASHRAE beQ\",IFERROR(IF($C$11=\"eQUEST\",'Results from eQuest'!$BI$12*0.1,IF($C$11=\"Trace\",0,0)),0),IFERROR(IF($C$11=\"eQUEST\",'Results from eQuest'!$BI$11*0.1,IF($C$11=\"Trace\",0,0)),0))","v":0},{"$f":"IF(P4P_Path=\"ASHRAE bEQ\",IFERROR(IF($C$11=\"eQUEST\",'Results from eQuest'!$BI$11*0.1,IF($C$11=\"Trace\",0,0)),0),IFERROR(IF($C$11=\"eQUEST\",'Results from eQuest'!$BI$12*0.1,IF($C$11=\"Trace\",0,0)),0))","v":0},0,0,0,0,0,0,0,0,0,0,0,0,null,null,null,{"$f":"SUMIF('P4P - Support Data'!$E$60:$E$77,BH21,'P4P - Support Data'!$O$60:$O$77)","v":{"$error":"#DIV/0!"}},"Yes",0,0,{"$error":"#DIV/0!"},null,{"$error":"#DIV/0!"},0,0,{"$error":"#DIV/0!"},{"$error":"#DIV/0!"},0,0,{"$error":"#DIV/0!"},{"$error":"#DIV/0!"},0,0,{"$error":"#DIV/0!"},{"$error":"#DIV/0!"},0,0,{"$error":"#DIV/0!"},{"$error":"#DIV/0!"},0,0,{"$error":"#DIV/0!"},{"$error":"#DIV/0!"},0,0,{"$error":"#DIV/0!"},{"$error":"#DIV/0!"},0,0,{"$error":"#DIV/0!"},{"$error":"#DIV/0!"},{"$f":"'P4P - Support Data'!E69","v":"Exterior Usage (Regulated)"},null,{"$f":"IF(LEFT(formulaTextCustom(F21),3)=\"=IF\",0,1)","v":0},{"$f":"IF(LEFT(formulaTextCustom(G21),3)=\"=IF\",0,1)","v":0},{"$f":"IF(LEFT(formulaTextCustom(H21),3)=\"=IF\",0,1)","v":0},{"$f":"IF(LEFT(formulaTextCustom(I21),3)=\"=IF\",0,1)","v":0},{"$f":"IF(LEFT(formulaTextCustom(J21),3)=\"0\",0,1)","v":0},{"$f":"IF(LEFT(formulaTextCustom(K21),3)=\"0\",0,1)","v":0},{"$f":"IF(LEFT(formulaTextCustom(L21),3)=\"0\",0,1)","v":0},{"$f":"IF(LEFT(formulaTextCustom(M21),3)=\"0\",0,1)","v":0},{"$f":"IF(LEFT(formulaTextCustom(N21),3)=\"0\",0,1)","v":0},{"$f":"IF(LEFT(formulaTextCustom(O21),3)=\"0\",0,1)","v":0},{"$f":"IF(LEFT(formulaTextCustom(P21),3)=\"0\",0,1)","v":0},{"$f":"IF(LEFT(formulaTextCustom(Q21),3)=\"0\",0,1)","v":0},{"$f":"IF(LEFT(formulaTextCustom(R21),3)=\"0\",0,1)","v":0},{"$f":"IF(LEFT(formulaTextCustom(S21),3)=\"0\",0,1)","v":0},{"$f":"IF(LEFT(formulaTextCustom(T21),3)=\"0\",0,1)","v":0},{"$f":"IF(LEFT(formulaTextCustom(U21),3)=\"0\",0,1)","v":0}]
[null,null,null,"Plug and Process Load (Unregulated)",null,{"$f":"IF(P4P_Path=\"ASHRAE bEQ\",IFERROR(IF($C$11=\"eQUEST\",'Results from eQuest'!$N$12*0.003413,IF($C$11=\"Trace\",SUMIFS('Results from Trace'!$H$6:$H$55,'Results from Trace'!$A$6:$A$55,\"Receptacles - Conditioned\",'Results from Trace'!$B$6:$B$55,\"Electricity\")+SUMIFS('Results from Trace'!$H$6:$H$55,'Results from Trace'!$A$6:$A$55,\"Receptacles - Unconditioned\",'Results from Trace'!$B$6:$B$55,\"Electricity\")+SUMIFS('Results from Trace'!$H$6:$H$55,'Results from Trace'!$A$6:$A$55,\"Stand-alone Base Utilities\",'Results from Trace'!$B$6:$B$55,\"Electricity\"),0)),0),IFERROR(IF($C$11=\"eQUEST\",'Results from eQuest'!$N$11*0.003413,IF($C$11=\"Trace\",SUMIFS('Results from Trace'!$G$6:$G$55,'Results from Trace'!$A$6:$A$55,\"Receptacles - Conditioned\",'Results from Trace'!$B$6:$B$55,\"Electricity\")+SUMIFS('Results from Trace'!$G$6:$G$55,'Results from Trace'!$A$6:$A$55,\"Receptacles - Unconditioned\",'Results from Trace'!$B$6:$B$55,\"Electricity\")+SUMIFS('Results from Trace'!$G$6:$G$55,'Results from Trace'!$A$6:$A$55,\"Stand-alone Base Utilities\",'Results from Trace'!$B$6:$B$55,\"Electricity\"),0)),0))","v":0},{"$f":"IF(P4P_Path=\"ASHRAE bEQ\",IFERROR(IF($C$11=\"eQUEST\",'Results from eQuest'!$N$11*0.003413,IF($C$11=\"Trace\",SUMIFS('Results from Trace'!$G$6:$G$55,'Results from Trace'!$A$6:$A$55,\"Receptacles - Conditioned\",'Results from Trace'!$B$6:$B$55,\"Electricity\")+SUMIFS('Results from Trace'!$G$6:$G$55,'Results from Trace'!$A$6:$A$55,\"Receptacles - Unconditioned\",'Results from Trace'!$B$6:$B$55,\"Electricity\")+SUMIFS('Results from Trace'!$G$6:$G$55,'Results from Trace'!$A$6:$A$55,\"Stand-alone Base Utilities\",'Results from Trace'!$B$6:$B$55,\"Electricity\"),0)),0),IFERROR(IF($C$11=\"eQUEST\",'Results from eQuest'!$N$12*0.003413,IF($C$11=\"Trace\",SUMIFS('Results from Trace'!$H$6:$H$55,'Results from Trace'!$A$6:$A$55,\"Receptacles - Conditioned\",'Results from Trace'!$B$6:$B$55,\"Electricity\")+SUMIFS('Results from Trace'!$H$6:$H$55,'Results from Trace'!$A$6:$A$55,\"Receptacles - Unconditioned\",'Results from Trace'!$B$6:$B$55,\"Electricity\")+SUMIFS('Results from Trace'!$H$6:$H$55,'Results from Trace'!$A$6:$A$55,\"Stand-alone Base Utilities\",'Results from Trace'!$B$6:$B$55,\"Electricity\"),0)),0))","v":0},{"$f":"IF(P4P_Path=\"ASHRAE beQ\",IFERROR(IF($C$11=\"eQUEST\",'Results from eQuest'!$AZ$12*0.1,IF($C$11=\"Trace\",SUMIFS('Results from Trace'!$H$6:$H$55,'Results from Trace'!$A$6:$A$55,\"Receptacles - Conditioned\",'Results from Trace'!$B$6:$B$55,\"Gas\")+SUMIFS('Results from Trace'!$H$6:$H$55,'Results from Trace'!$A$6:$A$55,\"Receptacles - Unconditioned\",'Results from Trace'!$B$6:$B$55,\"Gas\"),0)),0),IFERROR(IF($C$11=\"eQUEST\",'Results from eQuest'!$AZ$11*0.1,IF($C$11=\"Trace\",SUMIFS('Results from Trace'!$G$6:$G$55,'Results from Trace'!$A$6:$A$55,\"Receptacles - Conditioned\",'Results from Trace'!$B$6:$B$55,\"Gas\")+SUMIFS('Results from Trace'!$G$6:$G$55,'Results from Trace'!$A$6:$A$55,\"Receptacles - Unconditioned\",'Results from Trace'!$B$6:$B$55,\"Gas\"),0)),0))","v":0},{"$f":"IF(P4P_Path=\"ASHRAE bEQ\",IFERROR(IF($C$11=\"eQUEST\",'Results from eQuest'!$AZ$11*0.1,IF($C$11=\"Trace\",SUMIFS('Results from Trace'!$G$6:$G$55,'Results from Trace'!$A$6:$A$55,\"Receptacles - Conditioned\",'Results from Trace'!$B$6:$B$55,\"Gas\")+SUMIFS('Results from Trace'!$G$6:$G$55,'Results from Trace'!$A$6:$A$55,\"Receptacles - Unconditioned\",'Results from Trace'!$B$6:$B$55,\"Gas\"),0)),0),IFERROR(IF($C$11=\"eQUEST\",'Results from eQuest'!$AZ$12*0.1,IF($C$11=\"Trace\",SUMIFS('Results from Trace'!$H$6:$H$55,'Results from Trace'!$A$6:$A$55,\"Receptacles - Conditioned\",'Results from Trace'!$B$6:$B$55,\"Gas\")+SUMIFS('Results from Trace'!$H$6:$H$55,'Results from Trace'!$A$6:$A$55,\"Receptacles - Unconditioned\",'Results from Trace'!$B$6:$B$55,\"Gas\"),0)),0))","v":0},{"$f":"IF(P4P_Path=\"ASHRAE bEQ\",IFERROR(IF($C$11=\"eQUEST\",0,IF($C$11=\"Trace\",SUMIFS('Results from Trace'!$H$6:$H$55,'Results from Trace'!$A$6:$A$55,\"Receptacles - Conditioned\",'Results from Trace'!$B$6:$B$55,\"Purchased Steam\")+SUMIFS('Results from Trace'!$H$6:$H$55,'Results from Trace'!$A$6:$A$55,\"Receptacles - Unconditioned\",'Results from Trace'!$B$6:$B$55,\"Purchased Steam\"),0)),0),IFERROR(IF($C$11=\"eQUEST\",0,IF($C$11=\"Trace\",SUMIFS('Results from Trace'!$G$6:$G$55,'Results from Trace'!$A$6:$A$55,\"Receptacles - Conditioned\",'Results from Trace'!$B$6:$B$55,\"Purchased Steam\")+SUMIFS('Results from Trace'!$G$6:$G$55,'Results from Trace'!$A$6:$A$55,\"Receptacles - Unconditioned\",'Results from Trace'!$B$6:$B$55,\"Purchased Steam\"),0)),0))","v":0},{"$f":"IF(P4P_Path=\"ASHRAE bEQ\",IFERROR(IF($C$11=\"eQUEST\",0,IF($C$11=\"Trace\",SUMIFS('Results from Trace'!$G$6:$G$55,'Results from Trace'!$A$6:$A$55,\"Receptacles - Conditioned\",'Results from Trace'!$B$6:$B$55,\"Purchased Steam\")+SUMIFS('Results from Trace'!$G$6:$G$55,'Results from Trace'!$A$6:$A$55,\"Receptacles - Unconditioned\",'Results from Trace'!$B$6:$B$55,\"Purchased Steam\"),0)),0),IFERROR(IF($C$11=\"eQUEST\",0,IF($C$11=\"Trace\",SUMIFS('Results from Trace'!$H$6:$H$55,'Results from Trace'!$A$6:$A$55,\"Receptacles - Conditioned\",'Results from Trace'!$B$6:$B$55,\"Purchased Steam\")+SUMIFS('Results from Trace'!$H$6:$H$55,'Results from Trace'!$A$6:$A$55,\"Receptacles - Unconditioned\",'Results from Trace'!$B$6:$B$55,\"Purchased Steam\"),0)),0))","v":0},{"$f":"IF(P4P_Path=\"ASHRAE bEQ\",IFERROR(IF($C$11=\"eQUEST\",0,IF($C$11=\"Trace\",SUMIFS('Results from Trace'!$H$6:$H$55,'Results from Trace'!$A$6:$A$55,\"Receptacles - Conditioned\",'Results from Trace'!$B$6:$B$55,\"Purchased Steam\")+SUMIFS('Results from Trace'!$H$6:$H$55,'Results from Trace'!$A$6:$A$55,\"Receptacles - Unconditioned\",'Results from Trace'!$B$6:$B$55,\"Purchased Water\"),0)),0),IFERROR(IF($C$11=\"eQUEST\",0,IF($C$11=\"Trace\",SUMIFS('Results from Trace'!$G$6:$G$55,'Results from Trace'!$A$6:$A$55,\"Receptacles - Conditioned\",'Results from Trace'!$B$6:$B$55,\"Purchased Steam\")+SUMIFS('Results from Trace'!$G$6:$G$55,'Results from Trace'!$A$6:$A$55,\"Receptacles - Unconditioned\",'Results from Trace'!$B$6:$B$55,\"Purchased Hot Water\"),0)),0))","v":0},{"$f":"IF(P4P_Path=\"ASHRAE bEQ\",IFERROR(IF($C$11=\"eQUEST\",0,IF($C$11=\"Trace\",SUMIFS('Results from Trace'!$G$6:$G$55,'Results from Trace'!$A$6:$A$55,\"Receptacles - Conditioned\",'Results from Trace'!$B$6:$B$55,\"Purchased Steam\")+SUMIFS('Results from Trace'!$G$6:$G$55,'Results from Trace'!$A$6:$A$55,\"Receptacles - Unconditioned\",'Results from Trace'!$B$6:$B$55,\"Purchased Hot Water\"),0)),0),IFERROR(IF($C$11=\"eQUEST\",0,IF($C$11=\"Trace\",SUMIFS('Results from Trace'!$H$6:$H$55,'Results from Trace'!$A$6:$A$55,\"Receptacles - Conditioned\",'Results from Trace'!$B$6:$B$55,\"Purchased Hot Water\")+SUMIFS('Results from Trace'!$H$6:$H$55,'Results from Trace'!$A$6:$A$55,\"Receptacles - Unconditioned\",'Results from Trace'!$B$6:$B$55,\"Purchased Steam\"),0)),0))","v":0},{"$f":"IF(P4P_Path=\"ASHRAE bEQ\",IFERROR(IF($C$11=\"eQUEST\",0,IF($C$11=\"Trace\",SUMIFS('Results from Trace'!$H$6:$H$55,'Results from Trace'!$A$6:$A$55,\"Receptacles - Conditioned\",'Results from Trace'!$B$6:$B$55,\"Purchased Steam\")+SUMIFS('Results from Trace'!$H$6:$H$55,'Results from Trace'!$A$6:$A$55,\"Receptacles - Unconditioned\",'Results from Trace'!$B$6:$B$55,\"Purchased Chilled Water\"),0)),0),IFERROR(IF($C$11=\"eQUEST\",0,IF($C$11=\"Trace\",SUMIFS('Results from Trace'!$G$6:$G$55,'Results from Trace'!$A$6:$A$55,\"Receptacles - Conditioned\",'Results from Trace'!$B$6:$B$55,\"Purchased Chilled Water\")+SUMIFS('Results from Trace'!$G$6:$G$55,'Results from Trace'!$A$6:$A$55,\"Receptacles - Unconditioned\",'Results from Trace'!$B$6:$B$55,\"Purchased Steam\"),0)),0))","v":0},{"$f":"IF(P4P_Path=\"ASHRAE bEQ\",IFERROR(IF($C$11=\"eQUEST\",0,IF($C$11=\"Trace\",SUMIFS('Results from Trace'!$G$6:$G$55,'Results from Trace'!$A$6:$A$55,\"Receptacles - Conditioned\",'Results from Trace'!$B$6:$B$55,\"Purchased Chilled Water\")+SUMIFS('Results from Trace'!$G$6:$G$55,'Results from Trace'!$A$6:$A$55,\"Receptacles - Unconditioned\",'Results from Trace'!$B$6:$B$55,\"Purchased Steam\"),0)),0),IFERROR(IF($C$11=\"eQUEST\",0,IF($C$11=\"Trace\",SUMIFS('Results from Trace'!$H$6:$H$55,'Results from Trace'!$A$6:$A$55,\"Receptacles - Conditioned\",'Results from Trace'!$B$6:$B$55,\"Purchased Steam\")+SUMIFS('Results from Trace'!$H$6:$H$55,'Results from Trace'!$A$6:$A$55,\"Receptacles - Unconditioned\",'Results from Trace'!$B$6:$B$55,\"Purchased Chilled Water\"),0)),0))","v":0},{"$f":"IF(P4P_Path=\"ASHRAE bEQ\",IFERROR(IF($C$11=\"eQUEST\",0,IF($C$11=\"Trace\",SUMIFS('Results from Trace'!$H$6:$H$55,'Results from Trace'!$A$6:$A$55,\"Receptacles - Conditioned\",'Results from Trace'!$B$6:$B$55,\"Purchased Steam\")+SUMIFS('Results from Trace'!$H$6:$H$55,'Results from Trace'!$A$6:$A$55,\"Receptacles - Unconditioned\",'Results from Trace'!$B$6:$B$55,\"Oil\"),0)),0),IFERROR(IF($C$11=\"eQUEST\",0,IF($C$11=\"Trace\",SUMIFS('Results from Trace'!$G$6:$G$55,'Results from Trace'!$A$6:$A$55,\"Receptacles - Conditioned\",'Results from Trace'!$B$6:$B$55,\"OIl\")+SUMIFS('Results from Trace'!$G$6:$G$55,'Results from Trace'!$A$6:$A$55,\"Receptacles - Unconditioned\",'Results from Trace'!$B$6:$B$55,\"Purchased Steam\"),0)),0))","v":0},{"$f":"IF(P4P_Path=\"ASHRAE bEQ\",IFERROR(IF($C$11=\"eQUEST\",0,IF($C$11=\"Trace\",SUMIFS('Results from Trace'!$G$6:$G$55,'Results from Trace'!$A$6:$A$55,\"Receptacles - Conditioned\",'Results from Trace'!$B$6:$B$55,\"OIl\")+SUMIFS('Results from Trace'!$G$6:$G$55,'Results from Trace'!$A$6:$A$55,\"Receptacles - Unconditioned\",'Results from Trace'!$B$6:$B$55,\"Purchased Steam\"),0)),0),IFERROR(IF($C$11=\"eQUEST\",0,IF($C$11=\"Trace\",SUMIFS('Results from Trace'!$H$6:$H$55,'Results from Trace'!$A$6:$A$55,\"Receptacles - Conditioned\",'Results from Trace'!$B$6:$B$55,\"Purchased Steam\")+SUMIFS('Results from Trace'!$H$6:$H$55,'Results from Trace'!$A$6:$A$55,\"Receptacles - Unconditioned\",'Results from Trace'!$B$6:$B$55,\"OIl\"),0)),0))","v":0},{"$f":"IF(P4P_Path=\"ASHRAE bEQ\",IFERROR(IF($C$11=\"eQUEST\",0,IF($C$11=\"Trace\",SUMIFS('Results from Trace'!$H$6:$H$55,'Results from Trace'!$A$6:$A$55,\"Receptacles - Conditioned\",'Results from Trace'!$B$6:$B$55,\"Purchased Steam\")+SUMIFS('Results from Trace'!$H$6:$H$55,'Results from Trace'!$A$6:$A$55,\"Receptacles - Unconditioned\",'Results from Trace'!$B$6:$B$55,\"Propane\"),0)),0),IFERROR(IF($C$11=\"eQUEST\",0,IF($C$11=\"Trace\",SUMIFS('Results from Trace'!$G$6:$G$55,'Results from Trace'!$A$6:$A$55,\"Receptacles - Conditioned\",'Results from Trace'!$B$6:$B$55,\"Propane\")+SUMIFS('Results from Trace'!$G$6:$G$55,'Results from Trace'!$A$6:$A$55,\"Receptacles - Unconditioned\",'Results from Trace'!$B$6:$B$55,\"Purchased Steam\"),0)),0))","v":0},{"$f":"IF(P4P_Path=\"ASHRAE bEQ\",IFERROR(IF($C$11=\"eQUEST\",0,IF($C$11=\"Trace\",SUMIFS('Results from Trace'!$G$6:$G$55,'Results from Trace'!$A$6:$A$55,\"Receptacles - Conditioned\",'Results from Trace'!$B$6:$B$55,\"Propane\")+SUMIFS('Results from Trace'!$G$6:$G$55,'Results from Trace'!$A$6:$A$55,\"Receptacles - Unconditioned\",'Results from Trace'!$B$6:$B$55,\"Purchased Steam\"),0)),0),IFERROR(IF($C$11=\"eQUEST\",0,IF($C$11=\"Trace\",SUMIFS('Results from Trace'!$H$6:$H$55,'Results from Trace'!$A$6:$A$55,\"Receptacles - Conditioned\",'Results from Trace'!$B$6:$B$55,\"Purchased Steam\")+SUMIFS('Results from Trace'!$H$6:$H$55,'Results from Trace'!$A$6:$A$55,\"Receptacles - Unconditioned\",'Results from Trace'!$B$6:$B$55,\"Propane\"),0)),0))","v":0},0,0,null,null,null,{"$f":"SUMIF('P4P - Support Data'!$E$60:$E$77,BH22,'P4P - Support Data'!$O$60:$O$77)","v":{"$error":"#DIV/0!"}},"No",0,0,{"$error":"#DIV/0!"},null,{"$error":"#DIV/0!"},0,0,{"$error":"#DIV/0!"},{"$error":"#DIV/0!"},0,0,{"$error":"#DIV/0!"},{"$error":"#DIV/0!"},0,0,{"$error":"#DIV/0!"},{"$error":"#DIV/0!"},0,0,{"$error":"#DIV/0!"},{"$error":"#DIV/0!"},0,0,{"$error":"#DIV/0!"},{"$error":"#DIV/0!"},0,0,{"$error":"#DIV/0!"},{"$error":"#DIV/0!"},0,0,{"$error":"#DIV/0!"},{"$error":"#DIV/0!"},{"$f":"'P4P - Support Data'!E70","v":"Plug and Process Load (Unregulated)"},null,{"$f":"IF(LEFT(formulaTextCustom(F22),3)=\"=IF\",0,1)","v":0},{"$f":"IF(LEFT(formulaTextCustom(G22),3)=\"=IF\",0,1)","v":0},{"$f":"IF(LEFT(formulaTextCustom(H22),3)=\"=IF\",0,1)","v":0},{"$f":"IF(LEFT(formulaTextCustom(I22),3)=\"=IF\",0,1)","v":0},{"$f":"IF(LEFT(formulaTextCustom(J22),3)=\"=IF\",0,1)","v":0},{"$f":"IF(LEFT(formulaTextCustom(K22),3)=\"=IF\",0,1)","v":0},{"$f":"IF(LEFT(formulaTextCustom(L22),3)=\"=IF\",0,1)","v":0},{"$f":"IF(LEFT(formulaTextCustom(M22),3)=\"=IF\",0,1)","v":0},{"$f":"IF(LEFT(formulaTextCustom(N22),3)=\"=IF\",0,1)","v":0},{"$f":"IF(LEFT(formulaTextCustom(O22),3)=\"=IF\",0,1)","v":0},{"$f":"IF(LEFT(formulaTextCustom(P22),3)=\"=IF\",0,1)","v":0},{"$f":"IF(LEFT(formulaTextCustom(Q22),3)=\"=IF\",0,1)","v":0},{"$f":"IF(LEFT(formulaTextCustom(R22),3)=\"=IF\",0,1)","v":0},{"$f":"IF(LEFT(formulaTextCustom(S22),3)=\"=IF\",0,1)","v":0},{"$f":"IF(LEFT(formulaTextCustom(T22),3)=\"0\",0,1)","v":0},{"$f":"IF(LEFT(formulaTextCustom(U22),3)=\"0\",0,1)","v":0}]
[null,null,null,"Elevator/ Misc. Energy (Regulated)",null,{"$f":"IF(P4P_Path=\"ASHRAE bEQ\",IFERROR(IF($C$11=\"eQUEST\",0,IF($C$11=\"Trace\",0,0)),0),IFERROR(IF($C$11=\"eQUEST\",0,IF($C$11=\"Trace\",0,0)),0))","v":0},0,0,0,0,0,0,0,0,0,0,0,0,0,0,0,null,null,null,{"$f":"SUMIF('P4P - Support Data'!$E$60:$E$77,BH23,'P4P - Support Data'!$O$60:$O$77)","v":{"$error":"#DIV/0!"}},"Yes",0,0,{"$error":"#DIV/0!"},null,{"$error":"#DIV/0!"},0,0,{"$error":"#DIV/0!"},{"$error":"#DIV/0!"},0,0,{"$error":"#DIV/0!"},{"$error":"#DIV/0!"},0,0,{"$error":"#DIV/0!"},{"$error":"#DIV/0!"},0,0,{"$error":"#DIV/0!"},{"$error":"#DIV/0!"},0,0,{"$error":"#DIV/0!"},{"$error":"#DIV/0!"},0,0,{"$error":"#DIV/0!"},{"$error":"#DIV/0!"},0,0,{"$error":"#DIV/0!"},{"$error":"#DIV/0!"},{"$f":"'P4P - Support Data'!E71","v":"Elevator/ Misc. Energy (Regulated)"},null,{"$f":"IF(LEFT(formulaTextCustom(F23),3)=\"=IF\",0,1)","v":0},{"$f":"IF(LEFT(formulaTextCustom(G23),3)=\"=IF\",0,1)","v":0},{"$f":"IF(LEFT(formulaTextCustom(H23),3)=\"=IF\",0,1)","v":0},{"$f":"IF(LEFT(formulaTextCustom(I23),3)=\"=IF\",0,1)","v":0},{"$f":"IF(LEFT(formulaTextCustom(J23),3)=\"=IF\",0,1)","v":0},{"$f":"IF(LEFT(formulaTextCustom(K23),3)=\"=IF\",0,1)","v":0},{"$f":"IF(LEFT(formulaTextCustom(L23),3)=\"=IF\",0,1)","v":0},{"$f":"IF(LEFT(formulaTextCustom(M23),3)=\"=IF\",0,1)","v":0},{"$f":"IF(LEFT(formulaTextCustom(N23),3)=\"=IF\",0,1)","v":0},{"$f":"IF(LEFT(formulaTextCustom(O23),3)=\"=IF\",0,1)","v":0},{"$f":"IF(LEFT(formulaTextCustom(P23),3)=\"=IF\",0,1)","v":0},{"$f":"IF(LEFT(formulaTextCustom(Q23),3)=\"=IF\",0,1)","v":0},{"$f":"IF(LEFT(formulaTextCustom(R23),3)=\"=IF\",0,1)","v":0},{"$f":"IF(LEFT(formulaTextCustom(S23),3)=\"=IF\",0,1)","v":0},{"$f":"IF(LEFT(formulaTextCustom(T23),3)=\"0\",0,1)","v":0},{"$f":"IF(LEFT(formulaTextCustom(U23),3)=\"0\",0,1)","v":0}]
[null,null,null,"Misc. Energy (Unregulated)",null,0,0,0,0,0,0,0,0,0,0,0,0,0,0,0,0,null,null,null,{"$f":"SUMIF('P4P - Support Data'!$E$60:$E$77,BH24,'P4P - Support Data'!$O$60:$O$77)","v":{"$error":"#DIV/0!"}},"No",0,0,{"$error":"#DIV/0!"},null,{"$error":"#DIV/0!"},0,0,{"$error":"#DIV/0!"},{"$error":"#DIV/0!"},0,0,{"$error":"#DIV/0!"},{"$error":"#DIV/0!"},0,0,{"$error":"#DIV/0!"},{"$error":"#DIV/0!"},0,0,{"$error":"#DIV/0!"},{"$error":"#DIV/0!"},0,0,{"$error":"#DIV/0!"},{"$error":"#DIV/0!"},0,0,{"$error":"#DIV/0!"},{"$error":"#DIV/0!"},0,0,{"$error":"#DIV/0!"},{"$error":"#DIV/0!"},{"$f":"'P4P - Support Data'!E72","v":"Misc. Energy (Unregulated)"},null,{"$f":"IF(LEFT(formulaTextCustom(F24),3)=\"=IF\",0,1)","v":0},{"$f":"IF(LEFT(formulaTextCustom(G24),3)=\"=IF\",0,1)","v":0},{"$f":"IF(LEFT(formulaTextCustom(H24),3)=\"=IF\",0,1)","v":0},{"$f":"IF(LEFT(formulaTextCustom(I24),3)=\"=IF\",0,1)","v":0},{"$f":"IF(LEFT(formulaTextCustom(J24),3)=\"=IF\",0,1)","v":0},{"$f":"IF(LEFT(formulaTextCustom(K24),3)=\"=IF\",0,1)","v":0},{"$f":"IF(LEFT(formulaTextCustom(L24),3)=\"=IF\",0,1)","v":0},{"$f":"IF(LEFT(formulaTextCustom(M24),3)=\"=IF\",0,1)","v":0},{"$f":"IF(LEFT(formulaTextCustom(N24),3)=\"=IF\",0,1)","v":0},{"$f":"IF(LEFT(formulaTextCustom(O24),3)=\"=IF\",0,1)","v":0},{"$f":"IF(LEFT(formulaTextCustom(P24),3)=\"=IF\",0,1)","v":0},{"$f":"IF(LEFT(formulaTextCustom(Q24),3)=\"=IF\",0,1)","v":0},{"$f":"IF(LEFT(formulaTextCustom(R24),3)=\"=IF\",0,1)","v":0},{"$f":"IF(LEFT(formulaTextCustom(S24),3)=\"=IF\",0,1)","v":0},{"$f":"IF(LEFT(formulaTextCustom(T24),3)=\"0\",0,1)","v":0},{"$f":"IF(LEFT(formulaTextCustom(U24),3)=\"0\",0,1)","v":0}]
[null,null,null,"Refrigeration (Regulated)",null,{"$f":"IF(P4P_Path=\"ASHRAE bEQ\",IFERROR(IF($C$11=\"eQUEST\",'Results from eQuest'!$T$12*0.003413,IF($C$11=\"Trace\",0,0)),0),IFERROR(IF($C$11=\"eQUEST\",'Results from eQuest'!$T$11*0.003413,IF($C$11=\"Trace\",0,0)),0))","v":0},{"$f":"IF(P4P_Path=\"ASHRAE bEQ\",IFERROR(IF($C$11=\"eQUEST\",'Results from eQuest'!$T$11*0.003413,IF($C$11=\"Trace\",0,0)),0),IFERROR(IF($C$11=\"eQUEST\",'Results from eQuest'!$T$12*0.003413,IF($C$11=\"Trace\",0,0)),0))","v":0},{"$f":"IF(P4P_Path=\"ASHRAE beQ\",IFERROR(IF($C$11=\"eQUEST\",'Results from eQuest'!$BF$12*0.1,IF($C$11=\"Trace\",0,0)),0),IFERROR(IF($C$11=\"eQUEST\",'Results from eQuest'!$BF$11*0.1,IF($C$11=\"Trace\",0,0)),0))","v":0},{"$f":"IF(P4P_Path=\"ASHRAE bEQ\",IFERROR(IF($C$11=\"eQUEST\",'Results from eQuest'!$BF$11*0.1,IF($C$11=\"Trace\",0,0)),0),IFERROR(IF($C$11=\"eQUEST\",'Results from eQuest'!$BF$12*0.1,IF($C$11=\"Trace\",0,0)),0))","v":0},{"$f":"IF(P4P_Path=\"ASHRAE bEQ\",IFERROR(IF($C$11=\"eQUEST\",0,IF($C$11=\"Trace\",0,0)),0),IFERROR(IF($C$11=\"eQUEST\",0,IF($C$11=\"Trace\",0,0)),0))","v":0},0,0,0,0,0,0,0,0,0,0,0,null,null,null,{"$f":"SUMIF('P4P - Support Data'!$E$60:$E$77,BH25,'P4P - Support Data'!$O$60:$O$77)","v":{"$error":"#DIV/0!"}},"Yes",0,0,{"$error":"#DIV/0!"},null,{"$error":"#DIV/0!"},0,0,{"$error":"#DIV/0!"},{"$error":"#DIV/0!"},0,0,{"$error":"#DIV/0!"},{"$error":"#DIV/0!"},0,0,{"$error":"#DIV/0!"},{"$error":"#DIV/0!"},0,0,{"$error":"#DIV/0!"},{"$error":"#DIV/0!"},0,0,{"$error":"#DIV/0!"},{"$error":"#DIV/0!"},0,0,{"$error":"#DIV/0!"},{"$error":"#DIV/0!"},0,0,{"$error":"#DIV/0!"},{"$error":"#DIV/0!"},"Refrigeration (Regulated)",null,{"$f":"IF(LEFT(formulaTextCustom(F25),3)=\"=IF\",0,1)","v":0},{"$f":"IF(LEFT(formulaTextCustom(G25),3)=\"=IF\",0,1)","v":0},{"$f":"IF(LEFT(formulaTextCustom(H25),3)=\"=IF\",0,1)","v":0},{"$f":"IF(LEFT(formulaTextCustom(I25),3)=\"=IF\",0,1)","v":0},{"$f":"IF(LEFT(formulaTextCustom(J25),3)=\"=IF\",0,1)","v":0},{"$f":"IF(LEFT(formulaTextCustom(K25),3)=\"=IF\",0,1)","v":0},{"$f":"IF(LEFT(formulaTextCustom(L25),3)=\"=IF\",0,1)","v":0},{"$f":"IF(LEFT(formulaTextCustom(M25),3)=\"=IF\",0,1)","v":0},{"$f":"IF(LEFT(formulaTextCustom(N25),3)=\"=IF\",0,1)","v":0},{"$f":"IF(LEFT(formulaTextCustom(O25),3)=\"=IF\",0,1)","v":0},{"$f":"IF(LEFT(formulaTextCustom(P25),3)=\"=IF\",0,1)","v":0},{"$f":"IF(LEFT(formulaTextCustom(Q25),3)=\"=IF\",0,1)","v":0},{"$f":"IF(LEFT(formulaTextCustom(R25),3)=\"=IF\",0,1)","v":0},{"$f":"IF(LEFT(formulaTextCustom(S25),3)=\"=IF\",0,1)","v":0},{"$f":"IF(LEFT(formulaTextCustom(T25),3)=\"0\",0,1)","v":0},{"$f":"IF(LEFT(formulaTextCustom(U25),3)=\"0\",0,1)","v":0}]
[null,null,null,"Refrigeration (Unregulated)",null,{"$f":"IF(P4P_Path=\"ASHRAE bEQ\",IFERROR(IF($C$11=\"eQUEST\",0,IF($C$11=\"Trace\",0,0)),0),IFERROR(IF($C$11=\"eQUEST\",0,IF($C$11=\"Trace\",0,0)),0))","v":0},{"$f":"IF(P4P_Path=\"ASHRAE bEQ\",IFERROR(IF($C$11=\"eQUEST\",0,IF($C$11=\"Trace\",0,0)),0),IFERROR(IF($C$11=\"eQUEST\",0,IF($C$11=\"Trace\",0,0)),0))","v":0},{"$f":"IF(P4P_Path=\"ASHRAE bEQ\",IFERROR(IF($C$11=\"eQUEST\",0,IF($C$11=\"Trace\",0,0)),0),IFERROR(IF($C$11=\"eQUEST\",0,IF($C$11=\"Trace\",0,0)),0))","v":0},{"$f":"IF(P4P_Path=\"ASHRAE bEQ\",IFERROR(IF($C$11=\"eQUEST\",0,IF($C$11=\"Trace\",0,0)),0),IFERROR(IF($C$11=\"eQUEST\",0,IF($C$11=\"Trace\",0,0)),0))","v":0},{"$f":"IF(P4P_Path=\"ASHRAE bEQ\",IFERROR(IF($C$11=\"eQUEST\",0,IF($C$11=\"Trace\",0,0)),0),IFERROR(IF($C$11=\"eQUEST\",0,IF($C$11=\"Trace\",0,0)),0))","v":0},0,{"$f":"IF(P4P_Path=\"ASHRAE bEQ\",IFERROR(IF($C$11=\"eQUEST\",0,IF($C$11=\"Trace\",0,0)),0),IFERROR(IF($C$11=\"eQUEST\",0,IF($C$11=\"Trace\",0,0)),0))","v":0},0,0,0,0,0,0,0,0,0,null,null,null,{"$f":"SUMIF('P4P - Support Data'!$E$60:$E$77,BH26,'P4P - Support Data'!$O$60:$O$77)","v":{"$error":"#DIV/0!"}},"No",0,0,{"$error":"#DIV/0!"},null,{"$error":"#DIV/0!"},0,0,{"$error":"#DIV/0!"},{"$error":"#DIV/0!"},0,0,{"$error":"#DIV/0!"},{"$error":"#DIV/0!"},0,0,{"$error":"#DIV/0!"},{"$error":"#DIV/0!"},0,0,{"$error":"#DIV/0!"},{"$error":"#DIV/0!"},0,0,{"$error":"#DIV/0!"},{"$error":"#DIV/0!"},0,0,{"$error":"#DIV/0!"},{"$error":"#DIV/0!"},0,0,{"$error":"#DIV/0!"},{"$error":"#DIV/0!"},"Refrigeration (Unregulated)",null,{"$f":"IF(LEFT(formulaTextCustom(F26),3)=\"=IF\",0,1)","v":0},{"$f":"IF(LEFT(formulaTextCustom(G26),3)=\"=IF\",0,1)","v":0},{"$f":"IF(LEFT(formulaTextCustom(H26),3)=\"=IF\",0,1)","v":0},{"$f":"IF(LEFT(formulaTextCustom(I26),3)=\"=IF\",0,1)","v":0},{"$f":"IF(LEFT(formulaTextCustom(J26),3)=\"=IF\",0,1)","v":0},{"$f":"IF(LEFT(formulaTextCustom(K26),3)=\"=IF\",0,1)","v":0},{"$f":"IF(LEFT(formulaTextCustom(L26),3)=\"=IF\",0,1)","v":0},{"$f":"IF(LEFT(formulaTextCustom(M26),3)=\"=IF\",0,1)","v":0},{"$f":"IF(LEFT(formulaTextCustom(N26),3)=\"=IF\",0,1)","v":0},{"$f":"IF(LEFT(formulaTextCustom(O26),3)=\"=IF\",0,1)","v":0},{"$f":"IF(LEFT(formulaTextCustom(P26),3)=\"=IF\",0,1)","v":0},{"$f":"IF(LEFT(formulaTextCustom(Q26),3)=\"=IF\",0,1)","v":0},{"$f":"IF(LEFT(formulaTextCustom(R26),3)=\"=IF\",0,1)","v":0},{"$f":"IF(LEFT(formulaTextCustom(S26),3)=\"=IF\",0,1)","v":0},{"$f":"IF(LEFT(formulaTextCustom(T26),3)=\"0\",0,1)","v":0},{"$f":"IF(LEFT(formulaTextCustom(U26),3)=\"0\",0,1)","v":0}]
[null,null,null,"Total Energy Consumption or kW",null,{"$f":"IFERROR(SUM(F12:F26),0)","v":0},{"$f":"IFERROR(SUM(G12:G26),0)","v":0},0,0,0,0,0,0,0,0,0,0,0,0,0,0,{"$f":"IF(OR(P4P_ModelingSoftware=0,P4P_ModelingSoftware=\"<Choose>\"),0,IF('P4P - General Info'!C21=\"Appendix G\",IF(P4P_ModelingSoftware=\"eQuest\",'Hrly eQuest Results'!BS4,IF(P4P_ModelingSoftware=\"Trace\",'Hrly Trace Results'!AM4,\"<Enter>\")),IF(P4P_ModelingSoftware=\"eQuest\",'Hrly eQuest Results'!BS7,IF(P4P_ModelingSoftware=\"Trace\",'Hrly Trace Results'!AM7,\"<Enter>\"))))","v":0},{"$f":"IF(OR(P4P_ModelingSoftware=0,P4P_ModelingSoftware=\"<Choose>\"),0,IF('P4P - General Info'!C21=\"Appendix G\",IF(P4P_ModelingSoftware=\"eQuest\",'Hrly eQuest Results'!BS7,IF(P4P_ModelingSoftware=\"Trace\",'Hrly Trace Results'!AM7,\"<Enter>\")),IF(P4P_ModelingSoftware=\"eQuest\",'Hrly eQuest Results'!BS4,IF(P4P_ModelingSoftware=\"Trace\",'Hrly Trace Results'!AM4,\"<Enter>\"))))","v":0},null,"Adjusted 2019 or 2016 Use",null,null,null,{"$f":"SUM(AC12:AC26)","v":{"$error":"#DIV/0!"}},null,null,null,null,{"$f":"SUM(AH12:AH26)","v":{"$error":"#DIV/0!"}},null,null,null,{"$f":"SUM(AL12:AL26)","v":{"$error":"#DIV/0!"}},null,null,null,{"$f":"SUM(AP12:AP26)","v":{"$error":"#DIV/0!"}},null,null,null,{"$f":"SUM(AT12:AT26)","v":{"$error":"#DIV/0!"}},null,null,null,{"$f":"SUM(AX12:AX26)","v":{"$error":"#DIV/0!"}},null,null,null,{"$f":"SUM(BB12:BB26)","v":{"$error":"#DIV/0!"}},null,null,null,{"$f":"SUM(BF12:BF26)","v":{"$error":"#DIV/0!"}},null,null,null,null,null,null,null,null,null,null,null,null,null,null,null,null,null,null,null,{"$f":"IF(LEFT(formulaTextCustom(V27),3)=\"=IF\",0,1)","v":0},{"$f":"IF(LEFT(formulaTextCustom(W27),3)=\"=IF\",0,1)","v":0}]
[null,null,null,"Total Energy Cost",null,{"$f":"F27*F11","v":0},{"$f":"G27*G11","v":0},{"$f":"H27*H11","v":0},{"$f":"I27*I11","v":0},0,0,0,0,{"$f":"N27*N11","v":0},0,0,0,0,0,0,0,null,null,null,"Adjusted Savings vs. 2019 or 2016, MMBtu",null,null,null,null,null,{"$f":"SUM(AE12:AE26)","v":{"$error":"#DIV/0!"}},null,null,null,{"$f":"SUM(AI12:AI26)","v":{"$error":"#DIV/0!"}},null,null,null,{"$f":"SUM(AM12:AM26)","v":{"$error":"#DIV/0!"}},null,null,null,{"$f":"SUM(AQ12:AQ26)","v":{"$error":"#DIV/0!"}},null,null,null,{"$f":"SUM(AU12:AU26)","v":{"$error":"#DIV/0!"}},null,null,null,{"$f":"SUM(AY12:AY26)","v":{"$error":"#DIV/0!"}},null,null,null,{"$f":"SUM(BC12:BC26)","v":{"$error":"#DIV/0!"}},null,null,null,{"$f":"SUM(BG12:BG26)","v":{"$error":"#DIV/0!"}}]
[null,null,null,"Total Source Energy",null,{"$f":"F27*'P4P - General Info'!$F$65","v":0},{"$f":"G27*'P4P - General Info'!$F$65","v":0},{"$f":"H27*'P4P - General Info'!$F$66","v":0},{"$f":"I27*'P4P - General Info'!$F$66","v":0},{"$f":"J27*'P4P - General Info'!$F$67","v":0},{"$f":"K27*'P4P - General Info'!$F$67","v":0},{"$f":"L27*'P4P - General Info'!$F$68","v":0},{"$f":"M27*'P4P - General Info'!$F$68","v":0},{"$f":"N27*'P4P - General Info'!$F$69","v":0},{"$f":"O27*'P4P - General Info'!$F$69","v":0},{"$f":"P27*'P4P - General Info'!$F$70","v":0},{"$f":"Q27*'P4P - General Info'!$F$70","v":0},{"$f":"R27*'P4P - General Info'!$F$71","v":0},{"$f":"S27*'P4P - General Info'!$F$71","v":0},{"$f":"T27*'P4P - General Info'!$F$72","v":0},{"$f":"U27*'P4P - General Info'!$F$72","v":0},null,null,null,"Adjusted Penalty",null,null,null,null,null,{"$f":"SUMIF(AE12:AE26,\"<0\")","v":0},null,null,null,{"$f":"SUMIF(AI12:AI26,\"<0\")","v":0},null,null,null,{"$f":"SUMIF(AM12:AM26,\"<0\")","v":0},null,null,null,{"$f":"SUMIF(AQ12:AQ26,\"<0\")","v":0},null,null,null,{"$f":"SUMIF(AU12:AU26,\"<0\")","v":0},null,null,null,{"$f":"SUMIF(AY12:AY26,\"<0\")","v":0},null,null,null,{"$f":"SUMIF(BC12:BC26,\"<0\")","v":0},null,null,null,{"$f":"SUMIF(BG12:BG26,\"<0\")","v":0}]
[null,null,null,null,null,"Electricity","Electricity","Natural Gas","Natural Gas","Steam","Steam","Hot Water","Hot Water","Chilled Water","Chilled Water","Oil","Oil","Propane","Propane","Other Fuel","Other Fuel",null,null,null,"Adjusted Savings",null,null,null,null,null,{"$f":"SUMIF(AE12:AE26,\">0\")","v":0},null,null,null,{"$f":"SUMIF(AI12:AI26,\">0\")","v":0},null,null,null,{"$f":"SUMIF(AM12:AM26,\">0\")","v":0},null,null,null,{"$f":"SUMIF(AQ12:AQ26,\">0\")","v":0},null,null,null,{"$f":"SUMIF(AU12:AU26,\">0\")","v":0},null,null,null,{"$f":"SUMIF(AY12:AY26,\">0\")","v":0},null,null,null,{"$f":"SUMIF(BC12:BC26,\">0\")","v":0},null,null,null,{"$f":"SUMIF(BG12:BG26,\">0\")","v":0}]
[null,null,null,"End Use",null,{"$f":"IF('P4P - General Info'!C21=\"Appendix G\",\"90.1-2004 Baseline Energy Cost\",\"Baseline Energy Cost\")","v":"90.1-2004 Baseline Energy Cost"},{"$f":"IF('P4P - General Info'!C21=\"Appendix G\",GI_Version_Yr &\" Adjusted Baseline Energy Cost\",\"\")","v":"- Adjusted Baseline Energy Cost"},"Proposed Energy Cost",{"$f":"IF('P4P - General Info'!C21=\"Appendix G\",\"2004 Energy Cost Savings ($)\",\"Energy Cost Savings ($)\")","v":"2004 Energy Cost Savings ($)"},{"$f":"IF('P4P - General Info'!C21=\"Appendix G\",\"2004 Energy Cost Savings (%)\",\"Energy Cost Savings (%)\")","v":"2004 Energy Cost Savings (%)"},{"$f":"IF('P4P - General Info'!C21=\"Appendix G\",GI_Version_Yr&\" Energy Cost Savings ($)\",\"\")","v":"- Energy Cost Savings ($)"},{"$f":"IF('P4P - General Info'!C21=\"Appendix G\",GI_Version_Yr&\" Energy Cost Savings (%)\",\"\")","v":"- Energy Cost Savings (%)"},"Proposed Source EUI (Kbtu/SqFt)","PCI, (Based on Cost)",null,{"$f":"IF('P4P - General Info'!C21=\"Appendix G\",\"90.1-2004 Baseline Source Energy, MMBtu\",\"Baseline Source Energy, MMBtu\")","v":"90.1-2004 Baseline Source Energy, MMBtu"},{"$f":"IF('P4P - General Info'!C21=\"Appendix G\",GI_Version_Yr&\" Adj. Baseline Source Energy, MMBtu\",\"\")","v":"- Adj. Baseline Source Energy, MMBtu"},"Proposed Source Energy, MMBtu",{"$f":"IF('P4P - General Info'!C21=\"Appendix G\",\"2004 Source Energy Savings, MMBtu\",\"Source Energy Savings, MMBtu\")","v":"2004 Source Energy Savings, MMBtu"},{"$f":"IF('P4P - General Info'!C21=\"Appendix G\",\"2004 Source Energy Savings (%)\",\"Source Energy Savings (%)\")","v":"2004 Source Energy Savings (%)"},{"$f":"IF('P4P - General Info'!C21=\"Appendix G\",GI_Version_Yr&\" Source Energy Savings, MMBtu\",\"\")","v":"- Source Energy Savings, MMBtu"},{"$f":"IF('P4P - General Info'!C21=\"Appendix G\",GI_Version_Yr&\" Source Energy Savings (%)\",\"\")","v":"- Source Energy Savings (%)"},{"$f":"M31","v":"Proposed Source EUI (Kbtu/SqFt)"},"PCI (Based on Source Energy)","$ savings relative to 2019 or 2016",null,null,null,{"$f":"AE28*'P4P - General Info'!C65","v":{"$error":"#DIV/0!"}},null,null,null,null,{"$f":"AI28*'P4P - General Info'!C66","v":{"$error":"#DIV/0!"}},null,null,null,{"$f":"AFN28*'P4P - General Info'!C67","v":0},null,null,null,{"$f":"AQ28*'P4P - General Info'!C68","v":{"$error":"#DIV/0!"}},null,null,null,{"$f":"AU28*'P4P - General Info'!C69","v":{"$error":"#DIV/0!"}},null,null,null,{"$f":"AY28*'P4P - General Info'!C70","v":{"$error":"#DIV/0!"}},null,null,null,{"$f":"ADD28*'P4P - General Info'!C71","v":0},null,null,null,{"$f":"BG28*'P4P - General Info'!C72","v":{"$error":"#DIV/0!"}},null,{"$f":"SUM(Z31:BG31)","v":{"$error":"#DIV/0!"}}]
[null,null,null,"Space Heating (Regulated)",null,{"$f":"$F$11*F12+$H$11*H12+$J$11*J12+$L$11*L12+$N$11*N12+$P$11*P12+$R$11*R12+$T$11*T12","v":0},{"$f":"IF('P4P - General Info'!$C$21=\"Appendix G\",F32*'P4P - General Info'!$C$57,0)","v":{"$error":"#VALUE!"}},{"$f":"$G$11*G12+$I$11*I12+$K$11*K12+$M$11*M12+$O$11*O12+$Q$11*Q12+$S$11*S12+$U$11*U12","v":0},{"$f":"F32-H32","v":0},{"$f":"IFERROR(IF(AND(F32=0,G32=0),0,I32/F32),\"-\")","v":"-"},{"$f":"IF(AND(F32=0,G32=0,H32=0),\"\",IF(P4P_Path=\"ASHRAE bEQ\",\"\",G32-H32))","v":{"$error":"#VALUE!"}},{"$f":"IF(P4P_Path=\"ASHRAE bEQ\",\"\",IF(AND(F32=0,G32=0),0,K32/G32))","v":{"$error":"#VALUE!"}},{"$f":"IF(H32=0,0,(R32*1000)/'P4P - General Info'!$C$39)","v":0},null,null,{"$f":"SUMPRODUCT(--($F$8:$U$8=\"B\"),$F12:$U12,$F$4:$U$4)","v":0},{"$f":"IF('P4P - General Info'!$C$21=\"Appendix G\",P32*'P4P - General Info'!$D$57,0)","v":{"$error":"#VALUE!"}},{"$f":"SUMPRODUCT(--($F$8:$U$8=\"P\"),$F12:$U12,$F$4:$U$4)","v":0},{"$f":"IFERROR(P32-R32,\"-\")","v":0},{"$f":"IFERROR(IF(AND(P32=0,Q32=0),0,S32/P32),\"-\")","v":"-"},{"$f":"IF(AND(P32=0,Q32=0,R32=0),\"\",IF(P4P_Path=\"ASHRAE bEQ\",\"\",Q32-R32))","v":{"$error":"#VALUE!"}},{"$f":"IF(P4P_Path=\"ASHRAE bEQ\",\"\",IF(AND(P32=0,Q32=0),0,U32/Q32))","v":{"$error":"#VALUE!"}},{"$f":"M32","v":0},null,"App G Native $ saving - tested method $ savings",null,null,null,null,null,null,null,null,null,null,null,null,null,null,null,null,null,null,null,null,null,null,null,null,null,null,null,null,null,null,null,null,null,null,{"$f":"$K$47-BH31","v":{"$error":"#VALUE!"}}]
[null,null,null,"Cooling (Regulated)",null,0,{"$f":"IF('P4P - General Info'!$C$21=\"Appendix G\",F33*'P4P - General Info'!$C$57,0)","v":{"$error":"#VALUE!"}},0,{"$f":"F33-H33","v":0},{"$f":"IFERROR(IF(AND(F33=0,G33=0),0,I33/F33),\"-\")","v":"-"},{"$error":"#VALUE!"},{"$error":"#VALUE!"},{"$f":"IF(H33=0,0,(R33*1000)/'P4P - General Info'!$C$39)","v":0},null,null,{"$f":"SUMPRODUCT(--($F$8:$U$8=\"B\"),$F13:$U13,$F$4:$U$4)","v":0},{"$f":"IF('P4P - General Info'!$C$21=\"Appendix G\",P33*'P4P - General Info'!$D$57,0)","v":{"$error":"#VALUE!"}},{"$f":"SUMPRODUCT(--($F$8:$U$8=\"P\"),$F13:$U13,$F$4:$U$4)","v":0},{"$f":"IFERROR(P33-R33,\"-\")","v":0},{"$f":"IFERROR(IF(AND(P33=0,Q33=0),0,S33/P33),\"-\")","v":"-"},{"$error":"#VALUE!"},{"$error":"#VALUE!"},0]
[null,null,null,"Ventilation (Regulated)",null,0,{"$f":"IF('P4P - General Info'!$C$21=\"Appendix G\",F34*'P4P - General Info'!$C$57,0)","v":{"$error":"#VALUE!"}},0,{"$f":"F34-H34","v":0},{"$f":"IFERROR(IF(AND(F34=0,G34=0),0,I34/F34),\"-\")","v":"-"},{"$error":"#VALUE!"},{"$error":"#VALUE!"},{"$f":"IF(H34=0,0,(R34*1000)/'P4P - General Info'!$C$39)","v":0},null,null,0,{"$f":"IF('P4P - General Info'!$C$21=\"Appendix G\",P34*'P4P - General Info'!$D$57,0)","v":{"$error":"#VALUE!"}},0,0,{"$f":"IFERROR(IF(AND(P34=0,Q34=0),0,S34/P34),\"-\")","v":"-"},{"$error":"#VALUE!"},{"$error":"#VALUE!"},0]
[null,null,null,"Water Heating (Regulated)",null,0,{"$f":"IF('P4P - General Info'!$C$21=\"Appendix G\",F35*'P4P - General Info'!$C$57,0)","v":{"$error":"#VALUE!"}},0,0,{"$f":"IFERROR(IF(AND(F35=0,G35=0),0,I35/F35),\"-\")","v":"-"},{"$error":"#VALUE!"},{"$error":"#VALUE!"},{"$f":"IF(H35=0,0,(R35*1000)/'P4P - General Info'!$C$39)","v":0},null,null,0,{"$f":"IF('P4P - General Info'!$C$21=\"Appendix G\",P35*'P4P - General Info'!$D$57,0)","v":{"$error":"#VALUE!"}},0,0,{"$f":"IFERROR(IF(AND(P35=0,Q35=0),0,S35/P35),\"-\")","v":"-"},{"$error":"#VALUE!"},{"$error":"#VALUE!"},0]
[null,null,null,"Lighting (Regulated)",null,0,{"$f":"IF('P4P - General Info'!$C$21=\"Appendix G\",F36*'P4P - General Info'!$C$57,0)","v":{"$error":"#VALUE!"}},0,0,{"$f":"IFERROR(IF(AND(F36=0,G36=0),0,I36/F36),\"-\")","v":"-"},{"$error":"#VALUE!"},{"$error":"#VALUE!"},{"$f":"IF(H36=0,0,(R36*1000)/'P4P - General Info'!$C$39)","v":0},null,null,0,{"$f":"IF('P4P - General Info'!$C$21=\"Appendix G\",P36*'P4P - General Info'!$D$57,0)","v":{"$error":"#VALUE!"}},0,0,{"$f":"IFERROR(IF(AND(P36=0,Q36=0),0,S36/P36),\"-\")","v":"-"},{"$error":"#VALUE!"},{"$error":"#VALUE!"},0,null,"Overall Site EUI Performance Factors Method",null,null,null,null,null,null,null,null,null,null,null,"Total"]
[null,null,null,"Lighting (Unregulated)",null,{"$f":"IFERROR($F$11*F17+$H$11*H17+$J$11*J17+$L$11*L17+$N$11*N17+$P$11*P17+$R$11*R17+$T$11*T17,\"-\")","v":0},{"$f":"IF('P4P - General Info'!$C$21=\"Appendix G\",F37,0)","v":0},{"$f":"IFERROR($G$11*G17+$I$11*I17+$K$11*K17+$M$11*M17+$O$11*O17+$Q$11*Q17+$S$11*S17+$U$11*U17,\"-\")","v":0},{"$f":"IFERROR(F37-H37,\"-\")","v":0},{"$f":"IFERROR(IF(AND(F37=0,G37=0),0,I37/F37),0)","v":0},{"$f":"IFERROR(IF(AND(F37=0,G37=0,H37=0),\"\",IF(P4P_Path=\"ASHRAE bEQ\",\"\",G37-H37)),\"\")","v":""},{"$f":"IFERROR(IF(P4P_Path=\"ASHRAE bEQ\",\"\",IF(AND(F37=0,G37=0),0,K37/G37)),0)","v":0},{"$f":"IF(OR(H37=0,H37=\"-\"),0,(R37*1000)/'P4P - General Info'!$C$39)","v":0},null,null,0,{"$f":"IF('P4P - General Info'!$C$21=\"Appendix G\",P37,0)","v":0},0,0,{"$f":"IFERROR(IF(AND(P37=0,Q37=0),0,S37/P37),0)","v":0},{"$f":"IFERROR(IF(AND(P37=0,Q37=0,R37=0),\"\",IF(P4P_Path=\"ASHRAE bEQ\",\"\",Q37-R37)),\"\")","v":""},{"$f":"IFERROR(IF(P4P_Path=\"ASHRAE bEQ\",\"\",IF(AND(P37=0,Q37=0),0,U37/Q37)),0)","v":0},0,null,"Site EUI-based BPF",{"$f":"'P4P - Support Data'!O75","v":{"$error":"#DIV/0!"}},null,null,{"$f":"Z37","v":{"$error":"#DIV/0!"}}]
[null,null,null,"Pumps (Regulated)",null,0,{"$f":"IF('P4P - General Info'!$C$21=\"Appendix G\",F38*'P4P - General Info'!$C$57,0)","v":{"$error":"#VALUE!"}},0,0,{"$f":"IFERROR(IF(AND(F38=0,G38=0),0,I38/F38),\"-\")","v":"-"},{"$error":"#VALUE!"},{"$error":"#VALUE!"},{"$f":"IF(H38=0,0,(R38*1000)/'P4P - General Info'!$C$39)","v":0},null,null,0,{"$f":"IF('P4P - General Info'!$C$21=\"Appendix G\",P38*'P4P - General Info'!$D$57,0)","v":{"$error":"#VALUE!"}},0,0,{"$f":"IFERROR(IF(AND(P38=0,Q38=0),0,S38/P38),\"-\")","v":"-"},{"$error":"#VALUE!"},{"$error":"#VALUE!"},0,null,"Regulated MMBtu",{"$f":"SUMPRODUCT(--(Z12:Z26=\"Yes\"),AA12:AA26)","v":0},null,null,{"$f":"SUMPRODUCT(--(Z12:Z26=\"Yes\"),AF12:AF26)","v":0}]
[null,null,null,"Heat Rejection (Regulated)",null,0,{"$f":"IF('P4P - General Info'!$C$21=\"Appendix G\",F39*'P4P - General Info'!$C$57,0)","v":{"$error":"#VALUE!"}},0,0,{"$f":"IFERROR(IF(AND(F39=0,G39=0),0,I39/F39),\"-\")","v":"-"},{"$error":"#VALUE!"},{"$error":"#VALUE!"},{"$f":"IF(H39=0,0,(R39*1000)/'P4P - General Info'!$C$39)","v":0},null,null,0,{"$f":"IF('P4P - General Info'!$C$21=\"Appendix G\",P39*'P4P - General Info'!$D$57,0)","v":{"$error":"#VALUE!"}},0,0,{"$f":"IFERROR(IF(AND(P39=0,Q39=0),0,S39/P39),\"-\")","v":"-"},{"$error":"#VALUE!"},{"$error":"#VALUE!"},0,null,"Unregulated MMBtu",{"$f":"SUMPRODUCT(--(Z12:Z26=\"No\"),AA12:AA26)","v":0},null,null,{"$f":"SUMPRODUCT(--(Z12:Z26=\"No\"),AF12:AF26)","v":0}]
[null,null,null,"Supplemental Heat Pump (Regulated)",null,0,{"$f":"IF('P4P - General Info'!$C$21=\"Appendix G\",F40*'P4P - General Info'!$C$57,0)","v":{"$error":"#VALUE!"}},0,0,{"$f":"IFERROR(IF(AND(F40=0,G40=0),0,I40/F40),\"-\")","v":"-"},{"$error":"#VALUE!"},{"$error":"#VALUE!"},{"$f":"IF(H40=0,0,(R40*1000)/'P4P - General Info'!$C$39)","v":0},null,null,0,{"$f":"IF('P4P - General Info'!$C$21=\"Appendix G\",P40*'P4P - General Info'!$D$57,0)","v":{"$error":"#VALUE!"}},0,0,{"$f":"IFERROR(IF(AND(P40=0,Q40=0),0,S40/P40),\"-\")","v":"-"},{"$error":"#VALUE!"},{"$error":"#VALUE!"},0,null,"Adjusted 2019 or 2016 Use",null,null,null,null,null,null,null,null,{"$f":"Z37*Z38+Z39","v":{"$error":"#DIV/0!"}},null,{"$f":"AC37*AC38+AC39","v":{"$error":"#DIV/0!"}}]
[null,null,null,"Exterior Usage (Regulated)",null,0,{"$f":"IF('P4P - General Info'!$C$21=\"Appendix G\",F41*'P4P - General Info'!$C$57,0)","v":{"$error":"#VALUE!"}},0,0,{"$f":"IFERROR(IF(AND(F41=0,G41=0),0,I41/F41),\"-\")","v":"-"},{"$error":"#VALUE!"},{"$error":"#VALUE!"},{"$f":"IF(H41=0,0,(R41*1000)/'P4P - General Info'!$C$39)","v":0},null,null,0,{"$f":"IF('P4P - General Info'!$C$21=\"Appendix G\",P41*'P4P - General Info'!$D$57,0)","v":{"$error":"#VALUE!"}},0,0,{"$f":"IFERROR(IF(AND(P41=0,Q41=0),0,S41/P41),\"-\")","v":"-"},{"$error":"#VALUE!"},{"$error":"#VALUE!"},0,null,"Adjusted Net Savings vs 2019 or 2016 MMBtu",null,null,null,null,null,null,null,null,{"$f":"AH40-G27","v":{"$error":"#DIV/0!"}},null,{"$f":"AJ40-I27","v":{"$error":"#DIV/0!"}}]
[null,null,null,"Plug and Process Load (Unregulated)",null,0,{"$f":"IF('P4P - General Info'!$C$21=\"Appendix G\",F42,0)","v":0},0,0,{"$f":"IF(AND(F42=0,G42=0),0,I42/F42)","v":0},"",0,{"$f":"IF(H42=0,0,(R42*1000)/'P4P - General Info'!$C$39)","v":0},null,null,0,{"$f":"IF('P4P - General Info'!$C$21=\"Appendix G\",P42,0)","v":0},0,0,{"$f":"IF(AND(P42=0,Q42=0),0,S42/P42)","v":0},"",0,0,null,"$ Savings relative to 2019 or 2016",null,null,null,null,null,null,null,null,{"$f":"AH41*'P4P - General Info'!G65*1000/3.412","v":{"$error":"#DIV/0!"}},null,{"$f":"AJ41*10*'P4P - General Info'!G66","v":{"$error":"#DIV/0!"}},{"$f":"AH42+AJ42","v":{"$error":"#DIV/0!"}}]
[null,null,null,"Misc. Energy (Regulated)",null,0,{"$f":"IF('P4P - General Info'!$C$21=\"Appendix G\",F43*'P4P - General Info'!$C$57,0)","v":{"$error":"#VALUE!"}},{"$f":"$G$11*G23+$I$11*I23+$K$11*K23+$M$11*M23+$O$11*O23+$Q$11*Q23+$S$11*S23+$U$11*U23","v":0},0,{"$f":"IFERROR(IF(AND(F43=0,G43=0),0,I43/F43),\"-\")","v":"-"},{"$error":"#VALUE!"},{"$error":"#VALUE!"},{"$f":"IF(H43=0,0,(R43*1000)/'P4P - General Info'!$C$39)","v":0},null,null,0,{"$f":"IF('P4P - General Info'!$C$21=\"Appendix G\",P43*'P4P - General Info'!$D$57,0)","v":{"$error":"#VALUE!"}},0,0,{"$f":"IFERROR(IF(AND(P43=0,Q43=0),0,S43/P43),\"-\")","v":"-"},{"$error":"#VALUE!"},{"$error":"#VALUE!"},0,null,"App G Native $ saving - tested method $ savings",null,null,null,null,null,null,null,null,null,null,null,{"$f":"$K$47-AK42","v":{"$error":"#VALUE!"}}]
[null,null,null,"Misc. Energy (Unregulated)",null,0,{"$f":"IF('P4P - General Info'!$C$21=\"Appendix G\",F44,0)","v":0},{"$f":"$G$11*G24+$I$11*I24+$K$11*K24+$M$11*M24+$O$11*O24+$Q$11*Q24+$S$11*S24+$U$11*U24","v":0},0,{"$f":"IF(AND(F44=0,G44=0),0,I44/F44)","v":0},"",0,{"$f":"IF(H44=0,0,(R44*1000)/'P4P - General Info'!$C$39)","v":0},null,null,0,{"$f":"IF('P4P - General Info'!$C$21=\"Appendix G\",P44,0)","v":0},0,0,{"$f":"IF(AND(P44=0,Q44=0),0,S44/P44)","v":0},"",0,0]
[null,null,null,"Refrigeration (Regulated)",null,0,{"$f":"IF('P4P - General Info'!$C$21=\"Appendix G\",F45*'P4P - General Info'!$C$57,0)","v":{"$error":"#VALUE!"}},{"$f":"$G$11*G25+$I$11*I25+$K$11*K25+$M$11*M25+$O$11*O25+$Q$11*Q25+$S$11*S25+$U$11*U25","v":0},0,{"$f":"IFERROR(IF(AND(F45=0,G45=0),0,I45/F45),\"-\")","v":"-"},{"$error":"#VALUE!"},{"$error":"#VALUE!"},{"$f":"IF(H45=0,0,(R45*1000)/'P4P - General Info'!$C$39)","v":0},null,null,0,{"$f":"IF('P4P - General Info'!$C$21=\"Appendix G\",P45*'P4P - General Info'!$D$57,0)","v":{"$error":"#VALUE!"}},0,0,{"$f":"IFERROR(IF(AND(P45=0,Q45=0),0,S45/P45),\"-\")","v":"-"},{"$error":"#VALUE!"},{"$error":"#VALUE!"},0]
[null,null,null,"Refrigeration (Unregulated)",null,0,{"$f":"IF('P4P - General Info'!$C$21=\"Appendix G\",F46,0)","v":0},{"$f":"$G$11*G26+$I$11*I26+$K$11*K26+$M$11*M26+$O$11*O26+$Q$11*Q26+$S$11*S26+$U$11*U26","v":0},0,{"$f":"IF(AND(F46=0,G46=0),0,I46/F46)","v":0},"",0,{"$f":"IF(H46=0,0,(R46*1000)/'P4P - General Info'!$C$39)","v":0},null,null,{"$f":"SUMPRODUCT(--($F$8:$U$8=\"B\"),$F26:$U26,$F$4:$U$4)","v":0},{"$f":"IF('P4P - General Info'!$C$21=\"Appendix G\",P46,0)","v":0},{"$f":"SUMPRODUCT(--($F$8:$U$8=\"P\"),$F26:$U26,$F$4:$U$4)","v":0},0,{"$f":"IF(AND(P46=0,Q46=0),0,S46/P46)","v":0},"",0,0]
[null,null,null,"Total",null,0,{"$f":"IFERROR(SUM(G32:G46),\"-\")","v":"-"},{"$f":"$G$11*G27+$I$11*I27+$K$11*K27+$M$11*M27+$O$11*O27+$Q$11*Q27+$S$11*S27+$U$11*U27","v":0},0,{"$f":"IF(F47=0,\"\",I47/F47)","v":""},{"$f":"IFERROR(SUM(K32:K46),\"-\")","v":"-"},{"$f":"IFERROR(IF(G47=0,\"\",K47/G47),\"-\")","v":"-"},{"$f":"SUM(M32:M46)","v":0},{"$f":"IFERROR(IF('P4P - General Info'!C21=\"ASHRAE bEQ\",M47/F49*100,IF(J47=\"\",\"\",1-J47)),\"-\")","v":""},{"$f":"IF(N47=\"\",\"\",IF(P4P_Path=\"ASHRAE bEQ\",IF(N47=\"\",\"FAIL\",IF(N47<='P4P - General Info'!K55,3,IF(N47<'P4P - General Info'!L54,2,IF(N47<='P4P - General Info'!L53,1,\"FAIL\")))),IF(N47<='P4P - General Info'!D55,3,IF(N47<='P4P - General Info'!D54,2,IF(N47<='P4P - General Info'!D53,1,\"FAIL\")))))","v":""},{"$f":"SUM(P32:P46)","v":0},{"$f":"IFERROR(SUM(Q32:Q46),\"-\")","v":"-"},{"$f":"SUM(R32:R46)","v":0},{"$f":"SUM(S32:S46)","v":0},{"$f":"IF(P47=0,\"\",S47/P47)","v":""},{"$f":"IFERROR(SUM(U32:U46),\"-\")","v":"-"},{"$f":"IFERROR(IF(Q47=0,\"\",U47/Q47),\"-\")","v":"-"},0,{"$f":"IFERROR(IF('P4P - General Info'!C21=\"ASHRAE bEQ\",M47/F49*100,IF(T47=\"\",\"\",1-T47)),\"-\")","v":""},null,null,null,null,null,null,null,null,null,null,null,null,null,null,null,null,null,null,null,null,null,null,null,null,null,null,null,null,null,null,null,null,null,null,null,null,null,null,null,null,null,null,null,null,null,null,null,null,null,null,null,null,null,null,null,null,null,null,null,null,null,null,null,null,null,null,null,null,null,null,null,null,null,null,null,null,null,null,null,null,null,null,null,null,null,null,null,null,null,null,null,null,null,null,null,null,null,null,null,null,null,null,null,null,null,null,null,null,null,null,null,null,null,null,null,null,null,null,null,null,null,null,null,null,null,null,null,null,null,null,null,null,null,null,null,{"$f":"IF(X47=\"\",\"\",IF(P4P_Path=\"ASHRAE bEQ\",IF(X47=\"\",\"FAIL\",IF(X47<='P4P - General Info'!K55,3,IF(X47<'P4P - General Info'!L54,2,IF(X47<='P4P - General Info'!L53,1,\"FAIL\")))),IF(X47<='P4P - General Info'!F55,3,IF(X47<='P4P - General Info'!F54,2,IF(X47<='P4P - General Info'!F53,1,\"FAIL\")))))","v":""}]
[null,null,null,null,null,null,null,null,null,null,null,null,null,{"$f":"IF(N47=\"\",\"\",IF(P4P_Path=\"ASHRAE bEQ\",IF(N47=\"\",\"FAIL\",IF(N47<='P4P - General Info'!K55,\"Tier 3\",IF(N47<='P4P - General Info'!L54,\"Tier 2\",IF(N47<='P4P - General Info'!L53,\"Tier 1\",\"FAIL\")))),IF(N47<='P4P - General Info'!D55,\"Tier 3\",IF(N47<='P4P - General Info'!D54,\"Tier 2\",IF(N47<='P4P - General Info'!D53,\"Tier 1\",\"FAIL\")))))","v":""},null,null,null,null,null,null,null,null,null,{"$f":"IF(X47=\"\",\"\",IF(P4P_Path=\"ASHRAE bEQ\",IF(X47=\"\",\"FAIL\",IF(X47<='P4P - General Info'!K55,\"Tier 3\",IF(X47<='P4P - General Info'!L54,\"Tier 2\",IF(X47<='P4P - General Info'!L53,\"Tier 1\",\"FAIL\")))),IF(X47<='P4P - General Info'!F55,\"Tier 3\",IF(X47<='P4P - General Info'!F54,\"Tier 2\",IF(X47<='P4P - General Info'!F53,\"Tier 1\",\"FAIL\")))))","v":""}]
[null,null,null,{"$f":"IF('P4P - General Info'!C21=\"ASHRAE bEQ\",\"Enter Median EUI from bEQ Workbook\",\"\")","v":""},null,null,{"$f":"IF('P4P - General Info'!C21=\"Appendix G\",\"\",IF('P4P - General Info'!C21=\"ASHRAE bEQ\",IF(F49=0,\"Baseline (reference EUI) must be entered as determined through https://zerotool.org/zerotool/. \",\"\"),\"\"))","v":""}]
[]
[null,null,null,"Measure Name",null,"Savings Calculation Method","Simulation Run Name","Annual Electric Use \n(kWh)","Peak Demand (kW)","Annual Natural Gas Use\n(MMBtu)","Annual Steam Use\n(MMBtu)","Annual Hot Water Use (MMBtu)","Annual Chilled Water Use (MMBtu)","Annual Fuel Oil Use\n(MMBtu)","Annual Fuel Propane Use\n(MMBtu)","Annual Other Use\n(MMBtu)","Changes Made to Previous Model Run",null,null,null,null,null,null,null,null,"Override Detection"]
[null,null,null,null,null,null,null,null,null,{"$f":"J53","v":""},{"$f":"K53","v":""},"","","","",0]
[null,null,null,null,{"$f":"IF(P4P_Path=\"ASHRAE bEQ\",\"Proposed Design\",\"Baseline\")","v":"Baseline"},"-",{"$f":"IF(P4P_Path=\"ASHRAE bEQ\",\"Proposed Design\",\"Baseline\")","v":"Baseline"},{"$f":"IFERROR(IF($C$11=\"eQUEST\",IF('Results from eQuest'!$I7=\"\",\"\",'Results from eQuest'!$X11),IF($C$11=\"Trace\",IF(SUM('Results from Trace'!$G$6:$G$55)=0,\"\",SUMIFS('Results from Trace'!$G$6:$G$55,'Results from Trace'!$B$6:$B$55,\"Electricity\")/0.003412),\"\")),\"\")","v":""},{"$f":"IFERROR(IF($C$11=\"eQUEST\",IF('Results from eQuest'!$I7=\"\",\"\",'Results from eQuest'!$AW11),IF($C$11=\"Trace\",\"\",\"\")),\"\")","v":""},{"$f":"IFERROR(IF($C$11=\"eQUEST\",IF('Results from eQuest'!$I7=\"\",\"\",'Results from eQuest'!$BJ11*0.1),IF($C$11=\"Trace\",IF(SUM('Results from Trace'!$G$6:$G$55)=0,\"\",SUMIFS('Results from Trace'!$G$6:$G$55,'Results from Trace'!$B$6:$B$55,\"Gas\")),\"\")),\"\")","v":""},{"$f":"IFERROR(IF($C$11=\"eQUEST\",\"\",IF($C$11=\"Trace\",IF(SUM('Results from Trace'!$G$6:$G$55)=0,\"\",SUMIFS('Results from Trace'!$G$6:$G$55,'Results from Trace'!$B$6:$B$55,\"Purchased Steam\")),\"\")),\"\")","v":""},{"$f":"IFERROR(IF($C$11=\"eQUEST\",\"\",IF($C$11=\"Trace\",IF(SUM('Results from Trace'!$G$6:$G$55)=0,\"\",SUMIFS('Results from Trace'!$G$6:$G$55,'Results from Trace'!$B$6:$B$55,\"Purchased Hot Water\")),\"\")),\"\")","v":""},{"$f":"IFERROR(IF($C$11=\"eQUEST\",\"\",IF($C$11=\"Trace\",IF(SUM('Results from Trace'!$G$6:$G$55)=0,\"\",SUMIFS('Results from Trace'!$G$6:$G$55,'Results from Trace'!$B$6:$B$55,\"Purchased Chilled Water\")),\"\")),\"\")","v":""},{"$f":"IFERROR(IF($C$11=\"eQUEST\",\"\",IF($C$11=\"Trace\",IF(SUM('Results from Trace'!$G$6:$G$55)=0,\"\",SUMIFS('Results from Trace'!$G$6:$G$55,'Results from Trace'!$B$6:$B$55,\"Oil\")),\"\")),\"\")","v":""},{"$f":"IFERROR(IF($C$11=\"eQUEST\",\"\",IF($C$11=\"Trace\",IF(SUM('Results from Trace'!$G$6:$G$55)=0,\"\",SUMIFS('Results from Trace'!$G$6:$G$55,'Results from Trace'!$B$6:$B$55,\"Propane\")),\"\")),\"\")","v":""},null,"N/A",null,null,null,null,null,null,null,null,{"$f":"IF(LEFT(formulaTextCustom(F53),3)=\"-\",0,1)","v":0},{"$f":"IF(LEFT(formulaTextCustom(G53),3)=\"=IF\",0,1)","v":0},{"$f":"IF(LEFT(formulaTextCustom(H53),3)=\"=IF\",0,1)","v":0},{"$f":"IF(LEFT(formulaTextCustom(I53),3)=\"=IF\",0,1)","v":0},{"$f":"IF(LEFT(formulaTextCustom(J53),3)=\"=IF\",0,1)","v":0},{"$f":"IF(LEFT(formulaTextCustom(K53),3)=\"=IF\",0,1)","v":0},{"$f":"IF(LEFT(formulaTextCustom(L53),3)=\"=IF\",0,1)","v":0},{"$f":"IF(LEFT(formulaTextCustom(M53),3)=\"=IF\",0,1)","v":0},{"$f":"IF(LEFT(formulaTextCustom(N53),3)=\"=IF\",0,1)","v":0},{"$f":"IF(LEFT(formulaTextCustom(O53),3)=\"=IF\",0,1)","v":0},{"$f":"IF(LEFT(formulaTextCustom(P53),3)=\"\",0,1)","v":0}]
[null,null,null,"Ex","Insulation - Roof","Simulation","R-40 Roof",246000,424,9500,"N/A","N/A","N/A","N/A","N/A","N/A","Changed U-value from U-0.064 to U-0.025",null,null,null,null,null,null,null,null,0,0,0,0,0,0,0,0,0,0,0]
[null,null,null,1,{"$f":"IF('P4P - Measure Info'!D23=\"\",\"\",'P4P - Measure Info'!D23)","v":""},{"$f":"IF(OR(P4P_ModelingSoftware=\"eQuest\",P4P_ModelingSoftware=\"Trace\"),\"Simulation\",\"<Select>\")","v":"<Select>"},{"$f":"IF($C$11=\"eQuest\",IF(E55=\"\",\"\",'Results from eQuest'!J13),\"\")","v":""},{"$f":"IFERROR(IF($C$11=\"eQUEST\",IF('Results from eQuest'!$I13=\"\",\"\",'Results from eQuest'!$X13),IF($C$11=\"Trace\",IF(SUM('Results from Trace'!$I$6:$I$55)=0,\"\",SUMIFS('Results from Trace'!$I$6:$I$55,'Results from Trace'!$B$6:$B$55,\"Electricity\")/0.003412),\"\")),\"\")","v":""},{"$f":"IFERROR(IF($C$11=\"eQUEST\",IF('Results from eQuest'!$I13=\"\",\"\",'Results from eQuest'!$AW13),IF($C$11=\"Trace\",\"\",\"\")),\"\")","v":""},{"$f":"IFERROR(IF($C$11=\"eQUEST\",IF('Results from eQuest'!$I13=\"\",\"\",'Results from eQuest'!$BJ13*0.1),IF($C$11=\"Trace\",IF(SUM('Results from Trace'!$I$6:$I$55)=0,\"\",SUMIFS('Results from Trace'!$I$6:$I$55,'Results from Trace'!$B$6:$B$55,\"Gas\")),\"\")),\"\")","v":""},{"$f":"IFERROR(IF($C$11=\"eQUEST\",\"\",IF($C$11=\"Trace\",IF(SUM('Results from Trace'!$I$6:$I$55)=0,\"\",SUMIFS('Results from Trace'!$I$6:$I$55,'Results from Trace'!$B$6:$B$55,\"Purchased Steam\")),\"\")),\"\")","v":""},{"$f":"IFERROR(IF($C$11=\"eQUEST\",\"\",IF($C$11=\"Trace\",IF(SUM('Results from Trace'!$I$6:$I$55)=0,\"\",SUMIFS('Results from Trace'!$I$6:$I$55,'Results from Trace'!$B$6:$B$55,\"Purchased Hot Water\")),\"\")),\"\")","v":""},{"$f":"IFERROR(IF($C$11=\"eQUEST\",\"\",IF($C$11=\"Trace\",IF(SUM('Results from Trace'!$I$6:$I$55)=0,\"\",SUMIFS('Results from Trace'!$I$6:$I$55,'Results from Trace'!$B$6:$B$55,\"Purchased Chilled Water\")),\"\")),\"\")","v":""},{"$f":"IFERROR(IF($C$11=\"eQUEST\",\"\",IF($C$11=\"Trace\",IF(SUM('Results from Trace'!$I$6:$I$55)=0,\"\",SUMIFS('Results from Trace'!$I$6:$I$55,'Results from Trace'!$B$6:$B$55,\"Oil\")),\"\")),\"\")","v":""},{"$f":"IFERROR(IF($C$11=\"eQUEST\",\"\",IF($C$11=\"Trace\",IF(SUM('Results from Trace'!$I$6:$I$55)=0,\"\",SUMIFS('Results from Trace'!$I$6:$I$55,'Results from Trace'!$B$6:$B$55,\"Propane\")),\"\")),\"\")","v":""},null,null,null,null,null,null,null,null,null,null,{"$f":"IF(LEFT(formulaTextCustom(F55),3)=\"=IF\",0,1)","v":0},{"$f":"IF(LEFT(formulaTextCustom(G55),3)=\"=IF\",0,1)","v":0},{"$f":"IF(LEFT(formulaTextCustom(H55),3)=\"=IF\",0,1)","v":0},{"$f":"IF(LEFT(formulaTextCustom(I55),3)=\"=IF\",0,1)","v":0},{"$f":"IF(LEFT(formulaTextCustom(J55),3)=\"=IF\",0,1)","v":0},{"$f":"IF(LEFT(formulaTextCustom(K55),3)=\"=IF\",0,1)","v":0},{"$f":"IF(LEFT(formulaTextCustom(L55),3)=\"=IF\",0,1)","v":0},{"$f":"IF(LEFT(formulaTextCustom(M55),3)=\"=IF\",0,1)","v":0},{"$f":"IF(LEFT(formulaTextCustom(N55),3)=\"=IF\",0,1)","v":0},{"$f":"IF(LEFT(formulaTextCustom(O55),3)=\"=IF\",0,1)","v":0},{"$f":"IF(LEFT(formulaTextCustom(P55),3)=\"\",0,1)","v":0}]
[null,null,null,2,{"$f":"IF('P4P - Measure Info'!D24=\"\",\"\",'P4P - Measure Info'!D24)","v":""},"<Select>",{"$f":"IF($C$11=\"eQuest\",IF(E56=\"\",\"\",'Results from eQuest'!J14),\"\")","v":""},{"$f":"IFERROR(IF($C$11=\"eQUEST\",IF('Results from eQuest'!$I14=\"\",\"\",'Results from eQuest'!$X14),IF($C$11=\"Trace\",IF(SUM('Results from Trace'!$J$6:$J$55)=0,\"\",SUMIFS('Results from Trace'!$J$6:$J$55,'Results from Trace'!$B$6:$B$55,\"Electricity\")/0.003412),\"\")),\"\")","v":""},{"$f":"IFERROR(IF($C$11=\"eQUEST\",IF('Results from eQuest'!$I14=\"\",\"\",'Results from eQuest'!$AW14),IF($C$11=\"Trace\",\"\",\"\")),\"\")","v":""},{"$f":"IFERROR(IF($C$11=\"eQUEST\",IF('Results from eQuest'!$I14=\"\",\"\",'Results from eQuest'!$BJ14*0.1),IF($C$11=\"Trace\",IF(SUM('Results from Trace'!$J$6:$J$55)=0,\"\",SUMIFS('Results from Trace'!$J$6:$J$55,'Results from Trace'!$B$6:$B$55,\"Gas\")),\"\")),\"\")","v":""},{"$f":"IFERROR(IF($C$11=\"eQUEST\",\"\",IF($C$11=\"Trace\",IF(SUM('Results from Trace'!$J$6:$J$55)=0,\"\",SUMIFS('Results from Trace'!$J$6:$J$55,'Results from Trace'!$B$6:$B$55,\"Purchased Steam\")),\"\")),\"\")","v":""},{"$f":"IFERROR(IF($C$11=\"eQUEST\",\"\",IF($C$11=\"Trace\",IF(SUM('Results from Trace'!$J$6:$J$55)=0,\"\",SUMIFS('Results from Trace'!$J$6:$J$55,'Results from Trace'!$B$6:$B$55,\"Purchased Hot Water\")),\"\")),\"\")","v":""},{"$f":"IFERROR(IF($C$11=\"eQUEST\",\"\",IF($C$11=\"Trace\",IF(SUM('Results from Trace'!$J$6:$J$55)=0,\"\",SUMIFS('Results from Trace'!$J$6:$J$55,'Results from Trace'!$B$6:$B$55,\"Purchased Chilled Water\")),\"\")),\"\")","v":""},{"$f":"IFERROR(IF($C$11=\"eQUEST\",\"\",IF($C$11=\"Trace\",IF(SUM('Results from Trace'!$J$6:$J$55)=0,\"\",SUMIFS('Results from Trace'!$J$6:$J$55,'Results from Trace'!$B$6:$B$55,\"Oil\")),\"\")),\"\")","v":""},{"$f":"IFERROR(IF($C$11=\"eQUEST\",\"\",IF($C$11=\"Trace\",IF(SUM('Results from Trace'!$J$6:$J$55)=0,\"\",SUMIFS('Results from Trace'!$J$6:$J$55,'Results from Trace'!$B$6:$B$55,\"Propane\")),\"\")),\"\")","v":""},null,null,null,null,null,null,null,null,null,null,{"$f":"IF(LEFT(formulaTextCustom(F56),3)=\"=IF\",0,1)","v":0},{"$f":"IF(LEFT(formulaTextCustom(G56),3)=\"=IF\",0,1)","v":0},{"$f":"IF(LEFT(formulaTextCustom(H56),3)=\"=IF\",0,1)","v":0},{"$f":"IF(LEFT(formulaTextCustom(I56),3)=\"=IF\",0,1)","v":0},{"$f":"IF(LEFT(formulaTextCustom(J56),3)=\"=IF\",0,1)","v":0},{"$f":"IF(LEFT(formulaTextCustom(K56),3)=\"=IF\",0,1)","v":0},{"$f":"IF(LEFT(formulaTextCustom(L56),3)=\"=IF\",0,1)","v":0},{"$f":"IF(LEFT(formulaTextCustom(M56),3)=\"=IF\",0,1)","v":0},{"$f":"IF(LEFT(formulaTextCustom(N56),3)=\"=IF\",0,1)","v":0},{"$f":"IF(LEFT(formulaTextCustom(O56),3)=\"=IF\",0,1)","v":0},{"$f":"IF(LEFT(formulaTextCustom(P56),3)=\"\",0,1)","v":0}]
[null,null,null,3,{"$f":"IF('P4P - Measure Info'!D25=\"\",\"\",'P4P - Measure Info'!D25)","v":""},"<Select>",{"$f":"IF($C$11=\"eQuest\",IF(E57=\"\",\"\",'Results from eQuest'!J15),\"\")","v":""},{"$f":"IFERROR(IF($C$11=\"eQUEST\",IF('Results from eQuest'!$I15=\"\",\"\",'Results from eQuest'!$X15),IF($C$11=\"Trace\",IF(SUM('Results from Trace'!$K$6:$K$55)=0,\"\",SUMIFS('Results from Trace'!$K$6:$K$55,'Results from Trace'!$B$6:$B$55,\"Electricity\")/0.003412),\"\")),\"\")","v":""},{"$f":"IFERROR(IF($C$11=\"eQUEST\",IF('Results from eQuest'!$I15=\"\",\"\",'Results from eQuest'!$AW15),IF($C$11=\"Trace\",\"\",\"\")),\"\")","v":""},{"$f":"IFERROR(IF($C$11=\"eQUEST\",IF('Results from eQuest'!$I15=\"\",\"\",'Results from eQuest'!$BJ15*0.1),IF($C$11=\"Trace\",IF(SUM('Results from Trace'!$K$6:$K$55)=0,\"\",SUMIFS('Results from Trace'!$K$6:$K$55,'Results from Trace'!$B$6:$B$55,\"Gas\")),\"\")),\"\")","v":""},{"$f":"IFERROR(IF($C$11=\"eQUEST\",\"\",IF($C$11=\"Trace\",IF(SUM('Results from Trace'!$K$6:$K$55)=0,\"\",SUMIFS('Results from Trace'!$K$6:$K$55,'Results from Trace'!$B$6:$B$55,\"Purchased Steam\")),\"\")),\"\")","v":""},{"$f":"IFERROR(IF($C$11=\"eQUEST\",\"\",IF($C$11=\"Trace\",IF(SUM('Results from Trace'!$K$6:$K$55)=0,\"\",SUMIFS('Results from Trace'!$K$6:$K$55,'Results from Trace'!$B$6:$B$55,\"Purchased Hot Water\")),\"\")),\"\")","v":""},{"$f":"IFERROR(IF($C$11=\"eQUEST\",\"\",IF($C$11=\"Trace\",IF(SUM('Results from Trace'!$K$6:$K$55)=0,\"\",SUMIFS('Results from Trace'!$K$6:$K$55,'Results from Trace'!$B$6:$B$55,\"Purchased Chilled Water\")),\"\")),\"\")","v":""},{"$f":"IFERROR(IF($C$11=\"eQUEST\",\"\",IF($C$11=\"Trace\",IF(SUM('Results from Trace'!$K$6:$K$55)=0,\"\",SUMIFS('Results from Trace'!$K$6:$K$55,'Results from Trace'!$B$6:$B$55,\"Oil\")),\"\")),\"\")","v":""},{"$f":"IFERROR(IF($C$11=\"eQUEST\",\"\",IF($C$11=\"Trace\",IF(SUM('Results from Trace'!$K$6:$K$55)=0,\"\",SUMIFS('Results from Trace'!$K$6:$K$55,'Results from Trace'!$B$6:$B$55,\"Propane\")),\"\")),\"\")","v":""},null,null,null,null,null,null,null,null,null,null,{"$f":"IF(LEFT(formulaTextCustom(F57),3)=\"=IF\",0,1)","v":0},{"$f":"IF(LEFT(formulaTextCustom(G57),3)=\"=IF\",0,1)","v":0},{"$f":"IF(LEFT(formulaTextCustom(H57),3)=\"=IF\",0,1)","v":0},{"$f":"IF(LEFT(formulaTextCustom(I57),3)=\"=IF\",0,1)","v":0},{"$f":"IF(LEFT(formulaTextCustom(J57),3)=\"=IF\",0,1)","v":0},{"$f":"IF(LEFT(formulaTextCustom(K57),3)=\"=IF\",0,1)","v":0},{"$f":"IF(LEFT(formulaTextCustom(L57),3)=\"=IF\",0,1)","v":0},{"$f":"IF(LEFT(formulaTextCustom(M57),3)=\"=IF\",0,1)","v":0},{"$f":"IF(LEFT(formulaTextCustom(N57),3)=\"=IF\",0,1)","v":0},{"$f":"IF(LEFT(formulaTextCustom(O57),3)=\"=IF\",0,1)","v":0},{"$f":"IF(LEFT(formulaTextCustom(P57),3)=\"\",0,1)","v":0}]
[null,null,null,4,{"$f":"IF('P4P - Measure Info'!D26=\"\",\"\",'P4P - Measure Info'!D26)","v":""},"<Select>",{"$f":"IF($C$11=\"eQuest\",IF(E58=\"\",\"\",'Results from eQuest'!J16),\"\")","v":""},{"$f":"IFERROR(IF($C$11=\"eQUEST\",IF('Results from eQuest'!$I16=\"\",\"\",'Results from eQuest'!$X16),IF($C$11=\"Trace\",IF(SUM('Results from Trace'!$L$6:$L$55)=0,\"\",SUMIFS('Results from Trace'!$L$6:$L$55,'Results from Trace'!$B$6:$B$55,\"Electricity\")/0.003412),\"\")),\"\")","v":""},{"$f":"IFERROR(IF($C$11=\"eQUEST\",IF('Results from eQuest'!$I16=\"\",\"\",'Results from eQuest'!$AW16),IF($C$11=\"Trace\",\"\",\"\")),\"\")","v":""},{"$f":"IFERROR(IF($C$11=\"eQUEST\",IF('Results from eQuest'!$I16=\"\",\"\",'Results from eQuest'!$BJ16*0.1),IF($C$11=\"Trace\",IF(SUM('Results from Trace'!$L$6:$L$55)=0,\"\",SUMIFS('Results from Trace'!$L$6:$L$55,'Results from Trace'!$B$6:$B$55,\"Gas\")),\"\")),\"\")","v":""},{"$f":"IFERROR(IF($C$11=\"eQUEST\",\"\",IF($C$11=\"Trace\",IF(SUM('Results from Trace'!$L$6:$L$55)=0,\"\",SUMIFS('Results from Trace'!$L$6:$L$55,'Results from Trace'!$B$6:$B$55,\"Purchased Steam\")),\"\")),\"\")","v":""},{"$f":"IFERROR(IF($C$11=\"eQUEST\",\"\",IF($C$11=\"Trace\",IF(SUM('Results from Trace'!$L$6:$L$55)=0,\"\",SUMIFS('Results from Trace'!$L$6:$L$55,'Results from Trace'!$B$6:$B$55,\"Purchased Hot Water\")),\"\")),\"\")","v":""},{"$f":"IFERROR(IF($C$11=\"eQUEST\",\"\",IF($C$11=\"Trace\",IF(SUM('Results from Trace'!$L$6:$L$55)=0,\"\",SUMIFS('Results from Trace'!$L$6:$L$55,'Results from Trace'!$B$6:$B$55,\"Purchased Chilled Water\")),\"\")),\"\")","v":""},{"$f":"IFERROR(IF($C$11=\"eQUEST\",\"\",IF($C$11=\"Trace\",IF(SUM('Results from Trace'!$L$6:$L$55)=0,\"\",SUMIFS('Results from Trace'!$L$6:$L$55,'Results from Trace'!$B$6:$B$55,\"Oil\")),\"\")),\"\")","v":""},{"$f":"IFERROR(IF($C$11=\"eQUEST\",\"\",IF($C$11=\"Trace\",IF(SUM('Results from Trace'!$L$6:$L$55)=0,\"\",SUMIFS('Results from Trace'!$L$6:$L$55,'Results from Trace'!$B$6:$B$55,\"Propane\")),\"\")),\"\")","v":""},null,null,null,null,null,null,null,null,null,null,{"$f":"IF(LEFT(formulaTextCustom(F58),3)=\"=IF\",0,1)","v":0},{"$f":"IF(LEFT(formulaTextCustom(G58),3)=\"=IF\",0,1)","v":0},{"$f":"IF(LEFT(formulaTextCustom(H58),3)=\"=IF\",0,1)","v":0},{"$f":"IF(LEFT(formulaTextCustom(I58),3)=\"=IF\",0,1)","v":0},{"$f":"IF(LEFT(formulaTextCustom(J58),3)=\"=IF\",0,1)","v":0},{"$f":"IF(LEFT(formulaTextCustom(K58),3)=\"=IF\",0,1)","v":0},{"$f":"IF(LEFT(formulaTextCustom(L58),3)=\"=IF\",0,1)","v":0},{"$f":"IF(LEFT(formulaTextCustom(M58),3)=\"=IF\",0,1)","v":0},{"$f":"IF(LEFT(formulaTextCustom(N58),3)=\"=IF\",0,1)","v":0},{"$f":"IF(LEFT(formulaTextCustom(O58),3)=\"=IF\",0,1)","v":0},{"$f":"IF(LEFT(formulaTextCustom(P58),3)=\"\",0,1)","v":0}]
[null,null,null,5,{"$f":"IF('P4P - Measure Info'!D27=\"\",\"\",'P4P - Measure Info'!D27)","v":""},"<Select>",{"$f":"IF($C$11=\"eQuest\",IF(E59=\"\",\"\",'Results from eQuest'!J17),\"\")","v":""},{"$f":"IFERROR(IF($C$11=\"eQUEST\",IF('Results from eQuest'!$I17=\"\",\"\",'Results from eQuest'!$X17),IF($C$11=\"Trace\",IF(SUM('Results from Trace'!$M$6:$M$55)=0,\"\",SUMIFS('Results from Trace'!$M$6:$M$55,'Results from Trace'!$B$6:$B$55,\"Electricity\")/0.003412),\"\")),\"\")","v":""},{"$f":"IFERROR(IF($C$11=\"eQUEST\",IF('Results from eQuest'!$I17=\"\",\"\",'Results from eQuest'!$AW17),IF($C$11=\"Trace\",\"\",\"\")),\"\")","v":""},{"$f":"IFERROR(IF($C$11=\"eQUEST\",IF('Results from eQuest'!$I17=\"\",\"\",'Results from eQuest'!$BJ17*0.1),IF($C$11=\"Trace\",IF(SUM('Results from Trace'!$M$6:$M$55)=0,\"\",SUMIFS('Results from Trace'!$M$6:$M$55,'Results from Trace'!$B$6:$B$55,\"Gas\")),\"\")),\"\")","v":""},{"$f":"IFERROR(IF($C$11=\"eQUEST\",\"\",IF($C$11=\"Trace\",IF(SUM('Results from Trace'!$M$6:$M$55)=0,\"\",SUMIFS('Results from Trace'!$M$6:$M$55,'Results from Trace'!$B$6:$B$55,\"Purchased Steam\")),\"\")),\"\")","v":""},{"$f":"IFERROR(IF($C$11=\"eQUEST\",\"\",IF($C$11=\"Trace\",IF(SUM('Results from Trace'!$M$6:$M$55)=0,\"\",SUMIFS('Results from Trace'!$M$6:$M$55,'Results from Trace'!$B$6:$B$55,\"Purchased Hot Water\")),\"\")),\"\")","v":""},{"$f":"IFERROR(IF($C$11=\"eQUEST\",\"\",IF($C$11=\"Trace\",IF(SUM('Results from Trace'!$M$6:$M$55)=0,\"\",SUMIFS('Results from Trace'!$M$6:$M$55,'Results from Trace'!$B$6:$B$55,\"Purchased Chilled Water\")),\"\")),\"\")","v":""},{"$f":"IFERROR(IF($C$11=\"eQUEST\",\"\",IF($C$11=\"Trace\",IF(SUM('Results from Trace'!$M$6:$M$55)=0,\"\",SUMIFS('Results from Trace'!$M$6:$M$55,'Results from Trace'!$B$6:$B$55,\"Oil\")),\"\")),\"\")","v":""},{"$f":"IFERROR(IF($C$11=\"eQUEST\",\"\",IF($C$11=\"Trace\",IF(SUM('Results from Trace'!$M$6:$M$55)=0,\"\",SUMIFS('Results from Trace'!$M$6:$M$55,'Results from Trace'!$B$6:$B$55,\"Propane\")),\"\")),\"\")","v":""},null,null,null,null,null,null,null,null,null,null,{"$f":"IF(LEFT(formulaTextCustom(F59),3)=\"=IF\",0,1)","v":0},{"$f":"IF(LEFT(formulaTextCustom(G59),3)=\"=IF\",0,1)","v":0},{"$f":"IF(LEFT(formulaTextCustom(H59),3)=\"=IF\",0,1)","v":0},{"$f":"IF(LEFT(formulaTextCustom(I59),3)=\"=IF\",0,1)","v":0},{"$f":"IF(LEFT(formulaTextCustom(J59),3)=\"=IF\",0,1)","v":0},{"$f":"IF(LEFT(formulaTextCustom(K59),3)=\"=IF\",0,1)","v":0},{"$f":"IF(LEFT(formulaTextCustom(L59),3)=\"=IF\",0,1)","v":0},{"$f":"IF(LEFT(formulaTextCustom(M59),3)=\"=IF\",0,1)","v":0},{"$f":"IF(LEFT(formulaTextCustom(N59),3)=\"=IF\",0,1)","v":0},{"$f":"IF(LEFT(formulaTextCustom(O59),3)=\"=IF\",0,1)","v":0},{"$f":"IF(LEFT(formulaTextCustom(P59),3)=\"\",0,1)","v":0}]
[null,null,null,6,{"$f":"IF('P4P - Measure Info'!D28=\"\",\"\",'P4P - Measure Info'!D28)","v":""},"<Select>",{"$f":"IF($C$11=\"eQuest\",IF(E60=\"\",\"\",'Results from eQuest'!J18),\"\")","v":""},{"$f":"IFERROR(IF($C$11=\"eQUEST\",IF('Results from eQuest'!$I18=\"\",\"\",'Results from eQuest'!$X18),IF($C$11=\"Trace\",IF(SUM('Results from Trace'!$N$6:$N$55)=0,\"\",SUMIFS('Results from Trace'!$N$6:$N$55,'Results from Trace'!$B$6:$B$55,\"Electricity\")/0.003412),\"\")),\"\")","v":""},{"$f":"IFERROR(IF($C$11=\"eQUEST\",IF('Results from eQuest'!$I18=\"\",\"\",'Results from eQuest'!$AW18),IF($C$11=\"Trace\",\"\",\"\")),\"\")","v":""},{"$f":"IFERROR(IF($C$11=\"eQUEST\",IF('Results from eQuest'!$I18=\"\",\"\",'Results from eQuest'!$BJ18*0.1),IF($C$11=\"Trace\",IF(SUM('Results from Trace'!$N$6:$N$55)=0,\"\",SUMIFS('Results from Trace'!$N$6:$N$55,'Results from Trace'!$B$6:$B$55,\"Gas\")),\"\")),\"\")","v":""},{"$f":"IFERROR(IF($C$11=\"eQUEST\",\"\",IF($C$11=\"Trace\",IF(SUM('Results from Trace'!$N$6:$N$55)=0,\"\",SUMIFS('Results from Trace'!$N$6:$N$55,'Results from Trace'!$B$6:$B$55,\"Purchased Steam\")),\"\")),\"\")","v":""},{"$f":"IFERROR(IF($C$11=\"eQUEST\",\"\",IF($C$11=\"Trace\",IF(SUM('Results from Trace'!$N$6:$N$55)=0,\"\",SUMIFS('Results from Trace'!$N$6:$N$55,'Results from Trace'!$B$6:$B$55,\"Purchased Hot Water\")),\"\")),\"\")","v":""},{"$f":"IFERROR(IF($C$11=\"eQUEST\",\"\",IF($C$11=\"Trace\",IF(SUM('Results from Trace'!$N$6:$N$55)=0,\"\",SUMIFS('Results from Trace'!$N$6:$N$55,'Results from Trace'!$B$6:$B$55,\"Purchased Chilled Water\")),\"\")),\"\")","v":""},{"$f":"IFERROR(IF($C$11=\"eQUEST\",\"\",IF($C$11=\"Trace\",IF(SUM('Results from Trace'!$N$6:$N$55)=0,\"\",SUMIFS('Results from Trace'!$N$6:$N$55,'Results from Trace'!$B$6:$B$55,\"Oil\")),\"\")),\"\")","v":""},{"$f":"IFERROR(IF($C$11=\"eQUEST\",\"\",IF($C$11=\"Trace\",IF(SUM('Results from Trace'!$N$6:$N$55)=0,\"\",SUMIFS('Results from Trace'!$N$6:$N$55,'Results from Trace'!$B$6:$B$55,\"Propane\")),\"\")),\"\")","v":""},null,null,null,null,null,null,null,null,null,null,{"$f":"IF(LEFT(formulaTextCustom(F60),3)=\"=IF\",0,1)","v":0},{"$f":"IF(LEFT(formulaTextCustom(G60),3)=\"=IF\",0,1)","v":0},{"$f":"IF(LEFT(formulaTextCustom(H60),3)=\"=IF\",0,1)","v":0},{"$f":"IF(LEFT(formulaTextCustom(I60),3)=\"=IF\",0,1)","v":0},{"$f":"IF(LEFT(formulaTextCustom(J60),3)=\"=IF\",0,1)","v":0},{"$f":"IF(LEFT(formulaTextCustom(K60),3)=\"=IF\",0,1)","v":0},{"$f":"IF(LEFT(formulaTextCustom(L60),3)=\"=IF\",0,1)","v":0},{"$f":"IF(LEFT(formulaTextCustom(M60),3)=\"=IF\",0,1)","v":0},{"$f":"IF(LEFT(formulaTextCustom(N60),3)=\"=IF\",0,1)","v":0},{"$f":"IF(LEFT(formulaTextCustom(O60),3)=\"=IF\",0,1)","v":0},{"$f":"IF(LEFT(formulaTextCustom(P60),3)=\"\",0,1)","v":0}]
[null,null,null,7,{"$f":"IF('P4P - Measure Info'!D29=\"\",\"\",'P4P - Measure Info'!D29)","v":""},"<Select>",{"$f":"IF($C$11=\"eQuest\",IF(E61=\"\",\"\",'Results from eQuest'!J19),\"\")","v":""},{"$f":"IFERROR(IF($C$11=\"eQUEST\",IF('Results from eQuest'!$I19=\"\",\"\",'Results from eQuest'!$X19),IF($C$11=\"Trace\",IF(SUM('Results from Trace'!$O$6:$O$55)=0,\"\",SUMIFS('Results from Trace'!$O$6:$O$55,'Results from Trace'!$B$6:$B$55,\"Electricity\")/0.003412),\"\")),\"\")","v":""},{"$f":"IFERROR(IF($C$11=\"eQUEST\",IF('Results from eQuest'!$I19=\"\",\"\",'Results from eQuest'!$AW19),IF($C$11=\"Trace\",\"\",\"\")),\"\")","v":""},{"$f":"IFERROR(IF($C$11=\"eQUEST\",IF('Results from eQuest'!$I19=\"\",\"\",'Results from eQuest'!$BJ19*0.1),IF($C$11=\"Trace\",IF(SUM('Results from Trace'!$O$6:$O$55)=0,\"\",SUMIFS('Results from Trace'!$O$6:$O$55,'Results from Trace'!$B$6:$B$55,\"Gas\")),\"\")),\"\")","v":""},{"$f":"IFERROR(IF($C$11=\"eQUEST\",\"\",IF($C$11=\"Trace\",IF(SUM('Results from Trace'!$O$6:$O$55)=0,\"\",SUMIFS('Results from Trace'!$O$6:$O$55,'Results from Trace'!$B$6:$B$55,\"Purchased Steam\")),\"\")),\"\")","v":""},{"$f":"IFERROR(IF($C$11=\"eQUEST\",\"\",IF($C$11=\"Trace\",IF(SUM('Results from Trace'!$O$6:$O$55)=0,\"\",SUMIFS('Results from Trace'!$O$6:$O$55,'Results from Trace'!$B$6:$B$55,\"Purchased Hot Water\")),\"\")),\"\")","v":""},{"$f":"IFERROR(IF($C$11=\"eQUEST\",\"\",IF($C$11=\"Trace\",IF(SUM('Results from Trace'!$O$6:$O$55)=0,\"\",SUMIFS('Results from Trace'!$O$6:$O$55,'Results from Trace'!$B$6:$B$55,\"Purchased Chilled Water\")),\"\")),\"\")","v":""},{"$f":"IFERROR(IF($C$11=\"eQUEST\",\"\",IF($C$11=\"Trace\",IF(SUM('Results from Trace'!$O$6:$O$55)=0,\"\",SUMIFS('Results from Trace'!$O$6:$O$55,'Results from Trace'!$B$6:$B$55,\"Oil\")),\"\")),\"\")","v":""},{"$f":"IFERROR(IF($C$11=\"eQUEST\",\"\",IF($C$11=\"Trace\",IF(SUM('Results from Trace'!$O$6:$O$55)=0,\"\",SUMIFS('Results from Trace'!$O$6:$O$55,'Results from Trace'!$B$6:$B$55,\"Propane\")),\"\")),\"\")","v":""},null,null,null,null,null,null,null,null,null,null,{"$f":"IF(LEFT(formulaTextCustom(F61),3)=\"=IF\",0,1)","v":0},{"$f":"IF(LEFT(formulaTextCustom(G61),3)=\"=IF\",0,1)","v":0},{"$f":"IF(LEFT(formulaTextCustom(H61),3)=\"=IF\",0,1)","v":0},{"$f":"IF(LEFT(formulaTextCustom(I61),3)=\"=IF\",0,1)","v":0},{"$f":"IF(LEFT(formulaTextCustom(J61),3)=\"=IF\",0,1)","v":0},{"$f":"IF(LEFT(formulaTextCustom(K61),3)=\"=IF\",0,1)","v":0},{"$f":"IF(LEFT(formulaTextCustom(L61),3)=\"=IF\",0,1)","v":0},{"$f":"IF(LEFT(formulaTextCustom(M61),3)=\"=IF\",0,1)","v":0},{"$f":"IF(LEFT(formulaTextCustom(N61),3)=\"=IF\",0,1)","v":0},{"$f":"IF(LEFT(formulaTextCustom(O61),3)=\"=IF\",0,1)","v":0},{"$f":"IF(LEFT(formulaTextCustom(P61),3)=\"\",0,1)","v":0}]
[null,null,null,8,{"$f":"IF('P4P - Measure Info'!D30=\"\",\"\",'P4P - Measure Info'!D30)","v":""},"<Select>",{"$f":"IF($C$11=\"eQuest\",IF(E62=\"\",\"\",'Results from eQuest'!J20),\"\")","v":""},{"$f":"IFERROR(IF($C$11=\"eQUEST\",IF('Results from eQuest'!$I20=\"\",\"\",'Results from eQuest'!$X20),IF($C$11=\"Trace\",IF(SUM('Results from Trace'!$P$6:$P$55)=0,\"\",SUMIFS('Results from Trace'!$P$6:$P$55,'Results from Trace'!$B$6:$B$55,\"Electricity\")/0.003412),\"\")),\"\")","v":""},{"$f":"IFERROR(IF($C$11=\"eQUEST\",IF('Results from eQuest'!$I20=\"\",\"\",'Results from eQuest'!$AW20),IF($C$11=\"Trace\",\"\",\"\")),\"\")","v":""},{"$f":"IFERROR(IF($C$11=\"eQUEST\",IF('Results from eQuest'!$I20=\"\",\"\",'Results from eQuest'!$BJ20*0.1),IF($C$11=\"Trace\",IF(SUM('Results from Trace'!$P$6:$P$55)=0,\"\",SUMIFS('Results from Trace'!$P$6:$P$55,'Results from Trace'!$B$6:$B$55,\"Gas\")),\"\")),\"\")","v":""},{"$f":"IFERROR(IF($C$11=\"eQUEST\",\"\",IF($C$11=\"Trace\",IF(SUM('Results from Trace'!$P$6:$P$55)=0,\"\",SUMIFS('Results from Trace'!$P$6:$P$55,'Results from Trace'!$B$6:$B$55,\"Purchased Steam\")),\"\")),\"\")","v":""},{"$f":"IFERROR(IF($C$11=\"eQUEST\",\"\",IF($C$11=\"Trace\",IF(SUM('Results from Trace'!$P$6:$P$55)=0,\"\",SUMIFS('Results from Trace'!$P$6:$P$55,'Results from Trace'!$B$6:$B$55,\"Purchased Hot Water\")),\"\")),\"\")","v":""},{"$f":"IFERROR(IF($C$11=\"eQUEST\",\"\",IF($C$11=\"Trace\",IF(SUM('Results from Trace'!$P$6:$P$55)=0,\"\",SUMIFS('Results from Trace'!$P$6:$P$55,'Results from Trace'!$B$6:$B$55,\"Purchased Chilled Water\")),\"\")),\"\")","v":""},{"$f":"IFERROR(IF($C$11=\"eQUEST\",\"\",IF($C$11=\"Trace\",IF(SUM('Results from Trace'!$P$6:$P$55)=0,\"\",SUMIFS('Results from Trace'!$P$6:$P$55,'Results from Trace'!$B$6:$B$55,\"Oil\")),\"\")),\"\")","v":""},{"$f":"IFERROR(IF($C$11=\"eQUEST\",\"\",IF($C$11=\"Trace\",IF(SUM('Results from Trace'!$P$6:$P$55)=0,\"\",SUMIFS('Results from Trace'!$P$6:$P$55,'Results from Trace'!$B$6:$B$55,\"Propane\")),\"\")),\"\")","v":""},null,null,null,null,null,null,null,null,null,null,{"$f":"IF(LEFT(formulaTextCustom(F62),3)=\"=IF\",0,1)","v":0},{"$f":"IF(LEFT(formulaTextCustom(G62),3)=\"=IF\",0,1)","v":0},{"$f":"IF(LEFT(formulaTextCustom(H62),3)=\"=IF\",0,1)","v":0},{"$f":"IF(LEFT(formulaTextCustom(I62),3)=\"=IF\",0,1)","v":0},{"$f":"IF(LEFT(formulaTextCustom(J62),3)=\"=IF\",0,1)","v":0},{"$f":"IF(LEFT(formulaTextCustom(K62),3)=\"=IF\",0,1)","v":0},{"$f":"IF(LEFT(formulaTextCustom(L62),3)=\"=IF\",0,1)","v":0},{"$f":"IF(LEFT(formulaTextCustom(M62),3)=\"=IF\",0,1)","v":0},{"$f":"IF(LEFT(formulaTextCustom(N62),3)=\"=IF\",0,1)","v":0},{"$f":"IF(LEFT(formulaTextCustom(O62),3)=\"=IF\",0,1)","v":0},{"$f":"IF(LEFT(formulaTextCustom(P62),3)=\"\",0,1)","v":0}]
[null,null,null,9,{"$f":"IF('P4P - Measure Info'!D31=\"\",\"\",'P4P - Measure Info'!D31)","v":""},"<Select>",{"$f":"IF($C$11=\"eQuest\",IF(E63=\"\",\"\",'Results from eQuest'!J21),\"\")","v":""},{"$f":"IFERROR(IF($C$11=\"eQUEST\",IF('Results from eQuest'!$I21=\"\",\"\",'Results from eQuest'!$X21),IF($C$11=\"Trace\",IF(SUM('Results from Trace'!$Q$6:$Q55)=0,\"\",SUMIFS('Results from Trace'!$Q$6:$Q$55,'Results from Trace'!$B$6:$B$55,\"Electricity\")/0.003412),\"\")),\"\")","v":""},{"$f":"IFERROR(IF($C$11=\"eQUEST\",IF('Results from eQuest'!$I21=\"\",\"\",'Results from eQuest'!$AW21),IF($C$11=\"Trace\",\"\",\"\")),\"\")","v":""},{"$f":"IFERROR(IF($C$11=\"eQUEST\",IF('Results from eQuest'!$I21=\"\",\"\",'Results from eQuest'!$BJ21*0.1),IF($C$11=\"Trace\",IF(SUM('Results from Trace'!$Q$6:$Q$55)=0,\"\",SUMIFS('Results from Trace'!$Q$6:$Q$55,'Results from Trace'!$B$6:$B$55,\"Gas\")),\"\")),\"\")","v":""},{"$f":"IFERROR(IF($C$11=\"eQUEST\",\"\",IF($C$11=\"Trace\",IF(SUM('Results from Trace'!$Q$6:$Q$55)=0,\"\",SUMIFS('Results from Trace'!$Q$6:$Q$55,'Results from Trace'!$B$6:$B$55,\"Purchased Steam\")),\"\")),\"\")","v":""},{"$f":"IFERROR(IF($C$11=\"eQUEST\",\"\",IF($C$11=\"Trace\",IF(SUM('Results from Trace'!$Q$6:$Q$55)=0,\"\",SUMIFS('Results from Trace'!$Q$6:$Q$55,'Results from Trace'!$B$6:$B$55,\"Purchased Hot Water\")),\"\")),\"\")","v":""},{"$f":"IFERROR(IF($C$11=\"eQUEST\",\"\",IF($C$11=\"Trace\",IF(SUM('Results from Trace'!$Q$6:$Q$55)=0,\"\",SUMIFS('Results from Trace'!$Q$6:$Q$55,'Results from Trace'!$B$6:$B$55,\"Purchased Chilled Water\")),\"\")),\"\")","v":""},{"$f":"IFERROR(IF($C$11=\"eQUEST\",\"\",IF($C$11=\"Trace\",IF(SUM('Results from Trace'!$Q$6:$Q$55)=0,\"\",SUMIFS('Results from Trace'!$Q$6:$Q$55,'Results from Trace'!$B$6:$B$55,\"Oil\")),\"\")),\"\")","v":""},{"$f":"IFERROR(IF($C$11=\"eQUEST\",\"\",IF($C$11=\"Trace\",IF(SUM('Results from Trace'!$Q$6:$Q$55)=0,\"\",SUMIFS('Results from Trace'!$Q$6:$Q$55,'Results from Trace'!$B$6:$B$55,\"Propane\")),\"\")),\"\")","v":""},null,null,null,null,null,null,null,null,null,null,{"$f":"IF(LEFT(formulaTextCustom(F63),3)=\"=IF\",0,1)","v":0},{"$f":"IF(LEFT(formulaTextCustom(G63),3)=\"=IF\",0,1)","v":0},{"$f":"IF(LEFT(formulaTextCustom(H63),3)=\"=IF\",0,1)","v":0},{"$f":"IF(LEFT(formulaTextCustom(I63),3)=\"=IF\",0,1)","v":0},{"$f":"IF(LEFT(formulaTextCustom(J63),3)=\"=IF\",0,1)","v":0},{"$f":"IF(LEFT(formulaTextCustom(K63),3)=\"=IF\",0,1)","v":0},{"$f":"IF(LEFT(formulaTextCustom(L63),3)=\"=IF\",0,1)","v":0},{"$f":"IF(LEFT(formulaTextCustom(M63),3)=\"=IF\",0,1)","v":0},{"$f":"IF(LEFT(formulaTextCustom(N63),3)=\"=IF\",0,1)","v":0},{"$f":"IF(LEFT(formulaTextCustom(O63),3)=\"=IF\",0,1)","v":0},{"$f":"IF(LEFT(formulaTextCustom(P63),3)=\"\",0,1)","v":0}]
[null,null,null,10,{"$f":"IF('P4P - Measure Info'!D32=\"\",\"\",'P4P - Measure Info'!D32)","v":""},"<Select>",{"$f":"IF($C$11=\"eQuest\",IF(E64=\"\",\"\",'Results from eQuest'!J22),\"\")","v":""},{"$f":"IFERROR(IF($C$11=\"eQUEST\",IF('Results from eQuest'!$I22=\"\",\"\",'Results from eQuest'!$X22),IF($C$11=\"Trace\",IF(SUM('Results from Trace'!$R$6:$R$55)=0,\"\",SUMIFS('Results from Trace'!$R$6:$R$55,'Results from Trace'!$B$6:$B$55,\"Electricity\")/0.003412),\"\")),\"\")","v":""},{"$f":"IFERROR(IF($C$11=\"eQUEST\",IF('Results from eQuest'!$I22=\"\",\"\",'Results from eQuest'!$AW22),IF($C$11=\"Trace\",\"\",\"\")),\"\")","v":""},{"$f":"IFERROR(IF($C$11=\"eQUEST\",IF('Results from eQuest'!$I22=\"\",\"\",'Results from eQuest'!$BJ22*0.1),IF($C$11=\"Trace\",IF(SUM('Results from Trace'!$R$6:$R$55)=0,\"\",SUMIFS('Results from Trace'!$R$6:$R$55,'Results from Trace'!$B$6:$B$55,\"Gas\")),\"\")),\"\")","v":""},{"$f":"IFERROR(IF($C$11=\"eQUEST\",\"\",IF($C$11=\"Trace\",IF(SUM('Results from Trace'!$R$6:$R$55)=0,\"\",SUMIFS('Results from Trace'!$R$6:$R$55,'Results from Trace'!$B$6:$B$55,\"Purchased Steam\")),\"\")),\"\")","v":""},{"$f":"IFERROR(IF($C$11=\"eQUEST\",\"\",IF($C$11=\"Trace\",IF(SUM('Results from Trace'!$R$6:$R$55)=0,\"\",SUMIFS('Results from Trace'!$R$6:$R$55,'Results from Trace'!$B$6:$B$55,\"Purchased Hot Water\")),\"\")),\"\")","v":""},{"$f":"IFERROR(IF($C$11=\"eQUEST\",\"\",IF($C$11=\"Trace\",IF(SUM('Results from Trace'!$R$6:$R$55)=0,\"\",SUMIFS('Results from Trace'!$R$6:$R$55,'Results from Trace'!$B$6:$B$55,\"Purchased Chilled Water\")),\"\")),\"\")","v":""},{"$f":"IFERROR(IF($C$11=\"eQUEST\",\"\",IF($C$11=\"Trace\",IF(SUM('Results from Trace'!$R$6:$R$55)=0,\"\",SUMIFS('Results from Trace'!$R$6:$R$55,'Results from Trace'!$B$6:$B$55,\"Oil\")),\"\")),\"\")","v":""},{"$f":"IFERROR(IF($C$11=\"eQUEST\",\"\",IF($C$11=\"Trace\",IF(SUM('Results from Trace'!$R$6:$R$55)=0,\"\",SUMIFS('Results from Trace'!$R$6:$R$55,'Results from Trace'!$B$6:$B$55,\"Propane\")),\"\")),\"\")","v":""},null,null,null,null,null,null,null,null,null,null,{"$f":"IF(LEFT(formulaTextCustom(F64),3)=\"=IF\",0,1)","v":0},{"$f":"IF(LEFT(formulaTextCustom(G64),3)=\"=IF\",0,1)","v":0},{"$f":"IF(LEFT(formulaTextCustom(H64),3)=\"=IF\",0,1)","v":0},{"$f":"IF(LEFT(formulaTextCustom(I64),3)=\"=IF\",0,1)","v":0},{"$f":"IF(LEFT(formulaTextCustom(J64),3)=\"=IF\",0,1)","v":0},{"$f":"IF(LEFT(formulaTextCustom(K64),3)=\"=IF\",0,1)","v":0},{"$f":"IF(LEFT(formulaTextCustom(L64),3)=\"=IF\",0,1)","v":0},{"$f":"IF(LEFT(formulaTextCustom(M64),3)=\"=IF\",0,1)","v":0},{"$f":"IF(LEFT(formulaTextCustom(N64),3)=\"=IF\",0,1)","v":0},{"$f":"IF(LEFT(formulaTextCustom(O64),3)=\"=IF\",0,1)","v":0},{"$f":"IF(LEFT(formulaTextCustom(P64),3)=\"\",0,1)","v":0}]
[null,null,null,11,{"$f":"IF('P4P - Measure Info'!D33=\"\",\"\",'P4P - Measure Info'!D33)","v":""},"<Select>",{"$f":"IF($C$11=\"eQuest\",IF(E65=\"\",\"\",'Results from eQuest'!J23),\"\")","v":""},{"$f":"IFERROR(IF($C$11=\"eQUEST\",IF('Results from eQuest'!$I23=\"\",\"\",'Results from eQuest'!$X23),IF($C$11=\"Trace\",IF(SUM('Results from Trace'!$S$6:$S$55)=0,\"\",SUMIFS('Results from Trace'!$S$6:$S$55,'Results from Trace'!$B$6:$B$55,\"Electricity\")/0.003412),\"\")),\"\")","v":""},{"$f":"IFERROR(IF($C$11=\"eQUEST\",IF('Results from eQuest'!$I23=\"\",\"\",'Results from eQuest'!$AW23),IF($C$11=\"Trace\",\"\",\"\")),\"\")","v":""},{"$f":"IFERROR(IF($C$11=\"eQUEST\",IF('Results from eQuest'!$I23=\"\",\"\",'Results from eQuest'!$BJ23*0.1),IF($C$11=\"Trace\",IF(SUM('Results from Trace'!$S$6:$S$55)=0,\"\",SUMIFS('Results from Trace'!$S$6:$S$55,'Results from Trace'!$B$6:$B$55,\"Gas\")),\"\")),\"\")","v":""},{"$f":"IFERROR(IF($C$11=\"eQUEST\",\"\",IF($C$11=\"Trace\",IF(SUM('Results from Trace'!$S$6:$S$55)=0,\"\",SUMIFS('Results from Trace'!$S$6:$S$55,'Results from Trace'!$B$6:$B$55,\"Purchased Steam\")),\"\")),\"\")","v":""},{"$f":"IFERROR(IF($C$11=\"eQUEST\",\"\",IF($C$11=\"Trace\",IF(SUM('Results from Trace'!$S$6:$S$55)=0,\"\",SUMIFS('Results from Trace'!$S$6:$S$55,'Results from Trace'!$B$6:$B$55,\"Purchased Hot Water\")),\"\")),\"\")","v":""},{"$f":"IFERROR(IF($C$11=\"eQUEST\",\"\",IF($C$11=\"Trace\",IF(SUM('Results from Trace'!$S$6:$S$55)=0,\"\",SUMIFS('Results from Trace'!$S$6:$S$55,'Results from Trace'!$B$6:$B$55,\"Purchased Chilled Water\")),\"\")),\"\")","v":""},{"$f":"IFERROR(IF($C$11=\"eQUEST\",\"\",IF($C$11=\"Trace\",IF(SUM('Results from Trace'!$S$6:$S$55)=0,\"\",SUMIFS('Results from Trace'!$S$6:$S$55,'Results from Trace'!$B$6:$B$55,\"Oil\")),\"\")),\"\")","v":""},{"$f":"IFERROR(IF($C$11=\"eQUEST\",\"\",IF($C$11=\"Trace\",IF(SUM('Results from Trace'!$S$6:$S$55)=0,\"\",SUMIFS('Results from Trace'!$S$6:$S$55,'Results from Trace'!$B$6:$B$55,\"Propane\")),\"\")),\"\")","v":""},null,null,null,null,null,null,null,null,null,null,{"$f":"IF(LEFT(formulaTextCustom(F65),3)=\"=IF\",0,1)","v":0},{"$f":"IF(LEFT(formulaTextCustom(G65),3)=\"=IF\",0,1)","v":0},{"$f":"IF(LEFT(formulaTextCustom(H65),3)=\"=IF\",0,1)","v":0},{"$f":"IF(LEFT(formulaTextCustom(I65),3)=\"=IF\",0,1)","v":0},{"$f":"IF(LEFT(formulaTextCustom(J65),3)=\"=IF\",0,1)","v":0},{"$f":"IF(LEFT(formulaTextCustom(K65),3)=\"=IF\",0,1)","v":0},{"$f":"IF(LEFT(formulaTextCustom(L65),3)=\"=IF\",0,1)","v":0},{"$f":"IF(LEFT(formulaTextCustom(M65),3)=\"=IF\",0,1)","v":0},{"$f":"IF(LEFT(formulaTextCustom(N65),3)=\"=IF\",0,1)","v":0},{"$f":"IF(LEFT(formulaTextCustom(O65),3)=\"=IF\",0,1)","v":0},{"$f":"IF(LEFT(formulaTextCustom(P65),3)=\"\",0,1)","v":0}]
[null,null,null,12,{"$f":"IF('P4P - Measure Info'!D34=\"\",\"\",'P4P - Measure Info'!D34)","v":""},"<Select>",{"$f":"IF($C$11=\"eQuest\",IF(E66=\"\",\"\",'Results from eQuest'!J24),\"\")","v":""},{"$f":"IFERROR(IF($C$11=\"eQUEST\",IF('Results from eQuest'!$I24=\"\",\"\",'Results from eQuest'!$X24),IF($C$11=\"Trace\",IF(SUM('Results from Trace'!$T$6:$T$55)=0,\"\",SUMIFS('Results from Trace'!$T$6:$T$55,'Results from Trace'!$B$6:$B$55,\"Electricity\")/0.003412),\"\")),\"\")","v":""},{"$f":"IFERROR(IF($C$11=\"eQUEST\",IF('Results from eQuest'!$I24=\"\",\"\",'Results from eQuest'!$AW24),IF($C$11=\"Trace\",\"\",\"\")),\"\")","v":""},{"$f":"IFERROR(IF($C$11=\"eQUEST\",IF('Results from eQuest'!$I24=\"\",\"\",'Results from eQuest'!$BJ24*0.1),IF($C$11=\"Trace\",IF(SUM('Results from Trace'!$T$6:$T$55)=0,\"\",SUMIFS('Results from Trace'!$T$6:$T$55,'Results from Trace'!$B$6:$B$55,\"Gas\")),\"\")),\"\")","v":""},{"$f":"IFERROR(IF($C$11=\"eQUEST\",\"\",IF($C$11=\"Trace\",IF(SUM('Results from Trace'!$T$6:$T$55)=0,\"\",SUMIFS('Results from Trace'!$T$6:$T$55,'Results from Trace'!$B$6:$B$55,\"Purchased Steam\")),\"\")),\"\")","v":""},{"$f":"IFERROR(IF($C$11=\"eQUEST\",\"\",IF($C$11=\"Trace\",IF(SUM('Results from Trace'!$T$6:$T$55)=0,\"\",SUMIFS('Results from Trace'!$T$6:$T$55,'Results from Trace'!$B$6:$B$55,\"Purchased Hot Water\")),\"\")),\"\")","v":""},{"$f":"IFERROR(IF($C$11=\"eQUEST\",\"\",IF($C$11=\"Trace\",IF(SUM('Results from Trace'!$T$6:$T$55)=0,\"\",SUMIFS('Results from Trace'!$T$6:$T$55,'Results from Trace'!$B$6:$B$55,\"Purchased Chilled Water\")),\"\")),\"\")","v":""},{"$f":"IFERROR(IF($C$11=\"eQUEST\",\"\",IF($C$11=\"Trace\",IF(SUM('Results from Trace'!$T$6:$T$55)=0,\"\",SUMIFS('Results from Trace'!$T$6:$T$55,'Results from Trace'!$B$6:$B$55,\"Oil\")),\"\")),\"\")","v":""},{"$f":"IFERROR(IF($C$11=\"eQUEST\",\"\",IF($C$11=\"Trace\",IF(SUM('Results from Trace'!$T$6:$T$55)=0,\"\",SUMIFS('Results from Trace'!$T$6:$T$55,'Results from Trace'!$B$6:$B$55,\"Propane\")),\"\")),\"\")","v":""},null,null,null,null,null,null,null,null,null,null,{"$f":"IF(LEFT(formulaTextCustom(F66),3)=\"=IF\",0,1)","v":0},{"$f":"IF(LEFT(formulaTextCustom(G66),3)=\"=IF\",0,1)","v":0},{"$f":"IF(LEFT(formulaTextCustom(H66),3)=\"=IF\",0,1)","v":0},{"$f":"IF(LEFT(formulaTextCustom(I66),3)=\"=IF\",0,1)","v":0},{"$f":"IF(LEFT(formulaTextCustom(J66),3)=\"=IF\",0,1)","v":0},{"$f":"IF(LEFT(formulaTextCustom(K66),3)=\"=IF\",0,1)","v":0},{"$f":"IF(LEFT(formulaTextCustom(L66),3)=\"=IF\",0,1)","v":0},{"$f":"IF(LEFT(formulaTextCustom(M66),3)=\"=IF\",0,1)","v":0},{"$f":"IF(LEFT(formulaTextCustom(N66),3)=\"=IF\",0,1)","v":0},{"$f":"IF(LEFT(formulaTextCustom(O66),3)=\"=IF\",0,1)","v":0},{"$f":"IF(LEFT(formulaTextCustom(P66),3)=\"\",0,1)","v":0}]
[null,null,null,13,{"$f":"IF('P4P - Measure Info'!D35=\"\",\"\",'P4P - Measure Info'!D35)","v":""},"<Select>",{"$f":"IF($C$11=\"eQuest\",IF(E67=\"\",\"\",'Results from eQuest'!J25),\"\")","v":""},{"$f":"IFERROR(IF($C$11=\"eQUEST\",IF('Results from eQuest'!$I25=\"\",\"\",'Results from eQuest'!$X25),IF($C$11=\"Trace\",IF(SUM('Results from Trace'!$U$6:$U$55)=0,\"\",SUMIFS('Results from Trace'!$U$6:$U$55,'Results from Trace'!$B$6:$B$55,\"Electricity\")/0.003412),\"\")),\"\")","v":""},{"$f":"IFERROR(IF($C$11=\"eQUEST\",IF('Results from eQuest'!$I25=\"\",\"\",'Results from eQuest'!$AW25),IF($C$11=\"Trace\",\"\",\"\")),\"\")","v":""},{"$f":"IFERROR(IF($C$11=\"eQUEST\",IF('Results from eQuest'!$I25=\"\",\"\",'Results from eQuest'!$BJ25*0.1),IF($C$11=\"Trace\",IF(SUM('Results from Trace'!$U$6:$U$55)=0,\"\",SUMIFS('Results from Trace'!$U$6:$U$55,'Results from Trace'!$B$6:$B$55,\"Gas\")),\"\")),\"\")","v":""},{"$f":"IFERROR(IF($C$11=\"eQUEST\",\"\",IF($C$11=\"Trace\",IF(SUM('Results from Trace'!$U$6:$U$55)=0,\"\",SUMIFS('Results from Trace'!$U$6:$U$55,'Results from Trace'!$B$6:$B$55,\"Purchased Steam\")),\"\")),\"\")","v":""},{"$f":"IFERROR(IF($C$11=\"eQUEST\",\"\",IF($C$11=\"Trace\",IF(SUM('Results from Trace'!$U$6:$U$55)=0,\"\",SUMIFS('Results from Trace'!$U$6:$U$55,'Results from Trace'!$B$6:$B$55,\"Purchased Hot Water\")),\"\")),\"\")","v":""},{"$f":"IFERROR(IF($C$11=\"eQUEST\",\"\",IF($C$11=\"Trace\",IF(SUM('Results from Trace'!$U$6:$U$55)=0,\"\",SUMIFS('Results from Trace'!$U$6:$U$55,'Results from Trace'!$B$6:$B$55,\"Purchased Chilled Water\")),\"\")),\"\")","v":""},{"$f":"IFERROR(IF($C$11=\"eQUEST\",\"\",IF($C$11=\"Trace\",IF(SUM('Results from Trace'!$U$6:$U$55)=0,\"\",SUMIFS('Results from Trace'!$U$6:$U$55,'Results from Trace'!$B$6:$B$55,\"Oil\")),\"\")),\"\")","v":""},{"$f":"IFERROR(IF($C$11=\"eQUEST\",\"\",IF($C$11=\"Trace\",IF(SUM('Results from Trace'!$U$6:$U$55)=0,\"\",SUMIFS('Results from Trace'!$U$6:$U$55,'Results from Trace'!$B$6:$B$55,\"Propane\")),\"\")),\"\")","v":""},null,null,null,null,null,null,null,null,null,null,{"$f":"IF(LEFT(formulaTextCustom(F67),3)=\"=IF\",0,1)","v":0},{"$f":"IF(LEFT(formulaTextCustom(G67),3)=\"=IF\",0,1)","v":0},{"$f":"IF(LEFT(formulaTextCustom(H67),3)=\"=IF\",0,1)","v":0},{"$f":"IF(LEFT(formulaTextCustom(I67),3)=\"=IF\",0,1)","v":0},{"$f":"IF(LEFT(formulaTextCustom(J67),3)=\"=IF\",0,1)","v":0},{"$f":"IF(LEFT(formulaTextCustom(K67),3)=\"=IF\",0,1)","v":0},{"$f":"IF(LEFT(formulaTextCustom(L67),3)=\"=IF\",0,1)","v":0},{"$f":"IF(LEFT(formulaTextCustom(M67),3)=\"=IF\",0,1)","v":0},{"$f":"IF(LEFT(formulaTextCustom(N67),3)=\"=IF\",0,1)","v":0},{"$f":"IF(LEFT(formulaTextCustom(O67),3)=\"=IF\",0,1)","v":0},{"$f":"IF(LEFT(formulaTextCustom(P67),3)=\"\",0,1)","v":0}]
[null,null,null,14,{"$f":"IF('P4P - Measure Info'!D36=\"\",\"\",'P4P - Measure Info'!D36)","v":""},"<Select>",{"$f":"IF($C$11=\"eQuest\",IF(E68=\"\",\"\",'Results from eQuest'!J26),\"\")","v":""},{"$f":"IFERROR(IF($C$11=\"eQUEST\",IF('Results from eQuest'!$I26=\"\",\"\",'Results from eQuest'!$X26),IF($C$11=\"Trace\",IF(SUM('Results from Trace'!$V$6:$V$55)=0,\"\",SUMIFS('Results from Trace'!$V$6:$V$55,'Results from Trace'!$B$6:$B$55,\"Electricity\")/0.0034123),\"\")),\"\")","v":""},{"$f":"IFERROR(IF($C$11=\"eQUEST\",IF('Results from eQuest'!$I26=\"\",\"\",'Results from eQuest'!$AW26),IF($C$11=\"Trace\",\"\",\"\")),\"\")","v":""},{"$f":"IFERROR(IF($C$11=\"eQUEST\",IF('Results from eQuest'!$I26=\"\",\"\",'Results from eQuest'!$BJ26*0.1),IF($C$11=\"Trace\",IF(SUM('Results from Trace'!$V$6:$V$55)=0,\"\",SUMIFS('Results from Trace'!$V$6:$V$55,'Results from Trace'!$B$6:$B$55,\"Gas\")),\"\")),\"\")","v":""},{"$f":"IFERROR(IF($C$11=\"eQUEST\",\"\",IF($C$11=\"Trace\",IF(SUM('Results from Trace'!$V$6:$V$55)=0,\"\",SUMIFS('Results from Trace'!$V$6:$V$55,'Results from Trace'!$B$6:$B$55,\"Purchased Steam\")),\"\")),\"\")","v":""},{"$f":"IFERROR(IF($C$11=\"eQUEST\",\"\",IF($C$11=\"Trace\",IF(SUM('Results from Trace'!$V$6:$V$55)=0,\"\",SUMIFS('Results from Trace'!$V$6:$V$55,'Results from Trace'!$B$6:$B$55,\"Purchased Hot Water\")),\"\")),\"\")","v":""},{"$f":"IFERROR(IF($C$11=\"eQUEST\",\"\",IF($C$11=\"Trace\",IF(SUM('Results from Trace'!$V$6:$V$55)=0,\"\",SUMIFS('Results from Trace'!$V$6:$V$55,'Results from Trace'!$B$6:$B$55,\"Purchased Chilled Water\")),\"\")),\"\")","v":""},{"$f":"IFERROR(IF($C$11=\"eQUEST\",\"\",IF($C$11=\"Trace\",IF(SUM('Results from Trace'!$V$6:$V$55)=0,\"\",SUMIFS('Results from Trace'!$V$6:$V$55,'Results from Trace'!$B$6:$B$55,\"Oil\")),\"\")),\"\")","v":""},{"$f":"IFERROR(IF($C$11=\"eQUEST\",\"\",IF($C$11=\"Trace\",IF(SUM('Results from Trace'!$V$6:$V$55)=0,\"\",SUMIFS('Results from Trace'!$V$6:$V$55,'Results from Trace'!$B$6:$B$55,\"Propane\")),\"\")),\"\")","v":""},null,null,null,null,null,null,null,null,null,null,{"$f":"IF(LEFT(formulaTextCustom(F68),3)=\"=IF\",0,1)","v":0},{"$f":"IF(LEFT(formulaTextCustom(G68),3)=\"=IF\",0,1)","v":0},{"$f":"IF(LEFT(formulaTextCustom(H68),3)=\"=IF\",0,1)","v":0},{"$f":"IF(LEFT(formulaTextCustom(I68),3)=\"=IF\",0,1)","v":0},{"$f":"IF(LEFT(formulaTextCustom(J68),3)=\"=IF\",0,1)","v":0},{"$f":"IF(LEFT(formulaTextCustom(K68),3)=\"=IF\",0,1)","v":0},{"$f":"IF(LEFT(formulaTextCustom(L68),3)=\"=IF\",0,1)","v":0},{"$f":"IF(LEFT(formulaTextCustom(M68),3)=\"=IF\",0,1)","v":0},{"$f":"IF(LEFT(formulaTextCustom(N68),3)=\"=IF\",0,1)","v":0},{"$f":"IF(LEFT(formulaTextCustom(O68),3)=\"=IF\",0,1)","v":0},{"$f":"IF(LEFT(formulaTextCustom(P68),3)=\"\",0,1)","v":0}]
[null,null,null,15,{"$f":"IF('P4P - Measure Info'!D37=\"\",\"\",'P4P - Measure Info'!D37)","v":""},"<Select>",{"$f":"IF($C$11=\"eQuest\",IF(E69=\"\",\"\",'Results from eQuest'!J27),\"\")","v":""},{"$f":"IFERROR(IF($C$11=\"eQUEST\",IF('Results from eQuest'!$I27=\"\",\"\",'Results from eQuest'!$X27),IF($C$11=\"Trace\",IF(SUM('Results from Trace'!$W$6:$W$55)=0,\"\",SUMIFS('Results from Trace'!$W$6:$W$55,'Results from Trace'!$B$6:$B$55,\"Electricity\")/0.003412),\"\")),\"\")","v":""},{"$f":"IFERROR(IF($C$11=\"eQUEST\",IF('Results from eQuest'!$I27=\"\",\"\",'Results from eQuest'!$AW27),IF($C$11=\"Trace\",\"\",\"\")),\"\")","v":""},{"$f":"IFERROR(IF($C$11=\"eQUEST\",IF('Results from eQuest'!$I27=\"\",\"\",'Results from eQuest'!$BJ27*0.1),IF($C$11=\"Trace\",IF(SUM('Results from Trace'!$W$6:$W$55)=0,\"\",SUMIFS('Results from Trace'!$W$6:$W$55,'Results from Trace'!$B$6:$B$55,\"Gas\")),\"\")),\"\")","v":""},{"$f":"IFERROR(IF($C$11=\"eQUEST\",\"\",IF($C$11=\"Trace\",IF(SUM('Results from Trace'!$W$6:$W$55)=0,\"\",SUMIFS('Results from Trace'!$W$6:$W$55,'Results from Trace'!$B$6:$B$55,\"Purchased Steam\")),\"\")),\"\")","v":""},{"$f":"IFERROR(IF($C$11=\"eQUEST\",\"\",IF($C$11=\"Trace\",IF(SUM('Results from Trace'!$W$6:$W$55)=0,\"\",SUMIFS('Results from Trace'!$W$6:$W$55,'Results from Trace'!$B$6:$B$55,\"Purchased Hot Water\")),\"\")),\"\")","v":""},{"$f":"IFERROR(IF($C$11=\"eQUEST\",\"\",IF($C$11=\"Trace\",IF(SUM('Results from Trace'!$W$6:$W$55)=0,\"\",SUMIFS('Results from Trace'!$W$6:$W$55,'Results from Trace'!$B$6:$B$55,\"Purchased Chilled Water\")),\"\")),\"\")","v":""},{"$f":"IFERROR(IF($C$11=\"eQUEST\",\"\",IF($C$11=\"Trace\",IF(SUM('Results from Trace'!$W$6:$W$55)=0,\"\",SUMIFS('Results from Trace'!$W$6:$W$55,'Results from Trace'!$B$6:$B$55,\"Oil\")),\"\")),\"\")","v":""},{"$f":"IFERROR(IF($C$11=\"eQUEST\",\"\",IF($C$11=\"Trace\",IF(SUM('Results from Trace'!$W$6:$W$55)=0,\"\",SUMIFS('Results from Trace'!$W$6:$W$55,'Results from Trace'!$B$6:$B$55,\"Propane\")),\"\")),\"\")","v":""},null,null,null,null,null,null,null,null,null,null,{"$f":"IF(LEFT(formulaTextCustom(F69),3)=\"=IF\",0,1)","v":0},{"$f":"IF(LEFT(formulaTextCustom(G69),3)=\"=IF\",0,1)","v":0},{"$f":"IF(LEFT(formulaTextCustom(H69),3)=\"=IF\",0,1)","v":0},{"$f":"IF(LEFT(formulaTextCustom(I69),3)=\"=IF\",0,1)","v":0},{"$f":"IF(LEFT(formulaTextCustom(J69),3)=\"=IF\",0,1)","v":0},{"$f":"IF(LEFT(formulaTextCustom(K69),3)=\"=IF\",0,1)","v":0},{"$f":"IF(LEFT(formulaTextCustom(L69),3)=\"=IF\",0,1)","v":0},{"$f":"IF(LEFT(formulaTextCustom(M69),3)=\"=IF\",0,1)","v":0},{"$f":"IF(LEFT(formulaTextCustom(N69),3)=\"=IF\",0,1)","v":0},{"$f":"IF(LEFT(formulaTextCustom(O69),3)=\"=IF\",0,1)","v":0},{"$f":"IF(LEFT(formulaTextCustom(P69),3)=\"\",0,1)","v":0}]
[null,null,null,16,{"$f":"IF('P4P - Measure Info'!D38=\"\",\"\",'P4P - Measure Info'!D38)","v":""},"<Select>",{"$f":"IF($C$11=\"eQuest\",IF(E70=\"\",\"\",'Results from eQuest'!J28),\"\")","v":""},{"$f":"IFERROR(IF($C$11=\"eQUEST\",IF('Results from eQuest'!$I28=\"\",\"\",'Results from eQuest'!$X28),IF($C$11=\"Trace\",IF(SUM('Results from Trace'!$X$6:$X$55)=0,\"\",SUMIFS('Results from Trace'!$X$6:$X$55,'Results from Trace'!$B$6:$B$55,\"Electricity\")/0.003412),\"\")),\"\")","v":""},{"$f":"IFERROR(IF($C$11=\"eQUEST\",IF('Results from eQuest'!$I28=\"\",\"\",'Results from eQuest'!$AW28),IF($C$11=\"Trace\",\"\",\"\")),\"\")","v":""},{"$f":"IFERROR(IF($C$11=\"eQUEST\",IF('Results from eQuest'!$I28=\"\",\"\",'Results from eQuest'!$BJ28*0.1),IF($C$11=\"Trace\",IF(SUM('Results from Trace'!$X$6:$X$55)=0,\"\",SUMIFS('Results from Trace'!$X$6:$X$55,'Results from Trace'!$B$6:$B$55,\"Gas\")),\"\")),\"\")","v":""},{"$f":"IFERROR(IF($C$11=\"eQUEST\",\"\",IF($C$11=\"Trace\",IF(SUM('Results from Trace'!$X$6:$X$55)=0,\"\",SUMIFS('Results from Trace'!$X$6:$X$55,'Results from Trace'!$B$6:$B$55,\"Purchased Steam\")),\"\")),\"\")","v":""},{"$f":"IFERROR(IF($C$11=\"eQUEST\",\"\",IF($C$11=\"Trace\",IF(SUM('Results from Trace'!$X$6:$X$55)=0,\"\",SUMIFS('Results from Trace'!$X$6:$X$55,'Results from Trace'!$B$6:$B$55,\"Purchased Hot Water\")),\"\")),\"\")","v":""},{"$f":"IFERROR(IF($C$11=\"eQUEST\",\"\",IF($C$11=\"Trace\",IF(SUM('Results from Trace'!$X$6:$X$55)=0,\"\",SUMIFS('Results from Trace'!$X$6:$X$55,'Results from Trace'!$B$6:$B$55,\"Purchased Chilled Water\")),\"\")),\"\")","v":""},{"$f":"IFERROR(IF($C$11=\"eQUEST\",\"\",IF($C$11=\"Trace\",IF(SUM('Results from Trace'!$X$6:$X$55)=0,\"\",SUMIFS('Results from Trace'!$X$6:$X$55,'Results from Trace'!$B$6:$B$55,\"Oil\")),\"\")),\"\")","v":""},{"$f":"IFERROR(IF($C$11=\"eQUEST\",\"\",IF($C$11=\"Trace\",IF(SUM('Results from Trace'!$X$6:$X$55)=0,\"\",SUMIFS('Results from Trace'!$X$6:$X$55,'Results from Trace'!$B$6:$B$55,\"Propane\")),\"\")),\"\")","v":""},null,null,null,null,null,null,null,null,null,null,{"$f":"IF(LEFT(formulaTextCustom(F70),3)=\"=IF\",0,1)","v":0},{"$f":"IF(LEFT(formulaTextCustom(G70),3)=\"=IF\",0,1)","v":0},{"$f":"IF(LEFT(formulaTextCustom(H70),3)=\"=IF\",0,1)","v":0},{"$f":"IF(LEFT(formulaTextCustom(I70),3)=\"=IF\",0,1)","v":0},{"$f":"IF(LEFT(formulaTextCustom(J70),3)=\"=IF\",0,1)","v":0},{"$f":"IF(LEFT(formulaTextCustom(K70),3)=\"=IF\",0,1)","v":0},{"$f":"IF(LEFT(formulaTextCustom(L70),3)=\"=IF\",0,1)","v":0},{"$f":"IF(LEFT(formulaTextCustom(M70),3)=\"=IF\",0,1)","v":0},{"$f":"IF(LEFT(formulaTextCustom(N70),3)=\"=IF\",0,1)","v":0},{"$f":"IF(LEFT(formulaTextCustom(O70),3)=\"=IF\",0,1)","v":0},{"$f":"IF(LEFT(formulaTextCustom(P70),3)=\"\",0,1)","v":0}]
[null,null,null,17,{"$f":"IF('P4P - Measure Info'!D39=\"\",\"\",'P4P - Measure Info'!D39)","v":""},"<Select>",{"$f":"IF($C$11=\"eQuest\",IF(E71=\"\",\"\",'Results from eQuest'!J29),\"\")","v":""},{"$f":"IFERROR(IF($C$11=\"eQUEST\",IF('Results from eQuest'!$I29=\"\",\"\",'Results from eQuest'!$X29),IF($C$11=\"Trace\",IF(SUM('Results from Trace'!$Y$6:$Y$55)=0,\"\",SUMIFS('Results from Trace'!$Y$6:$Y$55,'Results from Trace'!$B$6:$B$55,\"Electricity\")/0.003412),\"\")),\"\")","v":""},{"$f":"IFERROR(IF($C$11=\"eQUEST\",IF('Results from eQuest'!$I29=\"\",\"\",'Results from eQuest'!$AW29),IF($C$11=\"Trace\",\"\",\"\")),\"\")","v":""},{"$f":"IFERROR(IF($C$11=\"eQUEST\",IF('Results from eQuest'!$I29=\"\",\"\",'Results from eQuest'!$BJ29*0.1),IF($C$11=\"Trace\",IF(SUM('Results from Trace'!$Y$6:$Y$55)=0,\"\",SUMIFS('Results from Trace'!$Y$6:$Y$55,'Results from Trace'!$B$6:$B$55,\"Gas\")),\"\")),\"\")","v":""},{"$f":"IFERROR(IF($C$11=\"eQUEST\",\"\",IF($C$11=\"Trace\",IF(SUM('Results from Trace'!$Y$6:$Y$55)=0,\"\",SUMIFS('Results from Trace'!$Y$6:$Y$55,'Results from Trace'!$B$6:$B$55,\"Purchased Steam\")),\"\")),\"\")","v":""},{"$f":"IFERROR(IF($C$11=\"eQUEST\",\"\",IF($C$11=\"Trace\",IF(SUM('Results from Trace'!$Y$6:$Y$55)=0,\"\",SUMIFS('Results from Trace'!$Y$6:$Y$55,'Results from Trace'!$B$6:$B$55,\"Purchased Hot Water\")),\"\")),\"\")","v":""},{"$f":"IFERROR(IF($C$11=\"eQUEST\",\"\",IF($C$11=\"Trace\",IF(SUM('Results from Trace'!$Y$6:$Y$55)=0,\"\",SUMIFS('Results from Trace'!$Y$6:$Y$55,'Results from Trace'!$B$6:$B$55,\"Purchased Chilled Water\")),\"\")),\"\")","v":""},{"$f":"IFERROR(IF($C$11=\"eQUEST\",\"\",IF($C$11=\"Trace\",IF(SUM('Results from Trace'!$Y$6:$Y$55)=0,\"\",SUMIFS('Results from Trace'!$Y$6:$Y$55,'Results from Trace'!$B$6:$B$55,\"Oil\")),\"\")),\"\")","v":""},{"$f":"IFERROR(IF($C$11=\"eQUEST\",\"\",IF($C$11=\"Trace\",IF(SUM('Results from Trace'!$Y$6:$Y$55)=0,\"\",SUMIFS('Results from Trace'!$Y$6:$Y$55,'Results from Trace'!$B$6:$B$55,\"Propane\")),\"\")),\"\")","v":""},null,null,null,null,null,null,null,null,null,null,{"$f":"IF(LEFT(formulaTextCustom(F71),3)=\"=IF\",0,1)","v":0},{"$f":"IF(LEFT(formulaTextCustom(G71),3)=\"=IF\",0,1)","v":0},{"$f":"IF(LEFT(formulaTextCustom(H71),3)=\"=IF\",0,1)","v":0},{"$f":"IF(LEFT(formulaTextCustom(I71),3)=\"=IF\",0,1)","v":0},{"$f":"IF(LEFT(formulaTextCustom(J71),3)=\"=IF\",0,1)","v":0},{"$f":"IF(LEFT(formulaTextCustom(K71),3)=\"=IF\",0,1)","v":0},{"$f":"IF(LEFT(formulaTextCustom(L71),3)=\"=IF\",0,1)","v":0},{"$f":"IF(LEFT(formulaTextCustom(M71),3)=\"=IF\",0,1)","v":0},{"$f":"IF(LEFT(formulaTextCustom(N71),3)=\"=IF\",0,1)","v":0},{"$f":"IF(LEFT(formulaTextCustom(O71),3)=\"=IF\",0,1)","v":0},{"$f":"IF(LEFT(formulaTextCustom(P71),3)=\"\",0,1)","v":0}]
[null,null,null,18,{"$f":"IF('P4P - Measure Info'!D40=\"\",\"\",'P4P - Measure Info'!D40)","v":""},"<Select>",{"$f":"IF($C$11=\"eQuest\",IF(E72=\"\",\"\",'Results from eQuest'!J30),\"\")","v":""},{"$f":"IFERROR(IF($C$11=\"eQUEST\",IF('Results from eQuest'!$I30=\"\",\"\",'Results from eQuest'!$X30),IF($C$11=\"Trace\",IF(SUM('Results from Trace'!$Z$6:$Z$55)=0,\"\",SUMIFS('Results from Trace'!$Z$6:$Z$55,'Results from Trace'!$B$6:$B$55,\"Electricity\")/0.003412),\"\")),\"\")","v":""},{"$f":"IFERROR(IF($C$11=\"eQUEST\",IF('Results from eQuest'!$I30=\"\",\"\",'Results from eQuest'!$AW30),IF($C$11=\"Trace\",\"\",\"\")),\"\")","v":""},{"$f":"IFERROR(IF($C$11=\"eQUEST\",IF('Results from eQuest'!$I30=\"\",\"\",'Results from eQuest'!$BJ30*0.1),IF($C$11=\"Trace\",IF(SUM('Results from Trace'!$Z$6:$Z$55)=0,\"\",SUMIFS('Results from Trace'!$Z$6:$Z$55,'Results from Trace'!$B$6:$B$55,\"Gas\")),\"\")),\"\")","v":""},{"$f":"IFERROR(IF($C$11=\"eQUEST\",\"\",IF($C$11=\"Trace\",IF(SUM('Results from Trace'!$Z$6:$Z$55)=0,\"\",SUMIFS('Results from Trace'!$Z$6:$Z$55,'Results from Trace'!$B$6:$B$55,\"Purchased Steam\")),\"\")),\"\")","v":""},{"$f":"IFERROR(IF($C$11=\"eQUEST\",\"\",IF($C$11=\"Trace\",IF(SUM('Results from Trace'!$Z$6:$Z$55)=0,\"\",SUMIFS('Results from Trace'!$Z$6:$Z$55,'Results from Trace'!$B$6:$B$55,\"Purchased Hot Water\")),\"\")),\"\")","v":""},{"$f":"IFERROR(IF($C$11=\"eQUEST\",\"\",IF($C$11=\"Trace\",IF(SUM('Results from Trace'!$Z$6:$Z$55)=0,\"\",SUMIFS('Results from Trace'!$Z$6:$Z$55,'Results from Trace'!$B$6:$B$55,\"Purchased Chilled Water\")),\"\")),\"\")","v":""},{"$f":"IFERROR(IF($C$11=\"eQUEST\",\"\",IF($C$11=\"Trace\",IF(SUM('Results from Trace'!$Z$6:$Z$55)=0,\"\",SUMIFS('Results from Trace'!$Z$6:$Z$55,'Results from Trace'!$B$6:$B$55,\"Oil\")),\"\")),\"\")","v":""},{"$f":"IFERROR(IF($C$11=\"eQUEST\",\"\",IF($C$11=\"Trace\",IF(SUM('Results from Trace'!$Z$6:$Z$55)=0,\"\",SUMIFS('Results from Trace'!$Z$6:$Z$55,'Results from Trace'!$B$6:$B$55,\"Propane\")),\"\")),\"\")","v":""},null,null,null,null,null,null,null,null,null,null,{"$f":"IF(LEFT(formulaTextCustom(F72),3)=\"=IF\",0,1)","v":0},{"$f":"IF(LEFT(formulaTextCustom(G72),3)=\"=IF\",0,1)","v":0},{"$f":"IF(LEFT(formulaTextCustom(H72),3)=\"=IF\",0,1)","v":0},{"$f":"IF(LEFT(formulaTextCustom(I72),3)=\"=IF\",0,1)","v":0},{"$f":"IF(LEFT(formulaTextCustom(J72),3)=\"=IF\",0,1)","v":0},{"$f":"IF(LEFT(formulaTextCustom(K72),3)=\"=IF\",0,1)","v":0},{"$f":"IF(LEFT(formulaTextCustom(L72),3)=\"=IF\",0,1)","v":0},{"$f":"IF(LEFT(formulaTextCustom(M72),3)=\"=IF\",0,1)","v":0},{"$f":"IF(LEFT(formulaTextCustom(N72),3)=\"=IF\",0,1)","v":0},{"$f":"IF(LEFT(formulaTextCustom(O72),3)=\"=IF\",0,1)","v":0},{"$f":"IF(LEFT(formulaTextCustom(P72),3)=\"\",0,1)","v":0}]
[null,null,null,19,{"$f":"IF('P4P - Measure Info'!D41=\"\",\"\",'P4P - Measure Info'!D41)","v":""},"<Select>",{"$f":"IF($C$11=\"eQuest\",IF(E73=\"\",\"\",'Results from eQuest'!J31),\"\")","v":""},{"$f":"IFERROR(IF($C$11=\"eQUEST\",IF('Results from eQuest'!$I31=\"\",\"\",'Results from eQuest'!$X31),IF($C$11=\"Trace\",IF(SUM('Results from Trace'!$AA$6:$AA$55)=0,\"\",SUMIFS('Results from Trace'!$AA$6:$AA$55,'Results from Trace'!$B$6:$B$55,\"Electricity\")/0.003412),\"\")),\"\")","v":""},{"$f":"IFERROR(IF($C$11=\"eQUEST\",IF('Results from eQuest'!$I31=\"\",\"\",'Results from eQuest'!$AW31),IF($C$11=\"Trace\",\"\",\"\")),\"\")","v":""},{"$f":"IFERROR(IF($C$11=\"eQUEST\",IF('Results from eQuest'!$I31=\"\",\"\",'Results from eQuest'!$BJ31*0.1),IF($C$11=\"Trace\",IF(SUM('Results from Trace'!$AA$6:$AA$55)=0,\"\",SUMIFS('Results from Trace'!$AA$6:$AA$55,'Results from Trace'!$B$6:$B$55,\"Gas\")),\"\")),\"\")","v":""},{"$f":"IFERROR(IF($C$11=\"eQUEST\",\"\",IF($C$11=\"Trace\",IF(SUM('Results from Trace'!$AA$6:$AA$55)=0,\"\",SUMIFS('Results from Trace'!$AA$6:$AA$55,'Results from Trace'!$B$6:$B$55,\"Purchased Steam\")),\"\")),\"\")","v":""},{"$f":"IFERROR(IF($C$11=\"eQUEST\",\"\",IF($C$11=\"Trace\",IF(SUM('Results from Trace'!$AA$6:$AA$55)=0,\"\",SUMIFS('Results from Trace'!$AA$6:$AA$55,'Results from Trace'!$B$6:$B$55,\"Purchased Hot Water\")),\"\")),\"\")","v":""},{"$f":"IFERROR(IF($C$11=\"eQUEST\",\"\",IF($C$11=\"Trace\",IF(SUM('Results from Trace'!$AA$6:$AA$55)=0,\"\",SUMIFS('Results from Trace'!$AA$6:$AA$55,'Results from Trace'!$B$6:$B$55,\"Purchased Chilled Water\")),\"\")),\"\")","v":""},{"$f":"IFERROR(IF($C$11=\"eQUEST\",\"\",IF($C$11=\"Trace\",IF(SUM('Results from Trace'!$AA$6:$AA$55)=0,\"\",SUMIFS('Results from Trace'!$AA$6:$AA$55,'Results from Trace'!$B$6:$B$55,\"Oil\")),\"\")),\"\")","v":""},{"$f":"IFERROR(IF($C$11=\"eQUEST\",\"\",IF($C$11=\"Trace\",IF(SUM('Results from Trace'!$AA$6:$AA$55)=0,\"\",SUMIFS('Results from Trace'!$AA$6:$AA$55,'Results from Trace'!$B$6:$B$55,\"Propane\")),\"\")),\"\")","v":""},null,null,null,null,null,null,null,null,null,null,{"$f":"IF(LEFT(formulaTextCustom(F73),3)=\"=IF\",0,1)","v":0},{"$f":"IF(LEFT(formulaTextCustom(G73),3)=\"=IF\",0,1)","v":0},{"$f":"IF(LEFT(formulaTextCustom(H73),3)=\"=IF\",0,1)","v":0},{"$f":"IF(LEFT(formulaTextCustom(I73),3)=\"=IF\",0,1)","v":0},{"$f":"IF(LEFT(formulaTextCustom(J73),3)=\"=IF\",0,1)","v":0},{"$f":"IF(LEFT(formulaTextCustom(K73),3)=\"=IF\",0,1)","v":0},{"$f":"IF(LEFT(formulaTextCustom(L73),3)=\"=IF\",0,1)","v":0},{"$f":"IF(LEFT(formulaTextCustom(M73),3)=\"=IF\",0,1)","v":0},{"$f":"IF(LEFT(formulaTextCustom(N73),3)=\"=IF\",0,1)","v":0},{"$f":"IF(LEFT(formulaTextCustom(O73),3)=\"=IF\",0,1)","v":0},{"$f":"IF(LEFT(formulaTextCustom(P73),3)=\"\",0,1)","v":0}]
[null,null,null,20,{"$f":"IF('P4P - Measure Info'!D42=\"\",\"\",'P4P - Measure Info'!D42)","v":""},"<Select>",{"$f":"IF($C$11=\"eQuest\",IF(E74=\"\",\"\",'Results from eQuest'!J32),\"\")","v":""},{"$f":"IFERROR(IF($C$11=\"eQUEST\",IF('Results from eQuest'!$I32=\"\",\"\",'Results from eQuest'!$X32),IF($C$11=\"Trace\",IF(SUM('Results from Trace'!$AB$6:$AB$55)=0,\"\",SUMIFS('Results from Trace'!$AB$6:$AB$55,'Results from Trace'!$B$6:$B$55,\"Electricity\")/0.003412),\"\")),\"\")","v":""},{"$f":"IFERROR(IF($C$11=\"eQUEST\",IF('Results from eQuest'!$I32=\"\",\"\",'Results from eQuest'!$AW32),IF($C$11=\"Trace\",\"\",\"\")),\"\")","v":""},{"$f":"IFERROR(IF($C$11=\"eQUEST\",IF('Results from eQuest'!$I32=\"\",\"\",'Results from eQuest'!$BJ32*0.1),IF($C$11=\"Trace\",IF(SUM('Results from Trace'!$AB$6:$AB$55)=0,\"\",SUMIFS('Results from Trace'!$AB$6:$AB$55,'Results from Trace'!$B$6:$B$55,\"Gas\")),\"\")),\"\")","v":""},{"$f":"IFERROR(IF($C$11=\"eQUEST\",\"\",IF($C$11=\"Trace\",IF(SUM('Results from Trace'!$AB$6:$AB$55)=0,\"\",SUMIFS('Results from Trace'!$AB$6:$AB$55,'Results from Trace'!$B$6:$B$55,\"Purchased Steam\")),\"\")),\"\")","v":""},{"$f":"IFERROR(IF($C$11=\"eQUEST\",\"\",IF($C$11=\"Trace\",IF(SUM('Results from Trace'!$AB$6:$AB$55)=0,\"\",SUMIFS('Results from Trace'!$AB$6:$AB$55,'Results from Trace'!$B$6:$B$55,\"Purchased Hot Water\")),\"\")),\"\")","v":""},{"$f":"IFERROR(IF($C$11=\"eQUEST\",\"\",IF($C$11=\"Trace\",IF(SUM('Results from Trace'!$AB$6:$AB$55)=0,\"\",SUMIFS('Results from Trace'!$AB$6:$AB$55,'Results from Trace'!$B$6:$B$55,\"Purchased Chilled Water\")),\"\")),\"\")","v":""},{"$f":"IFERROR(IF($C$11=\"eQUEST\",\"\",IF($C$11=\"Trace\",IF(SUM('Results from Trace'!$AB$6:$AB$55)=0,\"\",SUMIFS('Results from Trace'!$AB$6:$AB$55,'Results from Trace'!$B$6:$B$55,\"Oil\")),\"\")),\"\")","v":""},{"$f":"IFERROR(IF($C$11=\"eQUEST\",\"\",IF($C$11=\"Trace\",IF(SUM('Results from Trace'!$AB$6:$AB$55)=0,\"\",SUMIFS('Results from Trace'!$AB$6:$AB$55,'Results from Trace'!$B$6:$B$55,\"Propane\")),\"\")),\"\")","v":""},null,null,null,null,null,null,null,null,null,null,{"$f":"IF(LEFT(formulaTextCustom(F74),3)=\"=IF\",0,1)","v":0},{"$f":"IF(LEFT(formulaTextCustom(G74),3)=\"=IF\",0,1)","v":0},{"$f":"IF(LEFT(formulaTextCustom(H74),3)=\"=IF\",0,1)","v":0},{"$f":"IF(LEFT(formulaTextCustom(I74),3)=\"=IF\",0,1)","v":0},{"$f":"IF(LEFT(formulaTextCustom(J74),3)=\"=IF\",0,1)","v":0},{"$f":"IF(LEFT(formulaTextCustom(K74),3)=\"=IF\",0,1)","v":0},{"$f":"IF(LEFT(formulaTextCustom(L74),3)=\"=IF\",0,1)","v":0},{"$f":"IF(LEFT(formulaTextCustom(M74),3)=\"=IF\",0,1)","v":0},{"$f":"IF(LEFT(formulaTextCustom(N74),3)=\"=IF\",0,1)","v":0},{"$f":"IF(LEFT(formulaTextCustom(O74),3)=\"=IF\",0,1)","v":0},{"$f":"IF(LEFT(formulaTextCustom(P74),3)=\"\",0,1)","v":0}]
[null,null,null,21,{"$f":"IF('P4P - Measure Info'!D43=\"\",\"\",'P4P - Measure Info'!D43)","v":""},"<Select>",{"$f":"IF($C$11=\"eQuest\",IF(E75=\"\",\"\",'Results from eQuest'!J33),\"\")","v":""},{"$f":"IFERROR(IF($C$11=\"eQUEST\",IF('Results from eQuest'!$I33=\"\",\"\",'Results from eQuest'!$X33),IF($C$11=\"Trace\",IF(SUM('Results from Trace'!$AC$6:$AC$55)=0,\"\",SUMIFS('Results from Trace'!$AC$6:$AC$55,'Results from Trace'!$B$6:$B$55,\"Electricity\")/0.003412),\"\")),\"\")","v":""},{"$f":"IFERROR(IF($C$11=\"eQUEST\",IF('Results from eQuest'!$I33=\"\",\"\",'Results from eQuest'!$AW33),IF($C$11=\"Trace\",\"\",\"\")),\"\")","v":""},{"$f":"IFERROR(IF($C$11=\"eQUEST\",IF('Results from eQuest'!$I33=\"\",\"\",'Results from eQuest'!$BJ33*0.1),IF($C$11=\"Trace\",IF(SUM('Results from Trace'!$AC$6:$AC$55)=0,\"\",SUMIFS('Results from Trace'!$AC$6:$AC$55,'Results from Trace'!$B$6:$B$55,\"Gas\")),\"\")),\"\")","v":""},{"$f":"IFERROR(IF($C$11=\"eQUEST\",\"\",IF($C$11=\"Trace\",IF(SUM('Results from Trace'!$AC$6:$AC$55)=0,\"\",SUMIFS('Results from Trace'!$AC$6:$AC$55,'Results from Trace'!$B$6:$B$55,\"Purchased Steam\")),\"\")),\"\")","v":""},{"$f":"IFERROR(IF($C$11=\"eQUEST\",\"\",IF($C$11=\"Trace\",IF(SUM('Results from Trace'!$AC$6:$AC$55)=0,\"\",SUMIFS('Results from Trace'!$AC$6:$AC$55,'Results from Trace'!$B$6:$B$55,\"Purchased Hot Water\")),\"\")),\"\")","v":""},{"$f":"IFERROR(IF($C$11=\"eQUEST\",\"\",IF($C$11=\"Trace\",IF(SUM('Results from Trace'!$AC$6:$AC$55)=0,\"\",SUMIFS('Results from Trace'!$AC$6:$AC$55,'Results from Trace'!$B$6:$B$55,\"Purchased Chilled Water\")),\"\")),\"\")","v":""},{"$f":"IFERROR(IF($C$11=\"eQUEST\",\"\",IF($C$11=\"Trace\",IF(SUM('Results from Trace'!$AC$6:$AC$55)=0,\"\",SUMIFS('Results from Trace'!$AC$6:$AC$55,'Results from Trace'!$B$6:$B$55,\"Oil\")),\"\")),\"\")","v":""},{"$f":"IFERROR(IF($C$11=\"eQUEST\",\"\",IF($C$11=\"Trace\",IF(SUM('Results from Trace'!$AC$6:$AC$55)=0,\"\",SUMIFS('Results from Trace'!$AC$6:$AC$55,'Results from Trace'!$B$6:$B$55,\"Propane\")),\"\")),\"\")","v":""},null,null,null,null,null,null,null,null,null,null,{"$f":"IF(LEFT(formulaTextCustom(F75),3)=\"=IF\",0,1)","v":0},{"$f":"IF(LEFT(formulaTextCustom(G75),3)=\"=IF\",0,1)","v":0},{"$f":"IF(LEFT(formulaTextCustom(H75),3)=\"=IF\",0,1)","v":0},{"$f":"IF(LEFT(formulaTextCustom(I75),3)=\"=IF\",0,1)","v":0},{"$f":"IF(LEFT(formulaTextCustom(J75),3)=\"=IF\",0,1)","v":0},{"$f":"IF(LEFT(formulaTextCustom(K75),3)=\"=IF\",0,1)","v":0},{"$f":"IF(LEFT(formulaTextCustom(L75),3)=\"=IF\",0,1)","v":0},{"$f":"IF(LEFT(formulaTextCustom(M75),3)=\"=IF\",0,1)","v":0},{"$f":"IF(LEFT(formulaTextCustom(N75),3)=\"=IF\",0,1)","v":0},{"$f":"IF(LEFT(formulaTextCustom(O75),3)=\"=IF\",0,1)","v":0},{"$f":"IF(LEFT(formulaTextCustom(P75),3)=\"\",0,1)","v":0}]
[null,null,null,22,{"$f":"IF('P4P - Measure Info'!D44=\"\",\"\",'P4P - Measure Info'!D44)","v":""},"<Select>",{"$f":"IF($C$11=\"eQuest\",IF(E76=\"\",\"\",'Results from eQuest'!J34),\"\")","v":""},{"$f":"IFERROR(IF($C$11=\"eQUEST\",IF('Results from eQuest'!$I34=\"\",\"\",'Results from eQuest'!$X34),IF($C$11=\"Trace\",IF(SUM('Results from Trace'!$AD$6:$AD$55)=0,\"\",SUMIFS('Results from Trace'!$AD$6:$AD$55,'Results from Trace'!$B$6:$B$55,\"Electricity\")/0.003412),\"\")),\"\")","v":""},{"$f":"IFERROR(IF($C$11=\"eQUEST\",IF('Results from eQuest'!$I34=\"\",\"\",'Results from eQuest'!$AW34),IF($C$11=\"Trace\",\"\",\"\")),\"\")","v":""},{"$f":"IFERROR(IF($C$11=\"eQUEST\",IF('Results from eQuest'!$I34=\"\",\"\",'Results from eQuest'!$BJ34*0.1),IF($C$11=\"Trace\",IF(SUM('Results from Trace'!$AD$6:$AD$55)=0,\"\",SUMIFS('Results from Trace'!$AD$6:$AD$55,'Results from Trace'!$B$6:$B$55,\"Gas\")),\"\")),\"\")","v":""},{"$f":"IFERROR(IF($C$11=\"eQUEST\",\"\",IF($C$11=\"Trace\",IF(SUM('Results from Trace'!$AD$6:$AD$55)=0,\"\",SUMIFS('Results from Trace'!$AD$6:$AD$55,'Results from Trace'!$B$6:$B$55,\"Purchased Steam\")),\"\")),\"\")","v":""},{"$f":"IFERROR(IF($C$11=\"eQUEST\",\"\",IF($C$11=\"Trace\",IF(SUM('Results from Trace'!$AD$6:$AD$55)=0,\"\",SUMIFS('Results from Trace'!$AD$6:$AD$55,'Results from Trace'!$B$6:$B$55,\"Purchased Hot Water\")),\"\")),\"\")","v":""},{"$f":"IFERROR(IF($C$11=\"eQUEST\",\"\",IF($C$11=\"Trace\",IF(SUM('Results from Trace'!$AD$6:$AD$55)=0,\"\",SUMIFS('Results from Trace'!$AD$6:$AD$55,'Results from Trace'!$B$6:$B$55,\"Purchased Chilled Water\")),\"\")),\"\")","v":""},{"$f":"IFERROR(IF($C$11=\"eQUEST\",\"\",IF($C$11=\"Trace\",IF(SUM('Results from Trace'!$AD$6:$AD$55)=0,\"\",SUMIFS('Results from Trace'!$AD$6:$AD$55,'Results from Trace'!$B$6:$B$55,\"Oil\")),\"\")),\"\")","v":""},{"$f":"IFERROR(IF($C$11=\"eQUEST\",\"\",IF($C$11=\"Trace\",IF(SUM('Results from Trace'!$AD$6:$AD$55)=0,\"\",SUMIFS('Results from Trace'!$AD$6:$AD$55,'Results from Trace'!$B$6:$B$55,\"Propane\")),\"\")),\"\")","v":""},null,null,null,null,null,null,null,null,null,null,{"$f":"IF(LEFT(formulaTextCustom(F76),3)=\"=IF\",0,1)","v":0},{"$f":"IF(LEFT(formulaTextCustom(G76),3)=\"=IF\",0,1)","v":0},{"$f":"IF(LEFT(formulaTextCustom(H76),3)=\"=IF\",0,1)","v":0},{"$f":"IF(LEFT(formulaTextCustom(I76),3)=\"=IF\",0,1)","v":0},{"$f":"IF(LEFT(formulaTextCustom(J76),3)=\"=IF\",0,1)","v":0},{"$f":"IF(LEFT(formulaTextCustom(K76),3)=\"=IF\",0,1)","v":0},{"$f":"IF(LEFT(formulaTextCustom(L76),3)=\"=IF\",0,1)","v":0},{"$f":"IF(LEFT(formulaTextCustom(M76),3)=\"=IF\",0,1)","v":0},{"$f":"IF(LEFT(formulaTextCustom(N76),3)=\"=IF\",0,1)","v":0},{"$f":"IF(LEFT(formulaTextCustom(O76),3)=\"=IF\",0,1)","v":0},{"$f":"IF(LEFT(formulaTextCustom(P76),3)=\"\",0,1)","v":0}]
[null,null,null,23,{"$f":"IF('P4P - Measure Info'!D45=\"\",\"\",'P4P - Measure Info'!D45)","v":""},"<Select>",{"$f":"IF($C$11=\"eQuest\",IF(E77=\"\",\"\",'Results from eQuest'!J35),\"\")","v":""},{"$f":"IFERROR(IF($C$11=\"eQUEST\",IF('Results from eQuest'!$I35=\"\",\"\",'Results from eQuest'!$X35),IF($C$11=\"Trace\",IF(SUM('Results from Trace'!$AE$6:$AE$55)=0,\"\",SUMIFS('Results from Trace'!$AE$6:$AE$55,'Results from Trace'!$B$6:$B$55,\"Electricity\")/0.003412),\"\")),\"\")","v":""},{"$f":"IFERROR(IF($C$11=\"eQUEST\",IF('Results from eQuest'!$I35=\"\",\"\",'Results from eQuest'!$AW35),IF($C$11=\"Trace\",\"\",\"\")),\"\")","v":""},{"$f":"IFERROR(IF($C$11=\"eQUEST\",IF('Results from eQuest'!$I35=\"\",\"\",'Results from eQuest'!$BJ35*0.1),IF($C$11=\"Trace\",IF(SUM('Results from Trace'!$AE$6:$AE$55)=0,\"\",SUMIFS('Results from Trace'!$AE$6:$AE$55,'Results from Trace'!$B$6:$B$55,\"Gas\")),\"\")),\"\")","v":""},{"$f":"IFERROR(IF($C$11=\"eQUEST\",\"\",IF($C$11=\"Trace\",IF(SUM('Results from Trace'!$AE$6:$AE$55)=0,\"\",SUMIFS('Results from Trace'!$AE$6:$AE$55,'Results from Trace'!$B$6:$B$55,\"Purchased Steam\")),\"\")),\"\")","v":""},{"$f":"IFERROR(IF($C$11=\"eQUEST\",\"\",IF($C$11=\"Trace\",IF(SUM('Results from Trace'!$AE$6:$AE$55)=0,\"\",SUMIFS('Results from Trace'!$AE$6:$AE$55,'Results from Trace'!$B$6:$B$55,\"Purchased Hot Water\")),\"\")),\"\")","v":""},{"$f":"IFERROR(IF($C$11=\"eQUEST\",\"\",IF($C$11=\"Trace\",IF(SUM('Results from Trace'!$AE$6:$AE$55)=0,\"\",SUMIFS('Results from Trace'!$AE$6:$AE$55,'Results from Trace'!$B$6:$B$55,\"Purchased Chilled Water\")),\"\")),\"\")","v":""},{"$f":"IFERROR(IF($C$11=\"eQUEST\",\"\",IF($C$11=\"Trace\",IF(SUM('Results from Trace'!$AE$6:$AE$55)=0,\"\",SUMIFS('Results from Trace'!$AE$6:$AE$55,'Results from Trace'!$B$6:$B$55,\"Oil\")),\"\")),\"\")","v":""},{"$f":"IFERROR(IF($C$11=\"eQUEST\",\"\",IF($C$11=\"Trace\",IF(SUM('Results from Trace'!$AE$6:$AE$55)=0,\"\",SUMIFS('Results from Trace'!$AE$6:$AE$55,'Results from Trace'!$B$6:$B$55,\"Propane\")),\"\")),\"\")","v":""},null,null,null,null,null,null,null,null,null,null,{"$f":"IF(LEFT(formulaTextCustom(F77),3)=\"=IF\",0,1)","v":0},{"$f":"IF(LEFT(formulaTextCustom(G77),3)=\"=IF\",0,1)","v":0},{"$f":"IF(LEFT(formulaTextCustom(H77),3)=\"=IF\",0,1)","v":0},{"$f":"IF(LEFT(formulaTextCustom(I77),3)=\"=IF\",0,1)","v":0},{"$f":"IF(LEFT(formulaTextCustom(J77),3)=\"=IF\",0,1)","v":0},{"$f":"IF(LEFT(formulaTextCustom(K77),3)=\"=IF\",0,1)","v":0},{"$f":"IF(LEFT(formulaTextCustom(L77),3)=\"=IF\",0,1)","v":0},{"$f":"IF(LEFT(formulaTextCustom(M77),3)=\"=IF\",0,1)","v":0},{"$f":"IF(LEFT(formulaTextCustom(N77),3)=\"=IF\",0,1)","v":0},{"$f":"IF(LEFT(formulaTextCustom(O77),3)=\"=IF\",0,1)","v":0},{"$f":"IF(LEFT(formulaTextCustom(P77),3)=\"\",0,1)","v":0}]
[null,null,null,24,{"$f":"IF('P4P - Measure Info'!D46=\"\",\"\",'P4P - Measure Info'!D46)","v":""},"<Select>",{"$f":"IF($C$11=\"eQuest\",IF(E78=\"\",\"\",'Results from eQuest'!J36),\"\")","v":""},{"$f":"IFERROR(IF($C$11=\"eQUEST\",IF('Results from eQuest'!$I36=\"\",\"\",'Results from eQuest'!$X36),IF($C$11=\"Trace\",IF(SUM('Results from Trace'!$AF$6:$AF$55)=0,\"\",SUMIFS('Results from Trace'!$AF$6:$AF$55,'Results from Trace'!$B$6:$B$55,\"Electricity\")/0.003412),\"\")),\"\")","v":""},{"$f":"IFERROR(IF($C$11=\"eQUEST\",IF('Results from eQuest'!$I36=\"\",\"\",'Results from eQuest'!$AW36),IF($C$11=\"Trace\",\"\",\"\")),\"\")","v":""},{"$f":"IFERROR(IF($C$11=\"eQUEST\",IF('Results from eQuest'!$I36=\"\",\"\",'Results from eQuest'!$BJ36*0.1),IF($C$11=\"Trace\",IF(SUM('Results from Trace'!$AF$6:$AF$55)=0,\"\",SUMIFS('Results from Trace'!$AF$6:$AF$55,'Results from Trace'!$B$6:$B$55,\"Gas\")),\"\")),\"\")","v":""},{"$f":"IFERROR(IF($C$11=\"eQUEST\",\"\",IF($C$11=\"Trace\",IF(SUM('Results from Trace'!$AF$6:$AF$55)=0,\"\",SUMIFS('Results from Trace'!$AF$6:$AF$55,'Results from Trace'!$B$6:$B$55,\"Purchased Steam\")),\"\")),\"\")","v":""},{"$f":"IFERROR(IF($C$11=\"eQUEST\",\"\",IF($C$11=\"Trace\",IF(SUM('Results from Trace'!$AF$6:$AF$55)=0,\"\",SUMIFS('Results from Trace'!$AF$6:$AF$55,'Results from Trace'!$B$6:$B$55,\"Purchased Hot Water\")),\"\")),\"\")","v":""},{"$f":"IFERROR(IF($C$11=\"eQUEST\",\"\",IF($C$11=\"Trace\",IF(SUM('Results from Trace'!$AF$6:$AF$55)=0,\"\",SUMIFS('Results from Trace'!$AF$6:$AF$55,'Results from Trace'!$B$6:$B$55,\"Purchased Chilled Water\")),\"\")),\"\")","v":""},{"$f":"IFERROR(IF($C$11=\"eQUEST\",\"\",IF($C$11=\"Trace\",IF(SUM('Results from Trace'!$AF$6:$AF$55)=0,\"\",SUMIFS('Results from Trace'!$AF$6:$AF$55,'Results from Trace'!$B$6:$B$55,\"Oil\")),\"\")),\"\")","v":""},{"$f":"IFERROR(IF($C$11=\"eQUEST\",\"\",IF($C$11=\"Trace\",IF(SUM('Results from Trace'!$AF$6:$AF$55)=0,\"\",SUMIFS('Results from Trace'!$AF$6:$AF$55,'Results from Trace'!$B$6:$B$55,\"Propane\")),\"\")),\"\")","v":""},null,null,null,null,null,null,null,null,null,null,{"$f":"IF(LEFT(formulaTextCustom(F78),3)=\"=IF\",0,1)","v":0},{"$f":"IF(LEFT(formulaTextCustom(G78),3)=\"=IF\",0,1)","v":0},{"$f":"IF(LEFT(formulaTextCustom(H78),3)=\"=IF\",0,1)","v":0},{"$f":"IF(LEFT(formulaTextCustom(I78),3)=\"=IF\",0,1)","v":0},{"$f":"IF(LEFT(formulaTextCustom(J78),3)=\"=IF\",0,1)","v":0},{"$f":"IF(LEFT(formulaTextCustom(K78),3)=\"=IF\",0,1)","v":0},{"$f":"IF(LEFT(formulaTextCustom(L78),3)=\"=IF\",0,1)","v":0},{"$f":"IF(LEFT(formulaTextCustom(M78),3)=\"=IF\",0,1)","v":0},{"$f":"IF(LEFT(formulaTextCustom(N78),3)=\"=IF\",0,1)","v":0},{"$f":"IF(LEFT(formulaTextCustom(O78),3)=\"=IF\",0,1)","v":0},{"$f":"IF(LEFT(formulaTextCustom(P78),3)=\"\",0,1)","v":0}]
[null,null,null,25,null,null,null,null,null,null,null,null,null,null,null,null,null,null,null,null,null,null,null,null,null,{"$f":"IF(LEFT(formulaTextCustom(F79),3)=\"=IF\",0,1)","v":1},{"$f":"IF(LEFT(formulaTextCustom(G79),3)=\"=IF\",0,1)","v":1},{"$f":"IF(LEFT(formulaTextCustom(H79),3)=\"=IF\",0,1)","v":1},{"$f":"IF(LEFT(formulaTextCustom(I79),3)=\"=IF\",0,1)","v":1},{"$f":"IF(LEFT(formulaTextCustom(J79),3)=\"=IF\",0,1)","v":1},{"$f":"IF(LEFT(formulaTextCustom(K79),3)=\"=IF\",0,1)","v":1},{"$f":"IF(LEFT(formulaTextCustom(L79),3)=\"=IF\",0,1)","v":1},{"$f":"IF(LEFT(formulaTextCustom(M79),3)=\"=IF\",0,1)","v":1},{"$f":"IF(LEFT(formulaTextCustom(N79),3)=\"=IF\",0,1)","v":1},{"$f":"IF(LEFT(formulaTextCustom(O79),3)=\"=IF\",0,1)","v":1},{"$f":"IF(LEFT(formulaTextCustom(P79),3)=\"\",0,1)","v":0}]
[]
[null,null,null,null,null,null,null,null,null,null,null,null,null,null,null,null,null,null,null,null,null,null,null,null,null,"Electricity",null,null,null,null,null,null,null,null,null,null,"Gas",null,null,null,null,null,null,null,null,null,null,"Steam",null,null,null,null,null,null,null,null,null,null,"HW",null,null,null,null,null,null,null,null,null,null,"CW",null,null,null,null,null,null,null,null,null,null,"Oil",null,null,null,null,null,null,null,null,null,null,"Propane",null,null,null,null,null,null,null,null,null,null,"Other"]
[null,null,null,"Measure Name",null,null,"Annual Energy Savings",null,null,null,null,null,null,null,"Demand Savings","Annual O&M Savings","Annual Energy Cost Savings","Measure Life ","Simple Payback","Life Cycle Savings","IRR",null,null,null,"Annual Cost Savings","Total Parametric Run Impact kWh","Total Parametric Run Savings kWh","Total Parametric Run Penalty kWh",{"$f":"\"Total ECM \"&Z81&\" Impact kWh\"","v":"Total ECM Electricity Impact kWh"},"Total ECM Savings kWh","Total ECM Penalty kWh",{"$f":"\"% \"&Z81&\" Savings\"","v":"% Electricity Savings"},{"$f":"\"% \"&Z81&\" Penalty\"","v":"% Electricity Penalty"},"Total ECM Impact","ECM Savings kWh Extrapolated","ECM Penalty kWh Extrapolated","Total Parametric Run Impact MMBtu","Total Parametric Run Savings MMBtu","Total Parametric Run Penalty  MMBtu",{"$f":"\"Total ECM \"&AK81&\" Impact  MMBtu\"","v":"Total ECM Gas Impact  MMBtu"},"Total ECM Savings  MMBtu","Total ECM Penalty  MMBtu",{"$f":"\"% \"&AK81&\" Savings\"","v":"% Gas Savings"},{"$f":"\"% \"&AK81&\" Penalty\"","v":"% Gas Penalty"},"Total ECM Impact","ECM Savings  MMBtu Extrapolated","ECM Penalty  MMBtu Extrapolated","Total Parametric Run Impact MMBtu","Total Parametric Run Savings MMBtu","Total Parametric Run Penalty  MMBtu",{"$f":"\"Total ECM \"&AV81&\" Impact  MMBtu\"","v":"Total ECM Steam Impact  MMBtu"},"Total ECM Savings  MMBtu","Total ECM Penalty  MMBtu",{"$f":"\"% \"&AV81&\" Savings\"","v":"% Steam Savings"},{"$f":"\"% \"&AV81&\" Penalty\"","v":"% Steam Penalty"},"Total ECM Impact","ECM Savings  MMBtu Extrapolated","ECM Penalty  MMBtu Extrapolated","Total Parametric Run Impact MMBtu","Total Parametric Run Savings MMBtu","Total Parametric Run Penalty  MMBtu",{"$f":"\"Total ECM \"&BG81&\" Impact  MMBtu\"","v":"Total ECM HW Impact  MMBtu"},"Total ECM Savings  MMBtu","Total ECM Penalty  MMBtu",{"$f":"\"% \"&BG81&\" Savings\"","v":"% HW Savings"},{"$f":"\"% \"&BG81&\" Penalty\"","v":"% HW Penalty"},"Total ECM Impact","ECM Savings  MMBtu Extrapolated","ECM Penalty  MMBtu Extrapolated","Total Parametric Run Impact MMBtu","Total Parametric Run Savings MMBtu","Total Parametric Run Penalty  MMBtu",{"$f":"\"Total ECM \"&BR81&\" Impact  MMBtu\"","v":"Total ECM CW Impact  MMBtu"},"Total ECM Savings  MMBtu","Total ECM Penalty  MMBtu",{"$f":"\"% \"&BR81&\" Savings\"","v":"% CW Savings"},{"$f":"\"% \"&BR81&\" Penalty\"","v":"% CW Penalty"},"Total ECM Impact","ECM Savings  MMBtu Extrapolated","ECM Penalty  MMBtu Extrapolated","Total Parametric Run Impact MMBtu","Total Parametric Run Savings MMBtu","Total Parametric Run Penalty  MMBtu",{"$f":"\"Total ECM \"&CC81&\" Impact  MMBtu\"","v":"Total ECM Oil Impact  MMBtu"},"Total ECM Savings  MMBtu","Total ECM Penalty  MMBtu",{"$f":"\"% \"&CC81&\" Savings\"","v":"% Oil Savings"},{"$f":"\"% \"&CC81&\" Penalty\"","v":"% Oil Penalty"},"Total ECM Impact","ECM Savings  MMBtu Extrapolated","ECM Penalty  MMBtu Extrapolated","Total Parametric Run Impact MMBtu","Total Parametric Run Savings MMBtu","Total Parametric Run Penalty  MMBtu",{"$f":"\"Total ECM \"&CN81&\" Impact  MMBtu\"","v":"Total ECM Propane Impact  MMBtu"},"Total ECM Savings  MMBtu","Total ECM Penalty  MMBtu",{"$f":"\"% \"&CN81&\" Savings\"","v":"% Propane Savings"},{"$f":"\"% \"&CN81&\" Penalty\"","v":"% Propane Penalty"},"Total ECM Impact","ECM Savings  MMBtu Extrapolated","ECM Penalty  MMBtu Extrapolated","Total Parametric Run Impact MMBtu","Total Parametric Run Savings MMBtu","Total Parametric Run Penalty  MMBtu",{"$f":"\"Total ECM \"&CY81&\" Impact  MMBtu\"","v":"Total ECM Other Impact  MMBtu"},"Total ECM Savings  MMBtu","Total ECM Penalty  MMBtu",{"$f":"\"% \"&CY81&\" Savings\"","v":"% Other Savings"},{"$f":"\"% \"&CY81&\" Penalty\"","v":"% Other Penalty"},"Total ECM Impact","ECM Savings  MMBtu Extrapolated","ECM Penalty  MMBtu Extrapolated",null,null,"Cash Flow for IRR calculations"]
[null,null,null,null,null,null,"kWh","Gas MMBtu","Steam MMBtu","HW MMBtu","CW MMBtu","Fuel Oil MMBtu","Propane MMBtu","Other MMBtu","kW","$","$","years","years","$","%",null,null,null,null,null,null,null,null,null,null,null,null,null,null,null,null,null,null,null,null,null,null,null,null,null,null,null,null,null,null,null,null,null,null,null,null,null,null,null,null,null,null,null,null,null,null,null,null,null,null,null,null,null,null,null,null,null,null,null,null,null,null,null,null,null,null,null,null,null,null,null,null,null,null,null,null,null,null,null,null,null,null,null,null,null,null,null,null,null,null,null,null,null,null,"Year 0","Year 1","Year 2","Year 3","Year 4","Year 5","Year 6","Year 7","Year 8","Year 9","Year 10","Year 11","Year 12","Year 13","Year 14","Year 15","Year 16","Year 17","Year 18","Year 19","Year 20","Year 21","Year 22","Year 23","Year 24","Year 25","Year 26","Year 27","Year 28","Year 29","Year 30","Year 31","Year 32","Year 33","Year 34","Year 35","Year 36","Year 37","Year 38","Year 39","Year 40","IRR Estimate",null,"Override Detection"]
[null,null,null,null,null,null,null,{"$f":"H27","v":0},{"$f":"J27","v":0},{"$f":"L27","v":0},{"$f":"N27","v":0},{"$f":"P27","v":0},{"$f":"R27","v":0},{"$f":"T27","v":0}]
[null,null,null,1,{"$f":"E55","v":""},{"$f":"IF('P4P - Measure Info'!C23=\"Yes\",'P4P - Measure Info'!X23,0)","v":0},{"$f":"IF(H55=\"\",0,IF('P4P - General Info'!$C$21=\"Appendix G\",H53-H55,IF('P4P - General Info'!$C$21=\"ASHRAE bEq\",H55-H53,\"\")))","v":0},{"$f":"IF(J55=\"\",0,IF('P4P - General Info'!$C$21=\"Appendix G\",J53-J55,IF('P4P - General Info'!$C$21=\"ASHRAE bEq\",J55-J53,\"\")))","v":0},{"$f":"IF(K55=\"\",0,IF('P4P - General Info'!$C$21=\"Appendix G\",K53-K55,IF('P4P - General Info'!$C$21=\"ASHRAE bEq\",K55-K53,\"\")))","v":0},{"$f":"IF(L55=\"\",0,IF('P4P - General Info'!$C$21=\"Appendix G\",L53-L55,IF('P4P - General Info'!$C$21=\"ASHRAE bEq\",L55-L53,\"\")))","v":0},{"$f":"IF(M55=\"\",0,IF('P4P - General Info'!$C$21=\"Appendix G\",M53-M55,IF('P4P - General Info'!$C$21=\"ASHRAE bEq\",M55-M53,\"\")))","v":0},{"$f":"IF(N55=\"\",0,IF('P4P - General Info'!$C$21=\"Appendix G\",N53-N55,IF('P4P - General Info'!$C$21=\"ASHRAE bEq\",N55-N53,\"\")))","v":0},{"$f":"IF(O55=\"\",0,IF('P4P - General Info'!$C$21=\"Appendix G\",O53-O55,IF('P4P - General Info'!$C$21=\"ASHRAE bEq\",O55-O53,\"\")))","v":0},{"$f":"IF(P55=\"\",0,IF('P4P - General Info'!$C$21=\"Appendix G\",P53-P55,IF('P4P - General Info'!$C$21=\"ASHRAE bEq\",P55-P53,\"\")))","v":0},{"$f":"IF(I55=\"\",0,IF('P4P - General Info'!$C$21=\"Appendix G\",I53-I55,IF('P4P - General Info'!$C$21=\"ASHRAE bEq\",I55-I53,\"\")))","v":0},0,{"$f":"IFERROR(G85*0.003412*$F$11+H85*$H$11+I85*$J$11+J85*$L$11+K85*$N$11+L85*$P$11+M85*$R$11+N85*$U$11,0)","v":0},{"$f":"IF(E85=\"\",0,VLOOKUP('P4P - Measure Info'!F23,P4P_MeasureTable,3,FALSE))","v":0},{"$f":"IF(Q85=0,0,F85/(SY9+Q85))","v":0},{"$f":"IF(R85=\"\",0,-PV($DN$118,R85,Q85)-F85)","v":0},{"$f":"IF(S85=0,0,IF(Q85<0,0,IRR(DL85:EZ85,FA85)))","v":0},null,null,null,{"$f":"IF('P4P - Measure Info'!C23=\"Yes\",'P4P - Measure Simulation'!Q85,0)","v":0},{"$f":"G85","v":0},{"$f":"IF(G85>0,G85,0)","v":0},{"$f":"IF(G85<0,G85,0)","v":0},{"$f":"IF('P4P - Measure Info'!$C23=\"Yes\",'P4P - Measure Simulation'!G85,0)","v":0},{"$f":"IF(AC85>0,AC85,0)","v":0},{"$f":"IF(AC85<0,AC85,0)","v":0},{"$f":"IFERROR(IF(AC85<0,0,AC85/AD$111),0)","v":0},{"$f":"IFERROR(IF(AC85>0,0,AC85/AE$111),0)","v":0},{"$f":"AI85+AJ85","v":0},{"$f":"AD85*$AD$112","v":0},{"$f":"AE85*$AE$112","v":0},{"$f":"H85","v":0},{"$f":"IF(H85>0,H85,0)","v":0},{"$f":"IF(H85<0,H85,0)","v":0},{"$f":"IF('P4P - Measure Info'!$C23=\"Yes\",'P4P - Measure Simulation'!H85,0)","v":0},{"$f":"IF(AN85>0,AN85,0)","v":0},{"$f":"IF(AN85<0,AN85,0)","v":0},{"$f":"IFERROR(IF(AN85<0,0,AN85/AO$111),0)","v":0},{"$f":"IFERROR(IF(AN85>0,0,AN85/AP$111),0)","v":0},{"$f":"AT85+AU85","v":0},{"$f":"AO85*AO$112","v":0},{"$f":"AP85*AP$112","v":0},{"$f":"I85","v":0},{"$f":"IF(I85>0,I85,0)","v":0},{"$f":"IF(I85<0,I85,0)","v":0},{"$f":"IF('P4P - Measure Info'!$C23=\"Yes\",'P4P - Measure Simulation'!I85,0)","v":0},{"$f":"IF(AY85>0,AY85,0)","v":0},{"$f":"IF(AY85<0,AY85,0)","v":0},{"$f":"IFERROR(IF(AY85<0,0,AY85/AZ$111),0)","v":0},{"$f":"IFERROR(IF(AY85>0,0,AY85/BA$111),0)","v":0},{"$f":"BE85+BF85","v":0},{"$f":"AZ85*AZ$112","v":0},{"$f":"BA85*BA$112","v":0},{"$f":"J85","v":0},{"$f":"IF(J85>0,J85,0)","v":0},{"$f":"IF(IX85<0,J85,0)","v":0},{"$f":"IF('P4P - Measure Info'!$C23=\"Yes\",'P4P - Measure Simulation'!J85,0)","v":0},{"$f":"IF(BJ85>0,BJ85,0)","v":0},{"$f":"IF(BJ85<0,BJ85,0)","v":0},{"$f":"IFERROR(IF(BJ85<0,0,BJ85/BK$111),0)","v":0},{"$f":"IFERROR(IF(BJ85>0,0,BJ85/BL$111),0)","v":0},{"$f":"BP85+BQ85","v":0},{"$f":"BK85*BK$112","v":0},{"$f":"BL85*BL$112","v":0},{"$f":"K85","v":0},{"$f":"IF(K85>0,K85,0)","v":0},{"$f":"IF(K85<0,K85,0)","v":0},{"$f":"IF('P4P - Measure Info'!$C23=\"Yes\",'P4P - Measure Simulation'!K85,0)","v":0},{"$f":"IF(BU85>0,BU85,0)","v":0},{"$f":"IF(BU85<0,BU85,0)","v":0},{"$f":"IFERROR(IF(BU85<0,0,BU85/BV$111),0)","v":0},{"$f":"IFERROR(IF(BU85>0,0,BU85/BW$111),0)","v":0},{"$f":"CA85+CB85","v":0},{"$f":"BV85*BV$112","v":0},{"$f":"BW85*BW$112","v":0},{"$f":"L85","v":0},{"$f":"IF(L85>0,L85,0)","v":0},{"$f":"IF(L85<0,L85,0)","v":0},{"$f":"IF('P4P - Measure Info'!$C23=\"Yes\",'P4P - Measure Simulation'!L85,0)","v":0},{"$f":"IF(CF85>0,CF85,0)","v":0},{"$f":"IF(CF85<0,CF85,0)","v":0},{"$f":"IFERROR(IF(CF85<0,0,CF85/CG$111),0)","v":0},{"$f":"IFERROR(IF(CF85>0,0,CF85/CH$111),0)","v":0},{"$f":"CL85+CM85","v":0},{"$f":"CG85*CG$112","v":0},{"$f":"CH85*CH$112","v":0},{"$f":"M85","v":0},{"$f":"IF(M85>0,M85,0)","v":0},{"$f":"IF(M85<0,M85,0)","v":0},{"$f":"IF('P4P - Measure Info'!$C23=\"Yes\",'P4P - Measure Simulation'!M85,0)","v":0},{"$f":"IF(CQ85>0,CQ85,0)","v":0},{"$f":"IF(CQ85<0,CQ85,0)","v":0},{"$f":"IFERROR(IF(CQ85<0,0,CQ85/CR$111),0)","v":0},{"$f":"IFERROR(IF(CQ85>0,0,CQ85/CS$111),0)","v":0},{"$f":"CW85+CX85","v":0},{"$f":"CR85*CR$112","v":0},{"$f":"CS85*CS$112","v":0},{"$f":"N85","v":0},{"$f":"IF(N85>0,N85,0)","v":0},{"$f":"IF(N85<0,N85,0)","v":0},{"$f":"IF('P4P - Measure Info'!$C23=\"Yes\",'P4P - Measure Simulation'!N85,0)","v":0},{"$f":"IF(DB85>0,DB85,0)","v":0},{"$f":"IF(DB85<0,DB85,0)","v":0},{"$f":"IFERROR(IF(DB85<0,0,DB85/DC$111),0)","v":0},{"$f":"IFERROR(IF(DB85>0,0,DB85/DD$111),0)","v":0},{"$f":"DH85+DI85","v":0},{"$f":"DC85*DC$112","v":0},{"$f":"DD85*DD$112","v":0},null,null,{"$f":"-F85","v":0},{"$f":"P85+Q85","v":0},{"$f":"IF(COUNTIF(DM85,P85+Q85)<R85,P85+Q85,0)","v":0},{"$f":"IF(COUNTIF($DM85:DN85,$P85+$Q85)<$R85,$P85+$Q85,0)","v":0},{"$f":"IF(COUNTIF($DM85:DO85,$P85+$Q85)<$R85,$P85+$Q85,0)","v":0},{"$f":"IF(COUNTIF($DM85:DP85,$P85+$Q85)<$R85,$P85+$Q85,0)","v":0},{"$f":"IF(COUNTIF($DM85:DQ85,$P85+$Q85)<$R85,$P85+$Q85,0)","v":0},{"$f":"IF(COUNTIF($DM85:DR85,$P85+$Q85)<$R85,$P85+$Q85,0)","v":0},{"$f":"IF(COUNTIF($DM85:DS85,$P85+$Q85)<$R85,$P85+$Q85,0)","v":0},{"$f":"IF(COUNTIF($DM85:DT85,$P85+$Q85)<$R85,$P85+$Q85,0)","v":0},{"$f":"IF(COUNTIF($DM85:DU85,$P85+$Q85)<$R85,$P85+$Q85,0)","v":0},{"$f":"IF(COUNTIF($DM85:DV85,$P85+$Q85)<$R85,$P85+$Q85,0)","v":0},{"$f":"IF(COUNTIF($DM85:DW85,$P85+$Q85)<$R85,$P85+$Q85,0)","v":0},{"$f":"IF(COUNTIF($DM85:DX85,$P85+$Q85)<$R85,$P85+$Q85,0)","v":0},{"$f":"IF(COUNTIF($DM85:DY85,$P85+$Q85)<$R85,$P85+$Q85,0)","v":0},{"$f":"IF(COUNTIF($DM85:DZ85,$P85+$Q85)<$R85,$P85+$Q85,0)","v":0},{"$f":"IF(COUNTIF($DM85:EA85,$P85+$Q85)<$R85,$P85+$Q85,0)","v":0},{"$f":"IF(COUNTIF($DM85:EB85,$P85+$Q85)<$R85,$P85+$Q85,0)","v":0},{"$f":"IF(COUNTIF($DM85:EC85,$P85+$Q85)<$R85,$P85+$Q85,0)","v":0},{"$f":"IF(COUNTIF($DM85:ED85,$P85+$Q85)<$R85,$P85+$Q85,0)","v":0},{"$f":"IF(COUNTIF($DM85:EE85,$P85+$Q85)<$R85,$P85+$Q85,0)","v":0},{"$f":"IF(COUNTIF($DM85:EF85,$P85+$Q85)<$R85,$P85+$Q85,0)","v":0},{"$f":"IF(COUNTIF($DM85:EG85,$P85+$Q85)<$R85,$P85+$Q85,0)","v":0},{"$f":"IF(COUNTIF($DM85:EH85,$P85+$Q85)<$R85,$P85+$Q85,0)","v":0},{"$f":"IF(COUNTIF($DM85:EI85,$P85+$Q85)<$R85,$P85+$Q85,0)","v":0},{"$f":"IF(COUNTIF($DM85:EJ85,$P85+$Q85)<$R85,$P85+$Q85,0)","v":0},{"$f":"IF(COUNTIF($DM85:EK85,$P85+$Q85)<$R85,$P85+$Q85,0)","v":0},{"$f":"IF(COUNTIF($DM85:EL85,$P85+$Q85)<$R85,$P85+$Q85,0)","v":0},{"$f":"IF(COUNTIF($DM85:EM85,$P85+$Q85)<$R85,$P85+$Q85,0)","v":0},{"$f":"IF(COUNTIF($DM85:EN85,$P85+$Q85)<$R85,$P85+$Q85,0)","v":0},{"$f":"IF(COUNTIF($DM85:EO85,$P85+$Q85)<$R85,$P85+$Q85,0)","v":0},{"$f":"IF(COUNTIF($DM85:EP85,$P85+$Q85)<$R85,$P85+$Q85,0)","v":0},{"$f":"IF(COUNTIF($DM85:EQ85,$P85+$Q85)<$R85,$P85+$Q85,0)","v":0},{"$f":"IF(COUNTIF($DM85:ER85,$P85+$Q85)<$R85,$P85+$Q85,0)","v":0},{"$f":"IF(COUNTIF($DM85:ES85,$P85+$Q85)<$R85,$P85+$Q85,0)","v":0},{"$f":"IF(COUNTIF($DM85:ET85,$P85+$Q85)<$R85,$P85+$Q85,0)","v":0},{"$f":"IF(COUNTIF($DM85:EU85,$P85+$Q85)<$R85,$P85+$Q85,0)","v":0},{"$f":"IF(COUNTIF($DM85:EV85,$P85+$Q85)<$R85,$P85+$Q85,0)","v":0},{"$f":"IF(COUNTIF($DM85:EW85,$P85+$Q85)<$R85,$P85+$Q85,0)","v":0},{"$f":"IF(COUNTIF($DM85:EX85,$P85+$Q85)<$R85,$P85+$Q85,0)","v":0},{"$f":"IF(COUNTIF($DM85:EY85,$P85+$Q85)<$R85,$P85+$Q85,0)","v":0},{"$f":"IF(Q85*R85>F85,0.3,-0.3)","v":-0.3},null,{"$f":"IF(LEFT(formulaTextCustom(G85),3)=\"=IF\",0,1)","v":0},{"$f":"IF(LEFT(formulaTextCustom(H85),3)=\"=IF\",0,1)","v":0},{"$f":"IF(LEFT(formulaTextCustom(I85),3)=\"=IF\",0,1)","v":0},{"$f":"IF(LEFT(formulaTextCustom(J85),3)=\"=IF\",0,1)","v":0},{"$f":"IF(LEFT(formulaTextCustom(K85),3)=\"=IF\",0,1)","v":0},{"$f":"IF(LEFT(formulaTextCustom(L85),3)=\"=IF\",0,1)","v":0},{"$f":"IF(LEFT(formulaTextCustom(M85),3)=\"=IF\",0,1)","v":0},{"$f":"IF(LEFT(formulaTextCustom(N85),3)=\"=IF\",0,1)","v":0},{"$f":"IF(LEFT(formulaTextCustom(O85),3)=\"=IF\",0,1)","v":0}]
[null,null,null,2,{"$f":"E56","v":""},{"$f":"IF('P4P - Measure Info'!C24=\"Yes\",'P4P - Measure Info'!X24,0)","v":0},{"$f":"IF(H56=\"\",0,IF('P4P - General Info'!$C$21=\"Appendix G\",H55-H56,IF('P4P - General Info'!$C$21=\"ASHRAE bEq\",H56-H55,\"\")))","v":0},{"$f":"IF(J56=\"\",0,IF('P4P - General Info'!$C$21=\"Appendix G\",J55-J56,IF('P4P - General Info'!$C$21=\"ASHRAE bEq\",J56-J55,\"\")))","v":0},{"$f":"IF(K56=\"\",0,IF('P4P - General Info'!$C$21=\"Appendix G\",K55-K56,IF('P4P - General Info'!$C$21=\"ASHRAE bEq\",K56-K55,\"\")))","v":0},{"$f":"IF(L56=\"\",0,IF('P4P - General Info'!$C$21=\"Appendix G\",L55-L56,IF('P4P - General Info'!$C$21=\"ASHRAE bEq\",L56-L55,\"\")))","v":0},{"$f":"IF(M56=\"\",0,IF('P4P - General Info'!$C$21=\"Appendix G\",M55-M56,IF('P4P - General Info'!$C$21=\"ASHRAE bEq\",M56-M55,\"\")))","v":0},{"$f":"IF(N56=\"\",0,IF('P4P - General Info'!$C$21=\"Appendix G\",N55-N56,IF('P4P - General Info'!$C$21=\"ASHRAE bEq\",N56-N55,\"\")))","v":0},{"$f":"IF(O56=\"\",0,IF('P4P - General Info'!$C$21=\"Appendix G\",O55-O56,IF('P4P - General Info'!$C$21=\"ASHRAE bEq\",O56-O55,\"\")))","v":0},{"$f":"IF(P56=\"\",0,IF('P4P - General Info'!$C$21=\"Appendix G\",P55-P56,IF('P4P - General Info'!$C$21=\"ASHRAE bEq\",P56-P55,\"\")))","v":0},{"$f":"IF(I56=\"\",0,IF('P4P - General Info'!$C$21=\"Appendix G\",I55-I56,IF('P4P - General Info'!$C$21=\"ASHRAE bEq\",I56-I55,\"\")))","v":0},0,{"$f":"IFERROR(G86*0.003412*$F$11+H86*$H$11+I86*$J$11+J86*$L$11+K86*$N$11+L86*$P$11+M86*$R$11+N86*$U$11,0)","v":0},{"$f":"IF(E86=\"\",0,VLOOKUP('P4P - Measure Info'!F24,P4P_MeasureTable,3,FALSE))","v":0},0,0,0,null,null,null,{"$f":"IF('P4P - Measure Info'!C24=\"Yes\",'P4P - Measure Simulation'!Q86,0)","v":0},{"$f":"G86","v":0},{"$f":"IF(G86>0,G86,0)","v":0},{"$f":"IF(G86<0,G86,0)","v":0},{"$f":"IF('P4P - Measure Info'!$C24=\"Yes\",'P4P - Measure Simulation'!G86,0)","v":0},{"$f":"IF(AC86>0,AC86,0)","v":0},{"$f":"IF(AC86<0,AC86,0)","v":0},0,0,{"$f":"AI86+AJ86","v":0},0,0,{"$f":"H86","v":0},{"$f":"IF(H86>0,H86,0)","v":0},{"$f":"IF(H86<0,H86,0)","v":0},{"$f":"IF('P4P - Measure Info'!$C24=\"Yes\",'P4P - Measure Simulation'!H86,0)","v":0},{"$f":"IF(AN86>0,AN86,0)","v":0},{"$f":"IF(AN86<0,AN86,0)","v":0},0,0,{"$f":"AT86+AU86","v":0},{"$f":"AO86*AO$112","v":0},{"$f":"AP86*AP$112","v":0},{"$f":"I86","v":0},{"$f":"IF(I86>0,I86,0)","v":0},{"$f":"IF(I86<0,I86,0)","v":0},{"$f":"IF('P4P - Measure Info'!$C24=\"Yes\",'P4P - Measure Simulation'!I86,0)","v":0},{"$f":"IF(AY86>0,AY86,0)","v":0},{"$f":"IF(AY86<0,AY86,0)","v":0},0,0,{"$f":"BE86+BF86","v":0},{"$f":"AZ86*AZ$112","v":0},{"$f":"BA86*BA$112","v":0},{"$f":"J86","v":0},{"$f":"IF(J86>0,J86,0)","v":0},{"$f":"IF(IX86<0,J86,0)","v":0},{"$f":"IF('P4P - Measure Info'!$C24=\"Yes\",'P4P - Measure Simulation'!J86,0)","v":0},{"$f":"IF(BJ86>0,BJ86,0)","v":0},{"$f":"IF(BJ86<0,BJ86,0)","v":0},0,0,{"$f":"BP86+BQ86","v":0},{"$f":"BK86*BK$112","v":0},{"$f":"BL86*BL$112","v":0},{"$f":"K86","v":0},{"$f":"IF(K86>0,K86,0)","v":0},{"$f":"IF(K86<0,K86,0)","v":0},{"$f":"IF('P4P - Measure Info'!$C24=\"Yes\",'P4P - Measure Simulation'!K86,0)","v":0},{"$f":"IF(BU86>0,BU86,0)","v":0},{"$f":"IF(BU86<0,BU86,0)","v":0},0,0,{"$f":"CA86+CB86","v":0},{"$f":"BV86*BV$112","v":0},{"$f":"BW86*BW$112","v":0},{"$f":"L86","v":0},{"$f":"IF(L86>0,L86,0)","v":0},{"$f":"IF(L86<0,L86,0)","v":0},{"$f":"IF('P4P - Measure Info'!$C24=\"Yes\",'P4P - Measure Simulation'!L86,0)","v":0},{"$f":"IF(CF86>0,CF86,0)","v":0},{"$f":"IF(CF86<0,CF86,0)","v":0},0,0,{"$f":"CL86+CM86","v":0},{"$f":"CG86*CG$112","v":0},{"$f":"CH86*CH$112","v":0},{"$f":"M86","v":0},{"$f":"IF(M86>0,M86,0)","v":0},{"$f":"IF(M86<0,M86,0)","v":0},{"$f":"IF('P4P - Measure Info'!$C24=\"Yes\",'P4P - Measure Simulation'!M86,0)","v":0},{"$f":"IF(CQ86>0,CQ86,0)","v":0},{"$f":"IF(CQ86<0,CQ86,0)","v":0},0,0,{"$f":"CW86+CX86","v":0},{"$f":"CR86*CR$112","v":0},{"$f":"CS86*CS$112","v":0},{"$f":"N86","v":0},{"$f":"IF(N86>0,N86,0)","v":0},{"$f":"IF(N86<0,N86,0)","v":0},{"$f":"IF('P4P - Measure Info'!$C24=\"Yes\",'P4P - Measure Simulation'!N86,0)","v":0},{"$f":"IF(DB86>0,DB86,0)","v":0},{"$f":"IF(DB86<0,DB86,0)","v":0},0,0,{"$f":"DH86+DI86","v":0},{"$f":"DC86*DC$112","v":0},{"$f":"DD86*DD$112","v":0},null,null,0,0,0,{"$f":"IF(COUNTIF($DM86:DN86,$P86+$Q86)<$R86,$P86+$Q86,0)","v":0},{"$f":"IF(COUNTIF($DM86:DO86,$P86+$Q86)<$R86,$P86+$Q86,0)","v":0},{"$f":"IF(COUNTIF($DM86:DP86,$P86+$Q86)<$R86,$P86+$Q86,0)","v":0},{"$f":"IF(COUNTIF($DM86:DQ86,$P86+$Q86)<$R86,$P86+$Q86,0)","v":0},{"$f":"IF(COUNTIF($DM86:DR86,$P86+$Q86)<$R86,$P86+$Q86,0)","v":0},{"$f":"IF(COUNTIF($DM86:DS86,$P86+$Q86)<$R86,$P86+$Q86,0)","v":0},{"$f":"IF(COUNTIF($DM86:DT86,$P86+$Q86)<$R86,$P86+$Q86,0)","v":0},{"$f":"IF(COUNTIF($DM86:DU86,$P86+$Q86)<$R86,$P86+$Q86,0)","v":0},{"$f":"IF(COUNTIF($DM86:DV86,$P86+$Q86)<$R86,$P86+$Q86,0)","v":0},{"$f":"IF(COUNTIF($DM86:DW86,$P86+$Q86)<$R86,$P86+$Q86,0)","v":0},{"$f":"IF(COUNTIF($DM86:DX86,$P86+$Q86)<$R86,$P86+$Q86,0)","v":0},{"$f":"IF(COUNTIF($DM86:DY86,$P86+$Q86)<$R86,$P86+$Q86,0)","v":0},{"$f":"IF(COUNTIF($DM86:DZ86,$P86+$Q86)<$R86,$P86+$Q86,0)","v":0},{"$f":"IF(COUNTIF($DM86:EA86,$P86+$Q86)<$R86,$P86+$Q86,0)","v":0},{"$f":"IF(COUNTIF($DM86:EB86,$P86+$Q86)<$R86,$P86+$Q86,0)","v":0},{"$f":"IF(COUNTIF($DM86:EC86,$P86+$Q86)<$R86,$P86+$Q86,0)","v":0},{"$f":"IF(COUNTIF($DM86:ED86,$P86+$Q86)<$R86,$P86+$Q86,0)","v":0},{"$f":"IF(COUNTIF($DM86:EE86,$P86+$Q86)<$R86,$P86+$Q86,0)","v":0},{"$f":"IF(COUNTIF($DM86:EF86,$P86+$Q86)<$R86,$P86+$Q86,0)","v":0},{"$f":"IF(COUNTIF($DM86:EG86,$P86+$Q86)<$R86,$P86+$Q86,0)","v":0},{"$f":"IF(COUNTIF($DM86:EH86,$P86+$Q86)<$R86,$P86+$Q86,0)","v":0},{"$f":"IF(COUNTIF($DM86:EI86,$P86+$Q86)<$R86,$P86+$Q86,0)","v":0},{"$f":"IF(COUNTIF($DM86:EJ86,$P86+$Q86)<$R86,$P86+$Q86,0)","v":0},{"$f":"IF(COUNTIF($DM86:EK86,$P86+$Q86)<$R86,$P86+$Q86,0)","v":0},{"$f":"IF(COUNTIF($DM86:EL86,$P86+$Q86)<$R86,$P86+$Q86,0)","v":0},{"$f":"IF(COUNTIF($DM86:EM86,$P86+$Q86)<$R86,$P86+$Q86,0)","v":0},{"$f":"IF(COUNTIF($DM86:EN86,$P86+$Q86)<$R86,$P86+$Q86,0)","v":0},{"$f":"IF(COUNTIF($DM86:EO86,$P86+$Q86)<$R86,$P86+$Q86,0)","v":0},{"$f":"IF(COUNTIF($DM86:EP86,$P86+$Q86)<$R86,$P86+$Q86,0)","v":0},{"$f":"IF(COUNTIF($DM86:EQ86,$P86+$Q86)<$R86,$P86+$Q86,0)","v":0},{"$f":"IF(COUNTIF($DM86:ER86,$P86+$Q86)<$R86,$P86+$Q86,0)","v":0},{"$f":"IF(COUNTIF($DM86:ES86,$P86+$Q86)<$R86,$P86+$Q86,0)","v":0},{"$f":"IF(COUNTIF($DM86:ET86,$P86+$Q86)<$R86,$P86+$Q86,0)","v":0},{"$f":"IF(COUNTIF($DM86:EU86,$P86+$Q86)<$R86,$P86+$Q86,0)","v":0},{"$f":"IF(COUNTIF($DM86:EV86,$P86+$Q86)<$R86,$P86+$Q86,0)","v":0},{"$f":"IF(COUNTIF($DM86:EW86,$P86+$Q86)<$R86,$P86+$Q86,0)","v":0},{"$f":"IF(COUNTIF($DM86:EX86,$P86+$Q86)<$R86,$P86+$Q86,0)","v":0},{"$f":"IF(COUNTIF($DM86:EY86,$P86+$Q86)<$R86,$P86+$Q86,0)","v":0},-0.3,null,{"$f":"IF(LEFT(formulaTextCustom(G86),3)=\"=IF\",0,1)","v":0},{"$f":"IF(LEFT(formulaTextCustom(H86),3)=\"=IF\",0,1)","v":0},{"$f":"IF(LEFT(formulaTextCustom(I86),3)=\"=IF\",0,1)","v":0},{"$f":"IF(LEFT(formulaTextCustom(J86),3)=\"=IF\",0,1)","v":0},{"$f":"IF(LEFT(formulaTextCustom(K86),3)=\"=IF\",0,1)","v":0},{"$f":"IF(LEFT(formulaTextCustom(L86),3)=\"=IF\",0,1)","v":0},{"$f":"IF(LEFT(formulaTextCustom(M86),3)=\"=IF\",0,1)","v":0},{"$f":"IF(LEFT(formulaTextCustom(N86),3)=\"=IF\",0,1)","v":0},{"$f":"IF(LEFT(formulaTextCustom(O86),3)=\"=IF\",0,1)","v":0}]
[null,null,null,3,"",{"$f":"IF('P4P - Measure Info'!C25=\"Yes\",'P4P - Measure Info'!X25,0)","v":0},{"$f":"IF(H57=\"\",0,IF('P4P - General Info'!$C$21=\"Appendix G\",H56-H57,IF('P4P - General Info'!$C$21=\"ASHRAE bEq\",H57-H56,\"\")))","v":0},{"$f":"IF(J57=\"\",0,IF('P4P - General Info'!$C$21=\"Appendix G\",J56-J57,IF('P4P - General Info'!$C$21=\"ASHRAE bEq\",J57-J56,\"\")))","v":0},{"$f":"IF(K57=\"\",0,IF('P4P - General Info'!$C$21=\"Appendix G\",K56-K57,IF('P4P - General Info'!$C$21=\"ASHRAE bEq\",K57-K56,\"\")))","v":0},{"$f":"IF(L57=\"\",0,IF('P4P - General Info'!$C$21=\"Appendix G\",L56-L57,IF('P4P - General Info'!$C$21=\"ASHRAE bEq\",L57-L56,\"\")))","v":0},{"$f":"IF(M57=\"\",0,IF('P4P - General Info'!$C$21=\"Appendix G\",M56-M57,IF('P4P - General Info'!$C$21=\"ASHRAE bEq\",M57-M56,\"\")))","v":0},{"$f":"IF(N57=\"\",0,IF('P4P - General Info'!$C$21=\"Appendix G\",N56-N57,IF('P4P - General Info'!$C$21=\"ASHRAE bEq\",N57-N56,\"\")))","v":0},{"$f":"IF(O57=\"\",0,IF('P4P - General Info'!$C$21=\"Appendix G\",O56-O57,IF('P4P - General Info'!$C$21=\"ASHRAE bEq\",O57-O56,\"\")))","v":0},{"$f":"IF(P57=\"\",0,IF('P4P - General Info'!$C$21=\"Appendix G\",P56-P57,IF('P4P - General Info'!$C$21=\"ASHRAE bEq\",P57-P56,\"\")))","v":0},{"$f":"IF(I57=\"\",0,IF('P4P - General Info'!$C$21=\"Appendix G\",I56-I57,IF('P4P - General Info'!$C$21=\"ASHRAE bEq\",I57-I56,\"\")))","v":0},0,0,{"$f":"IF(E87=\"\",0,VLOOKUP('P4P - Measure Info'!F25,P4P_MeasureTable,3,FALSE))","v":0},0,0,0,null,null,null,{"$f":"IF('P4P - Measure Info'!C25=\"Yes\",'P4P - Measure Simulation'!Q87,0)","v":0},0,0,0,{"$f":"IF('P4P - Measure Info'!$C25=\"Yes\",'P4P - Measure Simulation'!G87,0)","v":0},0,0,0,0,0,0,0,0,0,0,{"$f":"IF('P4P - Measure Info'!$C25=\"Yes\",'P4P - Measure Simulation'!H87,0)","v":0},0,0,0,0,0,0,0,0,0,0,{"$f":"IF('P4P - Measure Info'!$C25=\"Yes\",'P4P - Measure Simulation'!I87,0)","v":0},0,0,0,0,0,0,0,0,0,0,{"$f":"IF('P4P - Measure Info'!$C25=\"Yes\",'P4P - Measure Simulation'!J87,0)","v":0},0,0,0,0,0,0,0,0,0,0,{"$f":"IF('P4P - Measure Info'!$C25=\"Yes\",'P4P - Measure Simulation'!K87,0)","v":0},0,0,0,0,0,0,0,0,0,0,{"$f":"IF('P4P - Measure Info'!$C25=\"Yes\",'P4P - Measure Simulation'!L87,0)","v":0},0,0,0,0,0,0,0,0,0,0,{"$f":"IF('P4P - Measure Info'!$C25=\"Yes\",'P4P - Measure Simulation'!M87,0)","v":0},0,0,0,0,0,0,0,0,0,0,{"$f":"IF('P4P - Measure Info'!$C25=\"Yes\",'P4P - Measure Simulation'!N87,0)","v":0},0,0,0,0,0,0,0,null,null,0,0,0,{"$f":"IF(COUNTIF($DM87:DN87,$P87+$Q87)<$R87,$P87+$Q87,0)","v":0},{"$f":"IF(COUNTIF($DM87:DO87,$P87+$Q87)<$R87,$P87+$Q87,0)","v":0},{"$f":"IF(COUNTIF($DM87:DP87,$P87+$Q87)<$R87,$P87+$Q87,0)","v":0},{"$f":"IF(COUNTIF($DM87:DQ87,$P87+$Q87)<$R87,$P87+$Q87,0)","v":0},{"$f":"IF(COUNTIF($DM87:DR87,$P87+$Q87)<$R87,$P87+$Q87,0)","v":0},{"$f":"IF(COUNTIF($DM87:DS87,$P87+$Q87)<$R87,$P87+$Q87,0)","v":0},{"$f":"IF(COUNTIF($DM87:DT87,$P87+$Q87)<$R87,$P87+$Q87,0)","v":0},{"$f":"IF(COUNTIF($DM87:DU87,$P87+$Q87)<$R87,$P87+$Q87,0)","v":0},{"$f":"IF(COUNTIF($DM87:DV87,$P87+$Q87)<$R87,$P87+$Q87,0)","v":0},{"$f":"IF(COUNTIF($DM87:DW87,$P87+$Q87)<$R87,$P87+$Q87,0)","v":0},{"$f":"IF(COUNTIF($DM87:DX87,$P87+$Q87)<$R87,$P87+$Q87,0)","v":0},{"$f":"IF(COUNTIF($DM87:DY87,$P87+$Q87)<$R87,$P87+$Q87,0)","v":0},{"$f":"IF(COUNTIF($DM87:DZ87,$P87+$Q87)<$R87,$P87+$Q87,0)","v":0},{"$f":"IF(COUNTIF($DM87:EA87,$P87+$Q87)<$R87,$P87+$Q87,0)","v":0},{"$f":"IF(COUNTIF($DM87:EB87,$P87+$Q87)<$R87,$P87+$Q87,0)","v":0},{"$f":"IF(COUNTIF($DM87:EC87,$P87+$Q87)<$R87,$P87+$Q87,0)","v":0},{"$f":"IF(COUNTIF($DM87:ED87,$P87+$Q87)<$R87,$P87+$Q87,0)","v":0},{"$f":"IF(COUNTIF($DM87:EE87,$P87+$Q87)<$R87,$P87+$Q87,0)","v":0},{"$f":"IF(COUNTIF($DM87:EF87,$P87+$Q87)<$R87,$P87+$Q87,0)","v":0},{"$f":"IF(COUNTIF($DM87:EG87,$P87+$Q87)<$R87,$P87+$Q87,0)","v":0},{"$f":"IF(COUNTIF($DM87:EH87,$P87+$Q87)<$R87,$P87+$Q87,0)","v":0},{"$f":"IF(COUNTIF($DM87:EI87,$P87+$Q87)<$R87,$P87+$Q87,0)","v":0},{"$f":"IF(COUNTIF($DM87:EJ87,$P87+$Q87)<$R87,$P87+$Q87,0)","v":0},{"$f":"IF(COUNTIF($DM87:EK87,$P87+$Q87)<$R87,$P87+$Q87,0)","v":0},{"$f":"IF(COUNTIF($DM87:EL87,$P87+$Q87)<$R87,$P87+$Q87,0)","v":0},{"$f":"IF(COUNTIF($DM87:EM87,$P87+$Q87)<$R87,$P87+$Q87,0)","v":0},{"$f":"IF(COUNTIF($DM87:EN87,$P87+$Q87)<$R87,$P87+$Q87,0)","v":0},{"$f":"IF(COUNTIF($DM87:EO87,$P87+$Q87)<$R87,$P87+$Q87,0)","v":0},{"$f":"IF(COUNTIF($DM87:EP87,$P87+$Q87)<$R87,$P87+$Q87,0)","v":0},{"$f":"IF(COUNTIF($DM87:EQ87,$P87+$Q87)<$R87,$P87+$Q87,0)","v":0},{"$f":"IF(COUNTIF($DM87:ER87,$P87+$Q87)<$R87,$P87+$Q87,0)","v":0},{"$f":"IF(COUNTIF($DM87:ES87,$P87+$Q87)<$R87,$P87+$Q87,0)","v":0},{"$f":"IF(COUNTIF($DM87:ET87,$P87+$Q87)<$R87,$P87+$Q87,0)","v":0},{"$f":"IF(COUNTIF($DM87:EU87,$P87+$Q87)<$R87,$P87+$Q87,0)","v":0},{"$f":"IF(COUNTIF($DM87:EV87,$P87+$Q87)<$R87,$P87+$Q87,0)","v":0},{"$f":"IF(COUNTIF($DM87:EW87,$P87+$Q87)<$R87,$P87+$Q87,0)","v":0},{"$f":"IF(COUNTIF($DM87:EX87,$P87+$Q87)<$R87,$P87+$Q87,0)","v":0},{"$f":"IF(COUNTIF($DM87:EY87,$P87+$Q87)<$R87,$P87+$Q87,0)","v":0},-0.3,null,{"$f":"IF(LEFT(formulaTextCustom(G87),3)=\"=IF\",0,1)","v":0},{"$f":"IF(LEFT(formulaTextCustom(H87),3)=\"=IF\",0,1)","v":0},{"$f":"IF(LEFT(formulaTextCustom(I87),3)=\"=IF\",0,1)","v":0},{"$f":"IF(LEFT(formulaTextCustom(J87),3)=\"=IF\",0,1)","v":0},{"$f":"IF(LEFT(formulaTextCustom(K87),3)=\"=IF\",0,1)","v":0},{"$f":"IF(LEFT(formulaTextCustom(L87),3)=\"=IF\",0,1)","v":0},{"$f":"IF(LEFT(formulaTextCustom(M87),3)=\"=IF\",0,1)","v":0},{"$f":"IF(LEFT(formulaTextCustom(N87),3)=\"=IF\",0,1)","v":0},{"$f":"IF(LEFT(formulaTextCustom(O87),3)=\"=IF\",0,1)","v":0}]
[null,null,null,4,"",{"$f":"IF('P4P - Measure Info'!C26=\"Yes\",'P4P - Measure Info'!X26,0)","v":0},{"$f":"IF(H58=\"\",0,IF('P4P - General Info'!$C$21=\"Appendix G\",H57-H58,IF('P4P - General Info'!$C$21=\"ASHRAE bEq\",H58-H57,\"\")))","v":0},{"$f":"IF(J58=\"\",0,IF('P4P - General Info'!$C$21=\"Appendix G\",J57-J58,IF('P4P - General Info'!$C$21=\"ASHRAE bEq\",J58-J57,\"\")))","v":0},{"$f":"IF(K58=\"\",0,IF('P4P - General Info'!$C$21=\"Appendix G\",K57-K58,IF('P4P - General Info'!$C$21=\"ASHRAE bEq\",K58-K57,\"\")))","v":0},{"$f":"IF(L58=\"\",0,IF('P4P - General Info'!$C$21=\"Appendix G\",L57-L58,IF('P4P - General Info'!$C$21=\"ASHRAE bEq\",L58-L57,\"\")))","v":0},{"$f":"IF(M58=\"\",0,IF('P4P - General Info'!$C$21=\"Appendix G\",M57-M58,IF('P4P - General Info'!$C$21=\"ASHRAE bEq\",M58-M57,\"\")))","v":0},{"$f":"IF(N58=\"\",0,IF('P4P - General Info'!$C$21=\"Appendix G\",N57-N58,IF('P4P - General Info'!$C$21=\"ASHRAE bEq\",N58-N57,\"\")))","v":0},{"$f":"IF(O58=\"\",0,IF('P4P - General Info'!$C$21=\"Appendix G\",O57-O58,IF('P4P - General Info'!$C$21=\"ASHRAE bEq\",O58-O57,\"\")))","v":0},{"$f":"IF(P58=\"\",0,IF('P4P - General Info'!$C$21=\"Appendix G\",P57-P58,IF('P4P - General Info'!$C$21=\"ASHRAE bEq\",P58-P57,\"\")))","v":0},{"$f":"IF(I58=\"\",0,IF('P4P - General Info'!$C$21=\"Appendix G\",I57-I58,IF('P4P - General Info'!$C$21=\"ASHRAE bEq\",I58-I57,\"\")))","v":0},0,0,{"$f":"IF(E88=\"\",0,VLOOKUP('P4P - Measure Info'!F26,P4P_MeasureTable,3,FALSE))","v":0},0,0,0,null,null,null,{"$f":"IF('P4P - Measure Info'!C26=\"Yes\",'P4P - Measure Simulation'!Q88,0)","v":0},0,0,0,{"$f":"IF('P4P - Measure Info'!$C26=\"Yes\",'P4P - Measure Simulation'!G88,0)","v":0},0,0,0,0,0,0,0,0,0,0,{"$f":"IF('P4P - Measure Info'!$C26=\"Yes\",'P4P - Measure Simulation'!H88,0)","v":0},0,0,0,0,0,0,0,0,0,0,{"$f":"IF('P4P - Measure Info'!$C26=\"Yes\",'P4P - Measure Simulation'!I88,0)","v":0},0,0,0,0,0,0,0,0,0,0,{"$f":"IF('P4P - Measure Info'!$C26=\"Yes\",'P4P - Measure Simulation'!J88,0)","v":0},0,0,0,0,0,0,0,0,0,0,{"$f":"IF('P4P - Measure Info'!$C26=\"Yes\",'P4P - Measure Simulation'!K88,0)","v":0},0,0,0,0,0,0,0,0,0,0,{"$f":"IF('P4P - Measure Info'!$C26=\"Yes\",'P4P - Measure Simulation'!L88,0)","v":0},0,0,0,0,0,0,0,0,0,0,{"$f":"IF('P4P - Measure Info'!$C26=\"Yes\",'P4P - Measure Simulation'!M88,0)","v":0},0,0,0,0,0,0,0,0,0,0,{"$f":"IF('P4P - Measure Info'!$C26=\"Yes\",'P4P - Measure Simulation'!N88,0)","v":0},0,0,0,0,0,0,0,null,null,0,0,0,{"$f":"IF(COUNTIF($DM88:DN88,$P88+$Q88)<$R88,$P88+$Q88,0)","v":0},{"$f":"IF(COUNTIF($DM88:DO88,$P88+$Q88)<$R88,$P88+$Q88,0)","v":0},{"$f":"IF(COUNTIF($DM88:DP88,$P88+$Q88)<$R88,$P88+$Q88,0)","v":0},{"$f":"IF(COUNTIF($DM88:DQ88,$P88+$Q88)<$R88,$P88+$Q88,0)","v":0},{"$f":"IF(COUNTIF($DM88:DR88,$P88+$Q88)<$R88,$P88+$Q88,0)","v":0},{"$f":"IF(COUNTIF($DM88:DS88,$P88+$Q88)<$R88,$P88+$Q88,0)","v":0},{"$f":"IF(COUNTIF($DM88:DT88,$P88+$Q88)<$R88,$P88+$Q88,0)","v":0},{"$f":"IF(COUNTIF($DM88:DU88,$P88+$Q88)<$R88,$P88+$Q88,0)","v":0},{"$f":"IF(COUNTIF($DM88:DV88,$P88+$Q88)<$R88,$P88+$Q88,0)","v":0},{"$f":"IF(COUNTIF($DM88:DW88,$P88+$Q88)<$R88,$P88+$Q88,0)","v":0},{"$f":"IF(COUNTIF($DM88:DX88,$P88+$Q88)<$R88,$P88+$Q88,0)","v":0},{"$f":"IF(COUNTIF($DM88:DY88,$P88+$Q88)<$R88,$P88+$Q88,0)","v":0},{"$f":"IF(COUNTIF($DM88:DZ88,$P88+$Q88)<$R88,$P88+$Q88,0)","v":0},{"$f":"IF(COUNTIF($DM88:EA88,$P88+$Q88)<$R88,$P88+$Q88,0)","v":0},{"$f":"IF(COUNTIF($DM88:EB88,$P88+$Q88)<$R88,$P88+$Q88,0)","v":0},{"$f":"IF(COUNTIF($DM88:EC88,$P88+$Q88)<$R88,$P88+$Q88,0)","v":0},{"$f":"IF(COUNTIF($DM88:ED88,$P88+$Q88)<$R88,$P88+$Q88,0)","v":0},{"$f":"IF(COUNTIF($DM88:EE88,$P88+$Q88)<$R88,$P88+$Q88,0)","v":0},{"$f":"IF(COUNTIF($DM88:EF88,$P88+$Q88)<$R88,$P88+$Q88,0)","v":0},{"$f":"IF(COUNTIF($DM88:EG88,$P88+$Q88)<$R88,$P88+$Q88,0)","v":0},{"$f":"IF(COUNTIF($DM88:EH88,$P88+$Q88)<$R88,$P88+$Q88,0)","v":0},{"$f":"IF(COUNTIF($DM88:EI88,$P88+$Q88)<$R88,$P88+$Q88,0)","v":0},{"$f":"IF(COUNTIF($DM88:EJ88,$P88+$Q88)<$R88,$P88+$Q88,0)","v":0},{"$f":"IF(COUNTIF($DM88:EK88,$P88+$Q88)<$R88,$P88+$Q88,0)","v":0},{"$f":"IF(COUNTIF($DM88:EL88,$P88+$Q88)<$R88,$P88+$Q88,0)","v":0},{"$f":"IF(COUNTIF($DM88:EM88,$P88+$Q88)<$R88,$P88+$Q88,0)","v":0},{"$f":"IF(COUNTIF($DM88:EN88,$P88+$Q88)<$R88,$P88+$Q88,0)","v":0},{"$f":"IF(COUNTIF($DM88:EO88,$P88+$Q88)<$R88,$P88+$Q88,0)","v":0},{"$f":"IF(COUNTIF($DM88:EP88,$P88+$Q88)<$R88,$P88+$Q88,0)","v":0},{"$f":"IF(COUNTIF($DM88:EQ88,$P88+$Q88)<$R88,$P88+$Q88,0)","v":0},{"$f":"IF(COUNTIF($DM88:ER88,$P88+$Q88)<$R88,$P88+$Q88,0)","v":0},{"$f":"IF(COUNTIF($DM88:ES88,$P88+$Q88)<$R88,$P88+$Q88,0)","v":0},{"$f":"IF(COUNTIF($DM88:ET88,$P88+$Q88)<$R88,$P88+$Q88,0)","v":0},{"$f":"IF(COUNTIF($DM88:EU88,$P88+$Q88)<$R88,$P88+$Q88,0)","v":0},{"$f":"IF(COUNTIF($DM88:EV88,$P88+$Q88)<$R88,$P88+$Q88,0)","v":0},{"$f":"IF(COUNTIF($DM88:EW88,$P88+$Q88)<$R88,$P88+$Q88,0)","v":0},{"$f":"IF(COUNTIF($DM88:EX88,$P88+$Q88)<$R88,$P88+$Q88,0)","v":0},{"$f":"IF(COUNTIF($DM88:EY88,$P88+$Q88)<$R88,$P88+$Q88,0)","v":0},-0.3,null,{"$f":"IF(LEFT(formulaTextCustom(G88),3)=\"=IF\",0,1)","v":0},{"$f":"IF(LEFT(formulaTextCustom(H88),3)=\"=IF\",0,1)","v":0},{"$f":"IF(LEFT(formulaTextCustom(I88),3)=\"=IF\",0,1)","v":0},{"$f":"IF(LEFT(formulaTextCustom(J88),3)=\"=IF\",0,1)","v":0},{"$f":"IF(LEFT(formulaTextCustom(K88),3)=\"=IF\",0,1)","v":0},{"$f":"IF(LEFT(formulaTextCustom(L88),3)=\"=IF\",0,1)","v":0},{"$f":"IF(LEFT(formulaTextCustom(M88),3)=\"=IF\",0,1)","v":0},{"$f":"IF(LEFT(formulaTextCustom(N88),3)=\"=IF\",0,1)","v":0},{"$f":"IF(LEFT(formulaTextCustom(O88),3)=\"=IF\",0,1)","v":0}]
[null,null,null,5,"",{"$f":"IF('P4P - Measure Info'!C27=\"Yes\",'P4P - Measure Info'!X27,0)","v":0},{"$f":"IF(H59=\"\",0,IF('P4P - General Info'!$C$21=\"Appendix G\",H58-H59,IF('P4P - General Info'!$C$21=\"ASHRAE bEq\",H59-H58,\"\")))","v":0},{"$f":"IF(J59=\"\",0,IF('P4P - General Info'!$C$21=\"Appendix G\",J58-J59,IF('P4P - General Info'!$C$21=\"ASHRAE bEq\",J59-J58,\"\")))","v":0},{"$f":"IF(K59=\"\",0,IF('P4P - General Info'!$C$21=\"Appendix G\",K58-K59,IF('P4P - General Info'!$C$21=\"ASHRAE bEq\",K59-K58,\"\")))","v":0},{"$f":"IF(L59=\"\",0,IF('P4P - General Info'!$C$21=\"Appendix G\",L58-L59,IF('P4P - General Info'!$C$21=\"ASHRAE bEq\",L59-L58,\"\")))","v":0},{"$f":"IF(M59=\"\",0,IF('P4P - General Info'!$C$21=\"Appendix G\",M58-M59,IF('P4P - General Info'!$C$21=\"ASHRAE bEq\",M59-M58,\"\")))","v":0},{"$f":"IF(N59=\"\",0,IF('P4P - General Info'!$C$21=\"Appendix G\",N58-N59,IF('P4P - General Info'!$C$21=\"ASHRAE bEq\",N59-N58,\"\")))","v":0},{"$f":"IF(O59=\"\",0,IF('P4P - General Info'!$C$21=\"Appendix G\",O58-O59,IF('P4P - General Info'!$C$21=\"ASHRAE bEq\",O59-O58,\"\")))","v":0},{"$f":"IF(P59=\"\",0,IF('P4P - General Info'!$C$21=\"Appendix G\",P58-P59,IF('P4P - General Info'!$C$21=\"ASHRAE bEq\",P59-P58,\"\")))","v":0},{"$f":"IF(I59=\"\",0,IF('P4P - General Info'!$C$21=\"Appendix G\",I58-I59,IF('P4P - General Info'!$C$21=\"ASHRAE bEq\",I59-I58,\"\")))","v":0},0,0,{"$f":"IF(E89=\"\",0,VLOOKUP('P4P - Measure Info'!F27,P4P_MeasureTable,3,FALSE))","v":0},0,0,0,null,null,null,{"$f":"IF('P4P - Measure Info'!C27=\"Yes\",'P4P - Measure Simulation'!Q89,0)","v":0},0,0,0,{"$f":"IF('P4P - Measure Info'!$C27=\"Yes\",'P4P - Measure Simulation'!G89,0)","v":0},0,0,0,0,0,0,0,0,0,0,{"$f":"IF('P4P - Measure Info'!$C27=\"Yes\",'P4P - Measure Simulation'!H89,0)","v":0},0,0,0,0,0,0,0,0,0,0,{"$f":"IF('P4P - Measure Info'!$C27=\"Yes\",'P4P - Measure Simulation'!I89,0)","v":0},0,0,0,0,0,0,0,0,0,0,{"$f":"IF('P4P - Measure Info'!$C27=\"Yes\",'P4P - Measure Simulation'!J89,0)","v":0},0,0,0,0,0,0,0,0,0,0,{"$f":"IF('P4P - Measure Info'!$C27=\"Yes\",'P4P - Measure Simulation'!K89,0)","v":0},0,0,0,0,0,0,0,0,0,0,{"$f":"IF('P4P - Measure Info'!$C27=\"Yes\",'P4P - Measure Simulation'!L89,0)","v":0},0,0,0,0,0,0,0,0,0,0,{"$f":"IF('P4P - Measure Info'!$C27=\"Yes\",'P4P - Measure Simulation'!M89,0)","v":0},0,0,0,0,0,0,0,0,0,0,{"$f":"IF('P4P - Measure Info'!$C27=\"Yes\",'P4P - Measure Simulation'!N89,0)","v":0},0,0,0,0,0,0,0,null,null,0,0,0,{"$f":"IF(COUNTIF($DM89:DN89,$P89+$Q89)<$R89,$P89+$Q89,0)","v":0},{"$f":"IF(COUNTIF($DM89:DO89,$P89+$Q89)<$R89,$P89+$Q89,0)","v":0},{"$f":"IF(COUNTIF($DM89:DP89,$P89+$Q89)<$R89,$P89+$Q89,0)","v":0},{"$f":"IF(COUNTIF($DM89:DQ89,$P89+$Q89)<$R89,$P89+$Q89,0)","v":0},{"$f":"IF(COUNTIF($DM89:DR89,$P89+$Q89)<$R89,$P89+$Q89,0)","v":0},{"$f":"IF(COUNTIF($DM89:DS89,$P89+$Q89)<$R89,$P89+$Q89,0)","v":0},{"$f":"IF(COUNTIF($DM89:DT89,$P89+$Q89)<$R89,$P89+$Q89,0)","v":0},{"$f":"IF(COUNTIF($DM89:DU89,$P89+$Q89)<$R89,$P89+$Q89,0)","v":0},{"$f":"IF(COUNTIF($DM89:DV89,$P89+$Q89)<$R89,$P89+$Q89,0)","v":0},{"$f":"IF(COUNTIF($DM89:DW89,$P89+$Q89)<$R89,$P89+$Q89,0)","v":0},{"$f":"IF(COUNTIF($DM89:DX89,$P89+$Q89)<$R89,$P89+$Q89,0)","v":0},{"$f":"IF(COUNTIF($DM89:DY89,$P89+$Q89)<$R89,$P89+$Q89,0)","v":0},{"$f":"IF(COUNTIF($DM89:DZ89,$P89+$Q89)<$R89,$P89+$Q89,0)","v":0},{"$f":"IF(COUNTIF($DM89:EA89,$P89+$Q89)<$R89,$P89+$Q89,0)","v":0},{"$f":"IF(COUNTIF($DM89:EB89,$P89+$Q89)<$R89,$P89+$Q89,0)","v":0},{"$f":"IF(COUNTIF($DM89:EC89,$P89+$Q89)<$R89,$P89+$Q89,0)","v":0},{"$f":"IF(COUNTIF($DM89:ED89,$P89+$Q89)<$R89,$P89+$Q89,0)","v":0},{"$f":"IF(COUNTIF($DM89:EE89,$P89+$Q89)<$R89,$P89+$Q89,0)","v":0},{"$f":"IF(COUNTIF($DM89:EF89,$P89+$Q89)<$R89,$P89+$Q89,0)","v":0},{"$f":"IF(COUNTIF($DM89:EG89,$P89+$Q89)<$R89,$P89+$Q89,0)","v":0},{"$f":"IF(COUNTIF($DM89:EH89,$P89+$Q89)<$R89,$P89+$Q89,0)","v":0},{"$f":"IF(COUNTIF($DM89:EI89,$P89+$Q89)<$R89,$P89+$Q89,0)","v":0},{"$f":"IF(COUNTIF($DM89:EJ89,$P89+$Q89)<$R89,$P89+$Q89,0)","v":0},{"$f":"IF(COUNTIF($DM89:EK89,$P89+$Q89)<$R89,$P89+$Q89,0)","v":0},{"$f":"IF(COUNTIF($DM89:EL89,$P89+$Q89)<$R89,$P89+$Q89,0)","v":0},{"$f":"IF(COUNTIF($DM89:EM89,$P89+$Q89)<$R89,$P89+$Q89,0)","v":0},{"$f":"IF(COUNTIF($DM89:EN89,$P89+$Q89)<$R89,$P89+$Q89,0)","v":0},{"$f":"IF(COUNTIF($DM89:EO89,$P89+$Q89)<$R89,$P89+$Q89,0)","v":0},{"$f":"IF(COUNTIF($DM89:EP89,$P89+$Q89)<$R89,$P89+$Q89,0)","v":0},{"$f":"IF(COUNTIF($DM89:EQ89,$P89+$Q89)<$R89,$P89+$Q89,0)","v":0},{"$f":"IF(COUNTIF($DM89:ER89,$P89+$Q89)<$R89,$P89+$Q89,0)","v":0},{"$f":"IF(COUNTIF($DM89:ES89,$P89+$Q89)<$R89,$P89+$Q89,0)","v":0},{"$f":"IF(COUNTIF($DM89:ET89,$P89+$Q89)<$R89,$P89+$Q89,0)","v":0},{"$f":"IF(COUNTIF($DM89:EU89,$P89+$Q89)<$R89,$P89+$Q89,0)","v":0},{"$f":"IF(COUNTIF($DM89:EV89,$P89+$Q89)<$R89,$P89+$Q89,0)","v":0},{"$f":"IF(COUNTIF($DM89:EW89,$P89+$Q89)<$R89,$P89+$Q89,0)","v":0},{"$f":"IF(COUNTIF($DM89:EX89,$P89+$Q89)<$R89,$P89+$Q89,0)","v":0},{"$f":"IF(COUNTIF($DM89:EY89,$P89+$Q89)<$R89,$P89+$Q89,0)","v":0},-0.3,null,{"$f":"IF(LEFT(formulaTextCustom(G89),3)=\"=IF\",0,1)","v":0},{"$f":"IF(LEFT(formulaTextCustom(H89),3)=\"=IF\",0,1)","v":0},{"$f":"IF(LEFT(formulaTextCustom(I89),3)=\"=IF\",0,1)","v":0},{"$f":"IF(LEFT(formulaTextCustom(J89),3)=\"=IF\",0,1)","v":0},{"$f":"IF(LEFT(formulaTextCustom(K89),3)=\"=IF\",0,1)","v":0},{"$f":"IF(LEFT(formulaTextCustom(L89),3)=\"=IF\",0,1)","v":0},{"$f":"IF(LEFT(formulaTextCustom(M89),3)=\"=IF\",0,1)","v":0},{"$f":"IF(LEFT(formulaTextCustom(N89),3)=\"=IF\",0,1)","v":0},{"$f":"IF(LEFT(formulaTextCustom(O89),3)=\"=IF\",0,1)","v":0}]
[null,null,null,6,"",{"$f":"IF('P4P - Measure Info'!C28=\"Yes\",'P4P - Measure Info'!X28,0)","v":0},{"$f":"IF(H60=\"\",0,IF('P4P - General Info'!$C$21=\"Appendix G\",H59-H60,IF('P4P - General Info'!$C$21=\"ASHRAE bEq\",H60-H59,\"\")))","v":0},{"$f":"IF(J60=\"\",0,IF('P4P - General Info'!$C$21=\"Appendix G\",J59-J60,IF('P4P - General Info'!$C$21=\"ASHRAE bEq\",J60-J59,\"\")))","v":0},{"$f":"IF(K60=\"\",0,IF('P4P - General Info'!$C$21=\"Appendix G\",K59-K60,IF('P4P - General Info'!$C$21=\"ASHRAE bEq\",K60-K59,\"\")))","v":0},{"$f":"IF(L60=\"\",0,IF('P4P - General Info'!$C$21=\"Appendix G\",L59-L60,IF('P4P - General Info'!$C$21=\"ASHRAE bEq\",L60-L59,\"\")))","v":0},{"$f":"IF(M60=\"\",0,IF('P4P - General Info'!$C$21=\"Appendix G\",M59-M60,IF('P4P - General Info'!$C$21=\"ASHRAE bEq\",M60-M59,\"\")))","v":0},{"$f":"IF(N60=\"\",0,IF('P4P - General Info'!$C$21=\"Appendix G\",N59-N60,IF('P4P - General Info'!$C$21=\"ASHRAE bEq\",N60-N59,\"\")))","v":0},{"$f":"IF(O60=\"\",0,IF('P4P - General Info'!$C$21=\"Appendix G\",O59-O60,IF('P4P - General Info'!$C$21=\"ASHRAE bEq\",O60-O59,\"\")))","v":0},{"$f":"IF(P60=\"\",0,IF('P4P - General Info'!$C$21=\"Appendix G\",P59-P60,IF('P4P - General Info'!$C$21=\"ASHRAE bEq\",P60-P59,\"\")))","v":0},{"$f":"IF(I60=\"\",0,IF('P4P - General Info'!$C$21=\"Appendix G\",I59-I60,IF('P4P - General Info'!$C$21=\"ASHRAE bEq\",I60-I59,\"\")))","v":0},0,0,{"$f":"IF(E90=\"\",0,VLOOKUP('P4P - Measure Info'!F28,P4P_MeasureTable,3,FALSE))","v":0},0,0,0,null,null,null,{"$f":"IF('P4P - Measure Info'!C28=\"Yes\",'P4P - Measure Simulation'!Q90,0)","v":0},0,0,0,{"$f":"IF('P4P - Measure Info'!$C28=\"Yes\",'P4P - Measure Simulation'!G90,0)","v":0},0,0,0,0,0,0,0,0,0,0,{"$f":"IF('P4P - Measure Info'!$C28=\"Yes\",'P4P - Measure Simulation'!H90,0)","v":0},0,0,0,0,0,0,0,0,0,0,{"$f":"IF('P4P - Measure Info'!$C28=\"Yes\",'P4P - Measure Simulation'!I90,0)","v":0},0,0,0,0,0,0,0,0,0,0,{"$f":"IF('P4P - Measure Info'!$C28=\"Yes\",'P4P - Measure Simulation'!J90,0)","v":0},0,0,0,0,0,0,0,0,0,0,{"$f":"IF('P4P - Measure Info'!$C28=\"Yes\",'P4P - Measure Simulation'!K90,0)","v":0},0,0,0,0,0,0,0,0,0,0,{"$f":"IF('P4P - Measure Info'!$C28=\"Yes\",'P4P - Measure Simulation'!L90,0)","v":0},0,0,0,0,0,0,0,0,0,0,{"$f":"IF('P4P - Measure Info'!$C28=\"Yes\",'P4P - Measure Simulation'!M90,0)","v":0},0,0,0,0,0,0,0,0,0,0,{"$f":"IF('P4P - Measure Info'!$C28=\"Yes\",'P4P - Measure Simulation'!N90,0)","v":0},0,0,0,0,0,0,0,null,null,0,0,0,{"$f":"IF(COUNTIF($DM90:DN90,$P90+$Q90)<$R90,$P90+$Q90,0)","v":0},{"$f":"IF(COUNTIF($DM90:DO90,$P90+$Q90)<$R90,$P90+$Q90,0)","v":0},{"$f":"IF(COUNTIF($DM90:DP90,$P90+$Q90)<$R90,$P90+$Q90,0)","v":0},{"$f":"IF(COUNTIF($DM90:DQ90,$P90+$Q90)<$R90,$P90+$Q90,0)","v":0},{"$f":"IF(COUNTIF($DM90:DR90,$P90+$Q90)<$R90,$P90+$Q90,0)","v":0},{"$f":"IF(COUNTIF($DM90:DS90,$P90+$Q90)<$R90,$P90+$Q90,0)","v":0},{"$f":"IF(COUNTIF($DM90:DT90,$P90+$Q90)<$R90,$P90+$Q90,0)","v":0},{"$f":"IF(COUNTIF($DM90:DU90,$P90+$Q90)<$R90,$P90+$Q90,0)","v":0},{"$f":"IF(COUNTIF($DM90:DV90,$P90+$Q90)<$R90,$P90+$Q90,0)","v":0},{"$f":"IF(COUNTIF($DM90:DW90,$P90+$Q90)<$R90,$P90+$Q90,0)","v":0},{"$f":"IF(COUNTIF($DM90:DX90,$P90+$Q90)<$R90,$P90+$Q90,0)","v":0},{"$f":"IF(COUNTIF($DM90:DY90,$P90+$Q90)<$R90,$P90+$Q90,0)","v":0},{"$f":"IF(COUNTIF($DM90:DZ90,$P90+$Q90)<$R90,$P90+$Q90,0)","v":0},{"$f":"IF(COUNTIF($DM90:EA90,$P90+$Q90)<$R90,$P90+$Q90,0)","v":0},{"$f":"IF(COUNTIF($DM90:EB90,$P90+$Q90)<$R90,$P90+$Q90,0)","v":0},{"$f":"IF(COUNTIF($DM90:EC90,$P90+$Q90)<$R90,$P90+$Q90,0)","v":0},{"$f":"IF(COUNTIF($DM90:ED90,$P90+$Q90)<$R90,$P90+$Q90,0)","v":0},{"$f":"IF(COUNTIF($DM90:EE90,$P90+$Q90)<$R90,$P90+$Q90,0)","v":0},{"$f":"IF(COUNTIF($DM90:EF90,$P90+$Q90)<$R90,$P90+$Q90,0)","v":0},{"$f":"IF(COUNTIF($DM90:EG90,$P90+$Q90)<$R90,$P90+$Q90,0)","v":0},{"$f":"IF(COUNTIF($DM90:EH90,$P90+$Q90)<$R90,$P90+$Q90,0)","v":0},{"$f":"IF(COUNTIF($DM90:EI90,$P90+$Q90)<$R90,$P90+$Q90,0)","v":0},{"$f":"IF(COUNTIF($DM90:EJ90,$P90+$Q90)<$R90,$P90+$Q90,0)","v":0},{"$f":"IF(COUNTIF($DM90:EK90,$P90+$Q90)<$R90,$P90+$Q90,0)","v":0},{"$f":"IF(COUNTIF($DM90:EL90,$P90+$Q90)<$R90,$P90+$Q90,0)","v":0},{"$f":"IF(COUNTIF($DM90:EM90,$P90+$Q90)<$R90,$P90+$Q90,0)","v":0},{"$f":"IF(COUNTIF($DM90:EN90,$P90+$Q90)<$R90,$P90+$Q90,0)","v":0},{"$f":"IF(COUNTIF($DM90:EO90,$P90+$Q90)<$R90,$P90+$Q90,0)","v":0},{"$f":"IF(COUNTIF($DM90:EP90,$P90+$Q90)<$R90,$P90+$Q90,0)","v":0},{"$f":"IF(COUNTIF($DM90:EQ90,$P90+$Q90)<$R90,$P90+$Q90,0)","v":0},{"$f":"IF(COUNTIF($DM90:ER90,$P90+$Q90)<$R90,$P90+$Q90,0)","v":0},{"$f":"IF(COUNTIF($DM90:ES90,$P90+$Q90)<$R90,$P90+$Q90,0)","v":0},{"$f":"IF(COUNTIF($DM90:ET90,$P90+$Q90)<$R90,$P90+$Q90,0)","v":0},{"$f":"IF(COUNTIF($DM90:EU90,$P90+$Q90)<$R90,$P90+$Q90,0)","v":0},{"$f":"IF(COUNTIF($DM90:EV90,$P90+$Q90)<$R90,$P90+$Q90,0)","v":0},{"$f":"IF(COUNTIF($DM90:EW90,$P90+$Q90)<$R90,$P90+$Q90,0)","v":0},{"$f":"IF(COUNTIF($DM90:EX90,$P90+$Q90)<$R90,$P90+$Q90,0)","v":0},{"$f":"IF(COUNTIF($DM90:EY90,$P90+$Q90)<$R90,$P90+$Q90,0)","v":0},-0.3,null,{"$f":"IF(LEFT(formulaTextCustom(G90),3)=\"=IF\",0,1)","v":0},{"$f":"IF(LEFT(formulaTextCustom(H90),3)=\"=IF\",0,1)","v":0},{"$f":"IF(LEFT(formulaTextCustom(I90),3)=\"=IF\",0,1)","v":0},{"$f":"IF(LEFT(formulaTextCustom(J90),3)=\"=IF\",0,1)","v":0},{"$f":"IF(LEFT(formulaTextCustom(K90),3)=\"=IF\",0,1)","v":0},{"$f":"IF(LEFT(formulaTextCustom(L90),3)=\"=IF\",0,1)","v":0},{"$f":"IF(LEFT(formulaTextCustom(M90),3)=\"=IF\",0,1)","v":0},{"$f":"IF(LEFT(formulaTextCustom(N90),3)=\"=IF\",0,1)","v":0},{"$f":"IF(LEFT(formulaTextCustom(O90),3)=\"=IF\",0,1)","v":0}]
[null,null,null,7,"",{"$f":"IF('P4P - Measure Info'!C29=\"Yes\",'P4P - Measure Info'!X29,0)","v":0},{"$f":"IF(H61=\"\",0,IF('P4P - General Info'!$C$21=\"Appendix G\",H60-H61,IF('P4P - General Info'!$C$21=\"ASHRAE bEq\",H61-H60,\"\")))","v":0},{"$f":"IF(J61=\"\",0,IF('P4P - General Info'!$C$21=\"Appendix G\",J60-J61,IF('P4P - General Info'!$C$21=\"ASHRAE bEq\",J61-J60,\"\")))","v":0},{"$f":"IF(K61=\"\",0,IF('P4P - General Info'!$C$21=\"Appendix G\",K60-K61,IF('P4P - General Info'!$C$21=\"ASHRAE bEq\",K61-K60,\"\")))","v":0},{"$f":"IF(L61=\"\",0,IF('P4P - General Info'!$C$21=\"Appendix G\",L60-L61,IF('P4P - General Info'!$C$21=\"ASHRAE bEq\",L61-L60,\"\")))","v":0},{"$f":"IF(M61=\"\",0,IF('P4P - General Info'!$C$21=\"Appendix G\",M60-M61,IF('P4P - General Info'!$C$21=\"ASHRAE bEq\",M61-M60,\"\")))","v":0},{"$f":"IF(N61=\"\",0,IF('P4P - General Info'!$C$21=\"Appendix G\",N60-N61,IF('P4P - General Info'!$C$21=\"ASHRAE bEq\",N61-N60,\"\")))","v":0},{"$f":"IF(O61=\"\",0,IF('P4P - General Info'!$C$21=\"Appendix G\",O60-O61,IF('P4P - General Info'!$C$21=\"ASHRAE bEq\",O61-O60,\"\")))","v":0},{"$f":"IF(P61=\"\",0,IF('P4P - General Info'!$C$21=\"Appendix G\",P60-P61,IF('P4P - General Info'!$C$21=\"ASHRAE bEq\",P61-P60,\"\")))","v":0},{"$f":"IF(I61=\"\",0,IF('P4P - General Info'!$C$21=\"Appendix G\",I60-I61,IF('P4P - General Info'!$C$21=\"ASHRAE bEq\",I61-I60,\"\")))","v":0},0,0,{"$f":"IF(E91=\"\",0,VLOOKUP('P4P - Measure Info'!F29,P4P_MeasureTable,3,FALSE))","v":0},0,0,0,null,null,null,{"$f":"IF('P4P - Measure Info'!C29=\"Yes\",'P4P - Measure Simulation'!Q91,0)","v":0},0,0,0,{"$f":"IF('P4P - Measure Info'!$C29=\"Yes\",'P4P - Measure Simulation'!G91,0)","v":0},0,0,0,0,0,0,0,0,0,0,{"$f":"IF('P4P - Measure Info'!$C29=\"Yes\",'P4P - Measure Simulation'!H91,0)","v":0},0,0,0,0,0,0,0,0,0,0,{"$f":"IF('P4P - Measure Info'!$C29=\"Yes\",'P4P - Measure Simulation'!I91,0)","v":0},0,0,0,0,0,0,0,0,0,0,{"$f":"IF('P4P - Measure Info'!$C29=\"Yes\",'P4P - Measure Simulation'!J91,0)","v":0},0,0,0,0,0,0,0,0,0,0,{"$f":"IF('P4P - Measure Info'!$C29=\"Yes\",'P4P - Measure Simulation'!K91,0)","v":0},0,0,0,0,0,0,0,0,0,0,{"$f":"IF('P4P - Measure Info'!$C29=\"Yes\",'P4P - Measure Simulation'!L91,0)","v":0},0,0,0,0,0,0,0,0,0,0,{"$f":"IF('P4P - Measure Info'!$C29=\"Yes\",'P4P - Measure Simulation'!M91,0)","v":0},0,0,0,0,0,0,0,0,0,0,{"$f":"IF('P4P - Measure Info'!$C29=\"Yes\",'P4P - Measure Simulation'!N91,0)","v":0},0,0,0,0,0,0,0,null,null,0,0,0,{"$f":"IF(COUNTIF($DM91:DN91,$P91+$Q91)<$R91,$P91+$Q91,0)","v":0},{"$f":"IF(COUNTIF($DM91:DO91,$P91+$Q91)<$R91,$P91+$Q91,0)","v":0},{"$f":"IF(COUNTIF($DM91:DP91,$P91+$Q91)<$R91,$P91+$Q91,0)","v":0},{"$f":"IF(COUNTIF($DM91:DQ91,$P91+$Q91)<$R91,$P91+$Q91,0)","v":0},{"$f":"IF(COUNTIF($DM91:DR91,$P91+$Q91)<$R91,$P91+$Q91,0)","v":0},{"$f":"IF(COUNTIF($DM91:DS91,$P91+$Q91)<$R91,$P91+$Q91,0)","v":0},{"$f":"IF(COUNTIF($DM91:DT91,$P91+$Q91)<$R91,$P91+$Q91,0)","v":0},{"$f":"IF(COUNTIF($DM91:DU91,$P91+$Q91)<$R91,$P91+$Q91,0)","v":0},{"$f":"IF(COUNTIF($DM91:DV91,$P91+$Q91)<$R91,$P91+$Q91,0)","v":0},{"$f":"IF(COUNTIF($DM91:DW91,$P91+$Q91)<$R91,$P91+$Q91,0)","v":0},{"$f":"IF(COUNTIF($DM91:DX91,$P91+$Q91)<$R91,$P91+$Q91,0)","v":0},{"$f":"IF(COUNTIF($DM91:DY91,$P91+$Q91)<$R91,$P91+$Q91,0)","v":0},{"$f":"IF(COUNTIF($DM91:DZ91,$P91+$Q91)<$R91,$P91+$Q91,0)","v":0},{"$f":"IF(COUNTIF($DM91:EA91,$P91+$Q91)<$R91,$P91+$Q91,0)","v":0},{"$f":"IF(COUNTIF($DM91:EB91,$P91+$Q91)<$R91,$P91+$Q91,0)","v":0},{"$f":"IF(COUNTIF($DM91:EC91,$P91+$Q91)<$R91,$P91+$Q91,0)","v":0},{"$f":"IF(COUNTIF($DM91:ED91,$P91+$Q91)<$R91,$P91+$Q91,0)","v":0},{"$f":"IF(COUNTIF($DM91:EE91,$P91+$Q91)<$R91,$P91+$Q91,0)","v":0},{"$f":"IF(COUNTIF($DM91:EF91,$P91+$Q91)<$R91,$P91+$Q91,0)","v":0},{"$f":"IF(COUNTIF($DM91:EG91,$P91+$Q91)<$R91,$P91+$Q91,0)","v":0},{"$f":"IF(COUNTIF($DM91:EH91,$P91+$Q91)<$R91,$P91+$Q91,0)","v":0},{"$f":"IF(COUNTIF($DM91:EI91,$P91+$Q91)<$R91,$P91+$Q91,0)","v":0},{"$f":"IF(COUNTIF($DM91:EJ91,$P91+$Q91)<$R91,$P91+$Q91,0)","v":0},{"$f":"IF(COUNTIF($DM91:EK91,$P91+$Q91)<$R91,$P91+$Q91,0)","v":0},{"$f":"IF(COUNTIF($DM91:EL91,$P91+$Q91)<$R91,$P91+$Q91,0)","v":0},{"$f":"IF(COUNTIF($DM91:EM91,$P91+$Q91)<$R91,$P91+$Q91,0)","v":0},{"$f":"IF(COUNTIF($DM91:EN91,$P91+$Q91)<$R91,$P91+$Q91,0)","v":0},{"$f":"IF(COUNTIF($DM91:EO91,$P91+$Q91)<$R91,$P91+$Q91,0)","v":0},{"$f":"IF(COUNTIF($DM91:EP91,$P91+$Q91)<$R91,$P91+$Q91,0)","v":0},{"$f":"IF(COUNTIF($DM91:EQ91,$P91+$Q91)<$R91,$P91+$Q91,0)","v":0},{"$f":"IF(COUNTIF($DM91:ER91,$P91+$Q91)<$R91,$P91+$Q91,0)","v":0},{"$f":"IF(COUNTIF($DM91:ES91,$P91+$Q91)<$R91,$P91+$Q91,0)","v":0},{"$f":"IF(COUNTIF($DM91:ET91,$P91+$Q91)<$R91,$P91+$Q91,0)","v":0},{"$f":"IF(COUNTIF($DM91:EU91,$P91+$Q91)<$R91,$P91+$Q91,0)","v":0},{"$f":"IF(COUNTIF($DM91:EV91,$P91+$Q91)<$R91,$P91+$Q91,0)","v":0},{"$f":"IF(COUNTIF($DM91:EW91,$P91+$Q91)<$R91,$P91+$Q91,0)","v":0},{"$f":"IF(COUNTIF($DM91:EX91,$P91+$Q91)<$R91,$P91+$Q91,0)","v":0},{"$f":"IF(COUNTIF($DM91:EY91,$P91+$Q91)<$R91,$P91+$Q91,0)","v":0},-0.3,null,{"$f":"IF(LEFT(formulaTextCustom(G91),3)=\"=IF\",0,1)","v":0},{"$f":"IF(LEFT(formulaTextCustom(H91),3)=\"=IF\",0,1)","v":0},{"$f":"IF(LEFT(formulaTextCustom(I91),3)=\"=IF\",0,1)","v":0},{"$f":"IF(LEFT(formulaTextCustom(J91),3)=\"=IF\",0,1)","v":0},{"$f":"IF(LEFT(formulaTextCustom(K91),3)=\"=IF\",0,1)","v":0},{"$f":"IF(LEFT(formulaTextCustom(L91),3)=\"=IF\",0,1)","v":0},{"$f":"IF(LEFT(formulaTextCustom(M91),3)=\"=IF\",0,1)","v":0},{"$f":"IF(LEFT(formulaTextCustom(N91),3)=\"=IF\",0,1)","v":0},{"$f":"IF(LEFT(formulaTextCustom(O91),3)=\"=IF\",0,1)","v":0}]
[null,null,null,8,"",{"$f":"IF('P4P - Measure Info'!C30=\"Yes\",'P4P - Measure Info'!X30,0)","v":0},{"$f":"IF(H62=\"\",0,IF('P4P - General Info'!$C$21=\"Appendix G\",H61-H62,IF('P4P - General Info'!$C$21=\"ASHRAE bEq\",H62-H61,\"\")))","v":0},{"$f":"IF(J62=\"\",0,IF('P4P - General Info'!$C$21=\"Appendix G\",J61-J62,IF('P4P - General Info'!$C$21=\"ASHRAE bEq\",J62-J61,\"\")))","v":0},{"$f":"IF(K62=\"\",0,IF('P4P - General Info'!$C$21=\"Appendix G\",K61-K62,IF('P4P - General Info'!$C$21=\"ASHRAE bEq\",K62-K61,\"\")))","v":0},{"$f":"IF(L62=\"\",0,IF('P4P - General Info'!$C$21=\"Appendix G\",L61-L62,IF('P4P - General Info'!$C$21=\"ASHRAE bEq\",L62-L61,\"\")))","v":0},{"$f":"IF(M62=\"\",0,IF('P4P - General Info'!$C$21=\"Appendix G\",M61-M62,IF('P4P - General Info'!$C$21=\"ASHRAE bEq\",M62-M61,\"\")))","v":0},{"$f":"IF(N62=\"\",0,IF('P4P - General Info'!$C$21=\"Appendix G\",N61-N62,IF('P4P - General Info'!$C$21=\"ASHRAE bEq\",N62-N61,\"\")))","v":0},{"$f":"IF(O62=\"\",0,IF('P4P - General Info'!$C$21=\"Appendix G\",O61-O62,IF('P4P - General Info'!$C$21=\"ASHRAE bEq\",O62-O61,\"\")))","v":0},{"$f":"IF(P62=\"\",0,IF('P4P - General Info'!$C$21=\"Appendix G\",P61-P62,IF('P4P - General Info'!$C$21=\"ASHRAE bEq\",P62-P61,\"\")))","v":0},{"$f":"IF(I62=\"\",0,IF('P4P - General Info'!$C$21=\"Appendix G\",I61-I62,IF('P4P - General Info'!$C$21=\"ASHRAE bEq\",I62-I61,\"\")))","v":0},0,0,{"$f":"IF(E92=\"\",0,VLOOKUP('P4P - Measure Info'!F30,P4P_MeasureTable,3,FALSE))","v":0},0,0,0,null,null,null,{"$f":"IF('P4P - Measure Info'!C30=\"Yes\",'P4P - Measure Simulation'!Q92,0)","v":0},0,0,0,{"$f":"IF('P4P - Measure Info'!$C30=\"Yes\",'P4P - Measure Simulation'!G92,0)","v":0},0,0,0,0,0,0,0,0,0,0,{"$f":"IF('P4P - Measure Info'!$C30=\"Yes\",'P4P - Measure Simulation'!H92,0)","v":0},0,0,0,0,0,0,0,0,0,0,{"$f":"IF('P4P - Measure Info'!$C30=\"Yes\",'P4P - Measure Simulation'!I92,0)","v":0},0,0,0,0,0,0,0,0,0,0,{"$f":"IF('P4P - Measure Info'!$C30=\"Yes\",'P4P - Measure Simulation'!J92,0)","v":0},0,0,0,0,0,0,0,0,0,0,{"$f":"IF('P4P - Measure Info'!$C30=\"Yes\",'P4P - Measure Simulation'!K92,0)","v":0},0,0,0,0,0,0,0,0,0,0,{"$f":"IF('P4P - Measure Info'!$C30=\"Yes\",'P4P - Measure Simulation'!L92,0)","v":0},0,0,0,0,0,0,0,0,0,0,{"$f":"IF('P4P - Measure Info'!$C30=\"Yes\",'P4P - Measure Simulation'!M92,0)","v":0},0,0,0,0,0,0,0,0,0,0,{"$f":"IF('P4P - Measure Info'!$C30=\"Yes\",'P4P - Measure Simulation'!N92,0)","v":0},0,0,0,0,0,0,0,null,null,0,0,0,{"$f":"IF(COUNTIF($DM92:DN92,$P92+$Q92)<$R92,$P92+$Q92,0)","v":0},{"$f":"IF(COUNTIF($DM92:DO92,$P92+$Q92)<$R92,$P92+$Q92,0)","v":0},{"$f":"IF(COUNTIF($DM92:DP92,$P92+$Q92)<$R92,$P92+$Q92,0)","v":0},{"$f":"IF(COUNTIF($DM92:DQ92,$P92+$Q92)<$R92,$P92+$Q92,0)","v":0},{"$f":"IF(COUNTIF($DM92:DR92,$P92+$Q92)<$R92,$P92+$Q92,0)","v":0},{"$f":"IF(COUNTIF($DM92:DS92,$P92+$Q92)<$R92,$P92+$Q92,0)","v":0},{"$f":"IF(COUNTIF($DM92:DT92,$P92+$Q92)<$R92,$P92+$Q92,0)","v":0},{"$f":"IF(COUNTIF($DM92:DU92,$P92+$Q92)<$R92,$P92+$Q92,0)","v":0},{"$f":"IF(COUNTIF($DM92:DV92,$P92+$Q92)<$R92,$P92+$Q92,0)","v":0},{"$f":"IF(COUNTIF($DM92:DW92,$P92+$Q92)<$R92,$P92+$Q92,0)","v":0},{"$f":"IF(COUNTIF($DM92:DX92,$P92+$Q92)<$R92,$P92+$Q92,0)","v":0},{"$f":"IF(COUNTIF($DM92:DY92,$P92+$Q92)<$R92,$P92+$Q92,0)","v":0},{"$f":"IF(COUNTIF($DM92:DZ92,$P92+$Q92)<$R92,$P92+$Q92,0)","v":0},{"$f":"IF(COUNTIF($DM92:EA92,$P92+$Q92)<$R92,$P92+$Q92,0)","v":0},{"$f":"IF(COUNTIF($DM92:EB92,$P92+$Q92)<$R92,$P92+$Q92,0)","v":0},{"$f":"IF(COUNTIF($DM92:EC92,$P92+$Q92)<$R92,$P92+$Q92,0)","v":0},{"$f":"IF(COUNTIF($DM92:ED92,$P92+$Q92)<$R92,$P92+$Q92,0)","v":0},{"$f":"IF(COUNTIF($DM92:EE92,$P92+$Q92)<$R92,$P92+$Q92,0)","v":0},{"$f":"IF(COUNTIF($DM92:EF92,$P92+$Q92)<$R92,$P92+$Q92,0)","v":0},{"$f":"IF(COUNTIF($DM92:EG92,$P92+$Q92)<$R92,$P92+$Q92,0)","v":0},{"$f":"IF(COUNTIF($DM92:EH92,$P92+$Q92)<$R92,$P92+$Q92,0)","v":0},{"$f":"IF(COUNTIF($DM92:EI92,$P92+$Q92)<$R92,$P92+$Q92,0)","v":0},{"$f":"IF(COUNTIF($DM92:EJ92,$P92+$Q92)<$R92,$P92+$Q92,0)","v":0},{"$f":"IF(COUNTIF($DM92:EK92,$P92+$Q92)<$R92,$P92+$Q92,0)","v":0},{"$f":"IF(COUNTIF($DM92:EL92,$P92+$Q92)<$R92,$P92+$Q92,0)","v":0},{"$f":"IF(COUNTIF($DM92:EM92,$P92+$Q92)<$R92,$P92+$Q92,0)","v":0},{"$f":"IF(COUNTIF($DM92:EN92,$P92+$Q92)<$R92,$P92+$Q92,0)","v":0},{"$f":"IF(COUNTIF($DM92:EO92,$P92+$Q92)<$R92,$P92+$Q92,0)","v":0},{"$f":"IF(COUNTIF($DM92:EP92,$P92+$Q92)<$R92,$P92+$Q92,0)","v":0},{"$f":"IF(COUNTIF($DM92:EQ92,$P92+$Q92)<$R92,$P92+$Q92,0)","v":0},{"$f":"IF(COUNTIF($DM92:ER92,$P92+$Q92)<$R92,$P92+$Q92,0)","v":0},{"$f":"IF(COUNTIF($DM92:ES92,$P92+$Q92)<$R92,$P92+$Q92,0)","v":0},{"$f":"IF(COUNTIF($DM92:ET92,$P92+$Q92)<$R92,$P92+$Q92,0)","v":0},{"$f":"IF(COUNTIF($DM92:EU92,$P92+$Q92)<$R92,$P92+$Q92,0)","v":0},{"$f":"IF(COUNTIF($DM92:EV92,$P92+$Q92)<$R92,$P92+$Q92,0)","v":0},{"$f":"IF(COUNTIF($DM92:EW92,$P92+$Q92)<$R92,$P92+$Q92,0)","v":0},{"$f":"IF(COUNTIF($DM92:EX92,$P92+$Q92)<$R92,$P92+$Q92,0)","v":0},{"$f":"IF(COUNTIF($DM92:EY92,$P92+$Q92)<$R92,$P92+$Q92,0)","v":0},-0.3,null,{"$f":"IF(LEFT(formulaTextCustom(G92),3)=\"=IF\",0,1)","v":0},{"$f":"IF(LEFT(formulaTextCustom(H92),3)=\"=IF\",0,1)","v":0},{"$f":"IF(LEFT(formulaTextCustom(I92),3)=\"=IF\",0,1)","v":0},{"$f":"IF(LEFT(formulaTextCustom(J92),3)=\"=IF\",0,1)","v":0},{"$f":"IF(LEFT(formulaTextCustom(K92),3)=\"=IF\",0,1)","v":0},{"$f":"IF(LEFT(formulaTextCustom(L92),3)=\"=IF\",0,1)","v":0},{"$f":"IF(LEFT(formulaTextCustom(M92),3)=\"=IF\",0,1)","v":0},{"$f":"IF(LEFT(formulaTextCustom(N92),3)=\"=IF\",0,1)","v":0},{"$f":"IF(LEFT(formulaTextCustom(O92),3)=\"=IF\",0,1)","v":0}]
[null,null,null,9,"",{"$f":"IF('P4P - Measure Info'!C31=\"Yes\",'P4P - Measure Info'!X31,0)","v":0},{"$f":"IF(H63=\"\",0,IF('P4P - General Info'!$C$21=\"Appendix G\",H62-H63,IF('P4P - General Info'!$C$21=\"ASHRAE bEq\",H63-H62,\"\")))","v":0},{"$f":"IF(J63=\"\",0,IF('P4P - General Info'!$C$21=\"Appendix G\",J62-J63,IF('P4P - General Info'!$C$21=\"ASHRAE bEq\",J63-J62,\"\")))","v":0},{"$f":"IF(K63=\"\",0,IF('P4P - General Info'!$C$21=\"Appendix G\",K62-K63,IF('P4P - General Info'!$C$21=\"ASHRAE bEq\",K63-K62,\"\")))","v":0},{"$f":"IF(L63=\"\",0,IF('P4P - General Info'!$C$21=\"Appendix G\",L62-L63,IF('P4P - General Info'!$C$21=\"ASHRAE bEq\",L63-L62,\"\")))","v":0},{"$f":"IF(M63=\"\",0,IF('P4P - General Info'!$C$21=\"Appendix G\",M62-M63,IF('P4P - General Info'!$C$21=\"ASHRAE bEq\",M63-M62,\"\")))","v":0},{"$f":"IF(N63=\"\",0,IF('P4P - General Info'!$C$21=\"Appendix G\",N62-N63,IF('P4P - General Info'!$C$21=\"ASHRAE bEq\",N63-N62,\"\")))","v":0},{"$f":"IF(O63=\"\",0,IF('P4P - General Info'!$C$21=\"Appendix G\",O62-O63,IF('P4P - General Info'!$C$21=\"ASHRAE bEq\",O63-O62,\"\")))","v":0},{"$f":"IF(P63=\"\",0,IF('P4P - General Info'!$C$21=\"Appendix G\",P62-P63,IF('P4P - General Info'!$C$21=\"ASHRAE bEq\",P63-P62,\"\")))","v":0},{"$f":"IF(I63=\"\",0,IF('P4P - General Info'!$C$21=\"Appendix G\",I62-I63,IF('P4P - General Info'!$C$21=\"ASHRAE bEq\",I63-I62,\"\")))","v":0},0,0,{"$f":"IF(E93=\"\",0,VLOOKUP('P4P - Measure Info'!F31,P4P_MeasureTable,3,FALSE))","v":0},{"$f":"IF(Q93=0,0,F93/(SY22+Q93))","v":0},0,0,null,null,null,{"$f":"IF('P4P - Measure Info'!C31=\"Yes\",'P4P - Measure Simulation'!Q93,0)","v":0},0,0,0,{"$f":"IF('P4P - Measure Info'!$C31=\"Yes\",'P4P - Measure Simulation'!G93,0)","v":0},0,0,0,0,0,0,0,0,0,0,{"$f":"IF('P4P - Measure Info'!$C31=\"Yes\",'P4P - Measure Simulation'!H93,0)","v":0},0,0,0,0,0,0,0,0,0,0,{"$f":"IF('P4P - Measure Info'!$C31=\"Yes\",'P4P - Measure Simulation'!I93,0)","v":0},0,0,0,0,0,0,0,0,0,0,{"$f":"IF('P4P - Measure Info'!$C31=\"Yes\",'P4P - Measure Simulation'!J93,0)","v":0},0,0,0,0,0,0,0,0,0,0,{"$f":"IF('P4P - Measure Info'!$C31=\"Yes\",'P4P - Measure Simulation'!K93,0)","v":0},0,0,0,0,0,0,0,0,0,0,{"$f":"IF('P4P - Measure Info'!$C31=\"Yes\",'P4P - Measure Simulation'!L93,0)","v":0},0,0,0,0,0,0,0,0,0,0,{"$f":"IF('P4P - Measure Info'!$C31=\"Yes\",'P4P - Measure Simulation'!M93,0)","v":0},0,0,0,0,0,0,0,0,0,0,{"$f":"IF('P4P - Measure Info'!$C31=\"Yes\",'P4P - Measure Simulation'!N93,0)","v":0},0,0,0,0,0,0,0,null,null,0,0,0,{"$f":"IF(COUNTIF($DM93:DN93,$P93+$Q93)<$R93,$P93+$Q93,0)","v":0},{"$f":"IF(COUNTIF($DM93:DO93,$P93+$Q93)<$R93,$P93+$Q93,0)","v":0},{"$f":"IF(COUNTIF($DM93:DP93,$P93+$Q93)<$R93,$P93+$Q93,0)","v":0},{"$f":"IF(COUNTIF($DM93:DQ93,$P93+$Q93)<$R93,$P93+$Q93,0)","v":0},{"$f":"IF(COUNTIF($DM93:DR93,$P93+$Q93)<$R93,$P93+$Q93,0)","v":0},{"$f":"IF(COUNTIF($DM93:DS93,$P93+$Q93)<$R93,$P93+$Q93,0)","v":0},{"$f":"IF(COUNTIF($DM93:DT93,$P93+$Q93)<$R93,$P93+$Q93,0)","v":0},{"$f":"IF(COUNTIF($DM93:DU93,$P93+$Q93)<$R93,$P93+$Q93,0)","v":0},{"$f":"IF(COUNTIF($DM93:DV93,$P93+$Q93)<$R93,$P93+$Q93,0)","v":0},{"$f":"IF(COUNTIF($DM93:DW93,$P93+$Q93)<$R93,$P93+$Q93,0)","v":0},{"$f":"IF(COUNTIF($DM93:DX93,$P93+$Q93)<$R93,$P93+$Q93,0)","v":0},{"$f":"IF(COUNTIF($DM93:DY93,$P93+$Q93)<$R93,$P93+$Q93,0)","v":0},{"$f":"IF(COUNTIF($DM93:DZ93,$P93+$Q93)<$R93,$P93+$Q93,0)","v":0},{"$f":"IF(COUNTIF($DM93:EA93,$P93+$Q93)<$R93,$P93+$Q93,0)","v":0},{"$f":"IF(COUNTIF($DM93:EB93,$P93+$Q93)<$R93,$P93+$Q93,0)","v":0},{"$f":"IF(COUNTIF($DM93:EC93,$P93+$Q93)<$R93,$P93+$Q93,0)","v":0},{"$f":"IF(COUNTIF($DM93:ED93,$P93+$Q93)<$R93,$P93+$Q93,0)","v":0},{"$f":"IF(COUNTIF($DM93:EE93,$P93+$Q93)<$R93,$P93+$Q93,0)","v":0},{"$f":"IF(COUNTIF($DM93:EF93,$P93+$Q93)<$R93,$P93+$Q93,0)","v":0},{"$f":"IF(COUNTIF($DM93:EG93,$P93+$Q93)<$R93,$P93+$Q93,0)","v":0},{"$f":"IF(COUNTIF($DM93:EH93,$P93+$Q93)<$R93,$P93+$Q93,0)","v":0},{"$f":"IF(COUNTIF($DM93:EI93,$P93+$Q93)<$R93,$P93+$Q93,0)","v":0},{"$f":"IF(COUNTIF($DM93:EJ93,$P93+$Q93)<$R93,$P93+$Q93,0)","v":0},{"$f":"IF(COUNTIF($DM93:EK93,$P93+$Q93)<$R93,$P93+$Q93,0)","v":0},{"$f":"IF(COUNTIF($DM93:EL93,$P93+$Q93)<$R93,$P93+$Q93,0)","v":0},{"$f":"IF(COUNTIF($DM93:EM93,$P93+$Q93)<$R93,$P93+$Q93,0)","v":0},{"$f":"IF(COUNTIF($DM93:EN93,$P93+$Q93)<$R93,$P93+$Q93,0)","v":0},{"$f":"IF(COUNTIF($DM93:EO93,$P93+$Q93)<$R93,$P93+$Q93,0)","v":0},{"$f":"IF(COUNTIF($DM93:EP93,$P93+$Q93)<$R93,$P93+$Q93,0)","v":0},{"$f":"IF(COUNTIF($DM93:EQ93,$P93+$Q93)<$R93,$P93+$Q93,0)","v":0},{"$f":"IF(COUNTIF($DM93:ER93,$P93+$Q93)<$R93,$P93+$Q93,0)","v":0},{"$f":"IF(COUNTIF($DM93:ES93,$P93+$Q93)<$R93,$P93+$Q93,0)","v":0},{"$f":"IF(COUNTIF($DM93:ET93,$P93+$Q93)<$R93,$P93+$Q93,0)","v":0},{"$f":"IF(COUNTIF($DM93:EU93,$P93+$Q93)<$R93,$P93+$Q93,0)","v":0},{"$f":"IF(COUNTIF($DM93:EV93,$P93+$Q93)<$R93,$P93+$Q93,0)","v":0},{"$f":"IF(COUNTIF($DM93:EW93,$P93+$Q93)<$R93,$P93+$Q93,0)","v":0},{"$f":"IF(COUNTIF($DM93:EX93,$P93+$Q93)<$R93,$P93+$Q93,0)","v":0},{"$f":"IF(COUNTIF($DM93:EY93,$P93+$Q93)<$R93,$P93+$Q93,0)","v":0},-0.3,null,{"$f":"IF(LEFT(formulaTextCustom(G93),3)=\"=IF\",0,1)","v":0},{"$f":"IF(LEFT(formulaTextCustom(H93),3)=\"=IF\",0,1)","v":0},{"$f":"IF(LEFT(formulaTextCustom(I93),3)=\"=IF\",0,1)","v":0},{"$f":"IF(LEFT(formulaTextCustom(J93),3)=\"=IF\",0,1)","v":0},{"$f":"IF(LEFT(formulaTextCustom(K93),3)=\"=IF\",0,1)","v":0},{"$f":"IF(LEFT(formulaTextCustom(L93),3)=\"=IF\",0,1)","v":0},{"$f":"IF(LEFT(formulaTextCustom(M93),3)=\"=IF\",0,1)","v":0},{"$f":"IF(LEFT(formulaTextCustom(N93),3)=\"=IF\",0,1)","v":0},{"$f":"IF(LEFT(formulaTextCustom(O93),3)=\"=IF\",0,1)","v":0}]
[null,null,null,10,"",{"$f":"IF('P4P - Measure Info'!C32=\"Yes\",'P4P - Measure Info'!X32,0)","v":0},{"$f":"IF(H64=\"\",0,IF('P4P - General Info'!$C$21=\"Appendix G\",H63-H64,IF('P4P - General Info'!$C$21=\"ASHRAE bEq\",H64-H63,\"\")))","v":0},{"$f":"IF(J64=\"\",0,IF('P4P - General Info'!$C$21=\"Appendix G\",J63-J64,IF('P4P - General Info'!$C$21=\"ASHRAE bEq\",J64-J63,\"\")))","v":0},{"$f":"IF(K64=\"\",0,IF('P4P - General Info'!$C$21=\"Appendix G\",K63-K64,IF('P4P - General Info'!$C$21=\"ASHRAE bEq\",K64-K63,\"\")))","v":0},{"$f":"IF(L64=\"\",0,IF('P4P - General Info'!$C$21=\"Appendix G\",L63-L64,IF('P4P - General Info'!$C$21=\"ASHRAE bEq\",L64-L63,\"\")))","v":0},{"$f":"IF(M64=\"\",0,IF('P4P - General Info'!$C$21=\"Appendix G\",M63-M64,IF('P4P - General Info'!$C$21=\"ASHRAE bEq\",M64-M63,\"\")))","v":0},{"$f":"IF(N64=\"\",0,IF('P4P - General Info'!$C$21=\"Appendix G\",N63-N64,IF('P4P - General Info'!$C$21=\"ASHRAE bEq\",N64-N63,\"\")))","v":0},{"$f":"IF(O64=\"\",0,IF('P4P - General Info'!$C$21=\"Appendix G\",O63-O64,IF('P4P - General Info'!$C$21=\"ASHRAE bEq\",O64-O63,\"\")))","v":0},{"$f":"IF(P64=\"\",0,IF('P4P - General Info'!$C$21=\"Appendix G\",P63-P64,IF('P4P - General Info'!$C$21=\"ASHRAE bEq\",P64-P63,\"\")))","v":0},{"$f":"IF(I64=\"\",0,IF('P4P - General Info'!$C$21=\"Appendix G\",I63-I64,IF('P4P - General Info'!$C$21=\"ASHRAE bEq\",I64-I63,\"\")))","v":0},0,0,{"$f":"IF(E94=\"\",0,VLOOKUP('P4P - Measure Info'!F32,P4P_MeasureTable,3,FALSE))","v":0},{"$f":"IF(Q94=0,0,F94/(SY26+Q94))","v":0},0,0,null,null,null,{"$f":"IF('P4P - Measure Info'!C32=\"Yes\",'P4P - Measure Simulation'!Q94,0)","v":0},0,0,0,{"$f":"IF('P4P - Measure Info'!$C32=\"Yes\",'P4P - Measure Simulation'!G94,0)","v":0},0,0,0,0,0,0,0,0,0,0,{"$f":"IF('P4P - Measure Info'!$C32=\"Yes\",'P4P - Measure Simulation'!H94,0)","v":0},0,0,0,0,0,0,0,0,0,0,{"$f":"IF('P4P - Measure Info'!$C32=\"Yes\",'P4P - Measure Simulation'!I94,0)","v":0},0,0,0,0,0,0,0,0,0,0,{"$f":"IF('P4P - Measure Info'!$C32=\"Yes\",'P4P - Measure Simulation'!J94,0)","v":0},0,0,0,0,0,0,0,0,0,0,{"$f":"IF('P4P - Measure Info'!$C32=\"Yes\",'P4P - Measure Simulation'!K94,0)","v":0},0,0,0,0,0,0,0,0,0,0,{"$f":"IF('P4P - Measure Info'!$C32=\"Yes\",'P4P - Measure Simulation'!L94,0)","v":0},0,0,0,0,0,0,0,0,0,0,{"$f":"IF('P4P - Measure Info'!$C32=\"Yes\",'P4P - Measure Simulation'!M94,0)","v":0},0,0,0,0,0,0,0,0,0,0,{"$f":"IF('P4P - Measure Info'!$C32=\"Yes\",'P4P - Measure Simulation'!N94,0)","v":0},0,0,0,0,0,0,0,null,null,0,0,0,{"$f":"IF(COUNTIF($DM94:DN94,$P94+$Q94)<$R94,$P94+$Q94,0)","v":0},{"$f":"IF(COUNTIF($DM94:DO94,$P94+$Q94)<$R94,$P94+$Q94,0)","v":0},{"$f":"IF(COUNTIF($DM94:DP94,$P94+$Q94)<$R94,$P94+$Q94,0)","v":0},{"$f":"IF(COUNTIF($DM94:DQ94,$P94+$Q94)<$R94,$P94+$Q94,0)","v":0},{"$f":"IF(COUNTIF($DM94:DR94,$P94+$Q94)<$R94,$P94+$Q94,0)","v":0},{"$f":"IF(COUNTIF($DM94:DS94,$P94+$Q94)<$R94,$P94+$Q94,0)","v":0},{"$f":"IF(COUNTIF($DM94:DT94,$P94+$Q94)<$R94,$P94+$Q94,0)","v":0},{"$f":"IF(COUNTIF($DM94:DU94,$P94+$Q94)<$R94,$P94+$Q94,0)","v":0},{"$f":"IF(COUNTIF($DM94:DV94,$P94+$Q94)<$R94,$P94+$Q94,0)","v":0},{"$f":"IF(COUNTIF($DM94:DW94,$P94+$Q94)<$R94,$P94+$Q94,0)","v":0},{"$f":"IF(COUNTIF($DM94:DX94,$P94+$Q94)<$R94,$P94+$Q94,0)","v":0},{"$f":"IF(COUNTIF($DM94:DY94,$P94+$Q94)<$R94,$P94+$Q94,0)","v":0},{"$f":"IF(COUNTIF($DM94:DZ94,$P94+$Q94)<$R94,$P94+$Q94,0)","v":0},{"$f":"IF(COUNTIF($DM94:EA94,$P94+$Q94)<$R94,$P94+$Q94,0)","v":0},{"$f":"IF(COUNTIF($DM94:EB94,$P94+$Q94)<$R94,$P94+$Q94,0)","v":0},{"$f":"IF(COUNTIF($DM94:EC94,$P94+$Q94)<$R94,$P94+$Q94,0)","v":0},{"$f":"IF(COUNTIF($DM94:ED94,$P94+$Q94)<$R94,$P94+$Q94,0)","v":0},{"$f":"IF(COUNTIF($DM94:EE94,$P94+$Q94)<$R94,$P94+$Q94,0)","v":0},{"$f":"IF(COUNTIF($DM94:EF94,$P94+$Q94)<$R94,$P94+$Q94,0)","v":0},{"$f":"IF(COUNTIF($DM94:EG94,$P94+$Q94)<$R94,$P94+$Q94,0)","v":0},{"$f":"IF(COUNTIF($DM94:EH94,$P94+$Q94)<$R94,$P94+$Q94,0)","v":0},{"$f":"IF(COUNTIF($DM94:EI94,$P94+$Q94)<$R94,$P94+$Q94,0)","v":0},{"$f":"IF(COUNTIF($DM94:EJ94,$P94+$Q94)<$R94,$P94+$Q94,0)","v":0},{"$f":"IF(COUNTIF($DM94:EK94,$P94+$Q94)<$R94,$P94+$Q94,0)","v":0},{"$f":"IF(COUNTIF($DM94:EL94,$P94+$Q94)<$R94,$P94+$Q94,0)","v":0},{"$f":"IF(COUNTIF($DM94:EM94,$P94+$Q94)<$R94,$P94+$Q94,0)","v":0},{"$f":"IF(COUNTIF($DM94:EN94,$P94+$Q94)<$R94,$P94+$Q94,0)","v":0},{"$f":"IF(COUNTIF($DM94:EO94,$P94+$Q94)<$R94,$P94+$Q94,0)","v":0},{"$f":"IF(COUNTIF($DM94:EP94,$P94+$Q94)<$R94,$P94+$Q94,0)","v":0},{"$f":"IF(COUNTIF($DM94:EQ94,$P94+$Q94)<$R94,$P94+$Q94,0)","v":0},{"$f":"IF(COUNTIF($DM94:ER94,$P94+$Q94)<$R94,$P94+$Q94,0)","v":0},{"$f":"IF(COUNTIF($DM94:ES94,$P94+$Q94)<$R94,$P94+$Q94,0)","v":0},{"$f":"IF(COUNTIF($DM94:ET94,$P94+$Q94)<$R94,$P94+$Q94,0)","v":0},{"$f":"IF(COUNTIF($DM94:EU94,$P94+$Q94)<$R94,$P94+$Q94,0)","v":0},{"$f":"IF(COUNTIF($DM94:EV94,$P94+$Q94)<$R94,$P94+$Q94,0)","v":0},{"$f":"IF(COUNTIF($DM94:EW94,$P94+$Q94)<$R94,$P94+$Q94,0)","v":0},{"$f":"IF(COUNTIF($DM94:EX94,$P94+$Q94)<$R94,$P94+$Q94,0)","v":0},{"$f":"IF(COUNTIF($DM94:EY94,$P94+$Q94)<$R94,$P94+$Q94,0)","v":0},-0.3,null,{"$f":"IF(LEFT(formulaTextCustom(G94),3)=\"=IF\",0,1)","v":0},{"$f":"IF(LEFT(formulaTextCustom(H94),3)=\"=IF\",0,1)","v":0},{"$f":"IF(LEFT(formulaTextCustom(I94),3)=\"=IF\",0,1)","v":0},{"$f":"IF(LEFT(formulaTextCustom(J94),3)=\"=IF\",0,1)","v":0},{"$f":"IF(LEFT(formulaTextCustom(K94),3)=\"=IF\",0,1)","v":0},{"$f":"IF(LEFT(formulaTextCustom(L94),3)=\"=IF\",0,1)","v":0},{"$f":"IF(LEFT(formulaTextCustom(M94),3)=\"=IF\",0,1)","v":0},{"$f":"IF(LEFT(formulaTextCustom(N94),3)=\"=IF\",0,1)","v":0},{"$f":"IF(LEFT(formulaTextCustom(O94),3)=\"=IF\",0,1)","v":0}]
[null,null,null,11,"",{"$f":"IF('P4P - Measure Info'!C33=\"Yes\",'P4P - Measure Info'!X33,0)","v":0},{"$f":"IF(H65=\"\",0,IF('P4P - General Info'!$C$21=\"Appendix G\",H64-H65,IF('P4P - General Info'!$C$21=\"ASHRAE bEq\",H65-H64,\"\")))","v":0},{"$f":"IF(J65=\"\",0,IF('P4P - General Info'!$C$21=\"Appendix G\",J64-J65,IF('P4P - General Info'!$C$21=\"ASHRAE bEq\",J65-J64,\"\")))","v":0},{"$f":"IF(K65=\"\",0,IF('P4P - General Info'!$C$21=\"Appendix G\",K64-K65,IF('P4P - General Info'!$C$21=\"ASHRAE bEq\",K65-K64,\"\")))","v":0},{"$f":"IF(L65=\"\",0,IF('P4P - General Info'!$C$21=\"Appendix G\",L64-L65,IF('P4P - General Info'!$C$21=\"ASHRAE bEq\",L65-L64,\"\")))","v":0},{"$f":"IF(M65=\"\",0,IF('P4P - General Info'!$C$21=\"Appendix G\",M64-M65,IF('P4P - General Info'!$C$21=\"ASHRAE bEq\",M65-M64,\"\")))","v":0},{"$f":"IF(N65=\"\",0,IF('P4P - General Info'!$C$21=\"Appendix G\",N64-N65,IF('P4P - General Info'!$C$21=\"ASHRAE bEq\",N65-N64,\"\")))","v":0},{"$f":"IF(O65=\"\",0,IF('P4P - General Info'!$C$21=\"Appendix G\",O64-O65,IF('P4P - General Info'!$C$21=\"ASHRAE bEq\",O65-O64,\"\")))","v":0},{"$f":"IF(P65=\"\",0,IF('P4P - General Info'!$C$21=\"Appendix G\",P64-P65,IF('P4P - General Info'!$C$21=\"ASHRAE bEq\",P65-P64,\"\")))","v":0},{"$f":"IF(I65=\"\",0,IF('P4P - General Info'!$C$21=\"Appendix G\",I64-I65,IF('P4P - General Info'!$C$21=\"ASHRAE bEq\",I65-I64,\"\")))","v":0},0,0,{"$f":"IF(E95=\"\",0,VLOOKUP('P4P - Measure Info'!F33,P4P_MeasureTable,3,FALSE))","v":0},0,0,0,null,null,null,{"$f":"IF('P4P - Measure Info'!C33=\"Yes\",'P4P - Measure Simulation'!Q95,0)","v":0},0,0,0,{"$f":"IF('P4P - Measure Info'!$C33=\"Yes\",'P4P - Measure Simulation'!G95,0)","v":0},0,0,0,0,0,0,0,0,0,0,{"$f":"IF('P4P - Measure Info'!$C33=\"Yes\",'P4P - Measure Simulation'!H95,0)","v":0},0,0,0,0,0,0,0,0,0,0,{"$f":"IF('P4P - Measure Info'!$C33=\"Yes\",'P4P - Measure Simulation'!I95,0)","v":0},0,0,0,0,0,0,0,0,0,0,{"$f":"IF('P4P - Measure Info'!$C33=\"Yes\",'P4P - Measure Simulation'!J95,0)","v":0},0,0,0,0,0,0,0,0,0,0,{"$f":"IF('P4P - Measure Info'!$C33=\"Yes\",'P4P - Measure Simulation'!K95,0)","v":0},0,0,0,0,0,0,0,0,0,0,{"$f":"IF('P4P - Measure Info'!$C33=\"Yes\",'P4P - Measure Simulation'!L95,0)","v":0},0,0,0,0,0,0,0,0,0,0,{"$f":"IF('P4P - Measure Info'!$C33=\"Yes\",'P4P - Measure Simulation'!M95,0)","v":0},0,0,0,0,0,0,0,0,0,0,{"$f":"IF('P4P - Measure Info'!$C33=\"Yes\",'P4P - Measure Simulation'!N95,0)","v":0},0,0,0,0,0,0,0,null,null,0,0,0,{"$f":"IF(COUNTIF($DM95:DN95,$P95+$Q95)<$R95,$P95+$Q95,0)","v":0},{"$f":"IF(COUNTIF($DM95:DO95,$P95+$Q95)<$R95,$P95+$Q95,0)","v":0},{"$f":"IF(COUNTIF($DM95:DP95,$P95+$Q95)<$R95,$P95+$Q95,0)","v":0},{"$f":"IF(COUNTIF($DM95:DQ95,$P95+$Q95)<$R95,$P95+$Q95,0)","v":0},{"$f":"IF(COUNTIF($DM95:DR95,$P95+$Q95)<$R95,$P95+$Q95,0)","v":0},{"$f":"IF(COUNTIF($DM95:DS95,$P95+$Q95)<$R95,$P95+$Q95,0)","v":0},{"$f":"IF(COUNTIF($DM95:DT95,$P95+$Q95)<$R95,$P95+$Q95,0)","v":0},{"$f":"IF(COUNTIF($DM95:DU95,$P95+$Q95)<$R95,$P95+$Q95,0)","v":0},{"$f":"IF(COUNTIF($DM95:DV95,$P95+$Q95)<$R95,$P95+$Q95,0)","v":0},{"$f":"IF(COUNTIF($DM95:DW95,$P95+$Q95)<$R95,$P95+$Q95,0)","v":0},{"$f":"IF(COUNTIF($DM95:DX95,$P95+$Q95)<$R95,$P95+$Q95,0)","v":0},{"$f":"IF(COUNTIF($DM95:DY95,$P95+$Q95)<$R95,$P95+$Q95,0)","v":0},{"$f":"IF(COUNTIF($DM95:DZ95,$P95+$Q95)<$R95,$P95+$Q95,0)","v":0},{"$f":"IF(COUNTIF($DM95:EA95,$P95+$Q95)<$R95,$P95+$Q95,0)","v":0},{"$f":"IF(COUNTIF($DM95:EB95,$P95+$Q95)<$R95,$P95+$Q95,0)","v":0},{"$f":"IF(COUNTIF($DM95:EC95,$P95+$Q95)<$R95,$P95+$Q95,0)","v":0},{"$f":"IF(COUNTIF($DM95:ED95,$P95+$Q95)<$R95,$P95+$Q95,0)","v":0},{"$f":"IF(COUNTIF($DM95:EE95,$P95+$Q95)<$R95,$P95+$Q95,0)","v":0},{"$f":"IF(COUNTIF($DM95:EF95,$P95+$Q95)<$R95,$P95+$Q95,0)","v":0},{"$f":"IF(COUNTIF($DM95:EG95,$P95+$Q95)<$R95,$P95+$Q95,0)","v":0},{"$f":"IF(COUNTIF($DM95:EH95,$P95+$Q95)<$R95,$P95+$Q95,0)","v":0},{"$f":"IF(COUNTIF($DM95:EI95,$P95+$Q95)<$R95,$P95+$Q95,0)","v":0},{"$f":"IF(COUNTIF($DM95:EJ95,$P95+$Q95)<$R95,$P95+$Q95,0)","v":0},{"$f":"IF(COUNTIF($DM95:EK95,$P95+$Q95)<$R95,$P95+$Q95,0)","v":0},{"$f":"IF(COUNTIF($DM95:EL95,$P95+$Q95)<$R95,$P95+$Q95,0)","v":0},{"$f":"IF(COUNTIF($DM95:EM95,$P95+$Q95)<$R95,$P95+$Q95,0)","v":0},{"$f":"IF(COUNTIF($DM95:EN95,$P95+$Q95)<$R95,$P95+$Q95,0)","v":0},{"$f":"IF(COUNTIF($DM95:EO95,$P95+$Q95)<$R95,$P95+$Q95,0)","v":0},{"$f":"IF(COUNTIF($DM95:EP95,$P95+$Q95)<$R95,$P95+$Q95,0)","v":0},{"$f":"IF(COUNTIF($DM95:EQ95,$P95+$Q95)<$R95,$P95+$Q95,0)","v":0},{"$f":"IF(COUNTIF($DM95:ER95,$P95+$Q95)<$R95,$P95+$Q95,0)","v":0},{"$f":"IF(COUNTIF($DM95:ES95,$P95+$Q95)<$R95,$P95+$Q95,0)","v":0},{"$f":"IF(COUNTIF($DM95:ET95,$P95+$Q95)<$R95,$P95+$Q95,0)","v":0},{"$f":"IF(COUNTIF($DM95:EU95,$P95+$Q95)<$R95,$P95+$Q95,0)","v":0},{"$f":"IF(COUNTIF($DM95:EV95,$P95+$Q95)<$R95,$P95+$Q95,0)","v":0},{"$f":"IF(COUNTIF($DM95:EW95,$P95+$Q95)<$R95,$P95+$Q95,0)","v":0},{"$f":"IF(COUNTIF($DM95:EX95,$P95+$Q95)<$R95,$P95+$Q95,0)","v":0},{"$f":"IF(COUNTIF($DM95:EY95,$P95+$Q95)<$R95,$P95+$Q95,0)","v":0},-0.3,null,{"$f":"IF(LEFT(formulaTextCustom(G95),3)=\"=IF\",0,1)","v":0},{"$f":"IF(LEFT(formulaTextCustom(H95),3)=\"=IF\",0,1)","v":0},{"$f":"IF(LEFT(formulaTextCustom(I95),3)=\"=IF\",0,1)","v":0},{"$f":"IF(LEFT(formulaTextCustom(J95),3)=\"=IF\",0,1)","v":0},{"$f":"IF(LEFT(formulaTextCustom(K95),3)=\"=IF\",0,1)","v":0},{"$f":"IF(LEFT(formulaTextCustom(L95),3)=\"=IF\",0,1)","v":0},{"$f":"IF(LEFT(formulaTextCustom(M95),3)=\"=IF\",0,1)","v":0},{"$f":"IF(LEFT(formulaTextCustom(N95),3)=\"=IF\",0,1)","v":0},{"$f":"IF(LEFT(formulaTextCustom(O95),3)=\"=IF\",0,1)","v":0},null,"This section calculates savings by fuel for bEQ"]
[null,null,null,12,"",{"$f":"IF('P4P - Measure Info'!C34=\"Yes\",'P4P - Measure Info'!X34,0)","v":0},{"$f":"IF(H66=\"\",0,IF('P4P - General Info'!$C$21=\"Appendix G\",H65-H66,IF('P4P - General Info'!$C$21=\"ASHRAE bEq\",H66-H65,\"\")))","v":0},{"$f":"IF(J66=\"\",0,IF('P4P - General Info'!$C$21=\"Appendix G\",J65-J66,IF('P4P - General Info'!$C$21=\"ASHRAE bEq\",J66-J65,\"\")))","v":0},{"$f":"IF(K66=\"\",0,IF('P4P - General Info'!$C$21=\"Appendix G\",K65-K66,IF('P4P - General Info'!$C$21=\"ASHRAE bEq\",K66-K65,\"\")))","v":0},{"$f":"IF(L66=\"\",0,IF('P4P - General Info'!$C$21=\"Appendix G\",L65-L66,IF('P4P - General Info'!$C$21=\"ASHRAE bEq\",L66-L65,\"\")))","v":0},{"$f":"IF(M66=\"\",0,IF('P4P - General Info'!$C$21=\"Appendix G\",M65-M66,IF('P4P - General Info'!$C$21=\"ASHRAE bEq\",M66-M65,\"\")))","v":0},{"$f":"IF(N66=\"\",0,IF('P4P - General Info'!$C$21=\"Appendix G\",N65-N66,IF('P4P - General Info'!$C$21=\"ASHRAE bEq\",N66-N65,\"\")))","v":0},{"$f":"IF(O66=\"\",0,IF('P4P - General Info'!$C$21=\"Appendix G\",O65-O66,IF('P4P - General Info'!$C$21=\"ASHRAE bEq\",O66-O65,\"\")))","v":0},{"$f":"IF(P66=\"\",0,IF('P4P - General Info'!$C$21=\"Appendix G\",P65-P66,IF('P4P - General Info'!$C$21=\"ASHRAE bEq\",P66-P65,\"\")))","v":0},{"$f":"IF(I66=\"\",0,IF('P4P - General Info'!$C$21=\"Appendix G\",I65-I66,IF('P4P - General Info'!$C$21=\"ASHRAE bEq\",I66-I65,\"\")))","v":0},0,0,{"$f":"IF(E96=\"\",0,VLOOKUP('P4P - Measure Info'!F34,P4P_MeasureTable,3,FALSE))","v":0},0,0,0,null,null,null,{"$f":"IF('P4P - Measure Info'!C34=\"Yes\",'P4P - Measure Simulation'!Q96,0)","v":0},0,0,0,{"$f":"IF('P4P - Measure Info'!$C34=\"Yes\",'P4P - Measure Simulation'!G96,0)","v":0},0,0,0,0,0,0,0,0,0,0,{"$f":"IF('P4P - Measure Info'!$C34=\"Yes\",'P4P - Measure Simulation'!H96,0)","v":0},0,0,0,0,0,0,0,0,0,0,{"$f":"IF('P4P - Measure Info'!$C34=\"Yes\",'P4P - Measure Simulation'!I96,0)","v":0},0,0,0,0,0,0,0,0,0,0,{"$f":"IF('P4P - Measure Info'!$C34=\"Yes\",'P4P - Measure Simulation'!J96,0)","v":0},0,0,0,0,0,0,0,0,0,0,{"$f":"IF('P4P - Measure Info'!$C34=\"Yes\",'P4P - Measure Simulation'!K96,0)","v":0},0,0,0,0,0,0,0,0,0,0,{"$f":"IF('P4P - Measure Info'!$C34=\"Yes\",'P4P - Measure Simulation'!L96,0)","v":0},0,0,0,0,0,0,0,0,0,0,{"$f":"IF('P4P - Measure Info'!$C34=\"Yes\",'P4P - Measure Simulation'!M96,0)","v":0},0,0,0,0,0,0,0,0,0,0,{"$f":"IF('P4P - Measure Info'!$C34=\"Yes\",'P4P - Measure Simulation'!N96,0)","v":0},0,0,0,0,0,0,0,null,null,0,0,0,{"$f":"IF(COUNTIF($DM96:DN96,$P96+$Q96)<$R96,$P96+$Q96,0)","v":0},{"$f":"IF(COUNTIF($DM96:DO96,$P96+$Q96)<$R96,$P96+$Q96,0)","v":0},{"$f":"IF(COUNTIF($DM96:DP96,$P96+$Q96)<$R96,$P96+$Q96,0)","v":0},{"$f":"IF(COUNTIF($DM96:DQ96,$P96+$Q96)<$R96,$P96+$Q96,0)","v":0},{"$f":"IF(COUNTIF($DM96:DR96,$P96+$Q96)<$R96,$P96+$Q96,0)","v":0},{"$f":"IF(COUNTIF($DM96:DS96,$P96+$Q96)<$R96,$P96+$Q96,0)","v":0},{"$f":"IF(COUNTIF($DM96:DT96,$P96+$Q96)<$R96,$P96+$Q96,0)","v":0},{"$f":"IF(COUNTIF($DM96:DU96,$P96+$Q96)<$R96,$P96+$Q96,0)","v":0},{"$f":"IF(COUNTIF($DM96:DV96,$P96+$Q96)<$R96,$P96+$Q96,0)","v":0},{"$f":"IF(COUNTIF($DM96:DW96,$P96+$Q96)<$R96,$P96+$Q96,0)","v":0},{"$f":"IF(COUNTIF($DM96:DX96,$P96+$Q96)<$R96,$P96+$Q96,0)","v":0},{"$f":"IF(COUNTIF($DM96:DY96,$P96+$Q96)<$R96,$P96+$Q96,0)","v":0},{"$f":"IF(COUNTIF($DM96:DZ96,$P96+$Q96)<$R96,$P96+$Q96,0)","v":0},{"$f":"IF(COUNTIF($DM96:EA96,$P96+$Q96)<$R96,$P96+$Q96,0)","v":0},{"$f":"IF(COUNTIF($DM96:EB96,$P96+$Q96)<$R96,$P96+$Q96,0)","v":0},{"$f":"IF(COUNTIF($DM96:EC96,$P96+$Q96)<$R96,$P96+$Q96,0)","v":0},{"$f":"IF(COUNTIF($DM96:ED96,$P96+$Q96)<$R96,$P96+$Q96,0)","v":0},{"$f":"IF(COUNTIF($DM96:EE96,$P96+$Q96)<$R96,$P96+$Q96,0)","v":0},{"$f":"IF(COUNTIF($DM96:EF96,$P96+$Q96)<$R96,$P96+$Q96,0)","v":0},{"$f":"IF(COUNTIF($DM96:EG96,$P96+$Q96)<$R96,$P96+$Q96,0)","v":0},{"$f":"IF(COUNTIF($DM96:EH96,$P96+$Q96)<$R96,$P96+$Q96,0)","v":0},{"$f":"IF(COUNTIF($DM96:EI96,$P96+$Q96)<$R96,$P96+$Q96,0)","v":0},{"$f":"IF(COUNTIF($DM96:EJ96,$P96+$Q96)<$R96,$P96+$Q96,0)","v":0},{"$f":"IF(COUNTIF($DM96:EK96,$P96+$Q96)<$R96,$P96+$Q96,0)","v":0},{"$f":"IF(COUNTIF($DM96:EL96,$P96+$Q96)<$R96,$P96+$Q96,0)","v":0},{"$f":"IF(COUNTIF($DM96:EM96,$P96+$Q96)<$R96,$P96+$Q96,0)","v":0},{"$f":"IF(COUNTIF($DM96:EN96,$P96+$Q96)<$R96,$P96+$Q96,0)","v":0},{"$f":"IF(COUNTIF($DM96:EO96,$P96+$Q96)<$R96,$P96+$Q96,0)","v":0},{"$f":"IF(COUNTIF($DM96:EP96,$P96+$Q96)<$R96,$P96+$Q96,0)","v":0},{"$f":"IF(COUNTIF($DM96:EQ96,$P96+$Q96)<$R96,$P96+$Q96,0)","v":0},{"$f":"IF(COUNTIF($DM96:ER96,$P96+$Q96)<$R96,$P96+$Q96,0)","v":0},{"$f":"IF(COUNTIF($DM96:ES96,$P96+$Q96)<$R96,$P96+$Q96,0)","v":0},{"$f":"IF(COUNTIF($DM96:ET96,$P96+$Q96)<$R96,$P96+$Q96,0)","v":0},{"$f":"IF(COUNTIF($DM96:EU96,$P96+$Q96)<$R96,$P96+$Q96,0)","v":0},{"$f":"IF(COUNTIF($DM96:EV96,$P96+$Q96)<$R96,$P96+$Q96,0)","v":0},{"$f":"IF(COUNTIF($DM96:EW96,$P96+$Q96)<$R96,$P96+$Q96,0)","v":0},{"$f":"IF(COUNTIF($DM96:EX96,$P96+$Q96)<$R96,$P96+$Q96,0)","v":0},{"$f":"IF(COUNTIF($DM96:EY96,$P96+$Q96)<$R96,$P96+$Q96,0)","v":0},-0.3,null,{"$f":"IF(LEFT(formulaTextCustom(G96),3)=\"=IF\",0,1)","v":0},{"$f":"IF(LEFT(formulaTextCustom(H96),3)=\"=IF\",0,1)","v":0},{"$f":"IF(LEFT(formulaTextCustom(I96),3)=\"=IF\",0,1)","v":0},{"$f":"IF(LEFT(formulaTextCustom(J96),3)=\"=IF\",0,1)","v":0},{"$f":"IF(LEFT(formulaTextCustom(K96),3)=\"=IF\",0,1)","v":0},{"$f":"IF(LEFT(formulaTextCustom(L96),3)=\"=IF\",0,1)","v":0},{"$f":"IF(LEFT(formulaTextCustom(M96),3)=\"=IF\",0,1)","v":0},{"$f":"IF(LEFT(formulaTextCustom(N96),3)=\"=IF\",0,1)","v":0},{"$f":"IF(LEFT(formulaTextCustom(O96),3)=\"=IF\",0,1)","v":0}]
[null,null,null,13,"",{"$f":"IF('P4P - Measure Info'!C35=\"Yes\",'P4P - Measure Info'!X35,0)","v":0},{"$f":"IF(H67=\"\",0,IF('P4P - General Info'!$C$21=\"Appendix G\",H66-H67,IF('P4P - General Info'!$C$21=\"ASHRAE bEq\",H67-H66,\"\")))","v":0},{"$f":"IF(J67=\"\",0,IF('P4P - General Info'!$C$21=\"Appendix G\",J66-J67,IF('P4P - General Info'!$C$21=\"ASHRAE bEq\",J67-J66,\"\")))","v":0},{"$f":"IF(K67=\"\",0,IF('P4P - General Info'!$C$21=\"Appendix G\",K66-K67,IF('P4P - General Info'!$C$21=\"ASHRAE bEq\",K67-K66,\"\")))","v":0},{"$f":"IF(L67=\"\",0,IF('P4P - General Info'!$C$21=\"Appendix G\",L66-L67,IF('P4P - General Info'!$C$21=\"ASHRAE bEq\",L67-L66,\"\")))","v":0},{"$f":"IF(M67=\"\",0,IF('P4P - General Info'!$C$21=\"Appendix G\",M66-M67,IF('P4P - General Info'!$C$21=\"ASHRAE bEq\",M67-M66,\"\")))","v":0},{"$f":"IF(N67=\"\",0,IF('P4P - General Info'!$C$21=\"Appendix G\",N66-N67,IF('P4P - General Info'!$C$21=\"ASHRAE bEq\",N67-N66,\"\")))","v":0},{"$f":"IF(O67=\"\",0,IF('P4P - General Info'!$C$21=\"Appendix G\",O66-O67,IF('P4P - General Info'!$C$21=\"ASHRAE bEq\",O67-O66,\"\")))","v":0},{"$f":"IF(P67=\"\",0,IF('P4P - General Info'!$C$21=\"Appendix G\",P66-P67,IF('P4P - General Info'!$C$21=\"ASHRAE bEq\",P67-P66,\"\")))","v":0},{"$f":"IF(I67=\"\",0,IF('P4P - General Info'!$C$21=\"Appendix G\",I66-I67,IF('P4P - General Info'!$C$21=\"ASHRAE bEq\",I67-I66,\"\")))","v":0},0,0,{"$f":"IF(E97=\"\",0,VLOOKUP('P4P - Measure Info'!F35,P4P_MeasureTable,3,FALSE))","v":0},0,0,0,null,null,null,{"$f":"IF('P4P - Measure Info'!C35=\"Yes\",'P4P - Measure Simulation'!Q97,0)","v":0},0,0,0,{"$f":"IF('P4P - Measure Info'!$C35=\"Yes\",'P4P - Measure Simulation'!G97,0)","v":0},0,0,0,0,0,0,0,0,0,0,{"$f":"IF('P4P - Measure Info'!$C35=\"Yes\",'P4P - Measure Simulation'!H97,0)","v":0},0,0,0,0,0,0,0,0,0,0,{"$f":"IF('P4P - Measure Info'!$C35=\"Yes\",'P4P - Measure Simulation'!I97,0)","v":0},0,0,0,0,0,0,0,0,0,0,{"$f":"IF('P4P - Measure Info'!$C35=\"Yes\",'P4P - Measure Simulation'!J97,0)","v":0},0,0,0,0,0,0,0,0,0,0,{"$f":"IF('P4P - Measure Info'!$C35=\"Yes\",'P4P - Measure Simulation'!K97,0)","v":0},0,0,0,0,0,0,0,0,0,0,{"$f":"IF('P4P - Measure Info'!$C35=\"Yes\",'P4P - Measure Simulation'!L97,0)","v":0},0,0,0,0,0,0,0,0,0,0,{"$f":"IF('P4P - Measure Info'!$C35=\"Yes\",'P4P - Measure Simulation'!M97,0)","v":0},0,0,0,0,0,0,0,0,0,0,{"$f":"IF('P4P - Measure Info'!$C35=\"Yes\",'P4P - Measure Simulation'!N97,0)","v":0},0,0,0,0,0,0,0,null,null,0,0,0,{"$f":"IF(COUNTIF($DM97:DN97,$P97+$Q97)<$R97,$P97+$Q97,0)","v":0},{"$f":"IF(COUNTIF($DM97:DO97,$P97+$Q97)<$R97,$P97+$Q97,0)","v":0},{"$f":"IF(COUNTIF($DM97:DP97,$P97+$Q97)<$R97,$P97+$Q97,0)","v":0},{"$f":"IF(COUNTIF($DM97:DQ97,$P97+$Q97)<$R97,$P97+$Q97,0)","v":0},{"$f":"IF(COUNTIF($DM97:DR97,$P97+$Q97)<$R97,$P97+$Q97,0)","v":0},{"$f":"IF(COUNTIF($DM97:DS97,$P97+$Q97)<$R97,$P97+$Q97,0)","v":0},{"$f":"IF(COUNTIF($DM97:DT97,$P97+$Q97)<$R97,$P97+$Q97,0)","v":0},{"$f":"IF(COUNTIF($DM97:DU97,$P97+$Q97)<$R97,$P97+$Q97,0)","v":0},{"$f":"IF(COUNTIF($DM97:DV97,$P97+$Q97)<$R97,$P97+$Q97,0)","v":0},{"$f":"IF(COUNTIF($DM97:DW97,$P97+$Q97)<$R97,$P97+$Q97,0)","v":0},{"$f":"IF(COUNTIF($DM97:DX97,$P97+$Q97)<$R97,$P97+$Q97,0)","v":0},{"$f":"IF(COUNTIF($DM97:DY97,$P97+$Q97)<$R97,$P97+$Q97,0)","v":0},{"$f":"IF(COUNTIF($DM97:DZ97,$P97+$Q97)<$R97,$P97+$Q97,0)","v":0},{"$f":"IF(COUNTIF($DM97:EA97,$P97+$Q97)<$R97,$P97+$Q97,0)","v":0},{"$f":"IF(COUNTIF($DM97:EB97,$P97+$Q97)<$R97,$P97+$Q97,0)","v":0},{"$f":"IF(COUNTIF($DM97:EC97,$P97+$Q97)<$R97,$P97+$Q97,0)","v":0},{"$f":"IF(COUNTIF($DM97:ED97,$P97+$Q97)<$R97,$P97+$Q97,0)","v":0},{"$f":"IF(COUNTIF($DM97:EE97,$P97+$Q97)<$R97,$P97+$Q97,0)","v":0},{"$f":"IF(COUNTIF($DM97:EF97,$P97+$Q97)<$R97,$P97+$Q97,0)","v":0},{"$f":"IF(COUNTIF($DM97:EG97,$P97+$Q97)<$R97,$P97+$Q97,0)","v":0},{"$f":"IF(COUNTIF($DM97:EH97,$P97+$Q97)<$R97,$P97+$Q97,0)","v":0},{"$f":"IF(COUNTIF($DM97:EI97,$P97+$Q97)<$R97,$P97+$Q97,0)","v":0},{"$f":"IF(COUNTIF($DM97:EJ97,$P97+$Q97)<$R97,$P97+$Q97,0)","v":0},{"$f":"IF(COUNTIF($DM97:EK97,$P97+$Q97)<$R97,$P97+$Q97,0)","v":0},{"$f":"IF(COUNTIF($DM97:EL97,$P97+$Q97)<$R97,$P97+$Q97,0)","v":0},{"$f":"IF(COUNTIF($DM97:EM97,$P97+$Q97)<$R97,$P97+$Q97,0)","v":0},{"$f":"IF(COUNTIF($DM97:EN97,$P97+$Q97)<$R97,$P97+$Q97,0)","v":0},{"$f":"IF(COUNTIF($DM97:EO97,$P97+$Q97)<$R97,$P97+$Q97,0)","v":0},{"$f":"IF(COUNTIF($DM97:EP97,$P97+$Q97)<$R97,$P97+$Q97,0)","v":0},{"$f":"IF(COUNTIF($DM97:EQ97,$P97+$Q97)<$R97,$P97+$Q97,0)","v":0},{"$f":"IF(COUNTIF($DM97:ER97,$P97+$Q97)<$R97,$P97+$Q97,0)","v":0},{"$f":"IF(COUNTIF($DM97:ES97,$P97+$Q97)<$R97,$P97+$Q97,0)","v":0},{"$f":"IF(COUNTIF($DM97:ET97,$P97+$Q97)<$R97,$P97+$Q97,0)","v":0},{"$f":"IF(COUNTIF($DM97:EU97,$P97+$Q97)<$R97,$P97+$Q97,0)","v":0},{"$f":"IF(COUNTIF($DM97:EV97,$P97+$Q97)<$R97,$P97+$Q97,0)","v":0},{"$f":"IF(COUNTIF($DM97:EW97,$P97+$Q97)<$R97,$P97+$Q97,0)","v":0},{"$f":"IF(COUNTIF($DM97:EX97,$P97+$Q97)<$R97,$P97+$Q97,0)","v":0},{"$f":"IF(COUNTIF($DM97:EY97,$P97+$Q97)<$R97,$P97+$Q97,0)","v":0},-0.3,null,{"$f":"IF(LEFT(formulaTextCustom(G97),3)=\"=IF\",0,1)","v":0},{"$f":"IF(LEFT(formulaTextCustom(H97),3)=\"=IF\",0,1)","v":0},{"$f":"IF(LEFT(formulaTextCustom(I97),3)=\"=IF\",0,1)","v":0},{"$f":"IF(LEFT(formulaTextCustom(J97),3)=\"=IF\",0,1)","v":0},{"$f":"IF(LEFT(formulaTextCustom(K97),3)=\"=IF\",0,1)","v":0},{"$f":"IF(LEFT(formulaTextCustom(L97),3)=\"=IF\",0,1)","v":0},{"$f":"IF(LEFT(formulaTextCustom(M97),3)=\"=IF\",0,1)","v":0},{"$f":"IF(LEFT(formulaTextCustom(N97),3)=\"=IF\",0,1)","v":0},{"$f":"IF(LEFT(formulaTextCustom(O97),3)=\"=IF\",0,1)","v":0}]
[null,null,null,14,"",{"$f":"IF('P4P - Measure Info'!C36=\"Yes\",'P4P - Measure Info'!X36,0)","v":0},{"$f":"IF(H68=\"\",0,IF('P4P - General Info'!$C$21=\"Appendix G\",H67-H68,IF('P4P - General Info'!$C$21=\"ASHRAE bEq\",H68-H67,\"\")))","v":0},{"$f":"IF(J68=\"\",0,IF('P4P - General Info'!$C$21=\"Appendix G\",J67-J68,IF('P4P - General Info'!$C$21=\"ASHRAE bEq\",J68-J67,\"\")))","v":0},{"$f":"IF(K68=\"\",0,IF('P4P - General Info'!$C$21=\"Appendix G\",K67-K68,IF('P4P - General Info'!$C$21=\"ASHRAE bEq\",K68-K67,\"\")))","v":0},{"$f":"IF(L68=\"\",0,IF('P4P - General Info'!$C$21=\"Appendix G\",L67-L68,IF('P4P - General Info'!$C$21=\"ASHRAE bEq\",L68-L67,\"\")))","v":0},{"$f":"IF(M68=\"\",0,IF('P4P - General Info'!$C$21=\"Appendix G\",M67-M68,IF('P4P - General Info'!$C$21=\"ASHRAE bEq\",M68-M67,\"\")))","v":0},{"$f":"IF(N68=\"\",0,IF('P4P - General Info'!$C$21=\"Appendix G\",N67-N68,IF('P4P - General Info'!$C$21=\"ASHRAE bEq\",N68-N67,\"\")))","v":0},{"$f":"IF(O68=\"\",0,IF('P4P - General Info'!$C$21=\"Appendix G\",O67-O68,IF('P4P - General Info'!$C$21=\"ASHRAE bEq\",O68-O67,\"\")))","v":0},{"$f":"IF(P68=\"\",0,IF('P4P - General Info'!$C$21=\"Appendix G\",P67-P68,IF('P4P - General Info'!$C$21=\"ASHRAE bEq\",P68-P67,\"\")))","v":0},{"$f":"IF(I68=\"\",0,IF('P4P - General Info'!$C$21=\"Appendix G\",I67-I68,IF('P4P - General Info'!$C$21=\"ASHRAE bEq\",I68-I67,\"\")))","v":0},0,0,{"$f":"IF(E98=\"\",0,VLOOKUP('P4P - Measure Info'!F36,P4P_MeasureTable,3,FALSE))","v":0},0,0,0,null,null,null,{"$f":"IF('P4P - Measure Info'!C36=\"Yes\",'P4P - Measure Simulation'!Q98,0)","v":0},0,0,0,{"$f":"IF('P4P - Measure Info'!$C36=\"Yes\",'P4P - Measure Simulation'!G98,0)","v":0},0,0,0,0,0,0,0,0,0,0,{"$f":"IF('P4P - Measure Info'!$C36=\"Yes\",'P4P - Measure Simulation'!H98,0)","v":0},0,0,0,0,0,0,0,0,0,0,{"$f":"IF('P4P - Measure Info'!$C36=\"Yes\",'P4P - Measure Simulation'!I98,0)","v":0},0,0,0,0,0,0,0,0,0,0,{"$f":"IF('P4P - Measure Info'!$C36=\"Yes\",'P4P - Measure Simulation'!J98,0)","v":0},0,0,0,0,0,0,0,0,0,0,{"$f":"IF('P4P - Measure Info'!$C36=\"Yes\",'P4P - Measure Simulation'!K98,0)","v":0},0,0,0,0,0,0,0,0,0,0,{"$f":"IF('P4P - Measure Info'!$C36=\"Yes\",'P4P - Measure Simulation'!L98,0)","v":0},0,0,0,0,0,0,0,0,0,0,{"$f":"IF('P4P - Measure Info'!$C36=\"Yes\",'P4P - Measure Simulation'!M98,0)","v":0},0,0,0,0,0,0,0,0,0,0,{"$f":"IF('P4P - Measure Info'!$C36=\"Yes\",'P4P - Measure Simulation'!N98,0)","v":0},0,0,0,0,0,0,0,null,null,0,0,0,{"$f":"IF(COUNTIF($DM98:DN98,$P98+$Q98)<$R98,$P98+$Q98,0)","v":0},{"$f":"IF(COUNTIF($DM98:DO98,$P98+$Q98)<$R98,$P98+$Q98,0)","v":0},{"$f":"IF(COUNTIF($DM98:DP98,$P98+$Q98)<$R98,$P98+$Q98,0)","v":0},{"$f":"IF(COUNTIF($DM98:DQ98,$P98+$Q98)<$R98,$P98+$Q98,0)","v":0},{"$f":"IF(COUNTIF($DM98:DR98,$P98+$Q98)<$R98,$P98+$Q98,0)","v":0},{"$f":"IF(COUNTIF($DM98:DS98,$P98+$Q98)<$R98,$P98+$Q98,0)","v":0},{"$f":"IF(COUNTIF($DM98:DT98,$P98+$Q98)<$R98,$P98+$Q98,0)","v":0},{"$f":"IF(COUNTIF($DM98:DU98,$P98+$Q98)<$R98,$P98+$Q98,0)","v":0},{"$f":"IF(COUNTIF($DM98:DV98,$P98+$Q98)<$R98,$P98+$Q98,0)","v":0},{"$f":"IF(COUNTIF($DM98:DW98,$P98+$Q98)<$R98,$P98+$Q98,0)","v":0},{"$f":"IF(COUNTIF($DM98:DX98,$P98+$Q98)<$R98,$P98+$Q98,0)","v":0},{"$f":"IF(COUNTIF($DM98:DY98,$P98+$Q98)<$R98,$P98+$Q98,0)","v":0},{"$f":"IF(COUNTIF($DM98:DZ98,$P98+$Q98)<$R98,$P98+$Q98,0)","v":0},{"$f":"IF(COUNTIF($DM98:EA98,$P98+$Q98)<$R98,$P98+$Q98,0)","v":0},{"$f":"IF(COUNTIF($DM98:EB98,$P98+$Q98)<$R98,$P98+$Q98,0)","v":0},{"$f":"IF(COUNTIF($DM98:EC98,$P98+$Q98)<$R98,$P98+$Q98,0)","v":0},{"$f":"IF(COUNTIF($DM98:ED98,$P98+$Q98)<$R98,$P98+$Q98,0)","v":0},{"$f":"IF(COUNTIF($DM98:EE98,$P98+$Q98)<$R98,$P98+$Q98,0)","v":0},{"$f":"IF(COUNTIF($DM98:EF98,$P98+$Q98)<$R98,$P98+$Q98,0)","v":0},{"$f":"IF(COUNTIF($DM98:EG98,$P98+$Q98)<$R98,$P98+$Q98,0)","v":0},{"$f":"IF(COUNTIF($DM98:EH98,$P98+$Q98)<$R98,$P98+$Q98,0)","v":0},{"$f":"IF(COUNTIF($DM98:EI98,$P98+$Q98)<$R98,$P98+$Q98,0)","v":0},{"$f":"IF(COUNTIF($DM98:EJ98,$P98+$Q98)<$R98,$P98+$Q98,0)","v":0},{"$f":"IF(COUNTIF($DM98:EK98,$P98+$Q98)<$R98,$P98+$Q98,0)","v":0},{"$f":"IF(COUNTIF($DM98:EL98,$P98+$Q98)<$R98,$P98+$Q98,0)","v":0},{"$f":"IF(COUNTIF($DM98:EM98,$P98+$Q98)<$R98,$P98+$Q98,0)","v":0},{"$f":"IF(COUNTIF($DM98:EN98,$P98+$Q98)<$R98,$P98+$Q98,0)","v":0},{"$f":"IF(COUNTIF($DM98:EO98,$P98+$Q98)<$R98,$P98+$Q98,0)","v":0},{"$f":"IF(COUNTIF($DM98:EP98,$P98+$Q98)<$R98,$P98+$Q98,0)","v":0},{"$f":"IF(COUNTIF($DM98:EQ98,$P98+$Q98)<$R98,$P98+$Q98,0)","v":0},{"$f":"IF(COUNTIF($DM98:ER98,$P98+$Q98)<$R98,$P98+$Q98,0)","v":0},{"$f":"IF(COUNTIF($DM98:ES98,$P98+$Q98)<$R98,$P98+$Q98,0)","v":0},{"$f":"IF(COUNTIF($DM98:ET98,$P98+$Q98)<$R98,$P98+$Q98,0)","v":0},{"$f":"IF(COUNTIF($DM98:EU98,$P98+$Q98)<$R98,$P98+$Q98,0)","v":0},{"$f":"IF(COUNTIF($DM98:EV98,$P98+$Q98)<$R98,$P98+$Q98,0)","v":0},{"$f":"IF(COUNTIF($DM98:EW98,$P98+$Q98)<$R98,$P98+$Q98,0)","v":0},{"$f":"IF(COUNTIF($DM98:EX98,$P98+$Q98)<$R98,$P98+$Q98,0)","v":0},{"$f":"IF(COUNTIF($DM98:EY98,$P98+$Q98)<$R98,$P98+$Q98,0)","v":0},-0.3,null,{"$f":"IF(LEFT(formulaTextCustom(G98),3)=\"=IF\",0,1)","v":0},{"$f":"IF(LEFT(formulaTextCustom(H98),3)=\"=IF\",0,1)","v":0},{"$f":"IF(LEFT(formulaTextCustom(I98),3)=\"=IF\",0,1)","v":0},{"$f":"IF(LEFT(formulaTextCustom(J98),3)=\"=IF\",0,1)","v":0},{"$f":"IF(LEFT(formulaTextCustom(K98),3)=\"=IF\",0,1)","v":0},{"$f":"IF(LEFT(formulaTextCustom(L98),3)=\"=IF\",0,1)","v":0},{"$f":"IF(LEFT(formulaTextCustom(M98),3)=\"=IF\",0,1)","v":0},{"$f":"IF(LEFT(formulaTextCustom(N98),3)=\"=IF\",0,1)","v":0},{"$f":"IF(LEFT(formulaTextCustom(O98),3)=\"=IF\",0,1)","v":0}]
[null,null,null,15,"",{"$f":"IF('P4P - Measure Info'!C37=\"Yes\",'P4P - Measure Info'!X37,0)","v":0},{"$f":"IF(H69=\"\",0,IF('P4P - General Info'!$C$21=\"Appendix G\",H68-H69,IF('P4P - General Info'!$C$21=\"ASHRAE bEq\",H69-H68,\"\")))","v":0},{"$f":"IF(J69=\"\",0,IF('P4P - General Info'!$C$21=\"Appendix G\",J68-J69,IF('P4P - General Info'!$C$21=\"ASHRAE bEq\",J69-J68,\"\")))","v":0},{"$f":"IF(K69=\"\",0,IF('P4P - General Info'!$C$21=\"Appendix G\",K68-K69,IF('P4P - General Info'!$C$21=\"ASHRAE bEq\",K69-K68,\"\")))","v":0},{"$f":"IF(L69=\"\",0,IF('P4P - General Info'!$C$21=\"Appendix G\",L68-L69,IF('P4P - General Info'!$C$21=\"ASHRAE bEq\",L69-L68,\"\")))","v":0},{"$f":"IF(M69=\"\",0,IF('P4P - General Info'!$C$21=\"Appendix G\",M68-M69,IF('P4P - General Info'!$C$21=\"ASHRAE bEq\",M69-M68,\"\")))","v":0},{"$f":"IF(N69=\"\",0,IF('P4P - General Info'!$C$21=\"Appendix G\",N68-N69,IF('P4P - General Info'!$C$21=\"ASHRAE bEq\",N69-N68,\"\")))","v":0},{"$f":"IF(O69=\"\",0,IF('P4P - General Info'!$C$21=\"Appendix G\",O68-O69,IF('P4P - General Info'!$C$21=\"ASHRAE bEq\",O69-O68,\"\")))","v":0},{"$f":"IF(P69=\"\",0,IF('P4P - General Info'!$C$21=\"Appendix G\",P68-P69,IF('P4P - General Info'!$C$21=\"ASHRAE bEq\",P69-P68,\"\")))","v":0},{"$f":"IF(I69=\"\",0,IF('P4P - General Info'!$C$21=\"Appendix G\",I68-I69,IF('P4P - General Info'!$C$21=\"ASHRAE bEq\",I69-I68,\"\")))","v":0},0,0,{"$f":"IF(E99=\"\",0,VLOOKUP('P4P - Measure Info'!F37,P4P_MeasureTable,3,FALSE))","v":0},0,0,0,null,null,null,{"$f":"IF('P4P - Measure Info'!C37=\"Yes\",'P4P - Measure Simulation'!Q99,0)","v":0},0,0,0,{"$f":"IF('P4P - Measure Info'!$C37=\"Yes\",'P4P - Measure Simulation'!G99,0)","v":0},0,0,0,0,0,0,0,0,0,0,{"$f":"IF('P4P - Measure Info'!$C37=\"Yes\",'P4P - Measure Simulation'!H99,0)","v":0},0,0,0,0,0,0,0,0,0,0,{"$f":"IF('P4P - Measure Info'!$C37=\"Yes\",'P4P - Measure Simulation'!I99,0)","v":0},0,0,0,0,0,0,0,0,0,0,{"$f":"IF('P4P - Measure Info'!$C37=\"Yes\",'P4P - Measure Simulation'!J99,0)","v":0},0,0,0,0,0,0,0,0,0,0,{"$f":"IF('P4P - Measure Info'!$C37=\"Yes\",'P4P - Measure Simulation'!K99,0)","v":0},0,0,0,0,0,0,0,0,0,0,{"$f":"IF('P4P - Measure Info'!$C37=\"Yes\",'P4P - Measure Simulation'!L99,0)","v":0},0,0,0,0,0,0,0,0,0,0,{"$f":"IF('P4P - Measure Info'!$C37=\"Yes\",'P4P - Measure Simulation'!M99,0)","v":0},0,0,0,0,0,0,0,0,0,0,{"$f":"IF('P4P - Measure Info'!$C37=\"Yes\",'P4P - Measure Simulation'!N99,0)","v":0},0,0,0,0,0,0,0,null,null,0,0,0,{"$f":"IF(COUNTIF($DM99:DN99,$P99+$Q99)<$R99,$P99+$Q99,0)","v":0},{"$f":"IF(COUNTIF($DM99:DO99,$P99+$Q99)<$R99,$P99+$Q99,0)","v":0},{"$f":"IF(COUNTIF($DM99:DP99,$P99+$Q99)<$R99,$P99+$Q99,0)","v":0},{"$f":"IF(COUNTIF($DM99:DQ99,$P99+$Q99)<$R99,$P99+$Q99,0)","v":0},{"$f":"IF(COUNTIF($DM99:DR99,$P99+$Q99)<$R99,$P99+$Q99,0)","v":0},{"$f":"IF(COUNTIF($DM99:DS99,$P99+$Q99)<$R99,$P99+$Q99,0)","v":0},{"$f":"IF(COUNTIF($DM99:DT99,$P99+$Q99)<$R99,$P99+$Q99,0)","v":0},{"$f":"IF(COUNTIF($DM99:DU99,$P99+$Q99)<$R99,$P99+$Q99,0)","v":0},{"$f":"IF(COUNTIF($DM99:DV99,$P99+$Q99)<$R99,$P99+$Q99,0)","v":0},{"$f":"IF(COUNTIF($DM99:DW99,$P99+$Q99)<$R99,$P99+$Q99,0)","v":0},{"$f":"IF(COUNTIF($DM99:DX99,$P99+$Q99)<$R99,$P99+$Q99,0)","v":0},{"$f":"IF(COUNTIF($DM99:DY99,$P99+$Q99)<$R99,$P99+$Q99,0)","v":0},{"$f":"IF(COUNTIF($DM99:DZ99,$P99+$Q99)<$R99,$P99+$Q99,0)","v":0},{"$f":"IF(COUNTIF($DM99:EA99,$P99+$Q99)<$R99,$P99+$Q99,0)","v":0},{"$f":"IF(COUNTIF($DM99:EB99,$P99+$Q99)<$R99,$P99+$Q99,0)","v":0},{"$f":"IF(COUNTIF($DM99:EC99,$P99+$Q99)<$R99,$P99+$Q99,0)","v":0},{"$f":"IF(COUNTIF($DM99:ED99,$P99+$Q99)<$R99,$P99+$Q99,0)","v":0},{"$f":"IF(COUNTIF($DM99:EE99,$P99+$Q99)<$R99,$P99+$Q99,0)","v":0},{"$f":"IF(COUNTIF($DM99:EF99,$P99+$Q99)<$R99,$P99+$Q99,0)","v":0},{"$f":"IF(COUNTIF($DM99:EG99,$P99+$Q99)<$R99,$P99+$Q99,0)","v":0},{"$f":"IF(COUNTIF($DM99:EH99,$P99+$Q99)<$R99,$P99+$Q99,0)","v":0},{"$f":"IF(COUNTIF($DM99:EI99,$P99+$Q99)<$R99,$P99+$Q99,0)","v":0},{"$f":"IF(COUNTIF($DM99:EJ99,$P99+$Q99)<$R99,$P99+$Q99,0)","v":0},{"$f":"IF(COUNTIF($DM99:EK99,$P99+$Q99)<$R99,$P99+$Q99,0)","v":0},{"$f":"IF(COUNTIF($DM99:EL99,$P99+$Q99)<$R99,$P99+$Q99,0)","v":0},{"$f":"IF(COUNTIF($DM99:EM99,$P99+$Q99)<$R99,$P99+$Q99,0)","v":0},{"$f":"IF(COUNTIF($DM99:EN99,$P99+$Q99)<$R99,$P99+$Q99,0)","v":0},{"$f":"IF(COUNTIF($DM99:EO99,$P99+$Q99)<$R99,$P99+$Q99,0)","v":0},{"$f":"IF(COUNTIF($DM99:EP99,$P99+$Q99)<$R99,$P99+$Q99,0)","v":0},{"$f":"IF(COUNTIF($DM99:EQ99,$P99+$Q99)<$R99,$P99+$Q99,0)","v":0},{"$f":"IF(COUNTIF($DM99:ER99,$P99+$Q99)<$R99,$P99+$Q99,0)","v":0},{"$f":"IF(COUNTIF($DM99:ES99,$P99+$Q99)<$R99,$P99+$Q99,0)","v":0},{"$f":"IF(COUNTIF($DM99:ET99,$P99+$Q99)<$R99,$P99+$Q99,0)","v":0},{"$f":"IF(COUNTIF($DM99:EU99,$P99+$Q99)<$R99,$P99+$Q99,0)","v":0},{"$f":"IF(COUNTIF($DM99:EV99,$P99+$Q99)<$R99,$P99+$Q99,0)","v":0},{"$f":"IF(COUNTIF($DM99:EW99,$P99+$Q99)<$R99,$P99+$Q99,0)","v":0},{"$f":"IF(COUNTIF($DM99:EX99,$P99+$Q99)<$R99,$P99+$Q99,0)","v":0},{"$f":"IF(COUNTIF($DM99:EY99,$P99+$Q99)<$R99,$P99+$Q99,0)","v":0},-0.3,null,{"$f":"IF(LEFT(formulaTextCustom(G99),3)=\"=IF\",0,1)","v":0},{"$f":"IF(LEFT(formulaTextCustom(H99),3)=\"=IF\",0,1)","v":0},{"$f":"IF(LEFT(formulaTextCustom(I99),3)=\"=IF\",0,1)","v":0},{"$f":"IF(LEFT(formulaTextCustom(J99),3)=\"=IF\",0,1)","v":0},{"$f":"IF(LEFT(formulaTextCustom(K99),3)=\"=IF\",0,1)","v":0},{"$f":"IF(LEFT(formulaTextCustom(L99),3)=\"=IF\",0,1)","v":0},{"$f":"IF(LEFT(formulaTextCustom(M99),3)=\"=IF\",0,1)","v":0},{"$f":"IF(LEFT(formulaTextCustom(N99),3)=\"=IF\",0,1)","v":0},{"$f":"IF(LEFT(formulaTextCustom(O99),3)=\"=IF\",0,1)","v":0}]
[null,null,null,16,"",{"$f":"IF('P4P - Measure Info'!C38=\"Yes\",'P4P - Measure Info'!X38,0)","v":0},{"$f":"IF(H70=\"\",0,IF('P4P - General Info'!$C$21=\"Appendix G\",H69-H70,IF('P4P - General Info'!$C$21=\"ASHRAE bEq\",H70-H69,\"\")))","v":0},{"$f":"IF(J70=\"\",0,IF('P4P - General Info'!$C$21=\"Appendix G\",J69-J70,IF('P4P - General Info'!$C$21=\"ASHRAE bEq\",J70-J69,\"\")))","v":0},{"$f":"IF(K70=\"\",0,IF('P4P - General Info'!$C$21=\"Appendix G\",K69-K70,IF('P4P - General Info'!$C$21=\"ASHRAE bEq\",K70-K69,\"\")))","v":0},{"$f":"IF(L70=\"\",0,IF('P4P - General Info'!$C$21=\"Appendix G\",L69-L70,IF('P4P - General Info'!$C$21=\"ASHRAE bEq\",L70-L69,\"\")))","v":0},{"$f":"IF(M70=\"\",0,IF('P4P - General Info'!$C$21=\"Appendix G\",M69-M70,IF('P4P - General Info'!$C$21=\"ASHRAE bEq\",M70-M69,\"\")))","v":0},{"$f":"IF(N70=\"\",0,IF('P4P - General Info'!$C$21=\"Appendix G\",N69-N70,IF('P4P - General Info'!$C$21=\"ASHRAE bEq\",N70-N69,\"\")))","v":0},{"$f":"IF(O70=\"\",0,IF('P4P - General Info'!$C$21=\"Appendix G\",O69-O70,IF('P4P - General Info'!$C$21=\"ASHRAE bEq\",O70-O69,\"\")))","v":0},{"$f":"IF(P70=\"\",0,IF('P4P - General Info'!$C$21=\"Appendix G\",P69-P70,IF('P4P - General Info'!$C$21=\"ASHRAE bEq\",P70-P69,\"\")))","v":0},{"$f":"IF(I70=\"\",0,IF('P4P - General Info'!$C$21=\"Appendix G\",I69-I70,IF('P4P - General Info'!$C$21=\"ASHRAE bEq\",I70-I69,\"\")))","v":0},0,0,{"$f":"IF(E100=\"\",0,VLOOKUP('P4P - Measure Info'!F38,P4P_MeasureTable,3,FALSE))","v":0},0,0,0,null,null,null,{"$f":"IF('P4P - Measure Info'!C38=\"Yes\",'P4P - Measure Simulation'!Q100,0)","v":0},0,0,0,{"$f":"IF('P4P - Measure Info'!$C38=\"Yes\",'P4P - Measure Simulation'!G100,0)","v":0},0,0,0,0,0,0,0,0,0,0,{"$f":"IF('P4P - Measure Info'!$C38=\"Yes\",'P4P - Measure Simulation'!H100,0)","v":0},0,0,0,0,0,0,0,0,0,0,{"$f":"IF('P4P - Measure Info'!$C38=\"Yes\",'P4P - Measure Simulation'!I100,0)","v":0},0,0,0,0,0,0,0,0,0,0,{"$f":"IF('P4P - Measure Info'!$C38=\"Yes\",'P4P - Measure Simulation'!J100,0)","v":0},0,0,0,0,0,0,0,0,0,0,{"$f":"IF('P4P - Measure Info'!$C38=\"Yes\",'P4P - Measure Simulation'!K100,0)","v":0},0,0,0,0,0,0,0,0,0,0,{"$f":"IF('P4P - Measure Info'!$C38=\"Yes\",'P4P - Measure Simulation'!L100,0)","v":0},0,0,0,0,0,0,0,0,0,0,{"$f":"IF('P4P - Measure Info'!$C38=\"Yes\",'P4P - Measure Simulation'!M100,0)","v":0},0,0,0,0,0,0,0,0,0,0,{"$f":"IF('P4P - Measure Info'!$C38=\"Yes\",'P4P - Measure Simulation'!N100,0)","v":0},0,0,0,0,0,0,0,null,null,0,0,0,{"$f":"IF(COUNTIF($DM100:DN100,$P100+$Q100)<$R100,$P100+$Q100,0)","v":0},{"$f":"IF(COUNTIF($DM100:DO100,$P100+$Q100)<$R100,$P100+$Q100,0)","v":0},{"$f":"IF(COUNTIF($DM100:DP100,$P100+$Q100)<$R100,$P100+$Q100,0)","v":0},{"$f":"IF(COUNTIF($DM100:DQ100,$P100+$Q100)<$R100,$P100+$Q100,0)","v":0},{"$f":"IF(COUNTIF($DM100:DR100,$P100+$Q100)<$R100,$P100+$Q100,0)","v":0},{"$f":"IF(COUNTIF($DM100:DS100,$P100+$Q100)<$R100,$P100+$Q100,0)","v":0},{"$f":"IF(COUNTIF($DM100:DT100,$P100+$Q100)<$R100,$P100+$Q100,0)","v":0},{"$f":"IF(COUNTIF($DM100:DU100,$P100+$Q100)<$R100,$P100+$Q100,0)","v":0},{"$f":"IF(COUNTIF($DM100:DV100,$P100+$Q100)<$R100,$P100+$Q100,0)","v":0},{"$f":"IF(COUNTIF($DM100:DW100,$P100+$Q100)<$R100,$P100+$Q100,0)","v":0},{"$f":"IF(COUNTIF($DM100:DX100,$P100+$Q100)<$R100,$P100+$Q100,0)","v":0},{"$f":"IF(COUNTIF($DM100:DY100,$P100+$Q100)<$R100,$P100+$Q100,0)","v":0},{"$f":"IF(COUNTIF($DM100:DZ100,$P100+$Q100)<$R100,$P100+$Q100,0)","v":0},{"$f":"IF(COUNTIF($DM100:EA100,$P100+$Q100)<$R100,$P100+$Q100,0)","v":0},{"$f":"IF(COUNTIF($DM100:EB100,$P100+$Q100)<$R100,$P100+$Q100,0)","v":0},{"$f":"IF(COUNTIF($DM100:EC100,$P100+$Q100)<$R100,$P100+$Q100,0)","v":0},{"$f":"IF(COUNTIF($DM100:ED100,$P100+$Q100)<$R100,$P100+$Q100,0)","v":0},{"$f":"IF(COUNTIF($DM100:EE100,$P100+$Q100)<$R100,$P100+$Q100,0)","v":0},{"$f":"IF(COUNTIF($DM100:EF100,$P100+$Q100)<$R100,$P100+$Q100,0)","v":0},{"$f":"IF(COUNTIF($DM100:EG100,$P100+$Q100)<$R100,$P100+$Q100,0)","v":0},{"$f":"IF(COUNTIF($DM100:EH100,$P100+$Q100)<$R100,$P100+$Q100,0)","v":0},{"$f":"IF(COUNTIF($DM100:EI100,$P100+$Q100)<$R100,$P100+$Q100,0)","v":0},{"$f":"IF(COUNTIF($DM100:EJ100,$P100+$Q100)<$R100,$P100+$Q100,0)","v":0},{"$f":"IF(COUNTIF($DM100:EK100,$P100+$Q100)<$R100,$P100+$Q100,0)","v":0},{"$f":"IF(COUNTIF($DM100:EL100,$P100+$Q100)<$R100,$P100+$Q100,0)","v":0},{"$f":"IF(COUNTIF($DM100:EM100,$P100+$Q100)<$R100,$P100+$Q100,0)","v":0},{"$f":"IF(COUNTIF($DM100:EN100,$P100+$Q100)<$R100,$P100+$Q100,0)","v":0},{"$f":"IF(COUNTIF($DM100:EO100,$P100+$Q100)<$R100,$P100+$Q100,0)","v":0},{"$f":"IF(COUNTIF($DM100:EP100,$P100+$Q100)<$R100,$P100+$Q100,0)","v":0},{"$f":"IF(COUNTIF($DM100:EQ100,$P100+$Q100)<$R100,$P100+$Q100,0)","v":0},{"$f":"IF(COUNTIF($DM100:ER100,$P100+$Q100)<$R100,$P100+$Q100,0)","v":0},{"$f":"IF(COUNTIF($DM100:ES100,$P100+$Q100)<$R100,$P100+$Q100,0)","v":0},{"$f":"IF(COUNTIF($DM100:ET100,$P100+$Q100)<$R100,$P100+$Q100,0)","v":0},{"$f":"IF(COUNTIF($DM100:EU100,$P100+$Q100)<$R100,$P100+$Q100,0)","v":0},{"$f":"IF(COUNTIF($DM100:EV100,$P100+$Q100)<$R100,$P100+$Q100,0)","v":0},{"$f":"IF(COUNTIF($DM100:EW100,$P100+$Q100)<$R100,$P100+$Q100,0)","v":0},{"$f":"IF(COUNTIF($DM100:EX100,$P100+$Q100)<$R100,$P100+$Q100,0)","v":0},{"$f":"IF(COUNTIF($DM100:EY100,$P100+$Q100)<$R100,$P100+$Q100,0)","v":0},-0.3,null,{"$f":"IF(LEFT(formulaTextCustom(G100),3)=\"=IF\",0,1)","v":0},{"$f":"IF(LEFT(formulaTextCustom(H100),3)=\"=IF\",0,1)","v":0},{"$f":"IF(LEFT(formulaTextCustom(I100),3)=\"=IF\",0,1)","v":0},{"$f":"IF(LEFT(formulaTextCustom(J100),3)=\"=IF\",0,1)","v":0},{"$f":"IF(LEFT(formulaTextCustom(K100),3)=\"=IF\",0,1)","v":0},{"$f":"IF(LEFT(formulaTextCustom(L100),3)=\"=IF\",0,1)","v":0},{"$f":"IF(LEFT(formulaTextCustom(M100),3)=\"=IF\",0,1)","v":0},{"$f":"IF(LEFT(formulaTextCustom(N100),3)=\"=IF\",0,1)","v":0},{"$f":"IF(LEFT(formulaTextCustom(O100),3)=\"=IF\",0,1)","v":0}]
[null,null,null,17,"",{"$f":"IF('P4P - Measure Info'!C39=\"Yes\",'P4P - Measure Info'!X39,0)","v":0},{"$f":"IF(H71=\"\",0,IF('P4P - General Info'!$C$21=\"Appendix G\",H70-H71,IF('P4P - General Info'!$C$21=\"ASHRAE bEq\",H71-H70,\"\")))","v":0},{"$f":"IF(J71=\"\",0,IF('P4P - General Info'!$C$21=\"Appendix G\",J70-J71,IF('P4P - General Info'!$C$21=\"ASHRAE bEq\",J71-J70,\"\")))","v":0},{"$f":"IF(K71=\"\",0,IF('P4P - General Info'!$C$21=\"Appendix G\",K70-K71,IF('P4P - General Info'!$C$21=\"ASHRAE bEq\",K71-K70,\"\")))","v":0},{"$f":"IF(L71=\"\",0,IF('P4P - General Info'!$C$21=\"Appendix G\",L70-L71,IF('P4P - General Info'!$C$21=\"ASHRAE bEq\",L71-L70,\"\")))","v":0},{"$f":"IF(M71=\"\",0,IF('P4P - General Info'!$C$21=\"Appendix G\",M70-M71,IF('P4P - General Info'!$C$21=\"ASHRAE bEq\",M71-M70,\"\")))","v":0},{"$f":"IF(N71=\"\",0,IF('P4P - General Info'!$C$21=\"Appendix G\",N70-N71,IF('P4P - General Info'!$C$21=\"ASHRAE bEq\",N71-N70,\"\")))","v":0},{"$f":"IF(O71=\"\",0,IF('P4P - General Info'!$C$21=\"Appendix G\",O70-O71,IF('P4P - General Info'!$C$21=\"ASHRAE bEq\",O71-O70,\"\")))","v":0},{"$f":"IF(P71=\"\",0,IF('P4P - General Info'!$C$21=\"Appendix G\",P70-P71,IF('P4P - General Info'!$C$21=\"ASHRAE bEq\",P71-P70,\"\")))","v":0},{"$f":"IF(I71=\"\",0,IF('P4P - General Info'!$C$21=\"Appendix G\",I70-I71,IF('P4P - General Info'!$C$21=\"ASHRAE bEq\",I71-I70,\"\")))","v":0},0,0,{"$f":"IF(E101=\"\",0,VLOOKUP('P4P - Measure Info'!F39,P4P_MeasureTable,3,FALSE))","v":0},0,0,0,null,null,null,{"$f":"IF('P4P - Measure Info'!C39=\"Yes\",'P4P - Measure Simulation'!Q101,0)","v":0},0,0,0,{"$f":"IF('P4P - Measure Info'!$C39=\"Yes\",'P4P - Measure Simulation'!G101,0)","v":0},0,0,0,0,0,0,0,0,0,0,{"$f":"IF('P4P - Measure Info'!$C39=\"Yes\",'P4P - Measure Simulation'!H101,0)","v":0},0,0,0,0,0,0,0,0,0,0,{"$f":"IF('P4P - Measure Info'!$C39=\"Yes\",'P4P - Measure Simulation'!I101,0)","v":0},0,0,0,0,0,0,0,0,0,0,{"$f":"IF('P4P - Measure Info'!$C39=\"Yes\",'P4P - Measure Simulation'!J101,0)","v":0},0,0,0,0,0,0,0,0,0,0,{"$f":"IF('P4P - Measure Info'!$C39=\"Yes\",'P4P - Measure Simulation'!K101,0)","v":0},0,0,0,0,0,0,0,0,0,0,{"$f":"IF('P4P - Measure Info'!$C39=\"Yes\",'P4P - Measure Simulation'!L101,0)","v":0},0,0,0,0,0,0,0,0,0,0,{"$f":"IF('P4P - Measure Info'!$C39=\"Yes\",'P4P - Measure Simulation'!M101,0)","v":0},0,0,0,0,0,0,0,0,0,0,{"$f":"IF('P4P - Measure Info'!$C39=\"Yes\",'P4P - Measure Simulation'!N101,0)","v":0},0,0,0,0,0,0,0,null,null,0,0,0,{"$f":"IF(COUNTIF($DM101:DN101,$P101+$Q101)<$R101,$P101+$Q101,0)","v":0},{"$f":"IF(COUNTIF($DM101:DO101,$P101+$Q101)<$R101,$P101+$Q101,0)","v":0},{"$f":"IF(COUNTIF($DM101:DP101,$P101+$Q101)<$R101,$P101+$Q101,0)","v":0},{"$f":"IF(COUNTIF($DM101:DQ101,$P101+$Q101)<$R101,$P101+$Q101,0)","v":0},{"$f":"IF(COUNTIF($DM101:DR101,$P101+$Q101)<$R101,$P101+$Q101,0)","v":0},{"$f":"IF(COUNTIF($DM101:DS101,$P101+$Q101)<$R101,$P101+$Q101,0)","v":0},{"$f":"IF(COUNTIF($DM101:DT101,$P101+$Q101)<$R101,$P101+$Q101,0)","v":0},{"$f":"IF(COUNTIF($DM101:DU101,$P101+$Q101)<$R101,$P101+$Q101,0)","v":0},{"$f":"IF(COUNTIF($DM101:DV101,$P101+$Q101)<$R101,$P101+$Q101,0)","v":0},{"$f":"IF(COUNTIF($DM101:DW101,$P101+$Q101)<$R101,$P101+$Q101,0)","v":0},{"$f":"IF(COUNTIF($DM101:DX101,$P101+$Q101)<$R101,$P101+$Q101,0)","v":0},{"$f":"IF(COUNTIF($DM101:DY101,$P101+$Q101)<$R101,$P101+$Q101,0)","v":0},{"$f":"IF(COUNTIF($DM101:DZ101,$P101+$Q101)<$R101,$P101+$Q101,0)","v":0},{"$f":"IF(COUNTIF($DM101:EA101,$P101+$Q101)<$R101,$P101+$Q101,0)","v":0},{"$f":"IF(COUNTIF($DM101:EB101,$P101+$Q101)<$R101,$P101+$Q101,0)","v":0},{"$f":"IF(COUNTIF($DM101:EC101,$P101+$Q101)<$R101,$P101+$Q101,0)","v":0},{"$f":"IF(COUNTIF($DM101:ED101,$P101+$Q101)<$R101,$P101+$Q101,0)","v":0},{"$f":"IF(COUNTIF($DM101:EE101,$P101+$Q101)<$R101,$P101+$Q101,0)","v":0},{"$f":"IF(COUNTIF($DM101:EF101,$P101+$Q101)<$R101,$P101+$Q101,0)","v":0},{"$f":"IF(COUNTIF($DM101:EG101,$P101+$Q101)<$R101,$P101+$Q101,0)","v":0},{"$f":"IF(COUNTIF($DM101:EH101,$P101+$Q101)<$R101,$P101+$Q101,0)","v":0},{"$f":"IF(COUNTIF($DM101:EI101,$P101+$Q101)<$R101,$P101+$Q101,0)","v":0},{"$f":"IF(COUNTIF($DM101:EJ101,$P101+$Q101)<$R101,$P101+$Q101,0)","v":0},{"$f":"IF(COUNTIF($DM101:EK101,$P101+$Q101)<$R101,$P101+$Q101,0)","v":0},{"$f":"IF(COUNTIF($DM101:EL101,$P101+$Q101)<$R101,$P101+$Q101,0)","v":0},{"$f":"IF(COUNTIF($DM101:EM101,$P101+$Q101)<$R101,$P101+$Q101,0)","v":0},{"$f":"IF(COUNTIF($DM101:EN101,$P101+$Q101)<$R101,$P101+$Q101,0)","v":0},{"$f":"IF(COUNTIF($DM101:EO101,$P101+$Q101)<$R101,$P101+$Q101,0)","v":0},{"$f":"IF(COUNTIF($DM101:EP101,$P101+$Q101)<$R101,$P101+$Q101,0)","v":0},{"$f":"IF(COUNTIF($DM101:EQ101,$P101+$Q101)<$R101,$P101+$Q101,0)","v":0},{"$f":"IF(COUNTIF($DM101:ER101,$P101+$Q101)<$R101,$P101+$Q101,0)","v":0},{"$f":"IF(COUNTIF($DM101:ES101,$P101+$Q101)<$R101,$P101+$Q101,0)","v":0},{"$f":"IF(COUNTIF($DM101:ET101,$P101+$Q101)<$R101,$P101+$Q101,0)","v":0},{"$f":"IF(COUNTIF($DM101:EU101,$P101+$Q101)<$R101,$P101+$Q101,0)","v":0},{"$f":"IF(COUNTIF($DM101:EV101,$P101+$Q101)<$R101,$P101+$Q101,0)","v":0},{"$f":"IF(COUNTIF($DM101:EW101,$P101+$Q101)<$R101,$P101+$Q101,0)","v":0},{"$f":"IF(COUNTIF($DM101:EX101,$P101+$Q101)<$R101,$P101+$Q101,0)","v":0},{"$f":"IF(COUNTIF($DM101:EY101,$P101+$Q101)<$R101,$P101+$Q101,0)","v":0},-0.3,null,{"$f":"IF(LEFT(formulaTextCustom(G101),3)=\"=IF\",0,1)","v":0},{"$f":"IF(LEFT(formulaTextCustom(H101),3)=\"=IF\",0,1)","v":0},{"$f":"IF(LEFT(formulaTextCustom(I101),3)=\"=IF\",0,1)","v":0},{"$f":"IF(LEFT(formulaTextCustom(J101),3)=\"=IF\",0,1)","v":0},{"$f":"IF(LEFT(formulaTextCustom(K101),3)=\"=IF\",0,1)","v":0},{"$f":"IF(LEFT(formulaTextCustom(L101),3)=\"=IF\",0,1)","v":0},{"$f":"IF(LEFT(formulaTextCustom(M101),3)=\"=IF\",0,1)","v":0},{"$f":"IF(LEFT(formulaTextCustom(N101),3)=\"=IF\",0,1)","v":0},{"$f":"IF(LEFT(formulaTextCustom(O101),3)=\"=IF\",0,1)","v":0}]
[null,null,null,18,"",{"$f":"IF('P4P - Measure Info'!C40=\"Yes\",'P4P - Measure Info'!X40,0)","v":0},{"$f":"IF(H72=\"\",0,IF('P4P - General Info'!$C$21=\"Appendix G\",H71-H72,IF('P4P - General Info'!$C$21=\"ASHRAE bEq\",H72-H71,\"\")))","v":0},{"$f":"IF(J72=\"\",0,IF('P4P - General Info'!$C$21=\"Appendix G\",J71-J72,IF('P4P - General Info'!$C$21=\"ASHRAE bEq\",J72-J71,\"\")))","v":0},{"$f":"IF(K72=\"\",0,IF('P4P - General Info'!$C$21=\"Appendix G\",K71-K72,IF('P4P - General Info'!$C$21=\"ASHRAE bEq\",K72-K71,\"\")))","v":0},{"$f":"IF(L72=\"\",0,IF('P4P - General Info'!$C$21=\"Appendix G\",L71-L72,IF('P4P - General Info'!$C$21=\"ASHRAE bEq\",L72-L71,\"\")))","v":0},{"$f":"IF(M72=\"\",0,IF('P4P - General Info'!$C$21=\"Appendix G\",M71-M72,IF('P4P - General Info'!$C$21=\"ASHRAE bEq\",M72-M71,\"\")))","v":0},{"$f":"IF(N72=\"\",0,IF('P4P - General Info'!$C$21=\"Appendix G\",N71-N72,IF('P4P - General Info'!$C$21=\"ASHRAE bEq\",N72-N71,\"\")))","v":0},{"$f":"IF(O72=\"\",0,IF('P4P - General Info'!$C$21=\"Appendix G\",O71-O72,IF('P4P - General Info'!$C$21=\"ASHRAE bEq\",O72-O71,\"\")))","v":0},{"$f":"IF(P72=\"\",0,IF('P4P - General Info'!$C$21=\"Appendix G\",P71-P72,IF('P4P - General Info'!$C$21=\"ASHRAE bEq\",P72-P71,\"\")))","v":0},{"$f":"IF(I72=\"\",0,IF('P4P - General Info'!$C$21=\"Appendix G\",I71-I72,IF('P4P - General Info'!$C$21=\"ASHRAE bEq\",I72-I71,\"\")))","v":0},0,0,{"$f":"IF(E102=\"\",0,VLOOKUP('P4P - Measure Info'!F40,P4P_MeasureTable,3,FALSE))","v":0},0,0,0,null,null,null,{"$f":"IF('P4P - Measure Info'!C40=\"Yes\",'P4P - Measure Simulation'!Q102,0)","v":0},0,0,0,{"$f":"IF('P4P - Measure Info'!$C40=\"Yes\",'P4P - Measure Simulation'!G102,0)","v":0},0,0,0,0,0,0,0,0,0,0,{"$f":"IF('P4P - Measure Info'!$C40=\"Yes\",'P4P - Measure Simulation'!H102,0)","v":0},0,0,0,0,0,0,0,0,0,0,{"$f":"IF('P4P - Measure Info'!$C40=\"Yes\",'P4P - Measure Simulation'!I102,0)","v":0},0,0,0,0,0,0,0,0,0,0,{"$f":"IF('P4P - Measure Info'!$C40=\"Yes\",'P4P - Measure Simulation'!J102,0)","v":0},0,0,0,0,0,0,0,0,0,0,{"$f":"IF('P4P - Measure Info'!$C40=\"Yes\",'P4P - Measure Simulation'!K102,0)","v":0},0,0,0,0,0,0,0,0,0,0,{"$f":"IF('P4P - Measure Info'!$C40=\"Yes\",'P4P - Measure Simulation'!L102,0)","v":0},0,0,0,0,0,0,0,0,0,0,{"$f":"IF('P4P - Measure Info'!$C40=\"Yes\",'P4P - Measure Simulation'!M102,0)","v":0},0,0,0,0,0,0,0,0,0,0,{"$f":"IF('P4P - Measure Info'!$C40=\"Yes\",'P4P - Measure Simulation'!N102,0)","v":0},0,0,0,0,0,0,0,null,null,0,0,0,{"$f":"IF(COUNTIF($DM102:DN102,$P102+$Q102)<$R102,$P102+$Q102,0)","v":0},{"$f":"IF(COUNTIF($DM102:DO102,$P102+$Q102)<$R102,$P102+$Q102,0)","v":0},{"$f":"IF(COUNTIF($DM102:DP102,$P102+$Q102)<$R102,$P102+$Q102,0)","v":0},{"$f":"IF(COUNTIF($DM102:DQ102,$P102+$Q102)<$R102,$P102+$Q102,0)","v":0},{"$f":"IF(COUNTIF($DM102:DR102,$P102+$Q102)<$R102,$P102+$Q102,0)","v":0},{"$f":"IF(COUNTIF($DM102:DS102,$P102+$Q102)<$R102,$P102+$Q102,0)","v":0},{"$f":"IF(COUNTIF($DM102:DT102,$P102+$Q102)<$R102,$P102+$Q102,0)","v":0},{"$f":"IF(COUNTIF($DM102:DU102,$P102+$Q102)<$R102,$P102+$Q102,0)","v":0},{"$f":"IF(COUNTIF($DM102:DV102,$P102+$Q102)<$R102,$P102+$Q102,0)","v":0},{"$f":"IF(COUNTIF($DM102:DW102,$P102+$Q102)<$R102,$P102+$Q102,0)","v":0},{"$f":"IF(COUNTIF($DM102:DX102,$P102+$Q102)<$R102,$P102+$Q102,0)","v":0},{"$f":"IF(COUNTIF($DM102:DY102,$P102+$Q102)<$R102,$P102+$Q102,0)","v":0},{"$f":"IF(COUNTIF($DM102:DZ102,$P102+$Q102)<$R102,$P102+$Q102,0)","v":0},{"$f":"IF(COUNTIF($DM102:EA102,$P102+$Q102)<$R102,$P102+$Q102,0)","v":0},{"$f":"IF(COUNTIF($DM102:EB102,$P102+$Q102)<$R102,$P102+$Q102,0)","v":0},{"$f":"IF(COUNTIF($DM102:EC102,$P102+$Q102)<$R102,$P102+$Q102,0)","v":0},{"$f":"IF(COUNTIF($DM102:ED102,$P102+$Q102)<$R102,$P102+$Q102,0)","v":0},{"$f":"IF(COUNTIF($DM102:EE102,$P102+$Q102)<$R102,$P102+$Q102,0)","v":0},{"$f":"IF(COUNTIF($DM102:EF102,$P102+$Q102)<$R102,$P102+$Q102,0)","v":0},{"$f":"IF(COUNTIF($DM102:EG102,$P102+$Q102)<$R102,$P102+$Q102,0)","v":0},{"$f":"IF(COUNTIF($DM102:EH102,$P102+$Q102)<$R102,$P102+$Q102,0)","v":0},{"$f":"IF(COUNTIF($DM102:EI102,$P102+$Q102)<$R102,$P102+$Q102,0)","v":0},{"$f":"IF(COUNTIF($DM102:EJ102,$P102+$Q102)<$R102,$P102+$Q102,0)","v":0},{"$f":"IF(COUNTIF($DM102:EK102,$P102+$Q102)<$R102,$P102+$Q102,0)","v":0},{"$f":"IF(COUNTIF($DM102:EL102,$P102+$Q102)<$R102,$P102+$Q102,0)","v":0},{"$f":"IF(COUNTIF($DM102:EM102,$P102+$Q102)<$R102,$P102+$Q102,0)","v":0},{"$f":"IF(COUNTIF($DM102:EN102,$P102+$Q102)<$R102,$P102+$Q102,0)","v":0},{"$f":"IF(COUNTIF($DM102:EO102,$P102+$Q102)<$R102,$P102+$Q102,0)","v":0},{"$f":"IF(COUNTIF($DM102:EP102,$P102+$Q102)<$R102,$P102+$Q102,0)","v":0},{"$f":"IF(COUNTIF($DM102:EQ102,$P102+$Q102)<$R102,$P102+$Q102,0)","v":0},{"$f":"IF(COUNTIF($DM102:ER102,$P102+$Q102)<$R102,$P102+$Q102,0)","v":0},{"$f":"IF(COUNTIF($DM102:ES102,$P102+$Q102)<$R102,$P102+$Q102,0)","v":0},{"$f":"IF(COUNTIF($DM102:ET102,$P102+$Q102)<$R102,$P102+$Q102,0)","v":0},{"$f":"IF(COUNTIF($DM102:EU102,$P102+$Q102)<$R102,$P102+$Q102,0)","v":0},{"$f":"IF(COUNTIF($DM102:EV102,$P102+$Q102)<$R102,$P102+$Q102,0)","v":0},{"$f":"IF(COUNTIF($DM102:EW102,$P102+$Q102)<$R102,$P102+$Q102,0)","v":0},{"$f":"IF(COUNTIF($DM102:EX102,$P102+$Q102)<$R102,$P102+$Q102,0)","v":0},{"$f":"IF(COUNTIF($DM102:EY102,$P102+$Q102)<$R102,$P102+$Q102,0)","v":0},-0.3,null,{"$f":"IF(LEFT(formulaTextCustom(G102),3)=\"=IF\",0,1)","v":0},{"$f":"IF(LEFT(formulaTextCustom(H102),3)=\"=IF\",0,1)","v":0},{"$f":"IF(LEFT(formulaTextCustom(I102),3)=\"=IF\",0,1)","v":0},{"$f":"IF(LEFT(formulaTextCustom(J102),3)=\"=IF\",0,1)","v":0},{"$f":"IF(LEFT(formulaTextCustom(K102),3)=\"=IF\",0,1)","v":0},{"$f":"IF(LEFT(formulaTextCustom(L102),3)=\"=IF\",0,1)","v":0},{"$f":"IF(LEFT(formulaTextCustom(M102),3)=\"=IF\",0,1)","v":0},{"$f":"IF(LEFT(formulaTextCustom(N102),3)=\"=IF\",0,1)","v":0},{"$f":"IF(LEFT(formulaTextCustom(O102),3)=\"=IF\",0,1)","v":0}]
[null,null,null,19,"",{"$f":"IF('P4P - Measure Info'!C41=\"Yes\",'P4P - Measure Info'!X41,0)","v":0},{"$f":"IF(H73=\"\",0,IF('P4P - General Info'!$C$21=\"Appendix G\",H72-H73,IF('P4P - General Info'!$C$21=\"ASHRAE bEq\",H73-H72,\"\")))","v":0},{"$f":"IF(J73=\"\",0,IF('P4P - General Info'!$C$21=\"Appendix G\",J72-J73,IF('P4P - General Info'!$C$21=\"ASHRAE bEq\",J73-J72,\"\")))","v":0},{"$f":"IF(K73=\"\",0,IF('P4P - General Info'!$C$21=\"Appendix G\",K72-K73,IF('P4P - General Info'!$C$21=\"ASHRAE bEq\",K73-K72,\"\")))","v":0},{"$f":"IF(L73=\"\",0,IF('P4P - General Info'!$C$21=\"Appendix G\",L72-L73,IF('P4P - General Info'!$C$21=\"ASHRAE bEq\",L73-L72,\"\")))","v":0},{"$f":"IF(M73=\"\",0,IF('P4P - General Info'!$C$21=\"Appendix G\",M72-M73,IF('P4P - General Info'!$C$21=\"ASHRAE bEq\",M73-M72,\"\")))","v":0},{"$f":"IF(N73=\"\",0,IF('P4P - General Info'!$C$21=\"Appendix G\",N72-N73,IF('P4P - General Info'!$C$21=\"ASHRAE bEq\",N73-N72,\"\")))","v":0},{"$f":"IF(O73=\"\",0,IF('P4P - General Info'!$C$21=\"Appendix G\",O72-O73,IF('P4P - General Info'!$C$21=\"ASHRAE bEq\",O73-O72,\"\")))","v":0},{"$f":"IF(P73=\"\",0,IF('P4P - General Info'!$C$21=\"Appendix G\",P72-P73,IF('P4P - General Info'!$C$21=\"ASHRAE bEq\",P73-P72,\"\")))","v":0},{"$f":"IF(I73=\"\",0,IF('P4P - General Info'!$C$21=\"Appendix G\",I72-I73,IF('P4P - General Info'!$C$21=\"ASHRAE bEq\",I73-I72,\"\")))","v":0},0,0,{"$f":"IF(E103=\"\",0,VLOOKUP('P4P - Measure Info'!F41,P4P_MeasureTable,3,FALSE))","v":0},0,0,0,null,null,null,{"$f":"IF('P4P - Measure Info'!C41=\"Yes\",'P4P - Measure Simulation'!Q103,0)","v":0},0,0,0,{"$f":"IF('P4P - Measure Info'!$C41=\"Yes\",'P4P - Measure Simulation'!G103,0)","v":0},0,0,0,0,0,0,0,0,0,0,{"$f":"IF('P4P - Measure Info'!$C41=\"Yes\",'P4P - Measure Simulation'!H103,0)","v":0},0,0,0,0,0,0,0,0,0,0,{"$f":"IF('P4P - Measure Info'!$C41=\"Yes\",'P4P - Measure Simulation'!I103,0)","v":0},0,0,0,0,0,0,0,0,0,0,{"$f":"IF('P4P - Measure Info'!$C41=\"Yes\",'P4P - Measure Simulation'!J103,0)","v":0},0,0,0,0,0,0,0,0,0,0,{"$f":"IF('P4P - Measure Info'!$C41=\"Yes\",'P4P - Measure Simulation'!K103,0)","v":0},0,0,0,0,0,0,0,0,0,0,{"$f":"IF('P4P - Measure Info'!$C41=\"Yes\",'P4P - Measure Simulation'!L103,0)","v":0},0,0,0,0,0,0,0,0,0,0,{"$f":"IF('P4P - Measure Info'!$C41=\"Yes\",'P4P - Measure Simulation'!M103,0)","v":0},0,0,0,0,0,0,0,0,0,0,{"$f":"IF('P4P - Measure Info'!$C41=\"Yes\",'P4P - Measure Simulation'!N103,0)","v":0},0,0,0,0,0,0,0,null,null,0,0,0,{"$f":"IF(COUNTIF($DM103:DN103,$P103+$Q103)<$R103,$P103+$Q103,0)","v":0},{"$f":"IF(COUNTIF($DM103:DO103,$P103+$Q103)<$R103,$P103+$Q103,0)","v":0},{"$f":"IF(COUNTIF($DM103:DP103,$P103+$Q103)<$R103,$P103+$Q103,0)","v":0},{"$f":"IF(COUNTIF($DM103:DQ103,$P103+$Q103)<$R103,$P103+$Q103,0)","v":0},{"$f":"IF(COUNTIF($DM103:DR103,$P103+$Q103)<$R103,$P103+$Q103,0)","v":0},{"$f":"IF(COUNTIF($DM103:DS103,$P103+$Q103)<$R103,$P103+$Q103,0)","v":0},{"$f":"IF(COUNTIF($DM103:DT103,$P103+$Q103)<$R103,$P103+$Q103,0)","v":0},{"$f":"IF(COUNTIF($DM103:DU103,$P103+$Q103)<$R103,$P103+$Q103,0)","v":0},{"$f":"IF(COUNTIF($DM103:DV103,$P103+$Q103)<$R103,$P103+$Q103,0)","v":0},{"$f":"IF(COUNTIF($DM103:DW103,$P103+$Q103)<$R103,$P103+$Q103,0)","v":0},{"$f":"IF(COUNTIF($DM103:DX103,$P103+$Q103)<$R103,$P103+$Q103,0)","v":0},{"$f":"IF(COUNTIF($DM103:DY103,$P103+$Q103)<$R103,$P103+$Q103,0)","v":0},{"$f":"IF(COUNTIF($DM103:DZ103,$P103+$Q103)<$R103,$P103+$Q103,0)","v":0},{"$f":"IF(COUNTIF($DM103:EA103,$P103+$Q103)<$R103,$P103+$Q103,0)","v":0},{"$f":"IF(COUNTIF($DM103:EB103,$P103+$Q103)<$R103,$P103+$Q103,0)","v":0},{"$f":"IF(COUNTIF($DM103:EC103,$P103+$Q103)<$R103,$P103+$Q103,0)","v":0},{"$f":"IF(COUNTIF($DM103:ED103,$P103+$Q103)<$R103,$P103+$Q103,0)","v":0},{"$f":"IF(COUNTIF($DM103:EE103,$P103+$Q103)<$R103,$P103+$Q103,0)","v":0},{"$f":"IF(COUNTIF($DM103:EF103,$P103+$Q103)<$R103,$P103+$Q103,0)","v":0},{"$f":"IF(COUNTIF($DM103:EG103,$P103+$Q103)<$R103,$P103+$Q103,0)","v":0},{"$f":"IF(COUNTIF($DM103:EH103,$P103+$Q103)<$R103,$P103+$Q103,0)","v":0},{"$f":"IF(COUNTIF($DM103:EI103,$P103+$Q103)<$R103,$P103+$Q103,0)","v":0},{"$f":"IF(COUNTIF($DM103:EJ103,$P103+$Q103)<$R103,$P103+$Q103,0)","v":0},{"$f":"IF(COUNTIF($DM103:EK103,$P103+$Q103)<$R103,$P103+$Q103,0)","v":0},{"$f":"IF(COUNTIF($DM103:EL103,$P103+$Q103)<$R103,$P103+$Q103,0)","v":0},{"$f":"IF(COUNTIF($DM103:EM103,$P103+$Q103)<$R103,$P103+$Q103,0)","v":0},{"$f":"IF(COUNTIF($DM103:EN103,$P103+$Q103)<$R103,$P103+$Q103,0)","v":0},{"$f":"IF(COUNTIF($DM103:EO103,$P103+$Q103)<$R103,$P103+$Q103,0)","v":0},{"$f":"IF(COUNTIF($DM103:EP103,$P103+$Q103)<$R103,$P103+$Q103,0)","v":0},{"$f":"IF(COUNTIF($DM103:EQ103,$P103+$Q103)<$R103,$P103+$Q103,0)","v":0},{"$f":"IF(COUNTIF($DM103:ER103,$P103+$Q103)<$R103,$P103+$Q103,0)","v":0},{"$f":"IF(COUNTIF($DM103:ES103,$P103+$Q103)<$R103,$P103+$Q103,0)","v":0},{"$f":"IF(COUNTIF($DM103:ET103,$P103+$Q103)<$R103,$P103+$Q103,0)","v":0},{"$f":"IF(COUNTIF($DM103:EU103,$P103+$Q103)<$R103,$P103+$Q103,0)","v":0},{"$f":"IF(COUNTIF($DM103:EV103,$P103+$Q103)<$R103,$P103+$Q103,0)","v":0},{"$f":"IF(COUNTIF($DM103:EW103,$P103+$Q103)<$R103,$P103+$Q103,0)","v":0},{"$f":"IF(COUNTIF($DM103:EX103,$P103+$Q103)<$R103,$P103+$Q103,0)","v":0},{"$f":"IF(COUNTIF($DM103:EY103,$P103+$Q103)<$R103,$P103+$Q103,0)","v":0},-0.3,null,{"$f":"IF(LEFT(formulaTextCustom(G103),3)=\"=IF\",0,1)","v":0},{"$f":"IF(LEFT(formulaTextCustom(H103),3)=\"=IF\",0,1)","v":0},{"$f":"IF(LEFT(formulaTextCustom(I103),3)=\"=IF\",0,1)","v":0},{"$f":"IF(LEFT(formulaTextCustom(J103),3)=\"=IF\",0,1)","v":0},{"$f":"IF(LEFT(formulaTextCustom(K103),3)=\"=IF\",0,1)","v":0},{"$f":"IF(LEFT(formulaTextCustom(L103),3)=\"=IF\",0,1)","v":0},{"$f":"IF(LEFT(formulaTextCustom(M103),3)=\"=IF\",0,1)","v":0},{"$f":"IF(LEFT(formulaTextCustom(N103),3)=\"=IF\",0,1)","v":0},{"$f":"IF(LEFT(formulaTextCustom(O103),3)=\"=IF\",0,1)","v":0},null,"kW Measure Baseline","kW Measure Proposed"]
[null,null,null,20,"",{"$f":"IF('P4P - Measure Info'!C42=\"Yes\",'P4P - Measure Info'!X42,0)","v":0},{"$f":"IF(H74=\"\",0,IF('P4P - General Info'!$C$21=\"Appendix G\",H73-H74,IF('P4P - General Info'!$C$21=\"ASHRAE bEq\",H74-H73,\"\")))","v":0},{"$f":"IF(J74=\"\",0,IF('P4P - General Info'!$C$21=\"Appendix G\",J73-J74,IF('P4P - General Info'!$C$21=\"ASHRAE bEq\",J74-J73,\"\")))","v":0},{"$f":"IF(K74=\"\",0,IF('P4P - General Info'!$C$21=\"Appendix G\",K73-K74,IF('P4P - General Info'!$C$21=\"ASHRAE bEq\",K74-K73,\"\")))","v":0},{"$f":"IF(L74=\"\",0,IF('P4P - General Info'!$C$21=\"Appendix G\",L73-L74,IF('P4P - General Info'!$C$21=\"ASHRAE bEq\",L74-L73,\"\")))","v":0},{"$f":"IF(M74=\"\",0,IF('P4P - General Info'!$C$21=\"Appendix G\",M73-M74,IF('P4P - General Info'!$C$21=\"ASHRAE bEq\",M74-M73,\"\")))","v":0},{"$f":"IF(N74=\"\",0,IF('P4P - General Info'!$C$21=\"Appendix G\",N73-N74,IF('P4P - General Info'!$C$21=\"ASHRAE bEq\",N74-N73,\"\")))","v":0},{"$f":"IF(O74=\"\",0,IF('P4P - General Info'!$C$21=\"Appendix G\",O73-O74,IF('P4P - General Info'!$C$21=\"ASHRAE bEq\",O74-O73,\"\")))","v":0},{"$f":"IF(P74=\"\",0,IF('P4P - General Info'!$C$21=\"Appendix G\",P73-P74,IF('P4P - General Info'!$C$21=\"ASHRAE bEq\",P74-P73,\"\")))","v":0},{"$f":"IF(I74=\"\",0,IF('P4P - General Info'!$C$21=\"Appendix G\",I73-I74,IF('P4P - General Info'!$C$21=\"ASHRAE bEq\",I74-I73,\"\")))","v":0},0,0,{"$f":"IF(E104=\"\",0,VLOOKUP('P4P - Measure Info'!F42,P4P_MeasureTable,3,FALSE))","v":0},0,0,0,null,null,null,{"$f":"IF('P4P - Measure Info'!C42=\"Yes\",'P4P - Measure Simulation'!Q104,0)","v":0},0,0,0,{"$f":"IF('P4P - Measure Info'!$C42=\"Yes\",'P4P - Measure Simulation'!G104,0)","v":0},0,0,0,0,0,0,0,0,0,0,{"$f":"IF('P4P - Measure Info'!$C42=\"Yes\",'P4P - Measure Simulation'!H104,0)","v":0},0,0,0,0,0,0,0,0,0,0,{"$f":"IF('P4P - Measure Info'!$C42=\"Yes\",'P4P - Measure Simulation'!I104,0)","v":0},0,0,0,0,0,0,0,0,0,0,{"$f":"IF('P4P - Measure Info'!$C42=\"Yes\",'P4P - Measure Simulation'!J104,0)","v":0},0,0,0,0,0,0,0,0,0,0,{"$f":"IF('P4P - Measure Info'!$C42=\"Yes\",'P4P - Measure Simulation'!K104,0)","v":0},0,0,0,0,0,0,0,0,0,0,{"$f":"IF('P4P - Measure Info'!$C42=\"Yes\",'P4P - Measure Simulation'!L104,0)","v":0},0,0,0,0,0,0,0,0,0,0,{"$f":"IF('P4P - Measure Info'!$C42=\"Yes\",'P4P - Measure Simulation'!M104,0)","v":0},0,0,0,0,0,0,0,0,0,0,{"$f":"IF('P4P - Measure Info'!$C42=\"Yes\",'P4P - Measure Simulation'!N104,0)","v":0},0,0,0,0,0,0,0,null,null,0,0,0,{"$f":"IF(COUNTIF($DM104:DN104,$P104+$Q104)<$R104,$P104+$Q104,0)","v":0},{"$f":"IF(COUNTIF($DM104:DO104,$P104+$Q104)<$R104,$P104+$Q104,0)","v":0},{"$f":"IF(COUNTIF($DM104:DP104,$P104+$Q104)<$R104,$P104+$Q104,0)","v":0},{"$f":"IF(COUNTIF($DM104:DQ104,$P104+$Q104)<$R104,$P104+$Q104,0)","v":0},{"$f":"IF(COUNTIF($DM104:DR104,$P104+$Q104)<$R104,$P104+$Q104,0)","v":0},{"$f":"IF(COUNTIF($DM104:DS104,$P104+$Q104)<$R104,$P104+$Q104,0)","v":0},{"$f":"IF(COUNTIF($DM104:DT104,$P104+$Q104)<$R104,$P104+$Q104,0)","v":0},{"$f":"IF(COUNTIF($DM104:DU104,$P104+$Q104)<$R104,$P104+$Q104,0)","v":0},{"$f":"IF(COUNTIF($DM104:DV104,$P104+$Q104)<$R104,$P104+$Q104,0)","v":0},{"$f":"IF(COUNTIF($DM104:DW104,$P104+$Q104)<$R104,$P104+$Q104,0)","v":0},{"$f":"IF(COUNTIF($DM104:DX104,$P104+$Q104)<$R104,$P104+$Q104,0)","v":0},{"$f":"IF(COUNTIF($DM104:DY104,$P104+$Q104)<$R104,$P104+$Q104,0)","v":0},{"$f":"IF(COUNTIF($DM104:DZ104,$P104+$Q104)<$R104,$P104+$Q104,0)","v":0},{"$f":"IF(COUNTIF($DM104:EA104,$P104+$Q104)<$R104,$P104+$Q104,0)","v":0},{"$f":"IF(COUNTIF($DM104:EB104,$P104+$Q104)<$R104,$P104+$Q104,0)","v":0},{"$f":"IF(COUNTIF($DM104:EC104,$P104+$Q104)<$R104,$P104+$Q104,0)","v":0},{"$f":"IF(COUNTIF($DM104:ED104,$P104+$Q104)<$R104,$P104+$Q104,0)","v":0},{"$f":"IF(COUNTIF($DM104:EE104,$P104+$Q104)<$R104,$P104+$Q104,0)","v":0},{"$f":"IF(COUNTIF($DM104:EF104,$P104+$Q104)<$R104,$P104+$Q104,0)","v":0},{"$f":"IF(COUNTIF($DM104:EG104,$P104+$Q104)<$R104,$P104+$Q104,0)","v":0},{"$f":"IF(COUNTIF($DM104:EH104,$P104+$Q104)<$R104,$P104+$Q104,0)","v":0},{"$f":"IF(COUNTIF($DM104:EI104,$P104+$Q104)<$R104,$P104+$Q104,0)","v":0},{"$f":"IF(COUNTIF($DM104:EJ104,$P104+$Q104)<$R104,$P104+$Q104,0)","v":0},{"$f":"IF(COUNTIF($DM104:EK104,$P104+$Q104)<$R104,$P104+$Q104,0)","v":0},{"$f":"IF(COUNTIF($DM104:EL104,$P104+$Q104)<$R104,$P104+$Q104,0)","v":0},{"$f":"IF(COUNTIF($DM104:EM104,$P104+$Q104)<$R104,$P104+$Q104,0)","v":0},{"$f":"IF(COUNTIF($DM104:EN104,$P104+$Q104)<$R104,$P104+$Q104,0)","v":0},{"$f":"IF(COUNTIF($DM104:EO104,$P104+$Q104)<$R104,$P104+$Q104,0)","v":0},{"$f":"IF(COUNTIF($DM104:EP104,$P104+$Q104)<$R104,$P104+$Q104,0)","v":0},{"$f":"IF(COUNTIF($DM104:EQ104,$P104+$Q104)<$R104,$P104+$Q104,0)","v":0},{"$f":"IF(COUNTIF($DM104:ER104,$P104+$Q104)<$R104,$P104+$Q104,0)","v":0},{"$f":"IF(COUNTIF($DM104:ES104,$P104+$Q104)<$R104,$P104+$Q104,0)","v":0},{"$f":"IF(COUNTIF($DM104:ET104,$P104+$Q104)<$R104,$P104+$Q104,0)","v":0},{"$f":"IF(COUNTIF($DM104:EU104,$P104+$Q104)<$R104,$P104+$Q104,0)","v":0},{"$f":"IF(COUNTIF($DM104:EV104,$P104+$Q104)<$R104,$P104+$Q104,0)","v":0},{"$f":"IF(COUNTIF($DM104:EW104,$P104+$Q104)<$R104,$P104+$Q104,0)","v":0},{"$f":"IF(COUNTIF($DM104:EX104,$P104+$Q104)<$R104,$P104+$Q104,0)","v":0},{"$f":"IF(COUNTIF($DM104:EY104,$P104+$Q104)<$R104,$P104+$Q104,0)","v":0},-0.3,null,{"$f":"IF(LEFT(formulaTextCustom(G104),3)=\"=IF\",0,1)","v":0},{"$f":"IF(LEFT(formulaTextCustom(H104),3)=\"=IF\",0,1)","v":0},{"$f":"IF(LEFT(formulaTextCustom(I104),3)=\"=IF\",0,1)","v":0},{"$f":"IF(LEFT(formulaTextCustom(J104),3)=\"=IF\",0,1)","v":0},{"$f":"IF(LEFT(formulaTextCustom(K104),3)=\"=IF\",0,1)","v":0},{"$f":"IF(LEFT(formulaTextCustom(L104),3)=\"=IF\",0,1)","v":0},{"$f":"IF(LEFT(formulaTextCustom(M104),3)=\"=IF\",0,1)","v":0},{"$f":"IF(LEFT(formulaTextCustom(N104),3)=\"=IF\",0,1)","v":0},{"$f":"IF(LEFT(formulaTextCustom(O104),3)=\"=IF\",0,1)","v":0},null,{"$f":"V27","v":0},{"$f":"W27","v":0}]
[null,null,null,21,"",{"$f":"IF('P4P - Measure Info'!C43=\"Yes\",'P4P - Measure Info'!X43,0)","v":0},{"$f":"IF(H75=\"\",0,IF('P4P - General Info'!$C$21=\"Appendix G\",H74-H75,IF('P4P - General Info'!$C$21=\"ASHRAE bEq\",H75-H74,\"\")))","v":0},{"$f":"IF(J75=\"\",0,IF('P4P - General Info'!$C$21=\"Appendix G\",J74-J75,IF('P4P - General Info'!$C$21=\"ASHRAE bEq\",J75-J74,\"\")))","v":0},{"$f":"IF(K75=\"\",0,IF('P4P - General Info'!$C$21=\"Appendix G\",K74-K75,IF('P4P - General Info'!$C$21=\"ASHRAE bEq\",K75-K74,\"\")))","v":0},{"$f":"IF(L75=\"\",0,IF('P4P - General Info'!$C$21=\"Appendix G\",L74-L75,IF('P4P - General Info'!$C$21=\"ASHRAE bEq\",L75-L74,\"\")))","v":0},{"$f":"IF(M75=\"\",0,IF('P4P - General Info'!$C$21=\"Appendix G\",M74-M75,IF('P4P - General Info'!$C$21=\"ASHRAE bEq\",M75-M74,\"\")))","v":0},{"$f":"IF(N75=\"\",0,IF('P4P - General Info'!$C$21=\"Appendix G\",N74-N75,IF('P4P - General Info'!$C$21=\"ASHRAE bEq\",N75-N74,\"\")))","v":0},{"$f":"IF(O75=\"\",0,IF('P4P - General Info'!$C$21=\"Appendix G\",O74-O75,IF('P4P - General Info'!$C$21=\"ASHRAE bEq\",O75-O74,\"\")))","v":0},{"$f":"IF(P75=\"\",0,IF('P4P - General Info'!$C$21=\"Appendix G\",P74-P75,IF('P4P - General Info'!$C$21=\"ASHRAE bEq\",P75-P74,\"\")))","v":0},{"$f":"IF(I75=\"\",0,IF('P4P - General Info'!$C$21=\"Appendix G\",I74-I75,IF('P4P - General Info'!$C$21=\"ASHRAE bEq\",I75-I74,\"\")))","v":0},0,0,{"$f":"IF(E105=\"\",0,VLOOKUP('P4P - Measure Info'!F43,P4P_MeasureTable,3,FALSE))","v":0},{"$f":"IF(Q105=0,0,F105/(SY42+Q105))","v":0},0,0,null,null,null,{"$f":"IF('P4P - Measure Info'!C43=\"Yes\",'P4P - Measure Simulation'!Q105,0)","v":0},0,0,0,{"$f":"IF('P4P - Measure Info'!$C43=\"Yes\",'P4P - Measure Simulation'!G105,0)","v":0},0,0,0,0,0,0,0,0,0,0,{"$f":"IF('P4P - Measure Info'!$C43=\"Yes\",'P4P - Measure Simulation'!H105,0)","v":0},0,0,0,0,0,0,0,0,0,0,{"$f":"IF('P4P - Measure Info'!$C43=\"Yes\",'P4P - Measure Simulation'!I105,0)","v":0},0,0,0,0,0,0,0,0,0,0,{"$f":"IF('P4P - Measure Info'!$C43=\"Yes\",'P4P - Measure Simulation'!J105,0)","v":0},0,0,0,0,0,0,0,0,0,0,{"$f":"IF('P4P - Measure Info'!$C43=\"Yes\",'P4P - Measure Simulation'!K105,0)","v":0},0,0,0,0,0,0,0,0,0,0,{"$f":"IF('P4P - Measure Info'!$C43=\"Yes\",'P4P - Measure Simulation'!L105,0)","v":0},0,0,0,0,0,0,0,0,0,0,{"$f":"IF('P4P - Measure Info'!$C43=\"Yes\",'P4P - Measure Simulation'!M105,0)","v":0},0,0,0,0,0,0,0,0,0,0,{"$f":"IF('P4P - Measure Info'!$C43=\"Yes\",'P4P - Measure Simulation'!N105,0)","v":0},0,0,0,0,0,0,0,null,null,0,0,0,{"$f":"IF(COUNTIF($DM105:DN105,$P105+$Q105)<$R105,$P105+$Q105,0)","v":0},{"$f":"IF(COUNTIF($DM105:DO105,$P105+$Q105)<$R105,$P105+$Q105,0)","v":0},{"$f":"IF(COUNTIF($DM105:DP105,$P105+$Q105)<$R105,$P105+$Q105,0)","v":0},{"$f":"IF(COUNTIF($DM105:DQ105,$P105+$Q105)<$R105,$P105+$Q105,0)","v":0},{"$f":"IF(COUNTIF($DM105:DR105,$P105+$Q105)<$R105,$P105+$Q105,0)","v":0},{"$f":"IF(COUNTIF($DM105:DS105,$P105+$Q105)<$R105,$P105+$Q105,0)","v":0},{"$f":"IF(COUNTIF($DM105:DT105,$P105+$Q105)<$R105,$P105+$Q105,0)","v":0},{"$f":"IF(COUNTIF($DM105:DU105,$P105+$Q105)<$R105,$P105+$Q105,0)","v":0},{"$f":"IF(COUNTIF($DM105:DV105,$P105+$Q105)<$R105,$P105+$Q105,0)","v":0},{"$f":"IF(COUNTIF($DM105:DW105,$P105+$Q105)<$R105,$P105+$Q105,0)","v":0},{"$f":"IF(COUNTIF($DM105:DX105,$P105+$Q105)<$R105,$P105+$Q105,0)","v":0},{"$f":"IF(COUNTIF($DM105:DY105,$P105+$Q105)<$R105,$P105+$Q105,0)","v":0},{"$f":"IF(COUNTIF($DM105:DZ105,$P105+$Q105)<$R105,$P105+$Q105,0)","v":0},{"$f":"IF(COUNTIF($DM105:EA105,$P105+$Q105)<$R105,$P105+$Q105,0)","v":0},{"$f":"IF(COUNTIF($DM105:EB105,$P105+$Q105)<$R105,$P105+$Q105,0)","v":0},{"$f":"IF(COUNTIF($DM105:EC105,$P105+$Q105)<$R105,$P105+$Q105,0)","v":0},{"$f":"IF(COUNTIF($DM105:ED105,$P105+$Q105)<$R105,$P105+$Q105,0)","v":0},{"$f":"IF(COUNTIF($DM105:EE105,$P105+$Q105)<$R105,$P105+$Q105,0)","v":0},{"$f":"IF(COUNTIF($DM105:EF105,$P105+$Q105)<$R105,$P105+$Q105,0)","v":0},{"$f":"IF(COUNTIF($DM105:EG105,$P105+$Q105)<$R105,$P105+$Q105,0)","v":0},{"$f":"IF(COUNTIF($DM105:EH105,$P105+$Q105)<$R105,$P105+$Q105,0)","v":0},{"$f":"IF(COUNTIF($DM105:EI105,$P105+$Q105)<$R105,$P105+$Q105,0)","v":0},{"$f":"IF(COUNTIF($DM105:EJ105,$P105+$Q105)<$R105,$P105+$Q105,0)","v":0},{"$f":"IF(COUNTIF($DM105:EK105,$P105+$Q105)<$R105,$P105+$Q105,0)","v":0},{"$f":"IF(COUNTIF($DM105:EL105,$P105+$Q105)<$R105,$P105+$Q105,0)","v":0},{"$f":"IF(COUNTIF($DM105:EM105,$P105+$Q105)<$R105,$P105+$Q105,0)","v":0},{"$f":"IF(COUNTIF($DM105:EN105,$P105+$Q105)<$R105,$P105+$Q105,0)","v":0},{"$f":"IF(COUNTIF($DM105:EO105,$P105+$Q105)<$R105,$P105+$Q105,0)","v":0},{"$f":"IF(COUNTIF($DM105:EP105,$P105+$Q105)<$R105,$P105+$Q105,0)","v":0},{"$f":"IF(COUNTIF($DM105:EQ105,$P105+$Q105)<$R105,$P105+$Q105,0)","v":0},{"$f":"IF(COUNTIF($DM105:ER105,$P105+$Q105)<$R105,$P105+$Q105,0)","v":0},{"$f":"IF(COUNTIF($DM105:ES105,$P105+$Q105)<$R105,$P105+$Q105,0)","v":0},{"$f":"IF(COUNTIF($DM105:ET105,$P105+$Q105)<$R105,$P105+$Q105,0)","v":0},{"$f":"IF(COUNTIF($DM105:EU105,$P105+$Q105)<$R105,$P105+$Q105,0)","v":0},{"$f":"IF(COUNTIF($DM105:EV105,$P105+$Q105)<$R105,$P105+$Q105,0)","v":0},{"$f":"IF(COUNTIF($DM105:EW105,$P105+$Q105)<$R105,$P105+$Q105,0)","v":0},{"$f":"IF(COUNTIF($DM105:EX105,$P105+$Q105)<$R105,$P105+$Q105,0)","v":0},{"$f":"IF(COUNTIF($DM105:EY105,$P105+$Q105)<$R105,$P105+$Q105,0)","v":0},-0.3,null,{"$f":"IF(LEFT(formulaTextCustom(G105),3)=\"=IF\",0,1)","v":0},{"$f":"IF(LEFT(formulaTextCustom(H105),3)=\"=IF\",0,1)","v":0},{"$f":"IF(LEFT(formulaTextCustom(I105),3)=\"=IF\",0,1)","v":0},{"$f":"IF(LEFT(formulaTextCustom(J105),3)=\"=IF\",0,1)","v":0},{"$f":"IF(LEFT(formulaTextCustom(K105),3)=\"=IF\",0,1)","v":0},{"$f":"IF(LEFT(formulaTextCustom(L105),3)=\"=IF\",0,1)","v":0},{"$f":"IF(LEFT(formulaTextCustom(M105),3)=\"=IF\",0,1)","v":0},{"$f":"IF(LEFT(formulaTextCustom(N105),3)=\"=IF\",0,1)","v":0},{"$f":"IF(LEFT(formulaTextCustom(O105),3)=\"=IF\",0,1)","v":0},null,"Total Measure Site Energy Savings, kBtu","Total Measure Source Energy Savings, kBtu",null,"Electricity ","Gas ","Steam ","HW ","CW ","Fuel Oil ","Propane ","Other ","Total"]
[null,null,null,22,"",{"$f":"IF('P4P - Measure Info'!C44=\"Yes\",'P4P - Measure Info'!X44,0)","v":0},{"$f":"IF(H76=\"\",0,IF('P4P - General Info'!$C$21=\"Appendix G\",H75-H76,IF('P4P - General Info'!$C$21=\"ASHRAE bEq\",H76-H75,\"\")))","v":0},{"$f":"IF(J76=\"\",0,IF('P4P - General Info'!$C$21=\"Appendix G\",J75-J76,IF('P4P - General Info'!$C$21=\"ASHRAE bEq\",J76-J75,\"\")))","v":0},{"$f":"IF(K76=\"\",0,IF('P4P - General Info'!$C$21=\"Appendix G\",K75-K76,IF('P4P - General Info'!$C$21=\"ASHRAE bEq\",K76-K75,\"\")))","v":0},{"$f":"IF(L76=\"\",0,IF('P4P - General Info'!$C$21=\"Appendix G\",L75-L76,IF('P4P - General Info'!$C$21=\"ASHRAE bEq\",L76-L75,\"\")))","v":0},{"$f":"IF(M76=\"\",0,IF('P4P - General Info'!$C$21=\"Appendix G\",M75-M76,IF('P4P - General Info'!$C$21=\"ASHRAE bEq\",M76-M75,\"\")))","v":0},{"$f":"IF(N76=\"\",0,IF('P4P - General Info'!$C$21=\"Appendix G\",N75-N76,IF('P4P - General Info'!$C$21=\"ASHRAE bEq\",N76-N75,\"\")))","v":0},{"$f":"IF(O76=\"\",0,IF('P4P - General Info'!$C$21=\"Appendix G\",O75-O76,IF('P4P - General Info'!$C$21=\"ASHRAE bEq\",O76-O75,\"\")))","v":0},{"$f":"IF(P76=\"\",0,IF('P4P - General Info'!$C$21=\"Appendix G\",P75-P76,IF('P4P - General Info'!$C$21=\"ASHRAE bEq\",P76-P75,\"\")))","v":0},{"$f":"IF(I76=\"\",0,IF('P4P - General Info'!$C$21=\"Appendix G\",I75-I76,IF('P4P - General Info'!$C$21=\"ASHRAE bEq\",I76-I75,\"\")))","v":0},0,0,{"$f":"IF(E106=\"\",0,VLOOKUP('P4P - Measure Info'!F44,P4P_MeasureTable,3,FALSE))","v":0},{"$f":"IF(Q106=0,0,F106/(SY46+Q106))","v":0},0,0,null,null,null,{"$f":"IF('P4P - Measure Info'!C44=\"Yes\",'P4P - Measure Simulation'!Q106,0)","v":0},0,0,0,{"$f":"IF('P4P - Measure Info'!$C44=\"Yes\",'P4P - Measure Simulation'!G106,0)","v":0},0,0,0,0,0,0,0,0,0,0,{"$f":"IF('P4P - Measure Info'!$C44=\"Yes\",'P4P - Measure Simulation'!H106,0)","v":0},0,0,0,0,0,0,0,0,0,0,{"$f":"IF('P4P - Measure Info'!$C44=\"Yes\",'P4P - Measure Simulation'!I106,0)","v":0},0,0,0,0,0,0,0,0,0,0,{"$f":"IF('P4P - Measure Info'!$C44=\"Yes\",'P4P - Measure Simulation'!J106,0)","v":0},0,0,0,0,0,0,0,0,0,0,{"$f":"IF('P4P - Measure Info'!$C44=\"Yes\",'P4P - Measure Simulation'!K106,0)","v":0},0,0,0,0,0,0,0,0,0,0,{"$f":"IF('P4P - Measure Info'!$C44=\"Yes\",'P4P - Measure Simulation'!L106,0)","v":0},0,0,0,0,0,0,0,0,0,0,{"$f":"IF('P4P - Measure Info'!$C44=\"Yes\",'P4P - Measure Simulation'!M106,0)","v":0},0,0,0,0,0,0,0,0,0,0,{"$f":"IF('P4P - Measure Info'!$C44=\"Yes\",'P4P - Measure Simulation'!N106,0)","v":0},0,0,0,0,0,0,0,null,null,0,0,0,{"$f":"IF(COUNTIF($DM106:DN106,$P106+$Q106)<$R106,$P106+$Q106,0)","v":0},{"$f":"IF(COUNTIF($DM106:DO106,$P106+$Q106)<$R106,$P106+$Q106,0)","v":0},{"$f":"IF(COUNTIF($DM106:DP106,$P106+$Q106)<$R106,$P106+$Q106,0)","v":0},{"$f":"IF(COUNTIF($DM106:DQ106,$P106+$Q106)<$R106,$P106+$Q106,0)","v":0},{"$f":"IF(COUNTIF($DM106:DR106,$P106+$Q106)<$R106,$P106+$Q106,0)","v":0},{"$f":"IF(COUNTIF($DM106:DS106,$P106+$Q106)<$R106,$P106+$Q106,0)","v":0},{"$f":"IF(COUNTIF($DM106:DT106,$P106+$Q106)<$R106,$P106+$Q106,0)","v":0},{"$f":"IF(COUNTIF($DM106:DU106,$P106+$Q106)<$R106,$P106+$Q106,0)","v":0},{"$f":"IF(COUNTIF($DM106:DV106,$P106+$Q106)<$R106,$P106+$Q106,0)","v":0},{"$f":"IF(COUNTIF($DM106:DW106,$P106+$Q106)<$R106,$P106+$Q106,0)","v":0},{"$f":"IF(COUNTIF($DM106:DX106,$P106+$Q106)<$R106,$P106+$Q106,0)","v":0},{"$f":"IF(COUNTIF($DM106:DY106,$P106+$Q106)<$R106,$P106+$Q106,0)","v":0},{"$f":"IF(COUNTIF($DM106:DZ106,$P106+$Q106)<$R106,$P106+$Q106,0)","v":0},{"$f":"IF(COUNTIF($DM106:EA106,$P106+$Q106)<$R106,$P106+$Q106,0)","v":0},{"$f":"IF(COUNTIF($DM106:EB106,$P106+$Q106)<$R106,$P106+$Q106,0)","v":0},{"$f":"IF(COUNTIF($DM106:EC106,$P106+$Q106)<$R106,$P106+$Q106,0)","v":0},{"$f":"IF(COUNTIF($DM106:ED106,$P106+$Q106)<$R106,$P106+$Q106,0)","v":0},{"$f":"IF(COUNTIF($DM106:EE106,$P106+$Q106)<$R106,$P106+$Q106,0)","v":0},{"$f":"IF(COUNTIF($DM106:EF106,$P106+$Q106)<$R106,$P106+$Q106,0)","v":0},{"$f":"IF(COUNTIF($DM106:EG106,$P106+$Q106)<$R106,$P106+$Q106,0)","v":0},{"$f":"IF(COUNTIF($DM106:EH106,$P106+$Q106)<$R106,$P106+$Q106,0)","v":0},{"$f":"IF(COUNTIF($DM106:EI106,$P106+$Q106)<$R106,$P106+$Q106,0)","v":0},{"$f":"IF(COUNTIF($DM106:EJ106,$P106+$Q106)<$R106,$P106+$Q106,0)","v":0},{"$f":"IF(COUNTIF($DM106:EK106,$P106+$Q106)<$R106,$P106+$Q106,0)","v":0},{"$f":"IF(COUNTIF($DM106:EL106,$P106+$Q106)<$R106,$P106+$Q106,0)","v":0},{"$f":"IF(COUNTIF($DM106:EM106,$P106+$Q106)<$R106,$P106+$Q106,0)","v":0},{"$f":"IF(COUNTIF($DM106:EN106,$P106+$Q106)<$R106,$P106+$Q106,0)","v":0},{"$f":"IF(COUNTIF($DM106:EO106,$P106+$Q106)<$R106,$P106+$Q106,0)","v":0},{"$f":"IF(COUNTIF($DM106:EP106,$P106+$Q106)<$R106,$P106+$Q106,0)","v":0},{"$f":"IF(COUNTIF($DM106:EQ106,$P106+$Q106)<$R106,$P106+$Q106,0)","v":0},{"$f":"IF(COUNTIF($DM106:ER106,$P106+$Q106)<$R106,$P106+$Q106,0)","v":0},{"$f":"IF(COUNTIF($DM106:ES106,$P106+$Q106)<$R106,$P106+$Q106,0)","v":0},{"$f":"IF(COUNTIF($DM106:ET106,$P106+$Q106)<$R106,$P106+$Q106,0)","v":0},{"$f":"IF(COUNTIF($DM106:EU106,$P106+$Q106)<$R106,$P106+$Q106,0)","v":0},{"$f":"IF(COUNTIF($DM106:EV106,$P106+$Q106)<$R106,$P106+$Q106,0)","v":0},{"$f":"IF(COUNTIF($DM106:EW106,$P106+$Q106)<$R106,$P106+$Q106,0)","v":0},{"$f":"IF(COUNTIF($DM106:EX106,$P106+$Q106)<$R106,$P106+$Q106,0)","v":0},{"$f":"IF(COUNTIF($DM106:EY106,$P106+$Q106)<$R106,$P106+$Q106,0)","v":0},-0.3,null,{"$f":"IF(LEFT(formulaTextCustom(G106),3)=\"=IF\",0,1)","v":0},{"$f":"IF(LEFT(formulaTextCustom(H106),3)=\"=IF\",0,1)","v":0},{"$f":"IF(LEFT(formulaTextCustom(I106),3)=\"=IF\",0,1)","v":0},{"$f":"IF(LEFT(formulaTextCustom(J106),3)=\"=IF\",0,1)","v":0},{"$f":"IF(LEFT(formulaTextCustom(K106),3)=\"=IF\",0,1)","v":0},{"$f":"IF(LEFT(formulaTextCustom(L106),3)=\"=IF\",0,1)","v":0},{"$f":"IF(LEFT(formulaTextCustom(M106),3)=\"=IF\",0,1)","v":0},{"$f":"IF(LEFT(formulaTextCustom(N106),3)=\"=IF\",0,1)","v":0},{"$f":"IF(LEFT(formulaTextCustom(O106),3)=\"=IF\",0,1)","v":0},null,{"$f":"(G115*3.413)+(SUM(H115:N115)*1000)","v":0},{"$f":"((G115*3.413)*'P4P - General Info'!$F$65)+(((H115*'P4P - General Info'!$F$66)+(I115*'P4P - General Info'!$F$67)+(J115*'P4P - General Info'!$F$68)+(K115*'P4P - General Info'!$F$69)+(L115*'P4P - General Info'!$F$70)+(M115*'P4P - General Info'!$F$71)+(N115*'P4P - General Info'!$F$72))*1000)","v":0},"Source energy savings, kBtu",{"$f":"G115*3.413*'P4P - General Info'!F65","v":0},{"$f":"(H115*'P4P - General Info'!$F$66)*1000","v":0},{"$f":"(I115*'P4P - General Info'!$F$67)*1000","v":0},{"$f":"(J115*'P4P - General Info'!$F$68)*1000","v":0},{"$f":"(K115*'P4P - General Info'!$F$69)*1000","v":0},{"$f":"(L115*'P4P - General Info'!$F$70)*1000","v":0},{"$f":"(M115*'P4P - General Info'!$F$71)*1000","v":0},{"$f":"(N115*'P4P - General Info'!$F$72)*1000","v":0}]
[null,null,null,23,"",{"$f":"IF('P4P - Measure Info'!C45=\"Yes\",'P4P - Measure Info'!X45,0)","v":0},{"$f":"IF(H77=\"\",0,IF('P4P - General Info'!$C$21=\"Appendix G\",H76-H77,IF('P4P - General Info'!$C$21=\"ASHRAE bEq\",H77-H76,\"\")))","v":0},{"$f":"IF(J77=\"\",0,IF('P4P - General Info'!$C$21=\"Appendix G\",J76-J77,IF('P4P - General Info'!$C$21=\"ASHRAE bEq\",J77-J76,\"\")))","v":0},{"$f":"IF(K77=\"\",0,IF('P4P - General Info'!$C$21=\"Appendix G\",K76-K77,IF('P4P - General Info'!$C$21=\"ASHRAE bEq\",K77-K76,\"\")))","v":0},{"$f":"IF(L77=\"\",0,IF('P4P - General Info'!$C$21=\"Appendix G\",L76-L77,IF('P4P - General Info'!$C$21=\"ASHRAE bEq\",L77-L76,\"\")))","v":0},{"$f":"IF(M77=\"\",0,IF('P4P - General Info'!$C$21=\"Appendix G\",M76-M77,IF('P4P - General Info'!$C$21=\"ASHRAE bEq\",M77-M76,\"\")))","v":0},{"$f":"IF(N77=\"\",0,IF('P4P - General Info'!$C$21=\"Appendix G\",N76-N77,IF('P4P - General Info'!$C$21=\"ASHRAE bEq\",N77-N76,\"\")))","v":0},{"$f":"IF(O77=\"\",0,IF('P4P - General Info'!$C$21=\"Appendix G\",O76-O77,IF('P4P - General Info'!$C$21=\"ASHRAE bEq\",O77-O76,\"\")))","v":0},{"$f":"IF(P77=\"\",0,IF('P4P - General Info'!$C$21=\"Appendix G\",P76-P77,IF('P4P - General Info'!$C$21=\"ASHRAE bEq\",P77-P76,\"\")))","v":0},{"$f":"IF(I77=\"\",0,IF('P4P - General Info'!$C$21=\"Appendix G\",I76-I77,IF('P4P - General Info'!$C$21=\"ASHRAE bEq\",I77-I76,\"\")))","v":0},0,0,{"$f":"IF(E107=\"\",0,VLOOKUP('P4P - Measure Info'!F45,P4P_MeasureTable,3,FALSE))","v":0},{"$f":"IF(Q107=0,0,F107/(SY47+Q107))","v":0},0,0,null,null,null,{"$f":"IF('P4P - Measure Info'!C45=\"Yes\",'P4P - Measure Simulation'!Q107,0)","v":0},0,0,0,{"$f":"IF('P4P - Measure Info'!$C45=\"Yes\",'P4P - Measure Simulation'!G107,0)","v":0},0,0,0,0,0,0,0,0,0,0,{"$f":"IF('P4P - Measure Info'!$C45=\"Yes\",'P4P - Measure Simulation'!H107,0)","v":0},0,0,0,0,0,0,0,0,0,0,{"$f":"IF('P4P - Measure Info'!$C45=\"Yes\",'P4P - Measure Simulation'!I107,0)","v":0},0,0,0,0,0,0,0,0,0,0,{"$f":"IF('P4P - Measure Info'!$C45=\"Yes\",'P4P - Measure Simulation'!J107,0)","v":0},0,0,0,0,0,0,0,0,0,0,{"$f":"IF('P4P - Measure Info'!$C45=\"Yes\",'P4P - Measure Simulation'!K107,0)","v":0},0,0,0,0,0,0,0,0,0,0,{"$f":"IF('P4P - Measure Info'!$C45=\"Yes\",'P4P - Measure Simulation'!L107,0)","v":0},0,0,0,0,0,0,0,0,0,0,{"$f":"IF('P4P - Measure Info'!$C45=\"Yes\",'P4P - Measure Simulation'!M107,0)","v":0},0,0,0,0,0,0,0,0,0,0,{"$f":"IF('P4P - Measure Info'!$C45=\"Yes\",'P4P - Measure Simulation'!N107,0)","v":0},0,0,0,0,0,0,0,null,null,0,0,0,{"$f":"IF(COUNTIF($DM107:DN107,$P107+$Q107)<$R107,$P107+$Q107,0)","v":0},{"$f":"IF(COUNTIF($DM107:DO107,$P107+$Q107)<$R107,$P107+$Q107,0)","v":0},{"$f":"IF(COUNTIF($DM107:DP107,$P107+$Q107)<$R107,$P107+$Q107,0)","v":0},{"$f":"IF(COUNTIF($DM107:DQ107,$P107+$Q107)<$R107,$P107+$Q107,0)","v":0},{"$f":"IF(COUNTIF($DM107:DR107,$P107+$Q107)<$R107,$P107+$Q107,0)","v":0},{"$f":"IF(COUNTIF($DM107:DS107,$P107+$Q107)<$R107,$P107+$Q107,0)","v":0},{"$f":"IF(COUNTIF($DM107:DT107,$P107+$Q107)<$R107,$P107+$Q107,0)","v":0},{"$f":"IF(COUNTIF($DM107:DU107,$P107+$Q107)<$R107,$P107+$Q107,0)","v":0},{"$f":"IF(COUNTIF($DM107:DV107,$P107+$Q107)<$R107,$P107+$Q107,0)","v":0},{"$f":"IF(COUNTIF($DM107:DW107,$P107+$Q107)<$R107,$P107+$Q107,0)","v":0},{"$f":"IF(COUNTIF($DM107:DX107,$P107+$Q107)<$R107,$P107+$Q107,0)","v":0},{"$f":"IF(COUNTIF($DM107:DY107,$P107+$Q107)<$R107,$P107+$Q107,0)","v":0},{"$f":"IF(COUNTIF($DM107:DZ107,$P107+$Q107)<$R107,$P107+$Q107,0)","v":0},{"$f":"IF(COUNTIF($DM107:EA107,$P107+$Q107)<$R107,$P107+$Q107,0)","v":0},{"$f":"IF(COUNTIF($DM107:EB107,$P107+$Q107)<$R107,$P107+$Q107,0)","v":0},{"$f":"IF(COUNTIF($DM107:EC107,$P107+$Q107)<$R107,$P107+$Q107,0)","v":0},{"$f":"IF(COUNTIF($DM107:ED107,$P107+$Q107)<$R107,$P107+$Q107,0)","v":0},{"$f":"IF(COUNTIF($DM107:EE107,$P107+$Q107)<$R107,$P107+$Q107,0)","v":0},{"$f":"IF(COUNTIF($DM107:EF107,$P107+$Q107)<$R107,$P107+$Q107,0)","v":0},{"$f":"IF(COUNTIF($DM107:EG107,$P107+$Q107)<$R107,$P107+$Q107,0)","v":0},{"$f":"IF(COUNTIF($DM107:EH107,$P107+$Q107)<$R107,$P107+$Q107,0)","v":0},{"$f":"IF(COUNTIF($DM107:EI107,$P107+$Q107)<$R107,$P107+$Q107,0)","v":0},{"$f":"IF(COUNTIF($DM107:EJ107,$P107+$Q107)<$R107,$P107+$Q107,0)","v":0},{"$f":"IF(COUNTIF($DM107:EK107,$P107+$Q107)<$R107,$P107+$Q107,0)","v":0},{"$f":"IF(COUNTIF($DM107:EL107,$P107+$Q107)<$R107,$P107+$Q107,0)","v":0},{"$f":"IF(COUNTIF($DM107:EM107,$P107+$Q107)<$R107,$P107+$Q107,0)","v":0},{"$f":"IF(COUNTIF($DM107:EN107,$P107+$Q107)<$R107,$P107+$Q107,0)","v":0},{"$f":"IF(COUNTIF($DM107:EO107,$P107+$Q107)<$R107,$P107+$Q107,0)","v":0},{"$f":"IF(COUNTIF($DM107:EP107,$P107+$Q107)<$R107,$P107+$Q107,0)","v":0},{"$f":"IF(COUNTIF($DM107:EQ107,$P107+$Q107)<$R107,$P107+$Q107,0)","v":0},{"$f":"IF(COUNTIF($DM107:ER107,$P107+$Q107)<$R107,$P107+$Q107,0)","v":0},{"$f":"IF(COUNTIF($DM107:ES107,$P107+$Q107)<$R107,$P107+$Q107,0)","v":0},{"$f":"IF(COUNTIF($DM107:ET107,$P107+$Q107)<$R107,$P107+$Q107,0)","v":0},{"$f":"IF(COUNTIF($DM107:EU107,$P107+$Q107)<$R107,$P107+$Q107,0)","v":0},{"$f":"IF(COUNTIF($DM107:EV107,$P107+$Q107)<$R107,$P107+$Q107,0)","v":0},{"$f":"IF(COUNTIF($DM107:EW107,$P107+$Q107)<$R107,$P107+$Q107,0)","v":0},{"$f":"IF(COUNTIF($DM107:EX107,$P107+$Q107)<$R107,$P107+$Q107,0)","v":0},{"$f":"IF(COUNTIF($DM107:EY107,$P107+$Q107)<$R107,$P107+$Q107,0)","v":0},-0.3,null,{"$f":"IF(LEFT(formulaTextCustom(G107),3)=\"=IF\",0,1)","v":0},{"$f":"IF(LEFT(formulaTextCustom(H107),3)=\"=IF\",0,1)","v":0},{"$f":"IF(LEFT(formulaTextCustom(I107),3)=\"=IF\",0,1)","v":0},{"$f":"IF(LEFT(formulaTextCustom(J107),3)=\"=IF\",0,1)","v":0},{"$f":"IF(LEFT(formulaTextCustom(K107),3)=\"=IF\",0,1)","v":0},{"$f":"IF(LEFT(formulaTextCustom(L107),3)=\"=IF\",0,1)","v":0},{"$f":"IF(LEFT(formulaTextCustom(M107),3)=\"=IF\",0,1)","v":0},{"$f":"IF(LEFT(formulaTextCustom(N107),3)=\"=IF\",0,1)","v":0},{"$f":"IF(LEFT(formulaTextCustom(O107),3)=\"=IF\",0,1)","v":0},null,"90.1 Reference Source EUI","Source Savings wrt 90.1 Ref Edition, kBtu","% of total source energy savings",{"$f":"FP106/$FN$106","v":{"$error":"#DIV/0!"}},{"$f":"FQ106/$FN$106","v":{"$error":"#DIV/0!"}},{"$f":"FR106/$FN$106","v":{"$error":"#DIV/0!"}},{"$error":"#DIV/0!"},{"$error":"#DIV/0!"},{"$error":"#DIV/0!"},{"$error":"#DIV/0!"},{"$error":"#DIV/0!"}]
[null,null,null,24,"",{"$f":"IF('P4P - Measure Info'!C46=\"Yes\",'P4P - Measure Info'!X46,0)","v":0},{"$f":"IF(H78=\"\",0,IF('P4P - General Info'!$C$21=\"Appendix G\",H77-H78,IF('P4P - General Info'!$C$21=\"ASHRAE bEq\",H78-H77,\"\")))","v":0},{"$f":"IF(J78=\"\",0,IF('P4P - General Info'!$C$21=\"Appendix G\",J77-J78,IF('P4P - General Info'!$C$21=\"ASHRAE bEq\",J78-J77,\"\")))","v":0},{"$f":"IF(K78=\"\",0,IF('P4P - General Info'!$C$21=\"Appendix G\",K77-K78,IF('P4P - General Info'!$C$21=\"ASHRAE bEq\",K78-K77,\"\")))","v":0},{"$f":"IF(L78=\"\",0,IF('P4P - General Info'!$C$21=\"Appendix G\",L77-L78,IF('P4P - General Info'!$C$21=\"ASHRAE bEq\",L78-L77,\"\")))","v":0},{"$f":"IF(M78=\"\",0,IF('P4P - General Info'!$C$21=\"Appendix G\",M77-M78,IF('P4P - General Info'!$C$21=\"ASHRAE bEq\",M78-M77,\"\")))","v":0},{"$f":"IF(N78=\"\",0,IF('P4P - General Info'!$C$21=\"Appendix G\",N77-N78,IF('P4P - General Info'!$C$21=\"ASHRAE bEq\",N78-N77,\"\")))","v":0},{"$f":"IF(O78=\"\",0,IF('P4P - General Info'!$C$21=\"Appendix G\",O77-O78,IF('P4P - General Info'!$C$21=\"ASHRAE bEq\",O78-O77,\"\")))","v":0},{"$f":"IF(P78=\"\",0,IF('P4P - General Info'!$C$21=\"Appendix G\",P77-P78,IF('P4P - General Info'!$C$21=\"ASHRAE bEq\",P78-P77,\"\")))","v":0},{"$f":"IF(I78=\"\",0,IF('P4P - General Info'!$C$21=\"Appendix G\",I77-I78,IF('P4P - General Info'!$C$21=\"ASHRAE bEq\",I78-I77,\"\")))","v":0},0,0,{"$f":"IF(E108=\"\",0,VLOOKUP('P4P - Measure Info'!F46,P4P_MeasureTable,3,FALSE))","v":0},{"$f":"IF(Q108=0,0,F108/(SY48+Q108))","v":0},0,0,null,null,null,{"$f":"IF('P4P - Measure Info'!C46=\"Yes\",'P4P - Measure Simulation'!Q108,0)","v":0},0,0,0,{"$f":"IF('P4P - Measure Info'!$C46=\"Yes\",'P4P - Measure Simulation'!G108,0)","v":0},0,0,0,0,0,0,0,0,0,0,{"$f":"IF('P4P - Measure Info'!$C46=\"Yes\",'P4P - Measure Simulation'!H108,0)","v":0},0,0,0,0,0,0,0,0,0,0,{"$f":"IF('P4P - Measure Info'!$C46=\"Yes\",'P4P - Measure Simulation'!I108,0)","v":0},0,0,0,0,0,0,0,0,0,0,{"$f":"IF('P4P - Measure Info'!$C46=\"Yes\",'P4P - Measure Simulation'!J108,0)","v":0},0,0,0,0,0,0,0,0,0,0,{"$f":"IF('P4P - Measure Info'!$C46=\"Yes\",'P4P - Measure Simulation'!K108,0)","v":0},0,0,0,0,0,0,0,0,0,0,{"$f":"IF('P4P - Measure Info'!$C46=\"Yes\",'P4P - Measure Simulation'!L108,0)","v":0},0,0,0,0,0,0,0,0,0,0,{"$f":"IF('P4P - Measure Info'!$C46=\"Yes\",'P4P - Measure Simulation'!M108,0)","v":0},0,0,0,0,0,0,0,0,0,0,{"$f":"IF('P4P - Measure Info'!$C46=\"Yes\",'P4P - Measure Simulation'!N108,0)","v":0},0,0,0,0,0,0,0,null,null,0,0,0,{"$f":"IF(COUNTIF($DM108:DN108,$P108+$Q108)<$R108,$P108+$Q108,0)","v":0},{"$f":"IF(COUNTIF($DM108:DO108,$P108+$Q108)<$R108,$P108+$Q108,0)","v":0},{"$f":"IF(COUNTIF($DM108:DP108,$P108+$Q108)<$R108,$P108+$Q108,0)","v":0},{"$f":"IF(COUNTIF($DM108:DQ108,$P108+$Q108)<$R108,$P108+$Q108,0)","v":0},{"$f":"IF(COUNTIF($DM108:DR108,$P108+$Q108)<$R108,$P108+$Q108,0)","v":0},{"$f":"IF(COUNTIF($DM108:DS108,$P108+$Q108)<$R108,$P108+$Q108,0)","v":0},{"$f":"IF(COUNTIF($DM108:DT108,$P108+$Q108)<$R108,$P108+$Q108,0)","v":0},{"$f":"IF(COUNTIF($DM108:DU108,$P108+$Q108)<$R108,$P108+$Q108,0)","v":0},{"$f":"IF(COUNTIF($DM108:DV108,$P108+$Q108)<$R108,$P108+$Q108,0)","v":0},{"$f":"IF(COUNTIF($DM108:DW108,$P108+$Q108)<$R108,$P108+$Q108,0)","v":0},{"$f":"IF(COUNTIF($DM108:DX108,$P108+$Q108)<$R108,$P108+$Q108,0)","v":0},{"$f":"IF(COUNTIF($DM108:DY108,$P108+$Q108)<$R108,$P108+$Q108,0)","v":0},{"$f":"IF(COUNTIF($DM108:DZ108,$P108+$Q108)<$R108,$P108+$Q108,0)","v":0},{"$f":"IF(COUNTIF($DM108:EA108,$P108+$Q108)<$R108,$P108+$Q108,0)","v":0},{"$f":"IF(COUNTIF($DM108:EB108,$P108+$Q108)<$R108,$P108+$Q108,0)","v":0},{"$f":"IF(COUNTIF($DM108:EC108,$P108+$Q108)<$R108,$P108+$Q108,0)","v":0},{"$f":"IF(COUNTIF($DM108:ED108,$P108+$Q108)<$R108,$P108+$Q108,0)","v":0},{"$f":"IF(COUNTIF($DM108:EE108,$P108+$Q108)<$R108,$P108+$Q108,0)","v":0},{"$f":"IF(COUNTIF($DM108:EF108,$P108+$Q108)<$R108,$P108+$Q108,0)","v":0},{"$f":"IF(COUNTIF($DM108:EG108,$P108+$Q108)<$R108,$P108+$Q108,0)","v":0},{"$f":"IF(COUNTIF($DM108:EH108,$P108+$Q108)<$R108,$P108+$Q108,0)","v":0},{"$f":"IF(COUNTIF($DM108:EI108,$P108+$Q108)<$R108,$P108+$Q108,0)","v":0},{"$f":"IF(COUNTIF($DM108:EJ108,$P108+$Q108)<$R108,$P108+$Q108,0)","v":0},{"$f":"IF(COUNTIF($DM108:EK108,$P108+$Q108)<$R108,$P108+$Q108,0)","v":0},{"$f":"IF(COUNTIF($DM108:EL108,$P108+$Q108)<$R108,$P108+$Q108,0)","v":0},{"$f":"IF(COUNTIF($DM108:EM108,$P108+$Q108)<$R108,$P108+$Q108,0)","v":0},{"$f":"IF(COUNTIF($DM108:EN108,$P108+$Q108)<$R108,$P108+$Q108,0)","v":0},{"$f":"IF(COUNTIF($DM108:EO108,$P108+$Q108)<$R108,$P108+$Q108,0)","v":0},{"$f":"IF(COUNTIF($DM108:EP108,$P108+$Q108)<$R108,$P108+$Q108,0)","v":0},{"$f":"IF(COUNTIF($DM108:EQ108,$P108+$Q108)<$R108,$P108+$Q108,0)","v":0},{"$f":"IF(COUNTIF($DM108:ER108,$P108+$Q108)<$R108,$P108+$Q108,0)","v":0},{"$f":"IF(COUNTIF($DM108:ES108,$P108+$Q108)<$R108,$P108+$Q108,0)","v":0},{"$f":"IF(COUNTIF($DM108:ET108,$P108+$Q108)<$R108,$P108+$Q108,0)","v":0},{"$f":"IF(COUNTIF($DM108:EU108,$P108+$Q108)<$R108,$P108+$Q108,0)","v":0},{"$f":"IF(COUNTIF($DM108:EV108,$P108+$Q108)<$R108,$P108+$Q108,0)","v":0},{"$f":"IF(COUNTIF($DM108:EW108,$P108+$Q108)<$R108,$P108+$Q108,0)","v":0},{"$f":"IF(COUNTIF($DM108:EX108,$P108+$Q108)<$R108,$P108+$Q108,0)","v":0},{"$f":"IF(COUNTIF($DM108:EY108,$P108+$Q108)<$R108,$P108+$Q108,0)","v":0},-0.3,null,{"$f":"IF(LEFT(formulaTextCustom(G108),3)=\"=IF\",0,1)","v":0},{"$f":"IF(LEFT(formulaTextCustom(H108),3)=\"=IF\",0,1)","v":0},{"$f":"IF(LEFT(formulaTextCustom(I108),3)=\"=IF\",0,1)","v":0},{"$f":"IF(LEFT(formulaTextCustom(J108),3)=\"=IF\",0,1)","v":0},{"$f":"IF(LEFT(formulaTextCustom(K108),3)=\"=IF\",0,1)","v":0},{"$f":"IF(LEFT(formulaTextCustom(L108),3)=\"=IF\",0,1)","v":0},{"$f":"IF(LEFT(formulaTextCustom(M108),3)=\"=IF\",0,1)","v":0},{"$f":"IF(LEFT(formulaTextCustom(N108),3)=\"=IF\",0,1)","v":0},{"$f":"IF(LEFT(formulaTextCustom(O108),3)=\"=IF\",0,1)","v":0},null,{"$f":"F49*('P4P - General Info'!$G$57/100)","v":0},{"$f":"(FM108-M47)*'P4P - General Info'!$C$39","v":0},"Adjusted total source energy savings, kBtu",{"$f":"IF(FP107<0,ABS(FP106)+FN106,FN106)","v":{"$error":"#DIV/0!"}},{"$f":"IF(FQ107<0,ABS(FQ106)+FP108,FP108)","v":{"$error":"#DIV/0!"}},{"$f":"IF(FR107<0,ABS(FR106)+FQ108,FQ108)","v":{"$error":"#DIV/0!"}},{"$error":"#DIV/0!"},{"$error":"#DIV/0!"},{"$error":"#DIV/0!"},{"$error":"#DIV/0!"},{"$error":"#DIV/0!"}]
[null,null,null,25,"Dummy",{"$f":"IF('P4P - Measure Info'!C47=\"Yes\",'P4P - Measure Info'!X47,0)","v":0},{"$f":"IFERROR(FP112/3.413,0)","v":0},{"$f":"IFERROR(FQ112/1000,0)","v":0},{"$f":"IFERROR(FR112/1000,0)","v":0},0,0,0,0,0,{"$f":"IFERROR('P4P - Project Summary'!G20,0)","v":0},0,{"$f":"IFERROR(G109*0.003412*$F$11+H109*$H$11+I109*$J$11+J109*$L$11+K109*$N$11+L109*$P$11+M109*$R$11+N109*$U$11,0)","v":0},{"$f":"R121","v":0},{"$f":"IF(Q109=0,0,F109/(SY49+Q109))","v":0},0,0,null,null,null,{"$f":"IF('P4P - Measure Info'!C47=\"Yes\",'P4P - Measure Simulation'!Q109,0)","v":0},0,0,0,{"$f":"IF('P4P - Measure Info'!$C47=\"Yes\",'P4P - Measure Simulation'!G109,0)","v":0},0,0,0,0,0,0,0,{"$f":"H109","v":0},0,0,{"$f":"IF('P4P - Measure Info'!$C47=\"Yes\",'P4P - Measure Simulation'!H109,0)","v":0},0,0,0,0,0,0,0,0,0,0,{"$f":"IF('P4P - Measure Info'!$C47=\"Yes\",'P4P - Measure Simulation'!I109,0)","v":0},0,0,0,0,0,0,0,0,0,0,{"$f":"IF('P4P - Measure Info'!$C47=\"Yes\",'P4P - Measure Simulation'!J109,0)","v":0},0,0,0,0,0,0,0,{"$f":"TX109","v":0},{"$f":"IF(J109>0,J109,0)","v":0},{"$f":"IF(J109<0,J109,0)","v":0},{"$f":"IF('P4P - Measure Info'!$C47=\"Yes\",'P4P - Measure Simulation'!K109,0)","v":0},0,0,0,0,0,0,0,0,0,0,{"$f":"IF('P4P - Measure Info'!$C47=\"Yes\",'P4P - Measure Simulation'!L109,0)","v":0},0,0,0,0,0,0,0,{"$f":"Y109","v":0},{"$f":"IF(Y109>0,Y109,0)","v":0},0,{"$f":"IF('P4P - Measure Info'!$C47=\"Yes\",'P4P - Measure Simulation'!Y109,0)","v":0},0,0,0,0,0,0,0,0,0,0,{"$f":"IF('P4P - Measure Info'!$C47=\"Yes\",'P4P - Measure Simulation'!N109,0)","v":0},0,0,0,0,0,0,0,null,null,0,0,0,{"$f":"IF(COUNTIF($DM109:DN109,$P109+$Q109)<$R109,$P109+$Q109,0)","v":0},{"$f":"IF(COUNTIF($DM109:DO109,$P109+$Q109)<$R109,$P109+$Q109,0)","v":0},{"$f":"IF(COUNTIF($DM109:DP109,$P109+$Q109)<$R109,$P109+$Q109,0)","v":0},{"$f":"IF(COUNTIF($DM109:DQ109,$P109+$Q109)<$R109,$P109+$Q109,0)","v":0},{"$f":"IF(COUNTIF($DM109:DR109,$P109+$Q109)<$R109,$P109+$Q109,0)","v":0},{"$f":"IF(COUNTIF($DM109:DS109,$P109+$Q109)<$R109,$P109+$Q109,0)","v":0},{"$f":"IF(COUNTIF($DM109:DT109,$P109+$Q109)<$R109,$P109+$Q109,0)","v":0},{"$f":"IF(COUNTIF($DM109:DU109,$P109+$Q109)<$R109,$P109+$Q109,0)","v":0},{"$f":"IF(COUNTIF($DM109:DV109,$P109+$Q109)<$R109,$P109+$Q109,0)","v":0},{"$f":"IF(COUNTIF($DM109:DW109,$P109+$Q109)<$R109,$P109+$Q109,0)","v":0},{"$f":"IF(COUNTIF($DM109:DX109,$P109+$Q109)<$R109,$P109+$Q109,0)","v":0},{"$f":"IF(COUNTIF($DM109:DY109,$P109+$Q109)<$R109,$P109+$Q109,0)","v":0},{"$f":"IF(COUNTIF($DM109:DZ109,$P109+$Q109)<$R109,$P109+$Q109,0)","v":0},{"$f":"IF(COUNTIF($DM109:EA109,$P109+$Q109)<$R109,$P109+$Q109,0)","v":0},{"$f":"IF(COUNTIF($DM109:EB109,$P109+$Q109)<$R109,$P109+$Q109,0)","v":0},{"$f":"IF(COUNTIF($DM109:EC109,$P109+$Q109)<$R109,$P109+$Q109,0)","v":0},{"$f":"IF(COUNTIF($DM109:ED109,$P109+$Q109)<$R109,$P109+$Q109,0)","v":0},{"$f":"IF(COUNTIF($DM109:EE109,$P109+$Q109)<$R109,$P109+$Q109,0)","v":0},{"$f":"IF(COUNTIF($DM109:EF109,$P109+$Q109)<$R109,$P109+$Q109,0)","v":0},{"$f":"IF(COUNTIF($DM109:EG109,$P109+$Q109)<$R109,$P109+$Q109,0)","v":0},{"$f":"IF(COUNTIF($DM109:EH109,$P109+$Q109)<$R109,$P109+$Q109,0)","v":0},{"$f":"IF(COUNTIF($DM109:EI109,$P109+$Q109)<$R109,$P109+$Q109,0)","v":0},{"$f":"IF(COUNTIF($DM109:EJ109,$P109+$Q109)<$R109,$P109+$Q109,0)","v":0},{"$f":"IF(COUNTIF($DM109:EK109,$P109+$Q109)<$R109,$P109+$Q109,0)","v":0},{"$f":"IF(COUNTIF($DM109:EL109,$P109+$Q109)<$R109,$P109+$Q109,0)","v":0},{"$f":"IF(COUNTIF($DM109:EM109,$P109+$Q109)<$R109,$P109+$Q109,0)","v":0},{"$f":"IF(COUNTIF($DM109:EN109,$P109+$Q109)<$R109,$P109+$Q109,0)","v":0},{"$f":"IF(COUNTIF($DM109:EO109,$P109+$Q109)<$R109,$P109+$Q109,0)","v":0},{"$f":"IF(COUNTIF($DM109:EP109,$P109+$Q109)<$R109,$P109+$Q109,0)","v":0},{"$f":"IF(COUNTIF($DM109:EQ109,$P109+$Q109)<$R109,$P109+$Q109,0)","v":0},{"$f":"IF(COUNTIF($DM109:ER109,$P109+$Q109)<$R109,$P109+$Q109,0)","v":0},{"$f":"IF(COUNTIF($DM109:ES109,$P109+$Q109)<$R109,$P109+$Q109,0)","v":0},{"$f":"IF(COUNTIF($DM109:ET109,$P109+$Q109)<$R109,$P109+$Q109,0)","v":0},{"$f":"IF(COUNTIF($DM109:EU109,$P109+$Q109)<$R109,$P109+$Q109,0)","v":0},{"$f":"IF(COUNTIF($DM109:EV109,$P109+$Q109)<$R109,$P109+$Q109,0)","v":0},{"$f":"IF(COUNTIF($DM109:EW109,$P109+$Q109)<$R109,$P109+$Q109,0)","v":0},{"$f":"IF(COUNTIF($DM109:EX109,$P109+$Q109)<$R109,$P109+$Q109,0)","v":0},{"$f":"IF(COUNTIF($DM109:EY109,$P109+$Q109)<$R109,$P109+$Q109,0)","v":0},-0.3,null,{"$f":"IF(LEFT(formulaTextCustom(G109),3)=\"=IF\",0,1)","v":0},{"$f":"IF(LEFT(formulaTextCustom(H109),3)=\"=IF\",0,1)","v":0},{"$f":"IF(LEFT(formulaTextCustom(I109),3)=\"=IF\",0,1)","v":0},{"$f":"IF(LEFT(formulaTextCustom(J109),3)=\"=IF\",0,1)","v":0},{"$f":"IF(LEFT(formulaTextCustom(K109),3)=\"=IF\",0,1)","v":0},{"$f":"IF(LEFT(formulaTextCustom(L109),3)=\"=IF\",0,1)","v":0},{"$f":"IF(LEFT(formulaTextCustom(M109),3)=\"=IF\",0,1)","v":0},{"$f":"IF(LEFT(formulaTextCustom(N109),3)=\"=IF\",0,1)","v":0},{"$f":"IF(LEFT(formulaTextCustom(O109),3)=\"=IF\",0,1)","v":0},null,null,null,"Adjusted percent source energy savings",{"$f":"IF(FP107<0,FP107,FP106/$FW$108)","v":{"$error":"#DIV/0!"}},{"$f":"IF(FQ107<0,FQ107,FQ106/$FW$108)","v":{"$error":"#DIV/0!"}},{"$f":"IF(FR107<0,FR107,FR106/$FW$108)","v":{"$error":"#DIV/0!"}},{"$error":"#DIV/0!"},{"$error":"#DIV/0!"},{"$error":"#DIV/0!"},{"$error":"#DIV/0!"},{"$error":"#DIV/0!"}]
[null,null,null,"Modeling Fees",null,{"$f":"'P4P - Measure Info'!X50","v":0},null,null,null,null,null,null,null,null,null,null,null,null,null,null,null,null,null,null,null,null,null,null,null,null,null,null,null,null,null," `",null,null,null,null,null,null,null,null,null,null," `",null,null,null,null,null,null,null,null,null,null," `",null,null,null,null,null,null,null,null,null,null," `",null,null,null,null,null,null,null,null,null,null," `",null,null,null,null,null,null,null,null,null,null," `",null,null,null,null,null,null,null,null,null,null," `",null,null,null,null,null,null,null,null,null,null," `",null,null,null,null,null,null,null,null,null,null,null,null,null,null,null,null,null,null,null,null,null,null,null,null,null,null,null,null,null,null,null,null,null,null,null,null,null,null,null,null,null,null,null,null,null,null,null,null,null,null,null,null,null,null,null,null,null,"Adjusted total source energy savings, kBtu",{"$f":"IF(FP109<0,(ABS(FP109)*FN108)+FN108,FN108)","v":{"$error":"#DIV/0!"}},{"$f":"IF(FQ109<0,(ABS(FQ109)*FP110)+FP110,FP110)","v":{"$error":"#DIV/0!"}},{"$f":"IF(FR109<0,(ABS(FR109)*FQ110)+FQ110,FQ110)","v":{"$error":"#DIV/0!"}},{"$error":"#DIV/0!"},{"$error":"#DIV/0!"},{"$error":"#DIV/0!"},{"$error":"#DIV/0!"},{"$error":"#DIV/0!"}]
[null,null,null,"Inspection & Veriification Fees",null,{"$f":"'P4P - Measure Info'!X51","v":0},null,null,null,null,null,null,null,null,null,null,null,null,null,null,null,null,null,null,"Total vs 2004, units of fuel",{"$f":"SUM(Z85:Z109)","v":0},{"$f":"SUM(AA85:AA110)","v":0},{"$f":"SUM(AB85:AB110)","v":0},{"$f":"SUM(AC85:AC109)","v":0},{"$f":"SUMIF(AC85:AC110,\">0\")","v":0},{"$f":"SUMIF(AC85:AC110,\"<0\")","v":0},{"$f":"SUM(AF85:AF109)","v":0},0,0,0,0,0,{"$f":"SUM(AL85:AL110)","v":0},{"$f":"SUM(AM85:AM110)","v":0},{"$f":"SUM(AN85:AN109)","v":0},{"$f":"SUMIF(AN85:AN110,\">0\")","v":0},{"$f":"SUMIF(AN85:AN110,\"<0\")","v":0},{"$f":"SUM(AQ85:AQ109)","v":0},0,0,0,0,0,{"$f":"SUM(AW85:AW110)","v":0},{"$f":"SUM(AX85:AX110)","v":0},{"$f":"SUM(AY85:AY109)","v":0},{"$f":"SUMIF(AY85:AY110,\">0\")","v":0},{"$f":"SUMIF(AY85:AY110,\"<0\")","v":0},{"$f":"SUM(BB85:BB109)","v":0},0,0,0,0,0,{"$f":"SUM(BH85:BH110)","v":0},{"$f":"SUM(BI85:BI110)","v":0},{"$f":"SUM(BJ85:BJ109)","v":0},{"$f":"SUMIF(BJ85:BJ110,\">0\")","v":0},{"$f":"SUMIF(BJ85:BJ110,\"<0\")","v":0},{"$f":"SUM(BM85:BM109)","v":0},0,0,0,0,0,{"$f":"SUM(BS85:BS110)","v":0},{"$f":"SUM(BT85:BT110)","v":0},{"$f":"SUM(BU85:BU109)","v":0},{"$f":"SUMIF(BU85:BU110,\">0\")","v":0},{"$f":"SUMIF(BU85:BU110,\"<0\")","v":0},{"$f":"SUM(BX85:BX109)","v":0},0,0,0,0,0,{"$f":"SUM(CD85:CD110)","v":0},{"$f":"SUM(CE85:CE110)","v":0},{"$f":"SUM(CF85:CF109)","v":0},{"$f":"SUMIF(CF85:CF110,\">0\")","v":0},{"$f":"SUMIF(CF85:CF110,\"<0\")","v":0},{"$f":"SUM(CI85:CI109)","v":0},0,0,0,0,0,{"$f":"SUM(CO85:CO110)","v":0},{"$f":"SUM(CP85:CP110)","v":0},{"$f":"SUM(CQ85:CQ109)","v":0},{"$f":"SUMIF(CQ85:CQ110,\">0\")","v":0},{"$f":"SUMIF(CQ85:CQ110,\"<0\")","v":0},{"$f":"SUM(CT85:CT109)","v":0},0,0,0,0,0,{"$f":"SUM(CZ85:CZ110)","v":0},{"$f":"SUM(DA85:DA110)","v":0},{"$f":"SUM(DB85:DB109)","v":0},{"$f":"SUMIF(DB85:DB110,\">0\")","v":0},{"$f":"SUMIF(DB85:DB110,\"<0\")","v":0},{"$f":"SUM(DE85:DE109)","v":0},{"$f":"SUM(DF85:DF109)","v":0},{"$f":"SUM(DG85:DG109)","v":0},{"$f":"SUM(DH85:DH109)","v":0},{"$f":"SUM(DI85:DI109)","v":0},null,null,null,null,null,null,null,null,null,null,null,null,null,null,null,null,null,null,null,null,null,null,null,null,null,null,null,null,null,null,null,null,null,null,null,null,null,null,null,null,null,null,null,null,null,null,null,null,null,null,null,null,null,null,null,"kW Measure Savings","kW Adjusted Savings","Project source energy savings, Kbtu",{"$f":"IF(FP109<0,FP109*$FN$108,FP109*$FW$110)","v":{"$error":"#DIV/0!"}},{"$f":"IF(FQ109<0,FQ109*$FN$108,FQ109*$FW$110)","v":{"$error":"#DIV/0!"}},{"$f":"IF(FR109<0,FR109*$FN$108,FR109*$FW$110)","v":{"$error":"#DIV/0!"}},{"$error":"#DIV/0!"},{"$error":"#DIV/0!"},{"$error":"#DIV/0!"},{"$error":"#DIV/0!"},{"$error":"#DIV/0!"},{"$f":"SUM(FP111:FW111)","v":{"$error":"#DIV/0!"}}]
[null,null,null,"Commissioning Fees",null,{"$f":"'P4P - Measure Info'!X52","v":0},null,null,null,null,null,null,null,null,null,null,null,null,null,null,null,null,null,null,"Imact Adjustment to account for non-ECM runs",null,null,null,null,{"$f":"IF(AD111=0,1,IF(AE111=0,Z111/AC111,AA111/AD111))","v":1},{"$f":"(IF(AE111=0,1,IF(AD111=0,Z111/AC111,AB111/AE111)))","v":1},null,null,null,null,null,null,null,null,null,{"$f":"IF(AO111=0,1,IF(AP111=0,AK111/AN111,AL111/AO111))","v":1},{"$f":"(IF(AP111=0,1,IF(AO111=0,AK111/AN111,AM111/AP111)))","v":1},null,null,null,null,null,null,null,null,null,{"$f":"IF(AZ111=0,1,IF(BA111=0,AV111/AY111,AW111/AZ111))","v":1},{"$f":"(IF(BA111=0,1,IF(AZ111=0,AV111/AY111,AX111/BA111)))","v":1},null,null,null,null,null,null,null,null,null,{"$f":"IF(BK111=0,1,IF(BL111=0,BG111/BJ111,BH111/BK111))","v":1},{"$f":"(IF(BL111=0,1,IF(BK111=0,BG111/BJ111,BI111/BL111)))","v":1},null,null,null,null,null,null,null,null,null,{"$f":"IF(BV111=0,1,IF(BW111=0,BR111/BU111,BS111/BV111))","v":1},{"$f":"(IF(BW111=0,1,IF(BV111=0,BR111/BU111,BT111/BW111)))","v":1},null,null,null,null,null,null,null,null,null,{"$f":"IF(CG111=0,1,IF(CH111=0,CC111/CF111,CD111/CG111))","v":1},{"$f":"(IF(CH111=0,1,IF(CG111=0,CC111/CF111,CE111/CH111)))","v":1},null,null,null,null,null,null,null,null,null,{"$f":"IF(CR111=0,1,IF(CS111=0,CN111/CQ111,CO111/CR111))","v":1},{"$f":"(IF(CS111=0,1,IF(CR111=0,CN111/CQ111,CP111/CS111)))","v":1},null,null,null,null,null,null,null,null,null,{"$f":"IF(DC111=0,1,IF(DD111=0,CY111/DB111,CZ111/DC111))","v":1},{"$f":"(IF(DD111=0,1,IF(DC111=0,CY111/DB111,DA111/DD111)))","v":1},null,null,null,null,null,null,null,null,null,null,null,null,null,null,null,null,null,null,null,null,null,null,null,null,null,null,null,null,null,null,null,null,null,null,null,null,null,null,null,null,null,null,null,null,null,null,null,null,null,null,null,null,null,null,null,null,null,null,null,null,{"$f":"FM104-FN104","v":0},{"$f":"FM112+(FM112*FP115*FN113)","v":{"$error":"#DIV/0!"}},"Project site energy savings, kBtu",{"$f":"FP111/'P4P - General Info'!$F$65","v":{"$error":"#DIV/0!"}},{"$f":"FQ111/'P4P - General Info'!$F$66","v":{"$error":"#DIV/0!"}},{"$f":"FR111/'P4P - General Info'!$F$67","v":{"$error":"#DIV/0!"}},{"$f":"FS111/'P4P - General Info'!$F$68","v":{"$error":"#DIV/0!"}},{"$f":"FT111/'P4P - General Info'!$F$69","v":{"$error":"#DIV/0!"}},{"$f":"FU111/'P4P - General Info'!$F$70","v":{"$error":"#DIV/0!"}},{"$f":"FV111/'P4P - General Info'!$F$71","v":{"$error":"#DIV/0!"}},{"$f":"IFERROR(FW111/'P4P - General Info'!$F$72,0)","v":0}]
[null,null,null,"Post-construction Performance Fees ",null,{"$f":"'P4P - Measure Info'!X53","v":0},null,null,null,null,null,null,null,null,null,null,null,null,null,null,null,null,null,null,"Impact adjustment to account for 2004 vs 2019 or 2016",{"$f":"$AE$28/3.412*1000/Z111","v":{"$error":"#DIV/0!"}},{"$f":"IF(AJ111=0,$AE$28/Z111,$AE$30/AA111)/3.412*1000","v":{"$error":"#DIV/0!"}},{"$f":"IF(AI111=0,$AE$28/Z111,$AE$29/AB111)/3.412*1000","v":{"$error":"#DIV/0!"}},null,null,null,null,null,null,null,null,{"$f":"$AI$28/AK111","v":{"$error":"#DIV/0!"}},{"$f":"IF(AU111=0,$AI$28/AK111,$AI$30/AL111)","v":{"$error":"#DIV/0!"}},{"$f":"IF(AT111=0,$AI$28/AK111,$AI$29/AM111)","v":{"$error":"#DIV/0!"}},null,null,null,null,null,null,null,null,{"$f":"$AM$28/AV111","v":{"$error":"#DIV/0!"}},{"$f":"IF(BF111=0,$AM$28/AV111,$AM$30/AW111)","v":{"$error":"#DIV/0!"}},{"$f":"IF(BE111=0,$AM$28/AV111,$AM$29/AX111)","v":{"$error":"#DIV/0!"}},null,null,null,null,null,null,null,null,{"$f":"$AQ$28/BG111","v":{"$error":"#DIV/0!"}},{"$f":"IF(BQ111=0,$AQ$28/BG111,$AQ$30/BH111)","v":{"$error":"#DIV/0!"}},{"$f":"IF(BP111=0,$AQ$28/BG111,$AQ$29/BI111)","v":{"$error":"#DIV/0!"}},null,null,null,null,null,null,null,null,{"$f":"$AU$29/BR111","v":{"$error":"#DIV/0!"}},{"$f":"IF(CB111=0,$AU$28/BR111,$AU$30/BS111)","v":{"$error":"#DIV/0!"}},{"$f":"IF(CA111=0,$AU$28/BR111,$AU$29/BT111)","v":{"$error":"#DIV/0!"}},null,null,null,null,null,null,null,null,{"$f":"$AY$29/CC111","v":{"$error":"#DIV/0!"}},{"$f":"IF(CM111=0,$AY$28/CC111,$AY$30/CD111)","v":{"$error":"#DIV/0!"}},{"$f":"IF(CL111=0,$AY$28/CC111,$AY$29/CE111)","v":{"$error":"#DIV/0!"}},null,null,null,null,null,null,null,null,{"$f":"$BC$29/CN111","v":{"$error":"#DIV/0!"}},{"$f":"IF(CX111=0,$BC$28/CN111,$BC$30/CO111)","v":{"$error":"#DIV/0!"}},{"$f":"IF(CW111=0,$BC$28/CN111,$BC$29/CP111)","v":{"$error":"#DIV/0!"}},null,null,null,null,null,null,null,null,{"$f":"$BG$29/CY111","v":{"$error":"#DIV/0!"}},{"$f":"IF(DI111=0,$BG$28/CY111,$BG$30/CZ111)","v":{"$error":"#DIV/0!"}},{"$f":"IF(DH111=0,$BG$28/CY111,$BG$29/DA111)","v":{"$error":"#DIV/0!"}},null,null,null,null,null,null,null,null,null,null,null,null,null,null,null,null,null,null,null,null,null,null,null,null,null,null,null,null,null,null,null,null,null,null,null,null,null,null,null,null,null,null,null,null,null,null,null,null,null,null,null,null,null,null,null,null,null,null,null,null,null,null,null,"Coincidence factor",0.5,"Project site energy savings, MMBtu",{"$f":"FP112/1000","v":{"$error":"#DIV/0!"}},{"$f":"FQ112/1000","v":{"$error":"#DIV/0!"}},{"$error":"#DIV/0!"},{"$error":"#DIV/0!"},{"$error":"#DIV/0!"},{"$error":"#DIV/0!"},{"$error":"#DIV/0!"},0]
[null,null,null,"Fees for Other Services ",null,{"$f":"'P4P - Measure Info'!X54","v":0},null,null,null,null,null,null,null,null,null,null,null,null,null,null,null,null,null,null,null,null,null,null,null,null,null,null,null,null,null,null,null,null,null,null,null,null,null,null,null,null,null,null,null,null,null,null,null,null,null,null,null,null,null,null,null,null,null,null,null,null,null,null,null,null,null,null,null,null,null,null,null,null,null,null,null,null,null,null,null,null,null,null,null,null,null,null,null,null,null,null,null,null,null,null,null,null,null,null,null,null,null,null,null,null,null,null,null,null,null,null,null,null,null,null,null,null,null,null,null,null,null,null,null,null,null,null,null,null,null,null,null,null,null,null,null,null,null,null,null,null,null,null,null,null,null,null,null,null,null,null,null,null,null,null,null,null,null,null,null,null,null,null,null,null,"% Site energy savings",{"$f":"FP113/(G27)","v":{"$error":"#DIV/0!"}}]
[null,null,null,"TOTALS",null,{"$f":"SUM(F110:F114)","v":0},{"$f":"SUM(G85:G108)","v":0},{"$f":"SUM(H85:H108)","v":0},0,0,0,0,0,0,{"$f":"SUM(O85:O108)","v":0},{"$f":"SUM(P85:P109)","v":0},0,null,{"$f":"IF(Q115=0,0,F115/Q115)","v":0},{"$f":"SUM(T85:T109)-SUM(F110:F114)","v":0},{"$f":"IF(Q115=0,0,IF(Q115<0,0,IRR(DL115:EZ115,FA115)))","v":0},null,null,null,{"$f":"SUM(Y85:Y109)","v":0},null,null,null,null,null,null,null,null,null,null,null,null,null,null,null,null,null,null,null,null,null,null,null,null,null,null,null,null,null,null,null,null,null,null,null,null,null,null,null,null,null,null,null,null,null,null,null,null,null,null,null,null,null,null,null,null,null,null,null,null,null,null,null,null,null,null,null,null,null,null,null,null,null,null,null,null,null,null,null,null,null,null,null,null,null,null,null,null,null,null,{"$f":"-F115","v":0},{"$f":"SUM(DM85:DM109)","v":0},{"$f":"SUM(DN85:DN109)","v":0},{"$f":"SUM(DO85:DO109)","v":0},0,0,0,0,0,0,0,0,0,0,0,0,0,0,0,0,0,0,0,0,0,0,0,0,0,0,0,0,0,0,0,0,0,0,0,0,{"$f":"SUM(EZ85:EZ109)","v":0},{"$f":"IF(Q115*R115>F115,0.3,-0.3)","v":-0.3},null,null,null,null,null,null,null,null,null,null,null,null,null,"% increase in source savings measure versus whole building",{"$f":"(FP111-FP106)/FP111","v":{"$error":"#DIV/0!"}},{"$f":"(FQ111-FQ106)/FQ111","v":{"$error":"#DIV/0!"}},{"$error":"#DIV/0!"},{"$error":"#DIV/0!"},{"$error":"#DIV/0!"},{"$error":"#DIV/0!"},{"$error":"#DIV/0!"},{"$error":"#DIV/0!"},{"$f":"(FX111-FX106)/FX111","v":{"$error":"#DIV/0!"}}]
[]
[]
[null,null,null,"Total Project Savings by Fuel - Adjusted for ASHRAE 90.1-2019 or 2016 Baseline",null,null,null,null,null,null,null,null,null,null,null,null,null,null,null,null,null,null,null,null,null,null,null,null,null,null,null,null,null,null,null,null,null,null,null,null,null,null,null,null,null,null,null,null,null,null,null,null,null,null,null,null,null,null,null,null,null,null,null,null,null,null,null,null,null,null,null,null,null,null,null,null,null,null,null,null,null,null,null,null,null,null,null,null,null,null,null,null,null,null,null,null,null,null,null,null,null,null,null,null,null,null,null,null,null,null,null,null,null,null,null,null,"Discount Rate =",0.03]
[null,null,null,"Measure Name",null,null,"Annual Energy Savings",null,null,null,null,null,null,null,"Demand Savings",null,null,"Measure Life ","Simple Payback","Life Cycle Savings","IRR",null,null,null,"Old Reporting Method: Note tha PCI's BPF, and measure life's have been changed since the last version.",null,null,null,null,null,null,null,null,null,{"$f":"SUMIF($O$85:$O$109,\"<>0\",$G$122:$G$146)","v":0},null,null,null,null,null,null,null,null,null,null,null,null,null,null,null,null,null,null,null,null,null,null,null,null,null,null,null,null,null,null,null,null,null,null,null,null,null,null,null,null,null,null,null,null,null,null,null,null,null,null,null,null,null,null,null,null,null,null,null,null,null,null,null,null,null,null,null,null,null,null,null,null,null,null,null,null,null,null,null,null,"Cash Flow for IRR calculations"]
[null,null,null,null,null,null,"Adjusted Electric kWh","Adjusted Gas MMBtu","Adjusted Steam MMBtu","Adjusted HW MMBtu","Adjusted CHW MMBtu","Adjusted Fuel Oil MMBtu","Adjusted Propane MMBtu","Adjusted Other MMBtu","kW",null,null,"years","years",null,null,null,null,null,{"$f":"G120","v":"Adjusted Electric kWh"},"Adjusted Gas MMBtu","Adjusted Steam MMBtu","Adjusted HW MMBtu","Adjusted CHW MMBtu","Adjusted Fuel Oil MMBtu","Adjusted Propane MMBtu","Adjusted Other MMBtu","$","kWh 2019 or 2016 Baseline","kWh 2019 or 2016/kWh 2004 Baseline","kW Baseline 2019","kW Saved 2019 to Proposed Corrected","kW Saved 2019 or 2016 to Proposed",null,null,null,null,null,null,null,null,null,null,null,null,null,null,null,null,null,null,null,null,null,null,null,null,null,null,null,null,null,null,null,null,null,null,null,null,null,null,null,null,null,null,null,null,null,null,null,null,null,null,null,null,null,null,null,null,null,null,null,null,null,null,null,null,null,null,null,null,null,null,null,null,null,null,null,null,null,"Year 0","Year 1","Year 2","Year 3","Year 4","Year 5","Year 6","Year 7","Year 8","Year 9","Year 10","Year 11","Year 12","Year 13","Year 14","Year 15","Year 16","Year 17","Year 18","Year 19","Year 20","Year 21","Year 22","Year 23","Year 24","Year 25","Year 26","Year 27","Year 28","Year 29","Year 30","Year 31","Year 32","Year 33","Year 34","Year 35","Year 36","Year 37","Year 38","Year 39","Year 40","IRR Estimate"]
[null,null,null,25,"Dummy Measure",{"$f":"IF('P4P - Measure Info'!C47=\"Yes\",F109,0)","v":0},{"$f":"IFERROR(AE28/3.412*1000,\"-\")","v":"-"},{"$f":"IFERROR(AI28,\"-\")","v":"-"},{"$f":"IFERROR(AM28,\"-\")","v":"-"},{"$f":"IFERROR(AQ28,\"-\")","v":"-"},{"$f":"IFERROR(AU28,\"-\")","v":"-"},{"$f":"IFERROR(AY28,\"-\")","v":"-"},{"$f":"IFERROR(BC28,\"-\")","v":"-"},{"$f":"IFERROR(BG28,\"-\")","v":"-"},{"$f":"'P4P - Project Summary'!I20","v":0},null,null,{"$f":"IFERROR(SUMPRODUCT($R$85:$R$108,$Q$85:$Q$108)/SUM(Q85:Q108),0)","v":0}]
[null,null,null,null,null,null,null,null,null,null,null,null,null,null,null,null,null,null,{"$f":"IF(Q122=0,0,IF(P4P_Path=\"ASHRAE bEQ\",0,F122/Q122))","v":0},null,null,null,null,null,{"$f":"IF(G85=0,0,IF($I$47=0,0,IF(AG122=0,0,IF(P4P_Path=\"ASHRAE bEQ\",0,G85*$K$47/$Y$115))))","v":0},{"$f":"IF(H85=0,0,IF($I$47=0,0,IF(F122=0,0,IF(P4P_Path=\"ASHRAE bEQ\",0,H85*$K$47/$Y$115))))","v":0},{"$f":"IF(I85=0,0,IF($I$47=0,0,IF(F122=0,0,IF(P4P_Path=\"ASHRAE bEQ\",0,I85*$K$47/$Y$115))))","v":0},{"$f":"IF(I85=0,0,IF($I$47=0,0,IF(F122=0,0,IF(P4P_Path=\"ASHRAE bEQ\",0,J85*$K$47/$Y$115))))","v":0},{"$f":"IF(I85=0,0,IF($I$47=0,0,IF(F122=0,0,IF(P4P_Path=\"ASHRAE bEQ\",0,K85*$K$47/$Y$115))))","v":0},{"$f":"IF(I85=0,0,IF($I$47=0,0,IF(F122=0,0,IF(P4P_Path=\"ASHRAE bEQ\",0,L85*$K$47/$Y$115))))","v":0},{"$f":"IF(I85=0,0,IF($I$47=0,0,IF(F122=0,0,IF(P4P_Path=\"ASHRAE bEQ\",0,M85*$K$47/$Y$115))))","v":0},{"$f":"IF(I85=0,0,IF($I$47=0,0,IF(F122=0,0,IF(P4P_Path=\"ASHRAE bEQ\",0,N85*$K$47/$Y$115))))","v":0},{"$f":"'P4P - Measure Info'!X23","v":0},{"$f":"IFERROR(G122+H55,0)","v":0},{"$f":"IFERROR(AH122/H53,0)","v":0},{"$f":"IFERROR(I53*AI122,0)","v":0},{"$f":"IFERROR(('P4P - Project Summary'!$I$20/SUM($AL$122:$AL$146))*AL122,0)","v":0},{"$f":"IFERROR(IF('P4P - Measure Info'!$C23=\"Yes\",IF(O85<>0,'P4P - Support Data'!$O$76*O85,0),0),0)","v":0},null,null,null,null,null,null,null,null,null,null,null,null,null,null,null,null,null,null,null,null,null,null,null,null,null,null,null,null,null,null,null,null,null,null,null,null,null,null,null,null,null,null,null,null,null,null,null,null,null,null,null,null,null,null,null,null,null,null,null,null,null,null,null,null,null,null,null,null,null,null,null,null,null,null,null,null,null,{"$f":"-F122","v":0},{"$f":"P122+Q122","v":0},{"$f":"IF(COUNTIF(DM122,P122+Q122)<R122,P122+Q122,0)","v":0},{"$f":"IF(COUNTIF($DM122:DN122,$P122+$Q122)<$R122,$P122+$Q122,0)","v":0},{"$f":"IF(COUNTIF($DM122:DO122,$P122+$Q122)<$R122,$P122+$Q122,0)","v":0},{"$f":"IF(COUNTIF($DM122:DP122,$P122+$Q122)<$R122,$P122+$Q122,0)","v":0},{"$f":"IF(COUNTIF($DM122:DQ122,$P122+$Q122)<$R122,$P122+$Q122,0)","v":0},{"$f":"IF(COUNTIF($DM122:DR122,$P122+$Q122)<$R122,$P122+$Q122,0)","v":0},{"$f":"IF(COUNTIF($DM122:DS122,$P122+$Q122)<$R122,$P122+$Q122,0)","v":0},{"$f":"IF(COUNTIF($DM122:DT122,$P122+$Q122)<$R122,$P122+$Q122,0)","v":0},{"$f":"IF(COUNTIF($DM122:DU122,$P122+$Q122)<$R122,$P122+$Q122,0)","v":0},{"$f":"IF(COUNTIF($DM122:DV122,$P122+$Q122)<$R122,$P122+$Q122,0)","v":0},{"$f":"IF(COUNTIF($DM122:DW122,$P122+$Q122)<$R122,$P122+$Q122,0)","v":0},{"$f":"IF(COUNTIF($DM122:DX122,$P122+$Q122)<$R122,$P122+$Q122,0)","v":0},{"$f":"IF(COUNTIF($DM122:DY122,$P122+$Q122)<$R122,$P122+$Q122,0)","v":0},{"$f":"IF(COUNTIF($DM122:DZ122,$P122+$Q122)<$R122,$P122+$Q122,0)","v":0},{"$f":"IF(COUNTIF($DM122:EA122,$P122+$Q122)<$R122,$P122+$Q122,0)","v":0},{"$f":"IF(COUNTIF($DM122:EB122,$P122+$Q122)<$R122,$P122+$Q122,0)","v":0},{"$f":"IF(COUNTIF($DM122:EC122,$P122+$Q122)<$R122,$P122+$Q122,0)","v":0},{"$f":"IF(COUNTIF($DM122:ED122,$P122+$Q122)<$R122,$P122+$Q122,0)","v":0},{"$f":"IF(COUNTIF($DM122:EE122,$P122+$Q122)<$R122,$P122+$Q122,0)","v":0},{"$f":"IF(COUNTIF($DM122:EF122,$P122+$Q122)<$R122,$P122+$Q122,0)","v":0},{"$f":"IF(COUNTIF($DM122:EG122,$P122+$Q122)<$R122,$P122+$Q122,0)","v":0},{"$f":"IF(COUNTIF($DM122:EH122,$P122+$Q122)<$R122,$P122+$Q122,0)","v":0},{"$f":"IF(COUNTIF($DM122:EI122,$P122+$Q122)<$R122,$P122+$Q122,0)","v":0},{"$f":"IF(COUNTIF($DM122:EJ122,$P122+$Q122)<$R122,$P122+$Q122,0)","v":0},{"$f":"IF(COUNTIF($DM122:EK122,$P122+$Q122)<$R122,$P122+$Q122,0)","v":0},{"$f":"IF(COUNTIF($DM122:EL122,$P122+$Q122)<$R122,$P122+$Q122,0)","v":0},{"$f":"IF(COUNTIF($DM122:EM122,$P122+$Q122)<$R122,$P122+$Q122,0)","v":0},{"$f":"IF(COUNTIF($DM122:EN122,$P122+$Q122)<$R122,$P122+$Q122,0)","v":0},{"$f":"IF(COUNTIF($DM122:EO122,$P122+$Q122)<$R122,$P122+$Q122,0)","v":0},{"$f":"IF(COUNTIF($DM122:EP122,$P122+$Q122)<$R122,$P122+$Q122,0)","v":0},{"$f":"IF(COUNTIF($DM122:EQ122,$P122+$Q122)<$R122,$P122+$Q122,0)","v":0},{"$f":"IF(COUNTIF($DM122:ER122,$P122+$Q122)<$R122,$P122+$Q122,0)","v":0},{"$f":"IF(COUNTIF($DM122:ES122,$P122+$Q122)<$R122,$P122+$Q122,0)","v":0},{"$f":"IF(COUNTIF($DM122:ET122,$P122+$Q122)<$R122,$P122+$Q122,0)","v":0},{"$f":"IF(COUNTIF($DM122:EU122,$P122+$Q122)<$R122,$P122+$Q122,0)","v":0},{"$f":"IF(COUNTIF($DM122:EV122,$P122+$Q122)<$R122,$P122+$Q122,0)","v":0},{"$f":"IF(COUNTIF($DM122:EW122,$P122+$Q122)<$R122,$P122+$Q122,0)","v":0},{"$f":"IF(COUNTIF($DM122:EX122,$P122+$Q122)<$R122,$P122+$Q122,0)","v":0},{"$f":"IF(COUNTIF($DM122:EY122,$P122+$Q122)<$R122,$P122+$Q122,0)","v":0},{"$f":"IF(Q122*R122>F122,0.3,-0.3)","v":-0.3}]
[null,null,null,null,null,null,null,null,null,null,null,null,null,null,null,null,null,null,0,null,null,null,null,null,0,0,0,0,0,0,0,0,{"$f":"'P4P - Measure Info'!X24","v":0},{"$f":"IFERROR(G123+H56,0)","v":0},{"$f":"IFERROR(AH123/H55,0)","v":0},{"$f":"IFERROR(I55*AI123,0)","v":0},{"$f":"IFERROR(('P4P - Project Summary'!$I$20/SUM($AL$122:$AL$146))*AL123,0)","v":0},{"$f":"IFERROR(IF('P4P - Measure Info'!$C24=\"Yes\",IF(O86<>0,'P4P - Support Data'!$O$76*O86,0),0),0)","v":0},null,null,null,null,null,null,null,null,null,null,null,null,null,null,null,null,null,null,null,null,null,null,null,null,null,null,null,null,null,null,null,null,null,null,null,null,null,null,null,null,null,null,null,null,null,null,null,null,null,null,null,null,null,null,null,null,null,null,null,null,null,null,null,null,null,null,null,null,null,null,null,null,null,null,null,null,null,0,0,0,{"$f":"IF(COUNTIF($DM123:DN123,$P123+$Q123)<$R123,$P123+$Q123,0)","v":0},{"$f":"IF(COUNTIF($DM123:DO123,$P123+$Q123)<$R123,$P123+$Q123,0)","v":0},{"$f":"IF(COUNTIF($DM123:DP123,$P123+$Q123)<$R123,$P123+$Q123,0)","v":0},{"$f":"IF(COUNTIF($DM123:DQ123,$P123+$Q123)<$R123,$P123+$Q123,0)","v":0},{"$f":"IF(COUNTIF($DM123:DR123,$P123+$Q123)<$R123,$P123+$Q123,0)","v":0},{"$f":"IF(COUNTIF($DM123:DS123,$P123+$Q123)<$R123,$P123+$Q123,0)","v":0},{"$f":"IF(COUNTIF($DM123:DT123,$P123+$Q123)<$R123,$P123+$Q123,0)","v":0},{"$f":"IF(COUNTIF($DM123:DU123,$P123+$Q123)<$R123,$P123+$Q123,0)","v":0},{"$f":"IF(COUNTIF($DM123:DV123,$P123+$Q123)<$R123,$P123+$Q123,0)","v":0},{"$f":"IF(COUNTIF($DM123:DW123,$P123+$Q123)<$R123,$P123+$Q123,0)","v":0},{"$f":"IF(COUNTIF($DM123:DX123,$P123+$Q123)<$R123,$P123+$Q123,0)","v":0},{"$f":"IF(COUNTIF($DM123:DY123,$P123+$Q123)<$R123,$P123+$Q123,0)","v":0},{"$f":"IF(COUNTIF($DM123:DZ123,$P123+$Q123)<$R123,$P123+$Q123,0)","v":0},{"$f":"IF(COUNTIF($DM123:EA123,$P123+$Q123)<$R123,$P123+$Q123,0)","v":0},{"$f":"IF(COUNTIF($DM123:EB123,$P123+$Q123)<$R123,$P123+$Q123,0)","v":0},{"$f":"IF(COUNTIF($DM123:EC123,$P123+$Q123)<$R123,$P123+$Q123,0)","v":0},{"$f":"IF(COUNTIF($DM123:ED123,$P123+$Q123)<$R123,$P123+$Q123,0)","v":0},{"$f":"IF(COUNTIF($DM123:EE123,$P123+$Q123)<$R123,$P123+$Q123,0)","v":0},{"$f":"IF(COUNTIF($DM123:EF123,$P123+$Q123)<$R123,$P123+$Q123,0)","v":0},{"$f":"IF(COUNTIF($DM123:EG123,$P123+$Q123)<$R123,$P123+$Q123,0)","v":0},{"$f":"IF(COUNTIF($DM123:EH123,$P123+$Q123)<$R123,$P123+$Q123,0)","v":0},{"$f":"IF(COUNTIF($DM123:EI123,$P123+$Q123)<$R123,$P123+$Q123,0)","v":0},{"$f":"IF(COUNTIF($DM123:EJ123,$P123+$Q123)<$R123,$P123+$Q123,0)","v":0},{"$f":"IF(COUNTIF($DM123:EK123,$P123+$Q123)<$R123,$P123+$Q123,0)","v":0},{"$f":"IF(COUNTIF($DM123:EL123,$P123+$Q123)<$R123,$P123+$Q123,0)","v":0},{"$f":"IF(COUNTIF($DM123:EM123,$P123+$Q123)<$R123,$P123+$Q123,0)","v":0},{"$f":"IF(COUNTIF($DM123:EN123,$P123+$Q123)<$R123,$P123+$Q123,0)","v":0},{"$f":"IF(COUNTIF($DM123:EO123,$P123+$Q123)<$R123,$P123+$Q123,0)","v":0},{"$f":"IF(COUNTIF($DM123:EP123,$P123+$Q123)<$R123,$P123+$Q123,0)","v":0},{"$f":"IF(COUNTIF($DM123:EQ123,$P123+$Q123)<$R123,$P123+$Q123,0)","v":0},{"$f":"IF(COUNTIF($DM123:ER123,$P123+$Q123)<$R123,$P123+$Q123,0)","v":0},{"$f":"IF(COUNTIF($DM123:ES123,$P123+$Q123)<$R123,$P123+$Q123,0)","v":0},{"$f":"IF(COUNTIF($DM123:ET123,$P123+$Q123)<$R123,$P123+$Q123,0)","v":0},{"$f":"IF(COUNTIF($DM123:EU123,$P123+$Q123)<$R123,$P123+$Q123,0)","v":0},{"$f":"IF(COUNTIF($DM123:EV123,$P123+$Q123)<$R123,$P123+$Q123,0)","v":0},{"$f":"IF(COUNTIF($DM123:EW123,$P123+$Q123)<$R123,$P123+$Q123,0)","v":0},{"$f":"IF(COUNTIF($DM123:EX123,$P123+$Q123)<$R123,$P123+$Q123,0)","v":0},{"$f":"IF(COUNTIF($DM123:EY123,$P123+$Q123)<$R123,$P123+$Q123,0)","v":0},-0.3]
[null,null,null,null,null,null,null,null,null,null,null,null,null,null,null,null,null,null,0,null,null,null,null,null,0,0,0,0,0,0,0,0,{"$f":"'P4P - Measure Info'!X25","v":0},0,{"$f":"IFERROR(AH124/H56,0)","v":0},{"$f":"IFERROR(I56*AI124,0)","v":0},{"$f":"IFERROR(('P4P - Project Summary'!$I$20/SUM($AL$122:$AL$146))*AL124,0)","v":0},{"$f":"IFERROR(IF('P4P - Measure Info'!$C25=\"Yes\",IF(O87<>0,'P4P - Support Data'!$O$76*O87,0),0),0)","v":0},null,null,null,null,null,null,null,null,null,null,null,null,null,null,null,null,null,null,null,null,null,null,null,null,null,null,null,null,null,null,null,null,null,null,null,null,null,null,null,null,null,null,null,null,null,null,null,null,null,null,null,null,null,null,null,null,null,null,null,null,null,null,null,null,null,null,null,null,null,null,null,null,null,null,null,null,null,0,0,0,{"$f":"IF(COUNTIF($DM124:DN124,$P124+$Q124)<$R124,$P124+$Q124,0)","v":0},{"$f":"IF(COUNTIF($DM124:DO124,$P124+$Q124)<$R124,$P124+$Q124,0)","v":0},{"$f":"IF(COUNTIF($DM124:DP124,$P124+$Q124)<$R124,$P124+$Q124,0)","v":0},{"$f":"IF(COUNTIF($DM124:DQ124,$P124+$Q124)<$R124,$P124+$Q124,0)","v":0},{"$f":"IF(COUNTIF($DM124:DR124,$P124+$Q124)<$R124,$P124+$Q124,0)","v":0},{"$f":"IF(COUNTIF($DM124:DS124,$P124+$Q124)<$R124,$P124+$Q124,0)","v":0},{"$f":"IF(COUNTIF($DM124:DT124,$P124+$Q124)<$R124,$P124+$Q124,0)","v":0},{"$f":"IF(COUNTIF($DM124:DU124,$P124+$Q124)<$R124,$P124+$Q124,0)","v":0},{"$f":"IF(COUNTIF($DM124:DV124,$P124+$Q124)<$R124,$P124+$Q124,0)","v":0},{"$f":"IF(COUNTIF($DM124:DW124,$P124+$Q124)<$R124,$P124+$Q124,0)","v":0},{"$f":"IF(COUNTIF($DM124:DX124,$P124+$Q124)<$R124,$P124+$Q124,0)","v":0},{"$f":"IF(COUNTIF($DM124:DY124,$P124+$Q124)<$R124,$P124+$Q124,0)","v":0},{"$f":"IF(COUNTIF($DM124:DZ124,$P124+$Q124)<$R124,$P124+$Q124,0)","v":0},{"$f":"IF(COUNTIF($DM124:EA124,$P124+$Q124)<$R124,$P124+$Q124,0)","v":0},{"$f":"IF(COUNTIF($DM124:EB124,$P124+$Q124)<$R124,$P124+$Q124,0)","v":0},{"$f":"IF(COUNTIF($DM124:EC124,$P124+$Q124)<$R124,$P124+$Q124,0)","v":0},{"$f":"IF(COUNTIF($DM124:ED124,$P124+$Q124)<$R124,$P124+$Q124,0)","v":0},{"$f":"IF(COUNTIF($DM124:EE124,$P124+$Q124)<$R124,$P124+$Q124,0)","v":0},{"$f":"IF(COUNTIF($DM124:EF124,$P124+$Q124)<$R124,$P124+$Q124,0)","v":0},{"$f":"IF(COUNTIF($DM124:EG124,$P124+$Q124)<$R124,$P124+$Q124,0)","v":0},{"$f":"IF(COUNTIF($DM124:EH124,$P124+$Q124)<$R124,$P124+$Q124,0)","v":0},{"$f":"IF(COUNTIF($DM124:EI124,$P124+$Q124)<$R124,$P124+$Q124,0)","v":0},{"$f":"IF(COUNTIF($DM124:EJ124,$P124+$Q124)<$R124,$P124+$Q124,0)","v":0},{"$f":"IF(COUNTIF($DM124:EK124,$P124+$Q124)<$R124,$P124+$Q124,0)","v":0},{"$f":"IF(COUNTIF($DM124:EL124,$P124+$Q124)<$R124,$P124+$Q124,0)","v":0},{"$f":"IF(COUNTIF($DM124:EM124,$P124+$Q124)<$R124,$P124+$Q124,0)","v":0},{"$f":"IF(COUNTIF($DM124:EN124,$P124+$Q124)<$R124,$P124+$Q124,0)","v":0},{"$f":"IF(COUNTIF($DM124:EO124,$P124+$Q124)<$R124,$P124+$Q124,0)","v":0},{"$f":"IF(COUNTIF($DM124:EP124,$P124+$Q124)<$R124,$P124+$Q124,0)","v":0},{"$f":"IF(COUNTIF($DM124:EQ124,$P124+$Q124)<$R124,$P124+$Q124,0)","v":0},{"$f":"IF(COUNTIF($DM124:ER124,$P124+$Q124)<$R124,$P124+$Q124,0)","v":0},{"$f":"IF(COUNTIF($DM124:ES124,$P124+$Q124)<$R124,$P124+$Q124,0)","v":0},{"$f":"IF(COUNTIF($DM124:ET124,$P124+$Q124)<$R124,$P124+$Q124,0)","v":0},{"$f":"IF(COUNTIF($DM124:EU124,$P124+$Q124)<$R124,$P124+$Q124,0)","v":0},{"$f":"IF(COUNTIF($DM124:EV124,$P124+$Q124)<$R124,$P124+$Q124,0)","v":0},{"$f":"IF(COUNTIF($DM124:EW124,$P124+$Q124)<$R124,$P124+$Q124,0)","v":0},{"$f":"IF(COUNTIF($DM124:EX124,$P124+$Q124)<$R124,$P124+$Q124,0)","v":0},{"$f":"IF(COUNTIF($DM124:EY124,$P124+$Q124)<$R124,$P124+$Q124,0)","v":0},-0.3]
[null,null,null,null,null,null,null,null,null,null,null,null,null,null,null,null,null,null,0,null,null,null,null,null,0,0,0,0,0,0,0,0,{"$f":"'P4P - Measure Info'!X26","v":0},0,0,0,{"$f":"IFERROR(('P4P - Project Summary'!$I$20/SUM($AL$122:$AL$146))*AL125,0)","v":0},{"$f":"IFERROR(IF('P4P - Measure Info'!$C26=\"Yes\",IF(O88<>0,'P4P - Support Data'!$O$76*O88,0),0),0)","v":0},null,null,null,null,null,null,null,null,null,null,null,null,null,null,null,null,null,null,null,null,null,null,null,null,null,null,null,null,null,null,null,null,null,null,null,null,null,null,null,null,null,null,null,null,null,null,null,null,null,null,null,null,null,null,null,null,null,null,null,null,null,null,null,null,null,null,null,null,null,null,null,null,null,null,null,null,null,0,0,0,{"$f":"IF(COUNTIF($DM125:DN125,$P125+$Q125)<$R125,$P125+$Q125,0)","v":0},{"$f":"IF(COUNTIF($DM125:DO125,$P125+$Q125)<$R125,$P125+$Q125,0)","v":0},{"$f":"IF(COUNTIF($DM125:DP125,$P125+$Q125)<$R125,$P125+$Q125,0)","v":0},{"$f":"IF(COUNTIF($DM125:DQ125,$P125+$Q125)<$R125,$P125+$Q125,0)","v":0},{"$f":"IF(COUNTIF($DM125:DR125,$P125+$Q125)<$R125,$P125+$Q125,0)","v":0},{"$f":"IF(COUNTIF($DM125:DS125,$P125+$Q125)<$R125,$P125+$Q125,0)","v":0},{"$f":"IF(COUNTIF($DM125:DT125,$P125+$Q125)<$R125,$P125+$Q125,0)","v":0},{"$f":"IF(COUNTIF($DM125:DU125,$P125+$Q125)<$R125,$P125+$Q125,0)","v":0},{"$f":"IF(COUNTIF($DM125:DV125,$P125+$Q125)<$R125,$P125+$Q125,0)","v":0},{"$f":"IF(COUNTIF($DM125:DW125,$P125+$Q125)<$R125,$P125+$Q125,0)","v":0},{"$f":"IF(COUNTIF($DM125:DX125,$P125+$Q125)<$R125,$P125+$Q125,0)","v":0},{"$f":"IF(COUNTIF($DM125:DY125,$P125+$Q125)<$R125,$P125+$Q125,0)","v":0},{"$f":"IF(COUNTIF($DM125:DZ125,$P125+$Q125)<$R125,$P125+$Q125,0)","v":0},{"$f":"IF(COUNTIF($DM125:EA125,$P125+$Q125)<$R125,$P125+$Q125,0)","v":0},{"$f":"IF(COUNTIF($DM125:EB125,$P125+$Q125)<$R125,$P125+$Q125,0)","v":0},{"$f":"IF(COUNTIF($DM125:EC125,$P125+$Q125)<$R125,$P125+$Q125,0)","v":0},{"$f":"IF(COUNTIF($DM125:ED125,$P125+$Q125)<$R125,$P125+$Q125,0)","v":0},{"$f":"IF(COUNTIF($DM125:EE125,$P125+$Q125)<$R125,$P125+$Q125,0)","v":0},{"$f":"IF(COUNTIF($DM125:EF125,$P125+$Q125)<$R125,$P125+$Q125,0)","v":0},{"$f":"IF(COUNTIF($DM125:EG125,$P125+$Q125)<$R125,$P125+$Q125,0)","v":0},{"$f":"IF(COUNTIF($DM125:EH125,$P125+$Q125)<$R125,$P125+$Q125,0)","v":0},{"$f":"IF(COUNTIF($DM125:EI125,$P125+$Q125)<$R125,$P125+$Q125,0)","v":0},{"$f":"IF(COUNTIF($DM125:EJ125,$P125+$Q125)<$R125,$P125+$Q125,0)","v":0},{"$f":"IF(COUNTIF($DM125:EK125,$P125+$Q125)<$R125,$P125+$Q125,0)","v":0},{"$f":"IF(COUNTIF($DM125:EL125,$P125+$Q125)<$R125,$P125+$Q125,0)","v":0},{"$f":"IF(COUNTIF($DM125:EM125,$P125+$Q125)<$R125,$P125+$Q125,0)","v":0},{"$f":"IF(COUNTIF($DM125:EN125,$P125+$Q125)<$R125,$P125+$Q125,0)","v":0},{"$f":"IF(COUNTIF($DM125:EO125,$P125+$Q125)<$R125,$P125+$Q125,0)","v":0},{"$f":"IF(COUNTIF($DM125:EP125,$P125+$Q125)<$R125,$P125+$Q125,0)","v":0},{"$f":"IF(COUNTIF($DM125:EQ125,$P125+$Q125)<$R125,$P125+$Q125,0)","v":0},{"$f":"IF(COUNTIF($DM125:ER125,$P125+$Q125)<$R125,$P125+$Q125,0)","v":0},{"$f":"IF(COUNTIF($DM125:ES125,$P125+$Q125)<$R125,$P125+$Q125,0)","v":0},{"$f":"IF(COUNTIF($DM125:ET125,$P125+$Q125)<$R125,$P125+$Q125,0)","v":0},{"$f":"IF(COUNTIF($DM125:EU125,$P125+$Q125)<$R125,$P125+$Q125,0)","v":0},{"$f":"IF(COUNTIF($DM125:EV125,$P125+$Q125)<$R125,$P125+$Q125,0)","v":0},{"$f":"IF(COUNTIF($DM125:EW125,$P125+$Q125)<$R125,$P125+$Q125,0)","v":0},{"$f":"IF(COUNTIF($DM125:EX125,$P125+$Q125)<$R125,$P125+$Q125,0)","v":0},{"$f":"IF(COUNTIF($DM125:EY125,$P125+$Q125)<$R125,$P125+$Q125,0)","v":0},-0.3]
[null,null,null,null,null,null,null,null,null,null,null,null,null,null,null,null,null,null,0,null,null,null,null,null,0,0,0,0,0,0,0,0,{"$f":"'P4P - Measure Info'!X27","v":0},0,0,0,{"$f":"IFERROR(('P4P - Project Summary'!$I$20/SUM($AL$122:$AL$146))*AL126,0)","v":0},{"$f":"IFERROR(IF('P4P - Measure Info'!$C27=\"Yes\",IF(O89<>0,'P4P - Support Data'!$O$76*O89,0),0),0)","v":0},null,null,null,null,null,null,null,null,null,null,null,null,null,null,null,null,null,null,null,null,null,null,null,null,null,null,null,null,null,null,null,null,null,null,null,null,null,null,null,null,null,null,null,null,null,null,null,null,null,null,null,null,null,null,null,null,null,null,null,null,null,null,null,null,null,null,null,null,null,null,null,null,null,null,null,null,null,0,0,0,{"$f":"IF(COUNTIF($DM126:DN126,$P126+$Q126)<$R126,$P126+$Q126,0)","v":0},{"$f":"IF(COUNTIF($DM126:DO126,$P126+$Q126)<$R126,$P126+$Q126,0)","v":0},{"$f":"IF(COUNTIF($DM126:DP126,$P126+$Q126)<$R126,$P126+$Q126,0)","v":0},{"$f":"IF(COUNTIF($DM126:DQ126,$P126+$Q126)<$R126,$P126+$Q126,0)","v":0},{"$f":"IF(COUNTIF($DM126:DR126,$P126+$Q126)<$R126,$P126+$Q126,0)","v":0},{"$f":"IF(COUNTIF($DM126:DS126,$P126+$Q126)<$R126,$P126+$Q126,0)","v":0},{"$f":"IF(COUNTIF($DM126:DT126,$P126+$Q126)<$R126,$P126+$Q126,0)","v":0},{"$f":"IF(COUNTIF($DM126:DU126,$P126+$Q126)<$R126,$P126+$Q126,0)","v":0},{"$f":"IF(COUNTIF($DM126:DV126,$P126+$Q126)<$R126,$P126+$Q126,0)","v":0},{"$f":"IF(COUNTIF($DM126:DW126,$P126+$Q126)<$R126,$P126+$Q126,0)","v":0},{"$f":"IF(COUNTIF($DM126:DX126,$P126+$Q126)<$R126,$P126+$Q126,0)","v":0},{"$f":"IF(COUNTIF($DM126:DY126,$P126+$Q126)<$R126,$P126+$Q126,0)","v":0},{"$f":"IF(COUNTIF($DM126:DZ126,$P126+$Q126)<$R126,$P126+$Q126,0)","v":0},{"$f":"IF(COUNTIF($DM126:EA126,$P126+$Q126)<$R126,$P126+$Q126,0)","v":0},{"$f":"IF(COUNTIF($DM126:EB126,$P126+$Q126)<$R126,$P126+$Q126,0)","v":0},{"$f":"IF(COUNTIF($DM126:EC126,$P126+$Q126)<$R126,$P126+$Q126,0)","v":0},{"$f":"IF(COUNTIF($DM126:ED126,$P126+$Q126)<$R126,$P126+$Q126,0)","v":0},{"$f":"IF(COUNTIF($DM126:EE126,$P126+$Q126)<$R126,$P126+$Q126,0)","v":0},{"$f":"IF(COUNTIF($DM126:EF126,$P126+$Q126)<$R126,$P126+$Q126,0)","v":0},{"$f":"IF(COUNTIF($DM126:EG126,$P126+$Q126)<$R126,$P126+$Q126,0)","v":0},{"$f":"IF(COUNTIF($DM126:EH126,$P126+$Q126)<$R126,$P126+$Q126,0)","v":0},{"$f":"IF(COUNTIF($DM126:EI126,$P126+$Q126)<$R126,$P126+$Q126,0)","v":0},{"$f":"IF(COUNTIF($DM126:EJ126,$P126+$Q126)<$R126,$P126+$Q126,0)","v":0},{"$f":"IF(COUNTIF($DM126:EK126,$P126+$Q126)<$R126,$P126+$Q126,0)","v":0},{"$f":"IF(COUNTIF($DM126:EL126,$P126+$Q126)<$R126,$P126+$Q126,0)","v":0},{"$f":"IF(COUNTIF($DM126:EM126,$P126+$Q126)<$R126,$P126+$Q126,0)","v":0},{"$f":"IF(COUNTIF($DM126:EN126,$P126+$Q126)<$R126,$P126+$Q126,0)","v":0},{"$f":"IF(COUNTIF($DM126:EO126,$P126+$Q126)<$R126,$P126+$Q126,0)","v":0},{"$f":"IF(COUNTIF($DM126:EP126,$P126+$Q126)<$R126,$P126+$Q126,0)","v":0},{"$f":"IF(COUNTIF($DM126:EQ126,$P126+$Q126)<$R126,$P126+$Q126,0)","v":0},{"$f":"IF(COUNTIF($DM126:ER126,$P126+$Q126)<$R126,$P126+$Q126,0)","v":0},{"$f":"IF(COUNTIF($DM126:ES126,$P126+$Q126)<$R126,$P126+$Q126,0)","v":0},{"$f":"IF(COUNTIF($DM126:ET126,$P126+$Q126)<$R126,$P126+$Q126,0)","v":0},{"$f":"IF(COUNTIF($DM126:EU126,$P126+$Q126)<$R126,$P126+$Q126,0)","v":0},{"$f":"IF(COUNTIF($DM126:EV126,$P126+$Q126)<$R126,$P126+$Q126,0)","v":0},{"$f":"IF(COUNTIF($DM126:EW126,$P126+$Q126)<$R126,$P126+$Q126,0)","v":0},{"$f":"IF(COUNTIF($DM126:EX126,$P126+$Q126)<$R126,$P126+$Q126,0)","v":0},{"$f":"IF(COUNTIF($DM126:EY126,$P126+$Q126)<$R126,$P126+$Q126,0)","v":0},-0.3]
[null,null,null,null,null,null,null,null,null,null,null,null,null,null,null,null,null,null,0,null,null,null,null,null,0,0,0,0,0,0,0,0,{"$f":"'P4P - Measure Info'!X28","v":0},0,0,0,{"$f":"IFERROR(('P4P - Project Summary'!$I$20/SUM($AL$122:$AL$146))*AL127,0)","v":0},{"$f":"IFERROR(IF('P4P - Measure Info'!$C28=\"Yes\",IF(O90<>0,'P4P - Support Data'!$O$76*O90,0),0),0)","v":0},null,null,null,null,null,null,null,null,null,null,null,null,null,null,null,null,null,null,null,null,null,null,null,null,null,null,null,null,null,null,null,null,null,null,null,null,null,null,null,null,null,null,null,null,null,null,null,null,null,null,null,null,null,null,null,null,null,null,null,null,null,null,null,null,null,null,null,null,null,null,null,null,null,null,null,null,null,0,0,0,{"$f":"IF(COUNTIF($DM127:DN127,$P127+$Q127)<$R127,$P127+$Q127,0)","v":0},{"$f":"IF(COUNTIF($DM127:DO127,$P127+$Q127)<$R127,$P127+$Q127,0)","v":0},{"$f":"IF(COUNTIF($DM127:DP127,$P127+$Q127)<$R127,$P127+$Q127,0)","v":0},{"$f":"IF(COUNTIF($DM127:DQ127,$P127+$Q127)<$R127,$P127+$Q127,0)","v":0},{"$f":"IF(COUNTIF($DM127:DR127,$P127+$Q127)<$R127,$P127+$Q127,0)","v":0},{"$f":"IF(COUNTIF($DM127:DS127,$P127+$Q127)<$R127,$P127+$Q127,0)","v":0},{"$f":"IF(COUNTIF($DM127:DT127,$P127+$Q127)<$R127,$P127+$Q127,0)","v":0},{"$f":"IF(COUNTIF($DM127:DU127,$P127+$Q127)<$R127,$P127+$Q127,0)","v":0},{"$f":"IF(COUNTIF($DM127:DV127,$P127+$Q127)<$R127,$P127+$Q127,0)","v":0},{"$f":"IF(COUNTIF($DM127:DW127,$P127+$Q127)<$R127,$P127+$Q127,0)","v":0},{"$f":"IF(COUNTIF($DM127:DX127,$P127+$Q127)<$R127,$P127+$Q127,0)","v":0},{"$f":"IF(COUNTIF($DM127:DY127,$P127+$Q127)<$R127,$P127+$Q127,0)","v":0},{"$f":"IF(COUNTIF($DM127:DZ127,$P127+$Q127)<$R127,$P127+$Q127,0)","v":0},{"$f":"IF(COUNTIF($DM127:EA127,$P127+$Q127)<$R127,$P127+$Q127,0)","v":0},{"$f":"IF(COUNTIF($DM127:EB127,$P127+$Q127)<$R127,$P127+$Q127,0)","v":0},{"$f":"IF(COUNTIF($DM127:EC127,$P127+$Q127)<$R127,$P127+$Q127,0)","v":0},{"$f":"IF(COUNTIF($DM127:ED127,$P127+$Q127)<$R127,$P127+$Q127,0)","v":0},{"$f":"IF(COUNTIF($DM127:EE127,$P127+$Q127)<$R127,$P127+$Q127,0)","v":0},{"$f":"IF(COUNTIF($DM127:EF127,$P127+$Q127)<$R127,$P127+$Q127,0)","v":0},{"$f":"IF(COUNTIF($DM127:EG127,$P127+$Q127)<$R127,$P127+$Q127,0)","v":0},{"$f":"IF(COUNTIF($DM127:EH127,$P127+$Q127)<$R127,$P127+$Q127,0)","v":0},{"$f":"IF(COUNTIF($DM127:EI127,$P127+$Q127)<$R127,$P127+$Q127,0)","v":0},{"$f":"IF(COUNTIF($DM127:EJ127,$P127+$Q127)<$R127,$P127+$Q127,0)","v":0},{"$f":"IF(COUNTIF($DM127:EK127,$P127+$Q127)<$R127,$P127+$Q127,0)","v":0},{"$f":"IF(COUNTIF($DM127:EL127,$P127+$Q127)<$R127,$P127+$Q127,0)","v":0},{"$f":"IF(COUNTIF($DM127:EM127,$P127+$Q127)<$R127,$P127+$Q127,0)","v":0},{"$f":"IF(COUNTIF($DM127:EN127,$P127+$Q127)<$R127,$P127+$Q127,0)","v":0},{"$f":"IF(COUNTIF($DM127:EO127,$P127+$Q127)<$R127,$P127+$Q127,0)","v":0},{"$f":"IF(COUNTIF($DM127:EP127,$P127+$Q127)<$R127,$P127+$Q127,0)","v":0},{"$f":"IF(COUNTIF($DM127:EQ127,$P127+$Q127)<$R127,$P127+$Q127,0)","v":0},{"$f":"IF(COUNTIF($DM127:ER127,$P127+$Q127)<$R127,$P127+$Q127,0)","v":0},{"$f":"IF(COUNTIF($DM127:ES127,$P127+$Q127)<$R127,$P127+$Q127,0)","v":0},{"$f":"IF(COUNTIF($DM127:ET127,$P127+$Q127)<$R127,$P127+$Q127,0)","v":0},{"$f":"IF(COUNTIF($DM127:EU127,$P127+$Q127)<$R127,$P127+$Q127,0)","v":0},{"$f":"IF(COUNTIF($DM127:EV127,$P127+$Q127)<$R127,$P127+$Q127,0)","v":0},{"$f":"IF(COUNTIF($DM127:EW127,$P127+$Q127)<$R127,$P127+$Q127,0)","v":0},{"$f":"IF(COUNTIF($DM127:EX127,$P127+$Q127)<$R127,$P127+$Q127,0)","v":0},{"$f":"IF(COUNTIF($DM127:EY127,$P127+$Q127)<$R127,$P127+$Q127,0)","v":0},-0.3]
[null,null,null,null,null,null,null,null,null,null,null,null,null,null,null,null,null,null,0,null,null,null,null,null,0,0,0,0,0,0,0,0,{"$f":"'P4P - Measure Info'!X29","v":0},0,0,0,{"$f":"IFERROR(('P4P - Project Summary'!$I$20/SUM($AL$122:$AL$146))*AL128,0)","v":0},{"$f":"IFERROR(IF('P4P - Measure Info'!$C29=\"Yes\",IF(O91<>0,'P4P - Support Data'!$O$76*O91,0),0),0)","v":0},null,null,null,null,null,null,null,null,null,null,null,null,null,null,null,null,null,null,null,null,null,null,null,null,null,null,null,null,null,null,null,null,null,null,null,null,null,null,null,null,null,null,null,null,null,null,null,null,null,null,null,null,null,null,null,null,null,null,null,null,null,null,null,null,null,null,null,null,null,null,null,null,null,null,null,null,null,0,0,0,{"$f":"IF(COUNTIF($DM128:DN128,$P128+$Q128)<$R128,$P128+$Q128,0)","v":0},{"$f":"IF(COUNTIF($DM128:DO128,$P128+$Q128)<$R128,$P128+$Q128,0)","v":0},{"$f":"IF(COUNTIF($DM128:DP128,$P128+$Q128)<$R128,$P128+$Q128,0)","v":0},{"$f":"IF(COUNTIF($DM128:DQ128,$P128+$Q128)<$R128,$P128+$Q128,0)","v":0},{"$f":"IF(COUNTIF($DM128:DR128,$P128+$Q128)<$R128,$P128+$Q128,0)","v":0},{"$f":"IF(COUNTIF($DM128:DS128,$P128+$Q128)<$R128,$P128+$Q128,0)","v":0},{"$f":"IF(COUNTIF($DM128:DT128,$P128+$Q128)<$R128,$P128+$Q128,0)","v":0},{"$f":"IF(COUNTIF($DM128:DU128,$P128+$Q128)<$R128,$P128+$Q128,0)","v":0},{"$f":"IF(COUNTIF($DM128:DV128,$P128+$Q128)<$R128,$P128+$Q128,0)","v":0},{"$f":"IF(COUNTIF($DM128:DW128,$P128+$Q128)<$R128,$P128+$Q128,0)","v":0},{"$f":"IF(COUNTIF($DM128:DX128,$P128+$Q128)<$R128,$P128+$Q128,0)","v":0},{"$f":"IF(COUNTIF($DM128:DY128,$P128+$Q128)<$R128,$P128+$Q128,0)","v":0},{"$f":"IF(COUNTIF($DM128:DZ128,$P128+$Q128)<$R128,$P128+$Q128,0)","v":0},{"$f":"IF(COUNTIF($DM128:EA128,$P128+$Q128)<$R128,$P128+$Q128,0)","v":0},{"$f":"IF(COUNTIF($DM128:EB128,$P128+$Q128)<$R128,$P128+$Q128,0)","v":0},{"$f":"IF(COUNTIF($DM128:EC128,$P128+$Q128)<$R128,$P128+$Q128,0)","v":0},{"$f":"IF(COUNTIF($DM128:ED128,$P128+$Q128)<$R128,$P128+$Q128,0)","v":0},{"$f":"IF(COUNTIF($DM128:EE128,$P128+$Q128)<$R128,$P128+$Q128,0)","v":0},{"$f":"IF(COUNTIF($DM128:EF128,$P128+$Q128)<$R128,$P128+$Q128,0)","v":0},{"$f":"IF(COUNTIF($DM128:EG128,$P128+$Q128)<$R128,$P128+$Q128,0)","v":0},{"$f":"IF(COUNTIF($DM128:EH128,$P128+$Q128)<$R128,$P128+$Q128,0)","v":0},{"$f":"IF(COUNTIF($DM128:EI128,$P128+$Q128)<$R128,$P128+$Q128,0)","v":0},{"$f":"IF(COUNTIF($DM128:EJ128,$P128+$Q128)<$R128,$P128+$Q128,0)","v":0},{"$f":"IF(COUNTIF($DM128:EK128,$P128+$Q128)<$R128,$P128+$Q128,0)","v":0},{"$f":"IF(COUNTIF($DM128:EL128,$P128+$Q128)<$R128,$P128+$Q128,0)","v":0},{"$f":"IF(COUNTIF($DM128:EM128,$P128+$Q128)<$R128,$P128+$Q128,0)","v":0},{"$f":"IF(COUNTIF($DM128:EN128,$P128+$Q128)<$R128,$P128+$Q128,0)","v":0},{"$f":"IF(COUNTIF($DM128:EO128,$P128+$Q128)<$R128,$P128+$Q128,0)","v":0},{"$f":"IF(COUNTIF($DM128:EP128,$P128+$Q128)<$R128,$P128+$Q128,0)","v":0},{"$f":"IF(COUNTIF($DM128:EQ128,$P128+$Q128)<$R128,$P128+$Q128,0)","v":0},{"$f":"IF(COUNTIF($DM128:ER128,$P128+$Q128)<$R128,$P128+$Q128,0)","v":0},{"$f":"IF(COUNTIF($DM128:ES128,$P128+$Q128)<$R128,$P128+$Q128,0)","v":0},{"$f":"IF(COUNTIF($DM128:ET128,$P128+$Q128)<$R128,$P128+$Q128,0)","v":0},{"$f":"IF(COUNTIF($DM128:EU128,$P128+$Q128)<$R128,$P128+$Q128,0)","v":0},{"$f":"IF(COUNTIF($DM128:EV128,$P128+$Q128)<$R128,$P128+$Q128,0)","v":0},{"$f":"IF(COUNTIF($DM128:EW128,$P128+$Q128)<$R128,$P128+$Q128,0)","v":0},{"$f":"IF(COUNTIF($DM128:EX128,$P128+$Q128)<$R128,$P128+$Q128,0)","v":0},{"$f":"IF(COUNTIF($DM128:EY128,$P128+$Q128)<$R128,$P128+$Q128,0)","v":0},-0.3]
[null,null,null,null,null,null,null,null,null,null,null,null,null,null,null,null,null,null,0,null,null,null,null,null,0,0,0,0,0,0,0,0,{"$f":"'P4P - Measure Info'!X30","v":0},0,0,0,{"$f":"IFERROR(('P4P - Project Summary'!$I$20/SUM($AL$122:$AL$146))*AL129,0)","v":0},{"$f":"IFERROR(IF('P4P - Measure Info'!$C30=\"Yes\",IF(O92<>0,'P4P - Support Data'!$O$76*O92,0),0),0)","v":0},null,null,null,null,null,null,null,null,null,null,null,null,null,null,null,null,null,null,null,null,null,null,null,null,null,null,null,null,null,null,null,null,null,null,null,null,null,null,null,null,null,null,null,null,null,null,null,null,null,null,null,null,null,null,null,null,null,null,null,null,null,null,null,null,null,null,null,null,null,null,null,null,null,null,null,null,null,0,0,0,{"$f":"IF(COUNTIF($DM129:DN129,$P129+$Q129)<$R129,$P129+$Q129,0)","v":0},{"$f":"IF(COUNTIF($DM129:DO129,$P129+$Q129)<$R129,$P129+$Q129,0)","v":0},{"$f":"IF(COUNTIF($DM129:DP129,$P129+$Q129)<$R129,$P129+$Q129,0)","v":0},{"$f":"IF(COUNTIF($DM129:DQ129,$P129+$Q129)<$R129,$P129+$Q129,0)","v":0},{"$f":"IF(COUNTIF($DM129:DR129,$P129+$Q129)<$R129,$P129+$Q129,0)","v":0},{"$f":"IF(COUNTIF($DM129:DS129,$P129+$Q129)<$R129,$P129+$Q129,0)","v":0},{"$f":"IF(COUNTIF($DM129:DT129,$P129+$Q129)<$R129,$P129+$Q129,0)","v":0},{"$f":"IF(COUNTIF($DM129:DU129,$P129+$Q129)<$R129,$P129+$Q129,0)","v":0},{"$f":"IF(COUNTIF($DM129:DV129,$P129+$Q129)<$R129,$P129+$Q129,0)","v":0},{"$f":"IF(COUNTIF($DM129:DW129,$P129+$Q129)<$R129,$P129+$Q129,0)","v":0},{"$f":"IF(COUNTIF($DM129:DX129,$P129+$Q129)<$R129,$P129+$Q129,0)","v":0},{"$f":"IF(COUNTIF($DM129:DY129,$P129+$Q129)<$R129,$P129+$Q129,0)","v":0},{"$f":"IF(COUNTIF($DM129:DZ129,$P129+$Q129)<$R129,$P129+$Q129,0)","v":0},{"$f":"IF(COUNTIF($DM129:EA129,$P129+$Q129)<$R129,$P129+$Q129,0)","v":0},{"$f":"IF(COUNTIF($DM129:EB129,$P129+$Q129)<$R129,$P129+$Q129,0)","v":0},{"$f":"IF(COUNTIF($DM129:EC129,$P129+$Q129)<$R129,$P129+$Q129,0)","v":0},{"$f":"IF(COUNTIF($DM129:ED129,$P129+$Q129)<$R129,$P129+$Q129,0)","v":0},{"$f":"IF(COUNTIF($DM129:EE129,$P129+$Q129)<$R129,$P129+$Q129,0)","v":0},{"$f":"IF(COUNTIF($DM129:EF129,$P129+$Q129)<$R129,$P129+$Q129,0)","v":0},{"$f":"IF(COUNTIF($DM129:EG129,$P129+$Q129)<$R129,$P129+$Q129,0)","v":0},{"$f":"IF(COUNTIF($DM129:EH129,$P129+$Q129)<$R129,$P129+$Q129,0)","v":0},{"$f":"IF(COUNTIF($DM129:EI129,$P129+$Q129)<$R129,$P129+$Q129,0)","v":0},{"$f":"IF(COUNTIF($DM129:EJ129,$P129+$Q129)<$R129,$P129+$Q129,0)","v":0},{"$f":"IF(COUNTIF($DM129:EK129,$P129+$Q129)<$R129,$P129+$Q129,0)","v":0},{"$f":"IF(COUNTIF($DM129:EL129,$P129+$Q129)<$R129,$P129+$Q129,0)","v":0},{"$f":"IF(COUNTIF($DM129:EM129,$P129+$Q129)<$R129,$P129+$Q129,0)","v":0},{"$f":"IF(COUNTIF($DM129:EN129,$P129+$Q129)<$R129,$P129+$Q129,0)","v":0},{"$f":"IF(COUNTIF($DM129:EO129,$P129+$Q129)<$R129,$P129+$Q129,0)","v":0},{"$f":"IF(COUNTIF($DM129:EP129,$P129+$Q129)<$R129,$P129+$Q129,0)","v":0},{"$f":"IF(COUNTIF($DM129:EQ129,$P129+$Q129)<$R129,$P129+$Q129,0)","v":0},{"$f":"IF(COUNTIF($DM129:ER129,$P129+$Q129)<$R129,$P129+$Q129,0)","v":0},{"$f":"IF(COUNTIF($DM129:ES129,$P129+$Q129)<$R129,$P129+$Q129,0)","v":0},{"$f":"IF(COUNTIF($DM129:ET129,$P129+$Q129)<$R129,$P129+$Q129,0)","v":0},{"$f":"IF(COUNTIF($DM129:EU129,$P129+$Q129)<$R129,$P129+$Q129,0)","v":0},{"$f":"IF(COUNTIF($DM129:EV129,$P129+$Q129)<$R129,$P129+$Q129,0)","v":0},{"$f":"IF(COUNTIF($DM129:EW129,$P129+$Q129)<$R129,$P129+$Q129,0)","v":0},{"$f":"IF(COUNTIF($DM129:EX129,$P129+$Q129)<$R129,$P129+$Q129,0)","v":0},{"$f":"IF(COUNTIF($DM129:EY129,$P129+$Q129)<$R129,$P129+$Q129,0)","v":0},-0.3]
[null,null,null,null,null,null,null,null,null,null,null,null,null,null,null,null,null,null,0,null,null,null,null,null,0,0,0,0,0,0,0,0,{"$f":"'P4P - Measure Info'!X31","v":0},0,0,0,{"$f":"IFERROR(('P4P - Project Summary'!$I$20/SUM($AL$122:$AL$146))*AL130,0)","v":0},{"$f":"IFERROR(IF('P4P - Measure Info'!$C31=\"Yes\",IF(O93<>0,'P4P - Support Data'!$O$76*O93,0),0),0)","v":0},null,null,null,null,null,null,null,null,null,null,null,null,null,null,null,null,null,null,null,null,null,null,null,null,null,null,null,null,null,null,null,null,null,null,null,null,null,null,null,null,null,null,null,null,null,null,null,null,null,null,null,null,null,null,null,null,null,null,null,null,null,null,null,null,null,null,null,null,null,null,null,null,null,null,null,null,null,0,0,0,{"$f":"IF(COUNTIF($DM130:DN130,$P130+$Q130)<$R130,$P130+$Q130,0)","v":0},{"$f":"IF(COUNTIF($DM130:DO130,$P130+$Q130)<$R130,$P130+$Q130,0)","v":0},{"$f":"IF(COUNTIF($DM130:DP130,$P130+$Q130)<$R130,$P130+$Q130,0)","v":0},{"$f":"IF(COUNTIF($DM130:DQ130,$P130+$Q130)<$R130,$P130+$Q130,0)","v":0},{"$f":"IF(COUNTIF($DM130:DR130,$P130+$Q130)<$R130,$P130+$Q130,0)","v":0},{"$f":"IF(COUNTIF($DM130:DS130,$P130+$Q130)<$R130,$P130+$Q130,0)","v":0},{"$f":"IF(COUNTIF($DM130:DT130,$P130+$Q130)<$R130,$P130+$Q130,0)","v":0},{"$f":"IF(COUNTIF($DM130:DU130,$P130+$Q130)<$R130,$P130+$Q130,0)","v":0},{"$f":"IF(COUNTIF($DM130:DV130,$P130+$Q130)<$R130,$P130+$Q130,0)","v":0},{"$f":"IF(COUNTIF($DM130:DW130,$P130+$Q130)<$R130,$P130+$Q130,0)","v":0},{"$f":"IF(COUNTIF($DM130:DX130,$P130+$Q130)<$R130,$P130+$Q130,0)","v":0},{"$f":"IF(COUNTIF($DM130:DY130,$P130+$Q130)<$R130,$P130+$Q130,0)","v":0},{"$f":"IF(COUNTIF($DM130:DZ130,$P130+$Q130)<$R130,$P130+$Q130,0)","v":0},{"$f":"IF(COUNTIF($DM130:EA130,$P130+$Q130)<$R130,$P130+$Q130,0)","v":0},{"$f":"IF(COUNTIF($DM130:EB130,$P130+$Q130)<$R130,$P130+$Q130,0)","v":0},{"$f":"IF(COUNTIF($DM130:EC130,$P130+$Q130)<$R130,$P130+$Q130,0)","v":0},{"$f":"IF(COUNTIF($DM130:ED130,$P130+$Q130)<$R130,$P130+$Q130,0)","v":0},{"$f":"IF(COUNTIF($DM130:EE130,$P130+$Q130)<$R130,$P130+$Q130,0)","v":0},{"$f":"IF(COUNTIF($DM130:EF130,$P130+$Q130)<$R130,$P130+$Q130,0)","v":0},{"$f":"IF(COUNTIF($DM130:EG130,$P130+$Q130)<$R130,$P130+$Q130,0)","v":0},{"$f":"IF(COUNTIF($DM130:EH130,$P130+$Q130)<$R130,$P130+$Q130,0)","v":0},{"$f":"IF(COUNTIF($DM130:EI130,$P130+$Q130)<$R130,$P130+$Q130,0)","v":0},{"$f":"IF(COUNTIF($DM130:EJ130,$P130+$Q130)<$R130,$P130+$Q130,0)","v":0},{"$f":"IF(COUNTIF($DM130:EK130,$P130+$Q130)<$R130,$P130+$Q130,0)","v":0},{"$f":"IF(COUNTIF($DM130:EL130,$P130+$Q130)<$R130,$P130+$Q130,0)","v":0},{"$f":"IF(COUNTIF($DM130:EM130,$P130+$Q130)<$R130,$P130+$Q130,0)","v":0},{"$f":"IF(COUNTIF($DM130:EN130,$P130+$Q130)<$R130,$P130+$Q130,0)","v":0},{"$f":"IF(COUNTIF($DM130:EO130,$P130+$Q130)<$R130,$P130+$Q130,0)","v":0},{"$f":"IF(COUNTIF($DM130:EP130,$P130+$Q130)<$R130,$P130+$Q130,0)","v":0},{"$f":"IF(COUNTIF($DM130:EQ130,$P130+$Q130)<$R130,$P130+$Q130,0)","v":0},{"$f":"IF(COUNTIF($DM130:ER130,$P130+$Q130)<$R130,$P130+$Q130,0)","v":0},{"$f":"IF(COUNTIF($DM130:ES130,$P130+$Q130)<$R130,$P130+$Q130,0)","v":0},{"$f":"IF(COUNTIF($DM130:ET130,$P130+$Q130)<$R130,$P130+$Q130,0)","v":0},{"$f":"IF(COUNTIF($DM130:EU130,$P130+$Q130)<$R130,$P130+$Q130,0)","v":0},{"$f":"IF(COUNTIF($DM130:EV130,$P130+$Q130)<$R130,$P130+$Q130,0)","v":0},{"$f":"IF(COUNTIF($DM130:EW130,$P130+$Q130)<$R130,$P130+$Q130,0)","v":0},{"$f":"IF(COUNTIF($DM130:EX130,$P130+$Q130)<$R130,$P130+$Q130,0)","v":0},{"$f":"IF(COUNTIF($DM130:EY130,$P130+$Q130)<$R130,$P130+$Q130,0)","v":0},-0.3]
[null,null,null,null,null,null,null,null,null,null,null,null,null,null,null,null,null,null,0,null,null,null,null,null,0,0,0,0,0,0,0,0,{"$f":"'P4P - Measure Info'!X32","v":0},0,0,0,{"$f":"IFERROR(('P4P - Project Summary'!$I$20/SUM($AL$122:$AL$146))*AL131,0)","v":0},{"$f":"IFERROR(IF('P4P - Measure Info'!$C32=\"Yes\",IF(O94<>0,'P4P - Support Data'!$O$76*O94,0),0),0)","v":0},null,null,null,null,null,null,null,null,null,null,null,null,null,null,null,null,null,null,null,null,null,null,null,null,null,null,null,null,null,null,null,null,null,null,null,null,null,null,null,null,null,null,null,null,null,null,null,null,null,null,null,null,null,null,null,null,null,null,null,null,null,null,null,null,null,null,null,null,null,null,null,null,null,null,null,null,null,0,0,0,{"$f":"IF(COUNTIF($DM131:DN131,$P131+$Q131)<$R131,$P131+$Q131,0)","v":0},{"$f":"IF(COUNTIF($DM131:DO131,$P131+$Q131)<$R131,$P131+$Q131,0)","v":0},{"$f":"IF(COUNTIF($DM131:DP131,$P131+$Q131)<$R131,$P131+$Q131,0)","v":0},{"$f":"IF(COUNTIF($DM131:DQ131,$P131+$Q131)<$R131,$P131+$Q131,0)","v":0},{"$f":"IF(COUNTIF($DM131:DR131,$P131+$Q131)<$R131,$P131+$Q131,0)","v":0},{"$f":"IF(COUNTIF($DM131:DS131,$P131+$Q131)<$R131,$P131+$Q131,0)","v":0},{"$f":"IF(COUNTIF($DM131:DT131,$P131+$Q131)<$R131,$P131+$Q131,0)","v":0},{"$f":"IF(COUNTIF($DM131:DU131,$P131+$Q131)<$R131,$P131+$Q131,0)","v":0},{"$f":"IF(COUNTIF($DM131:DV131,$P131+$Q131)<$R131,$P131+$Q131,0)","v":0},{"$f":"IF(COUNTIF($DM131:DW131,$P131+$Q131)<$R131,$P131+$Q131,0)","v":0},{"$f":"IF(COUNTIF($DM131:DX131,$P131+$Q131)<$R131,$P131+$Q131,0)","v":0},{"$f":"IF(COUNTIF($DM131:DY131,$P131+$Q131)<$R131,$P131+$Q131,0)","v":0},{"$f":"IF(COUNTIF($DM131:DZ131,$P131+$Q131)<$R131,$P131+$Q131,0)","v":0},{"$f":"IF(COUNTIF($DM131:EA131,$P131+$Q131)<$R131,$P131+$Q131,0)","v":0},{"$f":"IF(COUNTIF($DM131:EB131,$P131+$Q131)<$R131,$P131+$Q131,0)","v":0},{"$f":"IF(COUNTIF($DM131:EC131,$P131+$Q131)<$R131,$P131+$Q131,0)","v":0},{"$f":"IF(COUNTIF($DM131:ED131,$P131+$Q131)<$R131,$P131+$Q131,0)","v":0},{"$f":"IF(COUNTIF($DM131:EE131,$P131+$Q131)<$R131,$P131+$Q131,0)","v":0},{"$f":"IF(COUNTIF($DM131:EF131,$P131+$Q131)<$R131,$P131+$Q131,0)","v":0},{"$f":"IF(COUNTIF($DM131:EG131,$P131+$Q131)<$R131,$P131+$Q131,0)","v":0},{"$f":"IF(COUNTIF($DM131:EH131,$P131+$Q131)<$R131,$P131+$Q131,0)","v":0},{"$f":"IF(COUNTIF($DM131:EI131,$P131+$Q131)<$R131,$P131+$Q131,0)","v":0},{"$f":"IF(COUNTIF($DM131:EJ131,$P131+$Q131)<$R131,$P131+$Q131,0)","v":0},{"$f":"IF(COUNTIF($DM131:EK131,$P131+$Q131)<$R131,$P131+$Q131,0)","v":0},{"$f":"IF(COUNTIF($DM131:EL131,$P131+$Q131)<$R131,$P131+$Q131,0)","v":0},{"$f":"IF(COUNTIF($DM131:EM131,$P131+$Q131)<$R131,$P131+$Q131,0)","v":0},{"$f":"IF(COUNTIF($DM131:EN131,$P131+$Q131)<$R131,$P131+$Q131,0)","v":0},{"$f":"IF(COUNTIF($DM131:EO131,$P131+$Q131)<$R131,$P131+$Q131,0)","v":0},{"$f":"IF(COUNTIF($DM131:EP131,$P131+$Q131)<$R131,$P131+$Q131,0)","v":0},{"$f":"IF(COUNTIF($DM131:EQ131,$P131+$Q131)<$R131,$P131+$Q131,0)","v":0},{"$f":"IF(COUNTIF($DM131:ER131,$P131+$Q131)<$R131,$P131+$Q131,0)","v":0},{"$f":"IF(COUNTIF($DM131:ES131,$P131+$Q131)<$R131,$P131+$Q131,0)","v":0},{"$f":"IF(COUNTIF($DM131:ET131,$P131+$Q131)<$R131,$P131+$Q131,0)","v":0},{"$f":"IF(COUNTIF($DM131:EU131,$P131+$Q131)<$R131,$P131+$Q131,0)","v":0},{"$f":"IF(COUNTIF($DM131:EV131,$P131+$Q131)<$R131,$P131+$Q131,0)","v":0},{"$f":"IF(COUNTIF($DM131:EW131,$P131+$Q131)<$R131,$P131+$Q131,0)","v":0},{"$f":"IF(COUNTIF($DM131:EX131,$P131+$Q131)<$R131,$P131+$Q131,0)","v":0},{"$f":"IF(COUNTIF($DM131:EY131,$P131+$Q131)<$R131,$P131+$Q131,0)","v":0},-0.3]
[null,null,null,null,null,null,null,null,null,null,null,null,null,null,null,null,null,null,0,null,null,null,null,null,0,0,0,0,0,0,0,0,{"$f":"'P4P - Measure Info'!X33","v":0},0,0,0,{"$f":"IFERROR(('P4P - Project Summary'!$I$20/SUM($AL$122:$AL$146))*AL132,0)","v":0},{"$f":"IFERROR(IF('P4P - Measure Info'!$C33=\"Yes\",IF(O95<>0,'P4P - Support Data'!$O$76*O95,0),0),0)","v":0},null,null,null,null,null,null,null,null,null,null,null,null,null,null,null,null,null,null,null,null,null,null,null,null,null,null,null,null,null,null,null,null,null,null,null,null,null,null,null,null,null,null,null,null,null,null,null,null,null,null,null,null,null,null,null,null,null,null,null,null,null,null,null,null,null,null,null,null,null,null,null,null,null,null,null,null,null,0,0,0,{"$f":"IF(COUNTIF($DM132:DN132,$P132+$Q132)<$R132,$P132+$Q132,0)","v":0},{"$f":"IF(COUNTIF($DM132:DO132,$P132+$Q132)<$R132,$P132+$Q132,0)","v":0},{"$f":"IF(COUNTIF($DM132:DP132,$P132+$Q132)<$R132,$P132+$Q132,0)","v":0},{"$f":"IF(COUNTIF($DM132:DQ132,$P132+$Q132)<$R132,$P132+$Q132,0)","v":0},{"$f":"IF(COUNTIF($DM132:DR132,$P132+$Q132)<$R132,$P132+$Q132,0)","v":0},{"$f":"IF(COUNTIF($DM132:DS132,$P132+$Q132)<$R132,$P132+$Q132,0)","v":0},{"$f":"IF(COUNTIF($DM132:DT132,$P132+$Q132)<$R132,$P132+$Q132,0)","v":0},{"$f":"IF(COUNTIF($DM132:DU132,$P132+$Q132)<$R132,$P132+$Q132,0)","v":0},{"$f":"IF(COUNTIF($DM132:DV132,$P132+$Q132)<$R132,$P132+$Q132,0)","v":0},{"$f":"IF(COUNTIF($DM132:DW132,$P132+$Q132)<$R132,$P132+$Q132,0)","v":0},{"$f":"IF(COUNTIF($DM132:DX132,$P132+$Q132)<$R132,$P132+$Q132,0)","v":0},{"$f":"IF(COUNTIF($DM132:DY132,$P132+$Q132)<$R132,$P132+$Q132,0)","v":0},{"$f":"IF(COUNTIF($DM132:DZ132,$P132+$Q132)<$R132,$P132+$Q132,0)","v":0},{"$f":"IF(COUNTIF($DM132:EA132,$P132+$Q132)<$R132,$P132+$Q132,0)","v":0},{"$f":"IF(COUNTIF($DM132:EB132,$P132+$Q132)<$R132,$P132+$Q132,0)","v":0},{"$f":"IF(COUNTIF($DM132:EC132,$P132+$Q132)<$R132,$P132+$Q132,0)","v":0},{"$f":"IF(COUNTIF($DM132:ED132,$P132+$Q132)<$R132,$P132+$Q132,0)","v":0},{"$f":"IF(COUNTIF($DM132:EE132,$P132+$Q132)<$R132,$P132+$Q132,0)","v":0},{"$f":"IF(COUNTIF($DM132:EF132,$P132+$Q132)<$R132,$P132+$Q132,0)","v":0},{"$f":"IF(COUNTIF($DM132:EG132,$P132+$Q132)<$R132,$P132+$Q132,0)","v":0},{"$f":"IF(COUNTIF($DM132:EH132,$P132+$Q132)<$R132,$P132+$Q132,0)","v":0},{"$f":"IF(COUNTIF($DM132:EI132,$P132+$Q132)<$R132,$P132+$Q132,0)","v":0},{"$f":"IF(COUNTIF($DM132:EJ132,$P132+$Q132)<$R132,$P132+$Q132,0)","v":0},{"$f":"IF(COUNTIF($DM132:EK132,$P132+$Q132)<$R132,$P132+$Q132,0)","v":0},{"$f":"IF(COUNTIF($DM132:EL132,$P132+$Q132)<$R132,$P132+$Q132,0)","v":0},{"$f":"IF(COUNTIF($DM132:EM132,$P132+$Q132)<$R132,$P132+$Q132,0)","v":0},{"$f":"IF(COUNTIF($DM132:EN132,$P132+$Q132)<$R132,$P132+$Q132,0)","v":0},{"$f":"IF(COUNTIF($DM132:EO132,$P132+$Q132)<$R132,$P132+$Q132,0)","v":0},{"$f":"IF(COUNTIF($DM132:EP132,$P132+$Q132)<$R132,$P132+$Q132,0)","v":0},{"$f":"IF(COUNTIF($DM132:EQ132,$P132+$Q132)<$R132,$P132+$Q132,0)","v":0},{"$f":"IF(COUNTIF($DM132:ER132,$P132+$Q132)<$R132,$P132+$Q132,0)","v":0},{"$f":"IF(COUNTIF($DM132:ES132,$P132+$Q132)<$R132,$P132+$Q132,0)","v":0},{"$f":"IF(COUNTIF($DM132:ET132,$P132+$Q132)<$R132,$P132+$Q132,0)","v":0},{"$f":"IF(COUNTIF($DM132:EU132,$P132+$Q132)<$R132,$P132+$Q132,0)","v":0},{"$f":"IF(COUNTIF($DM132:EV132,$P132+$Q132)<$R132,$P132+$Q132,0)","v":0},{"$f":"IF(COUNTIF($DM132:EW132,$P132+$Q132)<$R132,$P132+$Q132,0)","v":0},{"$f":"IF(COUNTIF($DM132:EX132,$P132+$Q132)<$R132,$P132+$Q132,0)","v":0},{"$f":"IF(COUNTIF($DM132:EY132,$P132+$Q132)<$R132,$P132+$Q132,0)","v":0},-0.3]
[null,null,null,null,null,null,null,null,null,null,null,null,null,null,null,null,null,null,0,null,null,null,null,null,0,0,0,0,0,0,0,0,{"$f":"'P4P - Measure Info'!X34","v":0},0,0,0,{"$f":"IFERROR(('P4P - Project Summary'!$I$20/SUM($AL$122:$AL$146))*AL133,0)","v":0},{"$f":"IFERROR(IF('P4P - Measure Info'!$C34=\"Yes\",IF(O96<>0,'P4P - Support Data'!$O$76*O96,0),0),0)","v":0},null,null,null,null,null,null,null,null,null,null,null,null,null,null,null,null,null,null,null,null,null,null,null,null,null,null,null,null,null,null,null,null,null,null,null,null,null,null,null,null,null,null,null,null,null,null,null,null,null,null,null,null,null,null,null,null,null,null,null,null,null,null,null,null,null,null,null,null,null,null,null,null,null,null,null,null,null,0,0,0,{"$f":"IF(COUNTIF($DM133:DN133,$P133+$Q133)<$R133,$P133+$Q133,0)","v":0},{"$f":"IF(COUNTIF($DM133:DO133,$P133+$Q133)<$R133,$P133+$Q133,0)","v":0},{"$f":"IF(COUNTIF($DM133:DP133,$P133+$Q133)<$R133,$P133+$Q133,0)","v":0},{"$f":"IF(COUNTIF($DM133:DQ133,$P133+$Q133)<$R133,$P133+$Q133,0)","v":0},{"$f":"IF(COUNTIF($DM133:DR133,$P133+$Q133)<$R133,$P133+$Q133,0)","v":0},{"$f":"IF(COUNTIF($DM133:DS133,$P133+$Q133)<$R133,$P133+$Q133,0)","v":0},{"$f":"IF(COUNTIF($DM133:DT133,$P133+$Q133)<$R133,$P133+$Q133,0)","v":0},{"$f":"IF(COUNTIF($DM133:DU133,$P133+$Q133)<$R133,$P133+$Q133,0)","v":0},{"$f":"IF(COUNTIF($DM133:DV133,$P133+$Q133)<$R133,$P133+$Q133,0)","v":0},{"$f":"IF(COUNTIF($DM133:DW133,$P133+$Q133)<$R133,$P133+$Q133,0)","v":0},{"$f":"IF(COUNTIF($DM133:DX133,$P133+$Q133)<$R133,$P133+$Q133,0)","v":0},{"$f":"IF(COUNTIF($DM133:DY133,$P133+$Q133)<$R133,$P133+$Q133,0)","v":0},{"$f":"IF(COUNTIF($DM133:DZ133,$P133+$Q133)<$R133,$P133+$Q133,0)","v":0},{"$f":"IF(COUNTIF($DM133:EA133,$P133+$Q133)<$R133,$P133+$Q133,0)","v":0},{"$f":"IF(COUNTIF($DM133:EB133,$P133+$Q133)<$R133,$P133+$Q133,0)","v":0},{"$f":"IF(COUNTIF($DM133:EC133,$P133+$Q133)<$R133,$P133+$Q133,0)","v":0},{"$f":"IF(COUNTIF($DM133:ED133,$P133+$Q133)<$R133,$P133+$Q133,0)","v":0},{"$f":"IF(COUNTIF($DM133:EE133,$P133+$Q133)<$R133,$P133+$Q133,0)","v":0},{"$f":"IF(COUNTIF($DM133:EF133,$P133+$Q133)<$R133,$P133+$Q133,0)","v":0},{"$f":"IF(COUNTIF($DM133:EG133,$P133+$Q133)<$R133,$P133+$Q133,0)","v":0},{"$f":"IF(COUNTIF($DM133:EH133,$P133+$Q133)<$R133,$P133+$Q133,0)","v":0},{"$f":"IF(COUNTIF($DM133:EI133,$P133+$Q133)<$R133,$P133+$Q133,0)","v":0},{"$f":"IF(COUNTIF($DM133:EJ133,$P133+$Q133)<$R133,$P133+$Q133,0)","v":0},{"$f":"IF(COUNTIF($DM133:EK133,$P133+$Q133)<$R133,$P133+$Q133,0)","v":0},{"$f":"IF(COUNTIF($DM133:EL133,$P133+$Q133)<$R133,$P133+$Q133,0)","v":0},{"$f":"IF(COUNTIF($DM133:EM133,$P133+$Q133)<$R133,$P133+$Q133,0)","v":0},{"$f":"IF(COUNTIF($DM133:EN133,$P133+$Q133)<$R133,$P133+$Q133,0)","v":0},{"$f":"IF(COUNTIF($DM133:EO133,$P133+$Q133)<$R133,$P133+$Q133,0)","v":0},{"$f":"IF(COUNTIF($DM133:EP133,$P133+$Q133)<$R133,$P133+$Q133,0)","v":0},{"$f":"IF(COUNTIF($DM133:EQ133,$P133+$Q133)<$R133,$P133+$Q133,0)","v":0},{"$f":"IF(COUNTIF($DM133:ER133,$P133+$Q133)<$R133,$P133+$Q133,0)","v":0},{"$f":"IF(COUNTIF($DM133:ES133,$P133+$Q133)<$R133,$P133+$Q133,0)","v":0},{"$f":"IF(COUNTIF($DM133:ET133,$P133+$Q133)<$R133,$P133+$Q133,0)","v":0},{"$f":"IF(COUNTIF($DM133:EU133,$P133+$Q133)<$R133,$P133+$Q133,0)","v":0},{"$f":"IF(COUNTIF($DM133:EV133,$P133+$Q133)<$R133,$P133+$Q133,0)","v":0},{"$f":"IF(COUNTIF($DM133:EW133,$P133+$Q133)<$R133,$P133+$Q133,0)","v":0},{"$f":"IF(COUNTIF($DM133:EX133,$P133+$Q133)<$R133,$P133+$Q133,0)","v":0},{"$f":"IF(COUNTIF($DM133:EY133,$P133+$Q133)<$R133,$P133+$Q133,0)","v":0},-0.3]
[null,null,null,null,null,null,null,null,null,null,null,null,null,null,null,null,null,null,0,null,null,null,null,null,0,0,0,0,0,0,0,0,{"$f":"'P4P - Measure Info'!X35","v":0},0,0,0,{"$f":"IFERROR(('P4P - Project Summary'!$I$20/SUM($AL$122:$AL$146))*AL134,0)","v":0},{"$f":"IFERROR(IF('P4P - Measure Info'!$C35=\"Yes\",IF(O97<>0,'P4P - Support Data'!$O$76*O97,0),0),0)","v":0},null,null,null,null,null,null,null,null,null,null,null,null,null,null,null,null,null,null,null,null,null,null,null,null,null,null,null,null,null,null,null,null,null,null,null,null,null,null,null,null,null,null,null,null,null,null,null,null,null,null,null,null,null,null,null,null,null,null,null,null,null,null,null,null,null,null,null,null,null,null,null,null,null,null,null,null,null,0,0,0,{"$f":"IF(COUNTIF($DM134:DN134,$P134+$Q134)<$R134,$P134+$Q134,0)","v":0},{"$f":"IF(COUNTIF($DM134:DO134,$P134+$Q134)<$R134,$P134+$Q134,0)","v":0},{"$f":"IF(COUNTIF($DM134:DP134,$P134+$Q134)<$R134,$P134+$Q134,0)","v":0},{"$f":"IF(COUNTIF($DM134:DQ134,$P134+$Q134)<$R134,$P134+$Q134,0)","v":0},{"$f":"IF(COUNTIF($DM134:DR134,$P134+$Q134)<$R134,$P134+$Q134,0)","v":0},{"$f":"IF(COUNTIF($DM134:DS134,$P134+$Q134)<$R134,$P134+$Q134,0)","v":0},{"$f":"IF(COUNTIF($DM134:DT134,$P134+$Q134)<$R134,$P134+$Q134,0)","v":0},{"$f":"IF(COUNTIF($DM134:DU134,$P134+$Q134)<$R134,$P134+$Q134,0)","v":0},{"$f":"IF(COUNTIF($DM134:DV134,$P134+$Q134)<$R134,$P134+$Q134,0)","v":0},{"$f":"IF(COUNTIF($DM134:DW134,$P134+$Q134)<$R134,$P134+$Q134,0)","v":0},{"$f":"IF(COUNTIF($DM134:DX134,$P134+$Q134)<$R134,$P134+$Q134,0)","v":0},{"$f":"IF(COUNTIF($DM134:DY134,$P134+$Q134)<$R134,$P134+$Q134,0)","v":0},{"$f":"IF(COUNTIF($DM134:DZ134,$P134+$Q134)<$R134,$P134+$Q134,0)","v":0},{"$f":"IF(COUNTIF($DM134:EA134,$P134+$Q134)<$R134,$P134+$Q134,0)","v":0},{"$f":"IF(COUNTIF($DM134:EB134,$P134+$Q134)<$R134,$P134+$Q134,0)","v":0},{"$f":"IF(COUNTIF($DM134:EC134,$P134+$Q134)<$R134,$P134+$Q134,0)","v":0},{"$f":"IF(COUNTIF($DM134:ED134,$P134+$Q134)<$R134,$P134+$Q134,0)","v":0},{"$f":"IF(COUNTIF($DM134:EE134,$P134+$Q134)<$R134,$P134+$Q134,0)","v":0},{"$f":"IF(COUNTIF($DM134:EF134,$P134+$Q134)<$R134,$P134+$Q134,0)","v":0},{"$f":"IF(COUNTIF($DM134:EG134,$P134+$Q134)<$R134,$P134+$Q134,0)","v":0},{"$f":"IF(COUNTIF($DM134:EH134,$P134+$Q134)<$R134,$P134+$Q134,0)","v":0},{"$f":"IF(COUNTIF($DM134:EI134,$P134+$Q134)<$R134,$P134+$Q134,0)","v":0},{"$f":"IF(COUNTIF($DM134:EJ134,$P134+$Q134)<$R134,$P134+$Q134,0)","v":0},{"$f":"IF(COUNTIF($DM134:EK134,$P134+$Q134)<$R134,$P134+$Q134,0)","v":0},{"$f":"IF(COUNTIF($DM134:EL134,$P134+$Q134)<$R134,$P134+$Q134,0)","v":0},{"$f":"IF(COUNTIF($DM134:EM134,$P134+$Q134)<$R134,$P134+$Q134,0)","v":0},{"$f":"IF(COUNTIF($DM134:EN134,$P134+$Q134)<$R134,$P134+$Q134,0)","v":0},{"$f":"IF(COUNTIF($DM134:EO134,$P134+$Q134)<$R134,$P134+$Q134,0)","v":0},{"$f":"IF(COUNTIF($DM134:EP134,$P134+$Q134)<$R134,$P134+$Q134,0)","v":0},{"$f":"IF(COUNTIF($DM134:EQ134,$P134+$Q134)<$R134,$P134+$Q134,0)","v":0},{"$f":"IF(COUNTIF($DM134:ER134,$P134+$Q134)<$R134,$P134+$Q134,0)","v":0},{"$f":"IF(COUNTIF($DM134:ES134,$P134+$Q134)<$R134,$P134+$Q134,0)","v":0},{"$f":"IF(COUNTIF($DM134:ET134,$P134+$Q134)<$R134,$P134+$Q134,0)","v":0},{"$f":"IF(COUNTIF($DM134:EU134,$P134+$Q134)<$R134,$P134+$Q134,0)","v":0},{"$f":"IF(COUNTIF($DM134:EV134,$P134+$Q134)<$R134,$P134+$Q134,0)","v":0},{"$f":"IF(COUNTIF($DM134:EW134,$P134+$Q134)<$R134,$P134+$Q134,0)","v":0},{"$f":"IF(COUNTIF($DM134:EX134,$P134+$Q134)<$R134,$P134+$Q134,0)","v":0},{"$f":"IF(COUNTIF($DM134:EY134,$P134+$Q134)<$R134,$P134+$Q134,0)","v":0},-0.3]
[null,null,null,null,null,null,null,null,null,null,null,null,null,null,null,null,null,null,0,null,null,null,null,null,0,0,0,0,0,0,0,0,{"$f":"'P4P - Measure Info'!X36","v":0},0,0,0,{"$f":"IFERROR(('P4P - Project Summary'!$I$20/SUM($AL$122:$AL$146))*AL135,0)","v":0},{"$f":"IFERROR(IF('P4P - Measure Info'!$C36=\"Yes\",IF(O98<>0,'P4P - Support Data'!$O$76*O98,0),0),0)","v":0},null,null,null,null,null,null,null,null,null,null,null,null,null,null,null,null,null,null,null,null,null,null,null,null,null,null,null,null,null,null,null,null,null,null,null,null,null,null,null,null,null,null,null,null,null,null,null,null,null,null,null,null,null,null,null,null,null,null,null,null,null,null,null,null,null,null,null,null,null,null,null,null,null,null,null,null,null,0,0,0,{"$f":"IF(COUNTIF($DM135:DN135,$P135+$Q135)<$R135,$P135+$Q135,0)","v":0},{"$f":"IF(COUNTIF($DM135:DO135,$P135+$Q135)<$R135,$P135+$Q135,0)","v":0},{"$f":"IF(COUNTIF($DM135:DP135,$P135+$Q135)<$R135,$P135+$Q135,0)","v":0},{"$f":"IF(COUNTIF($DM135:DQ135,$P135+$Q135)<$R135,$P135+$Q135,0)","v":0},{"$f":"IF(COUNTIF($DM135:DR135,$P135+$Q135)<$R135,$P135+$Q135,0)","v":0},{"$f":"IF(COUNTIF($DM135:DS135,$P135+$Q135)<$R135,$P135+$Q135,0)","v":0},{"$f":"IF(COUNTIF($DM135:DT135,$P135+$Q135)<$R135,$P135+$Q135,0)","v":0},{"$f":"IF(COUNTIF($DM135:DU135,$P135+$Q135)<$R135,$P135+$Q135,0)","v":0},{"$f":"IF(COUNTIF($DM135:DV135,$P135+$Q135)<$R135,$P135+$Q135,0)","v":0},{"$f":"IF(COUNTIF($DM135:DW135,$P135+$Q135)<$R135,$P135+$Q135,0)","v":0},{"$f":"IF(COUNTIF($DM135:DX135,$P135+$Q135)<$R135,$P135+$Q135,0)","v":0},{"$f":"IF(COUNTIF($DM135:DY135,$P135+$Q135)<$R135,$P135+$Q135,0)","v":0},{"$f":"IF(COUNTIF($DM135:DZ135,$P135+$Q135)<$R135,$P135+$Q135,0)","v":0},{"$f":"IF(COUNTIF($DM135:EA135,$P135+$Q135)<$R135,$P135+$Q135,0)","v":0},{"$f":"IF(COUNTIF($DM135:EB135,$P135+$Q135)<$R135,$P135+$Q135,0)","v":0},{"$f":"IF(COUNTIF($DM135:EC135,$P135+$Q135)<$R135,$P135+$Q135,0)","v":0},{"$f":"IF(COUNTIF($DM135:ED135,$P135+$Q135)<$R135,$P135+$Q135,0)","v":0},{"$f":"IF(COUNTIF($DM135:EE135,$P135+$Q135)<$R135,$P135+$Q135,0)","v":0},{"$f":"IF(COUNTIF($DM135:EF135,$P135+$Q135)<$R135,$P135+$Q135,0)","v":0},{"$f":"IF(COUNTIF($DM135:EG135,$P135+$Q135)<$R135,$P135+$Q135,0)","v":0},{"$f":"IF(COUNTIF($DM135:EH135,$P135+$Q135)<$R135,$P135+$Q135,0)","v":0},{"$f":"IF(COUNTIF($DM135:EI135,$P135+$Q135)<$R135,$P135+$Q135,0)","v":0},{"$f":"IF(COUNTIF($DM135:EJ135,$P135+$Q135)<$R135,$P135+$Q135,0)","v":0},{"$f":"IF(COUNTIF($DM135:EK135,$P135+$Q135)<$R135,$P135+$Q135,0)","v":0},{"$f":"IF(COUNTIF($DM135:EL135,$P135+$Q135)<$R135,$P135+$Q135,0)","v":0},{"$f":"IF(COUNTIF($DM135:EM135,$P135+$Q135)<$R135,$P135+$Q135,0)","v":0},{"$f":"IF(COUNTIF($DM135:EN135,$P135+$Q135)<$R135,$P135+$Q135,0)","v":0},{"$f":"IF(COUNTIF($DM135:EO135,$P135+$Q135)<$R135,$P135+$Q135,0)","v":0},{"$f":"IF(COUNTIF($DM135:EP135,$P135+$Q135)<$R135,$P135+$Q135,0)","v":0},{"$f":"IF(COUNTIF($DM135:EQ135,$P135+$Q135)<$R135,$P135+$Q135,0)","v":0},{"$f":"IF(COUNTIF($DM135:ER135,$P135+$Q135)<$R135,$P135+$Q135,0)","v":0},{"$f":"IF(COUNTIF($DM135:ES135,$P135+$Q135)<$R135,$P135+$Q135,0)","v":0},{"$f":"IF(COUNTIF($DM135:ET135,$P135+$Q135)<$R135,$P135+$Q135,0)","v":0},{"$f":"IF(COUNTIF($DM135:EU135,$P135+$Q135)<$R135,$P135+$Q135,0)","v":0},{"$f":"IF(COUNTIF($DM135:EV135,$P135+$Q135)<$R135,$P135+$Q135,0)","v":0},{"$f":"IF(COUNTIF($DM135:EW135,$P135+$Q135)<$R135,$P135+$Q135,0)","v":0},{"$f":"IF(COUNTIF($DM135:EX135,$P135+$Q135)<$R135,$P135+$Q135,0)","v":0},{"$f":"IF(COUNTIF($DM135:EY135,$P135+$Q135)<$R135,$P135+$Q135,0)","v":0},-0.3]
[null,null,null,null,null,null,null,null,null,null,null,null,null,null,null,null,null,null,0,null,null,null,null,null,0,0,0,0,0,0,0,0,{"$f":"'P4P - Measure Info'!X37","v":0},0,0,0,{"$f":"IFERROR(('P4P - Project Summary'!$I$20/SUM($AL$122:$AL$146))*AL136,0)","v":0},{"$f":"IFERROR(IF('P4P - Measure Info'!$C37=\"Yes\",IF(O99<>0,'P4P - Support Data'!$O$76*O99,0),0),0)","v":0},null,null,null,null,null,null,null,null,null,null,null,null,null,null,null,null,null,null,null,null,null,null,null,null,null,null,null,null,null,null,null,null,null,null,null,null,null,null,null,null,null,null,null,null,null,null,null,null,null,null,null,null,null,null,null,null,null,null,null,null,null,null,null,null,null,null,null,null,null,null,null,null,null,null,null,null,null,0,0,0,{"$f":"IF(COUNTIF($DM136:DN136,$P136+$Q136)<$R136,$P136+$Q136,0)","v":0},{"$f":"IF(COUNTIF($DM136:DO136,$P136+$Q136)<$R136,$P136+$Q136,0)","v":0},{"$f":"IF(COUNTIF($DM136:DP136,$P136+$Q136)<$R136,$P136+$Q136,0)","v":0},{"$f":"IF(COUNTIF($DM136:DQ136,$P136+$Q136)<$R136,$P136+$Q136,0)","v":0},{"$f":"IF(COUNTIF($DM136:DR136,$P136+$Q136)<$R136,$P136+$Q136,0)","v":0},{"$f":"IF(COUNTIF($DM136:DS136,$P136+$Q136)<$R136,$P136+$Q136,0)","v":0},{"$f":"IF(COUNTIF($DM136:DT136,$P136+$Q136)<$R136,$P136+$Q136,0)","v":0},{"$f":"IF(COUNTIF($DM136:DU136,$P136+$Q136)<$R136,$P136+$Q136,0)","v":0},{"$f":"IF(COUNTIF($DM136:DV136,$P136+$Q136)<$R136,$P136+$Q136,0)","v":0},{"$f":"IF(COUNTIF($DM136:DW136,$P136+$Q136)<$R136,$P136+$Q136,0)","v":0},{"$f":"IF(COUNTIF($DM136:DX136,$P136+$Q136)<$R136,$P136+$Q136,0)","v":0},{"$f":"IF(COUNTIF($DM136:DY136,$P136+$Q136)<$R136,$P136+$Q136,0)","v":0},{"$f":"IF(COUNTIF($DM136:DZ136,$P136+$Q136)<$R136,$P136+$Q136,0)","v":0},{"$f":"IF(COUNTIF($DM136:EA136,$P136+$Q136)<$R136,$P136+$Q136,0)","v":0},{"$f":"IF(COUNTIF($DM136:EB136,$P136+$Q136)<$R136,$P136+$Q136,0)","v":0},{"$f":"IF(COUNTIF($DM136:EC136,$P136+$Q136)<$R136,$P136+$Q136,0)","v":0},{"$f":"IF(COUNTIF($DM136:ED136,$P136+$Q136)<$R136,$P136+$Q136,0)","v":0},{"$f":"IF(COUNTIF($DM136:EE136,$P136+$Q136)<$R136,$P136+$Q136,0)","v":0},{"$f":"IF(COUNTIF($DM136:EF136,$P136+$Q136)<$R136,$P136+$Q136,0)","v":0},{"$f":"IF(COUNTIF($DM136:EG136,$P136+$Q136)<$R136,$P136+$Q136,0)","v":0},{"$f":"IF(COUNTIF($DM136:EH136,$P136+$Q136)<$R136,$P136+$Q136,0)","v":0},{"$f":"IF(COUNTIF($DM136:EI136,$P136+$Q136)<$R136,$P136+$Q136,0)","v":0},{"$f":"IF(COUNTIF($DM136:EJ136,$P136+$Q136)<$R136,$P136+$Q136,0)","v":0},{"$f":"IF(COUNTIF($DM136:EK136,$P136+$Q136)<$R136,$P136+$Q136,0)","v":0},{"$f":"IF(COUNTIF($DM136:EL136,$P136+$Q136)<$R136,$P136+$Q136,0)","v":0},{"$f":"IF(COUNTIF($DM136:EM136,$P136+$Q136)<$R136,$P136+$Q136,0)","v":0},{"$f":"IF(COUNTIF($DM136:EN136,$P136+$Q136)<$R136,$P136+$Q136,0)","v":0},{"$f":"IF(COUNTIF($DM136:EO136,$P136+$Q136)<$R136,$P136+$Q136,0)","v":0},{"$f":"IF(COUNTIF($DM136:EP136,$P136+$Q136)<$R136,$P136+$Q136,0)","v":0},{"$f":"IF(COUNTIF($DM136:EQ136,$P136+$Q136)<$R136,$P136+$Q136,0)","v":0},{"$f":"IF(COUNTIF($DM136:ER136,$P136+$Q136)<$R136,$P136+$Q136,0)","v":0},{"$f":"IF(COUNTIF($DM136:ES136,$P136+$Q136)<$R136,$P136+$Q136,0)","v":0},{"$f":"IF(COUNTIF($DM136:ET136,$P136+$Q136)<$R136,$P136+$Q136,0)","v":0},{"$f":"IF(COUNTIF($DM136:EU136,$P136+$Q136)<$R136,$P136+$Q136,0)","v":0},{"$f":"IF(COUNTIF($DM136:EV136,$P136+$Q136)<$R136,$P136+$Q136,0)","v":0},{"$f":"IF(COUNTIF($DM136:EW136,$P136+$Q136)<$R136,$P136+$Q136,0)","v":0},{"$f":"IF(COUNTIF($DM136:EX136,$P136+$Q136)<$R136,$P136+$Q136,0)","v":0},{"$f":"IF(COUNTIF($DM136:EY136,$P136+$Q136)<$R136,$P136+$Q136,0)","v":0},-0.3]
[null,null,null,null,null,null,null,null,null,null,null,null,null,null,null,null,null,null,0,null,null,null,null,null,0,0,0,0,0,0,0,0,{"$f":"'P4P - Measure Info'!X38","v":0},0,0,0,{"$f":"IFERROR(('P4P - Project Summary'!$I$20/SUM($AL$122:$AL$146))*AL137,0)","v":0},{"$f":"IFERROR(IF('P4P - Measure Info'!$C38=\"Yes\",IF(O100<>0,'P4P - Support Data'!$O$76*O100,0),0),0)","v":0},null,null,null,null,null,null,null,null,null,null,null,null,null,null,null,null,null,null,null,null,null,null,null,null,null,null,null,null,null,null,null,null,null,null,null,null,null,null,null,null,null,null,null,null,null,null,null,null,null,null,null,null,null,null,null,null,null,null,null,null,null,null,null,null,null,null,null,null,null,null,null,null,null,null,null,null,null,0,0,0,{"$f":"IF(COUNTIF($DM137:DN137,$P137+$Q137)<$R137,$P137+$Q137,0)","v":0},{"$f":"IF(COUNTIF($DM137:DO137,$P137+$Q137)<$R137,$P137+$Q137,0)","v":0},{"$f":"IF(COUNTIF($DM137:DP137,$P137+$Q137)<$R137,$P137+$Q137,0)","v":0},{"$f":"IF(COUNTIF($DM137:DQ137,$P137+$Q137)<$R137,$P137+$Q137,0)","v":0},{"$f":"IF(COUNTIF($DM137:DR137,$P137+$Q137)<$R137,$P137+$Q137,0)","v":0},{"$f":"IF(COUNTIF($DM137:DS137,$P137+$Q137)<$R137,$P137+$Q137,0)","v":0},{"$f":"IF(COUNTIF($DM137:DT137,$P137+$Q137)<$R137,$P137+$Q137,0)","v":0},{"$f":"IF(COUNTIF($DM137:DU137,$P137+$Q137)<$R137,$P137+$Q137,0)","v":0},{"$f":"IF(COUNTIF($DM137:DV137,$P137+$Q137)<$R137,$P137+$Q137,0)","v":0},{"$f":"IF(COUNTIF($DM137:DW137,$P137+$Q137)<$R137,$P137+$Q137,0)","v":0},{"$f":"IF(COUNTIF($DM137:DX137,$P137+$Q137)<$R137,$P137+$Q137,0)","v":0},{"$f":"IF(COUNTIF($DM137:DY137,$P137+$Q137)<$R137,$P137+$Q137,0)","v":0},{"$f":"IF(COUNTIF($DM137:DZ137,$P137+$Q137)<$R137,$P137+$Q137,0)","v":0},{"$f":"IF(COUNTIF($DM137:EA137,$P137+$Q137)<$R137,$P137+$Q137,0)","v":0},{"$f":"IF(COUNTIF($DM137:EB137,$P137+$Q137)<$R137,$P137+$Q137,0)","v":0},{"$f":"IF(COUNTIF($DM137:EC137,$P137+$Q137)<$R137,$P137+$Q137,0)","v":0},{"$f":"IF(COUNTIF($DM137:ED137,$P137+$Q137)<$R137,$P137+$Q137,0)","v":0},{"$f":"IF(COUNTIF($DM137:EE137,$P137+$Q137)<$R137,$P137+$Q137,0)","v":0},{"$f":"IF(COUNTIF($DM137:EF137,$P137+$Q137)<$R137,$P137+$Q137,0)","v":0},{"$f":"IF(COUNTIF($DM137:EG137,$P137+$Q137)<$R137,$P137+$Q137,0)","v":0},{"$f":"IF(COUNTIF($DM137:EH137,$P137+$Q137)<$R137,$P137+$Q137,0)","v":0},{"$f":"IF(COUNTIF($DM137:EI137,$P137+$Q137)<$R137,$P137+$Q137,0)","v":0},{"$f":"IF(COUNTIF($DM137:EJ137,$P137+$Q137)<$R137,$P137+$Q137,0)","v":0},{"$f":"IF(COUNTIF($DM137:EK137,$P137+$Q137)<$R137,$P137+$Q137,0)","v":0},{"$f":"IF(COUNTIF($DM137:EL137,$P137+$Q137)<$R137,$P137+$Q137,0)","v":0},{"$f":"IF(COUNTIF($DM137:EM137,$P137+$Q137)<$R137,$P137+$Q137,0)","v":0},{"$f":"IF(COUNTIF($DM137:EN137,$P137+$Q137)<$R137,$P137+$Q137,0)","v":0},{"$f":"IF(COUNTIF($DM137:EO137,$P137+$Q137)<$R137,$P137+$Q137,0)","v":0},{"$f":"IF(COUNTIF($DM137:EP137,$P137+$Q137)<$R137,$P137+$Q137,0)","v":0},{"$f":"IF(COUNTIF($DM137:EQ137,$P137+$Q137)<$R137,$P137+$Q137,0)","v":0},{"$f":"IF(COUNTIF($DM137:ER137,$P137+$Q137)<$R137,$P137+$Q137,0)","v":0},{"$f":"IF(COUNTIF($DM137:ES137,$P137+$Q137)<$R137,$P137+$Q137,0)","v":0},{"$f":"IF(COUNTIF($DM137:ET137,$P137+$Q137)<$R137,$P137+$Q137,0)","v":0},{"$f":"IF(COUNTIF($DM137:EU137,$P137+$Q137)<$R137,$P137+$Q137,0)","v":0},{"$f":"IF(COUNTIF($DM137:EV137,$P137+$Q137)<$R137,$P137+$Q137,0)","v":0},{"$f":"IF(COUNTIF($DM137:EW137,$P137+$Q137)<$R137,$P137+$Q137,0)","v":0},{"$f":"IF(COUNTIF($DM137:EX137,$P137+$Q137)<$R137,$P137+$Q137,0)","v":0},{"$f":"IF(COUNTIF($DM137:EY137,$P137+$Q137)<$R137,$P137+$Q137,0)","v":0},-0.3]
[null,null,null,null,null,null,null,null,null,null,null,null,null,null,null,null,null,null,0,null,null,null,null,null,0,0,0,0,0,0,0,0,{"$f":"'P4P - Measure Info'!X39","v":0},0,0,0,{"$f":"IFERROR(('P4P - Project Summary'!$I$20/SUM($AL$122:$AL$146))*AL138,0)","v":0},{"$f":"IFERROR(IF('P4P - Measure Info'!$C39=\"Yes\",IF(O101<>0,'P4P - Support Data'!$O$76*O101,0),0),0)","v":0},null,null,null,null,null,null,null,null,null,null,null,null,null,null,null,null,null,null,null,null,null,null,null,null,null,null,null,null,null,null,null,null,null,null,null,null,null,null,null,null,null,null,null,null,null,null,null,null,null,null,null,null,null,null,null,null,null,null,null,null,null,null,null,null,null,null,null,null,null,null,null,null,null,null,null,null,null,0,0,0,{"$f":"IF(COUNTIF($DM138:DN138,$P138+$Q138)<$R138,$P138+$Q138,0)","v":0},{"$f":"IF(COUNTIF($DM138:DO138,$P138+$Q138)<$R138,$P138+$Q138,0)","v":0},{"$f":"IF(COUNTIF($DM138:DP138,$P138+$Q138)<$R138,$P138+$Q138,0)","v":0},{"$f":"IF(COUNTIF($DM138:DQ138,$P138+$Q138)<$R138,$P138+$Q138,0)","v":0},{"$f":"IF(COUNTIF($DM138:DR138,$P138+$Q138)<$R138,$P138+$Q138,0)","v":0},{"$f":"IF(COUNTIF($DM138:DS138,$P138+$Q138)<$R138,$P138+$Q138,0)","v":0},{"$f":"IF(COUNTIF($DM138:DT138,$P138+$Q138)<$R138,$P138+$Q138,0)","v":0},{"$f":"IF(COUNTIF($DM138:DU138,$P138+$Q138)<$R138,$P138+$Q138,0)","v":0},{"$f":"IF(COUNTIF($DM138:DV138,$P138+$Q138)<$R138,$P138+$Q138,0)","v":0},{"$f":"IF(COUNTIF($DM138:DW138,$P138+$Q138)<$R138,$P138+$Q138,0)","v":0},{"$f":"IF(COUNTIF($DM138:DX138,$P138+$Q138)<$R138,$P138+$Q138,0)","v":0},{"$f":"IF(COUNTIF($DM138:DY138,$P138+$Q138)<$R138,$P138+$Q138,0)","v":0},{"$f":"IF(COUNTIF($DM138:DZ138,$P138+$Q138)<$R138,$P138+$Q138,0)","v":0},{"$f":"IF(COUNTIF($DM138:EA138,$P138+$Q138)<$R138,$P138+$Q138,0)","v":0},{"$f":"IF(COUNTIF($DM138:EB138,$P138+$Q138)<$R138,$P138+$Q138,0)","v":0},{"$f":"IF(COUNTIF($DM138:EC138,$P138+$Q138)<$R138,$P138+$Q138,0)","v":0},{"$f":"IF(COUNTIF($DM138:ED138,$P138+$Q138)<$R138,$P138+$Q138,0)","v":0},{"$f":"IF(COUNTIF($DM138:EE138,$P138+$Q138)<$R138,$P138+$Q138,0)","v":0},{"$f":"IF(COUNTIF($DM138:EF138,$P138+$Q138)<$R138,$P138+$Q138,0)","v":0},{"$f":"IF(COUNTIF($DM138:EG138,$P138+$Q138)<$R138,$P138+$Q138,0)","v":0},{"$f":"IF(COUNTIF($DM138:EH138,$P138+$Q138)<$R138,$P138+$Q138,0)","v":0},{"$f":"IF(COUNTIF($DM138:EI138,$P138+$Q138)<$R138,$P138+$Q138,0)","v":0},{"$f":"IF(COUNTIF($DM138:EJ138,$P138+$Q138)<$R138,$P138+$Q138,0)","v":0},{"$f":"IF(COUNTIF($DM138:EK138,$P138+$Q138)<$R138,$P138+$Q138,0)","v":0},{"$f":"IF(COUNTIF($DM138:EL138,$P138+$Q138)<$R138,$P138+$Q138,0)","v":0},{"$f":"IF(COUNTIF($DM138:EM138,$P138+$Q138)<$R138,$P138+$Q138,0)","v":0},{"$f":"IF(COUNTIF($DM138:EN138,$P138+$Q138)<$R138,$P138+$Q138,0)","v":0},{"$f":"IF(COUNTIF($DM138:EO138,$P138+$Q138)<$R138,$P138+$Q138,0)","v":0},{"$f":"IF(COUNTIF($DM138:EP138,$P138+$Q138)<$R138,$P138+$Q138,0)","v":0},{"$f":"IF(COUNTIF($DM138:EQ138,$P138+$Q138)<$R138,$P138+$Q138,0)","v":0},{"$f":"IF(COUNTIF($DM138:ER138,$P138+$Q138)<$R138,$P138+$Q138,0)","v":0},{"$f":"IF(COUNTIF($DM138:ES138,$P138+$Q138)<$R138,$P138+$Q138,0)","v":0},{"$f":"IF(COUNTIF($DM138:ET138,$P138+$Q138)<$R138,$P138+$Q138,0)","v":0},{"$f":"IF(COUNTIF($DM138:EU138,$P138+$Q138)<$R138,$P138+$Q138,0)","v":0},{"$f":"IF(COUNTIF($DM138:EV138,$P138+$Q138)<$R138,$P138+$Q138,0)","v":0},{"$f":"IF(COUNTIF($DM138:EW138,$P138+$Q138)<$R138,$P138+$Q138,0)","v":0},{"$f":"IF(COUNTIF($DM138:EX138,$P138+$Q138)<$R138,$P138+$Q138,0)","v":0},{"$f":"IF(COUNTIF($DM138:EY138,$P138+$Q138)<$R138,$P138+$Q138,0)","v":0},-0.3]
[null,null,null,null,null,null,null,null,null,null,null,null,null,null,null,null,null,null,0,null,null,null,null,null,0,0,0,0,0,0,0,0,{"$f":"'P4P - Measure Info'!X40","v":0},0,0,0,{"$f":"IFERROR(('P4P - Project Summary'!$I$20/SUM($AL$122:$AL$146))*AL139,0)","v":0},{"$f":"IFERROR(IF('P4P - Measure Info'!$C40=\"Yes\",IF(O102<>0,'P4P - Support Data'!$O$76*O102,0),0),0)","v":0},null,null,null,null,null,null,null,null,null,null,null,null,null,null,null,null,null,null,null,null,null,null,null,null,null,null,null,null,null,null,null,null,null,null,null,null,null,null,null,null,null,null,null,null,null,null,null,null,null,null,null,null,null,null,null,null,null,null,null,null,null,null,null,null,null,null,null,null,null,null,null,null,null,null,null,null,null,0,0,0,{"$f":"IF(COUNTIF($DM139:DN139,$P139+$Q139)<$R139,$P139+$Q139,0)","v":0},{"$f":"IF(COUNTIF($DM139:DO139,$P139+$Q139)<$R139,$P139+$Q139,0)","v":0},{"$f":"IF(COUNTIF($DM139:DP139,$P139+$Q139)<$R139,$P139+$Q139,0)","v":0},{"$f":"IF(COUNTIF($DM139:DQ139,$P139+$Q139)<$R139,$P139+$Q139,0)","v":0},{"$f":"IF(COUNTIF($DM139:DR139,$P139+$Q139)<$R139,$P139+$Q139,0)","v":0},{"$f":"IF(COUNTIF($DM139:DS139,$P139+$Q139)<$R139,$P139+$Q139,0)","v":0},{"$f":"IF(COUNTIF($DM139:DT139,$P139+$Q139)<$R139,$P139+$Q139,0)","v":0},{"$f":"IF(COUNTIF($DM139:DU139,$P139+$Q139)<$R139,$P139+$Q139,0)","v":0},{"$f":"IF(COUNTIF($DM139:DV139,$P139+$Q139)<$R139,$P139+$Q139,0)","v":0},{"$f":"IF(COUNTIF($DM139:DW139,$P139+$Q139)<$R139,$P139+$Q139,0)","v":0},{"$f":"IF(COUNTIF($DM139:DX139,$P139+$Q139)<$R139,$P139+$Q139,0)","v":0},{"$f":"IF(COUNTIF($DM139:DY139,$P139+$Q139)<$R139,$P139+$Q139,0)","v":0},{"$f":"IF(COUNTIF($DM139:DZ139,$P139+$Q139)<$R139,$P139+$Q139,0)","v":0},{"$f":"IF(COUNTIF($DM139:EA139,$P139+$Q139)<$R139,$P139+$Q139,0)","v":0},{"$f":"IF(COUNTIF($DM139:EB139,$P139+$Q139)<$R139,$P139+$Q139,0)","v":0},{"$f":"IF(COUNTIF($DM139:EC139,$P139+$Q139)<$R139,$P139+$Q139,0)","v":0},{"$f":"IF(COUNTIF($DM139:ED139,$P139+$Q139)<$R139,$P139+$Q139,0)","v":0},{"$f":"IF(COUNTIF($DM139:EE139,$P139+$Q139)<$R139,$P139+$Q139,0)","v":0},{"$f":"IF(COUNTIF($DM139:EF139,$P139+$Q139)<$R139,$P139+$Q139,0)","v":0},{"$f":"IF(COUNTIF($DM139:EG139,$P139+$Q139)<$R139,$P139+$Q139,0)","v":0},{"$f":"IF(COUNTIF($DM139:EH139,$P139+$Q139)<$R139,$P139+$Q139,0)","v":0},{"$f":"IF(COUNTIF($DM139:EI139,$P139+$Q139)<$R139,$P139+$Q139,0)","v":0},{"$f":"IF(COUNTIF($DM139:EJ139,$P139+$Q139)<$R139,$P139+$Q139,0)","v":0},{"$f":"IF(COUNTIF($DM139:EK139,$P139+$Q139)<$R139,$P139+$Q139,0)","v":0},{"$f":"IF(COUNTIF($DM139:EL139,$P139+$Q139)<$R139,$P139+$Q139,0)","v":0},{"$f":"IF(COUNTIF($DM139:EM139,$P139+$Q139)<$R139,$P139+$Q139,0)","v":0},{"$f":"IF(COUNTIF($DM139:EN139,$P139+$Q139)<$R139,$P139+$Q139,0)","v":0},{"$f":"IF(COUNTIF($DM139:EO139,$P139+$Q139)<$R139,$P139+$Q139,0)","v":0},{"$f":"IF(COUNTIF($DM139:EP139,$P139+$Q139)<$R139,$P139+$Q139,0)","v":0},{"$f":"IF(COUNTIF($DM139:EQ139,$P139+$Q139)<$R139,$P139+$Q139,0)","v":0},{"$f":"IF(COUNTIF($DM139:ER139,$P139+$Q139)<$R139,$P139+$Q139,0)","v":0},{"$f":"IF(COUNTIF($DM139:ES139,$P139+$Q139)<$R139,$P139+$Q139,0)","v":0},{"$f":"IF(COUNTIF($DM139:ET139,$P139+$Q139)<$R139,$P139+$Q139,0)","v":0},{"$f":"IF(COUNTIF($DM139:EU139,$P139+$Q139)<$R139,$P139+$Q139,0)","v":0},{"$f":"IF(COUNTIF($DM139:EV139,$P139+$Q139)<$R139,$P139+$Q139,0)","v":0},{"$f":"IF(COUNTIF($DM139:EW139,$P139+$Q139)<$R139,$P139+$Q139,0)","v":0},{"$f":"IF(COUNTIF($DM139:EX139,$P139+$Q139)<$R139,$P139+$Q139,0)","v":0},{"$f":"IF(COUNTIF($DM139:EY139,$P139+$Q139)<$R139,$P139+$Q139,0)","v":0},-0.3]
[null,null,null,null,null,null,null,null,null,null,null,null,null,null,null,null,null,null,0,null,null,null,null,null,0,0,0,0,0,0,0,0,{"$f":"'P4P - Measure Info'!X41","v":0},0,0,0,{"$f":"IFERROR(('P4P - Project Summary'!$I$20/SUM($AL$122:$AL$146))*AL140,0)","v":0},{"$f":"IFERROR(IF('P4P - Measure Info'!$C41=\"Yes\",IF(O103<>0,'P4P - Support Data'!$O$76*O103,0),0),0)","v":0},null,null,null,null,null,null,null,null,null,null,null,null,null,null,null,null,null,null,null,null,null,null,null,null,null,null,null,null,null,null,null,null,null,null,null,null,null,null,null,null,null,null,null,null,null,null,null,null,null,null,null,null,null,null,null,null,null,null,null,null,null,null,null,null,null,null,null,null,null,null,null,null,null,null,null,null,null,0,0,0,{"$f":"IF(COUNTIF($DM140:DN140,$P140+$Q140)<$R140,$P140+$Q140,0)","v":0},{"$f":"IF(COUNTIF($DM140:DO140,$P140+$Q140)<$R140,$P140+$Q140,0)","v":0},{"$f":"IF(COUNTIF($DM140:DP140,$P140+$Q140)<$R140,$P140+$Q140,0)","v":0},{"$f":"IF(COUNTIF($DM140:DQ140,$P140+$Q140)<$R140,$P140+$Q140,0)","v":0},{"$f":"IF(COUNTIF($DM140:DR140,$P140+$Q140)<$R140,$P140+$Q140,0)","v":0},{"$f":"IF(COUNTIF($DM140:DS140,$P140+$Q140)<$R140,$P140+$Q140,0)","v":0},{"$f":"IF(COUNTIF($DM140:DT140,$P140+$Q140)<$R140,$P140+$Q140,0)","v":0},{"$f":"IF(COUNTIF($DM140:DU140,$P140+$Q140)<$R140,$P140+$Q140,0)","v":0},{"$f":"IF(COUNTIF($DM140:DV140,$P140+$Q140)<$R140,$P140+$Q140,0)","v":0},{"$f":"IF(COUNTIF($DM140:DW140,$P140+$Q140)<$R140,$P140+$Q140,0)","v":0},{"$f":"IF(COUNTIF($DM140:DX140,$P140+$Q140)<$R140,$P140+$Q140,0)","v":0},{"$f":"IF(COUNTIF($DM140:DY140,$P140+$Q140)<$R140,$P140+$Q140,0)","v":0},{"$f":"IF(COUNTIF($DM140:DZ140,$P140+$Q140)<$R140,$P140+$Q140,0)","v":0},{"$f":"IF(COUNTIF($DM140:EA140,$P140+$Q140)<$R140,$P140+$Q140,0)","v":0},{"$f":"IF(COUNTIF($DM140:EB140,$P140+$Q140)<$R140,$P140+$Q140,0)","v":0},{"$f":"IF(COUNTIF($DM140:EC140,$P140+$Q140)<$R140,$P140+$Q140,0)","v":0},{"$f":"IF(COUNTIF($DM140:ED140,$P140+$Q140)<$R140,$P140+$Q140,0)","v":0},{"$f":"IF(COUNTIF($DM140:EE140,$P140+$Q140)<$R140,$P140+$Q140,0)","v":0},{"$f":"IF(COUNTIF($DM140:EF140,$P140+$Q140)<$R140,$P140+$Q140,0)","v":0},{"$f":"IF(COUNTIF($DM140:EG140,$P140+$Q140)<$R140,$P140+$Q140,0)","v":0},{"$f":"IF(COUNTIF($DM140:EH140,$P140+$Q140)<$R140,$P140+$Q140,0)","v":0},{"$f":"IF(COUNTIF($DM140:EI140,$P140+$Q140)<$R140,$P140+$Q140,0)","v":0},{"$f":"IF(COUNTIF($DM140:EJ140,$P140+$Q140)<$R140,$P140+$Q140,0)","v":0},{"$f":"IF(COUNTIF($DM140:EK140,$P140+$Q140)<$R140,$P140+$Q140,0)","v":0},{"$f":"IF(COUNTIF($DM140:EL140,$P140+$Q140)<$R140,$P140+$Q140,0)","v":0},{"$f":"IF(COUNTIF($DM140:EM140,$P140+$Q140)<$R140,$P140+$Q140,0)","v":0},{"$f":"IF(COUNTIF($DM140:EN140,$P140+$Q140)<$R140,$P140+$Q140,0)","v":0},{"$f":"IF(COUNTIF($DM140:EO140,$P140+$Q140)<$R140,$P140+$Q140,0)","v":0},{"$f":"IF(COUNTIF($DM140:EP140,$P140+$Q140)<$R140,$P140+$Q140,0)","v":0},{"$f":"IF(COUNTIF($DM140:EQ140,$P140+$Q140)<$R140,$P140+$Q140,0)","v":0},{"$f":"IF(COUNTIF($DM140:ER140,$P140+$Q140)<$R140,$P140+$Q140,0)","v":0},{"$f":"IF(COUNTIF($DM140:ES140,$P140+$Q140)<$R140,$P140+$Q140,0)","v":0},{"$f":"IF(COUNTIF($DM140:ET140,$P140+$Q140)<$R140,$P140+$Q140,0)","v":0},{"$f":"IF(COUNTIF($DM140:EU140,$P140+$Q140)<$R140,$P140+$Q140,0)","v":0},{"$f":"IF(COUNTIF($DM140:EV140,$P140+$Q140)<$R140,$P140+$Q140,0)","v":0},{"$f":"IF(COUNTIF($DM140:EW140,$P140+$Q140)<$R140,$P140+$Q140,0)","v":0},{"$f":"IF(COUNTIF($DM140:EX140,$P140+$Q140)<$R140,$P140+$Q140,0)","v":0},{"$f":"IF(COUNTIF($DM140:EY140,$P140+$Q140)<$R140,$P140+$Q140,0)","v":0},-0.3]
[null,null,null,null,null,null,null,null,null,null,null,null,null,null,null,null,null,null,0,null,null,null,null,null,0,0,0,0,0,0,0,0,{"$f":"'P4P - Measure Info'!X42","v":0},0,0,0,{"$f":"IFERROR(('P4P - Project Summary'!$I$20/SUM($AL$122:$AL$146))*AL141,0)","v":0},{"$f":"IFERROR(IF('P4P - Measure Info'!$C42=\"Yes\",IF(O104<>0,'P4P - Support Data'!$O$76*O104,0),0),0)","v":0},null,null,null,null,null,null,null,null,null,null,null,null,null,null,null,null,null,null,null,null,null,null,null,null,null,null,null,null,null,null,null,null,null,null,null,null,null,null,null,null,null,null,null,null,null,null,null,null,null,null,null,null,null,null,null,null,null,null,null,null,null,null,null,null,null,null,null,null,null,null,null,null,null,null,null,null,null,0,0,0,{"$f":"IF(COUNTIF($DM141:DN141,$P141+$Q141)<$R141,$P141+$Q141,0)","v":0},{"$f":"IF(COUNTIF($DM141:DO141,$P141+$Q141)<$R141,$P141+$Q141,0)","v":0},{"$f":"IF(COUNTIF($DM141:DP141,$P141+$Q141)<$R141,$P141+$Q141,0)","v":0},{"$f":"IF(COUNTIF($DM141:DQ141,$P141+$Q141)<$R141,$P141+$Q141,0)","v":0},{"$f":"IF(COUNTIF($DM141:DR141,$P141+$Q141)<$R141,$P141+$Q141,0)","v":0},{"$f":"IF(COUNTIF($DM141:DS141,$P141+$Q141)<$R141,$P141+$Q141,0)","v":0},{"$f":"IF(COUNTIF($DM141:DT141,$P141+$Q141)<$R141,$P141+$Q141,0)","v":0},{"$f":"IF(COUNTIF($DM141:DU141,$P141+$Q141)<$R141,$P141+$Q141,0)","v":0},{"$f":"IF(COUNTIF($DM141:DV141,$P141+$Q141)<$R141,$P141+$Q141,0)","v":0},{"$f":"IF(COUNTIF($DM141:DW141,$P141+$Q141)<$R141,$P141+$Q141,0)","v":0},{"$f":"IF(COUNTIF($DM141:DX141,$P141+$Q141)<$R141,$P141+$Q141,0)","v":0},{"$f":"IF(COUNTIF($DM141:DY141,$P141+$Q141)<$R141,$P141+$Q141,0)","v":0},{"$f":"IF(COUNTIF($DM141:DZ141,$P141+$Q141)<$R141,$P141+$Q141,0)","v":0},{"$f":"IF(COUNTIF($DM141:EA141,$P141+$Q141)<$R141,$P141+$Q141,0)","v":0},{"$f":"IF(COUNTIF($DM141:EB141,$P141+$Q141)<$R141,$P141+$Q141,0)","v":0},{"$f":"IF(COUNTIF($DM141:EC141,$P141+$Q141)<$R141,$P141+$Q141,0)","v":0},{"$f":"IF(COUNTIF($DM141:ED141,$P141+$Q141)<$R141,$P141+$Q141,0)","v":0},{"$f":"IF(COUNTIF($DM141:EE141,$P141+$Q141)<$R141,$P141+$Q141,0)","v":0},{"$f":"IF(COUNTIF($DM141:EF141,$P141+$Q141)<$R141,$P141+$Q141,0)","v":0},{"$f":"IF(COUNTIF($DM141:EG141,$P141+$Q141)<$R141,$P141+$Q141,0)","v":0},{"$f":"IF(COUNTIF($DM141:EH141,$P141+$Q141)<$R141,$P141+$Q141,0)","v":0},{"$f":"IF(COUNTIF($DM141:EI141,$P141+$Q141)<$R141,$P141+$Q141,0)","v":0},{"$f":"IF(COUNTIF($DM141:EJ141,$P141+$Q141)<$R141,$P141+$Q141,0)","v":0},{"$f":"IF(COUNTIF($DM141:EK141,$P141+$Q141)<$R141,$P141+$Q141,0)","v":0},{"$f":"IF(COUNTIF($DM141:EL141,$P141+$Q141)<$R141,$P141+$Q141,0)","v":0},{"$f":"IF(COUNTIF($DM141:EM141,$P141+$Q141)<$R141,$P141+$Q141,0)","v":0},{"$f":"IF(COUNTIF($DM141:EN141,$P141+$Q141)<$R141,$P141+$Q141,0)","v":0},{"$f":"IF(COUNTIF($DM141:EO141,$P141+$Q141)<$R141,$P141+$Q141,0)","v":0},{"$f":"IF(COUNTIF($DM141:EP141,$P141+$Q141)<$R141,$P141+$Q141,0)","v":0},{"$f":"IF(COUNTIF($DM141:EQ141,$P141+$Q141)<$R141,$P141+$Q141,0)","v":0},{"$f":"IF(COUNTIF($DM141:ER141,$P141+$Q141)<$R141,$P141+$Q141,0)","v":0},{"$f":"IF(COUNTIF($DM141:ES141,$P141+$Q141)<$R141,$P141+$Q141,0)","v":0},{"$f":"IF(COUNTIF($DM141:ET141,$P141+$Q141)<$R141,$P141+$Q141,0)","v":0},{"$f":"IF(COUNTIF($DM141:EU141,$P141+$Q141)<$R141,$P141+$Q141,0)","v":0},{"$f":"IF(COUNTIF($DM141:EV141,$P141+$Q141)<$R141,$P141+$Q141,0)","v":0},{"$f":"IF(COUNTIF($DM141:EW141,$P141+$Q141)<$R141,$P141+$Q141,0)","v":0},{"$f":"IF(COUNTIF($DM141:EX141,$P141+$Q141)<$R141,$P141+$Q141,0)","v":0},{"$f":"IF(COUNTIF($DM141:EY141,$P141+$Q141)<$R141,$P141+$Q141,0)","v":0},-0.3]
[null,null,null,null,null,null,null,null,null,null,null,null,null,null,null,null,null,null,0,null,null,null,null,null,0,0,0,0,0,0,0,0,{"$f":"'P4P - Measure Info'!X43","v":0},0,0,0,{"$f":"IFERROR(('P4P - Project Summary'!$I$20/SUM($AL$122:$AL$146))*AL142,0)","v":0},{"$f":"IFERROR(IF('P4P - Measure Info'!$C43=\"Yes\",IF(O105<>0,'P4P - Support Data'!$O$76*O105,0),0),0)","v":0},null,null,null,null,null,null,null,null,null,null,null,null,null,null,null,null,null,null,null,null,null,null,null,null,null,null,null,null,null,null,null,null,null,null,null,null,null,null,null,null,null,null,null,null,null,null,null,null,null,null,null,null,null,null,null,null,null,null,null,null,null,null,null,null,null,null,null,null,null,null,null,null,null,null,null,null,null,0,0,0,{"$f":"IF(COUNTIF($DM142:DN142,$P142+$Q142)<$R142,$P142+$Q142,0)","v":0},{"$f":"IF(COUNTIF($DM142:DO142,$P142+$Q142)<$R142,$P142+$Q142,0)","v":0},{"$f":"IF(COUNTIF($DM142:DP142,$P142+$Q142)<$R142,$P142+$Q142,0)","v":0},{"$f":"IF(COUNTIF($DM142:DQ142,$P142+$Q142)<$R142,$P142+$Q142,0)","v":0},{"$f":"IF(COUNTIF($DM142:DR142,$P142+$Q142)<$R142,$P142+$Q142,0)","v":0},{"$f":"IF(COUNTIF($DM142:DS142,$P142+$Q142)<$R142,$P142+$Q142,0)","v":0},{"$f":"IF(COUNTIF($DM142:DT142,$P142+$Q142)<$R142,$P142+$Q142,0)","v":0},{"$f":"IF(COUNTIF($DM142:DU142,$P142+$Q142)<$R142,$P142+$Q142,0)","v":0},{"$f":"IF(COUNTIF($DM142:DV142,$P142+$Q142)<$R142,$P142+$Q142,0)","v":0},{"$f":"IF(COUNTIF($DM142:DW142,$P142+$Q142)<$R142,$P142+$Q142,0)","v":0},{"$f":"IF(COUNTIF($DM142:DX142,$P142+$Q142)<$R142,$P142+$Q142,0)","v":0},{"$f":"IF(COUNTIF($DM142:DY142,$P142+$Q142)<$R142,$P142+$Q142,0)","v":0},{"$f":"IF(COUNTIF($DM142:DZ142,$P142+$Q142)<$R142,$P142+$Q142,0)","v":0},{"$f":"IF(COUNTIF($DM142:EA142,$P142+$Q142)<$R142,$P142+$Q142,0)","v":0},{"$f":"IF(COUNTIF($DM142:EB142,$P142+$Q142)<$R142,$P142+$Q142,0)","v":0},{"$f":"IF(COUNTIF($DM142:EC142,$P142+$Q142)<$R142,$P142+$Q142,0)","v":0},{"$f":"IF(COUNTIF($DM142:ED142,$P142+$Q142)<$R142,$P142+$Q142,0)","v":0},{"$f":"IF(COUNTIF($DM142:EE142,$P142+$Q142)<$R142,$P142+$Q142,0)","v":0},{"$f":"IF(COUNTIF($DM142:EF142,$P142+$Q142)<$R142,$P142+$Q142,0)","v":0},{"$f":"IF(COUNTIF($DM142:EG142,$P142+$Q142)<$R142,$P142+$Q142,0)","v":0},{"$f":"IF(COUNTIF($DM142:EH142,$P142+$Q142)<$R142,$P142+$Q142,0)","v":0},{"$f":"IF(COUNTIF($DM142:EI142,$P142+$Q142)<$R142,$P142+$Q142,0)","v":0},{"$f":"IF(COUNTIF($DM142:EJ142,$P142+$Q142)<$R142,$P142+$Q142,0)","v":0},{"$f":"IF(COUNTIF($DM142:EK142,$P142+$Q142)<$R142,$P142+$Q142,0)","v":0},{"$f":"IF(COUNTIF($DM142:EL142,$P142+$Q142)<$R142,$P142+$Q142,0)","v":0},{"$f":"IF(COUNTIF($DM142:EM142,$P142+$Q142)<$R142,$P142+$Q142,0)","v":0},{"$f":"IF(COUNTIF($DM142:EN142,$P142+$Q142)<$R142,$P142+$Q142,0)","v":0},{"$f":"IF(COUNTIF($DM142:EO142,$P142+$Q142)<$R142,$P142+$Q142,0)","v":0},{"$f":"IF(COUNTIF($DM142:EP142,$P142+$Q142)<$R142,$P142+$Q142,0)","v":0},{"$f":"IF(COUNTIF($DM142:EQ142,$P142+$Q142)<$R142,$P142+$Q142,0)","v":0},{"$f":"IF(COUNTIF($DM142:ER142,$P142+$Q142)<$R142,$P142+$Q142,0)","v":0},{"$f":"IF(COUNTIF($DM142:ES142,$P142+$Q142)<$R142,$P142+$Q142,0)","v":0},{"$f":"IF(COUNTIF($DM142:ET142,$P142+$Q142)<$R142,$P142+$Q142,0)","v":0},{"$f":"IF(COUNTIF($DM142:EU142,$P142+$Q142)<$R142,$P142+$Q142,0)","v":0},{"$f":"IF(COUNTIF($DM142:EV142,$P142+$Q142)<$R142,$P142+$Q142,0)","v":0},{"$f":"IF(COUNTIF($DM142:EW142,$P142+$Q142)<$R142,$P142+$Q142,0)","v":0},{"$f":"IF(COUNTIF($DM142:EX142,$P142+$Q142)<$R142,$P142+$Q142,0)","v":0},{"$f":"IF(COUNTIF($DM142:EY142,$P142+$Q142)<$R142,$P142+$Q142,0)","v":0},-0.3]
[null,null,null,null,null,null,null,null,null,null,null,null,null,null,null,null,null,null,0,null,null,null,null,null,0,0,0,0,0,0,0,0,{"$f":"'P4P - Measure Info'!X44","v":0},0,0,0,{"$f":"IFERROR(('P4P - Project Summary'!$I$20/SUM($AL$122:$AL$146))*AL143,0)","v":0},{"$f":"IFERROR(IF('P4P - Measure Info'!$C44=\"Yes\",IF(O106<>0,'P4P - Support Data'!$O$76*O106,0),0),0)","v":0},null,null,null,null,null,null,null,null,null,null,null,null,null,null,null,null,null,null,null,null,null,null,null,null,null,null,null,null,null,null,null,null,null,null,null,null,null,null,null,null,null,null,null,null,null,null,null,null,null,null,null,null,null,null,null,null,null,null,null,null,null,null,null,null,null,null,null,null,null,null,null,null,null,null,null,null,null,0,0,0,{"$f":"IF(COUNTIF($DM143:DN143,$P143+$Q143)<$R143,$P143+$Q143,0)","v":0},{"$f":"IF(COUNTIF($DM143:DO143,$P143+$Q143)<$R143,$P143+$Q143,0)","v":0},{"$f":"IF(COUNTIF($DM143:DP143,$P143+$Q143)<$R143,$P143+$Q143,0)","v":0},{"$f":"IF(COUNTIF($DM143:DQ143,$P143+$Q143)<$R143,$P143+$Q143,0)","v":0},{"$f":"IF(COUNTIF($DM143:DR143,$P143+$Q143)<$R143,$P143+$Q143,0)","v":0},{"$f":"IF(COUNTIF($DM143:DS143,$P143+$Q143)<$R143,$P143+$Q143,0)","v":0},{"$f":"IF(COUNTIF($DM143:DT143,$P143+$Q143)<$R143,$P143+$Q143,0)","v":0},{"$f":"IF(COUNTIF($DM143:DU143,$P143+$Q143)<$R143,$P143+$Q143,0)","v":0},{"$f":"IF(COUNTIF($DM143:DV143,$P143+$Q143)<$R143,$P143+$Q143,0)","v":0},{"$f":"IF(COUNTIF($DM143:DW143,$P143+$Q143)<$R143,$P143+$Q143,0)","v":0},{"$f":"IF(COUNTIF($DM143:DX143,$P143+$Q143)<$R143,$P143+$Q143,0)","v":0},{"$f":"IF(COUNTIF($DM143:DY143,$P143+$Q143)<$R143,$P143+$Q143,0)","v":0},{"$f":"IF(COUNTIF($DM143:DZ143,$P143+$Q143)<$R143,$P143+$Q143,0)","v":0},{"$f":"IF(COUNTIF($DM143:EA143,$P143+$Q143)<$R143,$P143+$Q143,0)","v":0},{"$f":"IF(COUNTIF($DM143:EB143,$P143+$Q143)<$R143,$P143+$Q143,0)","v":0},{"$f":"IF(COUNTIF($DM143:EC143,$P143+$Q143)<$R143,$P143+$Q143,0)","v":0},{"$f":"IF(COUNTIF($DM143:ED143,$P143+$Q143)<$R143,$P143+$Q143,0)","v":0},{"$f":"IF(COUNTIF($DM143:EE143,$P143+$Q143)<$R143,$P143+$Q143,0)","v":0},{"$f":"IF(COUNTIF($DM143:EF143,$P143+$Q143)<$R143,$P143+$Q143,0)","v":0},{"$f":"IF(COUNTIF($DM143:EG143,$P143+$Q143)<$R143,$P143+$Q143,0)","v":0},{"$f":"IF(COUNTIF($DM143:EH143,$P143+$Q143)<$R143,$P143+$Q143,0)","v":0},{"$f":"IF(COUNTIF($DM143:EI143,$P143+$Q143)<$R143,$P143+$Q143,0)","v":0},{"$f":"IF(COUNTIF($DM143:EJ143,$P143+$Q143)<$R143,$P143+$Q143,0)","v":0},{"$f":"IF(COUNTIF($DM143:EK143,$P143+$Q143)<$R143,$P143+$Q143,0)","v":0},{"$f":"IF(COUNTIF($DM143:EL143,$P143+$Q143)<$R143,$P143+$Q143,0)","v":0},{"$f":"IF(COUNTIF($DM143:EM143,$P143+$Q143)<$R143,$P143+$Q143,0)","v":0},{"$f":"IF(COUNTIF($DM143:EN143,$P143+$Q143)<$R143,$P143+$Q143,0)","v":0},{"$f":"IF(COUNTIF($DM143:EO143,$P143+$Q143)<$R143,$P143+$Q143,0)","v":0},{"$f":"IF(COUNTIF($DM143:EP143,$P143+$Q143)<$R143,$P143+$Q143,0)","v":0},{"$f":"IF(COUNTIF($DM143:EQ143,$P143+$Q143)<$R143,$P143+$Q143,0)","v":0},{"$f":"IF(COUNTIF($DM143:ER143,$P143+$Q143)<$R143,$P143+$Q143,0)","v":0},{"$f":"IF(COUNTIF($DM143:ES143,$P143+$Q143)<$R143,$P143+$Q143,0)","v":0},{"$f":"IF(COUNTIF($DM143:ET143,$P143+$Q143)<$R143,$P143+$Q143,0)","v":0},{"$f":"IF(COUNTIF($DM143:EU143,$P143+$Q143)<$R143,$P143+$Q143,0)","v":0},{"$f":"IF(COUNTIF($DM143:EV143,$P143+$Q143)<$R143,$P143+$Q143,0)","v":0},{"$f":"IF(COUNTIF($DM143:EW143,$P143+$Q143)<$R143,$P143+$Q143,0)","v":0},{"$f":"IF(COUNTIF($DM143:EX143,$P143+$Q143)<$R143,$P143+$Q143,0)","v":0},{"$f":"IF(COUNTIF($DM143:EY143,$P143+$Q143)<$R143,$P143+$Q143,0)","v":0},-0.3]
[null,null,null,null,null,null,null,null,null,null,null,null,null,null,null,null,null,null,0,null,null,null,null,null,0,0,0,0,0,0,0,0,{"$f":"'P4P - Measure Info'!X45","v":0},0,0,0,{"$f":"IFERROR(('P4P - Project Summary'!$I$20/SUM($AL$122:$AL$146))*AL144,0)","v":0},{"$f":"IFERROR(IF('P4P - Measure Info'!$C45=\"Yes\",IF(O107<>0,'P4P - Support Data'!$O$76*O107,0),0),0)","v":0},null,null,null,null,null,null,null,null,null,null,null,null,null,null,null,null,null,null,null,null,null,null,null,null,null,null,null,null,null,null,null,null,null,null,null,null,null,null,null,null,null,null,null,null,null,null,null,null,null,null,null,null,null,null,null,null,null,null,null,null,null,null,null,null,null,null,null,null,null,null,null,null,null,null,null,null,null,0,0,0,{"$f":"IF(COUNTIF($DM144:DN144,$P144+$Q144)<$R144,$P144+$Q144,0)","v":0},{"$f":"IF(COUNTIF($DM144:DO144,$P144+$Q144)<$R144,$P144+$Q144,0)","v":0},{"$f":"IF(COUNTIF($DM144:DP144,$P144+$Q144)<$R144,$P144+$Q144,0)","v":0},{"$f":"IF(COUNTIF($DM144:DQ144,$P144+$Q144)<$R144,$P144+$Q144,0)","v":0},{"$f":"IF(COUNTIF($DM144:DR144,$P144+$Q144)<$R144,$P144+$Q144,0)","v":0},{"$f":"IF(COUNTIF($DM144:DS144,$P144+$Q144)<$R144,$P144+$Q144,0)","v":0},{"$f":"IF(COUNTIF($DM144:DT144,$P144+$Q144)<$R144,$P144+$Q144,0)","v":0},{"$f":"IF(COUNTIF($DM144:DU144,$P144+$Q144)<$R144,$P144+$Q144,0)","v":0},{"$f":"IF(COUNTIF($DM144:DV144,$P144+$Q144)<$R144,$P144+$Q144,0)","v":0},{"$f":"IF(COUNTIF($DM144:DW144,$P144+$Q144)<$R144,$P144+$Q144,0)","v":0},{"$f":"IF(COUNTIF($DM144:DX144,$P144+$Q144)<$R144,$P144+$Q144,0)","v":0},{"$f":"IF(COUNTIF($DM144:DY144,$P144+$Q144)<$R144,$P144+$Q144,0)","v":0},{"$f":"IF(COUNTIF($DM144:DZ144,$P144+$Q144)<$R144,$P144+$Q144,0)","v":0},{"$f":"IF(COUNTIF($DM144:EA144,$P144+$Q144)<$R144,$P144+$Q144,0)","v":0},{"$f":"IF(COUNTIF($DM144:EB144,$P144+$Q144)<$R144,$P144+$Q144,0)","v":0},{"$f":"IF(COUNTIF($DM144:EC144,$P144+$Q144)<$R144,$P144+$Q144,0)","v":0},{"$f":"IF(COUNTIF($DM144:ED144,$P144+$Q144)<$R144,$P144+$Q144,0)","v":0},{"$f":"IF(COUNTIF($DM144:EE144,$P144+$Q144)<$R144,$P144+$Q144,0)","v":0},{"$f":"IF(COUNTIF($DM144:EF144,$P144+$Q144)<$R144,$P144+$Q144,0)","v":0},{"$f":"IF(COUNTIF($DM144:EG144,$P144+$Q144)<$R144,$P144+$Q144,0)","v":0},{"$f":"IF(COUNTIF($DM144:EH144,$P144+$Q144)<$R144,$P144+$Q144,0)","v":0},{"$f":"IF(COUNTIF($DM144:EI144,$P144+$Q144)<$R144,$P144+$Q144,0)","v":0},{"$f":"IF(COUNTIF($DM144:EJ144,$P144+$Q144)<$R144,$P144+$Q144,0)","v":0},{"$f":"IF(COUNTIF($DM144:EK144,$P144+$Q144)<$R144,$P144+$Q144,0)","v":0},{"$f":"IF(COUNTIF($DM144:EL144,$P144+$Q144)<$R144,$P144+$Q144,0)","v":0},{"$f":"IF(COUNTIF($DM144:EM144,$P144+$Q144)<$R144,$P144+$Q144,0)","v":0},{"$f":"IF(COUNTIF($DM144:EN144,$P144+$Q144)<$R144,$P144+$Q144,0)","v":0},{"$f":"IF(COUNTIF($DM144:EO144,$P144+$Q144)<$R144,$P144+$Q144,0)","v":0},{"$f":"IF(COUNTIF($DM144:EP144,$P144+$Q144)<$R144,$P144+$Q144,0)","v":0},{"$f":"IF(COUNTIF($DM144:EQ144,$P144+$Q144)<$R144,$P144+$Q144,0)","v":0},{"$f":"IF(COUNTIF($DM144:ER144,$P144+$Q144)<$R144,$P144+$Q144,0)","v":0},{"$f":"IF(COUNTIF($DM144:ES144,$P144+$Q144)<$R144,$P144+$Q144,0)","v":0},{"$f":"IF(COUNTIF($DM144:ET144,$P144+$Q144)<$R144,$P144+$Q144,0)","v":0},{"$f":"IF(COUNTIF($DM144:EU144,$P144+$Q144)<$R144,$P144+$Q144,0)","v":0},{"$f":"IF(COUNTIF($DM144:EV144,$P144+$Q144)<$R144,$P144+$Q144,0)","v":0},{"$f":"IF(COUNTIF($DM144:EW144,$P144+$Q144)<$R144,$P144+$Q144,0)","v":0},{"$f":"IF(COUNTIF($DM144:EX144,$P144+$Q144)<$R144,$P144+$Q144,0)","v":0},{"$f":"IF(COUNTIF($DM144:EY144,$P144+$Q144)<$R144,$P144+$Q144,0)","v":0},-0.3]
[null,null,null,null,null,null,null,null,null,null,null,null,null,null,null,null,null,null,0,null,null,null,null,null,0,0,0,0,0,0,0,0,{"$f":"'P4P - Measure Info'!X46","v":0},0,0,0,{"$f":"IFERROR(('P4P - Project Summary'!$I$20/SUM($AL$122:$AL$146))*AL145,0)","v":0},{"$f":"IFERROR(IF('P4P - Measure Info'!$C46=\"Yes\",IF(O108<>0,'P4P - Support Data'!$O$76*O108,0),0),0)","v":0},null,null,null,null,null,null,null,null,null,null,null,null,null,null,null,null,null,null,null,null,null,null,null,null,null,null,null,null,null,null,null,null,null,null,null,null,null,null,null,null,null,null,null,null,null,null,null,null,null,null,null,null,null,null,null,null,null,null,null,null,null,null,null,null,null,null,null,null,null,null,null,null,null,null,null,null,null,0,0,0,{"$f":"IF(COUNTIF($DM145:DN145,$P145+$Q145)<$R145,$P145+$Q145,0)","v":0},{"$f":"IF(COUNTIF($DM145:DO145,$P145+$Q145)<$R145,$P145+$Q145,0)","v":0},{"$f":"IF(COUNTIF($DM145:DP145,$P145+$Q145)<$R145,$P145+$Q145,0)","v":0},{"$f":"IF(COUNTIF($DM145:DQ145,$P145+$Q145)<$R145,$P145+$Q145,0)","v":0},{"$f":"IF(COUNTIF($DM145:DR145,$P145+$Q145)<$R145,$P145+$Q145,0)","v":0},{"$f":"IF(COUNTIF($DM145:DS145,$P145+$Q145)<$R145,$P145+$Q145,0)","v":0},{"$f":"IF(COUNTIF($DM145:DT145,$P145+$Q145)<$R145,$P145+$Q145,0)","v":0},{"$f":"IF(COUNTIF($DM145:DU145,$P145+$Q145)<$R145,$P145+$Q145,0)","v":0},{"$f":"IF(COUNTIF($DM145:DV145,$P145+$Q145)<$R145,$P145+$Q145,0)","v":0},{"$f":"IF(COUNTIF($DM145:DW145,$P145+$Q145)<$R145,$P145+$Q145,0)","v":0},{"$f":"IF(COUNTIF($DM145:DX145,$P145+$Q145)<$R145,$P145+$Q145,0)","v":0},{"$f":"IF(COUNTIF($DM145:DY145,$P145+$Q145)<$R145,$P145+$Q145,0)","v":0},{"$f":"IF(COUNTIF($DM145:DZ145,$P145+$Q145)<$R145,$P145+$Q145,0)","v":0},{"$f":"IF(COUNTIF($DM145:EA145,$P145+$Q145)<$R145,$P145+$Q145,0)","v":0},{"$f":"IF(COUNTIF($DM145:EB145,$P145+$Q145)<$R145,$P145+$Q145,0)","v":0},{"$f":"IF(COUNTIF($DM145:EC145,$P145+$Q145)<$R145,$P145+$Q145,0)","v":0},{"$f":"IF(COUNTIF($DM145:ED145,$P145+$Q145)<$R145,$P145+$Q145,0)","v":0},{"$f":"IF(COUNTIF($DM145:EE145,$P145+$Q145)<$R145,$P145+$Q145,0)","v":0},{"$f":"IF(COUNTIF($DM145:EF145,$P145+$Q145)<$R145,$P145+$Q145,0)","v":0},{"$f":"IF(COUNTIF($DM145:EG145,$P145+$Q145)<$R145,$P145+$Q145,0)","v":0},{"$f":"IF(COUNTIF($DM145:EH145,$P145+$Q145)<$R145,$P145+$Q145,0)","v":0},{"$f":"IF(COUNTIF($DM145:EI145,$P145+$Q145)<$R145,$P145+$Q145,0)","v":0},{"$f":"IF(COUNTIF($DM145:EJ145,$P145+$Q145)<$R145,$P145+$Q145,0)","v":0},{"$f":"IF(COUNTIF($DM145:EK145,$P145+$Q145)<$R145,$P145+$Q145,0)","v":0},{"$f":"IF(COUNTIF($DM145:EL145,$P145+$Q145)<$R145,$P145+$Q145,0)","v":0},{"$f":"IF(COUNTIF($DM145:EM145,$P145+$Q145)<$R145,$P145+$Q145,0)","v":0},{"$f":"IF(COUNTIF($DM145:EN145,$P145+$Q145)<$R145,$P145+$Q145,0)","v":0},{"$f":"IF(COUNTIF($DM145:EO145,$P145+$Q145)<$R145,$P145+$Q145,0)","v":0},{"$f":"IF(COUNTIF($DM145:EP145,$P145+$Q145)<$R145,$P145+$Q145,0)","v":0},{"$f":"IF(COUNTIF($DM145:EQ145,$P145+$Q145)<$R145,$P145+$Q145,0)","v":0},{"$f":"IF(COUNTIF($DM145:ER145,$P145+$Q145)<$R145,$P145+$Q145,0)","v":0},{"$f":"IF(COUNTIF($DM145:ES145,$P145+$Q145)<$R145,$P145+$Q145,0)","v":0},{"$f":"IF(COUNTIF($DM145:ET145,$P145+$Q145)<$R145,$P145+$Q145,0)","v":0},{"$f":"IF(COUNTIF($DM145:EU145,$P145+$Q145)<$R145,$P145+$Q145,0)","v":0},{"$f":"IF(COUNTIF($DM145:EV145,$P145+$Q145)<$R145,$P145+$Q145,0)","v":0},{"$f":"IF(COUNTIF($DM145:EW145,$P145+$Q145)<$R145,$P145+$Q145,0)","v":0},{"$f":"IF(COUNTIF($DM145:EX145,$P145+$Q145)<$R145,$P145+$Q145,0)","v":0},{"$f":"IF(COUNTIF($DM145:EY145,$P145+$Q145)<$R145,$P145+$Q145,0)","v":0},-0.3]
[null,null,null,null,null,null,null,null,null,null,null,null,null,null,null,null,null,null,{"$f":"IF(Q121=0,0,IF(P4P_Path=\"ASHRAE bEQ\",0,F121/Q121))","v":0},null,null,null,null,null,0,{"$f":"IF(H109=0,0,IF($I$47=0,0,IF(F121=0,0,IF(P4P_Path=\"ASHRAE bEQ\",0,H109*$K$47/$Y$115))))","v":0},{"$f":"IF(I109=0,0,IF($I$47=0,0,IF(F121=0,0,IF(P4P_Path=\"ASHRAE bEQ\",0,I109*$K$47/$Y$115))))","v":0},{"$f":"IF(I109=0,0,IF($I$47=0,0,IF(F121=0,0,IF(P4P_Path=\"ASHRAE bEQ\",0,J109*$K$47/$Y$115))))","v":0},{"$f":"IF(I109=0,0,IF($I$47=0,0,IF(F121=0,0,IF(P4P_Path=\"ASHRAE bEQ\",0,K109*$K$47/$Y$115))))","v":0},{"$f":"IF(I109=0,0,IF($I$47=0,0,IF(F121=0,0,IF(P4P_Path=\"ASHRAE bEQ\",0,L109*$K$47/$Y$115))))","v":0},{"$f":"IF(I109=0,0,IF($I$47=0,0,IF(F121=0,0,IF(P4P_Path=\"ASHRAE bEQ\",0,M109*$K$47/$Y$115))))","v":0},{"$f":"IF(I109=0,0,IF($I$47=0,0,IF(F121=0,0,IF(P4P_Path=\"ASHRAE bEQ\",0,N109*$K$47/$Y$115))))","v":0},{"$f":"'P4P - Measure Info'!X47","v":0},{"$f":"IFERROR(G121+H79,0)","v":0},0,0,{"$f":"IFERROR(('P4P - Project Summary'!$I$20/SUM($AL$122:$AL$146))*AL146,0)","v":0},{"$f":"IFERROR(IF('P4P - Measure Info'!$C47=\"Yes\",IF(O109<>0,'P4P - Support Data'!$O$76*O109,0),0),0)","v":0},null,null,null,null,null,null,null,null,null,null,null,null,null,null,null,null,null,null,null,null,null,null,null,null,null,null,null,null,null,null,null,null,null,null,null,null,null,null,null,null,null,null,null,null,null,null,null,null,null,null,null,null,null,null,null,null,null,null,null,null,null,null,null,null,null,null,null,null,null,null,null,null,null,null,null,null,null,{"$f":"-F121","v":0},{"$f":"P121+Q121","v":0},{"$f":"IF(COUNTIF(DM146,P121+Q121)<R121,P121+Q121,0)","v":0},{"$f":"IF(COUNTIF($DM146:DN146,$P121+$Q121)<$R121,$P121+$Q121,0)","v":0},{"$f":"IF(COUNTIF($DM146:DO146,$P121+$Q121)<$R121,$P121+$Q121,0)","v":0},{"$f":"IF(COUNTIF($DM146:DP146,$P121+$Q121)<$R121,$P121+$Q121,0)","v":0},{"$f":"IF(COUNTIF($DM146:DQ146,$P121+$Q121)<$R121,$P121+$Q121,0)","v":0},{"$f":"IF(COUNTIF($DM146:DR146,$P121+$Q121)<$R121,$P121+$Q121,0)","v":0},{"$f":"IF(COUNTIF($DM146:DS146,$P121+$Q121)<$R121,$P121+$Q121,0)","v":0},{"$f":"IF(COUNTIF($DM146:DT146,$P121+$Q121)<$R121,$P121+$Q121,0)","v":0},{"$f":"IF(COUNTIF($DM146:DU146,$P121+$Q121)<$R121,$P121+$Q121,0)","v":0},{"$f":"IF(COUNTIF($DM146:DV146,$P121+$Q121)<$R121,$P121+$Q121,0)","v":0},{"$f":"IF(COUNTIF($DM146:DW146,$P121+$Q121)<$R121,$P121+$Q121,0)","v":0},{"$f":"IF(COUNTIF($DM146:DX146,$P121+$Q121)<$R121,$P121+$Q121,0)","v":0},{"$f":"IF(COUNTIF($DM146:DY146,$P121+$Q121)<$R121,$P121+$Q121,0)","v":0},{"$f":"IF(COUNTIF($DM146:DZ146,$P121+$Q121)<$R121,$P121+$Q121,0)","v":0},{"$f":"IF(COUNTIF($DM146:EA146,$P121+$Q121)<$R121,$P121+$Q121,0)","v":0},{"$f":"IF(COUNTIF($DM146:EB146,$P121+$Q121)<$R121,$P121+$Q121,0)","v":0},{"$f":"IF(COUNTIF($DM146:EC146,$P121+$Q121)<$R121,$P121+$Q121,0)","v":0},{"$f":"IF(COUNTIF($DM146:ED146,$P121+$Q121)<$R121,$P121+$Q121,0)","v":0},{"$f":"IF(COUNTIF($DM146:EE146,$P121+$Q121)<$R121,$P121+$Q121,0)","v":0},{"$f":"IF(COUNTIF($DM146:EF146,$P121+$Q121)<$R121,$P121+$Q121,0)","v":0},{"$f":"IF(COUNTIF($DM146:EG146,$P121+$Q121)<$R121,$P121+$Q121,0)","v":0},{"$f":"IF(COUNTIF($DM146:EH146,$P121+$Q121)<$R121,$P121+$Q121,0)","v":0},{"$f":"IF(COUNTIF($DM146:EI146,$P121+$Q121)<$R121,$P121+$Q121,0)","v":0},{"$f":"IF(COUNTIF($DM146:EJ146,$P121+$Q121)<$R121,$P121+$Q121,0)","v":0},{"$f":"IF(COUNTIF($DM146:EK146,$P121+$Q121)<$R121,$P121+$Q121,0)","v":0},{"$f":"IF(COUNTIF($DM146:EL146,$P121+$Q121)<$R121,$P121+$Q121,0)","v":0},{"$f":"IF(COUNTIF($DM146:EM146,$P121+$Q121)<$R121,$P121+$Q121,0)","v":0},{"$f":"IF(COUNTIF($DM146:EN146,$P121+$Q121)<$R121,$P121+$Q121,0)","v":0},{"$f":"IF(COUNTIF($DM146:EO146,$P121+$Q121)<$R121,$P121+$Q121,0)","v":0},{"$f":"IF(COUNTIF($DM146:EP146,$P121+$Q121)<$R121,$P121+$Q121,0)","v":0},{"$f":"IF(COUNTIF($DM146:EQ146,$P121+$Q121)<$R121,$P121+$Q121,0)","v":0},{"$f":"IF(COUNTIF($DM146:ER146,$P121+$Q121)<$R121,$P121+$Q121,0)","v":0},{"$f":"IF(COUNTIF($DM146:ES146,$P121+$Q121)<$R121,$P121+$Q121,0)","v":0},{"$f":"IF(COUNTIF($DM146:ET146,$P121+$Q121)<$R121,$P121+$Q121,0)","v":0},{"$f":"IF(COUNTIF($DM146:EU146,$P121+$Q121)<$R121,$P121+$Q121,0)","v":0},{"$f":"IF(COUNTIF($DM146:EV146,$P121+$Q121)<$R121,$P121+$Q121,0)","v":0},{"$f":"IF(COUNTIF($DM146:EW146,$P121+$Q121)<$R121,$P121+$Q121,0)","v":0},{"$f":"IF(COUNTIF($DM146:EX146,$P121+$Q121)<$R121,$P121+$Q121,0)","v":0},{"$f":"IF(COUNTIF($DM146:EY146,$P121+$Q121)<$R121,$P121+$Q121,0)","v":0},{"$f":"IF(Q121*R121>F121,0.3,-0.3)","v":-0.3}]
[null,null,null,null,null,null,null,null,null,null,null,null,null,null,null,null,null,null,null,null,null,null,null,null,{"$f":"SUM(Y122:Y146)","v":0},0,0,0,0,0,0,0,0]
[]
[]
[null,null,null,null,null,null,null,null,null,null,null,null,null,null,null,null,null,null,null,null,null,null,null,null,"No dependents","Not needed","Not needed"]
[null,null,null,null,null,null,null,null,null,null,null,null,null,null,null,null,null,null,null,null,null,null,null,null,{"$f":"IF(Q152=0,0,F152/Q152)","v":0},{"$f":"SUM(T122:T146)-SUM(F147:F151)","v":0},{"$f":"IF(Q152=0,0,IF(Q152<0,0,IRR(DL152:EZ152,FA152)))","v":0}]
[null,null,null,null,null,null,null,null,null,null,null,null,null,null,null,null,null,null,null,null,null,null,null,null,null,null,null,null,null,null,null,null,null,null,null,null,null,null,null,null,null,null,null,null,null,null,null,null,null,null,null,null,null,null,null,null,null,null,null,null,null,null,null,null,null,null,null,null,null,null,null,null,null,null,null,null,null,null,null,null,null,null,null,null,null,null,null,null,null,null,null,null,null,null,null,null,null,null,null,null,null,null,null,null,null,null,null,null,null,null,null,null,null,null,null,{"$f":"-F152","v":0},{"$f":"SUM(DM122:DM146)","v":0},0,0,0,0,0,0,0,0,0,0,0,0,0,0,0,0,0,0,0,0,0,0,0,0,0,0,0,0,0,0,0,0,0,0,0,0,0,0,0,{"$f":"IF(Q152*R152>F152,0.3,-0.3)","v":-0.3}]

{"sheet":"P4P - Project Summary","index":16,"n_rows":57,"n_cols":22,"rows_kept":57,"cut":false,"hidden":false,"merged":[[29,2,29,10],[30,2,30,10],[40,2,40,6],[0,3,0,8],[1,3,1,8],[2,3,2,8],[21,2,21,10],[23,2,23,10],[26,2,26,10],[27,2,27,10],[28,2,28,10],[24,5,24,7]]}
[null,null,null,"New Jersey Office of Clean Energy"]
[null,null,null,"Pay for Performance New Construction Program"]
[null,null,null,"ERP Tables and Incentive Calculator"]
[]
[]
[null,null,"Project Performance Summary "]
[]
[null,null,null,{"$f":"IF('P4P - General Info'!C21=\"ASHRAE bEQ\",\"Baseline Simulation\",\"ASHRAE 90.1-2004 Baseline Simulation\")","v":"ASHRAE 90.1-2004 Baseline Simulation"},{"$f":"IF('P4P - General Info'!C21=\"ASHRAE bEQ\",\"\",\"ASHRAE \"&GI_Version_Yr&\" Baseline Simulation\")","v":"ASHRAE - Baseline Simulation"},"Proposed Design Simulation",{"$f":"IF('P4P - General Info'!C21=\"ASHRAE bEQ\",\"Savings Compared to ASHRAE \"&GI_Version_Yr,\"Savings Compared to ASHRAE 90.1-2004\")","v":"Savings Compared to ASHRAE 90.1-2004"},{"$f":"IF('P4P - General Info'!C21=\"ASHRAE bEQ\",\"% Savings Compared to ASHRAE \" &GI_Version_Yr,\"% Savings Compared to ASHRAE 90.1-2004\")","v":"% Savings Compared to ASHRAE 90.1-2004"},{"$f":"IF('P4P - General Info'!C21=\"ASHRAE bEQ\",\"\",\"Savings Compared to ASHRAE \" &GI_Version_Yr)","v":"Savings Compared to ASHRAE -"},{"$f":"IF('P4P - General Info'!C21=\"ASHRAE bEQ\",\"\",\"% Cost Savings Compared to \"&GI_Version_Yr)","v":"% Cost Savings Compared to -"},{"$f":"IF('P4P - General Info'!D21=\"ASHRAE bEQ\",\"\",\"% Source Energy Savings Compared to ASHRAE \"&GI_Version_Yr)","v":"% Source Energy Savings Compared to ASHRAE -"},null,null,null,null,null,null,null,null,null,{"$f":"IF('P4P - General Info'!C21=\"ASHRAE bEQ\",\"\",\"% Site Energy Savings Compared to ASHRAE \"&GI_Version_Yr)","v":"% Site Energy Savings Compared to ASHRAE -"},"Not Used"]
[null,null,"Total Annual Energy Cost (All Fuels)",{"$f":"IF('P4P - General Info'!C21=\"ASHRAE bEQ\",F9+'P4P - Measure Simulation'!Q109,'P4P - Measure Simulation'!F47)","v":0},{"$f":"IF('P4P - General Info'!$C$21=\"Appendix G\",'P4P - Measure Simulation'!G47,\"\")","v":"-"},{"$f":"'P4P - Measure Simulation'!H47","v":0},{"$f":"IF('P4P - General Info'!C21=\"ASHRAE bEQ\",D9-F9,'P4P - Measure Simulation'!I47)","v":0},{"$f":"IF('P4P - General Info'!C21=\"ASHRAE bEQ\",IF(D9=0,0,(D9-F9)/D9),'P4P - Measure Simulation'!J47)","v":""},{"$f":"'P4P - Measure Simulation'!K47","v":"-"},{"$f":"'P4P - Measure Simulation'!L47","v":"-"},"-",null,null,null,null,null,null,null,null,null,"-"]
[null,null,"Total Annual Source Energy Consumption (MMBtu)",{"$f":"IF('P4P - General Info'!C21=\"ASHRAE bEQ\",F10+('P4P - Measure Simulation'!FN108/1000),'P4P - Measure Simulation'!P47)","v":0},{"$f":"IF('P4P - General Info'!$C$21=\"Appendix G\",'P4P - Measure Simulation'!Q47,\"\")","v":"-"},{"$f":"'P4P - Measure Simulation'!R47","v":0},{"$f":"IF('P4P - General Info'!C21=\"ASHRAE bEQ\",D10-F10,'P4P - Measure Simulation'!S47)","v":0},{"$f":"IF(D10=0,0,(D10-F10)/D10)","v":0},{"$f":"'P4P - Measure Simulation'!U47","v":"-"},"-",{"$f":"IFERROR(IF(D10=0,0,IF(P4P_Path=\"ASHRAE bEQ\",(D10-F10)/D10,(E10-F10)/E10)),\"-\")","v":0},null,null,null,null,null,null,null,null,null,"-"]
[null,"Electricity","Annual Site Electricity Consumption (MMBtu)",{"$f":"IF('P4P - General Info'!C21=\"ASHRAE bEQ\",F11+(('P4P - Measure Simulation'!G109*3.412)/1000),'P4P - Measure Simulation'!F27)","v":0},{"$f":"IFERROR(IF('P4P - General Info'!$C$21=\"Appendix G\",F11+I11,\"\"),\"-\")","v":0},{"$f":"'P4P - Measure Simulation'!G27","v":0},{"$f":"IF(D11=0,0,IF(D11=\"\",0,D11-F11))","v":0},{"$f":"IF(D11=0,0,(D11-F11)/D11)","v":0},{"$f":"IFERROR(IF(D11=0,0,IF(D11=\"\",0,'P4P - Measure Simulation'!AE28)),\"-\")","v":0},"-","-",null,null,null,null,null,null,null,null,null,{"$f":"IFERROR(IF(E11=0,0,(E11-F11)/E11),\"-\")","v":0}]
[null,"Natural Gas","Annual Site Natural Gas Consumption (MMBtu)",{"$f":"IF('P4P - General Info'!C21=\"ASHRAE bEQ\",F12+'P4P - Measure Simulation'!H109,'P4P - Measure Simulation'!H27)","v":0},{"$f":"IFERROR(IF('P4P - General Info'!$C$21=\"Appendix G\",F12+I12,\"\"),\"-\")","v":0},{"$f":"'P4P - Measure Simulation'!I27","v":0},{"$f":"IF(D12=0,0,IF(D12=\"\",0,D12-F12))","v":0},0,{"$f":"IFERROR(IF(D12=0,0,IF(D12=\"\",0,'P4P - Measure Simulation'!AI28)),\"-\")","v":0},"-","-",null,null,null,null,null,null,null,null,null,0]
[null,"Steam","Annual Site Steam Consumption (MMBtu)",{"$f":"IF('P4P - General Info'!C21=\"ASHRAE bEQ\",F13+'P4P - Measure Simulation'!I109,'P4P - Measure Simulation'!J27)","v":0},{"$f":"IFERROR(IF('P4P - General Info'!$C$21=\"Appendix G\",F13+I13,\"\"),\"-\")","v":0},{"$f":"'P4P - Measure Simulation'!K27","v":0},0,0,{"$f":"IFERROR(IF(D13=0,0,IF(D13=\"\",0,'P4P - Measure Simulation'!AM28)),\"-\")","v":0},"-","-",null,null,null,null,null,null,null,null,null,0]
[null,"Hot Water","Annual Site Hot Water Consumption (MMBtu)",{"$f":"IF('P4P - General Info'!C21=\"ASHRAE bEQ\",F14+'P4P - Measure Simulation'!J109,'P4P - Measure Simulation'!L27)","v":0},{"$f":"IFERROR(IF('P4P - General Info'!$C$21=\"Appendix G\",F14+I14,\"\"),\"-\")","v":0},{"$f":"'P4P - Measure Simulation'!M27","v":0},0,0,{"$f":"IFERROR(IF(D14=0,0,IF(D14=\"\",0,'P4P - Measure Simulation'!AQ28)),\"-\")","v":0},"-","-",null,null,null,null,null,null,null,null,null,0]
[null,"Chilled Water","Annual Site Chilled Water (MMBtu)",{"$f":"IF('P4P - General Info'!C21=\"ASHRAE bEQ\",F15+'P4P - Measure Simulation'!K109,'P4P - Measure Simulation'!N27)","v":0},{"$f":"IFERROR(IF('P4P - General Info'!$C$21=\"Appendix G\",F15+I15,\"\"),\"-\")","v":0},{"$f":"'P4P - Measure Simulation'!O27","v":0},0,0,{"$f":"IFERROR(IF(D15=0,0,IF(D15=\"\",0,'P4P - Measure Simulation'!AU28)),\"-\")","v":0},"-","-",null,null,null,null,null,null,null,null,null,0]
[null,"Oil","Annual Site Oil Consumption (MMBtu)",{"$f":"IF('P4P - General Info'!C21=\"ASHRAE bEQ\",F16+'P4P - Measure Simulation'!L109,'P4P - Measure Simulation'!P27)","v":0},{"$f":"IFERROR(IF('P4P - General Info'!$C$21=\"Appendix G\",F16+I16,\"\"),\"-\")","v":0},{"$f":"'P4P - Measure Simulation'!Q27","v":0},0,0,{"$f":"IFERROR(IF(D16=0,0,IF(D16=\"\",0,'P4P - Measure Simulation'!AY28)),\"-\")","v":0},"-","-",null,null,null,null,null,null,null,null,null,0]
[null,"Propane","Annual Site Propane (MMBtu)",{"$f":"IF('P4P - General Info'!C21=\"ASHRAE bEQ\",F17+'P4P - Measure Simulation'!M109,'P4P - Measure Simulation'!R27)","v":0},{"$f":"IFERROR(IF('P4P - General Info'!$C$21=\"Appendix G\",F17+I17,\"\"),\"-\")","v":0},{"$f":"'P4P - Measure Simulation'!S27","v":0},0,0,{"$f":"IFERROR(IF(D17=0,0,IF(D17=\"\",0,'P4P - Measure Simulation'!BC28)),\"-\")","v":0},"-","-",null,null,null,null,null,null,null,null,null,0]
[null,"Other Fuel","Annual Site Other Fuel (MMBtu)",{"$f":"IF('P4P - General Info'!C21=\"ASHRAE bEQ\",F18+'P4P - Measure Simulation'!N109,'P4P - Measure Simulation'!T27)","v":0},{"$f":"IFERROR(IF('P4P - General Info'!$C$21=\"Appendix G\",F18+I18,\"\"),\"-\")","v":0},{"$f":"'P4P - Measure Simulation'!U27","v":0},0,0,{"$f":"IFERROR(IF(D18=0,0,IF(D18=\"\",0,'P4P - Measure Simulation'!BG28)),\"-\")","v":0},"-","-",null,null,null,null,null,null,null,null,"Flag",0]
[null,null,"Total Annual Site Energy Consumption (MMBtu)",{"$f":"SUM(D11:D18)","v":0},{"$f":"IFERROR(IF('P4P - General Info'!$C$21=\"Appendix G\",SUM(E11:E18),\"\"),\"-\")","v":0},{"$f":"SUM(F11:F18)","v":0},{"$f":"IF(D19=0,0,IF(D19=\"\",0,D19-F19))","v":0},0,{"$f":"IFERROR(IF(E19=0,0,IF(E19=\"\",0,SUM(I11:I18))),\"-\")","v":0},"-","-",null,null,null,null,null,null,null,null,null,{"$f":"IFERROR(IF(E19=0,0,(E19-F19)/E19),\"-\")","v":0}]
[null,null,"System Coincident Electricity Demand (kW)",{"$f":"IF(D9=0,0,IF('P4P - General Info'!C21=\"Appendix G\",'P4P - Measure Simulation'!V27,F20+'P4P - Measure Simulation'!FN112))","v":0},{"$f":"IFERROR(IF('P4P - General Info'!$C$21=\"Appendix G\",D20*(E11/D11),\"\"),\"-\")","v":"-"},{"$f":"IF(D9=0,0,'P4P - Measure Simulation'!W27)","v":0},{"$f":"IFERROR(IF(D20=0,0,IF(D20=\"\",0,D20-F20)),0)","v":0},{"$f":"IFERROR(IF(D20=0,0,(D20-F20)/D20),0)","v":0},{"$f":"IFERROR(IF(E20=0,0,IF(E20=\"\",0,E20-F20)),0)","v":0},"-","-",null,null,null,null,null,null,null,null,null,"-"]
[]
[null,null,"Performance Targets"]
[null,null,"Instructions"]
[null,null,"Appendix G Path:\nPerformance Cost Index (PCI) is the ratio of the Proposed Energy Cost to the Baseline Energy Cost (or the ratio of proposed source energy consumption to baseline source energy consumption). A building compliant with ASHRAE 90.1-2004 has PCI=1. A net zero building has PCI=0. The incentive tier is determined by comparing the project's PCI to the Performance Cost Index target (PCIt) calculated in accordance with Section 4.2.1.1 of ASHRAE 90.1-2019 taking into account the additional improvement over 90.1-2019 required for each incentive tier. The PCIt (the Maximum Performance Cost Index) for each tier is shown in the table below, which is populated after the 'Measure Simulation' tab is completed. \n\nThe PCIt depend on the relative magnitude of the baseline building regulated energy cost or source energy consumption (BBREC) versus unregulated energy cost or source energy consumption (BBUEC). See Partner Guidelines v4.8, Section 4.3.1.4 for the background on regulated vs unregulated loads. The BBREC is adjusted by the Building Performance Factor (BPF) which reflects the change in stringency between 90.1-2004 (which is the basis of the modeled Appendix G baseline) and 90.1-2019. The BPF depends on the building type and whether the project is a new construction or a major renovation. See Partner Guidelines v4.8, Section 4.3.1.6 for the background on the BPF adjustment for major renovation projects. For the mixed use buildings and construction types the BPF is calculated as an area-weighted average. The BPF for your project is shown below. \n\n\n"]
[null,null,"Project BPF (Cost)",{"$f":"IF(P4P_Path=\"ASHRAE bEQ\",\"N/A\",'P4P - General Info'!C57)","v":"-"},null,"Project BPF (Source Energy)",null,null,{"$f":"IF(P4P_Path=\"ASHRAE bEQ\",\"N/A\",'P4P - General Info'!D57)","v":"-"}]
[]
[]
[null,null,"2) To comply with ASHRAE 90.1-2019, the PCI or Score calculated shall not exceed the value displayed.  "]
[null,null,"3) Tier 1 targets are approximately 5% better than ASHRAE 90.1-2013 for commercial buildings and 15% better for multifamily buildings.  "]
[null,null,"4) Tier 2 targets are approximately 6-8% better than ASHRAE 90.1-2013 for commercial buildings and 17% better for multifamily buildings.  "]
[null,null,"5) Tier 3 targets are approximately 9-11% better than ASHRAE 90.1-2013 for commercial buildings and 20% better for multifamily buildings.  \n"]
[]
[null,null,"Performance Targets*",{"$f":"IF(P4P_Path=\"ASHRAE bEQ\",\"Based upon Source Energy\",\"Based upon Cost Savings\")","v":"Based upon Cost Savings"},null,null,null,"Based upon Source Energy Savings"]
[null,null,null,{"$f":"'P4P - General Info'!D50","v":"Maximum Performance Cost Index (PCI)"},{"$f":"'P4P - General Info'!E50","v":"Equivalent Minimum % Better than Std. 2004"},{"$f":"'P4P - General Info'!C50","v":"Equivalent % Better than Std. -"},"Target Met?",{"$f":"'P4P - General Info'!D50","v":"Maximum Performance Cost Index (PCI)"},{"$f":"'P4P - General Info'!E50","v":"Equivalent Minimum % Better than Std. 2004"},{"$f":"'P4P - General Info'!F50","v":"Maximum Performance Cost Index (PCI), Source"},"Target Met?",null,null,null,null,null,null,null,null,"Cost",{"$f":"IF(OR('P4P - Measure Simulation'!O47=\"\",'P4P - Measure Simulation'!O47=\"Fail\"),0,'P4P - Measure Simulation'!O47)","v":0}]
[null,null,"Compliance with ASHRAE 90.1-2004",{"$f":"'P4P - General Info'!D51","v":1},{"$f":"'P4P - General Info'!E51","v":0},{"$f":"'P4P - General Info'!C51","v":"N/A"},null,{"$f":"'P4P - General Info'!F51","v":1},{"$f":"'P4P - General Info'!H51","v":0},{"$f":"'P4P - General Info'!G51","v":"N/A"},null,null,null,null,null,null,null,null,null,"Source",{"$f":"IF(OR('P4P - Measure Simulation'!$FD$47=\"\",'P4P - Measure Simulation'!$FD$47=\"FAIL\"),0,'P4P - Measure Simulation'!$FD$47)","v":0}]
[null,null,{"$f":"\"Compliance with ASHRAE \"&GI_Version_Yr","v":"Compliance with ASHRAE -"},{"$f":"'P4P - General Info'!D52","v":"-"},{"$f":"IFERROR('P4P - General Info'!E52,\"-\")","v":"-"},{"$f":"IFERROR('P4P - General Info'!C52,\"-\")","v":"-"},null,{"$f":"'P4P - General Info'!F52","v":"-"},{"$f":"IFERROR('P4P - General Info'!H52,\"-\")","v":"-"},{"$f":"IFERROR('P4P - General Info'!G52,\"-\")","v":"-"},null,null,null,null,null,null,null,null,null,"Actual",{"$f":"IF(AND(U34=0,U35=0),\"FAIL\",\"Tier \"&MAX(U34:U35))","v":"FAIL"}]
[null,null,"Tier 1 Incentive Target",{"$f":"'P4P - General Info'!D53","v":""},{"$f":"IFERROR('P4P - General Info'!E53,\"-\")","v":"-"},{"$f":"IFERROR('P4P - General Info'!C53,\"-\")","v":"-"},null,{"$f":"'P4P - General Info'!F53","v":""},{"$f":"IFERROR('P4P - General Info'!H53,\"-\")","v":"-"},{"$f":"IFERROR('P4P - General Info'!G53,\"-\")","v":"-"}]
[null,null,"Tier 2 Incentive Target",{"$f":"'P4P - General Info'!D54","v":""},{"$f":"IFERROR('P4P - General Info'!E54,\"-\")","v":"-"},{"$f":"IFERROR('P4P - General Info'!C54,\"-\")","v":"-"},null,{"$f":"'P4P - General Info'!F54","v":""},{"$f":"IFERROR('P4P - General Info'!H54,\"-\")","v":"-"},{"$f":"IFERROR('P4P - General Info'!G54,\"-\")","v":"-"}]
[null,null,"Tier 3 Incentive Target",{"$f":"'P4P - General Info'!D55","v":""},{"$f":"IFERROR('P4P - General Info'!E55,\"-\")","v":"-"},{"$f":"IFERROR('P4P - General Info'!C55,\"-\")","v":"-"},null,{"$f":"'P4P - General Info'!F55","v":""},{"$f":"IFERROR('P4P - General Info'!H55,\"-\")","v":"-"},{"$f":"IFERROR('P4P - General Info'!G55,\"-\")","v":"-"}]
[null,null,{"$f":"'P4P - General Info'!C13","v":"-"},{"$f":"'P4P - Measure Simulation'!N47","v":""},{"$f":"IF('P4P - General Info'!C21=\"ASHRAE bEQ\",\"\",H9)","v":""},{"$f":"IF('P4P - General Info'!C21=\"ASHRAE bEQ\",\"\",J9)","v":"-"},{"$f":"'P4P - Measure Simulation'!$N$48","v":""},{"$f":"'P4P - Measure Simulation'!X47","v":""},{"$f":"IF('P4P - General Info'!C21=\"ASHRAE bEQ\",\"\",'P4P - Measure Simulation'!T47)","v":""},{"$f":"IF('P4P - General Info'!C21=\"ASHRAE bEQ\",\"\",K10)","v":0},{"$f":"'P4P - Measure Simulation'!$X$48","v":""}]
[null,null,"*Incentive tier is determined based upon the maximum of the cost versus source energy savings incentive tier results."]
[null,null,"Project Cost Summary"]
[]
[null,null,"Total Project Cost ($)",{"$f":"SUM('P4P - Measure Info'!R23:R47)+SUM('P4P - Measure Info'!X50:X54)","v":0}]
[null,null,"Total Project Incremental Cost ($)",0]
[null,null,"Internal Rate of Return (IRR) based on Incremental Cost",{"$f":"IF(D45=0,0,IF('P4P - General Info'!C21=\"ASHRAE bEQ\",'P4P - Measure Simulation'!U115,'P4P - Measure Simulation'!AA151))","v":0}]
[null,null,"Simple Payback based on Incremental Cost (yrs)",{"$f":"IF(G9=0,0,IF('P4P - General Info'!C21=\"Appendix G\",D45/I9,D45/G9))","v":0}]
[null,null,"Simple Payback with NJCEP incentive based on Incremental Cost (yrs)",{"$f":"IF(G9=0,0,IF('P4P - General Info'!C21=\"Appendix G\",MAX(0,(D45-SUM(D55:D57))/I9),MAX(0,(D45-SUM(D55:D57))/G9)))","v":0}," "]
[]
[null,null,"Incentive Calculation"]
[]
[null,null,"Project Gross Heated Square Feet",{"$f":"'P4P - General Info'!C40","v":0}]
[]
[null,null,"Incentives"]
[null,null,"Incentive #1",{"$f":"'P4P Incentive Structure'!J16","v":0}]
[null,null,"Incentive #2",{"$f":"'P4P Incentive Structure'!I24","v":0}]
[null,null,"Incentive #3 ",{"$f":"'P4P Incentive Structure'!I30","v":0}]

{"sheet":"P4P Cx Plan - Measure List","index":17,"n_rows":36,"n_cols":16,"rows_kept":36,"cut":false,"hidden":false,"merged":[[8,2,8,15],[10,1,10,2],[10,9,10,10],[10,12,10,13],[10,14,10,15],[0,3,0,8],[1,3,1,8],[2,3,2,8],[6,2,6,15],[7,2,7,15]]}
[null,null,null,"New Jersey Office of Clean Energy"]
[null,null,null,"Pay for Performance New Construction Program"]
[null,null,null,"ERP Tables and Incentive Calculator"]
[]
[null,"Comissioning Plan: List of Measures"]
[null,"Instructions"]
[null,"1)","This table will fill in automatically."]
[null,"2)","You may need to add or delete rows in order to accommodate all of the measures. If you add rows, be sure to copy down formulas from cells above."]
[null,"3) ","See Partner Guidelines v4.8, Section 6 for additional guidance on Commissioning and the Commissioning Plan."]
[]
[null,"Measure Name",null,"Measure Category","Measure Type","Brief Description of Measure","Location","Manufacturer","Model","Capacity",null,"Quantity","Efficiency (primary)",null,"Efficiency (secondary)"]
[null,1,{"$f":"'P4P - Measure Info'!D23","v":0},{"$f":"'P4P - Measure Info'!E23","v":"<Choose>"},{"$f":"'P4P - Measure Info'!F23","v":0},{"$f":"'P4P - Measure Info'!G23","v":0},{"$f":"'P4P - Measure Info'!H23","v":0},{"$f":"'P4P - Measure Info'!I23","v":0},{"$f":"'P4P - Measure Info'!J23","v":0},{"$f":"'P4P - Measure Info'!K23","v":0},{"$f":"'P4P - Measure Info'!L23","v":""},{"$f":"'P4P - Measure Info'!M23","v":0},{"$f":"'P4P - Measure Info'!N23","v":0},{"$f":"'P4P - Measure Info'!O23","v":""},{"$f":"'P4P - Measure Info'!P23","v":0},{"$f":"'P4P - Measure Info'!Q23","v":""}]
[null,2,{"$f":"'P4P - Measure Info'!D24","v":0},{"$f":"'P4P - Measure Info'!E24","v":"<Choose>"},{"$f":"'P4P - Measure Info'!F24","v":0},{"$f":"'P4P - Measure Info'!G24","v":0},{"$f":"'P4P - Measure Info'!H24","v":0},{"$f":"'P4P - Measure Info'!I24","v":0},{"$f":"'P4P - Measure Info'!J24","v":0},{"$f":"'P4P - Measure Info'!K24","v":0},{"$f":"'P4P - Measure Info'!L24","v":""},{"$f":"'P4P - Measure Info'!M24","v":0},{"$f":"'P4P - Measure Info'!N24","v":0},{"$f":"'P4P - Measure Info'!O24","v":""},{"$f":"'P4P - Measure Info'!P24","v":0},{"$f":"'P4P - Measure Info'!Q24","v":""}]
[null,3,{"$f":"'P4P - Measure Info'!D25","v":0},{"$f":"'P4P - Measure Info'!E25","v":"<Choose>"},{"$f":"'P4P - Measure Info'!F25","v":0},{"$f":"'P4P - Measure Info'!G25","v":0},{"$f":"'P4P - Measure Info'!H25","v":0},{"$f":"'P4P - Measure Info'!I25","v":0},{"$f":"'P4P - Measure Info'!J25","v":0},{"$f":"'P4P - Measure Info'!K25","v":0},{"$f":"'P4P - Measure Info'!L25","v":""},{"$f":"'P4P - Measure Info'!M25","v":0},{"$f":"'P4P - Measure Info'!N25","v":0},{"$f":"'P4P - Measure Info'!O25","v":""},{"$f":"'P4P - Measure Info'!P25","v":0},{"$f":"'P4P - Measure Info'!Q25","v":""}]
[null,4,{"$f":"'P4P - Measure Info'!D26","v":0},{"$f":"'P4P - Measure Info'!E26","v":"<Choose>"},{"$f":"'P4P - Measure Info'!F26","v":0},{"$f":"'P4P - Measure Info'!G26","v":0},{"$f":"'P4P - Measure Info'!H26","v":0},{"$f":"'P4P - Measure Info'!I26","v":0},{"$f":"'P4P - Measure Info'!J26","v":0},{"$f":"'P4P - Measure Info'!K26","v":0},{"$f":"'P4P - Measure Info'!L26","v":""},{"$f":"'P4P - Measure Info'!M26","v":0},{"$f":"'P4P - Measure Info'!N26","v":0},{"$f":"'P4P - Measure Info'!O26","v":""},{"$f":"'P4P - Measure Info'!P26","v":0},{"$f":"'P4P - Measure Info'!Q26","v":""}]
[null,5,{"$f":"'P4P - Measure Info'!D27","v":0},{"$f":"'P4P - Measure Info'!E27","v":"<Choose>"},{"$f":"'P4P - Measure Info'!F27","v":0},{"$f":"'P4P - Measure Info'!G27","v":0},{"$f":"'P4P - Measure Info'!H27","v":0},{"$f":"'P4P - Measure Info'!I27","v":0},{"$f":"'P4P - Measure Info'!J27","v":0},{"$f":"'P4P - Measure Info'!K27","v":0},{"$f":"'P4P - Measure Info'!L27","v":""},{"$f":"'P4P - Measure Info'!M27","v":0},{"$f":"'P4P - Measure Info'!N27","v":0},{"$f":"'P4P - Measure Info'!O27","v":""},{"$f":"'P4P - Measure Info'!P27","v":0},{"$f":"'P4P - Measure Info'!Q27","v":""}]
[null,6,{"$f":"'P4P - Measure Info'!D28","v":0},{"$f":"'P4P - Measure Info'!E28","v":"<Choose>"},{"$f":"'P4P - Measure Info'!F28","v":0},{"$f":"'P4P - Measure Info'!G28","v":0},{"$f":"'P4P - Measure Info'!H28","v":0},{"$f":"'P4P - Measure Info'!I28","v":0},{"$f":"'P4P - Measure Info'!J28","v":0},{"$f":"'P4P - Measure Info'!K28","v":0},{"$f":"'P4P - Measure Info'!L28","v":""},{"$f":"'P4P - Measure Info'!M28","v":0},{"$f":"'P4P - Measure Info'!N28","v":0},{"$f":"'P4P - Measure Info'!O28","v":""},{"$f":"'P4P - Measure Info'!P28","v":0},{"$f":"'P4P - Measure Info'!Q28","v":""}]
[null,7,{"$f":"'P4P - Measure Info'!D29","v":0},{"$f":"'P4P - Measure Info'!E29","v":"<Choose>"},{"$f":"'P4P - Measure Info'!F29","v":0},{"$f":"'P4P - Measure Info'!G29","v":0},{"$f":"'P4P - Measure Info'!H29","v":0},{"$f":"'P4P - Measure Info'!I29","v":0},{"$f":"'P4P - Measure Info'!J29","v":0},{"$f":"'P4P - Measure Info'!K29","v":0},{"$f":"'P4P - Measure Info'!L29","v":""},{"$f":"'P4P - Measure Info'!M29","v":0},{"$f":"'P4P - Measure Info'!N29","v":0},{"$f":"'P4P - Measure Info'!O29","v":""},{"$f":"'P4P - Measure Info'!P29","v":0},{"$f":"'P4P - Measure Info'!Q29","v":""}]
[null,8,{"$f":"'P4P - Measure Info'!D30","v":0},{"$f":"'P4P - Measure Info'!E30","v":"<Choose>"},{"$f":"'P4P - Measure Info'!F30","v":0},{"$f":"'P4P - Measure Info'!G30","v":0},{"$f":"'P4P - Measure Info'!H30","v":0},{"$f":"'P4P - Measure Info'!I30","v":0},{"$f":"'P4P - Measure Info'!J30","v":0},{"$f":"'P4P - Measure Info'!K30","v":0},{"$f":"'P4P - Measure Info'!L30","v":""},{"$f":"'P4P - Measure Info'!M30","v":0},{"$f":"'P4P - Measure Info'!N30","v":0},{"$f":"'P4P - Measure Info'!O30","v":""},{"$f":"'P4P - Measure Info'!P30","v":0},{"$f":"'P4P - Measure Info'!Q30","v":""}]
[null,9,{"$f":"'P4P - Measure Info'!D31","v":0},{"$f":"'P4P - Measure Info'!E31","v":"<Choose>"},{"$f":"'P4P - Measure Info'!F31","v":0},{"$f":"'P4P - Measure Info'!G31","v":0},{"$f":"'P4P - Measure Info'!H31","v":0},{"$f":"'P4P - Measure Info'!I31","v":0},{"$f":"'P4P - Measure Info'!J31","v":0},{"$f":"'P4P - Measure Info'!K31","v":0},{"$f":"'P4P - Measure Info'!L31","v":""},{"$f":"'P4P - Measure Info'!M31","v":0},{"$f":"'P4P - Measure Info'!N31","v":0},{"$f":"'P4P - Measure Info'!O31","v":""},{"$f":"'P4P - Measure Info'!P31","v":0},{"$f":"'P4P - Measure Info'!Q31","v":""}]
[null,10,{"$f":"'P4P - Measure Info'!D32","v":0},{"$f":"'P4P - Measure Info'!E32","v":"<Choose>"},{"$f":"'P4P - Measure Info'!F32","v":0},{"$f":"'P4P - Measure Info'!G32","v":0},{"$f":"'P4P - Measure Info'!H32","v":0},{"$f":"'P4P - Measure Info'!I32","v":0},{"$f":"'P4P - Measure Info'!J32","v":0},{"$f":"'P4P - Measure Info'!K32","v":0},{"$f":"'P4P - Measure Info'!L32","v":""},{"$f":"'P4P - Measure Info'!M32","v":0},{"$f":"'P4P - Measure Info'!N32","v":0},{"$f":"'P4P - Measure Info'!O32","v":""},{"$f":"'P4P - Measure Info'!P32","v":0},{"$f":"'P4P - Measure Info'!Q32","v":""}]
[null,11,{"$f":"'P4P - Measure Info'!D33","v":0},{"$f":"'P4P - Measure Info'!E33","v":"<Choose>"},{"$f":"'P4P - Measure Info'!F33","v":0},{"$f":"'P4P - Measure Info'!G33","v":0},{"$f":"'P4P - Measure Info'!H33","v":0},{"$f":"'P4P - Measure Info'!I33","v":0},{"$f":"'P4P - Measure Info'!J33","v":0},{"$f":"'P4P - Measure Info'!K33","v":0},{"$f":"'P4P - Measure Info'!L33","v":""},{"$f":"'P4P - Measure Info'!M33","v":0},{"$f":"'P4P - Measure Info'!N33","v":0},{"$f":"'P4P - Measure Info'!O33","v":""},{"$f":"'P4P - Measure Info'!P33","v":0},{"$f":"'P4P - Measure Info'!Q33","v":""}]
[null,12,{"$f":"'P4P - Measure Info'!D34","v":0},{"$f":"'P4P - Measure Info'!E34","v":"<Choose>"},{"$f":"'P4P - Measure Info'!F34","v":0},{"$f":"'P4P - Measure Info'!G34","v":0},{"$f":"'P4P - Measure Info'!H34","v":0},{"$f":"'P4P - Measure Info'!I34","v":0},{"$f":"'P4P - Measure Info'!J34","v":0},{"$f":"'P4P - Measure Info'!K34","v":0},{"$f":"'P4P - Measure Info'!L34","v":""},{"$f":"'P4P - Measure Info'!M34","v":0},{"$f":"'P4P - Measure Info'!N34","v":0},{"$f":"'P4P - Measure Info'!O34","v":""},{"$f":"'P4P - Measure Info'!P34","v":0},{"$f":"'P4P - Measure Info'!Q34","v":""}]
[null,13,{"$f":"'P4P - Measure Info'!D35","v":0},{"$f":"'P4P - Measure Info'!E35","v":"<Choose>"},{"$f":"'P4P - Measure Info'!F35","v":0},{"$f":"'P4P - Measure Info'!G35","v":0},{"$f":"'P4P - Measure Info'!H35","v":0},{"$f":"'P4P - Measure Info'!I35","v":0},{"$f":"'P4P - Measure Info'!J35","v":0},{"$f":"'P4P - Measure Info'!K35","v":0},{"$f":"'P4P - Measure Info'!L35","v":""},{"$f":"'P4P - Measure Info'!M35","v":0},{"$f":"'P4P - Measure Info'!N35","v":0},{"$f":"'P4P - Measure Info'!O35","v":""},{"$f":"'P4P - Measure Info'!P35","v":0},{"$f":"'P4P - Measure Info'!Q35","v":""}]
[null,14,{"$f":"'P4P - Measure Info'!D36","v":0},{"$f":"'P4P - Measure Info'!E36","v":"<Choose>"},{"$f":"'P4P - Measure Info'!F36","v":0},{"$f":"'P4P - Measure Info'!G36","v":0},{"$f":"'P4P - Measure Info'!H36","v":0},{"$f":"'P4P - Measure Info'!I36","v":0},{"$f":"'P4P - Measure Info'!J36","v":0},{"$f":"'P4P - Measure Info'!K36","v":0},{"$f":"'P4P - Measure Info'!L36","v":""},{"$f":"'P4P - Measure Info'!M36","v":0},{"$f":"'P4P - Measure Info'!N36","v":0},{"$f":"'P4P - Measure Info'!O36","v":""},{"$f":"'P4P - Measure Info'!P36","v":0},{"$f":"'P4P - Measure Info'!Q36","v":""}]
[null,15,{"$f":"'P4P - Measure Info'!D37","v":0},{"$f":"'P4P - Measure Info'!E37","v":"<Choose>"},{"$f":"'P4P - Measure Info'!F37","v":0},{"$f":"'P4P - Measure Info'!G37","v":0},{"$f":"'P4P - Measure Info'!H37","v":0},{"$f":"'P4P - Measure Info'!I37","v":0},{"$f":"'P4P - Measure Info'!J37","v":0},{"$f":"'P4P - Measure Info'!K37","v":0},{"$f":"'P4P - Measure Info'!L37","v":""},{"$f":"'P4P - Measure Info'!M37","v":0},{"$f":"'P4P - Measure Info'!N37","v":0},{"$f":"'P4P - Measure Info'!O37","v":""},{"$f":"'P4P - Measure Info'!P37","v":0},{"$f":"'P4P - Measure Info'!Q37","v":""}]
[null,16,{"$f":"'P4P - Measure Info'!D38","v":0},{"$f":"'P4P - Measure Info'!E38","v":"<Choose>"},{"$f":"'P4P - Measure Info'!F38","v":0},{"$f":"'P4P - Measure Info'!G38","v":0},{"$f":"'P4P - Measure Info'!H38","v":0},{"$f":"'P4P - Measure Info'!I38","v":0},{"$f":"'P4P - Measure Info'!J38","v":0},{"$f":"'P4P - Measure Info'!K38","v":0},{"$f":"'P4P - Measure Info'!L38","v":""},{"$f":"'P4P - Measure Info'!M38","v":0},{"$f":"'P4P - Measure Info'!N38","v":0},{"$f":"'P4P - Measure Info'!O38","v":""},{"$f":"'P4P - Measure Info'!P38","v":0},{"$f":"'P4P - Measure Info'!Q38","v":""}]
[null,17,{"$f":"'P4P - Measure Info'!D39","v":0},{"$f":"'P4P - Measure Info'!E39","v":"<Choose>"},{"$f":"'P4P - Measure Info'!F39","v":0},{"$f":"'P4P - Measure Info'!G39","v":0},{"$f":"'P4P - Measure Info'!H39","v":0},{"$f":"'P4P - Measure Info'!I39","v":0},{"$f":"'P4P - Measure Info'!J39","v":0},{"$f":"'P4P - Measure Info'!K39","v":0},{"$f":"'P4P - Measure Info'!L39","v":""},{"$f":"'P4P - Measure Info'!M39","v":0},{"$f":"'P4P - Measure Info'!N39","v":0},{"$f":"'P4P - Measure Info'!O39","v":""},{"$f":"'P4P - Measure Info'!P39","v":0},{"$f":"'P4P - Measure Info'!Q39","v":""}]
[null,18,{"$f":"'P4P - Measure Info'!D40","v":0},{"$f":"'P4P - Measure Info'!E40","v":"<Choose>"},{"$f":"'P4P - Measure Info'!F40","v":0},{"$f":"'P4P - Measure Info'!G40","v":0},{"$f":"'P4P - Measure Info'!H40","v":0},{"$f":"'P4P - Measure Info'!I40","v":0},{"$f":"'P4P - Measure Info'!J40","v":0},{"$f":"'P4P - Measure Info'!K40","v":0},{"$f":"'P4P - Measure Info'!L40","v":""},{"$f":"'P4P - Measure Info'!M40","v":0},{"$f":"'P4P - Measure Info'!N40","v":0},{"$f":"'P4P - Measure Info'!O40","v":""},{"$f":"'P4P - Measure Info'!P40","v":0},{"$f":"'P4P - Measure Info'!Q40","v":""}]
[null,19,{"$f":"'P4P - Measure Info'!D41","v":0},{"$f":"'P4P - Measure Info'!E41","v":"<Choose>"},{"$f":"'P4P - Measure Info'!F41","v":0},{"$f":"'P4P - Measure Info'!G41","v":0},{"$f":"'P4P - Measure Info'!H41","v":0},{"$f":"'P4P - Measure Info'!I41","v":0},{"$f":"'P4P - Measure Info'!J41","v":0},{"$f":"'P4P - Measure Info'!K41","v":0},{"$f":"'P4P - Measure Info'!L41","v":""},{"$f":"'P4P - Measure Info'!M41","v":0},{"$f":"'P4P - Measure Info'!N41","v":0},{"$f":"'P4P - Measure Info'!O41","v":""},{"$f":"'P4P - Measure Info'!P41","v":0},{"$f":"'P4P - Measure Info'!Q41","v":""}]
[null,20,{"$f":"'P4P - Measure Info'!D42","v":0},{"$f":"'P4P - Measure Info'!E42","v":"<Choose>"},{"$f":"'P4P - Measure Info'!F42","v":0},{"$f":"'P4P - Measure Info'!G42","v":0},{"$f":"'P4P - Measure Info'!H42","v":0},{"$f":"'P4P - Measure Info'!I42","v":0},{"$f":"'P4P - Measure Info'!J42","v":0},{"$f":"'P4P - Measure Info'!K42","v":0},{"$f":"'P4P - Measure Info'!L42","v":""},{"$f":"'P4P - Measure Info'!M42","v":0},{"$f":"'P4P - Measure Info'!N42","v":0},{"$f":"'P4P - Measure Info'!O42","v":""},{"$f":"'P4P - Measure Info'!P42","v":0},{"$f":"'P4P - Measure Info'!Q42","v":""}]
[null,21,{"$f":"'P4P - Measure Info'!D43","v":0},{"$f":"'P4P - Measure Info'!E43","v":"<Choose>"},{"$f":"'P4P - Measure Info'!F43","v":0},{"$f":"'P4P - Measure Info'!G43","v":0},{"$f":"'P4P - Measure Info'!H43","v":0},{"$f":"'P4P - Measure Info'!I43","v":0},{"$f":"'P4P - Measure Info'!J43","v":0},{"$f":"'P4P - Measure Info'!K43","v":0},{"$f":"'P4P - Measure Info'!L43","v":""},{"$f":"'P4P - Measure Info'!M43","v":0},{"$f":"'P4P - Measure Info'!N43","v":0},{"$f":"'P4P - Measure Info'!O43","v":""},{"$f":"'P4P - Measure Info'!P43","v":0},{"$f":"'P4P - Measure Info'!Q43","v":""}]
[null,22,{"$f":"'P4P - Measure Info'!D44","v":0},{"$f":"'P4P - Measure Info'!E44","v":"<Choose>"},{"$f":"'P4P - Measure Info'!F44","v":0},{"$f":"'P4P - Measure Info'!G44","v":0},{"$f":"'P4P - Measure Info'!H44","v":0},{"$f":"'P4P - Measure Info'!I44","v":0},{"$f":"'P4P - Measure Info'!J44","v":0},{"$f":"'P4P - Measure Info'!K44","v":0},{"$f":"'P4P - Measure Info'!L44","v":""},{"$f":"'P4P - Measure Info'!M44","v":0},{"$f":"'P4P - Measure Info'!N44","v":0},{"$f":"'P4P - Measure Info'!O44","v":""},{"$f":"'P4P - Measure Info'!P44","v":0},{"$f":"'P4P - Measure Info'!Q44","v":""}]
[null,23,{"$f":"'P4P - Measure Info'!D45","v":0},{"$f":"'P4P - Measure Info'!E45","v":"<Choose>"},{"$f":"'P4P - Measure Info'!F45","v":0},{"$f":"'P4P - Measure Info'!G45","v":0},{"$f":"'P4P - Measure Info'!H45","v":0},{"$f":"'P4P - Measure Info'!I45","v":0},{"$f":"'P4P - Measure Info'!J45","v":0},{"$f":"'P4P - Measure Info'!K45","v":0},{"$f":"'P4P - Measure Info'!L45","v":""},{"$f":"'P4P - Measure Info'!M45","v":0},{"$f":"'P4P - Measure Info'!N45","v":0},{"$f":"'P4P - Measure Info'!O45","v":""},{"$f":"'P4P - Measure Info'!P45","v":0},{"$f":"'P4P - Measure Info'!Q45","v":""}]
[null,24,{"$f":"'P4P - Measure Info'!D46","v":0},{"$f":"'P4P - Measure Info'!E46","v":"<Choose>"},{"$f":"'P4P - Measure Info'!F46","v":0},{"$f":"'P4P - Measure Info'!G46","v":0},{"$f":"'P4P - Measure Info'!H46","v":0},{"$f":"'P4P - Measure Info'!I46","v":0},{"$f":"'P4P - Measure Info'!J46","v":0},{"$f":"'P4P - Measure Info'!K46","v":0},{"$f":"'P4P - Measure Info'!L46","v":""},{"$f":"'P4P - Measure Info'!M46","v":0},{"$f":"'P4P - Measure Info'!N46","v":0},{"$f":"'P4P - Measure Info'!O46","v":""},{"$f":"'P4P - Measure Info'!P46","v":0},{"$f":"'P4P - Measure Info'!Q46","v":""}]
[null,25,{"$f":"'P4P - Measure Info'!D47","v":"Whole Building Total Savings"},{"$f":"'P4P - Measure Info'!E47","v":"Other"},{"$f":"'P4P - Measure Info'!F47","v":"Custom Measure"},{"$f":"'P4P - Measure Info'!G47","v":0},{"$f":"'P4P - Measure Info'!H47","v":0},{"$f":"'P4P - Measure Info'!I47","v":0},{"$f":"'P4P - Measure Info'!J47","v":0},{"$f":"'P4P - Measure Info'!K47","v":0},{"$f":"'P4P - Measure Info'!L47","v":"<Enter>"},{"$f":"'P4P - Measure Info'!M47","v":1},{"$f":"'P4P - Measure Info'!N47","v":0},{"$f":"'P4P - Measure Info'!O47","v":"<Enter>"},{"$f":"'P4P - Measure Info'!P47","v":0},{"$f":"'P4P - Measure Info'!Q47","v":"<Enter>"}]

{"sheet":"P4P Incentive Structure","index":18,"n_rows":31,"n_cols":10,"rows_kept":31,"cut":false,"hidden":false,"merged":[[5,1,5,6],[6,1,6,6],[7,1,7,6],[8,1,8,2],[8,3,8,6],[9,3,9,4],[9,5,12,6],[10,3,10,4],[11,3,11,4],[12,1,12,2],[12,3,12,4],[9,1,9,2],[10,1,10,2],[11,1,11,2],[18,1,18,2],[13,1,13,2],[13,3,13,4],[13,5,13,6],[14,1,14,2],[14,3,14,4],[14,5,14,6],[15,1,15,2],[15,3,15,4],[15,5,15,6],[16,1,16,6],[17,1,17,6],[18,3,18,6],[23,1,23,2],[23,3,23,4],[23,5,23,6],[24,1,24,6],[25,1,25,6],[19,5,22,6],[20,3,20,4],[21,3,21,4],[22,1,22,2],[22,3,22,4],[19,1,19,2],[20,1,20,2],[21,1,21,2],[0,2,0,6],[1,2,1,6],[2,2,2,6],[30,1,30,6],[27,1,27,2],[27,3,27,4],[27,5,28,6],[28,1,28,2],[28,3,28,4],[29,1,29,2],[29,3,29,4],[29,5,29,6],[26,1,26,2],[26,3,26,4],[26,5,26,6],[19,3,19,4]]}
[null,null,"New Jersey Office of Clean Energy"]
[null,null,"Pay for Performance New Construction Program"]
[null,null,"ERP Tables and Incentive Calculator"]
[]
[]
[null,"Incentive Structure for FY24 Pay For Performance  "]
[null," New Construction Program"]
[null,"Incentive #1: Proposed Energy Reduction Plan "]
[null,"Minimum Performance Requirement:",null,"Incentive ",null,null,null,null,"Incentive without Cap","Incentive with Cap"]
[null,"Tier 1\nC&I: 5% to < 7%\nMultifamily: 15% to < 17%",null,0.08,null,"per gross conditioned square foot",null,null,{"$f":"IF('P4P - Project Summary'!$U$36=\"Tier 1\",D10*'P4P - Project Summary'!$D$52,0)","v":0}]
[null," Tier 2\nC&I: 7% to < 10%\nMultifamily: 17% to < 20%",null,0.1,null,null,null,null,{"$f":"IF('P4P - Project Summary'!$U$36=\"Tier 2\",D11*'P4P - Project Summary'!$D$52,0)","v":0}]
[null,"Tier 3\nC&I: 10% or greater\nMultifamily: 20% or greater",null,0.12,null,null,null,null,{"$f":"IF('P4P - Project Summary'!$U$36=\"Tier 3\",D12*'P4P - Project Summary'!$D$52,0)","v":0}]
[null,"High Intensity Buildings Bonus",null,0.02,null,null,null,null,{"$f":"IF('P4P - General Info'!C22=\"No\",0,IF(OR('P4P - Project Summary'!$U$36=\"Tier 1\",'P4P - Project Summary'!$U$36=\"Tier 2\",'P4P - Project Summary'!$U$36=\"Tier 3\"),D13*'P4P - Project Summary'!$D$52,0))","v":0}]
[null,"Maximum Incentive:",null,50000,null,null,null,null,{"$f":"SUM(I10:I13)","v":0},{"$f":"IF(I14=0,0,IF(I14>D14,D14,I14))","v":0}]
[null,"Pre-design / Schematic Design Bonus",null,0.04,null,"per gross conditioned square foot",null,null,{"$f":"IF('P4P - General Info'!C23=\"No\",0,IF(OR('P4P - Project Summary'!$U$36=\"Tier 1\",'P4P - Project Summary'!$U$36=\"Tier 2\",'P4P - Project Summary'!$U$36=\"Tier 3\"),D15*'P4P - Project Summary'!$D$52,0))","v":0},{"$f":"IF(I15=0,0,IF(I15>D16,D16,I15))","v":0}]
[null,"Maximum Incentive:",null,20000,null,null,null,null,{"$f":"SUM(I14:I15)","v":0},{"$f":"SUM(J14:J15)","v":0}]
[null,"This incentive is designed to offset some or all of the cost of services associated with the Proposed Energy Reduction Plan (ERP) and is payable upon approval of the Proposed ERP. Incentive #1 is contingent upon moving forward with installation. If installation does not commence within the required timeframe, Incentive #1 may be required to be returned to the program. In the event the project is cancelled and Incentive #1is not returned, the project may reapply to the program in the future but another Incentive #1 will not be paid."]
[null,"Incentive #2: As-Built Energy Reduction Plan and Commissioning Report"]
[null,"Minimum Performance Requirement:",null,"Incentive ",null,null,null,null,"Incentive without Cap","Incentive with Cap"]
[null,"Tier 1\nC&I: 5% to < 7%\nMultifamily: 15% to < 17%",null,0.8,null,"per gross conditioned square foot",null,null,{"$f":"IF('P4P - Project Summary'!$U$36=\"Tier 1\",D20*'P4P - Project Summary'!$D$52,0)","v":0}]
[null,"Tier 2",null,1,null,null,null,null,{"$f":"IF('P4P - Project Summary'!$U$36=\"Tier 2\",D21*'P4P - Project Summary'!$D$52,0)","v":0}]
[null,"Tier 3",null,1.2,null,null,null,null,{"$f":"IF('P4P - Project Summary'!$U$36=\"Tier 3\",D22*'P4P - Project Summary'!$D$52,0)","v":0}]
[null,"High Intensity Buildings Bonus",null,0.2,null,null,null,null,{"$f":"IF('P4P - General Info'!C22=\"No\",0,IF(OR('P4P - Project Summary'!$U$36=\"Tier 1\",'P4P - Project Summary'!$U$36=\"Tier 2\",'P4P - Project Summary'!$U$36=\"Tier 3\"),D23*'P4P - Project Summary'!$D$52,0))","v":0}]
[null,"Maximum Incentive:",null,"n/a",null,null,null,null,{"$f":"SUM(I20:I23)","v":0},{"$f":"IF(I24=0,0,I24)","v":0}]
[null,"This incentive is based on the successful installation and commissioning of the energy efficiency measures as outlined in the approved Proposed Energy Reduction Plan. Incentive #2 is payable upon approval of As-Built ERP and associated commissioning report, completed by a certified Commissioning Authority."]
[null,"Incentive #3: Building Performance"]
[null,"Minimum Performance Requirement:",null,"15% for Multifamily buildings and 5% for all others ",null,"Cost or Source Energy reduction over 90.1-2019 Baseline",null,null,"Incentive without Cap","Incentive with Cap"]
[null,"Flat",null,0.35,null,"per gross conditioned square foot",null,null,{"$f":"IF(OR('P4P - Project Summary'!$U$36=\"Tier 1\",'P4P - Project Summary'!$U$36=\"Tier 2\",'P4P - Project Summary'!$U$36=\"Tier 3\"),D28*'P4P - Project Summary'!$D$52,0)","v":0}]
[null,"High Intensity Buildings Bonus",null,0.05,null,null,null,null,{"$f":"IF('P4P - General Info'!C22=\"No\",0,IF(OR('P4P - Project Summary'!$U$36=\"Tier 1\",'P4P - Project Summary'!$U$36=\"Tier 2\",'P4P - Project Summary'!$U$36=\"Tier 3\"),D29*'P4P - Project Summary'!$D$52,0))","v":0}]
[null,"Maximum Incentive:",null,"n/a",null,null,null,null,{"$f":"SUM(I28:I29)","v":0},{"$f":"IF(I30=0,0,I30)","v":0}]
[null,"This incentive is paid for projects demonstrating superior energy performance based on its first year of operation.  Projects may be eligible for this incentive if they show proof of receiving ENERGY STAR Certification. Building types not eligible for ENERGY STAR Certification may demonstrate compliance through ASHRAE Building Energy Quotient (bEQ) In-Operation Certification."]

{"sheet":"P4P - TRC Version Documentation","index":19,"n_rows":94,"n_cols":3,"rows_kept":94,"cut":false,"hidden":true,"merged":[]}
[]
["v1.0 released 11/17/09, after first P4P NC Orientation."]
[]
["v2.0 released 1/17/11, and includes: "]
[null,"updates to ASHRAE space type list"]
[null,"minor updates to instructions"]
[null,"addition of Instruction tab"]
[]
["v2.1 released 4/19/2011"]
[null,"updates to IRR calculation on 10/14/11"]
[]
["v3.0 released 1/xx/2012"]
[null,"updates to program relative to 2012 filing including:"]
[null,null,"Incentive structure and payout "]
[null,null,"Expanded instructions and fuel compatibility "]
[]
["v3.1 released 03/27/2015"]
[null,"updated support tab, Incentive #3 calc to reflect accurate % ranges for incentive"]
[null,"updated Table-2 to round to two decimal places "]
[null,"locked cell formating on some tabs"]
[]
["v3.2 released 7/1/2015"]
[null,"updates to Program Guidelines reference v3.2"]
[]
["v3.3 released 7/9/2015"]
[null,"updated IRR and Savings to calculate to tenth place (e.g. 15.0%)"]
[]
["v4.0 (internal \"I\") released 8/1/2016"]
[null,"FY17 program re-design. "]
[]
[]
["V4.1","released 9/5/17"]
[null,"Tab","Summary of Changes"]
[null,"p4p - general info","Updated PCIt calcs to accommodate mixed use buildings, BBREC, BBUEC & BPF"]
[null,"p4p - general info","Updated blended BPF for restaurant"]
[null,"p4p - measure simulation","Added unregulated lighting end use"]
[null,"p4p - measure simulation","Added unregulated & regulated misc. energy end use"]
[null,"p4p - measure simulation","Added unregulated & regulated refrigeration end use"]
[null,"p4p - measure simulation","Updated 90.1-2013 adjusted baseline energy cost colum, G31, to multiple each regulated enduse cost by BPF. Unregulated costs stays the same."]
[null,"General","Updated references to PG v4.1"]
[null,"General","Updated for CSV data import"]
[]
["v4.1a","General","fix to CSV logic"]
[]
["v4.2","Modified P4P - General Info tab to include adjustment to BPF and PCI for major reno projects"]
[null,"High EUI formula fixed on Incentives tab (referenced pre-design bonus cell by mistake)"]
[null,"Removed erroneous rounding formulas"]
[null,"Updated measure lives per FY19 protocols"]
[]
["v4.3","released April 2019"]
[null,"Split P4P Tables from LEED tables"]
[null,"Added pre-design tabs "]
[]
["v4.4","released 7-19-19"]
[null,"removed incremental cost references, including measure cost info and paybacks"]
[null,"added source energy savings targets"]
[null,"increased pre-design bonus value"]
[null,"updated guide references and changed program guide to partner guide"]
[]
["v4.5","For cells that can be manually overridden on the Mea Sim tab the font will turn bold red if the user overrides the formulas or makes a manual input. I added a description of this to the Instructions on the Mea Sim tab since there is no color key in the ERP."]
[null,"Bug with the population of FALSE and cells being locked in the energy savings table on the Mea Sim tab if Custom Calcs is selected in the table above has been corrected. Cells now populate as blank and dynamically become unlocked if Custom Calcs is selected."]
["v4.6","A bug was identified and fixed which affected the scenario when a project failed for one of the metrics (cost or source energy). When one of the metrics failed the ERP was not properly selecting whether to show source or cost on the Project Summary tab."]
["v4.8","released 7-11-20"]
[null,"updated savings logic so that both measure simulation and project summary show the correct 2013-adjusted savings"]
[null,"added Kw back to project summary, updated logic"]
[null,"updated Master Export to match "]
[null,"blacked out irrelevant cells"]
["v4.8","Fixed bug in cell I13 on the Incentive Structure tab. It was reference the pre-design bonus incentive"]
["v5.0 (4.9 skipped)","Fixed bug on Project Summary tab where incentive #1 was not capturing a cap."]
[null,"Added ability to import from the Compliance Form using the button on the Instructions tab. Cells locked - data needs to be enterd in the CF."]
[null,"Custom calcs are now entered in the 3rd table on the Measure Simulation tab because the other 2 tables are hidden."]
[null,"Modified logic such that savings are calculated on a whole building level rather than by measures."]
[null,"The 25th measure was turned into a dummy measure to capture whole buillding savings from both bEQ and App G."]
[null,"Tabs were added for inputting hourly kW."]
[null,"Columns were added to Measure Simulation for populating system peak. These autopopulate for Trace and eQuest."]
[null,"Modified logic for calculating kW savings and made it based upon the system peak."]
[null,"The tool now supports both 90.1 2013 and 2016."]
[null,"Implemented conditional formatting to hide all percent savings for bEQ projects."]
[null,"Added BPFs for 2016 for cost per 90.1. Added calculated source energy BPFs for 2013 and 2016. Added SEEUPFs for 2016."]
[null,"Added bEQ targets for 2016."]
[null,"Updated the Charette End use tab to show 90.1 2016 EUIs instead of 2013."]
["v5.2","Unlocked cells on the P4P-General Info tab"]
[null,"Corrected formulas in cell H15 on the P4P-Measure Simulation tab"]
[null,"Corrected issues on the P4P-Support Data tab with an @ sign being in front of the named range in the BPF and SEEPF tables"]
["v6.0","P4P-Instructions have been updated as the P4P custom tab has been removed from the Compliance Form."]
[null,"Compliance Form no longer has P4P specific tab so P4P-General Info was modified to reflect this. For inputs that can be autopopulated from the Compliance Form, if the user overrides the autopopulated values it will show as bold red font so we can see when something has been overidden"]
["v6.1","Updated the source energy BPFs for 90.1 2016 to align with the recently published PNNL source energy BPFs that align with the methodology used to established the 90.1 2016 energy cost BPFs."]
["v6.2","Fixed bug on the P4P-Measure Simulation tab on the Lighting-Unregulated row in the first table. It was producing a \"-\" in some scenarios which was causing calculation errors. Now it produced 0s instead of \"-\"."]
["v6.3","Removed text references to bEQ path"]
[null,"Replaced 2013 App G year with 2019"]
[null,"Revised text to reference v4.8 of the Partner Guidelines"]
[null,"Replaced 2013 WBUPFs with 2019"]
[null,"Added 2019 data to the Energy Charrette End Uses Data tab"]
[null,"Modified guideline references that have changed"]

{"sheet":"CO2e Lookup","index":20,"n_rows":11,"n_cols":2,"rows_kept":11,"cut":false,"hidden":true,"merged":[[0,0,0,1]]}
["CO2e Lookup"]
["Fuel Type","Lbs CO2 Equivalent per MMBtu or kWh"]
[null,0]
["N/A",0]
["No. 6 Fuel Oil",{"$f":"75.35*2.20462","v":166.11811699999998}]
["No. 4 Fuel Oil",{"$f":"75.3*2.20462","v":166.00788599999998}]
["No. 2 Fuel Oil",{"$f":"74.21*2.20462","v":163.60485019999996}]
["Steam",{"$f":"66.4*2.20462","v":146.38676799999999}]
["Propane",{"$f":"64.25*2.20462","v":141.64683499999998}]
["Natural Gas",{"$f":"53.11*2.20462","v":117.08736819999999}]
["Electric",{"$f":"133.87*2.20462*0.003412","v":1.0069920197127999}]

{"sheet":"Master Export","index":21,"n_rows":28,"n_cols":52,"rows_kept":28,"cut":false,"hidden":true,"merged":[]}
["Pay For Performance - New Construction: FY24"]
["Project Name",{"$f":"'P4P - General Info'!C13","v":"-"},"Project ID",{"$f":"'P4P - General Info'!C17","v":0},"Street Address",{"$f":"'P4P - General Info'!C14&\" \"&'P4P - General Info'!C15","v":"- -"},"Project SF",{"$f":"'P4P - General Info'!C40","v":0},"Partner Fees",{"$f":"SUM('P4P - Measure Info'!U50:U54)","v":0},"Total Measure Cost",{"$f":"SUM('P4P - Measure Info'!R23:R47)","v":0},"Total Measure Incremental Cost",{"$f":"'P4P - Measure Info'!X49","v":0},"Committed Incentive #1",{"$f":"'P4P - Project Summary'!D55","v":0},"Paid Incentive #1",0,"Committed Incentive #2",{"$f":"'P4P - Project Summary'!D56","v":0},"Paid Incentive #2",0,"Committed Incentive #3",{"$f":"'P4P - Project Summary'!D57","v":0},"Paid Incentive #3",0,"Annual Energy Cost - Baseline",{"$f":"IF(P4P_Path=\"Appendix G\", 'P4P - Project Summary'!E9, IF(P4P_Path=\"ASHRAE bEQ\",'P4P - Project Summary'!D9,\"\"))","v":"-"},"Annual Cost Savings",{"$f":"IF(P4P_Path=\"Appendix G\", 'P4P - Project Summary'!I9, IF(P4P_Path=\"ASHRAE bEQ\",'P4P - Project Summary'!G9,\"\"))","v":"-"},"Internal Rate of Return (IRR)",{"$f":"'P4P - Project Summary'!D46","v":0},"Life Cycle Savings",{"$f":"'P4P - Measure Simulation'!Z151","v":0},"Simple Payback (yrs)",{"$f":"'P4P - Project Summary'!D47","v":0},"Simple Payback with NJCEP Incentive (yrs)",{"$f":"'P4P - Project Summary'!D48","v":0},"Total % Cost Savings",{"$f":"IF(P4P_Path=\"Appendix G\", 'P4P - Project Summary'!J9, IF(P4P_Path=\"ASHRAE bEQ\",'P4P - Project Summary'!H9,\"\"))","v":"-"},"Total % Source Energy Savings",{"$f":"IF(P4P_Path=\"Appendix G\", 'P4P - Project Summary'!K10, IF(P4P_Path=\"ASHRAE bEQ\",'P4P - Project Summary'!H10,\"\"))","v":0},"% Elec",{"$f":"IF(P4P_Path=\"Appendix G\", 'P4P - Project Summary'!U11, IF(P4P_Path=\"ASHRAE bEQ\",'P4P - Project Summary'!H11,\"\"))","v":0},"% Gas",{"$f":"IF(P4P_Path=\"Appendix G\", 'P4P - Project Summary'!U12, IF(P4P_Path=\"ASHRAE bEQ\",'P4P - Project Summary'!H12,\"\"))","v":0},"% Other",{"$f":"IFERROR((IF(P4P_Path=\"Appendix G\", (SUM('P4P - Project Summary'!E13:E18)-SUM('P4P - Project Summary'!F13:F18))/SUM('P4P - Project Summary'!E13:E18), IF(P4P_Path=\"ASHRAE bEQ\",(SUM('P4P - Project Summary'!D13:D18)-SUM('P4P - Project Summary'!F13:F18))/SUM('P4P - Project Summary'!D13:D18),\"\"))),\"\")","v":""},"Program Compliance Path",{"$f":"P4P_Path","v":"Appendix G"},"Baseline Energy Code",{"$f":"GI_Version_Yr","v":"-"}]
["Measure Name","Measure Description","Manufacturer","Model","Installation Cost per Unit","Annual Energy Cost Savings per Unit","Incentive Per Unit","Simple Payback w/o Incentives","Simple Payback w/ Incentives","Peak Demand Reduction per Unit","Annual Electricity Savings per Unit","Lifetime Electricity Savings per Unit","Annual Gas Savings per Unit","Lifetime Gas Savings per Unit","Annual Propane Savings per Unit","Lifetime Propane Savings per Unit","Annual Oil Savings per Unit","Lifetime Oil Savings per Unit","Other Energy Savings MMBTU per Unit","Other Lifetime Energy Savings MMBTU per Unit","CO2e Emissions Reduction per Unit (lbs)","Quantity Committed","Quantity Installed"]
[{"$f":"IF('P4P - Measure Info'!F23=\"\",0,IF('P4P - Measure Info'!C23=\"Yes\",'P4P - Measure Info'!F23,0))","v":0},{"$f":"IF(A4=0,0,'P4P - Measure Info'!D23)","v":0},{"$f":"IF(A4=0,0,'P4P - Measure Info'!I23)","v":0},{"$f":"IF(A4=0,0,'P4P - Measure Info'!J23)","v":0},null,null,null,null,null,null,null,null,null,null,null,null,null,null,null,null,null,{"$f":"IF(A4=0,0,IFERROR('P4P - Measure Info'!M23*1,1))","v":0},{"$f":"IF(A4=0,0,IFERROR('P4P - Measure Info'!M23*1,1))","v":0},"Capacity/Size",{"$f":"IF(A4=0,0,'P4P - Measure Info'!K23)","v":0},"Capacity/Size Units",{"$f":"IF(A4=0,\"\",'P4P - Measure Info'!L23)","v":""},"Efficiency",{"$f":"IF(A4=0,0,'P4P - Measure Info'!N23)","v":0},"Efficiency Units",{"$f":"IF(A4=0,\"\",'P4P - Measure Info'!O23)","v":""}]
[{"$f":"IF('P4P - Measure Info'!F24=\"\",0,IF('P4P - Measure Info'!C24=\"Yes\",'P4P - Measure Info'!F24,0))","v":0},{"$f":"IF(A5=0,0,'P4P - Measure Info'!D24)","v":0},{"$f":"IF(A5=0,0,'P4P - Measure Info'!I24)","v":0},{"$f":"IF(A5=0,0,'P4P - Measure Info'!J24)","v":0},null,null,null,null,null,null,null,null,null,null,null,null,null,null,null,null,null,{"$f":"IF(A5=0,0,IFERROR('P4P - Measure Info'!M24*1,1))","v":0},{"$f":"IF(A5=0,0,IFERROR('P4P - Measure Info'!M24*1,1))","v":0},"Capacity/Size",{"$f":"IF(A5=0,0,'P4P - Measure Info'!K24)","v":0},"Capacity/Size Units",{"$f":"IF(A5=0,\"\",'P4P - Measure Info'!L24)","v":""},"Efficiency",{"$f":"IF(A5=0,0,'P4P - Measure Info'!N24)","v":0},"Efficiency Units",{"$f":"IF(A5=0,\"\",'P4P - Measure Info'!O24)","v":""}]
[{"$f":"IF('P4P - Measure Info'!F25=\"\",0,IF('P4P - Measure Info'!C25=\"Yes\",'P4P - Measure Info'!F25,0))","v":0},{"$f":"IF(A6=0,0,'P4P - Measure Info'!D25)","v":0},{"$f":"IF(A6=0,0,'P4P - Measure Info'!I25)","v":0},{"$f":"IF(A6=0,0,'P4P - Measure Info'!J25)","v":0},null,null,null,null,null,null,null,null,null,null,null,null,null,null,null,null,null,{"$f":"IF(A6=0,0,IFERROR('P4P - Measure Info'!M25*1,1))","v":0},{"$f":"IF(A6=0,0,IFERROR('P4P - Measure Info'!M25*1,1))","v":0},"Capacity/Size",{"$f":"IF(A6=0,0,'P4P - Measure Info'!K25)","v":0},"Capacity/Size Units",{"$f":"IF(A6=0,\"\",'P4P - Measure Info'!L25)","v":""},"Efficiency",{"$f":"IF(A6=0,0,'P4P - Measure Info'!N25)","v":0},"Efficiency Units",{"$f":"IF(A6=0,\"\",'P4P - Measure Info'!O25)","v":""}]
[{"$f":"IF('P4P - Measure Info'!F26=\"\",0,IF('P4P - Measure Info'!C26=\"Yes\",'P4P - Measure Info'!F26,0))","v":0},{"$f":"IF(A7=0,0,'P4P - Measure Info'!D26)","v":0},{"$f":"IF(A7=0,0,'P4P - Measure Info'!I26)","v":0},{"$f":"IF(A7=0,0,'P4P - Measure Info'!J26)","v":0},null,null,null,null,null,null,null,null,null,null,null,null,null,null,null,null,null,{"$f":"IF(A7=0,0,IFERROR('P4P - Measure Info'!M26*1,1))","v":0},{"$f":"IF(A7=0,0,IFERROR('P4P - Measure Info'!M26*1,1))","v":0},"Capacity/Size",{"$f":"IF(A7=0,0,'P4P - Measure Info'!K26)","v":0},"Capacity/Size Units",{"$f":"IF(A7=0,\"\",'P4P - Measure Info'!L26)","v":""},"Efficiency",{"$f":"IF(A7=0,0,'P4P - Measure Info'!N26)","v":0},"Efficiency Units",{"$f":"IF(A7=0,\"\",'P4P - Measure Info'!O26)","v":""}]
[{"$f":"IF('P4P - Measure Info'!F27=\"\",0,IF('P4P - Measure Info'!C27=\"Yes\",'P4P - Measure Info'!F27,0))","v":0},{"$f":"IF(A8=0,0,'P4P - Measure Info'!D27)","v":0},{"$f":"IF(A8=0,0,'P4P - Measure Info'!I27)","v":0},{"$f":"IF(A8=0,0,'P4P - Measure Info'!J27)","v":0},null,null,null,null,null,null,null,null,null,null,null,null,null,null,null,null,null,{"$f":"IF(A8=0,0,IFERROR('P4P - Measure Info'!M27*1,1))","v":0},{"$f":"IF(A8=0,0,IFERROR('P4P - Measure Info'!M27*1,1))","v":0},"Capacity/Size",{"$f":"IF(A8=0,0,'P4P - Measure Info'!K27)","v":0},"Capacity/Size Units",{"$f":"IF(A8=0,\"\",'P4P - Measure Info'!L27)","v":""},"Efficiency",{"$f":"IF(A8=0,0,'P4P - Measure Info'!N27)","v":0},"Efficiency Units",{"$f":"IF(A8=0,\"\",'P4P - Measure Info'!O27)","v":""}]
[{"$f":"IF('P4P - Measure Info'!F28=\"\",0,IF('P4P - Measure Info'!C28=\"Yes\",'P4P - Measure Info'!F28,0))","v":0},{"$f":"IF(A9=0,0,'P4P - Measure Info'!D28)","v":0},{"$f":"IF(A9=0,0,'P4P - Measure Info'!I28)","v":0},{"$f":"IF(A9=0,0,'P4P - Measure Info'!J28)","v":0},null,null,null,null,null,null,null,null,null,null,null,null,null,null,null,null,null,{"$f":"IF(A9=0,0,IFERROR('P4P - Measure Info'!M28*1,1))","v":0},{"$f":"IF(A9=0,0,IFERROR('P4P - Measure Info'!M28*1,1))","v":0},"Capacity/Size",{"$f":"IF(A9=0,0,'P4P - Measure Info'!K28)","v":0},"Capacity/Size Units",{"$f":"IF(A9=0,\"\",'P4P - Measure Info'!L28)","v":""},"Efficiency",{"$f":"IF(A9=0,0,'P4P - Measure Info'!N28)","v":0},"Efficiency Units",{"$f":"IF(A9=0,\"\",'P4P - Measure Info'!O28)","v":""}]
[{"$f":"IF('P4P - Measure Info'!F29=\"\",0,IF('P4P - Measure Info'!C29=\"Yes\",'P4P - Measure Info'!F29,0))","v":0},{"$f":"IF(A10=0,0,'P4P - Measure Info'!D29)","v":0},{"$f":"IF(A10=0,0,'P4P - Measure Info'!I29)","v":0},{"$f":"IF(A10=0,0,'P4P - Measure Info'!J29)","v":0},null,null,null,null,null,null,null,null,null,null,null,null,null,null,null,null,null,{"$f":"IF(A10=0,0,IFERROR('P4P - Measure Info'!M29*1,1))","v":0},{"$f":"IF(A10=0,0,IFERROR('P4P - Measure Info'!M29*1,1))","v":0},"Capacity/Size",{"$f":"IF(A10=0,0,'P4P - Measure Info'!K29)","v":0},"Capacity/Size Units",{"$f":"IF(A10=0,\"\",'P4P - Measure Info'!L29)","v":""},"Efficiency",{"$f":"IF(A10=0,0,'P4P - Measure Info'!N29)","v":0},"Efficiency Units",{"$f":"IF(A10=0,\"\",'P4P - Measure Info'!O29)","v":""}]
[{"$f":"IF('P4P - Measure Info'!F30=\"\",0,IF('P4P - Measure Info'!C30=\"Yes\",'P4P - Measure Info'!F30,0))","v":0},{"$f":"IF(A11=0,0,'P4P - Measure Info'!D30)","v":0},{"$f":"IF(A11=0,0,'P4P - Measure Info'!I30)","v":0},{"$f":"IF(A11=0,0,'P4P - Measure Info'!J30)","v":0},null,null,null,null,null,null,null,null,null,null,null,null,null,null,null,null,null,{"$f":"IF(A11=0,0,IFERROR('P4P - Measure Info'!M30*1,1))","v":0},{"$f":"IF(A11=0,0,IFERROR('P4P - Measure Info'!M30*1,1))","v":0},"Capacity/Size",{"$f":"IF(A11=0,0,'P4P - Measure Info'!K30)","v":0},"Capacity/Size Units",{"$f":"IF(A11=0,\"\",'P4P - Measure Info'!L30)","v":""},"Efficiency",{"$f":"IF(A11=0,0,'P4P - Measure Info'!N30)","v":0},"Efficiency Units",{"$f":"IF(A11=0,\"\",'P4P - Measure Info'!O30)","v":""}]
[{"$f":"IF('P4P - Measure Info'!F31=\"\",0,IF('P4P - Measure Info'!C31=\"Yes\",'P4P - Measure Info'!F31,0))","v":0},{"$f":"IF(A12=0,0,'P4P - Measure Info'!D31)","v":0},{"$f":"IF(A12=0,0,'P4P - Measure Info'!I31)","v":0},{"$f":"IF(A12=0,0,'P4P - Measure Info'!J31)","v":0},null,null,null,null,null,null,null,null,null,null,null,null,null,null,null,null,null,{"$f":"IF(A12=0,0,IFERROR('P4P - Measure Info'!M31*1,1))","v":0},{"$f":"IF(A12=0,0,IFERROR('P4P - Measure Info'!M31*1,1))","v":0},"Capacity/Size",{"$f":"IF(A12=0,0,'P4P - Measure Info'!K31)","v":0},"Capacity/Size Units",{"$f":"IF(A12=0,\"\",'P4P - Measure Info'!L31)","v":""},"Efficiency",{"$f":"IF(A12=0,0,'P4P - Measure Info'!N31)","v":0},"Efficiency Units",{"$f":"IF(A12=0,\"\",'P4P - Measure Info'!O31)","v":""}]
[{"$f":"IF('P4P - Measure Info'!F32=\"\",0,IF('P4P - Measure Info'!C32=\"Yes\",'P4P - Measure Info'!F32,0))","v":0},{"$f":"IF(A13=0,0,'P4P - Measure Info'!D32)","v":0},{"$f":"IF(A13=0,0,'P4P - Measure Info'!I32)","v":0},{"$f":"IF(A13=0,0,'P4P - Measure Info'!J32)","v":0},null,null,null,null,null,null,null,null,null,null,null,null,null,null,null,null,null,{"$f":"IF(A13=0,0,IFERROR('P4P - Measure Info'!M32*1,1))","v":0},{"$f":"IF(A13=0,0,IFERROR('P4P - Measure Info'!M32*1,1))","v":0},"Capacity/Size",{"$f":"IF(A13=0,0,'P4P - Measure Info'!K32)","v":0},"Capacity/Size Units",{"$f":"IF(A13=0,\"\",'P4P - Measure Info'!L32)","v":""},"Efficiency",{"$f":"IF(A13=0,0,'P4P - Measure Info'!N32)","v":0},"Efficiency Units",{"$f":"IF(A13=0,\"\",'P4P - Measure Info'!O32)","v":""}]
[{"$f":"IF('P4P - Measure Info'!F33=\"\",0,IF('P4P - Measure Info'!C33=\"Yes\",'P4P - Measure Info'!F33,0))","v":0},{"$f":"IF(A14=0,0,'P4P - Measure Info'!D33)","v":0},{"$f":"IF(A14=0,0,'P4P - Measure Info'!I33)","v":0},{"$f":"IF(A14=0,0,'P4P - Measure Info'!J33)","v":0},null,null,null,null,null,null,null,null,null,null,null,null,null,null,null,null,null,{"$f":"IF(A14=0,0,IFERROR('P4P - Measure Info'!M33*1,1))","v":0},{"$f":"IF(A14=0,0,IFERROR('P4P - Measure Info'!M33*1,1))","v":0},"Capacity/Size",{"$f":"IF(A14=0,0,'P4P - Measure Info'!K33)","v":0},"Capacity/Size Units",{"$f":"IF(A14=0,\"\",'P4P - Measure Info'!L33)","v":""},"Efficiency",{"$f":"IF(A14=0,0,'P4P - Measure Info'!N33)","v":0},"Efficiency Units",{"$f":"IF(A14=0,\"\",'P4P - Measure Info'!O33)","v":""}]
[{"$f":"IF('P4P - Measure Info'!F34=\"\",0,IF('P4P - Measure Info'!C34=\"Yes\",'P4P - Measure Info'!F34,0))","v":0},{"$f":"IF(A15=0,0,'P4P - Measure Info'!D34)","v":0},{"$f":"IF(A15=0,0,'P4P - Measure Info'!I34)","v":0},{"$f":"IF(A15=0,0,'P4P - Measure Info'!J34)","v":0},null,null,null,null,null,null,null,null,null,null,null,null,null,null,null,null,null,{"$f":"IF(A15=0,0,IFERROR('P4P - Measure Info'!M34*1,1))","v":0},{"$f":"IF(A15=0,0,IFERROR('P4P - Measure Info'!M34*1,1))","v":0},"Capacity/Size",{"$f":"IF(A15=0,0,'P4P - Measure Info'!K34)","v":0},"Capacity/Size Units",{"$f":"IF(A15=0,\"\",'P4P - Measure Info'!L34)","v":""},"Efficiency",{"$f":"IF(A15=0,0,'P4P - Measure Info'!N34)","v":0},"Efficiency Units",{"$f":"IF(A15=0,\"\",'P4P - Measure Info'!O34)","v":""}]
[{"$f":"IF('P4P - Measure Info'!F35=\"\",0,IF('P4P - Measure Info'!C35=\"Yes\",'P4P - Measure Info'!F35,0))","v":0},{"$f":"IF(A16=0,0,'P4P - Measure Info'!D35)","v":0},{"$f":"IF(A16=0,0,'P4P - Measure Info'!I35)","v":0},{"$f":"IF(A16=0,0,'P4P - Measure Info'!J35)","v":0},null,null,null,null,null,null,null,null,null,null,null,null,null,null,null,null,null,{"$f":"IF(A16=0,0,IFERROR('P4P - Measure Info'!M35*1,1))","v":0},{"$f":"IF(A16=0,0,IFERROR('P4P - Measure Info'!M35*1,1))","v":0},"Capacity/Size",{"$f":"IF(A16=0,0,'P4P - Measure Info'!K35)","v":0},"Capacity/Size Units",{"$f":"IF(A16=0,\"\",'P4P - Measure Info'!L35)","v":""},"Efficiency",{"$f":"IF(A16=0,0,'P4P - Measure Info'!N35)","v":0},"Efficiency Units",{"$f":"IF(A16=0,\"\",'P4P - Measure Info'!O35)","v":""}]
[{"$f":"IF('P4P - Measure Info'!F36=\"\",0,IF('P4P - Measure Info'!C36=\"Yes\",'P4P - Measure Info'!F36,0))","v":0},{"$f":"IF(A17=0,0,'P4P - Measure Info'!D36)","v":0},{"$f":"IF(A17=0,0,'P4P - Measure Info'!I36)","v":0},{"$f":"IF(A17=0,0,'P4P - Measure Info'!J36)","v":0},null,null,null,null,null,null,null,null,null,null,null,null,null,null,null,null,null,{"$f":"IF(A17=0,0,IFERROR('P4P - Measure Info'!M36*1,1))","v":0},{"$f":"IF(A17=0,0,IFERROR('P4P - Measure Info'!M36*1,1))","v":0},"Capacity/Size",{"$f":"IF(A17=0,0,'P4P - Measure Info'!K36)","v":0},"Capacity/Size Units",{"$f":"IF(A17=0,\"\",'P4P - Measure Info'!L36)","v":""},"Efficiency",{"$f":"IF(A17=0,0,'P4P - Measure Info'!N36)","v":0},"Efficiency Units",{"$f":"IF(A17=0,\"\",'P4P - Measure Info'!O36)","v":""}]
[{"$f":"IF('P4P - Measure Info'!F37=\"\",0,IF('P4P - Measure Info'!C37=\"Yes\",'P4P - Measure Info'!F37,0))","v":0},{"$f":"IF(A18=0,0,'P4P - Measure Info'!D37)","v":0},{"$f":"IF(A18=0,0,'P4P - Measure Info'!I37)","v":0},{"$f":"IF(A18=0,0,'P4P - Measure Info'!J37)","v":0},null,null,null,null,null,null,null,null,null,null,null,null,null,null,null,null,null,{"$f":"IF(A18=0,0,IFERROR('P4P - Measure Info'!M37*1,1))","v":0},{"$f":"IF(A18=0,0,IFERROR('P4P - Measure Info'!M37*1,1))","v":0},"Capacity/Size",{"$f":"IF(A18=0,0,'P4P - Measure Info'!K37)","v":0},"Capacity/Size Units",{"$f":"IF(A18=0,\"\",'P4P - Measure Info'!L37)","v":""},"Efficiency",{"$f":"IF(A18=0,0,'P4P - Measure Info'!N37)","v":0},"Efficiency Units",{"$f":"IF(A18=0,\"\",'P4P - Measure Info'!O37)","v":""}]
[{"$f":"IF('P4P - Measure Info'!F38=\"\",0,IF('P4P - Measure Info'!C38=\"Yes\",'P4P - Measure Info'!F38,0))","v":0},{"$f":"IF(A19=0,0,'P4P - Measure Info'!D38)","v":0},{"$f":"IF(A19=0,0,'P4P - Measure Info'!I38)","v":0},{"$f":"IF(A19=0,0,'P4P - Measure Info'!J38)","v":0},null,null,null,null,null,null,null,null,null,null,null,null,null,null,null,null,null,{"$f":"IF(A19=0,0,IFERROR('P4P - Measure Info'!M38*1,1))","v":0},{"$f":"IF(A19=0,0,IFERROR('P4P - Measure Info'!M38*1,1))","v":0},"Capacity/Size",{"$f":"IF(A19=0,0,'P4P - Measure Info'!K38)","v":0},"Capacity/Size Units",{"$f":"IF(A19=0,\"\",'P4P - Measure Info'!L38)","v":""},"Efficiency",{"$f":"IF(A19=0,0,'P4P - Measure Info'!N38)","v":0},"Efficiency Units",{"$f":"IF(A19=0,\"\",'P4P - Measure Info'!O38)","v":""}]
[{"$f":"IF('P4P - Measure Info'!F39=\"\",0,IF('P4P - Measure Info'!C39=\"Yes\",'P4P - Measure Info'!F39,0))","v":0},{"$f":"IF(A20=0,0,'P4P - Measure Info'!D39)","v":0},{"$f":"IF(A20=0,0,'P4P - Measure Info'!I39)","v":0},{"$f":"IF(A20=0,0,'P4P - Measure Info'!J39)","v":0},null,null,null,null,null,null,null,null,null,null,null,null,null,null,null,null,null,{"$f":"IF(A20=0,0,IFERROR('P4P - Measure Info'!M39*1,1))","v":0},{"$f":"IF(A20=0,0,IFERROR('P4P - Measure Info'!M39*1,1))","v":0},"Capacity/Size",{"$f":"IF(A20=0,0,'P4P - Measure Info'!K39)","v":0},"Capacity/Size Units",{"$f":"IF(A20=0,\"\",'P4P - Measure Info'!L39)","v":""},"Efficiency",{"$f":"IF(A20=0,0,'P4P - Measure Info'!N39)","v":0},"Efficiency Units",{"$f":"IF(A20=0,\"\",'P4P - Measure Info'!O39)","v":""}]
[{"$f":"IF('P4P - Measure Info'!F40=\"\",0,IF('P4P - Measure Info'!C40=\"Yes\",'P4P - Measure Info'!F40,0))","v":0},{"$f":"IF(A21=0,0,'P4P - Measure Info'!D40)","v":0},{"$f":"IF(A21=0,0,'P4P - Measure Info'!I40)","v":0},{"$f":"IF(A21=0,0,'P4P - Measure Info'!J40)","v":0},null,null,null,null,null,null,null,null,null,null,null,null,null,null,null,null,null,{"$f":"IF(A21=0,0,IFERROR('P4P - Measure Info'!M40*1,1))","v":0},{"$f":"IF(A21=0,0,IFERROR('P4P - Measure Info'!M40*1,1))","v":0},"Capacity/Size",{"$f":"IF(A21=0,0,'P4P - Measure Info'!K40)","v":0},"Capacity/Size Units",{"$f":"IF(A21=0,\"\",'P4P - Measure Info'!L40)","v":""},"Efficiency",{"$f":"IF(A21=0,0,'P4P - Measure Info'!N40)","v":0},"Efficiency Units",{"$f":"IF(A21=0,\"\",'P4P - Measure Info'!O40)","v":""}]
[{"$f":"IF('P4P - Measure Info'!F41=\"\",0,IF('P4P - Measure Info'!C41=\"Yes\",'P4P - Measure Info'!F41,0))","v":0},{"$f":"IF(A22=0,0,'P4P - Measure Info'!D41)","v":0},{"$f":"IF(A22=0,0,'P4P - Measure Info'!I41)","v":0},{"$f":"IF(A22=0,0,'P4P - Measure Info'!J41)","v":0},null,null,null,null,null,null,null,null,null,null,null,null,null,null,null,null,null,{"$f":"IF(A22=0,0,IFERROR('P4P - Measure Info'!M41*1,1))","v":0},{"$f":"IF(A22=0,0,IFERROR('P4P - Measure Info'!M41*1,1))","v":0},"Capacity/Size",{"$f":"IF(A22=0,0,'P4P - Measure Info'!K41)","v":0},"Capacity/Size Units",{"$f":"IF(A22=0,\"\",'P4P - Measure Info'!L41)","v":""},"Efficiency",{"$f":"IF(A22=0,0,'P4P - Measure Info'!N41)","v":0},"Efficiency Units",{"$f":"IF(A22=0,\"\",'P4P - Measure Info'!O41)","v":""}]
[{"$f":"IF('P4P - Measure Info'!F42=\"\",0,IF('P4P - Measure Info'!C42=\"Yes\",'P4P - Measure Info'!F42,0))","v":0},{"$f":"IF(A23=0,0,'P4P - Measure Info'!D42)","v":0},{"$f":"IF(A23=0,0,'P4P - Measure Info'!I42)","v":0},{"$f":"IF(A23=0,0,'P4P - Measure Info'!J42)","v":0},null,null,null,null,null,null,null,null,null,null,null,null,null,null,null,null,null,{"$f":"IF(A23=0,0,IFERROR('P4P - Measure Info'!M42*1,1))","v":0},{"$f":"IF(A23=0,0,IFERROR('P4P - Measure Info'!M42*1,1))","v":0},"Capacity/Size",{"$f":"IF(A23=0,0,'P4P - Measure Info'!K42)","v":0},"Capacity/Size Units",{"$f":"IF(A23=0,\"\",'P4P - Measure Info'!L42)","v":""},"Efficiency",{"$f":"IF(A23=0,0,'P4P - Measure Info'!N42)","v":0},"Efficiency Units",{"$f":"IF(A23=0,\"\",'P4P - Measure Info'!O42)","v":""}]
[{"$f":"IF('P4P - Measure Info'!F43=\"\",0,IF('P4P - Measure Info'!C43=\"Yes\",'P4P - Measure Info'!F43,0))","v":0},{"$f":"IF(A24=0,0,'P4P - Measure Info'!D43)","v":0},{"$f":"IF(A24=0,0,'P4P - Measure Info'!I43)","v":0},{"$f":"IF(A24=0,0,'P4P - Measure Info'!J43)","v":0},null,null,null,null,null,null,null,null,null,null,null,null,null,null,null,null,null,{"$f":"IF(A24=0,0,IFERROR('P4P - Measure Info'!M43*1,1))","v":0},{"$f":"IF(A24=0,0,IFERROR('P4P - Measure Info'!M43*1,1))","v":0},"Capacity/Size",{"$f":"IF(A24=0,0,'P4P - Measure Info'!K43)","v":0},"Capacity/Size Units",{"$f":"IF(A24=0,\"\",'P4P - Measure Info'!L43)","v":""},"Efficiency",{"$f":"IF(A24=0,0,'P4P - Measure Info'!N43)","v":0},"Efficiency Units",{"$f":"IF(A24=0,\"\",'P4P - Measure Info'!O43)","v":""}]
[{"$f":"IF('P4P - Measure Info'!F44=\"\",0,IF('P4P - Measure Info'!C44=\"Yes\",'P4P - Measure Info'!F44,0))","v":0},{"$f":"IF(A25=0,0,'P4P - Measure Info'!D44)","v":0},{"$f":"IF(A25=0,0,'P4P - Measure Info'!I44)","v":0},{"$f":"IF(A25=0,0,'P4P - Measure Info'!J44)","v":0},null,null,null,null,null,null,null,null,null,null,null,null,null,null,null,null,null,{"$f":"IF(A25=0,0,IFERROR('P4P - Measure Info'!M44*1,1))","v":0},{"$f":"IF(A25=0,0,IFERROR('P4P - Measure Info'!M44*1,1))","v":0},"Capacity/Size",{"$f":"IF(A25=0,0,'P4P - Measure Info'!K44)","v":0},"Capacity/Size Units",{"$f":"IF(A25=0,\"\",'P4P - Measure Info'!L44)","v":""},"Efficiency",{"$f":"IF(A25=0,0,'P4P - Measure Info'!N44)","v":0},"Efficiency Units",{"$f":"IF(A25=0,\"\",'P4P - Measure Info'!O44)","v":""}]
[{"$f":"IF('P4P - Measure Info'!F45=\"\",0,IF('P4P - Measure Info'!C45=\"Yes\",'P4P - Measure Info'!F45,0))","v":0},{"$f":"IF(A26=0,0,'P4P - Measure Info'!D45)","v":0},{"$f":"IF(A26=0,0,'P4P - Measure Info'!I45)","v":0},{"$f":"IF(A26=0,0,'P4P - Measure Info'!J45)","v":0},null,null,null,null,null,null,null,null,null,null,null,null,null,null,null,null,null,{"$f":"IF(A26=0,0,IFERROR('P4P - Measure Info'!M45*1,1))","v":0},{"$f":"IF(A26=0,0,IFERROR('P4P - Measure Info'!M45*1,1))","v":0},"Capacity/Size",{"$f":"IF(A26=0,0,'P4P - Measure Info'!K45)","v":0},"Capacity/Size Units",{"$f":"IF(A26=0,\"\",'P4P - Measure Info'!L45)","v":""},"Efficiency",{"$f":"IF(A26=0,0,'P4P - Measure Info'!N45)","v":0},"Efficiency Units",{"$f":"IF(A26=0,\"\",'P4P - Measure Info'!O45)","v":""}]
[{"$f":"IF('P4P - Measure Info'!F46=\"\",0,IF('P4P - Measure Info'!C46=\"Yes\",'P4P - Measure Info'!F46,0))","v":0},{"$f":"IF(A27=0,0,'P4P - Measure Info'!D46)","v":0},{"$f":"IF(A27=0,0,'P4P - Measure Info'!I46)","v":0},{"$f":"IF(A27=0,0,'P4P - Measure Info'!J46)","v":0},null,null,null,null,null,null,null,null,null,null,null,null,null,null,null,null,null,{"$f":"IF(A27=0,0,IFERROR('P4P - Measure Info'!M46*1,1))","v":0},{"$f":"IF(A27=0,0,IFERROR('P4P - Measure Info'!M46*1,1))","v":0},"Capacity/Size",{"$f":"IF(A27=0,0,'P4P - Measure Info'!K46)","v":0},"Capacity/Size Units",{"$f":"IF(A27=0,\"\",'P4P - Measure Info'!L46)","v":""},"Efficiency",{"$f":"IF(A27=0,0,'P4P - Measure Info'!N46)","v":0},"Efficiency Units",{"$f":"IF(A27=0,\"\",'P4P - Measure Info'!O46)","v":""}]
[{"$f":"IF('P4P - Measure Info'!F47=\"\",0,IF('P4P - Measure Info'!C47=\"Yes\",'P4P - Measure Info'!F47,0))","v":"Custom Measure"},{"$f":"IF(A28=0,0,'P4P - Measure Info'!D47)","v":"Whole Building Total Savings"},{"$f":"IF(A28=0,0,'P4P - Measure Info'!I47)","v":0},{"$f":"IF(A28=0,0,'P4P - Measure Info'!J47)","v":0},null,null,null,null,null,{"$f":"IF(A28=0,0,IFERROR(IF(P4P_Path=\"Appendix G\", 'P4P - Measure Simulation'!O121/V28, IF(P4P_Path=\"ASHRAE bEQ\", 'P4P - Measure Simulation'!O109/V28,0)),0))","v":0},{"$f":"IF(A28=0,0,IFERROR(IF(P4P_Path=\"Appendix G\", 'P4P - Measure Simulation'!G121/V28, IF(P4P_Path=\"ASHRAE bEQ\", 'P4P - Measure Simulation'!G109/V28,0)),0))","v":0},{"$f":"IF(A28=0,0,IFERROR(IF(P4P_Path=\"Appendix G\", 'P4P - Measure Simulation'!G121*'P4P - Measure Simulation'!R121/V28, IF(P4P_Path=\"ASHRAE bEQ\", 'P4P - Measure Simulation'!G109*'P4P - Measure Simulation'!R109/V28,0)),0))","v":0},{"$f":"IF(A28=0,0,IFERROR(IF(P4P_Path=\"Appendix G\", 'P4P - Measure Simulation'!H121/V28, IF(P4P_Path=\"ASHRAE bEQ\", 'P4P - Measure Simulation'!H109/V28,0)),0))","v":0},{"$f":"IF(A28=0,0,IFERROR(IF(P4P_Path=\"Appendix G\", 'P4P - Measure Simulation'!H121*'P4P - Measure Simulation'!R121/V28, IF(P4P_Path=\"ASHRAE bEQ\", 'P4P - Measure Simulation'!H109*'P4P - Measure Simulation'!R109/V28,0)),0))","v":0},{"$f":"IF(A28=0,0,IFERROR(IF(P4P_Path=\"Appendix G\", 'P4P - Measure Simulation'!M121/V28, IF(P4P_Path=\"ASHRAE bEQ\", 'P4P - Measure Simulation'!M109/V28,0)),0))","v":0},{"$f":"IF(A28=0,0,IFERROR(IF(P4P_Path=\"Appendix G\", 'P4P - Measure Simulation'!M121*'P4P - Measure Simulation'!R121/V28, IF(P4P_Path=\"ASHRAE bEQ\", 'P4P - Measure Simulation'!M109*'P4P - Measure Simulation'!R109/V28,0)),0))","v":0},{"$f":"IF(A28=0,0,IFERROR(IF(P4P_Path=\"Appendix G\", 'P4P - Measure Simulation'!L121/V28, IF(P4P_Path=\"ASHRAE bEQ\", 'P4P - Measure Simulation'!L109/V28,0)),0))","v":0},{"$f":"IF(A28=0,0,IFERROR(IF(P4P_Path=\"Appendix G\", 'P4P - Measure Simulation'!L121*'P4P - Measure Simulation'!R121/V28, IF(P4P_Path=\"ASHRAE bEQ\", 'P4P - Measure Simulation'!L109*'P4P - Measure Simulation'!R109/V28,0)),0))","v":0},{"$f":"IF(A28=0,0,IFERROR(IF(P4P_Path=\"Appendix G\", SUM('P4P - Measure Simulation'!I121:K121,'P4P - Measure Simulation'!N121)/V28, IF(P4P_Path=\"ASHRAE bEQ\", SUM('P4P - Measure Simulation'!I109:K204,'P4P - Measure Simulation'!N109)/V28,0)),0))","v":0},{"$f":"IF(A28=0,0,IFERROR(IF(P4P_Path=\"Appendix G\", SUM('P4P - Measure Simulation'!I121:K121,'P4P - Measure Simulation'!N121)*'P4P - Measure Simulation'!R121/V28, IF(P4P_Path=\"ASHRAE bEQ\",SUM('P4P - Measure Simulation'!I109:K109,'P4P - Measure Simulation'!N109)*'P4P - Measure Simulation'!R109/V28,0)),0))","v":0},{"$f":"IF(A28=0,0,IFERROR((K28*'CO2e Lookup'!$B$11+M28*'CO2e Lookup'!$B$10+O28*'CO2e Lookup'!$B$9+Q28*'CO2e Lookup'!$B$7+S28*'CO2e Lookup'!$B$8)/V28,0))","v":0},{"$f":"IF(A28=0,0,IFERROR('P4P - Measure Info'!M47*1,1))","v":1},{"$f":"IF(A28=0,0,IFERROR('P4P - Measure Info'!M47*1,1))","v":1},"Capacity/Size",{"$f":"IF(A28=0,0,'P4P - Measure Info'!K47)","v":0},"Capacity/Size Units",{"$f":"IF(A28=0,\"\",'P4P - Measure Info'!L47)","v":"<Enter>"},"Efficiency",{"$f":"IF(A28=0,0,'P4P - Measure Info'!N47)","v":0},"Efficiency Units",{"$f":"IF(A28=0,\"\",'P4P - Measure Info'!O47)","v":"<Enter>"}]

{"sheet":"District Energy Path 3","index":22,"n_rows":126,"n_cols":18,"rows_kept":126,"cut":false,"hidden":true,"merged":[[57,1,57,2],[57,6,57,15],[112,1,113,2],[112,3,112,4],[112,6,112,7],[112,8,114,8],[113,3,113,4],[113,6,113,7]]}
["Chilled Water Assumptions Used to Derive Average Efficiencies:"]
[]
[null,"3,000 Hours of CHW Plant Operation per year"]
[null,"1500 Equivalent full load hours of CHW operation per year"]
[null,"2 gpm/ton Chilled Water (ARI conditions)"]
[null,"90% fan motor efficiency for cooling tower"]
[null,"3 gpm/ton Chilled Water (ARI conditions)"]
[null,"Assume IPLV = Average chiller efficiency (kWh/ton-hr)"]
[null,"Assume 2-speed cooling towers use 38% of the energy that a 1-speed cooling tower would use"]
[null,"   (source: VSDs and their Effect on System Components (http://www.trane.com/Commercial/Uploads/PDF/ContinuingEducation/ENL_VSDsystemeffects_handouts.pdf)"]
[null,"Assume 50% of CHW pump power is used in primary loop, 50% in secondary loop"]
[null,"Assume average part-load performance of 72% for secondary CHW pumps riding the curve (up to 300 tons capacity)"]
[null,"Assume average part-load performance of 42% for secondary CHW pumps with VSD (above 300 tons capacity)"]
[]
[null,"Hours of Operation Assumed:"]
[null,null,"Total Annual Hours:",null,3000]
[null,null,"EFLH:",null,1500]
[]
[]
[null,null,null,"Chiller 1","Chiller 2","Chiller 3","PCHWP1","PCHWP2","PCHWP3+","SCHWP","CWP1","CWP2","CWP3+"]
[null,null,"1 Chiller",{"$f":"$E$16","v":3000},null,null,{"$f":"$E$16","v":3000},null,null,{"$f":"$E$16","v":3000},3000]
[null,null,"2 Chillers",{"$f":"$E$16","v":3000},{"$f":"40%*D21","v":1200},null,{"$f":"$E$16","v":3000},{"$f":"40%*G21","v":1200},null,3000,3000,{"$f":"40%*K21","v":1200}]
[null,null,"3 Chillers",{"$f":"$E$16","v":3000},{"$f":"50%*D22","v":1500},{"$f":"20%*D23","v":600},{"$f":"$E$16","v":3000},{"$f":"50%*G22","v":1500},{"$f":"20%*G23","v":600},3000,3000,{"$f":"50%*K22","v":1500},{"$f":"20%*K23","v":600}]
[]
[null,"ASHRAE 90.1 Appendix G requirement (assume Chiller Path A, Use IPLV)"]
[]
[null,"Cooling Tower Fans",38.200000000000003,"gpm/hp"]
[]
[null,null,"Calculated","kW/ton","=",3,"gpm/ton","/",{"$f":"C27","v":38.200000000000003},"gpm/hp","/",0.9,"fan motor efficiency",null,null,"x",0.746,"kW/hp"]
[null,null,{"$f":"3/38.2/90%*0.746","v":6.5095986038394421E-2},"kW/ton"]
[]
[null,null,"Calculated","kWh/ton-hr","=",{"$f":"C30","v":6.5095986038394421E-2},"kW/ton","x",0.38,"Average efficiency",null,"x",{"$f":"$E$16","v":3000},"Hours of Operation",null,"/",{"$f":"$E$17","v":1500},"Equivalent Full Load Hours of Operation"]
[null,null,{"$f":"F32*I32*M32/Q32","v":4.9472949389179753E-2},"kWh/ton-hr"]
[]
[]
[null,"CW Pump Power"]
[null,null,19,"W/gpm"]
[]
[null,null,"Calculated","kW/ton","-",{"$f":"C37","v":19},"W/gpm","x",3,"gpm/ton","/","1000 W/kW"]
[null,null,{"$f":"F39*I39/1000","v":5.7000000000000002E-2},"kW/ton"]
[]
[null,"Primary CHW Pump Power"]
[null,null,11,"W/gpm"]
[]
[null,null,"Calculated","kW/ton","-",{"$f":"C43","v":11},"W/gpm","x",2,"gpm/ton","/","1000 W/kW"]
[null,null,{"$f":"F45*I45/1000","v":2.1999999999999999E-2},"kW/ton"]
[]
[null,"Secondary CHW Pump Power"]
[null,null,11,"W/gpm"]
[]
[null,null,"Calculated","kW/ton","-",{"$f":"C49","v":11},"W/gpm","x",2,"gpm/ton","/","1000 W/kW"]
[null,null,{"$f":"F51*I51/1000","v":2.1999999999999999E-2},"kW/ton"]
[]
[null,"Chiller Type, Quantity, and Efficiency, and Pump Consumption"]
[null,"*Peak CHW Load assumes baseline chilled water system is 15% oversized, so it is 15% less than the chiller equipment thresholds in ASHRAE 90.1 Table 6.8"]
[null,null,"Oversize factor",1.1499999999999999,null,null,null,"*columns below include conversion factor of 0.2844 to convert from kWh/ton-hr to kWh/kWh",null,null,null,null,null,null,null,{"$f":"3413/12000","v":0.28441666666666665}]
[]
[null,"Min CHW Peak Load in this Range",null,null,null,null,"Average chilled water system efficiency Cooling Energy Input Ratio (kWh/kWh)",null,null,null,null,null,null,null,null,null,"Average COP"]
[null,"tons","kW","Qty Chillers","Type Chillers","IPLV (kW/kW)","Chillers","PCHWP1","PCHWP2","PCHWP3","SCHWP","CWP1","CWP2","CWP3","Tower Fans","Total:"]
[null,0,0,1,"Screw",5.5819999999999999,{"$f":"1/F60","v":0.1791472590469366},{"$f":"C$46*$G$21/$E$17*$P56","v":1.2514333333333332E-2},null,null,{"$f":"0.72*$C$52*$J$21/$E$17*$P56","v":9.0103199999999987E-3},{"$f":"$C$40/$D60*K$21/$E$17*$P56","v":3.2423500000000001E-2},null,null,{"$f":"$C$33*$P56","v":1.4070931355439208E-2},{"$f":"SUM(G60:O60)","v":0.24716634373570912},{"$f":"1/P60","v":4.0458582867143251}]
[null,{"$f":"75/$D$56","v":65.217391304347828},{"$f":"264/$D$56","v":229.56521739130437},1,"Screw",5.718,0.17488632388947184,{"$f":"C$46*$G$21/$E$17*$P56","v":1.2514333333333332E-2},null,null,{"$f":"0.72*$C$52*$J$21/$E$17*$P56","v":9.0103199999999987E-3},{"$f":"$C$40/$D61*K$21/$E$17*$P56","v":3.2423500000000001E-2},null,null,{"$f":"$C$33*$P56","v":1.4070931355439208E-2},0.24290540857824436,4.1168288752939866]
[null,{"$f":"150/$D$56","v":130.43478260869566},{"$f":"528/$D$56","v":459.13043478260875},1,"Screw",6.0640000000000001,0.16490765171503957,{"$f":"C$46*$G$21/$E$17*$P56","v":1.2514333333333332E-2},null,null,{"$f":"0.72*$C$52*$J$21/$E$17*$P56","v":9.0103199999999987E-3},{"$f":"$C$40/$D62*K$21/$E$17*$P56","v":3.2423500000000001E-2},null,null,{"$f":"$C$33*$P56","v":1.4070931355439208E-2},0.23292673640381209,4.2931954289109848]
[null,{"$f":"300/$D$56","v":260.86956521739131},{"$f":"1055/$D$56","v":917.39130434782612},2,"Screw",6.0640000000000001,0.16490765171503957,{"$f":"C$46/D63*$G$22/$E$17*$P56","v":6.2571666666666661E-3},{"$f":"C$46/D63*$H$22/$E$17*$P56","v":2.5028666666666662E-3},null,{"$f":"$C$52*0.42*$J$22/$E$17*$P56","v":5.2560199999999993E-3},{"$f":"$C$40/$D63*K$22/$E$17*$P56","v":1.621175E-2},{"$f":"$C$40/$D63*L$22/$E$17*$P56","v":6.4846999999999995E-3},null,{"$f":"$C$33*$P56","v":1.4070931355439208E-2},0.21569108640381213,4.6362602028338893]
[null,{"$f":"600/$D$56","v":521.73913043478262},{"$f":"2110/$D$56","v":1834.7826086956522},2,"Centrifugal",5.9009999999999998,0.16946280291476021,{"$f":"C$46/D64*$G$22/$E$17*$P56","v":6.2571666666666661E-3},{"$f":"C$46/D64*$H$22/$E$17*$P56","v":2.5028666666666662E-3},null,{"$f":"$C$52*0.42*$J$22/$E$17*$P56","v":5.2560199999999993E-3},{"$f":"$C$40/$D64*K$22/$E$17*$P56","v":1.621175E-2},{"$f":"$C$40/$D64*L$22/$E$17*$P56","v":6.4846999999999995E-3},null,{"$f":"$C$33*$P56","v":1.4070931355439208E-2},0.22024623760353276,4.5403726796010426]
[null,{"$f":"1200/$D$56","v":1043.4782608695652},{"$f":"4220/$D$56","v":3669.5652173913045},3,"Centrifugal",6.4059999999999997,0.15610365282547611,{"$f":"C$46/D65*$G$23/$E$17*$P56","v":4.1714444444444438E-3},{"$f":"C$46/D65*$H$23/$E$17*$P56","v":2.0857222222222219E-3},{"$f":"C$46/D65*$I$23/$E$17*$P56","v":8.3428888888888891E-4},{"$f":"$C$52*0.42*$J$23/$E$17*$P56","v":5.2560199999999993E-3},{"$f":"$C$40/$D65*K$23/$E$17*$P56","v":1.0807833333333332E-2},{"$f":"$C$40/D$65*L$23/$E$17*$P56","v":5.4039166666666662E-3},{"$f":"$C$40/D$65*M$23/$E$17*$P56","v":2.1615666666666665E-3},{"$f":"$C$33*$P56","v":1.4070931355439208E-2},0.20089537640313757,4.977715355645099]
[]
[null,"BUILDING SPECIFIC DES CHW Average Efficiency:"]
[]
[null,null,"Building CHW Peak Baseline Load from PRM Outputs (use 1,200 tons if not yet entered, or if units are not entered for District Chilled Water Demand)"]
[null,null,{"$f":"IF(OR(SUMIF(#REF!,\"District Cooling\",#REF!)=0,ISERROR(VLOOKUP(VLOOKUP(\"District Cooling\",#REF!,5,FALSE),DemandTable,3,FALSE)/12)),1200,(SUMIF(#REF!,\"District Cooling\",#REF!)*VLOOKUP(VLOOKUP(\"District Cooling\",#REF!,5,FALSE),DemandTable,3,FALSE)/12))","v":{"$error":"#REF!"}},"tons"]
[]
[null,null,"Average CHW Plant Efficiency for Project based on Building CHW Peak Load (includes chillers, cooling towers, condenser water pumps and chilled water pumps)"]
[null,null,{"$f":"IF(ISERROR(VLOOKUP($C$70,DESBaseCHWTable,16)),$Q$65,VLOOKUP($C$70,DESBaseCHWTable,16))","v":4.977715355645099},"COP"]
[]
["Hot Water Assumptions Used to Derive Average Efficiencies:"]
[]
[null,"3,000 Hours of HHW Plant Operation per year"]
[null,"1500 Equivalent full load hours of HHW operation per year"]
[null,"40 gpm / (Btuh*10^6) hot water flow (or 0.1366 gpm/kW) (based on 50 deg. loop delta T required by ASHRAE 90.1-2010)"]
[null,"Assume Average thermal efficiency (including part-load operation) = AFUE = Et = Ec)"]
[null,"Assume average part-load performance of 72% for secondary CHW pumps riding the curve (up to 300 tons capacity)"]
[null,"Assume average part-load performance of 42% for secondary CHW pumps with VSD (above 300 tons capacity)"]
[null,"Assume a capacity of 300,000 Btuh is roughly equivalent to a building size of 120,000 square feet (to allow average efficiency based on capacity range only rather than building size)"]
[]
[]
[null,"Relevant ASHRAE 90.1-2010 Requirements:"]
[null,"19 W/gpm pump power"]
[null,"Variable primary pumping"]
[null,"Variable speed pumps for buildings with 120,000 square feet or more"]
[null,"Riding the pump curve for buildings less than 120,000 square feet"]
[]
[null,"Boiler Efficiencies:"]
[null,"Gas-Fired:","<300,000 Btuh","80% AFUE"]
[null,null,"300,000 to 2,500,000","80% Et"]
[null,null,">=2500000","82% Ec"]
[]
[null,"Oil-Fired:","<300,000 Btuh","80% AFUE"]
[null,null,"300,000 to 2,500,000","82% Et"]
[null,null,">=2500000","84% Ec"]
[]
[]
[null,"HHW Pump Power"]
[null,null,19,"W/gpm"]
[null,null,"."]
[null,null,"Calculated","kW/kW","=",{"$f":"C103","v":19},"W/gpm","x",0.1366,"gpm/kW","/","1000 W/kW"]
[null,null,{"$f":"F105*I105/1000","v":2.5954000000000003E-3},"kW/kW"]
[]
[]
[null,"Boiler and HHW Loop Pump Average Efficiency"]
[null,"*Peak HHW Load assumes baseline HHW water system is 25% oversized, so it is 25% less than the chiller equipment thresholds in ASHRAE 90.1 Table 6.8"]
[null,null,"Oversize factor",1.25]
[]
[null,"Min HHW Peak Load in this Range",null,"Average Fuel Efficiency",null,"Average Pump Efficiency \n(electricity kWh/chilled water kWh)","Average Fuel COP",null,"Average Electrical COP"]
[null,null,null,"Fuel-type",null,"PHHWP","Fuel-type"]
[null,"Btuh","kW","Gas-Fired","Oil-Fired",null,"Gas-Fired","Oil-Fired"]
[null,0,0,0.8,0.8,{"$f":"$C$106*3000/1500*0.72","v":3.7373760000000002E-3},{"$f":"D116","v":0.8},0.8,{"$f":"1/F116","v":267.5674055808139}]
[null,{"$f":"300000/$D$111","v":240000},88,0.8,0.82,{"$f":"$C$106*3000/1500*0.42","v":2.1801360000000001E-3},0.8,0.82,{"$f":"1/F117","v":458.68698099568098}]
[null,{"$f":"2500000/$D$111","v":2000000},733,0.82,0.84,{"$f":"$C$106*3000/1500*0.42","v":2.1801360000000001E-3},0.82,0.84,{"$f":"1/F118","v":458.68698099568098}]
[]
[null,"BUILDING SPECIFIC DES Heating Average Efficiency:"]
[]
[null,null,"Building Heating Peak Baseline Load from PRM Outputs (use 2,000,000 Btuh if not yet entered, or if units are not entered for District Heating Demand)"]
[null,null,{"$f":"IF(SUMIF(#REF!,\"District Hot Water\",#REF!)+SUMIF(#REF!,\"District Steam\",#REF!)=0,3000000,IF(ISERROR(VLOOKUP(VLOOKUP(\"District Hot Water\",#REF!,5,FALSE),DemandTable,3,FALSE)),IF(ISERROR(VLOOKUP(VLOOKUP(\"District Steam\",#REF!,5,FALSE),DemandTable,3,FALSE)),3000000,(SUMIF(#REF!,\"District Steam\",#REF!)*(VLOOKUP(VLOOKUP(\"District Steam\",#REF!,5,FALSE),DemandTable,3,FALSE))/VLOOKUP(\"Btuh\",DemandTable,3,FALSE))),(SUMIF(#REF!,\"District Hot Water\",#REF!)*(VLOOKUP(VLOOKUP(\"District Hot Water\",#REF!,5,FALSE),DemandTable,3,FALSE))/VLOOKUP(\"Btuh\",DemandTable,3,FALSE))))","v":{"$error":"#REF!"}},"Btuh"]
[]
[null,null,"Average District Heating Plant Efficiency for Project based on Building District Heating Peak Load (includes boilers, pumps). Use Max efficiency if central plant fuel source isn't defined, or maximum capacity is not listed."]
[null,null,{"$f":"(IF(ISERROR(VLOOKUP(#REF!,#REF!,3,FALSE)),$H$118,IF(VLOOKUP(#REF!,#REF!,3,FALSE)=\"Yes\",IF(ISERROR(VLOOKUP($C$123,DESBaseHHWTable,6)),$H$118,VLOOKUP($C$123,DESBaseHHWTable,6)),IF(ISERROR(VLOOKUP($C$123,DESBaseHHWTable,7)),$H$118,VLOOKUP($C$123,DESBaseHHWTable,7)))))","v":0.84},"Average Fuel COP",null,{"$f":"IF(ISERROR(VLOOKUP($C$123,DESBaseHHWTable,8)),$I$118,VLOOKUP($C$123,DESBaseHHWTable,8))","v":458.68698099568098},"Average Electrical COP"]